{"text_format":"1","workbook":"xlsx","n_sheets":9,"sheets":["pivot_ellenorzes","jatekosok","db"," OAM1 (STD)","OAM1b (STD)","OAM1 MCM","OAM1-hahaha","OAM2 (Y0)","Y0_2"],"not_rendered":{"charts":0,"images":1,"macros":1,"external_links":0,"defined_names":0,"comments":0,"pivot_tables":1},"unopened":[],"bounds":{"document_bytes":16777216,"sheet_cells":100000,"rows_first":2000,"rows_last":500,"rows_between":2000,"halvings":0,"cell_chars":16384,"cell_head_chars":4096},"cells_cut":0,"cells_raw":0,"read":"whole","date_system":"1900"}

{"sheet":"pivot_ellenorzes","index":0,"n_rows":22,"n_cols":3,"rows_kept":22,"cut":false,"hidden":false,"merged":[]}
[]
[null,{"$f":"MAX(B4:B21)","v":2},"<--ha ez az érték 1-nél nagyobb, akkor ismétlődő monogrammokról van szó…"]
["Sorcímkék","Mennyiség / nev_pivot"]
["BE",1]
["BT",1]
["FF",2]
["FK",1]
["HM",1]
["JI",1]
["KK",1]
["KP",1]
["NN",1]
["PD",1]
["RB",1]
["RD",1]
["RF",1]
["RT",1]
["SB",1]
["SV",1]
["SZ",1]
["TK",1]
["Végösszeg",19]

{"sheet":"jatekosok","index":1,"n_rows":21,"n_cols":15,"rows_kept":21,"cut":false,"hidden":false,"merged":[]}
["FEHÉRVÁR FC csapattársak","https://adatbank.mlsz.hu/player/586105.html",null,null,null,null,null,"hogyan ellenőrizzük a monogrammokat?","hogyan képezzünk monogramot?",null,null,null,"hogyan képezzünk ellenőrző értéket?"]
["Név","Kor",null,"Név",null,null,"nev1","nev2","nev","forras",null,"Kor","kor",null,"nev_pivot"]
["BÉKEFI ENIKŐ","21 éves",null,"BÉKEFI","ENIKŐ",null,{"$f":"LEFT(D3,1)","v":"B"},{"$f":"LEFT(E3,1)","v":"E"},{"$f":"G3&H3","v":"BE"},"https://adatbank.mlsz.hu/player/526424.html",null,"21 éves",{"$f":"LEFT(L3,2)","v":"21"},null,{"$f":"I3","v":"BE"}]
["BORS TÍMEA","16 éves",null,"BORS","TÍMEA",null,{"$f":"LEFT(D4,1)","v":"B"},{"$f":"LEFT(E4,1)","v":"T"},{"$f":"G4&H4","v":"BT"},"https://adatbank.mlsz.hu/player/509537.html",null,"16 éves",{"$f":"LEFT(L4,2)","v":"16"},null,{"$f":"I4","v":"BT"}]
["FORRÓ KATA BARBARA","16 éves",null,"FORRÓ","KATA","BARBARA","F","K","FK","https://adatbank.mlsz.hu/player/776177.html",null,"16 éves","16",null,"FK"]
["FÖLDESI FRUZSINA","19 éves",null,"FÖLDESI","FRUZSINA",null,"F","F","FF","https://adatbank.mlsz.hu/player/703200.html",null,"19 éves","19",null,"FF"]
["FÖLDVÁRI FANNI ILDIKÓ","19 éves",null,"FÖLDVÁRI","FANNI","ILDIKÓ","F",{"$f":"LEFT(F7,1)","v":"I"},"FI","https://adatbank.mlsz.hu/player/831147.html",null,"19 éves","19",null,"FF"]
["HORVÁTH MIMI EMMA","16 éves",null,"HORVÁTH","MIMI","EMMA","H","M","HM","https://adatbank.mlsz.hu/player/753736.html",null,"16 éves","16",null,"HM"]
["JANUS IZABELLA","19 éves",null,"JANUS","IZABELLA",null,"J","I","JI","https://adatbank.mlsz.hu/player/584336.html",null,"19 éves","19",null,"JI"]
["KÁNTOR KRISZTINA","20 éves",null,"KÁNTOR","KRISZTINA",null,"K","K","KK","https://adatbank.mlsz.hu/player/586110.html",null,"20 éves","20",null,"KK"]
["KOLLÁR PANNA","23 éves",null,"KOLLÁR","PANNA",null,"K","P","KP","https://adatbank.mlsz.hu/player/526408.html",null,"23 éves","23",null,"KP"]
["NÉMETH NOÉMI","18 éves",null,"NÉMETH","NOÉMI",null,"N","N","NN","https://adatbank.mlsz.hu/player/628910.html",null,"18 éves","18",null,"NN"]
["PÉCSI DÓRA","18 éves",null,"PÉCSI","DÓRA",null,"P","D","PD","https://adatbank.mlsz.hu/player/773970.html",null,"18 éves","18",null,"PD"]
["RAJZINGER DÓRA","18 éves",null,"RAJZINGER","DÓRA",null,"R","D","RD","https://adatbank.mlsz.hu/player/344253.html",null,"18 éves","18",null,"RD"]
["RAJZINGER FANNI","18 éves",null,"RAJZINGER","FANNI",null,"R","F","RF","https://adatbank.mlsz.hu/player/344254.html",null,"18 éves","18",null,"RF"]
["REGŐCI BOGLÁRKA","18 éves",null,"REGŐCI","BOGLÁRKA",null,"R","B","RB","https://adatbank.mlsz.hu/player/773485.html",null,"18 éves","18",null,"RB"]
["RÉTHALMI TÍMEA","17 éves",null,"RÉTHALMI","TÍMEA",null,"R","T","RT","https://adatbank.mlsz.hu/player/512468.html",null,"17 éves","17",null,"RT"]
["SZABÓ BERNADETT","19 éves",null,"SZABÓ","BERNADETT",null,"S","B","SB","https://adatbank.mlsz.hu/player/587172.html",null,"19 éves","19",null,"SB"]
["SZEHOFNER VIVIEN","21 éves",null,"SZEHOFNER","VIVIEN",null,"S","V","SV","https://adatbank.mlsz.hu/player/465361.html",null,"21 éves","21",null,"SV"]
["SZÉKELY ZSUZSANNA","17 éves",null,"SZÉKELY","ZSUZSANNA",null,"S","Z","SZ","https://adatbank.mlsz.hu/player/648772.html",null,"17 éves","17",null,"SZ"]
["TRAMPLER KINGA","21 éves",null,"TRAMPLER","KINGA",null,"T","K","TK","https://adatbank.mlsz.hu/player/569010.html",null,"21 éves","21",null,"TK"]

{"sheet":"db","index":2,"n_rows":26,"n_cols":15,"rows_kept":26,"cut":false,"hidden":false,"merged":[]}
["id","nev","diktalas (google-translate-HU)","kor","meccs","gol","ongol","sarga","piros","kezdo","csere","kispad","ellenorzes1","ellenorzes2","forras"]
[1,"GM","21 x 173 x 8 x 0 x 1 x 0 x 130 x 21 x 22",21,173,8,0,1,0,130,21,22,{"$f":"E2-J2-K2-L2","v":0},"…","https://adatbank.mlsz.hu/player/586105.html"]
[2,{"$f":"jatekosok!I3","v":"BE"},"21 x 173 x 19 x 0 x 4 x 0 x 119 x 39 x 15",21,173,19,0,4,0,119,39,15,{"$f":"E3-J3-K3-L3","v":0},{"$f":"jatekosok!M3-D3","v":0},{"$f":"jatekosok!J3","v":"https://adatbank.mlsz.hu/player/526424.html"}]
[3,{"$f":"jatekosok!I4","v":"BT"},"16 x 90 x 81 x 0 x 0 x 0 x 56 x 28 x 6",16,90,81,0,0,0,56,28,6,{"$f":"E4-J4-K4-L4","v":0},{"$f":"jatekosok!M4-D4","v":0},{"$f":"jatekosok!J4","v":"https://adatbank.mlsz.hu/player/509537.html"}]
[4,{"$f":"jatekosok!I5","v":"FK"},"16 x 120 x 65 x 0 x 3 x 0 x 60 x 30 x 30",16,120,65,0,3,0,60,30,30,0,{"$f":"jatekosok!M5-D5","v":0},{"$f":"jatekosok!J5","v":"https://adatbank.mlsz.hu/player/776177.html"}]
[5,{"$f":"jatekosok!I6","v":"FF"},"19 x 202 x 20 x 1 x 12 x 0 x 163 x 28 x 11",19,202,20,1,12,0,163,28,11,0,{"$f":"jatekosok!M6-D6","v":0},{"$f":"jatekosok!J6","v":"https://adatbank.mlsz.hu/player/703200.html"}]
[6,{"$f":"jatekosok!I7","v":"FI"},"19 x 103 x83 x 0 x 0 x 0 x 81 x 19 x 3",19,103,83,0,0,0,81,19,3,0,{"$f":"jatekosok!M7-D7","v":0},{"$f":"jatekosok!J7","v":"https://adatbank.mlsz.hu/player/831147.html"}]
[7,{"$f":"jatekosok!I8","v":"HM"},"16 x 78 x 9 x 0 x 0 x 0 x 52 x 18 x 8",16,78,9,0,0,0,52,18,8,0,{"$f":"jatekosok!M8-D8","v":0},{"$f":"jatekosok!J8","v":"https://adatbank.mlsz.hu/player/753736.html"}]
[8,{"$f":"jatekosok!I9","v":"JI"},"19 x 282 x 75 x 0 x 2 x 2 x 218 x 38 x 26",19,282,75,0,2,2,218,38,26,0,{"$f":"jatekosok!M9-D9","v":0},{"$f":"jatekosok!J9","v":"https://adatbank.mlsz.hu/player/584336.html"}]
[9,{"$f":"jatekosok!I10","v":"KK"},"direkt-adatrogzites",20,235,17,0,12,1,200,20,15,0,{"$f":"jatekosok!M10-D10","v":0},{"$f":"jatekosok!J10","v":"https://adatbank.mlsz.hu/player/586110.html"}]
[10,{"$f":"jatekosok!I11","v":"KP"},{"$f":"C10","v":"direkt-adatrogzites"},23,196,8,1,0,0,138,15,43,0,{"$f":"jatekosok!M11-D11","v":0},{"$f":"jatekosok!J11","v":"https://adatbank.mlsz.hu/player/526408.html"}]
[11,{"$f":"jatekosok!I12","v":"NN"},{"$f":"C11","v":"direkt-adatrogzites"},18,210,1,0,2,1,169,13,28,0,{"$f":"jatekosok!M12-D12","v":0},{"$f":"jatekosok!J12","v":"https://adatbank.mlsz.hu/player/628910.html"}]
[12,{"$f":"jatekosok!I13","v":"PD"},"direkt-adatrogzites",18,141,93,0,2,0,116,17,8,0,{"$f":"jatekosok!M13-D13","v":0},{"$f":"jatekosok!J13","v":"https://adatbank.mlsz.hu/player/773970.html"}]
[13,{"$f":"jatekosok!I14","v":"RD"},"direkt-adatrogzites",18,198,56,0,4,1,162,22,14,0,{"$f":"jatekosok!M14-D14","v":0},{"$f":"jatekosok!J14","v":"https://adatbank.mlsz.hu/player/344253.html"}]
[14,{"$f":"jatekosok!I15","v":"RF"},"direkt-adatrogzites",18,195,28,0,4,1,120,49,26,0,{"$f":"jatekosok!M15-D15","v":0},{"$f":"jatekosok!J15","v":"https://adatbank.mlsz.hu/player/344254.html"}]
[15,{"$f":"jatekosok!I16","v":"RB"},"direkt-adatrogzites",18,103,27,0,0,0,74,24,5,0,{"$f":"jatekosok!M16-D16","v":0},{"$f":"jatekosok!J16","v":"https://adatbank.mlsz.hu/player/773485.html"}]
[16,{"$f":"jatekosok!I17","v":"RT"},"direkt-adatrogzites",17,98,5,1,1,0,67,16,15,0,{"$f":"jatekosok!M17-D17","v":0},{"$f":"jatekosok!J17","v":"https://adatbank.mlsz.hu/player/512468.html"}]
[17,{"$f":"jatekosok!I18","v":"SB"},"direkt-adatrogzites",19,261,161,0,4,0,230,13,18,0,{"$f":"jatekosok!M18-D18","v":0},{"$f":"jatekosok!J18","v":"https://adatbank.mlsz.hu/player/587172.html"}]
[18,{"$f":"jatekosok!I19","v":"SV"},"direkt-adatrogzites",21,159,79,1,9,0,121,20,18,0,{"$f":"jatekosok!M19-D19","v":0},{"$f":"jatekosok!J19","v":"https://adatbank.mlsz.hu/player/465361.html"}]
[19,{"$f":"jatekosok!I20","v":"SZ"},"direkt-adatrogzites",17,152,37,0,1,0,129,7,16,0,{"$f":"jatekosok!M20-D20","v":0},{"$f":"jatekosok!J20","v":"https://adatbank.mlsz.hu/player/648772.html"}]
[20,{"$f":"jatekosok!I21","v":"TK"},"direkt-adatrogzites",21,215,218,0,9,0,203,7,5,0,{"$f":"jatekosok!M21-D21","v":0},{"$f":"jatekosok!J21","v":"https://adatbank.mlsz.hu/player/569010.html"}]
[]
[null,null,"min",{"$f":"MIN(D2:D21)","v":16},{"$f":"MIN(E2:E21)","v":78},1,0,0,0,52,7,3]
[null,null,"max",{"$f":"MAX(D2:D21)","v":23},{"$f":"MAX(E2:E21)","v":282},218,1,12,2,230,49,43]
[null,null,"átlag",{"$f":"AVERAGE(D2:D21)","v":18.75},{"$f":"AVERAGE(E2:E21)","v":169.2},54.5,0.2,3.5,0.3,130.4,22.2,16.600000000000001]
[null,null,"medián",{"$f":"MEDIAN(D2:D21)","v":18.5},{"$f":"MEDIAN(E2:E21)","v":173},32.5,0,2,0,125,20,15]

{"sheet":" OAM1 (STD)","index":3,"n_rows":109,"n_cols":59,"rows_kept":109,"cut":false,"hidden":false,"merged":[]}
["jelleg","X","X","X","X","X","Y","X","X","X","X",null,"jelleg","X","X","X","X","X","X","X","X","X","Y"]
["mértékegység","db/év","db/db","db/db","db/db","db/db","%","%","%","db/db","db/db",null,"mértékegység","db/év","db/db","db/db","db/db","db/db","%","%","db/db","db/db","%"]
["OAM","egy életévre jutó meccsek száma","egy meccsre jutó gólok száma","egy meccsre jutó öngólok száma","egy meccsre jutó sárgalapok száma","egy meccsre jutó piroslapok száma","hány százalékban kezdő?","hány százalékban csere?","hány százalékban kispad?","egy gólra jutó sárgalapok száma?","egy gólra jutó piroslapok száma?",null,"OAM","egy életévre jutó meccsek száma","egy meccsre jutó gólok száma","egy meccsre jutó öngólok száma","egy meccsre jutó sárgalapok száma","egy meccsre jutó piroslapok száma","hány százalékban csere?","hány százalékban kispad?","egy gólra jutó sárgalapok száma?","egy gólra jutó piroslapok száma?","hány százalékban kezdő?",null,null,"ellenőrzés"]
[{"$f":"db!B2","v":"GM"},{"$f":"db!E2/db!D2","v":8.2380952380952372},{"$f":"db!F2/db!E2","v":4.6242774566473986E-2},{"$f":"db!G2/db!E2","v":0},{"$f":"db!H2/db!E2","v":5.7803468208092483E-3},{"$f":"db!I2/db!E2","v":0},{"$f":"db!J2/db!E2","v":0.75144508670520227},{"$f":"db!K2/db!E2","v":0.12138728323699421},{"$f":"db!L2/db!E2","v":0.12716763005780346},{"$f":"db!H2/db!F2","v":0.125},{"$f":"db!I2/db!F2","v":0},null,{"$f":"A4","v":"GM"},{"$f":"B4","v":8.2380952380952372},4.6242774566473986E-2,0,5.7803468208092483E-3,0,{"$f":"H4","v":0.12138728323699421},{"$f":"I4","v":0.12716763005780346},{"$f":"J4","v":0.125},{"$f":"K4","v":0},{"$f":"G4","v":0.75144508670520227},null,null,{"$f":"SUM(G4:I4)","v":1}]
[{"$f":"db!B3","v":"BE"},{"$f":"db!E3/db!D3","v":8.2380952380952372},{"$f":"db!F3/db!E3","v":0.10982658959537572},{"$f":"db!G3/db!E3","v":0},{"$f":"db!H3/db!E3","v":2.3121387283236993E-2},{"$f":"db!I3/db!E3","v":0},{"$f":"db!J3/db!E3","v":0.68786127167630062},{"$f":"db!K3/db!E3","v":0.22543352601156069},{"$f":"db!L3/db!E3","v":8.6705202312138727E-2},{"$f":"db!H3/db!F3","v":0.21052631578947367},{"$f":"db!I3/db!F3","v":0},null,{"$f":"A5","v":"BE"},8.2380952380952372,0.10982658959537572,0,2.3121387283236993E-2,0,0.22543352601156069,8.6705202312138727E-2,0.21052631578947367,0,0.68786127167630062,null,null,{"$f":"SUM(G5:I5)","v":1},null,null,null,null,null,null,null,null,null,null,"Azonos�t�:",1484399,"Objektumok:",20,"Attrib�tumok:",18,"Lepcs�k:",20,"Eltol�s:",0,"Le�r�s:","COCO STD: 1484399"]
[{"$f":"db!B4","v":"BT"},{"$f":"db!E4/db!D4","v":5.625},{"$f":"db!F4/db!E4","v":0.9},{"$f":"db!G4/db!E4","v":0},{"$f":"db!H4/db!E4","v":0},{"$f":"db!I4/db!E4","v":0},{"$f":"db!J4/db!E4","v":0.62222222222222223},{"$f":"db!K4/db!E4","v":0.31111111111111112},{"$f":"db!L4/db!E4","v":6.6666666666666666E-2},{"$f":"db!H4/db!F4","v":0},{"$f":"db!I4/db!F4","v":0},null,"BT",5.625,0.9,0,0,0,0.31111111111111112,6.6666666666666666E-2,0,0,0.62222222222222223,null,null,1]
[{"$f":"db!B5","v":"FK"},{"$f":"db!E5/db!D5","v":7.5},{"$f":"db!F5/db!E5","v":0.54166666666666663},{"$f":"db!G5/db!E5","v":0},{"$f":"db!H5/db!E5","v":2.5000000000000001E-2},{"$f":"db!I5/db!E5","v":0},{"$f":"db!J5/db!E5","v":0.5},{"$f":"db!K5/db!E5","v":0.25},{"$f":"db!L5/db!E5","v":0.25},{"$f":"db!H5/db!F5","v":4.6153846153846156E-2},{"$f":"db!I5/db!F5","v":0},null,"FK",7.5,0.54166666666666663,0,2.5000000000000001E-2,0,0.25,0.25,4.6153846153846156E-2,0,0.5,null,null,1,null,null,null,null,null,null,null,null,null,null,"Rangsor","X(A1)","X(A2)","X(A3)","X(A4)","X(A5)","X(A6)","X(A7)","X(A8)","X(A9)","X(A10)","X(A11)","X(A12)","X(A13)","X(A14)","X(A15)","X(A16)","X(A17)","X(A18)","Y(A19)"]
[{"$f":"db!B6","v":"FF"},{"$f":"db!E6/db!D6","v":10.631578947368421},{"$f":"db!F6/db!E6","v":9.9009900990099015E-2},{"$f":"db!G6/db!E6","v":4.9504950495049506E-3},{"$f":"db!H6/db!E6","v":5.9405940594059403E-2},{"$f":"db!I6/db!E6","v":0},{"$f":"db!J6/db!E6","v":0.80693069306930698},{"$f":"db!K6/db!E6","v":0.13861386138613863},{"$f":"db!L6/db!E6","v":5.4455445544554455E-2},{"$f":"db!H6/db!F6","v":0.6},{"$f":"db!I6/db!F6","v":0},null,"FF",10.631578947368421,9.9009900990099015E-2,4.9504950495049506E-3,5.9405940594059403E-2,0,0.13861386138613863,5.4455445544554455E-2,0.6,0,0.80693069306930698,null,null,1,null,null,null,null,null,null,null,null,null,null,"O1",11,18,5,15,6,12,6,7,6,10,3,16,6,15,9,15,14,15,7514]
[{"$f":"db!B7","v":"FI"},{"$f":"db!E7/db!D7","v":5.4210526315789478},{"$f":"db!F7/db!E7","v":0.80582524271844658},{"$f":"db!G7/db!E7","v":0},{"$f":"db!H7/db!E7","v":0},{"$f":"db!I7/db!E7","v":0},{"$f":"db!J7/db!E7","v":0.78640776699029125},{"$f":"db!K7/db!E7","v":0.18446601941747573},{"$f":"db!L7/db!E7","v":2.9126213592233011E-2},{"$f":"db!H7/db!F7","v":0},{"$f":"db!I7/db!F7","v":0},null,"FI",5.4210526315789478,0.80582524271844658,0,0,0,0.18446601941747573,2.9126213592233011E-2,0,0,0.78640776699029125,null,null,1,null,null,null,null,null,null,null,null,null,null,"O2",11,14,5,6,6,6,11,4,6,10,7,16,15,15,15,10,17,15,6878]
[{"$f":"db!B8","v":"HM"},{"$f":"db!E8/db!D8","v":4.875},{"$f":"db!F8/db!E8","v":0.11538461538461539},{"$f":"db!G8/db!E8","v":0},{"$f":"db!H8/db!E8","v":0},{"$f":"db!I8/db!E8","v":0},{"$f":"db!J8/db!E8","v":0.66666666666666663},{"$f":"db!K8/db!E8","v":0.23076923076923078},{"$f":"db!L8/db!E8","v":0.10256410256410256},{"$f":"db!H8/db!F8","v":0},{"$f":"db!I8/db!F8","v":0},null,"HM",4.875,0.11538461538461539,0,0,0,0.23076923076923078,0.10256410256410256,0,0,0.66666666666666663,null,null,0.99999999999999989,null,null,null,null,null,null,null,null,null,null,"O3",18,2,5,16,6,1,14,16,6,3,19,16,5,15,20,7,5,15,6222]
[{"$f":"db!B9","v":"JI"},{"$f":"db!E9/db!D9","v":14.842105263157896},{"$f":"db!F9/db!E9","v":0.26595744680851063},{"$f":"db!G9/db!E9","v":0},{"$f":"db!H9/db!E9","v":7.0921985815602835E-3},{"$f":"db!I9/db!E9","v":7.0921985815602835E-3},{"$f":"db!J9/db!E9","v":0.77304964539007093},{"$f":"db!K9/db!E9","v":0.13475177304964539},{"$f":"db!L9/db!E9","v":9.2198581560283682E-2},{"$f":"db!H9/db!F9","v":2.6666666666666668E-2},{"$f":"db!I9/db!F9","v":2.6666666666666668E-2},null,"JI",14.842105263157896,0.26595744680851063,0,7.0921985815602835E-3,7.0921985815602835E-3,0.13475177304964539,9.2198581560283682E-2,2.6666666666666668E-2,2.6666666666666668E-2,0.77304964539007093,null,null,1,null,null,null,null,null,null,null,null,null,null,"O4",15,6,5,5,6,3,1,10,6,6,15,16,16,15,18,20,11,15,5000]
[{"$f":"db!B10","v":"KK"},{"$f":"db!E10/db!D10","v":11.75},{"$f":"db!F10/db!E10","v":7.2340425531914887E-2},{"$f":"db!G10/db!E10","v":0},{"$f":"db!H10/db!E10","v":5.106382978723404E-2},{"$f":"db!I10/db!E10","v":4.2553191489361703E-3},{"$f":"db!J10/db!E10","v":0.85106382978723405},{"$f":"db!K10/db!E10","v":8.5106382978723402E-2},{"$f":"db!L10/db!E10","v":6.3829787234042548E-2},{"$f":"db!H10/db!F10","v":0.70588235294117652},{"$f":"db!I10/db!F10","v":5.8823529411764705E-2},null,"KK",11.75,7.2340425531914887E-2,0,5.106382978723404E-2,4.2553191489361703E-3,8.5106382978723402E-2,6.3829787234042548E-2,0.70588235294117652,5.8823529411764705E-2,0.85106382978723405,null,null,1,null,null,null,null,null,null,null,null,null,null,"O5",7,15,4,1,6,9,17,3,6,14,6,17,20,15,12,4,18,15,8069]
[{"$f":"db!B11","v":"KP"},{"$f":"db!E11/db!D11","v":8.5217391304347831},{"$f":"db!F11/db!E11","v":4.0816326530612242E-2},{"$f":"db!G11/db!E11","v":5.1020408163265302E-3},{"$f":"db!H11/db!E11","v":0},{"$f":"db!I11/db!E11","v":0},{"$f":"db!J11/db!E11","v":0.70408163265306123},{"$f":"db!K11/db!E11","v":7.6530612244897961E-2},{"$f":"db!L11/db!E11","v":0.21938775510204081},{"$f":"db!H11/db!F11","v":0},{"$f":"db!I11/db!F11","v":0},null,"KP",8.5217391304347831,4.0816326530612242E-2,5.1020408163265302E-3,0,0,7.6530612244897961E-2,0.21938775510204081,0,0,0.70408163265306123,null,null,1,null,null,null,null,null,null,null,null,null,null,"O6",19,3,5,16,6,7,19,16,6,2,18,16,5,15,14,2,5,15,7864]
[{"$f":"db!B12","v":"NN"},{"$f":"db!E12/db!D12","v":11.666666666666666},{"$f":"db!F12/db!E12","v":4.7619047619047623E-3},{"$f":"db!G12/db!E12","v":0},{"$f":"db!H12/db!E12","v":9.5238095238095247E-3},{"$f":"db!I12/db!E12","v":4.7619047619047623E-3},{"$f":"db!J12/db!E12","v":0.80476190476190479},{"$f":"db!K12/db!E12","v":6.1904761904761907E-2},{"$f":"db!L12/db!E12","v":0.13333333333333333},{"$f":"db!H12/db!F12","v":2},{"$f":"db!I12/db!F12","v":1},null,"NN",11.666666666666666,4.7619047619047623E-3,0,9.5238095238095247E-3,4.7619047619047623E-3,6.1904761904761907E-2,0.13333333333333333,2,1,0.80476190476190479,null,null,1,null,null,null,null,null,null,null,null,null,null,"O7",20,13,5,16,6,5,9,16,6,1,8,16,5,15,16,12,5,15,6666]
[{"$f":"db!B13","v":"PD"},{"$f":"db!E13/db!D13","v":7.833333333333333},{"$f":"db!F13/db!E13","v":0.65957446808510634},{"$f":"db!G13/db!E13","v":0},{"$f":"db!H13/db!E13","v":1.4184397163120567E-2},{"$f":"db!I13/db!E13","v":0},{"$f":"db!J13/db!E13","v":0.82269503546099287},{"$f":"db!K13/db!E13","v":0.12056737588652482},{"$f":"db!L13/db!E13","v":5.6737588652482268E-2},{"$f":"db!H13/db!F13","v":2.1505376344086023E-2},{"$f":"db!I13/db!F13","v":0},null,"PD",7.833333333333333,0.65957446808510634,0,1.4184397163120567E-2,0,0.12056737588652482,5.6737588652482268E-2,2.1505376344086023E-2,0,0.82269503546099287,null,null,0.99999999999999989,null,null,null,null,null,null,null,null,null,null,"O8",1,9,5,13,1,10,10,13,4,20,12,16,8,20,11,11,8,17,7730]
[{"$f":"db!B14","v":"RD"},{"$f":"db!E14/db!D14","v":11},{"$f":"db!F14/db!E14","v":0.28282828282828282},{"$f":"db!G14/db!E14","v":0},{"$f":"db!H14/db!E14","v":2.0202020202020204E-2},{"$f":"db!I14/db!E14","v":5.0505050505050509E-3},{"$f":"db!J14/db!E14","v":0.81818181818181823},{"$f":"db!K14/db!E14","v":0.1111111111111111},{"$f":"db!L14/db!E14","v":7.0707070707070704E-2},{"$f":"db!H14/db!F14","v":7.1428571428571425E-2},{"$f":"db!I14/db!F14","v":1.7857142857142856E-2},null,"RD",11,0.28282828282828282,0,2.0202020202020204E-2,5.0505050505050509E-3,0.1111111111111111,7.0707070707070704E-2,7.1428571428571425E-2,1.7857142857142856E-2,0.81818181818181823,null,null,1,null,null,null,null,null,null,null,null,null,null,"O9",3,16,5,3,5,15,15,2,2,18,5,16,18,16,6,6,19,19,8510]
[{"$f":"db!B15","v":"RF"},{"$f":"db!E15/db!D15","v":10.833333333333334},{"$f":"db!F15/db!E15","v":0.14358974358974358},{"$f":"db!G15/db!E15","v":0},{"$f":"db!H15/db!E15","v":2.0512820512820513E-2},{"$f":"db!I15/db!E15","v":5.1282051282051282E-3},{"$f":"db!J15/db!E15","v":0.61538461538461542},{"$f":"db!K15/db!E15","v":0.25128205128205128},{"$f":"db!L15/db!E15","v":0.13333333333333333},{"$f":"db!H15/db!F15","v":0.14285714285714285},{"$f":"db!I15/db!F15","v":3.5714285714285712E-2},null,"RF",10.833333333333334,0.14358974358974358,0,2.0512820512820513E-2,5.1282051282051282E-3,0.25128205128205128,0.13333333333333333,0.14285714285714285,3.5714285714285712E-2,0.61538461538461542,null,null,1,null,null,null,null,null,null,null,null,null,null,"O10",10,19,3,16,6,16,2,16,6,11,2,18,5,15,5,19,5,15,7040]
[{"$f":"db!B16","v":"RB"},{"$f":"db!E16/db!D16","v":5.7222222222222223},{"$f":"db!F16/db!E16","v":0.26213592233009708},{"$f":"db!G16/db!E16","v":0},{"$f":"db!H16/db!E16","v":0},{"$f":"db!I16/db!E16","v":0},{"$f":"db!J16/db!E16","v":0.71844660194174759},{"$f":"db!K16/db!E16","v":0.23300970873786409},{"$f":"db!L16/db!E16","v":4.8543689320388349E-2},{"$f":"db!H16/db!F16","v":0},{"$f":"db!I16/db!F16","v":0},null,"RB",5.7222222222222223,0.26213592233009708,0,0,0,0.23300970873786409,4.8543689320388349E-2,0,0,0.71844660194174759,null,null,1,null,null,null,null,null,null,null,null,null,null,"O11",4,20,5,12,4,17,4,1,1,17,1,16,9,17,4,17,20,20,8047]
[{"$f":"db!B17","v":"RT"},{"$f":"db!E17/db!D17","v":5.7647058823529411},{"$f":"db!F17/db!E17","v":5.1020408163265307E-2},{"$f":"db!G17/db!E17","v":1.020408163265306E-2},{"$f":"db!H17/db!E17","v":1.020408163265306E-2},{"$f":"db!I17/db!E17","v":0},{"$f":"db!J17/db!E17","v":0.68367346938775508},{"$f":"db!K17/db!E17","v":0.16326530612244897},{"$f":"db!L17/db!E17","v":0.15306122448979592},{"$f":"db!H17/db!F17","v":0.2},{"$f":"db!I17/db!F17","v":0},null,"RT",5.7647058823529411,5.1020408163265307E-2,1.020408163265306E-2,1.020408163265306E-2,0,0.16326530612244897,0.15306122448979592,0.2,0,0.68367346938775508,null,null,1,null,null,null,null,null,null,null,null,null,null,"O12",13,4,5,10,6,13,16,15,6,8,17,16,11,15,8,5,6,15,8226]
[{"$f":"db!B18","v":"SB"},{"$f":"db!E18/db!D18","v":13.736842105263158},{"$f":"db!F18/db!E18","v":0.61685823754789271},{"$f":"db!G18/db!E18","v":0},{"$f":"db!H18/db!E18","v":1.532567049808429E-2},{"$f":"db!I18/db!E18","v":0},{"$f":"db!J18/db!E18","v":0.88122605363984674},{"$f":"db!K18/db!E18","v":4.9808429118773943E-2},{"$f":"db!L18/db!E18","v":6.8965517241379309E-2},{"$f":"db!H18/db!F18","v":2.4844720496894408E-2},{"$f":"db!I18/db!F18","v":0},null,"SB",{"$f":"B20","v":13.736842105263158},{"$f":"C20","v":0.61685823754789271},{"$f":"D20","v":0},{"$f":"E20","v":1.532567049808429E-2},{"$f":"F20","v":0},{"$f":"H20","v":4.9808429118773943E-2},{"$f":"I20","v":6.8965517241379309E-2},{"$f":"J20","v":2.4844720496894408E-2},{"$f":"K20","v":0},0.88122605363984674,null,null,1,null,null,null,null,null,null,null,null,null,null,"O13",5,8,5,8,3,14,12,9,5,16,13,16,13,18,7,9,12,16,8181]
[{"$f":"db!B19","v":"SV"},{"$f":"db!E19/db!D19","v":7.5714285714285712},{"$f":"db!F19/db!E19","v":0.49685534591194969},{"$f":"db!G19/db!E19","v":6.2893081761006293E-3},{"$f":"db!H19/db!E19","v":5.6603773584905662E-2},{"$f":"db!I19/db!E19","v":0},{"$f":"db!J19/db!E19","v":0.76100628930817615},{"$f":"db!K19/db!E19","v":0.12578616352201258},{"$f":"db!L19/db!E19","v":0.11320754716981132},{"$f":"db!H19/db!F19","v":0.11392405063291139},{"$f":"db!I19/db!F19","v":0},null,"SV",7.5714285714285712,0.49685534591194969,6.2893081761006293E-3,5.6603773584905662E-2,0,0.12578616352201258,0.11320754716981132,0.11392405063291139,0,0.76100628930817615,null,null,1,null,null,null,null,null,null,null,null,null,null,"O14",6,12,5,7,2,2,4,6,3,15,9,16,14,19,19,17,15,18,6153]
[{"$f":"db!B20","v":"SZ"},{"$f":"db!E20/db!D20","v":8.9411764705882355},{"$f":"db!F20/db!E20","v":0.24342105263157895},{"$f":"db!G20/db!E20","v":0},{"$f":"db!H20/db!E20","v":6.5789473684210523E-3},{"$f":"db!I20/db!E20","v":0},{"$f":"db!J20/db!E20","v":0.84868421052631582},{"$f":"db!K20/db!E20","v":4.6052631578947366E-2},{"$f":"db!L20/db!E20","v":0.10526315789473684},{"$f":"db!H20/db!F20","v":2.7027027027027029E-2},{"$f":"db!I20/db!F20","v":0},null,"SZ",8.9411764705882355,0.24342105263157895,0,6.5789473684210523E-3,0,4.6052631578947366E-2,0.10526315789473684,2.7027027027027029E-2,0,0.84868421052631582,null,null,1,null,null,null,null,null,null,null,null,null,null,"O15",17,10,5,16,6,4,18,16,6,4,11,16,5,15,17,3,5,15,7184]
[{"$f":"db!B21","v":"TK"},{"$f":"db!E21/db!D21","v":10.238095238095237},{"$f":"db!F21/db!E21","v":1.0139534883720931},{"$f":"db!G21/db!E21","v":0},{"$f":"db!H21/db!E21","v":4.1860465116279069E-2},{"$f":"db!I21/db!E21","v":0},{"$f":"db!J21/db!E21","v":0.94418604651162785},{"$f":"db!K21/db!E21","v":3.255813953488372E-2},{"$f":"db!L21/db!E21","v":2.3255813953488372E-2},{"$f":"db!H21/db!F21","v":4.1284403669724773E-2},{"$f":"db!I21/db!F21","v":0},null,"TK",10.238095238095237,1.0139534883720931,0,4.1860465116279069E-2,0,3.255813953488372E-2,2.3255813953488372E-2,4.1284403669724773E-2,0,0.94418604651162785,null,null,1,null,null,null,null,null,null,null,null,null,null,"O16",16,17,1,11,6,8,3,5,6,5,4,20,10,15,13,18,16,15,6836]
[null,null,null,null,null,null,null,null,null,null,null,null,null,null,null,null,null,null,null,null,null,null,null,null,null,null,null,null,null,null,null,null,null,null,null,null,"O17",2,5,5,9,6,18,13,14,6,19,16,16,12,15,3,8,7,15,8812]
[null,null,null,null,null,null,null,null,null,null,null,null,null,null,null,null,null,null,null,null,null,null,null,null,null,null,null,null,null,null,null,null,null,null,null,null,"O18",14,7,2,2,6,11,7,8,6,7,14,19,19,15,10,14,13,15,7610]
[null,null,null,null,null,null,null,null,null,null,null,null,null,null,null,null,null,null,null,null,null,null,null,null,null,null,null,null,null,null,null,null,null,null,null,null,"O19",9,11,5,14,6,19,8,12,6,12,10,16,7,15,2,13,9,15,8486]
[null,null,null,null,null,null,null,null,null,null,null,null,"jelleg","direkt","direkt","direkt","direkt","direkt","direkt","direkt","direkt","direkt","inverz","inverz","inverz","inverz","inverz","inverz","inverz","inverz","inverz","*10000&int",{"$f":"CORREL(AF29:AF48,AG29:AG48)","v":0.99999991484884632},"<--korreláció",null,null,"O20",8,1,5,4,6,20,20,11,6,13,20,16,17,15,1,1,10,15,9441]
[null,null,null,null,null,null,null,null,null,null,null,null,{"$f":"M3","v":"OAM"},{"$f":"N3","v":"egy életévre jutó meccsek száma"},"egy meccsre jutó gólok száma","egy meccsre jutó öngólok száma","egy meccsre jutó sárgalapok száma","egy meccsre jutó piroslapok száma","hány százalékban csere?","hány százalékban kispad?","egy gólra jutó sárgalapok száma?","egy gólra jutó piroslapok száma?",{"$f":"N28","v":"egy életévre jutó meccsek száma"},{"$f":"O28","v":"egy meccsre jutó gólok száma"},"egy meccsre jutó öngólok száma","egy meccsre jutó sárgalapok száma","egy meccsre jutó piroslapok száma","hány százalékban csere?","hány százalékban kispad?","egy gólra jutó sárgalapok száma?","egy gólra jutó piroslapok száma?",{"$f":"W3","v":"hány százalékban kezdő?"},"becslés"]
[null,null,null,null,null,null,null,null,null,null,null,null,{"$f":"M4","v":"GM"},{"$f":"RANK(N4,N$4:N$23,0)","v":11},{"$f":"RANK(O4,O$4:O$23,0)","v":18},5,15,6,12,6,7,6,{"$f":"21-N29","v":10},{"$f":"21-O29","v":3},{"$f":"21-P29","v":16},{"$f":"21-Q29","v":6},{"$f":"21-R29","v":15},{"$f":"21-S29","v":9},{"$f":"21-T29","v":15},{"$f":"21-U29","v":14},{"$f":"21-V29","v":15},{"$f":"INT(W4*10000)","v":7514},{"$f":"BD76","v":7514},null,null,null,"L�pcs�k(1)","X(A1)","X(A2)","X(A3)","X(A4)","X(A5)","X(A6)","X(A7)","X(A8)","X(A9)","X(A10)","X(A11)","X(A12)","X(A13)","X(A14)","X(A15)","X(A16)","X(A17)","X(A18)"]
[null,null,null,null,null,null,null,null,null,null,null,null,"BE",{"$f":"RANK(N5,N$4:N$23,0)","v":11},14,5,6,6,6,11,4,6,{"$f":"21-N30","v":10},7,16,15,15,15,10,17,15,{"$f":"INT(W5*10000)","v":6878},{"$f":"BD77","v":6878},null,null,null,"S1","(0+1831)/(1)=1831","(0+243)/(1)=243","(0+2090)/(1)=2090","(0+4171)/(1)=4171","(0+5656)/(1)=5656","(0+245)/(1)=245","(0+264)/(1)=264","(0+2438)/(1)=2438","(0+0)/(1)=0","(0+6414)/(1)=6414","(0+3326)/(1)=3326","(0+0)/(1)=0","(0+0)/(1)=0","(0+0)/(1)=0","(0+7991)/(1)=7991","(0+1207)/(1)=1207","(0+0)/(1)=0","(0+0)/(1)=0"]
[null,null,null,null,null,null,null,null,null,null,null,null,"BT",{"$f":"RANK(N6,N$4:N$23,0)","v":18},2,5,16,6,1,14,16,6,3,19,16,5,15,20,7,5,15,6222,6222,null,null,null,"S2","(0+1831)/(1)=1831","(0+243)/(1)=243","(0+1168)/(1)=1168","(0+1706)/(1)=1706","(0+5656)/(1)=5656","(0+245)/(1)=245","(0+264)/(1)=264","(0+2438)/(1)=2438","(0+0)/(1)=0","(0+6414)/(1)=6414","(0+3326)/(1)=3326","(0+0)/(1)=0","(0+0)/(1)=0","(0+0)/(1)=0","(0+7991)/(1)=7991","(0+1207)/(1)=1207","(0+0)/(1)=0","(0+0)/(1)=0"]
[null,null,null,null,null,null,null,null,null,null,null,null,"FK",{"$f":"RANK(N7,N$4:N$23,0)","v":15},6,5,5,6,3,1,10,6,6,15,16,16,15,18,20,11,15,5000,5000,null,null,null,"S3","(0+1831)/(1)=1831","(0+243)/(1)=243","(0+1168)/(1)=1168","(0+1706)/(1)=1706","(0+5656)/(1)=5656","(0+0)/(1)=0","(0+0)/(1)=0","(0+2438)/(1)=2438","(0+0)/(1)=0","(0+5734)/(1)=5734","(0+3326)/(1)=3326","(0+0)/(1)=0","(0+0)/(1)=0","(0+0)/(1)=0","(0+6738)/(1)=6738","(0+1207)/(1)=1207","(0+0)/(1)=0","(0+0)/(1)=0"]
[null,null,null,null,null,null,null,null,null,null,null,null,"FF",{"$f":"RANK(N8,N$4:N$23,0)","v":7},15,4,1,6,9,17,3,6,14,6,17,20,15,12,4,18,15,8069,8068,null,null,null,"S4","(0+0)/(1)=0","(0+243)/(1)=243","(0+0)/(1)=0","(0+0)/(1)=0","(0+0)/(1)=0","(0+0)/(1)=0","(0+0)/(1)=0","(0+2438)/(1)=2438","(0+0)/(1)=0","(0+5734)/(1)=5734","(0+252)/(1)=252","(0+0)/(1)=0","(0+0)/(1)=0","(0+0)/(1)=0","(0+2282)/(1)=2282","(0+1207)/(1)=1207","(0+0)/(1)=0","(0+0)/(1)=0"]
[null,null,null,null,null,null,null,null,null,null,null,null,"FI",{"$f":"RANK(N9,N$4:N$23,0)","v":19},3,5,16,6,7,19,16,6,2,18,16,5,15,14,2,5,15,7864,7864,null,null,null,"S5","(0+0)/(1)=0","(0+243)/(1)=243","(0+0)/(1)=0","(0+0)/(1)=0","(0+0)/(1)=0","(0+0)/(1)=0","(0+0)/(1)=0","(0+0)/(1)=0","(0+0)/(1)=0","(0+4493)/(1)=4493","(0+252)/(1)=252","(0+0)/(1)=0","(0+0)/(1)=0","(0+0)/(1)=0","(0+2282)/(1)=2282","(0+1207)/(1)=1207","(0+0)/(1)=0","(0+0)/(1)=0"]
[null,null,null,null,null,null,null,null,null,null,null,null,"HM",{"$f":"RANK(N10,N$4:N$23,0)","v":20},13,5,16,6,5,9,16,6,1,8,16,5,15,16,12,5,15,6666,6666,null,null,null,"S6","(0+0)/(1)=0","(0+243)/(1)=243","(0+0)/(1)=0","(0+0)/(1)=0","(0+0)/(1)=0","(0+0)/(1)=0","(0+0)/(1)=0","(0+0)/(1)=0","(0+0)/(1)=0","(0+4493)/(1)=4493","(0+252)/(1)=252","(0+0)/(1)=0","(0+0)/(1)=0","(0+0)/(1)=0","(0+2282)/(1)=2282","(0+0)/(1)=0","(0+0)/(1)=0","(0+0)/(1)=0"]
[null,null,null,null,null,null,null,null,null,null,null,null,"JI",{"$f":"RANK(N11,N$4:N$23,0)","v":1},9,5,13,1,10,10,13,4,20,12,16,8,20,11,11,8,17,7730,7730,null,null,null,"S7","(0+0)/(1)=0","(0+243)/(1)=243","(0+0)/(1)=0","(0+0)/(1)=0","(0+0)/(1)=0","(0+0)/(1)=0","(0+0)/(1)=0","(0+0)/(1)=0","(0+0)/(1)=0","(0+4493)/(1)=4493","(0+252)/(1)=252","(0+0)/(1)=0","(0+0)/(1)=0","(0+0)/(1)=0","(0+2282)/(1)=2282","(0+0)/(1)=0","(0+0)/(1)=0","(0+0)/(1)=0"]
[null,null,null,null,null,null,null,null,null,null,null,null,"KK",{"$f":"RANK(N12,N$4:N$23,0)","v":3},16,5,3,5,15,15,2,2,18,5,16,18,16,6,6,19,19,8510,8509,null,null,null,"S8","(0+0)/(1)=0","(0+243)/(1)=243","(0+0)/(1)=0","(0+0)/(1)=0","(0+0)/(1)=0","(0+0)/(1)=0","(0+0)/(1)=0","(0+0)/(1)=0","(0+0)/(1)=0","(0+4493)/(1)=4493","(0+252)/(1)=252","(0+0)/(1)=0","(0+0)/(1)=0","(0+0)/(1)=0","(0+2282)/(1)=2282","(0+0)/(1)=0","(0+0)/(1)=0","(0+0)/(1)=0"]
[null,null,null,null,null,null,null,null,null,null,null,null,"KP",{"$f":"RANK(N13,N$4:N$23,0)","v":10},19,3,16,6,16,2,16,6,11,2,18,5,15,5,19,5,15,7040,7040,null,null,null,"S9","(0+0)/(1)=0","(0+243)/(1)=243","(0+0)/(1)=0","(0+0)/(1)=0","(0+0)/(1)=0","(0+0)/(1)=0","(0+0)/(1)=0","(0+0)/(1)=0","(0+0)/(1)=0","(0+4188)/(1)=4188","(0+252)/(1)=252","(0+0)/(1)=0","(0+0)/(1)=0","(0+0)/(1)=0","(0+0)/(1)=0","(0+0)/(1)=0","(0+0)/(1)=0","(0+0)/(1)=0"]
[null,null,null,null,null,null,null,null,null,null,null,null,"NN",{"$f":"RANK(N14,N$4:N$23,0)","v":4},20,5,12,4,17,4,1,1,17,1,16,9,17,4,17,20,20,8047,8046,null,null,null,"S10","(0+0)/(1)=0","(0+243)/(1)=243","(0+0)/(1)=0","(0+0)/(1)=0","(0+0)/(1)=0","(0+0)/(1)=0","(0+0)/(1)=0","(0+0)/(1)=0","(0+0)/(1)=0","(0+4188)/(1)=4188","(0+252)/(1)=252","(0+0)/(1)=0","(0+0)/(1)=0","(0+0)/(1)=0","(0+0)/(1)=0","(0+0)/(1)=0","(0+0)/(1)=0","(0+0)/(1)=0"]
[null,null,null,null,null,null,null,null,null,null,null,null,"PD",{"$f":"RANK(N15,N$4:N$23,0)","v":13},4,5,10,6,13,16,15,6,8,17,16,11,15,8,5,6,15,8226,8225,null,null,null,"S11","(0+0)/(1)=0","(0+243)/(1)=243","(0+0)/(1)=0","(0+0)/(1)=0","(0+0)/(1)=0","(0+0)/(1)=0","(0+0)/(1)=0","(0+0)/(1)=0","(0+0)/(1)=0","(0+0)/(1)=0","(0+0)/(1)=0","(0+0)/(1)=0","(0+0)/(1)=0","(0+0)/(1)=0","(0+0)/(1)=0","(0+0)/(1)=0","(0+0)/(1)=0","(0+0)/(1)=0"]
[null,null,null,null,null,null,null,null,null,null,null,null,"RD",{"$f":"RANK(N16,N$4:N$23,0)","v":5},8,5,8,3,14,12,9,5,16,13,16,13,18,7,9,12,16,8181,8181,null,null,null,"S12","(0+0)/(1)=0","(0+0)/(1)=0","(0+0)/(1)=0","(0+0)/(1)=0","(0+0)/(1)=0","(0+0)/(1)=0","(0+0)/(1)=0","(0+0)/(1)=0","(0+0)/(1)=0","(0+0)/(1)=0","(0+0)/(1)=0","(0+0)/(1)=0","(0+0)/(1)=0","(0+0)/(1)=0","(0+0)/(1)=0","(0+0)/(1)=0","(0+0)/(1)=0","(0+0)/(1)=0"]
[null,null,null,null,null,null,null,null,null,null,null,null,"RF",{"$f":"RANK(N17,N$4:N$23,0)","v":6},12,5,7,2,2,4,6,3,15,9,16,14,19,19,17,15,18,6153,6153,null,null,null,"S13","(0+0)/(1)=0","(0+0)/(1)=0","(0+0)/(1)=0","(0+0)/(1)=0","(0+0)/(1)=0","(0+0)/(1)=0","(0+0)/(1)=0","(0+0)/(1)=0","(0+0)/(1)=0","(0+0)/(1)=0","(0+0)/(1)=0","(0+0)/(1)=0","(0+0)/(1)=0","(0+0)/(1)=0","(0+0)/(1)=0","(0+0)/(1)=0","(0+0)/(1)=0","(0+0)/(1)=0"]
[null,null,null,null,null,null,null,null,null,null,null,null,"RB",{"$f":"RANK(N18,N$4:N$23,0)","v":17},10,5,16,6,4,18,16,6,4,11,16,5,15,17,3,5,15,7184,7184,null,null,null,"S14","(0+0)/(1)=0","(0+0)/(1)=0","(0+0)/(1)=0","(0+0)/(1)=0","(0+0)/(1)=0","(0+0)/(1)=0","(0+0)/(1)=0","(0+0)/(1)=0","(0+0)/(1)=0","(0+0)/(1)=0","(0+0)/(1)=0","(0+0)/(1)=0","(0+0)/(1)=0","(0+0)/(1)=0","(0+0)/(1)=0","(0+0)/(1)=0","(0+0)/(1)=0","(0+0)/(1)=0"]
[null,null,null,null,null,null,null,null,null,null,null,null,"RT",{"$f":"RANK(N19,N$4:N$23,0)","v":16},17,1,11,6,8,3,5,6,5,4,20,10,15,13,18,16,15,6836,6835,null,null,null,"S15","(0+0)/(1)=0","(0+0)/(1)=0","(0+0)/(1)=0","(0+0)/(1)=0","(0+0)/(1)=0","(0+0)/(1)=0","(0+0)/(1)=0","(0+0)/(1)=0","(0+0)/(1)=0","(0+0)/(1)=0","(0+0)/(1)=0","(0+0)/(1)=0","(0+0)/(1)=0","(0+0)/(1)=0","(0+0)/(1)=0","(0+0)/(1)=0","(0+0)/(1)=0","(0+0)/(1)=0"]
[null,null,null,null,null,null,null,null,null,null,null,null,"SB",{"$f":"RANK(N20,N$4:N$23,0)","v":2},5,5,9,6,18,13,14,6,19,16,16,12,15,3,8,7,15,8812,8812,null,null,null,"S16","(0+0)/(1)=0","(0+0)/(1)=0","(0+0)/(1)=0","(0+0)/(1)=0","(0+0)/(1)=0","(0+0)/(1)=0","(0+0)/(1)=0","(0+0)/(1)=0","(0+0)/(1)=0","(0+0)/(1)=0","(0+0)/(1)=0","(0+0)/(1)=0","(0+0)/(1)=0","(0+0)/(1)=0","(0+0)/(1)=0","(0+0)/(1)=0","(0+0)/(1)=0","(0+0)/(1)=0"]
[null,null,null,null,null,null,null,null,null,null,null,null,"SV",{"$f":"RANK(N21,N$4:N$23,0)","v":14},7,2,2,6,11,7,8,6,7,14,19,19,15,10,14,13,15,7610,7610,null,null,null,"S17","(0+0)/(1)=0","(0+0)/(1)=0","(0+0)/(1)=0","(0+0)/(1)=0","(0+0)/(1)=0","(0+0)/(1)=0","(0+0)/(1)=0","(0+0)/(1)=0","(0+0)/(1)=0","(0+0)/(1)=0","(0+0)/(1)=0","(0+0)/(1)=0","(0+0)/(1)=0","(0+0)/(1)=0","(0+0)/(1)=0","(0+0)/(1)=0","(0+0)/(1)=0","(0+0)/(1)=0"]
[null,null,null,null,null,null,null,null,null,null,null,null,"SZ",{"$f":"RANK(N22,N$4:N$23,0)","v":9},11,5,14,6,19,8,12,6,12,10,16,7,15,2,13,9,15,8486,8486,null,null,null,"S18","(0+0)/(1)=0","(0+0)/(1)=0","(0+0)/(1)=0","(0+0)/(1)=0","(0+0)/(1)=0","(0+0)/(1)=0","(0+0)/(1)=0","(0+0)/(1)=0","(0+0)/(1)=0","(0+0)/(1)=0","(0+0)/(1)=0","(0+0)/(1)=0","(0+0)/(1)=0","(0+0)/(1)=0","(0+0)/(1)=0","(0+0)/(1)=0","(0+0)/(1)=0","(0+0)/(1)=0"]
[null,null,null,null,null,null,null,null,null,null,null,null,"TK",{"$f":"RANK(N23,N$4:N$23,0)","v":8},1,5,4,6,20,20,11,6,13,20,16,17,15,1,1,10,15,9441,9441,null,null,null,"S19","(0+0)/(1)=0","(0+0)/(1)=0","(0+0)/(1)=0","(0+0)/(1)=0","(0+0)/(1)=0","(0+0)/(1)=0","(0+0)/(1)=0","(0+0)/(1)=0","(0+0)/(1)=0","(0+0)/(1)=0","(0+0)/(1)=0","(0+0)/(1)=0","(0+0)/(1)=0","(0+0)/(1)=0","(0+0)/(1)=0","(0+0)/(1)=0","(0+0)/(1)=0","(0+0)/(1)=0"]
[null,null,null,null,null,null,null,null,null,null,null,null,null,null,null,null,null,null,null,null,null,null,null,null,null,null,null,null,null,null,null,null,null,null,null,null,"S20","(0+0)/(1)=0","(0+0)/(1)=0","(0+0)/(1)=0","(0+0)/(1)=0","(0+0)/(1)=0","(0+0)/(1)=0","(0+0)/(1)=0","(0+0)/(1)=0","(0+0)/(1)=0","(0+0)/(1)=0","(0+0)/(1)=0","(0+0)/(1)=0","(0+0)/(1)=0","(0+0)/(1)=0","(0+0)/(1)=0","(0+0)/(1)=0","(0+0)/(1)=0","(0+0)/(1)=0"]
[null,null,null,null,null,null,null,null,null,null,null,null,null,null,null,null,null,null,null,null,null,null,null,null,null,null,null,null,null,null,null,null,null,null,null,null,null,{"$f":"N27","v":"direkt"},{"$f":"O27","v":"direkt"},"direkt","direkt","direkt","direkt","direkt","direkt","direkt","inverz","inverz","inverz","inverz","inverz","inverz","inverz","inverz","inverz"]
[null,null,null,null,null,null,null,null,null,null,null,null,null,null,null,null,null,null,null,null,null,null,null,null,null,null,null,null,null,null,null,null,null,null,null,null,"L�pcs�k(2)",{"$f":"N28","v":"egy életévre jutó meccsek száma"},{"$f":"O28","v":"egy meccsre jutó gólok száma"},"egy meccsre jutó öngólok száma","egy meccsre jutó sárgalapok száma","egy meccsre jutó piroslapok száma","hány százalékban csere?","hány százalékban kispad?","egy gólra jutó sárgalapok száma?","egy gólra jutó piroslapok száma?","egy életévre jutó meccsek száma","egy meccsre jutó gólok száma","egy meccsre jutó öngólok száma","egy meccsre jutó sárgalapok száma","egy meccsre jutó piroslapok száma","hány százalékban csere?","hány százalékban kispad?","egy gólra jutó sárgalapok száma?","egy gólra jutó piroslapok száma?"]
[null,null,null,null,null,null,null,null,null,null,null,null,null,null,null,null,null,null,null,null,null,null,null,null,null,null,null,null,null,null,null,null,null,null,null,null,"S1",1831,243,2090,4171,5656,245,264,2438,0,6414,3326,0,0,0,7991,1207,0,0]
[null,null,null,null,null,null,null,null,null,null,null,null,null,null,null,null,null,null,null,null,null,null,null,null,null,null,null,null,null,null,null,null,null,null,null,null,"S2",1831,243,1168,1706,5656,245,264,2438,0,6414,3326,0,0,0,7991,1207,0,0]
[null,null,null,null,null,null,null,null,null,null,null,null,null,null,null,null,null,null,null,null,null,null,null,null,null,null,null,null,null,null,null,null,null,null,null,null,"S3",1831,243,1168,1706,5656,0,0,2438,0,5734,3326,0,0,0,6738,1207,0,0]
[null,null,null,null,null,null,null,null,null,null,null,null,null,null,null,null,null,null,null,null,null,null,null,null,null,null,null,null,null,null,null,null,null,null,null,null,"S4",0,243,0,0,0,0,0,2438,0,5734,252,0,0,0,2282,1207,0,0]
[null,null,null,null,null,null,null,null,null,null,null,null,null,null,null,null,null,null,null,null,null,null,null,null,null,null,null,null,null,null,null,null,null,null,null,null,"S5",0,243,0,0,0,0,0,0,0,4493,252,0,0,0,2282,1207,0,0]
[null,null,null,null,null,null,null,null,null,null,null,null,null,null,null,null,null,null,null,null,null,null,null,null,null,null,null,null,null,null,null,null,null,null,null,null,"S6",0,243,0,0,0,0,0,0,0,4493,252,0,0,0,2282,0,0,0]
[null,null,null,null,null,null,null,null,null,null,null,null,null,null,null,null,null,null,null,null,null,null,null,null,null,null,null,null,null,null,null,null,null,null,null,null,"S7",0,243,0,0,0,0,0,0,0,4493,252,0,0,0,2282,0,0,0]
[null,null,null,null,null,null,null,null,null,null,null,null,null,null,null,null,null,null,null,null,null,null,null,null,null,null,null,null,null,null,null,null,null,null,null,null,"S8",0,243,0,0,0,0,0,0,0,4493,252,0,0,0,2282,0,0,0]
[null,null,null,null,null,null,null,null,null,null,null,null,null,null,null,null,null,null,null,null,null,null,null,null,null,null,null,null,null,null,null,null,null,null,null,null,"S9",0,243,0,0,0,0,0,0,0,4188,252,0,0,0,0,0,0,0]
[null,null,null,null,null,null,null,null,null,null,null,null,null,null,null,null,null,null,null,null,null,null,null,null,null,null,null,null,null,null,null,null,null,null,null,null,"S10",0,243,0,0,0,0,0,0,0,4188,252,0,0,0,0,0,0,0]
[null,null,null,null,null,null,null,null,null,null,null,null,null,null,null,null,null,null,null,null,null,null,null,null,null,null,null,null,null,null,null,null,null,null,null,null,"S11",0,243,0,0,0,0,0,0,0,0,0,0,0,0,0,0,0,0]
[null,null,null,null,null,null,null,null,null,null,null,null,null,null,null,null,null,null,null,null,null,null,null,null,null,null,null,null,null,null,null,null,null,null,null,null,"S12",0,0,0,0,0,0,0,0,0,0,0,0,0,0,0,0,0,0]
[null,null,null,null,null,null,null,null,null,null,null,null,null,null,null,null,null,null,null,null,null,null,null,null,null,null,null,null,null,null,null,null,null,null,null,null,"S13",0,0,0,0,0,0,0,0,0,0,0,0,0,0,0,0,0,0]
[null,null,null,null,null,null,null,null,null,null,null,null,null,null,null,null,null,null,null,null,null,null,null,null,null,null,null,null,null,null,null,null,null,null,null,null,"S14",0,0,0,0,0,0,0,0,0,0,0,0,0,0,0,0,0,0]
[null,null,null,null,null,null,null,null,null,null,null,null,null,null,null,null,null,null,null,null,null,null,null,null,null,null,null,null,null,null,null,null,null,null,null,null,"S15",0,0,0,0,0,0,0,0,0,0,0,0,0,0,0,0,0,0]
[null,null,null,null,null,null,null,null,null,null,null,null,null,null,null,null,null,null,null,null,null,null,null,null,null,null,null,null,null,null,null,null,null,null,null,null,"S16",0,0,0,0,0,0,0,0,0,0,0,0,0,0,0,0,0,0]
[null,null,null,null,null,null,null,null,null,null,null,null,null,null,null,null,null,null,null,null,null,null,null,null,null,null,null,null,null,null,null,null,null,null,null,null,"S17",0,0,0,0,0,0,0,0,0,0,0,0,0,0,0,0,0,0]
[null,null,null,null,null,null,null,null,null,null,null,null,null,null,null,null,null,null,null,null,null,null,null,null,null,null,null,null,null,null,null,null,null,null,null,null,"S18",0,0,0,0,0,0,0,0,0,0,0,0,0,0,0,0,0,0]
[null,null,null,null,null,null,null,null,null,null,null,null,null,null,null,null,null,null,null,null,null,null,null,null,null,null,null,null,null,null,null,null,null,null,null,null,"S19",0,0,0,0,0,0,0,0,0,0,0,0,0,0,0,0,0,0]
[null,null,null,null,null,null,null,null,null,null,null,null,null,null,null,null,null,null,null,null,null,null,null,null,null,null,null,null,null,null,null,null,null,null,null,null,"S20",0,0,0,0,0,0,0,0,0,0,0,0,0,0,0,0,0,0]
[null,null,null,null,null,null,null,null,null,null,null,null,null,null,null,null,null,null,null,null,null,null,null,null,null,null,null,null,null,null,null,null,null,null,null,null,"arány",{"$f":"SUM(AL76:AL95)/SUM($AL$76:$BC$95)","v":3.6507071458953634E-2},{"$f":"SUM(AM76:AM95)/SUM($AL$76:$BC$95)","v":1.7765046788600594E-2},2.9415674181199489E-2,5.0397437260740113E-2,0.1127711612079966,3.2565929391748191E-3,3.5091450446618458E-3,6.4812845597618032E-2,0,0.33658549553381539,7.8038600595491281E-2,0,0,0,0.22683166737558486,4.0109262016163334E-2,0,0]
[null,null,null,null,null,null,null,null,null,null,null,null,null,null,null,null,null,null,null,null,null,null,null,null,null,null,null,null,null,null,null,null,null,null,null,null,"ellenhatások",null,null,null,null,null,null,null,null,null,{"$f":"AL72","v":3.6507071458953634E-2},{"$f":"AM72","v":1.7765046788600594E-2},2.9415674181199489E-2,5.0397437260740113E-2,0.1127711612079966,3.2565929391748191E-3,3.5091450446618458E-3,6.4812845597618032E-2,0,"magas irracionalitási potenciál"]
[null,null,null,null,null,null,null,null,null,null,null,null,null,null,null,null,null,null,null,null,null,null,null,null,null,null,null,null,null,null,null,null,null,null,null,null,"értelmezés",null,null,null,null,null,null,null,null,null,"inkább legyen tapasztalatlan korához képest, vagy nagyon tapasztalt","inkább legyen gólerős, de lehet, akire szükség van","egyértelműen minél kisebb, annál jobb","egyértelműen minél kisebb, annál jobb","egyértelműen minél kisebb, annál jobb","egyértelműen minél nagyobb annál jobb","egyértelműen minél nagyobb annál jobb","egyértelműen minél kisebb, annál jobb","nincs hatása"]
[null,null,null,null,null,null,null,null,null,null,null,null,null,null,null,null,null,null,null,null,null,null,null,null,null,null,null,null,null,null,null,null,null,null,null,null,"COCO:STD","X(A1)","X(A2)","X(A3)","X(A4)","X(A5)","X(A6)","X(A7)","X(A8)","X(A9)","X(A10)","X(A11)","X(A12)","X(A13)","X(A14)","X(A15)","X(A16)","X(A17)","X(A18)","Becsl�s","T�ny+0","Delta","Delta/T�ny"]
[null,null,null,null,null,null,null,null,null,null,null,null,null,null,null,null,null,null,null,null,null,null,null,null,null,null,null,null,null,null,null,null,null,null,null,null,"O1",0,0,0,0,0,0,0,0,0,4188,3326,0,0,0,0,0,0,0,7514,7514,0,0]
[null,null,null,null,null,null,null,null,null,null,null,null,null,null,null,null,null,null,null,null,null,null,null,null,null,null,null,null,null,null,null,null,null,null,null,null,"O2",0,0,0,0,0,0,0,2438,0,4188,252,0,0,0,0,0,0,0,6878,6878,0,0]
[null,null,null,null,null,null,null,null,null,null,null,null,null,null,null,null,null,null,null,null,null,null,null,null,null,null,null,null,null,null,null,null,null,null,null,null,"O3",0,243,0,0,0,245,0,0,0,5734,0,0,0,0,0,0,0,0,6222,6222,0,0]
[null,null,null,null,null,null,null,null,null,null,null,null,null,null,null,null,null,null,null,null,null,null,null,null,null,null,null,null,null,null,null,null,null,null,null,null,"O4",0,243,0,0,0,0,264,0,0,4493,0,0,0,0,0,0,0,0,5000,5000,0,0]
[null,null,null,null,null,null,null,null,null,null,null,null,null,null,null,null,null,null,null,null,null,null,null,null,null,null,null,null,null,null,null,null,null,null,null,null,"O5",0,0,0,4171,0,0,0,2438,0,0,252,0,0,0,0,1207,0,0,8068,8069,1,0.01]
[null,null,null,null,null,null,null,null,null,null,null,null,null,null,null,null,null,null,null,null,null,null,null,null,null,null,null,null,null,null,null,null,null,null,null,null,"O6",0,243,0,0,0,0,0,0,0,6414,0,0,0,0,0,1207,0,0,7864,7864,0,0]
[null,null,null,null,null,null,null,null,null,null,null,null,null,null,null,null,null,null,null,null,null,null,null,null,null,null,null,null,null,null,null,null,null,null,null,null,"O7",0,0,0,0,0,0,0,0,0,6414,252,0,0,0,0,0,0,0,6666,6666,0,0]
[null,null,null,null,null,null,null,null,null,null,null,null,null,null,null,null,null,null,null,null,null,null,null,null,null,null,null,null,null,null,null,null,null,null,null,null,"O8",1831,243,0,0,5656,0,0,0,0,0,0,0,0,0,0,0,0,0,7730,7730,0,0]
[null,null,null,null,null,null,null,null,null,null,null,null,null,null,null,null,null,null,null,null,null,null,null,null,null,null,null,null,null,null,null,null,null,null,null,null,"O9",1831,0,0,1706,0,0,0,2438,0,0,252,0,0,0,2282,0,0,0,8509,8510,1,0.01]
[null,null,null,null,null,null,null,null,null,null,null,null,null,null,null,null,null,null,null,null,null,null,null,null,null,null,null,null,null,null,null,null,null,null,null,null,"O10",0,0,1168,0,0,0,264,0,0,0,3326,0,0,0,2282,0,0,0,7040,7040,0,0]
[null,null,null,null,null,null,null,null,null,null,null,null,null,null,null,null,null,null,null,null,null,null,null,null,null,null,null,null,null,null,null,null,null,null,null,null,"O11",0,0,0,0,0,0,0,2438,0,0,3326,0,0,0,2282,0,0,0,8046,8047,1,0.01]
[null,null,null,null,null,null,null,null,null,null,null,null,null,null,null,null,null,null,null,null,null,null,null,null,null,null,null,null,null,null,null,null,null,null,null,null,"O12",0,243,0,0,0,0,0,0,0,4493,0,0,0,0,2282,1207,0,0,8225,8226,1,0.01]
[null,null,null,null,null,null,null,null,null,null,null,null,null,null,null,null,null,null,null,null,null,null,null,null,null,null,null,null,null,null,null,null,null,null,null,null,"O13",0,243,0,0,5656,0,0,0,0,0,0,0,0,0,2282,0,0,0,8181,8181,0,0]
[null,null,null,null,null,null,null,null,null,null,null,null,null,null,null,null,null,null,null,null,null,null,null,null,null,null,null,null,null,null,null,null,null,null,null,null,"O14",0,0,0,0,5656,245,0,0,0,0,252,0,0,0,0,0,0,0,6153,6153,0,0]
[null,null,null,null,null,null,null,null,null,null,null,null,null,null,null,null,null,null,null,null,null,null,null,null,null,null,null,null,null,null,null,null,null,null,null,null,"O15",0,243,0,0,0,0,0,0,0,5734,0,0,0,0,0,1207,0,0,7184,7184,0,0]
[null,null,null,null,null,null,null,null,null,null,null,null,null,null,null,null,null,null,null,null,null,null,null,null,null,null,null,null,null,null,null,null,null,null,null,null,"O16",0,0,2090,0,0,0,0,0,0,4493,252,0,0,0,0,0,0,0,6835,6836,1,0.01]
[null,null,null,null,null,null,null,null,null,null,null,null,null,null,null,null,null,null,null,null,null,null,null,null,null,null,null,null,null,null,null,null,null,null,null,null,"O17",1831,243,0,0,0,0,0,0,0,0,0,0,0,0,6738,0,0,0,8812,8812,0,0]
[null,null,null,null,null,null,null,null,null,null,null,null,null,null,null,null,null,null,null,null,null,null,null,null,null,null,null,null,null,null,null,null,null,null,null,null,"O18",0,243,1168,1706,0,0,0,0,0,4493,0,0,0,0,0,0,0,0,7610,7610,0,0]
[null,null,null,null,null,null,null,null,null,null,null,null,null,null,null,null,null,null,null,null,null,null,null,null,null,null,null,null,null,null,null,null,null,null,null,null,"O19",0,243,0,0,0,0,0,0,0,0,252,0,0,0,7991,0,0,0,8486,8486,0,0]
[null,null,null,null,null,null,null,null,null,null,null,null,null,null,null,null,null,null,null,null,null,null,null,null,null,null,null,null,null,null,null,null,null,null,null,null,"O20",0,243,0,0,0,0,0,0,0,0,0,0,0,0,7991,1207,0,0,9441,9441,0,0]
[]
[null,null,null,null,null,null,null,null,null,null,null,null,null,null,null,null,null,null,null,null,null,null,null,null,null,null,null,null,null,null,null,null,null,null,null,null,"S1 �sszeg:",35876]
[null,null,null,null,null,null,null,null,null,null,null,null,null,null,null,null,null,null,null,null,null,null,null,null,null,null,null,null,null,null,null,null,null,null,null,null,"S20 �sszeg:",0]
[null,null,null,null,null,null,null,null,null,null,null,null,null,null,null,null,null,null,null,null,null,null,null,null,null,null,null,null,null,null,null,null,null,null,null,null,"Becsl�s �sszeg:",150464]
[null,null,null,null,null,null,null,null,null,null,null,null,null,null,null,null,null,null,null,null,null,null,null,null,null,null,null,null,null,null,null,null,null,null,null,null,"T�ny �sszeg:",150469]
[null,null,null,null,null,null,null,null,null,null,null,null,null,null,null,null,null,null,null,null,null,null,null,null,null,null,null,null,null,null,null,null,null,null,null,null,"T�ny-becsl�s elt�r�s:",-5]
[null,null,null,null,null,null,null,null,null,null,null,null,null,null,null,null,null,null,null,null,null,null,null,null,null,null,null,null,null,null,null,null,null,null,null,null,"T�ny n�gyzet�sszeg:"]
[null,null,null,null,null,null,null,null,null,null,null,null,null,null,null,null,null,null,null,null,null,null,null,null,null,null,null,null,null,null,null,null,null,null,null,null,"Becsl�s n�gyzet�sszeg:"]
[null,null,null,null,null,null,null,null,null,null,null,null,null,null,null,null,null,null,null,null,null,null,null,null,null,null,null,null,null,null,null,null,null,null,null,null,"N�gyzet�sszeg hiba:",0]
[]
[null,null,null,null,null,null,null,null,null,null,null,null,null,null,null,null,null,null,null,null,null,null,null,null,null,null,null,null,null,null,null,null,null,null,null,null,"Open url"]
[]
[null,null,null,null,null,null,null,null,null,null,null,null,null,null,null,null,null,null,null,null,null,null,null,null,null,null,null,null,null,null,null,null,null,null,null,null,"Maxim�lis mem�ria haszn�lat: 1.5 Mb"]
[null,null,null,null,null,null,null,null,null,null,null,null,null,null,null,null,null,null,null,null,null,null,null,null,null,null,null,null,null,null,null,null,null,null,null,null,"A futtat�s id�tartama: 0.09 mp (0 p)"]

{"sheet":"OAM1b (STD)","index":4,"n_rows":110,"n_cols":43,"rows_kept":110,"cut":false,"hidden":false,"merged":[]}
["jelleg","direkt","direkt","direkt","direkt","direkt","direkt","direkt","direkt","inverz","inverz","inverz","inverz","inverz","inverz","inverz","inverz","*10000&int",{"$f":"CORREL(R3:R22,S3:S22)","v":0.99999991091811213},"<--korrel"]
["OAM","egy életévre jutó meccsek száma","egy meccsre jutó gólok száma","egy meccsre jutó öngólok száma","egy meccsre jutó sárgalapok száma","egy meccsre jutó piroslapok száma","hány százalékban csere?","egy gólra jutó sárgalapok száma?","egy gólra jutó piroslapok száma?","egy életévre jutó meccsek száma","egy meccsre jutó gólok száma","egy meccsre jutó öngólok száma","egy meccsre jutó sárgalapok száma","egy meccsre jutó piroslapok száma","hány százalékban csere?","egy gólra jutó sárgalapok száma?","egy gólra jutó piroslapok száma?","hány százalékban kezdő?","becslés"]
["GM",11,18,5,15,6,12,7,6,10,3,16,6,15,9,14,15,7514,{"$f":"AN77","v":7514}]
["BE",11,14,5,6,6,6,4,6,10,7,16,15,15,15,17,15,6878,{"$f":"AN78","v":6878}]
["BT",18,2,5,16,6,1,16,6,3,19,16,5,15,20,5,15,6222,6222,null,null,null,"Azonos�t�:",6907017,"Objektumok:",20,"Attrib�tumok:",16,"Lepcs�k:",20,"Eltol�s:",0,"Le�r�s:","COCO STD: 6907017"]
["FK",15,6,5,5,6,3,10,6,6,15,16,16,15,18,11,15,5000,5000]
["FF",7,15,4,1,6,9,3,6,14,6,17,20,15,12,18,15,8069,8069,null,null,null,"Rangsor","X(A1)","X(A2)","X(A3)","X(A4)","X(A5)","X(A6)","X(A7)","X(A8)","X(A9)","X(A10)","X(A11)","X(A12)","X(A13)","X(A14)","X(A15)","X(A16)","Y(A17)"]
["FI",19,3,5,16,6,7,16,6,2,18,16,5,15,14,5,15,7864,7864,null,null,null,"O1",11,18,5,15,6,12,7,6,10,3,16,6,15,9,14,15,7514]
["HM",20,13,5,16,6,5,16,6,1,8,16,5,15,16,5,15,6666,6666,null,null,null,"O2",11,14,5,6,6,6,4,6,10,7,16,15,15,15,17,15,6878]
["JI",1,9,5,13,1,10,13,4,20,12,16,8,20,11,8,17,7730,7730,null,null,null,"O3",18,2,5,16,6,1,16,6,3,19,16,5,15,20,5,15,6222]
["KK",3,16,5,3,5,15,2,2,18,5,16,18,16,6,19,19,8510,8510,null,null,null,"O4",15,6,5,5,6,3,10,6,6,15,16,16,15,18,11,15,5000]
["KP",10,19,3,16,6,16,16,6,11,2,18,5,15,5,5,15,7040,7039,null,null,null,"O5",7,15,4,1,6,9,3,6,14,6,17,20,15,12,18,15,8069]
["NN",4,20,5,12,4,17,1,1,17,1,16,9,17,4,20,20,8047,8046,null,null,null,"O6",19,3,5,16,6,7,16,6,2,18,16,5,15,14,5,15,7864]
["PD",13,4,5,10,6,13,15,6,8,17,16,11,15,8,6,15,8226,8226,null,null,null,"O7",20,13,5,16,6,5,16,6,1,8,16,5,15,16,5,15,6666]
["RD",5,8,5,8,3,14,9,5,16,13,16,13,18,7,12,16,8181,8180,null,null,null,"O8",1,9,5,13,1,10,13,4,20,12,16,8,20,11,8,17,7730]
["RF",6,12,5,7,2,2,6,3,15,9,16,14,19,19,15,18,6153,6153,null,null,null,"O9",3,16,5,3,5,15,2,2,18,5,16,18,16,6,19,19,8510]
["RB",17,10,5,16,6,4,16,6,4,11,16,5,15,17,5,15,7184,7184,null,null,null,"O10",10,19,3,16,6,16,16,6,11,2,18,5,15,5,5,15,7040]
["RT",16,17,1,11,6,8,5,6,5,4,20,10,15,13,16,15,6836,6837,null,null,null,"O11",4,20,5,12,4,17,1,1,17,1,16,9,17,4,20,20,8047]
["SB",2,5,5,9,6,18,14,6,19,16,16,12,15,3,7,15,8812,8812,null,null,null,"O12",13,4,5,10,6,13,15,6,8,17,16,11,15,8,6,15,8226]
["SV",14,7,2,2,6,11,8,6,7,14,19,19,15,10,13,15,7610,7610,null,null,null,"O13",5,8,5,8,3,14,9,5,16,13,16,13,18,7,12,16,8181]
["SZ",9,11,5,14,6,19,12,6,12,10,16,7,15,2,9,15,8486,8486,null,null,null,"O14",6,12,5,7,2,2,6,3,15,9,16,14,19,19,15,18,6153]
["TK",8,1,5,4,6,20,11,6,13,20,16,17,15,1,10,15,9441,9441,null,null,null,"O15",17,10,5,16,6,4,16,6,4,11,16,5,15,17,5,15,7184]
[null,null,null,null,null,null,null,null,null,null,null,null,null,null,null,null,null,null,null,null,null,null,"O16",16,17,1,11,6,8,5,6,5,4,20,10,15,13,16,15,6836]
[null,null,null,null,null,null,null,null,null,null,null,null,null,null,null,null,null,null,null,null,null,null,"O17",2,5,5,9,6,18,14,6,19,16,16,12,15,3,7,15,8812]
[null,null,null,null,null,null,null,null,null,null,null,null,null,null,null,null,null,null,null,null,null,null,"O18",14,7,2,2,6,11,8,6,7,14,19,19,15,10,13,15,7610]
[null,null,null,null,null,null,null,null,null,null,null,null,null,null,null,null,null,null,null,null,null,null,"O19",9,11,5,14,6,19,12,6,12,10,16,7,15,2,9,15,8486]
[{"$f":"A2","v":"OAM"},{"$f":"B2","v":"egy életévre jutó meccsek száma"},"egy meccsre jutó gólok száma","egy meccsre jutó öngólok száma","egy meccsre jutó sárgalapok száma","egy meccsre jutó piroslapok száma","hány százalékban csere?","egy gólra jutó sárgalapok száma?","egy gólra jutó piroslapok száma?","egy életévre jutó meccsek száma","egy meccsre jutó gólok száma","egy meccsre jutó öngólok száma","egy meccsre jutó sárgalapok száma","egy meccsre jutó piroslapok száma","hány százalékban csere?","egy gólra jutó sárgalapok száma?","egy gólra jutó piroslapok száma?","hány százalékban kezdő?",null,null,null,null,"O20",8,1,5,4,6,20,11,6,13,20,16,17,15,1,10,15,9441]
[{"$f":"A3","v":"GM"},{"$f":"IF(INT(B3/5)+1=5,4,INT(B3/5)+1)","v":3},{"$f":"IF(INT(C3/5)+1=5,4,INT(C3/5)+1)","v":4},2,4,2,3,2,2,3,1,4,2,4,2,3,4,7514]
[{"$f":"A4","v":"BE"},{"$f":"IF(INT(B4/5)+1=5,4,INT(B4/5)+1)","v":3},3,2,2,2,2,1,2,3,2,4,4,4,4,4,4,6878,null,null,null,null,"L�pcs�k(1)","X(A1)","X(A2)","X(A3)","X(A4)","X(A5)","X(A6)","X(A7)","X(A8)","X(A9)","X(A10)","X(A11)","X(A12)","X(A13)","X(A14)","X(A15)","X(A16)"]
[{"$f":"A5","v":"BT"},{"$f":"IF(INT(B5/5)+1=5,4,INT(B5/5)+1)","v":4},1,2,4,2,1,4,2,1,4,4,2,4,4,2,4,6222,null,null,null,null,"S1","(0+2228)/(1)=2228","(0+2319)/(1)=2319","(0+1087)/(1)=1087","(0+4031)/(1)=4031","(0+3342)/(1)=3342","(0+0)/(1)=0","(0+1274)/(1)=1274","(0+820)/(1)=820","(0+5302)/(1)=5302","(0+2501)/(1)=2501","(0+0)/(1)=0","(0+0)/(1)=0","(0+0)/(1)=0","(0+6495)/(1)=6495","(0+0)/(1)=0","(0+0)/(1)=0"]
[{"$f":"A6","v":"FK"},{"$f":"IF(INT(B6/5)+1=5,4,INT(B6/5)+1)","v":4},2,2,2,2,1,3,2,2,4,4,4,4,4,3,4,5000,null,null,null,null,"S2","(0+2228)/(1)=2228","(0+1789)/(1)=1789","(0+1087)/(1)=1087","(0+750)/(1)=750","(0+3342)/(1)=3342","(0+0)/(1)=0","(0+1274)/(1)=1274","(0+820)/(1)=820","(0+5302)/(1)=5302","(0+2501)/(1)=2501","(0+0)/(1)=0","(0+0)/(1)=0","(0+0)/(1)=0","(0+6495)/(1)=6495","(0+0)/(1)=0","(0+0)/(1)=0"]
[{"$f":"A7","v":"FF"},{"$f":"IF(INT(B7/5)+1=5,4,INT(B7/5)+1)","v":2},4,1,1,2,2,1,2,3,2,4,4,4,3,4,4,8069,null,null,null,null,"S3","(0+2228)/(1)=2228","(0+1789)/(1)=1789","(0+1087)/(1)=1087","(0+0)/(1)=0","(0+3342)/(1)=3342","(0+0)/(1)=0","(0+1274)/(1)=1274","(0+820)/(1)=820","(0+4433)/(1)=4433","(0+2501)/(1)=2501","(0+0)/(1)=0","(0+0)/(1)=0","(0+0)/(1)=0","(0+5197)/(1)=5197","(0+0)/(1)=0","(0+0)/(1)=0"]
[{"$f":"A8","v":"FI"},{"$f":"IF(INT(B8/5)+1=5,4,INT(B8/5)+1)","v":4},1,2,4,2,2,4,2,1,4,4,2,4,3,2,4,7864,null,null,null,null,"S4","(0+627)/(1)=627","(0+1789)/(1)=1789","(0+0)/(1)=0","(0+0)/(1)=0","(0+0)/(1)=0","(0+0)/(1)=0","(0+1274)/(1)=1274","(0+0)/(1)=0","(0+4433)/(1)=4433","(0+1364)/(1)=1364","(0+0)/(1)=0","(0+0)/(1)=0","(0+0)/(1)=0","(0+2824)/(1)=2824","(0+0)/(1)=0","(0+0)/(1)=0"]
[{"$f":"A9","v":"HM"},{"$f":"IF(INT(B9/5)+1=5,4,INT(B9/5)+1)","v":4},3,2,4,2,2,4,2,1,2,4,2,4,4,2,4,6666,null,null,null,null,"S5","(0+627)/(1)=627","(0+1387)/(1)=1387","(0+0)/(1)=0","(0+0)/(1)=0","(0+0)/(1)=0","(0+0)/(1)=0","(0+0)/(1)=0","(0+0)/(1)=0","(0+3613)/(1)=3613","(0+1364)/(1)=1364","(0+0)/(1)=0","(0+0)/(1)=0","(0+0)/(1)=0","(0+2824)/(1)=2824","(0+0)/(1)=0","(0+0)/(1)=0"]
[{"$f":"A10","v":"JI"},{"$f":"IF(INT(B10/5)+1=5,4,INT(B10/5)+1)","v":1},2,2,3,1,3,3,1,4,3,4,2,4,3,2,4,7730,null,null,null,null,"S6","(0+627)/(1)=627","(0+1387)/(1)=1387","(0+0)/(1)=0","(0+0)/(1)=0","(0+0)/(1)=0","(0+0)/(1)=0","(0+0)/(1)=0","(0+0)/(1)=0","(0+3613)/(1)=3613","(0+1364)/(1)=1364","(0+0)/(1)=0","(0+0)/(1)=0","(0+0)/(1)=0","(0+2824)/(1)=2824","(0+0)/(1)=0","(0+0)/(1)=0"]
[{"$f":"A11","v":"KK"},{"$f":"IF(INT(B11/5)+1=5,4,INT(B11/5)+1)","v":1},4,2,1,2,4,1,1,4,2,4,4,4,2,4,4,8510,null,null,null,null,"S7","(0+627)/(1)=627","(0+1387)/(1)=1387","(0+0)/(1)=0","(0+0)/(1)=0","(0+0)/(1)=0","(0+0)/(1)=0","(0+0)/(1)=0","(0+0)/(1)=0","(0+3613)/(1)=3613","(0+1364)/(1)=1364","(0+0)/(1)=0","(0+0)/(1)=0","(0+0)/(1)=0","(0+2824)/(1)=2824","(0+0)/(1)=0","(0+0)/(1)=0"]
[{"$f":"A12","v":"KP"},{"$f":"IF(INT(B12/5)+1=5,4,INT(B12/5)+1)","v":3},4,1,4,2,4,4,2,3,1,4,2,4,2,2,4,7040,null,null,null,null,"S8","(0+627)/(1)=627","(0+1387)/(1)=1387","(0+0)/(1)=0","(0+0)/(1)=0","(0+0)/(1)=0","(0+0)/(1)=0","(0+0)/(1)=0","(0+0)/(1)=0","(0+3613)/(1)=3613","(0+1364)/(1)=1364","(0+0)/(1)=0","(0+0)/(1)=0","(0+0)/(1)=0","(0+2824)/(1)=2824","(0+0)/(1)=0","(0+0)/(1)=0"]
[{"$f":"A13","v":"NN"},{"$f":"IF(INT(B13/5)+1=5,4,INT(B13/5)+1)","v":1},4,2,3,1,4,1,1,4,1,4,2,4,1,4,4,8047,null,null,null,null,"S9","(0+627)/(1)=627","(0+1387)/(1)=1387","(0+0)/(1)=0","(0+0)/(1)=0","(0+0)/(1)=0","(0+0)/(1)=0","(0+0)/(1)=0","(0+0)/(1)=0","(0+3613)/(1)=3613","(0+1364)/(1)=1364","(0+0)/(1)=0","(0+0)/(1)=0","(0+0)/(1)=0","(0+773)/(1)=773","(0+0)/(1)=0","(0+0)/(1)=0"]
[{"$f":"A14","v":"PD"},{"$f":"IF(INT(B14/5)+1=5,4,INT(B14/5)+1)","v":3},1,2,3,2,3,4,2,2,4,4,3,4,2,2,4,8226,null,null,null,null,"S10","(0+627)/(1)=627","(0+1387)/(1)=1387","(0+0)/(1)=0","(0+0)/(1)=0","(0+0)/(1)=0","(0+0)/(1)=0","(0+0)/(1)=0","(0+0)/(1)=0","(0+3613)/(1)=3613","(0+1364)/(1)=1364","(0+0)/(1)=0","(0+0)/(1)=0","(0+0)/(1)=0","(0+773)/(1)=773","(0+0)/(1)=0","(0+0)/(1)=0"]
[{"$f":"A15","v":"RD"},{"$f":"IF(INT(B15/5)+1=5,4,INT(B15/5)+1)","v":2},2,2,2,1,3,2,2,4,3,4,3,4,2,3,4,8181,null,null,null,null,"S11","(0+627)/(1)=627","(0+0)/(1)=0","(0+0)/(1)=0","(0+0)/(1)=0","(0+0)/(1)=0","(0+0)/(1)=0","(0+0)/(1)=0","(0+0)/(1)=0","(0+0)/(1)=0","(0+1364)/(1)=1364","(0+0)/(1)=0","(0+0)/(1)=0","(0+0)/(1)=0","(0+773)/(1)=773","(0+0)/(1)=0","(0+0)/(1)=0"]
[{"$f":"A16","v":"RF"},{"$f":"IF(INT(B16/5)+1=5,4,INT(B16/5)+1)","v":2},3,2,2,1,1,2,1,4,2,4,3,4,4,4,4,6153,null,null,null,null,"S12","(0+0)/(1)=0","(0+0)/(1)=0","(0+0)/(1)=0","(0+0)/(1)=0","(0+0)/(1)=0","(0+0)/(1)=0","(0+0)/(1)=0","(0+0)/(1)=0","(0+0)/(1)=0","(0+0)/(1)=0","(0+0)/(1)=0","(0+0)/(1)=0","(0+0)/(1)=0","(0+773)/(1)=773","(0+0)/(1)=0","(0+0)/(1)=0"]
[{"$f":"A17","v":"RB"},{"$f":"IF(INT(B17/5)+1=5,4,INT(B17/5)+1)","v":4},3,2,4,2,1,4,2,1,3,4,2,4,4,2,4,7184,null,null,null,null,"S13","(0+0)/(1)=0","(0+0)/(1)=0","(0+0)/(1)=0","(0+0)/(1)=0","(0+0)/(1)=0","(0+0)/(1)=0","(0+0)/(1)=0","(0+0)/(1)=0","(0+0)/(1)=0","(0+0)/(1)=0","(0+0)/(1)=0","(0+0)/(1)=0","(0+0)/(1)=0","(0+773)/(1)=773","(0+0)/(1)=0","(0+0)/(1)=0"]
[{"$f":"A18","v":"RT"},{"$f":"IF(INT(B18/5)+1=5,4,INT(B18/5)+1)","v":4},4,1,3,2,2,2,2,2,1,4,3,4,3,4,4,6836,null,null,null,null,"S14","(0+0)/(1)=0","(0+0)/(1)=0","(0+0)/(1)=0","(0+0)/(1)=0","(0+0)/(1)=0","(0+0)/(1)=0","(0+0)/(1)=0","(0+0)/(1)=0","(0+0)/(1)=0","(0+0)/(1)=0","(0+0)/(1)=0","(0+0)/(1)=0","(0+0)/(1)=0","(0+773)/(1)=773","(0+0)/(1)=0","(0+0)/(1)=0"]
[{"$f":"A19","v":"SB"},{"$f":"IF(INT(B19/5)+1=5,4,INT(B19/5)+1)","v":1},2,2,2,2,4,3,2,4,4,4,3,4,1,2,4,8812,null,null,null,null,"S15","(0+0)/(1)=0","(0+0)/(1)=0","(0+0)/(1)=0","(0+0)/(1)=0","(0+0)/(1)=0","(0+0)/(1)=0","(0+0)/(1)=0","(0+0)/(1)=0","(0+0)/(1)=0","(0+0)/(1)=0","(0+0)/(1)=0","(0+0)/(1)=0","(0+0)/(1)=0","(0+0)/(1)=0","(0+0)/(1)=0","(0+0)/(1)=0"]
[{"$f":"A20","v":"SV"},{"$f":"IF(INT(B20/5)+1=5,4,INT(B20/5)+1)","v":3},2,1,1,2,3,2,2,2,3,4,4,4,3,3,4,7610,null,null,null,null,"S16","(0+0)/(1)=0","(0+0)/(1)=0","(0+0)/(1)=0","(0+0)/(1)=0","(0+0)/(1)=0","(0+0)/(1)=0","(0+0)/(1)=0","(0+0)/(1)=0","(0+0)/(1)=0","(0+0)/(1)=0","(0+0)/(1)=0","(0+0)/(1)=0","(0+0)/(1)=0","(0+0)/(1)=0","(0+0)/(1)=0","(0+0)/(1)=0"]
[{"$f":"A21","v":"SZ"},{"$f":"IF(INT(B21/5)+1=5,4,INT(B21/5)+1)","v":2},3,2,3,2,4,3,2,3,3,4,2,4,1,2,4,8486,null,null,null,null,"S17","(0+0)/(1)=0","(0+0)/(1)=0","(0+0)/(1)=0","(0+0)/(1)=0","(0+0)/(1)=0","(0+0)/(1)=0","(0+0)/(1)=0","(0+0)/(1)=0","(0+0)/(1)=0","(0+0)/(1)=0","(0+0)/(1)=0","(0+0)/(1)=0","(0+0)/(1)=0","(0+0)/(1)=0","(0+0)/(1)=0","(0+0)/(1)=0"]
[{"$f":"A22","v":"TK"},{"$f":"IF(INT(B22/5)+1=5,4,INT(B22/5)+1)","v":2},1,2,1,2,4,3,2,3,4,4,4,4,1,3,4,9441,null,null,null,null,"S18","(0+0)/(1)=0","(0+0)/(1)=0","(0+0)/(1)=0","(0+0)/(1)=0","(0+0)/(1)=0","(0+0)/(1)=0","(0+0)/(1)=0","(0+0)/(1)=0","(0+0)/(1)=0","(0+0)/(1)=0","(0+0)/(1)=0","(0+0)/(1)=0","(0+0)/(1)=0","(0+0)/(1)=0","(0+0)/(1)=0","(0+0)/(1)=0"]
[null,null,null,null,null,null,null,null,null,null,null,null,null,null,null,null,null,null,null,null,null,null,"S19","(0+0)/(1)=0","(0+0)/(1)=0","(0+0)/(1)=0","(0+0)/(1)=0","(0+0)/(1)=0","(0+0)/(1)=0","(0+0)/(1)=0","(0+0)/(1)=0","(0+0)/(1)=0","(0+0)/(1)=0","(0+0)/(1)=0","(0+0)/(1)=0","(0+0)/(1)=0","(0+0)/(1)=0","(0+0)/(1)=0","(0+0)/(1)=0"]
[null,null,null,null,null,null,null,null,null,null,null,null,null,null,null,null,null,null,null,null,null,null,"S20","(0+0)/(1)=0","(0+0)/(1)=0","(0+0)/(1)=0","(0+0)/(1)=0","(0+0)/(1)=0","(0+0)/(1)=0","(0+0)/(1)=0","(0+0)/(1)=0","(0+0)/(1)=0","(0+0)/(1)=0","(0+0)/(1)=0","(0+0)/(1)=0","(0+0)/(1)=0","(0+0)/(1)=0","(0+0)/(1)=0","(0+0)/(1)=0"]
[null,null,null,null,null,null,null,null,null,null,null,null,null,null,null,null,null,null,null,null,null,null,null,null,null,null,null,null,null,null,null,"inverz","inverz","inverz","inverz","inverz","inverz","inverz","inverz"]
[{"$f":"A27","v":"OAM"},{"$f":"B27","v":"egy életévre jutó meccsek száma"},"egy meccsre jutó gólok száma","egy meccsre jutó öngólok száma","egy meccsre jutó sárgalapok száma","egy meccsre jutó piroslapok száma","hány százalékban csere?","egy gólra jutó sárgalapok száma?","egy gólra jutó piroslapok száma?",{"$f":"R27","v":"hány százalékban kezdő?"},null,null,null,null,null,null,null,null,null,null,null,null,"L�pcs�k(2)",{"$f":"B2","v":"egy életévre jutó meccsek száma"},{"$f":"C2","v":"egy meccsre jutó gólok száma"},"egy meccsre jutó öngólok száma","egy meccsre jutó sárgalapok száma","egy meccsre jutó piroslapok száma","hány százalékban csere?","egy gólra jutó sárgalapok száma?","egy gólra jutó piroslapok száma?","egy életévre jutó meccsek száma","egy meccsre jutó gólok száma","egy meccsre jutó öngólok száma","egy meccsre jutó sárgalapok száma","egy meccsre jutó piroslapok száma","hány százalékban csere?","egy gólra jutó sárgalapok száma?","egy gólra jutó piroslapok száma?"]
[{"$f":"A28","v":"GM"},3,4,2,4,2,3,2,2,{"$f":"R28","v":7514},null,null,null,null,null,null,null,null,null,null,null,null,"S1",2228,2319,1087,4031,3342,0,1274,820,5302,2501,0,0,0,6495,0,0]
[{"$f":"A29","v":"BE"},3,3,2,2,2,2,1,2,{"$f":"R29","v":6878},null,null,null,null,null,null,null,null,null,null,null,null,"S2",2228,1789,1087,750,3342,0,1274,820,5302,2501,0,0,0,6495,0,0]
[{"$f":"A30","v":"BT"},4,1,2,4,2,1,4,2,{"$f":"R30","v":6222},null,null,null,null,null,null,null,null,null,null,null,null,"S3",2228,1789,1087,0,3342,0,1274,820,4433,2501,0,0,0,5197,0,0]
[{"$f":"A31","v":"FK"},4,2,2,2,2,1,3,2,{"$f":"R31","v":5000},null,null,null,null,null,null,null,null,null,null,null,null,"S4",627,1789,0,0,0,0,1274,0,4433,1364,0,0,0,2824,0,0]
[{"$f":"A32","v":"FF"},2,4,1,1,2,2,1,2,{"$f":"R32","v":8069},null,null,null,null,null,null,null,null,null,null,null,null,"S5",627,1387,0,0,0,0,0,0,3613,1364,0,0,0,2824,0,0]
[{"$f":"A33","v":"FI"},4,1,2,4,2,2,4,2,{"$f":"R33","v":7864},null,null,null,null,null,null,null,null,null,null,null,null,"S6",627,1387,0,0,0,0,0,0,3613,1364,0,0,0,2824,0,0]
[{"$f":"A34","v":"HM"},4,3,2,4,2,2,4,2,{"$f":"R34","v":6666},null,null,null,null,null,null,null,null,null,null,null,null,"S7",627,1387,0,0,0,0,0,0,3613,1364,0,0,0,2824,0,0]
[{"$f":"A35","v":"JI"},1,2,2,3,1,3,3,1,{"$f":"R35","v":7730},null,null,null,null,null,null,null,null,null,null,null,null,"S8",627,1387,0,0,0,0,0,0,3613,1364,0,0,0,2824,0,0]
[{"$f":"A36","v":"KK"},1,4,2,1,2,4,1,1,{"$f":"R36","v":8510},null,null,null,null,null,null,null,null,null,null,null,null,"S9",627,1387,0,0,0,0,0,0,3613,1364,0,0,0,773,0,0]
[{"$f":"A37","v":"KP"},3,4,1,4,2,4,4,2,{"$f":"R37","v":7040},null,null,null,null,null,null,null,null,null,null,null,null,"S10",627,1387,0,0,0,0,0,0,3613,1364,0,0,0,773,0,0]
[{"$f":"A38","v":"NN"},1,4,2,3,1,4,1,1,{"$f":"R38","v":8047},null,null,null,null,null,null,null,null,null,null,null,null,"S11",627,0,0,0,0,0,0,0,0,1364,0,0,0,773,0,0]
[{"$f":"A39","v":"PD"},3,1,2,3,2,3,4,2,{"$f":"R39","v":8226},null,null,null,null,null,null,null,null,null,null,null,null,"S12",0,0,0,0,0,0,0,0,0,0,0,0,0,773,0,0]
[{"$f":"A40","v":"RD"},2,2,2,2,1,3,2,2,{"$f":"R40","v":8181},null,null,null,null,null,null,null,null,null,null,null,null,"S13",0,0,0,0,0,0,0,0,0,0,0,0,0,773,0,0]
[{"$f":"A41","v":"RF"},2,3,2,2,1,1,2,1,{"$f":"R41","v":6153},null,null,null,null,null,null,null,null,null,null,null,null,"S14",0,0,0,0,0,0,0,0,0,0,0,0,0,773,0,0]
[{"$f":"A42","v":"RB"},4,3,2,4,2,1,4,2,{"$f":"R42","v":7184},null,null,null,null,null,null,null,null,null,null,null,null,"S15",0,0,0,0,0,0,0,0,0,0,0,0,0,0,0,0]
[{"$f":"A43","v":"RT"},4,4,1,3,2,2,2,2,{"$f":"R43","v":6836},null,null,null,null,null,null,null,null,null,null,null,null,"S16",0,0,0,0,0,0,0,0,0,0,0,0,0,0,0,0]
[{"$f":"A44","v":"SB"},1,2,2,2,2,4,3,2,{"$f":"R44","v":8812},null,null,null,null,null,null,null,null,null,null,null,null,"S17",0,0,0,0,0,0,0,0,0,0,0,0,0,0,0,0]
[{"$f":"A45","v":"SV"},3,2,1,1,2,3,2,2,{"$f":"R45","v":7610},null,null,null,null,null,null,null,null,null,null,null,null,"S18",0,0,0,0,0,0,0,0,0,0,0,0,0,0,0,0]
[{"$f":"A46","v":"SZ"},2,3,2,3,2,4,3,2,{"$f":"R46","v":8486},null,null,null,null,null,null,null,null,null,null,null,null,"S19",0,0,0,0,0,0,0,0,0,0,0,0,0,0,0,0]
[{"$f":"A47","v":"TK"},2,1,2,1,2,4,3,2,{"$f":"R47","v":9441},null,null,null,null,null,null,null,null,null,null,null,null,"S20",0,0,0,0,0,0,0,0,0,0,0,0,0,0,0,0]
[null,null,null,null,null,null,null,null,null,null,null,null,null,null,null,null,null,null,null,null,null,null,"arány",{"$f":"SUM(X77:X96)/SUM($X$77:$AM$96)","v":8.1924940352369621E-2},{"$f":"SUM(Y77:Y96)/SUM($X$77:$AM$96)","v":0.10638877627652575},2.1672526201758524E-2,3.1774409006626037E-2,6.6632550658948478E-2,0,3.3867891298424241E-2,1.6349099802614526E-2,0.27346860108861082,0.12238563937607581,0,0,0,0.24553556593804621,0,0]
[null,null,null,null,null,null,null,null,null,null,null,null,null,null,null,null,null,null,null,null,null,null,"ellenhatás",null,null,null,null,null,null,null,null,{"$f":"X72","v":8.1924940352369621E-2},{"$f":"Y72","v":0.10638877627652575},2.1672526201758524E-2,3.1774409006626037E-2,6.6632550658948478E-2,0,3.3867891298424241E-2,1.6349099802614526E-2]
[null,null,null,null,null,null,null,null,null,null,null,null,null,null,null,null,null,null,null,null,null,null,"irány",null,null,null,null,null,null,null,null,0,0,0.01,0.01,0.01,0,0.01,0.01]
[null,null,null,null,null,null,null,null,null,null,null,null,null,null,null,null,null,null,null,null,null,null,"megfelelés",null,null,null,null,null,null,null,null,"zömmel nem","inkább nem","OK","OK","OK","OK","OK","OK"]
[null,null,null,null,null,null,null,null,null,null,null,null,null,null,null,null,null,null,null,null,null,null,"COCO:STD","X(A1)","X(A2)","X(A3)","X(A4)","X(A5)","X(A6)","X(A7)","X(A8)","X(A9)","X(A10)","X(A11)","X(A12)","X(A13)","X(A14)","X(A15)","X(A16)","Becsl�s","T�ny+0","Delta","Delta/T�ny"]
[null,null,null,null,null,null,null,null,null,null,null,null,null,null,null,null,null,null,null,null,null,null,"O1",627,0,0,0,0,0,0,0,3613,2501,0,0,0,773,0,0,7514,7514,0,0]
[null,null,null,null,null,null,null,null,null,null,null,null,null,null,null,null,null,null,null,null,null,null,"O2",627,0,0,0,0,0,1274,0,3613,1364,0,0,0,0,0,0,6878,6878,0,0]
[null,null,null,null,null,null,null,null,null,null,null,null,null,null,null,null,null,null,null,null,null,null,"O3",0,1789,0,0,0,0,0,0,4433,0,0,0,0,0,0,0,6222,6222,0,0]
[null,null,null,null,null,null,null,null,null,null,null,null,null,null,null,null,null,null,null,null,null,null,"O4",0,1387,0,0,0,0,0,0,3613,0,0,0,0,0,0,0,5000,5000,0,0]
[null,null,null,null,null,null,null,null,null,null,null,null,null,null,null,null,null,null,null,null,null,null,"O5",627,0,0,4031,0,0,1274,0,0,1364,0,0,0,773,0,0,8069,8069,0,0]
[null,null,null,null,null,null,null,null,null,null,null,null,null,null,null,null,null,null,null,null,null,null,"O6",0,1789,0,0,0,0,0,0,5302,0,0,0,0,773,0,0,7864,7864,0,0]
[null,null,null,null,null,null,null,null,null,null,null,null,null,null,null,null,null,null,null,null,null,null,"O7",0,0,0,0,0,0,0,0,5302,1364,0,0,0,0,0,0,6666,6666,0,0]
[null,null,null,null,null,null,null,null,null,null,null,null,null,null,null,null,null,null,null,null,null,null,"O8",2228,1387,0,0,3342,0,0,0,0,0,0,0,0,773,0,0,7730,7730,0,0]
[null,null,null,null,null,null,null,null,null,null,null,null,null,null,null,null,null,null,null,null,null,null,"O9",2228,0,0,0,0,0,1274,820,0,1364,0,0,0,2824,0,0,8510,8510,0,0]
[null,null,null,null,null,null,null,null,null,null,null,null,null,null,null,null,null,null,null,null,null,null,"O10",627,0,1087,0,0,0,0,0,0,2501,0,0,0,2824,0,0,7039,7040,1,0.01]
[null,null,null,null,null,null,null,null,null,null,null,null,null,null,null,null,null,null,null,null,null,null,"O11",627,0,0,0,0,0,1274,820,0,2501,0,0,0,2824,0,0,8046,8047,1,0.01]
[null,null,null,null,null,null,null,null,null,null,null,null,null,null,null,null,null,null,null,null,null,null,"O12",0,1789,0,0,0,0,0,0,3613,0,0,0,0,2824,0,0,8226,8226,0,0]
[null,null,null,null,null,null,null,null,null,null,null,null,null,null,null,null,null,null,null,null,null,null,"O13",627,1387,0,0,3342,0,0,0,0,0,0,0,0,2824,0,0,8180,8181,1,0.01]
[null,null,null,null,null,null,null,null,null,null,null,null,null,null,null,null,null,null,null,null,null,null,"O14",627,0,0,0,3342,0,0,820,0,1364,0,0,0,0,0,0,6153,6153,0,0]
[null,null,null,null,null,null,null,null,null,null,null,null,null,null,null,null,null,null,null,null,null,null,"O15",0,1387,0,0,0,0,0,0,4433,1364,0,0,0,0,0,0,7184,7184,0,0]
[null,null,null,null,null,null,null,null,null,null,null,null,null,null,null,null,null,null,null,null,null,null,"O16",0,0,1087,0,0,0,0,0,3613,1364,0,0,0,773,0,0,6837,6836,-1,-0.01]
[null,null,null,null,null,null,null,null,null,null,null,null,null,null,null,null,null,null,null,null,null,null,"O17",2228,1387,0,0,0,0,0,0,0,0,0,0,0,5197,0,0,8812,8812,0,0]
[null,null,null,null,null,null,null,null,null,null,null,null,null,null,null,null,null,null,null,null,null,null,"O18",0,1387,1087,750,0,0,0,0,3613,0,0,0,0,773,0,0,7610,7610,0,0]
[null,null,null,null,null,null,null,null,null,null,null,null,null,null,null,null,null,null,null,null,null,null,"O19",627,0,0,0,0,0,0,0,0,1364,0,0,0,6495,0,0,8486,8486,0,0]
[null,null,null,null,null,null,null,null,null,null,null,null,null,null,null,null,null,null,null,null,null,null,"O20",627,2319,0,0,0,0,0,0,0,0,0,0,0,6495,0,0,9441,9441,0,0]
[]
[null,null,null,null,null,null,null,null,null,null,null,null,null,null,null,null,null,null,null,null,null,null,"S1 �sszeg:",29399]
[null,null,null,null,null,null,null,null,null,null,null,null,null,null,null,null,null,null,null,null,null,null,"S20 �sszeg:",0]
[null,null,null,null,null,null,null,null,null,null,null,null,null,null,null,null,null,null,null,null,null,null,"Becsl�s �sszeg:",150467]
[null,null,null,null,null,null,null,null,null,null,null,null,null,null,null,null,null,null,null,null,null,null,"T�ny �sszeg:",150469]
[null,null,null,null,null,null,null,null,null,null,null,null,null,null,null,null,null,null,null,null,null,null,"T�ny-becsl�s elt�r�s:",-2]
[null,null,null,null,null,null,null,null,null,null,null,null,null,null,null,null,null,null,null,null,null,null,"T�ny n�gyzet�sszeg:"]
[null,null,null,null,null,null,null,null,null,null,null,null,null,null,null,null,null,null,null,null,null,null,"Becsl�s n�gyzet�sszeg:"]
[null,null,null,null,null,null,null,null,null,null,null,null,null,null,null,null,null,null,null,null,null,null,"N�gyzet�sszeg hiba:",0]
[]
[null,null,null,null,null,null,null,null,null,null,null,null,null,null,null,null,null,null,null,null,null,null,"Open url"]
[]
[null,null,null,null,null,null,null,null,null,null,null,null,null,null,null,null,null,null,null,null,null,null,"Maxim�lis mem�ria haszn�lat: 1.5 Mb"]
[null,null,null,null,null,null,null,null,null,null,null,null,null,null,null,null,null,null,null,null,null,null,"A futtat�s id�tartama: 0.13 mp (0 p)"]

{"sheet":"OAM1 MCM","index":5,"n_rows":74,"n_cols":39,"rows_kept":74,"cut":false,"hidden":false,"merged":[]}
[]
[]
[]
[]
["Azonos�t�:","Teszt","Objektumok:",20,"Attrib�tumok:",16,"Lepcs�k:",4,"Eltol�s:",0,"Le�r�s:","COCO MCM: Teszt",null,null,null,null,null,null,null,null,null,null,null,null,null,"Azonos�t�:","Teszt","Objektumok:",20,"Attrib�tumok:",8,"Lepcs�k:",4,"Eltol�s:",0,"Le�r�s:","COCO MCM: Teszt"]
[]
["Rangsor","X(A1)","X(A2)","X(A3)","X(A4)","X(A5)","X(A6)","X(A7)","X(A8)","X(A9)","X(A10)","X(A11)","X(A12)","X(A13)","X(A14)","X(A15)","X(A16)","Y(A17)",null,null,null,null,null,null,null,"Rangsor","X(A1)","X(A2)","X(A3)","X(A4)","X(A5)","X(A6)","X(A7)","X(A8)","Y(A9)"]
["O1",3,4,2,4,2,3,2,2,3,1,4,2,4,2,3,4,7514,null,null,null,null,null,null,null,"O1",3,4,2,4,2,3,2,2,7514]
["O2",3,3,2,2,2,2,1,2,3,2,4,4,4,4,4,4,6878,null,null,null,null,null,null,null,"O2",3,3,2,2,2,2,1,2,6878]
["O3",4,1,2,4,2,1,4,2,1,4,4,2,4,4,2,4,6222,null,null,null,null,null,null,null,"O3",4,1,2,4,2,1,4,2,6222]
["O4",4,2,2,2,2,1,3,2,2,4,4,4,4,4,3,4,5000,null,null,null,null,null,null,null,"O4",4,2,2,2,2,1,3,2,5000]
["O5",2,4,1,1,2,2,1,2,3,2,4,4,4,3,4,4,8069,null,null,null,null,null,null,null,"O5",2,4,1,1,2,2,1,2,8069]
["O6",4,1,2,4,2,2,4,2,1,4,4,2,4,3,2,4,7864,null,null,null,null,null,null,null,"O6",4,1,2,4,2,2,4,2,7864]
["O7",4,3,2,4,2,2,4,2,1,2,4,2,4,4,2,4,6666,null,null,null,null,null,null,null,"O7",4,3,2,4,2,2,4,2,6666]
["O8",1,2,2,3,1,3,3,1,4,3,4,2,4,3,2,4,7730,null,null,null,null,null,null,null,"O8",1,2,2,3,1,3,3,1,7730]
["O9",1,4,2,1,2,4,1,1,4,2,4,4,4,2,4,4,8510,null,null,null,null,null,null,null,"O9",1,4,2,1,2,4,1,1,8510]
["O10",3,4,1,4,2,4,4,2,3,1,4,2,4,2,2,4,7040,null,null,null,null,null,null,null,"O10",3,4,1,4,2,4,4,2,7040]
["O11",1,4,2,3,1,4,1,1,4,1,4,2,4,1,4,4,8047,null,null,null,null,null,null,null,"O11",1,4,2,3,1,4,1,1,8047]
["O12",3,1,2,3,2,3,4,2,2,4,4,3,4,2,2,4,8226,null,null,null,null,null,null,null,"O12",3,1,2,3,2,3,4,2,8226]
["O13",2,2,2,2,1,3,2,2,4,3,4,3,4,2,3,4,8181,null,null,null,null,null,null,null,"O13",2,2,2,2,1,3,2,2,8181]
["O14",2,3,2,2,1,1,2,1,4,2,4,3,4,4,4,4,6153,null,null,null,null,null,null,null,"O14",2,3,2,2,1,1,2,1,6153]
["O15",4,3,2,4,2,1,4,2,1,3,4,2,4,4,2,4,7184,null,null,null,null,null,null,null,"O15",4,3,2,4,2,1,4,2,7184]
["O16",4,4,1,3,2,2,2,2,2,1,4,3,4,3,4,4,6836,null,null,null,null,null,null,null,"O16",4,4,1,3,2,2,2,2,6836]
["O17",1,2,2,2,2,4,3,2,4,4,4,3,4,1,2,4,8812,null,null,null,null,null,null,null,"O17",1,2,2,2,2,4,3,2,8812]
["O18",3,2,1,1,2,3,2,2,2,3,4,4,4,3,3,4,7610,null,null,null,null,null,null,null,"O18",3,2,1,1,2,3,2,2,7610]
["O19",2,3,2,3,2,4,3,2,3,3,4,2,4,1,2,4,8486,null,null,null,null,null,null,null,"O19",2,3,2,3,2,4,3,2,8486]
["O20",2,1,2,1,2,4,3,2,3,4,4,4,4,1,3,4,9441,null,null,null,null,null,null,null,"O20",2,1,2,1,2,4,3,2,9441]
[]
["L�pcs�k(1)","X(A1)","X(A2)","X(A3)","X(A4)","X(A5)","X(A6)","X(A7)","X(A8)","X(A9)","X(A10)","X(A11)","X(A12)","X(A13)","X(A14)","X(A15)","X(A16)",null,null,null,null,null,null,null,null,"L�pcs�k(1)","X(A1)","X(A2)","X(A3)","X(A4)","X(A5)","X(A6)","X(A7)","X(A8)"]
["S1","(0+804)/(1)=804","(0+652)/(1)=652","(0+1860)/(1)=1860","(0+486)/(1)=486","(0+23)/(1)=23","(0+0)/(1)=0","(0+1883)/(1)=1883","(0+0)/(1)=0","(0+1993)/(1)=1993","(0+0)/(1)=0","(0+0)/(1)=0","(0+0)/(1)=0","(0+0)/(1)=0","(0+0)/(1)=0","(0+0)/(1)=0","(0+0)/(1)=0",null,null,null,null,null,null,null,null,"S1","(2404.8+3057.8)/(2)=2731.3","(985.9+1598.9)/(2)=1292.4","(3502.7+0)/(2)=1751.35","(573+989.9)/(2)=781.45","(0+462)/(2)=231","(0+0)/(2)=0","(0+62)/(2)=31","(0+2572.8)/(2)=1286.4"]
["S2","(0+0)/(1)=0","(0+0)/(1)=0","(0+2212)/(1)=2212","(0+0)/(1)=0","(0+0)/(1)=0","(0+0)/(1)=0","(0+0)/(1)=0","(0+0)/(1)=0","(0+0)/(1)=0","(0+0)/(1)=0","(0+0)/(1)=0","(0+0)/(1)=0","(0+0)/(1)=0","(0+0)/(1)=0","(0+0)/(1)=0","(0+0)/(1)=0",null,null,null,null,null,null,null,null,"S2","(1475.9+1098.9)/(2)=1287.4","(0+0)/(2)=0","(3769.7+0)/(2)=1884.85","(0+0)/(2)=0","(146+0)/(2)=73","(1081.9+650)/(2)=865.95","(560+451)/(2)=505.45","(1079.9+4597.6)/(2)=2838.8"]
["S3","(0+0)/(1)=0","(0+1594)/(1)=1594","(0+0)/(1)=0","(0+0)/(1)=0","(0+0)/(1)=0","(0+1673)/(1)=1673","(0+858)/(1)=858","(0+0)/(1)=0","(0+1188)/(1)=1188","(0+518)/(1)=518","(0+0)/(1)=0","(0+2324)/(1)=2324","(0+0)/(1)=0","(0+1642)/(1)=1642","(0+1432)/(1)=1432","(0+0)/(1)=0",null,null,null,null,null,null,null,null,"S3","(453+0)/(2)=226.5","(348+1567.9)/(2)=957.95","(0+0)/(2)=0","(255+65)/(2)=160","(0+0)/(2)=0","(1295.9+1571.9)/(2)=1433.9","(4+0)/(2)=2","(0+0)/(2)=0"]
["S4","(0+0)/(1)=0","(0+1009)/(1)=1009","(0+0)/(1)=0","(0+0)/(1)=0","(0+0)/(1)=0","(0+2115)/(1)=2115","(0+867)/(1)=867","(0+0)/(1)=0","(0+0)/(1)=0","(0+498)/(1)=498","(0+0)/(1)=0","(0+0)/(1)=0","(0+0)/(1)=0","(0+0)/(1)=0","(0+0)/(1)=0","(0+0)/(1)=0",null,null,null,null,null,null,null,null,"S4","(0+402)/(2)=201","(210+670.9)/(2)=440.45","(0+0)/(2)=0","(0+223)/(2)=111.5","(0+0)/(2)=0","(1406.9+1155.9)/(2)=1281.4","(241+393)/(2)=317","(0+0)/(2)=0"]
[null,null,null,null,null,null,null,null,null,null,null,null,null,null,null,null,null,null,null,null,null,null,null,null,null,"elvárás",0,0,1,1,1,0,1,1,"<--a csere kapcsán: óvatos fordított arányosság-gyanú"]
["L�pcs�k(2)",{"$f":"'OAM1b (STD)'!B27","v":"egy életévre jutó meccsek száma"},{"$f":"'OAM1b (STD)'!C27","v":"egy meccsre jutó gólok száma"},{"$f":"'OAM1b (STD)'!D27","v":"egy meccsre jutó öngólok száma"},{"$f":"'OAM1b (STD)'!E27","v":"egy meccsre jutó sárgalapok száma"},{"$f":"'OAM1b (STD)'!F27","v":"egy meccsre jutó piroslapok száma"},{"$f":"'OAM1b (STD)'!G27","v":"hány százalékban csere?"},{"$f":"'OAM1b (STD)'!H27","v":"egy gólra jutó sárgalapok száma?"},{"$f":"'OAM1b (STD)'!I27","v":"egy gólra jutó piroslapok száma?"},{"$f":"'OAM1b (STD)'!J27","v":"egy életévre jutó meccsek száma"},{"$f":"'OAM1b (STD)'!K27","v":"egy meccsre jutó gólok száma"},{"$f":"'OAM1b (STD)'!L27","v":"egy meccsre jutó öngólok száma"},{"$f":"'OAM1b (STD)'!M27","v":"egy meccsre jutó sárgalapok száma"},{"$f":"'OAM1b (STD)'!N27","v":"egy meccsre jutó piroslapok száma"},{"$f":"'OAM1b (STD)'!O27","v":"hány százalékban csere?"},{"$f":"'OAM1b (STD)'!P27","v":"egy gólra jutó sárgalapok száma?"},{"$f":"'OAM1b (STD)'!Q27","v":"egy gólra jutó piroslapok száma?"},null,null,null,null,null,null,null,null,"L�pcs�k(2)",{"$f":"'OAM1b (STD)'!B51","v":"egy életévre jutó meccsek száma"},{"$f":"'OAM1b (STD)'!C51","v":"egy meccsre jutó gólok száma"},{"$f":"'OAM1b (STD)'!D51","v":"egy meccsre jutó öngólok száma"},{"$f":"'OAM1b (STD)'!E51","v":"egy meccsre jutó sárgalapok száma"},{"$f":"'OAM1b (STD)'!F51","v":"egy meccsre jutó piroslapok száma"},{"$f":"'OAM1b (STD)'!G51","v":"hány százalékban csere?"},{"$f":"'OAM1b (STD)'!H51","v":"egy gólra jutó sárgalapok száma?"},{"$f":"'OAM1b (STD)'!I51","v":"egy gólra jutó piroslapok száma?"}]
["S1",804,652,1860,486,23,0,1883,0,1993,0,0,0,0,0,0,0,null,null,null,null,null,null,null,null,"S1",2731.3,1292.4000000000001,1751.4,781.4,231,0,31,1286.4000000000001]
["S2",0,0,2212,0,0,0,0,0,0,0,0,0,0,0,0,0,null,null,null,null,null,null,null,null,"S2",1287.4000000000001,0,1884.9,0,73,865.9,505.5,2838.8]
["S3",0,1594,0,0,0,1673,858,0,1188,518,0,2324,0,1642,1432,0,null,null,null,null,null,null,null,null,"S3",226.5,957.9,0,160,0,1433.9,2,0]
["S4",0,1009,0,0,0,2115,867,0,0,498,0,0,0,0,0,0,null,null,null,null,null,null,null,null,"S4",201,440.5,0,111.5,0,1281.4000000000001,317,0]
[null,null,null,null,null,null,null,null,null,null,null,null,null,null,null,null,null,null,null,null,null,null,null,null,null,"értelmezés","minél nagyobb, annál jobb","polinom","minél kisebb, annál jobb","polinom","minél nagyobb, annál jobb","opt","polinom","minél kisebb, annál jobb",null,{"$f":"CORREL(AI42:AI61,AJ42:AJ61)","v":0.96826633197231826}]
["COCO:MCM","X(A1)","X(A2)","X(A3)","X(A4)","X(A5)","X(A6)","X(A7)","X(A8)","X(A9)","X(A10)","X(A11)","X(A12)","X(A13)","X(A14)","X(A15)","X(A16)","Becsl�s","T�ny+0","Delta","Delta/T�ny",null,null,null,null,"COCO:MCM","X(A1)","X(A2)","X(A3)","X(A4)","X(A5)","X(A6)","X(A7)","X(A8)","Becsl�s","T�ny+0","Delta","Delta/T�ny"]
["O1",0,1009,2212,0,0,1673,0,0,1188,0,0,0,0,0,1432,0,7514,7514,0,0,null,null,null,null,{"$f":"'OAM1b (STD)'!A28","v":"GM"},226.5,440.5,1884.9,111.5,73,1433.9,505.5,2838.8,7514.4,7514,-0.4,-0.01]
["O2",0,1594,2212,0,0,0,1883,0,1188,0,0,0,0,0,0,0,6877,6878,1,0.01,null,null,null,null,{"$f":"'OAM1b (STD)'!A29","v":"BE"},226.5,957.9,1884.9,0,73,865.9,31,2838.8,6878,6878,0,0]
["O3",0,652,2212,0,0,0,867,0,1993,498,0,0,0,0,0,0,6222,6222,0,0,null,null,null,null,{"$f":"'OAM1b (STD)'!A30","v":"BT"},201,1292.4000000000001,1884.9,111.5,73,0,317,2838.8,6718.5,6222,-496.5,-7.98,"<--lehetne többször kezdő"]
["O4",0,0,2212,0,0,0,858,0,0,498,0,0,0,0,1432,0,5000,5000,0,0,null,null,null,null,{"$f":"'OAM1b (STD)'!A31","v":"FK"},201,0,1884.9,0,73,0,2,2838.8,4999.6000000000004,5000,0.4,0.01]
["O5",0,1009,1860,486,0,0,1883,0,1188,0,0,0,0,1642,0,0,8068,8069,1,0.01,null,null,null,null,{"$f":"'OAM1b (STD)'!A32","v":"FF"},1287.4000000000001,440.5,1751.4,781.4,73,865.9,31,2838.8,8069.4,8069,-0.4,0]
["O6",0,652,2212,0,0,0,867,0,1993,498,0,0,0,1642,0,0,7864,7864,0,0,null,null,null,null,{"$f":"'OAM1b (STD)'!A33","v":"FI"},201,1292.4000000000001,1884.9,111.5,73,865.9,317,2838.8,7584.4,7864,279.60000000000002,3.56,"<--lehetne ritkábban kezdő"]
["O7",0,1594,2212,0,0,0,867,0,1993,0,0,0,0,0,0,0,6666,6666,0,0,null,null,null,null,{"$f":"'OAM1b (STD)'!A34","v":"HM"},201,957.9,1884.9,111.5,73,865.9,317,2838.8,7249.9,6666,-583.9,-8.76,"<--lehetne többször kezdő"]
["O8",804,0,2212,0,23,1673,858,0,0,518,0,0,0,1642,0,0,7730,7730,0,0,null,null,null,null,{"$f":"'OAM1b (STD)'!A35","v":"JI"},2731.3,0,1884.9,160,231,1433.9,2,1286.4000000000001,7729.4,7730,0.6,0.01]
["O9",804,1009,2212,486,0,2115,1883,0,0,0,0,0,0,0,0,0,8509,8510,1,0.01,null,null,null,null,{"$f":"'OAM1b (STD)'!A36","v":"KK"},2731.3,440.5,1884.9,781.4,73,1281.4000000000001,31,1286.4000000000001,8509.7999999999993,8510,0.2,0]
["O10",0,1009,1860,0,0,2115,867,0,1188,0,0,0,0,0,0,0,7039,7040,1,0.01,null,null,null,null,{"$f":"'OAM1b (STD)'!A37","v":"KP"},226.5,440.5,1751.4,111.5,73,1281.4000000000001,317,2838.8,7040,7040,0,0]
["O11",804,1009,2212,0,23,2115,1883,0,0,0,0,0,0,0,0,0,8046,8047,1,0.01,null,null,null,null,{"$f":"'OAM1b (STD)'!A38","v":"NN"},2731.3,440.5,1884.9,160,231,1281.4000000000001,31,1286.4000000000001,8046.4,8047,0.6,0.01]
["O12",0,652,2212,0,0,1673,867,0,0,498,0,2324,0,0,0,0,8226,8226,0,0,null,null,null,null,{"$f":"'OAM1b (STD)'!A39","v":"PD"},226.5,1292.4000000000001,1884.9,160,73,1433.9,317,2838.8,8226.4,8226,-0.4,0]
["O13",0,0,2212,0,23,1673,0,0,0,518,0,2324,0,0,1432,0,8182,8181,-1,-0.01,null,null,null,null,{"$f":"'OAM1b (STD)'!A40","v":"RD"},1287.4000000000001,0,1884.9,0,231,1433.9,505.5,2838.8,8181.4,8181,-0.4,0]
["O14",0,1594,2212,0,23,0,0,0,0,0,0,2324,0,0,0,0,6153,6153,0,0,null,null,null,null,{"$f":"'OAM1b (STD)'!A41","v":"RF"},1287.4000000000001,957.9,1884.9,0,231,0,505.5,1286.4000000000001,6153,6153,0,0]
["O15",0,1594,2212,0,0,0,867,0,1993,518,0,0,0,0,0,0,7184,7184,0,0,null,null,null,null,{"$f":"'OAM1b (STD)'!A42","v":"RB"},201,957.9,1884.9,111.5,73,0,317,2838.8,6384,7184,800,11.14,"<--lehetne ritkábban kezdő"]
["O16",0,1009,1860,0,0,0,0,0,0,0,0,2324,0,1642,0,0,6835,6836,1,0.01,null,null,null,null,{"$f":"'OAM1b (STD)'!A43","v":"RT"},201,440.5,1751.4,160,73,865.9,505.5,2838.8,6836,6836,0,0]
["O17",804,0,2212,0,0,2115,858,0,0,498,0,2324,0,0,0,0,8811,8812,1,0.01,null,null,null,null,{"$f":"'OAM1b (STD)'!A44","v":"SB"},2731.3,0,1884.9,0,73,1281.4000000000001,2,2838.8,8811.2999999999993,8812,0.7,0.01]
["O18",0,0,1860,486,0,1673,0,0,0,518,0,0,0,1642,1432,0,7611,7610,-1,-0.01,null,null,null,null,{"$f":"'OAM1b (STD)'!A45","v":"SV"},226.5,0,1751.4,781.4,73,1433.9,505.5,2838.8,7610.4,7610,-0.4,-0.01]
["O19",0,1594,2212,0,0,2115,858,0,1188,518,0,0,0,0,0,0,8485,8486,1,0.01,null,null,null,null,{"$f":"'OAM1b (STD)'!A46","v":"SZ"},1287.4000000000001,957.9,1884.9,160,73,1281.4000000000001,2,2838.8,8485.4,8486,0.6,0.01]
["O20",0,652,2212,486,0,2115,858,0,1188,498,0,0,0,0,1432,0,9441,9441,0,0,null,null,null,null,{"$f":"'OAM1b (STD)'!A47","v":"TK"},1287.4000000000001,1292.4000000000001,1884.9,781.4,73,1281.4000000000001,2,2838.8,9441.2999999999993,9441,-0.3,0]
[]
["S1 �sszeg:",7701,null,null,null,null,null,null,null,null,null,null,null,null,null,null,null,null,null,null,null,null,null,null,null,"S1 �sszeg:",8104.9]
["S4 �sszeg:",4489,null,null,null,null,null,null,null,null,null,null,null,null,null,null,null,null,null,null,null,null,null,null,null,"S4 �sszeg:",2351.4]
["Becsl�s �sszeg:",150463,null,null,null,null,null,null,null,null,null,null,null,null,null,null,null,null,null,null,null,null,null,null,null,"Becsl�s �sszeg:",150469]
["T�ny �sszeg:",150469,null,null,null,null,null,null,null,null,null,null,null,null,null,null,null,null,null,null,null,null,null,null,null,"T�ny �sszeg:",150469]
["T�ny-becsl�s elt�r�s:",-6,null,null,null,null,null,null,null,null,null,null,null,null,null,null,null,null,null,null,null,null,null,null,null,"T�ny-becsl�s elt�r�s:",0]
["T�ny n�gyzet�sszeg:",null,null,null,null,null,null,null,null,null,null,null,null,null,null,null,null,null,null,null,null,null,null,null,null,"T�ny n�gyzet�sszeg:"]
["Becsl�s n�gyzet�sszeg:",null,null,null,null,null,null,null,null,null,null,null,null,null,null,null,null,null,null,null,null,null,null,null,null,"Becsl�s n�gyzet�sszeg:"]
["N�gyzet�sszeg hiba:",0,null,null,null,null,null,null,null,null,null,null,null,null,null,null,null,null,null,null,null,null,null,null,null,"N�gyzet�sszeg hiba:",0]
[]
[]
["Maxim�lis mem�ria haszn�lat: 1.47 Mb",null,null,null,null,null,null,null,null,null,null,null,null,null,null,null,null,null,null,null,null,null,null,null,null,"Maxim�lis mem�ria haszn�lat: 1.44 Mb"]
["A futtat�s id�tartama: 0.03 mp (0 p)",null,null,null,null,null,null,null,null,null,null,null,null,null,null,null,null,null,null,null,null,null,null,null,null,"A futtat�s id�tartama: 0.04 mp (0 p)"]

{"sheet":"OAM1-hahaha","index":6,"n_rows":107,"n_cols":28,"rows_kept":107,"cut":false,"hidden":false,"merged":[]}
[null,"jelleg","X","X","Y","Y",null,null,null,null,null,null,null,"korreláció"]
[null,"mértékegység","%","%","*10000 INT","%",null,null,"direkt","direkt","inverz",{"$f":"K2","v":"inverz"},null,{"$f":"CORREL(M4:M23,N4:N23)","v":0.99999999999999989}]
[null,"OAM","hány százalékban csere?","hány százalékban kispad?",{"$f":"F3","v":"hány százalékban kezdő?"},"hány százalékban kezdő?",null,null,{"$f":"C3","v":"hány százalékban csere?"},{"$f":"D3","v":"hány százalékban kispad?"},{"$f":"I3","v":"hány százalékban csere?"},{"$f":"J3","v":"hány százalékban kispad?"},{"$f":"E3","v":"hány százalékban kezdő?"},"becslés"]
[null,"GM",0.12138728323699421,0.12716763005780346,{"$f":"INT(F4*10000)","v":7514},0.75144508670520227,null,null,{"$f":"RANK(C4,C$4:C$23,0)","v":12},{"$f":"RANK(D4,D$4:D$23,0)","v":6},{"$f":"21-I4","v":9},{"$f":"21-J4","v":15},{"$f":"E4","v":7514},{"$f":"W74","v":7514}]
[null,"BE",0.22543352601156069,8.6705202312138727E-2,{"$f":"INT(F5*10000)","v":6878},0.68786127167630062,null,null,{"$f":"RANK(C5,C$4:C$23,0)","v":6},11,{"$f":"21-I5","v":15},10,6878,{"$f":"W75","v":6878},null,null,"Azonos�t�:",8585325,"Objektumok:",20,"Attrib�tumok:",4,"Lepcs�k:",20,"Eltol�s:",0,"Le�r�s:","COCO STD: 8585325"]
[null,"BT",0.31111111111111112,6.6666666666666666E-2,6222,0.62222222222222223,null,null,1,14,20,7,6222,6222]
[null,"FK",0.25,0.25,5000,0.5,null,null,3,1,18,20,5000,5000,null,null,"Rangsor","X(A1)","X(A2)","X(A3)","X(A4)","Y(A5)"]
[null,"FF",0.13861386138613863,5.4455445544554455E-2,8069,0.80693069306930698,null,null,9,17,12,4,8069,8069,null,null,"O1",12,6,9,15,7514]
[null,"FI",0.18446601941747573,2.9126213592233011E-2,7864,0.78640776699029125,null,null,7,19,14,2,7864,7864,null,null,"O2",6,11,15,10,6878]
[null,"HM",0.23076923076923078,0.10256410256410256,6666,0.66666666666666663,null,null,5,9,16,12,6666,6666,null,null,"O3",1,14,20,7,6222]
[null,"JI",0.13475177304964539,9.2198581560283682E-2,7730,0.77304964539007093,null,null,10,10,11,11,7730,7730,null,null,"O4",3,1,18,20,5000]
[null,"KK",8.5106382978723402E-2,6.3829787234042548E-2,8510,0.85106382978723405,null,null,15,15,6,6,8510,8510,null,null,"O5",9,17,12,4,8069]
[null,"KP",7.6530612244897961E-2,0.21938775510204081,7040,0.70408163265306123,null,null,16,2,5,19,7040,7040,null,null,"O6",7,19,14,2,7864]
[null,"NN",6.1904761904761907E-2,0.13333333333333333,8047,0.80476190476190479,null,null,17,4,4,17,8047,8047,null,null,"O7",5,9,16,12,6666]
[null,"PD",0.12056737588652482,5.6737588652482268E-2,8226,0.82269503546099287,null,null,13,16,8,5,8226,8226,null,null,"O8",10,10,11,11,7730]
[null,"RD",0.1111111111111111,7.0707070707070704E-2,8181,0.81818181818181823,null,null,14,12,7,9,8181,8181,null,null,"O9",15,15,6,6,8510]
[null,"RF",0.25128205128205128,0.13333333333333333,6153,0.61538461538461542,null,null,2,4,19,17,6153,6153,null,null,"O10",16,2,5,19,7040]
[null,"RB",0.23300970873786409,4.8543689320388349E-2,7184,0.71844660194174759,null,null,4,18,17,3,7184,7184,null,null,"O11",17,4,4,17,8047]
[null,"RT",0.16326530612244897,0.15306122448979592,6836,0.68367346938775508,null,null,8,3,13,18,6836,6836,null,null,"O12",13,16,8,5,8226]
[null,"SB",4.9808429118773943E-2,6.8965517241379309E-2,8812,0.88122605363984674,null,null,18,13,3,8,8812,8812,null,null,"O13",14,12,7,9,8181]
[null,"SV",0.12578616352201258,0.11320754716981132,7610,0.76100628930817615,null,null,11,7,10,14,7610,7610,null,null,"O14",2,4,19,17,6153]
[null,"SZ",4.6052631578947366E-2,0.10526315789473684,8486,0.84868421052631582,null,null,19,8,2,13,8486,8486,null,null,"O15",4,18,17,3,7184]
[null,"TK",3.255813953488372E-2,2.3255813953488372E-2,9441,0.94418604651162785,null,null,20,20,1,1,9441,9441,null,null,"O16",8,3,13,18,6836]
[null,null,null,null,null,null,null,null,null,null,null,null,null,null,null,null,"O17",18,13,3,8,8812]
[null,null,null,null,null,null,null,null,null,null,null,null,null,null,null,null,"O18",11,7,10,14,7610]
[null,null,null,null,null,null,null,null,null,null,null,null,null,null,null,null,"O19",19,8,2,13,8486]
[null,null,null,null,null,null,null,null,null,null,null,null,null,null,null,null,"O20",20,20,1,1,9441]
[]
[null,null,null,null,null,null,null,null,null,null,null,null,null,null,null,null,"L�pcs�k(1)","X(A1)","X(A2)","X(A3)","X(A4)"]
[null,null,null,null,null,null,null,null,null,null,null,null,null,null,null,null,"S1","(0+4397)/(1)=4397","(0+0)/(1)=0","(0+6987)/(1)=6987","(0+2454)/(1)=2454"]
[null,null,null,null,null,null,null,null,null,null,null,null,null,null,null,null,"S2","(0+4397)/(1)=4397","(0+0)/(1)=0","(0+6987)/(1)=6987","(0+2184)/(1)=2184"]
[null,null,null,null,null,null,null,null,null,null,null,null,null,null,null,null,"S3","(0+3244)/(1)=3244","(0+0)/(1)=0","(0+6987)/(1)=6987","(0+2184)/(1)=2184"]
[null,null,null,null,null,null,null,null,null,null,null,null,null,null,null,null,"S4","(0+3244)/(1)=3244","(0+0)/(1)=0","(0+6987)/(1)=6987","(0+2164)/(1)=2164"]
[null,null,null,null,null,null,null,null,null,null,null,null,null,null,null,null,"S5","(0+3244)/(1)=3244","(0+0)/(1)=0","(0+5980)/(1)=5980","(0+1870)/(1)=1870"]
[null,null,null,null,null,null,null,null,null,null,null,null,null,null,null,null,"S6","(0+3244)/(1)=3244","(0+0)/(1)=0","(0+5626)/(1)=5626","(0+1825)/(1)=1825"]
[null,null,null,null,null,null,null,null,null,null,null,null,null,null,null,null,"S7","(0+3244)/(1)=3244","(0+0)/(1)=0","(0+5297)/(1)=5297","(0+1825)/(1)=1825"]
[null,null,null,null,null,null,null,null,null,null,null,null,null,null,null,null,"S8","(0+3244)/(1)=3244","(0+0)/(1)=0","(0+5297)/(1)=5297","(0+1825)/(1)=1825"]
[null,null,null,null,null,null,null,null,null,null,null,null,null,null,null,null,"S9","(0+2314)/(1)=2314","(0+0)/(1)=0","(0+5297)/(1)=5297","(0+1825)/(1)=1825"]
[null,null,null,null,null,null,null,null,null,null,null,null,null,null,null,null,"S10","(0+2314)/(1)=2314","(0+0)/(1)=0","(0+5297)/(1)=5297","(0+1825)/(1)=1825"]
[null,null,null,null,null,null,null,null,null,null,null,null,null,null,null,null,"S11","(0+2314)/(1)=2314","(0+0)/(1)=0","(0+3592)/(1)=3592","(0+1825)/(1)=1825"]
[null,null,null,null,null,null,null,null,null,null,null,null,null,null,null,null,"S12","(0+2218)/(1)=2218","(0+0)/(1)=0","(0+3592)/(1)=3592","(0+1666)/(1)=1666"]
[null,null,null,null,null,null,null,null,null,null,null,null,null,null,null,null,"S13","(0+1060)/(1)=1060","(0+0)/(1)=0","(0+3592)/(1)=3592","(0+1499)/(1)=1499"]
[null,null,null,null,null,null,null,null,null,null,null,null,null,null,null,null,"S14","(0+1060)/(1)=1060","(0+0)/(1)=0","(0+2436)/(1)=2436","(0+0)/(1)=0"]
[null,null,null,null,null,null,null,null,null,null,null,null,null,null,null,null,"S15","(0+1060)/(1)=1060","(0+0)/(1)=0","(0+1809)/(1)=1809","(0+0)/(1)=0"]
[null,null,null,null,null,null,null,null,null,null,null,null,null,null,null,null,"S16","(0+1060)/(1)=1060","(0+0)/(1)=0","(0+1756)/(1)=1756","(0+0)/(1)=0"]
[null,null,null,null,null,null,null,null,null,null,null,null,null,null,null,null,"S17","(0+1060)/(1)=1060","(0+0)/(1)=0","(0+1756)/(1)=1756","(0+0)/(1)=0"]
[null,null,null,null,null,null,null,null,null,null,null,null,null,null,null,null,"S18","(0+0)/(1)=0","(0+0)/(1)=0","(0+1756)/(1)=1756","(0+0)/(1)=0"]
[null,null,null,null,null,null,null,null,null,null,null,null,null,null,null,null,"S19","(0+0)/(1)=0","(0+0)/(1)=0","(0+1756)/(1)=1756","(0+0)/(1)=0"]
[null,null,null,null,null,null,null,null,null,null,null,null,null,null,null,null,"S20","(0+0)/(1)=0","(0+0)/(1)=0","(0+0)/(1)=0","(0+0)/(1)=0"]
[]
[null,null,null,null,null,null,null,null,null,null,null,null,null,null,null,null,"L�pcs�k(2)","X(A1)","X(A2)","X(A3)","X(A4)"]
[null,null,null,null,null,null,null,null,null,null,null,null,null,null,null,null,"S1",4397,0,6987,2454]
[null,null,null,null,null,null,null,null,null,null,null,null,null,null,null,null,"S2",4397,0,6987,2184]
[null,null,null,null,null,null,null,null,null,null,null,null,null,null,null,null,"S3",3244,0,6987,2184]
[null,null,null,null,null,null,null,null,null,null,null,null,null,null,null,null,"S4",3244,0,6987,2164]
[null,null,null,null,null,null,null,null,null,null,null,null,null,null,null,null,"S5",3244,0,5980,1870]
[null,null,null,null,null,null,null,null,null,null,null,null,null,null,null,null,"S6",3244,0,5626,1825]
[null,null,null,null,null,null,null,null,null,null,null,null,null,null,null,null,"S7",3244,0,5297,1825]
[null,null,null,null,null,null,null,null,null,null,null,null,null,null,null,null,"S8",3244,0,5297,1825]
[null,null,null,null,null,null,null,null,null,null,null,null,null,null,null,null,"S9",2314,0,5297,1825]
[null,null,null,null,null,null,null,null,null,null,null,null,null,null,null,null,"S10",2314,0,5297,1825]
[null,null,null,null,null,null,null,null,null,null,null,null,null,null,null,null,"S11",2314,0,3592,1825]
[null,null,null,null,null,null,null,null,null,null,null,null,null,null,null,null,"S12",2218,0,3592,1666]
[null,null,null,null,null,null,null,null,null,null,null,null,null,null,null,null,"S13",1060,0,3592,1499]
[null,null,null,null,null,null,null,null,null,null,null,null,null,null,null,null,"S14",1060,0,2436,0]
[null,null,null,null,null,null,null,null,null,null,null,null,null,null,null,null,"S15",1060,0,1809,0]
[null,null,null,null,null,null,null,null,null,null,null,null,null,null,null,null,"S16",1060,0,1756,0]
[null,null,null,null,null,null,null,null,null,null,null,null,null,null,null,null,"S17",1060,0,1756,0]
[null,null,null,null,null,null,null,null,null,null,null,null,null,null,null,null,"S18",0,0,1756,0]
[null,null,null,null,null,null,null,null,null,null,null,null,null,null,null,null,"S19",0,0,1756,0]
[null,null,null,null,null,null,null,null,null,null,null,null,null,null,null,null,"S20",0,0,0,0]
[]
[null,null,null,null,null,null,null,null,null,null,null,null,null,null,null,null,"COCO:STD","X(A1)","X(A2)","X(A3)","X(A4)","Becsl�s","T�ny+0","Delta","Delta/T�ny"]
[null,null,null,null,null,null,null,null,null,null,null,null,null,null,null,null,"O1",2218,0,5297,0,7515,7514,-1,-0.01]
[null,null,null,null,null,null,null,null,null,null,null,null,null,null,null,null,"O2",3244,0,1809,1825,6878,6878,0,0]
[null,null,null,null,null,null,null,null,null,null,null,null,null,null,null,null,"O3",4397,0,0,1825,6222,6222,0,0]
[null,null,null,null,null,null,null,null,null,null,null,null,null,null,null,null,"O4",3244,0,1756,0,5000,5000,0,0]
[null,null,null,null,null,null,null,null,null,null,null,null,null,null,null,null,"O5",2314,0,3592,2164,8070,8069,-1,-0.01]
[null,null,null,null,null,null,null,null,null,null,null,null,null,null,null,null,"O6",3244,0,2436,2184,7864,7864,0,0]
[null,null,null,null,null,null,null,null,null,null,null,null,null,null,null,null,"O7",3244,0,1756,1666,6666,6666,0,0]
[null,null,null,null,null,null,null,null,null,null,null,null,null,null,null,null,"O8",2314,0,3592,1825,7731,7730,-1,-0.01]
[null,null,null,null,null,null,null,null,null,null,null,null,null,null,null,null,"O9",1060,0,5626,1825,8511,8510,-1,-0.01]
[null,null,null,null,null,null,null,null,null,null,null,null,null,null,null,null,"O10",1060,0,5980,0,7040,7040,0,0]
[null,null,null,null,null,null,null,null,null,null,null,null,null,null,null,null,"O11",1060,0,6987,0,8047,8047,0,0]
[null,null,null,null,null,null,null,null,null,null,null,null,null,null,null,null,"O12",1060,0,5297,1870,8227,8226,-1,-0.01]
[null,null,null,null,null,null,null,null,null,null,null,null,null,null,null,null,"O13",1060,0,5297,1825,8182,8181,-1,-0.01]
[null,null,null,null,null,null,null,null,null,null,null,null,null,null,null,null,"O14",4397,0,1756,0,6153,6153,0,0]
[null,null,null,null,null,null,null,null,null,null,null,null,null,null,null,null,"O15",3244,0,1756,2184,7184,7184,0,0]
[null,null,null,null,null,null,null,null,null,null,null,null,null,null,null,null,"O16",3244,0,3592,0,6836,6836,0,0]
[null,null,null,null,null,null,null,null,null,null,null,null,null,null,null,null,"O17",0,0,6987,1825,8812,8812,0,0]
[null,null,null,null,null,null,null,null,null,null,null,null,null,null,null,null,"O18",2314,0,5297,0,7611,7610,-1,-0.01]
[null,null,null,null,null,null,null,null,null,null,null,null,null,null,null,null,"O19",0,0,6987,1499,8486,8486,0,0]
[null,null,null,null,null,null,null,null,null,null,null,null,null,null,null,null,"O20",0,0,6987,2454,9441,9441,0,0]
[]
[null,null,null,null,null,null,null,null,null,null,null,null,null,null,null,null,"S1 �sszeg:",13838]
[null,null,null,null,null,null,null,null,null,null,null,null,null,null,null,null,"S20 �sszeg:",0]
[null,null,null,null,null,null,null,null,null,null,null,null,null,null,null,null,"Becsl�s �sszeg:",150476]
[null,null,null,null,null,null,null,null,null,null,null,null,null,null,null,null,"T�ny �sszeg:",150469]
[null,null,null,null,null,null,null,null,null,null,null,null,null,null,null,null,"T�ny-becsl�s elt�r�s:",7]
[null,null,null,null,null,null,null,null,null,null,null,null,null,null,null,null,"T�ny n�gyzet�sszeg:"]
[null,null,null,null,null,null,null,null,null,null,null,null,null,null,null,null,"Becsl�s n�gyzet�sszeg:"]
[null,null,null,null,null,null,null,null,null,null,null,null,null,null,null,null,"N�gyzet�sszeg hiba:",0]
[]
[null,null,null,null,null,null,null,null,null,null,null,null,null,null,null,null,"Open url"]
[]
[null,null,null,null,null,null,null,null,null,null,null,null,null,null,null,null,"Maxim�lis mem�ria haszn�lat: 1.43 Mb"]
[null,null,null,null,null,null,null,null,null,null,null,null,null,null,null,null,"A futtat�s id�tartama: 0.36 mp (0.01 p)"]

{"sheet":"OAM2 (Y0)","index":7,"n_rows":270,"n_cols":24,"rows_kept":270,"cut":false,"hidden":false,"merged":[]}
["meccsek száma alapján",{"$f":"' OAM1 (STD)'!AU74","v":"inkább legyen tapasztalatlan korához képest, vagy nagyon tapasztalt"},{"$f":"' OAM1 (STD)'!AV74","v":"inkább legyen gólerős, de lehet, akire szükség van"},{"$f":"' OAM1 (STD)'!AW74","v":"egyértelműen minél kisebb, annál jobb"},{"$f":"' OAM1 (STD)'!AX74","v":"egyértelműen minél kisebb, annál jobb"},"(Y)",{"$f":"' OAM1 (STD)'!AY74","v":"egyértelműen minél kisebb, annál jobb"},{"$f":"' OAM1 (STD)'!AZ74","v":"egyértelműen minél nagyobb annál jobb"},{"$f":"' OAM1 (STD)'!BA74","v":"egyértelműen minél nagyobb annál jobb"},{"$f":"' OAM1 (STD)'!BB74","v":"egyértelműen minél kisebb, annál jobb"},{"$f":"' OAM1 (STD)'!BC74","v":"nincs hatása"}]
["megjegyzés","minél nagyobb annál jobb","minél nagyobb annál jobb","minél kisebb annál jobb","minél kisebb annál jobb","minél kisebb annál jobb","minél nagyobb annál jobb","minél nagyobb annál jobb","minél kisebb annál jobb","minél kisebb annál jobb","minél kisebb annál jobb"]
["irány",0,0,1,1,1,0,0,1,1,1]
["jelleg","X","X","X","X","X","X","X","X","X","X","Y0"]
["mértékegység","db/év","db/db","db/db","db/db","db/db","%","%","%","db/db","db/db","index"]
["OAM","egy életévre jutó meccsek száma","egy meccsre jutó gólok száma","egy meccsre jutó öngólok száma","egy meccsre jutó sárgalapok száma","egy meccsre jutó piroslapok száma","hány százalékban kezdő?","hány százalékban csere?","hány százalékban kispad?","egy gólra jutó sárgalapok száma?","egy gólra jutó piroslapok száma?","Ki a lejobb játékos?","direkt becslés","inverz becslés","validitás","direkt becslés (kerekítve)","inverz becslés (kerekítve)","<--technikailag valid (vö. tagadás tagadása)"]
[{"$f":"db!B2","v":"GM"},{"$f":"db!E2/db!D2","v":8.2380952380952372},{"$f":"db!F2/db!E2","v":4.6242774566473986E-2},{"$f":"db!G2/db!E2","v":0},{"$f":"db!H2/db!E2","v":5.7803468208092483E-3},{"$f":"db!I2/db!E2","v":0},{"$f":"db!J2/db!E2","v":0.75144508670520227},{"$f":"db!K2/db!E2","v":0.12138728323699421},{"$f":"db!L2/db!E2","v":0.12716763005780346},{"$f":"db!H2/db!F2","v":0.125},{"$f":"db!I2/db!F2","v":0},1000,{"$f":"L126","v":999.9},{"$f":"M237","v":1000.2},{"$f":"IF(O237*N126<=0,\"valid\",\"invalid\")","v":"valid"},{"$f":"ROUND(M7,)","v":1000},{"$f":"ROUND(N7,)","v":1000}]
[{"$f":"db!B3","v":"BE"},{"$f":"db!E3/db!D3","v":8.2380952380952372},{"$f":"db!F3/db!E3","v":0.10982658959537572},{"$f":"db!G3/db!E3","v":0},{"$f":"db!H3/db!E3","v":2.3121387283236993E-2},{"$f":"db!I3/db!E3","v":0},{"$f":"db!J3/db!E3","v":0.68786127167630062},{"$f":"db!K3/db!E3","v":0.22543352601156069},{"$f":"db!L3/db!E3","v":8.6705202312138727E-2},{"$f":"db!H3/db!F3","v":0.21052631578947367},{"$f":"db!I3/db!F3","v":0},1000,{"$f":"L127","v":999.9},{"$f":"M238","v":1000.2},{"$f":"IF(O238*N127<=0,\"valid\",\"invalid\")","v":"valid"},{"$f":"ROUND(M8,)","v":1000},{"$f":"ROUND(N8,)","v":1000}]
[{"$f":"db!B4","v":"BT"},{"$f":"db!E4/db!D4","v":5.625},{"$f":"db!F4/db!E4","v":0.9},{"$f":"db!G4/db!E4","v":0},{"$f":"db!H4/db!E4","v":0},{"$f":"db!I4/db!E4","v":0},{"$f":"db!J4/db!E4","v":0.62222222222222223},{"$f":"db!K4/db!E4","v":0.31111111111111112},{"$f":"db!L4/db!E4","v":6.6666666666666666E-2},{"$f":"db!H4/db!F4","v":0},{"$f":"db!I4/db!F4","v":0},1000,999.9,999.7,"invalid",1000,1000]
[{"$f":"db!B5","v":"FK"},{"$f":"db!E5/db!D5","v":7.5},{"$f":"db!F5/db!E5","v":0.54166666666666663},{"$f":"db!G5/db!E5","v":0},{"$f":"db!H5/db!E5","v":2.5000000000000001E-2},{"$f":"db!I5/db!E5","v":0},{"$f":"db!J5/db!E5","v":0.5},{"$f":"db!K5/db!E5","v":0.25},{"$f":"db!L5/db!E5","v":0.25},{"$f":"db!H5/db!F5","v":4.6153846153846156E-2},{"$f":"db!I5/db!F5","v":0},1000,999.9,1000.2,"valid",1000,1000]
[{"$f":"db!B6","v":"FF"},{"$f":"db!E6/db!D6","v":10.631578947368421},{"$f":"db!F6/db!E6","v":9.9009900990099015E-2},{"$f":"db!G6/db!E6","v":4.9504950495049506E-3},{"$f":"db!H6/db!E6","v":5.9405940594059403E-2},{"$f":"db!I6/db!E6","v":0},{"$f":"db!J6/db!E6","v":0.80693069306930698},{"$f":"db!K6/db!E6","v":0.13861386138613863},{"$f":"db!L6/db!E6","v":5.4455445544554455E-2},{"$f":"db!H6/db!F6","v":0.6},{"$f":"db!I6/db!F6","v":0},1000,1000.4,999.7,"valid",1000,1000]
[{"$f":"db!B7","v":"FI"},{"$f":"db!E7/db!D7","v":5.4210526315789478},{"$f":"db!F7/db!E7","v":0.80582524271844658},{"$f":"db!G7/db!E7","v":0},{"$f":"db!H7/db!E7","v":0},{"$f":"db!I7/db!E7","v":0},{"$f":"db!J7/db!E7","v":0.78640776699029125},{"$f":"db!K7/db!E7","v":0.18446601941747573},{"$f":"db!L7/db!E7","v":2.9126213592233011E-2},{"$f":"db!H7/db!F7","v":0},{"$f":"db!I7/db!F7","v":0},1000,999.9,999.7,"invalid",1000,1000]
[{"$f":"db!B8","v":"HM"},{"$f":"db!E8/db!D8","v":4.875},{"$f":"db!F8/db!E8","v":0.11538461538461539},{"$f":"db!G8/db!E8","v":0},{"$f":"db!H8/db!E8","v":0},{"$f":"db!I8/db!E8","v":0},{"$f":"db!J8/db!E8","v":0.66666666666666663},{"$f":"db!K8/db!E8","v":0.23076923076923078},{"$f":"db!L8/db!E8","v":0.10256410256410256},{"$f":"db!H8/db!F8","v":0},{"$f":"db!I8/db!F8","v":0},1000,989.9,1009.7,"valid",990,1010,"antagonista"]
[{"$f":"db!B9","v":"JI"},{"$f":"db!E9/db!D9","v":14.842105263157896},{"$f":"db!F9/db!E9","v":0.26595744680851063},{"$f":"db!G9/db!E9","v":0},{"$f":"db!H9/db!E9","v":7.0921985815602835E-3},{"$f":"db!I9/db!E9","v":7.0921985815602835E-3},{"$f":"db!J9/db!E9","v":0.77304964539007093},{"$f":"db!K9/db!E9","v":0.13475177304964539},{"$f":"db!L9/db!E9","v":9.2198581560283682E-2},{"$f":"db!H9/db!F9","v":2.6666666666666668E-2},{"$f":"db!I9/db!F9","v":2.6666666666666668E-2},1000,999.9,999.7,"invalid",1000,1000]
[{"$f":"db!B10","v":"KK"},{"$f":"db!E10/db!D10","v":11.75},{"$f":"db!F10/db!E10","v":7.2340425531914887E-2},{"$f":"db!G10/db!E10","v":0},{"$f":"db!H10/db!E10","v":5.106382978723404E-2},{"$f":"db!I10/db!E10","v":4.2553191489361703E-3},{"$f":"db!J10/db!E10","v":0.85106382978723405},{"$f":"db!K10/db!E10","v":8.5106382978723402E-2},{"$f":"db!L10/db!E10","v":6.3829787234042548E-2},{"$f":"db!H10/db!F10","v":0.70588235294117652},{"$f":"db!I10/db!F10","v":5.8823529411764705E-2},1000,999.9,1000.2,"valid",1000,1000]
[{"$f":"db!B11","v":"KP"},{"$f":"db!E11/db!D11","v":8.5217391304347831},{"$f":"db!F11/db!E11","v":4.0816326530612242E-2},{"$f":"db!G11/db!E11","v":5.1020408163265302E-3},{"$f":"db!H11/db!E11","v":0},{"$f":"db!I11/db!E11","v":0},{"$f":"db!J11/db!E11","v":0.70408163265306123},{"$f":"db!K11/db!E11","v":7.6530612244897961E-2},{"$f":"db!L11/db!E11","v":0.21938775510204081},{"$f":"db!H11/db!F11","v":0},{"$f":"db!I11/db!F11","v":0},1000,999.9,1000.7,"valid",1000,1001]
[{"$f":"db!B12","v":"NN"},{"$f":"db!E12/db!D12","v":11.666666666666666},{"$f":"db!F12/db!E12","v":4.7619047619047623E-3},{"$f":"db!G12/db!E12","v":0},{"$f":"db!H12/db!E12","v":9.5238095238095247E-3},{"$f":"db!I12/db!E12","v":4.7619047619047623E-3},{"$f":"db!J12/db!E12","v":0.80476190476190479},{"$f":"db!K12/db!E12","v":6.1904761904761907E-2},{"$f":"db!L12/db!E12","v":0.13333333333333333},{"$f":"db!H12/db!F12","v":2},{"$f":"db!I12/db!F12","v":1},1000,999.9,1000.2,"valid",1000,1000]
[{"$f":"db!B13","v":"PD"},{"$f":"db!E13/db!D13","v":7.833333333333333},{"$f":"db!F13/db!E13","v":0.65957446808510634},{"$f":"db!G13/db!E13","v":0},{"$f":"db!H13/db!E13","v":1.4184397163120567E-2},{"$f":"db!I13/db!E13","v":0},{"$f":"db!J13/db!E13","v":0.82269503546099287},{"$f":"db!K13/db!E13","v":0.12056737588652482},{"$f":"db!L13/db!E13","v":5.6737588652482268E-2},{"$f":"db!H13/db!F13","v":2.1505376344086023E-2},{"$f":"db!I13/db!F13","v":0},1000,999.9,1000.2,"valid",1000,1000]
[{"$f":"db!B14","v":"RD"},{"$f":"db!E14/db!D14","v":11},{"$f":"db!F14/db!E14","v":0.28282828282828282},{"$f":"db!G14/db!E14","v":0},{"$f":"db!H14/db!E14","v":2.0202020202020204E-2},{"$f":"db!I14/db!E14","v":5.0505050505050509E-3},{"$f":"db!J14/db!E14","v":0.81818181818181823},{"$f":"db!K14/db!E14","v":0.1111111111111111},{"$f":"db!L14/db!E14","v":7.0707070707070704E-2},{"$f":"db!H14/db!F14","v":7.1428571428571425E-2},{"$f":"db!I14/db!F14","v":1.7857142857142856E-2},1000,999.9,1000.2,"valid",1000,1000]
[{"$f":"db!B15","v":"RF"},{"$f":"db!E15/db!D15","v":10.833333333333334},{"$f":"db!F15/db!E15","v":0.14358974358974358},{"$f":"db!G15/db!E15","v":0},{"$f":"db!H15/db!E15","v":2.0512820512820513E-2},{"$f":"db!I15/db!E15","v":5.1282051282051282E-3},{"$f":"db!J15/db!E15","v":0.61538461538461542},{"$f":"db!K15/db!E15","v":0.25128205128205128},{"$f":"db!L15/db!E15","v":0.13333333333333333},{"$f":"db!H15/db!F15","v":0.14285714285714285},{"$f":"db!I15/db!F15","v":3.5714285714285712E-2},1000,1000.4,1000.2,"invalid",1000,1000]
[{"$f":"db!B16","v":"RB"},{"$f":"db!E16/db!D16","v":5.7222222222222223},{"$f":"db!F16/db!E16","v":0.26213592233009708},{"$f":"db!G16/db!E16","v":0},{"$f":"db!H16/db!E16","v":0},{"$f":"db!I16/db!E16","v":0},{"$f":"db!J16/db!E16","v":0.71844660194174759},{"$f":"db!K16/db!E16","v":0.23300970873786409},{"$f":"db!L16/db!E16","v":4.8543689320388349E-2},{"$f":"db!H16/db!F16","v":0},{"$f":"db!I16/db!F16","v":0},1000,1009.9,989.7,"valid",1010,990,"antagonista"]
[{"$f":"db!B17","v":"RT"},{"$f":"db!E17/db!D17","v":5.7647058823529411},{"$f":"db!F17/db!E17","v":5.1020408163265307E-2},{"$f":"db!G17/db!E17","v":1.020408163265306E-2},{"$f":"db!H17/db!E17","v":1.020408163265306E-2},{"$f":"db!I17/db!E17","v":0},{"$f":"db!J17/db!E17","v":0.68367346938775508},{"$f":"db!K17/db!E17","v":0.16326530612244897},{"$f":"db!L17/db!E17","v":0.15306122448979592},{"$f":"db!H17/db!F17","v":0.2},{"$f":"db!I17/db!F17","v":0},1000,999.9,1000.2,"valid",1000,1000]
[{"$f":"db!B18","v":"SB"},{"$f":"db!E18/db!D18","v":13.736842105263158},{"$f":"db!F18/db!E18","v":0.61685823754789271},{"$f":"db!G18/db!E18","v":0},{"$f":"db!H18/db!E18","v":1.532567049808429E-2},{"$f":"db!I18/db!E18","v":0},{"$f":"db!J18/db!E18","v":0.88122605363984674},{"$f":"db!K18/db!E18","v":4.9808429118773943E-2},{"$f":"db!L18/db!E18","v":6.8965517241379309E-2},{"$f":"db!H18/db!F18","v":2.4844720496894408E-2},{"$f":"db!I18/db!F18","v":0},1000,999.9,999.7,"invalid",1000,1000]
[{"$f":"db!B19","v":"SV"},{"$f":"db!E19/db!D19","v":7.5714285714285712},{"$f":"db!F19/db!E19","v":0.49685534591194969},{"$f":"db!G19/db!E19","v":6.2893081761006293E-3},{"$f":"db!H19/db!E19","v":5.6603773584905662E-2},{"$f":"db!I19/db!E19","v":0},{"$f":"db!J19/db!E19","v":0.76100628930817615},{"$f":"db!K19/db!E19","v":0.12578616352201258},{"$f":"db!L19/db!E19","v":0.11320754716981132},{"$f":"db!H19/db!F19","v":0.11392405063291139},{"$f":"db!I19/db!F19","v":0},1000,999.9,1000.2,"valid",1000,1000]
[{"$f":"db!B20","v":"SZ"},{"$f":"db!E20/db!D20","v":8.9411764705882355},{"$f":"db!F20/db!E20","v":0.24342105263157895},{"$f":"db!G20/db!E20","v":0},{"$f":"db!H20/db!E20","v":6.5789473684210523E-3},{"$f":"db!I20/db!E20","v":0},{"$f":"db!J20/db!E20","v":0.84868421052631582},{"$f":"db!K20/db!E20","v":4.6052631578947366E-2},{"$f":"db!L20/db!E20","v":0.10526315789473684},{"$f":"db!H20/db!F20","v":2.7027027027027029E-2},{"$f":"db!I20/db!F20","v":0},1000,999.9,999.7,"invalid",1000,1000]
[{"$f":"db!B21","v":"TK"},{"$f":"db!E21/db!D21","v":10.238095238095237},{"$f":"db!F21/db!E21","v":1.0139534883720931},{"$f":"db!G21/db!E21","v":0},{"$f":"db!H21/db!E21","v":4.1860465116279069E-2},{"$f":"db!I21/db!E21","v":0},{"$f":"db!J21/db!E21","v":0.94418604651162785},{"$f":"db!K21/db!E21","v":3.255813953488372E-2},{"$f":"db!L21/db!E21","v":2.3255813953488372E-2},{"$f":"db!H21/db!F21","v":4.1284403669724773E-2},{"$f":"db!I21/db!F21","v":0},1000,1000.4,999.7,"valid",1000,1000]
[]
[]
[null,{"$f":"B6","v":"egy életévre jutó meccsek száma"},{"$f":"C6","v":"egy meccsre jutó gólok száma"},"egy meccsre jutó öngólok száma","egy meccsre jutó sárgalapok száma","egy meccsre jutó piroslapok száma","hány százalékban kezdő?","hány százalékban csere?","hány százalékban kispad?","egy gólra jutó sárgalapok száma?","egy gólra jutó piroslapok száma?","Ki a lejobb játékos?",null,"inverz","inverz","inverz","inverz","inverz","inverz","inverz","inverz","inverz","inverz","inverz"]
[{"$f":"A7","v":"GM"},{"$f":"RANK(B7,B$7:B$26,B$3)","v":11},{"$f":"RANK(C7,C$7:C$26,C$3)","v":18},1,6,1,12,12,15,14,1,{"$f":"L7","v":1000},null,{"$f":"21-B30","v":10},{"$f":"21-C30","v":3},{"$f":"21-D30","v":20},{"$f":"21-E30","v":15},{"$f":"21-F30","v":20},{"$f":"21-G30","v":9},{"$f":"21-H30","v":9},{"$f":"21-I30","v":6},{"$f":"21-J30","v":7},{"$f":"21-K30","v":20},{"$f":"L30","v":1000}]
[{"$f":"A8","v":"BE"},{"$f":"RANK(B8,B$7:B$26,B$3)","v":11},14,1,15,1,15,6,10,17,1,{"$f":"L8","v":1000},null,{"$f":"21-B31","v":10},7,20,6,20,6,15,11,4,20,{"$f":"L31","v":1000}]
["BT",{"$f":"RANK(B9,B$7:B$26,B$3)","v":18},2,1,1,1,18,1,7,1,1,1000,null,3,19,20,20,20,3,20,14,20,20,1000]
["FK",{"$f":"RANK(B10,B$7:B$26,B$3)","v":15},6,1,16,1,20,3,20,11,1,1000,null,6,15,20,5,20,1,18,1,10,20,1000]
["FF",{"$f":"RANK(B11,B$7:B$26,B$3)","v":7},15,17,20,1,7,9,4,18,1,1000,null,14,6,4,1,20,14,12,17,3,20,1000]
["FI",{"$f":"RANK(B12,B$7:B$26,B$3)","v":19},3,1,1,1,9,7,2,1,1,1000,null,2,18,20,20,20,12,14,19,20,20,1000]
["HM",{"$f":"RANK(B13,B$7:B$26,B$3)","v":20},13,1,1,1,17,5,12,1,1,1000,null,1,8,20,20,20,4,16,9,20,20,1000]
["JI",{"$f":"RANK(B14,B$7:B$26,B$3)","v":1},9,1,8,20,10,10,11,8,17,1000,null,20,12,20,13,1,11,11,10,13,4,1000]
["KK",{"$f":"RANK(B15,B$7:B$26,B$3)","v":3},16,1,18,16,3,15,6,19,19,1000,null,18,5,20,3,5,18,6,15,2,2,1000]
["KP",{"$f":"RANK(B16,B$7:B$26,B$3)","v":10},19,18,1,1,14,16,19,1,1,1000,null,11,2,3,20,20,7,5,2,20,20,1000]
["NN",{"$f":"RANK(B17,B$7:B$26,B$3)","v":4},20,1,9,17,8,17,16,20,20,1000,null,17,1,20,12,4,13,4,5,1,1,1000]
["PD",{"$f":"RANK(B18,B$7:B$26,B$3)","v":13},4,1,11,1,5,13,5,6,1,1000,null,8,17,20,10,20,16,8,16,15,20,1000]
["RD",{"$f":"RANK(B19,B$7:B$26,B$3)","v":5},8,1,13,18,6,14,9,12,16,1000,null,16,13,20,8,3,15,7,12,9,5,1000]
["RF",{"$f":"RANK(B20,B$7:B$26,B$3)","v":6},12,1,14,19,19,2,16,15,18,1000,null,15,9,20,7,2,2,19,5,6,3,1000]
["RB",{"$f":"RANK(B21,B$7:B$26,B$3)","v":17},10,1,1,1,13,4,3,1,1,1000,null,4,11,20,20,20,8,17,18,20,20,1000]
["RT",{"$f":"RANK(B22,B$7:B$26,B$3)","v":16},17,20,10,1,16,8,18,16,1,1000,null,5,4,1,11,20,5,13,3,5,20,1000]
["SB",{"$f":"RANK(B23,B$7:B$26,B$3)","v":2},5,1,12,1,2,18,8,7,1,1000,null,19,16,20,9,20,19,3,13,14,20,1000]
["SV",{"$f":"RANK(B24,B$7:B$26,B$3)","v":14},7,19,19,1,11,11,14,13,1,1000,null,7,14,2,2,20,10,10,7,8,20,1000]
["SZ",{"$f":"RANK(B25,B$7:B$26,B$3)","v":9},11,1,7,1,4,19,13,9,1,1000,null,12,10,20,14,20,17,2,8,12,20,1000]
["TK",{"$f":"RANK(B26,B$7:B$26,B$3)","v":8},1,1,17,1,1,20,1,10,1,1000,null,13,20,20,4,20,20,1,20,11,20,1000]
[]
[]
[]
[]
[]
[]
[]
["Azonos�t�:",1680399,"Objektumok:",20,"Attrib�tumok:",10,"Lepcs�k:",20,"Eltol�s:",0,"Le�r�s:","COCO Y0: 1680399"]
[]
["Rangsor","X(A1)","X(A2)","X(A3)","X(A4)","X(A5)","X(A6)","X(A7)","X(A8)","X(A9)","X(A10)","Y(A11)"]
["O1",11,18,1,6,1,12,12,15,14,1,1000]
["O2",11,14,1,15,1,15,6,10,17,1,1000]
["O3",18,2,1,1,1,18,1,7,1,1,1000]
["O4",15,6,1,16,1,20,3,20,11,1,1000]
["O5",7,15,17,20,1,7,9,4,18,1,1000]
["O6",19,3,1,1,1,9,7,2,1,1,1000]
["O7",20,13,1,1,1,17,5,12,1,1,1000]
["O8",1,9,1,8,20,10,10,11,8,17,1000]
["O9",3,16,1,18,16,3,15,6,19,19,1000]
["O10",10,19,18,1,1,14,16,19,1,1,1000]
["O11",4,20,1,9,17,8,17,16,20,20,1000]
["O12",13,4,1,11,1,5,13,5,6,1,1000]
["O13",5,8,1,13,18,6,14,9,12,16,1000]
["O14",6,12,1,14,19,19,2,16,15,18,1000]
["O15",17,10,1,1,1,13,4,3,1,1,1000]
["O16",16,17,20,10,1,16,8,18,16,1,1000]
["O17",2,5,1,12,1,2,18,8,7,1,1000]
["O18",14,7,19,19,1,11,11,14,13,1,1000]
["O19",9,11,1,7,1,4,19,13,9,1,1000]
["O20",8,1,1,17,1,1,20,1,10,1,1000]
[]
["L�pcs�k(1)","X(A1)","X(A2)","X(A3)","X(A4)","X(A5)","X(A6)","X(A7)","X(A8)","X(A9)","X(A10)"]
["S1","(174.9+405.8)/(2)=290.35","(45+54)/(2)=49.45","(37+19)/(2)=28","(569.7+182.9)/(2)=376.3","(115.9+135.9)/(2)=125.95","(75+343.8)/(2)=209.4","(162.9+554.7)/(2)=358.8","(19+60)/(2)=39.5","(29+19)/(2)=24","(19+19)/(2)=19"]
["S2","(173.9+404.8)/(2)=289.35","(27+53)/(2)=40","(36+18)/(2)=27","(568.7+106.9)/(2)=337.8","(114.9+134.9)/(2)=124.95","(74+342.8)/(2)=208.4","(161.9+553.7)/(2)=357.8","(18+59)/(2)=38.5","(28+18)/(2)=23","(18+18)/(2)=18"]
["S3","(172.9+403.8)/(2)=288.35","(26+46)/(2)=36","(35+17)/(2)=26","(567.7+105.9)/(2)=336.8","(113.9+133.9)/(2)=123.95","(73+341.8)/(2)=207.4","(160.9+420.8)/(2)=290.85","(17+17)/(2)=17","(27+17)/(2)=22","(17+17)/(2)=17"]
["S4","(171.9+402.8)/(2)=287.35","(25+45)/(2)=35","(34+16)/(2)=25","(566.7+104.9)/(2)=335.8","(112.9+132.9)/(2)=122.95","(72+340.8)/(2)=206.4","(159.9+419.8)/(2)=289.85","(16+16)/(2)=16","(26+16)/(2)=21","(16+16)/(2)=16"]
["S5","(170.9+401.8)/(2)=286.35","(24+44)/(2)=34","(33+15)/(2)=24","(565.7+103.9)/(2)=334.8","(111.9+131.9)/(2)=121.95","(47+296.8)/(2)=171.9","(158.9+418.8)/(2)=288.85","(15+15)/(2)=15","(25+15)/(2)=20","(15+15)/(2)=15"]
["S6","(156.9+400.8)/(2)=278.85","(23+43)/(2)=33","(32+14)/(2)=23","(564.7+102.9)/(2)=333.8","(110.9+130.9)/(2)=120.95","(46+295.8)/(2)=170.9","(141.9+255.9)/(2)=198.9","(14+14)/(2)=14","(24+14)/(2)=19","(14+14)/(2)=14"]
["S7","(155.9+357.8)/(2)=256.85","(22+42)/(2)=32","(31+13)/(2)=22","(563.7+101.9)/(2)=332.8","(109.9+129.9)/(2)=119.95","(45+265.8)/(2)=155.4","(140.9+254.9)/(2)=197.9","(13+13)/(2)=13","(23+13)/(2)=18","(13+13)/(2)=13"]
["S8","(154.9+356.8)/(2)=255.85","(12+41)/(2)=26.5","(30+12)/(2)=21","(562.7+100.9)/(2)=331.8","(108.9+128.9)/(2)=118.95","(44+264.8)/(2)=154.4","(139.9+196.9)/(2)=168.4","(12+12)/(2)=12","(22+12)/(2)=17","(12+12)/(2)=12"]
["S9","(153.9+355.8)/(2)=254.85","(11+11)/(2)=11","(29+11)/(2)=20","(561.7+99.9)/(2)=330.8","(107.9+127.9)/(2)=117.95","(43+263.8)/(2)=153.4","(138.9+195.9)/(2)=167.4","(11+11)/(2)=11","(21+11)/(2)=16","(11+11)/(2)=11"]
["S10","(123.9+354.8)/(2)=239.35","(10+10)/(2)=10","(28+10)/(2)=19","(560.7+98.9)/(2)=329.8","(106.9+126.9)/(2)=116.95","(42+262.8)/(2)=152.4","(137.9+176.9)/(2)=157.4","(10+10)/(2)=10","(20+10)/(2)=15","(10+10)/(2)=10"]
["S11","(113.9+353.8)/(2)=233.85","(9+9)/(2)=9","(27+9)/(2)=18","(519.7+9)/(2)=264.35","(105.9+125.9)/(2)=115.95","(41+261.8)/(2)=151.4","(136.9+175.9)/(2)=156.4","(9+9)/(2)=9","(19+9)/(2)=14","(9+9)/(2)=9"]
["S12","(112.9+352.8)/(2)=232.85","(8+8)/(2)=8","(26+8)/(2)=17","(518.7+8)/(2)=263.35","(104.9+124.9)/(2)=114.95","(40+260.9)/(2)=150.4","(86+95.9)/(2)=90.95","(8+8)/(2)=8","(18+8)/(2)=13","(8+8)/(2)=8"]
["S13","(111.9+351.8)/(2)=231.85","(7+7)/(2)=7","(25+7)/(2)=16","(517.7+7)/(2)=262.35","(103.9+123.9)/(2)=113.95","(39+194.9)/(2)=116.95","(85+94.9)/(2)=89.95","(7+7)/(2)=7","(17+7)/(2)=12","(7+7)/(2)=7"]
["S14","(110.9+350.8)/(2)=230.85","(6+6)/(2)=6","(24+6)/(2)=15","(516.7+6)/(2)=261.35","(102.9+122.9)/(2)=112.95","(38+193.9)/(2)=115.95","(84+93.9)/(2)=88.95","(6+6)/(2)=6","(16+6)/(2)=11","(6+6)/(2)=6"]
["S15","(109.9+349.8)/(2)=229.85","(5+5)/(2)=5","(23+5)/(2)=14","(515.7+5)/(2)=260.35","(101.9+121.9)/(2)=111.95","(37+192.9)/(2)=114.95","(83+92.9)/(2)=87.95","(5+5)/(2)=5","(15+5)/(2)=10","(5+5)/(2)=5"]
["S16","(108.9+348.8)/(2)=228.85","(4+4)/(2)=4","(22+4)/(2)=13","(514.7+4)/(2)=259.35","(100.9+120.9)/(2)=110.95","(36+191.9)/(2)=113.95","(82+90.9)/(2)=86.45","(4+4)/(2)=4","(14+4)/(2)=9","(4+4)/(2)=4"]
["S17","(3+3)/(2)=3","(3+3)/(2)=3","(21+3)/(2)=12","(513.7+3)/(2)=258.35","(99.9+119.9)/(2)=109.95","(35+190.9)/(2)=112.95","(81+89.9)/(2)=85.45","(3+3)/(2)=3","(3+3)/(2)=3","(3+3)/(2)=3"]
["S18","(2+2)/(2)=2","(2+2)/(2)=2","(20+2)/(2)=11","(512.7+2)/(2)=257.35","(98.9+118.9)/(2)=108.95","(24+2)/(2)=13","(2+2)/(2)=2","(2+2)/(2)=2","(2+2)/(2)=2","(2+2)/(2)=2"]
["S19","(1+1)/(2)=1","(1+1)/(2)=1","(19+1)/(2)=10","(511.7+1)/(2)=256.35","(97.9+1)/(2)=49.45","(1+1)/(2)=1","(1+1)/(2)=1","(1+1)/(2)=1","(1+1)/(2)=1","(1+1)/(2)=1"]
["S20","(0+0)/(2)=0","(0+0)/(2)=0","(0+0)/(2)=0","(481.7+0)/(2)=240.85","(0+0)/(2)=0","(0+0)/(2)=0","(0+0)/(2)=0","(0+0)/(2)=0","(0+0)/(2)=0","(0+0)/(2)=0"]
[]
["L�pcs�k(2)","X(A1)","X(A2)","X(A3)","X(A4)","X(A5)","X(A6)","X(A7)","X(A8)","X(A9)","X(A10)"]
["S1",290.3,49.5,28,376.3,125.9,209.4,358.8,39.5,24,19]
["S2",289.3,40,27,337.8,124.9,208.4,357.8,38.5,23,18]
["S3",288.3,36,26,336.8,123.9,207.4,290.8,17,22,17]
["S4",287.3,35,25,335.8,122.9,206.4,289.8,16,21,16]
["S5",286.3,34,24,334.8,121.9,171.9,288.8,15,20,15]
["S6",278.8,33,23,333.8,120.9,170.9,198.9,14,19,14]
["S7",256.89999999999998,32,22,332.8,119.9,155.4,197.9,13,18,13]
["S8",255.9,26.5,21,331.8,118.9,154.4,168.4,12,17,12]
["S9",254.9,11,20,330.8,117.9,153.4,167.4,11,16,11]
["S10",239.4,10,19,329.8,116.9,152.4,157.4,10,15,10]
["S11",233.9,9,18,264.3,115.9,151.4,156.4,9,14,9]
["S12",232.9,8,17,263.3,114.9,150.4,90.9,8,13,8]
["S13",231.9,7,16,262.3,113.9,116.9,89.9,7,12,7]
["S14",230.9,6,15,261.3,112.9,115.9,88.9,6,11,6]
["S15",229.9,5,14,260.39999999999998,111.9,114.9,87.9,5,10,5]
["S16",228.9,4,13,259.39999999999998,110.9,113.9,86.5,4,9,4]
["S17",3,3,12,258.39999999999998,109.9,112.9,85.5,3,3,3]
["S18",2,2,11,257.39999999999998,108.9,13,2,2,2,2]
["S19",1,1,10,256.39999999999998,49.5,1,1,1,1,1]
["S20",0,0,0,240.9,0,0,0,0,0,0]
[]
["COCO:Y0","X(A1)","X(A2)","X(A3)","X(A4)","X(A5)","X(A6)","X(A7)","X(A8)","X(A9)","X(A10)","Becsl�s","T�ny+0","Delta","Delta/T�ny"]
["O1",233.9,2,28,333.8,125.9,150.4,90.9,5,11,19,999.9,1000,0.1,0.01]
["O2",233.9,6,28,260.39999999999998,125.9,114.9,198.9,10,3,19,999.9,1000,0.1,0.01]
["O3",2,40,28,376.3,125.9,13,358.8,13,24,19,999.9,1000,0.1,0.01]
["O4",229.9,33,28,259.39999999999998,125.9,0,290.8,0,14,19,999.9,1000,0.1,0.01]
["O5",256.89999999999998,5,12,240.9,125.9,155.4,167.4,16,2,19,1000.4,1000,-0.4,-0.04]
["O6",1,36,28,376.3,125.9,153.4,197.9,38.5,24,19,999.9,1000,0.1,0.01]
["O7",0,7,28,376.3,125.9,112.9,288.8,8,24,19,989.9,1000,10.1,1.01]
["O8",290.3,11,28,331.8,0,152.4,157.4,9,17,3,999.9,1000,0.1,0.01]
["O9",288.3,4,28,257.39999999999998,110.9,207.4,87.9,14,1,1,999.9,1000,0.1,0.01]
["O10",239.4,1,11,376.3,125.9,115.9,86.5,1,24,19,999.9,1000,0.1,0.01]
["O11",287.3,0,28,330.8,109.9,154.4,85.5,4,0,0,999.9,1000,0.1,0.01]
["O12",231.9,35,28,264.3,125.9,171.9,89.9,15,19,19,999.9,1000,0.1,0.01]
["O13",286.3,26.5,28,262.3,108.9,170.9,88.9,11,13,4,999.9,1000,0.1,0.01]
["O14",278.8,8,28,261.3,49.5,1,357.8,4,10,2,1000.4,1000,-0.4,-0.04]
["O15",3,10,28,376.3,125.9,116.9,289.8,17,24,19,1009.9,1000,-9.9,-0.99]
["O16",228.9,3,0,329.8,125.9,113.9,168.4,2,9,19,999.9,1000,0.1,0.01]
["O17",289.3,34,28,263.3,125.9,208.4,2,12,18,19,999.9,1000,0.1,0.01]
["O18",230.9,32,10,256.39999999999998,125.9,151.4,156.4,6,12,19,999.9,1000,0.1,0.01]
["O19",254.9,9,28,332.8,125.9,206.4,1,7,16,19,999.9,1000,0.1,0.01]
["O20",255.9,49.5,28,258.39999999999998,125.9,209.4,0,39.5,15,19,1000.4,1000,-0.4,-0.04]
[]
["S1 �sszeg:",1520.7]
["S20 �sszeg:",240.9]
["Becsl�s �sszeg:",19999.5]
["T�ny �sszeg:",20000]
["T�ny-becsl�s elt�r�s:",-0.5]
["T�ny n�gyzet�sszeg:"]
["Becsl�s n�gyzet�sszeg:"]
["N�gyzet�sszeg hiba:",0]
[]
["Open url"]
[]
["Maxim�lis mem�ria haszn�lat: 1.46 Mb"]
["A futtat�s id�tartama: 0.11 mp (0 p)"]
[]
[]
[]
[]
[]
[]
[]
[]
[null,"Azonos�t�:",1316403,"Objektumok:",20,"Attrib�tumok:",10,"Lepcs�k:",20,"Eltol�s:",0,"Le�r�s:","COCO Y0: 1316403"]
[]
[null,"Rangsor","X(A1)","X(A2)","X(A3)","X(A4)","X(A5)","X(A6)","X(A7)","X(A8)","X(A9)","X(A10)","Y(A11)"]
[null,"O1",10,3,20,15,20,9,9,6,7,20,1000]
[null,"O2",10,7,20,6,20,6,15,11,4,20,1000]
[null,"O3",3,19,20,20,20,3,20,14,20,20,1000]
[null,"O4",6,15,20,5,20,1,18,1,10,20,1000]
[null,"O5",14,6,4,1,20,14,12,17,3,20,1000]
[null,"O6",2,18,20,20,20,12,14,19,20,20,1000]
[null,"O7",1,8,20,20,20,4,16,9,20,20,1000]
[null,"O8",20,12,20,13,1,11,11,10,13,4,1000]
[null,"O9",18,5,20,3,5,18,6,15,2,2,1000]
[null,"O10",11,2,3,20,20,7,5,2,20,20,1000]
[null,"O11",17,1,20,12,4,13,4,5,1,1,1000]
[null,"O12",8,17,20,10,20,16,8,16,15,20,1000]
[null,"O13",16,13,20,8,3,15,7,12,9,5,1000]
[null,"O14",15,9,20,7,2,2,19,5,6,3,1000]
[null,"O15",4,11,20,20,20,8,17,18,20,20,1000]
[null,"O16",5,4,1,11,20,5,13,3,5,20,1000]
[null,"O17",19,16,20,9,20,19,3,13,14,20,1000]
[null,"O18",7,14,2,2,20,10,10,7,8,20,1000]
[null,"O19",12,10,20,14,20,17,2,8,12,20,1000]
[null,"O20",13,20,20,4,20,20,1,20,11,20,1000]
[]
[null,"L�pcs�k(1)","X(A1)","X(A2)","X(A3)","X(A4)","X(A5)","X(A6)","X(A7)","X(A8)","X(A9)","X(A10)"]
[null,"S1","(929.7+972.7)/(2)=951.2","(23+322.9)/(2)=172.95","(19+19)/(2)=19","(131+586.8)/(2)=358.9","(149+879.7)/(2)=514.35","(67+209.9)/(2)=138.45","(191.9+949.7)/(2)=570.85","(19+19)/(2)=19","(33+350.9)/(2)=191.95","(19+19)/(2)=19"]
[null,"S2","(928.7+971.7)/(2)=950.2","(22+321.9)/(2)=171.95","(18+18)/(2)=18","(63+161)/(2)=111.95","(47+878.7)/(2)=462.85","(66+23)/(2)=44.5","(190.9+948.7)/(2)=569.85","(18+18)/(2)=18","(32+349.9)/(2)=190.95","(18+18)/(2)=18"]
[null,"S3","(927.7+970.7)/(2)=949.2","(21+320.9)/(2)=170.95","(17+17)/(2)=17","(62+160)/(2)=110.95","(46+659.8)/(2)=352.9","(65+22)/(2)=43.5","(189.9+947.7)/(2)=568.85","(17+17)/(2)=17","(31+348.9)/(2)=189.95","(17+17)/(2)=17"]
[null,"S4","(926.7+969.7)/(2)=948.2","(20+192.9)/(2)=106.45","(16+16)/(2)=16","(61+34)/(2)=47.5","(45+16)/(2)=30.5","(21+16)/(2)=18.5","(116+258.9)/(2)=187.45","(16+16)/(2)=16","(30+347.9)/(2)=188.95","(16+16)/(2)=16"]
[null,"S5","(829.8+717.8)/(2)=773.75","(19+191.9)/(2)=105.45","(15+15)/(2)=15","(60+33)/(2)=46.5","(15+15)/(2)=15","(20+15)/(2)=17.5","(115+257.9)/(2)=186.45","(15+15)/(2)=15","(29+15)/(2)=22","(15+15)/(2)=15"]
[null,"S6","(815.8+716.8)/(2)=766.25","(18+18)/(2)=18","(14+14)/(2)=14","(59+32)/(2)=45.5","(14+14)/(2)=14","(19+14)/(2)=16.5","(114+256.9)/(2)=185.45","(14+14)/(2)=14","(28+14)/(2)=21","(14+14)/(2)=14"]
[null,"S7","(814.8+715.8)/(2)=765.25","(17+17)/(2)=17","(13+13)/(2)=13","(58+31)/(2)=44.5","(13+13)/(2)=13","(18+13)/(2)=15.5","(113+255.9)/(2)=184.45","(13+13)/(2)=13","(27+13)/(2)=20","(13+13)/(2)=13"]
[null,"S8","(813.8+714.8)/(2)=764.25","(16+16)/(2)=16","(12+12)/(2)=12","(57+30)/(2)=43.5","(12+12)/(2)=12","(17+12)/(2)=14.5","(112+254.9)/(2)=183.45","(12+12)/(2)=12","(12+12)/(2)=12","(12+12)/(2)=12"]
[null,"S9","(812.8+575.8)/(2)=694.3","(15+15)/(2)=15","(11+11)/(2)=11","(56+29)/(2)=42.5","(11+11)/(2)=11","(11+11)/(2)=11","(111+61)/(2)=85.95","(11+11)/(2)=11","(11+11)/(2)=11","(11+11)/(2)=11"]
[null,"S10","(811.8+574.8)/(2)=693.3","(14+14)/(2)=14","(10+10)/(2)=10","(55+10)/(2)=32.5","(10+10)/(2)=10","(10+10)/(2)=10","(60+60)/(2)=60","(10+10)/(2)=10","(10+10)/(2)=10","(10+10)/(2)=10"]
[null,"S11","(810.8+372.9)/(2)=591.8","(13+13)/(2)=13","(9+9)/(2)=9","(9+9)/(2)=9","(9+9)/(2)=9","(9+9)/(2)=9","(59+59)/(2)=59","(9+9)/(2)=9","(9+9)/(2)=9","(9+9)/(2)=9"]
[null,"S12","(765.8+8)/(2)=386.9","(12+12)/(2)=12","(8+8)/(2)=8","(8+8)/(2)=8","(8+8)/(2)=8","(8+8)/(2)=8","(58+15)/(2)=36.5","(8+8)/(2)=8","(8+8)/(2)=8","(8+8)/(2)=8"]
[null,"S13","(737.8+7)/(2)=372.4","(11+11)/(2)=11","(7+7)/(2)=7","(7+7)/(2)=7","(7+7)/(2)=7","(7+7)/(2)=7","(57+14)/(2)=35.5","(7+7)/(2)=7","(7+7)/(2)=7","(7+7)/(2)=7"]
[null,"S14","(736.8+6)/(2)=371.4","(10+10)/(2)=10","(6+6)/(2)=6","(6+6)/(2)=6","(6+6)/(2)=6","(6+6)/(2)=6","(56+13)/(2)=34.5","(6+6)/(2)=6","(6+6)/(2)=6","(6+6)/(2)=6"]
[null,"S15","(735.8+5)/(2)=370.4","(9+9)/(2)=9","(5+5)/(2)=5","(5+5)/(2)=5","(5+5)/(2)=5","(5+5)/(2)=5","(55+5)/(2)=30","(5+5)/(2)=5","(5+5)/(2)=5","(5+5)/(2)=5"]
[null,"S16","(734.8+4)/(2)=369.4","(8+8)/(2)=8","(4+4)/(2)=4","(4+4)/(2)=4","(4+4)/(2)=4","(4+4)/(2)=4","(22+4)/(2)=13","(4+4)/(2)=4","(4+4)/(2)=4","(4+4)/(2)=4"]
[null,"S17","(733.8+3)/(2)=368.4","(7+7)/(2)=7","(3+3)/(2)=3","(3+3)/(2)=3","(3+3)/(2)=3","(3+3)/(2)=3","(21+3)/(2)=12","(3+3)/(2)=3","(3+3)/(2)=3","(3+3)/(2)=3"]
[null,"S18","(732.8+2)/(2)=367.4","(6+6)/(2)=6","(2+2)/(2)=2","(2+2)/(2)=2","(2+2)/(2)=2","(2+2)/(2)=2","(20+2)/(2)=11","(2+2)/(2)=2","(2+2)/(2)=2","(2+2)/(2)=2"]
[null,"S19","(731.8+1)/(2)=366.4","(1+1)/(2)=1","(1+1)/(2)=1","(1+1)/(2)=1","(1+1)/(2)=1","(1+1)/(2)=1","(19+1)/(2)=10","(1+1)/(2)=1","(1+1)/(2)=1","(1+1)/(2)=1"]
[null,"S20","(730.8+0)/(2)=365.4","(0+0)/(2)=0","(0+0)/(2)=0","(0+0)/(2)=0","(0+0)/(2)=0","(0+0)/(2)=0","(0+0)/(2)=0","(0+0)/(2)=0","(0+0)/(2)=0","(0+0)/(2)=0"]
[]
[null,"L�pcs�k(2)","X(A1)","X(A2)","X(A3)","X(A4)","X(A5)","X(A6)","X(A7)","X(A8)","X(A9)","X(A10)"]
[null,"S1",951.2,172.9,19,358.9,514.29999999999995,138.5,570.79999999999995,19,191.9,19]
[null,"S2",950.2,171.9,18,112,462.9,44.5,569.79999999999995,18,190.9,18]
[null,"S3",949.2,170.9,17,111,352.9,43.5,568.79999999999995,17,189.9,17]
[null,"S4",948.2,106.5,16,47.5,30.5,18.5,187.4,16,188.9,16]
[null,"S5",773.8,105.5,15,46.5,15,17.5,186.4,15,22,15]
[null,"S6",766.3,18,14,45.5,14,16.5,185.4,14,21,14]
[null,"S7",765.3,17,13,44.5,13,15.5,184.4,13,20,13]
[null,"S8",764.3,16,12,43.5,12,14.5,183.4,12,12,12]
[null,"S9",694.3,15,11,42.5,11,11,86,11,11,11]
[null,"S10",693.3,14,10,32.5,10,10,60,10,10,10]
[null,"S11",591.79999999999995,13,9,9,9,9,59,9,9,9]
[null,"S12",386.9,12,8,8,8,8,36.5,8,8,8]
[null,"S13",372.4,11,7,7,7,7,35.5,7,7,7]
[null,"S14",371.4,10,6,6,6,6,34.5,6,6,6]
[null,"S15",370.4,9,5,5,5,5,30,5,5,5]
[null,"S16",369.4,8,4,4,4,4,13,4,4,4]
[null,"S17",368.4,7,3,3,3,3,12,3,3,3]
[null,"S18",367.4,6,2,2,2,2,11,2,2,2]
[null,"S19",366.4,1,1,1,1,1,10,1,1,1]
[null,"S20",365.4,0,0,0,0,0,0,0,0,0]
[]
[null,"COCO:Y0","X(A1)","X(A2)","X(A3)","X(A4)","X(A5)","X(A6)","X(A7)","X(A8)","X(A9)","X(A10)","Becsl�s","T�ny+0","Delta","Delta/T�ny"]
[null,"O1",693.3,170.9,0,5,0,11,86,14,20,0,1000.2,1000,-0.2,-0.02]
[null,"O2",693.3,17,0,45.5,0,16.5,30,9,188.9,0,1000.2,1000,-0.2,-0.02]
[null,"O3",949.2,1,0,0,0,43.5,0,6,0,0,999.7,1000,0.3,0.03]
[null,"O4",766.3,9,0,46.5,0,138.5,11,19,10,0,1000.2,1000,-0.2,-0.02]
[null,"O5",371.4,18,16,358.9,0,6,36.5,3,189.9,0,999.7,1000,0.3,0.03]
[null,"O6",950.2,6,0,0,0,8,34.5,1,0,0,999.7,1000,0.3,0.03]
[null,"O7",951.2,16,0,0,0,18.5,13,11,0,0,1009.7,1000,-9.6999999999999993,-0.97]
[null,"O8",365.4,12,0,7,514.29999999999995,9,59,10,7,16,999.7,1000,0.3,0.03]
[null,"O9",367.4,105.5,0,111,15,2,185.4,5,190.9,18,1000.2,1000,-0.2,-0.02]
[null,"O10",591.79999999999995,171.9,17,0,0,15.5,186.4,18,0,0,1000.7,1000,-0.7,-7.0000000000000007E-2]
[null,"O11",368.4,172.9,0,8,30.5,7,187.4,15,191.9,19,1000.2,1000,-0.2,-0.02]
[null,"O12",764.3,7,0,32.5,0,4,183.4,4,5,0,1000.2,1000,-0.2,-0.02]
[null,"O13",369.4,11,0,43.5,352.9,5,184.4,8,11,15,1000.2,1000,-0.2,-0.02]
[null,"O14",370.4,15,0,44.5,462.9,44.5,10,15,21,17,1000.2,1000,-0.2,-0.02]
[null,"O15",948.2,13,0,0,0,14.5,12,2,0,0,989.7,1000,10.3,1.03]
[null,"O16",773.8,106.5,19,9,0,17.5,35.5,17,22,0,1000.2,1000,-0.2,-0.02]
[null,"O17",366.4,8,0,42.5,0,1,568.79999999999995,7,6,0,999.7,1000,0.3,0.03]
[null,"O18",765.3,10,18,112,0,10,60,13,12,0,1000.2,1000,-0.2,-0.02]
[null,"O19",386.9,14,0,6,0,3,569.79999999999995,12,8,0,999.7,1000,0.3,0.03]
[null,"O20",372.4,0,0,47.5,0,0,570.79999999999995,0,9,0,999.7,1000,0.3,0.03]
[]
[null,"S1 �sszeg:",2955.5]
[null,"S20 �sszeg:",365.4]
[null,"Becsl�s �sszeg:",20000]
[null,"T�ny �sszeg:",20000]
[null,"T�ny-becsl�s elt�r�s:",0]
[null,"T�ny n�gyzet�sszeg:"]
[null,"Becsl�s n�gyzet�sszeg:"]
[null,"N�gyzet�sszeg hiba:",0]
[]
[null,"Open url"]
[]
[null,"Maxim�lis mem�ria haszn�lat: 1.46 Mb"]
[null,"A futtat�s id�tartama: 0.2 mp (0 p)"]

{"sheet":"Y0_2","index":8,"n_rows":128,"n_cols":15,"rows_kept":128,"cut":false,"hidden":false,"merged":[]}
["HM-nélkül","egy életévre jutó meccsek száma","egy meccsre jutó gólok száma","egy meccsre jutó öngólok száma","egy meccsre jutó sárgalapok száma","egy meccsre jutó piroslapok száma","hány százalékban kezdő?","hány százalékban csere?","hány százalékban kispad?","egy gólra jutó sárgalapok száma?","egy gólra jutó piroslapok száma?","Ki a lejobb játékos?","becslés","<--egyenszilárd csapat"]
["GM",11,18,1,6,1,12,12,15,14,1,1000,{"$f":"L96","v":1001}]
["BE",11,14,1,15,1,15,6,10,17,1,1000,{"$f":"L97","v":1001}]
["BT",18,2,1,1,1,18,1,7,1,1,1000,1000]
["FK",15,6,1,16,1,20,3,20,11,1,1000,1001]
["FF",7,15,17,20,1,7,9,4,18,1,1000,1001]
["FI",19,3,1,1,1,9,7,2,1,1,1000,1001]
["JI",1,9,1,8,20,10,10,11,8,17,1000,1001]
["KK",3,16,1,18,16,3,15,6,19,19,1000,1001]
["KP",10,19,18,1,1,14,16,19,1,1,1000,1001]
["NN",4,20,1,9,17,8,17,16,20,20,1000,1001]
["PD",13,4,1,11,1,5,13,5,6,1,1000,1001]
["RD",5,8,1,13,18,6,14,9,12,16,1000,1001]
["RF",6,12,1,14,19,19,2,16,15,18,1000,1001]
["RB",17,10,1,1,1,13,4,3,1,1,1000,1001]
["RT",16,17,20,10,1,16,8,18,16,1,1000,1001]
["SB",2,5,1,12,1,2,18,8,7,1,1000,1001]
["SV",14,7,19,19,1,11,11,14,13,1,1000,1001]
["SZ",9,11,1,7,1,4,19,13,9,1,1000,1001]
["TK",8,1,1,17,1,1,20,1,10,1,1000,1001]
[]
[]
[]
[]
[]
[]
[]
["Azonos�t�:",9792977,"Objektumok:",19,"Attrib�tumok:",10,"Lepcs�k:",20,"Eltol�s:",0,"Le�r�s:","COCO Y0: 9792977"]
[]
["Rangsor","X(A1)","X(A2)","X(A3)","X(A4)","X(A5)","X(A6)","X(A7)","X(A8)","X(A9)","X(A10)","Y(A11)"]
["O1",11,18,1,6,1,12,12,15,14,1,1000]
["O2",11,14,1,15,1,15,6,10,17,1,1000]
["O3",18,2,1,1,1,18,1,7,1,1,1000]
["O4",15,6,1,16,1,20,3,20,11,1,1000]
["O5",7,15,17,20,1,7,9,4,18,1,1000]
["O6",19,3,1,1,1,9,7,2,1,1,1000]
["O7",1,9,1,8,20,10,10,11,8,17,1000]
["O8",3,16,1,18,16,3,15,6,19,19,1000]
["O9",10,19,18,1,1,14,16,19,1,1,1000]
["O10",4,20,1,9,17,8,17,16,20,20,1000]
["O11",13,4,1,11,1,5,13,5,6,1,1000]
["O12",5,8,1,13,18,6,14,9,12,16,1000]
["O13",6,12,1,14,19,19,2,16,15,18,1000]
["O14",17,10,1,1,1,13,4,3,1,1,1000]
["O15",16,17,20,10,1,16,8,18,16,1,1000]
["O16",2,5,1,12,1,2,18,8,7,1,1000]
["O17",14,7,19,19,1,11,11,14,13,1,1000]
["O18",9,11,1,7,1,4,19,13,9,1,1000]
["O19",8,1,1,17,1,1,20,1,10,1,1000]
[]
["L�pcs�k(1)","X(A1)","X(A2)","X(A3)","X(A4)","X(A5)","X(A6)","X(A7)","X(A8)","X(A9)","X(A10)"]
["S1","(0+485)/(1)=485","(0+30)/(1)=30","(0+19)/(1)=19","(0+124)/(1)=124","(0+106)/(1)=106","(0+313)/(1)=313","(0+667)/(1)=667","(0+74)/(1)=74","(0+19)/(1)=19","(0+19)/(1)=19"]
["S2","(0+484)/(1)=484","(0+29)/(1)=29","(0+18)/(1)=18","(0+123)/(1)=123","(0+105)/(1)=105","(0+312)/(1)=312","(0+475)/(1)=475","(0+73)/(1)=73","(0+18)/(1)=18","(0+18)/(1)=18"]
["S3","(0+483)/(1)=483","(0+28)/(1)=28","(0+17)/(1)=17","(0+122)/(1)=122","(0+104)/(1)=104","(0+311)/(1)=311","(0+399)/(1)=399","(0+72)/(1)=72","(0+17)/(1)=17","(0+17)/(1)=17"]
["S4","(0+482)/(1)=482","(0+27)/(1)=27","(0+16)/(1)=16","(0+121)/(1)=121","(0+103)/(1)=103","(0+294)/(1)=294","(0+398)/(1)=398","(0+16)/(1)=16","(0+16)/(1)=16","(0+16)/(1)=16"]
["S5","(0+481)/(1)=481","(0+26)/(1)=26","(0+15)/(1)=15","(0+120)/(1)=120","(0+102)/(1)=102","(0+293)/(1)=293","(0+325)/(1)=325","(0+15)/(1)=15","(0+15)/(1)=15","(0+15)/(1)=15"]
["S6","(0+480)/(1)=480","(0+25)/(1)=25","(0+14)/(1)=14","(0+110)/(1)=110","(0+101)/(1)=101","(0+292)/(1)=292","(0+324)/(1)=324","(0+14)/(1)=14","(0+14)/(1)=14","(0+14)/(1)=14"]
["S7","(0+428)/(1)=428","(0+24)/(1)=24","(0+13)/(1)=13","(0+109)/(1)=109","(0+100)/(1)=100","(0+291)/(1)=291","(0+323)/(1)=323","(0+13)/(1)=13","(0+13)/(1)=13","(0+13)/(1)=13"]
["S8","(0+427)/(1)=427","(0+14)/(1)=14","(0+12)/(1)=12","(0+44)/(1)=44","(0+99)/(1)=99","(0+290)/(1)=290","(0+322)/(1)=322","(0+12)/(1)=12","(0+12)/(1)=12","(0+12)/(1)=12"]
["S9","(0+426)/(1)=426","(0+11)/(1)=11","(0+11)/(1)=11","(0+43)/(1)=43","(0+98)/(1)=98","(0+289)/(1)=289","(0+131)/(1)=131","(0+11)/(1)=11","(0+11)/(1)=11","(0+11)/(1)=11"]
["S10","(0+425)/(1)=425","(0+10)/(1)=10","(0+10)/(1)=10","(0+42)/(1)=42","(0+97)/(1)=97","(0+288)/(1)=288","(0+130)/(1)=130","(0+10)/(1)=10","(0+10)/(1)=10","(0+10)/(1)=10"]
["S11","(0+424)/(1)=424","(0+9)/(1)=9","(0+9)/(1)=9","(0+9)/(1)=9","(0+96)/(1)=96","(0+287)/(1)=287","(0+129)/(1)=129","(0+9)/(1)=9","(0+9)/(1)=9","(0+9)/(1)=9"]
["S12","(0+423)/(1)=423","(0+8)/(1)=8","(0+8)/(1)=8","(0+8)/(1)=8","(0+95)/(1)=95","(0+232)/(1)=232","(0+78)/(1)=78","(0+8)/(1)=8","(0+8)/(1)=8","(0+8)/(1)=8"]
["S13","(0+422)/(1)=422","(0+7)/(1)=7","(0+7)/(1)=7","(0+7)/(1)=7","(0+94)/(1)=94","(0+231)/(1)=231","(0+77)/(1)=77","(0+7)/(1)=7","(0+7)/(1)=7","(0+7)/(1)=7"]
["S14","(0+421)/(1)=421","(0+6)/(1)=6","(0+6)/(1)=6","(0+6)/(1)=6","(0+93)/(1)=93","(0+230)/(1)=230","(0+76)/(1)=76","(0+6)/(1)=6","(0+6)/(1)=6","(0+6)/(1)=6"]
["S15","(0+420)/(1)=420","(0+5)/(1)=5","(0+5)/(1)=5","(0+5)/(1)=5","(0+92)/(1)=92","(0+85)/(1)=85","(0+75)/(1)=75","(0+5)/(1)=5","(0+5)/(1)=5","(0+5)/(1)=5"]
["S16","(0+419)/(1)=419","(0+4)/(1)=4","(0+4)/(1)=4","(0+4)/(1)=4","(0+91)/(1)=91","(0+84)/(1)=84","(0+74)/(1)=74","(0+4)/(1)=4","(0+4)/(1)=4","(0+4)/(1)=4"]
["S17","(0+3)/(1)=3","(0+3)/(1)=3","(0+3)/(1)=3","(0+3)/(1)=3","(0+90)/(1)=90","(0+3)/(1)=3","(0+73)/(1)=73","(0+3)/(1)=3","(0+3)/(1)=3","(0+3)/(1)=3"]
["S18","(0+2)/(1)=2","(0+2)/(1)=2","(0+2)/(1)=2","(0+2)/(1)=2","(0+89)/(1)=89","(0+2)/(1)=2","(0+2)/(1)=2","(0+2)/(1)=2","(0+2)/(1)=2","(0+2)/(1)=2"]
["S19","(0+1)/(1)=1","(0+1)/(1)=1","(0+1)/(1)=1","(0+1)/(1)=1","(0+1)/(1)=1","(0+1)/(1)=1","(0+1)/(1)=1","(0+1)/(1)=1","(0+1)/(1)=1","(0+1)/(1)=1"]
["S20","(0+0)/(1)=0","(0+0)/(1)=0","(0+0)/(1)=0","(0+0)/(1)=0","(0+0)/(1)=0","(0+0)/(1)=0","(0+0)/(1)=0","(0+0)/(1)=0","(0+0)/(1)=0","(0+0)/(1)=0"]
[]
["L�pcs�k(2)","X(A1)","X(A2)","X(A3)","X(A4)","X(A5)","X(A6)","X(A7)","X(A8)","X(A9)","X(A10)"]
["S1",485,30,19,124,106,313,667,74,19,19]
["S2",484,29,18,123,105,312,475,73,18,18]
["S3",483,28,17,122,104,311,399,72,17,17]
["S4",482,27,16,121,103,294,398,16,16,16]
["S5",481,26,15,120,102,293,325,15,15,15]
["S6",480,25,14,110,101,292,324,14,14,14]
["S7",428,24,13,109,100,291,323,13,13,13]
["S8",427,14,12,44,99,290,322,12,12,12]
["S9",426,11,11,43,98,289,131,11,11,11]
["S10",425,10,10,42,97,288,130,10,10,10]
["S11",424,9,9,9,96,287,129,9,9,9]
["S12",423,8,8,8,95,232,78,8,8,8]
["S13",422,7,7,7,94,231,77,7,7,7]
["S14",421,6,6,6,93,230,76,6,6,6]
["S15",420,5,5,5,92,85,75,5,5,5]
["S16",419,4,4,4,91,84,74,4,4,4]
["S17",3,3,3,3,90,3,73,3,3,3]
["S18",2,2,2,2,89,2,2,2,2,2]
["S19",1,1,1,1,1,1,1,1,1,1]
["S20",0,0,0,0,0,0,0,0,0,0]
[]
["COCO:Y0","X(A1)","X(A2)","X(A3)","X(A4)","X(A5)","X(A6)","X(A7)","X(A8)","X(A9)","X(A10)","Becsl�s","T�ny+0","Delta","Delta/T�ny"]
["O1",424,2,19,110,106,232,78,5,6,19,1001,1000,-1,-0.1]
["O2",424,6,19,5,106,85,324,10,3,19,1001,1000,-1,-0.1]
["O3",2,29,19,124,106,2,667,13,19,19,1000,1000,0,0]
["O4",420,25,19,4,106,0,399,0,9,19,1001,1000,-1,-0.1]
["O5",428,5,3,0,106,291,131,16,2,19,1001,1000,-1,-0.1]
["O6",1,28,19,124,106,289,323,73,19,19,1001,1000,-1,-0.1]
["O7",485,11,19,44,0,288,130,9,12,3,1001,1000,-1,-0.1]
["O8",483,4,19,2,91,311,75,14,1,1,1001,1000,-1,-0.1]
["O9",425,1,2,124,106,230,74,1,19,19,1001,1000,-1,-0.1]
["O10",482,0,19,43,90,290,73,4,0,0,1001,1000,-1,-0.1]
["O11",422,27,19,9,106,293,77,15,14,19,1001,1000,-1,-0.1]
["O12",481,14,19,7,89,292,76,11,8,4,1001,1000,-1,-0.1]
["O13",480,8,19,6,1,1,475,4,5,2,1001,1000,-1,-0.1]
["O14",3,10,19,124,106,231,398,72,19,19,1001,1000,-1,-0.1]
["O15",419,3,0,42,106,84,322,2,4,19,1001,1000,-1,-0.1]
["O16",484,26,19,8,106,312,2,12,13,19,1001,1000,-1,-0.1]
["O17",421,24,1,1,106,287,129,6,7,19,1001,1000,-1,-0.1]
["O18",426,9,19,109,106,294,1,7,11,19,1001,1000,-1,-0.1]
["O19",427,30,19,3,106,313,0,74,10,19,1001,1000,-1,-0.1]
[]
["S1 �sszeg:",1856]
["S20 �sszeg:",0]
["Becsl�s �sszeg:",19018]
["T�ny �sszeg:",19000]
["T�ny-becsl�s elt�r�s:",18]
["T�ny n�gyzet�sszeg:"]
["Becsl�s n�gyzet�sszeg:"]
["N�gyzet�sszeg hiba:",0]
[]
["Open url"]
[]
["Maxim�lis mem�ria haszn�lat: 1.46 Mb"]
["A futtat�s id�tartama: 0.05 mp (0 p)"]