{"text_format":"1","workbook":"xlsx","n_sheets":12,"sheets":["OAM2 (2)","OAM2","2020","multiTimeline (1)","204_19","19_17","ell","multiTimeline (2)","multiTimeline (3)","multiTimeline (4)","multiTimeline (5)","multiTimeline (6)"],"not_rendered":{"charts":1,"images":1,"macros":1,"external_links":0,"defined_names":0,"comments":0,"pivot_tables":6},"unopened":[],"bounds":{"document_bytes":16777216,"sheet_cells":100000,"rows_first":2000,"rows_last":500,"rows_between":2000,"halvings":0,"cell_chars":16384,"cell_head_chars":4096},"cells_cut":0,"cells_raw":0,"read":"whole","date_system":"1900"}

{"sheet":"OAM2 (2)","index":0,"n_rows":110,"n_cols":26,"rows_kept":110,"cut":false,"hidden":false,"merged":[]}
[]
[null,1,2,3,4,5,6,7,8,9,10,11,12,13,14,15,16,17,18,19]
["Sorcímkék","Összeg / BKM","Összeg / NOM","Összeg / KEM","Összeg / FEM","Összeg / PEM","Összeg / GMS","Összeg / VEM","Összeg / ZAM","Összeg / VAM","Összeg / BAM","Összeg / CSM","Összeg / SOM","Összeg / BEM","Összeg / HBM","Összeg / JNS","Összeg / HEM","Összeg / BAZ","Összeg / SSB","Összeg / TOM"]
[2004,113,69,57,130,212,64,82,180,81,104,119,105,148,67,37,51,0,8,47]
[2005,49,98,101,171,257,50,175,156,119,95,140,132,163,27,24,105,10,16,126]
[2006,51,124,59,162,285,55,139,202,110,106,133,111,153,45,18,110,19,22,133]
[2007,73,114,63,233,376,57,170,237,180,110,159,135,262,38,26,209,9,36,153]
[2008,68,119,64,282,500,50,217,262,191,134,200,168,303,56,14,246,21,31,224]
[2009,114,155,58,321,579,52,243,332,211,164,196,187,310,49,17,264,20,30,242]
[2010,84,145,51,326,567,37,234,329,221,142,219,173,320,30,16,275,14,26,218]
[2011,47,138,41,278,515,37,205,277,195,125,183,147,294,28,12,251,13,22,212]
[2012,55,134,52,289,493,30,200,310,196,106,151,147,291,23,14.1,235,10.199999999999999,17.100000000000001,170]
[2013,44,132,40,285,435,30,222,322,208,100,163,141,260,31,16.2,228,3.7000000000000006,13.2,202]
[2014,43,137,39,248,463,32,192,293,215,104,155,140,238,28,6.5999999999999979,208,6.5999999999999979,11.5,171]
[2015,29,121,34,243,581,24,187,291,208,101,135,148,230,16,6.3999999999999995,188,4.6999999999999993,12,155]
[2016,34,113,27,211,513,24,177,284,183,95,128,138,193,18.100000000000001,9.1,184,2.3000000000000003,13.1,147]
[2017,26,112,18,214,563,20,157,285,201,86,128,142,191,17.100000000000001,6.4999999999999991,185,0.7,10.399999999999999,171]
[2018,31,121,25,254,626,19,188,308,203,98,150,163,205,17.100000000000001,9.1999999999999993,215,4.2,14,170]
[2019,30,134,20,269,656,23,202,320,226,105,150,170,216,17,4.4999999999999982,213,1.9000000000000001,7.3999999999999986,179]
[2020,22,152,22,289,757,27,222,334,263,128,165,196,245,20,3.5000000000000004,234,2.3000000000000003,4.3999999999999995,199]
["Végösszeg",913,2118,771,4205,8378,631,3212,4722,3211,1903,2674,2543,4022,527.30000000000007,240.09999999999997,3401,142.6,294.09999999999991,2919]
[]
[]
[null,null,null,null,null,null,null,null,null,null,null,null,null,null,null,null,null,"előrejelzés"]
["irány",0,0,0,0,0,0,0,0,0,0,0,0,0,0,0,0,0]
["OAM2",2004,2005,2006,2007,2008,2009,2010,2011,2012,2013,2014,2015,2016,2017,2018,2019,2020,"Y0"]
[{"$f":"Y27","v":"BKM"},113,49,51,73,68,114,84,47,55,44,43,29,34,26,31,30,22,1000,null,null,null,"Összeg","/","BKM"]
[{"$f":"Y28","v":"NOM"},69,98,124,114,119,155,145,138,134,132,137,121,113,112,121,134,152,1000,null,null,null,"Összeg","/","NOM"]
["KEM",57,101,59,63,64,58,51,41,52,40,39,34,27,18,25,20,22,1000,null,null,null,"Összeg","/","KEM"]
["FEM",130,171,162,233,282,321,326,278,289,285,248,243,211,214,254,269,289,1000,null,null,null,"Összeg","/","FEM"]
["PEM",212,257,285,376,500,579,567,515,493,435,463,581,513,563,626,656,757,1000,null,null,null,"Összeg","/","PEM"]
["GMS",64,50,55,57,50,52,37,37,30,30,32,24,24,20,19,23,27,1000,null,null,null,"Összeg","/","GMS"]
["VEM",82,175,139,170,217,243,234,205,200,222,192,187,177,157,188,202,222,1000,null,null,null,"Összeg","/","VEM"]
["ZAM",180,156,202,237,262,332,329,277,310,322,293,291,284,285,308,320,334,1000,null,null,null,"Összeg","/","ZAM"]
["VAM",81,119,110,180,191,211,221,195,196,208,215,208,183,201,203,226,263,1000,null,null,null,"Összeg","/","VAM"]
["BAM",104,95,106,110,134,164,142,125,106,100,104,101,95,86,98,105,128,1000,null,null,null,"Összeg","/","BAM"]
["CSM",119,140,133,159,200,196,219,183,151,163,155,135,128,128,150,150,165,1000,null,null,null,"Összeg","/","CSM"]
["SOM",105,132,111,135,168,187,173,147,147,141,140,148,138,142,163,170,196,1000,null,null,null,"Összeg","/","SOM"]
["BEM",148,163,153,262,303,310,320,294,291,260,238,230,193,191,205,216,245,1000,null,null,null,"Összeg","/","BEM"]
["HBM",67,27,45,38,56,49,30,28,23,31,28,16,18.100000000000001,17.100000000000001,17.100000000000001,17,20,1000,null,null,null,"Összeg","/","HBM"]
["JNS",37,24,18,26,14,17,16,12,14.1,16.2,6.5999999999999979,6.3999999999999995,9.1,6.4999999999999991,9.1999999999999993,4.4999999999999982,3.5000000000000004,1000,null,null,null,"Összeg","/","JNS"]
["HEM",51,105,110,209,246,264,275,251,235,228,208,188,184,185,215,213,234,1000,null,null,null,"Összeg","/","HEM"]
["BAZ",0,10,19,9,21,20,14,13,10.199999999999999,3.7000000000000006,6.5999999999999979,4.6999999999999993,2.3000000000000003,0.7,4.2,1.9000000000000001,2.3000000000000003,1000,null,null,null,"Összeg","/","BAZ"]
[{"$f":"Y44","v":"SSB"},8,16,22,36,31,30,26,22,17.100000000000001,13.2,11.5,12,13.1,10.399999999999999,14,7.3999999999999986,4.3999999999999995,1000,null,null,null,null,null,"SSB"]
["TOM",47,126,133,153,224,242,218,212,170,202,171,155,147,171,170,179,199,1000,null,null,null,null,null,"TOM"]
[]
[null,null,null,null,null,null,null,null,null,null,null,null,null,null,null,null,null,null,null,null,{"$f":"CORREL(T49:T65,U49:U65)","v":-0.99991480060742688}]
[null,{"$f":"B26","v":2004},{"$f":"C26","v":2005},{"$f":"D26","v":2006},{"$f":"E26","v":2007},{"$f":"F26","v":2008},{"$f":"G26","v":2009},{"$f":"H26","v":2010},{"$f":"I26","v":2011},{"$f":"J26","v":2012},{"$f":"K26","v":2013},{"$f":"L26","v":2014},{"$f":"M26","v":2015},{"$f":"N26","v":2016},{"$f":"O26","v":2017},{"$f":"P26","v":2018},{"$f":"Q26","v":2019},{"$f":"R26","v":2020},{"$f":"S26","v":"Y0"},"naiv","modell","típus",null,null,"Sorcímkék","Átlag / modell"]
[{"$f":"A27","v":"BKM"},{"$f":"RANK(B27,B$27:B$45,0)","v":6},{"$f":"RANK(C27,C$27:C$45,0)","v":15},15,13,13,13,13,13,13,13,13,14,13,13,13,13,14,{"$f":"S27","v":1000},{"$f":"AVERAGE(B49:R49)","v":12.941176470588236},{"$f":"'19_17'!AP71","v":949.9},2,null,null,1,1058.6416666666667]
[{"$f":"A28","v":"NOM"},{"$f":"RANK(B28,B$27:B$45,0)","v":11},12,8,11,12,12,11,11,11,11,11,11,11,11,11,11,11,{"$f":"S28","v":1000},{"$f":"AVERAGE(B50:R50)","v":11},{"$f":"'19_17'!AP72","v":983},1,null,null,2,899.4571428571428]
[{"$f":"A29","v":"KEM"},{"$f":"RANK(B29,B$27:B$45,0)","v":14},11,13,14,14,14,14,14,14,14,14,13,14,15,14,15,14,{"$f":"S29","v":1000},13.823529411764707,{"$f":"'19_17'!AP73","v":934.9},2,null,null,"Végösszeg",999.99473684210534]
[{"$f":"A30","v":"FEM"},{"$f":"RANK(B30,B$27:B$45,0)","v":4},3,3,4,3,3,3,3,4,3,3,3,3,3,3,3,3,{"$f":"S30","v":1000},3.1764705882352939,{"$f":"'19_17'!AP74","v":1116.4000000000001},1]
[{"$f":"A31","v":"PEM"},{"$f":"RANK(B31,B$27:B$45,0)","v":1},1,1,1,1,1,1,1,1,1,1,1,1,1,1,1,1,{"$f":"S31","v":1000},1,{"$f":"'19_17'!AP75","v":1153.5},1]
[{"$f":"A32","v":"GMS"},{"$f":"RANK(B32,B$27:B$45,0)","v":13},14,14,15,16,15,15,15,15,16,15,15,15,14,15,14,13,{"$f":"S32","v":1000},14.647058823529411,{"$f":"'19_17'!AP76","v":920.9},2]
[{"$f":"A33","v":"VEM"},{"$f":"RANK(B33,B$27:B$45,0)","v":9},2,5,7,7,6,6,7,6,6,7,7,7,8,7,7,7,{"$f":"S33","v":1000},6.5294117647058822,{"$f":"'19_17'!AP77","v":1059.2},1,null,null,"Sorcímkék","Átlag / naiv"]
[{"$f":"A34","v":"ZAM"},{"$f":"RANK(B34,B$27:B$45,0)","v":2},5,2,3,4,2,2,4,2,2,2,2,2,2,2,2,2,{"$f":"S34","v":1000},2.4705882352941178,{"$f":"'19_17'!AP78","v":1128.4000000000001},1,null,null,1,6.5637254901960773]
[{"$f":"A35","v":"VAM"},{"$f":"RANK(B35,B$27:B$45,0)","v":10},9,10,6,9,8,7,8,7,7,5,5,6,4,6,4,4,{"$f":"S35","v":1000},6.7647058823529411,{"$f":"'19_17'!AP79","v":1055.2},1,null,null,2,15.857142857142858]
[{"$f":"A36","v":"BAM"},{"$f":"RANK(B36,B$27:B$45,0)","v":8},13,12,12,11,11,12,12,12,12,12,12,12,12,12,12,12,{"$f":"S36","v":1000},11.705882352941176,{"$f":"'19_17'!AP80","v":971},1,null,null,"Végösszeg",9.9876160990712091]
[{"$f":"A37","v":"CSM"},{"$f":"RANK(B37,B$27:B$45,0)","v":5},6,6,8,8,9,8,9,9,9,9,10,10,10,10,10,10,{"$f":"S37","v":1000},8.5882352941176467,{"$f":"'19_17'!AP81","v":1024.0999999999999},1]
[{"$f":"A38","v":"SOM"},{"$f":"RANK(B38,B$27:B$45,0)","v":7},7,9,10,10,10,10,10,10,10,10,9,9,9,9,9,9,{"$f":"S38","v":1000},9.235294117647058,{"$f":"'19_17'!AP82","v":1013.1},1]
[{"$f":"A39","v":"BEM"},{"$f":"RANK(B39,B$27:B$45,0)","v":3},4,4,2,2,4,4,2,3,4,4,4,4,5,5,5,5,{"$f":"S39","v":1000},3.7647058823529411,{"$f":"'19_17'!AP83","v":1106.4000000000001},1]
[{"$f":"A40","v":"HBM"},{"$f":"RANK(B40,B$27:B$45,0)","v":12},16,16,16,15,16,16,16,16,15,16,16,16,16,16,16,16,{"$f":"S40","v":1000},15.647058823529411,{"$f":"'19_17'!AP84","v":903.8},2]
[{"$f":"A41","v":"JNS"},{"$f":"RANK(B41,B$27:B$45,0)","v":17},17,19,18,19,19,18,19,18,17,18,18,18,18,18,18,18,{"$f":"S41","v":1000},18.058823529411764,{"$f":"'19_17'!AP85","v":857.2},2]
[{"$f":"A42","v":"HEM"},{"$f":"RANK(B42,B$27:B$45,0)","v":15},10,10,5,5,5,5,5,5,5,6,6,5,6,4,6,6,{"$f":"S42","v":1000},6.4117647058823533,{"$f":"'19_17'!AP86","v":1061.2},1]
[{"$f":"A43","v":"BAZ"},{"$f":"RANK(B43,B$27:B$45,0)","v":19},19,18,19,18,18,19,18,19,19,18,19,19,19,19,19,19,{"$f":"S43","v":1000},18.705882352941178,{"$f":"'19_17'!AP87","v":851.7},2]
[{"$f":"A44","v":"SSB"},{"$f":"RANK(B44,B$27:B$45,0)","v":18},18,17,17,17,17,17,17,17,18,17,17,17,17,17,17,17,{"$f":"S44","v":1000},{"$f":"AVERAGE(B66:R66)","v":17.176470588235293},{"$f":"'19_17'!AP88","v":877.8},2]
["TOM",{"$f":"RANK(B45,B$27:B$45,0)","v":16},8,6,9,6,7,9,6,8,8,8,8,8,7,8,8,8,1000,8.117647058823529,{"$f":"'19_17'!AP89","v":1032.2},1]
[]
[]
[]
[]
[]
[]
[]
[]
[]
[]
[]
[]
[]
[]
[]
[]
[]
[]
[]
[]
[]
[null,null,null,null,null,null,null,null,null,null,null,null,null,null,null,null,null,null,{"$f":"CORREL(R92:R108,S92:S108)","v":1.0000000000000002}]
[null,null,null,null,null,null,null,null,null,null,null,null,null,null,null,null,null,"Y",2020]
[{"$f":"A48","v":0},{"$f":"B48","v":2004},2005,2006,2007,2008,2009,2010,2011,2012,2013,2014,2015,2016,2017,2018,2019,2020,"becslés","delta%"]
[{"$f":"A49","v":"BKM"},6,15,15,13,13,13,13,13,13,13,13,14,13,13,13,13,{"$f":"INT(R27)","v":22},{"$f":"'2020'!AN71","v":22},{"$f":"'2020'!U65","v":0},{"$f":"A92","v":"BKM"}]
["NOM",11,12,8,11,12,12,11,11,11,11,11,11,11,11,11,11,{"$f":"INT(R28)","v":152},{"$f":"'2020'!AN72","v":152},{"$f":"'2020'!U66","v":0},{"$f":"A93","v":"NOM"}]
["KEM",14,11,13,14,14,14,14,14,14,14,14,13,14,15,14,15,{"$f":"INT(R29)","v":22},{"$f":"'2020'!AN73","v":22},{"$f":"'2020'!U67","v":0},"KEM"]
["FEM",4,3,3,4,3,3,3,3,4,3,3,3,3,3,3,3,{"$f":"INT(R30)","v":289},{"$f":"'2020'!AN74","v":289},{"$f":"'2020'!U68","v":0},"FEM"]
["PEM",1,1,1,1,1,1,1,1,1,1,1,1,1,1,1,1,{"$f":"INT(R31)","v":757},{"$f":"'2020'!AN75","v":757},{"$f":"'2020'!U69","v":0},"PEM"]
["GMS",13,14,14,15,16,15,15,15,15,16,15,15,15,14,15,14,{"$f":"INT(R32)","v":27},{"$f":"'2020'!AN76","v":27},{"$f":"'2020'!U70","v":0},"GMS"]
["VEM",9,2,5,7,7,6,6,7,6,6,7,7,7,8,7,7,{"$f":"INT(R33)","v":222},{"$f":"'2020'!AN77","v":222},{"$f":"'2020'!U71","v":0},"VEM"]
["ZAM",2,5,2,3,4,2,2,4,2,2,2,2,2,2,2,2,{"$f":"INT(R34)","v":334},{"$f":"'2020'!AN78","v":334},{"$f":"'2020'!U72","v":0},"ZAM"]
["VAM",10,9,10,6,9,8,7,8,7,7,5,5,6,4,6,4,{"$f":"INT(R35)","v":263},{"$f":"'2020'!AN79","v":263},{"$f":"'2020'!U73","v":0},"VAM"]
["BAM",8,13,12,12,11,11,12,12,12,12,12,12,12,12,12,12,{"$f":"INT(R36)","v":128},{"$f":"'2020'!AN80","v":128},{"$f":"'2020'!U74","v":0},"BAM"]
["CSM",5,6,6,8,8,9,8,9,9,9,9,10,10,10,10,10,{"$f":"INT(R37)","v":165},{"$f":"'2020'!AN81","v":165},{"$f":"'2020'!U75","v":0},"CSM"]
["SOM",7,7,9,10,10,10,10,10,10,10,10,9,9,9,9,9,{"$f":"INT(R38)","v":196},{"$f":"'2020'!AN82","v":196},{"$f":"'2020'!U76","v":0},"SOM"]
["BEM",3,4,4,2,2,4,4,2,3,4,4,4,4,5,5,5,{"$f":"INT(R39)","v":245},{"$f":"'2020'!AN83","v":245},{"$f":"'2020'!U77","v":0},"BEM"]
["HBM",12,16,16,16,15,16,16,16,16,15,16,16,16,16,16,16,{"$f":"INT(R40)","v":20},{"$f":"'2020'!AN84","v":20},{"$f":"'2020'!U78","v":0},"HBM"]
["JNS",17,17,19,18,19,19,18,19,18,17,18,18,18,18,18,18,{"$f":"INT(R41)","v":3},{"$f":"'2020'!AN85","v":3},{"$f":"'2020'!U79","v":0},"JNS"]
[{"$f":"A64","v":"HEM"},15,10,10,5,5,5,5,5,5,5,6,6,5,6,4,6,{"$f":"INT(R42)","v":234},{"$f":"'2020'!AN86","v":234},{"$f":"'2020'!U80","v":0},"HEM"]
["BAZ",19,19,18,19,18,18,19,18,19,19,18,19,19,19,19,19,{"$f":"INT(R43)","v":2},{"$f":"'2020'!AN87","v":2},{"$f":"'2020'!U81","v":0},"BAZ"]
[{"$f":"A66","v":"SSB"},18,18,17,17,17,17,17,17,17,18,17,17,17,17,17,17,{"$f":"INT(R44)","v":4},{"$f":"'2020'!AN88","v":4},{"$f":"'2020'!U82","v":0},{"$f":"A109","v":"SSB"}]
[{"$f":"A67","v":"TOM"},16,8,6,9,6,7,9,6,8,8,8,8,8,7,8,8,199,{"$f":"'2020'!AN89","v":199},{"$f":"'2020'!U83","v":0},"TOM"]

{"sheet":"OAM2","index":1,"n_rows":106,"n_cols":26,"rows_kept":106,"cut":false,"hidden":false,"merged":[]}
[]
[null,1,2,3,4,5,6,7,8,9,10,11,12,13,14,15,16,17,18,19]
["Sorcímkék","Összeg / BKM","Összeg / NOM","Összeg / KEM","Összeg / FEM","Összeg / PEM","Összeg / GMS","Összeg / VEM","Összeg / ZAM","Összeg / VAM","Összeg / BAM","Összeg / CSM","Összeg / SOM","Összeg / BEM","Összeg / HBM","Összeg / JNS","Összeg / HEM","Összeg / BAZ"]
[2004,113,69,57,130,212,64,82,180,81,104,119,105,148,67,37,51,0]
[2005,49,98,101,171,257,50,175,156,119,95,140,132,163,27,24,105,10]
[2006,51,124,59,162,285,55,139,202,110,106,133,111,153,45,18,110,19]
[2007,73,114,63,233,376,57,170,237,180,110,159,135,262,38,26,209,9]
[2008,68,119,64,282,500,50,217,262,191,134,200,168,303,56,14,246,21]
[2009,114,155,58,321,579,52,243,332,211,164,196,187,310,49,17,264,20]
[2010,84,145,51,326,567,37,234,329,221,142,219,173,320,30,16,275,14]
[2011,47,138,41,278,515,37,205,277,195,125,183,147,294,28,12,251,13]
[2012,55,134,52,289,493,30,200,310,196,106,151,147,291,23,14.1,235,10.199999999999999]
[2013,44,132,40,285,435,30,222,322,208,100,163,141,260,31,16.2,228,3.7000000000000006]
[2014,43,137,39,248,463,32,192,293,215,104,155,140,238,28,6.5999999999999979,208,6.5999999999999979]
[2015,29,121,34,243,581,24,187,291,208,101,135,148,230,16,6.3999999999999995,188,4.6999999999999993]
[2016,34,113,27,211,513,24,177,284,183,95,128,138,193,18.100000000000001,9.1,184,2.3000000000000003]
[2017,26,112,18,214,563,20,157,285,201,86,128,142,191,17.100000000000001,6.4999999999999991,185,0.7]
[2018,31,121,25,254,626,19,188,308,203,98,150,163,205,17.100000000000001,9.1999999999999993,215,4.2]
[2019,30,134,20,269,656,23,202,320,226,105,150,170,216,17,4.4999999999999982,213,1.9000000000000001]
[2020,22,152,22,289,757,27,222,334,263,128,165,196,245,20,3.5000000000000004,234,2.3000000000000003]
["Végösszeg",913,2118,771,4205,8378,631,3212,4722,3211,1903,2674,2543,4022,527.30000000000007,240.09999999999997,3401,142.6]
[]
[]
[]
["irány",0,0,0,0,0,0,0,0,0,0,0,0,0,0,0,0,0]
["OAM2",2004,2005,2006,2007,2008,2009,2010,2011,2012,2013,2014,2015,2016,2017,2018,2019,2020,"Y0"]
[{"$f":"Y27","v":"BKM"},113,49,51,73,68,114,84,47,55,44,43,29,34,26,31,30,22,1000,null,null,null,"Összeg","/","BKM"]
[{"$f":"Y28","v":"NOM"},69,98,124,114,119,155,145,138,134,132,137,121,113,112,121,134,152,1000,null,null,null,"Összeg","/","NOM"]
["KEM",57,101,59,63,64,58,51,41,52,40,39,34,27,18,25,20,22,1000,null,null,null,"Összeg","/","KEM"]
["FEM",130,171,162,233,282,321,326,278,289,285,248,243,211,214,254,269,289,1000,null,null,null,"Összeg","/","FEM"]
["PEM",212,257,285,376,500,579,567,515,493,435,463,581,513,563,626,656,757,1000,null,null,null,"Összeg","/","PEM"]
["GMS",64,50,55,57,50,52,37,37,30,30,32,24,24,20,19,23,27,1000,null,null,null,"Összeg","/","GMS"]
["VEM",82,175,139,170,217,243,234,205,200,222,192,187,177,157,188,202,222,1000,null,null,null,"Összeg","/","VEM"]
["ZAM",180,156,202,237,262,332,329,277,310,322,293,291,284,285,308,320,334,1000,null,null,null,"Összeg","/","ZAM"]
["VAM",81,119,110,180,191,211,221,195,196,208,215,208,183,201,203,226,263,1000,null,null,null,"Összeg","/","VAM"]
["BAM",104,95,106,110,134,164,142,125,106,100,104,101,95,86,98,105,128,1000,null,null,null,"Összeg","/","BAM"]
["CSM",119,140,133,159,200,196,219,183,151,163,155,135,128,128,150,150,165,1000,null,null,null,"Összeg","/","CSM"]
["SOM",105,132,111,135,168,187,173,147,147,141,140,148,138,142,163,170,196,1000,null,null,null,"Összeg","/","SOM"]
["BEM",148,163,153,262,303,310,320,294,291,260,238,230,193,191,205,216,245,1000,null,null,null,"Összeg","/","BEM"]
["HBM",67,27,45,38,56,49,30,28,23,31,28,16,18.100000000000001,17.100000000000001,17.100000000000001,17,20,1000,null,null,null,"Összeg","/","HBM"]
["JNS",37,24,18,26,14,17,16,12,14.1,16.2,6.5999999999999979,6.3999999999999995,9.1,6.4999999999999991,9.1999999999999993,4.4999999999999982,3.5000000000000004,1000,null,null,null,"Összeg","/","JNS"]
["HEM",51,105,110,209,246,264,275,251,235,228,208,188,184,185,215,213,234,1000,null,null,null,"Összeg","/","HEM"]
["BAZ",0,10,19,9,21,20,14,13,10.199999999999999,3.7000000000000006,6.5999999999999979,4.6999999999999993,2.3000000000000003,0.7,4.2,1.9000000000000001,2.3000000000000003,1000,null,null,null,"Összeg","/","BAZ"]
[]
[null,null,null,null,null,null,null,null,null,null,null,null,null,null,null,null,null,null,null,null,{"$f":"CORREL(T47:T63,U47:U63)","v":-0.999941527315787}]
[null,{"$f":"B26","v":2004},{"$f":"C26","v":2005},2006,2007,2008,2009,2010,2011,2012,2013,2014,2015,2016,2017,2018,2019,2020,"Y0","naiv","modell","típus",null,null,"Sorcímkék","Átlag / modell"]
[{"$f":"A27","v":"BKM"},{"$f":"RANK(B27,B$27:B$43,0)","v":6},{"$f":"RANK(C27,C$27:C$43,0)","v":14},14,12,12,12,12,12,12,12,12,13,12,12,12,12,13,{"$f":"S27","v":1000},{"$f":"AVERAGE(B47:R47)","v":12},{"$f":"'19_17'!S65","v":948.9},2,null,null,1,1050.2818181818182]
[{"$f":"A28","v":"NOM"},{"$f":"RANK(B28,B$27:B$43,0)","v":11},11,7,10,11,11,10,10,10,10,10,10,10,10,10,10,10,{"$f":"S28","v":1000},{"$f":"AVERAGE(B48:R48)","v":10.058823529411764},{"$f":"'19_17'!S66","v":982},1,null,null,2,907.81666666666661]
["KEM",{"$f":"RANK(B29,B$27:B$43,0)","v":14},10,12,13,13,13,13,13,13,13,13,12,13,14,13,14,13,{"$f":"S29","v":1000},12.882352941176471,{"$f":"'19_17'!S67","v":933.9},2,null,null,"Végösszeg",1000]
["FEM",{"$f":"RANK(B30,B$27:B$43,0)","v":4},3,3,4,3,3,3,3,4,3,3,3,3,3,3,3,3,{"$f":"S30","v":1000},3.1764705882352939,{"$f":"'19_17'!S68","v":1099.3},1]
["PEM",{"$f":"RANK(B31,B$27:B$43,0)","v":1},1,1,1,1,1,1,1,1,1,1,1,1,1,1,1,1,{"$f":"S31","v":1000},1,{"$f":"'19_17'!S69","v":1136.4000000000001},1,null,null,"2=kötőjeles nevű megye"]
["GMS",{"$f":"RANK(B32,B$27:B$43,0)","v":13},13,13,14,15,14,14,14,14,15,14,14,14,13,14,13,12,{"$f":"S32","v":1000},13.705882352941176,{"$f":"'19_17'!S70","v":919.9},2,null,null,"(nehezen kereshető szabatosan)"]
["VEM",{"$f":"RANK(B33,B$27:B$43,0)","v":9},2,5,7,6,6,6,6,6,6,7,7,7,7,7,7,7,{"$f":"S33","v":1000},6.3529411764705879,{"$f":"'19_17'!S71","v":1045.2},1,null,null,"(azaz kevés a találat relatíve)"]
["ZAM",{"$f":"RANK(B34,B$27:B$43,0)","v":2},5,2,3,4,2,2,4,2,2,2,2,2,2,2,2,2,{"$f":"S34","v":1000},2.4705882352941178,{"$f":"'19_17'!S72","v":1111.3},1]
["VAM",{"$f":"RANK(B35,B$27:B$43,0)","v":10},8,9,6,8,7,7,7,7,7,5,5,6,4,6,4,4,{"$f":"S35","v":1000},6.4705882352941178,{"$f":"'19_17'!S73","v":1043.2},1]
["BAM",{"$f":"RANK(B36,B$27:B$43,0)","v":8},12,11,11,10,10,11,11,11,11,11,11,11,11,11,11,11,{"$f":"S36","v":1000},10.764705882352942,{"$f":"'19_17'!S74","v":970},1]
["CSM",{"$f":"RANK(B37,B$27:B$43,0)","v":5},6,6,8,7,8,8,8,8,8,8,9,9,9,9,9,9,{"$f":"S37","v":1000},7.882352941176471,{"$f":"'19_17'!S75","v":1019.1},1]
["SOM",{"$f":"RANK(B38,B$27:B$43,0)","v":7},7,8,9,9,9,9,9,9,9,9,8,8,8,8,8,8,{"$f":"S38","v":1000},8.3529411764705888,{"$f":"'19_17'!S76","v":1011.1},1]
["BEM",{"$f":"RANK(B39,B$27:B$43,0)","v":3},4,4,2,2,4,4,2,3,4,4,4,4,5,5,5,5,{"$f":"S39","v":1000},3.7647058823529411,{"$f":"'19_17'!S77","v":1089.3},1]
["HBM",{"$f":"RANK(B40,B$27:B$43,0)","v":12},15,15,15,14,15,15,15,15,14,15,15,15,15,15,15,15,{"$f":"S40","v":1000},14.705882352941176,{"$f":"'19_17'!S78","v":902.8},2]
["JNS",{"$f":"RANK(B41,B$27:B$43,0)","v":16},16,17,16,17,17,16,17,16,16,16,16,16,16,16,16,16,{"$f":"S41","v":1000},16.235294117647058,{"$f":"'19_17'!S79","v":872.7},2]
["HEM",{"$f":"RANK(B42,B$27:B$43,0)","v":15},9,9,5,5,5,5,5,5,5,6,6,5,6,4,6,6,{"$f":"S42","v":1000},6.2941176470588234,{"$f":"'19_17'!S80","v":1046.2},1]
["BAZ",{"$f":"RANK(B43,B$27:B$43,0)","v":17},17,16,17,16,16,17,16,17,17,16,17,17,17,17,17,17,{"$f":"S43","v":1000},16.705882352941178,{"$f":"'19_17'!S81","v":868.7},2]
[]
["irány",0,1,0,null,"<--mi legitimálja az irányokat? (vö. ok-okozat? Vö. nehéz-gyermekkor vs. rossz döntések?)"]
[null,"bűnesetek száma","iskolázottsági szint","munkanélküliség",null,"<--melyik megye önsors-rontó, azaz felelős azért, amilyen helyzetben van, ill. ha felelős, milyen mértékben?"]
[{"$f":"A47","v":"BKM"}]
[{"$f":"A48","v":"NOM"}]
["KEM"]
["FEM"]
["PEM"]
["GMS"]
["VEM"]
["ZAM"]
["VAM"]
["BAM"]
["CSM"]
["SOM"]
["BEM"]
["HBM"]
["JNS"]
["HEM"]
["BAZ"]
[0]
["irány"]
[]
[null,null,null,null,null,null,null,null,null,null,null,null,null,null,null,null,null,null,{"$f":"CORREL(R90:R106,S90:S106)","v":1.0000000000000002}]
[null,null,null,null,null,null,null,null,null,null,null,null,null,null,null,null,null,"Y",2020]
[{"$f":"A46","v":0},{"$f":"B46","v":2004},2005,2006,2007,2008,2009,2010,2011,2012,2013,2014,2015,2016,2017,2018,2019,2020,"becslés","delta%"]
[{"$f":"A47","v":"BKM"},6,14,14,12,12,12,12,12,12,12,12,13,12,12,12,12,{"$f":"INT(R27)","v":22},{"$f":"'2020'!R65","v":22},{"$f":"'2020'!U65","v":0},{"$f":"A90","v":"BKM"}]
[{"$f":"A48","v":"NOM"},11,11,7,10,11,11,10,10,10,10,10,10,10,10,10,10,{"$f":"INT(R28)","v":152},{"$f":"'2020'!R66","v":152},{"$f":"'2020'!U66","v":0},{"$f":"A91","v":"NOM"}]
[{"$f":"A49","v":"KEM"},14,10,12,13,13,13,13,13,13,13,13,12,13,14,13,14,22,{"$f":"'2020'!R67","v":22},{"$f":"'2020'!U67","v":0},"KEM"]
[{"$f":"A50","v":"FEM"},4,3,3,4,3,3,3,3,4,3,3,3,3,3,3,3,289,{"$f":"'2020'!R68","v":289},{"$f":"'2020'!U68","v":0},"FEM"]
[{"$f":"A51","v":"PEM"},1,1,1,1,1,1,1,1,1,1,1,1,1,1,1,1,757,{"$f":"'2020'!R69","v":757},{"$f":"'2020'!U69","v":0},"PEM"]
[{"$f":"A52","v":"GMS"},13,13,13,14,15,14,14,14,14,15,14,14,14,13,14,13,27,{"$f":"'2020'!R70","v":27},{"$f":"'2020'!U70","v":0},"GMS"]
[{"$f":"A53","v":"VEM"},9,2,5,7,6,6,6,6,6,6,7,7,7,7,7,7,222,{"$f":"'2020'!R71","v":222},{"$f":"'2020'!U71","v":0},"VEM"]
[{"$f":"A54","v":"ZAM"},2,5,2,3,4,2,2,4,2,2,2,2,2,2,2,2,334,{"$f":"'2020'!R72","v":334},{"$f":"'2020'!U72","v":0},"ZAM"]
[{"$f":"A55","v":"VAM"},10,8,9,6,8,7,7,7,7,7,5,5,6,4,6,4,263,{"$f":"'2020'!R73","v":263},{"$f":"'2020'!U73","v":0},"VAM"]
[{"$f":"A56","v":"BAM"},8,12,11,11,10,10,11,11,11,11,11,11,11,11,11,11,128,{"$f":"'2020'!R74","v":128},{"$f":"'2020'!U74","v":0},"BAM"]
[{"$f":"A57","v":"CSM"},5,6,6,8,7,8,8,8,8,8,8,9,9,9,9,9,165,{"$f":"'2020'!R75","v":165},{"$f":"'2020'!U75","v":0},"CSM"]
[{"$f":"A58","v":"SOM"},7,7,8,9,9,9,9,9,9,9,9,8,8,8,8,8,196,{"$f":"'2020'!R76","v":196},{"$f":"'2020'!U76","v":0},"SOM"]
[{"$f":"A59","v":"BEM"},3,4,4,2,2,4,4,2,3,4,4,4,4,5,5,5,245,{"$f":"'2020'!R77","v":245},{"$f":"'2020'!U77","v":0},"BEM"]
[{"$f":"A60","v":"HBM"},12,15,15,15,14,15,15,15,15,14,15,15,15,15,15,15,20,{"$f":"'2020'!R78","v":20},{"$f":"'2020'!U78","v":0},"HBM"]
[{"$f":"A61","v":"JNS"},16,16,17,16,17,17,16,17,16,16,16,16,16,16,16,16,3,{"$f":"'2020'!R79","v":3},{"$f":"'2020'!U79","v":0},"JNS"]
[{"$f":"A62","v":"HEM"},15,9,9,5,5,5,5,5,5,5,6,6,5,6,4,6,234,{"$f":"'2020'!R80","v":234},{"$f":"'2020'!U80","v":0},"HEM"]
[{"$f":"A63","v":"BAZ"},17,17,16,17,16,16,17,16,17,17,16,17,17,17,17,17,2,{"$f":"'2020'!R81","v":2},{"$f":"'2020'!U81","v":0},"BAZ"]

{"sheet":"2020","index":2,"n_rows":103,"n_cols":43,"rows_kept":103,"cut":false,"hidden":false,"merged":[]}
[]
[]
[]
[]
["Azonos�t�:",1974916,"Objektumok:",17,"Attrib�tumok:",16,"Lepcs�k:",17,"Eltol�s:",0,"Le�r�s:","COCO STD: 1974916",null,null,null,null,null,null,null,null,null,null,"Azonos�t�:",8276472,"Objektumok:",19,"Attrib�tumok:",16,"Lepcs�k:",19,"Eltol�s:",0,"Le�r�s:","COCO STD: 8276472"]
[]
["Rangsor","X(A1)","X(A2)","X(A3)","X(A4)","X(A5)","X(A6)","X(A7)","X(A8)","X(A9)","X(A10)","X(A11)","X(A12)","X(A13)","X(A14)","X(A15)","X(A16)","Y(A17)",null,null,null,null,"Rangsor","X(A1)","X(A2)","X(A3)","X(A4)","X(A5)","X(A6)","X(A7)","X(A8)","X(A9)","X(A10)","X(A11)","X(A12)","X(A13)","X(A14)","X(A15)","X(A16)","Y(A17)"]
["O1",6,14,14,12,12,12,12,12,12,12,12,13,12,12,12,12,22,null,null,null,null,"O1",6,15,15,13,13,13,13,13,13,13,13,14,13,13,13,13,22]
["O2",11,11,7,10,11,11,10,10,10,10,10,10,10,10,10,10,152,null,null,null,null,"O2",11,12,8,11,12,12,11,11,11,11,11,11,11,11,11,11,152]
["O3",14,10,12,13,13,13,13,13,13,13,13,12,13,14,13,14,22,null,null,null,null,"O3",14,11,13,14,14,14,14,14,14,14,14,13,14,15,14,15,22]
["O4",4,3,3,4,3,3,3,3,4,3,3,3,3,3,3,3,289,null,null,null,null,"O4",4,3,3,4,3,3,3,3,4,3,3,3,3,3,3,3,289]
["O5",1,1,1,1,1,1,1,1,1,1,1,1,1,1,1,1,757,null,null,null,null,"O5",1,1,1,1,1,1,1,1,1,1,1,1,1,1,1,1,757]
["O6",13,13,13,14,15,14,14,14,14,15,14,14,14,13,14,13,27,null,null,null,null,"O6",13,14,14,15,16,15,15,15,15,16,15,15,15,14,15,14,27]
["O7",9,2,5,7,6,6,6,6,6,6,7,7,7,7,7,7,222,null,null,null,null,"O7",9,2,5,7,7,6,6,7,6,6,7,7,7,8,7,7,222]
["O8",2,5,2,3,4,2,2,4,2,2,2,2,2,2,2,2,334,null,null,null,null,"O8",2,5,2,3,4,2,2,4,2,2,2,2,2,2,2,2,334]
["O9",10,8,9,6,8,7,7,7,7,7,5,5,6,4,6,4,263,null,null,null,null,"O9",10,9,10,6,9,8,7,8,7,7,5,5,6,4,6,4,263]
["O10",8,12,11,11,10,10,11,11,11,11,11,11,11,11,11,11,128,null,null,null,null,"O10",8,13,12,12,11,11,12,12,12,12,12,12,12,12,12,12,128]
["O11",5,6,6,8,7,8,8,8,8,8,8,9,9,9,9,9,165,null,null,null,null,"O11",5,6,6,8,8,9,8,9,9,9,9,10,10,10,10,10,165]
["O12",7,7,8,9,9,9,9,9,9,9,9,8,8,8,8,8,196,null,null,null,null,"O12",7,7,9,10,10,10,10,10,10,10,10,9,9,9,9,9,196]
["O13",3,4,4,2,2,4,4,2,3,4,4,4,4,5,5,5,245,null,null,null,null,"O13",3,4,4,2,2,4,4,2,3,4,4,4,4,5,5,5,245]
["O14",12,15,15,15,14,15,15,15,15,14,15,15,15,15,15,15,20,null,null,null,null,"O14",12,16,16,16,15,16,16,16,16,15,16,16,16,16,16,16,20]
["O15",16,16,17,16,17,17,16,17,16,16,16,16,16,16,16,16,3,null,null,null,null,"O15",17,17,19,18,19,19,18,19,18,17,18,18,18,18,18,18,3]
["O16",15,9,9,5,5,5,5,5,5,5,6,6,5,6,4,6,234,null,null,null,null,"O16",15,10,10,5,5,5,5,5,5,5,6,6,5,6,4,6,234]
["O17",17,17,16,17,16,16,17,16,17,17,16,17,17,17,17,17,2,null,null,null,null,"O17",19,19,18,19,18,18,19,18,19,19,18,19,19,19,19,19,2]
[null,null,null,null,null,null,null,null,null,null,null,null,null,null,null,null,null,null,null,null,null,null,"O18",18,18,17,17,17,17,17,17,17,18,17,17,17,17,17,17,4]
["L�pcs�k(1)","X(A1)","X(A2)","X(A3)","X(A4)","X(A5)","X(A6)","X(A7)","X(A8)","X(A9)","X(A10)","X(A11)","X(A12)","X(A13)","X(A14)","X(A15)","X(A16)",null,null,null,null,null,"O19",16,8,6,9,6,7,9,6,8,8,8,8,8,7,8,8,199]
["S1","(0+428)/(1)=428","(0+38)/(1)=38","(0+37)/(1)=37","(0+27)/(1)=27","(0+103)/(1)=103","(0+0)/(1)=0","(0+0)/(1)=0","(0+0)/(1)=0","(0+0)/(1)=0","(0+0)/(1)=0","(0+0)/(1)=0","(0+53)/(1)=53","(0+0)/(1)=0","(0+45)/(1)=45","(0+26)/(1)=26","(0+0)/(1)=0"]
["S2","(0+58)/(1)=58","(0+38)/(1)=38","(0+37)/(1)=37","(0+27)/(1)=27","(0+103)/(1)=103","(0+0)/(1)=0","(0+0)/(1)=0","(0+0)/(1)=0","(0+0)/(1)=0","(0+0)/(1)=0","(0+0)/(1)=0","(0+53)/(1)=53","(0+0)/(1)=0","(0+45)/(1)=45","(0+26)/(1)=26","(0+0)/(1)=0",null,null,null,null,null,"L�pcs�k(1)","X(A1)","X(A2)","X(A3)","X(A4)","X(A5)","X(A6)","X(A7)","X(A8)","X(A9)","X(A10)","X(A11)","X(A12)","X(A13)","X(A14)","X(A15)","X(A16)"]
["S3","(0+13)/(1)=13","(0+12)/(1)=12","(0+37)/(1)=37","(0+0)/(1)=0","(0+103)/(1)=103","(0+0)/(1)=0","(0+0)/(1)=0","(0+0)/(1)=0","(0+0)/(1)=0","(0+0)/(1)=0","(0+0)/(1)=0","(0+53)/(1)=53","(0+0)/(1)=0","(0+45)/(1)=45","(0+26)/(1)=26","(0+0)/(1)=0",null,null,null,null,null,"S1","(0+432)/(1)=432","(0+34)/(1)=34","(0+36)/(1)=36","(0+29)/(1)=29","(0+102)/(1)=102","(0+0)/(1)=0","(0+0)/(1)=0","(0+0)/(1)=0","(0+0)/(1)=0","(0+0)/(1)=0","(0+0)/(1)=0","(0+0)/(1)=0","(0+0)/(1)=0","(0+99)/(1)=99","(0+25)/(1)=25","(0+0)/(1)=0"]
["S4","(0+13)/(1)=13","(0+12)/(1)=12","(0+37)/(1)=37","(0+0)/(1)=0","(0+103)/(1)=103","(0+0)/(1)=0","(0+0)/(1)=0","(0+0)/(1)=0","(0+0)/(1)=0","(0+0)/(1)=0","(0+0)/(1)=0","(0+53)/(1)=53","(0+0)/(1)=0","(0+45)/(1)=45","(0+26)/(1)=26","(0+0)/(1)=0",null,null,null,null,null,"S2","(0+65)/(1)=65","(0+34)/(1)=34","(0+36)/(1)=36","(0+29)/(1)=29","(0+102)/(1)=102","(0+0)/(1)=0","(0+0)/(1)=0","(0+0)/(1)=0","(0+0)/(1)=0","(0+0)/(1)=0","(0+0)/(1)=0","(0+0)/(1)=0","(0+0)/(1)=0","(0+99)/(1)=99","(0+25)/(1)=25","(0+0)/(1)=0"]
["S5","(0+13)/(1)=13","(0+12)/(1)=12","(0+37)/(1)=37","(0+0)/(1)=0","(0+103)/(1)=103","(0+0)/(1)=0","(0+0)/(1)=0","(0+0)/(1)=0","(0+0)/(1)=0","(0+0)/(1)=0","(0+0)/(1)=0","(0+53)/(1)=53","(0+0)/(1)=0","(0+0)/(1)=0","(0+0)/(1)=0","(0+0)/(1)=0",null,null,null,null,null,"S3","(0+20)/(1)=20","(0+7)/(1)=7","(0+36)/(1)=36","(0+0)/(1)=0","(0+102)/(1)=102","(0+0)/(1)=0","(0+0)/(1)=0","(0+0)/(1)=0","(0+0)/(1)=0","(0+0)/(1)=0","(0+0)/(1)=0","(0+0)/(1)=0","(0+0)/(1)=0","(0+99)/(1)=99","(0+25)/(1)=25","(0+0)/(1)=0"]
["S6","(0+13)/(1)=13","(0+12)/(1)=12","(0+37)/(1)=37","(0+0)/(1)=0","(0+103)/(1)=103","(0+0)/(1)=0","(0+0)/(1)=0","(0+0)/(1)=0","(0+0)/(1)=0","(0+0)/(1)=0","(0+0)/(1)=0","(0+53)/(1)=53","(0+0)/(1)=0","(0+0)/(1)=0","(0+0)/(1)=0","(0+0)/(1)=0",null,null,null,null,null,"S4","(0+20)/(1)=20","(0+7)/(1)=7","(0+36)/(1)=36","(0+0)/(1)=0","(0+102)/(1)=102","(0+0)/(1)=0","(0+0)/(1)=0","(0+0)/(1)=0","(0+0)/(1)=0","(0+0)/(1)=0","(0+0)/(1)=0","(0+0)/(1)=0","(0+0)/(1)=0","(0+99)/(1)=99","(0+25)/(1)=25","(0+0)/(1)=0"]
["S7","(0+13)/(1)=13","(0+12)/(1)=12","(0+37)/(1)=37","(0+0)/(1)=0","(0+103)/(1)=103","(0+0)/(1)=0","(0+0)/(1)=0","(0+0)/(1)=0","(0+0)/(1)=0","(0+0)/(1)=0","(0+0)/(1)=0","(0+31)/(1)=31","(0+0)/(1)=0","(0+0)/(1)=0","(0+0)/(1)=0","(0+0)/(1)=0",null,null,null,null,null,"S5","(0+20)/(1)=20","(0+7)/(1)=7","(0+36)/(1)=36","(0+0)/(1)=0","(0+102)/(1)=102","(0+0)/(1)=0","(0+0)/(1)=0","(0+0)/(1)=0","(0+0)/(1)=0","(0+0)/(1)=0","(0+0)/(1)=0","(0+0)/(1)=0","(0+0)/(1)=0","(0+51)/(1)=51","(0+0)/(1)=0","(0+0)/(1)=0"]
["S8","(0+13)/(1)=13","(0+12)/(1)=12","(0+37)/(1)=37","(0+0)/(1)=0","(0+103)/(1)=103","(0+0)/(1)=0","(0+0)/(1)=0","(0+0)/(1)=0","(0+0)/(1)=0","(0+0)/(1)=0","(0+0)/(1)=0","(0+31)/(1)=31","(0+0)/(1)=0","(0+0)/(1)=0","(0+0)/(1)=0","(0+0)/(1)=0",null,null,null,null,null,"S6","(0+20)/(1)=20","(0+7)/(1)=7","(0+36)/(1)=36","(0+0)/(1)=0","(0+102)/(1)=102","(0+0)/(1)=0","(0+0)/(1)=0","(0+0)/(1)=0","(0+0)/(1)=0","(0+0)/(1)=0","(0+0)/(1)=0","(0+0)/(1)=0","(0+0)/(1)=0","(0+51)/(1)=51","(0+0)/(1)=0","(0+0)/(1)=0"]
["S9","(0+13)/(1)=13","(0+12)/(1)=12","(0+37)/(1)=37","(0+0)/(1)=0","(0+103)/(1)=103","(0+0)/(1)=0","(0+0)/(1)=0","(0+0)/(1)=0","(0+0)/(1)=0","(0+0)/(1)=0","(0+0)/(1)=0","(0+0)/(1)=0","(0+0)/(1)=0","(0+0)/(1)=0","(0+0)/(1)=0","(0+0)/(1)=0",null,null,null,null,null,"S7","(0+20)/(1)=20","(0+7)/(1)=7","(0+36)/(1)=36","(0+0)/(1)=0","(0+102)/(1)=102","(0+0)/(1)=0","(0+0)/(1)=0","(0+0)/(1)=0","(0+0)/(1)=0","(0+0)/(1)=0","(0+0)/(1)=0","(0+0)/(1)=0","(0+0)/(1)=0","(0+51)/(1)=51","(0+0)/(1)=0","(0+0)/(1)=0"]
["S10","(0+13)/(1)=13","(0+12)/(1)=12","(0+0)/(1)=0","(0+0)/(1)=0","(0+103)/(1)=103","(0+0)/(1)=0","(0+0)/(1)=0","(0+0)/(1)=0","(0+0)/(1)=0","(0+0)/(1)=0","(0+0)/(1)=0","(0+0)/(1)=0","(0+0)/(1)=0","(0+0)/(1)=0","(0+0)/(1)=0","(0+0)/(1)=0",null,null,null,null,null,"S8","(0+19)/(1)=19","(0+7)/(1)=7","(0+36)/(1)=36","(0+0)/(1)=0","(0+102)/(1)=102","(0+0)/(1)=0","(0+0)/(1)=0","(0+0)/(1)=0","(0+0)/(1)=0","(0+0)/(1)=0","(0+0)/(1)=0","(0+0)/(1)=0","(0+0)/(1)=0","(0+31)/(1)=31","(0+0)/(1)=0","(0+0)/(1)=0"]
["S11","(0+13)/(1)=13","(0+12)/(1)=12","(0+0)/(1)=0","(0+0)/(1)=0","(0+90)/(1)=90","(0+0)/(1)=0","(0+0)/(1)=0","(0+0)/(1)=0","(0+0)/(1)=0","(0+0)/(1)=0","(0+0)/(1)=0","(0+0)/(1)=0","(0+0)/(1)=0","(0+0)/(1)=0","(0+0)/(1)=0","(0+0)/(1)=0",null,null,null,null,null,"S9","(0+19)/(1)=19","(0+7)/(1)=7","(0+36)/(1)=36","(0+0)/(1)=0","(0+102)/(1)=102","(0+0)/(1)=0","(0+0)/(1)=0","(0+0)/(1)=0","(0+0)/(1)=0","(0+0)/(1)=0","(0+0)/(1)=0","(0+0)/(1)=0","(0+0)/(1)=0","(0+31)/(1)=31","(0+0)/(1)=0","(0+0)/(1)=0"]
["S12","(0+13)/(1)=13","(0+12)/(1)=12","(0+0)/(1)=0","(0+0)/(1)=0","(0+9)/(1)=9","(0+0)/(1)=0","(0+0)/(1)=0","(0+0)/(1)=0","(0+0)/(1)=0","(0+0)/(1)=0","(0+0)/(1)=0","(0+0)/(1)=0","(0+0)/(1)=0","(0+0)/(1)=0","(0+0)/(1)=0","(0+0)/(1)=0",null,null,null,null,null,"S10","(0+19)/(1)=19","(0+7)/(1)=7","(0+36)/(1)=36","(0+0)/(1)=0","(0+102)/(1)=102","(0+0)/(1)=0","(0+0)/(1)=0","(0+0)/(1)=0","(0+0)/(1)=0","(0+0)/(1)=0","(0+0)/(1)=0","(0+0)/(1)=0","(0+0)/(1)=0","(0+0)/(1)=0","(0+0)/(1)=0","(0+0)/(1)=0"]
["S13","(0+13)/(1)=13","(0+12)/(1)=12","(0+0)/(1)=0","(0+0)/(1)=0","(0+7)/(1)=7","(0+0)/(1)=0","(0+0)/(1)=0","(0+0)/(1)=0","(0+0)/(1)=0","(0+0)/(1)=0","(0+0)/(1)=0","(0+0)/(1)=0","(0+0)/(1)=0","(0+0)/(1)=0","(0+0)/(1)=0","(0+0)/(1)=0",null,null,null,null,null,"S11","(0+19)/(1)=19","(0+7)/(1)=7","(0+0)/(1)=0","(0+0)/(1)=0","(0+102)/(1)=102","(0+0)/(1)=0","(0+0)/(1)=0","(0+0)/(1)=0","(0+0)/(1)=0","(0+0)/(1)=0","(0+0)/(1)=0","(0+0)/(1)=0","(0+0)/(1)=0","(0+0)/(1)=0","(0+0)/(1)=0","(0+0)/(1)=0"]
["S14","(0+3)/(1)=3","(0+0)/(1)=0","(0+0)/(1)=0","(0+0)/(1)=0","(0+7)/(1)=7","(0+0)/(1)=0","(0+0)/(1)=0","(0+0)/(1)=0","(0+0)/(1)=0","(0+0)/(1)=0","(0+0)/(1)=0","(0+0)/(1)=0","(0+0)/(1)=0","(0+0)/(1)=0","(0+0)/(1)=0","(0+0)/(1)=0",null,null,null,null,null,"S12","(0+18)/(1)=18","(0+7)/(1)=7","(0+0)/(1)=0","(0+0)/(1)=0","(0+90)/(1)=90","(0+0)/(1)=0","(0+0)/(1)=0","(0+0)/(1)=0","(0+0)/(1)=0","(0+0)/(1)=0","(0+0)/(1)=0","(0+0)/(1)=0","(0+0)/(1)=0","(0+0)/(1)=0","(0+0)/(1)=0","(0+0)/(1)=0"]
["S15","(0+3)/(1)=3","(0+0)/(1)=0","(0+0)/(1)=0","(0+0)/(1)=0","(0+2)/(1)=2","(0+0)/(1)=0","(0+0)/(1)=0","(0+0)/(1)=0","(0+0)/(1)=0","(0+0)/(1)=0","(0+0)/(1)=0","(0+0)/(1)=0","(0+0)/(1)=0","(0+0)/(1)=0","(0+0)/(1)=0","(0+0)/(1)=0",null,null,null,null,null,"S13","(0+18)/(1)=18","(0+7)/(1)=7","(0+0)/(1)=0","(0+0)/(1)=0","(0+2)/(1)=2","(0+0)/(1)=0","(0+0)/(1)=0","(0+0)/(1)=0","(0+0)/(1)=0","(0+0)/(1)=0","(0+0)/(1)=0","(0+0)/(1)=0","(0+0)/(1)=0","(0+0)/(1)=0","(0+0)/(1)=0","(0+0)/(1)=0"]
["S16","(0+3)/(1)=3","(0+0)/(1)=0","(0+0)/(1)=0","(0+0)/(1)=0","(0+2)/(1)=2","(0+0)/(1)=0","(0+0)/(1)=0","(0+0)/(1)=0","(0+0)/(1)=0","(0+0)/(1)=0","(0+0)/(1)=0","(0+0)/(1)=0","(0+0)/(1)=0","(0+0)/(1)=0","(0+0)/(1)=0","(0+0)/(1)=0",null,null,null,null,null,"S14","(0+13)/(1)=13","(0+7)/(1)=7","(0+0)/(1)=0","(0+0)/(1)=0","(0+2)/(1)=2","(0+0)/(1)=0","(0+0)/(1)=0","(0+0)/(1)=0","(0+0)/(1)=0","(0+0)/(1)=0","(0+0)/(1)=0","(0+0)/(1)=0","(0+0)/(1)=0","(0+0)/(1)=0","(0+0)/(1)=0","(0+0)/(1)=0"]
["S17","(0+0)/(1)=0","(0+0)/(1)=0","(0+0)/(1)=0","(0+0)/(1)=0","(0+0)/(1)=0","(0+0)/(1)=0","(0+0)/(1)=0","(0+0)/(1)=0","(0+0)/(1)=0","(0+0)/(1)=0","(0+0)/(1)=0","(0+0)/(1)=0","(0+0)/(1)=0","(0+0)/(1)=0","(0+0)/(1)=0","(0+0)/(1)=0",null,null,null,null,null,"S15","(0+13)/(1)=13","(0+0)/(1)=0","(0+0)/(1)=0","(0+0)/(1)=0","(0+2)/(1)=2","(0+0)/(1)=0","(0+0)/(1)=0","(0+0)/(1)=0","(0+0)/(1)=0","(0+0)/(1)=0","(0+0)/(1)=0","(0+0)/(1)=0","(0+0)/(1)=0","(0+0)/(1)=0","(0+0)/(1)=0","(0+0)/(1)=0"]
[null,null,null,null,null,null,null,null,null,null,null,null,null,null,null,null,null,null,null,null,null,null,"S16","(0+3)/(1)=3","(0+0)/(1)=0","(0+0)/(1)=0","(0+0)/(1)=0","(0+2)/(1)=2","(0+0)/(1)=0","(0+0)/(1)=0","(0+0)/(1)=0","(0+0)/(1)=0","(0+0)/(1)=0","(0+0)/(1)=0","(0+0)/(1)=0","(0+0)/(1)=0","(0+0)/(1)=0","(0+0)/(1)=0","(0+0)/(1)=0"]
["L�pcs�k(2)","X(A1)","X(A2)","X(A3)","X(A4)","X(A5)","X(A6)","X(A7)","X(A8)","X(A9)","X(A10)","X(A11)","X(A12)","X(A13)","X(A14)","X(A15)","X(A16)",null,null,null,null,null,"S17","(0+3)/(1)=3","(0+0)/(1)=0","(0+0)/(1)=0","(0+0)/(1)=0","(0+2)/(1)=2","(0+0)/(1)=0","(0+0)/(1)=0","(0+0)/(1)=0","(0+0)/(1)=0","(0+0)/(1)=0","(0+0)/(1)=0","(0+0)/(1)=0","(0+0)/(1)=0","(0+0)/(1)=0","(0+0)/(1)=0","(0+0)/(1)=0"]
["S1",428,38,37,27,103,0,0,0,0,0,0,53,0,45,26,0,null,null,null,null,null,"S18","(0+2)/(1)=2","(0+0)/(1)=0","(0+0)/(1)=0","(0+0)/(1)=0","(0+2)/(1)=2","(0+0)/(1)=0","(0+0)/(1)=0","(0+0)/(1)=0","(0+0)/(1)=0","(0+0)/(1)=0","(0+0)/(1)=0","(0+0)/(1)=0","(0+0)/(1)=0","(0+0)/(1)=0","(0+0)/(1)=0","(0+0)/(1)=0"]
["S2",58,38,37,27,103,0,0,0,0,0,0,53,0,45,26,0,null,null,null,null,null,"S19","(0+0)/(1)=0","(0+0)/(1)=0","(0+0)/(1)=0","(0+0)/(1)=0","(0+0)/(1)=0","(0+0)/(1)=0","(0+0)/(1)=0","(0+0)/(1)=0","(0+0)/(1)=0","(0+0)/(1)=0","(0+0)/(1)=0","(0+0)/(1)=0","(0+0)/(1)=0","(0+0)/(1)=0","(0+0)/(1)=0","(0+0)/(1)=0"]
["S3",13,12,37,0,103,0,0,0,0,0,0,53,0,45,26,0]
["S4",13,12,37,0,103,0,0,0,0,0,0,53,0,45,26,0,null,null,null,null,null,"L�pcs�k(2)","X(A1)","X(A2)","X(A3)","X(A4)","X(A5)","X(A6)","X(A7)","X(A8)","X(A9)","X(A10)","X(A11)","X(A12)","X(A13)","X(A14)","X(A15)","X(A16)"]
["S5",13,12,37,0,103,0,0,0,0,0,0,53,0,0,0,0,null,null,null,null,null,"S1",432,34,36,29,102,0,0,0,0,0,0,0,0,99,25,0]
["S6",13,12,37,0,103,0,0,0,0,0,0,53,0,0,0,0,null,null,null,null,null,"S2",65,34,36,29,102,0,0,0,0,0,0,0,0,99,25,0]
["S7",13,12,37,0,103,0,0,0,0,0,0,31,0,0,0,0,null,null,null,null,null,"S3",20,7,36,0,102,0,0,0,0,0,0,0,0,99,25,0]
["S8",13,12,37,0,103,0,0,0,0,0,0,31,0,0,0,0,null,null,null,null,null,"S4",20,7,36,0,102,0,0,0,0,0,0,0,0,99,25,0]
["S9",13,12,37,0,103,0,0,0,0,0,0,0,0,0,0,0,null,null,null,null,null,"S5",20,7,36,0,102,0,0,0,0,0,0,0,0,51,0,0]
["S10",13,12,0,0,103,0,0,0,0,0,0,0,0,0,0,0,null,null,null,null,null,"S6",20,7,36,0,102,0,0,0,0,0,0,0,0,51,0,0]
["S11",13,12,0,0,90,0,0,0,0,0,0,0,0,0,0,0,null,null,null,null,null,"S7",20,7,36,0,102,0,0,0,0,0,0,0,0,51,0,0]
["S12",13,12,0,0,9,0,0,0,0,0,0,0,0,0,0,0,null,null,null,null,null,"S8",19,7,36,0,102,0,0,0,0,0,0,0,0,31,0,0]
["S13",13,12,0,0,7,0,0,0,0,0,0,0,0,0,0,0,null,null,null,null,null,"S9",19,7,36,0,102,0,0,0,0,0,0,0,0,31,0,0]
["S14",3,0,0,0,7,0,0,0,0,0,0,0,0,0,0,0,null,null,null,null,null,"S10",19,7,36,0,102,0,0,0,0,0,0,0,0,0,0,0]
["S15",3,0,0,0,2,0,0,0,0,0,0,0,0,0,0,0,null,null,null,null,null,"S11",19,7,0,0,102,0,0,0,0,0,0,0,0,0,0,0]
["S16",3,0,0,0,2,0,0,0,0,0,0,0,0,0,0,0,null,null,null,null,null,"S12",18,7,0,0,90,0,0,0,0,0,0,0,0,0,0,0]
["S17",0,0,0,0,0,0,0,0,0,0,0,0,0,0,0,0,null,null,null,null,null,"S13",18,7,0,0,2,0,0,0,0,0,0,0,0,0,0,0]
[null,null,null,null,null,null,null,null,null,null,null,null,null,null,null,null,null,null,null,null,null,null,"S14",13,7,0,0,2,0,0,0,0,0,0,0,0,0,0,0]
["COCO:STD","X(A1)","X(A2)","X(A3)","X(A4)","X(A5)","X(A6)","X(A7)","X(A8)","X(A9)","X(A10)","X(A11)","X(A12)","X(A13)","X(A14)","X(A15)","X(A16)","Becsl�s","T�ny+0","Delta","Delta/T�ny",null,"S15",13,0,0,0,2,0,0,0,0,0,0,0,0,0,0,0]
["O1",13,0,0,0,9,0,0,0,0,0,0,0,0,0,0,0,22,22,0,0,null,"S16",3,0,0,0,2,0,0,0,0,0,0,0,0,0,0,0]
["O2",13,12,37,0,90,0,0,0,0,0,0,0,0,0,0,0,152,152,0,0,null,"S17",3,0,0,0,2,0,0,0,0,0,0,0,0,0,0,0]
["O3",3,12,0,0,7,0,0,0,0,0,0,0,0,0,0,0,22,22,0,0,null,"S18",2,0,0,0,2,0,0,0,0,0,0,0,0,0,0,0]
["O4",13,12,37,0,103,0,0,0,0,0,0,53,0,45,26,0,289,289,0,0,null,"S19",0,0,0,0,0,0,0,0,0,0,0,0,0,0,0,0]
["O5",428,38,37,27,103,0,0,0,0,0,0,53,0,45,26,0,757,757,0,0]
["O6",13,12,0,0,2,0,0,0,0,0,0,0,0,0,0,0,27,27,0,0,null,"COCO:STD","X(A1)","X(A2)","X(A3)","X(A4)","X(A5)","X(A6)","X(A7)","X(A8)","X(A9)","X(A10)","X(A11)","X(A12)","X(A13)","X(A14)","X(A15)","X(A16)","Becsl�s","T�ny+0","Delta","Delta/T�ny"]
["O7",13,38,37,0,103,0,0,0,0,0,0,31,0,0,0,0,222,222,0,0,null,"O1",20,0,0,0,2,0,0,0,0,0,0,0,0,0,0,0,22,22,0,0]
["O8",58,12,37,0,103,0,0,0,0,0,0,53,0,45,26,0,334,334,0,0,null,"O2",19,7,36,0,90,0,0,0,0,0,0,0,0,0,0,0,152,152,0,0]
["O9",13,12,37,0,103,0,0,0,0,0,0,53,0,45,0,0,263,263,0,0,null,"O3",13,7,0,0,2,0,0,0,0,0,0,0,0,0,0,0,22,22,0,0]
["O10",13,12,0,0,103,0,0,0,0,0,0,0,0,0,0,0,128,128,0,0,null,"O4",20,7,36,0,102,0,0,0,0,0,0,0,0,99,25,0,289,289,0,0]
["O11",13,12,37,0,103,0,0,0,0,0,0,0,0,0,0,0,165,165,0,0,null,"O5",432,34,36,29,102,0,0,0,0,0,0,0,0,99,25,0,757,757,0,0]
["O12",13,12,37,0,103,0,0,0,0,0,0,31,0,0,0,0,196,196,0,0,null,"O6",18,7,0,0,2,0,0,0,0,0,0,0,0,0,0,0,27,27,0,0]
["O13",13,12,37,27,103,0,0,0,0,0,0,53,0,0,0,0,245,245,0,0,null,"O7",19,34,36,0,102,0,0,0,0,0,0,0,0,31,0,0,222,222,0,0]
["O14",13,0,0,0,7,0,0,0,0,0,0,0,0,0,0,0,20,20,0,0,null,"O8",65,7,36,0,102,0,0,0,0,0,0,0,0,99,25,0,334,334,0,0]
["O15",3,0,0,0,0,0,0,0,0,0,0,0,0,0,0,0,3,3,0,0,null,"O9",19,7,36,0,102,0,0,0,0,0,0,0,0,99,0,0,263,263,0,0]
["O16",3,12,37,0,103,0,0,0,0,0,0,53,0,0,26,0,234,234,0,0,null,"O10",19,7,0,0,102,0,0,0,0,0,0,0,0,0,0,0,128,128,0,0]
["O17",0,0,0,0,2,0,0,0,0,0,0,0,0,0,0,0,2,2,0,0,null,"O11",20,7,36,0,102,0,0,0,0,0,0,0,0,0,0,0,165,165,0,0]
[null,null,null,null,null,null,null,null,null,null,null,null,null,null,null,null,null,null,null,null,null,null,"O12",20,7,36,0,102,0,0,0,0,0,0,0,0,31,0,0,196,196,0,0]
["S1 �sszeg:",757,null,null,null,null,null,null,null,null,null,null,null,null,null,null,null,null,null,null,null,null,"O13",20,7,36,29,102,0,0,0,0,0,0,0,0,51,0,0,245,245,0,0]
["S17 �sszeg:",0,null,null,null,null,null,null,null,null,null,null,null,null,null,null,null,null,null,null,null,null,"O14",18,0,0,0,2,0,0,0,0,0,0,0,0,0,0,0,20,20,0,0]
["Becsl�s �sszeg:",3081,null,null,null,null,null,null,null,null,null,null,null,null,null,null,null,null,null,null,null,null,"O15",3,0,0,0,0,0,0,0,0,0,0,0,0,0,0,0,3,3,0,0]
["T�ny �sszeg:",3081,null,null,null,null,null,null,null,null,null,null,null,null,null,null,null,null,null,null,null,null,"O16",13,7,36,0,102,0,0,0,0,0,0,0,0,51,25,0,234,234,0,0]
["T�ny-becsl�s elt�r�s:",0,null,null,null,null,null,null,null,null,null,null,null,null,null,null,null,null,null,null,null,null,"O17",0,0,0,0,2,0,0,0,0,0,0,0,0,0,0,0,2,2,0,0]
["T�ny n�gyzet�sszeg:",null,null,null,null,null,null,null,null,null,null,null,null,null,null,null,null,null,null,null,null,null,"O18",2,0,0,0,2,0,0,0,0,0,0,0,0,0,0,0,4,4,0,0]
["Becsl�s n�gyzet�sszeg:",null,null,null,null,null,null,null,null,null,null,null,null,null,null,null,null,null,null,null,null,null,"O19",3,7,36,0,102,0,0,0,0,0,0,0,0,51,0,0,199,199,0,0]
["N�gyzet�sszeg hiba:",0]
[null,null,null,null,null,null,null,null,null,null,null,null,null,null,null,null,null,null,null,null,null,null,"S1 �sszeg:",757]
["Open url",null,null,null,null,null,null,null,null,null,null,null,null,null,null,null,null,null,null,null,null,null,"S19 �sszeg:",0]
[null,null,null,null,null,null,null,null,null,null,null,null,null,null,null,null,null,null,null,null,null,null,"Becsl�s �sszeg:",3284]
["Maxim�lis mem�ria haszn�lat: 1.48 Mb",null,null,null,null,null,null,null,null,null,null,null,null,null,null,null,null,null,null,null,null,null,"T�ny �sszeg:",3284]
["A futtat�s id�tartama: 0.05 mp (0 p)",null,null,null,null,null,null,null,null,null,null,null,null,null,null,null,null,null,null,null,null,null,"T�ny-becsl�s elt�r�s:",0]
[null,null,null,null,null,null,null,null,null,null,null,null,null,null,null,null,null,null,null,null,null,null,"T�ny n�gyzet�sszeg:"]
[null,null,null,null,null,null,null,null,null,null,null,null,null,null,null,null,null,null,null,null,null,null,"Becsl�s n�gyzet�sszeg:"]
[null,null,null,null,null,null,null,null,null,null,null,null,null,null,null,null,null,null,null,null,null,null,"N�gyzet�sszeg hiba:",0]
[]
[null,null,null,null,null,null,null,null,null,null,null,null,null,null,null,null,null,null,null,null,null,null,"Open url"]
[]
[null,null,null,null,null,null,null,null,null,null,null,null,null,null,null,null,null,null,null,null,null,null,"Maxim�lis mem�ria haszn�lat: 1.49 Mb"]
[null,null,null,null,null,null,null,null,null,null,null,null,null,null,null,null,null,null,null,null,null,null,"A futtat�s id�tartama: 0.07 mp (0 p)"]

{"sheet":"multiTimeline (1)","index":3,"n_rows":207,"n_cols":46,"rows_kept":207,"cut":false,"hidden":false,"merged":[]}
["KategĂłria: Minden kategĂłria",null,null,null,{"$f":"204*21","v":4284},{"$f":"COUNT(A4:U207)","v":4284}]
["HĂłnap,\"\"\"BĂˇcs-Kiskun megye\"\": (VilĂˇgszerte)\",\"\"\"NĂłgrĂˇd megye\"\": (VilĂˇgszerte)\",\"\"\"KomĂˇrom-Esztergom megye\"\": (VilĂˇgszerte)\",\"\"\"FejĂ©r megye\"\": (VilĂˇgszerte)\",\"\"\"Pest megye\"\": (VilĂˇgszerte)\"",null,null,null,null,null,null,null,null,null,null,null,null,null,null,null,null,null,null,null,null,null,null,null,null,null,null,null,null,null,null,null,null,null,null,null,null,null,null,null,null,null,null,null,{"$f":"CORREL(AR4:AR207,AS4:AS207)","v":-0.92510981442765972}]
["EV","HO","BKM","NOM","KEM","FEM","PEM","GMS","VEM","ZAM","VAM","BAM","CSM","SOM","BEM","HBM","JNS","HEM","BAZ","SSB","TOM","Y0",null,{"$f":"C3","v":"BKM"},{"$f":"D3","v":"NOM"},"KEM","FEM","PEM","GMS","VEM","ZAM","VAM","BAM","CSM","SOM","BEM","HBM","JNS","HEM","BAZ","SSB","TOM","Y0","naiv","modell","Bp"]
[2004,1,11,0,11,11,32,{"$f":"'multiTimeline (2)'!C4","v":0},{"$f":"'multiTimeline (2)'!D4","v":0},{"$f":"'multiTimeline (2)'!E4","v":21},{"$f":"'multiTimeline (2)'!F4","v":11},{"$f":"'multiTimeline (3)'!C4","v":11},{"$f":"'multiTimeline (3)'!D4","v":11},{"$f":"'multiTimeline (3)'!E4","v":11},{"$f":"'multiTimeline (3)'!F4","v":0},{"$f":"'multiTimeline (4)'!C4","v":11},{"$f":"'multiTimeline (4)'!D4","v":11},{"$f":"'multiTimeline (4)'!E4","v":0},{"$f":"'multiTimeline (4)'!F4","v":0},{"$f":"'multiTimeline (5)'!C4","v":0},{"$f":"'multiTimeline (5)'!E4","v":0},10000000,null,{"$f":"RANK(C4,C$4:C$207,0)","v":10},{"$f":"RANK(D4,D$4:D$207,0)","v":198},6,188,158,188,201,141,168,42,130,128,203,2,2,194,122,161,196,10000000,{"$f":"AVERAGE(X4:AP4)","v":128.31578947368422},{"$f":"'204_19'!U626","v":9999809.5},{"$f":"'multiTimeline (6)'!C4","v":45}]
[2004,2,11,0,0,11,21,{"$f":"'multiTimeline (2)'!C5","v":0},{"$f":"'multiTimeline (2)'!D5","v":0},{"$f":"'multiTimeline (2)'!E5","v":16},{"$f":"'multiTimeline (2)'!F5","v":0},{"$f":"'multiTimeline (3)'!C5","v":17},{"$f":"'multiTimeline (3)'!D5","v":22},{"$f":"'multiTimeline (3)'!E5","v":11},{"$f":"'multiTimeline (3)'!F5","v":22},{"$f":"'multiTimeline (4)'!C5","v":11},{"$f":"'multiTimeline (4)'!D5","v":0},{"$f":"'multiTimeline (4)'!E5","v":0},{"$f":"'multiTimeline (4)'!F5","v":0},{"$f":"'multiTimeline (5)'!C5","v":0},{"$f":"'multiTimeline (5)'!E5","v":0},10000000,null,{"$f":"RANK(C5,C$4:C$207,0)","v":10},{"$f":"RANK(D5,D$4:D$207,0)","v":198},{"$f":"RANK(E5,E$4:E$207,0)","v":195},{"$f":"RANK(F5,F$4:F$207,0)","v":188},{"$f":"RANK(G5,G$4:G$207,0)","v":185},{"$f":"RANK(H5,H$4:H$207,0)","v":188},{"$f":"RANK(I5,I$4:I$207,0)","v":201},{"$f":"RANK(J5,J$4:J$207,0)","v":175},{"$f":"RANK(K5,K$4:K$207,0)","v":201},{"$f":"RANK(L5,L$4:L$207,0)","v":2},{"$f":"RANK(M5,M$4:M$207,0)","v":7},{"$f":"RANK(N5,N$4:N$207,0)","v":128},{"$f":"RANK(O5,O$4:O$207,0)","v":63},{"$f":"RANK(P5,P$4:P$207,0)","v":2},{"$f":"RANK(Q5,Q$4:Q$207,0)","v":145},{"$f":"RANK(R5,R$4:R$207,0)","v":194},{"$f":"RANK(S5,S$4:S$207,0)","v":122},{"$f":"RANK(T5,T$4:T$207,0)","v":161},{"$f":"RANK(U5,U$4:U$207,0)","v":196},{"$f":"V5","v":10000000},{"$f":"AVERAGE(X5:AP5)","v":134.78947368421052},{"$f":"'204_19'!U627","v":9999806.5},{"$f":"'multiTimeline (6)'!C5","v":52}]
[2004,3,19,19,13,26,26,{"$f":"'multiTimeline (2)'!C6","v":39},{"$f":"'multiTimeline (2)'!D6","v":0},{"$f":"'multiTimeline (2)'!E6","v":19},{"$f":"'multiTimeline (2)'!F6","v":0},{"$f":"'multiTimeline (3)'!C6","v":14},{"$f":"'multiTimeline (3)'!D6","v":20},{"$f":"'multiTimeline (3)'!E6","v":0},{"$f":"'multiTimeline (3)'!F6","v":20},{"$f":"'multiTimeline (4)'!C6","v":0},{"$f":"'multiTimeline (4)'!D6","v":0},{"$f":"'multiTimeline (4)'!E6","v":0},{"$f":"'multiTimeline (4)'!F6","v":0},{"$f":"'multiTimeline (5)'!C6","v":0},{"$f":"'multiTimeline (5)'!E6","v":13},10000000,null,1,1,4,26,172,1,201,163,201,12,14,200,97,178,145,194,122,161,123,10000000,106.10526315789474,{"$f":"'204_19'!U628","v":10000479.5},{"$f":"'multiTimeline (6)'!C6","v":57}]
[2004,4,10,10,10,15,20,{"$f":"'multiTimeline (2)'!C7","v":10},{"$f":"'multiTimeline (2)'!D7","v":10},{"$f":"'multiTimeline (2)'!E7","v":30},{"$f":"'multiTimeline (2)'!F7","v":0},{"$f":"'multiTimeline (3)'!C7","v":11},{"$f":"'multiTimeline (3)'!D7","v":11},{"$f":"'multiTimeline (3)'!E7","v":0},{"$f":"'multiTimeline (3)'!F7","v":11},{"$f":"'multiTimeline (4)'!C7","v":11},{"$f":"'multiTimeline (4)'!D7","v":0},{"$f":"'multiTimeline (4)'!E7","v":0},{"$f":"'multiTimeline (4)'!F7","v":0},{"$f":"'multiTimeline (5)'!C7","v":0},{"$f":"'multiTimeline (5)'!E7","v":0},10000000,null,14,104,10,170,189,4,181,20,201,42,130,200,191,2,145,194,122,161,196,10000000,119.78947368421052,{"$f":"'204_19'!U629","v":10000056.5},{"$f":"'multiTimeline (6)'!C7","v":60}]
[2004,5,18,9,0,13,17,{"$f":"'multiTimeline (2)'!C8","v":0},{"$f":"'multiTimeline (2)'!D8","v":0},{"$f":"'multiTimeline (2)'!E8","v":17},{"$f":"'multiTimeline (2)'!F8","v":0},{"$f":"'multiTimeline (3)'!C8","v":9},{"$f":"'multiTimeline (3)'!D8","v":14},{"$f":"'multiTimeline (3)'!E8","v":14},{"$f":"'multiTimeline (3)'!F8","v":18},{"$f":"'multiTimeline (4)'!C8","v":9},{"$f":"'multiTimeline (4)'!D8","v":0},{"$f":"'multiTimeline (4)'!E8","v":18},{"$f":"'multiTimeline (4)'!F8","v":0},{"$f":"'multiTimeline (5)'!C8","v":0},{"$f":"'multiTimeline (5)'!E8","v":0},10000000,null,2,141,195,181,194,188,201,173,201,84,68,52,119,7,145,83,122,161,196,10000000,132.26315789473685,{"$f":"'204_19'!U630","v":9999239},{"$f":"'multiTimeline (6)'!C8","v":58}]
[2004,6,9,0,0,9,13,{"$f":"'multiTimeline (2)'!C9","v":0},{"$f":"'multiTimeline (2)'!D9","v":9},{"$f":"'multiTimeline (2)'!E9","v":13},{"$f":"'multiTimeline (2)'!F9","v":13},{"$f":"'multiTimeline (3)'!C9","v":0},{"$f":"'multiTimeline (3)'!D9","v":9},{"$f":"'multiTimeline (3)'!E9","v":27},{"$f":"'multiTimeline (3)'!F9","v":9},{"$f":"'multiTimeline (4)'!C9","v":0},{"$f":"'multiTimeline (4)'!D9","v":18},{"$f":"'multiTimeline (4)'!E9","v":0},{"$f":"'multiTimeline (4)'!F9","v":0},{"$f":"'multiTimeline (5)'!C9","v":0},{"$f":"'multiTimeline (5)'!E9","v":0},10000000,null,19,198,195,193,199,188,187,186,152,202,170,1,195,178,1,194,122,161,196,10000000,154.57894736842104,{"$f":"'204_19'!U631","v":9999810.5},{"$f":"'multiTimeline (6)'!C9","v":57}]
[2004,7,0,0,0,0,0,{"$f":"'multiTimeline (2)'!C10","v":0},{"$f":"'multiTimeline (2)'!D10","v":9},{"$f":"'multiTimeline (2)'!E10","v":9},{"$f":"'multiTimeline (2)'!F10","v":9},{"$f":"'multiTimeline (3)'!C10","v":10},{"$f":"'multiTimeline (3)'!D10","v":0},{"$f":"'multiTimeline (3)'!E10","v":10},{"$f":"'multiTimeline (3)'!F10","v":14},{"$f":"'multiTimeline (4)'!C10","v":0},{"$f":"'multiTimeline (4)'!D10","v":0},{"$f":"'multiTimeline (4)'!E10","v":0},{"$f":"'multiTimeline (4)'!F10","v":0},{"$f":"'multiTimeline (5)'!C10","v":0},{"$f":"'multiTimeline (5)'!E10","v":9},10000000,null,193,198,195,202,204,188,187,196,181,59,201,156,169,178,145,194,122,161,177,10000000,174,{"$f":"'204_19'!U632","v":9998341},{"$f":"'multiTimeline (6)'!C10","v":66}]
[2004,8,0,0,0,25,13,{"$f":"'multiTimeline (2)'!C11","v":0},{"$f":"'multiTimeline (2)'!D11","v":8},{"$f":"'multiTimeline (2)'!E11","v":0},{"$f":"'multiTimeline (2)'!F11","v":13},{"$f":"'multiTimeline (3)'!C11","v":0},{"$f":"'multiTimeline (3)'!D11","v":0},{"$f":"'multiTimeline (3)'!E11","v":0},{"$f":"'multiTimeline (3)'!F11","v":13},{"$f":"'multiTimeline (4)'!C11","v":0},{"$f":"'multiTimeline (4)'!D11","v":0},{"$f":"'multiTimeline (4)'!E11","v":9},{"$f":"'multiTimeline (4)'!F11","v":0},{"$f":"'multiTimeline (5)'!C11","v":0},{"$f":"'multiTimeline (5)'!E11","v":9},10000000,null,193,198,195,39,199,188,192,204,152,202,201,200,178,178,145,172,122,161,177,10000000,173.47368421052633,{"$f":"'204_19'!U633","v":9997985},{"$f":"'multiTimeline (6)'!C11","v":68}]
[2004,9,12,0,15,8,8,{"$f":"'multiTimeline (2)'!C12","v":0},{"$f":"'multiTimeline (2)'!D12","v":8},{"$f":"'multiTimeline (2)'!E12","v":12},{"$f":"'multiTimeline (2)'!F12","v":8},{"$f":"'multiTimeline (3)'!C12","v":8},{"$f":"'multiTimeline (3)'!D12","v":8},{"$f":"'multiTimeline (3)'!E12","v":8},{"$f":"'multiTimeline (3)'!F12","v":16},{"$f":"'multiTimeline (4)'!C12","v":8},{"$f":"'multiTimeline (4)'!D12","v":0},{"$f":"'multiTimeline (4)'!E12","v":0},{"$f":"'multiTimeline (4)'!F12","v":0},{"$f":"'multiTimeline (5)'!C12","v":0},{"$f":"'multiTimeline (5)'!E12","v":8},10000000,null,4,198,2,196,202,188,192,189,186,120,182,183,148,9,145,194,122,161,183,10000000,147.57894736842104,{"$f":"'204_19'!U634","v":9999444},{"$f":"'multiTimeline (6)'!C12","v":65}]
[2004,10,0,16,0,0,16,{"$f":"'multiTimeline (2)'!C13","v":8},{"$f":"'multiTimeline (2)'!D13","v":8},{"$f":"'multiTimeline (2)'!E13","v":20},{"$f":"'multiTimeline (2)'!F13","v":8},{"$f":"'multiTimeline (3)'!C13","v":8},{"$f":"'multiTimeline (3)'!D13","v":8},{"$f":"'multiTimeline (3)'!E13","v":0},{"$f":"'multiTimeline (3)'!F13","v":0},{"$f":"'multiTimeline (4)'!C13","v":17},{"$f":"'multiTimeline (4)'!D13","v":0},{"$f":"'multiTimeline (4)'!E13","v":8},{"$f":"'multiTimeline (4)'!F13","v":0},{"$f":"'multiTimeline (5)'!C13","v":0},{"$f":"'multiTimeline (5)'!E13","v":8},10000000,null,193,6,195,202,196,9,192,150,186,120,182,200,203,1,145,177,122,161,183,10000000,148.57894736842104,{"$f":"'204_19'!U635","v":9999807.5},{"$f":"'multiTimeline (6)'!C13","v":62}]
[2004,11,16,8,8,12,24,{"$f":"'multiTimeline (2)'!C14","v":0},{"$f":"'multiTimeline (2)'!D14","v":8},{"$f":"'multiTimeline (2)'!E14","v":8},{"$f":"'multiTimeline (2)'!F14","v":12},{"$f":"'multiTimeline (3)'!C14","v":8},{"$f":"'multiTimeline (3)'!D14","v":8},{"$f":"'multiTimeline (3)'!E14","v":8},{"$f":"'multiTimeline (3)'!F14","v":13},{"$f":"'multiTimeline (4)'!C14","v":0},{"$f":"'multiTimeline (4)'!D14","v":8},{"$f":"'multiTimeline (4)'!E14","v":8},{"$f":"'multiTimeline (4)'!F14","v":0},{"$f":"'multiTimeline (5)'!C14","v":8},{"$f":"'multiTimeline (5)'!E14","v":0},10000000,null,3,161,15,185,177,188,192,198,165,120,182,183,178,178,3,177,122,2,196,10000000,138.15789473684211,{"$f":"'204_19'!U636","v":9999830},{"$f":"'multiTimeline (6)'!C14","v":59}]
[2004,12,7,7,0,0,22,{"$f":"'multiTimeline (2)'!C15","v":7},{"$f":"'multiTimeline (2)'!D15","v":22},{"$f":"'multiTimeline (2)'!E15","v":15},{"$f":"'multiTimeline (2)'!F15","v":7},{"$f":"'multiTimeline (3)'!C15","v":8},{"$f":"'multiTimeline (3)'!D15","v":8},{"$f":"'multiTimeline (3)'!E15","v":16},{"$f":"'multiTimeline (3)'!F15","v":12},{"$f":"'multiTimeline (4)'!C15","v":0},{"$f":"'multiTimeline (4)'!D15","v":0},{"$f":"'multiTimeline (4)'!E15","v":8},{"$f":"'multiTimeline (4)'!F15","v":0},{"$f":"'multiTimeline (5)'!C15","v":0},{"$f":"'multiTimeline (5)'!E15","v":0},10000000,null,33,173,195,202,184,15,12,179,191,120,182,21,182,178,145,177,122,161,196,10000000,140.42105263157896,{"$f":"'204_19'!U637","v":9998734},{"$f":"'multiTimeline (6)'!C15","v":54}]
[2005,1,10,6,6,16,26,{"$f":"'multiTimeline (2)'!C16","v":0},{"$f":"'multiTimeline (2)'!D16","v":20},{"$f":"'multiTimeline (2)'!E16","v":6},{"$f":"'multiTimeline (2)'!F16","v":7},{"$f":"'multiTimeline (3)'!C16","v":0},{"$f":"'multiTimeline (3)'!D16","v":21},{"$f":"'multiTimeline (3)'!E16","v":14},{"$f":"'multiTimeline (3)'!F16","v":21},{"$f":"'multiTimeline (4)'!C16","v":7},{"$f":"'multiTimeline (4)'!D16","v":0},{"$f":"'multiTimeline (4)'!E16","v":7},{"$f":"'multiTimeline (4)'!F16","v":0},{"$f":"'multiTimeline (5)'!C16","v":0},{"$f":"'multiTimeline (5)'!E16","v":13},10000000,null,14,185,23,164,172,188,25,202,191,202,12,52,82,13,145,183,122,161,123,10000000,118.89473684210526,{"$f":"'204_19'!U638","v":9999462.5},{"$f":"'multiTimeline (6)'!C16","v":65}]
[2005,2,7,14,7,28,14,{"$f":"'multiTimeline (2)'!C17","v":10},{"$f":"'multiTimeline (2)'!D17","v":28},{"$f":"'multiTimeline (2)'!E17","v":24},{"$f":"'multiTimeline (2)'!F17","v":17},{"$f":"'multiTimeline (3)'!C17","v":7},{"$f":"'multiTimeline (3)'!D17","v":22},{"$f":"'multiTimeline (3)'!E17","v":14},{"$f":"'multiTimeline (3)'!F17","v":25},{"$f":"'multiTimeline (4)'!C17","v":7},{"$f":"'multiTimeline (4)'!D17","v":0},{"$f":"'multiTimeline (4)'!E17","v":7},{"$f":"'multiTimeline (4)'!F17","v":0},{"$f":"'multiTimeline (5)'!C17","v":0},{"$f":"'multiTimeline (5)'!E17","v":21},10000000,null,33,16,17,17,198,4,2,95,80,153,7,52,33,13,145,183,122,161,17,10000000,70.94736842105263,{"$f":"'204_19'!U639","v":10000500},{"$f":"'multiTimeline (6)'!C17","v":65}]
[2005,3,9,14,17,20,26,{"$f":"'multiTimeline (2)'!C18","v":9},{"$f":"'multiTimeline (2)'!D18","v":12},{"$f":"'multiTimeline (2)'!E18","v":11},{"$f":"'multiTimeline (2)'!F18","v":6},{"$f":"'multiTimeline (3)'!C18","v":18},{"$f":"'multiTimeline (3)'!D18","v":12},{"$f":"'multiTimeline (3)'!E18","v":15},{"$f":"'multiTimeline (3)'!F18","v":6},{"$f":"'multiTimeline (4)'!C18","v":6},{"$f":"'multiTimeline (4)'!D18","v":0},{"$f":"'multiTimeline (4)'!E18","v":18},{"$f":"'multiTimeline (4)'!F18","v":0},{"$f":"'multiTimeline (5)'!C18","v":0},{"$f":"'multiTimeline (5)'!E18","v":0},10000000,null,19,16,1,109,172,7,162,193,195,1,104,34,199,21,145,83,122,161,196,10000000,102.10526315789474,{"$f":"'204_19'!U640","v":10000180},{"$f":"'multiTimeline (6)'!C18","v":66}]
[2005,4,6,6,13,16,23,{"$f":"'multiTimeline (2)'!C19","v":10},{"$f":"'multiTimeline (2)'!D19","v":13},{"$f":"'multiTimeline (2)'!E19","v":26},{"$f":"'multiTimeline (2)'!F19","v":10},{"$f":"'multiTimeline (3)'!C19","v":7},{"$f":"'multiTimeline (3)'!D19","v":17},{"$f":"'multiTimeline (3)'!E19","v":7},{"$f":"'multiTimeline (3)'!F19","v":24},{"$f":"'multiTimeline (4)'!C19","v":7},{"$f":"'multiTimeline (4)'!D19","v":7},{"$f":"'multiTimeline (4)'!E19","v":0},{"$f":"'multiTimeline (4)'!F19","v":0},{"$f":"'multiTimeline (5)'!C19","v":0},{"$f":"'multiTimeline (5)'!E19","v":13},10000000,null,42,185,4,164,180,4,147,60,175,153,31,190,43,13,5,194,122,161,123,10000000,105.05263157894737,{"$f":"'204_19'!U641","v":10000358},{"$f":"'multiTimeline (6)'!C19","v":68}]
[2005,5,8,14,11,8,23,{"$f":"'multiTimeline (2)'!C20","v":0},{"$f":"'multiTimeline (2)'!D20","v":17},{"$f":"'multiTimeline (2)'!E20","v":20},{"$f":"'multiTimeline (2)'!F20","v":6},{"$f":"'multiTimeline (3)'!C20","v":12},{"$f":"'multiTimeline (3)'!D20","v":18},{"$f":"'multiTimeline (3)'!E20","v":12},{"$f":"'multiTimeline (3)'!F20","v":9},{"$f":"'multiTimeline (4)'!C20","v":0},{"$f":"'multiTimeline (4)'!D20","v":0},{"$f":"'multiTimeline (4)'!E20","v":12},{"$f":"'multiTimeline (4)'!F20","v":0},{"$f":"'multiTimeline (5)'!C20","v":6},{"$f":"'multiTimeline (5)'!E20","v":12},10000000,null,25,16,6,196,180,188,71,150,195,33,23,105,195,178,145,165,122,4,146,10000000,112.78947368421052,{"$f":"'204_19'!U642","v":9999723},{"$f":"'multiTimeline (6)'!C20","v":63}]
[2005,6,0,11,11,11,8,{"$f":"'multiTimeline (2)'!C21","v":11},{"$f":"'multiTimeline (2)'!D21","v":6},{"$f":"'multiTimeline (2)'!E21","v":14},{"$f":"'multiTimeline (2)'!F21","v":14},{"$f":"'multiTimeline (3)'!C21","v":6},{"$f":"'multiTimeline (3)'!D21","v":9},{"$f":"'multiTimeline (3)'!E21","v":9},{"$f":"'multiTimeline (3)'!F21","v":12},{"$f":"'multiTimeline (4)'!C21","v":0},{"$f":"'multiTimeline (4)'!D21","v":6},{"$f":"'multiTimeline (4)'!E21","v":24},{"$f":"'multiTimeline (4)'!F21","v":0},{"$f":"'multiTimeline (5)'!C21","v":0},{"$f":"'multiTimeline (5)'!E21","v":18},10000000,null,193,71,6,188,202,2,199,182,143,181,170,173,182,178,7,19,122,161,36,10000000,127.10526315789474,{"$f":"'204_19'!U643","v":9999958},{"$f":"'multiTimeline (6)'!C21","v":66}]
[2005,7,9,6,6,17,29,{"$f":"'multiTimeline (2)'!C22","v":0},{"$f":"'multiTimeline (2)'!D22","v":9},{"$f":"'multiTimeline (2)'!E22","v":11},{"$f":"'multiTimeline (2)'!F22","v":6},{"$f":"'multiTimeline (3)'!C22","v":6},{"$f":"'multiTimeline (3)'!D22","v":12},{"$f":"'multiTimeline (3)'!E22","v":6},{"$f":"'multiTimeline (3)'!F22","v":9},{"$f":"'multiTimeline (4)'!C22","v":0},{"$f":"'multiTimeline (4)'!D22","v":0},{"$f":"'multiTimeline (4)'!E22","v":6},{"$f":"'multiTimeline (4)'!F22","v":0},{"$f":"'multiTimeline (5)'!C22","v":0},{"$f":"'multiTimeline (5)'!E22","v":12},10000000,null,19,185,23,152,166,188,187,193,195,181,104,195,195,178,145,186,122,161,146,10000000,153.73684210526315,{"$f":"'204_19'!U644","v":9998629.5},{"$f":"'multiTimeline (6)'!C22","v":68}]
[2005,8,0,6,6,17,28,{"$f":"'multiTimeline (2)'!C23","v":0},{"$f":"'multiTimeline (2)'!D23","v":17},{"$f":"'multiTimeline (2)'!E23","v":8},{"$f":"'multiTimeline (2)'!F23","v":14},{"$f":"'multiTimeline (3)'!C23","v":6},{"$f":"'multiTimeline (3)'!D23","v":0},{"$f":"'multiTimeline (3)'!E23","v":6},{"$f":"'multiTimeline (3)'!F23","v":12},{"$f":"'multiTimeline (4)'!C23","v":0},{"$f":"'multiTimeline (4)'!D23","v":6},{"$f":"'multiTimeline (4)'!E23","v":6},{"$f":"'multiTimeline (4)'!F23","v":0},{"$f":"'multiTimeline (5)'!C23","v":0},{"$f":"'multiTimeline (5)'!E23","v":11},10000000,null,193,185,23,152,169,188,71,198,143,181,201,195,182,178,7,186,122,161,161,10000000,152.42105263157896,{"$f":"'204_19'!U645","v":9999327.5},{"$f":"'multiTimeline (6)'!C23","v":71}]
[2005,9,0,5,5,8,20,{"$f":"'multiTimeline (2)'!C24","v":5},{"$f":"'multiTimeline (2)'!D24","v":10},{"$f":"'multiTimeline (2)'!E24","v":8},{"$f":"'multiTimeline (2)'!F24","v":13},{"$f":"'multiTimeline (3)'!C24","v":5},{"$f":"'multiTimeline (3)'!D24","v":11},{"$f":"'multiTimeline (3)'!E24","v":11},{"$f":"'multiTimeline (3)'!F24","v":5},{"$f":"'multiTimeline (4)'!C24","v":0},{"$f":"'multiTimeline (4)'!D24","v":0},{"$f":"'multiTimeline (4)'!E24","v":5},{"$f":"'multiTimeline (4)'!F24","v":5},{"$f":"'multiTimeline (5)'!C24","v":0},{"$f":"'multiTimeline (5)'!E24","v":16},10000000,null,193,193,38,196,189,26,181,198,152,195,130,128,201,178,145,189,2,161,62,10000000,145.10526315789474,{"$f":"'204_19'!U646","v":9999068.5},{"$f":"'multiTimeline (6)'!C24","v":64}]
[2005,10,0,9,5,14,16,{"$f":"'multiTimeline (2)'!C25","v":0},{"$f":"'multiTimeline (2)'!D25","v":12},{"$f":"'multiTimeline (2)'!E25","v":5},{"$f":"'multiTimeline (2)'!F25","v":12},{"$f":"'multiTimeline (3)'!C25","v":10},{"$f":"'multiTimeline (3)'!D25","v":0},{"$f":"'multiTimeline (3)'!E25","v":5},{"$f":"'multiTimeline (3)'!F25","v":15},{"$f":"'multiTimeline (4)'!C25","v":0},{"$f":"'multiTimeline (4)'!D25","v":0},{"$f":"'multiTimeline (4)'!E25","v":5},{"$f":"'multiTimeline (4)'!F25","v":5},{"$f":"'multiTimeline (5)'!C25","v":5},{"$f":"'multiTimeline (5)'!E25","v":0},10000000,null,193,141,38,176,196,188,162,203,165,59,201,198,159,178,145,189,2,5,196,10000000,147.05263157894737,{"$f":"'204_19'!U647","v":9999134},{"$f":"'multiTimeline (6)'!C25","v":59}]
[2005,11,0,7,14,7,21,{"$f":"'multiTimeline (2)'!C26","v":5},{"$f":"'multiTimeline (2)'!D26","v":17},{"$f":"'multiTimeline (2)'!E26","v":14},{"$f":"'multiTimeline (2)'!F26","v":5},{"$f":"'multiTimeline (3)'!C26","v":8},{"$f":"'multiTimeline (3)'!D26","v":8},{"$f":"'multiTimeline (3)'!E26","v":8},{"$f":"'multiTimeline (3)'!F26","v":13},{"$f":"'multiTimeline (4)'!C26","v":0},{"$f":"'multiTimeline (4)'!D26","v":0},{"$f":"'multiTimeline (4)'!E26","v":10},{"$f":"'multiTimeline (4)'!F26","v":0},{"$f":"'multiTimeline (5)'!C26","v":0},{"$f":"'multiTimeline (5)'!E26","v":5},10000000,null,193,173,3,201,185,26,71,182,199,120,182,183,178,178,145,170,122,161,191,10000000,150.68421052631578,{"$f":"'204_19'!U648","v":9999357},{"$f":"'multiTimeline (6)'!C26","v":53}]
[2005,12,0,0,0,9,23,{"$f":"'multiTimeline (2)'!C27","v":0},{"$f":"'multiTimeline (2)'!D27","v":14},{"$f":"'multiTimeline (2)'!E27","v":9},{"$f":"'multiTimeline (2)'!F27","v":9},{"$f":"'multiTimeline (3)'!C27","v":10},{"$f":"'multiTimeline (3)'!D27","v":10},{"$f":"'multiTimeline (3)'!E27","v":25},{"$f":"'multiTimeline (3)'!F27","v":12},{"$f":"'multiTimeline (4)'!C27","v":0},{"$f":"'multiTimeline (4)'!D27","v":5},{"$f":"'multiTimeline (4)'!E27","v":5},{"$f":"'multiTimeline (4)'!F27","v":0},{"$f":"'multiTimeline (5)'!C27","v":5},{"$f":"'multiTimeline (5)'!E27","v":5},10000000,null,193,198,195,193,180,188,130,196,181,59,159,2,182,178,10,189,122,5,191,10000000,144.78947368421052,{"$f":"'204_19'!U649","v":9999931},{"$f":"'multiTimeline (6)'!C27","v":49}]
[2006,1,4,10,6,18,20,{"$f":"'multiTimeline (2)'!C28","v":0},{"$f":"'multiTimeline (2)'!D28","v":12},{"$f":"'multiTimeline (2)'!E28","v":22},{"$f":"'multiTimeline (2)'!F28","v":8},{"$f":"'multiTimeline (3)'!C28","v":13},{"$f":"'multiTimeline (3)'!D28","v":11},{"$f":"'multiTimeline (3)'!E28","v":9},{"$f":"'multiTimeline (3)'!F28","v":4},{"$f":"'multiTimeline (4)'!C28","v":0},{"$f":"'multiTimeline (4)'!D28","v":0},{"$f":"'multiTimeline (4)'!E28","v":4},{"$f":"'multiTimeline (4)'!F28","v":0},{"$f":"'multiTimeline (5)'!C28","v":0},{"$f":"'multiTimeline (5)'!E28","v":8},10000000,null,73,104,23,140,189,188,162,124,186,22,130,173,202,178,145,193,122,161,183,10000000,142,{"$f":"'204_19'!U650","v":9998744},{"$f":"'multiTimeline (6)'!C28","v":58}]
[2006,2,4,19,0,15,21,{"$f":"'multiTimeline (2)'!C29","v":9},{"$f":"'multiTimeline (2)'!D29","v":8},{"$f":"'multiTimeline (2)'!E29","v":32},{"$f":"'multiTimeline (2)'!F29","v":13},{"$f":"'multiTimeline (3)'!C29","v":9},{"$f":"'multiTimeline (3)'!D29","v":9},{"$f":"'multiTimeline (3)'!E29","v":4},{"$f":"'multiTimeline (3)'!F29","v":11},{"$f":"'multiTimeline (4)'!C29","v":4},{"$f":"'multiTimeline (4)'!D29","v":0},{"$f":"'multiTimeline (4)'!E29","v":0},{"$f":"'multiTimeline (4)'!F29","v":0},{"$f":"'multiTimeline (5)'!C29","v":0},{"$f":"'multiTimeline (5)'!E29","v":9},10000000,null,73,1,195,170,185,7,192,10,152,84,170,199,191,34,145,194,122,161,177,10000000,129.57894736842104,{"$f":"'204_19'!U651","v":9999385.5},{"$f":"'multiTimeline (6)'!C29","v":58}]
[2006,3,5,9,4,9,33,{"$f":"'multiTimeline (2)'!C30","v":7},{"$f":"'multiTimeline (2)'!D30","v":24},{"$f":"'multiTimeline (2)'!E30","v":13},{"$f":"'multiTimeline (2)'!F30","v":7},{"$f":"'multiTimeline (3)'!C30","v":17},{"$f":"'multiTimeline (3)'!D30","v":6},{"$f":"'multiTimeline (3)'!E30","v":0},{"$f":"'multiTimeline (3)'!F30","v":17},{"$f":"'multiTimeline (4)'!C30","v":4},{"$f":"'multiTimeline (4)'!D30","v":8},{"$f":"'multiTimeline (4)'!E30","v":8},{"$f":"'multiTimeline (4)'!F30","v":8},{"$f":"'multiTimeline (5)'!C30","v":0},{"$f":"'multiTimeline (5)'!E30","v":11},10000000,null,56,141,59,193,152,15,6,186,191,2,200,200,134,34,3,177,1,161,161,10000000,109.05263157894737,{"$f":"'204_19'!U652","v":10000425.5},{"$f":"'multiTimeline (6)'!C30","v":60}]
[2006,4,0,6,4,8,33,{"$f":"'multiTimeline (2)'!C31","v":8},{"$f":"'multiTimeline (2)'!D31","v":8},{"$f":"'multiTimeline (2)'!E31","v":16},{"$f":"'multiTimeline (2)'!F31","v":8},{"$f":"'multiTimeline (3)'!C31","v":10},{"$f":"'multiTimeline (3)'!D31","v":16},{"$f":"'multiTimeline (3)'!E31","v":8},{"$f":"'multiTimeline (3)'!F31","v":18},{"$f":"'multiTimeline (4)'!C31","v":4},{"$f":"'multiTimeline (4)'!D31","v":0},{"$f":"'multiTimeline (4)'!E31","v":12},{"$f":"'multiTimeline (4)'!F31","v":0},{"$f":"'multiTimeline (5)'!C31","v":4},{"$f":"'multiTimeline (5)'!E31","v":28},10000000,null,193,185,59,196,152,9,192,175,186,59,40,183,119,34,145,165,122,14,4,10000000,117.47368421052632,{"$f":"'204_19'!U653","v":9999418},{"$f":"'multiTimeline (6)'!C31","v":60}]
[2006,5,4,12,7,19,12,{"$f":"'multiTimeline (2)'!C32","v":0},{"$f":"'multiTimeline (2)'!D32","v":11},{"$f":"'multiTimeline (2)'!E32","v":11},{"$f":"'multiTimeline (2)'!F32","v":12},{"$f":"'multiTimeline (3)'!C32","v":7},{"$f":"'multiTimeline (3)'!D32","v":23},{"$f":"'multiTimeline (3)'!E32","v":13},{"$f":"'multiTimeline (3)'!F32","v":24},{"$f":"'multiTimeline (4)'!C32","v":0},{"$f":"'multiTimeline (4)'!D32","v":0},{"$f":"'multiTimeline (4)'!E32","v":22},{"$f":"'multiTimeline (4)'!F32","v":0},{"$f":"'multiTimeline (5)'!C32","v":4},{"$f":"'multiTimeline (5)'!E32","v":7},10000000,null,73,49,17,128,201,188,177,193,165,153,2,74,43,178,145,33,122,14,188,10000000,112.78947368421052,{"$f":"'204_19'!U654","v":9999355.5},{"$f":"'multiTimeline (6)'!C32","v":59}]
[2006,6,6,4,4,11,24,{"$f":"'multiTimeline (2)'!C33","v":8},{"$f":"'multiTimeline (2)'!D33","v":13},{"$f":"'multiTimeline (2)'!E33","v":19},{"$f":"'multiTimeline (2)'!F33","v":6},{"$f":"'multiTimeline (3)'!C33","v":6},{"$f":"'multiTimeline (3)'!D33","v":8},{"$f":"'multiTimeline (3)'!E33","v":10},{"$f":"'multiTimeline (3)'!F33","v":6},{"$f":"'multiTimeline (4)'!C33","v":8},{"$f":"'multiTimeline (4)'!D33","v":4},{"$f":"'multiTimeline (4)'!E33","v":0},{"$f":"'multiTimeline (4)'!F33","v":4},{"$f":"'multiTimeline (5)'!C33","v":4},{"$f":"'multiTimeline (5)'!E33","v":16},10000000,null,42,197,59,188,177,9,147,163,195,181,182,156,199,9,11,194,5,14,62,10000000,115.26315789473684,{"$f":"'204_19'!U655","v":9999231.5},{"$f":"'multiTimeline (6)'!C33","v":55}]
[2006,7,0,7,4,19,17,{"$f":"'multiTimeline (2)'!C34","v":4},{"$f":"'multiTimeline (2)'!D34","v":4},{"$f":"'multiTimeline (2)'!E34","v":7},{"$f":"'multiTimeline (2)'!F34","v":13},{"$f":"'multiTimeline (3)'!C34","v":6},{"$f":"'multiTimeline (3)'!D34","v":12},{"$f":"'multiTimeline (3)'!E34","v":8},{"$f":"'multiTimeline (3)'!F34","v":14},{"$f":"'multiTimeline (4)'!C34","v":0},{"$f":"'multiTimeline (4)'!D34","v":0},{"$f":"'multiTimeline (4)'!E34","v":8},{"$f":"'multiTimeline (4)'!F34","v":4},{"$f":"'multiTimeline (5)'!C34","v":0},{"$f":"'multiTimeline (5)'!E34","v":15},10000000,null,193,173,59,128,194,36,200,201,152,181,104,183,169,178,145,177,5,161,75,10000000,142.84210526315789,{"$f":"'204_19'!U656","v":9998637},{"$f":"'multiTimeline (6)'!C34","v":64}]
[2006,8,7,14,3,15,19,{"$f":"'multiTimeline (2)'!C35","v":7},{"$f":"'multiTimeline (2)'!D35","v":17},{"$f":"'multiTimeline (2)'!E35","v":20},{"$f":"'multiTimeline (2)'!F35","v":9},{"$f":"'multiTimeline (3)'!C35","v":7},{"$f":"'multiTimeline (3)'!D35","v":14},{"$f":"'multiTimeline (3)'!E35","v":11},{"$f":"'multiTimeline (3)'!F35","v":9},{"$f":"'multiTimeline (4)'!C35","v":0},{"$f":"'multiTimeline (4)'!D35","v":0},{"$f":"'multiTimeline (4)'!E35","v":18},{"$f":"'multiTimeline (4)'!F35","v":0},{"$f":"'multiTimeline (5)'!C35","v":4},{"$f":"'multiTimeline (5)'!E35","v":11},10000000,null,33,16,87,170,193,15,71,150,181,153,68,128,195,178,145,83,122,14,161,10000000,113.84210526315789,{"$f":"'204_19'!U657","v":9999290.5},{"$f":"'multiTimeline (6)'!C35","v":73}]
[2006,9,3,8,3,8,21,{"$f":"'multiTimeline (2)'!C36","v":3},{"$f":"'multiTimeline (2)'!D36","v":8},{"$f":"'multiTimeline (2)'!E36","v":20},{"$f":"'multiTimeline (2)'!F36","v":10},{"$f":"'multiTimeline (3)'!C36","v":12},{"$f":"'multiTimeline (3)'!D36","v":7},{"$f":"'multiTimeline (3)'!E36","v":10},{"$f":"'multiTimeline (3)'!F36","v":12},{"$f":"'multiTimeline (4)'!C36","v":10},{"$f":"'multiTimeline (4)'!D36","v":0},{"$f":"'multiTimeline (4)'!E36","v":7},{"$f":"'multiTimeline (4)'!F36","v":0},{"$f":"'multiTimeline (5)'!C36","v":3},{"$f":"'multiTimeline (5)'!E36","v":7},10000000,null,106,161,87,196,185,54,192,150,175,33,197,156,182,5,145,183,122,23,188,10000000,133.68421052631578,{"$f":"'204_19'!U658","v":9999103},{"$f":"'multiTimeline (6)'!C36","v":62}]
[2006,10,6,12,6,10,42,{"$f":"'multiTimeline (2)'!C37","v":6},{"$f":"'multiTimeline (2)'!D37","v":13},{"$f":"'multiTimeline (2)'!E37","v":13},{"$f":"'multiTimeline (2)'!F37","v":13},{"$f":"'multiTimeline (3)'!C37","v":11},{"$f":"'multiTimeline (3)'!D37","v":11},{"$f":"'multiTimeline (3)'!E37","v":14},{"$f":"'multiTimeline (3)'!F37","v":11},{"$f":"'multiTimeline (4)'!C37","v":3},{"$f":"'multiTimeline (4)'!D37","v":0},{"$f":"'multiTimeline (4)'!E37","v":16},{"$f":"'multiTimeline (4)'!F37","v":0},{"$f":"'multiTimeline (5)'!C37","v":0},{"$f":"'multiTimeline (5)'!E37","v":12},10000000,null,42,49,23,192,100,21,147,186,152,42,130,52,191,49,145,118,122,161,146,10000000,108.84210526315789,{"$f":"'204_19'!U659","v":9999595},{"$f":"'multiTimeline (6)'!C37","v":54}]
[2006,11,4,12,9,13,23,{"$f":"'multiTimeline (2)'!C38","v":3},{"$f":"'multiTimeline (2)'!D38","v":10},{"$f":"'multiTimeline (2)'!E38","v":15},{"$f":"'multiTimeline (2)'!F38","v":3},{"$f":"'multiTimeline (3)'!C38","v":5},{"$f":"'multiTimeline (3)'!D38","v":8},{"$f":"'multiTimeline (3)'!E38","v":8},{"$f":"'multiTimeline (3)'!F38","v":17},{"$f":"'multiTimeline (4)'!C38","v":6},{"$f":"'multiTimeline (4)'!D38","v":6},{"$f":"'multiTimeline (4)'!E38","v":9},{"$f":"'multiTimeline (4)'!F38","v":3},{"$f":"'multiTimeline (5)'!C38","v":3},{"$f":"'multiTimeline (5)'!E38","v":3},10000000,null,73,49,12,181,180,54,181,179,200,195,182,183,134,21,7,172,11,23,195,10000000,117.47368421052632,{"$f":"'204_19'!U660","v":9999586},{"$f":"'multiTimeline (6)'!C38","v":50}]
[2006,12,8,11,9,17,20,{"$f":"'multiTimeline (2)'!C39","v":0},{"$f":"'multiTimeline (2)'!D39","v":11},{"$f":"'multiTimeline (2)'!E39","v":14},{"$f":"'multiTimeline (2)'!F39","v":8},{"$f":"'multiTimeline (3)'!C39","v":3},{"$f":"'multiTimeline (3)'!D39","v":8},{"$f":"'multiTimeline (3)'!E39","v":16},{"$f":"'multiTimeline (3)'!F39","v":10},{"$f":"'multiTimeline (4)'!C39","v":6},{"$f":"'multiTimeline (4)'!D39","v":0},{"$f":"'multiTimeline (4)'!E39","v":6},{"$f":"'multiTimeline (4)'!F39","v":0},{"$f":"'multiTimeline (5)'!C39","v":0},{"$f":"'multiTimeline (5)'!E39","v":6},10000000,null,25,71,12,152,189,188,177,182,186,201,182,21,194,21,145,186,122,161,190,10000000,137.10526315789474,{"$f":"'204_19'!U661","v":9998812.5},{"$f":"'multiTimeline (6)'!C39","v":46}]
[2007,1,11,5,3,20,25,{"$f":"'multiTimeline (2)'!C40","v":11},{"$f":"'multiTimeline (2)'!D40","v":18},{"$f":"'multiTimeline (2)'!E40","v":14},{"$f":"'multiTimeline (2)'!F40","v":16},{"$f":"'multiTimeline (3)'!C40","v":7},{"$f":"'multiTimeline (3)'!D40","v":10},{"$f":"'multiTimeline (3)'!E40","v":6},{"$f":"'multiTimeline (3)'!F40","v":17},{"$f":"'multiTimeline (4)'!C40","v":0},{"$f":"'multiTimeline (4)'!D40","v":0},{"$f":"'multiTimeline (4)'!E40","v":19},{"$f":"'multiTimeline (4)'!F40","v":0},{"$f":"'multiTimeline (5)'!C40","v":3},{"$f":"'multiTimeline (5)'!E40","v":25},10000000,null,10,193,87,109,176,2,51,182,96,153,159,195,134,178,145,74,122,23,6,10000000,110.26315789473684,{"$f":"'204_19'!U662","v":9999741},{"$f":"'multiTimeline (6)'!C40","v":52}]
[2007,2,6,7,3,12,29,{"$f":"'multiTimeline (2)'!C41","v":6},{"$f":"'multiTimeline (2)'!D41","v":14},{"$f":"'multiTimeline (2)'!E41","v":18},{"$f":"'multiTimeline (2)'!F41","v":17},{"$f":"'multiTimeline (3)'!C41","v":7},{"$f":"'multiTimeline (3)'!D41","v":13},{"$f":"'multiTimeline (3)'!E41","v":9},{"$f":"'multiTimeline (3)'!F41","v":19},{"$f":"'multiTimeline (4)'!C41","v":3},{"$f":"'multiTimeline (4)'!D41","v":3},{"$f":"'multiTimeline (4)'!E41","v":9},{"$f":"'multiTimeline (4)'!F41","v":0},{"$f":"'multiTimeline (5)'!C41","v":3},{"$f":"'multiTimeline (5)'!E41","v":9},10000000,null,42,173,87,185,166,21,130,168,80,153,82,173,109,49,14,172,122,23,177,10000000,111.89473684210526,{"$f":"'204_19'!U663","v":9999414.5},{"$f":"'multiTimeline (6)'!C41","v":53}]
[2007,3,12,7,5,18,30,{"$f":"'multiTimeline (2)'!C42","v":4},{"$f":"'multiTimeline (2)'!D42","v":13},{"$f":"'multiTimeline (2)'!E42","v":25},{"$f":"'multiTimeline (2)'!F42","v":19},{"$f":"'multiTimeline (3)'!C42","v":13},{"$f":"'multiTimeline (3)'!D42","v":8},{"$f":"'multiTimeline (3)'!E42","v":15},{"$f":"'multiTimeline (3)'!F42","v":18},{"$f":"'multiTimeline (4)'!C42","v":5},{"$f":"'multiTimeline (4)'!D42","v":3},{"$f":"'multiTimeline (4)'!E42","v":23},{"$f":"'multiTimeline (4)'!F42","v":0},{"$f":"'multiTimeline (5)'!C42","v":0},{"$f":"'multiTimeline (5)'!E42","v":20},10000000,null,4,173,38,140,163,36,147,81,43,22,182,34,119,26,14,25,122,161,21,10000000,81.631578947368425,{"$f":"'204_19'!U664","v":10000095},{"$f":"'multiTimeline (6)'!C42","v":56}]
[2007,4,3,14,11,20,30,{"$f":"'multiTimeline (2)'!C43","v":4},{"$f":"'multiTimeline (2)'!D43","v":14},{"$f":"'multiTimeline (2)'!E43","v":21},{"$f":"'multiTimeline (2)'!F43","v":14},{"$f":"'multiTimeline (3)'!C43","v":9},{"$f":"'multiTimeline (3)'!D43","v":12},{"$f":"'multiTimeline (3)'!E43","v":11},{"$f":"'multiTimeline (3)'!F43","v":23},{"$f":"'multiTimeline (4)'!C43","v":8},{"$f":"'multiTimeline (4)'!D43","v":3},{"$f":"'multiTimeline (4)'!E43","v":26},{"$f":"'multiTimeline (4)'!F43","v":0},{"$f":"'multiTimeline (5)'!C43","v":5},{"$f":"'multiTimeline (5)'!E43","v":13},10000000,null,106,16,6,109,163,36,130,141,143,84,104,128,53,9,14,12,122,5,123,10000000,79.15789473684211,{"$f":"'204_19'!U665","v":10000356.5},{"$f":"'multiTimeline (6)'!C43","v":56}]
[2007,5,5,11,3,18,40,{"$f":"'multiTimeline (2)'!C44","v":2},{"$f":"'multiTimeline (2)'!D44","v":10},{"$f":"'multiTimeline (2)'!E44","v":19},{"$f":"'multiTimeline (2)'!F44","v":10},{"$f":"'multiTimeline (3)'!C44","v":14},{"$f":"'multiTimeline (3)'!D44","v":14},{"$f":"'multiTimeline (3)'!E44","v":9},{"$f":"'multiTimeline (3)'!F44","v":25},{"$f":"'multiTimeline (4)'!C44","v":7},{"$f":"'multiTimeline (4)'!D44","v":7},{"$f":"'multiTimeline (4)'!E44","v":23},{"$f":"'multiTimeline (4)'!F44","v":0},{"$f":"'multiTimeline (5)'!C44","v":7},{"$f":"'multiTimeline (5)'!E44","v":11},10000000,null,56,71,87,140,115,93,181,163,175,12,68,173,33,13,5,25,122,3,161,10000000,89.263157894736835,{"$f":"'204_19'!U666","v":10000611.5},{"$f":"'multiTimeline (6)'!C44","v":54}]
[2007,6,4,7,6,27,36,{"$f":"'multiTimeline (2)'!C45","v":8},{"$f":"'multiTimeline (2)'!D45","v":15},{"$f":"'multiTimeline (2)'!E45","v":20},{"$f":"'multiTimeline (2)'!F45","v":13},{"$f":"'multiTimeline (3)'!C45","v":8},{"$f":"'multiTimeline (3)'!D45","v":20},{"$f":"'multiTimeline (3)'!E45","v":19},{"$f":"'multiTimeline (3)'!F45","v":25},{"$f":"'multiTimeline (4)'!C45","v":0},{"$f":"'multiTimeline (4)'!D45","v":2},{"$f":"'multiTimeline (4)'!E45","v":5},{"$f":"'multiTimeline (4)'!F45","v":0},{"$f":"'multiTimeline (5)'!C45","v":5},{"$f":"'multiTimeline (5)'!E45","v":9},10000000,null,73,173,23,21,141,9,114,150,152,120,14,7,33,178,22,189,122,5,177,10000000,90.684210526315795,{"$f":"'204_19'!U667","v":10000088.5},{"$f":"'multiTimeline (6)'!C45","v":54}]
[2007,7,6,10,3,20,24,{"$f":"'multiTimeline (2)'!C46","v":4},{"$f":"'multiTimeline (2)'!D46","v":10},{"$f":"'multiTimeline (2)'!E46","v":32},{"$f":"'multiTimeline (2)'!F46","v":21},{"$f":"'multiTimeline (3)'!C46","v":9},{"$f":"'multiTimeline (3)'!D46","v":17},{"$f":"'multiTimeline (3)'!E46","v":13},{"$f":"'multiTimeline (3)'!F46","v":28},{"$f":"'multiTimeline (4)'!C46","v":2},{"$f":"'multiTimeline (4)'!D46","v":2},{"$f":"'multiTimeline (4)'!E46","v":16},{"$f":"'multiTimeline (4)'!F46","v":5},{"$f":"'multiTimeline (5)'!C46","v":9},{"$f":"'multiTimeline (5)'!E46","v":5},10000000,null,42,104,87,109,177,36,181,10,17,84,31,74,18,76,22,118,2,1,191,10000000,72.631578947368425,{"$f":"'204_19'!U668","v":10000505},{"$f":"'multiTimeline (6)'!C46","v":60}]
[2007,8,7,5,2,18,36,{"$f":"'multiTimeline (2)'!C47","v":3},{"$f":"'multiTimeline (2)'!D47","v":22},{"$f":"'multiTimeline (2)'!E47","v":26},{"$f":"'multiTimeline (2)'!F47","v":18},{"$f":"'multiTimeline (3)'!C47","v":10},{"$f":"'multiTimeline (3)'!D47","v":13},{"$f":"'multiTimeline (3)'!E47","v":16},{"$f":"'multiTimeline (3)'!F47","v":21},{"$f":"'multiTimeline (4)'!C47","v":0},{"$f":"'multiTimeline (4)'!D47","v":0},{"$f":"'multiTimeline (4)'!E47","v":15},{"$f":"'multiTimeline (4)'!F47","v":2},{"$f":"'multiTimeline (5)'!C47","v":2},{"$f":"'multiTimeline (5)'!E47","v":13},10000000,null,33,193,132,140,141,54,12,60,64,59,82,21,82,178,145,134,16,41,123,10000000,90,{"$f":"'204_19'!U669","v":10000025},{"$f":"'multiTimeline (6)'!C47","v":64}]
[2007,9,6,11,8,17,27,{"$f":"'multiTimeline (2)'!C48","v":2},{"$f":"'multiTimeline (2)'!D48","v":12},{"$f":"'multiTimeline (2)'!E48","v":15},{"$f":"'multiTimeline (2)'!F48","v":23},{"$f":"'multiTimeline (3)'!C48","v":6},{"$f":"'multiTimeline (3)'!D48","v":11},{"$f":"'multiTimeline (3)'!E48","v":10},{"$f":"'multiTimeline (3)'!F48","v":22},{"$f":"'multiTimeline (4)'!C48","v":4},{"$f":"'multiTimeline (4)'!D48","v":0},{"$f":"'multiTimeline (4)'!E48","v":9},{"$f":"'multiTimeline (4)'!F48","v":0},{"$f":"'multiTimeline (5)'!C48","v":2},{"$f":"'multiTimeline (5)'!E48","v":21},10000000,null,42,71,15,152,170,93,162,179,6,181,130,156,63,34,145,172,122,41,17,10000000,102.68421052631579,{"$f":"'204_19'!U670","v":9999709.5},{"$f":"'multiTimeline (6)'!C48","v":58}]
[2007,10,6,14,6,18,42,{"$f":"'multiTimeline (2)'!C49","v":7},{"$f":"'multiTimeline (2)'!D49","v":17},{"$f":"'multiTimeline (2)'!E49","v":23},{"$f":"'multiTimeline (2)'!F49","v":11},{"$f":"'multiTimeline (3)'!C49","v":13},{"$f":"'multiTimeline (3)'!D49","v":13},{"$f":"'multiTimeline (3)'!E49","v":11},{"$f":"'multiTimeline (3)'!F49","v":20},{"$f":"'multiTimeline (4)'!C49","v":0},{"$f":"'multiTimeline (4)'!D49","v":2},{"$f":"'multiTimeline (4)'!E49","v":14},{"$f":"'multiTimeline (4)'!F49","v":0},{"$f":"'multiTimeline (5)'!C49","v":0},{"$f":"'multiTimeline (5)'!E49","v":14},10000000,null,42,16,23,140,100,15,71,110,168,22,82,128,97,178,22,148,122,161,96,10000000,91.631578947368425,{"$f":"'204_19'!U671","v":10000006},{"$f":"'multiTimeline (6)'!C49","v":56}]
[2007,11,3,11,7,26,31,{"$f":"'multiTimeline (2)'!C50","v":3},{"$f":"'multiTimeline (2)'!D50","v":12},{"$f":"'multiTimeline (2)'!E50","v":12},{"$f":"'multiTimeline (2)'!F50","v":7},{"$f":"'multiTimeline (3)'!C50","v":8},{"$f":"'multiTimeline (3)'!D50","v":13},{"$f":"'multiTimeline (3)'!E50","v":9},{"$f":"'multiTimeline (3)'!F50","v":24},{"$f":"'multiTimeline (4)'!C50","v":9},{"$f":"'multiTimeline (4)'!D50","v":2},{"$f":"'multiTimeline (4)'!E50","v":22},{"$f":"'multiTimeline (4)'!F50","v":2},{"$f":"'multiTimeline (5)'!C50","v":0},{"$f":"'multiTimeline (5)'!E50","v":9},10000000,null,106,71,17,26,162,54,162,189,191,120,82,173,43,7,22,33,16,161,177,10000000,95.368421052631575,{"$f":"'204_19'!U672","v":10000102},{"$f":"'multiTimeline (6)'!C50","v":53}]
[2007,12,4,12,6,19,26,{"$f":"'multiTimeline (2)'!C51","v":3},{"$f":"'multiTimeline (2)'!D51","v":13},{"$f":"'multiTimeline (2)'!E51","v":12},{"$f":"'multiTimeline (2)'!F51","v":11},{"$f":"'multiTimeline (3)'!C51","v":6},{"$f":"'multiTimeline (3)'!D51","v":15},{"$f":"'multiTimeline (3)'!E51","v":7},{"$f":"'multiTimeline (3)'!F51","v":20},{"$f":"'multiTimeline (4)'!C51","v":0},{"$f":"'multiTimeline (4)'!D51","v":2},{"$f":"'multiTimeline (4)'!E51","v":28},{"$f":"'multiTimeline (4)'!F51","v":0},{"$f":"'multiTimeline (5)'!C51","v":0},{"$f":"'multiTimeline (5)'!E51","v":4},10000000,null,73,49,23,128,172,54,147,189,168,181,53,190,97,178,22,6,122,161,194,10000000,116.15789473684211,{"$f":"'204_19'!U673","v":9999218},{"$f":"'multiTimeline (6)'!C51","v":51}]
[2008,1,9,5,7,32,40,{"$f":"'multiTimeline (2)'!C52","v":2},{"$f":"'multiTimeline (2)'!D52","v":23},{"$f":"'multiTimeline (2)'!E52","v":23},{"$f":"'multiTimeline (2)'!F52","v":18},{"$f":"'multiTimeline (3)'!C52","v":12},{"$f":"'multiTimeline (3)'!D52","v":8},{"$f":"'multiTimeline (3)'!E52","v":19},{"$f":"'multiTimeline (3)'!F52","v":32},{"$f":"'multiTimeline (4)'!C52","v":5},{"$f":"'multiTimeline (4)'!D52","v":0},{"$f":"'multiTimeline (4)'!E52","v":25},{"$f":"'multiTimeline (4)'!F52","v":4},{"$f":"'multiTimeline (5)'!C52","v":4},{"$f":"'multiTimeline (5)'!E52","v":14},10000000,null,19,193,17,5,115,93,9,110,64,33,182,7,4,26,145,14,5,14,96,10000000,60.578947368421055,{"$f":"'204_19'!U674","v":10000802.5},{"$f":"'multiTimeline (6)'!C52","v":54}]
[2008,2,8,10,10,23,42,{"$f":"'multiTimeline (2)'!C53","v":4},{"$f":"'multiTimeline (2)'!D53","v":17},{"$f":"'multiTimeline (2)'!E53","v":23},{"$f":"'multiTimeline (2)'!F53","v":10},{"$f":"'multiTimeline (3)'!C53","v":15},{"$f":"'multiTimeline (3)'!D53","v":15},{"$f":"'multiTimeline (3)'!E53","v":11},{"$f":"'multiTimeline (3)'!F53","v":22},{"$f":"'multiTimeline (4)'!C53","v":2},{"$f":"'multiTimeline (4)'!D53","v":2},{"$f":"'multiTimeline (4)'!E53","v":20},{"$f":"'multiTimeline (4)'!F53","v":0},{"$f":"'multiTimeline (5)'!C53","v":0},{"$f":"'multiTimeline (5)'!E53","v":20},10000000,null,25,104,10,67,100,36,71,110,175,6,53,128,63,76,22,55,122,161,21,10000000,73.94736842105263,{"$f":"'204_19'!U675","v":10000471.5},{"$f":"'multiTimeline (6)'!C53","v":56}]
[2008,3,7,12,5,23,47,{"$f":"'multiTimeline (2)'!C54","v":4},{"$f":"'multiTimeline (2)'!D54","v":19},{"$f":"'multiTimeline (2)'!E54","v":27},{"$f":"'multiTimeline (2)'!F54","v":11},{"$f":"'multiTimeline (3)'!C54","v":11},{"$f":"'multiTimeline (3)'!D54","v":15},{"$f":"'multiTimeline (3)'!E54","v":10},{"$f":"'multiTimeline (3)'!F54","v":27},{"$f":"'multiTimeline (4)'!C54","v":5},{"$f":"'multiTimeline (4)'!D54","v":0},{"$f":"'multiTimeline (4)'!E54","v":17},{"$f":"'multiTimeline (4)'!F54","v":2},{"$f":"'multiTimeline (5)'!C54","v":2},{"$f":"'multiTimeline (5)'!E54","v":25},10000000,null,33,49,38,67,62,36,38,47,168,42,53,156,22,26,145,108,16,41,6,10000000,60.684210526315788,{"$f":"'204_19'!U676","v":10000583},{"$f":"'multiTimeline (6)'!C54","v":55}]
[2008,4,6,11,5,17,47,{"$f":"'multiTimeline (2)'!C55","v":8},{"$f":"'multiTimeline (2)'!D55","v":18},{"$f":"'multiTimeline (2)'!E55","v":22},{"$f":"'multiTimeline (2)'!F55","v":19},{"$f":"'multiTimeline (3)'!C55","v":14},{"$f":"'multiTimeline (3)'!D55","v":16},{"$f":"'multiTimeline (3)'!E55","v":15},{"$f":"'multiTimeline (3)'!F55","v":24},{"$f":"'multiTimeline (4)'!C55","v":7},{"$f":"'multiTimeline (4)'!D55","v":2},{"$f":"'multiTimeline (4)'!E55","v":25},{"$f":"'multiTimeline (4)'!F55","v":2},{"$f":"'multiTimeline (5)'!C55","v":0},{"$f":"'multiTimeline (5)'!E55","v":22},10000000,null,42,71,38,152,62,9,51,124,43,12,40,34,43,13,22,14,16,161,12,10000000,50.473684210526315,{"$f":"'204_19'!U677","v":10000777},{"$f":"'multiTimeline (6)'!C55","v":55}]
[2008,5,6,11,5,24,40,{"$f":"'multiTimeline (2)'!C56","v":2},{"$f":"'multiTimeline (2)'!D56","v":14},{"$f":"'multiTimeline (2)'!E56","v":20},{"$f":"'multiTimeline (2)'!F56","v":19},{"$f":"'multiTimeline (3)'!C56","v":13},{"$f":"'multiTimeline (3)'!D56","v":19},{"$f":"'multiTimeline (3)'!E56","v":15},{"$f":"'multiTimeline (3)'!F56","v":20},{"$f":"'multiTimeline (4)'!C56","v":5},{"$f":"'multiTimeline (4)'!D56","v":2},{"$f":"'multiTimeline (4)'!E56","v":21},{"$f":"'multiTimeline (4)'!F56","v":2},{"$f":"'multiTimeline (5)'!C56","v":2},{"$f":"'multiTimeline (5)'!E56","v":20},10000000,null,42,71,38,48,115,93,130,150,43,22,18,34,97,26,22,45,16,41,21,10000000,56.421052631578945,{"$f":"'204_19'!U678","v":10000576},{"$f":"'multiTimeline (6)'!C56","v":52}]
[2008,6,5,13,6,24,44,{"$f":"'multiTimeline (2)'!C57","v":3},{"$f":"'multiTimeline (2)'!D57","v":15},{"$f":"'multiTimeline (2)'!E57","v":29},{"$f":"'multiTimeline (2)'!F57","v":10},{"$f":"'multiTimeline (3)'!C57","v":11},{"$f":"'multiTimeline (3)'!D57","v":23},{"$f":"'multiTimeline (3)'!E57","v":16},{"$f":"'multiTimeline (3)'!F57","v":26},{"$f":"'multiTimeline (4)'!C57","v":3},{"$f":"'multiTimeline (4)'!D57","v":3},{"$f":"'multiTimeline (4)'!E57","v":30},{"$f":"'multiTimeline (4)'!F57","v":3},{"$f":"'multiTimeline (5)'!C57","v":5},{"$f":"'multiTimeline (5)'!E57","v":8},10000000,null,56,30,23,48,85,54,114,27,175,42,2,21,27,49,14,3,11,5,183,10000000,51,{"$f":"'204_19'!U679","v":10000688.5},{"$f":"'multiTimeline (6)'!C57","v":52}]
[2008,7,4,10,3,20,40,{"$f":"'multiTimeline (2)'!C58","v":6},{"$f":"'multiTimeline (2)'!D58","v":14},{"$f":"'multiTimeline (2)'!E58","v":20},{"$f":"'multiTimeline (2)'!F58","v":20},{"$f":"'multiTimeline (3)'!C58","v":15},{"$f":"'multiTimeline (3)'!D58","v":18},{"$f":"'multiTimeline (3)'!E58","v":21},{"$f":"'multiTimeline (3)'!F58","v":31},{"$f":"'multiTimeline (4)'!C58","v":3},{"$f":"'multiTimeline (4)'!D58","v":2},{"$f":"'multiTimeline (4)'!E58","v":16},{"$f":"'multiTimeline (4)'!F58","v":2},{"$f":"'multiTimeline (5)'!C58","v":3},{"$f":"'multiTimeline (5)'!E58","v":21},10000000,null,73,104,87,109,115,21,130,150,28,6,23,4,6,49,22,118,16,23,17,10000000,57.94736842105263,{"$f":"'204_19'!U680","v":10000547},{"$f":"'multiTimeline (6)'!C58","v":58}]
[2008,8,3,8,3,23,47,{"$f":"'multiTimeline (2)'!C59","v":5},{"$f":"'multiTimeline (2)'!D59","v":20},{"$f":"'multiTimeline (2)'!E59","v":24},{"$f":"'multiTimeline (2)'!F59","v":17},{"$f":"'multiTimeline (3)'!C59","v":8},{"$f":"'multiTimeline (3)'!D59","v":23},{"$f":"'multiTimeline (3)'!E59","v":13},{"$f":"'multiTimeline (3)'!F59","v":25},{"$f":"'multiTimeline (4)'!C59","v":5},{"$f":"'multiTimeline (4)'!D59","v":0},{"$f":"'multiTimeline (4)'!E59","v":18},{"$f":"'multiTimeline (4)'!F59","v":2},{"$f":"'multiTimeline (5)'!C59","v":5},{"$f":"'multiTimeline (5)'!E59","v":18},10000000,null,106,161,87,67,62,26,25,95,80,120,2,74,33,26,145,83,16,5,36,10000000,65.736842105263165,{"$f":"'204_19'!U681","v":10000452},{"$f":"'multiTimeline (6)'!C59","v":57}]
[2008,9,4,12,6,23,41,{"$f":"'multiTimeline (2)'!C60","v":2},{"$f":"'multiTimeline (2)'!D60","v":19},{"$f":"'multiTimeline (2)'!E60","v":12},{"$f":"'multiTimeline (2)'!F60","v":22},{"$f":"'multiTimeline (3)'!C60","v":10},{"$f":"'multiTimeline (3)'!D60","v":18},{"$f":"'multiTimeline (3)'!E60","v":10},{"$f":"'multiTimeline (3)'!F60","v":21},{"$f":"'multiTimeline (4)'!C60","v":0},{"$f":"'multiTimeline (4)'!D60","v":0},{"$f":"'multiTimeline (4)'!E60","v":23},{"$f":"'multiTimeline (4)'!F60","v":2},{"$f":"'multiTimeline (5)'!C60","v":2},{"$f":"'multiTimeline (5)'!E60","v":12},10000000,null,73,49,23,67,109,93,38,189,11,59,23,156,82,178,145,25,16,41,146,10000000,80.15789473684211,{"$f":"'204_19'!U682","v":10000309},{"$f":"'multiTimeline (6)'!C60","v":57}]
[2008,10,6,7,2,27,38,{"$f":"'multiTimeline (2)'!C61","v":5},{"$f":"'multiTimeline (2)'!D61","v":17},{"$f":"'multiTimeline (2)'!E61","v":18},{"$f":"'multiTimeline (2)'!F61","v":18},{"$f":"'multiTimeline (3)'!C61","v":9},{"$f":"'multiTimeline (3)'!D61","v":15},{"$f":"'multiTimeline (3)'!E61","v":17},{"$f":"'multiTimeline (3)'!F61","v":24},{"$f":"'multiTimeline (4)'!C61","v":5},{"$f":"'multiTimeline (4)'!D61","v":0},{"$f":"'multiTimeline (4)'!E61","v":12},{"$f":"'multiTimeline (4)'!F61","v":1},{"$f":"'multiTimeline (5)'!C61","v":3},{"$f":"'multiTimeline (5)'!E61","v":25},10000000,null,42,173,132,21,130,26,71,168,64,84,53,18,43,26,145,165,32,23,6,10000000,74.84210526315789,{"$f":"'204_19'!U683","v":10000226},{"$f":"'multiTimeline (6)'!C61","v":52}]
[2008,11,6,10,7,26,38,{"$f":"'multiTimeline (2)'!C62","v":4},{"$f":"'multiTimeline (2)'!D62","v":20},{"$f":"'multiTimeline (2)'!E62","v":22},{"$f":"'multiTimeline (2)'!F62","v":11},{"$f":"'multiTimeline (3)'!C62","v":12},{"$f":"'multiTimeline (3)'!D62","v":17},{"$f":"'multiTimeline (3)'!E62","v":10},{"$f":"'multiTimeline (3)'!F62","v":33},{"$f":"'multiTimeline (4)'!C62","v":10},{"$f":"'multiTimeline (4)'!D62","v":3},{"$f":"'multiTimeline (4)'!E62","v":22},{"$f":"'multiTimeline (4)'!F62","v":0},{"$f":"'multiTimeline (5)'!C62","v":4},{"$f":"'multiTimeline (5)'!E62","v":25},10000000,null,42,104,17,26,130,36,25,124,168,33,31,156,1,5,14,33,122,14,6,10000000,57.210526315789473,{"$f":"'204_19'!U684","v":10001024.5},{"$f":"'multiTimeline (6)'!C62","v":48}]
[2008,12,4,10,5,20,36,{"$f":"'multiTimeline (2)'!C63","v":5},{"$f":"'multiTimeline (2)'!D63","v":21},{"$f":"'multiTimeline (2)'!E63","v":22},{"$f":"'multiTimeline (2)'!F63","v":16},{"$f":"'multiTimeline (3)'!C63","v":4},{"$f":"'multiTimeline (3)'!D63","v":13},{"$f":"'multiTimeline (3)'!E63","v":11},{"$f":"'multiTimeline (3)'!F63","v":18},{"$f":"'multiTimeline (4)'!C63","v":6},{"$f":"'multiTimeline (4)'!D63","v":0},{"$f":"'multiTimeline (4)'!E63","v":17},{"$f":"'multiTimeline (4)'!F63","v":1},{"$f":"'multiTimeline (5)'!C63","v":1},{"$f":"'multiTimeline (5)'!E63","v":14},10000000,null,73,104,38,109,141,26,18,124,96,200,82,128,119,21,145,108,32,69,96,10000000,91,{"$f":"'204_19'!U685","v":9999897.5},{"$f":"'multiTimeline (6)'!C63","v":50}]
[2009,1,8,16,4,27,45,{"$f":"'multiTimeline (2)'!C64","v":6},{"$f":"'multiTimeline (2)'!D64","v":20},{"$f":"'multiTimeline (2)'!E64","v":33},{"$f":"'multiTimeline (2)'!F64","v":18},{"$f":"'multiTimeline (3)'!C64","v":15},{"$f":"'multiTimeline (3)'!D64","v":15},{"$f":"'multiTimeline (3)'!E64","v":15},{"$f":"'multiTimeline (3)'!F64","v":28},{"$f":"'multiTimeline (4)'!C64","v":8},{"$f":"'multiTimeline (4)'!D64","v":1},{"$f":"'multiTimeline (4)'!E64","v":20},{"$f":"'multiTimeline (4)'!F64","v":1},{"$f":"'multiTimeline (5)'!C64","v":3},{"$f":"'multiTimeline (5)'!E64","v":21},10000000,null,25,6,59,21,78,21,25,6,64,6,53,34,18,9,49,55,32,23,17,10000000,31.631578947368421,{"$f":"'204_19'!U686","v":10001265.5},{"$f":"'multiTimeline (6)'!C64","v":56}]
[2009,2,9,11,9,27,50,{"$f":"'multiTimeline (2)'!C65","v":8},{"$f":"'multiTimeline (2)'!D65","v":28},{"$f":"'multiTimeline (2)'!E65","v":31},{"$f":"'multiTimeline (2)'!F65","v":15},{"$f":"'multiTimeline (3)'!C65","v":17},{"$f":"'multiTimeline (3)'!D65","v":11},{"$f":"'multiTimeline (3)'!E65","v":21},{"$f":"'multiTimeline (3)'!F65","v":26},{"$f":"'multiTimeline (4)'!C65","v":3},{"$f":"'multiTimeline (4)'!D65","v":0},{"$f":"'multiTimeline (4)'!E65","v":26},{"$f":"'multiTimeline (4)'!F65","v":4},{"$f":"'multiTimeline (5)'!C65","v":1},{"$f":"'multiTimeline (5)'!E65","v":20},10000000,null,19,71,12,21,46,9,2,15,122,2,130,4,27,49,145,12,5,69,21,10000000,41.10526315789474,{"$f":"'204_19'!U687","v":10001173.5},{"$f":"'multiTimeline (6)'!C65","v":56}]
[2009,3,5,16,5,24,51,{"$f":"'multiTimeline (2)'!C66","v":3},{"$f":"'multiTimeline (2)'!D66","v":19},{"$f":"'multiTimeline (2)'!E66","v":31},{"$f":"'multiTimeline (2)'!F66","v":18},{"$f":"'multiTimeline (3)'!C66","v":14},{"$f":"'multiTimeline (3)'!D66","v":22},{"$f":"'multiTimeline (3)'!E66","v":16},{"$f":"'multiTimeline (3)'!F66","v":32},{"$f":"'multiTimeline (4)'!C66","v":1},{"$f":"'multiTimeline (4)'!D66","v":0},{"$f":"'multiTimeline (4)'!E66","v":17},{"$f":"'multiTimeline (4)'!F66","v":1},{"$f":"'multiTimeline (5)'!C66","v":5},{"$f":"'multiTimeline (5)'!E66","v":17},10000000,null,56,6,38,48,41,54,38,15,64,12,7,21,4,117,145,108,32,5,52,10000000,45.421052631578945,{"$f":"'204_19'!U688","v":10000945.5},{"$f":"'multiTimeline (6)'!C66","v":58}]
[2009,4,10,9,6,34,52,{"$f":"'multiTimeline (2)'!C67","v":7},{"$f":"'multiTimeline (2)'!D67","v":20},{"$f":"'multiTimeline (2)'!E67","v":29},{"$f":"'multiTimeline (2)'!F67","v":23},{"$f":"'multiTimeline (3)'!C67","v":16},{"$f":"'multiTimeline (3)'!D67","v":24},{"$f":"'multiTimeline (3)'!E67","v":15},{"$f":"'multiTimeline (3)'!F67","v":27},{"$f":"'multiTimeline (4)'!C67","v":5},{"$f":"'multiTimeline (4)'!D67","v":1},{"$f":"'multiTimeline (4)'!E67","v":21},{"$f":"'multiTimeline (4)'!F67","v":0},{"$f":"'multiTimeline (5)'!C67","v":1},{"$f":"'multiTimeline (5)'!E67","v":15},10000000,null,14,141,23,2,36,15,25,27,6,5,1,34,22,26,49,45,122,69,75,10000000,38.789473684210527,{"$f":"'204_19'!U689","v":10001195.5},{"$f":"'multiTimeline (6)'!C67","v":57}]
[2009,5,8,13,5,30,48,{"$f":"'multiTimeline (2)'!C68","v":3},{"$f":"'multiTimeline (2)'!D68","v":17},{"$f":"'multiTimeline (2)'!E68","v":26},{"$f":"'multiTimeline (2)'!F68","v":17},{"$f":"'multiTimeline (3)'!C68","v":14},{"$f":"'multiTimeline (3)'!D68","v":17},{"$f":"'multiTimeline (3)'!E68","v":13},{"$f":"'multiTimeline (3)'!F68","v":26},{"$f":"'multiTimeline (4)'!C68","v":6},{"$f":"'multiTimeline (4)'!D68","v":4},{"$f":"'multiTimeline (4)'!E68","v":32},{"$f":"'multiTimeline (4)'!F68","v":4},{"$f":"'multiTimeline (5)'!C68","v":2},{"$f":"'multiTimeline (5)'!E68","v":29},10000000,null,25,30,38,12,57,54,71,60,80,12,31,74,27,21,11,2,5,41,1,10000000,34.315789473684212,{"$f":"'204_19'!U690","v":10001101.5},{"$f":"'multiTimeline (6)'!C68","v":58}]
[2009,6,12,15,3,26,56,{"$f":"'multiTimeline (2)'!C69","v":5},{"$f":"'multiTimeline (2)'!D69","v":21},{"$f":"'multiTimeline (2)'!E69","v":21},{"$f":"'multiTimeline (2)'!F69","v":21},{"$f":"'multiTimeline (3)'!C69","v":15},{"$f":"'multiTimeline (3)'!D69","v":15},{"$f":"'multiTimeline (3)'!E69","v":12},{"$f":"'multiTimeline (3)'!F69","v":25},{"$f":"'multiTimeline (4)'!C69","v":4},{"$f":"'multiTimeline (4)'!D69","v":1},{"$f":"'multiTimeline (4)'!E69","v":20},{"$f":"'multiTimeline (4)'!F69","v":4},{"$f":"'multiTimeline (5)'!C69","v":5},{"$f":"'multiTimeline (5)'!E69","v":29},10000000,null,{"$f":"RANK(C69,C$4:C$207,0)","v":4},{"$f":"RANK(D69,D$4:D$207,0)","v":12},{"$f":"RANK(E69,E$4:E$207,0)","v":87},{"$f":"RANK(F69,F$4:F$207,0)","v":26},{"$f":"RANK(G69,G$4:G$207,0)","v":19},{"$f":"RANK(H69,H$4:H$207,0)","v":26},{"$f":"RANK(I69,I$4:I$207,0)","v":18},{"$f":"RANK(J69,J$4:J$207,0)","v":141},{"$f":"RANK(K69,K$4:K$207,0)","v":17},{"$f":"RANK(L69,L$4:L$207,0)","v":6},{"$f":"RANK(M69,M$4:M$207,0)","v":53},{"$f":"RANK(N69,N$4:N$207,0)","v":105},{"$f":"RANK(O69,O$4:O$207,0)","v":33},{"$f":"RANK(P69,P$4:P$207,0)","v":34},{"$f":"RANK(Q69,Q$4:Q$207,0)","v":49},{"$f":"RANK(R69,R$4:R$207,0)","v":55},{"$f":"RANK(S69,S$4:S$207,0)","v":5},{"$f":"RANK(T69,T$4:T$207,0)","v":5},{"$f":"RANK(U69,U$4:U$207,0)","v":1},{"$f":"V69","v":10000000},{"$f":"AVERAGE(X69:AP69)","v":36.631578947368418},{"$f":"'204_19'!U691","v":10001219},{"$f":"'multiTimeline (6)'!C69","v":61}]
[2009,7,12,12,4,31,61,{"$f":"'multiTimeline (2)'!C70","v":2},{"$f":"'multiTimeline (2)'!D70","v":29},{"$f":"'multiTimeline (2)'!E70","v":32},{"$f":"'multiTimeline (2)'!F70","v":16},{"$f":"'multiTimeline (3)'!C70","v":12},{"$f":"'multiTimeline (3)'!D70","v":19},{"$f":"'multiTimeline (3)'!E70","v":19},{"$f":"'multiTimeline (3)'!F70","v":26},{"$f":"'multiTimeline (4)'!C70","v":4},{"$f":"'multiTimeline (4)'!D70","v":2},{"$f":"'multiTimeline (4)'!E70","v":20},{"$f":"'multiTimeline (4)'!F70","v":1},{"$f":"'multiTimeline (5)'!C70","v":1},{"$f":"'multiTimeline (5)'!E70","v":29},10000000,null,4,49,59,9,9,93,1,10,96,33,18,7,27,34,22,55,32,69,1,10000000,33.05263157894737,{"$f":"'204_19'!U692","v":10001253.5},{"$f":"'multiTimeline (6)'!C70","v":65}]
[2009,8,10,14,5,34,53,{"$f":"'multiTimeline (2)'!C71","v":5},{"$f":"'multiTimeline (2)'!D71","v":17},{"$f":"'multiTimeline (2)'!E71","v":30},{"$f":"'multiTimeline (2)'!F71","v":21},{"$f":"'multiTimeline (3)'!C71","v":14},{"$f":"'multiTimeline (3)'!D71","v":19},{"$f":"'multiTimeline (3)'!E71","v":18},{"$f":"'multiTimeline (3)'!F71","v":33},{"$f":"'multiTimeline (4)'!C71","v":7},{"$f":"'multiTimeline (4)'!D71","v":4},{"$f":"'multiTimeline (4)'!E71","v":28},{"$f":"'multiTimeline (4)'!F71","v":1},{"$f":"'multiTimeline (5)'!C71","v":4},{"$f":"'multiTimeline (5)'!E71","v":20},10000000,null,14,16,38,2,33,26,71,20,17,12,18,12,1,13,11,6,32,14,21,10000000,19.842105263157894,{"$f":"'204_19'!U693","v":10001372.5},{"$f":"'multiTimeline (6)'!C71","v":67}]
[2009,9,10,18,6,19,49,{"$f":"'multiTimeline (2)'!C72","v":2},{"$f":"'multiTimeline (2)'!D72","v":28},{"$f":"'multiTimeline (2)'!E72","v":30},{"$f":"'multiTimeline (2)'!F72","v":21},{"$f":"'multiTimeline (3)'!C72","v":14},{"$f":"'multiTimeline (3)'!D72","v":14},{"$f":"'multiTimeline (3)'!E72","v":18},{"$f":"'multiTimeline (3)'!F72","v":23},{"$f":"'multiTimeline (4)'!C72","v":2},{"$f":"'multiTimeline (4)'!D72","v":1},{"$f":"'multiTimeline (4)'!E72","v":21},{"$f":"'multiTimeline (4)'!F72","v":1},{"$f":"'multiTimeline (5)'!C72","v":1},{"$f":"'multiTimeline (5)'!E72","v":14},10000000,null,14,3,23,128,54,93,2,20,17,12,68,12,53,76,49,45,32,69,96,10000000,45.578947368421055,{"$f":"'204_19'!U694","v":10001025.5},{"$f":"'multiTimeline (6)'!C72","v":64}]
[2009,10,11,11,6,23,35,{"$f":"'multiTimeline (2)'!C73","v":4},{"$f":"'multiTimeline (2)'!D73","v":18},{"$f":"'multiTimeline (2)'!E73","v":22},{"$f":"'multiTimeline (2)'!F73","v":15},{"$f":"'multiTimeline (3)'!C73","v":13},{"$f":"'multiTimeline (3)'!D73","v":15},{"$f":"'multiTimeline (3)'!E73","v":13},{"$f":"'multiTimeline (3)'!F73","v":21},{"$f":"'multiTimeline (4)'!C73","v":1},{"$f":"'multiTimeline (4)'!D73","v":1},{"$f":"'multiTimeline (4)'!E73","v":16},{"$f":"'multiTimeline (4)'!F73","v":1},{"$f":"'multiTimeline (5)'!C73","v":0},{"$f":"'multiTimeline (5)'!E73","v":18},10000000,null,10,71,23,67,147,36,51,124,122,22,53,74,82,117,49,118,32,161,36,10000000,73.421052631578945,{"$f":"'204_19'!U695","v":10000435},{"$f":"'multiTimeline (6)'!C73","v":61}]
[2009,11,12,10,3,24,45,{"$f":"'multiTimeline (2)'!C74","v":4},{"$f":"'multiTimeline (2)'!D74","v":13},{"$f":"'multiTimeline (2)'!E74","v":22},{"$f":"'multiTimeline (2)'!F74","v":16},{"$f":"'multiTimeline (3)'!C74","v":10},{"$f":"'multiTimeline (3)'!D74","v":14},{"$f":"'multiTimeline (3)'!E74","v":15},{"$f":"'multiTimeline (3)'!F74","v":18},{"$f":"'multiTimeline (4)'!C74","v":4},{"$f":"'multiTimeline (4)'!D74","v":1},{"$f":"'multiTimeline (4)'!E74","v":21},{"$f":"'multiTimeline (4)'!F74","v":1},{"$f":"'multiTimeline (5)'!C74","v":4},{"$f":"'multiTimeline (5)'!E74","v":16},10000000,null,4,104,87,48,78,36,147,124,96,59,68,34,119,34,49,45,32,14,62,10000000,65.263157894736835,{"$f":"'204_19'!U696","v":10000411},{"$f":"'multiTimeline (6)'!C74","v":61}]
[2009,12,7,10,2,22,34,{"$f":"'multiTimeline (2)'!C75","v":3},{"$f":"'multiTimeline (2)'!D75","v":13},{"$f":"'multiTimeline (2)'!E75","v":25},{"$f":"'multiTimeline (2)'!F75","v":10},{"$f":"'multiTimeline (3)'!C75","v":10},{"$f":"'multiTimeline (3)'!D75","v":11},{"$f":"'multiTimeline (3)'!E75","v":12},{"$f":"'multiTimeline (3)'!F75","v":25},{"$f":"'multiTimeline (4)'!C75","v":4},{"$f":"'multiTimeline (4)'!D75","v":1},{"$f":"'multiTimeline (4)'!E75","v":22},{"$f":"'multiTimeline (4)'!F75","v":1},{"$f":"'multiTimeline (5)'!C75","v":3},{"$f":"'multiTimeline (5)'!E75","v":14},10000000,null,33,104,132,86,150,54,147,81,175,59,130,105,33,34,49,33,32,23,96,10000000,81.89473684210526,{"$f":"'204_19'!U697","v":10000097},{"$f":"'multiTimeline (6)'!C75","v":59}]
[2010,1,8,13,4,26,47,{"$f":"'multiTimeline (2)'!C76","v":4},{"$f":"'multiTimeline (2)'!D76","v":19},{"$f":"'multiTimeline (2)'!E76","v":23},{"$f":"'multiTimeline (2)'!F76","v":19},{"$f":"'multiTimeline (3)'!C76","v":13},{"$f":"'multiTimeline (3)'!D76","v":22},{"$f":"'multiTimeline (3)'!E76","v":16},{"$f":"'multiTimeline (3)'!F76","v":29},{"$f":"'multiTimeline (4)'!C76","v":2},{"$f":"'multiTimeline (4)'!D76","v":2},{"$f":"'multiTimeline (4)'!E76","v":30},{"$f":"'multiTimeline (4)'!F76","v":3},{"$f":"'multiTimeline (5)'!C76","v":2},{"$f":"'multiTimeline (5)'!E76","v":18},10000000,null,25,30,59,26,62,36,38,110,43,22,7,21,10,76,22,3,11,41,36,10000000,35.684210526315788,{"$f":"'204_19'!U698","v":10001161.5},{"$f":"'multiTimeline (6)'!C76","v":61}]
[2010,2,7,9,3,32,47,{"$f":"'multiTimeline (2)'!C77","v":3},{"$f":"'multiTimeline (2)'!D77","v":20},{"$f":"'multiTimeline (2)'!E77","v":24},{"$f":"'multiTimeline (2)'!F77","v":18},{"$f":"'multiTimeline (3)'!C77","v":14},{"$f":"'multiTimeline (3)'!D77","v":23},{"$f":"'multiTimeline (3)'!E77","v":15},{"$f":"'multiTimeline (3)'!F77","v":30},{"$f":"'multiTimeline (4)'!C77","v":7},{"$f":"'multiTimeline (4)'!D77","v":2},{"$f":"'multiTimeline (4)'!E77","v":18},{"$f":"'multiTimeline (4)'!F77","v":0},{"$f":"'multiTimeline (5)'!C77","v":5},{"$f":"'multiTimeline (5)'!E77","v":16},10000000,null,33,141,87,5,62,54,25,95,64,12,2,34,7,13,22,83,122,5,62,10000000,48.842105263157897,{"$f":"'204_19'!U699","v":10000985},{"$f":"'multiTimeline (6)'!C77","v":63}]
[2010,3,7,13,6,34,60,{"$f":"'multiTimeline (2)'!C78","v":6},{"$f":"'multiTimeline (2)'!D78","v":17},{"$f":"'multiTimeline (2)'!E78","v":30},{"$f":"'multiTimeline (2)'!F78","v":15},{"$f":"'multiTimeline (3)'!C78","v":15},{"$f":"'multiTimeline (3)'!D78","v":20},{"$f":"'multiTimeline (3)'!E78","v":13},{"$f":"'multiTimeline (3)'!F78","v":30},{"$f":"'multiTimeline (4)'!C78","v":7},{"$f":"'multiTimeline (4)'!D78","v":2},{"$f":"'multiTimeline (4)'!E78","v":18},{"$f":"'multiTimeline (4)'!F78","v":0},{"$f":"'multiTimeline (5)'!C78","v":2},{"$f":"'multiTimeline (5)'!E78","v":10},10000000,null,33,30,23,2,12,21,71,20,122,6,14,74,7,13,22,83,122,41,171,10000000,46.684210526315788,{"$f":"'204_19'!U700","v":10000995.5},{"$f":"'multiTimeline (6)'!C78","v":64}]
[2010,4,5,14,3,30,57,{"$f":"'multiTimeline (2)'!C79","v":3},{"$f":"'multiTimeline (2)'!D79","v":23},{"$f":"'multiTimeline (2)'!E79","v":36},{"$f":"'multiTimeline (2)'!F79","v":20},{"$f":"'multiTimeline (3)'!C79","v":13},{"$f":"'multiTimeline (3)'!D79","v":19},{"$f":"'multiTimeline (3)'!E79","v":21},{"$f":"'multiTimeline (3)'!F79","v":29},{"$f":"'multiTimeline (4)'!C79","v":1},{"$f":"'multiTimeline (4)'!D79","v":1},{"$f":"'multiTimeline (4)'!E79","v":34},{"$f":"'multiTimeline (4)'!F79","v":2},{"$f":"'multiTimeline (5)'!C79","v":3},{"$f":"'multiTimeline (5)'!E79","v":23},10000000,null,56,16,87,12,15,54,9,2,28,22,18,4,10,117,49,1,16,23,10,10000000,28.894736842105264,{"$f":"'204_19'!U701","v":10001288.5},{"$f":"'multiTimeline (6)'!C79","v":66}]
[2010,5,9,9,4,32,55,{"$f":"'multiTimeline (2)'!C80","v":3},{"$f":"'multiTimeline (2)'!D80","v":24},{"$f":"'multiTimeline (2)'!E80","v":33},{"$f":"'multiTimeline (2)'!F80","v":20},{"$f":"'multiTimeline (3)'!C80","v":13},{"$f":"'multiTimeline (3)'!D80","v":23},{"$f":"'multiTimeline (3)'!E80","v":15},{"$f":"'multiTimeline (3)'!F80","v":22},{"$f":"'multiTimeline (4)'!C80","v":1},{"$f":"'multiTimeline (4)'!D80","v":2},{"$f":"'multiTimeline (4)'!E80","v":24},{"$f":"'multiTimeline (4)'!F80","v":0},{"$f":"'multiTimeline (5)'!C80","v":3},{"$f":"'multiTimeline (5)'!E80","v":28},10000000,null,19,141,59,5,25,54,6,6,28,22,2,34,63,117,22,19,122,23,4,10000000,40.578947368421055,{"$f":"'204_19'!U702","v":10001066.5},{"$f":"'multiTimeline (6)'!C80","v":63}]
[2010,6,12,12,5,32,51,{"$f":"'multiTimeline (2)'!C81","v":1},{"$f":"'multiTimeline (2)'!D81","v":20},{"$f":"'multiTimeline (2)'!E81","v":32},{"$f":"'multiTimeline (2)'!F81","v":15},{"$f":"'multiTimeline (3)'!C81","v":13},{"$f":"'multiTimeline (3)'!D81","v":21},{"$f":"'multiTimeline (3)'!E81","v":16},{"$f":"'multiTimeline (3)'!F81","v":29},{"$f":"'multiTimeline (4)'!C81","v":1},{"$f":"'multiTimeline (4)'!D81","v":1},{"$f":"'multiTimeline (4)'!E81","v":18},{"$f":"'multiTimeline (4)'!F81","v":3},{"$f":"'multiTimeline (5)'!C81","v":3},{"$f":"'multiTimeline (5)'!E81","v":22},10000000,null,4,49,38,5,41,161,25,10,122,22,12,21,10,117,49,83,11,23,12,10000000,42.89473684210526,{"$f":"'204_19'!U703","v":10001023.5},{"$f":"'multiTimeline (6)'!C81","v":62}]
[2010,7,8,17,7,20,48,{"$f":"'multiTimeline (2)'!C82","v":5},{"$f":"'multiTimeline (2)'!D82","v":24},{"$f":"'multiTimeline (2)'!E82","v":26},{"$f":"'multiTimeline (2)'!F82","v":21},{"$f":"'multiTimeline (3)'!C82","v":13},{"$f":"'multiTimeline (3)'!D82","v":16},{"$f":"'multiTimeline (3)'!E82","v":15},{"$f":"'multiTimeline (3)'!F82","v":24},{"$f":"'multiTimeline (4)'!C82","v":2},{"$f":"'multiTimeline (4)'!D82","v":2},{"$f":"'multiTimeline (4)'!E82","v":29},{"$f":"'multiTimeline (4)'!F82","v":1},{"$f":"'multiTimeline (5)'!C82","v":0},{"$f":"'multiTimeline (5)'!E82","v":15},10000000,null,25,4,17,109,57,26,6,60,17,22,40,34,43,76,22,5,32,161,75,10000000,43.736842105263158,{"$f":"'204_19'!U704","v":10001046},{"$f":"'multiTimeline (6)'!C82","v":62}]
[2010,8,7,16,3,27,43,{"$f":"'multiTimeline (2)'!C83","v":4},{"$f":"'multiTimeline (2)'!D83","v":23},{"$f":"'multiTimeline (2)'!E83","v":22},{"$f":"'multiTimeline (2)'!F83","v":23},{"$f":"'multiTimeline (3)'!C83","v":10},{"$f":"'multiTimeline (3)'!D83","v":18},{"$f":"'multiTimeline (3)'!E83","v":16},{"$f":"'multiTimeline (3)'!F83","v":22},{"$f":"'multiTimeline (4)'!C83","v":1},{"$f":"'multiTimeline (4)'!D83","v":0},{"$f":"'multiTimeline (4)'!E83","v":19},{"$f":"'multiTimeline (4)'!F83","v":1},{"$f":"'multiTimeline (5)'!C83","v":2},{"$f":"'multiTimeline (5)'!E83","v":22},10000000,null,33,6,87,21,93,36,9,124,6,59,23,21,63,117,145,74,32,41,12,10000000,52.736842105263158,{"$f":"'204_19'!U705","v":10000833.5},{"$f":"'multiTimeline (6)'!C83","v":74}]
[2010,9,8,14,5,23,47,{"$f":"'multiTimeline (2)'!C84","v":1},{"$f":"'multiTimeline (2)'!D84","v":17},{"$f":"'multiTimeline (2)'!E84","v":33},{"$f":"'multiTimeline (2)'!F84","v":19},{"$f":"'multiTimeline (3)'!C84","v":9},{"$f":"'multiTimeline (3)'!D84","v":18},{"$f":"'multiTimeline (3)'!E84","v":7},{"$f":"'multiTimeline (3)'!F84","v":33},{"$f":"'multiTimeline (4)'!C84","v":1},{"$f":"'multiTimeline (4)'!D84","v":3},{"$f":"'multiTimeline (4)'!E84","v":28},{"$f":"'multiTimeline (4)'!F84","v":1},{"$f":"'multiTimeline (5)'!C84","v":2},{"$f":"'multiTimeline (5)'!E84","v":14},10000000,null,25,16,38,67,62,161,71,6,43,84,23,190,1,117,14,6,32,41,96,10000000,57.526315789473685,{"$f":"'204_19'!U706","v":10000448.5},{"$f":"'multiTimeline (6)'!C84","v":64}]
[2010,10,5,9,4,31,43,{"$f":"'multiTimeline (2)'!C85","v":2},{"$f":"'multiTimeline (2)'!D85","v":22},{"$f":"'multiTimeline (2)'!E85","v":27},{"$f":"'multiTimeline (2)'!F85","v":21},{"$f":"'multiTimeline (3)'!C85","v":10},{"$f":"'multiTimeline (3)'!D85","v":18},{"$f":"'multiTimeline (3)'!E85","v":14},{"$f":"'multiTimeline (3)'!F85","v":27},{"$f":"'multiTimeline (4)'!C85","v":2},{"$f":"'multiTimeline (4)'!D85","v":0},{"$f":"'multiTimeline (4)'!E85","v":24},{"$f":"'multiTimeline (4)'!F85","v":0},{"$f":"'multiTimeline (5)'!C85","v":2},{"$f":"'multiTimeline (5)'!E85","v":18},10000000,null,56,141,59,9,93,93,12,47,17,59,23,52,22,76,145,19,122,41,36,10000000,59.05263157894737,{"$f":"'204_19'!U707","v":10000713.5},{"$f":"'multiTimeline (6)'!C85","v":59}]
[2010,11,4,13,4,20,39,{"$f":"'multiTimeline (2)'!C86","v":2},{"$f":"'multiTimeline (2)'!D86","v":14},{"$f":"'multiTimeline (2)'!E86","v":22},{"$f":"'multiTimeline (2)'!F86","v":16},{"$f":"'multiTimeline (3)'!C86","v":11},{"$f":"'multiTimeline (3)'!D86","v":13},{"$f":"'multiTimeline (3)'!E86","v":13},{"$f":"'multiTimeline (3)'!F86","v":28},{"$f":"'multiTimeline (4)'!C86","v":0},{"$f":"'multiTimeline (4)'!D86","v":0},{"$f":"'multiTimeline (4)'!E86","v":18},{"$f":"'multiTimeline (4)'!F86","v":2},{"$f":"'multiTimeline (5)'!C86","v":1},{"$f":"'multiTimeline (5)'!E86","v":18},10000000,null,73,30,59,109,124,93,130,124,96,42,82,74,18,178,145,83,16,69,36,10000000,83.21052631578948,{"$f":"'204_19'!U708","v":10000066},{"$f":"'multiTimeline (6)'!C86","v":59}]
[2010,12,4,6,3,19,30,{"$f":"'multiTimeline (2)'!C87","v":3},{"$f":"'multiTimeline (2)'!D87","v":11},{"$f":"'multiTimeline (2)'!E87","v":21},{"$f":"'multiTimeline (2)'!F87","v":14},{"$f":"'multiTimeline (3)'!C87","v":8},{"$f":"'multiTimeline (3)'!D87","v":8},{"$f":"'multiTimeline (3)'!E87","v":12},{"$f":"'multiTimeline (3)'!F87","v":17},{"$f":"'multiTimeline (4)'!C87","v":5},{"$f":"'multiTimeline (4)'!D87","v":1},{"$f":"'multiTimeline (4)'!E87","v":15},{"$f":"'multiTimeline (4)'!F87","v":1},{"$f":"'multiTimeline (5)'!C87","v":1},{"$f":"'multiTimeline (5)'!E87","v":14},10000000,null,73,185,87,128,163,54,177,141,143,120,182,105,134,26,49,134,32,69,96,10000000,110.42105263157895,{"$f":"'204_19'!U709","v":9999439.5},{"$f":"'multiTimeline (6)'!C87","v":53}]
[2011,1,5,9,4,28,52,{"$f":"'multiTimeline (2)'!C88","v":3},{"$f":"'multiTimeline (2)'!D88","v":19},{"$f":"'multiTimeline (2)'!E88","v":23},{"$f":"'multiTimeline (2)'!F88","v":13},{"$f":"'multiTimeline (3)'!C88","v":11},{"$f":"'multiTimeline (3)'!D88","v":20},{"$f":"'multiTimeline (3)'!E88","v":12},{"$f":"'multiTimeline (3)'!F88","v":30},{"$f":"'multiTimeline (4)'!C88","v":1},{"$f":"'multiTimeline (4)'!D88","v":1},{"$f":"'multiTimeline (4)'!E88","v":28},{"$f":"'multiTimeline (4)'!F88","v":1},{"$f":"'multiTimeline (5)'!C88","v":1},{"$f":"'multiTimeline (5)'!E88","v":18},10000000,null,56,141,59,17,36,54,38,110,152,42,14,105,7,117,49,6,32,69,36,10000000,60,{"$f":"'204_19'!U710","v":10000698.5},{"$f":"'multiTimeline (6)'!C88","v":58}]
[2011,2,6,12,3,24,42,{"$f":"'multiTimeline (2)'!C89","v":5},{"$f":"'multiTimeline (2)'!D89","v":20},{"$f":"'multiTimeline (2)'!E89","v":18},{"$f":"'multiTimeline (2)'!F89","v":15},{"$f":"'multiTimeline (3)'!C89","v":15},{"$f":"'multiTimeline (3)'!D89","v":14},{"$f":"'multiTimeline (3)'!E89","v":13},{"$f":"'multiTimeline (3)'!F89","v":24},{"$f":"'multiTimeline (4)'!C89","v":4},{"$f":"'multiTimeline (4)'!D89","v":2},{"$f":"'multiTimeline (4)'!E89","v":22},{"$f":"'multiTimeline (4)'!F89","v":1},{"$f":"'multiTimeline (5)'!C89","v":3},{"$f":"'multiTimeline (5)'!E89","v":22},10000000,null,42,49,87,48,100,26,25,168,122,6,68,74,43,34,22,33,32,23,12,10000000,53.368421052631582,{"$f":"'204_19'!U711","v":10000725},{"$f":"'multiTimeline (6)'!C89","v":56}]
[2011,3,2,14,3,22,39,{"$f":"'multiTimeline (2)'!C90","v":3},{"$f":"'multiTimeline (2)'!D90","v":17},{"$f":"'multiTimeline (2)'!E90","v":24},{"$f":"'multiTimeline (2)'!F90","v":19},{"$f":"'multiTimeline (3)'!C90","v":14},{"$f":"'multiTimeline (3)'!D90","v":19},{"$f":"'multiTimeline (3)'!E90","v":15},{"$f":"'multiTimeline (3)'!F90","v":22},{"$f":"'multiTimeline (4)'!C90","v":3},{"$f":"'multiTimeline (4)'!D90","v":1},{"$f":"'multiTimeline (4)'!E90","v":22},{"$f":"'multiTimeline (4)'!F90","v":2},{"$f":"'multiTimeline (5)'!C90","v":3},{"$f":"'multiTimeline (5)'!E90","v":20},10000000,null,149,16,87,86,124,54,71,95,43,12,18,34,63,49,49,33,16,23,21,10000000,54.89473684210526,{"$f":"'204_19'!U712","v":10000604},{"$f":"'multiTimeline (6)'!C90","v":56}]
[2011,4,3,10,5,20,37,{"$f":"'multiTimeline (2)'!C91","v":4},{"$f":"'multiTimeline (2)'!D91","v":17},{"$f":"'multiTimeline (2)'!E91","v":25},{"$f":"'multiTimeline (2)'!F91","v":16},{"$f":"'multiTimeline (3)'!C91","v":10},{"$f":"'multiTimeline (3)'!D91","v":17},{"$f":"'multiTimeline (3)'!E91","v":9},{"$f":"'multiTimeline (3)'!F91","v":25},{"$f":"'multiTimeline (4)'!C91","v":4},{"$f":"'multiTimeline (4)'!D91","v":0},{"$f":"'multiTimeline (4)'!E91","v":21},{"$f":"'multiTimeline (4)'!F91","v":1},{"$f":"'multiTimeline (5)'!C91","v":3},{"$f":"'multiTimeline (5)'!E91","v":15},10000000,null,106,104,38,109,137,36,71,81,96,59,31,173,33,34,145,45,32,23,75,10000000,75.15789473684211,{"$f":"'204_19'!U713","v":10000222},{"$f":"'multiTimeline (6)'!C91","v":57}]
[2011,5,3,14,4,25,46,{"$f":"'multiTimeline (2)'!C92","v":1},{"$f":"'multiTimeline (2)'!D92","v":20},{"$f":"'multiTimeline (2)'!E92","v":28},{"$f":"'multiTimeline (2)'!F92","v":16},{"$f":"'multiTimeline (3)'!C92","v":12},{"$f":"'multiTimeline (3)'!D92","v":22},{"$f":"'multiTimeline (3)'!E92","v":15},{"$f":"'multiTimeline (3)'!F92","v":25},{"$f":"'multiTimeline (4)'!C92","v":1},{"$f":"'multiTimeline (4)'!D92","v":1},{"$f":"'multiTimeline (4)'!E92","v":25},{"$f":"'multiTimeline (4)'!F92","v":1},{"$f":"'multiTimeline (5)'!C92","v":3},{"$f":"'multiTimeline (5)'!E92","v":16},10000000,null,106,16,59,39,73,161,25,38,96,33,7,34,33,117,49,14,32,23,62,10000000,53.526315789473685,{"$f":"'204_19'!U714","v":10000818.5},{"$f":"'multiTimeline (6)'!C92","v":58}]
[2011,6,5,10,3,29,45,{"$f":"'multiTimeline (2)'!C93","v":4},{"$f":"'multiTimeline (2)'!D93","v":18},{"$f":"'multiTimeline (2)'!E93","v":27},{"$f":"'multiTimeline (2)'!F93","v":14},{"$f":"'multiTimeline (3)'!C93","v":8},{"$f":"'multiTimeline (3)'!D93","v":16},{"$f":"'multiTimeline (3)'!E93","v":14},{"$f":"'multiTimeline (3)'!F93","v":23},{"$f":"'multiTimeline (4)'!C93","v":4},{"$f":"'multiTimeline (4)'!D93","v":2},{"$f":"'multiTimeline (4)'!E93","v":20},{"$f":"'multiTimeline (4)'!F93","v":1},{"$f":"'multiTimeline (5)'!C93","v":1},{"$f":"'multiTimeline (5)'!E93","v":19},10000000,null,56,104,87,15,78,36,51,47,143,120,40,52,53,34,22,55,32,69,28,10000000,59.05263157894737,{"$f":"'204_19'!U715","v":10000610},{"$f":"'multiTimeline (6)'!C93","v":58}]
[2011,7,4,11,3,25,52,{"$f":"'multiTimeline (2)'!C94","v":3},{"$f":"'multiTimeline (2)'!D94","v":17},{"$f":"'multiTimeline (2)'!E94","v":26},{"$f":"'multiTimeline (2)'!F94","v":23},{"$f":"'multiTimeline (3)'!C94","v":9},{"$f":"'multiTimeline (3)'!D94","v":18},{"$f":"'multiTimeline (3)'!E94","v":12},{"$f":"'multiTimeline (3)'!F94","v":29},{"$f":"'multiTimeline (4)'!C94","v":2},{"$f":"'multiTimeline (4)'!D94","v":1},{"$f":"'multiTimeline (4)'!E94","v":23},{"$f":"'multiTimeline (4)'!F94","v":1},{"$f":"'multiTimeline (5)'!C94","v":1},{"$f":"'multiTimeline (5)'!E94","v":18},10000000,null,73,71,87,39,36,54,71,60,6,84,23,105,10,76,49,25,32,69,36,10000000,52.94736842105263,{"$f":"'204_19'!U716","v":10000638},{"$f":"'multiTimeline (6)'!C94","v":61}]
[2011,8,3,14,4,24,52,{"$f":"'multiTimeline (2)'!C95","v":2},{"$f":"'multiTimeline (2)'!D95","v":16},{"$f":"'multiTimeline (2)'!E95","v":22},{"$f":"'multiTimeline (2)'!F95","v":17},{"$f":"'multiTimeline (3)'!C95","v":10},{"$f":"'multiTimeline (3)'!D95","v":12},{"$f":"'multiTimeline (3)'!E95","v":10},{"$f":"'multiTimeline (3)'!F95","v":29},{"$f":"'multiTimeline (4)'!C95","v":3},{"$f":"'multiTimeline (4)'!D95","v":2},{"$f":"'multiTimeline (4)'!E95","v":19},{"$f":"'multiTimeline (4)'!F95","v":0},{"$f":"'multiTimeline (5)'!C95","v":1},{"$f":"'multiTimeline (5)'!E95","v":18},10000000,null,106,16,59,48,36,93,99,124,80,59,104,156,10,49,22,74,122,69,36,10000000,71.684210526315795,{"$f":"'204_19'!U717","v":10000287},{"$f":"'multiTimeline (6)'!C95","v":61}]
[2011,9,5,13,4,21,39,{"$f":"'multiTimeline (2)'!C96","v":3},{"$f":"'multiTimeline (2)'!D96","v":20},{"$f":"'multiTimeline (2)'!E96","v":27},{"$f":"'multiTimeline (2)'!F96","v":19},{"$f":"'multiTimeline (3)'!C96","v":10},{"$f":"'multiTimeline (3)'!D96","v":12},{"$f":"'multiTimeline (3)'!E96","v":15},{"$f":"'multiTimeline (3)'!F96","v":20},{"$f":"'multiTimeline (4)'!C96","v":1},{"$f":"'multiTimeline (4)'!D96","v":1},{"$f":"'multiTimeline (4)'!E96","v":12},{"$f":"'multiTimeline (4)'!F96","v":3},{"$f":"'multiTimeline (5)'!C96","v":1},{"$f":"'multiTimeline (5)'!E96","v":17},10000000,null,56,30,59,96,124,54,25,47,43,59,104,34,97,117,49,165,11,69,52,10000000,67.94736842105263,{"$f":"'204_19'!U718","v":10000442},{"$f":"'multiTimeline (6)'!C96","v":57}]
[2011,10,4,13,3,20,38,{"$f":"'multiTimeline (2)'!C97","v":3},{"$f":"'multiTimeline (2)'!D97","v":14},{"$f":"'multiTimeline (2)'!E97","v":21},{"$f":"'multiTimeline (2)'!F97","v":16},{"$f":"'multiTimeline (3)'!C97","v":11},{"$f":"'multiTimeline (3)'!D97","v":9},{"$f":"'multiTimeline (3)'!E97","v":11},{"$f":"'multiTimeline (3)'!F97","v":24},{"$f":"'multiTimeline (4)'!C97","v":1},{"$f":"'multiTimeline (4)'!D97","v":0},{"$f":"'multiTimeline (4)'!E97","v":22},{"$f":"'multiTimeline (4)'!F97","v":0},{"$f":"'multiTimeline (5)'!C97","v":1},{"$f":"'multiTimeline (5)'!E97","v":19},10000000,null,73,30,87,109,130,54,130,141,96,42,170,128,43,117,145,33,122,69,28,10000000,91.94736842105263,{"$f":"'204_19'!U719","v":9999906},{"$f":"'multiTimeline (6)'!C97","v":54}]
[2011,11,4,10,2,24,40,{"$f":"'multiTimeline (2)'!C98","v":4},{"$f":"'multiTimeline (2)'!D98","v":14},{"$f":"'multiTimeline (2)'!E98","v":20},{"$f":"'multiTimeline (2)'!F98","v":18},{"$f":"'multiTimeline (3)'!C98","v":8},{"$f":"'multiTimeline (3)'!D98","v":12},{"$f":"'multiTimeline (3)'!E98","v":11},{"$f":"'multiTimeline (3)'!F98","v":25},{"$f":"'multiTimeline (4)'!C98","v":3},{"$f":"'multiTimeline (4)'!D98","v":0},{"$f":"'multiTimeline (4)'!E98","v":22},{"$f":"'multiTimeline (4)'!F98","v":1},{"$f":"'multiTimeline (5)'!C98","v":3},{"$f":"'multiTimeline (5)'!E98","v":22},10000000,null,73,104,132,48,115,36,130,150,64,120,104,128,33,49,145,33,32,23,12,10000000,80.578947368421055,{"$f":"'204_19'!U720","v":10000008.5},{"$f":"'multiTimeline (6)'!C98","v":53}]
[2011,12,3,8,3,16,33,{"$f":"'multiTimeline (2)'!C99","v":2},{"$f":"'multiTimeline (2)'!D99","v":13},{"$f":"'multiTimeline (2)'!E99","v":16},{"$f":"'multiTimeline (2)'!F99","v":9},{"$f":"'multiTimeline (3)'!C99","v":7},{"$f":"'multiTimeline (3)'!D99","v":12},{"$f":"'multiTimeline (3)'!E99","v":10},{"$f":"'multiTimeline (3)'!F99","v":18},{"$f":"'multiTimeline (4)'!C99","v":1},{"$f":"'multiTimeline (4)'!D99","v":1},{"$f":"'multiTimeline (4)'!E99","v":15},{"$f":"'multiTimeline (4)'!F99","v":1},{"$f":"'multiTimeline (5)'!C99","v":1},{"$f":"'multiTimeline (5)'!E99","v":8},10000000,null,106,161,87,164,152,93,147,175,181,153,104,156,119,117,49,134,32,69,183,10000000,125.36842105263158,{"$f":"'204_19'!U721","v":9999001.5},{"$f":"'multiTimeline (6)'!C99","v":50}]
[2012,1,5,11,4,21,42,{"$f":"'multiTimeline (2)'!C100","v":3},{"$f":"'multiTimeline (2)'!D100","v":15},{"$f":"'multiTimeline (2)'!E100","v":31},{"$f":"'multiTimeline (2)'!F100","v":15},{"$f":"'multiTimeline (3)'!C100","v":7},{"$f":"'multiTimeline (3)'!D100","v":13},{"$f":"'multiTimeline (3)'!E100","v":14},{"$f":"'multiTimeline (3)'!F100","v":27},{"$f":"'multiTimeline (4)'!C100","v":2},{"$f":"'multiTimeline (4)'!D100","v":1},{"$f":"'multiTimeline (4)'!E100","v":21},{"$f":"'multiTimeline (4)'!F100","v":2},{"$f":"'multiTimeline (5)'!C100","v":3},{"$f":"'multiTimeline (5)'!E100","v":16},10000000,null,56,71,59,96,100,54,114,15,122,153,82,52,22,76,49,45,16,23,62,10000000,66.684210526315795,{"$f":"'204_19'!U722","v":10000277.5},{"$f":"'multiTimeline (6)'!C100","v":52}]
[2012,2,5,11,5,24,41,{"$f":"'multiTimeline (2)'!C101","v":3},{"$f":"'multiTimeline (2)'!D101","v":17},{"$f":"'multiTimeline (2)'!E101","v":28},{"$f":"'multiTimeline (2)'!F101","v":15},{"$f":"'multiTimeline (3)'!C101","v":9},{"$f":"'multiTimeline (3)'!D101","v":12},{"$f":"'multiTimeline (3)'!E101","v":11},{"$f":"'multiTimeline (3)'!F101","v":29},{"$f":"'multiTimeline (4)'!C101","v":1},{"$f":"'multiTimeline (4)'!D101","v":2},{"$f":"'multiTimeline (4)'!E101","v":24},{"$f":"'multiTimeline (4)'!F101","v":1},{"$f":"'multiTimeline (5)'!C101","v":2},{"$f":"'multiTimeline (5)'!E101","v":14},10000000,null,56,71,38,48,109,54,71,38,122,84,104,128,10,117,22,19,32,41,96,10000000,66.315789473684205,{"$f":"'204_19'!U723","v":10000283.5},{"$f":"'multiTimeline (6)'!C101","v":54}]
[2012,3,3,11,4,28,45,{"$f":"'multiTimeline (2)'!C102","v":1},{"$f":"'multiTimeline (2)'!D102","v":18},{"$f":"'multiTimeline (2)'!E102","v":24},{"$f":"'multiTimeline (2)'!F102","v":15},{"$f":"'multiTimeline (3)'!C102","v":11},{"$f":"'multiTimeline (3)'!D102","v":14},{"$f":"'multiTimeline (3)'!E102","v":12},{"$f":"'multiTimeline (3)'!F102","v":29},{"$f":"'multiTimeline (4)'!C102","v":3},{"$f":"'multiTimeline (4)'!D102","v":2},{"$f":"'multiTimeline (4)'!E102","v":14},{"$f":"'multiTimeline (4)'!F102","v":1},{"$f":"'multiTimeline (5)'!C102","v":1},{"$f":"'multiTimeline (5)'!E102","v":16},10000000,null,106,71,59,17,78,161,51,95,122,42,68,105,10,49,22,148,32,69,62,10000000,71.94736842105263,{"$f":"'204_19'!U724","v":10000473.5},{"$f":"'multiTimeline (6)'!C102","v":54}]
[2012,4,5,12,4,26,42,{"$f":"'multiTimeline (2)'!C103","v":2},{"$f":"'multiTimeline (2)'!D103","v":17},{"$f":"'multiTimeline (2)'!E103","v":29},{"$f":"'multiTimeline (2)'!F103","v":13},{"$f":"'multiTimeline (3)'!C103","v":11},{"$f":"'multiTimeline (3)'!D103","v":16},{"$f":"'multiTimeline (3)'!E103","v":12},{"$f":"'multiTimeline (3)'!F103","v":26},{"$f":"'multiTimeline (4)'!C103","v":4},{"$f":"'multiTimeline (4)'!D103","v":1},{"$f":"'multiTimeline (4)'!E103","v":18},{"$f":"'multiTimeline (4)'!F103","v":0},{"$f":"'multiTimeline (5)'!C103","v":1},{"$f":"'multiTimeline (5)'!E103","v":14},10000000,null,56,49,59,26,100,93,71,27,152,42,40,105,27,34,49,83,122,69,96,10000000,68.421052631578945,{"$f":"'204_19'!U725","v":10000456.5},{"$f":"'multiTimeline (6)'!C103","v":57}]
[2012,5,4,12,6,30,44,{"$f":"'multiTimeline (2)'!C104","v":3},{"$f":"'multiTimeline (2)'!D104","v":17},{"$f":"'multiTimeline (2)'!E104","v":29},{"$f":"'multiTimeline (2)'!F104","v":18},{"$f":"'multiTimeline (3)'!C104","v":8},{"$f":"'multiTimeline (3)'!D104","v":11},{"$f":"'multiTimeline (3)'!E104","v":13},{"$f":"'multiTimeline (3)'!F104","v":24},{"$f":"'multiTimeline (4)'!C104","v":1},{"$f":"'multiTimeline (4)'!D104","v":1},{"$f":"'multiTimeline (4)'!E104","v":20},{"$f":"'multiTimeline (4)'!F104","v":0},{"$f":"'multiTimeline (5)'!C104","v":1},{"$f":"'multiTimeline (5)'!E104","v":14},10000000,null,73,49,23,12,85,54,71,27,64,120,130,74,43,117,49,55,122,69,96,10000000,70.15789473684211,{"$f":"'204_19'!U726","v":10000404},{"$f":"'multiTimeline (6)'!C104","v":57}]
[2012,6,6,9,5,26,43,{"$f":"'multiTimeline (2)'!C105","v":3},{"$f":"'multiTimeline (2)'!D105","v":18},{"$f":"'multiTimeline (2)'!E105","v":23},{"$f":"'multiTimeline (2)'!F105","v":14},{"$f":"'multiTimeline (3)'!C105","v":9},{"$f":"'multiTimeline (3)'!D105","v":17},{"$f":"'multiTimeline (3)'!E105","v":14},{"$f":"'multiTimeline (3)'!F105","v":22},{"$f":"'multiTimeline (4)'!C105","v":3},{"$f":"'multiTimeline (4)'!D105","v":1},{"$f":"'multiTimeline (4)'!E105","v":24},{"$f":"'multiTimeline (4)'!F105","v":0},{"$f":"'multiTimeline (5)'!C105","v":1},{"$f":"'multiTimeline (5)'!E105","v":13},10000000,null,42,141,38,26,93,54,51,110,143,84,31,52,63,49,49,19,122,69,123,10000000,71.526315789473685,{"$f":"'204_19'!U727","v":10000368},{"$f":"'multiTimeline (6)'!C105","v":56}]
[2012,7,5,11,5,26,45,{"$f":"'multiTimeline (2)'!C106","v":4},{"$f":"'multiTimeline (2)'!D106","v":21},{"$f":"'multiTimeline (2)'!E106","v":26},{"$f":"'multiTimeline (2)'!F106","v":20},{"$f":"'multiTimeline (3)'!C106","v":9},{"$f":"'multiTimeline (3)'!D106","v":16},{"$f":"'multiTimeline (3)'!E106","v":10},{"$f":"'multiTimeline (3)'!F106","v":29},{"$f":"'multiTimeline (4)'!C106","v":2},{"$f":"'multiTimeline (4)'!D106","v":3},{"$f":"'multiTimeline (4)'!E106","v":20},{"$f":"'multiTimeline (4)'!F106","v":2},{"$f":"'multiTimeline (5)'!C106","v":1},{"$f":"'multiTimeline (5)'!E106","v":13},10000000,null,56,71,38,26,78,36,18,60,28,84,40,156,10,76,14,55,16,69,123,10000000,55.473684210526315,{"$f":"'204_19'!U728","v":10000678},{"$f":"'multiTimeline (6)'!C106","v":60}]
[2012,8,5,15,5,26,43,{"$f":"'multiTimeline (2)'!C107","v":3},{"$f":"'multiTimeline (2)'!D107","v":18},{"$f":"'multiTimeline (2)'!E107","v":25},{"$f":"'multiTimeline (2)'!F107","v":22},{"$f":"'multiTimeline (3)'!C107","v":9},{"$f":"'multiTimeline (3)'!D107","v":11},{"$f":"'multiTimeline (3)'!E107","v":18},{"$f":"'multiTimeline (3)'!F107","v":22},{"$f":"'multiTimeline (4)'!C107","v":1},{"$f":"'multiTimeline (4)'!D107","v":1},{"$f":"'multiTimeline (4)'!E107","v":20},{"$f":"'multiTimeline (4)'!F107","v":2},{"$f":"'multiTimeline (5)'!C107","v":1},{"$f":"'multiTimeline (5)'!E107","v":17},10000000,null,56,12,38,26,93,54,51,81,11,84,130,12,63,117,49,55,16,69,52,10000000,56.263157894736842,{"$f":"'204_19'!U729","v":10000658},{"$f":"'multiTimeline (6)'!C107","v":63}]
[2012,9,4,10,3,25,40,{"$f":"'multiTimeline (2)'!C108","v":2},{"$f":"'multiTimeline (2)'!D108","v":18},{"$f":"'multiTimeline (2)'!E108","v":28},{"$f":"'multiTimeline (2)'!F108","v":16},{"$f":"'multiTimeline (3)'!C108","v":11},{"$f":"'multiTimeline (3)'!D108","v":13},{"$f":"'multiTimeline (3)'!E108","v":11},{"$f":"'multiTimeline (3)'!F108","v":27},{"$f":"'multiTimeline (4)'!C108","v":2},{"$f":"'multiTimeline (4)'!D108","v":1},{"$f":"'multiTimeline (4)'!E108","v":27},{"$f":"'multiTimeline (4)'!F108","v":1},{"$f":"'multiTimeline (5)'!C108","v":4},{"$f":"'multiTimeline (5)'!E108","v":13},10000000,null,73,104,87,39,115,93,51,38,96,42,82,128,22,76,49,10,32,14,123,10000000,67.05263157894737,{"$f":"'204_19'!U730","v":10000563.5},{"$f":"'multiTimeline (6)'!C108","v":61}]
[2012,10,4,11,4,24,40,{"$f":"'multiTimeline (2)'!C109","v":3},{"$f":"'multiTimeline (2)'!D109","v":17},{"$f":"'multiTimeline (2)'!E109","v":26},{"$f":"'multiTimeline (2)'!F109","v":15},{"$f":"'multiTimeline (3)'!C109","v":8},{"$f":"'multiTimeline (3)'!D109","v":11},{"$f":"'multiTimeline (3)'!E109","v":9},{"$f":"'multiTimeline (3)'!F109","v":23},{"$f":"'multiTimeline (4)'!C109","v":1},{"$f":"'multiTimeline (4)'!D109","v":0.1},{"$f":"'multiTimeline (4)'!E109","v":16},{"$f":"'multiTimeline (4)'!F109","v":0.1},{"$f":"'multiTimeline (5)'!C109","v":2},{"$f":"'multiTimeline (5)'!E109","v":13},10000000,null,73,71,59,48,115,54,71,60,122,120,130,173,53,117,114,118,76,41,123,10000000,91.473684210526315,{"$f":"'204_19'!U731","v":9999801.5},{"$f":"'multiTimeline (6)'!C109","v":58}]
[2012,11,5,10,5,21,36,{"$f":"'multiTimeline (2)'!C110","v":2},{"$f":"'multiTimeline (2)'!D110","v":12},{"$f":"'multiTimeline (2)'!E110","v":20},{"$f":"'multiTimeline (2)'!F110","v":16},{"$f":"'multiTimeline (3)'!C110","v":8},{"$f":"'multiTimeline (3)'!D110","v":9},{"$f":"'multiTimeline (3)'!E110","v":12},{"$f":"'multiTimeline (3)'!F110","v":18},{"$f":"'multiTimeline (4)'!C110","v":2},{"$f":"'multiTimeline (4)'!D110","v":1},{"$f":"'multiTimeline (4)'!E110","v":18},{"$f":"'multiTimeline (4)'!F110","v":0.1},{"$f":"'multiTimeline (5)'!C110","v":0.1},{"$f":"'multiTimeline (5)'!E110","v":13},10000000,null,56,104,38,96,141,93,162,150,96,120,170,105,119,76,49,83,76,140,123,10000000,105.10526315789474,{"$f":"'204_19'!U732","v":9999543.5},{"$f":"'multiTimeline (6)'!C110","v":53}]
[2012,12,4,11,2,12,32,{"$f":"'multiTimeline (2)'!C111","v":1},{"$f":"'multiTimeline (2)'!D111","v":12},{"$f":"'multiTimeline (2)'!E111","v":21},{"$f":"'multiTimeline (2)'!F111","v":17},{"$f":"'multiTimeline (3)'!C111","v":6},{"$f":"'multiTimeline (3)'!D111","v":8},{"$f":"'multiTimeline (3)'!E111","v":11},{"$f":"'multiTimeline (3)'!F111","v":15},{"$f":"'multiTimeline (4)'!C111","v":1},{"$f":"'multiTimeline (4)'!D111","v":0},{"$f":"'multiTimeline (4)'!E111","v":13},{"$f":"'multiTimeline (4)'!F111","v":1},{"$f":"'multiTimeline (5)'!C111","v":0},{"$f":"'multiTimeline (5)'!E111","v":14},10000000,null,73,71,132,185,158,161,162,141,80,181,182,128,159,117,145,156,32,161,96,10000000,132.63157894736841,{"$f":"'204_19'!U733","v":9999022.5},{"$f":"'multiTimeline (6)'!C111","v":51}]
[2013,1,4,14,5,25,34,{"$f":"'multiTimeline (2)'!C112","v":5},{"$f":"'multiTimeline (2)'!D112","v":19},{"$f":"'multiTimeline (2)'!E112","v":32},{"$f":"'multiTimeline (2)'!F112","v":20},{"$f":"'multiTimeline (3)'!C112","v":8},{"$f":"'multiTimeline (3)'!D112","v":15},{"$f":"'multiTimeline (3)'!E112","v":11},{"$f":"'multiTimeline (3)'!F112","v":22},{"$f":"'multiTimeline (4)'!C112","v":1},{"$f":"'multiTimeline (4)'!D112","v":2},{"$f":"'multiTimeline (4)'!E112","v":18},{"$f":"'multiTimeline (4)'!F112","v":0.1},{"$f":"'multiTimeline (5)'!C112","v":0.1},{"$f":"'multiTimeline (5)'!E112","v":20},10000000,null,73,16,38,39,150,26,38,10,28,120,53,128,63,117,22,83,76,140,21,10000000,65.315789473684205,{"$f":"'204_19'!U734","v":10000493},{"$f":"'multiTimeline (6)'!C112","v":53}]
[2013,2,3,14,4,20,41,{"$f":"'multiTimeline (2)'!C113","v":1},{"$f":"'multiTimeline (2)'!D113","v":22},{"$f":"'multiTimeline (2)'!E113","v":31},{"$f":"'multiTimeline (2)'!F113","v":21},{"$f":"'multiTimeline (3)'!C113","v":8},{"$f":"'multiTimeline (3)'!D113","v":16},{"$f":"'multiTimeline (3)'!E113","v":11},{"$f":"'multiTimeline (3)'!F113","v":26},{"$f":"'multiTimeline (4)'!C113","v":3},{"$f":"'multiTimeline (4)'!D113","v":0.1},{"$f":"'multiTimeline (4)'!E113","v":20},{"$f":"'multiTimeline (4)'!F113","v":1},{"$f":"'multiTimeline (5)'!C113","v":1},{"$f":"'multiTimeline (5)'!E113","v":19},10000000,null,106,16,59,109,109,161,12,15,17,120,40,128,27,49,114,55,32,69,28,10000000,66.631578947368425,{"$f":"'204_19'!U735","v":10000363.5},{"$f":"'multiTimeline (6)'!C113","v":55}]
[2013,3,4,8,4,38,40,{"$f":"'multiTimeline (2)'!C114","v":4},{"$f":"'multiTimeline (2)'!D114","v":28},{"$f":"'multiTimeline (2)'!E114","v":33},{"$f":"'multiTimeline (2)'!F114","v":22},{"$f":"'multiTimeline (3)'!C114","v":11},{"$f":"'multiTimeline (3)'!D114","v":15},{"$f":"'multiTimeline (3)'!E114","v":14},{"$f":"'multiTimeline (3)'!F114","v":24},{"$f":"'multiTimeline (4)'!C114","v":4},{"$f":"'multiTimeline (4)'!D114","v":1},{"$f":"'multiTimeline (4)'!E114","v":22},{"$f":"'multiTimeline (4)'!F114","v":1},{"$f":"'multiTimeline (5)'!C114","v":1},{"$f":"'multiTimeline (5)'!E114","v":19},10000000,null,73,161,59,1,115,36,2,6,11,42,53,52,43,34,49,33,32,69,28,10000000,47.315789473684212,{"$f":"'204_19'!U736","v":10001113.5},{"$f":"'multiTimeline (6)'!C114","v":57}]
[2013,4,5,11,2,21,42,{"$f":"'multiTimeline (2)'!C115","v":2},{"$f":"'multiTimeline (2)'!D115","v":20},{"$f":"'multiTimeline (2)'!E115","v":22},{"$f":"'multiTimeline (2)'!F115","v":20},{"$f":"'multiTimeline (3)'!C115","v":8},{"$f":"'multiTimeline (3)'!D115","v":14},{"$f":"'multiTimeline (3)'!E115","v":11},{"$f":"'multiTimeline (3)'!F115","v":22},{"$f":"'multiTimeline (4)'!C115","v":4},{"$f":"'multiTimeline (4)'!D115","v":2},{"$f":"'multiTimeline (4)'!E115","v":19},{"$f":"'multiTimeline (4)'!F115","v":0},{"$f":"'multiTimeline (5)'!C115","v":1},{"$f":"'multiTimeline (5)'!E115","v":15},10000000,null,56,71,132,96,100,93,25,124,28,120,68,128,63,34,22,74,122,69,75,10000000,78.94736842105263,{"$f":"'204_19'!U737","v":10000130.5},{"$f":"'multiTimeline (6)'!C115","v":60}]
[2013,5,3,13,5,24,39,{"$f":"'multiTimeline (2)'!C116","v":3},{"$f":"'multiTimeline (2)'!D116","v":17},{"$f":"'multiTimeline (2)'!E116","v":22},{"$f":"'multiTimeline (2)'!F116","v":17},{"$f":"'multiTimeline (3)'!C116","v":7},{"$f":"'multiTimeline (3)'!D116","v":14},{"$f":"'multiTimeline (3)'!E116","v":13},{"$f":"'multiTimeline (3)'!F116","v":21},{"$f":"'multiTimeline (4)'!C116","v":2},{"$f":"'multiTimeline (4)'!D116","v":1},{"$f":"'multiTimeline (4)'!E116","v":21},{"$f":"'multiTimeline (4)'!F116","v":0.1},{"$f":"'multiTimeline (5)'!C116","v":1},{"$f":"'multiTimeline (5)'!E116","v":19},10000000,null,106,30,38,48,124,54,71,124,80,153,68,74,82,76,49,45,76,69,28,10000000,73.421052631578945,{"$f":"'204_19'!U738","v":10000143.5},{"$f":"'multiTimeline (6)'!C116","v":61}]
[2013,6,4,11,3,25,36,{"$f":"'multiTimeline (2)'!C117","v":2},{"$f":"'multiTimeline (2)'!D117","v":21},{"$f":"'multiTimeline (2)'!E117","v":26},{"$f":"'multiTimeline (2)'!F117","v":16},{"$f":"'multiTimeline (3)'!C117","v":9},{"$f":"'multiTimeline (3)'!D117","v":11},{"$f":"'multiTimeline (3)'!E117","v":12},{"$f":"'multiTimeline (3)'!F117","v":25},{"$f":"'multiTimeline (4)'!C117","v":2},{"$f":"'multiTimeline (4)'!D117","v":2},{"$f":"'multiTimeline (4)'!E117","v":20},{"$f":"'multiTimeline (4)'!F117","v":0.1},{"$f":"'multiTimeline (5)'!C117","v":1},{"$f":"'multiTimeline (5)'!E117","v":15},10000000,null,73,71,87,39,141,93,18,60,96,84,130,105,33,76,22,55,76,69,75,10000000,73.84210526315789,{"$f":"'204_19'!U739","v":10000327},{"$f":"'multiTimeline (6)'!C117","v":63}]
[2013,7,3,12,2,23,33,{"$f":"'multiTimeline (2)'!C118","v":2},{"$f":"'multiTimeline (2)'!D118","v":17},{"$f":"'multiTimeline (2)'!E118","v":23},{"$f":"'multiTimeline (2)'!F118","v":15},{"$f":"'multiTimeline (3)'!C118","v":11},{"$f":"'multiTimeline (3)'!D118","v":12},{"$f":"'multiTimeline (3)'!E118","v":13},{"$f":"'multiTimeline (3)'!F118","v":19},{"$f":"'multiTimeline (4)'!C118","v":2},{"$f":"'multiTimeline (4)'!D118","v":2},{"$f":"'multiTimeline (4)'!E118","v":18},{"$f":"'multiTimeline (4)'!F118","v":0.1},{"$f":"'multiTimeline (5)'!C118","v":2},{"$f":"'multiTimeline (5)'!E118","v":16},10000000,null,106,49,132,67,152,93,71,110,122,42,104,74,109,76,22,83,76,41,62,10000000,83.736842105263165,{"$f":"'204_19'!U740","v":10000059},{"$f":"'multiTimeline (6)'!C118","v":61}]
[2013,8,4,11,2,24,38,{"$f":"'multiTimeline (2)'!C119","v":2},{"$f":"'multiTimeline (2)'!D119","v":17},{"$f":"'multiTimeline (2)'!E119","v":25},{"$f":"'multiTimeline (2)'!F119","v":15},{"$f":"'multiTimeline (3)'!C119","v":7},{"$f":"'multiTimeline (3)'!D119","v":13},{"$f":"'multiTimeline (3)'!E119","v":13},{"$f":"'multiTimeline (3)'!F119","v":23},{"$f":"'multiTimeline (4)'!C119","v":3},{"$f":"'multiTimeline (4)'!D119","v":0.1},{"$f":"'multiTimeline (4)'!E119","v":18},{"$f":"'multiTimeline (4)'!F119","v":1},{"$f":"'multiTimeline (5)'!C119","v":0.1},{"$f":"'multiTimeline (5)'!E119","v":16},10000000,null,73,71,132,48,130,93,71,81,122,153,82,74,53,49,114,83,32,140,62,10000000,87.526315789473685,{"$f":"'204_19'!U741","v":9999881.5},{"$f":"'multiTimeline (6)'!C119","v":64}]
[2013,9,4,9,3,20,32,{"$f":"'multiTimeline (2)'!C120","v":2},{"$f":"'multiTimeline (2)'!D120","v":18},{"$f":"'multiTimeline (2)'!E120","v":23},{"$f":"'multiTimeline (2)'!F120","v":16},{"$f":"'multiTimeline (3)'!C120","v":10},{"$f":"'multiTimeline (3)'!D120","v":15},{"$f":"'multiTimeline (3)'!E120","v":11},{"$f":"'multiTimeline (3)'!F120","v":22},{"$f":"'multiTimeline (4)'!C120","v":1},{"$f":"'multiTimeline (4)'!D120","v":1},{"$f":"'multiTimeline (4)'!E120","v":21},{"$f":"'multiTimeline (4)'!F120","v":0.1},{"$f":"'multiTimeline (5)'!C120","v":1},{"$f":"'multiTimeline (5)'!E120","v":13},10000000,null,73,141,87,109,158,93,51,110,96,59,53,128,63,117,49,45,76,69,123,10000000,89.473684210526315,{"$f":"'204_19'!U742","v":10000037},{"$f":"'multiTimeline (6)'!C120","v":63}]
[2013,10,4,11,4,21,37,{"$f":"'multiTimeline (2)'!C121","v":3},{"$f":"'multiTimeline (2)'!D121","v":17},{"$f":"'multiTimeline (2)'!E121","v":30},{"$f":"'multiTimeline (2)'!F121","v":19},{"$f":"'multiTimeline (3)'!C121","v":8},{"$f":"'multiTimeline (3)'!D121","v":15},{"$f":"'multiTimeline (3)'!E121","v":13},{"$f":"'multiTimeline (3)'!F121","v":23},{"$f":"'multiTimeline (4)'!C121","v":2},{"$f":"'multiTimeline (4)'!D121","v":3},{"$f":"'multiTimeline (4)'!E121","v":17},{"$f":"'multiTimeline (4)'!F121","v":0.1},{"$f":"'multiTimeline (5)'!C121","v":2},{"$f":"'multiTimeline (5)'!E121","v":17},10000000,null,73,71,59,96,137,54,71,20,43,120,53,74,53,76,14,108,76,41,52,10000000,67.94736842105263,{"$f":"'204_19'!U743","v":10000250.5},{"$f":"'multiTimeline (6)'!C121","v":63}]
[2013,11,4,10,3,26,36,{"$f":"'multiTimeline (2)'!C122","v":3},{"$f":"'multiTimeline (2)'!D122","v":14},{"$f":"'multiTimeline (2)'!E122","v":36},{"$f":"'multiTimeline (2)'!F122","v":16},{"$f":"'multiTimeline (3)'!C122","v":6},{"$f":"'multiTimeline (3)'!D122","v":15},{"$f":"'multiTimeline (3)'!E122","v":12},{"$f":"'multiTimeline (3)'!F122","v":19},{"$f":"'multiTimeline (4)'!C122","v":3},{"$f":"'multiTimeline (4)'!D122","v":1},{"$f":"'multiTimeline (4)'!E122","v":19},{"$f":"'multiTimeline (4)'!F122","v":0.1},{"$f":"'multiTimeline (5)'!C122","v":1},{"$f":"'multiTimeline (5)'!E122","v":19},10000000,null,73,104,87,26,141,54,130,2,96,181,53,105,109,49,49,74,76,69,28,10000000,79.263157894736835,{"$f":"'204_19'!U744","v":10000138},{"$f":"'multiTimeline (6)'!C122","v":58}]
[2013,12,2,8,3,18,27,{"$f":"'multiTimeline (2)'!C123","v":1},{"$f":"'multiTimeline (2)'!D123","v":12},{"$f":"'multiTimeline (2)'!E123","v":19},{"$f":"'multiTimeline (2)'!F123","v":11},{"$f":"'multiTimeline (3)'!C123","v":7},{"$f":"'multiTimeline (3)'!D123","v":8},{"$f":"'multiTimeline (3)'!E123","v":7},{"$f":"'multiTimeline (3)'!F123","v":14},{"$f":"'multiTimeline (4)'!C123","v":4},{"$f":"'multiTimeline (4)'!D123","v":1},{"$f":"'multiTimeline (4)'!E123","v":15},{"$f":"'multiTimeline (4)'!F123","v":0},{"$f":"'multiTimeline (5)'!C123","v":2},{"$f":"'multiTimeline (5)'!E123","v":14},10000000,null,149,161,87,140,170,161,162,163,168,153,182,190,169,34,49,134,122,41,96,10000000,133.21052631578948,{"$f":"'204_19'!U745","v":9999013.5},{"$f":"'multiTimeline (6)'!C123","v":55}]
[2014,1,3,13,3,24,44,{"$f":"'multiTimeline (2)'!C124","v":2},{"$f":"'multiTimeline (2)'!D124","v":14},{"$f":"'multiTimeline (2)'!E124","v":26},{"$f":"'multiTimeline (2)'!F124","v":22},{"$f":"'multiTimeline (3)'!C124","v":8},{"$f":"'multiTimeline (3)'!D124","v":16},{"$f":"'multiTimeline (3)'!E124","v":14},{"$f":"'multiTimeline (3)'!F124","v":28},{"$f":"'multiTimeline (4)'!C124","v":2},{"$f":"'multiTimeline (4)'!D124","v":0.1},{"$f":"'multiTimeline (4)'!E124","v":20},{"$f":"'multiTimeline (4)'!F124","v":1},{"$f":"'multiTimeline (5)'!C124","v":0.1},{"$f":"'multiTimeline (5)'!E124","v":14},10000000,null,106,30,87,48,85,93,130,60,11,120,40,52,18,76,114,55,32,140,96,10000000,73.315789473684205,{"$f":"'204_19'!U746","v":10000146.5},{"$f":"'multiTimeline (6)'!C124","v":62}]
[2014,2,3,13,3,23,40,{"$f":"'multiTimeline (2)'!C125","v":3},{"$f":"'multiTimeline (2)'!D125","v":16},{"$f":"'multiTimeline (2)'!E125","v":23},{"$f":"'multiTimeline (2)'!F125","v":16},{"$f":"'multiTimeline (3)'!C125","v":9},{"$f":"'multiTimeline (3)'!D125","v":16},{"$f":"'multiTimeline (3)'!E125","v":13},{"$f":"'multiTimeline (3)'!F125","v":21},{"$f":"'multiTimeline (4)'!C125","v":1},{"$f":"'multiTimeline (4)'!D125","v":1},{"$f":"'multiTimeline (4)'!E125","v":18},{"$f":"'multiTimeline (4)'!F125","v":1},{"$f":"'multiTimeline (5)'!C125","v":1},{"$f":"'multiTimeline (5)'!E125","v":14},10000000,null,106,30,87,67,115,54,99,110,96,84,40,74,82,117,49,83,32,69,96,10000000,78.421052631578945,{"$f":"'204_19'!U747","v":10000049.5},{"$f":"'multiTimeline (6)'!C125","v":65}]
[2014,3,5,10,3,24,38,{"$f":"'multiTimeline (2)'!C126","v":3},{"$f":"'multiTimeline (2)'!D126","v":19},{"$f":"'multiTimeline (2)'!E126","v":30},{"$f":"'multiTimeline (2)'!F126","v":15},{"$f":"'multiTimeline (3)'!C126","v":7},{"$f":"'multiTimeline (3)'!D126","v":16},{"$f":"'multiTimeline (3)'!E126","v":13},{"$f":"'multiTimeline (3)'!F126","v":19},{"$f":"'multiTimeline (4)'!C126","v":3},{"$f":"'multiTimeline (4)'!D126","v":2},{"$f":"'multiTimeline (4)'!E126","v":22},{"$f":"'multiTimeline (4)'!F126","v":0.1},{"$f":"'multiTimeline (5)'!C126","v":0.1},{"$f":"'multiTimeline (5)'!E126","v":14},10000000,null,56,104,87,48,130,54,38,20,122,153,40,74,109,49,22,33,76,140,96,10000000,76.368421052631575,{"$f":"'204_19'!U748","v":10000179.5},{"$f":"'multiTimeline (6)'!C126","v":100}]
[2014,4,4,16,4,24,41,{"$f":"'multiTimeline (2)'!C127","v":4},{"$f":"'multiTimeline (2)'!D127","v":22},{"$f":"'multiTimeline (2)'!E127","v":27},{"$f":"'multiTimeline (2)'!F127","v":20},{"$f":"'multiTimeline (3)'!C127","v":9},{"$f":"'multiTimeline (3)'!D127","v":13},{"$f":"'multiTimeline (3)'!E127","v":13},{"$f":"'multiTimeline (3)'!F127","v":21},{"$f":"'multiTimeline (4)'!C127","v":3},{"$f":"'multiTimeline (4)'!D127","v":1},{"$f":"'multiTimeline (4)'!E127","v":23},{"$f":"'multiTimeline (4)'!F127","v":2},{"$f":"'multiTimeline (5)'!C127","v":3},{"$f":"'multiTimeline (5)'!E127","v":15},10000000,null,73,6,59,48,109,36,12,47,28,84,82,74,82,49,49,25,16,23,75,10000000,51.421052631578945,{"$f":"'204_19'!U749","v":10000652.5},{"$f":"'multiTimeline (6)'!C127","v":92}]
[2014,5,3,12,4,21,41,{"$f":"'multiTimeline (2)'!C128","v":3},{"$f":"'multiTimeline (2)'!D128","v":18},{"$f":"'multiTimeline (2)'!E128","v":26},{"$f":"'multiTimeline (2)'!F128","v":18},{"$f":"'multiTimeline (3)'!C128","v":7},{"$f":"'multiTimeline (3)'!D128","v":13},{"$f":"'multiTimeline (3)'!E128","v":10},{"$f":"'multiTimeline (3)'!F128","v":22},{"$f":"'multiTimeline (4)'!C128","v":3},{"$f":"'multiTimeline (4)'!D128","v":0.1},{"$f":"'multiTimeline (4)'!E128","v":14},{"$f":"'multiTimeline (4)'!F128","v":0.1},{"$f":"'multiTimeline (5)'!C128","v":0.1},{"$f":"'multiTimeline (5)'!E128","v":16},10000000,null,106,49,59,96,109,54,51,60,64,153,82,156,63,49,114,148,76,140,62,10000000,89,{"$f":"'204_19'!U750","v":9999938.5},{"$f":"'multiTimeline (6)'!C128","v":82}]
[2014,6,3,11,5,18,38,{"$f":"'multiTimeline (2)'!C129","v":2},{"$f":"'multiTimeline (2)'!D129","v":18},{"$f":"'multiTimeline (2)'!E129","v":27},{"$f":"'multiTimeline (2)'!F129","v":17},{"$f":"'multiTimeline (3)'!C129","v":10},{"$f":"'multiTimeline (3)'!D129","v":13},{"$f":"'multiTimeline (3)'!E129","v":11},{"$f":"'multiTimeline (3)'!F129","v":21},{"$f":"'multiTimeline (4)'!C129","v":2},{"$f":"'multiTimeline (4)'!D129","v":0.1},{"$f":"'multiTimeline (4)'!E129","v":16},{"$f":"'multiTimeline (4)'!F129","v":0},{"$f":"'multiTimeline (5)'!C129","v":0.1},{"$f":"'multiTimeline (5)'!E129","v":15},10000000,null,106,71,38,140,130,93,51,47,80,59,82,128,82,76,114,118,122,140,75,10000000,92.21052631578948,{"$f":"'204_19'!U751","v":9999987},{"$f":"'multiTimeline (6)'!C129","v":86}]
[2014,7,3,9,2,20,42,{"$f":"'multiTimeline (2)'!C130","v":4},{"$f":"'multiTimeline (2)'!D130","v":17},{"$f":"'multiTimeline (2)'!E130","v":26},{"$f":"'multiTimeline (2)'!F130","v":18},{"$f":"'multiTimeline (3)'!C130","v":9},{"$f":"'multiTimeline (3)'!D130","v":12},{"$f":"'multiTimeline (3)'!E130","v":12},{"$f":"'multiTimeline (3)'!F130","v":22},{"$f":"'multiTimeline (4)'!C130","v":3},{"$f":"'multiTimeline (4)'!D130","v":1},{"$f":"'multiTimeline (4)'!E130","v":24},{"$f":"'multiTimeline (4)'!F130","v":0.1},{"$f":"'multiTimeline (5)'!C130","v":0.1},{"$f":"'multiTimeline (5)'!E130","v":15},10000000,null,106,141,132,109,100,36,71,60,64,84,104,105,63,49,49,19,76,140,75,10000000,83.315789473684205,{"$f":"'204_19'!U752","v":9999961.5},{"$f":"'multiTimeline (6)'!C130","v":92}]
[2014,8,4,12,3,23,44,{"$f":"'multiTimeline (2)'!C131","v":2},{"$f":"'multiTimeline (2)'!D131","v":15},{"$f":"'multiTimeline (2)'!E131","v":23},{"$f":"'multiTimeline (2)'!F131","v":22},{"$f":"'multiTimeline (3)'!C131","v":7},{"$f":"'multiTimeline (3)'!D131","v":11},{"$f":"'multiTimeline (3)'!E131","v":12},{"$f":"'multiTimeline (3)'!F131","v":20},{"$f":"'multiTimeline (4)'!C131","v":2},{"$f":"'multiTimeline (4)'!D131","v":0.1},{"$f":"'multiTimeline (4)'!E131","v":16},{"$f":"'multiTimeline (4)'!F131","v":0.1},{"$f":"'multiTimeline (5)'!C131","v":1},{"$f":"'multiTimeline (5)'!E131","v":15},10000000,null,73,49,87,67,85,93,114,110,11,153,130,105,97,76,114,118,76,69,75,10000000,89.578947368421055,{"$f":"'204_19'!U753","v":9999837.5},{"$f":"'multiTimeline (6)'!C131","v":87}]
[2014,9,3,11,4,21,33,{"$f":"'multiTimeline (2)'!C132","v":3},{"$f":"'multiTimeline (2)'!D132","v":12},{"$f":"'multiTimeline (2)'!E132","v":24},{"$f":"'multiTimeline (2)'!F132","v":19},{"$f":"'multiTimeline (3)'!C132","v":11},{"$f":"'multiTimeline (3)'!D132","v":14},{"$f":"'multiTimeline (3)'!E132","v":13},{"$f":"'multiTimeline (3)'!F132","v":21},{"$f":"'multiTimeline (4)'!C132","v":3},{"$f":"'multiTimeline (4)'!D132","v":1},{"$f":"'multiTimeline (4)'!E132","v":18},{"$f":"'multiTimeline (4)'!F132","v":0.1},{"$f":"'multiTimeline (5)'!C132","v":2},{"$f":"'multiTimeline (5)'!E132","v":13},10000000,null,106,71,59,96,152,54,162,95,43,42,68,74,82,49,49,83,76,41,123,10000000,80.263157894736835,{"$f":"'204_19'!U754","v":10000125},{"$f":"'multiTimeline (6)'!C132","v":77}]
[2014,10,6,13,3,23,37,{"$f":"'multiTimeline (2)'!C133","v":2},{"$f":"'multiTimeline (2)'!D133","v":16},{"$f":"'multiTimeline (2)'!E133","v":23},{"$f":"'multiTimeline (2)'!F133","v":21},{"$f":"'multiTimeline (3)'!C133","v":9},{"$f":"'multiTimeline (3)'!D133","v":11},{"$f":"'multiTimeline (3)'!E133","v":13},{"$f":"'multiTimeline (3)'!F133","v":15},{"$f":"'multiTimeline (4)'!C133","v":2},{"$f":"'multiTimeline (4)'!D133","v":0.1},{"$f":"'multiTimeline (4)'!E133","v":15},{"$f":"'multiTimeline (4)'!F133","v":0.1},{"$f":"'multiTimeline (5)'!C133","v":2},{"$f":"'multiTimeline (5)'!E133","v":14},10000000,null,{"$f":"RANK(C133,C$4:C$207,0)","v":42},{"$f":"RANK(D133,D$4:D$207,0)","v":30},{"$f":"RANK(E133,E$4:E$207,0)","v":87},{"$f":"RANK(F133,F$4:F$207,0)","v":67},{"$f":"RANK(G133,G$4:G$207,0)","v":137},{"$f":"RANK(H133,H$4:H$207,0)","v":93},{"$f":"RANK(I133,I$4:I$207,0)","v":99},{"$f":"RANK(J133,J$4:J$207,0)","v":110},{"$f":"RANK(K133,K$4:K$207,0)","v":17},{"$f":"RANK(L133,L$4:L$207,0)","v":84},{"$f":"RANK(M133,M$4:M$207,0)","v":130},{"$f":"RANK(N133,N$4:N$207,0)","v":74},{"$f":"RANK(O133,O$4:O$207,0)","v":159},{"$f":"RANK(P133,P$4:P$207,0)","v":76},{"$f":"RANK(Q133,Q$4:Q$207,0)","v":114},{"$f":"RANK(R133,R$4:R$207,0)","v":134},{"$f":"RANK(S133,S$4:S$207,0)","v":76},{"$f":"RANK(T133,T$4:T$207,0)","v":41},{"$f":"RANK(U133,U$4:U$207,0)","v":96},{"$f":"V133","v":10000000},{"$f":"AVERAGE(X133:AP133)","v":87.684210526315795},{"$f":"'204_19'!U755","v":9999875.5},{"$f":"'multiTimeline (6)'!C133","v":70}]
[2014,11,3,10,3,14,33,{"$f":"'multiTimeline (2)'!C134","v":2},{"$f":"'multiTimeline (2)'!D134","v":12},{"$f":"'multiTimeline (2)'!E134","v":22},{"$f":"'multiTimeline (2)'!F134","v":16},{"$f":"'multiTimeline (3)'!C134","v":8},{"$f":"'multiTimeline (3)'!D134","v":12},{"$f":"'multiTimeline (3)'!E134","v":7},{"$f":"'multiTimeline (3)'!F134","v":16},{"$f":"'multiTimeline (4)'!C134","v":3},{"$f":"'multiTimeline (4)'!D134","v":0},{"$f":"'multiTimeline (4)'!E134","v":13},{"$f":"'multiTimeline (4)'!F134","v":0},{"$f":"'multiTimeline (5)'!C134","v":1},{"$f":"'multiTimeline (5)'!E134","v":14},10000000,null,106,104,87,176,152,93,162,124,96,120,104,190,148,49,145,156,122,69,96,10000000,121,{"$f":"'204_19'!U756","v":9999242.5},{"$f":"'multiTimeline (6)'!C134","v":66}]
[2014,12,3,7,2,13,32,{"$f":"'multiTimeline (2)'!C135","v":2},{"$f":"'multiTimeline (2)'!D135","v":13},{"$f":"'multiTimeline (2)'!E135","v":16},{"$f":"'multiTimeline (2)'!F135","v":11},{"$f":"'multiTimeline (3)'!C135","v":10},{"$f":"'multiTimeline (3)'!D135","v":8},{"$f":"'multiTimeline (3)'!E135","v":9},{"$f":"'multiTimeline (3)'!F135","v":12},{"$f":"'multiTimeline (4)'!C135","v":1},{"$f":"'multiTimeline (4)'!D135","v":0.1},{"$f":"'multiTimeline (4)'!E135","v":9},{"$f":"'multiTimeline (4)'!F135","v":2},{"$f":"'multiTimeline (5)'!C135","v":1},{"$f":"'multiTimeline (5)'!E135","v":12},10000000,null,106,173,132,181,158,93,147,175,168,59,182,173,182,117,114,172,16,69,146,10000000,134.89473684210526,{"$f":"'204_19'!U757","v":9999088},{"$f":"'multiTimeline (6)'!C135","v":68}]
[2015,1,2,12,3,24,56,{"$f":"'multiTimeline (2)'!C136","v":2},{"$f":"'multiTimeline (2)'!D136","v":19},{"$f":"'multiTimeline (2)'!E136","v":31},{"$f":"'multiTimeline (2)'!F136","v":15},{"$f":"'multiTimeline (3)'!C136","v":9},{"$f":"'multiTimeline (3)'!D136","v":15},{"$f":"'multiTimeline (3)'!E136","v":12},{"$f":"'multiTimeline (3)'!F136","v":21},{"$f":"'multiTimeline (4)'!C136","v":2},{"$f":"'multiTimeline (4)'!D136","v":0.1},{"$f":"'multiTimeline (4)'!E136","v":15},{"$f":"'multiTimeline (4)'!F136","v":0.1},{"$f":"'multiTimeline (5)'!C136","v":1},{"$f":"'multiTimeline (5)'!E136","v":14},10000000,null,149,49,87,48,19,93,38,15,122,84,53,105,82,76,114,134,76,69,96,10000000,79.421052631578945,{"$f":"'204_19'!U758","v":10000120.5},{"$f":"'multiTimeline (6)'!C136","v":87}]
[2015,2,2,10,3,18,48,{"$f":"'multiTimeline (2)'!C137","v":2},{"$f":"'multiTimeline (2)'!D137","v":17},{"$f":"'multiTimeline (2)'!E137","v":24},{"$f":"'multiTimeline (2)'!F137","v":17},{"$f":"'multiTimeline (3)'!C137","v":9},{"$f":"'multiTimeline (3)'!D137","v":11},{"$f":"'multiTimeline (3)'!E137","v":14},{"$f":"'multiTimeline (3)'!F137","v":19},{"$f":"'multiTimeline (4)'!C137","v":2},{"$f":"'multiTimeline (4)'!D137","v":1},{"$f":"'multiTimeline (4)'!E137","v":18},{"$f":"'multiTimeline (4)'!F137","v":1},{"$f":"'multiTimeline (5)'!C137","v":2},{"$f":"'multiTimeline (5)'!E137","v":13},10000000,null,149,104,87,140,57,93,71,95,80,84,130,52,109,76,49,83,32,41,123,10000000,87.10526315789474,{"$f":"'204_19'!U759","v":9999886.5},{"$f":"'multiTimeline (6)'!C137","v":90}]
[2015,3,2,7,4,20,48,{"$f":"'multiTimeline (2)'!C138","v":3},{"$f":"'multiTimeline (2)'!D138","v":16},{"$f":"'multiTimeline (2)'!E138","v":20},{"$f":"'multiTimeline (2)'!F138","v":16},{"$f":"'multiTimeline (3)'!C138","v":7},{"$f":"'multiTimeline (3)'!D138","v":12},{"$f":"'multiTimeline (3)'!E138","v":13},{"$f":"'multiTimeline (3)'!F138","v":22},{"$f":"'multiTimeline (4)'!C138","v":1},{"$f":"'multiTimeline (4)'!D138","v":0.1},{"$f":"'multiTimeline (4)'!E138","v":16},{"$f":"'multiTimeline (4)'!F138","v":0.1},{"$f":"'multiTimeline (5)'!C138","v":2},{"$f":"'multiTimeline (5)'!E138","v":14},10000000,null,149,173,59,109,57,54,99,150,96,153,104,74,63,117,114,118,76,41,96,10000000,100.10526315789474,{"$f":"'204_19'!U760","v":9999639.5},{"$f":"'multiTimeline (6)'!C138","v":77}]
[2015,4,2,10,2,17,46,{"$f":"'multiTimeline (2)'!C139","v":2},{"$f":"'multiTimeline (2)'!D139","v":16},{"$f":"'multiTimeline (2)'!E139","v":24},{"$f":"'multiTimeline (2)'!F139","v":23},{"$f":"'multiTimeline (3)'!C139","v":10},{"$f":"'multiTimeline (3)'!D139","v":10},{"$f":"'multiTimeline (3)'!E139","v":13},{"$f":"'multiTimeline (3)'!F139","v":20},{"$f":"'multiTimeline (4)'!C139","v":2},{"$f":"'multiTimeline (4)'!D139","v":1},{"$f":"'multiTimeline (4)'!E139","v":18},{"$f":"'multiTimeline (4)'!F139","v":1},{"$f":"'multiTimeline (5)'!C139","v":0},{"$f":"'multiTimeline (5)'!E139","v":15},10000000,null,149,104,132,152,73,93,99,95,6,59,159,74,97,76,49,83,32,161,75,10000000,93.05263157894737,{"$f":"'204_19'!U761","v":9999878},{"$f":"'multiTimeline (6)'!C139","v":74}]
[2015,5,3,11,4,21,52,{"$f":"'multiTimeline (2)'!C140","v":2},{"$f":"'multiTimeline (2)'!D140","v":16},{"$f":"'multiTimeline (2)'!E140","v":26},{"$f":"'multiTimeline (2)'!F140","v":19},{"$f":"'multiTimeline (3)'!C140","v":9},{"$f":"'multiTimeline (3)'!D140","v":9},{"$f":"'multiTimeline (3)'!E140","v":12},{"$f":"'multiTimeline (3)'!F140","v":19},{"$f":"'multiTimeline (4)'!C140","v":1},{"$f":"'multiTimeline (4)'!D140","v":1},{"$f":"'multiTimeline (4)'!E140","v":15},{"$f":"'multiTimeline (4)'!F140","v":0.1},{"$f":"'multiTimeline (5)'!C140","v":1},{"$f":"'multiTimeline (5)'!E140","v":11},10000000,null,106,71,59,96,36,93,99,60,43,84,170,105,109,117,49,134,76,69,161,10000000,91.421052631578945,{"$f":"'204_19'!U762","v":9999803.5},{"$f":"'multiTimeline (6)'!C140","v":72}]
[2015,6,3,10,3,22,54,{"$f":"'multiTimeline (2)'!C141","v":2},{"$f":"'multiTimeline (2)'!D141","v":16},{"$f":"'multiTimeline (2)'!E141","v":25},{"$f":"'multiTimeline (2)'!F141","v":18},{"$f":"'multiTimeline (3)'!C141","v":10},{"$f":"'multiTimeline (3)'!D141","v":12},{"$f":"'multiTimeline (3)'!E141","v":14},{"$f":"'multiTimeline (3)'!F141","v":21},{"$f":"'multiTimeline (4)'!C141","v":1},{"$f":"'multiTimeline (4)'!D141","v":1},{"$f":"'multiTimeline (4)'!E141","v":11},{"$f":"'multiTimeline (4)'!F141","v":0},{"$f":"'multiTimeline (5)'!C141","v":1},{"$f":"'multiTimeline (5)'!E141","v":15},10000000,null,106,104,87,86,30,93,99,81,64,59,104,52,82,117,49,169,122,69,75,10000000,86.736842105263165,{"$f":"'204_19'!U763","v":10000005},{"$f":"'multiTimeline (6)'!C141","v":74}]
[2015,7,2,11,3,23,56,{"$f":"'multiTimeline (2)'!C142","v":2},{"$f":"'multiTimeline (2)'!D142","v":19},{"$f":"'multiTimeline (2)'!E142","v":29},{"$f":"'multiTimeline (2)'!F142","v":19},{"$f":"'multiTimeline (3)'!C142","v":6},{"$f":"'multiTimeline (3)'!D142","v":12},{"$f":"'multiTimeline (3)'!E142","v":17},{"$f":"'multiTimeline (3)'!F142","v":22},{"$f":"'multiTimeline (4)'!C142","v":1},{"$f":"'multiTimeline (4)'!D142","v":1},{"$f":"'multiTimeline (4)'!E142","v":16},{"$f":"'multiTimeline (4)'!F142","v":0.1},{"$f":"'multiTimeline (5)'!C142","v":0},{"$f":"'multiTimeline (5)'!E142","v":11},10000000,null,149,71,87,67,19,93,38,27,43,181,104,18,63,117,49,118,76,161,161,10000000,86.421052631578945,{"$f":"'204_19'!U764","v":9999987.5},{"$f":"'multiTimeline (6)'!C142","v":77}]
[2015,8,3,12,2,24,51,{"$f":"'multiTimeline (2)'!C143","v":1},{"$f":"'multiTimeline (2)'!D143","v":15},{"$f":"'multiTimeline (2)'!E143","v":25},{"$f":"'multiTimeline (2)'!F143","v":19},{"$f":"'multiTimeline (3)'!C143","v":9},{"$f":"'multiTimeline (3)'!D143","v":12},{"$f":"'multiTimeline (3)'!E143","v":10},{"$f":"'multiTimeline (3)'!F143","v":18},{"$f":"'multiTimeline (4)'!C143","v":2},{"$f":"'multiTimeline (4)'!D143","v":1},{"$f":"'multiTimeline (4)'!E143","v":18},{"$f":"'multiTimeline (4)'!F143","v":0.1},{"$f":"'multiTimeline (5)'!C143","v":1},{"$f":"'multiTimeline (5)'!E143","v":15},10000000,null,106,49,132,48,41,161,114,81,43,84,104,156,119,76,49,83,76,69,75,10000000,87.684210526315795,{"$f":"'204_19'!U765","v":9999874.5},{"$f":"'multiTimeline (6)'!C143","v":79}]
[2015,9,4,10,3,19,46,{"$f":"'multiTimeline (2)'!C144","v":2},{"$f":"'multiTimeline (2)'!D144","v":16},{"$f":"'multiTimeline (2)'!E144","v":22},{"$f":"'multiTimeline (2)'!F144","v":15},{"$f":"'multiTimeline (3)'!C144","v":9},{"$f":"'multiTimeline (3)'!D144","v":9},{"$f":"'multiTimeline (3)'!E144","v":13},{"$f":"'multiTimeline (3)'!F144","v":18},{"$f":"'multiTimeline (4)'!C144","v":1},{"$f":"'multiTimeline (4)'!D144","v":0},{"$f":"'multiTimeline (4)'!E144","v":18},{"$f":"'multiTimeline (4)'!F144","v":1},{"$f":"'multiTimeline (5)'!C144","v":0},{"$f":"'multiTimeline (5)'!E144","v":13},10000000,null,73,104,87,128,73,93,99,124,122,84,170,74,119,117,145,83,32,161,123,10000000,105.84210526315789,{"$f":"'204_19'!U766","v":9999526.5},{"$f":"'multiTimeline (6)'!C144","v":73}]
[2015,10,2,8,2,20,43,{"$f":"'multiTimeline (2)'!C145","v":2},{"$f":"'multiTimeline (2)'!D145","v":12},{"$f":"'multiTimeline (2)'!E145","v":22},{"$f":"'multiTimeline (2)'!F145","v":17},{"$f":"'multiTimeline (3)'!C145","v":8},{"$f":"'multiTimeline (3)'!D145","v":12},{"$f":"'multiTimeline (3)'!E145","v":11},{"$f":"'multiTimeline (3)'!F145","v":14},{"$f":"'multiTimeline (4)'!C145","v":1},{"$f":"'multiTimeline (4)'!D145","v":0.1},{"$f":"'multiTimeline (4)'!E145","v":13},{"$f":"'multiTimeline (4)'!F145","v":1},{"$f":"'multiTimeline (5)'!C145","v":1},{"$f":"'multiTimeline (5)'!E145","v":12},10000000,null,149,161,132,109,93,93,162,124,80,120,104,128,169,117,114,156,32,69,146,10000000,118.84210526315789,{"$f":"'204_19'!U767","v":9999279.5},{"$f":"'multiTimeline (6)'!C145","v":63}]
[2015,11,2,11,3,19,42,{"$f":"'multiTimeline (2)'!C146","v":3},{"$f":"'multiTimeline (2)'!D146","v":12},{"$f":"'multiTimeline (2)'!E146","v":25},{"$f":"'multiTimeline (2)'!F146","v":15},{"$f":"'multiTimeline (3)'!C146","v":9},{"$f":"'multiTimeline (3)'!D146","v":12},{"$f":"'multiTimeline (3)'!E146","v":11},{"$f":"'multiTimeline (3)'!F146","v":20},{"$f":"'multiTimeline (4)'!C146","v":1},{"$f":"'multiTimeline (4)'!D146","v":0},{"$f":"'multiTimeline (4)'!E146","v":13},{"$f":"'multiTimeline (4)'!F146","v":0.1},{"$f":"'multiTimeline (5)'!C146","v":2},{"$f":"'multiTimeline (5)'!E146","v":12},10000000,null,149,71,87,128,100,54,162,81,122,84,104,128,97,117,145,156,76,41,146,10000000,107.78947368421052,{"$f":"'204_19'!U768","v":9999496.5},{"$f":"'multiTimeline (6)'!C146","v":61}]
[2015,12,2,9,2,16,39,{"$f":"'multiTimeline (2)'!C147","v":1},{"$f":"'multiTimeline (2)'!D147","v":13},{"$f":"'multiTimeline (2)'!E147","v":18},{"$f":"'multiTimeline (2)'!F147","v":15},{"$f":"'multiTimeline (3)'!C147","v":6},{"$f":"'multiTimeline (3)'!D147","v":9},{"$f":"'multiTimeline (3)'!E147","v":8},{"$f":"'multiTimeline (3)'!F147","v":16},{"$f":"'multiTimeline (4)'!C147","v":1},{"$f":"'multiTimeline (4)'!D147","v":0.1},{"$f":"'multiTimeline (4)'!E147","v":17},{"$f":"'multiTimeline (4)'!F147","v":0.1},{"$f":"'multiTimeline (5)'!C147","v":1},{"$f":"'multiTimeline (5)'!E147","v":10},10000000,null,149,141,132,164,124,161,147,168,122,181,170,183,148,117,114,108,76,69,171,10000000,139.21052631578948,{"$f":"'204_19'!U769","v":9998893.5},{"$f":"'multiTimeline (6)'!C147","v":60}]
[2016,1,4,10,3,19,47,{"$f":"'multiTimeline (2)'!C148","v":3},{"$f":"'multiTimeline (2)'!D148","v":14},{"$f":"'multiTimeline (2)'!E148","v":27},{"$f":"'multiTimeline (2)'!F148","v":14},{"$f":"'multiTimeline (3)'!C148","v":9},{"$f":"'multiTimeline (3)'!D148","v":11},{"$f":"'multiTimeline (3)'!E148","v":11},{"$f":"'multiTimeline (3)'!F148","v":18},{"$f":"'multiTimeline (4)'!C148","v":2},{"$f":"'multiTimeline (4)'!D148","v":2},{"$f":"'multiTimeline (4)'!E148","v":17},{"$f":"'multiTimeline (4)'!F148","v":0},{"$f":"'multiTimeline (5)'!C148","v":2},{"$f":"'multiTimeline (5)'!E148","v":13},10000000,null,73,104,87,128,62,54,130,47,143,84,130,128,119,76,22,108,122,41,123,10000000,93.736842105263165,{"$f":"'204_19'!U770","v":9999760.5},{"$f":"'multiTimeline (6)'!C148","v":62}]
[2016,2,3,10,4,19,43,{"$f":"'multiTimeline (2)'!C149","v":2},{"$f":"'multiTimeline (2)'!D149","v":19},{"$f":"'multiTimeline (2)'!E149","v":25},{"$f":"'multiTimeline (2)'!F149","v":16},{"$f":"'multiTimeline (3)'!C149","v":7},{"$f":"'multiTimeline (3)'!D149","v":13},{"$f":"'multiTimeline (3)'!E149","v":13},{"$f":"'multiTimeline (3)'!F149","v":18},{"$f":"'multiTimeline (4)'!C149","v":2},{"$f":"'multiTimeline (4)'!D149","v":1},{"$f":"'multiTimeline (4)'!E149","v":16},{"$f":"'multiTimeline (4)'!F149","v":0},{"$f":"'multiTimeline (5)'!C149","v":1},{"$f":"'multiTimeline (5)'!E149","v":14},10000000,null,106,104,59,128,93,93,38,81,96,153,82,74,119,76,49,118,122,69,96,10000000,92.421052631578945,{"$f":"'204_19'!U771","v":9999867.5},{"$f":"'multiTimeline (6)'!C149","v":61}]
[2016,3,3,11,2,19,44,{"$f":"'multiTimeline (2)'!C150","v":2},{"$f":"'multiTimeline (2)'!D150","v":15},{"$f":"'multiTimeline (2)'!E150","v":26},{"$f":"'multiTimeline (2)'!F150","v":17},{"$f":"'multiTimeline (3)'!C150","v":9},{"$f":"'multiTimeline (3)'!D150","v":13},{"$f":"'multiTimeline (3)'!E150","v":13},{"$f":"'multiTimeline (3)'!F150","v":18},{"$f":"'multiTimeline (4)'!C150","v":2},{"$f":"'multiTimeline (4)'!D150","v":1},{"$f":"'multiTimeline (4)'!E150","v":17},{"$f":"'multiTimeline (4)'!F150","v":1},{"$f":"'multiTimeline (5)'!C150","v":2},{"$f":"'multiTimeline (5)'!E150","v":12},10000000,null,106,71,132,128,85,93,114,60,80,84,82,74,119,76,49,108,32,41,146,10000000,88.421052631578945,{"$f":"'204_19'!U772","v":9999859.5},{"$f":"'multiTimeline (6)'!C150","v":61}]
[2016,4,3,6,3,20,39,{"$f":"'multiTimeline (2)'!C151","v":2},{"$f":"'multiTimeline (2)'!D151","v":14},{"$f":"'multiTimeline (2)'!E151","v":23},{"$f":"'multiTimeline (2)'!F151","v":17},{"$f":"'multiTimeline (3)'!C151","v":9},{"$f":"'multiTimeline (3)'!D151","v":12},{"$f":"'multiTimeline (3)'!E151","v":10},{"$f":"'multiTimeline (3)'!F151","v":16},{"$f":"'multiTimeline (4)'!C151","v":1},{"$f":"'multiTimeline (4)'!D151","v":0},{"$f":"'multiTimeline (4)'!E151","v":15},{"$f":"'multiTimeline (4)'!F151","v":0},{"$f":"'multiTimeline (5)'!C151","v":1},{"$f":"'multiTimeline (5)'!E151","v":14},10000000,null,106,185,87,109,124,93,130,110,80,84,104,156,148,117,145,134,122,69,96,10000000,115.73684210526316,{"$f":"'204_19'!U773","v":9999339.5},{"$f":"'multiTimeline (6)'!C151","v":63}]
[2016,5,3,10,2,21,50,{"$f":"'multiTimeline (2)'!C152","v":3},{"$f":"'multiTimeline (2)'!D152","v":18},{"$f":"'multiTimeline (2)'!E152","v":27},{"$f":"'multiTimeline (2)'!F152","v":15},{"$f":"'multiTimeline (3)'!C152","v":8},{"$f":"'multiTimeline (3)'!D152","v":9},{"$f":"'multiTimeline (3)'!E152","v":11},{"$f":"'multiTimeline (3)'!F152","v":21},{"$f":"'multiTimeline (4)'!C152","v":2},{"$f":"'multiTimeline (4)'!D152","v":2},{"$f":"'multiTimeline (4)'!E152","v":20},{"$f":"'multiTimeline (4)'!F152","v":0},{"$f":"'multiTimeline (5)'!C152","v":1},{"$f":"'multiTimeline (5)'!E152","v":14},10000000,null,106,104,132,96,46,54,51,47,122,120,170,128,82,76,22,55,122,69,96,10000000,89.368421052631575,{"$f":"'204_19'!U774","v":9999928.5},{"$f":"'multiTimeline (6)'!C152","v":64}]
[2016,6,3,12,1,22,47,{"$f":"'multiTimeline (2)'!C153","v":2},{"$f":"'multiTimeline (2)'!D153","v":15},{"$f":"'multiTimeline (2)'!E153","v":24},{"$f":"'multiTimeline (2)'!F153","v":15},{"$f":"'multiTimeline (3)'!C153","v":8},{"$f":"'multiTimeline (3)'!D153","v":11},{"$f":"'multiTimeline (3)'!E153","v":10},{"$f":"'multiTimeline (3)'!F153","v":16},{"$f":"'multiTimeline (4)'!C153","v":2},{"$f":"'multiTimeline (4)'!D153","v":1},{"$f":"'multiTimeline (4)'!E153","v":17},{"$f":"'multiTimeline (4)'!F153","v":0.1},{"$f":"'multiTimeline (5)'!C153","v":1},{"$f":"'multiTimeline (5)'!E153","v":14},10000000,null,106,49,177,86,62,93,114,95,122,120,130,156,148,76,49,108,76,69,96,10000000,101.68421052631579,{"$f":"'204_19'!U775","v":9999609.5},{"$f":"'multiTimeline (6)'!C153","v":63}]
[2016,7,2,10,2,17,48,{"$f":"'multiTimeline (2)'!C154","v":1},{"$f":"'multiTimeline (2)'!D154","v":16},{"$f":"'multiTimeline (2)'!E154","v":23},{"$f":"'multiTimeline (2)'!F154","v":19},{"$f":"'multiTimeline (3)'!C154","v":10},{"$f":"'multiTimeline (3)'!D154","v":10},{"$f":"'multiTimeline (3)'!E154","v":13},{"$f":"'multiTimeline (3)'!F154","v":17},{"$f":"'multiTimeline (4)'!C154","v":2},{"$f":"'multiTimeline (4)'!D154","v":0},{"$f":"'multiTimeline (4)'!E154","v":13},{"$f":"'multiTimeline (4)'!F154","v":0},{"$f":"'multiTimeline (5)'!C154","v":1},{"$f":"'multiTimeline (5)'!E154","v":10},10000000,null,149,104,132,152,57,161,99,110,43,59,159,74,134,76,145,156,122,69,171,10000000,114.31578947368421,{"$f":"'204_19'!U776","v":9999478},{"$f":"'multiTimeline (6)'!C154","v":67}]
[2016,8,3,10,3,18,43,{"$f":"'multiTimeline (2)'!C155","v":3},{"$f":"'multiTimeline (2)'!D155","v":16},{"$f":"'multiTimeline (2)'!E155","v":22},{"$f":"'multiTimeline (2)'!F155","v":16},{"$f":"'multiTimeline (3)'!C155","v":8},{"$f":"'multiTimeline (3)'!D155","v":10},{"$f":"'multiTimeline (3)'!E155","v":16},{"$f":"'multiTimeline (3)'!F155","v":15},{"$f":"'multiTimeline (4)'!C155","v":1},{"$f":"'multiTimeline (4)'!D155","v":1},{"$f":"'multiTimeline (4)'!E155","v":21},{"$f":"'multiTimeline (4)'!F155","v":0.1},{"$f":"'multiTimeline (5)'!C155","v":1},{"$f":"'multiTimeline (5)'!E155","v":13},10000000,null,106,104,87,140,93,54,99,124,96,120,159,21,159,117,49,45,76,69,123,10000000,96.89473684210526,{"$f":"'204_19'!U777","v":9999696.5},{"$f":"'multiTimeline (6)'!C155","v":66}]
[2016,9,4,12,3,14,47,{"$f":"'multiTimeline (2)'!C156","v":1},{"$f":"'multiTimeline (2)'!D156","v":15},{"$f":"'multiTimeline (2)'!E156","v":25},{"$f":"'multiTimeline (2)'!F156","v":16},{"$f":"'multiTimeline (3)'!C156","v":10},{"$f":"'multiTimeline (3)'!D156","v":11},{"$f":"'multiTimeline (3)'!E156","v":12},{"$f":"'multiTimeline (3)'!F156","v":15},{"$f":"'multiTimeline (4)'!C156","v":1},{"$f":"'multiTimeline (4)'!D156","v":0},{"$f":"'multiTimeline (4)'!E156","v":15},{"$f":"'multiTimeline (4)'!F156","v":1},{"$f":"'multiTimeline (5)'!C156","v":1},{"$f":"'multiTimeline (5)'!E156","v":10},10000000,null,73,49,87,176,62,161,114,81,96,59,130,105,159,117,145,134,32,69,171,10000000,106.31578947368421,{"$f":"'204_19'!U778","v":9999630},{"$f":"'multiTimeline (6)'!C156","v":64}]
[2016,10,3,9,2,14,41,{"$f":"'multiTimeline (2)'!C157","v":2},{"$f":"'multiTimeline (2)'!D157","v":14},{"$f":"'multiTimeline (2)'!E157","v":23},{"$f":"'multiTimeline (2)'!F157","v":16},{"$f":"'multiTimeline (3)'!C157","v":7},{"$f":"'multiTimeline (3)'!D157","v":9},{"$f":"'multiTimeline (3)'!E157","v":10},{"$f":"'multiTimeline (3)'!F157","v":12},{"$f":"'multiTimeline (4)'!C157","v":2},{"$f":"'multiTimeline (4)'!D157","v":0},{"$f":"'multiTimeline (4)'!E157","v":15},{"$f":"'multiTimeline (4)'!F157","v":0},{"$f":"'multiTimeline (5)'!C157","v":1},{"$f":"'multiTimeline (5)'!E157","v":12},10000000,null,106,141,132,176,109,93,130,110,96,153,170,156,182,76,145,134,122,69,146,10000000,128.73684210526315,{"$f":"'204_19'!U779","v":9999097.5},{"$f":"'multiTimeline (6)'!C157","v":60}]
[2016,11,2,7,1,15,35,{"$f":"'multiTimeline (2)'!C158","v":2},{"$f":"'multiTimeline (2)'!D158","v":12},{"$f":"'multiTimeline (2)'!E158","v":19},{"$f":"'multiTimeline (2)'!F158","v":13},{"$f":"'multiTimeline (3)'!C158","v":5},{"$f":"'multiTimeline (3)'!D158","v":11},{"$f":"'multiTimeline (3)'!E158","v":10},{"$f":"'multiTimeline (3)'!F158","v":14},{"$f":"'multiTimeline (4)'!C158","v":0.1},{"$f":"'multiTimeline (4)'!D158","v":0.1},{"$f":"'multiTimeline (4)'!E158","v":8},{"$f":"'multiTimeline (4)'!F158","v":0},{"$f":"'multiTimeline (5)'!C158","v":1},{"$f":"'multiTimeline (5)'!E158","v":11},10000000,null,149,173,177,170,147,93,162,163,152,195,130,156,169,175,114,177,122,69,161,10000000,150.21052631578948,{"$f":"'204_19'!U780","v":9998687.5},{"$f":"'multiTimeline (6)'!C158","v":57}]
[2016,12,1,6,1,13,29,{"$f":"'multiTimeline (2)'!C159","v":1},{"$f":"'multiTimeline (2)'!D159","v":9},{"$f":"'multiTimeline (2)'!E159","v":20},{"$f":"'multiTimeline (2)'!F159","v":9},{"$f":"'multiTimeline (3)'!C159","v":5},{"$f":"'multiTimeline (3)'!D159","v":8},{"$f":"'multiTimeline (3)'!E159","v":9},{"$f":"'multiTimeline (3)'!F159","v":13},{"$f":"'multiTimeline (4)'!C159","v":1},{"$f":"'multiTimeline (4)'!D159","v":1},{"$f":"'multiTimeline (4)'!E159","v":10},{"$f":"'multiTimeline (4)'!F159","v":0.1},{"$f":"'multiTimeline (5)'!C159","v":0.1},{"$f":"'multiTimeline (5)'!E159","v":10},10000000,null,188,185,177,181,166,161,187,150,181,195,182,173,178,117,49,170,76,140,171,10000000,159.31578947368422,{"$f":"'204_19'!U781","v":9998513.5},{"$f":"'multiTimeline (6)'!C159","v":55}]
[2017,1,3,10,1,17,45,{"$f":"'multiTimeline (2)'!C160","v":2},{"$f":"'multiTimeline (2)'!D160","v":13},{"$f":"'multiTimeline (2)'!E160","v":25},{"$f":"'multiTimeline (2)'!F160","v":17},{"$f":"'multiTimeline (3)'!C160","v":7},{"$f":"'multiTimeline (3)'!D160","v":11},{"$f":"'multiTimeline (3)'!E160","v":12},{"$f":"'multiTimeline (3)'!F160","v":14},{"$f":"'multiTimeline (4)'!C160","v":2},{"$f":"'multiTimeline (4)'!D160","v":1},{"$f":"'multiTimeline (4)'!E160","v":17},{"$f":"'multiTimeline (4)'!F160","v":0.1},{"$f":"'multiTimeline (5)'!C160","v":0.1},{"$f":"'multiTimeline (5)'!E160","v":13},10000000,null,106,104,177,152,78,93,147,81,80,153,130,105,169,76,49,108,76,140,123,10000000,113,{"$f":"'204_19'!U782","v":9999395.5},{"$f":"'multiTimeline (6)'!C160","v":62}]
[2017,2,3,8,2,20,44,{"$f":"'multiTimeline (2)'!C161","v":1},{"$f":"'multiTimeline (2)'!D161","v":12},{"$f":"'multiTimeline (2)'!E161","v":24},{"$f":"'multiTimeline (2)'!F161","v":16},{"$f":"'multiTimeline (3)'!C161","v":10},{"$f":"'multiTimeline (3)'!D161","v":13},{"$f":"'multiTimeline (3)'!E161","v":12},{"$f":"'multiTimeline (3)'!F161","v":16},{"$f":"'multiTimeline (4)'!C161","v":2},{"$f":"'multiTimeline (4)'!D161","v":0.1},{"$f":"'multiTimeline (4)'!E161","v":18},{"$f":"'multiTimeline (4)'!F161","v":0},{"$f":"'multiTimeline (5)'!C161","v":2},{"$f":"'multiTimeline (5)'!E161","v":12},10000000,null,106,161,132,109,85,161,162,95,96,59,82,105,148,76,114,83,122,41,146,10000000,109.63157894736842,{"$f":"'204_19'!U783","v":9999565},{"$f":"'multiTimeline (6)'!C161","v":60}]
[2017,3,2,11,2,16,47,{"$f":"'multiTimeline (2)'!C162","v":2},{"$f":"'multiTimeline (2)'!D162","v":13},{"$f":"'multiTimeline (2)'!E162","v":30},{"$f":"'multiTimeline (2)'!F162","v":14},{"$f":"'multiTimeline (3)'!C162","v":7},{"$f":"'multiTimeline (3)'!D162","v":10},{"$f":"'multiTimeline (3)'!E162","v":11},{"$f":"'multiTimeline (3)'!F162","v":18},{"$f":"'multiTimeline (4)'!C162","v":3},{"$f":"'multiTimeline (4)'!D162","v":1},{"$f":"'multiTimeline (4)'!E162","v":13},{"$f":"'multiTimeline (4)'!F162","v":0.1},{"$f":"'multiTimeline (5)'!C162","v":1},{"$f":"'multiTimeline (5)'!E162","v":18},10000000,null,149,71,132,164,62,93,147,20,143,153,159,128,119,49,49,156,76,69,36,10000000,103.94736842105263,{"$f":"'204_19'!U784","v":9999566.5},{"$f":"'multiTimeline (6)'!C162","v":60}]
[2017,4,2,10,1,20,50,{"$f":"'multiTimeline (2)'!C163","v":2},{"$f":"'multiTimeline (2)'!D163","v":15},{"$f":"'multiTimeline (2)'!E163","v":25},{"$f":"'multiTimeline (2)'!F163","v":16},{"$f":"'multiTimeline (3)'!C163","v":9},{"$f":"'multiTimeline (3)'!D163","v":11},{"$f":"'multiTimeline (3)'!E163","v":12},{"$f":"'multiTimeline (3)'!F163","v":16},{"$f":"'multiTimeline (4)'!C163","v":3},{"$f":"'multiTimeline (4)'!D163","v":0.1},{"$f":"'multiTimeline (4)'!E163","v":15},{"$f":"'multiTimeline (4)'!F163","v":0.1},{"$f":"'multiTimeline (5)'!C163","v":1},{"$f":"'multiTimeline (5)'!E163","v":15},10000000,null,149,104,177,109,46,93,114,81,96,84,130,105,148,49,114,134,76,69,75,10000000,102.78947368421052,{"$f":"'204_19'!U785","v":9999587.5},{"$f":"'multiTimeline (6)'!C163","v":63}]
[2017,5,3,9,1,19,54,{"$f":"'multiTimeline (2)'!C164","v":2},{"$f":"'multiTimeline (2)'!D164","v":13},{"$f":"'multiTimeline (2)'!E164","v":26},{"$f":"'multiTimeline (2)'!F164","v":20},{"$f":"'multiTimeline (3)'!C164","v":7},{"$f":"'multiTimeline (3)'!D164","v":10},{"$f":"'multiTimeline (3)'!E164","v":11},{"$f":"'multiTimeline (3)'!F164","v":15},{"$f":"'multiTimeline (4)'!C164","v":1},{"$f":"'multiTimeline (4)'!D164","v":1},{"$f":"'multiTimeline (4)'!E164","v":14},{"$f":"'multiTimeline (4)'!F164","v":0},{"$f":"'multiTimeline (5)'!C164","v":0.1},{"$f":"'multiTimeline (5)'!E164","v":17},10000000,null,106,141,177,128,30,93,147,60,28,153,159,128,159,117,49,148,122,140,52,10000000,112.47368421052632,{"$f":"'204_19'!U786","v":9999407.5},{"$f":"'multiTimeline (6)'!C164","v":62}]
[2017,6,2,10,2,18,46,{"$f":"'multiTimeline (2)'!C165","v":2},{"$f":"'multiTimeline (2)'!D165","v":13},{"$f":"'multiTimeline (2)'!E165","v":21},{"$f":"'multiTimeline (2)'!F165","v":15},{"$f":"'multiTimeline (3)'!C165","v":8},{"$f":"'multiTimeline (3)'!D165","v":10},{"$f":"'multiTimeline (3)'!E165","v":14},{"$f":"'multiTimeline (3)'!F165","v":18},{"$f":"'multiTimeline (4)'!C165","v":1},{"$f":"'multiTimeline (4)'!D165","v":1},{"$f":"'multiTimeline (4)'!E165","v":15},{"$f":"'multiTimeline (4)'!F165","v":0},{"$f":"'multiTimeline (5)'!C165","v":1},{"$f":"'multiTimeline (5)'!E165","v":14},10000000,null,149,104,132,140,73,93,147,141,122,120,159,52,119,117,49,134,122,69,96,10000000,112.52631578947368,{"$f":"'204_19'!U787","v":9999399.5},{"$f":"'multiTimeline (6)'!C165","v":63}]
[2017,7,1,10,1,21,49,{"$f":"'multiTimeline (2)'!C166","v":2},{"$f":"'multiTimeline (2)'!D166","v":15},{"$f":"'multiTimeline (2)'!E166","v":26},{"$f":"'multiTimeline (2)'!F166","v":18},{"$f":"'multiTimeline (3)'!C166","v":6},{"$f":"'multiTimeline (3)'!D166","v":11},{"$f":"'multiTimeline (3)'!E166","v":14},{"$f":"'multiTimeline (3)'!F166","v":17},{"$f":"'multiTimeline (4)'!C166","v":0},{"$f":"'multiTimeline (4)'!D166","v":1},{"$f":"'multiTimeline (4)'!E166","v":20},{"$f":"'multiTimeline (4)'!F166","v":0.1},{"$f":"'multiTimeline (5)'!C166","v":0.1},{"$f":"'multiTimeline (5)'!E166","v":12},10000000,null,188,104,177,96,54,93,114,60,64,181,130,52,134,178,49,55,76,140,146,10000000,110.05263157894737,{"$f":"'204_19'!U788","v":9999447.5},{"$f":"'multiTimeline (6)'!C166","v":79}]
[2017,8,3,9,2,17,50,{"$f":"'multiTimeline (2)'!C167","v":1},{"$f":"'multiTimeline (2)'!D167","v":18},{"$f":"'multiTimeline (2)'!E167","v":24},{"$f":"'multiTimeline (2)'!F167","v":20},{"$f":"'multiTimeline (3)'!C167","v":7},{"$f":"'multiTimeline (3)'!D167","v":10},{"$f":"'multiTimeline (3)'!E167","v":14},{"$f":"'multiTimeline (3)'!F167","v":19},{"$f":"'multiTimeline (4)'!C167","v":2},{"$f":"'multiTimeline (4)'!D167","v":0.1},{"$f":"'multiTimeline (4)'!E167","v":17},{"$f":"'multiTimeline (4)'!F167","v":0.1},{"$f":"'multiTimeline (5)'!C167","v":2},{"$f":"'multiTimeline (5)'!E167","v":15},10000000,null,106,141,132,152,46,161,51,95,28,153,159,52,109,76,114,108,76,41,75,10000000,98.684210526315795,{"$f":"'204_19'!U789","v":9999751.5},{"$f":"'multiTimeline (6)'!C167","v":72}]
[2017,9,1,8,1,20,50,{"$f":"'multiTimeline (2)'!C168","v":1},{"$f":"'multiTimeline (2)'!D168","v":10},{"$f":"'multiTimeline (2)'!E168","v":25},{"$f":"'multiTimeline (2)'!F168","v":20},{"$f":"'multiTimeline (3)'!C168","v":7},{"$f":"'multiTimeline (3)'!D168","v":12},{"$f":"'multiTimeline (3)'!E168","v":10},{"$f":"'multiTimeline (3)'!F168","v":15},{"$f":"'multiTimeline (4)'!C168","v":1},{"$f":"'multiTimeline (4)'!D168","v":0.1},{"$f":"'multiTimeline (4)'!E168","v":14},{"$f":"'multiTimeline (4)'!F168","v":0.1},{"$f":"'multiTimeline (5)'!C168","v":1},{"$f":"'multiTimeline (5)'!E168","v":13},10000000,null,188,161,177,109,46,161,181,81,28,153,104,156,159,117,114,148,76,69,123,10000000,123.73684210526316,{"$f":"'204_19'!U790","v":9999189.5},{"$f":"'multiTimeline (6)'!C168","v":70}]
[2017,10,3,11,2,17,47,{"$f":"'multiTimeline (2)'!C169","v":2},{"$f":"'multiTimeline (2)'!D169","v":15},{"$f":"'multiTimeline (2)'!E169","v":22},{"$f":"'multiTimeline (2)'!F169","v":16},{"$f":"'multiTimeline (3)'!C169","v":6},{"$f":"'multiTimeline (3)'!D169","v":12},{"$f":"'multiTimeline (3)'!E169","v":12},{"$f":"'multiTimeline (3)'!F169","v":17},{"$f":"'multiTimeline (4)'!C169","v":1},{"$f":"'multiTimeline (4)'!D169","v":0},{"$f":"'multiTimeline (4)'!E169","v":16},{"$f":"'multiTimeline (4)'!F169","v":0.1},{"$f":"'multiTimeline (5)'!C169","v":0},{"$f":"'multiTimeline (5)'!E169","v":13},10000000,null,106,71,132,152,62,93,114,124,96,181,104,105,134,117,145,118,76,161,123,10000000,116.52631578947368,{"$f":"'204_19'!U791","v":9999327.5},{"$f":"'multiTimeline (6)'!C169","v":65}]
[2017,11,2,9,1,15,46,{"$f":"'multiTimeline (2)'!C170","v":2},{"$f":"'multiTimeline (2)'!D170","v":11},{"$f":"'multiTimeline (2)'!E170","v":20},{"$f":"'multiTimeline (2)'!F170","v":16},{"$f":"'multiTimeline (3)'!C170","v":7},{"$f":"'multiTimeline (3)'!D170","v":11},{"$f":"'multiTimeline (3)'!E170","v":11},{"$f":"'multiTimeline (3)'!F170","v":14},{"$f":"'multiTimeline (4)'!C170","v":1},{"$f":"'multiTimeline (4)'!D170","v":1},{"$f":"'multiTimeline (4)'!E170","v":13},{"$f":"'multiTimeline (4)'!F170","v":0},{"$f":"'multiTimeline (5)'!C170","v":2},{"$f":"'multiTimeline (5)'!E170","v":17},10000000,null,149,141,177,170,73,93,177,150,96,153,130,128,169,117,49,156,122,41,52,10000000,123.31578947368421,{"$f":"'204_19'!U792","v":9999194.5},{"$f":"'multiTimeline (6)'!C170","v":66}]
[2017,12,1,7,2,14,35,{"$f":"'multiTimeline (2)'!C171","v":1},{"$f":"'multiTimeline (2)'!D171","v":9},{"$f":"'multiTimeline (2)'!E171","v":17},{"$f":"'multiTimeline (2)'!F171","v":13},{"$f":"'multiTimeline (3)'!C171","v":5},{"$f":"'multiTimeline (3)'!D171","v":7},{"$f":"'multiTimeline (3)'!E171","v":9},{"$f":"'multiTimeline (3)'!F171","v":12},{"$f":"'multiTimeline (4)'!C171","v":0.1},{"$f":"'multiTimeline (4)'!D171","v":0.1},{"$f":"'multiTimeline (4)'!E171","v":13},{"$f":"'multiTimeline (4)'!F171","v":0},{"$f":"'multiTimeline (5)'!C171","v":0.1},{"$f":"'multiTimeline (5)'!E171","v":12},10000000,null,188,173,132,176,147,161,187,173,152,195,197,173,182,175,114,156,122,140,146,10000000,162.57894736842104,{"$f":"'204_19'!U793","v":9998452.5},{"$f":"'multiTimeline (6)'!C171","v":62}]
[2018,1,2,9,2,22,55,{"$f":"'multiTimeline (2)'!C172","v":2},{"$f":"'multiTimeline (2)'!D172","v":15},{"$f":"'multiTimeline (2)'!E172","v":24},{"$f":"'multiTimeline (2)'!F172","v":18},{"$f":"'multiTimeline (3)'!C172","v":7},{"$f":"'multiTimeline (3)'!D172","v":14},{"$f":"'multiTimeline (3)'!E172","v":14},{"$f":"'multiTimeline (3)'!F172","v":19},{"$f":"'multiTimeline (4)'!C172","v":2},{"$f":"'multiTimeline (4)'!D172","v":1},{"$f":"'multiTimeline (4)'!E172","v":16},{"$f":"'multiTimeline (4)'!F172","v":0},{"$f":"'multiTimeline (5)'!C172","v":1},{"$f":"'multiTimeline (5)'!E172","v":15},10000000,null,149,141,132,86,25,93,114,95,64,153,68,52,109,76,49,118,122,69,75,10000000,94.21052631578948,{"$f":"'204_19'!U794","v":9999749.5},{"$f":"'multiTimeline (6)'!C172","v":65}]
[2018,2,2,10,2,22,49,{"$f":"'multiTimeline (2)'!C173","v":1},{"$f":"'multiTimeline (2)'!D173","v":14},{"$f":"'multiTimeline (2)'!E173","v":28},{"$f":"'multiTimeline (2)'!F173","v":19},{"$f":"'multiTimeline (3)'!C173","v":9},{"$f":"'multiTimeline (3)'!D173","v":15},{"$f":"'multiTimeline (3)'!E173","v":13},{"$f":"'multiTimeline (3)'!F173","v":20},{"$f":"'multiTimeline (4)'!C173","v":1},{"$f":"'multiTimeline (4)'!D173","v":1},{"$f":"'multiTimeline (4)'!E173","v":18},{"$f":"'multiTimeline (4)'!F173","v":1},{"$f":"'multiTimeline (5)'!C173","v":2},{"$f":"'multiTimeline (5)'!E173","v":15},10000000,null,149,104,132,86,54,161,130,38,43,84,53,74,97,117,49,83,32,41,75,10000000,84.315789473684205,{"$f":"'204_19'!U795","v":9999936.5},{"$f":"'multiTimeline (6)'!C173","v":64}]
[2018,3,2,11,2,22,51,{"$f":"'multiTimeline (2)'!C174","v":1},{"$f":"'multiTimeline (2)'!D174","v":14},{"$f":"'multiTimeline (2)'!E174","v":26},{"$f":"'multiTimeline (2)'!F174","v":17},{"$f":"'multiTimeline (3)'!C174","v":8},{"$f":"'multiTimeline (3)'!D174","v":11},{"$f":"'multiTimeline (3)'!E174","v":14},{"$f":"'multiTimeline (3)'!F174","v":22},{"$f":"'multiTimeline (4)'!C174","v":1},{"$f":"'multiTimeline (4)'!D174","v":1},{"$f":"'multiTimeline (4)'!E174","v":20},{"$f":"'multiTimeline (4)'!F174","v":0.1},{"$f":"'multiTimeline (5)'!C174","v":1},{"$f":"'multiTimeline (5)'!E174","v":12},10000000,null,149,71,132,86,41,161,130,60,80,120,130,52,63,117,49,55,76,69,146,10000000,94.05263157894737,{"$f":"'204_19'!U796","v":9999753.5},{"$f":"'multiTimeline (6)'!C174","v":67}]
[2018,4,2,12,2,23,65,{"$f":"'multiTimeline (2)'!C175","v":3},{"$f":"'multiTimeline (2)'!D175","v":18},{"$f":"'multiTimeline (2)'!E175","v":28},{"$f":"'multiTimeline (2)'!F175","v":19},{"$f":"'multiTimeline (3)'!C175","v":9},{"$f":"'multiTimeline (3)'!D175","v":17},{"$f":"'multiTimeline (3)'!E175","v":13},{"$f":"'multiTimeline (3)'!F175","v":19},{"$f":"'multiTimeline (4)'!C175","v":3},{"$f":"'multiTimeline (4)'!D175","v":1},{"$f":"'multiTimeline (4)'!E175","v":20},{"$f":"'multiTimeline (4)'!F175","v":1},{"$f":"'multiTimeline (5)'!C175","v":1},{"$f":"'multiTimeline (5)'!E175","v":19},10000000,null,149,49,132,67,5,54,51,38,43,84,31,74,109,49,49,55,32,69,28,10000000,61.473684210526315,{"$f":"'204_19'!U797","v":10000672.5},{"$f":"'multiTimeline (6)'!C175","v":69}]
[2018,5,2,9,2,23,56,{"$f":"'multiTimeline (2)'!C176","v":2},{"$f":"'multiTimeline (2)'!D176","v":17},{"$f":"'multiTimeline (2)'!E176","v":27},{"$f":"'multiTimeline (2)'!F176","v":16},{"$f":"'multiTimeline (3)'!C176","v":9},{"$f":"'multiTimeline (3)'!D176","v":13},{"$f":"'multiTimeline (3)'!E176","v":13},{"$f":"'multiTimeline (3)'!F176","v":15},{"$f":"'multiTimeline (4)'!C176","v":2},{"$f":"'multiTimeline (4)'!D176","v":0.1},{"$f":"'multiTimeline (4)'!E176","v":23},{"$f":"'multiTimeline (4)'!F176","v":0.1},{"$f":"'multiTimeline (5)'!C176","v":1},{"$f":"'multiTimeline (5)'!E176","v":17},10000000,null,149,141,132,67,19,93,71,47,96,84,82,74,159,76,114,25,76,69,52,10000000,85.578947368421055,{"$f":"'204_19'!U798","v":9999917.5},{"$f":"'multiTimeline (6)'!C176","v":67}]
[2018,6,2,11,4,23,53,{"$f":"'multiTimeline (2)'!C177","v":2},{"$f":"'multiTimeline (2)'!D177","v":18},{"$f":"'multiTimeline (2)'!E177","v":27},{"$f":"'multiTimeline (2)'!F177","v":18},{"$f":"'multiTimeline (3)'!C177","v":7},{"$f":"'multiTimeline (3)'!D177","v":13},{"$f":"'multiTimeline (3)'!E177","v":12},{"$f":"'multiTimeline (3)'!F177","v":14},{"$f":"'multiTimeline (4)'!C177","v":3},{"$f":"'multiTimeline (4)'!D177","v":1},{"$f":"'multiTimeline (4)'!E177","v":18},{"$f":"'multiTimeline (4)'!F177","v":1},{"$f":"'multiTimeline (5)'!C177","v":1},{"$f":"'multiTimeline (5)'!E177","v":18},10000000,null,149,71,59,67,33,93,51,47,64,153,82,105,169,49,49,83,32,69,36,10000000,76.89473684210526,{"$f":"'204_19'!U799","v":10000162.5},{"$f":"'multiTimeline (6)'!C177","v":70}]
[2018,7,4,8,2,23,57,{"$f":"'multiTimeline (2)'!C178","v":1},{"$f":"'multiTimeline (2)'!D178","v":19},{"$f":"'multiTimeline (2)'!E178","v":29},{"$f":"'multiTimeline (2)'!F178","v":18},{"$f":"'multiTimeline (3)'!C178","v":9},{"$f":"'multiTimeline (3)'!D178","v":12},{"$f":"'multiTimeline (3)'!E178","v":14},{"$f":"'multiTimeline (3)'!F178","v":17},{"$f":"'multiTimeline (4)'!C178","v":1},{"$f":"'multiTimeline (4)'!D178","v":1},{"$f":"'multiTimeline (4)'!E178","v":23},{"$f":"'multiTimeline (4)'!F178","v":0},{"$f":"'multiTimeline (5)'!C178","v":1},{"$f":"'multiTimeline (5)'!E178","v":15},10000000,null,73,161,132,67,15,161,38,27,64,84,104,52,134,117,49,25,122,69,75,10000000,82.578947368421055,{"$f":"'204_19'!U800","v":10000056.5},{"$f":"'multiTimeline (6)'!C178","v":76}]
[2018,8,4,13,1,25,53,{"$f":"'multiTimeline (2)'!C179","v":2},{"$f":"'multiTimeline (2)'!D179","v":16},{"$f":"'multiTimeline (2)'!E179","v":29},{"$f":"'multiTimeline (2)'!F179","v":17},{"$f":"'multiTimeline (3)'!C179","v":9},{"$f":"'multiTimeline (3)'!D179","v":13},{"$f":"'multiTimeline (3)'!E179","v":18},{"$f":"'multiTimeline (3)'!F179","v":16},{"$f":"'multiTimeline (4)'!C179","v":1},{"$f":"'multiTimeline (4)'!D179","v":1},{"$f":"'multiTimeline (4)'!E179","v":19},{"$f":"'multiTimeline (4)'!F179","v":0},{"$f":"'multiTimeline (5)'!C179","v":1},{"$f":"'multiTimeline (5)'!E179","v":12},10000000,null,73,30,177,39,33,93,99,27,80,84,82,12,148,117,49,74,122,69,146,10000000,81.78947368421052,{"$f":"'204_19'!U801","v":10000087},{"$f":"'multiTimeline (6)'!C179","v":76}]
[2018,9,2,10,2,17,50,{"$f":"'multiTimeline (2)'!C180","v":2},{"$f":"'multiTimeline (2)'!D180","v":13},{"$f":"'multiTimeline (2)'!E180","v":24},{"$f":"'multiTimeline (2)'!F180","v":17},{"$f":"'multiTimeline (3)'!C180","v":7},{"$f":"'multiTimeline (3)'!D180","v":13},{"$f":"'multiTimeline (3)'!E180","v":15},{"$f":"'multiTimeline (3)'!F180","v":15},{"$f":"'multiTimeline (4)'!C180","v":1},{"$f":"'multiTimeline (4)'!D180","v":0},{"$f":"'multiTimeline (4)'!E180","v":16},{"$f":"'multiTimeline (4)'!F180","v":0},{"$f":"'multiTimeline (5)'!C180","v":1},{"$f":"'multiTimeline (5)'!E180","v":13},10000000,null,149,104,132,152,46,93,147,95,80,153,82,34,159,117,145,118,122,69,123,10000000,111.57894736842105,{"$f":"'204_19'!U802","v":9999420.5},{"$f":"'multiTimeline (6)'!C180","v":71}]
[2018,10,3,13,2,22,56,{"$f":"'multiTimeline (2)'!C181","v":1},{"$f":"'multiTimeline (2)'!D181","v":15},{"$f":"'multiTimeline (2)'!E181","v":26},{"$f":"'multiTimeline (2)'!F181","v":15},{"$f":"'multiTimeline (3)'!C181","v":8},{"$f":"'multiTimeline (3)'!D181","v":9},{"$f":"'multiTimeline (3)'!E181","v":13},{"$f":"'multiTimeline (3)'!F181","v":16},{"$f":"'multiTimeline (4)'!C181","v":0.1},{"$f":"'multiTimeline (4)'!D181","v":1},{"$f":"'multiTimeline (4)'!E181","v":15},{"$f":"'multiTimeline (4)'!F181","v":0},{"$f":"'multiTimeline (5)'!C181","v":1},{"$f":"'multiTimeline (5)'!E181","v":13},10000000,null,106,30,132,86,19,161,114,60,122,120,170,74,148,175,49,134,122,69,123,10000000,106,{"$f":"'204_19'!U803","v":9999529.5},{"$f":"'multiTimeline (6)'!C181","v":69}]
[2018,11,3,7,2,17,44,{"$f":"'multiTimeline (2)'!C182","v":1},{"$f":"'multiTimeline (2)'!D182","v":15},{"$f":"'multiTimeline (2)'!E182","v":22},{"$f":"'multiTimeline (2)'!F182","v":16},{"$f":"'multiTimeline (3)'!C182","v":8},{"$f":"'multiTimeline (3)'!D182","v":9},{"$f":"'multiTimeline (3)'!E182","v":13},{"$f":"'multiTimeline (3)'!F182","v":17},{"$f":"'multiTimeline (4)'!C182","v":1},{"$f":"'multiTimeline (4)'!D182","v":0.1},{"$f":"'multiTimeline (4)'!E182","v":13},{"$f":"'multiTimeline (4)'!F182","v":1},{"$f":"'multiTimeline (5)'!C182","v":2},{"$f":"'multiTimeline (5)'!E182","v":10},10000000,null,106,173,132,152,85,161,114,124,96,120,170,74,134,117,114,156,32,41,171,10000000,119.57894736842105,{"$f":"'204_19'!U804","v":9999267.5},{"$f":"'multiTimeline (6)'!C182","v":64}]
[2018,12,3,8,2,15,37,{"$f":"'multiTimeline (2)'!C183","v":1},{"$f":"'multiTimeline (2)'!D183","v":14},{"$f":"'multiTimeline (2)'!E183","v":18},{"$f":"'multiTimeline (2)'!F183","v":13},{"$f":"'multiTimeline (3)'!C183","v":8},{"$f":"'multiTimeline (3)'!D183","v":11},{"$f":"'multiTimeline (3)'!E183","v":11},{"$f":"'multiTimeline (3)'!F183","v":15},{"$f":"'multiTimeline (4)'!C183","v":1},{"$f":"'multiTimeline (4)'!D183","v":1},{"$f":"'multiTimeline (4)'!E183","v":14},{"$f":"'multiTimeline (4)'!F183","v":0},{"$f":"'multiTimeline (5)'!C183","v":1},{"$f":"'multiTimeline (5)'!E183","v":11},10000000,null,106,161,132,170,137,161,130,168,152,120,130,128,159,117,49,148,122,69,161,10000000,132.63157894736841,{"$f":"'204_19'!U805","v":9999021.5},{"$f":"'multiTimeline (6)'!C183","v":64}]
[2019,1,4,10,1,23,50,{"$f":"'multiTimeline (2)'!C184","v":1},{"$f":"'multiTimeline (2)'!D184","v":19},{"$f":"'multiTimeline (2)'!E184","v":26},{"$f":"'multiTimeline (2)'!F184","v":14},{"$f":"'multiTimeline (3)'!C184","v":12},{"$f":"'multiTimeline (3)'!D184","v":12},{"$f":"'multiTimeline (3)'!E184","v":15},{"$f":"'multiTimeline (3)'!F184","v":20},{"$f":"'multiTimeline (4)'!C184","v":2},{"$f":"'multiTimeline (4)'!D184","v":1},{"$f":"'multiTimeline (4)'!E184","v":14},{"$f":"'multiTimeline (4)'!F184","v":0.1},{"$f":"'multiTimeline (5)'!C184","v":1},{"$f":"'multiTimeline (5)'!E184","v":16},10000000,null,73,104,177,67,46,161,38,60,143,33,104,34,97,76,49,148,76,69,62,10000000,85.10526315789474,{"$f":"'204_19'!U806","v":10000118},{"$f":"'multiTimeline (6)'!C184","v":67}]
[2019,2,2,11,1,18,55,{"$f":"'multiTimeline (2)'!C185","v":3},{"$f":"'multiTimeline (2)'!D185","v":18},{"$f":"'multiTimeline (2)'!E185","v":27},{"$f":"'multiTimeline (2)'!F185","v":20},{"$f":"'multiTimeline (3)'!C185","v":6},{"$f":"'multiTimeline (3)'!D185","v":11},{"$f":"'multiTimeline (3)'!E185","v":13},{"$f":"'multiTimeline (3)'!F185","v":14},{"$f":"'multiTimeline (4)'!C185","v":1},{"$f":"'multiTimeline (4)'!D185","v":0},{"$f":"'multiTimeline (4)'!E185","v":20},{"$f":"'multiTimeline (4)'!F185","v":0.1},{"$f":"'multiTimeline (5)'!C185","v":1},{"$f":"'multiTimeline (5)'!E185","v":14},10000000,null,149,71,177,140,25,54,51,47,28,181,130,74,169,117,145,55,76,69,96,10000000,97.578947368421055,{"$f":"'204_19'!U807","v":9999771.5},{"$f":"'multiTimeline (6)'!C185","v":64}]
[2019,3,3,13,1,23,55,{"$f":"'multiTimeline (2)'!C186","v":3},{"$f":"'multiTimeline (2)'!D186","v":16},{"$f":"'multiTimeline (2)'!E186","v":24},{"$f":"'multiTimeline (2)'!F186","v":19},{"$f":"'multiTimeline (3)'!C186","v":10},{"$f":"'multiTimeline (3)'!D186","v":10},{"$f":"'multiTimeline (3)'!E186","v":14},{"$f":"'multiTimeline (3)'!F186","v":16},{"$f":"'multiTimeline (4)'!C186","v":1},{"$f":"'multiTimeline (4)'!D186","v":1},{"$f":"'multiTimeline (4)'!E186","v":18},{"$f":"'multiTimeline (4)'!F186","v":0.1},{"$f":"'multiTimeline (5)'!C186","v":1},{"$f":"'multiTimeline (5)'!E186","v":15},10000000,null,106,30,177,67,25,54,99,95,43,59,159,52,148,117,49,83,76,69,75,10000000,83.315789473684205,{"$f":"'204_19'!U808","v":10000065},{"$f":"'multiTimeline (6)'!C186","v":66}]
[2019,4,3,13,3,26,60,{"$f":"'multiTimeline (2)'!C187","v":1},{"$f":"'multiTimeline (2)'!D187","v":16},{"$f":"'multiTimeline (2)'!E187","v":37},{"$f":"'multiTimeline (2)'!F187","v":21},{"$f":"'multiTimeline (3)'!C187","v":8},{"$f":"'multiTimeline (3)'!D187","v":17},{"$f":"'multiTimeline (3)'!E187","v":14},{"$f":"'multiTimeline (3)'!F187","v":22},{"$f":"'multiTimeline (4)'!C187","v":1},{"$f":"'multiTimeline (4)'!D187","v":1},{"$f":"'multiTimeline (4)'!E187","v":18},{"$f":"'multiTimeline (4)'!F187","v":0.1},{"$f":"'multiTimeline (5)'!C187","v":1},{"$f":"'multiTimeline (5)'!E187","v":16},10000000,null,106,30,87,26,12,161,99,1,17,120,31,52,63,117,49,83,76,69,62,10000000,66.368421052631575,{"$f":"'204_19'!U809","v":10000821.5},{"$f":"'multiTimeline (6)'!C187","v":70}]
[2019,5,2,13,2,25,57,{"$f":"'multiTimeline (2)'!C188","v":2},{"$f":"'multiTimeline (2)'!D188","v":18},{"$f":"'multiTimeline (2)'!E188","v":29},{"$f":"'multiTimeline (2)'!F188","v":21},{"$f":"'multiTimeline (3)'!C188","v":9},{"$f":"'multiTimeline (3)'!D188","v":16},{"$f":"'multiTimeline (3)'!E188","v":13},{"$f":"'multiTimeline (3)'!F188","v":21},{"$f":"'multiTimeline (4)'!C188","v":3},{"$f":"'multiTimeline (4)'!D188","v":1},{"$f":"'multiTimeline (4)'!E188","v":19},{"$f":"'multiTimeline (4)'!F188","v":0.1},{"$f":"'multiTimeline (5)'!C188","v":1},{"$f":"'multiTimeline (5)'!E188","v":15},10000000,null,149,30,132,39,15,93,51,27,17,84,40,74,82,49,49,74,76,69,75,10000000,64.473684210526315,{"$f":"'204_19'!U810","v":10000504},{"$f":"'multiTimeline (6)'!C188","v":74}]
[2019,6,2,11,1,22,58,{"$f":"'multiTimeline (2)'!C189","v":2},{"$f":"'multiTimeline (2)'!D189","v":20},{"$f":"'multiTimeline (2)'!E189","v":25},{"$f":"'multiTimeline (2)'!F189","v":20},{"$f":"'multiTimeline (3)'!C189","v":8},{"$f":"'multiTimeline (3)'!D189","v":12},{"$f":"'multiTimeline (3)'!E189","v":15},{"$f":"'multiTimeline (3)'!F189","v":17},{"$f":"'multiTimeline (4)'!C189","v":3},{"$f":"'multiTimeline (4)'!D189","v":0},{"$f":"'multiTimeline (4)'!E189","v":21},{"$f":"'multiTimeline (4)'!F189","v":0.1},{"$f":"'multiTimeline (5)'!C189","v":1},{"$f":"'multiTimeline (5)'!E189","v":12},10000000,null,149,71,177,86,14,93,25,81,28,120,104,34,134,49,145,45,76,69,146,10000000,86.631578947368425,{"$f":"'204_19'!U811","v":10000018.5},{"$f":"'multiTimeline (6)'!C189","v":71}]
[2019,7,3,13,1,28,63,{"$f":"'multiTimeline (2)'!C190","v":2},{"$f":"'multiTimeline (2)'!D190","v":17},{"$f":"'multiTimeline (2)'!E190","v":29},{"$f":"'multiTimeline (2)'!F190","v":20},{"$f":"'multiTimeline (3)'!C190","v":9},{"$f":"'multiTimeline (3)'!D190","v":16},{"$f":"'multiTimeline (3)'!E190","v":18},{"$f":"'multiTimeline (3)'!F190","v":20},{"$f":"'multiTimeline (4)'!C190","v":1},{"$f":"'multiTimeline (4)'!D190","v":0},{"$f":"'multiTimeline (4)'!E190","v":18},{"$f":"'multiTimeline (4)'!F190","v":0.1},{"$f":"'multiTimeline (5)'!C190","v":1},{"$f":"'multiTimeline (5)'!E190","v":14},10000000,null,106,30,177,17,8,93,71,27,28,84,40,12,97,117,145,83,76,69,96,10000000,72.421052631578945,{"$f":"'204_19'!U812","v":10000485},{"$f":"'multiTimeline (6)'!C190","v":72}]
[2019,8,3,13,3,23,64,{"$f":"'multiTimeline (2)'!C191","v":2},{"$f":"'multiTimeline (2)'!D191","v":17},{"$f":"'multiTimeline (2)'!E191","v":26},{"$f":"'multiTimeline (2)'!F191","v":22},{"$f":"'multiTimeline (3)'!C191","v":12},{"$f":"'multiTimeline (3)'!D191","v":14},{"$f":"'multiTimeline (3)'!E191","v":16},{"$f":"'multiTimeline (3)'!F191","v":17},{"$f":"'multiTimeline (4)'!C191","v":1},{"$f":"'multiTimeline (4)'!D191","v":0.1},{"$f":"'multiTimeline (4)'!E191","v":19},{"$f":"'multiTimeline (4)'!F191","v":0},{"$f":"'multiTimeline (5)'!C191","v":0.1},{"$f":"'multiTimeline (5)'!E191","v":18},10000000,null,106,30,87,67,7,93,71,60,11,33,68,21,134,117,114,74,122,140,36,10000000,73.21052631578948,{"$f":"'204_19'!U813","v":10000474},{"$f":"'multiTimeline (6)'!C191","v":81}]
[2019,9,2,10,2,21,55,{"$f":"'multiTimeline (2)'!C192","v":2},{"$f":"'multiTimeline (2)'!D192","v":15},{"$f":"'multiTimeline (2)'!E192","v":27},{"$f":"'multiTimeline (2)'!F192","v":19},{"$f":"'multiTimeline (3)'!C192","v":7},{"$f":"'multiTimeline (3)'!D192","v":10},{"$f":"'multiTimeline (3)'!E192","v":16},{"$f":"'multiTimeline (3)'!F192","v":19},{"$f":"'multiTimeline (4)'!C192","v":1},{"$f":"'multiTimeline (4)'!D192","v":0.1},{"$f":"'multiTimeline (4)'!E192","v":20},{"$f":"'multiTimeline (4)'!F192","v":0},{"$f":"'multiTimeline (5)'!C192","v":0},{"$f":"'multiTimeline (5)'!E192","v":13},10000000,null,149,104,132,96,25,93,114,47,43,153,159,21,109,117,114,55,122,161,123,10000000,101.94736842105263,{"$f":"'204_19'!U814","v":9999602.5},{"$f":"'multiTimeline (6)'!C192","v":75}]
[2019,10,3,9,2,26,56,{"$f":"'multiTimeline (2)'!C193","v":2},{"$f":"'multiTimeline (2)'!D193","v":18},{"$f":"'multiTimeline (2)'!E193","v":29},{"$f":"'multiTimeline (2)'!F193","v":18},{"$f":"'multiTimeline (3)'!C193","v":9},{"$f":"'multiTimeline (3)'!D193","v":14},{"$f":"'multiTimeline (3)'!E193","v":14},{"$f":"'multiTimeline (3)'!F193","v":17},{"$f":"'multiTimeline (4)'!C193","v":1},{"$f":"'multiTimeline (4)'!D193","v":0.1},{"$f":"'multiTimeline (4)'!E193","v":16},{"$f":"'multiTimeline (4)'!F193","v":1},{"$f":"'multiTimeline (5)'!C193","v":0.1},{"$f":"'multiTimeline (5)'!E193","v":18},10000000,null,106,141,132,26,19,93,51,27,64,84,68,52,134,117,114,118,32,140,36,10000000,81.78947368421052,{"$f":"'204_19'!U815","v":10000179},{"$f":"'multiTimeline (6)'!C193","v":71}]
[2019,11,2,10,2,18,45,{"$f":"'multiTimeline (2)'!C194","v":1},{"$f":"'multiTimeline (2)'!D194","v":16},{"$f":"'multiTimeline (2)'!E194","v":21},{"$f":"'multiTimeline (2)'!F194","v":19},{"$f":"'multiTimeline (3)'!C194","v":7},{"$f":"'multiTimeline (3)'!D194","v":11},{"$f":"'multiTimeline (3)'!E194","v":11},{"$f":"'multiTimeline (3)'!F194","v":16},{"$f":"'multiTimeline (4)'!C194","v":1},{"$f":"'multiTimeline (4)'!D194","v":0.1},{"$f":"'multiTimeline (4)'!E194","v":16},{"$f":"'multiTimeline (4)'!F194","v":0.1},{"$f":"'multiTimeline (5)'!C194","v":0.1},{"$f":"'multiTimeline (5)'!E194","v":17},10000000,null,149,104,132,140,78,161,99,141,43,153,130,128,148,117,114,118,76,140,52,10000000,117,{"$f":"'204_19'!U816","v":9999319.5},{"$f":"'multiTimeline (6)'!C194","v":69}]
[2019,12,1,8,1,16,38,{"$f":"'multiTimeline (2)'!C195","v":2},{"$f":"'multiTimeline (2)'!D195","v":12},{"$f":"'multiTimeline (2)'!E195","v":20},{"$f":"'multiTimeline (2)'!F195","v":13},{"$f":"'multiTimeline (3)'!C195","v":8},{"$f":"'multiTimeline (3)'!D195","v":7},{"$f":"'multiTimeline (3)'!E195","v":11},{"$f":"'multiTimeline (3)'!F195","v":17},{"$f":"'multiTimeline (4)'!C195","v":1},{"$f":"'multiTimeline (4)'!D195","v":0.1},{"$f":"'multiTimeline (4)'!E195","v":14},{"$f":"'multiTimeline (4)'!F195","v":0.1},{"$f":"'multiTimeline (5)'!C195","v":0.1},{"$f":"'multiTimeline (5)'!E195","v":11},10000000,null,188,161,177,164,130,93,162,150,152,120,197,128,134,117,114,148,76,140,161,10000000,142.73684210526315,{"$f":"'204_19'!U817","v":9998832.5},{"$f":"'multiTimeline (6)'!C195","v":70}]
[2020,1,2,10,2,24,54,{"$f":"'multiTimeline (2)'!C196","v":2},{"$f":"'multiTimeline (2)'!D196","v":17},{"$f":"'multiTimeline (2)'!E196","v":26},{"$f":"'multiTimeline (2)'!F196","v":19},{"$f":"'multiTimeline (3)'!C196","v":10},{"$f":"'multiTimeline (3)'!D196","v":11},{"$f":"'multiTimeline (3)'!E196","v":15},{"$f":"'multiTimeline (3)'!F196","v":23},{"$f":"'multiTimeline (4)'!C196","v":3},{"$f":"'multiTimeline (4)'!D196","v":0.1},{"$f":"'multiTimeline (4)'!E196","v":20},{"$f":"'multiTimeline (4)'!F196","v":0},{"$f":"'multiTimeline (5)'!C196","v":0},{"$f":"'multiTimeline (5)'!E196","v":11},10000000,null,149,104,132,48,30,93,71,60,43,59,130,34,53,49,114,55,122,161,161,10000000,87.78947368421052,{"$f":"'204_19'!U818","v":9999985},{"$f":"'multiTimeline (6)'!C196","v":69}]
[2020,2,2,13,3,23,57,{"$f":"'multiTimeline (2)'!C197","v":2},{"$f":"'multiTimeline (2)'!D197","v":16},{"$f":"'multiTimeline (2)'!E197","v":24},{"$f":"'multiTimeline (2)'!F197","v":19},{"$f":"'multiTimeline (3)'!C197","v":10},{"$f":"'multiTimeline (3)'!D197","v":13},{"$f":"'multiTimeline (3)'!E197","v":14},{"$f":"'multiTimeline (3)'!F197","v":22},{"$f":"'multiTimeline (4)'!C197","v":1},{"$f":"'multiTimeline (4)'!D197","v":0},{"$f":"'multiTimeline (4)'!E197","v":22},{"$f":"'multiTimeline (4)'!F197","v":0},{"$f":"'multiTimeline (5)'!C197","v":0},{"$f":"'multiTimeline (5)'!E197","v":18},10000000,null,{"$f":"RANK(C197,C$4:C$207,0)","v":149},{"$f":"RANK(D197,D$4:D$207,0)","v":30},{"$f":"RANK(E197,E$4:E$207,0)","v":87},{"$f":"RANK(F197,F$4:F$207,0)","v":67},{"$f":"RANK(G197,G$4:G$207,0)","v":15},{"$f":"RANK(H197,H$4:H$207,0)","v":93},{"$f":"RANK(I197,I$4:I$207,0)","v":99},{"$f":"RANK(J197,J$4:J$207,0)","v":95},{"$f":"RANK(K197,K$4:K$207,0)","v":43},{"$f":"RANK(L197,L$4:L$207,0)","v":59},{"$f":"RANK(M197,M$4:M$207,0)","v":82},{"$f":"RANK(N197,N$4:N$207,0)","v":52},{"$f":"RANK(O197,O$4:O$207,0)","v":63},{"$f":"RANK(P197,P$4:P$207,0)","v":117},{"$f":"RANK(Q197,Q$4:Q$207,0)","v":145},{"$f":"RANK(R197,R$4:R$207,0)","v":33},{"$f":"RANK(S197,S$4:S$207,0)","v":122},{"$f":"RANK(T197,T$4:T$207,0)","v":161},{"$f":"RANK(U197,U$4:U$207,0)","v":36},{"$f":"V197","v":10000000},{"$f":"AVERAGE(X197:AP197)","v":81.473684210526315},{"$f":"'204_19'!U819","v":10000100},{"$f":"'multiTimeline (6)'!C197","v":67}]
[2020,3,2,9,2,19,50,{"$f":"'multiTimeline (2)'!C198","v":2},{"$f":"'multiTimeline (2)'!D198","v":15},{"$f":"'multiTimeline (2)'!E198","v":21},{"$f":"'multiTimeline (2)'!F198","v":19},{"$f":"'multiTimeline (3)'!C198","v":9},{"$f":"'multiTimeline (3)'!D198","v":12},{"$f":"'multiTimeline (3)'!E198","v":12},{"$f":"'multiTimeline (3)'!F198","v":17},{"$f":"'multiTimeline (4)'!C198","v":2},{"$f":"'multiTimeline (4)'!D198","v":0.1},{"$f":"'multiTimeline (4)'!E198","v":15},{"$f":"'multiTimeline (4)'!F198","v":0.1},{"$f":"'multiTimeline (5)'!C198","v":0.1},{"$f":"'multiTimeline (5)'!E198","v":13},10000000,null,149,141,132,128,46,93,114,141,43,84,104,105,134,76,114,134,76,140,123,10000000,109.31578947368421,{"$f":"'204_19'!U820","v":9999463.5},{"$f":"'multiTimeline (6)'!C198","v":41}]
[2020,4,2,10,2,24,61,{"$f":"'multiTimeline (2)'!C199","v":2},{"$f":"'multiTimeline (2)'!D199","v":18},{"$f":"'multiTimeline (2)'!E199","v":26},{"$f":"'multiTimeline (2)'!F199","v":20},{"$f":"'multiTimeline (3)'!C199","v":11},{"$f":"'multiTimeline (3)'!D199","v":13},{"$f":"'multiTimeline (3)'!E199","v":15},{"$f":"'multiTimeline (3)'!F199","v":23},{"$f":"'multiTimeline (4)'!C199","v":3},{"$f":"'multiTimeline (4)'!D199","v":0},{"$f":"'multiTimeline (4)'!E199","v":23},{"$f":"'multiTimeline (4)'!F199","v":0},{"$f":"'multiTimeline (5)'!C199","v":0.1},{"$f":"'multiTimeline (5)'!E199","v":19},10000000,null,149,104,132,48,9,93,51,60,28,42,82,34,53,49,145,25,122,140,28,10000000,73.368421052631575,{"$f":"'204_19'!U821","v":10000384},{"$f":"'multiTimeline (6)'!C199","v":28}]
[2020,5,2,16,1,31,100,{"$f":"'multiTimeline (2)'!C200","v":1},{"$f":"'multiTimeline (2)'!D200","v":22},{"$f":"'multiTimeline (2)'!E200","v":35},{"$f":"'multiTimeline (2)'!F200","v":26},{"$f":"'multiTimeline (3)'!C200","v":13},{"$f":"'multiTimeline (3)'!D200","v":18},{"$f":"'multiTimeline (3)'!E200","v":16},{"$f":"'multiTimeline (3)'!F200","v":22},{"$f":"'multiTimeline (4)'!C200","v":1},{"$f":"'multiTimeline (4)'!D200","v":1},{"$f":"'multiTimeline (4)'!E200","v":25},{"$f":"'multiTimeline (4)'!F200","v":0},{"$f":"'multiTimeline (5)'!C200","v":0.1},{"$f":"'multiTimeline (5)'!E200","v":14},10000000,null,149,6,177,9,1,161,12,4,2,22,23,21,63,117,49,14,122,140,96,10000000,62.526315789473685,{"$f":"'204_19'!U822","v":10000966.5},{"$f":"'multiTimeline (6)'!C200","v":32}]
[2020,6,2,12,2,29,73,{"$f":"'multiTimeline (2)'!C201","v":2},{"$f":"'multiTimeline (2)'!D201","v":21},{"$f":"'multiTimeline (2)'!E201","v":34},{"$f":"'multiTimeline (2)'!F201","v":25},{"$f":"'multiTimeline (3)'!C201","v":11},{"$f":"'multiTimeline (3)'!D201","v":17},{"$f":"'multiTimeline (3)'!E201","v":19},{"$f":"'multiTimeline (3)'!F201","v":23},{"$f":"'multiTimeline (4)'!C201","v":2},{"$f":"'multiTimeline (4)'!D201","v":0.1},{"$f":"'multiTimeline (4)'!E201","v":25},{"$f":"'multiTimeline (4)'!F201","v":1},{"$f":"'multiTimeline (5)'!C201","v":1},{"$f":"'multiTimeline (5)'!E201","v":15},10000000,null,149,49,132,15,3,93,18,5,4,42,31,7,53,76,114,14,32,69,75,10000000,51.631578947368418,{"$f":"'204_19'!U823","v":10001074.5},{"$f":"'multiTimeline (6)'!C201","v":39}]
[2020,7,2,17,1,24,74,{"$f":"'multiTimeline (2)'!C202","v":2},{"$f":"'multiTimeline (2)'!D202","v":21},{"$f":"'multiTimeline (2)'!E202","v":28},{"$f":"'multiTimeline (2)'!F202","v":29},{"$f":"'multiTimeline (3)'!C202","v":14},{"$f":"'multiTimeline (3)'!D202","v":16},{"$f":"'multiTimeline (3)'!E202","v":19},{"$f":"'multiTimeline (3)'!F202","v":20},{"$f":"'multiTimeline (4)'!C202","v":2},{"$f":"'multiTimeline (4)'!D202","v":0.1},{"$f":"'multiTimeline (4)'!E202","v":27},{"$f":"'multiTimeline (4)'!F202","v":0},{"$f":"'multiTimeline (5)'!C202","v":1},{"$f":"'multiTimeline (5)'!E202","v":18},10000000,null,149,4,177,48,2,93,18,38,1,12,40,7,97,76,114,10,122,69,36,10000000,58.578947368421055,{"$f":"'204_19'!U824","v":10000904},{"$f":"'multiTimeline (6)'!C202","v":42}]
[2020,8,2,12,2,26,67,{"$f":"'multiTimeline (2)'!C203","v":1},{"$f":"'multiTimeline (2)'!D203","v":20},{"$f":"'multiTimeline (2)'!E203","v":28},{"$f":"'multiTimeline (2)'!F203","v":26},{"$f":"'multiTimeline (3)'!C203","v":12},{"$f":"'multiTimeline (3)'!D203","v":15},{"$f":"'multiTimeline (3)'!E203","v":17},{"$f":"'multiTimeline (3)'!F203","v":23},{"$f":"'multiTimeline (4)'!C203","v":1},{"$f":"'multiTimeline (4)'!D203","v":1},{"$f":"'multiTimeline (4)'!E203","v":22},{"$f":"'multiTimeline (4)'!F203","v":0.1},{"$f":"'multiTimeline (5)'!C203","v":1},{"$f":"'multiTimeline (5)'!E203","v":18},10000000,null,149,49,132,26,4,161,25,38,2,33,53,18,53,117,49,33,76,69,36,10000000,59.10526315789474,{"$f":"'204_19'!U825","v":10000974.5},{"$f":"'multiTimeline (6)'!C203","v":44}]
[2020,9,2,11,2,25,65,{"$f":"'multiTimeline (2)'!C204","v":2},{"$f":"'multiTimeline (2)'!D204","v":21},{"$f":"'multiTimeline (2)'!E204","v":28},{"$f":"'multiTimeline (2)'!F204","v":21},{"$f":"'multiTimeline (3)'!C204","v":9},{"$f":"'multiTimeline (3)'!D204","v":13},{"$f":"'multiTimeline (3)'!E204","v":16},{"$f":"'multiTimeline (3)'!F204","v":21},{"$f":"'multiTimeline (4)'!C204","v":2},{"$f":"'multiTimeline (4)'!D204","v":0.1},{"$f":"'multiTimeline (4)'!E204","v":19},{"$f":"'multiTimeline (4)'!F204","v":0},{"$f":"'multiTimeline (5)'!C204","v":0},{"$f":"'multiTimeline (5)'!E204","v":17},10000000,null,149,71,132,39,5,93,18,38,17,84,82,21,82,76,114,74,122,161,52,10000000,75.263157894736835,{"$f":"'204_19'!U826","v":10000514},{"$f":"'multiTimeline (6)'!C204","v":37}]
[2020,10,2,15,3,21,61,{"$f":"'multiTimeline (2)'!C205","v":2},{"$f":"'multiTimeline (2)'!D205","v":19},{"$f":"'multiTimeline (2)'!E205","v":27},{"$f":"'multiTimeline (2)'!F205","v":24},{"$f":"'multiTimeline (3)'!C205","v":11},{"$f":"'multiTimeline (3)'!D205","v":11},{"$f":"'multiTimeline (3)'!E205","v":18},{"$f":"'multiTimeline (3)'!F205","v":21},{"$f":"'multiTimeline (4)'!C205","v":1},{"$f":"'multiTimeline (4)'!D205","v":0},{"$f":"'multiTimeline (4)'!E205","v":20},{"$f":"'multiTimeline (4)'!F205","v":1},{"$f":"'multiTimeline (5)'!C205","v":1},{"$f":"'multiTimeline (5)'!E205","v":17},10000000,null,149,12,87,96,9,93,38,47,5,42,130,12,82,117,145,55,32,69,52,10000000,66.94736842105263,{"$f":"'204_19'!U827","v":10000506},{"$f":"'multiTimeline (6)'!C205","v":33}]
[2020,11,2,12,2,21,44,{"$f":"'multiTimeline (2)'!C206","v":2},{"$f":"'multiTimeline (2)'!D206","v":14},{"$f":"'multiTimeline (2)'!E206","v":28},{"$f":"'multiTimeline (2)'!F206","v":20},{"$f":"'multiTimeline (3)'!C206","v":10},{"$f":"'multiTimeline (3)'!D206","v":14},{"$f":"'multiTimeline (3)'!E206","v":12},{"$f":"'multiTimeline (3)'!F206","v":18},{"$f":"'multiTimeline (4)'!C206","v":2},{"$f":"'multiTimeline (4)'!D206","v":1},{"$f":"'multiTimeline (4)'!E206","v":16},{"$f":"'multiTimeline (4)'!F206","v":0.1},{"$f":"'multiTimeline (5)'!C206","v":0.1},{"$f":"'multiTimeline (5)'!E206","v":16},10000000,null,149,49,132,96,85,93,130,38,28,59,68,105,119,76,49,118,76,140,62,10000000,88,{"$f":"'204_19'!U828","v":9999976},{"$f":"'multiTimeline (6)'!C206","v":28}]
[2020,12,0,15,0,22,51,{"$f":"'multiTimeline (2)'!C207","v":7},{"$f":"'multiTimeline (2)'!D207","v":18},{"$f":"'multiTimeline (2)'!E207","v":29},{"$f":"'multiTimeline (2)'!F207","v":15},{"$f":"'multiTimeline (3)'!C207","v":8},{"$f":"'multiTimeline (3)'!D207","v":12},{"$f":"'multiTimeline (3)'!E207","v":23},{"$f":"'multiTimeline (3)'!F207","v":12},{"$f":"'multiTimeline (4)'!C207","v":0},{"$f":"'multiTimeline (4)'!D207","v":0},{"$f":"'multiTimeline (4)'!E207","v":0},{"$f":"'multiTimeline (4)'!F207","v":0},{"$f":"'multiTimeline (5)'!C207","v":0},{"$f":"'multiTimeline (5)'!E207","v":23},10000000,null,193,12,195,86,41,15,51,27,122,120,104,3,182,178,145,194,122,161,10,10000000,103.21052631578948,{"$f":"'204_19'!U829","v":10000371.5},{"$f":"'multiTimeline (6)'!C207","v":28}]

{"sheet":"204_19","index":4,"n_rows":843,"n_cols":24,"rows_kept":843,"cut":false,"hidden":false,"merged":[]}
[]
[]
[]
[]
["Azonos�t�:",8842114,"Objektumok:",204,"Attrib�tumok:",19,"Lepcs�k:",204,"Eltol�s:",0,"Le�r�s:","COCO Y0: 8842114"]
[]
["Rangsor","X(A1)","X(A2)","X(A3)","X(A4)","X(A5)","X(A6)","X(A7)","X(A8)","X(A9)","X(A10)","X(A11)","X(A12)","X(A13)","X(A14)","X(A15)","X(A16)","X(A17)","X(A18)","X(A19)","Y(A20)"]
["O1",10,198,6,188,158,188,201,141,168,42,130,128,203,2,2,194,122,161,196,10000000]
["O2",10,198,195,188,185,188,201,175,201,2,7,128,63,2,145,194,122,161,196,10000000]
["O3",1,1,4,26,172,1,201,163,201,12,14,200,97,178,145,194,122,161,123,10000000]
["O4",14,104,10,170,189,4,181,20,201,42,130,200,191,2,145,194,122,161,196,10000000]
["O5",2,141,195,181,194,188,201,173,201,84,68,52,119,7,145,83,122,161,196,10000000]
["O6",19,198,195,193,199,188,187,186,152,202,170,1,195,178,1,194,122,161,196,10000000]
["O7",193,198,195,202,204,188,187,196,181,59,201,156,169,178,145,194,122,161,177,10000000]
["O8",193,198,195,39,199,188,192,204,152,202,201,200,178,178,145,172,122,161,177,10000000]
["O9",4,198,2,196,202,188,192,189,186,120,182,183,148,9,145,194,122,161,183,10000000]
["O10",193,6,195,202,196,9,192,150,186,120,182,200,203,1,145,177,122,161,183,10000000]
["O11",3,161,15,185,177,188,192,198,165,120,182,183,178,178,3,177,122,2,196,10000000]
["O12",33,173,195,202,184,15,12,179,191,120,182,21,182,178,145,177,122,161,196,10000000]
["O13",14,185,23,164,172,188,25,202,191,202,12,52,82,13,145,183,122,161,123,10000000]
["O14",33,16,17,17,198,4,2,95,80,153,7,52,33,13,145,183,122,161,17,10000000]
["O15",19,16,1,109,172,7,162,193,195,1,104,34,199,21,145,83,122,161,196,10000000]
["O16",42,185,4,164,180,4,147,60,175,153,31,190,43,13,5,194,122,161,123,10000000]
["O17",25,16,6,196,180,188,71,150,195,33,23,105,195,178,145,165,122,4,146,10000000]
["O18",193,71,6,188,202,2,199,182,143,181,170,173,182,178,7,19,122,161,36,10000000]
["O19",19,185,23,152,166,188,187,193,195,181,104,195,195,178,145,186,122,161,146,10000000]
["O20",193,185,23,152,169,188,71,198,143,181,201,195,182,178,7,186,122,161,161,10000000]
["O21",193,193,38,196,189,26,181,198,152,195,130,128,201,178,145,189,2,161,62,10000000]
["O22",193,141,38,176,196,188,162,203,165,59,201,198,159,178,145,189,2,5,196,10000000]
["O23",193,173,3,201,185,26,71,182,199,120,182,183,178,178,145,170,122,161,191,10000000]
["O24",193,198,195,193,180,188,130,196,181,59,159,2,182,178,10,189,122,5,191,10000000]
["O25",73,104,23,140,189,188,162,124,186,22,130,173,202,178,145,193,122,161,183,10000000]
["O26",73,1,195,170,185,7,192,10,152,84,170,199,191,34,145,194,122,161,177,10000000]
["O27",56,141,59,193,152,15,6,186,191,2,200,200,134,34,3,177,1,161,161,10000000]
["O28",193,185,59,196,152,9,192,175,186,59,40,183,119,34,145,165,122,14,4,10000000]
["O29",73,49,17,128,201,188,177,193,165,153,2,74,43,178,145,33,122,14,188,10000000]
["O30",42,197,59,188,177,9,147,163,195,181,182,156,199,9,11,194,5,14,62,10000000]
["O31",193,173,59,128,194,36,200,201,152,181,104,183,169,178,145,177,5,161,75,10000000]
["O32",33,16,87,170,193,15,71,150,181,153,68,128,195,178,145,83,122,14,161,10000000]
["O33",106,161,87,196,185,54,192,150,175,33,197,156,182,5,145,183,122,23,188,10000000]
["O34",42,49,23,192,100,21,147,186,152,42,130,52,191,49,145,118,122,161,146,10000000]
["O35",73,49,12,181,180,54,181,179,200,195,182,183,134,21,7,172,11,23,195,10000000]
["O36",25,71,12,152,189,188,177,182,186,201,182,21,194,21,145,186,122,161,190,10000000]
["O37",10,193,87,109,176,2,51,182,96,153,159,195,134,178,145,74,122,23,6,10000000]
["O38",42,173,87,185,166,21,130,168,80,153,82,173,109,49,14,172,122,23,177,10000000]
["O39",4,173,38,140,163,36,147,81,43,22,182,34,119,26,14,25,122,161,21,10000000]
["O40",106,16,6,109,163,36,130,141,143,84,104,128,53,9,14,12,122,5,123,10000000]
["O41",56,71,87,140,115,93,181,163,175,12,68,173,33,13,5,25,122,3,161,10000000]
["O42",73,173,23,21,141,9,114,150,152,120,14,7,33,178,22,189,122,5,177,10000000]
["O43",42,104,87,109,177,36,181,10,17,84,31,74,18,76,22,118,2,1,191,10000000]
["O44",33,193,132,140,141,54,12,60,64,59,82,21,82,178,145,134,16,41,123,10000000]
["O45",42,71,15,152,170,93,162,179,6,181,130,156,63,34,145,172,122,41,17,10000000]
["O46",42,16,23,140,100,15,71,110,168,22,82,128,97,178,22,148,122,161,96,10000000]
["O47",106,71,17,26,162,54,162,189,191,120,82,173,43,7,22,33,16,161,177,10000000]
["O48",73,49,23,128,172,54,147,189,168,181,53,190,97,178,22,6,122,161,194,10000000]
["O49",19,193,17,5,115,93,9,110,64,33,182,7,4,26,145,14,5,14,96,10000000]
["O50",25,104,10,67,100,36,71,110,175,6,53,128,63,76,22,55,122,161,21,10000000]
["O51",33,49,38,67,62,36,38,47,168,42,53,156,22,26,145,108,16,41,6,10000000]
["O52",42,71,38,152,62,9,51,124,43,12,40,34,43,13,22,14,16,161,12,10000000]
["O53",42,71,38,48,115,93,130,150,43,22,18,34,97,26,22,45,16,41,21,10000000]
["O54",56,30,23,48,85,54,114,27,175,42,2,21,27,49,14,3,11,5,183,10000000]
["O55",73,104,87,109,115,21,130,150,28,6,23,4,6,49,22,118,16,23,17,10000000]
["O56",106,161,87,67,62,26,25,95,80,120,2,74,33,26,145,83,16,5,36,10000000]
["O57",73,49,23,67,109,93,38,189,11,59,23,156,82,178,145,25,16,41,146,10000000]
["O58",42,173,132,21,130,26,71,168,64,84,53,18,43,26,145,165,32,23,6,10000000]
["O59",42,104,17,26,130,36,25,124,168,33,31,156,1,5,14,33,122,14,6,10000000]
["O60",73,104,38,109,141,26,18,124,96,200,82,128,119,21,145,108,32,69,96,10000000]
["O61",25,6,59,21,78,21,25,6,64,6,53,34,18,9,49,55,32,23,17,10000000]
["O62",19,71,12,21,46,9,2,15,122,2,130,4,27,49,145,12,5,69,21,10000000]
["O63",56,6,38,48,41,54,38,15,64,12,7,21,4,117,145,108,32,5,52,10000000]
["O64",14,141,23,2,36,15,25,27,6,5,1,34,22,26,49,45,122,69,75,10000000]
["O65",25,30,38,12,57,54,71,60,80,12,31,74,27,21,11,2,5,41,1,10000000]
["O66",4,12,87,26,19,26,18,141,17,6,53,105,33,34,49,55,5,5,1,10000000]
["O67",4,49,59,9,9,93,1,10,96,33,18,7,27,34,22,55,32,69,1,10000000]
["O68",14,16,38,2,33,26,71,20,17,12,18,12,1,13,11,6,32,14,21,10000000]
["O69",14,3,23,128,54,93,2,20,17,12,68,12,53,76,49,45,32,69,96,10000000]
["O70",10,71,23,67,147,36,51,124,122,22,53,74,82,117,49,118,32,161,36,10000000]
["O71",4,104,87,48,78,36,147,124,96,59,68,34,119,34,49,45,32,14,62,10000000]
["O72",33,104,132,86,150,54,147,81,175,59,130,105,33,34,49,33,32,23,96,10000000]
["O73",25,30,59,26,62,36,38,110,43,22,7,21,10,76,22,3,11,41,36,10000000]
["O74",33,141,87,5,62,54,25,95,64,12,2,34,7,13,22,83,122,5,62,10000000]
["O75",33,30,23,2,12,21,71,20,122,6,14,74,7,13,22,83,122,41,171,10000000]
["O76",56,16,87,12,15,54,9,2,28,22,18,4,10,117,49,1,16,23,10,10000000]
["O77",19,141,59,5,25,54,6,6,28,22,2,34,63,117,22,19,122,23,4,10000000]
["O78",4,49,38,5,41,161,25,10,122,22,12,21,10,117,49,83,11,23,12,10000000]
["O79",25,4,17,109,57,26,6,60,17,22,40,34,43,76,22,5,32,161,75,10000000]
["O80",33,6,87,21,93,36,9,124,6,59,23,21,63,117,145,74,32,41,12,10000000]
["O81",25,16,38,67,62,161,71,6,43,84,23,190,1,117,14,6,32,41,96,10000000]
["O82",56,141,59,9,93,93,12,47,17,59,23,52,22,76,145,19,122,41,36,10000000]
["O83",73,30,59,109,124,93,130,124,96,42,82,74,18,178,145,83,16,69,36,10000000]
["O84",73,185,87,128,163,54,177,141,143,120,182,105,134,26,49,134,32,69,96,10000000]
["O85",56,141,59,17,36,54,38,110,152,42,14,105,7,117,49,6,32,69,36,10000000]
["O86",42,49,87,48,100,26,25,168,122,6,68,74,43,34,22,33,32,23,12,10000000]
["O87",149,16,87,86,124,54,71,95,43,12,18,34,63,49,49,33,16,23,21,10000000]
["O88",106,104,38,109,137,36,71,81,96,59,31,173,33,34,145,45,32,23,75,10000000]
["O89",106,16,59,39,73,161,25,38,96,33,7,34,33,117,49,14,32,23,62,10000000]
["O90",56,104,87,15,78,36,51,47,143,120,40,52,53,34,22,55,32,69,28,10000000]
["O91",73,71,87,39,36,54,71,60,6,84,23,105,10,76,49,25,32,69,36,10000000]
["O92",106,16,59,48,36,93,99,124,80,59,104,156,10,49,22,74,122,69,36,10000000]
["O93",56,30,59,96,124,54,25,47,43,59,104,34,97,117,49,165,11,69,52,10000000]
["O94",73,30,87,109,130,54,130,141,96,42,170,128,43,117,145,33,122,69,28,10000000]
["O95",73,104,132,48,115,36,130,150,64,120,104,128,33,49,145,33,32,23,12,10000000]
["O96",106,161,87,164,152,93,147,175,181,153,104,156,119,117,49,134,32,69,183,10000000]
["O97",56,71,59,96,100,54,114,15,122,153,82,52,22,76,49,45,16,23,62,10000000]
["O98",56,71,38,48,109,54,71,38,122,84,104,128,10,117,22,19,32,41,96,10000000]
["O99",106,71,59,17,78,161,51,95,122,42,68,105,10,49,22,148,32,69,62,10000000]
["O100",56,49,59,26,100,93,71,27,152,42,40,105,27,34,49,83,122,69,96,10000000]
["O101",73,49,23,12,85,54,71,27,64,120,130,74,43,117,49,55,122,69,96,10000000]
["O102",42,141,38,26,93,54,51,110,143,84,31,52,63,49,49,19,122,69,123,10000000]
["O103",56,71,38,26,78,36,18,60,28,84,40,156,10,76,14,55,16,69,123,10000000]
["O104",56,12,38,26,93,54,51,81,11,84,130,12,63,117,49,55,16,69,52,10000000]
["O105",73,104,87,39,115,93,51,38,96,42,82,128,22,76,49,10,32,14,123,10000000]
["O106",73,71,59,48,115,54,71,60,122,120,130,173,53,117,114,118,76,41,123,10000000]
["O107",56,104,38,96,141,93,162,150,96,120,170,105,119,76,49,83,76,140,123,10000000]
["O108",73,71,132,185,158,161,162,141,80,181,182,128,159,117,145,156,32,161,96,10000000]
["O109",73,16,38,39,150,26,38,10,28,120,53,128,63,117,22,83,76,140,21,10000000]
["O110",106,16,59,109,109,161,12,15,17,120,40,128,27,49,114,55,32,69,28,10000000]
["O111",73,161,59,1,115,36,2,6,11,42,53,52,43,34,49,33,32,69,28,10000000]
["O112",56,71,132,96,100,93,25,124,28,120,68,128,63,34,22,74,122,69,75,10000000]
["O113",106,30,38,48,124,54,71,124,80,153,68,74,82,76,49,45,76,69,28,10000000]
["O114",73,71,87,39,141,93,18,60,96,84,130,105,33,76,22,55,76,69,75,10000000]
["O115",106,49,132,67,152,93,71,110,122,42,104,74,109,76,22,83,76,41,62,10000000]
["O116",73,71,132,48,130,93,71,81,122,153,82,74,53,49,114,83,32,140,62,10000000]
["O117",73,141,87,109,158,93,51,110,96,59,53,128,63,117,49,45,76,69,123,10000000]
["O118",73,71,59,96,137,54,71,20,43,120,53,74,53,76,14,108,76,41,52,10000000]
["O119",73,104,87,26,141,54,130,2,96,181,53,105,109,49,49,74,76,69,28,10000000]
["O120",149,161,87,140,170,161,162,163,168,153,182,190,169,34,49,134,122,41,96,10000000]
["O121",106,30,87,48,85,93,130,60,11,120,40,52,18,76,114,55,32,140,96,10000000]
["O122",106,30,87,67,115,54,99,110,96,84,40,74,82,117,49,83,32,69,96,10000000]
["O123",56,104,87,48,130,54,38,20,122,153,40,74,109,49,22,33,76,140,96,10000000]
["O124",73,6,59,48,109,36,12,47,28,84,82,74,82,49,49,25,16,23,75,10000000]
["O125",106,49,59,96,109,54,51,60,64,153,82,156,63,49,114,148,76,140,62,10000000]
["O126",106,71,38,140,130,93,51,47,80,59,82,128,82,76,114,118,122,140,75,10000000]
["O127",106,141,132,109,100,36,71,60,64,84,104,105,63,49,49,19,76,140,75,10000000]
["O128",73,49,87,67,85,93,114,110,11,153,130,105,97,76,114,118,76,69,75,10000000]
["O129",106,71,59,96,152,54,162,95,43,42,68,74,82,49,49,83,76,41,123,10000000]
["O130",42,30,87,67,137,93,99,110,17,84,130,74,159,76,114,134,76,41,96,10000000]
["O131",106,104,87,176,152,93,162,124,96,120,104,190,148,49,145,156,122,69,96,10000000]
["O132",106,173,132,181,158,93,147,175,168,59,182,173,182,117,114,172,16,69,146,10000000]
["O133",149,49,87,48,19,93,38,15,122,84,53,105,82,76,114,134,76,69,96,10000000]
["O134",149,104,87,140,57,93,71,95,80,84,130,52,109,76,49,83,32,41,123,10000000]
["O135",149,173,59,109,57,54,99,150,96,153,104,74,63,117,114,118,76,41,96,10000000]
["O136",149,104,132,152,73,93,99,95,6,59,159,74,97,76,49,83,32,161,75,10000000]
["O137",106,71,59,96,36,93,99,60,43,84,170,105,109,117,49,134,76,69,161,10000000]
["O138",106,104,87,86,30,93,99,81,64,59,104,52,82,117,49,169,122,69,75,10000000]
["O139",149,71,87,67,19,93,38,27,43,181,104,18,63,117,49,118,76,161,161,10000000]
["O140",106,49,132,48,41,161,114,81,43,84,104,156,119,76,49,83,76,69,75,10000000]
["O141",73,104,87,128,73,93,99,124,122,84,170,74,119,117,145,83,32,161,123,10000000]
["O142",149,161,132,109,93,93,162,124,80,120,104,128,169,117,114,156,32,69,146,10000000]
["O143",149,71,87,128,100,54,162,81,122,84,104,128,97,117,145,156,76,41,146,10000000]
["O144",149,141,132,164,124,161,147,168,122,181,170,183,148,117,114,108,76,69,171,10000000]
["O145",73,104,87,128,62,54,130,47,143,84,130,128,119,76,22,108,122,41,123,10000000]
["O146",106,104,59,128,93,93,38,81,96,153,82,74,119,76,49,118,122,69,96,10000000]
["O147",106,71,132,128,85,93,114,60,80,84,82,74,119,76,49,108,32,41,146,10000000]
["O148",106,185,87,109,124,93,130,110,80,84,104,156,148,117,145,134,122,69,96,10000000]
["O149",106,104,132,96,46,54,51,47,122,120,170,128,82,76,22,55,122,69,96,10000000]
["O150",106,49,177,86,62,93,114,95,122,120,130,156,148,76,49,108,76,69,96,10000000]
["O151",149,104,132,152,57,161,99,110,43,59,159,74,134,76,145,156,122,69,171,10000000]
["O152",106,104,87,140,93,54,99,124,96,120,159,21,159,117,49,45,76,69,123,10000000]
["O153",73,49,87,176,62,161,114,81,96,59,130,105,159,117,145,134,32,69,171,10000000]
["O154",106,141,132,176,109,93,130,110,96,153,170,156,182,76,145,134,122,69,146,10000000]
["O155",149,173,177,170,147,93,162,163,152,195,130,156,169,175,114,177,122,69,161,10000000]
["O156",188,185,177,181,166,161,187,150,181,195,182,173,178,117,49,170,76,140,171,10000000]
["O157",106,104,177,152,78,93,147,81,80,153,130,105,169,76,49,108,76,140,123,10000000]
["O158",106,161,132,109,85,161,162,95,96,59,82,105,148,76,114,83,122,41,146,10000000]
["O159",149,71,132,164,62,93,147,20,143,153,159,128,119,49,49,156,76,69,36,10000000]
["O160",149,104,177,109,46,93,114,81,96,84,130,105,148,49,114,134,76,69,75,10000000]
["O161",106,141,177,128,30,93,147,60,28,153,159,128,159,117,49,148,122,140,52,10000000]
["O162",149,104,132,140,73,93,147,141,122,120,159,52,119,117,49,134,122,69,96,10000000]
["O163",188,104,177,96,54,93,114,60,64,181,130,52,134,178,49,55,76,140,146,10000000]
["O164",106,141,132,152,46,161,51,95,28,153,159,52,109,76,114,108,76,41,75,10000000]
["O165",188,161,177,109,46,161,181,81,28,153,104,156,159,117,114,148,76,69,123,10000000]
["O166",106,71,132,152,62,93,114,124,96,181,104,105,134,117,145,118,76,161,123,10000000]
["O167",149,141,177,170,73,93,177,150,96,153,130,128,169,117,49,156,122,41,52,10000000]
["O168",188,173,132,176,147,161,187,173,152,195,197,173,182,175,114,156,122,140,146,10000000]
["O169",149,141,132,86,25,93,114,95,64,153,68,52,109,76,49,118,122,69,75,10000000]
["O170",149,104,132,86,54,161,130,38,43,84,53,74,97,117,49,83,32,41,75,10000000]
["O171",149,71,132,86,41,161,130,60,80,120,130,52,63,117,49,55,76,69,146,10000000]
["O172",149,49,132,67,5,54,51,38,43,84,31,74,109,49,49,55,32,69,28,10000000]
["O173",149,141,132,67,19,93,71,47,96,84,82,74,159,76,114,25,76,69,52,10000000]
["O174",149,71,59,67,33,93,51,47,64,153,82,105,169,49,49,83,32,69,36,10000000]
["O175",73,161,132,67,15,161,38,27,64,84,104,52,134,117,49,25,122,69,75,10000000]
["O176",73,30,177,39,33,93,99,27,80,84,82,12,148,117,49,74,122,69,146,10000000]
["O177",149,104,132,152,46,93,147,95,80,153,82,34,159,117,145,118,122,69,123,10000000]
["O178",106,30,132,86,19,161,114,60,122,120,170,74,148,175,49,134,122,69,123,10000000]
["O179",106,173,132,152,85,161,114,124,96,120,170,74,134,117,114,156,32,41,171,10000000]
["O180",106,161,132,170,137,161,130,168,152,120,130,128,159,117,49,148,122,69,161,10000000]
["O181",73,104,177,67,46,161,38,60,143,33,104,34,97,76,49,148,76,69,62,10000000]
["O182",149,71,177,140,25,54,51,47,28,181,130,74,169,117,145,55,76,69,96,10000000]
["O183",106,30,177,67,25,54,99,95,43,59,159,52,148,117,49,83,76,69,75,10000000]
["O184",106,30,87,26,12,161,99,1,17,120,31,52,63,117,49,83,76,69,62,10000000]
["O185",149,30,132,39,15,93,51,27,17,84,40,74,82,49,49,74,76,69,75,10000000]
["O186",149,71,177,86,14,93,25,81,28,120,104,34,134,49,145,45,76,69,146,10000000]
["O187",106,30,177,17,8,93,71,27,28,84,40,12,97,117,145,83,76,69,96,10000000]
["O188",106,30,87,67,7,93,71,60,11,33,68,21,134,117,114,74,122,140,36,10000000]
["O189",149,104,132,96,25,93,114,47,43,153,159,21,109,117,114,55,122,161,123,10000000]
["O190",106,141,132,26,19,93,51,27,64,84,68,52,134,117,114,118,32,140,36,10000000]
["O191",149,104,132,140,78,161,99,141,43,153,130,128,148,117,114,118,76,140,52,10000000]
["O192",188,161,177,164,130,93,162,150,152,120,197,128,134,117,114,148,76,140,161,10000000]
["O193",149,104,132,48,30,93,71,60,43,59,130,34,53,49,114,55,122,161,161,10000000]
["O194",149,30,87,67,15,93,99,95,43,59,82,52,63,117,145,33,122,161,36,10000000]
["O195",149,141,132,128,46,93,114,141,43,84,104,105,134,76,114,134,76,140,123,10000000]
["O196",149,104,132,48,9,93,51,60,28,42,82,34,53,49,145,25,122,140,28,10000000]
["O197",149,6,177,9,1,161,12,4,2,22,23,21,63,117,49,14,122,140,96,10000000]
["O198",149,49,132,15,3,93,18,5,4,42,31,7,53,76,114,14,32,69,75,10000000]
["O199",149,4,177,48,2,93,18,38,1,12,40,7,97,76,114,10,122,69,36,10000000]
["O200",149,49,132,26,4,161,25,38,2,33,53,18,53,117,49,33,76,69,36,10000000]
["O201",149,71,132,39,5,93,18,38,17,84,82,21,82,76,114,74,122,161,52,10000000]
["O202",149,12,87,96,9,93,38,47,5,42,130,12,82,117,145,55,32,69,52,10000000]
["O203",149,49,132,96,85,93,130,38,28,59,68,105,119,76,49,118,76,140,62,10000000]
["O204",193,12,195,86,41,15,51,27,122,120,104,3,182,178,145,194,122,161,10,10000000]
[]
["L�pcs�k(1)","X(A1)","X(A2)","X(A3)","X(A4)","X(A5)","X(A6)","X(A7)","X(A8)","X(A9)","X(A10)","X(A11)","X(A12)","X(A13)","X(A14)","X(A15)","X(A16)","X(A17)","X(A18)","X(A19)"]
["S1","(924+859)/(2)=891.5","(987+203)/(2)=595","(1790+293)/(2)=1041.5","(553+410)/(2)=481.5","(9994568.1+9997428.1)/(2)=9995998.1","(622+203)/(2)=412.5","(375+578)/(2)=476.5","(1008+203)/(2)=605.5","(285+639)/(2)=462","(203+420)/(2)=311.5","(203+203)/(2)=203","(2347+640)/(2)=1493.45","(1945+762)/(2)=1353.45","(5122.9+812)/(2)=2967.45","(1375+203)/(2)=789","(203+203)/(2)=203","(1286+203)/(2)=744.5","(350+203)/(2)=276.5","(227+624)/(2)=425.5"]
["S2","(923+858)/(2)=890.5","(986+202)/(2)=594","(1789+292)/(2)=1040.5","(202+409)/(2)=305.5","(9994448.1+9997428.1)/(2)=9995938.1","(621+202)/(2)=411.5","(374+577)/(2)=475.5","(202+202)/(2)=202","(284+638)/(2)=461","(202+419)/(2)=310.5","(202+202)/(2)=202","(2346+202)/(2)=1274","(1944+761)/(2)=1352.45","(2410+689)/(2)=1549.45","(1374+202)/(2)=788","(202+202)/(2)=202","(1058+202)/(2)=630","(349+202)/(2)=275.5","(226+623)/(2)=424.5"]
["S3","(922+201)/(2)=561.5","(330+201)/(2)=265.5","(1788+291)/(2)=1039.5","(201+408)/(2)=304.5","(9994448.1+9997428.1)/(2)=9995938.1","(201+201)/(2)=201","(373+576)/(2)=474.5","(201+201)/(2)=201","(283+637)/(2)=460","(201+418)/(2)=309.5","(201+201)/(2)=201","(2345+201)/(2)=1273","(1943+760)/(2)=1351.45","(2409+688)/(2)=1548.45","(1373+201)/(2)=787","(201+201)/(2)=201","(201+201)/(2)=201","(348+201)/(2)=274.5","(225+622)/(2)=423.5"]
["S4","(200+200)/(2)=200","(250+200)/(2)=225","(647+200)/(2)=423.5","(200+407)/(2)=303.5","(9994448.1+9997428.1)/(2)=9995938.1","(200+200)/(2)=200","(372+575)/(2)=473.5","(200+200)/(2)=200","(200+636)/(2)=418","(200+417)/(2)=308.5","(200+200)/(2)=200","(932+200)/(2)=566","(1942+759)/(2)=1350.45","(2408+687)/(2)=1547.45","(1372+200)/(2)=786","(200+200)/(2)=200","(200+200)/(2)=200","(347+200)/(2)=273.5","(224+621)/(2)=422.5"]
["S5","(199+199)/(2)=199","(199+199)/(2)=199","(646+199)/(2)=422.5","(199+406)/(2)=302.5","(9994438.1+9997428.1)/(2)=9995933.1","(199+199)/(2)=199","(371+574)/(2)=472.5","(199+199)/(2)=199","(199+635)/(2)=417","(199+416)/(2)=307.5","(199+199)/(2)=199","(931+199)/(2)=565","(1941+758)/(2)=1349.45","(505+199)/(2)=352","(1371+199)/(2)=785","(199+199)/(2)=199","(199+199)/(2)=199","(346+199)/(2)=272.5","(223+620)/(2)=421.5"]
["S6","(198+198)/(2)=198","(198+198)/(2)=198","(645+198)/(2)=421.5","(198+405)/(2)=301.5","(9994438.1+9997428.1)/(2)=9995933.1","(198+198)/(2)=198","(370+573)/(2)=471.5","(198+198)/(2)=198","(198+634)/(2)=416","(198+415)/(2)=306.5","(198+198)/(2)=198","(930+198)/(2)=564","(1940+757)/(2)=1348.45","(504+198)/(2)=351","(1370+198)/(2)=784","(198+198)/(2)=198","(198+198)/(2)=198","(198+198)/(2)=198","(222+619)/(2)=420.5"]
["S7","(197+197)/(2)=197","(197+197)/(2)=197","(644+197)/(2)=420.5","(197+404)/(2)=300.5","(9994438.1+9997428.1)/(2)=9995933.1","(197+197)/(2)=197","(369+572)/(2)=470.5","(197+197)/(2)=197","(197+633)/(2)=415","(197+414)/(2)=305.5","(197+197)/(2)=197","(929+197)/(2)=563","(1939+756)/(2)=1347.45","(503+197)/(2)=350","(1369+197)/(2)=783","(197+197)/(2)=197","(197+197)/(2)=197","(197+197)/(2)=197","(221+618)/(2)=419.5"]
["S8","(196+196)/(2)=196","(196+196)/(2)=196","(643+196)/(2)=419.5","(196+403)/(2)=299.5","(9994438.1+9997428.1)/(2)=9995933.1","(196+196)/(2)=196","(368+571)/(2)=469.5","(196+196)/(2)=196","(196+632)/(2)=414","(196+413)/(2)=304.5","(196+196)/(2)=196","(928+196)/(2)=562","(1938+755)/(2)=1346.45","(248+196)/(2)=222","(1368+196)/(2)=782","(196+196)/(2)=196","(196+196)/(2)=196","(196+196)/(2)=196","(220+617)/(2)=418.5"]
["S9","(195+195)/(2)=195","(195+195)/(2)=195","(642+195)/(2)=418.5","(195+402)/(2)=298.5","(9994088.1+9997428.1)/(2)=9995758.1","(195+195)/(2)=195","(367+570)/(2)=468.5","(195+195)/(2)=195","(195+631)/(2)=413","(195+412)/(2)=303.5","(195+195)/(2)=195","(927+195)/(2)=561","(1937+754)/(2)=1345.45","(247+195)/(2)=221","(1367+195)/(2)=781","(195+195)/(2)=195","(195+195)/(2)=195","(195+195)/(2)=195","(219+616)/(2)=417.5"]
["S10","(194+194)/(2)=194","(194+194)/(2)=194","(641+194)/(2)=417.5","(194+401)/(2)=297.5","(9994088.1+9997428.1)/(2)=9995758.1","(194+194)/(2)=194","(366+569)/(2)=467.5","(194+194)/(2)=194","(194+630)/(2)=412","(194+411)/(2)=302.5","(194+194)/(2)=194","(926+194)/(2)=560","(1936+753)/(2)=1344.45","(194+194)/(2)=194","(1009+194)/(2)=601.5","(194+194)/(2)=194","(194+194)/(2)=194","(194+194)/(2)=194","(218+615)/(2)=416.5"]
["S11","(193+193)/(2)=193","(193+193)/(2)=193","(425+193)/(2)=309","(193+400)/(2)=296.5","(9994088.1+9997418.1)/(2)=9995753.1","(193+193)/(2)=193","(365+568)/(2)=466.5","(193+193)/(2)=193","(193+629)/(2)=411","(193+410)/(2)=301.5","(193+193)/(2)=193","(925+193)/(2)=559","(1935+752)/(2)=1343.45","(193+193)/(2)=193","(193+193)/(2)=193","(193+193)/(2)=193","(193+193)/(2)=193","(193+193)/(2)=193","(217+614)/(2)=415.5"]
["S12","(192+192)/(2)=192","(192+192)/(2)=192","(424+192)/(2)=308","(192+399)/(2)=295.5","(9994078.1+9997418.1)/(2)=9995748.1","(192+192)/(2)=192","(364+567)/(2)=465.5","(192+192)/(2)=192","(192+628)/(2)=410","(192+409)/(2)=300.5","(192+192)/(2)=192","(924+192)/(2)=558","(1934+751)/(2)=1342.45","(192+192)/(2)=192","(192+192)/(2)=192","(192+192)/(2)=192","(192+192)/(2)=192","(192+192)/(2)=192","(216+613)/(2)=414.5"]
["S13","(191+191)/(2)=191","(191+191)/(2)=191","(423+191)/(2)=307","(191+398)/(2)=294.5","(9994078.1+9997418.1)/(2)=9995748.1","(191+191)/(2)=191","(363+566)/(2)=464.5","(191+191)/(2)=191","(191+627)/(2)=409","(191+408)/(2)=299.5","(191+191)/(2)=191","(923+191)/(2)=557","(1933+750)/(2)=1341.45","(191+191)/(2)=191","(191+191)/(2)=191","(191+191)/(2)=191","(191+191)/(2)=191","(191+191)/(2)=191","(215+612)/(2)=413.5"]
["S14","(190+190)/(2)=190","(190+190)/(2)=190","(422+190)/(2)=306","(190+397)/(2)=293.5","(9994078.1+9997418.1)/(2)=9995748.1","(190+190)/(2)=190","(362+565)/(2)=463.5","(190+190)/(2)=190","(190+626)/(2)=408","(190+407)/(2)=298.5","(190+190)/(2)=190","(922+190)/(2)=556","(1932+749)/(2)=1340.45","(190+190)/(2)=190","(190+190)/(2)=190","(190+190)/(2)=190","(190+190)/(2)=190","(190+190)/(2)=190","(214+611)/(2)=412.5"]
["S15","(189+189)/(2)=189","(189+189)/(2)=189","(421+189)/(2)=305","(189+396)/(2)=292.5","(9993998.1+9997418.1)/(2)=9995708.1","(189+189)/(2)=189","(361+564)/(2)=462.5","(189+189)/(2)=189","(189+625)/(2)=407","(189+406)/(2)=297.5","(189+189)/(2)=189","(921+189)/(2)=555","(1931+748)/(2)=1339.45","(189+189)/(2)=189","(189+189)/(2)=189","(189+189)/(2)=189","(189+189)/(2)=189","(189+189)/(2)=189","(213+610)/(2)=411.5"]
["S16","(188+188)/(2)=188","(188+188)/(2)=188","(420+188)/(2)=304","(188+395)/(2)=291.5","(9993998.1+9997418.1)/(2)=9995708.1","(188+188)/(2)=188","(360+563)/(2)=461.5","(188+188)/(2)=188","(188+624)/(2)=406","(188+405)/(2)=296.5","(188+188)/(2)=188","(920+188)/(2)=554","(1930+747)/(2)=1338.45","(188+188)/(2)=188","(188+188)/(2)=188","(188+188)/(2)=188","(188+188)/(2)=188","(188+188)/(2)=188","(212+609)/(2)=410.5"]
["S17","(187+187)/(2)=187","(187+187)/(2)=187","(419+187)/(2)=303","(187+394)/(2)=290.5","(9993998.1+9997418.1)/(2)=9995708.1","(187+187)/(2)=187","(359+562)/(2)=460.5","(187+187)/(2)=187","(187+623)/(2)=405","(187+404)/(2)=295.5","(187+187)/(2)=187","(919+187)/(2)=553","(1929+746)/(2)=1337.45","(187+187)/(2)=187","(187+187)/(2)=187","(187+187)/(2)=187","(187+187)/(2)=187","(187+187)/(2)=187","(211+608)/(2)=409.5"]
["S18","(186+186)/(2)=186","(186+186)/(2)=186","(374+186)/(2)=280","(186+393)/(2)=289.5","(9993998.1+9997418.1)/(2)=9995708.1","(186+186)/(2)=186","(358+561)/(2)=459.5","(186+186)/(2)=186","(186+622)/(2)=404","(186+403)/(2)=294.5","(186+186)/(2)=186","(918+186)/(2)=552","(1928+745)/(2)=1336.45","(186+186)/(2)=186","(186+186)/(2)=186","(186+186)/(2)=186","(186+186)/(2)=186","(186+186)/(2)=186","(210+607)/(2)=408.5"]
["S19","(185+185)/(2)=185","(185+185)/(2)=185","(373+185)/(2)=279","(185+392)/(2)=288.5","(9993998.1+9997418.1)/(2)=9995708.1","(185+185)/(2)=185","(357+560)/(2)=458.5","(185+185)/(2)=185","(185+621)/(2)=403","(185+402)/(2)=293.5","(185+185)/(2)=185","(917+185)/(2)=551","(1927+744)/(2)=1335.45","(185+185)/(2)=185","(185+185)/(2)=185","(185+185)/(2)=185","(185+185)/(2)=185","(185+185)/(2)=185","(209+606)/(2)=407.5"]
["S20","(184+184)/(2)=184","(184+184)/(2)=184","(372+184)/(2)=278","(184+391)/(2)=287.5","(9993998.1+9997418.1)/(2)=9995708.1","(184+184)/(2)=184","(356+559)/(2)=457.5","(184+184)/(2)=184","(184+620)/(2)=402","(184+401)/(2)=292.5","(184+184)/(2)=184","(916+184)/(2)=550","(1926+743)/(2)=1334.45","(184+184)/(2)=184","(184+184)/(2)=184","(184+184)/(2)=184","(184+184)/(2)=184","(184+184)/(2)=184","(208+605)/(2)=406.5"]
["S21","(183+183)/(2)=183","(183+183)/(2)=183","(371+183)/(2)=277","(183+390)/(2)=286.5","(9993998.1+9997408.1)/(2)=9995703.1","(183+183)/(2)=183","(355+558)/(2)=456.5","(183+183)/(2)=183","(183+619)/(2)=401","(183+400)/(2)=291.5","(183+183)/(2)=183","(915+183)/(2)=549","(1925+742)/(2)=1333.45","(183+183)/(2)=183","(183+183)/(2)=183","(183+183)/(2)=183","(183+183)/(2)=183","(183+183)/(2)=183","(207+604)/(2)=405.5"]
["S22","(182+182)/(2)=182","(182+182)/(2)=182","(370+182)/(2)=276","(182+389)/(2)=285.5","(9993998.1+9997408.1)/(2)=9995703.1","(182+182)/(2)=182","(354+557)/(2)=455.5","(182+182)/(2)=182","(182+618)/(2)=400","(182+399)/(2)=290.5","(182+182)/(2)=182","(914+182)/(2)=548","(1924+741)/(2)=1332.45","(182+182)/(2)=182","(182+182)/(2)=182","(182+182)/(2)=182","(182+182)/(2)=182","(182+182)/(2)=182","(206+603)/(2)=404.5"]
["S23","(181+181)/(2)=181","(181+181)/(2)=181","(369+181)/(2)=275","(181+388)/(2)=284.5","(9993988.1+9997408.1)/(2)=9995698.1","(181+181)/(2)=181","(353+556)/(2)=454.5","(181+181)/(2)=181","(181+617)/(2)=399","(181+398)/(2)=289.5","(181+181)/(2)=181","(913+181)/(2)=547","(1923+740)/(2)=1331.45","(181+181)/(2)=181","(181+181)/(2)=181","(181+181)/(2)=181","(181+181)/(2)=181","(181+181)/(2)=181","(205+602)/(2)=403.5"]
["S24","(180+180)/(2)=180","(180+180)/(2)=180","(368+180)/(2)=274","(180+387)/(2)=283.5","(9993988.1+9997408.1)/(2)=9995698.1","(180+180)/(2)=180","(352+555)/(2)=453.5","(180+180)/(2)=180","(180+616)/(2)=398","(180+397)/(2)=288.5","(180+180)/(2)=180","(912+180)/(2)=546","(1922+739)/(2)=1330.45","(180+180)/(2)=180","(180+180)/(2)=180","(180+180)/(2)=180","(180+180)/(2)=180","(180+180)/(2)=180","(204+601)/(2)=402.5"]
["S25","(179+179)/(2)=179","(179+179)/(2)=179","(367+179)/(2)=273","(179+386)/(2)=282.5","(9993988.1+9997408.1)/(2)=9995698.1","(179+179)/(2)=179","(351+554)/(2)=452.5","(179+179)/(2)=179","(179+615)/(2)=397","(179+396)/(2)=287.5","(179+179)/(2)=179","(911+179)/(2)=545","(1921+738)/(2)=1329.45","(179+179)/(2)=179","(179+179)/(2)=179","(179+179)/(2)=179","(179+179)/(2)=179","(179+179)/(2)=179","(203+600)/(2)=401.5"]
["S26","(178+178)/(2)=178","(178+178)/(2)=178","(366+178)/(2)=272","(178+385)/(2)=281.5","(9993988.1+9997408.1)/(2)=9995698.1","(178+178)/(2)=178","(350+553)/(2)=451.5","(178+178)/(2)=178","(178+614)/(2)=396","(178+395)/(2)=286.5","(178+178)/(2)=178","(910+178)/(2)=544","(1920+737)/(2)=1328.45","(178+178)/(2)=178","(178+178)/(2)=178","(178+178)/(2)=178","(178+178)/(2)=178","(178+178)/(2)=178","(202+599)/(2)=400.5"]
["S27","(177+177)/(2)=177","(177+177)/(2)=177","(365+177)/(2)=271","(177+384)/(2)=280.5","(9993988.1+9997408.1)/(2)=9995698.1","(177+177)/(2)=177","(349+552)/(2)=450.5","(177+177)/(2)=177","(177+613)/(2)=395","(177+394)/(2)=285.5","(177+177)/(2)=177","(909+177)/(2)=543","(1919+736)/(2)=1327.45","(177+177)/(2)=177","(177+177)/(2)=177","(177+177)/(2)=177","(177+177)/(2)=177","(177+177)/(2)=177","(201+598)/(2)=399.5"]
["S28","(176+176)/(2)=176","(176+176)/(2)=176","(176+176)/(2)=176","(176+383)/(2)=279.5","(9993988.1+9997408.1)/(2)=9995698.1","(176+176)/(2)=176","(348+551)/(2)=449.5","(176+176)/(2)=176","(176+612)/(2)=394","(176+393)/(2)=284.5","(176+176)/(2)=176","(908+176)/(2)=542","(1918+735)/(2)=1326.45","(176+176)/(2)=176","(176+176)/(2)=176","(176+176)/(2)=176","(176+176)/(2)=176","(176+176)/(2)=176","(200+597)/(2)=398.5"]
["S29","(175+175)/(2)=175","(175+175)/(2)=175","(175+175)/(2)=175","(175+382)/(2)=278.5","(9993988.1+9997408.1)/(2)=9995698.1","(175+175)/(2)=175","(347+550)/(2)=448.5","(175+175)/(2)=175","(175+611)/(2)=393","(175+392)/(2)=283.5","(175+175)/(2)=175","(907+175)/(2)=541","(1917+734)/(2)=1325.45","(175+175)/(2)=175","(175+175)/(2)=175","(175+175)/(2)=175","(175+175)/(2)=175","(175+175)/(2)=175","(199+596)/(2)=397.5"]
["S30","(174+174)/(2)=174","(174+174)/(2)=174","(174+174)/(2)=174","(174+381)/(2)=277.5","(9993988.1+9997408.1)/(2)=9995698.1","(174+174)/(2)=174","(346+549)/(2)=447.5","(174+174)/(2)=174","(174+610)/(2)=392","(174+391)/(2)=282.5","(174+174)/(2)=174","(906+174)/(2)=540","(1916+733)/(2)=1324.45","(174+174)/(2)=174","(174+174)/(2)=174","(174+174)/(2)=174","(174+174)/(2)=174","(174+174)/(2)=174","(198+595)/(2)=396.5"]
["S31","(173+173)/(2)=173","(173+173)/(2)=173","(173+173)/(2)=173","(173+380)/(2)=276.5","(9993988.1+9997398.1)/(2)=9995693.1","(173+173)/(2)=173","(345+548)/(2)=446.5","(173+173)/(2)=173","(173+609)/(2)=391","(173+390)/(2)=281.5","(173+173)/(2)=173","(905+173)/(2)=539","(1915+732)/(2)=1323.45","(173+173)/(2)=173","(173+173)/(2)=173","(173+173)/(2)=173","(173+173)/(2)=173","(173+173)/(2)=173","(197+594)/(2)=395.5"]
["S32","(172+172)/(2)=172","(172+172)/(2)=172","(172+172)/(2)=172","(172+379)/(2)=275.5","(9993988.1+9997398.1)/(2)=9995693.1","(172+172)/(2)=172","(344+547)/(2)=445.5","(172+172)/(2)=172","(172+608)/(2)=390","(172+389)/(2)=280.5","(172+172)/(2)=172","(904+172)/(2)=538","(1914+731)/(2)=1322.45","(172+172)/(2)=172","(172+172)/(2)=172","(172+172)/(2)=172","(172+172)/(2)=172","(172+172)/(2)=172","(196+593)/(2)=394.5"]
["S33","(171+171)/(2)=171","(171+171)/(2)=171","(171+171)/(2)=171","(171+378)/(2)=274.5","(9993978.1+9997398.1)/(2)=9995688.1","(171+171)/(2)=171","(343+546)/(2)=444.5","(171+171)/(2)=171","(171+607)/(2)=389","(171+388)/(2)=279.5","(171+171)/(2)=171","(903+171)/(2)=537","(1913+730)/(2)=1321.45","(171+171)/(2)=171","(171+171)/(2)=171","(171+171)/(2)=171","(171+171)/(2)=171","(171+171)/(2)=171","(195+592)/(2)=393.5"]
["S34","(170+170)/(2)=170","(170+170)/(2)=170","(170+170)/(2)=170","(170+377)/(2)=273.5","(9993978.1+9997398.1)/(2)=9995688.1","(170+170)/(2)=170","(342+545)/(2)=443.5","(170+170)/(2)=170","(170+606)/(2)=388","(170+387)/(2)=278.5","(170+170)/(2)=170","(902+170)/(2)=536","(1912+729)/(2)=1320.45","(170+170)/(2)=170","(170+170)/(2)=170","(170+170)/(2)=170","(170+170)/(2)=170","(170+170)/(2)=170","(194+591)/(2)=392.5"]
["S35","(169+169)/(2)=169","(169+169)/(2)=169","(169+169)/(2)=169","(169+376)/(2)=272.5","(9993978.1+9997398.1)/(2)=9995688.1","(169+169)/(2)=169","(341+544)/(2)=442.5","(169+169)/(2)=169","(169+605)/(2)=387","(169+386)/(2)=277.5","(169+169)/(2)=169","(901+169)/(2)=535","(1911+728)/(2)=1319.45","(169+169)/(2)=169","(169+169)/(2)=169","(169+169)/(2)=169","(169+169)/(2)=169","(169+169)/(2)=169","(193+590)/(2)=391.5"]
["S36","(168+168)/(2)=168","(168+168)/(2)=168","(168+168)/(2)=168","(168+375)/(2)=271.5","(9993978.1+9997398.1)/(2)=9995688.1","(168+168)/(2)=168","(340+543)/(2)=441.5","(168+168)/(2)=168","(168+604)/(2)=386","(168+385)/(2)=276.5","(168+168)/(2)=168","(900+168)/(2)=534","(1910+727)/(2)=1318.45","(168+168)/(2)=168","(168+168)/(2)=168","(168+168)/(2)=168","(168+168)/(2)=168","(168+168)/(2)=168","(192+589)/(2)=390.5"]
["S37","(167+167)/(2)=167","(167+167)/(2)=167","(167+167)/(2)=167","(167+374)/(2)=270.5","(9993978.1+9997398.1)/(2)=9995688.1","(167+167)/(2)=167","(339+542)/(2)=440.5","(167+167)/(2)=167","(167+603)/(2)=385","(167+384)/(2)=275.5","(167+167)/(2)=167","(899+167)/(2)=533","(1909+726)/(2)=1317.45","(167+167)/(2)=167","(167+167)/(2)=167","(167+167)/(2)=167","(167+167)/(2)=167","(167+167)/(2)=167","(191+588)/(2)=389.5"]
["S38","(166+166)/(2)=166","(166+166)/(2)=166","(166+166)/(2)=166","(166+373)/(2)=269.5","(9993978.1+9997398.1)/(2)=9995688.1","(166+166)/(2)=166","(338+541)/(2)=439.5","(166+166)/(2)=166","(166+602)/(2)=384","(166+383)/(2)=274.5","(166+166)/(2)=166","(898+166)/(2)=532","(1908+725)/(2)=1316.45","(166+166)/(2)=166","(166+166)/(2)=166","(166+166)/(2)=166","(166+166)/(2)=166","(166+166)/(2)=166","(190+587)/(2)=388.5"]
["S39","(165+165)/(2)=165","(165+165)/(2)=165","(165+165)/(2)=165","(165+372)/(2)=268.5","(9993978.1+9997398.1)/(2)=9995688.1","(165+165)/(2)=165","(337+540)/(2)=438.5","(165+165)/(2)=165","(165+601)/(2)=383","(165+382)/(2)=273.5","(165+165)/(2)=165","(897+165)/(2)=531","(1907+724)/(2)=1315.45","(165+165)/(2)=165","(165+165)/(2)=165","(165+165)/(2)=165","(165+165)/(2)=165","(165+165)/(2)=165","(189+586)/(2)=387.5"]
["S40","(164+164)/(2)=164","(164+164)/(2)=164","(164+164)/(2)=164","(164+371)/(2)=267.5","(9993978.1+9997398.1)/(2)=9995688.1","(164+164)/(2)=164","(336+539)/(2)=437.5","(164+164)/(2)=164","(164+600)/(2)=382","(164+381)/(2)=272.5","(164+164)/(2)=164","(896+164)/(2)=530","(1906+723)/(2)=1314.45","(164+164)/(2)=164","(164+164)/(2)=164","(164+164)/(2)=164","(164+164)/(2)=164","(164+164)/(2)=164","(188+585)/(2)=386.5"]
["S41","(163+163)/(2)=163","(163+163)/(2)=163","(163+163)/(2)=163","(163+370)/(2)=266.5","(9993978.1+9997388.1)/(2)=9995683.1","(163+163)/(2)=163","(335+538)/(2)=436.5","(163+163)/(2)=163","(163+599)/(2)=381","(163+380)/(2)=271.5","(163+163)/(2)=163","(895+163)/(2)=529","(1905+722)/(2)=1313.45","(163+163)/(2)=163","(163+163)/(2)=163","(163+163)/(2)=163","(163+163)/(2)=163","(163+163)/(2)=163","(187+584)/(2)=385.5"]
["S42","(162+162)/(2)=162","(162+162)/(2)=162","(162+162)/(2)=162","(162+369)/(2)=265.5","(9993978.1+9997388.1)/(2)=9995683.1","(162+162)/(2)=162","(334+537)/(2)=435.5","(162+162)/(2)=162","(162+598)/(2)=380","(162+379)/(2)=270.5","(162+162)/(2)=162","(894+162)/(2)=528","(1904+721)/(2)=1312.45","(162+162)/(2)=162","(162+162)/(2)=162","(162+162)/(2)=162","(162+162)/(2)=162","(162+162)/(2)=162","(186+583)/(2)=384.5"]
["S43","(161+161)/(2)=161","(161+161)/(2)=161","(161+161)/(2)=161","(161+161)/(2)=161","(9993968.1+9997388.1)/(2)=9995678.1","(161+161)/(2)=161","(333+536)/(2)=434.5","(161+161)/(2)=161","(161+597)/(2)=379","(161+378)/(2)=269.5","(161+161)/(2)=161","(893+161)/(2)=527","(1903+720)/(2)=1311.45","(161+161)/(2)=161","(161+161)/(2)=161","(161+161)/(2)=161","(161+161)/(2)=161","(161+161)/(2)=161","(185+582)/(2)=383.5"]
["S44","(160+160)/(2)=160","(160+160)/(2)=160","(160+160)/(2)=160","(160+160)/(2)=160","(9993968.1+9997388.1)/(2)=9995678.1","(160+160)/(2)=160","(332+535)/(2)=433.5","(160+160)/(2)=160","(160+596)/(2)=378","(160+377)/(2)=268.5","(160+160)/(2)=160","(892+160)/(2)=526","(1902+719)/(2)=1310.45","(160+160)/(2)=160","(160+160)/(2)=160","(160+160)/(2)=160","(160+160)/(2)=160","(160+160)/(2)=160","(184+581)/(2)=382.5"]
["S45","(159+159)/(2)=159","(159+159)/(2)=159","(159+159)/(2)=159","(159+159)/(2)=159","(9993968.1+9997388.1)/(2)=9995678.1","(159+159)/(2)=159","(331+534)/(2)=432.5","(159+159)/(2)=159","(159+595)/(2)=377","(159+376)/(2)=267.5","(159+159)/(2)=159","(891+159)/(2)=525","(1901+718)/(2)=1309.45","(159+159)/(2)=159","(159+159)/(2)=159","(159+159)/(2)=159","(159+159)/(2)=159","(159+159)/(2)=159","(183+580)/(2)=381.5"]
["S46","(158+158)/(2)=158","(158+158)/(2)=158","(158+158)/(2)=158","(158+158)/(2)=158","(9993968.1+9997388.1)/(2)=9995678.1","(158+158)/(2)=158","(330+533)/(2)=431.5","(158+158)/(2)=158","(158+594)/(2)=376","(158+375)/(2)=266.5","(158+158)/(2)=158","(890+158)/(2)=524","(1900+717)/(2)=1308.45","(158+158)/(2)=158","(158+158)/(2)=158","(158+158)/(2)=158","(158+158)/(2)=158","(158+158)/(2)=158","(182+579)/(2)=380.5"]
["S47","(157+157)/(2)=157","(157+157)/(2)=157","(157+157)/(2)=157","(157+157)/(2)=157","(9993968.1+9997388.1)/(2)=9995678.1","(157+157)/(2)=157","(329+532)/(2)=430.5","(157+157)/(2)=157","(157+593)/(2)=375","(157+374)/(2)=265.5","(157+157)/(2)=157","(889+157)/(2)=523","(1899+716)/(2)=1307.45","(157+157)/(2)=157","(157+157)/(2)=157","(157+157)/(2)=157","(157+157)/(2)=157","(157+157)/(2)=157","(181+578)/(2)=379.5"]
["S48","(156+156)/(2)=156","(156+156)/(2)=156","(156+156)/(2)=156","(156+156)/(2)=156","(9993968.1+9997388.1)/(2)=9995678.1","(156+156)/(2)=156","(328+531)/(2)=429.5","(156+156)/(2)=156","(156+592)/(2)=374","(156+373)/(2)=264.5","(156+156)/(2)=156","(888+156)/(2)=522","(1898+715)/(2)=1306.45","(156+156)/(2)=156","(156+156)/(2)=156","(156+156)/(2)=156","(156+156)/(2)=156","(156+156)/(2)=156","(180+577)/(2)=378.5"]
["S49","(155+155)/(2)=155","(155+155)/(2)=155","(155+155)/(2)=155","(155+155)/(2)=155","(9993968.1+9997388.1)/(2)=9995678.1","(155+155)/(2)=155","(327+530)/(2)=428.5","(155+155)/(2)=155","(155+591)/(2)=373","(155+372)/(2)=263.5","(155+155)/(2)=155","(887+155)/(2)=521","(1897+714)/(2)=1305.45","(155+155)/(2)=155","(155+155)/(2)=155","(155+155)/(2)=155","(155+155)/(2)=155","(155+155)/(2)=155","(179+576)/(2)=377.5"]
["S50","(154+154)/(2)=154","(154+154)/(2)=154","(154+154)/(2)=154","(154+154)/(2)=154","(9993968.1+9997388.1)/(2)=9995678.1","(154+154)/(2)=154","(326+529)/(2)=427.5","(154+154)/(2)=154","(154+590)/(2)=372","(154+371)/(2)=262.5","(154+154)/(2)=154","(886+154)/(2)=520","(1896+713)/(2)=1304.45","(154+154)/(2)=154","(154+154)/(2)=154","(154+154)/(2)=154","(154+154)/(2)=154","(154+154)/(2)=154","(178+575)/(2)=376.5"]
["S51","(153+153)/(2)=153","(153+153)/(2)=153","(153+153)/(2)=153","(153+153)/(2)=153","(9993968.1+9997378.1)/(2)=9995673.1","(153+153)/(2)=153","(325+528)/(2)=426.5","(153+153)/(2)=153","(153+589)/(2)=371","(153+370)/(2)=261.5","(153+153)/(2)=153","(885+153)/(2)=519","(1895+712)/(2)=1303.45","(153+153)/(2)=153","(153+153)/(2)=153","(153+153)/(2)=153","(153+153)/(2)=153","(153+153)/(2)=153","(177+574)/(2)=375.5"]
["S52","(152+152)/(2)=152","(152+152)/(2)=152","(152+152)/(2)=152","(152+152)/(2)=152","(9993968.1+9997378.1)/(2)=9995673.1","(152+152)/(2)=152","(324+527)/(2)=425.5","(152+152)/(2)=152","(152+588)/(2)=370","(152+369)/(2)=260.5","(152+152)/(2)=152","(884+152)/(2)=518","(1894+711)/(2)=1302.45","(152+152)/(2)=152","(152+152)/(2)=152","(152+152)/(2)=152","(152+152)/(2)=152","(152+152)/(2)=152","(176+573)/(2)=374.5"]
["S53","(151+151)/(2)=151","(151+151)/(2)=151","(151+151)/(2)=151","(151+151)/(2)=151","(9993958.1+9997378.1)/(2)=9995668.1","(151+151)/(2)=151","(323+526)/(2)=424.5","(151+151)/(2)=151","(151+587)/(2)=369","(151+368)/(2)=259.5","(151+151)/(2)=151","(883+151)/(2)=517","(1893+710)/(2)=1301.5","(151+151)/(2)=151","(151+151)/(2)=151","(151+151)/(2)=151","(151+151)/(2)=151","(151+151)/(2)=151","(175+572)/(2)=373.5"]
["S54","(150+150)/(2)=150","(150+150)/(2)=150","(150+150)/(2)=150","(150+150)/(2)=150","(9993958.1+9997378.1)/(2)=9995668.1","(150+150)/(2)=150","(322+525)/(2)=423.5","(150+150)/(2)=150","(150+586)/(2)=368","(150+367)/(2)=258.5","(150+150)/(2)=150","(882+150)/(2)=516","(1892+709)/(2)=1300.5","(150+150)/(2)=150","(150+150)/(2)=150","(150+150)/(2)=150","(150+150)/(2)=150","(150+150)/(2)=150","(174+571)/(2)=372.5"]
["S55","(149+149)/(2)=149","(149+149)/(2)=149","(149+149)/(2)=149","(149+149)/(2)=149","(9993958.1+9997378.1)/(2)=9995668.1","(149+149)/(2)=149","(321+524)/(2)=422.5","(149+149)/(2)=149","(149+585)/(2)=367","(149+366)/(2)=257.5","(149+149)/(2)=149","(881+149)/(2)=515","(1891+708)/(2)=1299.5","(149+149)/(2)=149","(149+149)/(2)=149","(149+149)/(2)=149","(149+149)/(2)=149","(149+149)/(2)=149","(173+570)/(2)=371.5"]
["S56","(148+148)/(2)=148","(148+148)/(2)=148","(148+148)/(2)=148","(148+148)/(2)=148","(9993958.1+9997378.1)/(2)=9995668.1","(148+148)/(2)=148","(148+523)/(2)=335.5","(148+148)/(2)=148","(148+584)/(2)=366","(148+365)/(2)=256.5","(148+148)/(2)=148","(880+148)/(2)=514","(1890+707)/(2)=1298.5","(148+148)/(2)=148","(148+148)/(2)=148","(148+148)/(2)=148","(148+148)/(2)=148","(148+148)/(2)=148","(172+569)/(2)=370.5"]
["S57","(147+147)/(2)=147","(147+147)/(2)=147","(147+147)/(2)=147","(147+147)/(2)=147","(9993958.1+9997378.1)/(2)=9995668.1","(147+147)/(2)=147","(147+522)/(2)=334.5","(147+147)/(2)=147","(147+583)/(2)=365","(147+364)/(2)=255.5","(147+147)/(2)=147","(879+147)/(2)=513","(1889+706)/(2)=1297.5","(147+147)/(2)=147","(147+147)/(2)=147","(147+147)/(2)=147","(147+147)/(2)=147","(147+147)/(2)=147","(171+568)/(2)=369.5"]
["S58","(146+146)/(2)=146","(146+146)/(2)=146","(146+146)/(2)=146","(146+146)/(2)=146","(9993958.1+9997378.1)/(2)=9995668.1","(146+146)/(2)=146","(146+521)/(2)=333.5","(146+146)/(2)=146","(146+582)/(2)=364","(146+363)/(2)=254.5","(146+146)/(2)=146","(878+146)/(2)=512","(1888+705)/(2)=1296.5","(146+146)/(2)=146","(146+146)/(2)=146","(146+146)/(2)=146","(146+146)/(2)=146","(146+146)/(2)=146","(170+567)/(2)=368.5"]
["S59","(145+145)/(2)=145","(145+145)/(2)=145","(145+145)/(2)=145","(145+145)/(2)=145","(9993958.1+9997378.1)/(2)=9995668.1","(145+145)/(2)=145","(145+520)/(2)=332.5","(145+145)/(2)=145","(145+581)/(2)=363","(145+362)/(2)=253.5","(145+145)/(2)=145","(877+145)/(2)=511","(1887+704)/(2)=1295.5","(145+145)/(2)=145","(145+145)/(2)=145","(145+145)/(2)=145","(145+145)/(2)=145","(145+145)/(2)=145","(169+566)/(2)=367.5"]
["S60","(144+144)/(2)=144","(144+144)/(2)=144","(144+144)/(2)=144","(144+144)/(2)=144","(9993958.1+9997378.1)/(2)=9995668.1","(144+144)/(2)=144","(144+519)/(2)=331.5","(144+144)/(2)=144","(144+580)/(2)=362","(144+361)/(2)=252.5","(144+144)/(2)=144","(876+144)/(2)=510","(1886+703)/(2)=1294.5","(144+144)/(2)=144","(144+144)/(2)=144","(144+144)/(2)=144","(144+144)/(2)=144","(144+144)/(2)=144","(168+565)/(2)=366.5"]
["S61","(143+143)/(2)=143","(143+143)/(2)=143","(143+143)/(2)=143","(143+143)/(2)=143","(9993958.1+9997368.1)/(2)=9995663.1","(143+143)/(2)=143","(143+518)/(2)=330.5","(143+143)/(2)=143","(143+579)/(2)=361","(143+360)/(2)=251.5","(143+143)/(2)=143","(875+143)/(2)=509","(1885+702)/(2)=1293.5","(143+143)/(2)=143","(143+143)/(2)=143","(143+143)/(2)=143","(143+143)/(2)=143","(143+143)/(2)=143","(167+564)/(2)=365.5"]
["S62","(142+142)/(2)=142","(142+142)/(2)=142","(142+142)/(2)=142","(142+142)/(2)=142","(9993958.1+9997368.1)/(2)=9995663.1","(142+142)/(2)=142","(142+517)/(2)=329.5","(142+142)/(2)=142","(142+578)/(2)=360","(142+359)/(2)=250.5","(142+142)/(2)=142","(874+142)/(2)=508","(1884+701)/(2)=1292.5","(142+142)/(2)=142","(142+142)/(2)=142","(142+142)/(2)=142","(142+142)/(2)=142","(142+142)/(2)=142","(166+563)/(2)=364.5"]
["S63","(141+141)/(2)=141","(141+141)/(2)=141","(141+141)/(2)=141","(141+141)/(2)=141","(9993948.1+9997368.1)/(2)=9995658.1","(141+141)/(2)=141","(141+516)/(2)=328.5","(141+141)/(2)=141","(141+577)/(2)=359","(141+358)/(2)=249.5","(141+141)/(2)=141","(873+141)/(2)=507","(1883+700)/(2)=1291.5","(141+141)/(2)=141","(141+141)/(2)=141","(141+141)/(2)=141","(141+141)/(2)=141","(141+141)/(2)=141","(165+562)/(2)=363.5"]
["S64","(140+140)/(2)=140","(140+140)/(2)=140","(140+140)/(2)=140","(140+140)/(2)=140","(9993948.1+9997368.1)/(2)=9995658.1","(140+140)/(2)=140","(140+515)/(2)=327.5","(140+140)/(2)=140","(140+576)/(2)=358","(140+140)/(2)=140","(140+140)/(2)=140","(872+140)/(2)=506","(1882+699)/(2)=1290.5","(140+140)/(2)=140","(140+140)/(2)=140","(140+140)/(2)=140","(140+140)/(2)=140","(140+140)/(2)=140","(164+561)/(2)=362.5"]
["S65","(139+139)/(2)=139","(139+139)/(2)=139","(139+139)/(2)=139","(139+139)/(2)=139","(9993948.1+9997368.1)/(2)=9995658.1","(139+139)/(2)=139","(139+514)/(2)=326.5","(139+139)/(2)=139","(139+575)/(2)=357","(139+139)/(2)=139","(139+139)/(2)=139","(871+139)/(2)=505","(1881+698)/(2)=1289.5","(139+139)/(2)=139","(139+139)/(2)=139","(139+139)/(2)=139","(139+139)/(2)=139","(139+139)/(2)=139","(163+560)/(2)=361.5"]
["S66","(138+138)/(2)=138","(138+138)/(2)=138","(138+138)/(2)=138","(138+138)/(2)=138","(9993948.1+9997368.1)/(2)=9995658.1","(138+138)/(2)=138","(138+513)/(2)=325.5","(138+138)/(2)=138","(138+574)/(2)=356","(138+138)/(2)=138","(138+138)/(2)=138","(870+138)/(2)=504","(1880+697)/(2)=1288.5","(138+138)/(2)=138","(138+138)/(2)=138","(138+138)/(2)=138","(138+138)/(2)=138","(138+138)/(2)=138","(162+559)/(2)=360.5"]
["S67","(137+137)/(2)=137","(137+137)/(2)=137","(137+137)/(2)=137","(137+137)/(2)=137","(9993948.1+9997368.1)/(2)=9995658.1","(137+137)/(2)=137","(137+512)/(2)=324.5","(137+137)/(2)=137","(137+573)/(2)=355","(137+137)/(2)=137","(137+137)/(2)=137","(869+137)/(2)=503","(1879+696)/(2)=1287.5","(137+137)/(2)=137","(137+137)/(2)=137","(137+137)/(2)=137","(137+137)/(2)=137","(137+137)/(2)=137","(161+558)/(2)=359.5"]
["S68","(136+136)/(2)=136","(136+136)/(2)=136","(136+136)/(2)=136","(136+136)/(2)=136","(9993948.1+9997368.1)/(2)=9995658.1","(136+136)/(2)=136","(136+511)/(2)=323.5","(136+136)/(2)=136","(136+572)/(2)=354","(136+136)/(2)=136","(136+136)/(2)=136","(868+136)/(2)=502","(1878+695)/(2)=1286.5","(136+136)/(2)=136","(136+136)/(2)=136","(136+136)/(2)=136","(136+136)/(2)=136","(136+136)/(2)=136","(160+557)/(2)=358.5"]
["S69","(135+135)/(2)=135","(135+135)/(2)=135","(135+135)/(2)=135","(135+135)/(2)=135","(9993948.1+9997368.1)/(2)=9995658.1","(135+135)/(2)=135","(135+510)/(2)=322.5","(135+135)/(2)=135","(135+571)/(2)=353","(135+135)/(2)=135","(135+135)/(2)=135","(867+135)/(2)=501","(1877+694)/(2)=1285.5","(135+135)/(2)=135","(135+135)/(2)=135","(135+135)/(2)=135","(135+135)/(2)=135","(135+135)/(2)=135","(159+556)/(2)=357.5"]
["S70","(134+134)/(2)=134","(134+134)/(2)=134","(134+134)/(2)=134","(134+134)/(2)=134","(9993948.1+9997368.1)/(2)=9995658.1","(134+134)/(2)=134","(134+509)/(2)=321.5","(134+134)/(2)=134","(134+570)/(2)=352","(134+134)/(2)=134","(134+134)/(2)=134","(866+134)/(2)=500","(1876+693)/(2)=1284.5","(134+134)/(2)=134","(134+134)/(2)=134","(134+134)/(2)=134","(134+134)/(2)=134","(134+134)/(2)=134","(158+555)/(2)=356.5"]
["S71","(133+133)/(2)=133","(133+133)/(2)=133","(133+133)/(2)=133","(133+133)/(2)=133","(9993948.1+9997358.1)/(2)=9995653.1","(133+133)/(2)=133","(133+508)/(2)=320.5","(133+133)/(2)=133","(133+569)/(2)=351","(133+133)/(2)=133","(133+133)/(2)=133","(865+133)/(2)=499","(1875+692)/(2)=1283.5","(133+133)/(2)=133","(133+133)/(2)=133","(133+133)/(2)=133","(133+133)/(2)=133","(133+133)/(2)=133","(157+554)/(2)=355.5"]
["S72","(132+132)/(2)=132","(132+132)/(2)=132","(132+132)/(2)=132","(132+132)/(2)=132","(9993948.1+9997358.1)/(2)=9995653.1","(132+132)/(2)=132","(132+507)/(2)=319.5","(132+132)/(2)=132","(132+568)/(2)=350","(132+132)/(2)=132","(132+132)/(2)=132","(864+132)/(2)=498","(1874+691)/(2)=1282.5","(132+132)/(2)=132","(132+132)/(2)=132","(132+132)/(2)=132","(132+132)/(2)=132","(132+132)/(2)=132","(156+553)/(2)=354.5"]
["S73","(131+131)/(2)=131","(131+131)/(2)=131","(131+131)/(2)=131","(131+131)/(2)=131","(9993938.1+9997358.1)/(2)=9995648.1","(131+131)/(2)=131","(131+506)/(2)=318.5","(131+131)/(2)=131","(131+567)/(2)=349","(131+131)/(2)=131","(131+131)/(2)=131","(863+131)/(2)=497","(1873+690)/(2)=1281.5","(131+131)/(2)=131","(131+131)/(2)=131","(131+131)/(2)=131","(131+131)/(2)=131","(131+131)/(2)=131","(155+552)/(2)=353.5"]
["S74","(130+130)/(2)=130","(130+130)/(2)=130","(130+130)/(2)=130","(130+130)/(2)=130","(9993938.1+9997358.1)/(2)=9995648.1","(130+130)/(2)=130","(130+505)/(2)=317.5","(130+130)/(2)=130","(130+566)/(2)=348","(130+130)/(2)=130","(130+130)/(2)=130","(862+130)/(2)=496","(1872+689)/(2)=1280.5","(130+130)/(2)=130","(130+130)/(2)=130","(130+130)/(2)=130","(130+130)/(2)=130","(130+130)/(2)=130","(154+551)/(2)=352.5"]
["S75","(129+129)/(2)=129","(129+129)/(2)=129","(129+129)/(2)=129","(129+129)/(2)=129","(9993938.1+9997358.1)/(2)=9995648.1","(129+129)/(2)=129","(129+504)/(2)=316.5","(129+129)/(2)=129","(129+565)/(2)=347","(129+129)/(2)=129","(129+129)/(2)=129","(861+129)/(2)=495","(1871+688)/(2)=1279.5","(129+129)/(2)=129","(129+129)/(2)=129","(129+129)/(2)=129","(129+129)/(2)=129","(129+129)/(2)=129","(153+550)/(2)=351.5"]
["S76","(128+128)/(2)=128","(128+128)/(2)=128","(128+128)/(2)=128","(128+128)/(2)=128","(9993938.1+9997358.1)/(2)=9995648.1","(128+128)/(2)=128","(128+503)/(2)=315.5","(128+128)/(2)=128","(128+564)/(2)=346","(128+128)/(2)=128","(128+128)/(2)=128","(860+128)/(2)=494","(1870+687)/(2)=1278.5","(128+128)/(2)=128","(128+128)/(2)=128","(128+128)/(2)=128","(128+128)/(2)=128","(128+128)/(2)=128","(152+549)/(2)=350.5"]
["S77","(127+127)/(2)=127","(127+127)/(2)=127","(127+127)/(2)=127","(127+127)/(2)=127","(9993938.1+9997358.1)/(2)=9995648.1","(127+127)/(2)=127","(127+502)/(2)=314.5","(127+127)/(2)=127","(127+563)/(2)=345","(127+127)/(2)=127","(127+127)/(2)=127","(859+127)/(2)=493","(1869+686)/(2)=1277.5","(127+127)/(2)=127","(127+127)/(2)=127","(127+127)/(2)=127","(127+127)/(2)=127","(127+127)/(2)=127","(151+548)/(2)=349.5"]
["S78","(126+126)/(2)=126","(126+126)/(2)=126","(126+126)/(2)=126","(126+126)/(2)=126","(9993938.1+9997358.1)/(2)=9995648.1","(126+126)/(2)=126","(126+501)/(2)=313.5","(126+126)/(2)=126","(126+562)/(2)=344","(126+126)/(2)=126","(126+126)/(2)=126","(858+126)/(2)=492","(1868+685)/(2)=1276.5","(126+126)/(2)=126","(126+126)/(2)=126","(126+126)/(2)=126","(126+126)/(2)=126","(126+126)/(2)=126","(150+547)/(2)=348.5"]
["S79","(125+125)/(2)=125","(125+125)/(2)=125","(125+125)/(2)=125","(125+125)/(2)=125","(9993938.1+9997358.1)/(2)=9995648.1","(125+125)/(2)=125","(125+500)/(2)=312.5","(125+125)/(2)=125","(125+561)/(2)=343","(125+125)/(2)=125","(125+125)/(2)=125","(857+125)/(2)=491","(1867+684)/(2)=1275.5","(125+125)/(2)=125","(125+125)/(2)=125","(125+125)/(2)=125","(125+125)/(2)=125","(125+125)/(2)=125","(149+546)/(2)=347.5"]
["S80","(124+124)/(2)=124","(124+124)/(2)=124","(124+124)/(2)=124","(124+124)/(2)=124","(9993938.1+9997358.1)/(2)=9995648.1","(124+124)/(2)=124","(124+499)/(2)=311.5","(124+124)/(2)=124","(124+560)/(2)=342","(124+124)/(2)=124","(124+124)/(2)=124","(856+124)/(2)=490","(1866+683)/(2)=1274.5","(124+124)/(2)=124","(124+124)/(2)=124","(124+124)/(2)=124","(124+124)/(2)=124","(124+124)/(2)=124","(148+545)/(2)=346.5"]
["S81","(123+123)/(2)=123","(123+123)/(2)=123","(123+123)/(2)=123","(123+123)/(2)=123","(9993938.1+9997348.1)/(2)=9995643.1","(123+123)/(2)=123","(123+498)/(2)=310.5","(123+123)/(2)=123","(123+559)/(2)=341","(123+123)/(2)=123","(123+123)/(2)=123","(855+123)/(2)=489","(1865+682)/(2)=1273.5","(123+123)/(2)=123","(123+123)/(2)=123","(123+123)/(2)=123","(123+123)/(2)=123","(123+123)/(2)=123","(147+544)/(2)=345.5"]
["S82","(122+122)/(2)=122","(122+122)/(2)=122","(122+122)/(2)=122","(122+122)/(2)=122","(9993938.1+9997348.1)/(2)=9995643.1","(122+122)/(2)=122","(122+497)/(2)=309.5","(122+122)/(2)=122","(122+558)/(2)=340","(122+122)/(2)=122","(122+122)/(2)=122","(854+122)/(2)=488","(1864+681)/(2)=1272.5","(122+122)/(2)=122","(122+122)/(2)=122","(122+122)/(2)=122","(122+122)/(2)=122","(122+122)/(2)=122","(146+543)/(2)=344.5"]
["S83","(121+121)/(2)=121","(121+121)/(2)=121","(121+121)/(2)=121","(121+121)/(2)=121","(9993928.1+9997348.1)/(2)=9995638.1","(121+121)/(2)=121","(121+496)/(2)=308.5","(121+121)/(2)=121","(121+557)/(2)=339","(121+121)/(2)=121","(121+121)/(2)=121","(853+121)/(2)=487","(1863+680)/(2)=1271.5","(121+121)/(2)=121","(121+121)/(2)=121","(121+121)/(2)=121","(121+121)/(2)=121","(121+121)/(2)=121","(145+542)/(2)=343.5"]
["S84","(120+120)/(2)=120","(120+120)/(2)=120","(120+120)/(2)=120","(120+120)/(2)=120","(9993928.1+9997348.1)/(2)=9995638.1","(120+120)/(2)=120","(120+495)/(2)=307.5","(120+120)/(2)=120","(120+556)/(2)=338","(120+120)/(2)=120","(120+120)/(2)=120","(852+120)/(2)=486","(1862+679)/(2)=1270.5","(120+120)/(2)=120","(120+120)/(2)=120","(120+120)/(2)=120","(120+120)/(2)=120","(120+120)/(2)=120","(144+541)/(2)=342.5"]
["S85","(119+119)/(2)=119","(119+119)/(2)=119","(119+119)/(2)=119","(119+119)/(2)=119","(9993928.1+9997348.1)/(2)=9995638.1","(119+119)/(2)=119","(119+494)/(2)=306.5","(119+119)/(2)=119","(119+555)/(2)=337","(119+119)/(2)=119","(119+119)/(2)=119","(851+119)/(2)=485","(1861+678)/(2)=1269.5","(119+119)/(2)=119","(119+119)/(2)=119","(119+119)/(2)=119","(119+119)/(2)=119","(119+119)/(2)=119","(143+540)/(2)=341.5"]
["S86","(118+118)/(2)=118","(118+118)/(2)=118","(118+118)/(2)=118","(118+118)/(2)=118","(9993928.1+9997348.1)/(2)=9995638.1","(118+118)/(2)=118","(118+493)/(2)=305.5","(118+118)/(2)=118","(118+554)/(2)=336","(118+118)/(2)=118","(118+118)/(2)=118","(850+118)/(2)=484","(1860+677)/(2)=1268.5","(118+118)/(2)=118","(118+118)/(2)=118","(118+118)/(2)=118","(118+118)/(2)=118","(118+118)/(2)=118","(142+539)/(2)=340.5"]
["S87","(117+117)/(2)=117","(117+117)/(2)=117","(117+117)/(2)=117","(117+117)/(2)=117","(9993928.1+9997348.1)/(2)=9995638.1","(117+117)/(2)=117","(117+492)/(2)=304.5","(117+117)/(2)=117","(117+553)/(2)=335","(117+117)/(2)=117","(117+117)/(2)=117","(849+117)/(2)=483","(1859+676)/(2)=1267.5","(117+117)/(2)=117","(117+117)/(2)=117","(117+117)/(2)=117","(117+117)/(2)=117","(117+117)/(2)=117","(141+538)/(2)=339.5"]
["S88","(116+116)/(2)=116","(116+116)/(2)=116","(116+116)/(2)=116","(116+116)/(2)=116","(9993928.1+9997348.1)/(2)=9995638.1","(116+116)/(2)=116","(116+491)/(2)=303.5","(116+116)/(2)=116","(116+552)/(2)=334","(116+116)/(2)=116","(116+116)/(2)=116","(848+116)/(2)=482","(1858+675)/(2)=1266.5","(116+116)/(2)=116","(116+116)/(2)=116","(116+116)/(2)=116","(116+116)/(2)=116","(116+116)/(2)=116","(140+537)/(2)=338.5"]
["S89","(115+115)/(2)=115","(115+115)/(2)=115","(115+115)/(2)=115","(115+115)/(2)=115","(9993928.1+9997348.1)/(2)=9995638.1","(115+115)/(2)=115","(115+490)/(2)=302.5","(115+115)/(2)=115","(115+551)/(2)=333","(115+115)/(2)=115","(115+115)/(2)=115","(847+115)/(2)=481","(1857+674)/(2)=1265.5","(115+115)/(2)=115","(115+115)/(2)=115","(115+115)/(2)=115","(115+115)/(2)=115","(115+115)/(2)=115","(139+536)/(2)=337.5"]
["S90","(114+114)/(2)=114","(114+114)/(2)=114","(114+114)/(2)=114","(114+114)/(2)=114","(9993928.1+9997348.1)/(2)=9995638.1","(114+114)/(2)=114","(114+489)/(2)=301.5","(114+114)/(2)=114","(114+550)/(2)=332","(114+114)/(2)=114","(114+114)/(2)=114","(846+114)/(2)=480","(1856+673)/(2)=1264.5","(114+114)/(2)=114","(114+114)/(2)=114","(114+114)/(2)=114","(114+114)/(2)=114","(114+114)/(2)=114","(138+535)/(2)=336.5"]
["S91","(113+113)/(2)=113","(113+113)/(2)=113","(113+113)/(2)=113","(113+113)/(2)=113","(9993928.1+9997338.1)/(2)=9995633.1","(113+113)/(2)=113","(113+488)/(2)=300.5","(113+113)/(2)=113","(113+549)/(2)=331","(113+113)/(2)=113","(113+113)/(2)=113","(845+113)/(2)=479","(1855+672)/(2)=1263.5","(113+113)/(2)=113","(113+113)/(2)=113","(113+113)/(2)=113","(113+113)/(2)=113","(113+113)/(2)=113","(137+534)/(2)=335.5"]
["S92","(112+112)/(2)=112","(112+112)/(2)=112","(112+112)/(2)=112","(112+112)/(2)=112","(9993928.1+9997338.1)/(2)=9995633.1","(112+112)/(2)=112","(112+487)/(2)=299.5","(112+112)/(2)=112","(112+548)/(2)=330","(112+112)/(2)=112","(112+112)/(2)=112","(844+112)/(2)=478","(1854+671)/(2)=1262.5","(112+112)/(2)=112","(112+112)/(2)=112","(112+112)/(2)=112","(112+112)/(2)=112","(112+112)/(2)=112","(136+533)/(2)=334.5"]
["S93","(111+111)/(2)=111","(111+111)/(2)=111","(111+111)/(2)=111","(111+111)/(2)=111","(9993918.1+9997338.1)/(2)=9995628.1","(111+111)/(2)=111","(111+486)/(2)=298.5","(111+111)/(2)=111","(111+547)/(2)=329","(111+111)/(2)=111","(111+111)/(2)=111","(843+111)/(2)=477","(1853+670)/(2)=1261.5","(111+111)/(2)=111","(111+111)/(2)=111","(111+111)/(2)=111","(111+111)/(2)=111","(111+111)/(2)=111","(135+532)/(2)=333.5"]
["S94","(110+110)/(2)=110","(110+110)/(2)=110","(110+110)/(2)=110","(110+110)/(2)=110","(9993918.1+9997338.1)/(2)=9995628.1","(110+110)/(2)=110","(110+485)/(2)=297.5","(110+110)/(2)=110","(110+546)/(2)=328","(110+110)/(2)=110","(110+110)/(2)=110","(842+110)/(2)=476","(1852+669)/(2)=1260.5","(110+110)/(2)=110","(110+110)/(2)=110","(110+110)/(2)=110","(110+110)/(2)=110","(110+110)/(2)=110","(134+531)/(2)=332.5"]
["S95","(109+109)/(2)=109","(109+109)/(2)=109","(109+109)/(2)=109","(109+109)/(2)=109","(9993918.1+9997338.1)/(2)=9995628.1","(109+109)/(2)=109","(109+484)/(2)=296.5","(109+109)/(2)=109","(109+545)/(2)=327","(109+109)/(2)=109","(109+109)/(2)=109","(841+109)/(2)=475","(1851+668)/(2)=1259.5","(109+109)/(2)=109","(109+109)/(2)=109","(109+109)/(2)=109","(109+109)/(2)=109","(109+109)/(2)=109","(133+530)/(2)=331.5"]
["S96","(108+108)/(2)=108","(108+108)/(2)=108","(108+108)/(2)=108","(108+108)/(2)=108","(9993918.1+9997338.1)/(2)=9995628.1","(108+108)/(2)=108","(108+483)/(2)=295.5","(108+108)/(2)=108","(108+544)/(2)=326","(108+108)/(2)=108","(108+108)/(2)=108","(840+108)/(2)=474","(1850+667)/(2)=1258.5","(108+108)/(2)=108","(108+108)/(2)=108","(108+108)/(2)=108","(108+108)/(2)=108","(108+108)/(2)=108","(132+529)/(2)=330.5"]
["S97","(107+107)/(2)=107","(107+107)/(2)=107","(107+107)/(2)=107","(107+107)/(2)=107","(9993918.1+9997338.1)/(2)=9995628.1","(107+107)/(2)=107","(107+482)/(2)=294.5","(107+107)/(2)=107","(107+543)/(2)=325","(107+107)/(2)=107","(107+107)/(2)=107","(839+107)/(2)=473","(1849+666)/(2)=1257.5","(107+107)/(2)=107","(107+107)/(2)=107","(107+107)/(2)=107","(107+107)/(2)=107","(107+107)/(2)=107","(131+528)/(2)=329.5"]
["S98","(106+106)/(2)=106","(106+106)/(2)=106","(106+106)/(2)=106","(106+106)/(2)=106","(9993918.1+9997338.1)/(2)=9995628.1","(106+106)/(2)=106","(106+481)/(2)=293.5","(106+106)/(2)=106","(106+542)/(2)=324","(106+106)/(2)=106","(106+106)/(2)=106","(838+106)/(2)=472","(1848+665)/(2)=1256.5","(106+106)/(2)=106","(106+106)/(2)=106","(106+106)/(2)=106","(106+106)/(2)=106","(106+106)/(2)=106","(130+527)/(2)=328.5"]
["S99","(105+105)/(2)=105","(105+105)/(2)=105","(105+105)/(2)=105","(105+105)/(2)=105","(9993918.1+9997338.1)/(2)=9995628.1","(105+105)/(2)=105","(105+480)/(2)=292.5","(105+105)/(2)=105","(105+541)/(2)=323","(105+105)/(2)=105","(105+105)/(2)=105","(837+105)/(2)=471","(1847+664)/(2)=1255.5","(105+105)/(2)=105","(105+105)/(2)=105","(105+105)/(2)=105","(105+105)/(2)=105","(105+105)/(2)=105","(129+526)/(2)=327.5"]
["S100","(104+104)/(2)=104","(104+104)/(2)=104","(104+104)/(2)=104","(104+104)/(2)=104","(9993918.1+9997338.1)/(2)=9995628.1","(104+104)/(2)=104","(104+479)/(2)=291.5","(104+104)/(2)=104","(104+540)/(2)=322","(104+104)/(2)=104","(104+104)/(2)=104","(836+104)/(2)=470","(1846+663)/(2)=1254.5","(104+104)/(2)=104","(104+104)/(2)=104","(104+104)/(2)=104","(104+104)/(2)=104","(104+104)/(2)=104","(128+525)/(2)=326.5"]
["S101","(103+103)/(2)=103","(103+103)/(2)=103","(103+103)/(2)=103","(103+103)/(2)=103","(9993918.1+9997328.1)/(2)=9995623.1","(103+103)/(2)=103","(103+478)/(2)=290.5","(103+103)/(2)=103","(103+539)/(2)=321","(103+103)/(2)=103","(103+103)/(2)=103","(835+103)/(2)=469","(1845+662)/(2)=1253.5","(103+103)/(2)=103","(103+103)/(2)=103","(103+103)/(2)=103","(103+103)/(2)=103","(103+103)/(2)=103","(127+524)/(2)=325.5"]
["S102","(102+102)/(2)=102","(102+102)/(2)=102","(102+102)/(2)=102","(102+102)/(2)=102","(9993918.1+9997328.1)/(2)=9995623.1","(102+102)/(2)=102","(102+477)/(2)=289.5","(102+102)/(2)=102","(102+538)/(2)=320","(102+102)/(2)=102","(102+102)/(2)=102","(834+102)/(2)=468","(1844+661)/(2)=1252.5","(102+102)/(2)=102","(102+102)/(2)=102","(102+102)/(2)=102","(102+102)/(2)=102","(102+102)/(2)=102","(126+523)/(2)=324.5"]
["S103","(101+101)/(2)=101","(101+101)/(2)=101","(101+101)/(2)=101","(101+101)/(2)=101","(9993908.1+9997328.1)/(2)=9995618.1","(101+101)/(2)=101","(101+476)/(2)=288.5","(101+101)/(2)=101","(101+537)/(2)=319","(101+101)/(2)=101","(101+101)/(2)=101","(833+101)/(2)=467","(1843+660)/(2)=1251.5","(101+101)/(2)=101","(101+101)/(2)=101","(101+101)/(2)=101","(101+101)/(2)=101","(101+101)/(2)=101","(125+522)/(2)=323.5"]
["S104","(100+100)/(2)=100","(100+100)/(2)=100","(100+100)/(2)=100","(100+100)/(2)=100","(9993908.1+9997328.1)/(2)=9995618.1","(100+100)/(2)=100","(100+475)/(2)=287.5","(100+100)/(2)=100","(100+536)/(2)=318","(100+100)/(2)=100","(100+100)/(2)=100","(832+100)/(2)=466","(1842+659)/(2)=1250.5","(100+100)/(2)=100","(100+100)/(2)=100","(100+100)/(2)=100","(100+100)/(2)=100","(100+100)/(2)=100","(124+521)/(2)=322.5"]
["S105","(99+99)/(2)=99","(99+99)/(2)=99","(99+99)/(2)=99","(99+99)/(2)=99","(9993908.1+9997328.1)/(2)=9995618.1","(99+99)/(2)=99","(99+474)/(2)=286.5","(99+99)/(2)=99","(99+535)/(2)=317","(99+99)/(2)=99","(99+99)/(2)=99","(831+99)/(2)=465","(1841+658)/(2)=1249.5","(99+99)/(2)=99","(99+99)/(2)=99","(99+99)/(2)=99","(99+99)/(2)=99","(99+99)/(2)=99","(123+520)/(2)=321.5"]
["S106","(98+98)/(2)=98","(98+98)/(2)=98","(98+98)/(2)=98","(98+98)/(2)=98","(9993908.1+9997328.1)/(2)=9995618.1","(98+98)/(2)=98","(98+473)/(2)=285.5","(98+98)/(2)=98","(98+534)/(2)=316","(98+98)/(2)=98","(98+98)/(2)=98","(830+98)/(2)=464","(1840+657)/(2)=1248.5","(98+98)/(2)=98","(98+98)/(2)=98","(98+98)/(2)=98","(98+98)/(2)=98","(98+98)/(2)=98","(122+519)/(2)=320.5"]
["S107","(97+97)/(2)=97","(97+97)/(2)=97","(97+97)/(2)=97","(97+97)/(2)=97","(9993908.1+9997328.1)/(2)=9995618.1","(97+97)/(2)=97","(97+472)/(2)=284.5","(97+97)/(2)=97","(97+533)/(2)=315","(97+97)/(2)=97","(97+97)/(2)=97","(829+97)/(2)=463","(1839+656)/(2)=1247.5","(97+97)/(2)=97","(97+97)/(2)=97","(97+97)/(2)=97","(97+97)/(2)=97","(97+97)/(2)=97","(121+518)/(2)=319.5"]
["S108","(96+96)/(2)=96","(96+96)/(2)=96","(96+96)/(2)=96","(96+96)/(2)=96","(9993908.1+9997328.1)/(2)=9995618.1","(96+96)/(2)=96","(96+471)/(2)=283.5","(96+96)/(2)=96","(96+532)/(2)=314","(96+96)/(2)=96","(96+96)/(2)=96","(828+96)/(2)=462","(1838+655)/(2)=1246.5","(96+96)/(2)=96","(96+96)/(2)=96","(96+96)/(2)=96","(96+96)/(2)=96","(96+96)/(2)=96","(120+517)/(2)=318.5"]
["S109","(95+95)/(2)=95","(95+95)/(2)=95","(95+95)/(2)=95","(95+95)/(2)=95","(9993908.1+9997328.1)/(2)=9995618.1","(95+95)/(2)=95","(95+470)/(2)=282.5","(95+95)/(2)=95","(95+531)/(2)=313","(95+95)/(2)=95","(95+95)/(2)=95","(827+95)/(2)=461","(1837+654)/(2)=1245.5","(95+95)/(2)=95","(95+95)/(2)=95","(95+95)/(2)=95","(95+95)/(2)=95","(95+95)/(2)=95","(119+516)/(2)=317.5"]
["S110","(94+94)/(2)=94","(94+94)/(2)=94","(94+94)/(2)=94","(94+94)/(2)=94","(9993908.1+9997328.1)/(2)=9995618.1","(94+94)/(2)=94","(94+469)/(2)=281.5","(94+94)/(2)=94","(94+530)/(2)=312","(94+94)/(2)=94","(94+94)/(2)=94","(826+94)/(2)=460","(1836+653)/(2)=1244.5","(94+94)/(2)=94","(94+94)/(2)=94","(94+94)/(2)=94","(94+94)/(2)=94","(94+94)/(2)=94","(118+515)/(2)=316.5"]
["S111","(93+93)/(2)=93","(93+93)/(2)=93","(93+93)/(2)=93","(93+93)/(2)=93","(9993908.1+9997318.1)/(2)=9995613.1","(93+93)/(2)=93","(93+468)/(2)=280.5","(93+93)/(2)=93","(93+529)/(2)=311","(93+93)/(2)=93","(93+93)/(2)=93","(825+93)/(2)=459","(1835+652)/(2)=1243.5","(93+93)/(2)=93","(93+93)/(2)=93","(93+93)/(2)=93","(93+93)/(2)=93","(93+93)/(2)=93","(117+514)/(2)=315.5"]
["S112","(92+92)/(2)=92","(92+92)/(2)=92","(92+92)/(2)=92","(92+92)/(2)=92","(9993908.1+9997318.1)/(2)=9995613.1","(92+92)/(2)=92","(92+467)/(2)=279.5","(92+92)/(2)=92","(92+528)/(2)=310","(92+92)/(2)=92","(92+92)/(2)=92","(824+92)/(2)=458","(1834+651)/(2)=1242.5","(92+92)/(2)=92","(92+92)/(2)=92","(92+92)/(2)=92","(92+92)/(2)=92","(92+92)/(2)=92","(116+513)/(2)=314.5"]
["S113","(91+91)/(2)=91","(91+91)/(2)=91","(91+91)/(2)=91","(91+91)/(2)=91","(9993898.1+9997318.1)/(2)=9995608.1","(91+91)/(2)=91","(91+466)/(2)=278.5","(91+91)/(2)=91","(91+527)/(2)=309","(91+91)/(2)=91","(91+91)/(2)=91","(823+91)/(2)=457","(1833+650)/(2)=1241.5","(91+91)/(2)=91","(91+91)/(2)=91","(91+91)/(2)=91","(91+91)/(2)=91","(91+91)/(2)=91","(115+512)/(2)=313.5"]
["S114","(90+90)/(2)=90","(90+90)/(2)=90","(90+90)/(2)=90","(90+90)/(2)=90","(9993898.1+9997318.1)/(2)=9995608.1","(90+90)/(2)=90","(90+465)/(2)=277.5","(90+90)/(2)=90","(90+526)/(2)=308","(90+90)/(2)=90","(90+90)/(2)=90","(822+90)/(2)=456","(1832+649)/(2)=1240.5","(90+90)/(2)=90","(90+90)/(2)=90","(90+90)/(2)=90","(90+90)/(2)=90","(90+90)/(2)=90","(114+511)/(2)=312.5"]
["S115","(89+89)/(2)=89","(89+89)/(2)=89","(89+89)/(2)=89","(89+89)/(2)=89","(9993898.1+9997318.1)/(2)=9995608.1","(89+89)/(2)=89","(89+464)/(2)=276.5","(89+89)/(2)=89","(89+525)/(2)=307","(89+89)/(2)=89","(89+89)/(2)=89","(821+89)/(2)=455","(1831+648)/(2)=1239.5","(89+89)/(2)=89","(89+89)/(2)=89","(89+89)/(2)=89","(89+89)/(2)=89","(89+89)/(2)=89","(113+510)/(2)=311.5"]
["S116","(88+88)/(2)=88","(88+88)/(2)=88","(88+88)/(2)=88","(88+88)/(2)=88","(9993898.1+9997318.1)/(2)=9995608.1","(88+88)/(2)=88","(88+463)/(2)=275.5","(88+88)/(2)=88","(88+524)/(2)=306","(88+88)/(2)=88","(88+88)/(2)=88","(820+88)/(2)=454","(1830+647)/(2)=1238.5","(88+88)/(2)=88","(88+88)/(2)=88","(88+88)/(2)=88","(88+88)/(2)=88","(88+88)/(2)=88","(112+509)/(2)=310.5"]
["S117","(87+87)/(2)=87","(87+87)/(2)=87","(87+87)/(2)=87","(87+87)/(2)=87","(9993898.1+9997318.1)/(2)=9995608.1","(87+87)/(2)=87","(87+462)/(2)=274.5","(87+87)/(2)=87","(87+523)/(2)=305","(87+87)/(2)=87","(87+87)/(2)=87","(819+87)/(2)=453","(1829+646)/(2)=1237.5","(87+87)/(2)=87","(87+87)/(2)=87","(87+87)/(2)=87","(87+87)/(2)=87","(87+87)/(2)=87","(111+508)/(2)=309.5"]
["S118","(86+86)/(2)=86","(86+86)/(2)=86","(86+86)/(2)=86","(86+86)/(2)=86","(9993898.1+9997318.1)/(2)=9995608.1","(86+86)/(2)=86","(86+461)/(2)=273.5","(86+86)/(2)=86","(86+522)/(2)=304","(86+86)/(2)=86","(86+86)/(2)=86","(818+86)/(2)=452","(1828+645)/(2)=1236.5","(86+86)/(2)=86","(86+86)/(2)=86","(86+86)/(2)=86","(86+86)/(2)=86","(86+86)/(2)=86","(110+507)/(2)=308.5"]
["S119","(85+85)/(2)=85","(85+85)/(2)=85","(85+85)/(2)=85","(85+85)/(2)=85","(9993898.1+9997318.1)/(2)=9995608.1","(85+85)/(2)=85","(85+460)/(2)=272.5","(85+85)/(2)=85","(85+521)/(2)=303","(85+85)/(2)=85","(85+85)/(2)=85","(817+85)/(2)=451","(1827+644)/(2)=1235.5","(85+85)/(2)=85","(85+85)/(2)=85","(85+85)/(2)=85","(85+85)/(2)=85","(85+85)/(2)=85","(109+506)/(2)=307.5"]
["S120","(84+84)/(2)=84","(84+84)/(2)=84","(84+84)/(2)=84","(84+84)/(2)=84","(9993898.1+9997318.1)/(2)=9995608.1","(84+84)/(2)=84","(84+459)/(2)=271.5","(84+84)/(2)=84","(84+520)/(2)=302","(84+84)/(2)=84","(84+84)/(2)=84","(816+84)/(2)=450","(1826+643)/(2)=1234.5","(84+84)/(2)=84","(84+84)/(2)=84","(84+84)/(2)=84","(84+84)/(2)=84","(84+84)/(2)=84","(108+505)/(2)=306.5"]
["S121","(83+83)/(2)=83","(83+83)/(2)=83","(83+83)/(2)=83","(83+83)/(2)=83","(9993898.1+9997308.1)/(2)=9995603.1","(83+83)/(2)=83","(83+458)/(2)=270.5","(83+83)/(2)=83","(83+519)/(2)=301","(83+83)/(2)=83","(83+83)/(2)=83","(815+83)/(2)=449","(1825+642)/(2)=1233.5","(83+83)/(2)=83","(83+83)/(2)=83","(83+83)/(2)=83","(83+83)/(2)=83","(83+83)/(2)=83","(107+504)/(2)=305.5"]
["S122","(82+82)/(2)=82","(82+82)/(2)=82","(82+82)/(2)=82","(82+82)/(2)=82","(9993898.1+9997308.1)/(2)=9995603.1","(82+82)/(2)=82","(82+457)/(2)=269.5","(82+82)/(2)=82","(82+518)/(2)=300","(82+82)/(2)=82","(82+82)/(2)=82","(814+82)/(2)=448","(1824+641)/(2)=1232.5","(82+82)/(2)=82","(82+82)/(2)=82","(82+82)/(2)=82","(82+82)/(2)=82","(82+82)/(2)=82","(106+503)/(2)=304.5"]
["S123","(81+81)/(2)=81","(81+81)/(2)=81","(81+81)/(2)=81","(81+81)/(2)=81","(9993888.1+9997308.1)/(2)=9995598.1","(81+81)/(2)=81","(81+456)/(2)=268.5","(81+81)/(2)=81","(81+517)/(2)=299","(81+81)/(2)=81","(81+81)/(2)=81","(813+81)/(2)=447","(1823+640)/(2)=1231.5","(81+81)/(2)=81","(81+81)/(2)=81","(81+81)/(2)=81","(81+81)/(2)=81","(81+81)/(2)=81","(105+502)/(2)=303.5"]
["S124","(80+80)/(2)=80","(80+80)/(2)=80","(80+80)/(2)=80","(80+80)/(2)=80","(9993888.1+9997308.1)/(2)=9995598.1","(80+80)/(2)=80","(80+455)/(2)=267.5","(80+80)/(2)=80","(80+516)/(2)=298","(80+80)/(2)=80","(80+80)/(2)=80","(812+80)/(2)=446","(1822+639)/(2)=1230.5","(80+80)/(2)=80","(80+80)/(2)=80","(80+80)/(2)=80","(80+80)/(2)=80","(80+80)/(2)=80","(104+501)/(2)=302.5"]
["S125","(79+79)/(2)=79","(79+79)/(2)=79","(79+79)/(2)=79","(79+79)/(2)=79","(9993888.1+9997308.1)/(2)=9995598.1","(79+79)/(2)=79","(79+454)/(2)=266.5","(79+79)/(2)=79","(79+515)/(2)=297","(79+79)/(2)=79","(79+79)/(2)=79","(811+79)/(2)=445","(1821+638)/(2)=1229.5","(79+79)/(2)=79","(79+79)/(2)=79","(79+79)/(2)=79","(79+79)/(2)=79","(79+79)/(2)=79","(103+500)/(2)=301.5"]
["S126","(78+78)/(2)=78","(78+78)/(2)=78","(78+78)/(2)=78","(78+78)/(2)=78","(9993888.1+9997308.1)/(2)=9995598.1","(78+78)/(2)=78","(78+453)/(2)=265.5","(78+78)/(2)=78","(78+514)/(2)=296","(78+78)/(2)=78","(78+78)/(2)=78","(810+78)/(2)=444","(1820+637)/(2)=1228.5","(78+78)/(2)=78","(78+78)/(2)=78","(78+78)/(2)=78","(78+78)/(2)=78","(78+78)/(2)=78","(102+499)/(2)=300.5"]
["S127","(77+77)/(2)=77","(77+77)/(2)=77","(77+77)/(2)=77","(77+77)/(2)=77","(9993888.1+9997308.1)/(2)=9995598.1","(77+77)/(2)=77","(77+452)/(2)=264.5","(77+77)/(2)=77","(77+513)/(2)=295","(77+77)/(2)=77","(77+77)/(2)=77","(809+77)/(2)=443","(1819+636)/(2)=1227.5","(77+77)/(2)=77","(77+77)/(2)=77","(77+77)/(2)=77","(77+77)/(2)=77","(77+77)/(2)=77","(101+498)/(2)=299.5"]
["S128","(76+76)/(2)=76","(76+76)/(2)=76","(76+76)/(2)=76","(76+76)/(2)=76","(9993888.1+9997308.1)/(2)=9995598.1","(76+76)/(2)=76","(76+451)/(2)=263.5","(76+76)/(2)=76","(76+512)/(2)=294","(76+76)/(2)=76","(76+76)/(2)=76","(808+76)/(2)=442","(1818+635)/(2)=1226.5","(76+76)/(2)=76","(76+76)/(2)=76","(76+76)/(2)=76","(76+76)/(2)=76","(76+76)/(2)=76","(100+497)/(2)=298.5"]
["S129","(75+75)/(2)=75","(75+75)/(2)=75","(75+75)/(2)=75","(75+75)/(2)=75","(9993888.1+9997308.1)/(2)=9995598.1","(75+75)/(2)=75","(75+450)/(2)=262.5","(75+75)/(2)=75","(75+511)/(2)=293","(75+75)/(2)=75","(75+75)/(2)=75","(807+75)/(2)=441","(1817+634)/(2)=1225.5","(75+75)/(2)=75","(75+75)/(2)=75","(75+75)/(2)=75","(75+75)/(2)=75","(75+75)/(2)=75","(99+496)/(2)=297.5"]
["S130","(74+74)/(2)=74","(74+74)/(2)=74","(74+74)/(2)=74","(74+74)/(2)=74","(9993888.1+9997308.1)/(2)=9995598.1","(74+74)/(2)=74","(74+449)/(2)=261.5","(74+74)/(2)=74","(74+510)/(2)=292","(74+74)/(2)=74","(74+74)/(2)=74","(806+74)/(2)=440","(1816+633)/(2)=1224.5","(74+74)/(2)=74","(74+74)/(2)=74","(74+74)/(2)=74","(74+74)/(2)=74","(74+74)/(2)=74","(98+495)/(2)=296.5"]
["S131","(73+73)/(2)=73","(73+73)/(2)=73","(73+73)/(2)=73","(73+73)/(2)=73","(9993888.1+9997298.1)/(2)=9995593.1","(73+73)/(2)=73","(73+448)/(2)=260.5","(73+73)/(2)=73","(73+509)/(2)=291","(73+73)/(2)=73","(73+73)/(2)=73","(805+73)/(2)=439","(1815+632)/(2)=1223.5","(73+73)/(2)=73","(73+73)/(2)=73","(73+73)/(2)=73","(73+73)/(2)=73","(73+73)/(2)=73","(97+494)/(2)=295.5"]
["S132","(72+72)/(2)=72","(72+72)/(2)=72","(72+72)/(2)=72","(72+72)/(2)=72","(9993888.1+9997298.1)/(2)=9995593.1","(72+72)/(2)=72","(72+447)/(2)=259.5","(72+72)/(2)=72","(72+508)/(2)=290","(72+72)/(2)=72","(72+72)/(2)=72","(804+72)/(2)=438","(1814+631)/(2)=1222.5","(72+72)/(2)=72","(72+72)/(2)=72","(72+72)/(2)=72","(72+72)/(2)=72","(72+72)/(2)=72","(96+493)/(2)=294.5"]
["S133","(71+71)/(2)=71","(71+71)/(2)=71","(71+71)/(2)=71","(71+71)/(2)=71","(9993878.1+9997298.1)/(2)=9995588.1","(71+71)/(2)=71","(71+446)/(2)=258.5","(71+71)/(2)=71","(71+507)/(2)=289","(71+71)/(2)=71","(71+71)/(2)=71","(803+71)/(2)=437","(1813+630)/(2)=1221.5","(71+71)/(2)=71","(71+71)/(2)=71","(71+71)/(2)=71","(71+71)/(2)=71","(71+71)/(2)=71","(95+492)/(2)=293.5"]
["S134","(70+70)/(2)=70","(70+70)/(2)=70","(70+70)/(2)=70","(70+70)/(2)=70","(9993878.1+9997298.1)/(2)=9995588.1","(70+70)/(2)=70","(70+445)/(2)=257.5","(70+70)/(2)=70","(70+506)/(2)=288","(70+70)/(2)=70","(70+70)/(2)=70","(802+70)/(2)=436","(1812+629)/(2)=1220.5","(70+70)/(2)=70","(70+70)/(2)=70","(70+70)/(2)=70","(70+70)/(2)=70","(70+70)/(2)=70","(94+491)/(2)=292.5"]
["S135","(69+69)/(2)=69","(69+69)/(2)=69","(69+69)/(2)=69","(69+69)/(2)=69","(9993878.1+9997298.1)/(2)=9995588.1","(69+69)/(2)=69","(69+444)/(2)=256.5","(69+69)/(2)=69","(69+505)/(2)=287","(69+69)/(2)=69","(69+69)/(2)=69","(801+69)/(2)=435","(1811+628)/(2)=1219.5","(69+69)/(2)=69","(69+69)/(2)=69","(69+69)/(2)=69","(69+69)/(2)=69","(69+69)/(2)=69","(93+490)/(2)=291.5"]
["S136","(68+68)/(2)=68","(68+68)/(2)=68","(68+68)/(2)=68","(68+68)/(2)=68","(9993878.1+9997298.1)/(2)=9995588.1","(68+68)/(2)=68","(68+443)/(2)=255.5","(68+68)/(2)=68","(68+504)/(2)=286","(68+68)/(2)=68","(68+68)/(2)=68","(800+68)/(2)=434","(1810+627)/(2)=1218.5","(68+68)/(2)=68","(68+68)/(2)=68","(68+68)/(2)=68","(68+68)/(2)=68","(68+68)/(2)=68","(92+489)/(2)=290.5"]
["S137","(67+67)/(2)=67","(67+67)/(2)=67","(67+67)/(2)=67","(67+67)/(2)=67","(9993878.1+9997298.1)/(2)=9995588.1","(67+67)/(2)=67","(67+442)/(2)=254.5","(67+67)/(2)=67","(67+503)/(2)=285","(67+67)/(2)=67","(67+67)/(2)=67","(799+67)/(2)=433","(1809+626)/(2)=1217.5","(67+67)/(2)=67","(67+67)/(2)=67","(67+67)/(2)=67","(67+67)/(2)=67","(67+67)/(2)=67","(91+488)/(2)=289.5"]
["S138","(66+66)/(2)=66","(66+66)/(2)=66","(66+66)/(2)=66","(66+66)/(2)=66","(9993878.1+9997298.1)/(2)=9995588.1","(66+66)/(2)=66","(66+441)/(2)=253.5","(66+66)/(2)=66","(66+502)/(2)=284","(66+66)/(2)=66","(66+66)/(2)=66","(798+66)/(2)=432","(1808+625)/(2)=1216.5","(66+66)/(2)=66","(66+66)/(2)=66","(66+66)/(2)=66","(66+66)/(2)=66","(66+66)/(2)=66","(90+487)/(2)=288.5"]
["S139","(65+65)/(2)=65","(65+65)/(2)=65","(65+65)/(2)=65","(65+65)/(2)=65","(9993878.1+9997298.1)/(2)=9995588.1","(65+65)/(2)=65","(65+440)/(2)=252.5","(65+65)/(2)=65","(65+501)/(2)=283","(65+65)/(2)=65","(65+65)/(2)=65","(797+65)/(2)=431","(1807+624)/(2)=1215.5","(65+65)/(2)=65","(65+65)/(2)=65","(65+65)/(2)=65","(65+65)/(2)=65","(65+65)/(2)=65","(89+486)/(2)=287.5"]
["S140","(64+64)/(2)=64","(64+64)/(2)=64","(64+64)/(2)=64","(64+64)/(2)=64","(9993878.1+9997298.1)/(2)=9995588.1","(64+64)/(2)=64","(64+439)/(2)=251.5","(64+64)/(2)=64","(64+500)/(2)=282","(64+64)/(2)=64","(64+64)/(2)=64","(796+64)/(2)=430","(1806+623)/(2)=1214.5","(64+64)/(2)=64","(64+64)/(2)=64","(64+64)/(2)=64","(64+64)/(2)=64","(64+64)/(2)=64","(88+485)/(2)=286.5"]
["S141","(63+63)/(2)=63","(63+63)/(2)=63","(63+63)/(2)=63","(63+63)/(2)=63","(9993878.1+9997288.1)/(2)=9995583.1","(63+63)/(2)=63","(63+438)/(2)=250.5","(63+63)/(2)=63","(63+499)/(2)=281","(63+63)/(2)=63","(63+63)/(2)=63","(795+63)/(2)=429","(1805+622)/(2)=1213.5","(63+63)/(2)=63","(63+63)/(2)=63","(63+63)/(2)=63","(63+63)/(2)=63","(63+63)/(2)=63","(87+484)/(2)=285.5"]
["S142","(62+62)/(2)=62","(62+62)/(2)=62","(62+62)/(2)=62","(62+62)/(2)=62","(9993878.1+9997288.1)/(2)=9995583.1","(62+62)/(2)=62","(62+437)/(2)=249.5","(62+62)/(2)=62","(62+498)/(2)=280","(62+62)/(2)=62","(62+62)/(2)=62","(794+62)/(2)=428","(1804+621)/(2)=1212.5","(62+62)/(2)=62","(62+62)/(2)=62","(62+62)/(2)=62","(62+62)/(2)=62","(62+62)/(2)=62","(86+483)/(2)=284.5"]
["S143","(61+61)/(2)=61","(61+61)/(2)=61","(61+61)/(2)=61","(61+61)/(2)=61","(9993868.1+9997288.1)/(2)=9995578.1","(61+61)/(2)=61","(61+436)/(2)=248.5","(61+61)/(2)=61","(61+497)/(2)=279","(61+61)/(2)=61","(61+61)/(2)=61","(793+61)/(2)=427","(1803+620)/(2)=1211.5","(61+61)/(2)=61","(61+61)/(2)=61","(61+61)/(2)=61","(61+61)/(2)=61","(61+61)/(2)=61","(85+482)/(2)=283.5"]
["S144","(60+60)/(2)=60","(60+60)/(2)=60","(60+60)/(2)=60","(60+60)/(2)=60","(9993868.1+9997288.1)/(2)=9995578.1","(60+60)/(2)=60","(60+435)/(2)=247.5","(60+60)/(2)=60","(60+496)/(2)=278","(60+60)/(2)=60","(60+60)/(2)=60","(792+60)/(2)=426","(1802+619)/(2)=1210.5","(60+60)/(2)=60","(60+60)/(2)=60","(60+60)/(2)=60","(60+60)/(2)=60","(60+60)/(2)=60","(84+481)/(2)=282.5"]
["S145","(59+59)/(2)=59","(59+59)/(2)=59","(59+59)/(2)=59","(59+59)/(2)=59","(9993868.1+9997288.1)/(2)=9995578.1","(59+59)/(2)=59","(59+434)/(2)=246.5","(59+59)/(2)=59","(59+495)/(2)=277","(59+59)/(2)=59","(59+59)/(2)=59","(791+59)/(2)=425","(1801+618)/(2)=1209.5","(59+59)/(2)=59","(59+59)/(2)=59","(59+59)/(2)=59","(59+59)/(2)=59","(59+59)/(2)=59","(83+480)/(2)=281.5"]
["S146","(58+58)/(2)=58","(58+58)/(2)=58","(58+58)/(2)=58","(58+58)/(2)=58","(9993868.1+9997288.1)/(2)=9995578.1","(58+58)/(2)=58","(58+433)/(2)=245.5","(58+58)/(2)=58","(58+494)/(2)=276","(58+58)/(2)=58","(58+58)/(2)=58","(790+58)/(2)=424","(1800+617)/(2)=1208.5","(58+58)/(2)=58","(58+58)/(2)=58","(58+58)/(2)=58","(58+58)/(2)=58","(58+58)/(2)=58","(82+479)/(2)=280.5"]
["S147","(57+57)/(2)=57","(57+57)/(2)=57","(57+57)/(2)=57","(57+57)/(2)=57","(9993868.1+9997288.1)/(2)=9995578.1","(57+57)/(2)=57","(57+432)/(2)=244.5","(57+57)/(2)=57","(57+493)/(2)=275","(57+57)/(2)=57","(57+57)/(2)=57","(789+57)/(2)=423","(1799+616)/(2)=1207.5","(57+57)/(2)=57","(57+57)/(2)=57","(57+57)/(2)=57","(57+57)/(2)=57","(57+57)/(2)=57","(81+478)/(2)=279.5"]
["S148","(56+56)/(2)=56","(56+56)/(2)=56","(56+56)/(2)=56","(56+56)/(2)=56","(9993868.1+9997288.1)/(2)=9995578.1","(56+56)/(2)=56","(56+431)/(2)=243.5","(56+56)/(2)=56","(56+492)/(2)=274","(56+56)/(2)=56","(56+56)/(2)=56","(788+56)/(2)=422","(1798+615)/(2)=1206.5","(56+56)/(2)=56","(56+56)/(2)=56","(56+56)/(2)=56","(56+56)/(2)=56","(56+56)/(2)=56","(80+477)/(2)=278.5"]
["S149","(55+55)/(2)=55","(55+55)/(2)=55","(55+55)/(2)=55","(55+55)/(2)=55","(9993868.1+9997288.1)/(2)=9995578.1","(55+55)/(2)=55","(55+430)/(2)=242.5","(55+55)/(2)=55","(55+491)/(2)=273","(55+55)/(2)=55","(55+55)/(2)=55","(787+55)/(2)=421","(1797+614)/(2)=1205.5","(55+55)/(2)=55","(55+55)/(2)=55","(55+55)/(2)=55","(55+55)/(2)=55","(55+55)/(2)=55","(79+476)/(2)=277.5"]
["S150","(54+54)/(2)=54","(54+54)/(2)=54","(54+54)/(2)=54","(54+54)/(2)=54","(9993868.1+9997288.1)/(2)=9995578.1","(54+54)/(2)=54","(54+429)/(2)=241.5","(54+54)/(2)=54","(54+490)/(2)=272","(54+54)/(2)=54","(54+54)/(2)=54","(786+54)/(2)=420","(1796+613)/(2)=1204.5","(54+54)/(2)=54","(54+54)/(2)=54","(54+54)/(2)=54","(54+54)/(2)=54","(54+54)/(2)=54","(78+475)/(2)=276.5"]
["S151","(53+53)/(2)=53","(53+53)/(2)=53","(53+53)/(2)=53","(53+53)/(2)=53","(9993868.1+9997278.1)/(2)=9995573.1","(53+53)/(2)=53","(53+428)/(2)=240.5","(53+53)/(2)=53","(53+489)/(2)=271","(53+53)/(2)=53","(53+53)/(2)=53","(785+53)/(2)=419","(1795+612)/(2)=1203.5","(53+53)/(2)=53","(53+53)/(2)=53","(53+53)/(2)=53","(53+53)/(2)=53","(53+53)/(2)=53","(77+474)/(2)=275.5"]
["S152","(52+52)/(2)=52","(52+52)/(2)=52","(52+52)/(2)=52","(52+52)/(2)=52","(9993868.1+9997278.1)/(2)=9995573.1","(52+52)/(2)=52","(52+427)/(2)=239.5","(52+52)/(2)=52","(52+488)/(2)=270","(52+52)/(2)=52","(52+52)/(2)=52","(784+52)/(2)=418","(1794+611)/(2)=1202.5","(52+52)/(2)=52","(52+52)/(2)=52","(52+52)/(2)=52","(52+52)/(2)=52","(52+52)/(2)=52","(76+473)/(2)=274.5"]
["S153","(51+51)/(2)=51","(51+51)/(2)=51","(51+51)/(2)=51","(51+51)/(2)=51","(9993858.1+9997278.1)/(2)=9995568.1","(51+51)/(2)=51","(51+426)/(2)=238.5","(51+51)/(2)=51","(51+487)/(2)=269","(51+51)/(2)=51","(51+51)/(2)=51","(783+51)/(2)=417","(1793+610)/(2)=1201.5","(51+51)/(2)=51","(51+51)/(2)=51","(51+51)/(2)=51","(51+51)/(2)=51","(51+51)/(2)=51","(75+472)/(2)=273.5"]
["S154","(50+50)/(2)=50","(50+50)/(2)=50","(50+50)/(2)=50","(50+50)/(2)=50","(9993858.1+9997278.1)/(2)=9995568.1","(50+50)/(2)=50","(50+425)/(2)=237.5","(50+50)/(2)=50","(50+486)/(2)=268","(50+50)/(2)=50","(50+50)/(2)=50","(782+50)/(2)=416","(1792+609)/(2)=1200.5","(50+50)/(2)=50","(50+50)/(2)=50","(50+50)/(2)=50","(50+50)/(2)=50","(50+50)/(2)=50","(74+471)/(2)=272.5"]
["S155","(49+49)/(2)=49","(49+49)/(2)=49","(49+49)/(2)=49","(49+49)/(2)=49","(9993858.1+9997278.1)/(2)=9995568.1","(49+49)/(2)=49","(49+424)/(2)=236.5","(49+49)/(2)=49","(49+485)/(2)=267","(49+49)/(2)=49","(49+49)/(2)=49","(781+49)/(2)=415","(1791+608)/(2)=1199.5","(49+49)/(2)=49","(49+49)/(2)=49","(49+49)/(2)=49","(49+49)/(2)=49","(49+49)/(2)=49","(73+470)/(2)=271.5"]
["S156","(48+48)/(2)=48","(48+48)/(2)=48","(48+48)/(2)=48","(48+48)/(2)=48","(9993858.1+9997278.1)/(2)=9995568.1","(48+48)/(2)=48","(48+423)/(2)=235.5","(48+48)/(2)=48","(48+484)/(2)=266","(48+48)/(2)=48","(48+48)/(2)=48","(780+48)/(2)=414","(1790+607)/(2)=1198.5","(48+48)/(2)=48","(48+48)/(2)=48","(48+48)/(2)=48","(48+48)/(2)=48","(48+48)/(2)=48","(72+469)/(2)=270.5"]
["S157","(47+47)/(2)=47","(47+47)/(2)=47","(47+47)/(2)=47","(47+47)/(2)=47","(9993858.1+9997278.1)/(2)=9995568.1","(47+47)/(2)=47","(47+422)/(2)=234.5","(47+47)/(2)=47","(47+483)/(2)=265","(47+47)/(2)=47","(47+47)/(2)=47","(779+47)/(2)=413","(1789+606)/(2)=1197.5","(47+47)/(2)=47","(47+47)/(2)=47","(47+47)/(2)=47","(47+47)/(2)=47","(47+47)/(2)=47","(71+468)/(2)=269.5"]
["S158","(46+46)/(2)=46","(46+46)/(2)=46","(46+46)/(2)=46","(46+46)/(2)=46","(9993858.1+9997278.1)/(2)=9995568.1","(46+46)/(2)=46","(46+421)/(2)=233.5","(46+46)/(2)=46","(46+482)/(2)=264","(46+46)/(2)=46","(46+46)/(2)=46","(778+46)/(2)=412","(1788+605)/(2)=1196.5","(46+46)/(2)=46","(46+46)/(2)=46","(46+46)/(2)=46","(46+46)/(2)=46","(46+46)/(2)=46","(70+467)/(2)=268.5"]
["S159","(45+45)/(2)=45","(45+45)/(2)=45","(45+45)/(2)=45","(45+45)/(2)=45","(9993858.1+9997278.1)/(2)=9995568.1","(45+45)/(2)=45","(45+420)/(2)=232.5","(45+45)/(2)=45","(45+481)/(2)=263","(45+45)/(2)=45","(45+45)/(2)=45","(777+45)/(2)=411","(1787+604)/(2)=1195.5","(45+45)/(2)=45","(45+45)/(2)=45","(45+45)/(2)=45","(45+45)/(2)=45","(45+45)/(2)=45","(69+466)/(2)=267.5"]
["S160","(44+44)/(2)=44","(44+44)/(2)=44","(44+44)/(2)=44","(44+44)/(2)=44","(9993858.1+9997278.1)/(2)=9995568.1","(44+44)/(2)=44","(44+419)/(2)=231.5","(44+44)/(2)=44","(44+480)/(2)=262","(44+44)/(2)=44","(44+44)/(2)=44","(776+44)/(2)=410","(1786+603)/(2)=1194.5","(44+44)/(2)=44","(44+44)/(2)=44","(44+44)/(2)=44","(44+44)/(2)=44","(44+44)/(2)=44","(68+465)/(2)=266.5"]
["S161","(43+43)/(2)=43","(43+43)/(2)=43","(43+43)/(2)=43","(43+43)/(2)=43","(9993858.1+9997268.1)/(2)=9995563.1","(43+43)/(2)=43","(43+418)/(2)=230.5","(43+43)/(2)=43","(43+479)/(2)=261","(43+43)/(2)=43","(43+43)/(2)=43","(775+43)/(2)=409","(1785+602)/(2)=1193.5","(43+43)/(2)=43","(43+43)/(2)=43","(43+43)/(2)=43","(43+43)/(2)=43","(43+43)/(2)=43","(67+464)/(2)=265.5"]
["S162","(42+42)/(2)=42","(42+42)/(2)=42","(42+42)/(2)=42","(42+42)/(2)=42","(9993858.1+9997268.1)/(2)=9995563.1","(42+42)/(2)=42","(42+417)/(2)=229.5","(42+42)/(2)=42","(42+478)/(2)=260","(42+42)/(2)=42","(42+42)/(2)=42","(774+42)/(2)=408","(1784+601)/(2)=1192.5","(42+42)/(2)=42","(42+42)/(2)=42","(42+42)/(2)=42","(42+42)/(2)=42","(42+42)/(2)=42","(66+463)/(2)=264.5"]
["S163","(41+41)/(2)=41","(41+41)/(2)=41","(41+41)/(2)=41","(41+41)/(2)=41","(9993848.1+9997268.1)/(2)=9995558.1","(41+41)/(2)=41","(41+416)/(2)=228.5","(41+41)/(2)=41","(41+477)/(2)=259","(41+41)/(2)=41","(41+41)/(2)=41","(773+41)/(2)=407","(1783+600)/(2)=1191.5","(41+41)/(2)=41","(41+41)/(2)=41","(41+41)/(2)=41","(41+41)/(2)=41","(41+41)/(2)=41","(65+462)/(2)=263.5"]
["S164","(40+40)/(2)=40","(40+40)/(2)=40","(40+40)/(2)=40","(40+40)/(2)=40","(9993848.1+9997268.1)/(2)=9995558.1","(40+40)/(2)=40","(40+415)/(2)=227.5","(40+40)/(2)=40","(40+476)/(2)=258","(40+40)/(2)=40","(40+40)/(2)=40","(772+40)/(2)=406","(1782+599)/(2)=1190.5","(40+40)/(2)=40","(40+40)/(2)=40","(40+40)/(2)=40","(40+40)/(2)=40","(40+40)/(2)=40","(64+461)/(2)=262.5"]
["S165","(39+39)/(2)=39","(39+39)/(2)=39","(39+39)/(2)=39","(39+39)/(2)=39","(9993848.1+9997268.1)/(2)=9995558.1","(39+39)/(2)=39","(39+414)/(2)=226.5","(39+39)/(2)=39","(39+475)/(2)=257","(39+39)/(2)=39","(39+39)/(2)=39","(771+39)/(2)=405","(1781+598)/(2)=1189.5","(39+39)/(2)=39","(39+39)/(2)=39","(39+39)/(2)=39","(39+39)/(2)=39","(39+39)/(2)=39","(63+460)/(2)=261.5"]
["S166","(38+38)/(2)=38","(38+38)/(2)=38","(38+38)/(2)=38","(38+38)/(2)=38","(9993848.1+9997268.1)/(2)=9995558.1","(38+38)/(2)=38","(38+413)/(2)=225.5","(38+38)/(2)=38","(38+474)/(2)=256","(38+38)/(2)=38","(38+38)/(2)=38","(770+38)/(2)=404","(1780+597)/(2)=1188.5","(38+38)/(2)=38","(38+38)/(2)=38","(38+38)/(2)=38","(38+38)/(2)=38","(38+38)/(2)=38","(62+459)/(2)=260.5"]
["S167","(37+37)/(2)=37","(37+37)/(2)=37","(37+37)/(2)=37","(37+37)/(2)=37","(9993848.1+9997268.1)/(2)=9995558.1","(37+37)/(2)=37","(37+412)/(2)=224.5","(37+37)/(2)=37","(37+473)/(2)=255","(37+37)/(2)=37","(37+37)/(2)=37","(769+37)/(2)=403","(1779+596)/(2)=1187.5","(37+37)/(2)=37","(37+37)/(2)=37","(37+37)/(2)=37","(37+37)/(2)=37","(37+37)/(2)=37","(61+458)/(2)=259.5"]
["S168","(36+36)/(2)=36","(36+36)/(2)=36","(36+36)/(2)=36","(36+36)/(2)=36","(9993848.1+9997268.1)/(2)=9995558.1","(36+36)/(2)=36","(36+411)/(2)=223.5","(36+36)/(2)=36","(36+472)/(2)=254","(36+36)/(2)=36","(36+36)/(2)=36","(768+36)/(2)=402","(1778+595)/(2)=1186.5","(36+36)/(2)=36","(36+36)/(2)=36","(36+36)/(2)=36","(36+36)/(2)=36","(36+36)/(2)=36","(60+457)/(2)=258.5"]
["S169","(35+35)/(2)=35","(35+35)/(2)=35","(35+35)/(2)=35","(35+35)/(2)=35","(9993848.1+9997268.1)/(2)=9995558.1","(35+35)/(2)=35","(35+410)/(2)=222.5","(35+35)/(2)=35","(35+471)/(2)=253","(35+35)/(2)=35","(35+35)/(2)=35","(767+35)/(2)=401","(1777+594)/(2)=1185.5","(35+35)/(2)=35","(35+35)/(2)=35","(35+35)/(2)=35","(35+35)/(2)=35","(35+35)/(2)=35","(59+456)/(2)=257.5"]
["S170","(34+34)/(2)=34","(34+34)/(2)=34","(34+34)/(2)=34","(34+34)/(2)=34","(9993848.1+9997268.1)/(2)=9995558.1","(34+34)/(2)=34","(34+409)/(2)=221.5","(34+34)/(2)=34","(34+470)/(2)=252","(34+34)/(2)=34","(34+34)/(2)=34","(766+34)/(2)=400","(1776+593)/(2)=1184.5","(34+34)/(2)=34","(34+34)/(2)=34","(34+34)/(2)=34","(34+34)/(2)=34","(34+34)/(2)=34","(58+455)/(2)=256.5"]
["S171","(33+33)/(2)=33","(33+33)/(2)=33","(33+33)/(2)=33","(33+33)/(2)=33","(9993848.1+9997258.1)/(2)=9995553.1","(33+33)/(2)=33","(33+408)/(2)=220.5","(33+33)/(2)=33","(33+469)/(2)=251","(33+33)/(2)=33","(33+33)/(2)=33","(765+33)/(2)=399","(1775+592)/(2)=1183.5","(33+33)/(2)=33","(33+33)/(2)=33","(33+33)/(2)=33","(33+33)/(2)=33","(33+33)/(2)=33","(57+454)/(2)=255.5"]
["S172","(32+32)/(2)=32","(32+32)/(2)=32","(32+32)/(2)=32","(32+32)/(2)=32","(9993848.1+9997258.1)/(2)=9995553.1","(32+32)/(2)=32","(32+407)/(2)=219.5","(32+32)/(2)=32","(32+468)/(2)=250","(32+32)/(2)=32","(32+32)/(2)=32","(764+32)/(2)=398","(1774+591)/(2)=1182.5","(32+32)/(2)=32","(32+32)/(2)=32","(32+32)/(2)=32","(32+32)/(2)=32","(32+32)/(2)=32","(56+453)/(2)=254.5"]
["S173","(31+31)/(2)=31","(31+31)/(2)=31","(31+31)/(2)=31","(31+31)/(2)=31","(9993838.1+9997258.1)/(2)=9995548.1","(31+31)/(2)=31","(31+406)/(2)=218.5","(31+31)/(2)=31","(31+467)/(2)=249","(31+31)/(2)=31","(31+31)/(2)=31","(763+31)/(2)=397","(1773+590)/(2)=1181.5","(31+31)/(2)=31","(31+31)/(2)=31","(31+31)/(2)=31","(31+31)/(2)=31","(31+31)/(2)=31","(55+452)/(2)=253.5"]
["S174","(30+30)/(2)=30","(30+30)/(2)=30","(30+30)/(2)=30","(30+30)/(2)=30","(9993838.1+9997258.1)/(2)=9995548.1","(30+30)/(2)=30","(30+405)/(2)=217.5","(30+30)/(2)=30","(30+466)/(2)=248","(30+30)/(2)=30","(30+30)/(2)=30","(762+30)/(2)=396","(1772+589)/(2)=1180.5","(30+30)/(2)=30","(30+30)/(2)=30","(30+30)/(2)=30","(30+30)/(2)=30","(30+30)/(2)=30","(54+451)/(2)=252.5"]
["S175","(29+29)/(2)=29","(29+29)/(2)=29","(29+29)/(2)=29","(29+29)/(2)=29","(9993838.1+9997258.1)/(2)=9995548.1","(29+29)/(2)=29","(29+404)/(2)=216.5","(29+29)/(2)=29","(29+465)/(2)=247","(29+29)/(2)=29","(29+29)/(2)=29","(761+29)/(2)=395","(1771+588)/(2)=1179.5","(29+29)/(2)=29","(29+29)/(2)=29","(29+29)/(2)=29","(29+29)/(2)=29","(29+29)/(2)=29","(53+450)/(2)=251.5"]
["S176","(28+28)/(2)=28","(28+28)/(2)=28","(28+28)/(2)=28","(28+28)/(2)=28","(9993838.1+9997258.1)/(2)=9995548.1","(28+28)/(2)=28","(28+403)/(2)=215.5","(28+28)/(2)=28","(28+464)/(2)=246","(28+28)/(2)=28","(28+28)/(2)=28","(760+28)/(2)=394","(1770+587)/(2)=1178.5","(28+28)/(2)=28","(28+28)/(2)=28","(28+28)/(2)=28","(28+28)/(2)=28","(28+28)/(2)=28","(52+449)/(2)=250.5"]
["S177","(27+27)/(2)=27","(27+27)/(2)=27","(27+27)/(2)=27","(27+27)/(2)=27","(9993838.1+9997258.1)/(2)=9995548.1","(27+27)/(2)=27","(27+402)/(2)=214.5","(27+27)/(2)=27","(27+463)/(2)=245","(27+27)/(2)=27","(27+27)/(2)=27","(759+27)/(2)=393","(1769+586)/(2)=1177.5","(27+27)/(2)=27","(27+27)/(2)=27","(27+27)/(2)=27","(27+27)/(2)=27","(27+27)/(2)=27","(51+448)/(2)=249.5"]
["S178","(26+26)/(2)=26","(26+26)/(2)=26","(26+26)/(2)=26","(26+26)/(2)=26","(9993838.1+9997258.1)/(2)=9995548.1","(26+26)/(2)=26","(26+401)/(2)=213.5","(26+26)/(2)=26","(26+462)/(2)=244","(26+26)/(2)=26","(26+26)/(2)=26","(758+26)/(2)=392","(1768+585)/(2)=1176.5","(26+26)/(2)=26","(26+26)/(2)=26","(26+26)/(2)=26","(26+26)/(2)=26","(26+26)/(2)=26","(50+447)/(2)=248.5"]
["S179","(25+25)/(2)=25","(25+25)/(2)=25","(25+25)/(2)=25","(25+25)/(2)=25","(9993838.1+9997258.1)/(2)=9995548.1","(25+25)/(2)=25","(25+400)/(2)=212.5","(25+25)/(2)=25","(25+461)/(2)=243","(25+25)/(2)=25","(25+25)/(2)=25","(757+25)/(2)=391","(1767+584)/(2)=1175.5","(25+25)/(2)=25","(25+25)/(2)=25","(25+25)/(2)=25","(25+25)/(2)=25","(25+25)/(2)=25","(49+446)/(2)=247.5"]
["S180","(24+24)/(2)=24","(24+24)/(2)=24","(24+24)/(2)=24","(24+24)/(2)=24","(9993838.1+9997258.1)/(2)=9995548.1","(24+24)/(2)=24","(24+399)/(2)=211.5","(24+24)/(2)=24","(24+460)/(2)=242","(24+24)/(2)=24","(24+24)/(2)=24","(756+24)/(2)=390","(1766+583)/(2)=1174.5","(24+24)/(2)=24","(24+24)/(2)=24","(24+24)/(2)=24","(24+24)/(2)=24","(24+24)/(2)=24","(48+445)/(2)=246.5"]
["S181","(23+23)/(2)=23","(23+23)/(2)=23","(23+23)/(2)=23","(23+23)/(2)=23","(9993838.1+9997248.1)/(2)=9995543.1","(23+23)/(2)=23","(23+398)/(2)=210.5","(23+23)/(2)=23","(23+459)/(2)=241","(23+23)/(2)=23","(23+23)/(2)=23","(755+23)/(2)=389","(1765+582)/(2)=1173.5","(23+23)/(2)=23","(23+23)/(2)=23","(23+23)/(2)=23","(23+23)/(2)=23","(23+23)/(2)=23","(47+444)/(2)=245.5"]
["S182","(22+22)/(2)=22","(22+22)/(2)=22","(22+22)/(2)=22","(22+22)/(2)=22","(9993838.1+9997248.1)/(2)=9995543.1","(22+22)/(2)=22","(22+397)/(2)=209.5","(22+22)/(2)=22","(22+458)/(2)=240","(22+22)/(2)=22","(22+22)/(2)=22","(754+22)/(2)=388","(1764+581)/(2)=1172.5","(22+22)/(2)=22","(22+22)/(2)=22","(22+22)/(2)=22","(22+22)/(2)=22","(22+22)/(2)=22","(46+443)/(2)=244.5"]
["S183","(21+21)/(2)=21","(21+21)/(2)=21","(21+21)/(2)=21","(21+21)/(2)=21","(9993828.1+9997248.1)/(2)=9995538.1","(21+21)/(2)=21","(21+396)/(2)=208.5","(21+21)/(2)=21","(21+457)/(2)=239","(21+21)/(2)=21","(21+21)/(2)=21","(753+21)/(2)=387","(1763+580)/(2)=1171.5","(21+21)/(2)=21","(21+21)/(2)=21","(21+21)/(2)=21","(21+21)/(2)=21","(21+21)/(2)=21","(45+126)/(2)=85.5"]
["S184","(20+20)/(2)=20","(20+20)/(2)=20","(20+20)/(2)=20","(20+20)/(2)=20","(9993828.1+9997248.1)/(2)=9995538.1","(20+20)/(2)=20","(20+395)/(2)=207.5","(20+20)/(2)=20","(20+456)/(2)=238","(20+20)/(2)=20","(20+20)/(2)=20","(752+20)/(2)=386","(1762+579)/(2)=1170.5","(20+20)/(2)=20","(20+20)/(2)=20","(20+20)/(2)=20","(20+20)/(2)=20","(20+20)/(2)=20","(44+125)/(2)=84.5"]
["S185","(19+19)/(2)=19","(19+19)/(2)=19","(19+19)/(2)=19","(19+19)/(2)=19","(9993828.1+9997248.1)/(2)=9995538.1","(19+19)/(2)=19","(19+394)/(2)=206.5","(19+19)/(2)=19","(19+455)/(2)=237","(19+19)/(2)=19","(19+19)/(2)=19","(751+19)/(2)=385","(1761+578)/(2)=1169.5","(19+19)/(2)=19","(19+19)/(2)=19","(19+19)/(2)=19","(19+19)/(2)=19","(19+19)/(2)=19","(43+124)/(2)=83.5"]
["S186","(18+18)/(2)=18","(18+18)/(2)=18","(18+18)/(2)=18","(18+18)/(2)=18","(9993828.1+9997248.1)/(2)=9995538.1","(18+18)/(2)=18","(18+393)/(2)=205.5","(18+18)/(2)=18","(18+454)/(2)=236","(18+18)/(2)=18","(18+18)/(2)=18","(750+18)/(2)=384","(1760+577)/(2)=1168.5","(18+18)/(2)=18","(18+18)/(2)=18","(18+18)/(2)=18","(18+18)/(2)=18","(18+18)/(2)=18","(42+123)/(2)=82.5"]
["S187","(17+17)/(2)=17","(17+17)/(2)=17","(17+17)/(2)=17","(17+17)/(2)=17","(9993828.1+9997248.1)/(2)=9995538.1","(17+17)/(2)=17","(17+392)/(2)=204.5","(17+17)/(2)=17","(17+453)/(2)=235","(17+17)/(2)=17","(17+17)/(2)=17","(749+17)/(2)=383","(1759+576)/(2)=1167.5","(17+17)/(2)=17","(17+17)/(2)=17","(17+17)/(2)=17","(17+17)/(2)=17","(17+17)/(2)=17","(41+122)/(2)=81.5"]
["S188","(16+16)/(2)=16","(16+16)/(2)=16","(16+16)/(2)=16","(16+16)/(2)=16","(9993828.1+9997248.1)/(2)=9995538.1","(16+16)/(2)=16","(16+391)/(2)=203.5","(16+16)/(2)=16","(16+452)/(2)=234","(16+16)/(2)=16","(16+16)/(2)=16","(748+16)/(2)=382","(1758+575)/(2)=1166.5","(16+16)/(2)=16","(16+16)/(2)=16","(16+16)/(2)=16","(16+16)/(2)=16","(16+16)/(2)=16","(40+121)/(2)=80.5"]
["S189","(15+15)/(2)=15","(15+15)/(2)=15","(15+15)/(2)=15","(15+15)/(2)=15","(9993828.1+9997248.1)/(2)=9995538.1","(15+15)/(2)=15","(15+390)/(2)=202.5","(15+15)/(2)=15","(15+451)/(2)=233","(15+15)/(2)=15","(15+15)/(2)=15","(747+15)/(2)=381","(1757+574)/(2)=1165.5","(15+15)/(2)=15","(15+15)/(2)=15","(15+15)/(2)=15","(15+15)/(2)=15","(15+15)/(2)=15","(39+120)/(2)=79.5"]
["S190","(14+14)/(2)=14","(14+14)/(2)=14","(14+14)/(2)=14","(14+14)/(2)=14","(9993828.1+9997248.1)/(2)=9995538.1","(14+14)/(2)=14","(14+389)/(2)=201.5","(14+14)/(2)=14","(14+450)/(2)=232","(14+14)/(2)=14","(14+14)/(2)=14","(746+14)/(2)=380","(1756+573)/(2)=1164.5","(14+14)/(2)=14","(14+14)/(2)=14","(14+14)/(2)=14","(14+14)/(2)=14","(14+14)/(2)=14","(38+119)/(2)=78.5"]
["S191","(13+13)/(2)=13","(13+13)/(2)=13","(13+13)/(2)=13","(13+13)/(2)=13","(9993828.1+9997238.1)/(2)=9995533.1","(13+13)/(2)=13","(13+388)/(2)=200.5","(13+13)/(2)=13","(13+449)/(2)=231","(13+13)/(2)=13","(13+13)/(2)=13","(745+13)/(2)=379","(1755+404)/(2)=1079.5","(13+13)/(2)=13","(13+13)/(2)=13","(13+13)/(2)=13","(13+13)/(2)=13","(13+13)/(2)=13","(37+118)/(2)=77.5"]
["S192","(12+12)/(2)=12","(12+12)/(2)=12","(12+12)/(2)=12","(12+12)/(2)=12","(9993828.1+9997238.1)/(2)=9995533.1","(12+12)/(2)=12","(12+387)/(2)=199.5","(12+12)/(2)=12","(12+448)/(2)=230","(12+12)/(2)=12","(12+12)/(2)=12","(744+12)/(2)=378","(1754+403)/(2)=1078.5","(12+12)/(2)=12","(12+12)/(2)=12","(12+12)/(2)=12","(12+12)/(2)=12","(12+12)/(2)=12","(36+117)/(2)=76.5"]
["S193","(11+11)/(2)=11","(11+11)/(2)=11","(11+11)/(2)=11","(11+11)/(2)=11","(9993818.1+9997238.1)/(2)=9995528.1","(11+11)/(2)=11","(11+386)/(2)=198.5","(11+11)/(2)=11","(11+447)/(2)=229","(11+11)/(2)=11","(11+11)/(2)=11","(743+11)/(2)=377","(1753+402)/(2)=1077.5","(11+11)/(2)=11","(11+11)/(2)=11","(11+11)/(2)=11","(11+11)/(2)=11","(11+11)/(2)=11","(35+116)/(2)=75.5"]
["S194","(10+10)/(2)=10","(10+10)/(2)=10","(10+10)/(2)=10","(10+10)/(2)=10","(9993818.1+9997238.1)/(2)=9995528.1","(10+10)/(2)=10","(10+385)/(2)=197.5","(10+10)/(2)=10","(10+446)/(2)=228","(10+10)/(2)=10","(10+10)/(2)=10","(742+10)/(2)=376","(1752+401)/(2)=1076.5","(10+10)/(2)=10","(10+10)/(2)=10","(10+10)/(2)=10","(10+10)/(2)=10","(10+10)/(2)=10","(34+10)/(2)=22"]
["S195","(9+9)/(2)=9","(9+9)/(2)=9","(9+9)/(2)=9","(9+9)/(2)=9","(9993818.1+9997238.1)/(2)=9995528.1","(9+9)/(2)=9","(9+384)/(2)=196.5","(9+9)/(2)=9","(9+445)/(2)=227","(9+9)/(2)=9","(9+9)/(2)=9","(741+9)/(2)=375","(1751+400)/(2)=1075.5","(9+9)/(2)=9","(9+9)/(2)=9","(9+9)/(2)=9","(9+9)/(2)=9","(9+9)/(2)=9","(33+9)/(2)=21"]
["S196","(8+8)/(2)=8","(8+8)/(2)=8","(8+8)/(2)=8","(8+8)/(2)=8","(9993818.1+9997238.1)/(2)=9995528.1","(8+8)/(2)=8","(8+383)/(2)=195.5","(8+8)/(2)=8","(8+444)/(2)=226","(8+8)/(2)=8","(8+8)/(2)=8","(740+8)/(2)=374","(1750+399)/(2)=1074.5","(8+8)/(2)=8","(8+8)/(2)=8","(8+8)/(2)=8","(8+8)/(2)=8","(8+8)/(2)=8","(8+8)/(2)=8"]
["S197","(7+7)/(2)=7","(7+7)/(2)=7","(7+7)/(2)=7","(7+7)/(2)=7","(9993818.1+9997238.1)/(2)=9995528.1","(7+7)/(2)=7","(7+382)/(2)=194.5","(7+7)/(2)=7","(7+443)/(2)=225","(7+7)/(2)=7","(7+7)/(2)=7","(739+7)/(2)=373","(1749+398)/(2)=1073.5","(7+7)/(2)=7","(7+7)/(2)=7","(7+7)/(2)=7","(7+7)/(2)=7","(7+7)/(2)=7","(7+7)/(2)=7"]
["S198","(6+6)/(2)=6","(6+6)/(2)=6","(6+6)/(2)=6","(6+6)/(2)=6","(9993818.1+9997238.1)/(2)=9995528.1","(6+6)/(2)=6","(6+381)/(2)=193.5","(6+6)/(2)=6","(6+442)/(2)=224","(6+6)/(2)=6","(6+6)/(2)=6","(738+6)/(2)=372","(1748+397)/(2)=1072.5","(6+6)/(2)=6","(6+6)/(2)=6","(6+6)/(2)=6","(6+6)/(2)=6","(6+6)/(2)=6","(6+6)/(2)=6"]
["S199","(5+5)/(2)=5","(5+5)/(2)=5","(5+5)/(2)=5","(5+5)/(2)=5","(9993818.1+9997238.1)/(2)=9995528.1","(5+5)/(2)=5","(5+5)/(2)=5","(5+5)/(2)=5","(5+441)/(2)=223","(5+5)/(2)=5","(5+5)/(2)=5","(737+5)/(2)=371","(1747+272)/(2)=1009.5","(5+5)/(2)=5","(5+5)/(2)=5","(5+5)/(2)=5","(5+5)/(2)=5","(5+5)/(2)=5","(5+5)/(2)=5"]
["S200","(4+4)/(2)=4","(4+4)/(2)=4","(4+4)/(2)=4","(4+4)/(2)=4","(9993818.1+9997238.1)/(2)=9995528.1","(4+4)/(2)=4","(4+4)/(2)=4","(4+4)/(2)=4","(4+4)/(2)=4","(4+4)/(2)=4","(4+4)/(2)=4","(4+4)/(2)=4","(1746+271)/(2)=1008.5","(4+4)/(2)=4","(4+4)/(2)=4","(4+4)/(2)=4","(4+4)/(2)=4","(4+4)/(2)=4","(4+4)/(2)=4"]
["S201","(3+3)/(2)=3","(3+3)/(2)=3","(3+3)/(2)=3","(3+3)/(2)=3","(9993818.1+9997228.1)/(2)=9995523.1","(3+3)/(2)=3","(3+3)/(2)=3","(3+3)/(2)=3","(3+3)/(2)=3","(3+3)/(2)=3","(3+3)/(2)=3","(3+3)/(2)=3","(1745+270)/(2)=1007.5","(3+3)/(2)=3","(3+3)/(2)=3","(3+3)/(2)=3","(3+3)/(2)=3","(3+3)/(2)=3","(3+3)/(2)=3"]
["S202","(2+2)/(2)=2","(2+2)/(2)=2","(2+2)/(2)=2","(2+2)/(2)=2","(9993818.1+9997228.1)/(2)=9995523.1","(2+2)/(2)=2","(2+2)/(2)=2","(2+2)/(2)=2","(2+2)/(2)=2","(2+2)/(2)=2","(2+2)/(2)=2","(2+2)/(2)=2","(1744+269)/(2)=1006.5","(2+2)/(2)=2","(2+2)/(2)=2","(2+2)/(2)=2","(2+2)/(2)=2","(2+2)/(2)=2","(2+2)/(2)=2"]
["S203","(1+1)/(2)=1","(1+1)/(2)=1","(1+1)/(2)=1","(1+1)/(2)=1","(9993808.1+9997228.1)/(2)=9995518.1","(1+1)/(2)=1","(1+1)/(2)=1","(1+1)/(2)=1","(1+1)/(2)=1","(1+1)/(2)=1","(1+1)/(2)=1","(1+1)/(2)=1","(1+1)/(2)=1","(1+1)/(2)=1","(1+1)/(2)=1","(1+1)/(2)=1","(1+1)/(2)=1","(1+1)/(2)=1","(1+1)/(2)=1"]
["S204","(0+0)/(2)=0","(0+0)/(2)=0","(0+0)/(2)=0","(0+0)/(2)=0","(9993808.1+9997228.1)/(2)=9995518.1","(0+0)/(2)=0","(0+0)/(2)=0","(0+0)/(2)=0","(0+0)/(2)=0","(0+0)/(2)=0","(0+0)/(2)=0","(0+0)/(2)=0","(0+0)/(2)=0","(0+0)/(2)=0","(0+0)/(2)=0","(0+0)/(2)=0","(0+0)/(2)=0","(0+0)/(2)=0","(0+0)/(2)=0"]
[]
["L�pcs�k(2)","X(A1)","X(A2)","X(A3)","X(A4)","X(A5)","X(A6)","X(A7)","X(A8)","X(A9)","X(A10)","X(A11)","X(A12)","X(A13)","X(A14)","X(A15)","X(A16)","X(A17)","X(A18)","X(A19)"]
["S1",891.5,595,1041.5,481.5,9995998.0999999996,412.5,476.5,605.5,462,311.5,203,1493.5,1353.5,2967.4,789,203,744.5,276.5,425.5]
["S2",890.5,594,1040.5,305.5,9995938.0999999996,411.5,475.5,202,461,310.5,202,1274,1352.5,1549.5,788,202,630,275.5,424.5]
["S3",561.5,265.5,1039.5,304.5,9995938.0999999996,201,474.5,201,460,309.5,201,1273,1351.5,1548.5,787,201,201,274.5,423.5]
["S4",200,225,423.5,303.5,9995938.0999999996,200,473.5,200,418,308.5,200,566,1350.5,1547.5,786,200,200,273.5,422.5]
["S5",199,199,422.5,302.5,9995933.0999999996,199,472.5,199,417,307.5,199,565,1349.5,352,785,199,199,272.5,421.5]
["S6",198,198,421.5,301.5,9995933.0999999996,198,471.5,198,416,306.5,198,564,1348.5,351,784,198,198,198,420.5]
["S7",197,197,420.5,300.5,9995933.0999999996,197,470.5,197,415,305.5,197,563,1347.5,350,783,197,197,197,419.5]
["S8",196,196,419.5,299.5,9995933.0999999996,196,469.5,196,414,304.5,196,562,1346.5,222,782,196,196,196,418.5]
["S9",195,195,418.5,298.5,9995758.0999999996,195,468.5,195,413,303.5,195,561,1345.5,221,781,195,195,195,417.5]
["S10",194,194,417.5,297.5,9995758.0999999996,194,467.5,194,412,302.5,194,560,1344.5,194,601.5,194,194,194,416.5]
["S11",193,193,309,296.5,9995753.0999999996,193,466.5,193,411,301.5,193,559,1343.5,193,193,193,193,193,415.5]
["S12",192,192,308,295.5,9995748.0999999996,192,465.5,192,410,300.5,192,558,1342.5,192,192,192,192,192,414.5]
["S13",191,191,307,294.5,9995748.0999999996,191,464.5,191,409,299.5,191,557,1341.5,191,191,191,191,191,413.5]
["S14",190,190,306,293.5,9995748.0999999996,190,463.5,190,408,298.5,190,556,1340.5,190,190,190,190,190,412.5]
["S15",189,189,305,292.5,9995708.0999999996,189,462.5,189,407,297.5,189,555,1339.5,189,189,189,189,189,411.5]
["S16",188,188,304,291.5,9995708.0999999996,188,461.5,188,406,296.5,188,554,1338.5,188,188,188,188,188,410.5]
["S17",187,187,303,290.5,9995708.0999999996,187,460.5,187,405,295.5,187,553,1337.5,187,187,187,187,187,409.5]
["S18",186,186,280,289.5,9995708.0999999996,186,459.5,186,404,294.5,186,552,1336.5,186,186,186,186,186,408.5]
["S19",185,185,279,288.5,9995708.0999999996,185,458.5,185,403,293.5,185,551,1335.5,185,185,185,185,185,407.5]
["S20",184,184,278,287.5,9995708.0999999996,184,457.5,184,402,292.5,184,550,1334.5,184,184,184,184,184,406.5]
["S21",183,183,277,286.5,9995703.0999999996,183,456.5,183,401,291.5,183,549,1333.5,183,183,183,183,183,405.5]
["S22",182,182,276,285.5,9995703.0999999996,182,455.5,182,400,290.5,182,548,1332.5,182,182,182,182,182,404.5]
["S23",181,181,275,284.5,9995698.0999999996,181,454.5,181,399,289.5,181,547,1331.5,181,181,181,181,181,403.5]
["S24",180,180,274,283.5,9995698.0999999996,180,453.5,180,398,288.5,180,546,1330.5,180,180,180,180,180,402.5]
["S25",179,179,273,282.5,9995698.0999999996,179,452.5,179,397,287.5,179,545,1329.5,179,179,179,179,179,401.5]
["S26",178,178,272,281.5,9995698.0999999996,178,451.5,178,396,286.5,178,544,1328.5,178,178,178,178,178,400.5]
["S27",177,177,271,280.5,9995698.0999999996,177,450.5,177,395,285.5,177,543,1327.5,177,177,177,177,177,399.5]
["S28",176,176,176,279.5,9995698.0999999996,176,449.5,176,394,284.5,176,542,1326.5,176,176,176,176,176,398.5]
["S29",175,175,175,278.5,9995698.0999999996,175,448.5,175,393,283.5,175,541,1325.5,175,175,175,175,175,397.5]
["S30",174,174,174,277.5,9995698.0999999996,174,447.5,174,392,282.5,174,540,1324.5,174,174,174,174,174,396.5]
["S31",173,173,173,276.5,9995693.0999999996,173,446.5,173,391,281.5,173,539,1323.5,173,173,173,173,173,395.5]
["S32",172,172,172,275.5,9995693.0999999996,172,445.5,172,390,280.5,172,538,1322.5,172,172,172,172,172,394.5]
["S33",171,171,171,274.5,9995688.0999999996,171,444.5,171,389,279.5,171,537,1321.5,171,171,171,171,171,393.5]
["S34",170,170,170,273.5,9995688.0999999996,170,443.5,170,388,278.5,170,536,1320.5,170,170,170,170,170,392.5]
["S35",169,169,169,272.5,9995688.0999999996,169,442.5,169,387,277.5,169,535,1319.5,169,169,169,169,169,391.5]
["S36",168,168,168,271.5,9995688.0999999996,168,441.5,168,386,276.5,168,534,1318.5,168,168,168,168,168,390.5]
["S37",167,167,167,270.5,9995688.0999999996,167,440.5,167,385,275.5,167,533,1317.5,167,167,167,167,167,389.5]
["S38",166,166,166,269.5,9995688.0999999996,166,439.5,166,384,274.5,166,532,1316.5,166,166,166,166,166,388.5]
["S39",165,165,165,268.5,9995688.0999999996,165,438.5,165,383,273.5,165,531,1315.5,165,165,165,165,165,387.5]
["S40",164,164,164,267.5,9995688.0999999996,164,437.5,164,382,272.5,164,530,1314.5,164,164,164,164,164,386.5]
["S41",163,163,163,266.5,9995683.0999999996,163,436.5,163,381,271.5,163,529,1313.5,163,163,163,163,163,385.5]
["S42",162,162,162,265.5,9995683.0999999996,162,435.5,162,380,270.5,162,528,1312.5,162,162,162,162,162,384.5]
["S43",161,161,161,161,9995678.0999999996,161,434.5,161,379,269.5,161,527,1311.5,161,161,161,161,161,383.5]
["S44",160,160,160,160,9995678.0999999996,160,433.5,160,378,268.5,160,526,1310.5,160,160,160,160,160,382.5]
["S45",159,159,159,159,9995678.0999999996,159,432.5,159,377,267.5,159,525,1309.5,159,159,159,159,159,381.5]
["S46",158,158,158,158,9995678.0999999996,158,431.5,158,376,266.5,158,524,1308.5,158,158,158,158,158,380.5]
["S47",157,157,157,157,9995678.0999999996,157,430.5,157,375,265.5,157,523,1307.5,157,157,157,157,157,379.5]
["S48",156,156,156,156,9995678.0999999996,156,429.5,156,374,264.5,156,522,1306.5,156,156,156,156,156,378.5]
["S49",155,155,155,155,9995678.0999999996,155,428.5,155,373,263.5,155,521,1305.5,155,155,155,155,155,377.5]
["S50",154,154,154,154,9995678.0999999996,154,427.5,154,372,262.5,154,520,1304.5,154,154,154,154,154,376.5]
["S51",153,153,153,153,9995673.0999999996,153,426.5,153,371,261.5,153,519,1303.5,153,153,153,153,153,375.5]
["S52",152,152,152,152,9995673.0999999996,152,425.5,152,370,260.5,152,518,1302.5,152,152,152,152,152,374.5]
["S53",151,151,151,151,9995668.0999999996,151,424.5,151,369,259.5,151,517,1301.5,151,151,151,151,151,373.5]
["S54",150,150,150,150,9995668.0999999996,150,423.5,150,368,258.5,150,516,1300.5,150,150,150,150,150,372.5]
["S55",149,149,149,149,9995668.0999999996,149,422.5,149,367,257.5,149,515,1299.5,149,149,149,149,149,371.5]
["S56",148,148,148,148,9995668.0999999996,148,335.5,148,366,256.5,148,514,1298.5,148,148,148,148,148,370.5]
["S57",147,147,147,147,9995668.0999999996,147,334.5,147,365,255.5,147,513,1297.5,147,147,147,147,147,369.5]
["S58",146,146,146,146,9995668.0999999996,146,333.5,146,364,254.5,146,512,1296.5,146,146,146,146,146,368.5]
["S59",145,145,145,145,9995668.0999999996,145,332.5,145,363,253.5,145,511,1295.5,145,145,145,145,145,367.5]
["S60",144,144,144,144,9995668.0999999996,144,331.5,144,362,252.5,144,510,1294.5,144,144,144,144,144,366.5]
["S61",143,143,143,143,9995663.0999999996,143,330.5,143,361,251.5,143,509,1293.5,143,143,143,143,143,365.5]
["S62",142,142,142,142,9995663.0999999996,142,329.5,142,360,250.5,142,508,1292.5,142,142,142,142,142,364.5]
["S63",141,141,141,141,9995658.0999999996,141,328.5,141,359,249.5,141,507,1291.5,141,141,141,141,141,363.5]
["S64",140,140,140,140,9995658.0999999996,140,327.5,140,358,140,140,506,1290.5,140,140,140,140,140,362.5]
["S65",139,139,139,139,9995658.0999999996,139,326.5,139,357,139,139,505,1289.5,139,139,139,139,139,361.5]
["S66",138,138,138,138,9995658.0999999996,138,325.5,138,356,138,138,504,1288.5,138,138,138,138,138,360.5]
["S67",137,137,137,137,9995658.0999999996,137,324.5,137,355,137,137,503,1287.5,137,137,137,137,137,359.5]
["S68",136,136,136,136,9995658.0999999996,136,323.5,136,354,136,136,502,1286.5,136,136,136,136,136,358.5]
["S69",135,135,135,135,9995658.0999999996,135,322.5,135,353,135,135,501,1285.5,135,135,135,135,135,357.5]
["S70",134,134,134,134,9995658.0999999996,134,321.5,134,352,134,134,500,1284.5,134,134,134,134,134,356.5]
["S71",133,133,133,133,9995653.0999999996,133,320.5,133,351,133,133,499,1283.5,133,133,133,133,133,355.5]
["S72",132,132,132,132,9995653.0999999996,132,319.5,132,350,132,132,498,1282.5,132,132,132,132,132,354.5]
["S73",131,131,131,131,9995648.0999999996,131,318.5,131,349,131,131,497,1281.5,131,131,131,131,131,353.5]
["S74",130,130,130,130,9995648.0999999996,130,317.5,130,348,130,130,496,1280.5,130,130,130,130,130,352.5]
["S75",129,129,129,129,9995648.0999999996,129,316.5,129,347,129,129,495,1279.5,129,129,129,129,129,351.5]
["S76",128,128,128,128,9995648.0999999996,128,315.5,128,346,128,128,494,1278.5,128,128,128,128,128,350.5]
["S77",127,127,127,127,9995648.0999999996,127,314.5,127,345,127,127,493,1277.5,127,127,127,127,127,349.5]
["S78",126,126,126,126,9995648.0999999996,126,313.5,126,344,126,126,492,1276.5,126,126,126,126,126,348.5]
["S79",125,125,125,125,9995648.0999999996,125,312.5,125,343,125,125,491,1275.5,125,125,125,125,125,347.5]
["S80",124,124,124,124,9995648.0999999996,124,311.5,124,342,124,124,490,1274.5,124,124,124,124,124,346.5]
["S81",123,123,123,123,9995643.0999999996,123,310.5,123,341,123,123,489,1273.5,123,123,123,123,123,345.5]
["S82",122,122,122,122,9995643.0999999996,122,309.5,122,340,122,122,488,1272.5,122,122,122,122,122,344.5]
["S83",121,121,121,121,9995638.0999999996,121,308.5,121,339,121,121,487,1271.5,121,121,121,121,121,343.5]
["S84",120,120,120,120,9995638.0999999996,120,307.5,120,338,120,120,486,1270.5,120,120,120,120,120,342.5]
["S85",119,119,119,119,9995638.0999999996,119,306.5,119,337,119,119,485,1269.5,119,119,119,119,119,341.5]
["S86",118,118,118,118,9995638.0999999996,118,305.5,118,336,118,118,484,1268.5,118,118,118,118,118,340.5]
["S87",117,117,117,117,9995638.0999999996,117,304.5,117,335,117,117,483,1267.5,117,117,117,117,117,339.5]
["S88",116,116,116,116,9995638.0999999996,116,303.5,116,334,116,116,482,1266.5,116,116,116,116,116,338.5]
["S89",115,115,115,115,9995638.0999999996,115,302.5,115,333,115,115,481,1265.5,115,115,115,115,115,337.5]
["S90",114,114,114,114,9995638.0999999996,114,301.5,114,332,114,114,480,1264.5,114,114,114,114,114,336.5]
["S91",113,113,113,113,9995633.0999999996,113,300.5,113,331,113,113,479,1263.5,113,113,113,113,113,335.5]
["S92",112,112,112,112,9995633.0999999996,112,299.5,112,330,112,112,478,1262.5,112,112,112,112,112,334.5]
["S93",111,111,111,111,9995628.0999999996,111,298.5,111,329,111,111,477,1261.5,111,111,111,111,111,333.5]
["S94",110,110,110,110,9995628.0999999996,110,297.5,110,328,110,110,476,1260.5,110,110,110,110,110,332.5]
["S95",109,109,109,109,9995628.0999999996,109,296.5,109,327,109,109,475,1259.5,109,109,109,109,109,331.5]
["S96",108,108,108,108,9995628.0999999996,108,295.5,108,326,108,108,474,1258.5,108,108,108,108,108,330.5]
["S97",107,107,107,107,9995628.0999999996,107,294.5,107,325,107,107,473,1257.5,107,107,107,107,107,329.5]
["S98",106,106,106,106,9995628.0999999996,106,293.5,106,324,106,106,472,1256.5,106,106,106,106,106,328.5]
["S99",105,105,105,105,9995628.0999999996,105,292.5,105,323,105,105,471,1255.5,105,105,105,105,105,327.5]
["S100",104,104,104,104,9995628.0999999996,104,291.5,104,322,104,104,470,1254.5,104,104,104,104,104,326.5]
["S101",103,103,103,103,9995623.0999999996,103,290.5,103,321,103,103,469,1253.5,103,103,103,103,103,325.5]
["S102",102,102,102,102,9995623.0999999996,102,289.5,102,320,102,102,468,1252.5,102,102,102,102,102,324.5]
["S103",101,101,101,101,9995618.0999999996,101,288.5,101,319,101,101,467,1251.5,101,101,101,101,101,323.5]
["S104",100,100,100,100,9995618.0999999996,100,287.5,100,318,100,100,466,1250.5,100,100,100,100,100,322.5]
["S105",99,99,99,99,9995618.0999999996,99,286.5,99,317,99,99,465,1249.5,99,99,99,99,99,321.5]
["S106",98,98,98,98,9995618.0999999996,98,285.5,98,316,98,98,464,1248.5,98,98,98,98,98,320.5]
["S107",97,97,97,97,9995618.0999999996,97,284.5,97,315,97,97,463,1247.5,97,97,97,97,97,319.5]
["S108",96,96,96,96,9995618.0999999996,96,283.5,96,314,96,96,462,1246.5,96,96,96,96,96,318.5]
["S109",95,95,95,95,9995618.0999999996,95,282.5,95,313,95,95,461,1245.5,95,95,95,95,95,317.5]
["S110",94,94,94,94,9995618.0999999996,94,281.5,94,312,94,94,460,1244.5,94,94,94,94,94,316.5]
["S111",93,93,93,93,9995613.0999999996,93,280.5,93,311,93,93,459,1243.5,93,93,93,93,93,315.5]
["S112",92,92,92,92,9995613.0999999996,92,279.5,92,310,92,92,458,1242.5,92,92,92,92,92,314.5]
["S113",91,91,91,91,9995608.0999999996,91,278.5,91,309,91,91,457,1241.5,91,91,91,91,91,313.5]
["S114",90,90,90,90,9995608.0999999996,90,277.5,90,308,90,90,456,1240.5,90,90,90,90,90,312.5]
["S115",89,89,89,89,9995608.0999999996,89,276.5,89,307,89,89,455,1239.5,89,89,89,89,89,311.5]
["S116",88,88,88,88,9995608.0999999996,88,275.5,88,306,88,88,454,1238.5,88,88,88,88,88,310.5]
["S117",87,87,87,87,9995608.0999999996,87,274.5,87,305,87,87,453,1237.5,87,87,87,87,87,309.5]
["S118",86,86,86,86,9995608.0999999996,86,273.5,86,304,86,86,452,1236.5,86,86,86,86,86,308.5]
["S119",85,85,85,85,9995608.0999999996,85,272.5,85,303,85,85,451,1235.5,85,85,85,85,85,307.5]
["S120",84,84,84,84,9995608.0999999996,84,271.5,84,302,84,84,450,1234.5,84,84,84,84,84,306.5]
["S121",83,83,83,83,9995603.0999999996,83,270.5,83,301,83,83,449,1233.5,83,83,83,83,83,305.5]
["S122",82,82,82,82,9995603.0999999996,82,269.5,82,300,82,82,448,1232.5,82,82,82,82,82,304.5]
["S123",81,81,81,81,9995598.0999999996,81,268.5,81,299,81,81,447,1231.5,81,81,81,81,81,303.5]
["S124",80,80,80,80,9995598.0999999996,80,267.5,80,298,80,80,446,1230.5,80,80,80,80,80,302.5]
["S125",79,79,79,79,9995598.0999999996,79,266.5,79,297,79,79,445,1229.5,79,79,79,79,79,301.5]
["S126",78,78,78,78,9995598.0999999996,78,265.5,78,296,78,78,444,1228.5,78,78,78,78,78,300.5]
["S127",77,77,77,77,9995598.0999999996,77,264.5,77,295,77,77,443,1227.5,77,77,77,77,77,299.5]
["S128",76,76,76,76,9995598.0999999996,76,263.5,76,294,76,76,442,1226.5,76,76,76,76,76,298.5]
["S129",75,75,75,75,9995598.0999999996,75,262.5,75,293,75,75,441,1225.5,75,75,75,75,75,297.5]
["S130",74,74,74,74,9995598.0999999996,74,261.5,74,292,74,74,440,1224.5,74,74,74,74,74,296.5]
["S131",73,73,73,73,9995593.0999999996,73,260.5,73,291,73,73,439,1223.5,73,73,73,73,73,295.5]
["S132",72,72,72,72,9995593.0999999996,72,259.5,72,290,72,72,438,1222.5,72,72,72,72,72,294.5]
["S133",71,71,71,71,9995588.0999999996,71,258.5,71,289,71,71,437,1221.5,71,71,71,71,71,293.5]
["S134",70,70,70,70,9995588.0999999996,70,257.5,70,288,70,70,436,1220.5,70,70,70,70,70,292.5]
["S135",69,69,69,69,9995588.0999999996,69,256.5,69,287,69,69,435,1219.5,69,69,69,69,69,291.5]
["S136",68,68,68,68,9995588.0999999996,68,255.5,68,286,68,68,434,1218.5,68,68,68,68,68,290.5]
["S137",67,67,67,67,9995588.0999999996,67,254.5,67,285,67,67,433,1217.5,67,67,67,67,67,289.5]
["S138",66,66,66,66,9995588.0999999996,66,253.5,66,284,66,66,432,1216.5,66,66,66,66,66,288.5]
["S139",65,65,65,65,9995588.0999999996,65,252.5,65,283,65,65,431,1215.5,65,65,65,65,65,287.5]
["S140",64,64,64,64,9995588.0999999996,64,251.5,64,282,64,64,430,1214.5,64,64,64,64,64,286.5]
["S141",63,63,63,63,9995583.0999999996,63,250.5,63,281,63,63,429,1213.5,63,63,63,63,63,285.5]
["S142",62,62,62,62,9995583.0999999996,62,249.5,62,280,62,62,428,1212.5,62,62,62,62,62,284.5]
["S143",61,61,61,61,9995578.0999999996,61,248.5,61,279,61,61,427,1211.5,61,61,61,61,61,283.5]
["S144",60,60,60,60,9995578.0999999996,60,247.5,60,278,60,60,426,1210.5,60,60,60,60,60,282.5]
["S145",59,59,59,59,9995578.0999999996,59,246.5,59,277,59,59,425,1209.5,59,59,59,59,59,281.5]
["S146",58,58,58,58,9995578.0999999996,58,245.5,58,276,58,58,424,1208.5,58,58,58,58,58,280.5]
["S147",57,57,57,57,9995578.0999999996,57,244.5,57,275,57,57,423,1207.5,57,57,57,57,57,279.5]
["S148",56,56,56,56,9995578.0999999996,56,243.5,56,274,56,56,422,1206.5,56,56,56,56,56,278.5]
["S149",55,55,55,55,9995578.0999999996,55,242.5,55,273,55,55,421,1205.5,55,55,55,55,55,277.5]
["S150",54,54,54,54,9995578.0999999996,54,241.5,54,272,54,54,420,1204.5,54,54,54,54,54,276.5]
["S151",53,53,53,53,9995573.0999999996,53,240.5,53,271,53,53,419,1203.5,53,53,53,53,53,275.5]
["S152",52,52,52,52,9995573.0999999996,52,239.5,52,270,52,52,418,1202.5,52,52,52,52,52,274.5]
["S153",51,51,51,51,9995568.0999999996,51,238.5,51,269,51,51,417,1201.5,51,51,51,51,51,273.5]
["S154",50,50,50,50,9995568.0999999996,50,237.5,50,268,50,50,416,1200.5,50,50,50,50,50,272.5]
["S155",49,49,49,49,9995568.0999999996,49,236.5,49,267,49,49,415,1199.5,49,49,49,49,49,271.5]
["S156",48,48,48,48,9995568.0999999996,48,235.5,48,266,48,48,414,1198.5,48,48,48,48,48,270.5]
["S157",47,47,47,47,9995568.0999999996,47,234.5,47,265,47,47,413,1197.5,47,47,47,47,47,269.5]
["S158",46,46,46,46,9995568.0999999996,46,233.5,46,264,46,46,412,1196.5,46,46,46,46,46,268.5]
["S159",45,45,45,45,9995568.0999999996,45,232.5,45,263,45,45,411,1195.5,45,45,45,45,45,267.5]
["S160",44,44,44,44,9995568.0999999996,44,231.5,44,262,44,44,410,1194.5,44,44,44,44,44,266.5]
["S161",43,43,43,43,9995563.0999999996,43,230.5,43,261,43,43,409,1193.5,43,43,43,43,43,265.5]
["S162",42,42,42,42,9995563.0999999996,42,229.5,42,260,42,42,408,1192.5,42,42,42,42,42,264.5]
["S163",41,41,41,41,9995558.0999999996,41,228.5,41,259,41,41,407,1191.5,41,41,41,41,41,263.5]
["S164",40,40,40,40,9995558.0999999996,40,227.5,40,258,40,40,406,1190.5,40,40,40,40,40,262.5]
["S165",39,39,39,39,9995558.0999999996,39,226.5,39,257,39,39,405,1189.5,39,39,39,39,39,261.5]
["S166",38,38,38,38,9995558.0999999996,38,225.5,38,256,38,38,404,1188.5,38,38,38,38,38,260.5]
["S167",37,37,37,37,9995558.0999999996,37,224.5,37,255,37,37,403,1187.5,37,37,37,37,37,259.5]
["S168",36,36,36,36,9995558.0999999996,36,223.5,36,254,36,36,402,1186.5,36,36,36,36,36,258.5]
["S169",35,35,35,35,9995558.0999999996,35,222.5,35,253,35,35,401,1185.5,35,35,35,35,35,257.5]
["S170",34,34,34,34,9995558.0999999996,34,221.5,34,252,34,34,400,1184.5,34,34,34,34,34,256.5]
["S171",33,33,33,33,9995553.0999999996,33,220.5,33,251,33,33,399,1183.5,33,33,33,33,33,255.5]
["S172",32,32,32,32,9995553.0999999996,32,219.5,32,250,32,32,398,1182.5,32,32,32,32,32,254.5]
["S173",31,31,31,31,9995548.0999999996,31,218.5,31,249,31,31,397,1181.5,31,31,31,31,31,253.5]
["S174",30,30,30,30,9995548.0999999996,30,217.5,30,248,30,30,396,1180.5,30,30,30,30,30,252.5]
["S175",29,29,29,29,9995548.0999999996,29,216.5,29,247,29,29,395,1179.5,29,29,29,29,29,251.5]
["S176",28,28,28,28,9995548.0999999996,28,215.5,28,246,28,28,394,1178.5,28,28,28,28,28,250.5]
["S177",27,27,27,27,9995548.0999999996,27,214.5,27,245,27,27,393,1177.5,27,27,27,27,27,249.5]
["S178",26,26,26,26,9995548.0999999996,26,213.5,26,244,26,26,392,1176.5,26,26,26,26,26,248.5]
["S179",25,25,25,25,9995548.0999999996,25,212.5,25,243,25,25,391,1175.5,25,25,25,25,25,247.5]
["S180",24,24,24,24,9995548.0999999996,24,211.5,24,242,24,24,390,1174.5,24,24,24,24,24,246.5]
["S181",23,23,23,23,9995543.0999999996,23,210.5,23,241,23,23,389,1173.5,23,23,23,23,23,245.5]
["S182",22,22,22,22,9995543.0999999996,22,209.5,22,240,22,22,388,1172.5,22,22,22,22,22,244.5]
["S183",21,21,21,21,9995538.0999999996,21,208.5,21,239,21,21,387,1171.5,21,21,21,21,21,85.5]
["S184",20,20,20,20,9995538.0999999996,20,207.5,20,238,20,20,386,1170.5,20,20,20,20,20,84.5]
["S185",19,19,19,19,9995538.0999999996,19,206.5,19,237,19,19,385,1169.5,19,19,19,19,19,83.5]
["S186",18,18,18,18,9995538.0999999996,18,205.5,18,236,18,18,384,1168.5,18,18,18,18,18,82.5]
["S187",17,17,17,17,9995538.0999999996,17,204.5,17,235,17,17,383,1167.5,17,17,17,17,17,81.5]
["S188",16,16,16,16,9995538.0999999996,16,203.5,16,234,16,16,382,1166.5,16,16,16,16,16,80.5]
["S189",15,15,15,15,9995538.0999999996,15,202.5,15,233,15,15,381,1165.5,15,15,15,15,15,79.5]
["S190",14,14,14,14,9995538.0999999996,14,201.5,14,232,14,14,380,1164.5,14,14,14,14,14,78.5]
["S191",13,13,13,13,9995533.0999999996,13,200.5,13,231,13,13,379,1079.5,13,13,13,13,13,77.5]
["S192",12,12,12,12,9995533.0999999996,12,199.5,12,230,12,12,378,1078.5,12,12,12,12,12,76.5]
["S193",11,11,11,11,9995528.0999999996,11,198.5,11,229,11,11,377,1077.5,11,11,11,11,11,75.5]
["S194",10,10,10,10,9995528.0999999996,10,197.5,10,228,10,10,376,1076.5,10,10,10,10,10,22]
["S195",9,9,9,9,9995528.0999999996,9,196.5,9,227,9,9,375,1075.5,9,9,9,9,9,21]
["S196",8,8,8,8,9995528.0999999996,8,195.5,8,226,8,8,374,1074.5,8,8,8,8,8,8]
["S197",7,7,7,7,9995528.0999999996,7,194.5,7,225,7,7,373,1073.5,7,7,7,7,7,7]
["S198",6,6,6,6,9995528.0999999996,6,193.5,6,224,6,6,372,1072.5,6,6,6,6,6,6]
["S199",5,5,5,5,9995528.0999999996,5,5,5,223,5,5,371,1009.5,5,5,5,5,5,5]
["S200",4,4,4,4,9995528.0999999996,4,4,4,4,4,4,4,1008.5,4,4,4,4,4,4]
["S201",3,3,3,3,9995523.0999999996,3,3,3,3,3,3,3,1007.5,3,3,3,3,3,3]
["S202",2,2,2,2,9995523.0999999996,2,2,2,2,2,2,2,1006.5,2,2,2,2,2,2]
["S203",1,1,1,1,9995518.0999999996,1,1,1,1,1,1,1,1,1,1,1,1,1,1]
["S204",0,0,0,0,9995518.0999999996,0,0,0,0,0,0,0,0,0,0,0,0,0,0]
[]
["COCO:Y0","X(A1)","X(A2)","X(A3)","X(A4)","X(A5)","X(A6)","X(A7)","X(A8)","X(A9)","X(A10)","X(A11)","X(A12)","X(A13)","X(A14)","X(A15)","X(A16)","X(A17)","X(A18)","X(A19)","Becsl�s","T�ny+0","Delta","Delta/T�ny"]
["O1",194,6,421.5,16,9995568.0999999996,16,3,63,254,270.5,74,442,1,1549.5,788,10,82,43,8,9999809.5,10000000,190.5,0]
["O2",194,6,9,16,9995538.0999999996,16,3,29,3,310.5,197,442,1291.5,1549.5,59,10,82,43,8,9999806.5,10000000,193.5,0]
["O3",891.5,595,423.5,281.5,9995553.0999999996,412.5,3,41,3,300.5,190,4,1257.5,26,59,10,82,43,303.5,10000479.5,10000000,-479.5,0]
["O4",190,100,417.5,34,9995538.0999999996,200,210.5,184,3,270.5,74,4,1079.5,1549.5,59,10,82,43,8,10000056.5,10000000,-56.5,0]
["O5",890.5,63,9,23,9995528.0999999996,16,3,31,3,120,136,518,1235.5,350,59,121,82,43,8,9999239,10000000,761,0.01]
["O6",185,6,9,11,9995528.0999999996,16,204.5,18,270,2,34,1493.5,1075.5,26,789,10,82,43,8,9999810.5,10000000,189.5,0]
["O7",11,6,9,2,9995518.0999999996,16,204.5,8,241,253.5,3,414,1185.5,26,59,10,82,43,249.5,9998341,10000000,1659,0.02]
["O8",11,6,9,268.5,9995528.0999999996,16,199.5,0,270,2,3,4,1176.5,26,59,32,82,43,249.5,9997985,10000000,2015,0.02]
["O9",200,6,1040.5,8,9995523.0999999996,16,199.5,15,236,84,22,387,1206.5,221,59,10,82,43,85.5,9999444,10000000,556,0.01]
["O10",11,198,9,2,9995528.0999999996,195,199.5,54,236,84,22,4,1,2967.4,59,27,82,43,85.5,9999807.5,10000000,192.5,0]
["O11",561.5,43,305,19,9995548.0999999996,16,199.5,6,257,84,22,387,1176.5,26,787,27,82,275.5,8,9999830,10000000,170,0]
["O12",171,31,9,2,9995538.0999999996,189,465.5,25,231,84,22,549,1172.5,26,59,27,82,43,8,9998734,10000000,1266,0.01]
["O13",190,19,275,40,9995553.0999999996,16,452.5,2,231,2,192,518,1272.5,191,59,21,82,43,303.5,9999462.5,10000000,537.5,0.01]
["O14",171,188,303,290.5,9995528.0999999996,200,475.5,109,342,51,197,518,1321.5,191,59,21,82,43,409.5,10000500,10000000,-500,-0.01]
["O15",185,188,1041.5,95,9995553.0999999996,197,229.5,11,227,311.5,100,536,1009.5,183,59,121,82,43,8,10000180,10000000,-180,0]
["O16",162,19,423.5,40,9995548.0999999996,200,244.5,144,247,51,173,380,1311.5,191,785,10,82,43,303.5,10000358,10000000,-358,0]
["O17",179,188,421.5,8,9995548.0999999996,16,320.5,54,227,279.5,181,465,1075.5,26,59,39,82,273.5,280.5,9999723,10000000,277,0]
["O18",11,133,421.5,16,9995523.0999999996,411.5,5,22,279,23,34,397,1172.5,26,783,185,82,43,390.5,9999958,10000000,42,0]
["O19",185,19,275,52,9995558.0999999996,16,204.5,11,227,23,100,375,1075.5,26,59,18,82,43,280.5,9998629.5,10000000,1370.5,0.01]
["O20",11,19,275,52,9995558.0999999996,16,320.5,6,279,23,3,375,1172.5,26,783,18,82,43,265.5,9999327.5,10000000,672.5,0.01]
["O21",11,11,166,8,9995538.0999999996,178,210.5,6,270,9,74,442,1007.5,26,59,15,630,43,364.5,9999068.5,10000000,931.5,0.01]
["O22",11,63,166,28,9995528.0999999996,16,229.5,1,257,253.5,3,372,1195.5,26,59,15,630,272.5,8,9999134,10000000,866,0.01]
["O23",11,31,1039.5,3,9995538.0999999996,178,320.5,22,223,84,22,387,1176.5,26,59,34,82,43,77.5,9999357,10000000,643,0.01]
["O24",11,6,9,11,9995548.0999999996,16,261.5,8,241,253.5,45,1274,1172.5,26,601.5,15,82,272.5,77.5,9999931,10000000,69,0]
["O25",131,100,275,64,9995538.0999999996,16,229.5,80,236,290.5,74,397,1006.5,26,59,11,82,43,85.5,9998744,10000000,1256,0.01]
["O26",131,595,9,34,9995538.0999999996,197,199.5,194,270,120,34,371,1079.5,170,59,10,82,43,249.5,9999385.5,10000000,614.5,0.01]
["O27",148,63,145,11,9995573.0999999996,189,471.5,18,231,310.5,4,4,1220.5,170,787,27,744.5,43,265.5,10000425.5,10000000,-425.5,0]
["O28",11,19,145,8,9995573.0999999996,195,199.5,29,236,253.5,164,387,1235.5,170,59,39,82,190,422.5,9999418,10000000,582,0.01]
["O29",131,155,303,76,9995523.0999999996,16,214.5,11,257,51,202,496,1311.5,26,59,171,82,190,80.5,9999355.5,10000000,644.5,0.01]
["O30",162,7,145,16,9995548.0999999996,195,244.5,41,227,23,22,414,1009.5,221,193,10,199,190,364.5,9999231.5,10000000,768.5,0.01]
["O31",11,31,145,76,9995528.0999999996,168,4,3,270,23,100,387,1185.5,26,59,27,199,43,351.5,9998637,10000000,1363,0.01]
["O32",171,188,117,34,9995528.0999999996,189,320.5,54,241,51,136,442,1075.5,26,59,121,82,190,265.5,9999290.5,10000000,709.5,0.01]
["O33",98,43,117,8,9995538.0999999996,150,199.5,54,247,279.5,7,414,1172.5,352,59,21,82,181,80.5,9999103,10000000,897,0.01]
["O34",162,155,275,12,9995628.0999999996,183,244.5,18,270,270.5,74,518,1079.5,155,59,86,82,43,280.5,9999595,10000000,405,0]
["O35",131,155,308,23,9995548.0999999996,150,210.5,25,4,9,22,387,1220.5,183,783,32,193,181,21,9999586,10000000,414,0]
["O36",179,133,308,52,9995538.0999999996,16,214.5,22,236,3,22,549,1076.5,183,59,18,82,43,78.5,9998812.5,10000000,1187.5,0.01]
["O37",194,11,117,95,9995548.0999999996,411.5,426.5,22,326,51,45,375,1220.5,26,59,130,82,181,420.5,9999741,10000000,259,0]
["O38",162,31,117,19,9995558.0999999996,183,261.5,36,342,51,122,397,1245.5,155,190,32,82,181,249.5,9999414.5,10000000,585.5,0.01]
["O39",200,31,166,64,9995558.0999999996,168,244.5,123,379,290.5,22,536,1235.5,178,190,179,82,43,405.5,10000095,10000000,-95,0]
["O40",98,188,421.5,95,9995558.0999999996,168,261.5,63,279,120,100,442,1301.5,221,190,192,82,272.5,303.5,10000356.5,10000000,-356.5,0]
["O41",148,133,117,64,9995608.0999999996,111,210.5,41,247,300.5,136,397,1321.5,191,785,179,82,274.5,265.5,10000611.5,10000000,-611.5,-0.01]
["O42",131,31,275,286.5,9995583.0999999996,195,277.5,54,270,84,190,563,1321.5,26,182,15,82,272.5,249.5,10000088.5,10000000,-88.5,0]
["O43",162,100,117,95,9995548.0999999996,168,210.5,194,405,120,173,496,1336.5,128,182,86,630,276.5,77.5,10000505,10000000,-505,-0.01]
["O44",171,11,72,64,9995583.0999999996,150,465.5,144,358,253.5,122,549,1272.5,26,59,70,188,163,303.5,10000025,10000000,-25,0]
["O45",162,133,305,52,9995558.0999999996,111,229.5,25,416,23,74,414,1291.5,170,59,32,82,163,409.5,9999709.5,10000000,290.5,0]
["O46",162,188,275,64,9995628.0999999996,189,320.5,94,254,290.5,122,442,1257.5,26,182,56,82,43,330.5,10000006,10000000,-6,0]
["O47",98,133,303,281.5,9995563.0999999996,150,229.5,15,231,84,122,397,1311.5,350,182,171,188,43,249.5,10000102,10000000,-102,0]
["O48",131,155,275,76,9995553.0999999996,150,244.5,15,254,23,151,380,1257.5,26,182,198,82,43,22,9999218,10000000,782,0.01]
["O49",185,11,303,302.5,9995608.0999999996,111,468.5,94,358,279.5,22,563,1350.5,178,59,190,199,190,330.5,10000802.5,10000000,-802.5,-0.01]
["O50",179,100,417.5,137,9995628.0999999996,168,320.5,94,247,306.5,151,442,1291.5,128,182,149,82,43,405.5,10000471.5,10000000,-471.5,0]
["O51",171,155,166,137,9995663.0999999996,168,439.5,157,254,270.5,151,414,1332.5,178,59,96,188,163,420.5,10000583,10000000,-583,-0.01]
["O52",162,133,166,52,9995663.0999999996,195,426.5,80,379,300.5,164,536,1311.5,191,182,190,188,43,414.5,10000777,10000000,-777,-0.01]
["O53",162,133,166,156,9995608.0999999996,111,261.5,54,379,290.5,186,536,1257.5,178,182,159,188,163,405.5,10000576,10000000,-576,-0.01]
["O54",148,174,275,156,9995638.0999999996,150,277.5,177,247,270.5,202,549,1327.5,155,190,201,193,272.5,85.5,10000688.5,10000000,-688.5,-0.01]
["O55",131,100,117,95,9995608.0999999996,183,261.5,54,394,306.5,181,566,1348.5,155,182,86,188,181,409.5,10000547,10000000,-547,-0.01]
["O56",98,43,117,137,9995663.0999999996,178,452.5,109,342,84,202,496,1321.5,178,59,121,188,272.5,390.5,10000452,10000000,-452,0]
["O57",131,155,275,137,9995618.0999999996,111,439.5,15,411,253.5,181,414,1272.5,26,59,179,188,163,280.5,10000309,10000000,-309,0]
["O58",162,31,72,286.5,9995598.0999999996,178,320.5,36,358,120,151,552,1311.5,178,59,39,172,181,420.5,10000226,10000000,-226,0]
["O59",162,100,303,281.5,9995598.0999999996,168,452.5,80,254,279.5,173,414,1353.5,352,190,171,82,190,420.5,10001024.5,10000000,-1024.5,-0.01]
["O60",131,100,166,95,9995583.0999999996,178,459.5,80,326,4,122,442,1235.5,183,59,96,172,135,330.5,9999897.5,10000000,102.5,0]
["O61",179,198,145,286.5,9995648.0999999996,183,452.5,198,358,306.5,151,536,1336.5,221,155,149,172,181,409.5,10001265.5,10000000,-1265.5,-0.01]
["O62",185,133,308,286.5,9995678.0999999996,195,475.5,189,300,310.5,74,566,1327.5,155,59,192,199,135,405.5,10001173.5,10000000,-1173.5,-0.01]
["O63",148,198,166,156,9995683.0999999996,150,439.5,189,358,300.5,197,549,1350.5,87,59,96,172,272.5,374.5,10000945.5,10000000,-945.5,-0.01]
["O64",190,63,275,305.5,9995688.0999999996,189,452.5,177,416,307.5,203,536,1332.5,178,155,159,82,135,351.5,10001195.5,10000000,-1195.5,-0.01]
["O65",179,174,166,295.5,9995668.0999999996,150,320.5,144,342,300.5,173,496,1327.5,183,193,202,199,163,425.5,10001101.5,10000000,-1101.5,-0.01]
["O66",200,192,117,281.5,9995708.0999999996,178,459.5,63,405,306.5,151,465,1321.5,170,155,149,199,272.5,425.5,10001219,10000000,-1219,-0.01]
["O67",200,155,145,298.5,9995758.0999999996,111,476.5,194,326,279.5,186,563,1327.5,170,182,149,172,135,425.5,10001253.5,10000000,-1253.5,-0.01]
["O68",190,188,166,305.5,9995688.0999999996,178,320.5,184,405,300.5,186,558,1353.5,191,193,198,172,190,405.5,10001372.5,10000000,-1372.5,-0.01]
["O69",190,265.5,275,76,9995668.0999999996,111,475.5,184,405,300.5,136,558,1301.5,128,155,159,172,135,330.5,10001025.5,10000000,-1025.5,-0.01]
["O70",194,133,275,137,9995578.0999999996,168,426.5,80,300,290.5,151,496,1272.5,87,155,86,172,43,390.5,10000435,10000000,-435,0]
["O71",200,100,117,156,9995648.0999999996,168,244.5,80,326,253.5,136,536,1235.5,170,155,159,172,190,364.5,10000411,10000000,-411,0]
["O72",171,100,72,118,9995578.0999999996,150,244.5,123,247,253.5,74,465,1321.5,170,155,171,172,181,330.5,10000097,10000000,-97,0]
["O73",179,174,145,281.5,9995663.0999999996,168,439.5,94,379,290.5,197,549,1344.5,128,182,201,193,163,390.5,10001161.5,10000000,-1161.5,-0.01]
["O74",171,63,117,302.5,9995663.0999999996,150,452.5,109,358,300.5,202,536,1347.5,191,182,121,82,272.5,364.5,10000985,10000000,-985,-0.01]
["O75",171,174,275,305.5,9995748.0999999996,183,320.5,184,300,306.5,190,496,1347.5,191,182,121,82,163,255.5,10000995.5,10000000,-995.5,-0.01]
["O76",148,188,117,295.5,9995708.0999999996,150,468.5,202,394,290.5,186,566,1344.5,87,155,203,188,181,416.5,10001288.5,10000000,-1288.5,-0.01]
["O77",185,63,145,302.5,9995698.0999999996,150,471.5,198,394,290.5,202,536,1291.5,87,182,185,82,181,422.5,10001066.5,10000000,-1066.5,-0.01]
["O78",200,155,166,302.5,9995683.0999999996,43,452.5,194,300,290.5,192,549,1344.5,87,155,121,193,181,414.5,10001023.5,10000000,-1023.5,-0.01]
["O79",179,225,303,95,9995668.0999999996,178,471.5,144,405,290.5,164,536,1311.5,128,182,199,172,43,351.5,10001046,10000000,-1046,-0.01]
["O80",171,198,117,286.5,9995628.0999999996,168,468.5,80,416,253.5,181,549,1291.5,87,59,130,172,163,414.5,10000833.5,10000000,-833.5,-0.01]
["O81",179,188,166,137,9995663.0999999996,43,320.5,198,379,120,181,380,1353.5,87,190,198,172,163,330.5,10000448.5,10000000,-448.5,0]
["O82",148,63,145,298.5,9995628.0999999996,111,465.5,157,405,253.5,181,518,1332.5,128,59,185,82,163,390.5,10000713.5,10000000,-713.5,-0.01]
["O83",131,174,145,95,9995598.0999999996,111,261.5,80,326,270.5,122,496,1336.5,26,59,121,188,135,390.5,10000066,10000000,-66,0]
["O84",131,19,117,76,9995558.0999999996,150,214.5,63,279,84,22,465,1220.5,178,155,70,172,135,330.5,9999439.5,10000000,560.5,0.01]
["O85",148,63,145,290.5,9995688.0999999996,150,439.5,94,270,270.5,190,465,1347.5,87,155,198,172,135,390.5,10000698.5,10000000,-698.5,-0.01]
["O86",162,155,117,156,9995628.0999999996,178,452.5,36,300,306.5,136,496,1311.5,170,182,171,172,181,414.5,10000725,10000000,-725,-0.01]
["O87",55,188,117,118,9995598.0999999996,150,320.5,109,379,300.5,186,536,1291.5,155,155,171,188,181,405.5,10000604,10000000,-604,-0.01]
["O88",98,100,166,95,9995588.0999999996,168,320.5,123,326,253.5,173,397,1321.5,170,59,159,172,181,351.5,10000222,10000000,-222,0]
["O89",98,188,145,268.5,9995648.0999999996,43,452.5,166,326,279.5,197,536,1321.5,87,155,190,172,181,364.5,10000818.5,10000000,-818.5,-0.01]
["O90",148,100,117,292.5,9995648.0999999996,168,426.5,157,279,84,164,518,1301.5,170,182,149,172,135,398.5,10000610,10000000,-610,-0.01]
["O91",131,133,117,268.5,9995688.0999999996,150,320.5,144,416,120,181,465,1344.5,128,155,179,172,135,390.5,10000638,10000000,-638,-0.01]
["O92",98,188,145,156,9995688.0999999996,111,292.5,80,342,253.5,100,414,1344.5,155,182,130,82,135,390.5,10000287,10000000,-287,0]
["O93",148,174,145,108,9995598.0999999996,150,452.5,157,379,253.5,100,536,1257.5,87,155,39,193,135,374.5,10000442,10000000,-442,0]
["O94",131,174,117,95,9995598.0999999996,150,261.5,63,326,270.5,34,442,1311.5,87,59,171,82,135,398.5,9999906,10000000,94,0]
["O95",131,100,72,156,9995608.0999999996,168,261.5,54,358,84,100,442,1321.5,155,59,171,172,181,414.5,10000008.5,10000000,-8.5,0]
["O96",98,43,117,40,9995573.0999999996,111,244.5,29,241,51,100,414,1235.5,87,155,70,172,135,85.5,9999001.5,10000000,998.5,0.01]
["O97",148,133,145,108,9995628.0999999996,150,277.5,189,300,51,122,518,1332.5,128,155,159,188,181,364.5,10000277.5,10000000,-277.5,0]
["O98",148,133,166,156,9995618.0999999996,150,320.5,166,300,120,100,442,1344.5,87,182,185,172,163,330.5,10000283.5,10000000,-283.5,0]
["O99",98,133,145,290.5,9995648.0999999996,43,426.5,109,300,270.5,136,465,1344.5,155,182,56,172,135,364.5,10000473.5,10000000,-473.5,0]
["O100",148,155,145,281.5,9995628.0999999996,111,320.5,177,270,270.5,164,465,1327.5,170,155,121,82,135,330.5,10000456.5,10000000,-456.5,0]
["O101",131,155,275,295.5,9995638.0999999996,150,320.5,177,358,84,74,496,1311.5,87,155,149,82,135,330.5,10000404,10000000,-404,0]
["O102",162,63,166,281.5,9995628.0999999996,150,426.5,94,279,120,173,518,1291.5,155,155,185,82,135,303.5,10000368,10000000,-368,0]
["O103",148,133,166,281.5,9995648.0999999996,168,459.5,144,394,120,164,414,1344.5,128,190,149,188,135,303.5,10000678,10000000,-678,-0.01]
["O104",148,192,166,281.5,9995628.0999999996,150,426.5,123,411,120,74,558,1291.5,87,155,149,188,135,374.5,10000658,10000000,-658,-0.01]
["O105",131,100,117,268.5,9995608.0999999996,111,426.5,166,326,270.5,122,442,1332.5,128,155,194,172,190,303.5,10000563.5,10000000,-563.5,-0.01]
["O106",131,133,145,156,9995608.0999999996,150,320.5,144,300,84,74,397,1301.5,87,90,86,128,163,303.5,9999801.5,10000000,198.5,0]
["O107",148,100,166,108,9995583.0999999996,111,229.5,54,326,84,34,465,1235.5,128,155,121,128,64,303.5,9999543.5,10000000,456.5,0]
["O108",131,133,72,19,9995568.0999999996,43,229.5,63,342,23,22,442,1195.5,87,59,48,172,43,330.5,9999022.5,10000000,977.5,0.01]
["O109",131,188,166,268.5,9995578.0999999996,178,439.5,194,394,84,151,442,1291.5,87,182,121,128,64,405.5,10000493,10000000,-493,0]
["O110",98,188,145,95,9995618.0999999996,43,465.5,189,405,84,164,442,1327.5,155,90,149,172,135,398.5,10000363.5,10000000,-363.5,0]
["O111",131,43,145,481.5,9995608.0999999996,168,475.5,198,411,270.5,151,518,1311.5,170,155,171,172,135,398.5,10001113.5,10000000,-1113.5,-0.01]
["O112",148,133,72,108,9995628.0999999996,111,452.5,80,394,84,136,442,1291.5,170,182,130,82,135,351.5,10000130.5,10000000,-130.5,0]
["O113",98,174,166,156,9995598.0999999996,150,320.5,80,342,51,136,496,1272.5,128,155,159,128,135,398.5,10000143.5,10000000,-143.5,0]
["O114",131,133,117,268.5,9995583.0999999996,111,459.5,144,326,120,74,465,1321.5,128,182,149,128,135,351.5,10000327,10000000,-327,0]
["O115",98,155,72,137,9995573.0999999996,111,320.5,94,300,270.5,100,496,1245.5,128,182,121,128,163,364.5,10000059,10000000,-59,0]
["O116",131,133,72,156,9995598.0999999996,111,320.5,123,300,51,122,496,1301.5,155,90,121,172,64,364.5,9999881.5,10000000,118.5,0]
["O117",131,63,117,95,9995568.0999999996,111,426.5,94,326,253.5,151,442,1291.5,87,155,159,128,135,303.5,10000037,10000000,-37,0]
["O118",131,133,145,108,9995588.0999999996,150,320.5,184,379,84,151,496,1301.5,128,190,96,128,163,374.5,10000250.5,10000000,-250.5,0]
["O119",131,100,117,281.5,9995583.0999999996,150,261.5,202,326,23,151,465,1245.5,155,155,130,128,135,398.5,10000138,10000000,-138,0]
["O120",55,43,117,64,9995558.0999999996,43,229.5,41,254,51,22,380,1185.5,170,155,70,82,163,330.5,9999013.5,10000000,986.5,0.01]
["O121",98,174,117,156,9995638.0999999996,111,261.5,144,411,84,164,518,1336.5,128,90,149,172,64,330.5,10000146.5,10000000,-146.5,0]
["O122",98,174,117,137,9995608.0999999996,150,292.5,94,326,120,164,496,1272.5,87,155,121,172,135,330.5,10000049.5,10000000,-49.5,0]
["O123",148,100,117,156,9995598.0999999996,150,439.5,184,300,51,164,496,1245.5,155,182,171,128,64,330.5,10000179.5,10000000,-179.5,0]
["O124",131,198,145,156,9995618.0999999996,168,465.5,157,394,120,122,496,1272.5,155,155,179,188,181,351.5,10000652.5,10000000,-652.5,-0.01]
["O125",98,155,145,108,9995618.0999999996,150,426.5,144,358,51,122,414,1291.5,155,90,56,128,64,364.5,9999938.5,10000000,61.5,0]
["O126",98,133,166,64,9995598.0999999996,111,426.5,157,342,253.5,122,442,1272.5,128,90,86,82,64,351.5,9999987,10000000,13,0]
["O127",98,63,72,95,9995628.0999999996,168,320.5,144,358,120,100,465,1291.5,155,155,185,128,64,351.5,9999961.5,10000000,38.5,0]
["O128",131,155,117,137,9995638.0999999996,111,277.5,94,411,51,74,465,1257.5,128,90,86,128,135,351.5,9999837.5,10000000,162.5,0]
["O129",98,133,145,108,9995573.0999999996,150,229.5,109,379,270.5,136,496,1272.5,155,155,121,128,163,303.5,10000125,10000000,-125,0]
["O130",162,174,117,137,9995588.0999999996,111,292.5,94,405,120,74,496,1195.5,128,90,70,128,163,330.5,9999875.5,10000000,124.5,0]
["O131",98,100,117,28,9995573.0999999996,111,229.5,80,326,84,100,380,1206.5,155,59,48,82,135,330.5,9999242.5,10000000,757.5,0.01]
["O132",98,31,72,23,9995568.0999999996,111,244.5,29,254,253.5,22,397,1172.5,87,90,32,188,135,280.5,9999088,10000000,912,0.01]
["O133",55,155,117,156,9995708.0999999996,111,439.5,189,300,120,151,465,1272.5,128,90,70,128,135,330.5,10000120.5,10000000,-120.5,0]
["O134",55,100,117,64,9995668.0999999996,111,320.5,109,342,120,74,518,1245.5,128,155,121,172,163,303.5,9999886.5,10000000,113.5,0]
["O135",55,31,145,95,9995668.0999999996,150,292.5,54,326,51,100,496,1291.5,87,90,86,128,163,330.5,9999639.5,10000000,360.5,0]
["O136",55,100,72,52,9995648.0999999996,111,292.5,109,416,253.5,45,496,1257.5,128,155,121,172,43,351.5,9999878,10000000,122,0]
["O137",98,133,145,108,9995688.0999999996,111,292.5,144,379,120,34,465,1245.5,87,155,70,128,135,265.5,9999803.5,10000000,196.5,0]
["O138",98,100,117,118,9995698.0999999996,111,292.5,123,358,253.5,100,518,1272.5,87,155,35,82,135,351.5,10000005,10000000,-5,0]
["O139",55,133,117,137,9995708.0999999996,111,439.5,177,379,23,100,552,1291.5,87,155,86,128,43,265.5,9999987.5,10000000,12.5,0]
["O140",98,155,72,156,9995683.0999999996,43,277.5,123,379,120,100,414,1235.5,128,155,121,128,135,351.5,9999874.5,10000000,125.5,0]
["O141",131,100,117,76,9995648.0999999996,111,292.5,80,300,120,34,496,1235.5,87,59,121,172,43,303.5,9999526.5,10000000,473.5,0]
["O142",55,43,72,95,9995628.0999999996,111,229.5,80,342,84,100,442,1185.5,87,90,48,172,135,280.5,9999279.5,10000000,720.5,0.01]
["O143",55,133,117,76,9995628.0999999996,150,229.5,123,300,120,100,442,1257.5,87,59,48,128,163,280.5,9999496.5,10000000,503.5,0.01]
["O144",55,63,72,40,9995598.0999999996,43,244.5,36,300,23,34,387,1206.5,87,90,96,128,135,255.5,9998893.5,10000000,1106.5,0.01]
["O145",131,100,117,76,9995663.0999999996,150,261.5,157,279,120,74,442,1235.5,128,182,96,82,163,303.5,9999760.5,10000000,239.5,0]
["O146",98,100,145,76,9995628.0999999996,111,439.5,123,326,51,122,496,1235.5,128,155,86,82,135,330.5,9999867.5,10000000,132.5,0]
["O147",98,133,72,76,9995638.0999999996,111,277.5,144,342,120,122,496,1235.5,128,155,96,172,163,280.5,9999859.5,10000000,140.5,0]
["O148",98,19,117,95,9995598.0999999996,111,261.5,94,342,120,100,414,1206.5,87,59,70,82,135,330.5,9999339.5,10000000,660.5,0.01]
["O149",98,100,72,108,9995678.0999999996,150,426.5,157,300,84,34,442,1272.5,128,182,149,82,135,330.5,9999928.5,10000000,71.5,0]
["O150",98,155,27,118,9995663.0999999996,111,277.5,109,300,84,74,414,1206.5,128,155,96,128,135,330.5,9999609.5,10000000,390.5,0]
["O151",55,100,72,52,9995668.0999999996,43,292.5,94,379,253.5,45,496,1220.5,128,59,48,82,135,255.5,9999478,10000000,522,0.01]
["O152",98,100,117,64,9995628.0999999996,150,292.5,80,326,84,45,549,1195.5,87,155,159,128,135,303.5,9999696.5,10000000,303.5,0]
["O153",131,155,117,28,9995663.0999999996,43,277.5,123,326,253.5,74,465,1195.5,87,59,70,172,135,255.5,9999630,10000000,370,0]
["O154",98,63,72,28,9995618.0999999996,111,261.5,94,326,51,34,414,1172.5,128,59,70,82,135,280.5,9999097.5,10000000,902.5,0.01]
["O155",55,31,27,34,9995578.0999999996,111,229.5,41,270,9,74,414,1185.5,29,90,27,82,135,265.5,9998687.5,10000000,1312.5,0.01]
["O156",16,19,27,23,9995558.0999999996,43,204.5,54,241,9,22,397,1176.5,87,155,34,128,64,255.5,9998513.5,10000000,1486.5,0.01]
["O157",98,100,27,52,9995648.0999999996,111,244.5,123,342,51,74,465,1185.5,128,155,96,128,64,303.5,9999395.5,10000000,604.5,0.01]
["O158",98,43,72,95,9995638.0999999996,43,229.5,109,326,253.5,122,465,1206.5,128,90,121,82,163,280.5,9999565,10000000,435,0]
["O159",55,133,72,40,9995663.0999999996,111,244.5,184,279,51,45,442,1235.5,155,155,48,128,135,390.5,9999566.5,10000000,433.5,0]
["O160",55,100,27,95,9995678.0999999996,111,277.5,123,326,120,74,465,1206.5,155,90,70,128,135,351.5,9999587.5,10000000,412.5,0]
["O161",98,63,27,76,9995698.0999999996,111,244.5,144,394,51,45,442,1195.5,87,155,56,82,64,374.5,9999407.5,10000000,592.5,0.01]
["O162",55,100,72,64,9995648.0999999996,111,244.5,63,300,84,45,518,1235.5,87,155,70,82,135,330.5,9999399.5,10000000,600.5,0.01]
["O163",16,100,27,108,9995668.0999999996,111,277.5,144,358,23,74,518,1220.5,26,155,149,128,64,280.5,9999447.5,10000000,552.5,0.01]
["O164",98,63,72,52,9995678.0999999996,43,426.5,109,394,51,45,518,1245.5,128,90,96,128,163,351.5,9999751.5,10000000,248.5,0]
["O165",16,43,27,95,9995678.0999999996,43,210.5,123,394,51,100,414,1195.5,87,90,56,128,135,303.5,9999189.5,10000000,810.5,0.01]
["O166",98,133,72,52,9995663.0999999996,111,277.5,80,326,23,100,465,1220.5,87,59,86,128,43,303.5,9999327.5,10000000,672.5,0.01]
["O167",55,63,27,34,9995648.0999999996,111,214.5,54,326,51,74,442,1185.5,87,155,48,82,163,374.5,9999194.5,10000000,805.5,0.01]
["O168",16,31,72,28,9995578.0999999996,43,204.5,31,270,9,7,397,1172.5,29,90,48,82,64,280.5,9998452.5,10000000,1547.5,0.02]
["O169",55,63,72,118,9995698.0999999996,111,277.5,109,358,51,136,518,1245.5,128,155,86,82,135,351.5,9999749.5,10000000,250.5,0]
["O170",55,100,72,118,9995668.0999999996,43,261.5,166,379,120,151,496,1257.5,87,155,121,172,163,351.5,9999936.5,10000000,63.5,0]
["O171",55,133,72,118,9995683.0999999996,43,261.5,144,342,84,74,518,1291.5,87,155,149,128,135,280.5,9999753.5,10000000,246.5,0]
["O172",55,155,72,137,9995933.0999999996,150,426.5,166,379,120,173,496,1245.5,155,155,149,172,135,398.5,10000672.5,10000000,-672.5,-0.01]
["O173",55,63,72,137,9995708.0999999996,111,320.5,157,326,120,122,496,1195.5,128,90,179,128,135,374.5,9999917.5,10000000,82.5,0]
["O174",55,133,145,137,9995688.0999999996,111,426.5,157,358,51,122,465,1185.5,155,155,121,172,135,390.5,10000162.5,10000000,-162.5,0]
["O175",131,43,72,137,9995708.0999999996,43,439.5,177,358,120,100,518,1220.5,87,155,179,82,135,351.5,10000056.5,10000000,-56.5,0]
["O176",131,174,27,268.5,9995688.0999999996,111,292.5,177,342,120,122,558,1206.5,87,155,130,82,135,280.5,10000087,10000000,-87,0]
["O177",55,100,72,52,9995678.0999999996,111,244.5,109,342,51,122,536,1195.5,87,59,86,82,135,303.5,9999420.5,10000000,579.5,0.01]
["O178",98,174,72,118,9995708.0999999996,43,277.5,144,300,84,34,496,1206.5,29,155,70,82,135,303.5,9999529.5,10000000,470.5,0]
["O179",98,31,72,52,9995638.0999999996,43,277.5,80,326,84,34,496,1220.5,87,90,48,172,163,255.5,9999267.5,10000000,732.5,0.01]
["O180",98,43,72,34,9995588.0999999996,43,261.5,36,270,84,74,442,1195.5,87,155,56,82,135,265.5,9999021.5,10000000,978.5,0.01]
["O181",131,100,27,137,9995678.0999999996,43,439.5,144,279,279.5,100,536,1257.5,128,155,56,128,135,364.5,10000118,10000000,-118,0]
["O182",55,133,27,64,9995698.0999999996,150,426.5,157,394,23,74,496,1185.5,87,59,149,128,135,330.5,9999771.5,10000000,228.5,0]
["O183",98,174,27,137,9995698.0999999996,150,292.5,109,379,253.5,45,518,1206.5,87,155,121,128,135,351.5,10000065,10000000,-65,0]
["O184",98,174,117,281.5,9995748.0999999996,43,292.5,605.5,405,84,173,518,1291.5,87,155,121,128,135,364.5,10000821.5,10000000,-821.5,-0.01]
["O185",55,174,72,268.5,9995708.0999999996,111,426.5,177,405,120,164,496,1272.5,155,155,130,128,135,351.5,10000504,10000000,-504,-0.01]
["O186",55,133,27,118,9995748.0999999996,111,452.5,123,394,84,100,536,1220.5,155,59,159,128,135,280.5,10000018.5,10000000,-18.5,0]
["O187",98,174,27,290.5,9995933.0999999996,111,320.5,177,394,120,164,558,1257.5,87,59,121,128,135,330.5,10000485,10000000,-485,0]
["O188",98,174,117,137,9995933.0999999996,111,320.5,144,411,279.5,136,549,1220.5,87,90,130,82,64,390.5,10000474,10000000,-474,0]
["O189",55,100,72,108,9995698.0999999996,111,277.5,157,379,51,45,549,1245.5,87,90,149,82,43,303.5,9999602.5,10000000,397.5,0]
["O190",98,63,72,281.5,9995708.0999999996,111,426.5,177,358,120,136,518,1220.5,87,90,86,172,64,390.5,10000179,10000000,-179,0]
["O191",55,100,72,64,9995648.0999999996,43,292.5,63,379,51,74,442,1206.5,87,90,86,128,64,374.5,9999319.5,10000000,680.5,0.01]
["O192",16,43,27,40,9995598.0999999996,111,229.5,54,270,84,7,442,1220.5,87,90,56,128,64,265.5,9998832.5,10000000,1167.5,0.01]
["O193",55,100,72,156,9995698.0999999996,111,320.5,144,379,253.5,74,536,1301.5,155,90,149,82,43,265.5,9999985,10000000,15,0]
["O194",55,174,117,137,9995708.0999999996,111,292.5,109,379,253.5,122,518,1291.5,87,59,171,82,43,390.5,10000100,10000000,-100,0]
["O195",55,63,72,76,9995678.0999999996,111,277.5,63,379,120,100,465,1220.5,128,90,70,128,64,303.5,9999463.5,10000000,536.5,0.01]
["O196",55,100,72,156,9995758.0999999996,111,426.5,144,394,270.5,122,536,1301.5,155,59,179,82,64,398.5,10000384,10000000,-384,0]
["O197",55,198,27,298.5,9995998.0999999996,43,465.5,200,461,290.5,181,549,1291.5,87,155,190,82,64,330.5,10000966.5,10000000,-966.5,-0.01]
["O198",55,155,72,292.5,9995938.0999999996,111,459.5,199,418,270.5,173,563,1301.5,128,90,190,172,135,351.5,10001074.5,10000000,-1074.5,-0.01]
["O199",55,225,27,156,9995938.0999999996,111,459.5,166,462,300.5,164,563,1257.5,128,90,194,82,135,390.5,10000904,10000000,-904,-0.01]
["O200",55,155,72,281.5,9995938.0999999996,43,452.5,166,461,279.5,151,552,1301.5,87,155,171,128,135,390.5,10000974.5,10000000,-974.5,-0.01]
["O201",55,133,72,268.5,9995933.0999999996,111,459.5,166,405,120,122,549,1272.5,128,90,130,82,43,374.5,10000514,10000000,-514,-0.01]
["O202",55,192,117,108,9995758.0999999996,111,439.5,157,417,270.5,74,558,1272.5,87,59,149,172,135,374.5,10000506,10000000,-506,-0.01]
["O203",55,155,72,108,9995638.0999999996,111,261.5,166,394,253.5,136,465,1235.5,128,155,86,128,64,364.5,9999976,10000000,24,0]
["O204",11,192,9,118,9995683.0999999996,189,426.5,177,300,84,100,1273,1172.5,26,59,10,82,43,416.5,10000371.5,10000000,-371.5,0]
[]
["S1 �sszeg:",10009731.5]
["S204 �sszeg:",9995518.0999999996]
["Becsl�s �sszeg:",2039999999]
["T�ny �sszeg:",2040000000]
["T�ny-becsl�s elt�r�s:",-1]
["T�ny n�gyzet�sszeg:"]
["Becsl�s n�gyzet�sszeg:"]
["N�gyzet�sszeg hiba:",0]
[]
["Open url"]
[]
["Maxim�lis mem�ria haszn�lat: 2.94 Mb"]
["A futtat�s id�tartama: 12.83 mp (0.21 p)"]

{"sheet":"19_17","index":5,"n_rows":103,"n_cols":45,"rows_kept":103,"cut":false,"hidden":false,"merged":[]}
[]
[]
[]
[]
["Azonos�t�:",9670170,"Objektumok:",17,"Attrib�tumok:",17,"Lepcs�k:",17,"Eltol�s:",0,"Le�r�s:","COCO Y0: 9670170",null,null,null,null,null,null,null,null,null,null,null,"Azonos�t�:",4461742,"Objektumok:",19,"Attrib�tumok:",17,"Lepcs�k:",19,"Eltol�s:",0,"Le�r�s:","COCO Y0: 4461742"]
[]
["Rangsor","X(A1)","X(A2)","X(A3)","X(A4)","X(A5)","X(A6)","X(A7)","X(A8)","X(A9)","X(A10)","X(A11)","X(A12)","X(A13)","X(A14)","X(A15)","X(A16)","X(A17)","Y(A18)",null,null,null,null,"Rangsor","X(A1)","X(A2)","X(A3)","X(A4)","X(A5)","X(A6)","X(A7)","X(A8)","X(A9)","X(A10)","X(A11)","X(A12)","X(A13)","X(A14)","X(A15)","X(A16)","X(A17)","Y(A18)"]
["O1",6,14,14,12,12,12,12,12,12,12,12,13,12,12,12,12,13,1000,null,null,null,null,"O1",6,15,15,13,13,13,13,13,13,13,13,14,13,13,13,13,14,1000]
["O2",11,11,7,10,11,11,10,10,10,10,10,10,10,10,10,10,10,1000,null,null,null,null,"O2",11,12,8,11,12,12,11,11,11,11,11,11,11,11,11,11,11,1000]
["O3",14,10,12,13,13,13,13,13,13,13,13,12,13,14,13,14,13,1000,null,null,null,null,"O3",14,11,13,14,14,14,14,14,14,14,14,13,14,15,14,15,14,1000]
["O4",4,3,3,4,3,3,3,3,4,3,3,3,3,3,3,3,3,1000,null,null,null,null,"O4",4,3,3,4,3,3,3,3,4,3,3,3,3,3,3,3,3,1000]
["O5",1,1,1,1,1,1,1,1,1,1,1,1,1,1,1,1,1,1000,null,null,null,null,"O5",1,1,1,1,1,1,1,1,1,1,1,1,1,1,1,1,1,1000]
["O6",13,13,13,14,15,14,14,14,14,15,14,14,14,13,14,13,12,1000,null,null,null,null,"O6",13,14,14,15,16,15,15,15,15,16,15,15,15,14,15,14,13,1000]
["O7",9,2,5,7,6,6,6,6,6,6,7,7,7,7,7,7,7,1000,null,null,null,null,"O7",9,2,5,7,7,6,6,7,6,6,7,7,7,8,7,7,7,1000]
["O8",2,5,2,3,4,2,2,4,2,2,2,2,2,2,2,2,2,1000,null,null,null,null,"O8",2,5,2,3,4,2,2,4,2,2,2,2,2,2,2,2,2,1000]
["O9",10,8,9,6,8,7,7,7,7,7,5,5,6,4,6,4,4,1000,null,null,null,null,"O9",10,9,10,6,9,8,7,8,7,7,5,5,6,4,6,4,4,1000]
["O10",8,12,11,11,10,10,11,11,11,11,11,11,11,11,11,11,11,1000,null,null,null,null,"O10",8,13,12,12,11,11,12,12,12,12,12,12,12,12,12,12,12,1000]
["O11",5,6,6,8,7,8,8,8,8,8,8,9,9,9,9,9,9,1000,null,null,null,null,"O11",5,6,6,8,8,9,8,9,9,9,9,10,10,10,10,10,10,1000]
["O12",7,7,8,9,9,9,9,9,9,9,9,8,8,8,8,8,8,1000,null,null,null,null,"O12",7,7,9,10,10,10,10,10,10,10,10,9,9,9,9,9,9,1000]
["O13",3,4,4,2,2,4,4,2,3,4,4,4,4,5,5,5,5,1000,null,null,null,null,"O13",3,4,4,2,2,4,4,2,3,4,4,4,4,5,5,5,5,1000]
["O14",12,15,15,15,14,15,15,15,15,14,15,15,15,15,15,15,15,1000,null,null,null,null,"O14",12,16,16,16,15,16,16,16,16,15,16,16,16,16,16,16,16,1000]
["O15",16,16,17,16,17,17,16,17,16,16,16,16,16,16,16,16,16,1000,null,null,null,null,"O15",17,17,19,18,19,19,18,19,18,17,18,18,18,18,18,18,18,1000]
["O16",15,9,9,5,5,5,5,5,5,5,6,6,5,6,4,6,6,1000,null,null,null,null,"O16",15,10,10,5,5,5,5,5,5,5,6,6,5,6,4,6,6,1000]
["O17",17,17,16,17,16,16,17,16,17,17,16,17,17,17,17,17,17,1000,null,null,null,null,"O17",19,19,18,19,18,18,19,18,19,19,18,19,19,19,19,19,19,1000]
[null,null,null,null,null,null,null,null,null,null,null,null,null,null,null,null,null,null,null,null,null,null,null,"O18",18,18,17,17,17,17,17,17,17,18,17,17,17,17,17,17,17,1000]
["L�pcs�k(1)","X(A1)","X(A2)","X(A3)","X(A4)","X(A5)","X(A6)","X(A7)","X(A8)","X(A9)","X(A10)","X(A11)","X(A12)","X(A13)","X(A14)","X(A15)","X(A16)","X(A17)",null,null,null,null,null,"O19",16,8,6,9,6,7,9,6,8,8,8,8,8,7,8,8,8,1000]
["S1","(745.9+16)/(2)=380.95","(16+1005.6)/(2)=510.8","(16+16)/(2)=16.05","(16+16)/(2)=16.05","(16+24.1)/(2)=20.05","(16+16)/(2)=16.05","(16+16)/(2)=16.05","(16+16)/(2)=16.05","(16+16)/(2)=16.05","(16+16)/(2)=16.05","(16+16)/(2)=16.05","(16+16)/(2)=16.05","(16+16)/(2)=16.05","(16+16)/(2)=16.05","(16+16)/(2)=16.05","(16+16)/(2)=16.05","(16+16)/(2)=16.05"]
["S2","(744.9+15)/(2)=379.95","(15+1004.6)/(2)=509.8","(15+15)/(2)=15.05","(15+15)/(2)=15.05","(15+23.1)/(2)=19.05","(15+15)/(2)=15.05","(15+15)/(2)=15.05","(15+15)/(2)=15.05","(15+15)/(2)=15.05","(15+15)/(2)=15.05","(15+15)/(2)=15.05","(15+15)/(2)=15.05","(15+15)/(2)=15.05","(15+15)/(2)=15.05","(15+15)/(2)=15.05","(15+15)/(2)=15.05","(15+15)/(2)=15.05",null,null,null,null,null,"L�pcs�k(1)","X(A1)","X(A2)","X(A3)","X(A4)","X(A5)","X(A6)","X(A7)","X(A8)","X(A9)","X(A10)","X(A11)","X(A12)","X(A13)","X(A14)","X(A15)","X(A16)","X(A17)"]
["S3","(743.9+14)/(2)=378.95","(14+1003.6)/(2)=508.8","(14+14)/(2)=14.05","(14+14)/(2)=14.05","(14+22.1)/(2)=18.05","(14+14)/(2)=14.05","(14+14)/(2)=14.05","(14+14)/(2)=14.05","(14+14)/(2)=14.05","(14+14)/(2)=14.05","(14+14)/(2)=14.05","(14+14)/(2)=14.05","(14+14)/(2)=14.05","(14+14)/(2)=14.05","(14+14)/(2)=14.05","(14+14)/(2)=14.05","(14+14)/(2)=14.05",null,null,null,null,null,"S1","(713.8+18)/(2)=365.95","(18+18)/(2)=18.05","(18+18)/(2)=18.05","(18+18)/(2)=18.05","(18+18)/(2)=18.05","(18+29.1)/(2)=23.55","(18+18)/(2)=18.05","(18+18)/(2)=18.05","(18+18)/(2)=18.05","(18+18)/(2)=18.05","(18+1004.6)/(2)=511.3","(18+18)/(2)=18.05","(18+18)/(2)=18.05","(18+18)/(2)=18.05","(18+18)/(2)=18.05","(18+18)/(2)=18.05","(18+18)/(2)=18.05"]
["S4","(742.9+13)/(2)=377.95","(13+1002.6)/(2)=507.8","(13+13)/(2)=13.05","(13+13)/(2)=13.05","(13+21.1)/(2)=17.05","(13+13)/(2)=13.05","(13+13)/(2)=13.05","(13+13)/(2)=13.05","(13+13)/(2)=13.05","(13+13)/(2)=13.05","(13+13)/(2)=13.05","(13+13)/(2)=13.05","(13+13)/(2)=13.05","(13+13)/(2)=13.05","(13+13)/(2)=13.05","(13+13)/(2)=13.05","(13+13)/(2)=13.05",null,null,null,null,null,"S2","(712.8+17)/(2)=364.95","(17+17)/(2)=17.05","(17+17)/(2)=17.05","(17+17)/(2)=17.05","(17+17)/(2)=17.05","(17+28.1)/(2)=22.55","(17+17)/(2)=17.05","(17+17)/(2)=17.05","(17+17)/(2)=17.05","(17+17)/(2)=17.05","(17+1003.6)/(2)=510.3","(17+17)/(2)=17.05","(17+17)/(2)=17.05","(17+17)/(2)=17.05","(17+17)/(2)=17.05","(17+17)/(2)=17.05","(17+17)/(2)=17.05"]
["S5","(741.9+12)/(2)=376.95","(12+1001.6)/(2)=506.8","(12+12)/(2)=12.05","(12+12)/(2)=12.05","(12+20.1)/(2)=16.05","(12+12)/(2)=12.05","(12+12)/(2)=12.05","(12+12)/(2)=12.05","(12+12)/(2)=12.05","(12+12)/(2)=12.05","(12+12)/(2)=12.05","(12+12)/(2)=12.05","(12+12)/(2)=12.05","(12+12)/(2)=12.05","(12+12)/(2)=12.05","(12+12)/(2)=12.05","(12+12)/(2)=12.05",null,null,null,null,null,"S3","(711.8+16)/(2)=363.95","(16+16)/(2)=16.05","(16+16)/(2)=16.05","(16+16)/(2)=16.05","(16+16)/(2)=16.05","(16+27.1)/(2)=21.55","(16+16)/(2)=16.05","(16+16)/(2)=16.05","(16+16)/(2)=16.05","(16+16)/(2)=16.05","(16+1002.6)/(2)=509.3","(16+16)/(2)=16.05","(16+16)/(2)=16.05","(16+16)/(2)=16.05","(16+16)/(2)=16.05","(16+16)/(2)=16.05","(16+16)/(2)=16.05"]
["S6","(740.9+11)/(2)=375.95","(11+1000.6)/(2)=505.8","(11+11)/(2)=11.05","(11+11)/(2)=11.05","(11+19)/(2)=15.05","(11+11)/(2)=11.05","(11+11)/(2)=11.05","(11+11)/(2)=11.05","(11+11)/(2)=11.05","(11+11)/(2)=11.05","(11+11)/(2)=11.05","(11+11)/(2)=11.05","(11+11)/(2)=11.05","(11+11)/(2)=11.05","(11+11)/(2)=11.05","(11+11)/(2)=11.05","(11+11)/(2)=11.05",null,null,null,null,null,"S4","(710.8+15)/(2)=362.95","(15+15)/(2)=15.05","(15+15)/(2)=15.05","(15+15)/(2)=15.05","(15+15)/(2)=15.05","(15+26.1)/(2)=20.55","(15+15)/(2)=15.05","(15+15)/(2)=15.05","(15+15)/(2)=15.05","(15+15)/(2)=15.05","(15+1001.6)/(2)=508.3","(15+15)/(2)=15.05","(15+15)/(2)=15.05","(15+15)/(2)=15.05","(15+15)/(2)=15.05","(15+15)/(2)=15.05","(15+15)/(2)=15.05"]
["S7","(739.9+10)/(2)=374.95","(10+999.6)/(2)=504.8","(10+10)/(2)=10.05","(10+10)/(2)=10.05","(10+18)/(2)=14.05","(10+10)/(2)=10.05","(10+10)/(2)=10.05","(10+10)/(2)=10.05","(10+10)/(2)=10.05","(10+10)/(2)=10.05","(10+10)/(2)=10.05","(10+10)/(2)=10.05","(10+10)/(2)=10.05","(10+10)/(2)=10.05","(10+10)/(2)=10.05","(10+10)/(2)=10.05","(10+10)/(2)=10.05",null,null,null,null,null,"S5","(709.8+14)/(2)=361.95","(14+14)/(2)=14.05","(14+14)/(2)=14.05","(14+14)/(2)=14.05","(14+14)/(2)=14.05","(14+25.1)/(2)=19.55","(14+14)/(2)=14.05","(14+14)/(2)=14.05","(14+14)/(2)=14.05","(14+14)/(2)=14.05","(14+1000.6)/(2)=507.3","(14+14)/(2)=14.05","(14+14)/(2)=14.05","(14+14)/(2)=14.05","(14+14)/(2)=14.05","(14+14)/(2)=14.05","(14+14)/(2)=14.05"]
["S8","(738.9+9)/(2)=373.95","(9+998.6)/(2)=503.8","(9+9)/(2)=9","(9+9)/(2)=9","(9+17)/(2)=13.05","(9+9)/(2)=9","(9+9)/(2)=9","(9+9)/(2)=9","(9+9)/(2)=9","(9+9)/(2)=9","(9+9)/(2)=9","(9+9)/(2)=9","(9+9)/(2)=9","(9+9)/(2)=9","(9+9)/(2)=9","(9+9)/(2)=9","(9+9)/(2)=9",null,null,null,null,null,"S6","(708.8+13)/(2)=360.95","(13+13)/(2)=13.05","(13+13)/(2)=13.05","(13+13)/(2)=13.05","(13+13)/(2)=13.05","(13+24.1)/(2)=18.55","(13+13)/(2)=13.05","(13+13)/(2)=13.05","(13+13)/(2)=13.05","(13+13)/(2)=13.05","(13+999.6)/(2)=506.3","(13+13)/(2)=13.05","(13+13)/(2)=13.05","(13+13)/(2)=13.05","(13+13)/(2)=13.05","(13+13)/(2)=13.05","(13+13)/(2)=13.05"]
["S9","(737.9+8)/(2)=372.95","(8+997.6)/(2)=502.8","(8+8)/(2)=8","(8+8)/(2)=8","(8+16)/(2)=12.05","(8+8)/(2)=8","(8+8)/(2)=8","(8+8)/(2)=8","(8+8)/(2)=8","(8+8)/(2)=8","(8+8)/(2)=8","(8+8)/(2)=8","(8+8)/(2)=8","(8+8)/(2)=8","(8+8)/(2)=8","(8+8)/(2)=8","(8+8)/(2)=8",null,null,null,null,null,"S7","(707.8+12)/(2)=359.95","(12+12)/(2)=12.05","(12+12)/(2)=12.05","(12+12)/(2)=12.05","(12+12)/(2)=12.05","(12+23.1)/(2)=17.55","(12+12)/(2)=12.05","(12+12)/(2)=12.05","(12+12)/(2)=12.05","(12+12)/(2)=12.05","(12+998.6)/(2)=505.3","(12+12)/(2)=12.05","(12+12)/(2)=12.05","(12+12)/(2)=12.05","(12+12)/(2)=12.05","(12+12)/(2)=12.05","(12+12)/(2)=12.05"]
["S10","(736.9+7)/(2)=371.95","(7+996.5)/(2)=501.8","(7+7)/(2)=7","(7+7)/(2)=7","(7+15)/(2)=11.05","(7+7)/(2)=7","(7+7)/(2)=7","(7+7)/(2)=7","(7+7)/(2)=7","(7+7)/(2)=7","(7+7)/(2)=7","(7+7)/(2)=7","(7+7)/(2)=7","(7+7)/(2)=7","(7+7)/(2)=7","(7+7)/(2)=7","(7+7)/(2)=7",null,null,null,null,null,"S8","(706.8+11)/(2)=358.95","(11+11)/(2)=11.05","(11+11)/(2)=11.05","(11+11)/(2)=11.05","(11+11)/(2)=11.05","(11+22.1)/(2)=16.55","(11+11)/(2)=11.05","(11+11)/(2)=11.05","(11+11)/(2)=11.05","(11+11)/(2)=11.05","(11+997.6)/(2)=504.3","(11+11)/(2)=11.05","(11+11)/(2)=11.05","(11+11)/(2)=11.05","(11+11)/(2)=11.05","(11+11)/(2)=11.05","(11+11)/(2)=11.05"]
["S11","(735.9+6)/(2)=370.95","(6+995.5)/(2)=500.8","(6+6)/(2)=6","(6+6)/(2)=6","(6+14)/(2)=10.05","(6+6)/(2)=6","(6+6)/(2)=6","(6+6)/(2)=6","(6+6)/(2)=6","(6+6)/(2)=6","(6+6)/(2)=6","(6+6)/(2)=6","(6+6)/(2)=6","(6+6)/(2)=6","(6+6)/(2)=6","(6+6)/(2)=6","(6+6)/(2)=6",null,null,null,null,null,"S9","(705.8+10)/(2)=357.9","(10+10)/(2)=10.05","(10+10)/(2)=10.05","(10+10)/(2)=10.05","(10+10)/(2)=10.05","(10+21.1)/(2)=15.55","(10+10)/(2)=10.05","(10+10)/(2)=10.05","(10+10)/(2)=10.05","(10+10)/(2)=10.05","(10+996.6)/(2)=503.3","(10+10)/(2)=10.05","(10+10)/(2)=10.05","(10+10)/(2)=10.05","(10+10)/(2)=10.05","(10+10)/(2)=10.05","(10+10)/(2)=10.05"]
["S12","(734.9+5)/(2)=369.95","(5+994.5)/(2)=499.8","(5+5)/(2)=5","(5+5)/(2)=5","(5+13)/(2)=9","(5+5)/(2)=5","(5+5)/(2)=5","(5+5)/(2)=5","(5+5)/(2)=5","(5+5)/(2)=5","(5+5)/(2)=5","(5+5)/(2)=5","(5+5)/(2)=5","(5+5)/(2)=5","(5+5)/(2)=5","(5+5)/(2)=5","(5+5)/(2)=5",null,null,null,null,null,"S10","(704.8+9)/(2)=356.9","(9+9)/(2)=9","(9+9)/(2)=9","(9+9)/(2)=9","(9+9)/(2)=9","(9+20.1)/(2)=14.55","(9+9)/(2)=9","(9+9)/(2)=9","(9+9)/(2)=9","(9+9)/(2)=9","(9+995.6)/(2)=502.3","(9+9)/(2)=9","(9+9)/(2)=9","(9+9)/(2)=9","(9+9)/(2)=9","(9+9)/(2)=9","(9+9)/(2)=9"]
["S13","(733.9+4)/(2)=368.95","(4+993.5)/(2)=498.8","(4+4)/(2)=4","(4+4)/(2)=4","(4+12)/(2)=8","(4+4)/(2)=4","(4+4)/(2)=4","(4+4)/(2)=4","(4+4)/(2)=4","(4+4)/(2)=4","(4+4)/(2)=4","(4+4)/(2)=4","(4+4)/(2)=4","(4+4)/(2)=4","(4+4)/(2)=4","(4+4)/(2)=4","(4+4)/(2)=4",null,null,null,null,null,"S11","(703.8+8)/(2)=355.9","(8+8)/(2)=8","(8+8)/(2)=8","(8+8)/(2)=8","(8+8)/(2)=8","(8+19)/(2)=13.55","(8+8)/(2)=8","(8+8)/(2)=8","(8+8)/(2)=8","(8+8)/(2)=8","(8+994.6)/(2)=501.3","(8+8)/(2)=8","(8+8)/(2)=8","(8+8)/(2)=8","(8+8)/(2)=8","(8+8)/(2)=8","(8+8)/(2)=8"]
["S14","(732.9+3)/(2)=367.95","(3+992.5)/(2)=497.75","(3+3)/(2)=3","(3+3)/(2)=3","(3+11)/(2)=7","(3+3)/(2)=3","(3+3)/(2)=3","(3+3)/(2)=3","(3+3)/(2)=3","(3+3)/(2)=3","(3+3)/(2)=3","(3+3)/(2)=3","(3+3)/(2)=3","(3+3)/(2)=3","(3+3)/(2)=3","(3+3)/(2)=3","(3+3)/(2)=3",null,null,null,null,null,"S12","(702.8+7)/(2)=354.9","(7+7)/(2)=7","(7+7)/(2)=7","(7+7)/(2)=7","(7+7)/(2)=7","(7+18)/(2)=12.55","(7+7)/(2)=7","(7+7)/(2)=7","(7+7)/(2)=7","(7+7)/(2)=7","(7+993.6)/(2)=500.3","(7+7)/(2)=7","(7+7)/(2)=7","(7+7)/(2)=7","(7+7)/(2)=7","(7+7)/(2)=7","(7+7)/(2)=7"]
["S15","(731.9+2)/(2)=366.95","(2+991.5)/(2)=496.75","(2+2)/(2)=2","(2+2)/(2)=2","(2+10)/(2)=6","(2+2)/(2)=2","(2+2)/(2)=2","(2+2)/(2)=2","(2+2)/(2)=2","(2+2)/(2)=2","(2+2)/(2)=2","(2+2)/(2)=2","(2+2)/(2)=2","(2+2)/(2)=2","(2+2)/(2)=2","(2+2)/(2)=2","(2+2)/(2)=2",null,null,null,null,null,"S13","(701.8+6)/(2)=353.9","(6+6)/(2)=6","(6+6)/(2)=6","(6+6)/(2)=6","(6+6)/(2)=6","(6+17)/(2)=11.55","(6+6)/(2)=6","(6+6)/(2)=6","(6+6)/(2)=6","(6+6)/(2)=6","(6+992.6)/(2)=499.3","(6+6)/(2)=6","(6+6)/(2)=6","(6+6)/(2)=6","(6+6)/(2)=6","(6+6)/(2)=6","(6+6)/(2)=6"]
["S16","(730.9+1)/(2)=365.95","(1+990.5)/(2)=495.75","(1+1)/(2)=1","(1+1)/(2)=1","(1+9)/(2)=5","(1+1)/(2)=1","(1+1)/(2)=1","(1+1)/(2)=1","(1+1)/(2)=1","(1+1)/(2)=1","(1+1)/(2)=1","(1+1)/(2)=1","(1+1)/(2)=1","(1+1)/(2)=1","(1+1)/(2)=1","(1+1)/(2)=1","(1+1)/(2)=1",null,null,null,null,null,"S14","(700.8+5)/(2)=352.9","(5+5)/(2)=5","(5+5)/(2)=5","(5+5)/(2)=5","(5+5)/(2)=5","(5+16)/(2)=10.55","(5+5)/(2)=5","(5+5)/(2)=5","(5+5)/(2)=5","(5+5)/(2)=5","(5+991.6)/(2)=498.3","(5+5)/(2)=5","(5+5)/(2)=5","(5+5)/(2)=5","(5+5)/(2)=5","(5+5)/(2)=5","(5+5)/(2)=5"]
["S17","(729.9+0)/(2)=364.95","(0+989.5)/(2)=494.75","(0+0)/(2)=0","(0+0)/(2)=0","(0+0)/(2)=0","(0+0)/(2)=0","(0+0)/(2)=0","(0+0)/(2)=0","(0+0)/(2)=0","(0+0)/(2)=0","(0+0)/(2)=0","(0+0)/(2)=0","(0+0)/(2)=0","(0+0)/(2)=0","(0+0)/(2)=0","(0+0)/(2)=0","(0+0)/(2)=0",null,null,null,null,null,"S15","(699.8+4)/(2)=351.9","(4+4)/(2)=4","(4+4)/(2)=4","(4+4)/(2)=4","(4+4)/(2)=4","(4+15)/(2)=9.5","(4+4)/(2)=4","(4+4)/(2)=4","(4+4)/(2)=4","(4+4)/(2)=4","(4+990.6)/(2)=497.3","(4+4)/(2)=4","(4+4)/(2)=4","(4+4)/(2)=4","(4+4)/(2)=4","(4+4)/(2)=4","(4+4)/(2)=4"]
[null,null,null,null,null,null,null,null,null,null,null,null,null,null,null,null,null,null,null,null,null,null,null,"S16","(698.8+3)/(2)=350.9","(3+3)/(2)=3","(3+3)/(2)=3","(3+3)/(2)=3","(3+3)/(2)=3","(3+14)/(2)=8.5","(3+3)/(2)=3","(3+3)/(2)=3","(3+3)/(2)=3","(3+3)/(2)=3","(3+989.6)/(2)=496.3","(3+3)/(2)=3","(3+3)/(2)=3","(3+3)/(2)=3","(3+3)/(2)=3","(3+3)/(2)=3","(3+3)/(2)=3"]
["L�pcs�k(2)","X(A1)","X(A2)","X(A3)","X(A4)","X(A5)","X(A6)","X(A7)","X(A8)","X(A9)","X(A10)","X(A11)","X(A12)","X(A13)","X(A14)","X(A15)","X(A16)","X(A17)",null,null,null,null,null,"S17","(697.8+2)/(2)=349.9","(2+2)/(2)=2","(2+2)/(2)=2","(2+2)/(2)=2","(2+2)/(2)=2","(2+13)/(2)=7.5","(2+2)/(2)=2","(2+2)/(2)=2","(2+2)/(2)=2","(2+2)/(2)=2","(2+988.5)/(2)=495.3","(2+2)/(2)=2","(2+2)/(2)=2","(2+2)/(2)=2","(2+2)/(2)=2","(2+2)/(2)=2","(2+2)/(2)=2"]
["S1",381,510.8,16,16,20.100000000000001,16,16,16,16,16,16,16,16,16,16,16,16,null,null,null,null,null,"S18","(696.8+1)/(2)=348.9","(1+1)/(2)=1","(1+1)/(2)=1","(1+1)/(2)=1","(1+1)/(2)=1","(1+12)/(2)=6.5","(1+1)/(2)=1","(1+1)/(2)=1","(1+1)/(2)=1","(1+1)/(2)=1","(1+987.5)/(2)=494.25","(1+1)/(2)=1","(1+1)/(2)=1","(1+1)/(2)=1","(1+1)/(2)=1","(1+1)/(2)=1","(1+1)/(2)=1"]
["S2",380,509.8,15,15,19,15,15,15,15,15,15,15,15,15,15,15,15,null,null,null,null,null,"S19","(695.8+0)/(2)=347.9","(0+0)/(2)=0","(0+0)/(2)=0","(0+0)/(2)=0","(0+0)/(2)=0","(0+0)/(2)=0","(0+0)/(2)=0","(0+0)/(2)=0","(0+0)/(2)=0","(0+0)/(2)=0","(0+0)/(2)=0","(0+0)/(2)=0","(0+0)/(2)=0","(0+0)/(2)=0","(0+0)/(2)=0","(0+0)/(2)=0","(0+0)/(2)=0"]
["S3",379,508.8,14,14,18,14,14,14,14,14,14,14,14,14,14,14,14]
["S4",378,507.8,13,13,17,13,13,13,13,13,13,13,13,13,13,13,13,null,null,null,null,null,"L�pcs�k(2)","X(A1)","X(A2)","X(A3)","X(A4)","X(A5)","X(A6)","X(A7)","X(A8)","X(A9)","X(A10)","X(A11)","X(A12)","X(A13)","X(A14)","X(A15)","X(A16)","X(A17)"]
["S5",377,506.8,12,12,16,12,12,12,12,12,12,12,12,12,12,12,12,null,null,null,null,null,"S1",365.9,18,18,18,18,23.6,18,18,18,18,511.3,18,18,18,18,18,18]
["S6",376,505.8,11,11,15,11,11,11,11,11,11,11,11,11,11,11,11,null,null,null,null,null,"S2",364.9,17,17,17,17,22.6,17,17,17,17,510.3,17,17,17,17,17,17]
["S7",375,504.8,10,10,14,10,10,10,10,10,10,10,10,10,10,10,10,null,null,null,null,null,"S3",363.9,16,16,16,16,21.6,16,16,16,16,509.3,16,16,16,16,16,16]
["S8",374,503.8,9,9,13,9,9,9,9,9,9,9,9,9,9,9,9,null,null,null,null,null,"S4",362.9,15,15,15,15,20.6,15,15,15,15,508.3,15,15,15,15,15,15]
["S9",373,502.8,8,8,12,8,8,8,8,8,8,8,8,8,8,8,8,null,null,null,null,null,"S5",361.9,14,14,14,14,19.600000000000001,14,14,14,14,507.3,14,14,14,14,14,14]
["S10",372,501.8,7,7,11,7,7,7,7,7,7,7,7,7,7,7,7,null,null,null,null,null,"S6",360.9,13,13,13,13,18.5,13,13,13,13,506.3,13,13,13,13,13,13]
["S11",370.9,500.8,6,6,10,6,6,6,6,6,6,6,6,6,6,6,6,null,null,null,null,null,"S7",359.9,12,12,12,12,17.5,12,12,12,12,505.3,12,12,12,12,12,12]
["S12",369.9,499.8,5,5,9,5,5,5,5,5,5,5,5,5,5,5,5,null,null,null,null,null,"S8",358.9,11,11,11,11,16.5,11,11,11,11,504.3,11,11,11,11,11,11]
["S13",368.9,498.8,4,4,8,4,4,4,4,4,4,4,4,4,4,4,4,null,null,null,null,null,"S9",357.9,10,10,10,10,15.5,10,10,10,10,503.3,10,10,10,10,10,10]
["S14",367.9,497.8,3,3,7,3,3,3,3,3,3,3,3,3,3,3,3,null,null,null,null,null,"S10",356.9,9,9,9,9,14.5,9,9,9,9,502.3,9,9,9,9,9,9]
["S15",366.9,496.8,2,2,6,2,2,2,2,2,2,2,2,2,2,2,2,null,null,null,null,null,"S11",355.9,8,8,8,8,13.5,8,8,8,8,501.3,8,8,8,8,8,8]
["S16",365.9,495.8,1,1,5,1,1,1,1,1,1,1,1,1,1,1,1,null,null,null,null,null,"S12",354.9,7,7,7,7,12.5,7,7,7,7,500.3,7,7,7,7,7,7]
["S17",364.9,494.8,0,0,0,0,0,0,0,0,0,0,0,0,0,0,0,null,null,null,null,null,"S13",353.9,6,6,6,6,11.5,6,6,6,6,499.3,6,6,6,6,6,6]
[null,null,null,null,null,null,null,null,null,null,null,null,null,null,null,null,null,null,null,null,null,null,null,"S14",352.9,5,5,5,5,10.5,5,5,5,5,498.3,5,5,5,5,5,5]
["COCO:Y0","X(A1)","X(A2)","X(A3)","X(A4)","X(A5)","X(A6)","X(A7)","X(A8)","X(A9)","X(A10)","X(A11)","X(A12)","X(A13)","X(A14)","X(A15)","X(A16)","X(A17)","Becsl�s","T�ny+0","Delta","Delta/T�ny",null,"S15",351.9,4,4,4,4,9.5,4,4,4,4,497.3,4,4,4,4,4,4]
["O1",376,497.8,3,5,9,5,5,5,5,5,5,4,5,5,5,5,4,948.9,1000,51.1,5.1100000000000003,null,"S16",350.9,3,3,3,3,8.5,3,3,3,3,496.3,3,3,3,3,3,3]
["O2",370.9,500.8,10,7,10,6,7,7,7,7,7,7,7,7,7,7,7,982,1000,18,1.8,null,"S17",349.9,2,2,2,2,7.5,2,2,2,2,495.3,2,2,2,2,2,2]
["O3",367.9,501.8,5,4,8,4,4,4,4,4,4,5,4,3,4,3,4,933.9,1000,66.099999999999994,6.61,null,"S18",348.9,1,1,1,1,6.5,1,1,1,1,494.3,1,1,1,1,1,1]
["O4",378,508.8,14,13,18,14,14,14,13,14,14,14,14,14,14,14,14,1099.3,1000,-99.3,-9.93,null,"S19",347.9,0,0,0,0,0,0,0,0,0,0,0,0,0,0,0,0]
["O5",381,510.8,16,16,20.100000000000001,16,16,16,16,16,16,16,16,16,16,16,16,1136.4000000000001,1000,-136.4,-13.64]
["O6",368.9,498.8,4,3,6,3,3,3,3,2,3,3,3,4,3,4,5,919.9,1000,80.099999999999994,8.01,null,"COCO:Y0","X(A1)","X(A2)","X(A3)","X(A4)","X(A5)","X(A6)","X(A7)","X(A8)","X(A9)","X(A10)","X(A11)","X(A12)","X(A13)","X(A14)","X(A15)","X(A16)","X(A17)","Becsl�s","T�ny+0","Delta","Delta/T�ny"]
["O7",373,509.8,12,10,15,11,11,11,11,11,10,10,10,10,10,10,10,1045.2,1000,-45.2,-4.5199999999999996,null,"O1",360.9,4,4,6,6,11.5,6,6,6,6,499.3,5,6,6,6,6,5,949.9,1000,50.1,5.01]
["O8",380,506.8,15,14,17,15,15,13,15,15,15,15,15,15,15,15,15,1111.3,1000,-111.3,-11.13,null,"O2",355.9,7,11,8,7,12.5,8,8,8,8,501.3,8,8,8,8,8,8,983,1000,17,1.7]
["O9",372,503.8,8,11,13,10,10,10,10,10,12,12,11,13,11,13,13,1043.2,1000,-43.2,-4.32,null,"O3",352.9,8,6,5,5,10.5,5,5,5,5,498.3,6,5,4,5,4,5,934.9,1000,65.099999999999994,6.51]
["O10",374,499.8,6,6,11,7,6,6,6,6,6,6,6,6,6,6,6,970,1000,30,3,null,"O4",362.9,16,16,15,16,21.6,16,16,15,16,509.3,16,16,16,16,16,16,1116.4000000000001,1000,-116.4,-11.64]
["O11",377,505.8,11,9,14,9,9,9,9,9,9,8,8,8,8,8,8,1019.1,1000,-19.100000000000001,-1.91,null,"O5",365.9,18,18,18,18,23.6,18,18,18,18,511.3,18,18,18,18,18,18,1153.5,1000,-153.5,-15.35]
["O12",375,504.8,9,8,12,8,8,8,8,8,8,9,9,9,9,9,9,1011.1,1000,-11.1,-1.1100000000000001,null,"O6",353.9,5,5,4,3,9.5,4,4,4,3,497.3,4,4,5,4,5,6,920.9,1000,79.099999999999994,7.91]
["O13",379,507.8,13,15,19,13,13,15,14,13,13,13,13,12,12,12,12,1089.3,1000,-89.3,-8.93,null,"O7",357.9,17,14,12,12,18.5,13,12,13,13,505.3,12,12,11,12,12,12,1059.2,1000,-59.2,-5.92]
["O14",369.9,496.8,2,2,7,2,2,2,2,3,2,2,2,2,2,2,2,902.8,1000,97.2,9.7200000000000006,null,"O8",364.9,14,17,16,15,22.6,17,15,17,17,510.3,17,17,17,17,17,17,1128.4000000000001,1000,-128.4,-12.84]
["O15",365.9,495.8,0,1,0,0,1,0,1,1,1,1,1,1,1,1,1,872.7,1000,127.3,12.73,null,"O9",356.9,10,9,13,10,16.5,12,11,12,12,507.3,14,13,15,13,15,15,1055.2,1000,-55.2,-5.52]
["O16",366.9,502.8,8,12,16,12,12,12,12,12,11,11,12,11,13,11,11,1046.2,1000,-46.2,-4.62,null,"O10",358.9,6,7,7,8,13.5,7,7,7,7,500.3,7,7,7,7,7,7,971,1000,29,2.9]
["O17",364.9,494.8,1,0,5,1,0,1,0,0,1,0,0,0,0,0,0,868.7,1000,131.30000000000001,13.13,null,"O11",361.9,13,13,11,11,15.5,11,10,10,10,503.3,9,9,9,9,9,9,1024.0999999999999,1000,-24.1,-2.41]
[null,null,null,null,null,null,null,null,null,null,null,null,null,null,null,null,null,null,null,null,null,null,null,"O12",359.9,12,10,9,9,14.5,9,9,9,9,502.3,10,10,10,10,10,10,1013.1,1000,-13.1,-1.31]
["S1 �sszeg:",1135.9000000000001,null,null,null,null,null,null,null,null,null,null,null,null,null,null,null,null,null,null,null,null,null,"O13",363.9,15,15,17,17,20.6,15,17,16,15,508.3,15,15,14,14,14,14,1106.4000000000001,1000,-106.4,-10.64]
["S17 �sszeg:",859.7,null,null,null,null,null,null,null,null,null,null,null,null,null,null,null,null,null,null,null,null,null,"O14",354.9,3,3,3,4,8.5,3,3,3,4,496.3,3,3,3,3,3,3,903.8,1000,96.2,9.6199999999999992]
["Becsl�s �sszeg:",17000,null,null,null,null,null,null,null,null,null,null,null,null,null,null,null,null,null,null,null,null,null,"O15",349.9,2,0,1,0,0,1,0,1,2,494.3,1,1,1,1,1,1,857.2,1000,142.80000000000001,14.28]
["T�ny �sszeg:",17000,null,null,null,null,null,null,null,null,null,null,null,null,null,null,null,null,null,null,null,null,null,"O16",351.9,9,9,14,14,19.600000000000001,14,14,14,14,506.3,13,14,13,15,13,13,1061.2,1000,-61.2,-6.12]
["T�ny-becsl�s elt�r�s:",0,null,null,null,null,null,null,null,null,null,null,null,null,null,null,null,null,null,null,null,null,null,"O17",347.9,0,1,0,1,6.5,0,1,0,0,494.3,0,0,0,0,0,0,851.7,1000,148.30000000000001,14.83]
["T�ny n�gyzet�sszeg:",null,null,null,null,null,null,null,null,null,null,null,null,null,null,null,null,null,null,null,null,null,null,"O18",348.9,1,2,2,2,7.5,2,2,2,1,495.3,2,2,2,2,2,2,877.8,1000,122.2,12.22]
["Becsl�s n�gyzet�sszeg:",null,null,null,null,null,null,null,null,null,null,null,null,null,null,null,null,null,null,null,null,null,null,"O19",350.9,11,13,10,13,17.5,10,13,11,11,504.3,11,11,12,11,11,11,1032.2,1000,-32.200000000000003,-3.22]
["N�gyzet�sszeg hiba:",0]
[null,null,null,null,null,null,null,null,null,null,null,null,null,null,null,null,null,null,null,null,null,null,null,"S1 �sszeg:",1152.8]
["Open url",null,null,null,null,null,null,null,null,null,null,null,null,null,null,null,null,null,null,null,null,null,null,"S19 �sszeg:",347.9]
[null,null,null,null,null,null,null,null,null,null,null,null,null,null,null,null,null,null,null,null,null,null,null,"Becsl�s �sszeg:",18999.900000000001]
["Maxim�lis mem�ria haszn�lat: 1.48 Mb",null,null,null,null,null,null,null,null,null,null,null,null,null,null,null,null,null,null,null,null,null,null,"T�ny �sszeg:",19000]
["A futtat�s id�tartama: 0.11 mp (0 p)",null,null,null,null,null,null,null,null,null,null,null,null,null,null,null,null,null,null,null,null,null,null,"T�ny-becsl�s elt�r�s:",-0.1]
[null,null,null,null,null,null,null,null,null,null,null,null,null,null,null,null,null,null,null,null,null,null,null,"T�ny n�gyzet�sszeg:"]
[null,null,null,null,null,null,null,null,null,null,null,null,null,null,null,null,null,null,null,null,null,null,null,"Becsl�s n�gyzet�sszeg:"]
[null,null,null,null,null,null,null,null,null,null,null,null,null,null,null,null,null,null,null,null,null,null,null,"N�gyzet�sszeg hiba:",0]
[]
[null,null,null,null,null,null,null,null,null,null,null,null,null,null,null,null,null,null,null,null,null,null,null,"Open url"]
[]
[null,null,null,null,null,null,null,null,null,null,null,null,null,null,null,null,null,null,null,null,null,null,null,"Maxim�lis mem�ria haszn�lat: 1.5 Mb"]
[null,null,null,null,null,null,null,null,null,null,null,null,null,null,null,null,null,null,null,null,null,null,null,"A futtat�s id�tartama: 0.16 mp (0 p)"]

{"sheet":"ell","index":6,"n_rows":22,"n_cols":6,"rows_kept":22,"cut":false,"hidden":false,"merged":[]}
[]
[null,"megyek",null,null,"Sorcímkék","Mennyiség / megyek"]
[1,"BKM",null,null,"BAM",1]
[2,"NOM",null,null,"BAZ",1]
[3,"KEM",null,null,"BEM",1]
[4,"FEM",null,null,"BKM",1]
[5,"PEM",null,null,"CSM",1]
[6,"GMS",null,null,"FEM",1]
[7,"VEM",null,null,"GMS",1]
[8,"ZAM",null,null,"HBM",1]
[9,"VAM",null,null,"HEM",1]
[10,"BAM",null,null,"JNS",1]
[11,"CSM",null,null,"KEM",1]
[12,"SOM",null,null,"NOM",1]
[13,"BEM",null,null,"PEM",1]
[14,"HBM",null,null,"SOM",1]
[15,"JNS",null,null,"SSB",1]
[16,"HEM",null,null,"TOM",1]
[17,"BAZ",null,null,"VAM",1]
[18,"SSB",null,null,"VEM",1]
[19,"TOM",null,null,"ZAM",1]
[null,null,null,null,"Végösszeg",19]

{"sheet":"multiTimeline (2)","index":7,"n_rows":207,"n_cols":7,"rows_kept":207,"cut":false,"hidden":false,"merged":[]}
["KategĂłria: Minden kategĂłria"]
[]
["HĂłnap,\"\"\"GyĹ‘r-Moson-Sopron megye\"\": (VilĂˇgszerte)\",\"\"\"VeszprĂ©m megye\"\": (VilĂˇgszerte)\",\"\"\"Vas megye\"\": (VilĂˇgszerte)\",\"\"\"Zala megye\"\": (VilĂˇgszerte)\",\"\"\"Pest megye\"\": (VilĂˇgszerte)\""]
[2004,1,0,0,21,11,32]
[2004,2,0,0,16,0,21]
[2004,3,39,0,19,0,26]
[2004,4,10,10,30,0,20]
[2004,5,0,0,17,0,17]
[2004,6,0,9,13,13,13]
[2004,7,0,9,9,9,0]
[2004,8,0,8,0,13,13]
[2004,9,0,8,12,8,8]
[2004,10,8,8,20,8,16]
[2004,11,0,8,8,12,24]
[2004,12,7,22,15,7,22]
[2005,1,0,20,6,7,26]
[2005,2,10,28,24,17,14]
[2005,3,9,12,11,6,26]
[2005,4,10,13,26,10,23]
[2005,5,0,17,20,6,23]
[2005,6,11,6,14,14,8]
[2005,7,0,9,11,6,29]
[2005,8,0,17,8,14,28]
[2005,9,5,10,8,13,20]
[2005,10,0,12,5,12,16]
[2005,11,5,17,14,5,21]
[2005,12,0,14,9,9,23]
[2006,1,0,12,22,8,20]
[2006,2,9,8,32,13,21]
[2006,3,7,24,13,7,33]
[2006,4,8,8,16,8,33]
[2006,5,0,11,11,12,12]
[2006,6,8,13,19,6,24]
[2006,7,4,4,7,13,17]
[2006,8,7,17,20,9,19]
[2006,9,3,8,20,10,21]
[2006,10,6,13,13,13,42]
[2006,11,3,10,15,3,23]
[2006,12,0,11,14,8,20]
[2007,1,11,18,14,16,25]
[2007,2,6,14,18,17,29]
[2007,3,4,13,25,19,30]
[2007,4,4,14,21,14,30]
[2007,5,2,10,19,10,40]
[2007,6,8,15,20,13,36]
[2007,7,4,10,32,21,24]
[2007,8,3,22,26,18,36]
[2007,9,2,12,15,23,27]
[2007,10,7,17,23,11,42]
[2007,11,3,12,12,7,31]
[2007,12,3,13,12,11,26]
[2008,1,2,23,23,18,40]
[2008,2,4,17,23,10,42]
[2008,3,4,19,27,11,47]
[2008,4,8,18,22,19,47]
[2008,5,2,14,20,19,40]
[2008,6,3,15,29,10,44]
[2008,7,6,14,20,20,40]
[2008,8,5,20,24,17,47]
[2008,9,2,19,12,22,41]
[2008,10,5,17,18,18,38]
[2008,11,4,20,22,11,38]
[2008,12,5,21,22,16,36]
[2009,1,6,20,33,18,45]
[2009,2,8,28,31,15,50]
[2009,3,3,19,31,18,51]
[2009,4,7,20,29,23,52]
[2009,5,3,17,26,17,48]
[2009,6,5,21,21,21,56]
[2009,7,2,29,32,16,61]
[2009,8,5,17,30,21,53]
[2009,9,2,28,30,21,49]
[2009,10,4,18,22,15,35]
[2009,11,4,13,22,16,45]
[2009,12,3,13,25,10,34]
[2010,1,4,19,23,19,47]
[2010,2,3,20,24,18,47]
[2010,3,6,17,30,15,60]
[2010,4,3,23,36,20,57]
[2010,5,3,24,33,20,55]
[2010,6,1,20,32,15,51]
[2010,7,5,24,26,21,48]
[2010,8,4,23,22,23,43]
[2010,9,1,17,33,19,47]
[2010,10,2,22,27,21,43]
[2010,11,2,14,22,16,39]
[2010,12,3,11,21,14,30]
[2011,1,3,19,23,13,52]
[2011,2,5,20,18,15,42]
[2011,3,3,17,24,19,39]
[2011,4,4,17,25,16,37]
[2011,5,1,20,28,16,46]
[2011,6,4,18,27,14,45]
[2011,7,3,17,26,23,52]
[2011,8,2,16,22,17,52]
[2011,9,3,20,27,19,39]
[2011,10,3,14,21,16,38]
[2011,11,4,14,20,18,40]
[2011,12,2,13,16,9,33]
[2012,1,3,15,31,15,42]
[2012,2,3,17,28,15,41]
[2012,3,1,18,24,15,45]
[2012,4,2,17,29,13,42]
[2012,5,3,17,29,18,44]
[2012,6,3,18,23,14,43]
[2012,7,4,21,26,20,45]
[2012,8,3,18,25,22,43]
[2012,9,2,18,28,16,40]
[2012,10,3,17,26,15,40]
[2012,11,2,12,20,16,36]
[2012,12,1,12,21,17,32]
[2013,1,5,19,32,20,34]
[2013,2,1,22,31,21,41]
[2013,3,4,28,33,22,40]
[2013,4,2,20,22,20,42]
[2013,5,3,17,22,17,39]
[2013,6,2,21,26,16,36]
[2013,7,2,17,23,15,33]
[2013,8,2,17,25,15,38]
[2013,9,2,18,23,16,32]
[2013,10,3,17,30,19,37]
[2013,11,3,14,36,16,36]
[2013,12,1,12,19,11,27]
[2014,1,2,14,26,22,44]
[2014,2,3,16,23,16,40]
[2014,3,3,19,30,15,38]
[2014,4,4,22,27,20,41]
[2014,5,3,18,26,18,41]
[2014,6,2,18,27,17,38]
[2014,7,4,17,26,18,42]
[2014,8,2,15,23,22,44]
[2014,9,3,12,24,19,33]
[2014,10,2,16,23,21,37]
[2014,11,2,12,22,16,33]
[2014,12,2,13,16,11,32]
[2015,1,2,19,31,15,56]
[2015,2,2,17,24,17,48]
[2015,3,3,16,20,16,48]
[2015,4,2,16,24,23,46]
[2015,5,2,16,26,19,52]
[2015,6,2,16,25,18,54]
[2015,7,2,19,29,19,56]
[2015,8,1,15,25,19,51]
[2015,9,2,16,22,15,46]
[2015,10,2,12,22,17,43]
[2015,11,3,12,25,15,42]
[2015,12,1,13,18,15,39]
[2016,1,3,14,27,14,47]
[2016,2,2,19,25,16,43]
[2016,3,2,15,26,17,44]
[2016,4,2,14,23,17,39]
[2016,5,3,18,27,15,50]
[2016,6,2,15,24,15,47]
[2016,7,1,16,23,19,48]
[2016,8,3,16,22,16,43]
[2016,9,1,15,25,16,47]
[2016,10,2,14,23,16,41]
[2016,11,2,12,19,13,35]
[2016,12,1,9,20,9,29]
[2017,1,2,13,25,17,45]
[2017,2,1,12,24,16,44]
[2017,3,2,13,30,14,47]
[2017,4,2,15,25,16,50]
[2017,5,2,13,26,20,54]
[2017,6,2,13,21,15,46]
[2017,7,2,15,26,18,49]
[2017,8,1,18,24,20,50]
[2017,9,1,10,25,20,50]
[2017,10,2,15,22,16,47]
[2017,11,2,11,20,16,46]
[2017,12,1,9,17,13,35]
[2018,1,2,15,24,18,55]
[2018,2,1,14,28,19,49]
[2018,3,1,14,26,17,51]
[2018,4,3,18,28,19,65]
[2018,5,2,17,27,16,56]
[2018,6,2,18,27,18,53]
[2018,7,1,19,29,18,57]
[2018,8,2,16,29,17,53]
[2018,9,2,13,24,17,50]
[2018,10,1,15,26,15,56]
[2018,11,1,15,22,16,44]
[2018,12,1,14,18,13,37]
[2019,1,1,19,26,14,50]
[2019,2,3,18,27,20,55]
[2019,3,3,16,24,19,55]
[2019,4,1,16,37,21,60]
[2019,5,2,18,29,21,57]
[2019,6,2,20,25,20,58]
[2019,7,2,17,29,20,63]
[2019,8,2,17,26,22,64]
[2019,9,2,15,27,19,55]
[2019,10,2,18,29,18,56]
[2019,11,1,16,21,19,45]
[2019,12,2,12,20,13,38]
[2020,1,2,17,26,19,54]
[2020,2,2,16,24,19,57]
[2020,3,2,15,21,19,50]
[2020,4,2,18,26,20,61]
[2020,5,1,22,35,26,100]
[2020,6,2,21,34,25,73]
[2020,7,2,21,28,29,74]
[2020,8,1,20,28,26,67]
[2020,9,2,21,28,21,65]
[2020,10,2,19,27,24,61]
[2020,11,2,14,28,20,44]
[2020,12,7,18,29,15,51]

{"sheet":"multiTimeline (3)","index":8,"n_rows":207,"n_cols":7,"rows_kept":207,"cut":false,"hidden":false,"merged":[]}
["KategĂłria: Minden kategĂłria"]
[]
["HĂłnap,\"\"\"Baranya megye\"\": (VilĂˇgszerte)\",\"\"\"CsongrĂˇd megye\"\": (VilĂˇgszerte)\",\"\"\"Somogy megye\"\": (VilĂˇgszerte)\",\"\"\"BĂ©kĂ©s megye\"\": (VilĂˇgszerte)\",\"\"\"Pest megye\"\": (VilĂˇgszerte)\""]
[2004,1,11,11,11,0,17]
[2004,2,17,22,11,22,11]
[2004,3,14,20,0,20,14]
[2004,4,11,11,0,11,21]
[2004,5,9,14,14,18,23]
[2004,6,0,9,27,9,23]
[2004,7,10,0,10,14,19]
[2004,8,0,0,0,13,13]
[2004,9,8,8,8,16,12]
[2004,10,8,8,0,0,8]
[2004,11,8,8,8,13,21]
[2004,12,8,8,16,12,12]
[2005,1,0,21,14,21,24]
[2005,2,7,22,14,25,18]
[2005,3,18,12,15,6,21]
[2005,4,7,17,7,24,17]
[2005,5,12,18,12,9,30]
[2005,6,6,9,9,12,15]
[2005,7,6,12,6,9,24]
[2005,8,6,0,6,12,23]
[2005,9,5,11,11,5,27]
[2005,10,10,0,5,15,20]
[2005,11,8,8,8,13,23]
[2005,12,10,10,25,12,30]
[2006,1,13,11,9,4,23]
[2006,2,9,9,4,11,20]
[2006,3,17,6,0,17,29]
[2006,4,10,16,8,18,33]
[2006,5,7,23,13,24,23]
[2006,6,6,8,10,6,26]
[2006,7,6,12,8,14,26]
[2006,8,7,14,11,9,34]
[2006,9,12,7,10,12,26]
[2006,10,11,11,14,11,46]
[2006,11,5,8,8,17,29]
[2006,12,3,8,16,10,29]
[2007,1,7,10,6,17,34]
[2007,2,7,13,9,19,25]
[2007,3,13,8,15,18,32]
[2007,4,9,12,11,23,31]
[2007,5,14,14,9,25,42]
[2007,6,8,20,19,25,29]
[2007,7,9,17,13,28,26]
[2007,8,10,13,16,21,29]
[2007,9,6,11,10,22,41]
[2007,10,13,13,11,20,43]
[2007,11,8,13,9,24,34]
[2007,12,6,15,7,20,26]
[2008,1,12,8,19,32,50]
[2008,2,15,15,11,22,47]
[2008,3,11,15,10,27,41]
[2008,4,14,16,15,24,41]
[2008,5,13,19,15,20,53]
[2008,6,11,23,16,26,42]
[2008,7,15,18,21,31,48]
[2008,8,8,23,13,25,54]
[2008,9,10,18,10,21,48]
[2008,10,9,15,17,24,41]
[2008,11,12,17,10,33,35]
[2008,12,4,13,11,18,38]
[2009,1,15,15,15,28,36]
[2009,2,17,11,21,26,52]
[2009,3,14,22,16,32,60]
[2009,4,16,24,15,27,47]
[2009,5,14,17,13,26,49]
[2009,6,15,15,12,25,55]
[2009,7,12,19,19,26,59]
[2009,8,14,19,18,33,57]
[2009,9,14,14,18,23,54]
[2009,10,13,15,13,21,44]
[2009,11,10,14,15,18,50]
[2009,12,10,11,12,25,36]
[2010,1,13,22,16,29,50]
[2010,2,14,23,15,30,48]
[2010,3,15,20,13,30,58]
[2010,4,13,19,21,29,72]
[2010,5,13,23,15,22,57]
[2010,6,13,21,16,29,52]
[2010,7,13,16,15,24,59]
[2010,8,10,18,16,22,48]
[2010,9,9,18,7,33,45]
[2010,10,10,18,14,27,52]
[2010,11,11,13,13,28,42]
[2010,12,8,8,12,17,34]
[2011,1,11,20,12,30,57]
[2011,2,15,14,13,24,48]
[2011,3,14,19,15,22,49]
[2011,4,10,17,9,25,43]
[2011,5,12,22,15,25,46]
[2011,6,8,16,14,23,50]
[2011,7,9,18,12,29,54]
[2011,8,10,12,10,29,53]
[2011,9,10,12,15,20,46]
[2011,10,11,9,11,24,41]
[2011,11,8,12,11,25,40]
[2011,12,7,12,10,18,32]
[2012,1,7,13,14,27,45]
[2012,2,9,12,11,29,43]
[2012,3,11,14,12,29,46]
[2012,4,11,16,12,26,48]
[2012,5,8,11,13,24,44]
[2012,6,9,17,14,22,46]
[2012,7,9,16,10,29,50]
[2012,8,9,11,18,22,45]
[2012,9,11,13,11,27,45]
[2012,10,8,11,9,23,43]
[2012,11,8,9,12,18,39]
[2012,12,6,8,11,15,36]
[2013,1,8,15,11,22,40]
[2013,2,8,16,11,26,41]
[2013,3,11,15,14,24,42]
[2013,4,8,14,11,22,43]
[2013,5,7,14,13,21,41]
[2013,6,9,11,12,25,40]
[2013,7,11,12,13,19,39]
[2013,8,7,13,13,23,42]
[2013,9,10,15,11,22,38]
[2013,10,8,15,13,23,40]
[2013,11,6,15,12,19,38]
[2013,12,7,8,7,14,28]
[2014,1,8,16,14,28,42]
[2014,2,9,16,13,21,42]
[2014,3,7,16,13,19,40]
[2014,4,9,13,13,21,48]
[2014,5,7,13,10,22,43]
[2014,6,10,13,11,21,39]
[2014,7,9,12,12,22,42]
[2014,8,7,11,12,20,47]
[2014,9,11,14,13,21,35]
[2014,10,9,11,13,15,37]
[2014,11,8,12,7,16,30]
[2014,12,10,8,9,12,33]
[2015,1,9,15,12,21,59]
[2015,2,9,11,14,19,47]
[2015,3,7,12,13,22,51]
[2015,4,10,10,13,20,47]
[2015,5,9,9,12,19,52]
[2015,6,10,12,14,21,54]
[2015,7,6,12,17,22,57]
[2015,8,9,12,10,18,54]
[2015,9,9,9,13,18,45]
[2015,10,8,12,11,14,47]
[2015,11,9,12,11,20,46]
[2015,12,6,9,8,16,43]
[2016,1,9,11,11,18,54]
[2016,2,7,13,13,18,48]
[2016,3,9,13,13,18,50]
[2016,4,9,12,10,16,44]
[2016,5,8,9,11,21,50]
[2016,6,8,11,10,16,50]
[2016,7,10,10,13,17,50]
[2016,8,8,10,16,15,44]
[2016,9,10,11,12,15,48]
[2016,10,7,9,10,12,46]
[2016,11,5,11,10,14,34]
[2016,12,5,8,9,13,32]
[2017,1,7,11,12,14,48]
[2017,2,10,13,12,16,48]
[2017,3,7,10,11,18,54]
[2017,4,9,11,12,16,51]
[2017,5,7,10,11,15,54]
[2017,6,8,10,14,18,52]
[2017,7,6,11,14,17,55]
[2017,8,7,10,14,19,56]
[2017,9,7,12,10,15,50]
[2017,10,6,12,12,17,49]
[2017,11,7,11,11,14,44]
[2017,12,5,7,9,12,36]
[2018,1,7,14,14,19,60]
[2018,2,9,15,13,20,54]
[2018,3,8,11,14,22,54]
[2018,4,9,17,13,19,71]
[2018,5,9,13,13,15,62]
[2018,6,7,13,12,14,55]
[2018,7,9,12,14,17,60]
[2018,8,9,13,18,16,59]
[2018,9,7,13,15,15,51]
[2018,10,8,9,13,16,55]
[2018,11,8,9,13,17,52]
[2018,12,8,11,11,15,39]
[2019,1,12,12,15,20,50]
[2019,2,6,11,13,14,58]
[2019,3,10,10,14,16,59]
[2019,4,8,17,14,22,66]
[2019,5,9,16,13,21,58]
[2019,6,8,12,15,17,65]
[2019,7,9,16,18,20,67]
[2019,8,12,14,16,17,68]
[2019,9,7,10,16,19,61]
[2019,10,9,14,14,17,59]
[2019,11,7,11,11,16,46]
[2019,12,8,7,11,17,42]
[2020,1,10,11,15,23,58]
[2020,2,10,13,14,22,62]
[2020,3,9,12,12,17,54]
[2020,4,11,13,15,23,63]
[2020,5,13,18,16,22,100]
[2020,6,11,17,19,23,74]
[2020,7,14,16,19,20,73]
[2020,8,12,15,17,23,76]
[2020,9,9,13,16,21,64]
[2020,10,11,11,18,21,67]
[2020,11,10,14,12,18,47]
[2020,12,8,12,23,12,34]

{"sheet":"multiTimeline (4)","index":9,"n_rows":207,"n_cols":7,"rows_kept":207,"cut":false,"hidden":false,"merged":[]}
["KategĂłria: Minden kategĂłria"]
[]
["HĂłnap,\"\"\"HajdĂş-Bihar megye\"\": (VilĂˇgszerte)\",\"\"\"JĂˇsz-Nagykun-Szolnok megye\"\": (VilĂˇgszerte)\",\"\"\"Heves megye\"\": (VilĂˇgszerte)\",\"\"\"Borsod-AbaĂşj-ZemplĂ©n megye\"\": (VilĂˇgszerte)\",\"\"\"Pest megye\"\": (VilĂˇgszerte)\""]
[2004,1,11,11,0,0,22]
[2004,2,11,0,0,0,0]
[2004,3,0,0,0,0,0]
[2004,4,11,0,0,0,21]
[2004,5,9,0,18,0,18]
[2004,6,0,18,0,0,9]
[2004,7,0,0,0,0,0]
[2004,8,0,0,9,0,9]
[2004,9,8,0,0,0,8]
[2004,10,17,0,8,0,8]
[2004,11,0,8,8,0,25]
[2004,12,0,0,8,0,16]
[2005,1,7,0,7,0,40]
[2005,2,7,0,7,0,7]
[2005,3,6,0,18,0,24]
[2005,4,7,7,0,0,7]
[2005,5,0,0,12,0,18]
[2005,6,0,6,24,0,12]
[2005,7,0,0,6,0,30]
[2005,8,0,6,6,0,29]
[2005,9,0,0,5,5,21]
[2005,10,0,0,5,5,24]
[2005,11,0,0,10,0,15]
[2005,12,0,5,5,0,0]
[2006,1,0,0,4,0,25]
[2006,2,4,0,0,0,26]
[2006,3,4,8,8,8,38]
[2006,4,4,0,12,0,32]
[2006,5,0,0,22,0,11]
[2006,6,8,4,0,4,23]
[2006,7,0,0,8,4,23]
[2006,8,0,0,18,0,25]
[2006,9,10,0,7,0,13]
[2006,10,3,0,16,0,41]
[2006,11,6,6,9,3,24]
[2006,12,6,0,6,0,28]
[2007,1,0,0,19,0,33]
[2007,2,3,3,9,0,38]
[2007,3,5,3,23,0,30]
[2007,4,8,3,26,0,39]
[2007,5,7,7,23,0,50]
[2007,6,0,2,5,0,30]
[2007,7,2,2,16,5,21]
[2007,8,0,0,15,2,24]
[2007,9,4,0,9,0,32]
[2007,10,0,2,14,0,41]
[2007,11,9,2,22,2,30]
[2007,12,0,2,28,0,32]
[2008,1,5,0,25,4,51]
[2008,2,2,2,20,0,38]
[2008,3,5,0,17,2,47]
[2008,4,7,2,25,2,40]
[2008,5,5,2,21,2,49]
[2008,6,3,3,30,3,50]
[2008,7,3,2,16,2,49]
[2008,8,5,0,18,2,54]
[2008,9,0,0,23,2,42]
[2008,10,5,0,12,1,46]
[2008,11,10,3,22,0,35]
[2008,12,6,0,17,1,45]
[2009,1,8,1,20,1,37]
[2009,2,3,0,26,4,59]
[2009,3,1,0,17,1,54]
[2009,4,5,1,21,0,52]
[2009,5,6,4,32,4,54]
[2009,6,4,1,20,4,59]
[2009,7,4,2,20,1,58]
[2009,8,7,4,28,1,49]
[2009,9,2,1,21,1,56]
[2009,10,1,1,16,1,41]
[2009,11,4,1,21,1,45]
[2009,12,4,1,22,1,34]
[2010,1,2,2,30,3,53]
[2010,2,7,2,18,0,38]
[2010,3,7,2,18,0,55]
[2010,4,1,1,34,2,62]
[2010,5,1,2,24,0,60]
[2010,6,1,1,18,3,47]
[2010,7,2,2,29,1,55]
[2010,8,1,0,19,1,42]
[2010,9,1,3,28,1,49]
[2010,10,2,0,24,0,48]
[2010,11,0,0,18,2,46]
[2010,12,5,1,15,1,35]
[2011,1,1,1,28,1,58]
[2011,2,4,2,22,1,45]
[2011,3,3,1,22,2,44]
[2011,4,4,0,21,1,45]
[2011,5,1,1,25,1,40]
[2011,6,4,2,20,1,47]
[2011,7,2,1,23,1,52]
[2011,8,3,2,19,0,49]
[2011,9,1,1,12,3,46]
[2011,10,1,0,22,0,43]
[2011,11,3,0,22,1,36]
[2011,12,1,1,15,1,34]
[2012,1,2,1,21,2,42]
[2012,2,1,2,24,1,39]
[2012,3,3,2,14,1,51]
[2012,4,4,1,18,0,43]
[2012,5,1,1,20,0,43]
[2012,6,3,1,24,0,43]
[2012,7,2,3,20,2,51]
[2012,8,1,1,20,2,49]
[2012,9,2,1,27,1,41]
[2012,10,1,0.1,16,0.1,42]
[2012,11,2,1,18,0.1,41]
[2012,12,1,0,13,1,40]
[2013,1,1,2,18,0.1,38]
[2013,2,3,0.1,20,1,47]
[2013,3,4,1,22,1,44]
[2013,4,4,2,19,0,44]
[2013,5,2,1,21,0.1,35]
[2013,6,2,2,20,0.1,40]
[2013,7,2,2,18,0.1,34]
[2013,8,3,0.1,18,1,45]
[2013,9,1,1,21,0.1,36]
[2013,10,2,3,17,0.1,40]
[2013,11,3,1,19,0.1,37]
[2013,12,4,1,15,0,28]
[2014,1,2,0.1,20,1,47]
[2014,2,1,1,18,1,41]
[2014,3,3,2,22,0.1,40]
[2014,4,3,1,23,2,40]
[2014,5,3,0.1,14,0.1,44]
[2014,6,2,0.1,16,0,38]
[2014,7,3,1,24,0.1,41]
[2014,8,2,0.1,16,0.1,51]
[2014,9,3,1,18,0.1,38]
[2014,10,2,0.1,15,0.1,38]
[2014,11,3,0,13,0,34]
[2014,12,1,0.1,9,2,35]
[2015,1,2,0.1,15,0.1,60]
[2015,2,2,1,18,1,51]
[2015,3,1,0.1,16,0.1,51]
[2015,4,2,1,18,1,49]
[2015,5,1,1,15,0.1,51]
[2015,6,1,1,11,0,56]
[2015,7,1,1,16,0.1,54]
[2015,8,2,1,18,0.1,55]
[2015,9,1,0,18,1,44]
[2015,10,1,0.1,13,1,49]
[2015,11,1,0,13,0.1,46]
[2015,12,1,0.1,17,0.1,42]
[2016,1,2,2,17,0,53]
[2016,2,2,1,16,0,42]
[2016,3,2,1,17,1,49]
[2016,4,1,0,15,0,41]
[2016,5,2,2,20,0,52]
[2016,6,2,1,17,0.1,48]
[2016,7,2,0,13,0,47]
[2016,8,1,1,21,0.1,47]
[2016,9,1,0,15,1,49]
[2016,10,2,0,15,0,45]
[2016,11,0.1,0.1,8,0,33]
[2016,12,1,1,10,0.1,31]
[2017,1,2,1,17,0.1,44]
[2017,2,2,0.1,18,0,47]
[2017,3,3,1,13,0.1,52]
[2017,4,3,0.1,15,0.1,57]
[2017,5,1,1,14,0,54]
[2017,6,1,1,15,0,49]
[2017,7,0,1,20,0.1,48]
[2017,8,2,0.1,17,0.1,53]
[2017,9,1,0.1,14,0.1,53]
[2017,10,1,0,16,0.1,46]
[2017,11,1,1,13,0,50]
[2017,12,0.1,0.1,13,0,37]
[2018,1,2,1,16,0,61]
[2018,2,1,1,18,1,52]
[2018,3,1,1,20,0.1,51]
[2018,4,3,1,20,1,68]
[2018,5,2,0.1,23,0.1,56]
[2018,6,3,1,18,1,55]
[2018,7,1,1,23,0,54]
[2018,8,1,1,19,0,55]
[2018,9,1,0,16,0,48]
[2018,10,0.1,1,15,0,53]
[2018,11,1,0.1,13,1,46]
[2018,12,1,1,14,0,39]
[2019,1,2,1,14,0.1,49]
[2019,2,1,0,20,0.1,52]
[2019,3,1,1,18,0.1,58]
[2019,4,1,1,18,0.1,68]
[2019,5,3,1,19,0.1,52]
[2019,6,3,0,21,0.1,60]
[2019,7,1,0,18,0.1,65]
[2019,8,1,0.1,19,0,65]
[2019,9,1,0.1,20,0,61]
[2019,10,1,0.1,16,1,61]
[2019,11,1,0.1,16,0.1,45]
[2019,12,1,0.1,14,0.1,36]
[2020,1,3,0.1,20,0,58]
[2020,2,1,0,22,0,62]
[2020,3,2,0.1,15,0.1,54]
[2020,4,3,0,23,0,67]
[2020,5,1,1,25,0,100]
[2020,6,2,0.1,25,1,71]
[2020,7,2,0.1,27,0,75]
[2020,8,1,1,22,0.1,71]
[2020,9,2,0.1,19,0,66]
[2020,10,1,0,20,1,67]
[2020,11,2,1,16,0.1,42]
[2020,12,0,0,0,0,53]

{"sheet":"multiTimeline (5)","index":10,"n_rows":207,"n_cols":5,"rows_kept":207,"cut":false,"hidden":false,"merged":[]}
["KategĂłria: Minden kategĂłria"]
[]
["HĂłnap,\"\"\"Szabolcs-SzatmĂˇr-Bereg megye\"\": (VilĂˇgszerte)\",\"\"\"Pest megye\"\": (VilĂˇgszerte)\",\"\"\"Tolna megye\"\": (VilĂˇgszerte)\""]
[2004,1,0,22,0]
[2004,2,0,0,0]
[2004,3,0,0,13]
[2004,4,0,21,0]
[2004,5,0,18,0]
[2004,6,0,9,0]
[2004,7,0,0,9]
[2004,8,0,9,9]
[2004,9,0,8,8]
[2004,10,0,8,8]
[2004,11,8,25,0]
[2004,12,0,16,0]
[2005,1,0,40,13]
[2005,2,0,7,21]
[2005,3,0,24,0]
[2005,4,0,7,13]
[2005,5,6,18,12]
[2005,6,0,12,18]
[2005,7,0,30,12]
[2005,8,0,29,11]
[2005,9,0,21,16]
[2005,10,5,24,0]
[2005,11,0,15,5]
[2005,12,5,0,5]
[2006,1,0,25,8]
[2006,2,0,26,9]
[2006,3,0,38,11]
[2006,4,4,32,28]
[2006,5,4,11,7]
[2006,6,4,23,16]
[2006,7,0,23,15]
[2006,8,4,25,11]
[2006,9,3,13,7]
[2006,10,0,41,12]
[2006,11,3,24,3]
[2006,12,0,28,6]
[2007,1,3,33,25]
[2007,2,3,38,9]
[2007,3,0,30,20]
[2007,4,5,39,13]
[2007,5,7,50,11]
[2007,6,5,30,9]
[2007,7,9,21,5]
[2007,8,2,24,13]
[2007,9,2,32,21]
[2007,10,0,41,14]
[2007,11,0,30,9]
[2007,12,0,32,4]
[2008,1,4,51,14]
[2008,2,0,38,20]
[2008,3,2,47,25]
[2008,4,0,40,22]
[2008,5,2,49,20]
[2008,6,5,50,8]
[2008,7,3,49,21]
[2008,8,5,54,18]
[2008,9,2,42,12]
[2008,10,3,46,25]
[2008,11,4,35,25]
[2008,12,1,45,14]
[2009,1,3,37,21]
[2009,2,1,59,20]
[2009,3,5,54,17]
[2009,4,1,52,15]
[2009,5,2,54,29]
[2009,6,5,59,29]
[2009,7,1,58,29]
[2009,8,4,49,20]
[2009,9,1,56,14]
[2009,10,0,41,18]
[2009,11,4,45,16]
[2009,12,3,34,14]
[2010,1,2,53,18]
[2010,2,5,38,16]
[2010,3,2,55,10]
[2010,4,3,62,23]
[2010,5,3,60,28]
[2010,6,3,47,22]
[2010,7,0,55,15]
[2010,8,2,42,22]
[2010,9,2,49,14]
[2010,10,2,48,18]
[2010,11,1,46,18]
[2010,12,1,35,14]
[2011,1,1,58,18]
[2011,2,3,45,22]
[2011,3,3,44,20]
[2011,4,3,45,15]
[2011,5,3,40,16]
[2011,6,1,47,19]
[2011,7,1,52,18]
[2011,8,1,49,18]
[2011,9,1,46,17]
[2011,10,1,43,19]
[2011,11,3,36,22]
[2011,12,1,34,8]
[2012,1,3,42,16]
[2012,2,2,39,14]
[2012,3,1,51,16]
[2012,4,1,43,14]
[2012,5,1,43,14]
[2012,6,1,43,13]
[2012,7,1,51,13]
[2012,8,1,49,17]
[2012,9,4,41,13]
[2012,10,2,42,13]
[2012,11,0.1,41,13]
[2012,12,0,40,14]
[2013,1,0.1,38,20]
[2013,2,1,47,19]
[2013,3,1,44,19]
[2013,4,1,44,15]
[2013,5,1,35,19]
[2013,6,1,40,15]
[2013,7,2,34,16]
[2013,8,0.1,45,16]
[2013,9,1,36,13]
[2013,10,2,40,17]
[2013,11,1,37,19]
[2013,12,2,28,14]
[2014,1,0.1,47,14]
[2014,2,1,41,14]
[2014,3,0.1,40,14]
[2014,4,3,40,15]
[2014,5,0.1,44,16]
[2014,6,0.1,38,15]
[2014,7,0.1,41,15]
[2014,8,1,51,15]
[2014,9,2,38,13]
[2014,10,2,38,14]
[2014,11,1,34,14]
[2014,12,1,35,12]
[2015,1,1,60,14]
[2015,2,2,51,13]
[2015,3,2,51,14]
[2015,4,0,49,15]
[2015,5,1,51,11]
[2015,6,1,56,15]
[2015,7,0,54,11]
[2015,8,1,55,15]
[2015,9,0,44,13]
[2015,10,1,49,12]
[2015,11,2,46,12]
[2015,12,1,42,10]
[2016,1,2,53,13]
[2016,2,1,42,14]
[2016,3,2,49,12]
[2016,4,1,41,14]
[2016,5,1,52,14]
[2016,6,1,48,14]
[2016,7,1,47,10]
[2016,8,1,47,13]
[2016,9,1,49,10]
[2016,10,1,45,12]
[2016,11,1,33,11]
[2016,12,0.1,31,10]
[2017,1,0.1,44,13]
[2017,2,2,47,12]
[2017,3,1,52,18]
[2017,4,1,57,15]
[2017,5,0.1,54,17]
[2017,6,1,49,14]
[2017,7,0.1,48,12]
[2017,8,2,53,15]
[2017,9,1,53,13]
[2017,10,0,46,13]
[2017,11,2,50,17]
[2017,12,0.1,37,12]
[2018,1,1,61,15]
[2018,2,2,52,15]
[2018,3,1,51,12]
[2018,4,1,68,19]
[2018,5,1,56,17]
[2018,6,1,55,18]
[2018,7,1,54,15]
[2018,8,1,55,12]
[2018,9,1,48,13]
[2018,10,1,53,13]
[2018,11,2,46,10]
[2018,12,1,39,11]
[2019,1,1,49,16]
[2019,2,1,52,14]
[2019,3,1,58,15]
[2019,4,1,68,16]
[2019,5,1,52,15]
[2019,6,1,60,12]
[2019,7,1,65,14]
[2019,8,0.1,65,18]
[2019,9,0,61,13]
[2019,10,0.1,61,18]
[2019,11,0.1,45,17]
[2019,12,0.1,36,11]
[2020,1,0,58,11]
[2020,2,0,62,18]
[2020,3,0.1,54,13]
[2020,4,0.1,67,19]
[2020,5,0.1,100,14]
[2020,6,1,71,15]
[2020,7,1,75,18]
[2020,8,1,71,18]
[2020,9,0,66,17]
[2020,10,1,67,17]
[2020,11,0.1,42,16]
[2020,12,0,53,23]

{"sheet":"multiTimeline (6)","index":11,"n_rows":207,"n_cols":3,"rows_kept":207,"cut":false,"hidden":false,"merged":[]}
["KategĂłria: Minden kategĂłria"]
[]
["HĂłnap,Budapest: (VilĂˇgszerte)"]
[2004,1,45]
[2004,2,52]
[2004,3,57]
[2004,4,60]
[2004,5,58]
[2004,6,57]
[2004,7,66]
[2004,8,68]
[2004,9,65]
[2004,10,62]
[2004,11,59]
[2004,12,54]
[2005,1,65]
[2005,2,65]
[2005,3,66]
[2005,4,68]
[2005,5,63]
[2005,6,66]
[2005,7,68]
[2005,8,71]
[2005,9,64]
[2005,10,59]
[2005,11,53]
[2005,12,49]
[2006,1,58]
[2006,2,58]
[2006,3,60]
[2006,4,60]
[2006,5,59]
[2006,6,55]
[2006,7,64]
[2006,8,73]
[2006,9,62]
[2006,10,54]
[2006,11,50]
[2006,12,46]
[2007,1,52]
[2007,2,53]
[2007,3,56]
[2007,4,56]
[2007,5,54]
[2007,6,54]
[2007,7,60]
[2007,8,64]
[2007,9,58]
[2007,10,56]
[2007,11,53]
[2007,12,51]
[2008,1,54]
[2008,2,56]
[2008,3,55]
[2008,4,55]
[2008,5,52]
[2008,6,52]
[2008,7,58]
[2008,8,57]
[2008,9,57]
[2008,10,52]
[2008,11,48]
[2008,12,50]
[2009,1,56]
[2009,2,56]
[2009,3,58]
[2009,4,57]
[2009,5,58]
[2009,6,61]
[2009,7,65]
[2009,8,67]
[2009,9,64]
[2009,10,61]
[2009,11,61]
[2009,12,59]
[2010,1,61]
[2010,2,63]
[2010,3,64]
[2010,4,66]
[2010,5,63]
[2010,6,62]
[2010,7,62]
[2010,8,74]
[2010,9,64]
[2010,10,59]
[2010,11,59]
[2010,12,53]
[2011,1,58]
[2011,2,56]
[2011,3,56]
[2011,4,57]
[2011,5,58]
[2011,6,58]
[2011,7,61]
[2011,8,61]
[2011,9,57]
[2011,10,54]
[2011,11,53]
[2011,12,50]
[2012,1,52]
[2012,2,54]
[2012,3,54]
[2012,4,57]
[2012,5,57]
[2012,6,56]
[2012,7,60]
[2012,8,63]
[2012,9,61]
[2012,10,58]
[2012,11,53]
[2012,12,51]
[2013,1,53]
[2013,2,55]
[2013,3,57]
[2013,4,60]
[2013,5,61]
[2013,6,63]
[2013,7,61]
[2013,8,64]
[2013,9,63]
[2013,10,63]
[2013,11,58]
[2013,12,55]
[2014,1,62]
[2014,2,65]
[2014,3,100]
[2014,4,92]
[2014,5,82]
[2014,6,86]
[2014,7,92]
[2014,8,87]
[2014,9,77]
[2014,10,70]
[2014,11,66]
[2014,12,68]
[2015,1,87]
[2015,2,90]
[2015,3,77]
[2015,4,74]
[2015,5,72]
[2015,6,74]
[2015,7,77]
[2015,8,79]
[2015,9,73]
[2015,10,63]
[2015,11,61]
[2015,12,60]
[2016,1,62]
[2016,2,61]
[2016,3,61]
[2016,4,63]
[2016,5,64]
[2016,6,63]
[2016,7,67]
[2016,8,66]
[2016,9,64]
[2016,10,60]
[2016,11,57]
[2016,12,55]
[2017,1,62]
[2017,2,60]
[2017,3,60]
[2017,4,63]
[2017,5,62]
[2017,6,63]
[2017,7,79]
[2017,8,72]
[2017,9,70]
[2017,10,65]
[2017,11,66]
[2017,12,62]
[2018,1,65]
[2018,2,64]
[2018,3,67]
[2018,4,69]
[2018,5,67]
[2018,6,70]
[2018,7,76]
[2018,8,76]
[2018,9,71]
[2018,10,69]
[2018,11,64]
[2018,12,64]
[2019,1,67]
[2019,2,64]
[2019,3,66]
[2019,4,70]
[2019,5,74]
[2019,6,71]
[2019,7,72]
[2019,8,81]
[2019,9,75]
[2019,10,71]
[2019,11,69]
[2019,12,70]
[2020,1,69]
[2020,2,67]
[2020,3,41]
[2020,4,28]
[2020,5,32]
[2020,6,39]
[2020,7,42]
[2020,8,44]
[2020,9,37]
[2020,10,33]
[2020,11,28]
[2020,12,28]