{"text_format":"1","workbook":"xlsx","n_sheets":11,"sheets":["reports","db","db2","pivot_alap","mo","ksh","OAM_darab","OAM_ertek","modellek","eredmenyek","uj problemak"],"not_rendered":{"charts":0,"images":0,"macros":1,"external_links":0,"defined_names":1,"comments":0,"pivot_tables":6},"unopened":[],"bounds":{"document_bytes":16777216,"sheet_cells":100000,"rows_first":2000,"rows_last":500,"rows_between":2000,"halvings":0,"cell_chars":16384,"cell_head_chars":4096},"cells_cut":0,"cells_raw":0,"read":"whole","date_system":"1900"}

{"sheet":"reports","index":0,"n_rows":13,"n_cols":5,"rows_kept":13,"cut":false,"hidden":false,"merged":[]}
[]
[]
["Sorcímkék","Mennyiség / Régió"]
["Dél-Alföld",10]
["Dél-Dunántúl",10]
["Észak-Alföld",10]
["Észak-Magyarország",10]
["Közép-Dunántúl",10]
["Közép-Magyarország",10]
["Magyarország",16]
["Nyugat-Dunántúl",10]
["(üres)"]
["Végösszeg",86,{"$f":"GETPIVOTDATA(\"Régió\",$A$3)-GETPIVOTDATA(\"Régió\",$A$3,\"Régió\",\"Magyarország\")","v":70},"<--cél",{"$f":"7*10","v":70}]

{"sheet":"db","index":1,"n_rows":510,"n_cols":13,"rows_kept":510,"cut":false,"hidden":false,"merged":[]}
["id","Régió","Év","Mutatószám","Érték","Mértékegység","Forrás","Egyéni/Társas","SFH-csoport","Mezőgazdasági terület","Hatékonyság","Termelési irány","hibás"]
[1,"Dél-Alföld",2001,"Búza *összesen*na.*na.",4.45,"t/ha","AKII","Egyéni","Összes","Összes","Összes","Árunövénytermesztés"]
[2,"Dél-Alföld",2006,"Búza *összesen*na.*na.",4.24,"t/ha","AKII","Egyéni","Összes","Összes","Összes","Árunövénytermesztés"]
[3,"Dél-Alföld",2003,"Búza *összesen*na.*na.",2.87,"t/ha","AKII","Egyéni","Összes","Összes","Összes","Árunövénytermesztés"]
[4,"Dél-Alföld",2002,"Búza *összesen*na.*na.",3.66,"t/ha","AKII","Egyéni","Összes","Összes","Összes","Árunövénytermesztés"]
[5,"Dél-Alföld",2009,"Búza *összesen*na.*na.",3.71,"t/ha","AKII","Egyéni","Összes","Összes","Összes","Árunövénytermesztés"]
[6,"Dél-Alföld",2007,"Búza *összesen*na.*na.",3.76,"t/ha","AKII","Egyéni","Összes","Összes","Összes","Árunövénytermesztés"]
[7,"Dél-Alföld",2004,"Búza *összesen*na.*na.",5.79,"t/ha","AKII","Egyéni","Összes","Összes","Összes","Árunövénytermesztés"]
[8,"Dél-Alföld",2005,"Búza *összesen*na.*na.",4.53,"t/ha","AKII","Egyéni","Összes","Összes","Összes","Árunövénytermesztés"]
[9,"Dél-Alföld",2008,"Búza *összesen*na.*na.",5.18,"t/ha","AKII","Egyéni","Összes","Összes","Összes","Árunövénytermesztés"]
[10,"Dél-Alföld",2000,"Búza *összesen*na.*na.",4.0199999999999996,"t/ha","AKII","Egyéni","Összes","Összes","Összes","Árunövénytermesztés"]
[11,"Dél-Dunántúl",2005,"Búza *összesen*na.*na.",4.62,"t/ha","AKII","Egyéni","Összes","Összes","Összes","Árunövénytermesztés"]
[12,"Dél-Dunántúl",2009,"Búza *összesen*na.*na.",4.9800000000000004,"t/ha","AKII","Egyéni","Összes","Összes","Összes","Árunövénytermesztés"]
[13,"Dél-Dunántúl",2004,"Búza *összesen*na.*na.",5.15,"t/ha","AKII","Egyéni","Összes","Összes","Összes","Árunövénytermesztés"]
[14,"Dél-Dunántúl",2008,"Búza *összesen*na.*na.",5.58,"t/ha","AKII","Egyéni","Összes","Összes","Összes","Árunövénytermesztés"]
[15,"Dél-Dunántúl",2000,"Búza *összesen*na.*na.",4.0999999999999996,"t/ha","AKII","Egyéni","Összes","Összes","Összes","Árunövénytermesztés"]
[16,"Dél-Dunántúl",2002,"Búza *összesen*na.*na.",4.7300000000000004,"t/ha","AKII","Egyéni","Összes","Összes","Összes","Árunövénytermesztés"]
[17,"Dél-Dunántúl",2006,"Búza *összesen*na.*na.",4.5599999999999996,"t/ha","AKII","Egyéni","Összes","Összes","Összes","Árunövénytermesztés"]
[18,"Dél-Dunántúl",2003,"Búza *összesen*na.*na.",3.49,"t/ha","AKII","Egyéni","Összes","Összes","Összes","Árunövénytermesztés"]
[19,"Dél-Dunántúl",2001,"Búza *összesen*na.*na.",4.7699999999999996,"t/ha","AKII","Egyéni","Összes","Összes","Összes","Árunövénytermesztés"]
[20,"Dél-Dunántúl",2007,"Búza *összesen*na.*na.",3.82,"t/ha","AKII","Egyéni","Összes","Összes","Összes","Árunövénytermesztés"]
[21,"Észak-Alföld",2004,"Búza *összesen*na.*na.",5.46,"t/ha","AKII","Egyéni","Összes","Összes","Összes","Árunövénytermesztés"]
[22,"Észak-Alföld",2003,"Búza *összesen*na.*na.",2.39,"t/ha","AKII","Egyéni","Összes","Összes","Összes","Árunövénytermesztés"]
[23,"Észak-Alföld",2002,"Búza *összesen*na.*na.",2.98,"t/ha","AKII","Egyéni","Összes","Összes","Összes","Árunövénytermesztés"]
[24,"Észak-Alföld",2007,"Búza *összesen*na.*na.",3.02,"t/ha","AKII","Egyéni","Összes","Összes","Összes","Árunövénytermesztés"]
[25,"Észak-Alföld",2001,"Búza *összesen*na.*na.",4.01,"t/ha","AKII","Egyéni","Összes","Összes","Összes","Árunövénytermesztés"]
[26,"Észak-Alföld",2008,"Búza *összesen*na.*na.",4.75,"t/ha","AKII","Egyéni","Összes","Összes","Összes","Árunövénytermesztés"]
[27,"Észak-Alföld",2006,"Búza *összesen*na.*na.",3.17,"t/ha","AKII","Egyéni","Összes","Összes","Összes","Árunövénytermesztés"]
[28,"Észak-Alföld",2005,"Búza *összesen*na.*na.",4.12,"t/ha","AKII","Egyéni","Összes","Összes","Összes","Árunövénytermesztés"]
[29,"Észak-Alföld",2009,"Búza *összesen*na.*na.",3.68,"t/ha","AKII","Egyéni","Összes","Összes","Összes","Árunövénytermesztés"]
[30,"Észak-Alföld",2000,"Búza *összesen*na.*na.",3.07,"t/ha","AKII","Egyéni","Összes","Összes","Összes","Árunövénytermesztés"]
[31,"Észak-Magyarország",2004,"Búza *összesen*na.*na.",4.47,"t/ha","AKII","Egyéni","Összes","Összes","Összes","Árunövénytermesztés"]
[32,"Észak-Magyarország",2003,"Búza *összesen*na.*na.",1.88,"t/ha","AKII","Egyéni","Összes","Összes","Összes","Árunövénytermesztés"]
[33,"Észak-Magyarország",2006,"Búza *összesen*na.*na.",3.84,"t/ha","AKII","Egyéni","Összes","Összes","Összes","Árunövénytermesztés"]
[34,"Észak-Magyarország",2000,"Búza *összesen*na.*na.",2.59,"t/ha","AKII","Egyéni","Összes","Összes","Összes","Árunövénytermesztés"]
[35,"Észak-Magyarország",2009,"Búza *összesen*na.*na.",3.65,"t/ha","AKII","Egyéni","Összes","Összes","Összes","Árunövénytermesztés"]
[36,"Észak-Magyarország",2005,"Búza *összesen*na.*na.",4.4400000000000004,"t/ha","AKII","Egyéni","Összes","Összes","Összes","Árunövénytermesztés"]
[37,"Észak-Magyarország",2001,"Búza *összesen*na.*na.",4.01,"t/ha","AKII","Egyéni","Összes","Összes","Összes","Árunövénytermesztés"]
[38,"Észak-Magyarország",2007,"Búza *összesen*na.*na.",3.15,"t/ha","AKII","Egyéni","Összes","Összes","Összes","Árunövénytermesztés"]
[39,"Észak-Magyarország",2008,"Búza *összesen*na.*na.",4.4800000000000004,"t/ha","AKII","Egyéni","Összes","Összes","Összes","Árunövénytermesztés"]
[40,"Észak-Magyarország",2002,"Búza *összesen*na.*na.",2.91,"t/ha","AKII","Egyéni","Összes","Összes","Összes","Árunövénytermesztés"]
[41,"Közép-Dunántúl",2007,"Búza *összesen*na.*na.",3.37,"t/ha","AKII","Egyéni","Összes","Összes","Összes","Árunövénytermesztés"]
[42,"Közép-Dunántúl",2001,"Búza *összesen*na.*na.",4.32,"t/ha","AKII","Egyéni","Összes","Összes","Összes","Árunövénytermesztés"]
[43,"Közép-Dunántúl",2000,"Búza *összesen*na.*na.",4.03,"t/ha","AKII","Egyéni","Összes","Összes","Összes","Árunövénytermesztés"]
[44,"Közép-Dunántúl",2002,"Búza *összesen*na.*na.",3.9,"t/ha","AKII","Egyéni","Összes","Összes","Összes","Árunövénytermesztés"]
[45,"Közép-Dunántúl",2003,"Búza *összesen*na.*na.",2.46,"t/ha","AKII","Egyéni","Összes","Összes","Összes","Árunövénytermesztés"]
[46,"Közép-Dunántúl",2004,"Búza *összesen*na.*na.",5.08,"t/ha","AKII","Egyéni","Összes","Összes","Összes","Árunövénytermesztés"]
[47,"Közép-Dunántúl",2005,"Búza *összesen*na.*na.",4.93,"t/ha","AKII","Egyéni","Összes","Összes","Összes","Árunövénytermesztés"]
[48,"Közép-Dunántúl",2006,"Búza *összesen*na.*na.",4.37,"t/ha","AKII","Egyéni","Összes","Összes","Összes","Árunövénytermesztés"]
[49,"Közép-Dunántúl",2009,"Búza *összesen*na.*na.",3.69,"t/ha","AKII","Egyéni","Összes","Összes","Összes","Árunövénytermesztés"]
[50,"Közép-Dunántúl",2008,"Búza *összesen*na.*na.",5.38,"t/ha","AKII","Egyéni","Összes","Összes","Összes","Árunövénytermesztés"]
[51,"Közép-Magyarország",2004,"Búza *összesen*na.*na.",5.12,"t/ha","AKII","Egyéni","Összes","Összes","Összes","Árunövénytermesztés"]
[52,"Közép-Magyarország",2007,"Búza *összesen*na.*na.",3,"t/ha","AKII","Egyéni","Összes","Összes","Összes","Árunövénytermesztés"]
[53,"Közép-Magyarország",2006,"Búza *összesen*na.*na.",4.1100000000000003,"t/ha","AKII","Egyéni","Összes","Összes","Összes","Árunövénytermesztés"]
[54,"Közép-Magyarország",2003,"Búza *összesen*na.*na.",1.56,"t/ha","AKII","Egyéni","Összes","Összes","Összes","Árunövénytermesztés"]
[55,"Közép-Magyarország",2000,"Búza *összesen*na.*na.",3.51,"t/ha","AKII","Egyéni","Összes","Összes","Összes","Árunövénytermesztés"]
[56,"Közép-Magyarország",2009,"Búza *összesen*na.*na.",3.19,"t/ha","AKII","Egyéni","Összes","Összes","Összes","Árunövénytermesztés"]
[57,"Közép-Magyarország",2008,"Búza *összesen*na.*na.",4.8499999999999996,"t/ha","AKII","Egyéni","Összes","Összes","Összes","Árunövénytermesztés"]
[58,"Közép-Magyarország",2002,"Búza *összesen*na.*na.",2.92,"t/ha","AKII","Egyéni","Összes","Összes","Összes","Árunövénytermesztés"]
[59,"Közép-Magyarország",2001,"Búza *összesen*na.*na.",4.3600000000000003,"t/ha","AKII","Egyéni","Összes","Összes","Összes","Árunövénytermesztés"]
[60,"Közép-Magyarország",2005,"Búza *összesen*na.*na.",4.6100000000000003,"t/ha","AKII","Egyéni","Összes","Összes","Összes","Árunövénytermesztés"]
[61,"Magyarország",2002,"Búza *összesen*na.*na.",3.55,"t/ha","AKII","Egyéni","Összes","Összes","Összes","Árunövénytermesztés",1]
[62,"Magyarország",2002,"Búza *összesen*na.*na.",3.55,"t/ha","AKII","Egyéni","Összes","Összes","Összes","Árunövénytermesztés",1]
[63,"Magyarország",2007,"Búza *összesen*na.*na.",3.42,"t/ha","AKII","Egyéni","Összes","Összes","Összes","Árunövénytermesztés"]
[64,"Magyarország",2008,"Búza *összesen*na.*na.",4.91,"t/ha","AKII","Egyéni","Összes","Összes","Összes","Árunövénytermesztés"]
[65,"Magyarország",2007,"Búza *összesen*na.*na.",3.42,"t/ha","AKII","Egyéni","Összes","Összes","Összes","Árunövénytermesztés"]
[66,"Magyarország",2009,"Búza *összesen*na.*na.",3.93,"t/ha","AKII","Egyéni","Összes","Összes","Összes","Árunövénytermesztés"]
[67,"Magyarország",2009,"Búza *összesen*na.*na.",3.93,"t/ha","AKII","Egyéni","Összes","Összes","Összes","Árunövénytermesztés"]
[68,"Magyarország",2000,"Búza *összesen*na.*na.",3.51,"t/ha","AKII","Egyéni","Összes","Összes","Összes","Árunövénytermesztés"]
[69,"Magyarország",2003,"Búza *összesen*na.*na.",2.5099999999999998,"t/ha","AKII","Egyéni","Összes","Összes","Összes","Árunövénytermesztés"]
[70,"Magyarország",2002,"Búza *összesen*na.*na.",3.55,"t/ha","AKII","Egyéni","Összes","Összes","Összes","Árunövénytermesztés"]
[71,"Magyarország",2001,"Búza *összesen*na.*na.",4.3,"t/ha","AKII","Egyéni","Összes","Összes","Összes","Árunövénytermesztés"]
[72,"Magyarország",2008,"Búza *összesen*na.*na.",4.91,"t/ha","AKII","Egyéni","Összes","Összes","Összes","Árunövénytermesztés"]
[73,"Magyarország",2004,"Búza *összesen*na.*na.",5.21,"t/ha","AKII","Egyéni","Összes","Összes","Összes","Árunövénytermesztés"]
[74,"Magyarország",2006,"Búza *összesen*na.*na.",3.96,"t/ha","AKII","Egyéni","Összes","Összes","Összes","Árunövénytermesztés"]
[75,"Magyarország",2006,"Búza *összesen*na.*na.",3.96,"t/ha","AKII","Egyéni","Összes","Összes","Összes","Árunövénytermesztés"]
[76,"Magyarország",2005,"Búza *összesen*na.*na.",4.5199999999999996,"t/ha","AKII","Egyéni","Összes","Összes","Összes","Árunövénytermesztés"]
[77,"Nyugat-Dunántúl",2005,"Búza *összesen*na.*na.",4.4800000000000004,"t/ha","AKII","Egyéni","Összes","Összes","Összes","Árunövénytermesztés"]
[78,"Nyugat-Dunántúl",2007,"Búza *összesen*na.*na.",4.08,"t/ha","AKII","Egyéni","Összes","Összes","Összes","Árunövénytermesztés"]
[79,"Nyugat-Dunántúl",2003,"Búza *összesen*na.*na.",3.06,"t/ha","AKII","Egyéni","Összes","Összes","Összes","Árunövénytermesztés"]
[80,"Nyugat-Dunántúl",2008,"Búza *összesen*na.*na.",4.68,"t/ha","AKII","Egyéni","Összes","Összes","Összes","Árunövénytermesztés"]
[81,"Nyugat-Dunántúl",2006,"Búza *összesen*na.*na.",4.49,"t/ha","AKII","Egyéni","Összes","Összes","Összes","Árunövénytermesztés"]
[82,"Nyugat-Dunántúl",2002,"Búza *összesen*na.*na.",4.16,"t/ha","AKII","Egyéni","Összes","Összes","Összes","Árunövénytermesztés"]
[83,"Nyugat-Dunántúl",2000,"Búza *összesen*na.*na.",4.0199999999999996,"t/ha","AKII","Egyéni","Összes","Összes","Összes","Árunövénytermesztés"]
[84,"Nyugat-Dunántúl",2009,"Búza *összesen*na.*na.",4.6900000000000004,"t/ha","AKII","Egyéni","Összes","Összes","Összes","Árunövénytermesztés"]
[85,"Nyugat-Dunántúl",2001,"Búza *összesen*na.*na.",4.45,"t/ha","AKII","Egyéni","Összes","Összes","Összes","Árunövénytermesztés"]
[86,"Nyugat-Dunántúl",2004,"Búza *összesen*na.*na.",5.15,"t/ha","AKII","Egyéni","Összes","Összes","Összes","Árunövénytermesztés"]
[87,"Dél-Alföld",2002,"Rozs *összesen*na.*na.",2.2799999999999998,"t/ha","AKII","Egyéni","Összes","Összes","Összes","Árunövénytermesztés"]
[88,"Dél-Alföld",2009,"Rozs *összesen*na.*na.",1.26,"t/ha","AKII","Egyéni","Összes","Összes","Összes","Árunövénytermesztés"]
[89,"Dél-Alföld",2001,"Rozs *összesen*na.*na.",2.14,"t/ha","AKII","Egyéni","Összes","Összes","Összes","Árunövénytermesztés"]
[90,"Dél-Alföld",2000,"Rozs *összesen*na.*na.",1.38,"t/ha","AKII","Egyéni","Összes","Összes","Összes","Árunövénytermesztés"]
[91,"Dél-Alföld",2004,"Rozs *összesen*na.*na.",2.73,"t/ha","AKII","Egyéni","Összes","Összes","Összes","Árunövénytermesztés"]
[92,"Dél-Alföld",2003,"Rozs *összesen*na.*na.",0.61,"t/ha","AKII","Egyéni","Összes","Összes","Összes","Árunövénytermesztés"]
[93,"Dél-Alföld",2008,"Rozs *összesen*na.*na.",2.36,"t/ha","AKII","Egyéni","Összes","Összes","Összes","Árunövénytermesztés"]
[94,"Dél-Alföld",2007,"Rozs *összesen*na.*na.",1.18,"t/ha","AKII","Egyéni","Összes","Összes","Összes","Árunövénytermesztés"]
[95,"Dél-Alföld",2005,"Rozs *összesen*na.*na.",3.24,"t/ha","AKII","Egyéni","Összes","Összes","Összes","Árunövénytermesztés"]
[96,"Dél-Alföld",2006,"Rozs *összesen*na.*na.",1.71,"t/ha","AKII","Egyéni","Összes","Összes","Összes","Árunövénytermesztés"]
[97,"Dél-Dunántúl",2009,"Rozs *összesen*na.*na.",3.8,"t/ha","AKII","Egyéni","Összes","Összes","Összes","Árunövénytermesztés"]
[98,"Dél-Dunántúl",2005,"Rozs *összesen*na.*na.",4.88,"t/ha","AKII","Egyéni","Összes","Összes","Összes","Árunövénytermesztés"]
[99,"Dél-Dunántúl",2007,"Rozs *összesen*na.*na.",0,"t/ha","AKII","Egyéni","Összes","Összes","Összes","Árunövénytermesztés"]
[100,"Dél-Dunántúl",2006,"Rozs *összesen*na.*na.",4.03,"t/ha","AKII","Egyéni","Összes","Összes","Összes","Árunövénytermesztés"]
[101,"Dél-Dunántúl",2000,"Rozs *összesen*na.*na.",0,"t/ha","AKII","Egyéni","Összes","Összes","Összes","Árunövénytermesztés"]
[102,"Dél-Dunántúl",2002,"Rozs *összesen*na.*na.",0,"t/ha","AKII","Egyéni","Összes","Összes","Összes","Árunövénytermesztés"]
[103,"Dél-Dunántúl",2003,"Rozs *összesen*na.*na.",1.85,"t/ha","AKII","Egyéni","Összes","Összes","Összes","Árunövénytermesztés"]
[104,"Dél-Dunántúl",2004,"Rozs *összesen*na.*na.",4.8,"t/ha","AKII","Egyéni","Összes","Összes","Összes","Árunövénytermesztés"]
[105,"Dél-Dunántúl",2008,"Rozs *összesen*na.*na.",0,"t/ha","AKII","Egyéni","Összes","Összes","Összes","Árunövénytermesztés"]
[106,"Dél-Dunántúl",2001,"Rozs *összesen*na.*na.",0,"t/ha","AKII","Egyéni","Összes","Összes","Összes","Árunövénytermesztés"]
[107,"Észak-Alföld",2005,"Rozs *összesen*na.*na.",0.88,"t/ha","AKII","Egyéni","Összes","Összes","Összes","Árunövénytermesztés"]
[108,"Észak-Alföld",2009,"Rozs *összesen*na.*na.",2.16,"t/ha","AKII","Egyéni","Összes","Összes","Összes","Árunövénytermesztés"]
[109,"Észak-Alföld",2001,"Rozs *összesen*na.*na.",1.85,"t/ha","AKII","Egyéni","Összes","Összes","Összes","Árunövénytermesztés"]
[110,"Észak-Alföld",2008,"Rozs *összesen*na.*na.",1.5,"t/ha","AKII","Egyéni","Összes","Összes","Összes","Árunövénytermesztés"]
[111,"Észak-Alföld",2000,"Rozs *összesen*na.*na.",1,"t/ha","AKII","Egyéni","Összes","Összes","Összes","Árunövénytermesztés"]
[112,"Észak-Alföld",2007,"Rozs *összesen*na.*na.",1.05,"t/ha","AKII","Egyéni","Összes","Összes","Összes","Árunövénytermesztés"]
[113,"Észak-Alföld",2006,"Rozs *összesen*na.*na.",1.87,"t/ha","AKII","Egyéni","Összes","Összes","Összes","Árunövénytermesztés"]
[114,"Észak-Alföld",2004,"Rozs *összesen*na.*na.",3.06,"t/ha","AKII","Egyéni","Összes","Összes","Összes","Árunövénytermesztés"]
[115,"Észak-Alföld",2003,"Rozs *összesen*na.*na.",2.02,"t/ha","AKII","Egyéni","Összes","Összes","Összes","Árunövénytermesztés"]
[116,"Észak-Alföld",2002,"Rozs *összesen*na.*na.",1.6,"t/ha","AKII","Egyéni","Összes","Összes","Összes","Árunövénytermesztés"]
[117,"Észak-Magyarország",2000,"Rozs *összesen*na.*na.",0,"t/ha","AKII","Egyéni","Összes","Összes","Összes","Árunövénytermesztés"]
[118,"Észak-Magyarország",2009,"Rozs *összesen*na.*na.",3.4,"t/ha","AKII","Egyéni","Összes","Összes","Összes","Árunövénytermesztés"]
[119,"Észak-Magyarország",2006,"Rozs *összesen*na.*na.",2.6,"t/ha","AKII","Egyéni","Összes","Összes","Összes","Árunövénytermesztés"]
[120,"Észak-Magyarország",2008,"Rozs *összesen*na.*na.",3.59,"t/ha","AKII","Egyéni","Összes","Összes","Összes","Árunövénytermesztés"]
[121,"Észak-Magyarország",2002,"Rozs *összesen*na.*na.",0,"t/ha","AKII","Egyéni","Összes","Összes","Összes","Árunövénytermesztés"]
[122,"Észak-Magyarország",2004,"Rozs *összesen*na.*na.",3.5,"t/ha","AKII","Egyéni","Összes","Összes","Összes","Árunövénytermesztés"]
[123,"Észak-Magyarország",2001,"Rozs *összesen*na.*na.",0,"t/ha","AKII","Egyéni","Összes","Összes","Összes","Árunövénytermesztés"]
[124,"Észak-Magyarország",2005,"Rozs *összesen*na.*na.",3,"t/ha","AKII","Egyéni","Összes","Összes","Összes","Árunövénytermesztés"]
[125,"Észak-Magyarország",2003,"Rozs *összesen*na.*na.",2,"t/ha","AKII","Egyéni","Összes","Összes","Összes","Árunövénytermesztés"]
[126,"Észak-Magyarország",2007,"Rozs *összesen*na.*na.",2.2999999999999998,"t/ha","AKII","Egyéni","Összes","Összes","Összes","Árunövénytermesztés"]
[127,"Közép-Dunántúl",2009,"Rozs *összesen*na.*na.",3.09,"t/ha","AKII","Egyéni","Összes","Összes","Összes","Árunövénytermesztés"]
[128,"Közép-Dunántúl",2000,"Rozs *összesen*na.*na.",0,"t/ha","AKII","Egyéni","Összes","Összes","Összes","Árunövénytermesztés"]
[129,"Közép-Dunántúl",2002,"Rozs *összesen*na.*na.",2.5,"t/ha","AKII","Egyéni","Összes","Összes","Összes","Árunövénytermesztés"]
[130,"Közép-Dunántúl",2003,"Rozs *összesen*na.*na.",1.29,"t/ha","AKII","Egyéni","Összes","Összes","Összes","Árunövénytermesztés"]
[131,"Közép-Dunántúl",2001,"Rozs *összesen*na.*na.",2.2400000000000002,"t/ha","AKII","Egyéni","Összes","Összes","Összes","Árunövénytermesztés"]
[132,"Közép-Dunántúl",2004,"Rozs *összesen*na.*na.",2.73,"t/ha","AKII","Egyéni","Összes","Összes","Összes","Árunövénytermesztés"]
[133,"Közép-Dunántúl",2005,"Rozs *összesen*na.*na.",1.98,"t/ha","AKII","Egyéni","Összes","Összes","Összes","Árunövénytermesztés"]
[134,"Közép-Dunántúl",2006,"Rozs *összesen*na.*na.",1.5,"t/ha","AKII","Egyéni","Összes","Összes","Összes","Árunövénytermesztés"]
[135,"Közép-Dunántúl",2007,"Rozs *összesen*na.*na.",2.81,"t/ha","AKII","Egyéni","Összes","Összes","Összes","Árunövénytermesztés"]
[136,"Közép-Dunántúl",2008,"Rozs *összesen*na.*na.",2.3199999999999998,"t/ha","AKII","Egyéni","Összes","Összes","Összes","Árunövénytermesztés"]
[137,"Közép-Magyarország",2007,"Rozs *összesen*na.*na.",1.57,"t/ha","AKII","Egyéni","Összes","Összes","Összes","Árunövénytermesztés"]
[138,"Közép-Magyarország",2005,"Rozs *összesen*na.*na.",3.13,"t/ha","AKII","Egyéni","Összes","Összes","Összes","Árunövénytermesztés"]
[139,"Közép-Magyarország",2001,"Rozs *összesen*na.*na.",2.4500000000000002,"t/ha","AKII","Egyéni","Összes","Összes","Összes","Árunövénytermesztés"]
[140,"Közép-Magyarország",2003,"Rozs *összesen*na.*na.",0.51,"t/ha","AKII","Egyéni","Összes","Összes","Összes","Árunövénytermesztés"]
[141,"Közép-Magyarország",2002,"Rozs *összesen*na.*na.",1.75,"t/ha","AKII","Egyéni","Összes","Összes","Összes","Árunövénytermesztés"]
[142,"Közép-Magyarország",2004,"Rozs *összesen*na.*na.",2.4900000000000002,"t/ha","AKII","Egyéni","Összes","Összes","Összes","Árunövénytermesztés"]
[143,"Közép-Magyarország",2008,"Rozs *összesen*na.*na.",2.29,"t/ha","AKII","Egyéni","Összes","Összes","Összes","Árunövénytermesztés"]
[144,"Közép-Magyarország",2000,"Rozs *összesen*na.*na.",2.06,"t/ha","AKII","Egyéni","Összes","Összes","Összes","Árunövénytermesztés"]
[145,"Közép-Magyarország",2006,"Rozs *összesen*na.*na.",3.02,"t/ha","AKII","Egyéni","Összes","Összes","Összes","Árunövénytermesztés"]
[146,"Közép-Magyarország",2009,"Rozs *összesen*na.*na.",1.1599999999999999,"t/ha","AKII","Egyéni","Összes","Összes","Összes","Árunövénytermesztés"]
[147,"Nyugat-Dunántúl",2007,"Rozs *összesen*na.*na.",2.72,"t/ha","AKII","Egyéni","Összes","Összes","Összes","Árunövénytermesztés"]
[148,"Nyugat-Dunántúl",2006,"Rozs *összesen*na.*na.",2.7,"t/ha","AKII","Egyéni","Összes","Összes","Összes","Árunövénytermesztés"]
[149,"Nyugat-Dunántúl",2005,"Rozs *összesen*na.*na.",3.58,"t/ha","AKII","Egyéni","Összes","Összes","Összes","Árunövénytermesztés"]
[150,"Nyugat-Dunántúl",2004,"Rozs *összesen*na.*na.",3.34,"t/ha","AKII","Egyéni","Összes","Összes","Összes","Árunövénytermesztés"]
[151,"Nyugat-Dunántúl",2001,"Rozs *összesen*na.*na.",2.4500000000000002,"t/ha","AKII","Egyéni","Összes","Összes","Összes","Árunövénytermesztés"]
[152,"Nyugat-Dunántúl",2003,"Rozs *összesen*na.*na.",2.2599999999999998,"t/ha","AKII","Egyéni","Összes","Összes","Összes","Árunövénytermesztés"]
[153,"Nyugat-Dunántúl",2000,"Rozs *összesen*na.*na.",2.46,"t/ha","AKII","Egyéni","Összes","Összes","Összes","Árunövénytermesztés"]
[154,"Nyugat-Dunántúl",2009,"Rozs *összesen*na.*na.",0,"t/ha","AKII","Egyéni","Összes","Összes","Összes","Árunövénytermesztés"]
[155,"Nyugat-Dunántúl",2002,"Rozs *összesen*na.*na.",2.54,"t/ha","AKII","Egyéni","Összes","Összes","Összes","Árunövénytermesztés"]
[156,"Nyugat-Dunántúl",2008,"Rozs *összesen*na.*na.",3.89,"t/ha","AKII","Egyéni","Összes","Összes","Összes","Árunövénytermesztés"]
[{"$f":"A157+1","v":157},"Dél-Alföld",2000,{"$f":"'db2'!A14","v":"kukorica"},{"$f":"'db2'!B16","v":4.46},{"$f":"F157","v":"t/ha"}]
[{"$f":"A158+1","v":158},"Dél-Dunántúl",{"$f":"C158","v":2000},{"$f":"D158","v":"kukorica"},{"$f":"'db2'!B17","v":4.76},{"$f":"F158","v":"t/ha"}]
[159,"Észak-Alföld",{"$f":"C159","v":2000},"kukorica",{"$f":"'db2'!B18","v":3.83},"t/ha"]
[160,"Észak-Magyarország",2000,"kukorica",{"$f":"'db2'!B19","v":2.63},"t/ha"]
[161,"Közép-Dunántúl",2000,"kukorica",{"$f":"'db2'!B20","v":4.97},"t/ha"]
[162,"Közép-Magyarország",2000,"kukorica",{"$f":"'db2'!B21","v":3.44},"t/ha"]
[163,"Nyugat-Dunántúl",2000,{"$f":"D163","v":"kukorica"},{"$f":"'db2'!B22","v":4.45},{"$f":"F163","v":"t/ha"}]
[164,{"$f":"B158","v":"Dél-Alföld"},{"$f":"C158+1","v":2001},{"$f":"D164","v":"kukorica"},7.67,{"$f":"F164","v":"t/ha"}]
[165,{"$f":"B159","v":"Dél-Dunántúl"},{"$f":"C159+1","v":2001},{"$f":"D165","v":"kukorica"},7.28,{"$f":"F165","v":"t/ha"}]
[166,"Észak-Alföld",2001,"kukorica",7.13,"t/ha"]
[167,"Észak-Magyarország",2001,"kukorica",5.4,"t/ha"]
[168,"Közép-Dunántúl",2001,"kukorica",7.03,"t/ha"]
[169,"Közép-Magyarország",2001,"kukorica",6.52,"t/ha"]
[170,"Nyugat-Dunántúl",2001,"kukorica",4.2699999999999996,"t/ha"]
[171,"Dél-Alföld",2002,"kukorica",5.46,"t/ha"]
[172,"Dél-Dunántúl",2002,"kukorica",6.61,"t/ha"]
[173,"Észak-Alföld",2002,"kukorica",4.93,"t/ha"]
[174,"Észak-Magyarország",2002,"kukorica",5.27,"t/ha"]
[175,"Közép-Dunántúl",2002,"kukorica",6.63,"t/ha"]
[176,"Közép-Magyarország",2002,"kukorica",3.88,"t/ha"]
[177,"Nyugat-Dunántúl",2002,"kukorica",6.12,"t/ha"]
[178,"Dél-Alföld",2003,"kukorica",3.4,"t/ha"]
[179,"Dél-Dunántúl",2003,"kukorica",4.42,"t/ha"]
[180,"Észak-Alföld",2003,"kukorica",5.08,"t/ha"]
[181,"Észak-Magyarország",2003,"kukorica",4.0199999999999996,"t/ha"]
[182,"Közép-Dunántúl",2003,"kukorica",3.89,"t/ha"]
[183,"Közép-Magyarország",2003,"kukorica",2.81,"t/ha"]
[184,"Nyugat-Dunántúl",2003,"kukorica",4.18,"t/ha"]
[185,"Dél-Alföld",2004,"kukorica",7.46,"t/ha"]
[186,"Dél-Dunántúl",2004,"kukorica",8.11,"t/ha"]
[187,"Észak-Alföld",2004,"kukorica",8.02,"t/ha"]
[188,"Észak-Magyarország",2004,"kukorica",5.67,"t/ha"]
[189,"Közép-Dunántúl",2004,"kukorica",7.3,"t/ha"]
[190,"Közép-Magyarország",2004,"kukorica",6.16,"t/ha"]
[191,"Nyugat-Dunántúl",2004,"kukorica",6.77,"t/ha"]
[192,"Dél-Alföld",2005,"kukorica",7.87,"t/ha"]
[193,"Dél-Dunántúl",2005,"kukorica",8.36,"t/ha"]
[194,"Észak-Alföld",2005,"kukorica",7.8,"t/ha"]
[195,"Észak-Magyarország",2005,"kukorica",6.47,"t/ha"]
[196,"Közép-Dunántúl",2005,"kukorica",8.98,"t/ha"]
[197,"Közép-Magyarország",2005,"kukorica",7.72,"t/ha"]
[198,"Nyugat-Dunántúl",2005,"kukorica",8.01,"t/ha"]
[199,"Dél-Alföld",2006,"kukorica",7.36,"t/ha"]
[200,"Dél-Dunántúl",2006,"kukorica",7.87,"t/ha"]
[201,"Észak-Alföld",2006,"kukorica",6.59,"t/ha"]
[202,"Észak-Magyarország",2006,"kukorica",5.67,"t/ha"]
[203,"Közép-Dunántúl",2006,"kukorica",7.58,"t/ha"]
[204,"Közép-Magyarország",2006,"kukorica",6.84,"t/ha"]
[205,"Nyugat-Dunántúl",2006,"kukorica",7.13,"t/ha"]
[206,"Dél-Alföld",2007,"kukorica",4.3499999999999996,"t/ha"]
[207,"Dél-Dunántúl",2007,"kukorica",3.24,"t/ha"]
[208,"Észak-Alföld",2007,"kukorica",4.7,"t/ha"]
[209,"Észak-Magyarország",2007,"kukorica",3.8,"t/ha"]
[210,"Közép-Dunántúl",2007,"kukorica",3.7,"t/ha"]
[211,"Közép-Magyarország",2007,"kukorica",3.27,"t/ha"]
[212,"Nyugat-Dunántúl",2007,"kukorica",4.72,"t/ha"]
[213,"Dél-Alföld",2008,"kukorica",7.32,"t/ha"]
[214,"Dél-Dunántúl",2008,"kukorica",8.23,"t/ha"]
[215,"Észak-Alföld",2008,"kukorica",8.65,"t/ha"]
[216,"Észak-Magyarország",2008,"kukorica",6.04,"t/ha"]
[217,"Közép-Dunántúl",2008,"kukorica",8.73,"t/ha"]
[218,"Közép-Magyarország",2008,"kukorica",7.8,"t/ha"]
[219,"Nyugat-Dunántúl",2008,"kukorica",8.48,"t/ha"]
[220,"Dél-Alföld",2009,"kukorica",5.97,"t/ha"]
[221,"Dél-Dunántúl",2009,"kukorica",7.46,"t/ha"]
[{"$f":"A222+1","v":222},"Észak-Alföld",2009,"kukorica",6.46,"t/ha"]
[223,"Észak-Magyarország",2009,"kukorica",5.31,"t/ha"]
[224,"Közép-Dunántúl",2009,"kukorica",7.5,"t/ha"]
[225,"Közép-Magyarország",2009,"kukorica",5.3,"t/ha"]
[226,"Nyugat-Dunántúl",2009,"kukorica",8.1199999999999992,"t/ha"]
[227,"Dél-Alföld",{"$f":"C158","v":2000},{"$f":"'db2'!A26","v":"burgonya"},{"$f":"'db2'!B28","v":18.690000000000001},"t/ha"]
[228,"Dél-Dunántúl",{"$f":"C159","v":2000},{"$f":"D228","v":"burgonya"},{"$f":"'db2'!B29","v":8.52},"t/ha"]
[229,"Észak-Alföld",2000,"burgonya",{"$f":"'db2'!B30","v":20.75},{"$f":"F229","v":"t/ha"}]
[230,"Észak-Magyarország",2000,"burgonya",{"$f":"'db2'!B31","v":15.84},"t/ha"]
[231,"Közép-Dunántúl",2000,"burgonya",{"$f":"'db2'!B32","v":5.69},"t/ha"]
[232,"Közép-Magyarország",2000,"burgonya",{"$f":"'db2'!B33","v":16},"t/ha"]
[233,"Nyugat-Dunántúl",2000,"burgonya",{"$f":"'db2'!B34","v":25.18},"t/ha"]
[234,{"$f":"B228","v":"Dél-Alföld"},2001,"burgonya",20.82,"t/ha"]
[235,"Dél-Dunántúl",2001,"burgonya",14.23,"t/ha"]
[236,"Észak-Alföld",2001,"burgonya",24.79,"t/ha"]
[237,"Észak-Magyarország",2001,"burgonya",18.079999999999998,"t/ha"]
[238,"Közép-Dunántúl",2001,"burgonya",8.67,"t/ha"]
[239,"Közép-Magyarország",2001,"burgonya",13.2,"t/ha"]
[240,"Nyugat-Dunántúl",2001,"burgonya",23.95,"t/ha"]
[241,"Dél-Alföld",2002,"burgonya",19.78,"t/ha"]
[242,"Dél-Dunántúl",2002,"burgonya",21.8,"t/ha"]
[243,"Észak-Alföld",2002,"burgonya",20.84,"t/ha"]
[244,"Észak-Magyarország",2002,"burgonya",21.24,"t/ha"]
[245,"Közép-Dunántúl",2002,"burgonya",18.440000000000001,"t/ha"]
[246,"Közép-Magyarország",2002,"burgonya",17.59,"t/ha"]
[247,"Nyugat-Dunántúl",2002,"burgonya",15.94,"t/ha"]
[248,"Dél-Alföld",2003,"burgonya",19.170000000000002,"t/ha"]
[249,"Dél-Dunántúl",2003,"burgonya",13.7,"t/ha"]
[250,"Észak-Alföld",2003,"burgonya",22.43,"t/ha"]
[251,"Észak-Magyarország",2003,"burgonya",10.84,"t/ha"]
[252,"Közép-Dunántúl",2003,"burgonya",11.01,"t/ha"]
[253,"Közép-Magyarország",2003,"burgonya",21.44,"t/ha"]
[254,"Nyugat-Dunántúl",2003,"burgonya",11.95,"t/ha"]
[255,"Dél-Alföld",2004,"burgonya",24.81,"t/ha"]
[256,"Dél-Dunántúl",2004,"burgonya",34.22,"t/ha"]
[257,"Észak-Alföld",2004,"burgonya",20.47,"t/ha"]
[258,"Észak-Magyarország",2004,"burgonya",29.34,"t/ha"]
[259,"Közép-Dunántúl",2004,"burgonya",20.309999999999999,"t/ha"]
[260,"Közép-Magyarország",2004,"burgonya",35.840000000000003,"t/ha"]
[261,"Nyugat-Dunántúl",2004,"burgonya",32.659999999999997,"t/ha"]
[262,"Dél-Alföld",2005,"burgonya",21.64,"t/ha"]
[263,"Dél-Dunántúl",2005,"burgonya",27.14,"t/ha"]
[264,"Észak-Alföld",2005,"burgonya",31.11,"t/ha"]
[265,"Észak-Magyarország",2005,"burgonya",24.99,"t/ha"]
[266,"Közép-Dunántúl",2005,"burgonya",14.14,"t/ha"]
[267,"Közép-Magyarország",2005,"burgonya",21.71,"t/ha"]
[268,"Nyugat-Dunántúl",2005,"burgonya",26.65,"t/ha"]
[269,"Dél-Alföld",2006,"burgonya",26.22,"t/ha"]
[270,"Dél-Dunántúl",2006,"burgonya",23.31,"t/ha"]
[271,"Észak-Alföld",2006,"burgonya",28.96,"t/ha"]
[272,"Észak-Magyarország",2006,"burgonya",22.5,"t/ha"]
[273,"Közép-Dunántúl",2006,"burgonya",15.32,"t/ha"]
[274,"Közép-Magyarország",2006,"burgonya",28.12,"t/ha"]
[275,"Nyugat-Dunántúl",2006,"burgonya",25.94,"t/ha"]
[276,"Dél-Alföld",2007,"burgonya",23.69,"t/ha"]
[277,"Dél-Dunántúl",2007,"burgonya",14.43,"t/ha"]
[278,"Észak-Alföld",2007,"burgonya",21.26,"t/ha"]
[279,"Észak-Magyarország",2007,"burgonya",0,"t/ha"]
[280,"Közép-Dunántúl",2007,"burgonya",18.71,"t/ha"]
[281,"Közép-Magyarország",2007,"burgonya",30.89,"t/ha"]
[282,"Nyugat-Dunántúl",2007,"burgonya",23.4,"t/ha"]
[283,"Dél-Alföld",2008,"burgonya",28.1,"t/ha"]
[284,"Dél-Dunántúl",2008,"burgonya",16.43,"t/ha"]
[285,"Észak-Alföld",2008,"burgonya",20.18,"t/ha"]
[{"$f":"A286+1","v":286},"Észak-Magyarország",2008,"burgonya",31,"t/ha"]
[287,"Közép-Dunántúl",2008,"burgonya",3.86,"t/ha"]
[288,"Közép-Magyarország",2008,"burgonya",26.3,"t/ha"]
[289,"Nyugat-Dunántúl",2008,"burgonya",14.56,"t/ha"]
[290,"Dél-Alföld",2009,"burgonya",32.47,"t/ha"]
[291,"Dél-Dunántúl",2009,"burgonya",18.59,"t/ha"]
[292,"Észak-Alföld",{"$f":"C223","v":2009},{"$f":"D292","v":"burgonya"},33.61,"t/ha"]
[293,"Észak-Magyarország",2009,"burgonya",0,{"$f":"F293","v":"t/ha"}]
[294,"Közép-Dunántúl",2009,"burgonya",25.6,"t/ha"]
[295,"Közép-Magyarország",2009,"burgonya",22.78,"t/ha"]
[296,"Nyugat-Dunántúl",2009,"burgonya",32.119999999999997,"t/ha"]
[297,"Dél-Alföld",2000,{"$f":"'db2'!A75","v":"őszi árpa"},{"$f":"'db2'!B77","v":2.95},"t/ha"]
[298,"Dél-Dunántúl",2000,{"$f":"D298","v":"őszi árpa"},{"$f":"'db2'!B78","v":3.63},"t/ha"]
[299,"Észak-Alföld",2000,"őszi árpa",{"$f":"'db2'!B79","v":2.93},"t/ha"]
[300,"Észak-Magyarország",2000,"őszi árpa",{"$f":"'db2'!B80","v":3.96},"t/ha"]
[301,"Közép-Dunántúl",2000,"őszi árpa",{"$f":"'db2'!B81","v":3.04},"t/ha"]
[302,"Közép-Magyarország",2000,"őszi árpa",{"$f":"'db2'!B82","v":3.53},"t/ha"]
[303,"Nyugat-Dunántúl",2000,"őszi árpa",{"$f":"'db2'!B83","v":3.35},"t/ha"]
[304,{"$f":"B298","v":"Dél-Alföld"},2001,"őszi árpa",4.05,"t/ha"]
[305,"Dél-Dunántúl",2001,"őszi árpa",4.5599999999999996,"t/ha"]
[306,"Észak-Alföld",2001,"őszi árpa",4.21,"t/ha"]
[307,"Észak-Magyarország",2001,"őszi árpa",3.32,"t/ha"]
[308,"Közép-Dunántúl",2001,"őszi árpa",3.92,"t/ha"]
[309,"Közép-Magyarország",2001,"őszi árpa",4.41,"t/ha"]
[310,"Nyugat-Dunántúl",2001,"őszi árpa",3.86,"t/ha"]
[311,"Dél-Alföld",2002,"őszi árpa",3.56,"t/ha"]
[312,"Dél-Dunántúl",2002,"őszi árpa",4.1100000000000003,"t/ha"]
[313,"Észak-Alföld",2002,"őszi árpa",1.64,"t/ha"]
[314,"Észak-Magyarország",2002,"őszi árpa",2.38,"t/ha"]
[315,"Közép-Dunántúl",2002,"őszi árpa",2.15,"t/ha"]
[316,"Közép-Magyarország",2002,"őszi árpa",2.2200000000000002,"t/ha"]
[317,"Nyugat-Dunántúl",2002,"őszi árpa",2.1,"t/ha"]
[318,"Dél-Alföld",2003,"őszi árpa",2.5099999999999998,"t/ha"]
[319,"Dél-Dunántúl",2003,"őszi árpa",3.19,"t/ha"]
[320,"Észak-Alföld",2003,"őszi árpa",1.74,"t/ha"]
[321,"Észak-Magyarország",2003,"őszi árpa",1.23,"t/ha"]
[322,"Közép-Dunántúl",2003,"őszi árpa",2.4,"t/ha"]
[323,"Közép-Magyarország",2003,"őszi árpa",1.83,"t/ha"]
[324,"Nyugat-Dunántúl",2003,"őszi árpa",2.93,"t/ha"]
[325,"Dél-Alföld",2004,"őszi árpa",4.41,"t/ha"]
[326,"Dél-Dunántúl",2004,"őszi árpa",4.7,"t/ha"]
[327,"Észak-Alföld",2004,"őszi árpa",5.04,"t/ha"]
[328,"Észak-Magyarország",2004,"őszi árpa",3.95,"t/ha"]
[329,"Közép-Dunántúl",2004,"őszi árpa",4.43,"t/ha"]
[330,"Közép-Magyarország",2004,"őszi árpa",4.3,"t/ha"]
[331,"Nyugat-Dunántúl",2004,"őszi árpa",4.05,"t/ha"]
[332,"Dél-Alföld",2005,"őszi árpa",3.91,"t/ha"]
[333,"Dél-Dunántúl",2005,"őszi árpa",4.25,"t/ha"]
[334,"Észak-Alföld",2005,"őszi árpa",4.09,"t/ha"]
[335,"Észak-Magyarország",2005,"őszi árpa",4.16,"t/ha"]
[336,"Közép-Dunántúl",2005,"őszi árpa",4.29,"t/ha"]
[337,"Közép-Magyarország",2005,"őszi árpa",4.18,"t/ha"]
[338,"Nyugat-Dunántúl",2005,"őszi árpa",4.03,"t/ha"]
[339,"Dél-Alföld",2006,"őszi árpa",3.92,"t/ha"]
[340,"Dél-Dunántúl",2006,"őszi árpa",4.45,"t/ha"]
[341,"Észak-Alföld",2006,"őszi árpa",2.04,"t/ha"]
[342,"Észak-Magyarország",2006,"őszi árpa",3.84,"t/ha"]
[343,"Közép-Dunántúl",2006,"őszi árpa",3.91,"t/ha"]
[344,"Közép-Magyarország",2006,"őszi árpa",3.83,"t/ha"]
[345,"Nyugat-Dunántúl",2006,"őszi árpa",3.4,"t/ha"]
[346,"Dél-Alföld",2007,"őszi árpa",3.76,"t/ha"]
[347,"Dél-Dunántúl",2007,"őszi árpa",4.1500000000000004,"t/ha"]
[348,"Észak-Alföld",2007,"őszi árpa",2.96,"t/ha"]
[349,"Észak-Magyarország",2007,"őszi árpa",3.18,"t/ha"]
[{"$f":"A350+1","v":350},"Közép-Dunántúl",2007,"őszi árpa",3.8,"t/ha"]
[351,"Közép-Magyarország",2007,"őszi árpa",2.4,"t/ha"]
[352,"Nyugat-Dunántúl",2007,"őszi árpa",4.2300000000000004,"t/ha"]
[353,"Dél-Alföld",2008,"őszi árpa",5.31,"t/ha"]
[354,"Dél-Dunántúl",2008,"őszi árpa",4.13,"t/ha"]
[355,"Észak-Alföld",2008,"őszi árpa",4.17,"t/ha"]
[356,"Észak-Magyarország",{"$f":"C287","v":2008},"őszi árpa",4.3499999999999996,"t/ha"]
[357,"Közép-Dunántúl",2008,"őszi árpa",4.99,{"$f":"F357","v":"t/ha"}]
[358,"Közép-Magyarország",2008,"őszi árpa",4.17,"t/ha"]
[359,"Nyugat-Dunántúl",2008,"őszi árpa",4.8099999999999996,"t/ha"]
[360,"Dél-Alföld",2009,"őszi árpa",3.45,"t/ha"]
[361,"Dél-Dunántúl",2009,"őszi árpa",4.59,"t/ha"]
[362,"Észak-Alföld",2009,{"$f":"D362","v":"őszi árpa"},2.86,"t/ha"]
[363,"Észak-Magyarország",2009,"őszi árpa",3.56,"t/ha"]
[364,"Közép-Dunántúl",2009,"őszi árpa",3.15,"t/ha"]
[365,"Közép-Magyarország",2009,"őszi árpa",2.98,"t/ha"]
[366,"Nyugat-Dunántúl",2009,"őszi árpa",4.16,"t/ha"]
[367,"Dél-Alföld",2000,{"$f":"'db2'!A87","v":"napraforgó"},{"$f":"'db2'!B89","v":1.44},"t/ha"]
[368,"Dél-Dunántúl",2000,{"$f":"D368","v":"napraforgó"},{"$f":"'db2'!B90","v":2.11},"t/ha"]
[369,"Észak-Alföld",2000,"napraforgó",{"$f":"'db2'!B91","v":1.44},"t/ha"]
[370,"Észak-Magyarország",2000,"napraforgó",{"$f":"'db2'!B92","v":1.1200000000000001},"t/ha"]
[371,"Közép-Dunántúl",2000,"napraforgó",{"$f":"'db2'!B93","v":2.0499999999999998},"t/ha"]
[372,"Közép-Magyarország",2000,"napraforgó",{"$f":"'db2'!B94","v":1.53},"t/ha"]
[373,"Nyugat-Dunántúl",2000,"napraforgó",{"$f":"'db2'!B95","v":1.71},"t/ha"]
[374,{"$f":"B368","v":"Dél-Alföld"},2001,"napraforgó",1.98,"t/ha"]
[375,"Dél-Dunántúl",2001,"napraforgó",2.0499999999999998,"t/ha"]
[376,"Észak-Alföld",2001,"napraforgó",1.56,"t/ha"]
[377,"Észak-Magyarország",2001,"napraforgó",1.77,"t/ha"]
[378,"Közép-Dunántúl",2001,"napraforgó",2.29,"t/ha"]
[379,"Közép-Magyarország",2001,"napraforgó",2.34,"t/ha"]
[380,"Nyugat-Dunántúl",2001,"napraforgó",1.95,"t/ha"]
[381,"Dél-Alföld",2002,"napraforgó",2.04,"t/ha"]
[382,"Dél-Dunántúl",2002,"napraforgó",2.39,"t/ha"]
[383,"Észak-Alföld",2002,"napraforgó",1.87,"t/ha"]
[384,"Észak-Magyarország",2002,"napraforgó",1.37,"t/ha"]
[385,"Közép-Dunántúl",2002,"napraforgó",2.1800000000000002,"t/ha"]
[386,"Közép-Magyarország",2002,"napraforgó",1.94,"t/ha"]
[387,"Nyugat-Dunántúl",2002,"napraforgó",2.02,"t/ha"]
[388,"Dél-Alföld",2003,"napraforgó",1.96,"t/ha"]
[389,"Dél-Dunántúl",2003,"napraforgó",2.42,"t/ha"]
[390,"Észak-Alföld",2003,"napraforgó",1.86,"t/ha"]
[391,"Észak-Magyarország",2003,"napraforgó",1.51,"t/ha"]
[392,"Közép-Dunántúl",2003,"napraforgó",2.4,"t/ha"]
[393,"Közép-Magyarország",2003,"napraforgó",1.63,"t/ha"]
[394,"Nyugat-Dunántúl",2003,"napraforgó",2.46,"t/ha"]
[395,"Dél-Alföld",2004,"napraforgó",2.58,"t/ha"]
[396,"Dél-Dunántúl",2004,"napraforgó",3.04,"t/ha"]
[397,"Észak-Alföld",2004,"napraforgó",2.17,"t/ha"]
[398,"Észak-Magyarország",2004,"napraforgó",2.19,"t/ha"]
[399,"Közép-Dunántúl",2004,"napraforgó",2.77,"t/ha"]
[400,"Közép-Magyarország",2004,"napraforgó",2.3199999999999998,"t/ha"]
[401,"Nyugat-Dunántúl",2004,"napraforgó",2.41,"t/ha"]
[402,"Dél-Alföld",2005,"napraforgó",2.0499999999999998,"t/ha"]
[403,"Dél-Dunántúl",2005,"napraforgó",2.48,"t/ha"]
[404,"Észak-Alföld",2005,"napraforgó",2,"t/ha"]
[405,"Észak-Magyarország",2005,"napraforgó",2.25,"t/ha"]
[406,"Közép-Dunántúl",2005,"napraforgó",2.5299999999999998,"t/ha"]
[407,"Közép-Magyarország",2005,"napraforgó",2.0499999999999998,"t/ha"]
[408,"Nyugat-Dunántúl",2005,"napraforgó",2.5,"t/ha"]
[409,"Dél-Alföld",2006,"napraforgó",2.12,"t/ha"]
[410,"Dél-Dunántúl",2006,"napraforgó",2.41,"t/ha"]
[411,"Észak-Alföld",2006,"napraforgó",1.83,"t/ha"]
[412,"Észak-Magyarország",2006,"napraforgó",1.97,"t/ha"]
[413,"Közép-Dunántúl",2006,"napraforgó",2.3199999999999998,"t/ha"]
[{"$f":"A414+1","v":414},"Közép-Magyarország",2006,"napraforgó",2.14,"t/ha"]
[415,"Nyugat-Dunántúl",2006,"napraforgó",2.42,"t/ha"]
[416,"Dél-Alföld",2007,"napraforgó",2.31,"t/ha"]
[417,"Dél-Dunántúl",2007,"napraforgó",2.46,"t/ha"]
[418,"Észak-Alföld",2007,"napraforgó",2.14,"t/ha"]
[419,"Észak-Magyarország",2007,"napraforgó",1.78,"t/ha"]
[420,"Közép-Dunántúl",{"$f":"C351","v":2007},"napraforgó",2.13,"t/ha"]
[421,"Közép-Magyarország",2007,"napraforgó",1.97,{"$f":"F421","v":"t/ha"}]
[422,"Nyugat-Dunántúl",2007,"napraforgó",1.95,"t/ha"]
[423,"Dél-Alföld",2008,"napraforgó",2.72,"t/ha"]
[424,"Dél-Dunántúl",2008,"napraforgó",3.02,"t/ha"]
[425,"Észak-Alföld",2008,"napraforgó",2.92,"t/ha"]
[426,"Észak-Magyarország",2008,"napraforgó",2.4500000000000002,"t/ha"]
[427,"Közép-Dunántúl",2008,"napraforgó",2.98,"t/ha"]
[428,"Közép-Magyarország",2008,"napraforgó",2.65,"t/ha"]
[429,"Nyugat-Dunántúl",2008,"napraforgó",2.83,"t/ha"]
[430,"Dél-Alföld",2009,"napraforgó",2.4300000000000002,"t/ha"]
[431,"Dél-Dunántúl",2009,"napraforgó",2.89,"t/ha"]
[432,"Észak-Alföld",2009,{"$f":"D432","v":"napraforgó"},2.2799999999999998,"t/ha"]
[433,"Észak-Magyarország",2009,"napraforgó",2.1800000000000002,"t/ha"]
[434,"Közép-Dunántúl",2009,"napraforgó",2.48,"t/ha"]
[435,"Közép-Magyarország",2009,"napraforgó",2.0699999999999998,"t/ha"]
[436,"Nyugat-Dunántúl",2009,"napraforgó",2.4,"t/ha"]
[437,{"$f":"B368","v":"Dél-Alföld"},2000,"cukorrépa+repce",{"$f":"'db2'!B52","v":29.05},"t/ha"]
[438,{"$f":"B369","v":"Dél-Dunántúl"},2000,"cukorrépa+repce",{"$f":"'db2'!B53","v":31.46},"t/ha"]
[439,{"$f":"B370","v":"Észak-Alföld"},2000,"cukorrépa+repce",{"$f":"'db2'!B54","v":45.24},"t/ha"]
[440,{"$f":"B371","v":"Észak-Magyarország"},2000,"cukorrépa+repce",{"$f":"'db2'!B55","v":29.2},"t/ha"]
[441,{"$f":"B372","v":"Közép-Dunántúl"},2000,"cukorrépa+repce",{"$f":"'db2'!B56","v":33.82},"t/ha"]
[442,{"$f":"B373","v":"Közép-Magyarország"},2000,"cukorrépa+repce",{"$f":"'db2'!B57","v":36.33},"t/ha"]
[443,{"$f":"B374","v":"Nyugat-Dunántúl"},2000,"cukorrépa+repce",{"$f":"'db2'!B58","v":37.42},"t/ha"]
[444,{"$f":"B375","v":"Dél-Alföld"},2001,"cukorrépa+repce",51.03,"t/ha"]
[445,{"$f":"B376","v":"Dél-Dunántúl"},2001,"cukorrépa+repce",50.46,"t/ha"]
[446,{"$f":"B377","v":"Észak-Alföld"},2001,"cukorrépa+repce",44.73,"t/ha"]
[447,{"$f":"B378","v":"Észak-Magyarország"},2001,"cukorrépa+repce",38,"t/ha"]
[448,{"$f":"B379","v":"Közép-Dunántúl"},2001,"cukorrépa+repce",39.01,"t/ha"]
[449,{"$f":"B380","v":"Közép-Magyarország"},2001,"cukorrépa+repce",52.74,"t/ha"]
[450,{"$f":"B381","v":"Nyugat-Dunántúl"},2001,"cukorrépa+repce",34,"t/ha"]
[451,{"$f":"B382","v":"Dél-Alföld"},2002,"cukorrépa+repce",43.51,"t/ha"]
[452,{"$f":"B383","v":"Dél-Dunántúl"},2002,"cukorrépa+repce",58.78,"t/ha"]
[453,{"$f":"B384","v":"Észak-Alföld"},2002,"cukorrépa+repce",41.35,"t/ha"]
[454,{"$f":"B385","v":"Észak-Magyarország"},2002,"cukorrépa+repce",0,"t/ha"]
[455,{"$f":"B386","v":"Közép-Dunántúl"},2002,"cukorrépa+repce",0,"t/ha"]
[456,{"$f":"B387","v":"Közép-Magyarország"},2002,"cukorrépa+repce",26.62,"t/ha"]
[457,{"$f":"B388","v":"Nyugat-Dunántúl"},2002,"cukorrépa+repce",44.22,"t/ha"]
[458,{"$f":"B389","v":"Dél-Alföld"},2003,"cukorrépa+repce",44.51,"t/ha"]
[459,{"$f":"B390","v":"Dél-Dunántúl"},2003,"cukorrépa+repce",39.130000000000003,"t/ha"]
[460,{"$f":"B391","v":"Észak-Alföld"},2003,"cukorrépa+repce",41.44,"t/ha"]
[461,{"$f":"B392","v":"Észak-Magyarország"},2003,"cukorrépa+repce",40,"t/ha"]
[462,{"$f":"B393","v":"Közép-Dunántúl"},2003,"cukorrépa+repce",0,"t/ha"]
[463,{"$f":"B394","v":"Közép-Magyarország"},2003,"cukorrépa+repce",41.99,"t/ha"]
[464,{"$f":"B395","v":"Nyugat-Dunántúl"},2003,"cukorrépa+repce",39.479999999999997,"t/ha"]
[465,{"$f":"B396","v":"Dél-Alföld"},2004,"cukorrépa+repce",49.95,"t/ha"]
[466,{"$f":"B397","v":"Dél-Dunántúl"},2004,"cukorrépa+repce",51.42,"t/ha"]
[467,{"$f":"B398","v":"Észak-Alföld"},2004,"cukorrépa+repce",54.34,"t/ha"]
[468,{"$f":"B399","v":"Észak-Magyarország"},2004,"cukorrépa+repce",59.99,"t/ha"]
[469,{"$f":"B400","v":"Közép-Dunántúl"},2004,"cukorrépa+repce",15.01,"t/ha"]
[470,{"$f":"B401","v":"Közép-Magyarország"},2004,"cukorrépa+repce",56.93,"t/ha"]
[471,{"$f":"B402","v":"Nyugat-Dunántúl"},2004,"cukorrépa+repce",45.58,"t/ha"]
[472,{"$f":"B403","v":"Dél-Alföld"},2005,"cukorrépa+repce",46,"t/ha"]
[473,{"$f":"B404","v":"Dél-Dunántúl"},2005,"cukorrépa+repce",70.599999999999994,"t/ha"]
[474,{"$f":"B405","v":"Észak-Alföld"},2005,"cukorrépa+repce",44.43,"t/ha"]
[475,{"$f":"B406","v":"Észak-Magyarország"},2005,"cukorrépa+repce",60,"t/ha"]
[476,{"$f":"B407","v":"Közép-Dunántúl"},2005,"cukorrépa+repce",57.89,"t/ha"]
[477,{"$f":"B408","v":"Közép-Magyarország"},2005,"cukorrépa+repce",56.29,"t/ha"]
[{"$f":"A478+1","v":478},{"$f":"B409","v":"Nyugat-Dunántúl"},2005,"cukorrépa+repce",61.02,"t/ha"]
[479,{"$f":"B410","v":"Dél-Alföld"},2006,"cukorrépa+repce",75,"t/ha"]
[480,{"$f":"B411","v":"Dél-Dunántúl"},2006,"cukorrépa+repce",71.56,"t/ha"]
[481,{"$f":"B412","v":"Észak-Alföld"},2006,"cukorrépa+repce",49.87,"t/ha"]
[482,{"$f":"B413","v":"Észak-Magyarország"},2006,"cukorrépa+repce",57.98,"t/ha"]
[483,{"$f":"B414","v":"Közép-Dunántúl"},2006,"cukorrépa+repce",56.4,"t/ha"]
[484,{"$f":"B415","v":"Közép-Magyarország"},2006,"cukorrépa+repce",55.2,"t/ha"]
[485,{"$f":"B416","v":"Nyugat-Dunántúl"},2006,"cukorrépa+repce",51.48,"t/ha"]
[486,{"$f":"B417","v":"Dél-Alföld"},2007,"cukorrépa+repce",50,"t/ha"]
[487,{"$f":"B418","v":"Dél-Dunántúl"},2007,"cukorrépa+repce",57.91,"t/ha"]
[488,{"$f":"B419","v":"Észak-Alföld"},2007,"cukorrépa+repce",31.72,"t/ha"]
[489,{"$f":"B420","v":"Észak-Magyarország"},2007,"cukorrépa+repce",41.16,"t/ha"]
[490,{"$f":"B421","v":"Közép-Dunántúl"},2007,"cukorrépa+repce",0,"t/ha"]
[491,{"$f":"B422","v":"Közép-Magyarország"},2007,"cukorrépa+repce",39.67,"t/ha"]
[492,{"$f":"B423","v":"Nyugat-Dunántúl"},2007,"cukorrépa+repce",41.7,"t/ha"]
[493,{"$f":"B424","v":"Dél-Alföld"},2008,"cukorrépa+repce",2.08,"t/ha"]
[494,{"$f":"B425","v":"Dél-Dunántúl"},2008,"cukorrépa+repce",2.67,"t/ha"]
[495,{"$f":"B426","v":"Észak-Alföld"},2008,"cukorrépa+repce",2.38,"t/ha"]
[496,{"$f":"B427","v":"Észak-Magyarország"},2008,"cukorrépa+repce",2.2200000000000002,"t/ha"]
[497,{"$f":"B428","v":"Közép-Dunántúl"},2008,"cukorrépa+repce",2.77,"t/ha"]
[498,{"$f":"B429","v":"Közép-Magyarország"},2008,"cukorrépa+repce",2.31,"t/ha"]
[499,{"$f":"B430","v":"Nyugat-Dunántúl"},2008,"cukorrépa+repce",2.68,"t/ha"]
[500,{"$f":"B431","v":"Dél-Alföld"},2009,"cukorrépa+repce",1.62,"t/ha"]
[501,{"$f":"B432","v":"Dél-Dunántúl"},2009,"cukorrépa+repce",3.02,"t/ha"]
[502,{"$f":"B433","v":"Észak-Alföld"},2009,"cukorrépa+repce",1.81,"t/ha"]
[503,{"$f":"B434","v":"Észak-Magyarország"},2009,"cukorrépa+repce",1.8,"t/ha"]
[504,{"$f":"B435","v":"Közép-Dunántúl"},2009,"cukorrépa+repce",2.25,"t/ha"]
[505,{"$f":"B436","v":"Közép-Magyarország"},2009,"cukorrépa+repce",1.51,"t/ha"]
[506,{"$f":"B437","v":"Nyugat-Dunántúl"},2009,"cukorrépa+repce",2.59,"t/ha"]
[]
[null,null,null,"ellenőrzőösszeg",{"$f":"SUM(E2:E507)","v":5224.4500000000035},{"$f":"SUM(E62:E77)","v":63.14},{"$f":"E509-F509","v":5161.3100000000031}]
[null,null,null,"ellenőrzőösszeg",{"$f":"SUM('db2'!N16:W22)","v":5161.3100000000031},null,{"$f":"G509-E510","v":0}]

{"sheet":"db2","index":2,"n_rows":99,"n_cols":36,"rows_kept":99,"cut":false,"hidden":false,"merged":[]}
["Bezár",null,null,null,null,null,null,null,null,null,null,null,"Bezár",null,null,null,null,null,null,null,null,null,null,null,null,"Bezár"]
["búza",2000,2001,2002,2003,2004,2005,2006,2007,2008,2009,null,"7 növény",2000,2001,2002,2003,2004,2005,2006,2007,2008,2009,null,null,"búza",2000,2001,2002,2003,2004,2005,2006,2007,2008,2009]
[null,"t/ha","t/ha","t/ha","t/ha","t/ha","t/ha","t/ha","t/ha","t/ha","t/ha",null,null,{"$f":"B3","v":"t/ha"},{"$f":"C3","v":"t/ha"},"t/ha","t/ha","t/ha","t/ha","t/ha","t/ha","t/ha","t/ha",null,null,null,"t/ha","t/ha","t/ha","t/ha","t/ha","t/ha","t/ha","t/ha","t/ha","t/ha"]
["Dél-Alföld",4.0199999999999996,4.45,3.66,2.87,5.79,4.53,4.24,3.76,5.18,3.71,null,"Dél-Alföld",61.99,92.14,80.290000000000006,75.03,97.73,89.24,120.57,89.05,53.07,50.91,null,null,"Dél-Alföld",{"$f":"RANK(B4,B$4:B$10,0)","v":3},{"$f":"RANK(C4,C$4:C$10,0)","v":2},{"$f":"RANK(D4,D$4:D$10,0)","v":4},{"$f":"RANK(E4,E$4:E$10,0)","v":3},{"$f":"RANK(F4,F$4:F$10,0)","v":1},{"$f":"RANK(G4,G$4:G$10,0)","v":4},{"$f":"RANK(H4,H$4:H$10,0)","v":4},{"$f":"RANK(I4,I$4:I$10,0)","v":3},{"$f":"RANK(J4,J$4:J$10,0)","v":3},{"$f":"RANK(K4,K$4:K$10,0)","v":3}]
["Dél-Dunántúl",4.0999999999999996,4.7699999999999996,4.7300000000000004,3.49,5.15,4.62,4.5599999999999996,3.82,5.58,4.9800000000000004,null,"Dél-Dunántúl",54.58,83.35,98.42,68.2,111.44,122.33,118.19,86.01,40.06,45.33,null,null,"Dél-Dunántúl",{"$f":"RANK(B5,B$4:B$10,0)","v":1},1,1,1,3,2,1,2,1,1]
["Észak-Alföld",3.07,4.01,2.98,2.39,5.46,4.12,3.17,3.02,4.75,3.68,null,"Észak-Alföld",78.260000000000005,88.28,75.209999999999994,76.959999999999994,98.56,94.43,94.33,66.849999999999994,44.55,52.86,null,null,"Észak-Alföld",6,6,5,5,2,7,7,6,5,5]
["Észak-Magyarország",2.59,4.01,2.91,1.88,4.47,4.4400000000000004,3.84,3.15,4.4800000000000004,3.65,null,"Észak-Magyarország",55.34,70.58,33.17,61.48,109.11,105.31,98.4,55.37,54.13,19.899999999999999,null,null,"Észak-Magyarország",7,6,7,6,7,6,6,5,7,6]
["Közép-Dunántúl",4.03,4.32,3.9,2.46,5.08,4.93,4.37,3.37,5.38,3.69,null,"Közép-Dunántúl",53.6,67.48,35.799999999999997,23.45,57.63,94.74,91.4,34.520000000000003,31.03,47.76,null,null,"Közép-Dunántúl",2,5,3,4,6,1,3,4,2,4]
["Közép-Magyarország",3.51,4.3600000000000003,2.92,1.56,5.12,4.6100000000000003,4.1100000000000003,3,4.8499999999999996,3.19,null,"Közép-Magyarország",66.400000000000006,86.02,56.92,71.77,113.16,99.69,103.26,82.77,50.37,38.99,null,null,"Közép-Magyarország",5,4,6,7,5,3,5,7,4,7]
["Nyugat-Dunántúl",4.0199999999999996,4.45,4.16,3.06,5.15,4.4800000000000004,4.49,4.08,4.68,4.6900000000000004,null,"Nyugat-Dunántúl",78.59,74.930000000000007,77.099999999999994,66.319999999999993,99.96,110.27,97.56,82.8,41.93,54.08,null,null,"Nyugat-Dunántúl",3,2,2,2,3,5,2,1,6,2]
["Bezár",null,null,null,null,null,null,null,null,null,null,null,"Bezár",null,null,null,null,null,null,null,null,null,null,null,null,"Bezár"]
[null,null,null,null,null,null,null,null,null,null,{"$f":"SUM(B4:K10)","v":282.10000000000008}]
["Bezár",null,null,null,null,null,null,null,null,null,null,null,"Bezár",null,null,null,null,null,null,null,null,null,null,null,null,"Bezár"]
["kukorica",2000,2001,2002,2003,2004,2005,2006,2007,2008,2009,null,"7 növény",2000,2001,2002,2003,2004,2005,2006,2007,2008,2009,null,null,"kukorica",2000,2001,2002,2003,2004,2005,2006,2007,2008,2009]
[null,{"$f":"B3","v":"t/ha"},{"$f":"C3","v":"t/ha"},"t/ha","t/ha","t/ha","t/ha","t/ha","t/ha","t/ha","t/ha",null,null,{"$f":"B15","v":"t/ha"},{"$f":"C15","v":"t/ha"},{"$f":"D15","v":"t/ha"},{"$f":"E15","v":"t/ha"},{"$f":"F15","v":"t/ha"},{"$f":"G15","v":"t/ha"},{"$f":"H15","v":"t/ha"},{"$f":"I15","v":"t/ha"},{"$f":"J15","v":"t/ha"},{"$f":"K15","v":"t/ha"},null,null,null,{"$f":"AA3","v":"t/ha"},{"$f":"AB3","v":"t/ha"},"t/ha","t/ha","t/ha","t/ha","t/ha","t/ha","t/ha","t/ha"]
["Dél-Alföld",4.46,7.67,5.46,3.4,7.46,7.87,7.36,4.3499999999999996,7.32,5.97,null,"Dél-Alföld",{"$f":"B4+B16+B28+B40+B52+B77+B89","v":61.99},{"$f":"C4+C16+C28+C40+C52+C77+C89","v":92.14},80.290000000000006,75.03,97.73,89.24,120.57000000000001,89.050000000000011,53.07,50.91,null,null,"Dél-Alföld",{"$f":"RANK(B16,B$16:B$22,0)","v":3},{"$f":"RANK(C16,C$16:C$22,0)","v":1},{"$f":"RANK(D16,D$16:D$22,0)","v":4},{"$f":"RANK(E16,E$16:E$22,0)","v":6},{"$f":"RANK(F16,F$16:F$22,0)","v":3},{"$f":"RANK(G16,G$16:G$22,0)","v":4},{"$f":"RANK(H16,H$16:H$22,0)","v":3},{"$f":"RANK(I16,I$16:I$22,0)","v":3},{"$f":"RANK(J16,J$16:J$22,0)","v":6},{"$f":"RANK(K16,K$16:K$22,0)","v":5}]
["Dél-Dunántúl",4.76,7.28,6.61,4.42,8.11,8.36,7.87,3.24,8.23,7.46,null,"Dél-Dunántúl",{"$f":"B5+B17+B29+B41+B53+B78+B90","v":54.580000000000005},83.350000000000009,98.42,68.2,111.44,122.33,118.19,86.01,40.060000000000009,45.33,null,null,"Dél-Dunántúl",{"$f":"RANK(B17,B$16:B$22,0)","v":2},2,2,2,1,2,1,7,4,3]
["Észak-Alföld",3.83,7.13,4.93,5.08,8.02,7.8,6.59,4.7,8.65,6.46,null,"Észak-Alföld",{"$f":"B6+B18+B30+B42+B54+B79+B91","v":78.260000000000005},88.279999999999987,75.210000000000008,76.959999999999994,98.560000000000016,94.43,94.33,66.849999999999994,44.550000000000004,52.86,null,null,"Észak-Alföld",5,3,6,1,2,5,6,2,2,4]
["Észak-Magyarország",2.63,5.4,5.27,4.0199999999999996,5.67,6.47,5.67,3.8,6.04,5.31,null,"Észak-Magyarország",{"$f":"B7+B19+B31+B43+B55+B80+B92","v":55.339999999999996},70.579999999999984,33.169999999999995,61.47999999999999,109.11,105.31,98.4,55.37,54.13,19.899999999999999,null,null,"Észak-Magyarország",7,6,5,4,7,7,7,4,7,6]
["Közép-Dunántúl",4.97,7.03,6.63,3.89,7.3,8.98,7.58,3.7,8.73,7.5,null,"Közép-Dunántúl",{"$f":"B8+B20+B32+B44+B56+B81+B93","v":53.6},67.48,35.799999999999997,23.449999999999996,57.629999999999995,94.740000000000009,91.399999999999991,34.520000000000003,31.029999999999998,47.759999999999991,null,null,"Közép-Dunántúl",1,4,1,5,4,1,2,5,1,2]
["Közép-Magyarország",3.44,6.52,3.88,2.81,6.16,7.72,6.84,3.27,7.8,5.3,null,"Közép-Magyarország",{"$f":"B9+B21+B33+B45+B57+B82+B94","v":66.399999999999991},86.02,56.92,71.77,113.16,99.690000000000012,103.26,82.77000000000001,50.370000000000005,38.989999999999995,null,null,"Közép-Magyarország",6,5,7,7,6,6,5,6,5,7]
["Nyugat-Dunántúl",4.45,4.2699999999999996,6.12,4.18,6.77,8.01,7.13,4.72,8.48,8.1199999999999992,null,"Nyugat-Dunántúl",{"$f":"B10+B22+B34+B46+B58+B83+B95","v":78.589999999999989},74.930000000000007,77.09999999999998,66.319999999999993,99.96,110.27000000000001,97.560000000000016,82.800000000000011,41.93,54.079999999999991,null,null,"Nyugat-Dunántúl",4,7,3,3,5,3,4,1,3,1]
["Bezár",null,null,null,null,null,null,null,null,null,null,null,"Bezár",null,null,null,null,null,null,null,null,null,null,null,null,"Bezár"]
[null,null,null,null,null,null,null,null,null,null,{"$f":"SUM(B16:K22)","v":423.43000000000006}]
["Bezár",null,null,null,null,null,null,null,null,null,null,null,"Bezár"]
["burgonya",2000,2001,2002,2003,2004,2005,2006,2007,2008,2009,null,"7 növény",2000,2001,2002,2003,2004,2005,2006,2007,2008,2009]
[null,{"$f":"B15","v":"t/ha"},{"$f":"C15","v":"t/ha"},"t/ha","t/ha","t/ha","t/ha","t/ha","t/ha","t/ha","t/ha",null,null,{"$f":"B27","v":"t/ha"},{"$f":"C27","v":"t/ha"},{"$f":"D27","v":"t/ha"},{"$f":"E27","v":"t/ha"},{"$f":"F27","v":"t/ha"},{"$f":"G27","v":"t/ha"},{"$f":"H27","v":"t/ha"},{"$f":"I27","v":"t/ha"},{"$f":"J27","v":"t/ha"},{"$f":"K27","v":"t/ha"}]
["Dél-Alföld",18.690000000000001,20.82,19.78,19.170000000000002,24.81,21.64,26.22,23.69,28.1,32.47,null,"Dél-Alföld",{"$f":"N4-N16","v":0},{"$f":"O4-O16","v":0},0,0,0,0,0,0,0,0]
["Dél-Dunántúl",8.52,14.23,21.8,13.7,34.22,27.14,23.31,14.43,16.43,18.59,null,"Dél-Dunántúl",{"$f":"N5-N17","v":0},0,0,0,0,0,0,0,0,0]
["Észak-Alföld",20.75,24.79,20.84,22.43,20.47,31.11,28.96,21.26,20.18,33.61,null,"Észak-Alföld",{"$f":"N6-N18","v":0},0,0,0,0,0,0,0,0,0]
["Észak-Magyarország",15.84,18.079999999999998,21.24,10.84,29.34,24.99,22.5,0,31,0,null,"Észak-Magyarország",{"$f":"N7-N19","v":0},0,0,0,0,0,0,0,0,0]
["Közép-Dunántúl",5.69,8.67,18.440000000000001,11.01,20.309999999999999,14.14,15.32,18.71,3.86,25.6,null,"Közép-Dunántúl",{"$f":"N8-N20","v":0},0,0,0,0,0,0,0,0,0]
["Közép-Magyarország",16,13.2,17.59,21.44,35.840000000000003,21.71,28.12,30.89,26.3,22.78,null,"Közép-Magyarország",{"$f":"N9-N21","v":0},0,0,0,0,0,0,0,0,0]
["Nyugat-Dunántúl",25.18,23.95,15.94,11.95,32.659999999999997,26.65,25.94,23.4,14.56,32.119999999999997,null,"Nyugat-Dunántúl",{"$f":"N10-N22","v":0},0,0,0,0,0,0,0,0,0]
["Bezár",null,null,null,null,null,null,null,null,null,null,null,"Bezár"]
[null,null,null,null,null,null,null,null,null,null,{"$f":"SUM(B28:K34)","v":1453.9600000000005}]
["Bezár"]
["rozs",2000,2001,2002,2003,2004,2005,2006,2007,2008,2009]
[null,{"$f":"B27","v":"t/ha"},{"$f":"C27","v":"t/ha"},"t/ha","t/ha","t/ha","t/ha","t/ha","t/ha","t/ha","t/ha"]
["Dél-Alföld",1.38,2.14,2.2799999999999998,0.61,2.73,3.24,1.71,1.18,2.36,1.26]
["Dél-Dunántúl",0,0,0,1.85,4.8,4.88,4.03,0,0,3.8]
["Észak-Alföld",1,1.85,1.6,2.02,3.06,0.88,1.87,1.05,1.5,2.16]
["Észak-Magyarország",0,0,0,2,3.5,3,2.6,2.2999999999999998,3.59,3.4]
["Közép-Dunántúl",0,2.2400000000000002,2.5,1.29,2.73,1.98,1.5,2.81,2.3199999999999998,3.09]
["Közép-Magyarország",2.06,2.4500000000000002,1.75,0.51,2.4900000000000002,3.13,3.02,1.57,2.29,1.1599999999999999]
["Nyugat-Dunántúl",2.46,2.4500000000000002,2.54,2.2599999999999998,3.34,3.58,2.7,2.72,3.89,0]
["Bezár"]
[null,null,null,null,null,null,null,null,null,null,{"$f":"SUM(B40:K46)","v":142.46}]
["Bezár"]
["cukorrépa",2000,2001,2002,2003,2004,2005,2006,2007,{"$f":"J62","v":2008},{"$f":"K62","v":2009}]
[null,{"$f":"B39","v":"t/ha"},null,null,null,null,null,null,null,{"$f":"J63","v":"t/ha"},"t/ha"]
["Dél-Alföld",29.05,51.03,43.51,44.51,49.95,46,75,50,{"$f":"J64","v":2.08},1.62]
["Dél-Dunántúl",31.46,50.46,58.78,39.130000000000003,51.42,70.599999999999994,71.56,57.91,{"$f":"J65","v":2.67},3.02]
["Észak-Alföld",45.24,44.73,41.35,41.44,54.34,44.43,49.87,31.72,{"$f":"J66","v":2.38},1.81]
["Észak-Magyarország",29.2,38,0,40,59.99,60,57.98,41.16,{"$f":"J67","v":2.2200000000000002},1.8]
["Közép-Dunántúl",33.82,39.01,0,0,15.01,57.89,56.4,0,{"$f":"J68","v":2.77},2.25]
["Közép-Magyarország",36.33,52.74,26.62,41.99,56.93,56.29,55.2,39.67,{"$f":"J69","v":2.31},1.51]
["Nyugat-Dunántúl",37.42,34,44.22,39.479999999999997,45.58,61.02,51.48,41.7,{"$f":"J70","v":2.68},2.59]
["Bezár"]
[null,null,null,null,null,null,null,null,null,null,{"$f":"SUM(B52:K58)","v":2454.3299999999995}]
[null,null,null,null,null,null,null,null,"Bezár"]
[null,null,null,null,null,null,null,null,"repce",2008,2009]
[null,null,null,null,null,null,null,null,null,{"$f":"B39","v":"t/ha"},{"$f":"C39","v":"t/ha"}]
[null,null,null,null,null,null,null,null,"Dél-Alföld",2.08,1.62]
[null,null,null,null,null,null,null,null,"Dél-Dunántúl",2.67,3.02]
[null,null,null,null,null,null,null,null,"Észak-Alföld",2.38,1.81]
[null,null,null,null,null,null,null,null,"Észak-Magyarország",2.2200000000000002,1.8]
[null,null,null,null,null,null,null,null,"Közép-Dunántúl",2.77,2.25]
[null,null,null,null,null,null,null,null,"Közép-Magyarország",2.31,1.51]
[null,null,null,null,null,null,null,null,"Nyugat-Dunántúl",2.68,2.59]
[null,null,null,null,null,null,null,null,"Bezár"]
[]
[]
["Bezár"]
["őszi árpa",2000,2001,2002,2003,2004,2005,2006,2007,2008,2009]
[null,{"$f":"B39","v":"t/ha"}]
["Dél-Alföld",2.95,4.05,3.56,2.5099999999999998,4.41,3.91,3.92,3.76,5.31,3.45]
["Dél-Dunántúl",3.63,4.5599999999999996,4.1100000000000003,3.19,4.7,4.25,4.45,4.1500000000000004,4.13,4.59]
["Észak-Alföld",2.93,4.21,1.64,1.74,5.04,4.09,2.04,2.96,4.17,2.86]
["Észak-Magyarország",3.96,3.32,2.38,1.23,3.95,4.16,3.84,3.18,4.3499999999999996,3.56]
["Közép-Dunántúl",3.04,3.92,2.15,2.4,4.43,4.29,3.91,3.8,4.99,3.15]
["Közép-Magyarország",3.53,4.41,2.2200000000000002,1.83,4.3,4.18,3.83,2.4,4.17,2.98]
["Nyugat-Dunántúl",3.35,3.86,2.1,2.93,4.05,4.03,3.4,4.2300000000000004,4.8099999999999996,4.16]
["Bezár"]
[null,null,null,null,null,null,null,null,null,null,{"$f":"SUM(B77:K83)","v":252.05000000000007}]
["Bezár"]
["napraforgó",2000,2001,2002,2003,2004,2005,2006,2007,2008,2009]
[null,{"$f":"B39","v":"t/ha"}]
["Dél-Alföld",1.44,1.98,2.04,1.96,2.58,2.0499999999999998,2.12,2.31,2.72,2.4300000000000002]
["Dél-Dunántúl",2.11,2.0499999999999998,2.39,2.42,3.04,2.48,2.41,2.46,3.02,2.89]
["Észak-Alföld",1.44,1.56,1.87,1.86,2.17,2,1.83,2.14,2.92,2.2799999999999998]
["Észak-Magyarország",1.1200000000000001,1.77,1.37,1.51,2.19,2.25,1.97,1.78,2.4500000000000002,2.1800000000000002]
["Közép-Dunántúl",2.0499999999999998,2.29,2.1800000000000002,2.4,2.77,2.5299999999999998,2.3199999999999998,2.13,2.98,2.48]
["Közép-Magyarország",1.53,2.34,1.94,1.63,2.3199999999999998,2.0499999999999998,2.14,1.97,2.65,2.0699999999999998]
["Nyugat-Dunántúl",1.71,1.95,2.02,2.46,2.41,2.5,2.42,1.95,2.83,2.4]
["Bezár"]
[null,null,null,null,null,null,null,null,null,null,{"$f":"SUM(B89:K95)","v":152.98000000000002}]
[]
[null,null,null,null,null,null,null,null,null,null,{"$f":"K97+K85+K60+K48+K36+K24+K12","v":5161.3100000000013}]

{"sheet":"pivot_alap","index":3,"n_rows":8,"n_cols":7,"rows_kept":8,"cut":false,"hidden":false,"merged":[]}
["id","objektum","attribútum","érték","mértékegység","forrás","év"]
[1,{"$f":"'db2'!A4","v":"Dél-Alföld"},{"$f":"'db2'!A2","v":"búza"},{"$f":"'db2'!B4","v":4.0199999999999996},"t/ha","fadn",{"$f":"'db2'!B2","v":2000}]
[2,{"$f":"'db2'!A5","v":"Dél-Dunántúl"},{"$f":"C2","v":"búza"},{"$f":"'db2'!B5","v":4.0999999999999996},{"$f":"E2","v":"t/ha"},"fadn",{"$f":"G2","v":2000}]
[3,{"$f":"'db2'!A6","v":"Észak-Alföld"},{"$f":"C3","v":"búza"},{"$f":"'db2'!B6","v":3.07},"t/ha","fadn",{"$f":"G3","v":2000}]
[4,{"$f":"'db2'!A7","v":"Észak-Magyarország"},"búza",{"$f":"'db2'!B7","v":2.59},"t/ha","fadn",2000]
[5,{"$f":"'db2'!A8","v":"Közép-Dunántúl"},"búza",{"$f":"'db2'!B8","v":4.03},"t/ha","fadn",2000]
[6,{"$f":"'db2'!A9","v":"Közép-Magyarország"},"búza",{"$f":"'db2'!B9","v":3.51},"t/ha","fadn",2000]
[7,{"$f":"'db2'!A10","v":"Nyugat-Dunántúl"},"búza",{"$f":"'db2'!B10","v":4.0199999999999996},"t/ha","fadn",2000]

{"sheet":"mo","index":4,"n_rows":66,"n_cols":25,"rows_kept":66,"cut":false,"hidden":false,"merged":[]}
["Bezár"]
["Üzemek száma",2000,2001,2002,2003,2004,2005,2006,2007,2008,2009]
[null,"darab üzem","darab üzem","darab üzem","darab üzem","darab üzem","darab üzem","darab üzem","darab üzem","darab üzem","darab üzem"]
["Dél-Alföld",104,131,167,216,218,202,186,203,201,202]
["Dél-Dunántúl",111,100,102,110,105,101,96,99,101,100]
["Észak-Alföld",139,126,132,164,173,159,154,163,160,154]
["Észak-Magyarország",93,83,61,72,77,60,56,68,68,67]
["Közép-Dunántúl",86,100,85,94,104,98,94,100,96,93]
["Közép-Magyarország",52,54,73,67,68,59,57,59,58,57]
["Nyugat-Dunántúl",106,98,72,77,105,106,96,99,105,102]
["Bezár"]
[]
["Bezár"]
["burgonya vetésterület",2000,2001,2002,2003,2004,2005,2006,2007,2008,2009]
[null,"ha/üzem","ha/üzem","ha/üzem","ha/üzem","ha/üzem","ha/üzem","ha/üzem","ha/üzem","ha/üzem","ha/üzem"]
["Dél-Alföld",0.11,0.28000000000000003,0.08,0.18,0.31,0.24,0.2,0.24,0.2,0.18]
["Dél-Dunántúl",0.28999999999999998,0.56999999999999995,0.06,0.09,0.05,0.08,0.03,0.05,0.06,0.03]
["Észak-Alföld",0.37,0.2,0.04,7.0000000000000007E-2,7.0000000000000007E-2,0.05,0.04,0.19,0.05,0.02]
["Észak-Magyarország",0.4,0.56000000000000005,0.18,0.27,0.14000000000000001,0.09,0.02,0,0.02,0]
["Közép-Dunántúl",0.13,0.08,0.03,0.4,0.47,0.55000000000000004,0.27,0.23,0.23,0.36]
["Közép-Magyarország",0.03,7.0000000000000007E-2,0.19,0.46,0.13,0.31,0.12,7.0000000000000007E-2,7.0000000000000007E-2,0.19]
["Nyugat-Dunántúl",0.79,0.61,0.34,0.32,0.1,0.12,0.12,0.12,0.27,0.16]
["Bezár"]
[]
[]
["Bezár"]
["burgonya vetésterület",2000,2001,2002,2003,2004,2005,2006,2007,2008,2009]
[null,"hektár","hektár","hektár","hektár","hektár","hektár","hektár","hektár","hektár","hektár"]
["Dél-Alföld",{"$f":"B16*B4","v":11.44},{"$f":"C16*C4","v":36.680000000000007},13.36,38.879999999999995,67.58,48.48,37.200000000000003,48.72,40.200000000000003,36.36]
["Dél-Dunántúl",{"$f":"B17*B5","v":32.19},56.999999999999993,6.12,9.9,5.25,8.08,2.88,4.95,6.06,3]
["Észak-Alföld",{"$f":"B18*B6","v":51.43},25.200000000000003,5.28,11.48,12.110000000000001,7.95,6.16,30.97,8,3.08]
["Észak-Magyarország",{"$f":"B19*B7","v":37.200000000000003},46.480000000000004,10.98,19.440000000000001,10.780000000000001,5.3999999999999995,1.1200000000000001,0,1.36,0]
["Közép-Dunántúl",{"$f":"B20*B8","v":11.18},8,2.5499999999999998,37.6,48.879999999999995,53.900000000000006,25.380000000000003,23,22.080000000000002,33.479999999999997]
["Közép-Magyarország",{"$f":"B21*B9","v":1.56},3.7800000000000002,13.870000000000001,30.82,8.84,18.29,6.84,4.1300000000000008,4.0600000000000005,10.83]
["Nyugat-Dunántúl",{"$f":"B22*B10","v":83.740000000000009},59.78,24.48,24.64,10.5,12.719999999999999,11.52,11.879999999999999,28.35,16.32]
["Bezár"]
["összesen",{"$f":"SUM(B29:B35)","v":228.74},{"$f":"SUM(C29:C35)","v":236.92000000000002},76.64,172.76,163.94,154.82,91.100000000000009,123.64999999999999,110.11000000000001,103.07]
[]
["Bezár"]
["burgonya",2000,2001,2002,2003,2004,2005,2006,2007,2008,2009,null,{"$f":"B40","v":2000},{"$f":"C40","v":2001},{"$f":"D40","v":2002},{"$f":"E40","v":2003},{"$f":"F40","v":2004},{"$f":"G40","v":2005},{"$f":"H40","v":2006},{"$f":"I40","v":2007},{"$f":"J40","v":2008},{"$f":"K40","v":2009},"burg","kuk","buz"]
[null,"t/ha","t/ha","t/ha","t/ha","t/ha","t/ha","t/ha","t/ha","t/ha","t/ha",null,{"$f":"B41","v":"t/ha"},"t/ha","t/ha","t/ha","t/ha","t/ha","t/ha","t/ha","t/ha","t/ha","szórás","szórás","szórás"]
["Dél-Alföld",18.690000000000001,20.82,19.78,19.170000000000002,24.81,21.64,26.22,23.69,28.1,32.47,null,{"$f":"RANK(B42,B$42:B$49,0)","v":4},{"$f":"RANK(C42,C$42:C$49,0)","v":3},{"$f":"RANK(D42,D$42:D$49,0)","v":4},{"$f":"RANK(E42,E$42:E$49,0)","v":3},{"$f":"RANK(F42,F$42:F$49,0)","v":6},{"$f":"RANK(G42,G$42:G$49,0)","v":6},{"$f":"RANK(H42,H$42:H$49,0)","v":3},{"$f":"RANK(I42,I$42:I$49,0)","v":2},{"$f":"RANK(J42,J$42:J$49,0)","v":2},{"$f":"RANK(K42,K$42:K$49,0)","v":2},{"$f":"STDEV(M42:V42)","v":1.509230856356236},{"$f":"STDEV('db2'!AA16:AJ16)","v":1.5491933384829666},{"$f":"STDEV('db2'!AA4:AJ4)","v":0.94280904158206336}]
["Dél-Dunántúl",8.52,14.23,21.8,13.7,34.22,27.14,23.31,14.43,16.43,18.59,null,{"$f":"RANK(B43,B$42:B$49,0)","v":7},6,1,5,2,2,5,7,6,7,{"$f":"STDEV(M43:V43)","v":2.2997584414213783},{"$f":"STDEV('db2'!AA17:AJ17)","v":1.7763883459298973},{"$f":"STDEV('db2'!AA5:AJ5)","v":0.69920589878010087}]
["Észak-Alföld",20.75,24.79,20.84,22.43,20.47,31.11,28.96,21.26,20.18,33.61,null,2,1,3,1,7,1,1,5,5,1,2.2135943621178655,{"$f":"STDEV('db2'!AA18:AJ18)","v":1.837873166945363},{"$f":"STDEV('db2'!AA6:AJ6)","v":1.4298407059684803}]
["Észak-Magyarország",15.84,18.079999999999998,21.24,10.84,29.34,24.99,22.5,0,31,0,null,6,5,2,8,4,4,6,8,1,8,2.4855135843076339,{"$f":"STDEV('db2'!AA19:AJ19)","v":1.247219128924647},{"$f":"STDEV('db2'!AA7:AJ7)","v":0.67494855771055473}]
["Közép-Dunántúl",5.69,8.67,18.440000000000001,11.01,20.309999999999999,14.14,15.32,18.71,3.86,25.6,null,8,8,6,7,8,8,8,6,8,5,1.1352924243950946,{"$f":"STDEV('db2'!AA20:AJ20)","v":1.7126976771553508},{"$f":"STDEV('db2'!AA8:AJ8)","v":1.5055453054181622}]
["Közép-Magyarország",16,13.2,17.59,21.44,35.840000000000003,21.71,28.12,30.89,26.3,22.78,null,5,7,7,2,1,5,2,1,3,6,2.3781411975649291,{"$f":"STDEV('db2'!AA21:AJ21)","v":0.81649658092772603},{"$f":"STDEV('db2'!AA9:AJ9)","v":1.4181364924121773}]
["Magyarország",18.97,19.87,19.04,17.89,27.2,18.899999999999999,21.95,23.2,21.99,29.24,null,3,4,5,4,5,7,7,4,4,4,1.3374935098492584]
["Nyugat-Dunántúl",25.18,23.95,15.94,11.95,32.659999999999997,26.65,25.94,23.4,14.56,32.119999999999997,null,1,2,8,6,3,3,4,3,7,3,2.2607766610417559,{"$f":"STDEV('db2'!AA22:AJ22)","v":1.7763883459298973},{"$f":"STDEV('db2'!AA10:AJ10)","v":1.5491933384829666}]
["Bezár"]
[]
["Bezár"]
["burgonya vetésterület",2000,2001,2002,2003,2004,2005,2006,2007,2008,2009]
[null,"t","t","t","t","t","t","t","t","t","t"]
["Dél-Alföld",{"$f":"B42*B29","v":213.81360000000001},{"$f":"C42*C29","v":763.6776000000001},264.26080000000002,745.32960000000003,1676.6597999999999,1049.1071999999999,975.38400000000001,1154.1768,1129.6200000000001,1180.6091999999999]
["Dél-Dunántúl",{"$f":"B43*B30","v":274.25879999999995},811.1099999999999,133.416,135.63,179.655,219.2912,67.132799999999989,71.4285,99.565799999999996,55.769999999999996]
["Észak-Alföld",{"$f":"B44*B31","v":1067.1724999999999},624.70800000000008,110.0352,257.49639999999999,247.89170000000001,247.3245,178.39360000000002,658.42219999999998,161.44,103.5188]
["Észak-Magyarország",{"$f":"B45*B32","v":589.24800000000005},840.35839999999996,233.21519999999998,210.7296,316.28520000000003,134.94599999999997,25.200000000000003,0,42.160000000000004,0]
["Közép-Dunántúl",{"$f":"B46*B33","v":63.614200000000004},69.36,47.021999999999998,413.976,992.75279999999987,762.14600000000007,388.82160000000005,430.33000000000004,85.228800000000007,857.08799999999997]
["Közép-Magyarország",{"$f":"B47*B34","v":24.96},49.896000000000001,243.97330000000002,660.7808,316.82560000000001,397.07589999999999,192.3408,127.57570000000003,106.77800000000002,246.70740000000001]
["Nyugat-Dunántúl",{"$f":"B49*B35","v":2108.5732000000003},{"$f":"C49*C35","v":1431.731},390.21120000000002,294.44799999999998,342.92999999999995,338.98799999999994,298.8288,277.99199999999996,412.77600000000001,524.19839999999999]
["Bezár"]
["összesen",{"$f":"SUM(B55:B61)","v":4341.6403000000009},{"$f":"SUM(C55:C61)","v":4590.8410000000003},1422.1337000000001,2718.3904000000002,4073.0000999999993,3148.8787999999995,2126.1016,2719.9251999999997,2037.5686000000005,2967.8918000000003]
[{"$f":"A37","v":"összesen"},{"$f":"B37","v":228.74},{"$f":"C37","v":236.92000000000002},76.64,172.76,163.94,154.82,91.100000000000009,123.64999999999999,110.11000000000001,103.07]
["mo_átlag",{"$f":"B63/B64","v":18.980678062428961},{"$f":"C63/C64","v":19.377177950362992},18.556024269311067,15.735068302847884,24.844455898499447,20.338966541790462,23.338107574094398,21.996968863728263,18.504846063027884,28.794914136024065]
["eltérés",{"$f":"B48-B65","v":-1.0678062428961965E-2},{"$f":"C48-C65","v":0.49282204963700948},0.48397573068893252,2.1549316971521169,2.355544101500552,-1.4389665417904638,-1.3881075740943984,1.2030311362717363,3.4851539369721145,0.44508586397593319,{"$f":"AVERAGE(B66:K66)","v":0.77827923378845709}]

{"sheet":"ksh","index":5,"n_rows":103,"n_cols":7,"rows_kept":103,"cut":false,"hidden":false,"merged":[[4,0,101,0]]}
["Nyomtatás Módszertan",null,null,null,null,"https://www.ksh.hu/docs/hun/agrar/html/tabl1_4_3_2.html"]
[null,"4.3.2. Burgonya termésátlaga (1921–)"]
[null,"(kg/hektár)"]
[null,"Év","Burgonya"]
[null,1921,4640]
[null,1922,5140]
[null,1923,5100]
[null,1924,6110]
[null,1925,8750]
[null,1926,7380]
[null,1927,7690]
[null,1928,5510]
[null,1929,7650]
[null,1930,6670]
[null,1931,5040]
[null,1932,5200]
[null,1933,6250]
[null,1934,7270]
[null,1935,4850]
[null,1936,8240]
[null,1937,8640]
[null,1938,7340]
[null,1939,7280]
[null,1940,8510]
[null,1941,7730]
[null,1942,6800]
[null,1943,6830]
[null,1944,9910]
[null,1945,5350]
[null,1946,4080]
[null,1947,3810]
[null,1948,7640]
[null,1949,6620]
[null,1950,4830]
[null,1951,10090]
[null,1952,5210]
[null,1953,9560]
[null,1954,8450]
[null,1955,10720]
[null,1956,9340]
[null,1957,11250]
[null,1958,10830]
[null,1959,10280]
[null,1960,10510]
[null,1961,6810]
[null,1962,9010]
[null,1963,8740]
[null,1964,7860]
[null,1965,7190]
[null,1966,12280]
[null,1967,8940]
[null,1968,8920]
[null,1969,11350]
[null,1970,10410]
[null,1971,11570]
[null,1972,11090]
[null,1973,10940]
[null,1974,12590]
[null,1975,12640]
[null,1976,12060]
[null,1977,13450]
[null,1978,16200]
[null,1979,14410]
[null,1980,14960]
[null,1981,18200]
[null,1982,17340]
[null,1983,15920]
[null,1984,20160]
[null,1985,19580]
[null,1986,18630]
[null,1987,15970]
[null,1988,18500]
[null,1989,18600]
[null,1990,16920]
[null,1991,15760]
[null,1992,16850]
[null,1993,13310]
[null,1994,12770]
[null,1995,15780]
[null,1996,17790]
[null,1997,16280]
[null,1998,18850]
[null,1999,18390]
[null,2000,15290,{"$f":"mo!B48","v":18.97},18.97,{"$f":"TRANSPOSE(mo!B48:K48)","v":18.97},{"$f":"C84/1000-E84","v":-3.6799999999999997}]
[null,2001,21280,null,19.87,19.87,{"$f":"C85/1000-E85","v":1.4100000000000001}]
[null,2002,18280,null,19.04,19.04,-0.75999999999999801]
[null,2003,15660,null,17.89,17.89,-2.2300000000000004]
[null,2004,22760,null,27.2,27.2,-4.4399999999999977]
[null,2005,23020,null,18.899999999999999,18.899999999999999,4.120000000000001]
[null,2006,23450,null,21.95,21.95,1.5]
[null,2007,18970,null,23.2,23.2,-4.2300000000000004]
[null,2008,22280,null,21.99,21.99,0.2900000000000027]
[null,2009,21260,null,29.24,29.24,-7.9799999999999969]
[null,2010,20420,null,null,null,{"$f":"AVERAGE(G84:G93)","v":-1.599999999999999}]
[null,2011,25860]
[null,2012,20540]
[null,2013,21690]
[null,2014,25580]
[null,2015,22530]
[null,2016,24970]
[null,2017,21490]
[null,2018,22300]
["« Vissza"]

{"sheet":"OAM_darab","index":6,"n_rows":76,"n_cols":9,"rows_kept":76,"cut":false,"hidden":false,"merged":[]}
[]
[]
["Mennyiség / Érték",null,"Mutatószám","Mértékegység"]
[null,null,"burgonya","Búza *összesen*na.*na.","kukorica","napraforgó","őszi árpa","Rozs *összesen*na.*na.","Végösszeg"]
["Régió","Év","t/ha","t/ha","t/ha","t/ha","t/ha","t/ha"]
["Dél-Alföld",2000,1,1,1,1,1,1,6]
["Dél-Alföld",2001,1,1,1,1,1,1,6]
["Dél-Alföld",2002,1,1,1,1,1,1,6]
["Dél-Alföld",2003,1,1,1,1,1,1,6]
["Dél-Alföld",2004,1,1,1,1,1,1,6]
["Dél-Alföld",2005,1,1,1,1,1,1,6]
["Dél-Alföld",2006,1,1,1,1,1,1,6]
["Dél-Alföld",2007,1,1,1,1,1,1,6]
["Dél-Alföld",2008,1,1,1,1,1,1,6]
["Dél-Alföld",2009,1,1,1,1,1,1,6]
["Dél-Dunántúl",2000,1,1,1,1,1,1,6]
["Dél-Dunántúl",2001,1,1,1,1,1,1,6]
["Dél-Dunántúl",2002,1,1,1,1,1,1,6]
["Dél-Dunántúl",2003,1,1,1,1,1,1,6]
["Dél-Dunántúl",2004,1,1,1,1,1,1,6]
["Dél-Dunántúl",2005,1,1,1,1,1,1,6]
["Dél-Dunántúl",2006,1,1,1,1,1,1,6]
["Dél-Dunántúl",2007,1,1,1,1,1,1,6]
["Dél-Dunántúl",2008,1,1,1,1,1,1,6]
["Dél-Dunántúl",2009,1,1,1,1,1,1,6]
["Észak-Alföld",2000,1,1,1,1,1,1,6]
["Észak-Alföld",2001,1,1,1,1,1,1,6]
["Észak-Alföld",2002,1,1,1,1,1,1,6]
["Észak-Alföld",2003,1,1,1,1,1,1,6]
["Észak-Alföld",2004,1,1,1,1,1,1,6]
["Észak-Alföld",2005,1,1,1,1,1,1,6]
["Észak-Alföld",2006,1,1,1,1,1,1,6]
["Észak-Alföld",2007,1,1,1,1,1,1,6]
["Észak-Alföld",2008,1,1,1,1,1,1,6]
["Észak-Alföld",2009,1,1,1,1,1,1,6]
["Észak-Magyarország",2000,1,1,1,1,1,1,6]
["Észak-Magyarország",2001,1,1,1,1,1,1,6]
["Észak-Magyarország",2002,1,1,1,1,1,1,6]
["Észak-Magyarország",2003,1,1,1,1,1,1,6]
["Észak-Magyarország",2004,1,1,1,1,1,1,6]
["Észak-Magyarország",2005,1,1,1,1,1,1,6]
["Észak-Magyarország",2006,1,1,1,1,1,1,6]
["Észak-Magyarország",2007,1,1,1,1,1,1,6]
["Észak-Magyarország",2008,1,1,1,1,1,1,6]
["Észak-Magyarország",2009,1,1,1,1,1,1,6]
["Közép-Dunántúl",2000,1,1,1,1,1,1,6]
["Közép-Dunántúl",2001,1,1,1,1,1,1,6]
["Közép-Dunántúl",2002,1,1,1,1,1,1,6]
["Közép-Dunántúl",2003,1,1,1,1,1,1,6]
["Közép-Dunántúl",2004,1,1,1,1,1,1,6]
["Közép-Dunántúl",2005,1,1,1,1,1,1,6]
["Közép-Dunántúl",2006,1,1,1,1,1,1,6]
["Közép-Dunántúl",2007,1,1,1,1,1,1,6]
["Közép-Dunántúl",2008,1,1,1,1,1,1,6]
["Közép-Dunántúl",2009,1,1,1,1,1,1,6]
["Közép-Magyarország",2000,1,1,1,1,1,1,6]
["Közép-Magyarország",2001,1,1,1,1,1,1,6]
["Közép-Magyarország",2002,1,1,1,1,1,1,6]
["Közép-Magyarország",2003,1,1,1,1,1,1,6]
["Közép-Magyarország",2004,1,1,1,1,1,1,6]
["Közép-Magyarország",2005,1,1,1,1,1,1,6]
["Közép-Magyarország",2006,1,1,1,1,1,1,6]
["Közép-Magyarország",2007,1,1,1,1,1,1,6]
["Közép-Magyarország",2008,1,1,1,1,1,1,6]
["Közép-Magyarország",2009,1,1,1,1,1,1,6]
["Nyugat-Dunántúl",2000,1,1,1,1,1,1,6]
["Nyugat-Dunántúl",2001,1,1,1,1,1,1,6]
["Nyugat-Dunántúl",2002,1,1,1,1,1,1,6]
["Nyugat-Dunántúl",2003,1,1,1,1,1,1,6]
["Nyugat-Dunántúl",2004,1,1,1,1,1,1,6]
["Nyugat-Dunántúl",2005,1,1,1,1,1,1,6]
["Nyugat-Dunántúl",2006,1,1,1,1,1,1,6]
["Nyugat-Dunántúl",2007,1,1,1,1,1,1,6]
["Nyugat-Dunántúl",2008,1,1,1,1,1,1,6]
["Nyugat-Dunántúl",2009,1,1,1,1,1,1,6]
["Végösszeg",null,70,70,70,70,70,70,420]

{"sheet":"OAM_ertek","index":7,"n_rows":108,"n_cols":40,"rows_kept":108,"cut":false,"hidden":false,"merged":[]}
[]
[null,null,null,null,null,null,null,null,null,null,null,null,null,null,null,null,null,null,null,null,"direkt","irány",0,0,0,0,0,0,"nincs",null,null,"inverz","irány",0,0,0,0,0,0,"nincs"]
["Összeg / Érték",null,"Mutatószám","Mértékegység",null,null,null,null,null,null,null,{"$f":"C3","v":"Mutatószám"},{"$f":"D3","v":"Mértékegység"},null,null,null,null,null,null,null,null,null,{"$f":"L3","v":"Mutatószám"},{"$f":"M3","v":"Mértékegység"},null,null,null,null,null,null,null,null,null,{"$f":"W3","v":"Mutatószám"},{"$f":"X3","v":"Mértékegység"}]
[null,null,"burgonya","Búza *összesen*na.*na.","kukorica","napraforgó","őszi árpa","Rozs *összesen*na.*na.",null,null,null,"burgonya","Búza *összesen*na.*na.",{"$f":"E4","v":"kukorica"},{"$f":"F4","v":"napraforgó"},{"$f":"G4","v":"őszi árpa"},{"$f":"H4","v":"Rozs *összesen*na.*na."},null,null,null,null,null,"burgonya","Búza *összesen*na.*na.",{"$f":"N4","v":"kukorica"},{"$f":"O4","v":"napraforgó"},{"$f":"P4","v":"őszi árpa"},{"$f":"Q4","v":"Rozs *összesen*na.*na."},null,null,null,null,null,"burgonya","Búza *összesen*na.*na.",{"$f":"Y4","v":"kukorica"},{"$f":"Z4","v":"napraforgó"},{"$f":"AA4","v":"őszi árpa"},{"$f":"AB4","v":"Rozs *összesen*na.*na."}]
["Régió","Év","t/ha","t/ha","t/ha","t/ha","t/ha","t/ha",null,{"$f":"A5","v":"Régió"},{"$f":"B5","v":"Év"},{"$f":"C5","v":"t/ha"},"t/ha","t/ha","t/ha","t/ha","t/ha","Y0",null,null,{"$f":"J5","v":"Régió"},{"$f":"K5","v":"Év"},"t/ha","t/ha","t/ha","t/ha","t/ha","t/ha",{"$f":"R5","v":"Y0"},null,null,{"$f":"U5","v":"Régió"},{"$f":"V5","v":"Év"},"t/ha","t/ha","t/ha","t/ha","t/ha","t/ha",{"$f":"AC5","v":"Y0"}]
["Dél-Alföld",2000,18.690000000000001,4.0199999999999996,4.46,1.44,2.95,1.38,null,{"$f":"A6","v":"Dél-Alföld"},{"$f":"B6","v":2000},{"$f":"C6","v":18.690000000000001},4.0199999999999996,4.46,1.44,2.95,1.38,1000000,null,null,"Dél-Alföld",2000,{"$f":"RANK(L6,L$6:L$75,W$2)","v":48},{"$f":"RANK(M6,M$6:M$75,X$2)","v":39},53,67,55,61,1000000,null,null,"Dél-Alföld",2000,{"$f":"RANK(W6,W$6:W$75,AH$2)","v":23},{"$f":"RANK(X6,X$6:X$75,AI$2)","v":31},{"$f":"RANK(Y6,Y$6:Y$75,AJ$2)","v":18},{"$f":"RANK(Z6,Z$6:Z$75,AK$2)","v":3},{"$f":"RANK(AA6,AA$6:AA$75,AL$2)","v":16},{"$f":"RANK(AB6,AB$6:AB$75,AM$2)","v":10},1000000]
["Dél-Alföld",2001,20.82,4.45,7.67,1.98,4.05,2.14,null,{"$f":"A7","v":"Dél-Alföld"},{"$f":"B7","v":2001},{"$f":"C7","v":20.82},4.45,7.67,1.98,4.05,2.14,1000000,null,null,"Dél-Alföld",2001,{"$f":"RANK(L7,L$6:L$75,W$2)","v":40},26,16,50,27,47,1000000,null,null,"Dél-Alföld",2001,{"$f":"RANK(W7,W$6:W$75,AH$2)","v":31},44,55,21,43,24,1000000]
["Dél-Alföld",2002,19.78,3.66,5.46,2.04,3.56,2.2799999999999998,null,"Dél-Alföld",2002,19.78,3.66,5.46,2.04,3.56,2.2799999999999998,1000000,null,null,"Dél-Alföld",2002,45,50,42,47,42,43,1000000,null,null,"Dél-Alföld",2002,26,21,29,24,28,28,1000000]
["Dél-Alföld",2003,19.170000000000002,2.87,3.4,1.96,2.5099999999999998,0.61,null,"Dél-Alföld",2003,19.170000000000002,2.87,3.4,1.96,2.5099999999999998,0.61,1000000,null,null,"Dél-Alföld",2003,46,65,66,53,59,69,1000000,null,null,"Dél-Alföld",2003,25,6,5,18,12,2,1000000]
["Dél-Alföld",2004,24.81,5.79,7.46,2.58,4.41,2.73,null,"Dél-Alföld",2004,24.81,5.79,7.46,2.58,4.41,2.73,1000000,null,null,"Dél-Alföld",2004,22,1,19,10,10,28,1000000,null,null,"Dél-Alföld",2004,49,70,51,61,60,42,1000000]
["Dél-Alföld",2005,21.64,4.53,7.87,2.0499999999999998,3.91,3.24,null,"Dél-Alföld",2005,21.64,4.53,7.87,2.0499999999999998,3.91,3.24,1000000,null,null,"Dél-Alföld",2005,35,21,11,43,34,16,1000000,null,null,"Dél-Alföld",2005,36,50,59,25,36,55,1000000]
["Dél-Alföld",2006,26.22,4.24,7.36,2.12,3.92,1.71,null,"Dél-Alföld",2006,26.22,4.24,7.36,2.12,3.92,1.71,1000000,null,null,"Dél-Alföld",2006,17,32,21,40,32,56,1000000,null,null,"Dél-Alföld",2006,54,39,50,31,38,15,1000000]
["Dél-Alföld",2007,23.69,3.76,4.3499999999999996,2.31,3.76,1.18,null,"Dél-Alföld",2007,23.69,3.76,4.3499999999999996,2.31,3.76,1.18,1000000,null,null,"Dél-Alföld",2007,25,46,56,29,40,64,1000000,null,null,"Dél-Alföld",2007,46,25,15,42,31,7,1000000]
["Dél-Alföld",2008,28.1,5.18,7.32,2.72,5.31,2.36,null,"Dél-Alföld",2008,28.1,5.18,7.32,2.72,5.31,2.36,1000000,null,null,"Dél-Alföld",2008,13,5,22,8,1,39,1000000,null,null,"Dél-Alföld",2008,58,66,49,63,70,32,1000000]
["Dél-Alföld",2009,32.47,3.71,5.97,2.4300000000000002,3.45,1.26,null,"Dél-Alföld",2009,32.47,3.71,5.97,2.4300000000000002,3.45,1.26,1000000,null,null,"Dél-Alföld",2009,5,47,39,18,45,63,1000000,null,null,"Dél-Alföld",2009,66,24,32,53,26,8,1000000]
["Dél-Dunántúl",2000,8.52,4.0999999999999996,4.76,2.11,3.63,0,null,"Dél-Dunántúl",2000,8.52,4.0999999999999996,4.76,2.11,3.63,{"$f":"H103","v":3.8720000000000008},1000000,null,null,"Dél-Dunántúl",2000,68,36,50,41,41,5,1000000,null,null,"Dél-Dunántúl",2000,3,35,21,30,30,62,1000000]
["Dél-Dunántúl",2001,14.23,4.7699999999999996,7.28,2.0499999999999998,4.5599999999999996,0,null,"Dél-Dunántúl",2001,14.23,4.7699999999999996,7.28,2.0499999999999998,4.5599999999999996,{"$f":"Q16","v":3.8720000000000008},1000000,null,null,"Dél-Dunántúl",2001,60,13,24,43,7,5,1000000,null,null,"Dél-Dunántúl",2001,11,58,47,25,64,62,1000000]
["Dél-Dunántúl",2002,21.8,4.7300000000000004,6.61,2.39,4.1100000000000003,0,null,"Dél-Dunántúl",2002,21.8,4.7300000000000004,6.61,2.39,4.1100000000000003,{"$f":"Q17","v":3.8720000000000008},1000000,null,null,"Dél-Dunántúl",2002,31,15,31,25,25,5,1000000,null,null,"Dél-Dunántúl",2002,40,56,40,46,46,62,1000000]
["Dél-Dunántúl",2003,13.7,3.49,4.42,2.42,3.19,1.85,null,"Dél-Dunántúl",2003,13.7,3.49,4.42,2.42,3.19,1.85,1000000,null,null,"Dél-Dunántúl",2003,62,53,55,19,49,53,1000000,null,null,"Dél-Dunántúl",2003,9,18,16,51,22,17,1000000]
["Dél-Dunántúl",2004,34.22,5.15,8.11,3.04,4.7,4.8,null,"Dél-Dunántúl",2004,34.22,5.15,8.11,3.04,4.7,4.8,1000000,null,null,"Dél-Dunántúl",2004,2,6,8,1,5,2,1000000,null,null,"Dél-Dunántúl",2004,69,64,63,70,66,69,1000000]
["Dél-Dunántúl",2005,27.14,4.62,8.36,2.48,4.25,4.88,null,"Dél-Dunántúl",2005,27.14,4.62,8.36,2.48,4.25,4.88,1000000,null,null,"Dél-Dunántúl",2005,14,18,5,13,15,1,1000000,null,null,"Dél-Dunántúl",2005,57,53,66,57,56,70,1000000]
["Dél-Dunántúl",2006,23.31,4.5599999999999996,7.87,2.41,4.45,4.03,null,"Dél-Dunántúl",2006,23.31,4.5599999999999996,7.87,2.41,4.45,4.03,1000000,null,null,"Dél-Dunántúl",2006,27,{"$f":"RANK(M22,M$6:M$75,X$2)","v":20},{"$f":"RANK(N22,N$6:N$75,Y$2)","v":11},{"$f":"RANK(O22,O$6:O$75,Z$2)","v":21},{"$f":"RANK(P22,P$6:P$75,AA$2)","v":8},{"$f":"RANK(Q22,Q$6:Q$75,AB$2)","v":3},1000000,null,null,"Dél-Dunántúl",2006,44,51,59,49,63,68,1000000]
["Dél-Dunántúl",2007,14.43,3.82,3.24,2.46,4.1500000000000004,0,null,"Dél-Dunántúl",2007,14.43,3.82,3.24,2.46,4.1500000000000004,{"$f":"Q18","v":3.8720000000000008},1000000,null,null,"Dél-Dunántúl",2007,59,45,68,15,23,5,1000000,null,null,"Dél-Dunántúl",2007,12,26,3,55,48,62,1000000]
["Dél-Dunántúl",2008,16.43,5.58,8.23,3.02,4.13,0,null,"Dél-Dunántúl",2008,16.43,5.58,8.23,3.02,4.13,{"$f":"Q23","v":3.8720000000000008},1000000,null,null,"Dél-Dunántúl",2008,53,2,6,2,24,5,1000000,null,null,"Dél-Dunántúl",2008,18,69,65,69,47,62,1000000]
["Dél-Dunántúl",2009,18.59,4.9800000000000004,7.46,2.89,4.59,3.8,null,"Dél-Dunántúl",2009,18.59,4.9800000000000004,7.46,2.89,4.59,3.8,1000000,null,null,"Dél-Dunántúl",2009,49,10,19,5,6,10,1000000,null,null,"Dél-Dunántúl",2009,22,61,51,66,65,61,1000000]
["Észak-Alföld",2000,20.75,3.07,3.83,1.44,2.93,1,null,"Észak-Alföld",2000,20.75,3.07,3.83,1.44,2.93,1,1000000,null,null,"Észak-Alföld",2000,41,58,62,67,56,67,1000000,null,null,"Észak-Alföld",2000,30,13,9,3,14,4,1000000]
["Észak-Alföld",2001,24.79,4.01,7.13,1.56,4.21,1.85,null,"Észak-Alföld",2001,24.79,4.01,7.13,1.56,4.21,1.85,1000000,null,null,"Észak-Alföld",2001,23,41,25,64,17,53,1000000,null,null,"Észak-Alföld",2001,48,29,45,7,54,17,1000000]
["Észak-Alföld",2002,20.84,2.98,4.93,1.87,1.64,1.6,null,"Észak-Alföld",2002,20.84,2.98,4.93,1.87,1.64,1.6,1000000,null,null,"Észak-Alföld",2002,39,62,49,57,69,57,1000000,null,null,"Észak-Alföld",2002,32,9,22,14,2,14,1000000]
["Észak-Alföld",2003,22.43,2.39,5.08,1.86,1.74,2.02,null,"Észak-Alföld",2003,22.43,2.39,5.08,1.86,1.74,2.02,1000000,null,null,"Észak-Alföld",2003,30,68,47,58,68,49,1000000,null,null,"Észak-Alföld",2003,41,3,24,13,3,22,1000000]
["Észak-Alföld",2004,20.47,5.46,8.02,2.17,5.04,3.06,null,"Észak-Alföld",2004,20.47,5.46,8.02,2.17,5.04,3.06,1000000,null,null,"Észak-Alföld",2004,42,3,9,36,2,19,1000000,null,null,"Észak-Alföld",2004,29,68,62,35,69,52,1000000]
["Észak-Alföld",2005,31.11,4.12,7.8,2,4.09,0.88,null,"Észak-Alföld",2005,31.11,4.12,7.8,2,4.09,0.88,1000000,null,null,"Észak-Alföld",2005,7,34,13,49,26,68,1000000,null,null,"Észak-Alföld",2005,64,37,57,22,45,3,1000000]
["Észak-Alföld",2006,28.96,3.17,6.59,1.83,2.04,1.87,null,"Észak-Alföld",2006,28.96,3.17,6.59,1.83,2.04,1.87,1000000,null,null,"Észak-Alföld",2006,11,56,32,59,66,52,1000000,null,null,"Észak-Alföld",2006,60,15,39,12,5,19,1000000]
["Észak-Alföld",2007,21.26,3.02,4.7,2.14,2.96,1.05,null,"Észak-Alföld",2007,21.26,3.02,4.7,2.14,2.96,1.05,1000000,null,null,"Észak-Alföld",2007,37,60,52,37,54,66,1000000,null,null,"Észak-Alföld",2007,34,11,19,33,17,5,1000000]
["Észak-Alföld",2008,20.18,4.75,8.65,2.92,4.17,1.5,null,"Észak-Alföld",2008,20.18,4.75,8.65,2.92,4.17,1.5,1000000,null,null,"Észak-Alföld",2008,44,14,3,4,19,59,1000000,null,null,"Észak-Alföld",2008,27,57,68,67,51,11,1000000]
["Észak-Alföld",2009,33.61,3.68,6.46,2.2799999999999998,2.86,2.16,null,"Észak-Alföld",2009,33.61,3.68,6.46,2.2799999999999998,2.86,2.16,1000000,null,null,"Észak-Alföld",2009,3,49,35,31,58,46,1000000,null,null,"Észak-Alföld",2009,68,22,36,40,13,25,1000000]
["Észak-Magyarország",2000,15.84,2.59,2.63,1.1200000000000001,3.96,0,null,"Észak-Magyarország",2000,15.84,2.59,2.63,1.1200000000000001,3.96,{"$f":"H105","v":2.9128571428571424},1000000,null,null,"Észak-Magyarország",2000,56,66,70,70,30,22,1000000,null,null,"Észak-Magyarország",2000,15,5,1,1,41,46,1000000]
["Észak-Magyarország",2001,18.079999999999998,4.01,5.4,1.77,3.32,0,null,"Észak-Magyarország",2001,18.079999999999998,4.01,5.4,1.77,3.32,{"$f":"Q36","v":2.9128571428571424},1000000,null,null,"Észak-Magyarország",2001,51,41,43,61,48,22,1000000,null,null,"Észak-Magyarország",2001,20,29,28,10,23,46,1000000]
["Észak-Magyarország",2002,21.24,2.91,5.27,1.37,2.38,0,null,"Észak-Magyarország",2002,21.24,2.91,5.27,1.37,2.38,{"$f":"Q36","v":2.9128571428571424},1000000,null,null,"Észak-Magyarország",2002,38,64,46,69,62,22,1000000,null,null,"Észak-Magyarország",2002,33,7,25,2,9,46,1000000]
["Észak-Magyarország",2003,10.84,1.88,4.0199999999999996,1.51,1.23,2,null,"Észak-Magyarország",2003,10.84,1.88,4.0199999999999996,1.51,1.23,2,1000000,null,null,"Észak-Magyarország",2003,66,69,59,66,70,50,1000000,null,null,"Észak-Magyarország",2003,5,2,12,5,1,21,1000000]
["Észak-Magyarország",2004,29.34,4.47,5.67,2.19,3.95,3.5,null,"Észak-Magyarország",2004,29.34,4.47,5.67,2.19,3.95,3.5,1000000,null,null,"Észak-Magyarország",2004,10,25,40,33,31,13,1000000,null,null,"Észak-Magyarország",2004,61,46,30,38,40,58,1000000]
["Észak-Magyarország",2005,24.99,4.4400000000000004,6.47,2.25,4.16,3,null,"Észak-Magyarország",2005,24.99,4.4400000000000004,6.47,2.25,4.16,3,1000000,null,null,"Észak-Magyarország",2005,21,28,34,32,21,21,1000000,null,null,"Észak-Magyarország",2005,50,43,37,39,49,50,1000000]
["Észak-Magyarország",2006,22.5,3.84,5.67,1.97,3.84,2.6,null,"Észak-Magyarország",2006,22.5,3.84,5.67,1.97,3.84,2.6,1000000,null,null,"Észak-Magyarország",2006,29,44,40,51,37,32,1000000,null,null,"Észak-Magyarország",2006,42,27,30,19,34,39,1000000]
["Észak-Magyarország",2007,0,3.15,3.8,1.78,3.18,2.2999999999999998,null,"Észak-Magyarország",2007,{"$f":"C105","v":21.728749999999998},3.15,3.8,1.78,3.18,2.2999999999999998,1000000,null,null,"Észak-Magyarország",2007,32,57,63,60,50,41,1000000,null,null,"Észak-Magyarország",2007,38,14,8,11,21,30,1000000]
["Észak-Magyarország",2008,31,4.4800000000000004,6.04,2.4500000000000002,4.3499999999999996,3.59,null,"Észak-Magyarország",2008,31,4.4800000000000004,6.04,2.4500000000000002,4.3499999999999996,3.59,1000000,null,null,"Észak-Magyarország",2008,8,23,38,17,12,11,1000000,null,null,"Észak-Magyarország",2008,63,47,33,54,59,60,1000000]
["Észak-Magyarország",2009,0,3.65,5.31,2.1800000000000002,3.56,3.4,null,"Észak-Magyarország",2009,{"$f":"L43","v":21.728749999999998},3.65,5.31,2.1800000000000002,3.56,3.4,1000000,null,null,"Észak-Magyarország",2009,32,51,44,34,42,14,1000000,null,null,"Észak-Magyarország",2009,38,20,27,36,28,57,1000000]
["Közép-Dunántúl",2000,5.69,4.03,4.97,2.0499999999999998,3.04,0,null,"Közép-Dunántúl",2000,5.69,4.03,4.97,2.0499999999999998,3.04,{"$f":"Q38","v":2.9128571428571424},1000000,null,null,"Közép-Dunántúl",2000,69,38,48,43,52,22,1000000,null,null,"Közép-Dunántúl",2000,2,33,23,25,19,46,1000000]
["Közép-Dunántúl",2001,8.67,4.32,7.03,2.29,3.92,2.2400000000000002,null,"Közép-Dunántúl",2001,8.67,4.32,7.03,2.29,3.92,2.2400000000000002,1000000,null,null,"Közép-Dunántúl",2001,67,31,27,30,32,45,1000000,null,null,"Közép-Dunántúl",2001,4,40,44,41,38,26,1000000]
["Közép-Dunántúl",2002,18.440000000000001,3.9,6.63,2.1800000000000002,2.15,2.5,null,"Közép-Dunántúl",2002,18.440000000000001,3.9,6.63,2.1800000000000002,2.15,2.5,1000000,null,null,"Közép-Dunántúl",2002,50,43,30,34,64,34,1000000,null,null,"Közép-Dunántúl",2002,21,28,41,36,7,37,1000000]
["Közép-Dunántúl",2003,11.01,2.46,3.89,2.4,2.4,1.29,null,"Közép-Dunántúl",2003,11.01,2.46,3.89,2.4,2.4,1.29,1000000,null,null,"Közép-Dunántúl",2003,65,67,60,23,60,62,1000000,null,null,"Közép-Dunántúl",2003,6,4,11,47,10,9,1000000]
["Közép-Dunántúl",2004,20.309999999999999,5.08,7.3,2.77,4.43,2.73,null,"Közép-Dunántúl",2004,20.309999999999999,5.08,7.3,2.77,4.43,2.73,1000000,null,null,"Közép-Dunántúl",2004,43,9,23,7,9,28,1000000,null,null,"Közép-Dunántúl",2004,28,62,48,64,62,42,1000000]
["Közép-Dunántúl",2005,14.14,4.93,8.98,2.5299999999999998,4.29,1.98,null,"Közép-Dunántúl",2005,14.14,4.93,8.98,2.5299999999999998,4.29,1.98,1000000,null,null,"Közép-Dunántúl",2005,61,11,1,11,14,51,1000000,null,null,"Közép-Dunántúl",2005,10,60,70,60,57,20,1000000]
["Közép-Dunántúl",2006,15.32,4.37,7.58,2.3199999999999998,3.91,1.5,null,"Közép-Dunántúl",2006,15.32,4.37,7.58,2.3199999999999998,3.91,1.5,1000000,null,null,"Közép-Dunántúl",2006,57,29,17,27,34,59,1000000,null,null,"Közép-Dunántúl",2006,14,42,54,43,36,11,1000000]
["Közép-Dunántúl",2007,18.71,3.37,3.7,2.13,3.8,2.81,null,"Közép-Dunántúl",2007,18.71,3.37,3.7,2.13,3.8,2.81,1000000,null,null,"Közép-Dunántúl",2007,47,54,64,39,39,27,1000000,null,null,"Közép-Dunántúl",2007,24,17,7,32,32,44,1000000]
["Közép-Dunántúl",2008,3.86,5.38,8.73,2.98,4.99,2.3199999999999998,null,"Közép-Dunántúl",2008,3.86,5.38,8.73,2.98,4.99,2.3199999999999998,1000000,null,null,"Közép-Dunántúl",2008,70,4,2,3,3,40,1000000,null,null,"Közép-Dunántúl",2008,1,67,69,68,68,31,1000000]
["Közép-Dunántúl",2009,25.6,3.69,7.5,2.48,3.15,3.09,null,"Közép-Dunántúl",2009,25.6,3.69,7.5,2.48,3.15,3.09,1000000,null,null,"Közép-Dunántúl",2009,19,48,18,13,51,18,1000000,null,null,"Közép-Dunántúl",2009,52,23,53,57,20,53,1000000]
["Közép-Magyarország",2000,16,3.51,3.44,1.53,3.53,2.06,null,"Közép-Magyarország",2000,16,3.51,3.44,1.53,3.53,2.06,1000000,null,null,"Közép-Magyarország",2000,54,52,65,65,44,48,1000000,null,null,"Közép-Magyarország",2000,17,19,6,6,27,23,1000000]
["Közép-Magyarország",2001,13.2,4.3600000000000003,6.52,2.34,4.41,2.4500000000000002,null,"Közép-Magyarország",2001,13.2,4.3600000000000003,6.52,2.34,4.41,2.4500000000000002,1000000,null,null,"Közép-Magyarország",2001,63,30,33,26,10,37,1000000,null,null,"Közép-Magyarország",2001,8,41,38,45,60,33,1000000]
["Közép-Magyarország",2002,17.59,2.92,3.88,1.94,2.2200000000000002,1.75,null,"Közép-Magyarország",2002,17.59,2.92,3.88,1.94,2.2200000000000002,1.75,1000000,null,null,"Közép-Magyarország",2002,52,63,61,56,63,55,1000000,null,null,"Közép-Magyarország",2002,19,8,10,15,8,16,1000000]
["Közép-Magyarország",2003,21.44,1.56,2.81,1.63,1.83,0.51,null,"Közép-Magyarország",2003,21.44,1.56,2.81,1.63,1.83,0.51,1000000,null,null,"Közép-Magyarország",2003,36,70,69,63,67,70,1000000,null,null,"Közép-Magyarország",2003,35,1,2,8,4,1,1000000]
["Közép-Magyarország",2004,35.840000000000003,5.12,6.16,2.3199999999999998,4.3,2.4900000000000002,null,"Közép-Magyarország",2004,35.840000000000003,5.12,6.16,2.3199999999999998,4.3,2.4900000000000002,1000000,null,null,"Közép-Magyarország",2004,1,8,36,27,13,35,1000000,null,null,"Közép-Magyarország",2004,70,63,35,43,58,36,1000000]
["Közép-Magyarország",2005,21.71,4.6100000000000003,7.72,2.0499999999999998,4.18,3.13,null,"Közép-Magyarország",2005,21.71,4.6100000000000003,7.72,2.0499999999999998,4.18,3.13,1000000,null,null,"Közép-Magyarország",2005,34,19,15,43,18,17,1000000,null,null,"Közép-Magyarország",2005,37,52,56,25,53,54,1000000]
["Közép-Magyarország",2006,28.12,4.1100000000000003,6.84,2.14,3.83,3.02,null,"Közép-Magyarország",2006,28.12,4.1100000000000003,6.84,2.14,3.83,3.02,1000000,null,null,"Közép-Magyarország",2006,12,35,28,37,38,20,1000000,null,null,"Közép-Magyarország",2006,59,36,43,33,33,51,1000000]
["Közép-Magyarország",2007,30.89,3,3.27,1.97,2.4,1.57,null,"Közép-Magyarország",2007,30.89,3,3.27,1.97,2.4,1.57,1000000,null,null,"Közép-Magyarország",2007,9,61,67,51,60,58,1000000,null,null,"Közép-Magyarország",2007,62,10,4,19,10,13,1000000]
["Közép-Magyarország",2008,26.3,4.8499999999999996,7.8,2.65,4.17,2.29,null,"Közép-Magyarország",2008,26.3,4.8499999999999996,7.8,2.65,4.17,2.29,1000000,null,null,"Közép-Magyarország",2008,16,12,13,9,19,42,1000000,null,null,"Közép-Magyarország",2008,55,59,57,62,51,29,1000000]
["Közép-Magyarország",2009,22.78,3.19,5.3,2.0699999999999998,2.98,1.1599999999999999,null,"Közép-Magyarország",2009,22.78,3.19,5.3,2.0699999999999998,2.98,1.1599999999999999,1000000,null,null,"Közép-Magyarország",2009,28,55,45,42,53,65,1000000,null,null,"Közép-Magyarország",2009,43,16,26,29,18,6,1000000]
["Nyugat-Dunántúl",2000,25.18,4.0199999999999996,4.45,1.71,3.35,2.46,null,"Nyugat-Dunántúl",2000,25.18,4.0199999999999996,4.45,1.71,3.35,2.46,1000000,null,null,"Nyugat-Dunántúl",2000,20,39,54,62,47,36,1000000,null,null,"Nyugat-Dunántúl",2000,51,31,17,9,24,35,1000000]
["Nyugat-Dunántúl",2001,23.95,4.45,4.2699999999999996,1.95,3.86,2.4500000000000002,null,"Nyugat-Dunántúl",2001,23.95,{"$f":"D67","v":4.45},4.2699999999999996,1.95,3.86,2.4500000000000002,1000000,null,null,"Nyugat-Dunántúl",{"$f":"K67","v":2001},24,26,57,54,36,37,{"$f":"R67","v":1000000},null,null,"Nyugat-Dunántúl",2001,47,44,14,16,35,33,1000000]
["Nyugat-Dunántúl",2002,15.94,4.16,6.12,2.02,2.1,2.54,null,"Nyugat-Dunántúl",2002,15.94,4.16,{"$f":"E68","v":6.12},{"$f":"F68","v":2.02},{"$f":"G68","v":2.1},{"$f":"H68","v":2.54},1000000,null,null,{"$f":"J68","v":"Nyugat-Dunántúl"},2002,55,33,37,48,65,33,1000000,null,null,"Nyugat-Dunántúl",2002,16,38,34,23,6,38,1000000]
["Nyugat-Dunántúl",2003,11.95,3.06,4.18,2.46,2.93,2.2599999999999998,null,"Nyugat-Dunántúl",2003,11.95,3.06,4.18,2.46,2.93,2.2599999999999998,1000000,null,null,"Nyugat-Dunántúl",2003,64,59,58,15,56,44,1000000,null,null,{"$f":"U69","v":"Nyugat-Dunántúl"},{"$f":"V69","v":2003},7,12,13,55,14,27,{"$f":"AC69","v":1000000}]
["Nyugat-Dunántúl",2004,32.659999999999997,5.15,6.77,2.41,4.05,3.34,null,"Nyugat-Dunántúl",2004,32.659999999999997,5.15,6.77,2.41,4.05,3.34,1000000,null,null,"Nyugat-Dunántúl",2004,4,6,29,21,27,15,1000000,null,null,"Nyugat-Dunántúl",2004,67,{"$f":"RANK(X70,X$6:X$75,AI$2)","v":64},{"$f":"RANK(Y70,Y$6:Y$75,AJ$2)","v":42},{"$f":"RANK(Z70,Z$6:Z$75,AK$2)","v":49},{"$f":"RANK(AA70,AA$6:AA$75,AL$2)","v":43},{"$f":"RANK(AB70,AB$6:AB$75,AM$2)","v":56},1000000]
["Nyugat-Dunántúl",2005,26.65,4.4800000000000004,8.01,2.5,4.03,3.58,null,{"$f":"A71","v":"Nyugat-Dunántúl"},{"$f":"B71","v":2005},{"$f":"C71","v":26.65},4.4800000000000004,8.01,2.5,4.03,3.58,1000000,null,null,"Nyugat-Dunántúl",2005,{"$f":"RANK(L71,L$6:L$75,W$2)","v":15},23,10,12,29,12,1000000,null,null,"Nyugat-Dunántúl",2005,{"$f":"RANK(W71,W$6:W$75,AH$2)","v":56},47,61,59,42,59,1000000]
["Nyugat-Dunántúl",2006,25.94,4.49,7.13,2.42,3.4,2.7,null,"Nyugat-Dunántúl",2006,25.94,4.49,7.13,2.42,3.4,2.7,1000000,null,null,"Nyugat-Dunántúl",2006,18,22,25,19,46,31,1000000,null,null,"Nyugat-Dunántúl",2006,53,49,45,51,25,40,1000000]
["Nyugat-Dunántúl",2007,23.4,4.08,4.72,1.95,4.2300000000000004,2.72,null,"Nyugat-Dunántúl",2007,23.4,4.08,4.72,1.95,4.2300000000000004,2.72,1000000,null,null,"Nyugat-Dunántúl",2007,26,37,51,54,16,30,1000000,null,null,"Nyugat-Dunántúl",2007,45,34,20,16,55,41,1000000]
["Nyugat-Dunántúl",2008,14.56,4.68,8.48,2.83,4.8099999999999996,3.89,null,"Nyugat-Dunántúl",2008,14.56,4.68,8.48,2.83,4.8099999999999996,3.89,1000000,null,null,"Nyugat-Dunántúl",2008,58,17,4,6,4,4,1000000,null,null,"Nyugat-Dunántúl",2008,13,54,67,65,67,67,1000000]
["Nyugat-Dunántúl",2009,32.119999999999997,4.6900000000000004,8.1199999999999992,2.4,4.16,0,null,"Nyugat-Dunántúl",2009,32.119999999999997,4.6900000000000004,8.1199999999999992,2.4,4.16,{"$f":"H108","v":2.8822222222222225},1000000,null,null,"Nyugat-Dunántúl",2009,6,16,7,23,21,26,1000000,null,null,"Nyugat-Dunántúl",2009,65,55,64,47,49,45,1000000]
[]
[null,"max",{"$f":"MAX(C6:C75)","v":35.840000000000003},{"$f":"MAX(D6:D75)","v":5.79},8.98,3.04,5.31,4.88]
[null,"min",{"$f":"MIN(C6:C75)","v":0},{"$f":"MIN(D6:D75)","v":1.56},2.63,1.1200000000000001,1.23,0]
[null,"darab0",{"$f":"COUNTIF(C6:C75,0)","v":2},{"$f":"COUNTIF(D6:D75,0)","v":0},0,0,0,10]
[]
[]
[]
[null,"Év","(mind)"]
[]
[null,"Átlag / Érték","Mutatószám","Mértékegység"]
[null,null,"burgonya","Búza *összesen*na.*na.","kukorica","napraforgó","őszi árpa","Rozs *összesen*na.*na."]
[null,"Régió","t/ha","t/ha","t/ha","t/ha","t/ha","t/ha"]
[null,"Dél-Alföld",23.538999999999998,4.221000000000001,6.1319999999999997,2.1629999999999998,3.7830000000000004,1.889]
[null,"Dél-Dunántúl",19.237000000000002,4.58,6.6339999999999986,2.5270000000000001,4.1760000000000002,1.9359999999999999]
[null,"Észak-Alföld",24.439999999999998,3.6650000000000005,6.319,2.0070000000000001,3.1680000000000001,1.6990000000000003]
[null,"Észak-Magyarország",17.382999999999999,3.5420000000000003,5.0280000000000005,1.859,3.3929999999999998,2.0390000000000001]
[null,"Közép-Dunántúl",14.175000000000001,4.1530000000000005,6.6310000000000002,2.4130000000000003,3.6079999999999997,2.0460000000000003]
[null,"Közép-Magyarország",23.387000000000004,3.7230000000000003,5.3739999999999997,2.0640000000000001,3.3849999999999993,2.0430000000000001]
[null,"Nyugat-Dunántúl",23.234999999999999,4.3259999999999996,6.2249999999999996,2.2649999999999997,3.6920000000000002,2.5939999999999999]
[]
[null,"átlagszámítás a nullákkal együtt"]
[]
[]
[null,"Átlag / Érték","Mutatószám","Mértékegység"]
[null,null,"burgonya","Búza *összesen*na.*na.","kukorica","napraforgó","őszi árpa","Rozs *összesen*na.*na."]
[null,"Régió","t/ha","t/ha","t/ha","t/ha","t/ha","t/ha"]
[null,"Dél-Alföld"]
[null,"Dél-Dunántúl",null,null,null,null,null,{"$f":"AVERAGE(H19:H22,H25)","v":3.8720000000000008}]
[null,"Észak-Alföld"]
[null,"Észak-Magyarország",{"$f":"AVERAGE(C36:C42,C44)","v":21.728749999999998},null,null,null,null,{"$f":"AVERAGE(H39:H45)","v":2.9128571428571424}]
[null,"Közép-Dunántúl"]
[null,"Közép-Magyarország"]
[null,"Nyugat-Dunántúl",null,null,null,null,null,{"$f":"AVERAGE(H66:H74)","v":2.8822222222222225}]

{"sheet":"modellek","index":8,"n_rows":307,"n_cols":25,"rows_kept":307,"cut":false,"hidden":false,"merged":[]}
[]
["https://miau.my-x.hu/myx-free/coco/index.html","Y0"]
[]
[]
["Azonosító:",4118392,"Objektumok:",70,"Attribútumok:",6,"Lépcsôk:",70,"Eltolás:",0,"Leírás:","COCO Y0: 4118392",null,"Azonosító:",5215428,"Objektumok:",70,"Attribútumok:",6,"Lépcsôk:",70,"Eltolás:",0,"Leírás:","COCO Y0: 5215428"]
[]
["Rangsor","X(A1)","X(A2)","X(A3)","X(A4)","X(A5)","X(A6)","Y(A7)",null,null,null,null,null,"Rangsor","X(A1)","X(A2)","X(A3)","X(A4)","X(A5)","X(A6)","Y(A7)"]
["O1",48,39,53,67,55,61,1000000,null,null,null,null,null,"O1",23,31,18,3,16,10,1000000]
["O2",40,26,16,50,27,47,1000000,null,null,null,null,null,"O2",31,44,55,21,43,24,1000000]
["O3",45,50,42,47,42,43,1000000,null,null,null,null,null,"O3",26,21,29,24,28,28,1000000]
["O4",46,65,66,53,59,69,1000000,null,null,null,null,null,"O4",25,6,5,18,12,2,1000000]
["O5",22,1,19,10,10,28,1000000,null,null,null,null,null,"O5",49,70,51,61,60,42,1000000]
["O6",35,21,11,43,34,16,1000000,null,null,null,null,null,"O6",36,50,59,25,36,55,1000000]
["O7",17,32,21,40,32,56,1000000,null,null,null,null,null,"O7",54,39,50,31,38,15,1000000]
["O8",25,46,56,29,40,64,1000000,null,null,null,null,null,"O8",46,25,15,42,31,7,1000000]
["O9",13,5,22,8,1,39,1000000,null,null,null,null,null,"O9",58,66,49,63,70,32,1000000]
["O10",5,47,39,18,45,63,1000000,null,null,null,null,null,"O10",66,24,32,53,26,8,1000000]
["O11",68,36,50,41,41,5,1000000,null,null,null,null,null,"O11",3,35,21,30,30,62,1000000]
["O12",60,13,24,43,7,5,1000000,null,null,null,null,null,"O12",11,58,47,25,64,62,1000000]
["O13",31,15,31,25,25,5,1000000,null,null,null,null,null,"O13",40,56,40,46,46,62,1000000]
["O14",62,53,55,19,49,53,1000000,null,null,null,null,null,"O14",9,18,16,51,22,17,1000000]
["O15",2,6,8,1,5,2,1000000,null,null,null,null,null,"O15",69,64,63,70,66,69,1000000]
["O16",14,18,5,13,15,1,1000000,null,null,null,null,null,"O16",57,53,66,57,56,70,1000000]
["O17",27,20,11,21,8,3,1000000,null,null,null,null,null,"O17",44,51,59,49,63,68,1000000]
["O18",59,45,68,15,23,5,1000000,null,null,null,null,null,"O18",12,26,3,55,48,62,1000000]
["O19",53,2,6,2,24,5,1000000,null,null,null,null,null,"O19",18,69,65,69,47,62,1000000]
["O20",49,10,19,5,6,10,1000000,null,null,null,null,null,"O20",22,61,51,66,65,61,1000000]
["O21",41,58,62,67,56,67,1000000,null,null,null,null,null,"O21",30,13,9,3,14,4,1000000]
["O22",23,41,25,64,17,53,1000000,null,null,null,null,null,"O22",48,29,45,7,54,17,1000000]
["O23",39,62,49,57,69,57,1000000,null,null,null,null,null,"O23",32,9,22,14,2,14,1000000]
["O24",30,68,47,58,68,49,1000000,null,null,null,null,null,"O24",41,3,24,13,3,22,1000000]
["O25",42,3,9,36,2,19,1000000,null,null,null,null,null,"O25",29,68,62,35,69,52,1000000]
["O26",7,34,13,49,26,68,1000000,null,null,null,null,null,"O26",64,37,57,22,45,3,1000000]
["O27",11,56,32,59,66,52,1000000,null,null,null,null,null,"O27",60,15,39,12,5,19,1000000]
["O28",37,60,52,37,54,66,1000000,null,null,null,null,null,"O28",34,11,19,33,17,5,1000000]
["O29",44,14,3,4,19,59,1000000,null,null,null,null,null,"O29",27,57,68,67,51,11,1000000]
["O30",3,49,35,31,58,46,1000000,null,null,null,null,null,"O30",68,22,36,40,13,25,1000000]
["O31",56,66,70,70,30,22,1000000,null,null,null,null,null,"O31",15,5,1,1,41,46,1000000]
["O32",51,41,43,61,48,22,1000000,null,null,null,null,null,"O32",20,29,28,10,23,46,1000000]
["O33",38,64,46,69,62,22,1000000,null,null,null,null,null,"O33",33,7,25,2,9,46,1000000]
["O34",66,69,59,66,70,50,1000000,null,null,null,null,null,"O34",5,2,12,5,1,21,1000000]
["O35",10,25,40,33,31,13,1000000,null,null,null,null,null,"O35",61,46,30,38,40,58,1000000]
["O36",21,28,34,32,21,21,1000000,null,null,null,null,null,"O36",50,43,37,39,49,50,1000000]
["O37",29,44,40,51,37,32,1000000,null,null,null,null,null,"O37",42,27,30,19,34,39,1000000]
["O38",32,57,63,60,50,41,1000000,null,null,null,null,null,"O38",38,14,8,11,21,30,1000000]
["O39",8,23,38,17,12,11,1000000,null,null,null,null,null,"O39",63,47,33,54,59,60,1000000]
["O40",32,51,44,34,42,14,1000000,null,null,null,null,null,"O40",38,20,27,36,28,57,1000000]
["O41",69,38,48,43,52,22,1000000,null,null,null,null,null,"O41",2,33,23,25,19,46,1000000]
["O42",67,31,27,30,32,45,1000000,null,null,null,null,null,"O42",4,40,44,41,38,26,1000000]
["O43",50,43,30,34,64,34,1000000,null,null,null,null,null,"O43",21,28,41,36,7,37,1000000]
["O44",65,67,60,23,60,62,1000000,null,null,null,null,null,"O44",6,4,11,47,10,9,1000000]
["O45",43,9,23,7,9,28,1000000,null,null,null,null,null,"O45",28,62,48,64,62,42,1000000]
["O46",61,11,1,11,14,51,1000000,null,null,null,null,null,"O46",10,60,70,60,57,20,1000000]
["O47",57,29,17,27,34,59,1000000,null,null,null,null,null,"O47",14,42,54,43,36,11,1000000]
["O48",47,54,64,39,39,27,1000000,null,null,null,null,null,"O48",24,17,7,32,32,44,1000000]
["O49",70,4,2,3,3,40,1000000,null,null,null,null,null,"O49",1,67,69,68,68,31,1000000]
["O50",19,48,18,13,51,18,1000000,null,null,null,null,null,"O50",52,23,53,57,20,53,1000000]
["O51",54,52,65,65,44,48,1000000,null,null,null,null,null,"O51",17,19,6,6,27,23,1000000]
["O52",63,30,33,26,10,37,1000000,null,null,null,null,null,"O52",8,41,38,45,60,33,1000000]
["O53",52,63,61,56,63,55,1000000,null,null,null,null,null,"O53",19,8,10,15,8,16,1000000]
["O54",36,70,69,63,67,70,1000000,null,null,null,null,null,"O54",35,1,2,8,4,1,1000000]
["O55",1,8,36,27,13,35,1000000,null,null,null,null,null,"O55",70,63,35,43,58,36,1000000]
["O56",34,19,15,43,18,17,1000000,null,null,null,null,null,"O56",37,52,56,25,53,54,1000000]
["O57",12,35,28,37,38,20,1000000,null,null,null,null,null,"O57",59,36,43,33,33,51,1000000]
["O58",9,61,67,51,60,58,1000000,null,null,null,null,null,"O58",62,10,4,19,10,13,1000000]
["O59",16,12,13,9,19,42,1000000,null,null,null,null,null,"O59",55,59,57,62,51,29,1000000]
["O60",28,55,45,42,53,65,1000000,null,null,null,null,null,"O60",43,16,26,29,18,6,1000000]
["O61",20,39,54,62,47,36,1000000,null,null,null,null,null,"O61",51,31,17,9,24,35,1000000]
["O62",24,26,57,54,36,37,1000000,null,null,null,null,null,"O62",47,44,14,16,35,33,1000000]
["O63",55,33,37,48,65,33,1000000,null,null,null,null,null,"O63",16,38,34,23,6,38,1000000]
["O64",64,59,58,15,56,44,1000000,null,null,null,null,null,"O64",7,12,13,55,14,27,1000000]
["O65",4,6,29,21,27,15,1000000,null,null,null,null,null,"O65",67,64,42,49,43,56,1000000]
["O66",15,23,10,12,29,12,1000000,null,null,null,null,null,"O66",56,47,61,59,42,59,1000000]
["O67",18,22,25,19,46,31,1000000,null,null,null,null,null,"O67",53,49,45,51,25,40,1000000]
["O68",26,37,51,54,16,30,1000000,null,null,null,null,null,"O68",45,34,20,16,55,41,1000000]
["O69",58,17,4,6,4,4,1000000,null,null,null,null,null,"O69",13,54,67,65,67,67,1000000]
["O70",6,16,7,23,21,26,1000000,null,null,null,null,null,"O70",65,55,64,47,49,45,1000000]
[]
["Lépcsôk(1)","X(A1)","X(A2)","X(A3)","X(A4)","X(A5)","X(A6)",null,null,null,null,null,null,"Lépcsôk(1)","X(A1)","X(A2)","X(A3)","X(A4)","X(A5)","X(A6)"]
["S1","(186+999968.1)/(2)=500077.05","(135+69)/(2)=102","(194+69)/(2)=131.5","(69+135)/(2)=102","(133+69)/(2)=101","(999662.1+74)/(2)=499868.05",null,null,null,null,null,null,"S1","(327+999811)/(2)=500069","(69+137)/(2)=103","(999684+193)/(2)=499938.5","(132+69)/(2)=100.5","(69+132)/(2)=100.5","(74+69)/(2)=71.5"]
["S2","(89+999967.1)/(2)=500028.05","(94+68)/(2)=81","(187+68)/(2)=127.5","(68+134)/(2)=101","(132+68)/(2)=100","(999661.1+73)/(2)=499867.05",null,null,null,null,null,null,"S2","(170+999783)/(2)=499976.5","(68+136)/(2)=102","(999683+192)/(2)=499937.5","(131+68)/(2)=99.5","(68+131)/(2)=99.5","(73+68)/(2)=70.5"]
["S3","(88+999966.1)/(2)=500027.05","(90+67)/(2)=78.5","(186+67)/(2)=126.5","(67+133)/(2)=100","(67+67)/(2)=67","(999660.1+72)/(2)=499866.05",null,null,null,null,null,null,"S3","(169+999782)/(2)=499975.5","(67+135)/(2)=101","(999682+191)/(2)=499936.5","(89+67)/(2)=78","(67+130)/(2)=98.5","(72+67)/(2)=69.5"]
["S4","(87+999965.1)/(2)=500026.05","(66+66)/(2)=66","(135+66)/(2)=100.5","(66+132)/(2)=99","(66+66)/(2)=66","(999659.1+71)/(2)=499865.05",null,null,null,null,null,null,"S4","(168+999781)/(2)=499974.5","(66+134)/(2)=100","(999681+190)/(2)=499935.5","(88+66)/(2)=77","(66+129)/(2)=97.5","(71+66)/(2)=68.5"]
["S5","(86+999964.1)/(2)=500025.05","(65+65)/(2)=65","(107+65)/(2)=86","(65+131)/(2)=98","(65+65)/(2)=65","(999658.1+70)/(2)=499864.05",null,null,null,null,null,null,"S5","(65+999780)/(2)=499922.5","(65+133)/(2)=99","(999680+189)/(2)=499934.5","(65+65)/(2)=65","(65+128)/(2)=96.5","(70+65)/(2)=67.5"]
["S6","(85+999963.1)/(2)=500024.05","(64+64)/(2)=64","(106+64)/(2)=85","(64+130)/(2)=97","(64+64)/(2)=64","(999657.1+69)/(2)=499863.05",null,null,null,null,null,null,"S6","(64+999779)/(2)=499921.5","(64+132)/(2)=98","(999679+188)/(2)=499933.5","(64+64)/(2)=64","(64+127)/(2)=95.5","(69+64)/(2)=66.5"]
["S7","(84+999962.1)/(2)=500023.05","(63+63)/(2)=63","(105+63)/(2)=84","(63+129)/(2)=96","(63+63)/(2)=63","(999656.1+68)/(2)=499862.05",null,null,null,null,null,null,"S7","(63+999778)/(2)=499920.5","(63+131)/(2)=97","(999678+187)/(2)=499932.5","(63+63)/(2)=63","(63+126)/(2)=94.5","(68+63)/(2)=65.5"]
["S8","(83+999961.1)/(2)=500022.05","(62+62)/(2)=62","(62+62)/(2)=62","(62+128)/(2)=95","(62+62)/(2)=62","(999655.1+67)/(2)=499861.05",null,null,null,null,null,null,"S8","(62+999777)/(2)=499919.5","(62+130)/(2)=96","(999677+186)/(2)=499931.5","(62+62)/(2)=62","(62+125)/(2)=93.5","(67+62)/(2)=64.5"]
["S9","(82+999960.1)/(2)=500021.05","(61+61)/(2)=61","(61+61)/(2)=61","(61+127)/(2)=94","(61+61)/(2)=61","(999654.1+66)/(2)=499860.05",null,null,null,null,null,null,"S9","(61+999776)/(2)=499918.5","(61+129)/(2)=95","(999676+185)/(2)=499930.5","(61+61)/(2)=61","(61+124)/(2)=92.5","(66+61)/(2)=63.5"]
["S10","(81+999959.1)/(2)=500020.05","(60+60)/(2)=60","(60+60)/(2)=60","(60+126)/(2)=93","(60+60)/(2)=60","(999653.1+65)/(2)=499859.05",null,null,null,null,null,null,"S10","(60+999775)/(2)=499917.5","(60+128)/(2)=94","(999675+184)/(2)=499929.5","(60+60)/(2)=60","(60+123)/(2)=91.5","(65+60)/(2)=62.5"]
["S11","(80+999958.1)/(2)=500019.05","(59+59)/(2)=59","(59+59)/(2)=59","(59+125)/(2)=92","(59+59)/(2)=59","(999652.1+64)/(2)=499858.05",null,null,null,null,null,null,"S11","(59+999774)/(2)=499916.5","(59+127)/(2)=93","(999674+183)/(2)=499928.5","(59+59)/(2)=59","(59+122)/(2)=90.5","(64+59)/(2)=61.5"]
["S12","(79+999957.1)/(2)=500018.05","(58+58)/(2)=58","(58+58)/(2)=58","(58+124)/(2)=91","(58+58)/(2)=58","(999651.1+63)/(2)=499857.05",null,null,null,null,null,null,"S12","(58+999773)/(2)=499915.5","(58+126)/(2)=92","(999673+182)/(2)=499927.5","(58+58)/(2)=58","(58+121)/(2)=89.5","(63+58)/(2)=60.5"]
["S13","(78+999956.1)/(2)=500017.05","(57+57)/(2)=57","(57+57)/(2)=57","(57+123)/(2)=90","(57+57)/(2)=57","(999650.1+62)/(2)=499856.05",null,null,null,null,null,null,"S13","(57+999772)/(2)=499914.5","(57+125)/(2)=91","(999672+181)/(2)=499926.5","(57+57)/(2)=57","(57+120)/(2)=88.5","(62+57)/(2)=59.5"]
["S14","(77+999955.1)/(2)=500016.05","(56+56)/(2)=56","(56+56)/(2)=56","(56+122)/(2)=89","(56+56)/(2)=56","(999649.1+61)/(2)=499855.05",null,null,null,null,null,null,"S14","(56+999771)/(2)=499913.5","(56+124)/(2)=90","(999671+180)/(2)=499925.5","(56+56)/(2)=56","(56+119)/(2)=87.5","(61+56)/(2)=58.5"]
["S15","(76+999954.1)/(2)=500015.05","(55+55)/(2)=55","(55+55)/(2)=55","(55+121)/(2)=88","(55+55)/(2)=55","(999648.1+60)/(2)=499854.05",null,null,null,null,null,null,"S15","(55+999770)/(2)=499912.5","(55+123)/(2)=89","(999670+179)/(2)=499924.5","(55+55)/(2)=55","(55+118)/(2)=86.5","(60+55)/(2)=57.5"]
["S16","(75+999953.1)/(2)=500014.05","(54+54)/(2)=54","(54+54)/(2)=54","(54+120)/(2)=87","(54+54)/(2)=54","(999647.1+59)/(2)=499853.05",null,null,null,null,null,null,"S16","(54+999769)/(2)=499911.5","(54+122)/(2)=88","(999669+178)/(2)=499923.5","(54+54)/(2)=54","(54+117)/(2)=85.5","(59+54)/(2)=56.5"]
["S17","(74+999952.1)/(2)=500013.05","(53+53)/(2)=53","(53+53)/(2)=53","(53+119)/(2)=86","(53+53)/(2)=53","(999646.1+58)/(2)=499852.05",null,null,null,null,null,null,"S17","(53+999768)/(2)=499910.5","(53+121)/(2)=87","(999668+177)/(2)=499922.5","(53+53)/(2)=53","(53+116)/(2)=84.5","(58+53)/(2)=55.5"]
["S18","(73+999951.1)/(2)=500012.05","(52+52)/(2)=52","(52+52)/(2)=52","(52+118)/(2)=85","(52+52)/(2)=52","(999645.1+57)/(2)=499851.05",null,null,null,null,null,null,"S18","(52+999767)/(2)=499909.5","(52+120)/(2)=86","(999667+176)/(2)=499921.5","(52+52)/(2)=52","(52+115)/(2)=83.5","(57+52)/(2)=54.5"]
["S19","(72+999950.1)/(2)=500011.05","(51+51)/(2)=51","(51+51)/(2)=51","(51+117)/(2)=84","(51+51)/(2)=51","(999644.1+56)/(2)=499850.05",null,null,null,null,null,null,"S19","(51+999766)/(2)=499908.5","(51+119)/(2)=85","(999666+175)/(2)=499920.5","(51+51)/(2)=51","(51+114)/(2)=82.5","(56+51)/(2)=53.5"]
["S20","(71+999949.1)/(2)=500010.05","(50+50)/(2)=50","(50+50)/(2)=50","(50+116)/(2)=83","(50+50)/(2)=50","(999643.1+55)/(2)=499849.05",null,null,null,null,null,null,"S20","(50+999765)/(2)=499907.5","(50+118)/(2)=84","(999665+174)/(2)=499919.5","(50+50)/(2)=50","(50+113)/(2)=81.5","(55+50)/(2)=52.5"]
["S21","(70+999948.1)/(2)=500009.05","(49+49)/(2)=49","(49+49)/(2)=49","(49+115)/(2)=82","(49+49)/(2)=49","(999642.1+54)/(2)=499848.05",null,null,null,null,null,null,"S21","(49+999764)/(2)=499906.5","(49+117)/(2)=83","(999664+173)/(2)=499918.5","(49+49)/(2)=49","(49+112)/(2)=80.5","(49+49)/(2)=49"]
["S22","(69+999947.1)/(2)=500008.05","(48+48)/(2)=48","(48+48)/(2)=48","(48+114)/(2)=81","(48+48)/(2)=48","(999641.1+53)/(2)=499847.05",null,null,null,null,null,null,"S22","(48+999763)/(2)=499905.5","(48+116)/(2)=82","(999663+172)/(2)=499917.5","(48+48)/(2)=48","(48+111)/(2)=79.5","(48+48)/(2)=48"]
["S23","(68+999946.1)/(2)=500007.05","(47+47)/(2)=47","(47+47)/(2)=47","(47+113)/(2)=80","(47+47)/(2)=47","(999640.1+52)/(2)=499846.05",null,null,null,null,null,null,"S23","(47+999762)/(2)=499904.5","(47+115)/(2)=81","(999662+171)/(2)=499916.5","(47+47)/(2)=47","(47+110)/(2)=78.5","(47+47)/(2)=47"]
["S24","(67+999945.1)/(2)=500006.05","(46+46)/(2)=46","(46+46)/(2)=46","(46+112)/(2)=79","(46+46)/(2)=46","(999639.1+51)/(2)=499845.05",null,null,null,null,null,null,"S24","(46+999761)/(2)=499903.5","(46+114)/(2)=80","(999661+170)/(2)=499915.5","(46+46)/(2)=46","(46+109)/(2)=77.5","(46+46)/(2)=46"]
["S25","(66+999944.1)/(2)=500005.05","(45+45)/(2)=45","(45+45)/(2)=45","(45+111)/(2)=78","(45+45)/(2)=45","(999638.1+50)/(2)=499844.05",null,null,null,null,null,null,"S25","(45+999760)/(2)=499902.5","(45+113)/(2)=79","(999660+169)/(2)=499914.5","(45+45)/(2)=45","(45+108)/(2)=76.5","(45+45)/(2)=45"]
["S26","(65+999943.1)/(2)=500004.05","(44+44)/(2)=44","(44+44)/(2)=44","(44+110)/(2)=77","(44+44)/(2)=44","(999637.1+49)/(2)=499843.05",null,null,null,null,null,null,"S26","(44+999759)/(2)=499901.5","(44+112)/(2)=78","(999659+168)/(2)=499913.5","(44+44)/(2)=44","(44+107)/(2)=75.5","(44+44)/(2)=44"]
["S27","(64+999942.1)/(2)=500003.05","(43+43)/(2)=43","(43+43)/(2)=43","(43+109)/(2)=76","(43+43)/(2)=43","(999636.1+48)/(2)=499842.05",null,null,null,null,null,null,"S27","(43+999758)/(2)=499900.5","(43+111)/(2)=77","(999658+167)/(2)=499912.5","(43+43)/(2)=43","(43+106)/(2)=74.5","(43+43)/(2)=43"]
["S28","(63+999941.1)/(2)=500002.05","(42+42)/(2)=42","(42+42)/(2)=42","(42+108)/(2)=75","(42+42)/(2)=42","(999635.1+47)/(2)=499841.05",null,null,null,null,null,null,"S28","(42+999757)/(2)=499899.5","(42+110)/(2)=76","(999657+166)/(2)=499911.5","(42+42)/(2)=42","(42+105)/(2)=73.5","(42+42)/(2)=42"]
["S29","(62+999940.1)/(2)=500001.05","(41+41)/(2)=41","(41+41)/(2)=41","(41+107)/(2)=74","(41+41)/(2)=41","(999634.1+46)/(2)=499840.05",null,null,null,null,null,null,"S29","(41+999756)/(2)=499898.5","(41+109)/(2)=75","(999656+165)/(2)=499910.5","(41+41)/(2)=41","(41+104)/(2)=72.5","(41+41)/(2)=41"]
["S30","(61+999939.1)/(2)=500000.05","(40+40)/(2)=40","(40+40)/(2)=40","(40+106)/(2)=73","(40+40)/(2)=40","(999633.1+45)/(2)=499839.05",null,null,null,null,null,null,"S30","(40+999755)/(2)=499897.5","(40+108)/(2)=74","(999655+164)/(2)=499909.5","(40+40)/(2)=40","(40+103)/(2)=71.5","(40+40)/(2)=40"]
["S31","(60+999938.1)/(2)=499999.05","(39+39)/(2)=39","(39+39)/(2)=39","(39+105)/(2)=72","(39+39)/(2)=39","(999632.1+44)/(2)=499838.05",null,null,null,null,null,null,"S31","(39+999754)/(2)=499896.5","(39+107)/(2)=73","(999654+163)/(2)=499908.5","(39+39)/(2)=39","(39+102)/(2)=70.5","(39+39)/(2)=39"]
["S32","(59+999937.1)/(2)=499998.05","(38+38)/(2)=38","(38+38)/(2)=38","(38+104)/(2)=71","(38+38)/(2)=38","(999631.1+43)/(2)=499837.05",null,null,null,null,null,null,"S32","(38+999753)/(2)=499895.5","(38+106)/(2)=72","(999653+162)/(2)=499907.5","(38+38)/(2)=38","(38+101)/(2)=69.5","(38+38)/(2)=38"]
["S33","(58+999936.1)/(2)=499997.05","(37+37)/(2)=37","(37+37)/(2)=37","(37+103)/(2)=70","(37+37)/(2)=37","(999630.1+42)/(2)=499836.05",null,null,null,null,null,null,"S33","(37+999752)/(2)=499894.5","(37+105)/(2)=71","(999652+161)/(2)=499906.5","(37+37)/(2)=37","(37+100)/(2)=68.5","(37+37)/(2)=37"]
["S34","(57+999935.1)/(2)=499996.05","(36+36)/(2)=36","(36+36)/(2)=36","(36+102)/(2)=69","(36+36)/(2)=36","(999629.1+41)/(2)=499835.05",null,null,null,null,null,null,"S34","(36+999751)/(2)=499893.5","(36+104)/(2)=70","(999651+160)/(2)=499905.5","(36+36)/(2)=36","(36+99)/(2)=67.5","(36+36)/(2)=36"]
["S35","(56+999934.1)/(2)=499995.05","(35+35)/(2)=35","(35+35)/(2)=35","(35+101)/(2)=68","(35+35)/(2)=35","(999628.1+40)/(2)=499834.05",null,null,null,null,null,null,"S35","(35+999750)/(2)=499892.5","(35+103)/(2)=69","(999650+159)/(2)=499904.5","(35+35)/(2)=35","(35+98)/(2)=66.5","(35+35)/(2)=35"]
["S36","(55+999933.1)/(2)=499994.05","(34+34)/(2)=34","(34+34)/(2)=34","(34+100)/(2)=67","(34+34)/(2)=34","(999627.1+39)/(2)=499833.05",null,null,null,null,null,null,"S36","(34+999749)/(2)=499891.5","(34+102)/(2)=68","(999649+158)/(2)=499903.5","(34+34)/(2)=34","(34+97)/(2)=65.5","(34+34)/(2)=34"]
["S37","(54+999932.1)/(2)=499993.05","(33+33)/(2)=33","(33+33)/(2)=33","(33+99)/(2)=66","(33+33)/(2)=33","(999626.1+38)/(2)=499832.05",null,null,null,null,null,null,"S37","(33+999748)/(2)=499890.5","(33+101)/(2)=67","(999648+157)/(2)=499902.5","(33+33)/(2)=33","(33+96)/(2)=64.5","(33+33)/(2)=33"]
["S38","(53+999931.1)/(2)=499992.05","(32+32)/(2)=32","(32+32)/(2)=32","(32+98)/(2)=65","(32+32)/(2)=32","(999625.1+37)/(2)=499831.05",null,null,null,null,null,null,"S38","(32+999747)/(2)=499889.5","(32+100)/(2)=66","(999647+156)/(2)=499901.5","(32+32)/(2)=32","(32+95)/(2)=63.5","(32+32)/(2)=32"]
["S39","(52+999930.1)/(2)=499991.05","(31+31)/(2)=31","(31+31)/(2)=31","(31+97)/(2)=64","(31+31)/(2)=31","(999624.1+36)/(2)=499830.05",null,null,null,null,null,null,"S39","(31+999746)/(2)=499888.5","(31+99)/(2)=65","(999646+155)/(2)=499900.5","(31+31)/(2)=31","(31+94)/(2)=62.5","(31+31)/(2)=31"]
["S40","(51+999929.1)/(2)=499990.05","(30+30)/(2)=30","(30+30)/(2)=30","(30+96)/(2)=63","(30+30)/(2)=30","(999623.1+35)/(2)=499829.05",null,null,null,null,null,null,"S40","(30+999745)/(2)=499887.5","(30+98)/(2)=64","(999645+154)/(2)=499899.5","(30+30)/(2)=30","(30+93)/(2)=61.5","(30+30)/(2)=30"]
["S41","(50+999928.1)/(2)=499989.05","(29+29)/(2)=29","(29+29)/(2)=29","(29+95)/(2)=62","(29+29)/(2)=29","(999622.1+34)/(2)=499828.05",null,null,null,null,null,null,"S41","(29+999744)/(2)=499886.5","(29+97)/(2)=63","(999644+153)/(2)=499898.5","(29+29)/(2)=29","(29+92)/(2)=60.5","(29+29)/(2)=29"]
["S42","(49+999927.1)/(2)=499988.05","(28+28)/(2)=28","(28+28)/(2)=28","(28+94)/(2)=61","(28+28)/(2)=28","(999621.1+33)/(2)=499827.05",null,null,null,null,null,null,"S42","(28+999743)/(2)=499885.5","(28+96)/(2)=62","(999643+152)/(2)=499897.5","(28+28)/(2)=28","(28+91)/(2)=59.5","(28+28)/(2)=28"]
["S43","(48+999926.1)/(2)=499987.05","(27+27)/(2)=27","(27+27)/(2)=27","(27+93)/(2)=60","(27+27)/(2)=27","(999620.1+32)/(2)=499826.05",null,null,null,null,null,null,"S43","(27+999742)/(2)=499884.5","(27+95)/(2)=61","(999642+151)/(2)=499896.5","(27+27)/(2)=27","(27+90)/(2)=58.5","(27+27)/(2)=27"]
["S44","(47+999925.1)/(2)=499986.05","(26+26)/(2)=26","(26+26)/(2)=26","(26+92)/(2)=59","(26+26)/(2)=26","(999619.1+31)/(2)=499825.05",null,null,null,null,null,null,"S44","(26+999741)/(2)=499883.5","(26+94)/(2)=60","(999641+150)/(2)=499895.5","(26+26)/(2)=26","(26+89)/(2)=57.5","(26+26)/(2)=26"]
["S45","(46+999924.1)/(2)=499985.05","(25+25)/(2)=25","(25+25)/(2)=25","(25+91)/(2)=58","(25+25)/(2)=25","(999618.1+30)/(2)=499824.05",null,null,null,null,null,null,"S45","(25+999740)/(2)=499882.5","(25+93)/(2)=59","(999640+149)/(2)=499894.5","(25+25)/(2)=25","(25+88)/(2)=56.5","(25+25)/(2)=25"]
["S46","(45+999923.1)/(2)=499984.05","(24+24)/(2)=24","(24+24)/(2)=24","(24+90)/(2)=57","(24+24)/(2)=24","(999617.1+29)/(2)=499823.05",null,null,null,null,null,null,"S46","(24+999739)/(2)=499881.5","(24+92)/(2)=58","(999639+148)/(2)=499893.5","(24+24)/(2)=24","(24+87)/(2)=55.5","(24+24)/(2)=24"]
["S47","(44+999922.1)/(2)=499983.05","(23+23)/(2)=23","(23+23)/(2)=23","(23+89)/(2)=56","(23+23)/(2)=23","(999616.1+28)/(2)=499822.05",null,null,null,null,null,null,"S47","(23+999738)/(2)=499880.5","(23+91)/(2)=57","(999638+147)/(2)=499892.5","(23+23)/(2)=23","(23+86)/(2)=54.5","(23+23)/(2)=23"]
["S48","(43+999921.1)/(2)=499982.05","(22+22)/(2)=22","(22+22)/(2)=22","(22+88)/(2)=55","(22+22)/(2)=22","(999615.1+27)/(2)=499821.05",null,null,null,null,null,null,"S48","(22+999737)/(2)=499879.5","(22+90)/(2)=56","(999637+146)/(2)=499891.5","(22+22)/(2)=22","(22+85)/(2)=53.5","(22+22)/(2)=22"]
["S49","(42+999920.1)/(2)=499981.05","(21+21)/(2)=21","(21+21)/(2)=21","(21+87)/(2)=54","(21+21)/(2)=21","(999614.1+26)/(2)=499820.05",null,null,null,null,null,null,"S49","(21+999736)/(2)=499878.5","(21+89)/(2)=55","(999636+145)/(2)=499890.5","(21+21)/(2)=21","(21+84)/(2)=52.5","(21+21)/(2)=21"]
["S50","(41+999919.1)/(2)=499980.05","(20+20)/(2)=20","(20+20)/(2)=20","(20+86)/(2)=53","(20+20)/(2)=20","(999613.1+25)/(2)=499819.05",null,null,null,null,null,null,"S50","(20+999735)/(2)=499877.5","(20+88)/(2)=54","(999635+144)/(2)=499889.5","(20+20)/(2)=20","(20+83)/(2)=51.5","(20+20)/(2)=20"]
["S51","(40+999918.1)/(2)=499979.05","(19+19)/(2)=19","(19+19)/(2)=19","(19+85)/(2)=52","(19+19)/(2)=19","(999612.1+19)/(2)=499815.55",null,null,null,null,null,null,"S51","(19+999734)/(2)=499876.5","(19+87)/(2)=53","(999634+143)/(2)=499888.5","(19+19)/(2)=19","(19+82)/(2)=50.5","(19+19)/(2)=19"]
["S52","(39+999917.1)/(2)=499978.05","(18+18)/(2)=18","(18+18)/(2)=18","(18+84)/(2)=51","(18+18)/(2)=18","(999611.1+18)/(2)=499814.55",null,null,null,null,null,null,"S52","(18+999733)/(2)=499875.5","(18+86)/(2)=52","(999633+142)/(2)=499887.5","(18+18)/(2)=18","(18+81)/(2)=49.5","(18+18)/(2)=18"]
["S53","(38+999916.1)/(2)=499977.05","(17+17)/(2)=17","(17+17)/(2)=17","(17+83)/(2)=50","(17+17)/(2)=17","(999610.1+17)/(2)=499813.55",null,null,null,null,null,null,"S53","(17+999732)/(2)=499874.5","(17+85)/(2)=51","(999632+141)/(2)=499886.5","(17+17)/(2)=17","(17+80)/(2)=48.5","(17+17)/(2)=17"]
["S54","(37+999915.1)/(2)=499976.05","(16+16)/(2)=16","(16+16)/(2)=16","(16+82)/(2)=49","(16+16)/(2)=16","(999609.1+16)/(2)=499812.55",null,null,null,null,null,null,"S54","(16+999731)/(2)=499873.5","(16+84)/(2)=50","(999631+140)/(2)=499885.5","(16+16)/(2)=16","(16+79)/(2)=47.5","(16+16)/(2)=16"]
["S55","(36+999914.1)/(2)=499975.05","(15+15)/(2)=15","(15+15)/(2)=15","(15+81)/(2)=48","(15+15)/(2)=15","(999608.1+15)/(2)=499811.55",null,null,null,null,null,null,"S55","(15+999730)/(2)=499872.5","(15+83)/(2)=49","(999630+139)/(2)=499884.5","(15+15)/(2)=15","(15+78)/(2)=46.5","(15+15)/(2)=15"]
["S56","(35+999913.1)/(2)=499974.05","(14+14)/(2)=14","(14+14)/(2)=14","(14+80)/(2)=47","(14+14)/(2)=14","(999607.1+14)/(2)=499810.55",null,null,null,null,null,null,"S56","(14+999729)/(2)=499871.5","(14+82)/(2)=48","(999629+138)/(2)=499883.5","(14+14)/(2)=14","(14+77)/(2)=45.5","(14+14)/(2)=14"]
["S57","(34+999912.1)/(2)=499973.05","(13+13)/(2)=13","(13+13)/(2)=13","(13+79)/(2)=46","(13+13)/(2)=13","(999606.1+13)/(2)=499809.55",null,null,null,null,null,null,"S57","(13+999728)/(2)=499870.5","(13+81)/(2)=47","(999628+137)/(2)=499882.5","(13+13)/(2)=13","(13+76)/(2)=44.5","(13+13)/(2)=13"]
["S58","(33+999911.1)/(2)=499972.05","(12+12)/(2)=12","(12+12)/(2)=12","(12+78)/(2)=45","(12+12)/(2)=12","(999605.1+12)/(2)=499808.55",null,null,null,null,null,null,"S58","(12+999727)/(2)=499869.5","(12+80)/(2)=46","(999627+136)/(2)=499881.5","(12+12)/(2)=12","(12+75)/(2)=43.5","(12+12)/(2)=12"]
["S59","(32+999910.1)/(2)=499971.05","(11+11)/(2)=11","(11+11)/(2)=11","(11+77)/(2)=44","(11+11)/(2)=11","(999604.1+11)/(2)=499807.55",null,null,null,null,null,null,"S59","(11+999726)/(2)=499868.5","(11+79)/(2)=45","(999626+135)/(2)=499880.5","(11+11)/(2)=11","(11+74)/(2)=42.5","(11+11)/(2)=11"]
["S60","(31+999909.1)/(2)=499970.05","(10+10)/(2)=10","(10+10)/(2)=10","(10+76)/(2)=43","(10+10)/(2)=10","(999603.1+10)/(2)=499806.55",null,null,null,null,null,null,"S60","(10+999725)/(2)=499867.5","(10+78)/(2)=44","(999625+134)/(2)=499879.5","(10+10)/(2)=10","(10+73)/(2)=41.5","(10+10)/(2)=10"]
["S61","(30+999908.1)/(2)=499969.05","(9+9)/(2)=9","(9+9)/(2)=9","(9+75)/(2)=42","(9+9)/(2)=9","(999602.1+9)/(2)=499805.55",null,null,null,null,null,null,"S61","(9+999724)/(2)=499866.5","(9+77)/(2)=43","(999624+133)/(2)=499878.5","(9+9)/(2)=9","(9+72)/(2)=40.5","(9+9)/(2)=9"]
["S62","(29+999907.1)/(2)=499968.05","(8+8)/(2)=8","(8+8)/(2)=8","(8+74)/(2)=41","(8+8)/(2)=8","(999601.1+8)/(2)=499804.55",null,null,null,null,null,null,"S62","(8+999723)/(2)=499865.5","(8+76)/(2)=42","(999623+132)/(2)=499877.5","(8+8)/(2)=8","(8+71)/(2)=39.5","(8+8)/(2)=8"]
["S63","(28+999906.1)/(2)=499967.05","(7+7)/(2)=7","(7+7)/(2)=7","(7+73)/(2)=40","(7+7)/(2)=7","(999600.1+7)/(2)=499803.55",null,null,null,null,null,null,"S63","(7+999722)/(2)=499864.5","(7+75)/(2)=41","(999622+131)/(2)=499876.5","(7+7)/(2)=7","(7+70)/(2)=38.5","(7+7)/(2)=7"]
["S64","(27+999905.1)/(2)=499966.05","(6+6)/(2)=6","(6+6)/(2)=6","(6+72)/(2)=39","(6+6)/(2)=6","(999599.1+6)/(2)=499802.55",null,null,null,null,null,null,"S64","(6+999721)/(2)=499863.5","(6+74)/(2)=40","(999621+88)/(2)=499854.5","(6+6)/(2)=6","(6+69)/(2)=37.5","(6+6)/(2)=6"]
["S65","(26+999904.1)/(2)=499965.05","(5+5)/(2)=5","(5+5)/(2)=5","(5+71)/(2)=38","(5+5)/(2)=5","(999598.1+5)/(2)=499801.55",null,null,null,null,null,null,"S65","(5+999720)/(2)=499862.5","(5+73)/(2)=39","(999620+87)/(2)=499853.5","(5+5)/(2)=5","(5+68)/(2)=36.5","(5+5)/(2)=5"]
["S66","(25+999903.1)/(2)=499964.05","(4+4)/(2)=4","(4+4)/(2)=4","(4+70)/(2)=37","(4+4)/(2)=4","(999597.1+4)/(2)=499800.55",null,null,null,null,null,null,"S66","(4+999719)/(2)=499861.5","(4+72)/(2)=38","(999619+86)/(2)=499852.5","(4+4)/(2)=4","(4+67)/(2)=35.5","(4+4)/(2)=4"]
["S67","(24+999794.1)/(2)=499909.05","(3+3)/(2)=3","(3+3)/(2)=3","(3+45)/(2)=24","(3+3)/(2)=3","(999596.1+3)/(2)=499799.55",null,null,null,null,null,null,"S67","(3+999718)/(2)=499860.5","(3+71)/(2)=37","(999618+59)/(2)=499838.5","(3+3)/(2)=3","(3+66)/(2)=34.5","(3+3)/(2)=3"]
["S68","(23+999793.1)/(2)=499908.05","(2+2)/(2)=2","(2+2)/(2)=2","(2+44)/(2)=23","(2+2)/(2)=2","(999595.1+2)/(2)=499798.55",null,null,null,null,null,null,"S68","(2+999717)/(2)=499859.5","(2+41)/(2)=21.5","(999617+6)/(2)=499811.5","(2+2)/(2)=2","(2+65)/(2)=33.5","(2+2)/(2)=2"]
["S69","(22+999792.1)/(2)=499907.05","(1+1)/(2)=1","(1+1)/(2)=1","(1+1)/(2)=1","(1+1)/(2)=1","(999594.1+1)/(2)=499797.55",null,null,null,null,null,null,"S69","(1+999716)/(2)=499858.5","(1+40)/(2)=20.5","(999616+1)/(2)=499808.5","(1+1)/(2)=1","(1+7)/(2)=4","(1+1)/(2)=1"]
["S70","(0+999641.1)/(2)=499820.55","(0+0)/(2)=0","(0+0)/(2)=0","(0+0)/(2)=0","(0+0)/(2)=0","(999593.1+0)/(2)=499796.55",null,null,null,null,null,null,"S70","(0+999619)/(2)=499809.5","(0+0)/(2)=0","(999615+0)/(2)=499807.5","(0+0)/(2)=0","(0+0)/(2)=0","(0+0)/(2)=0"]
[]
["Lépcsôk(2)","X(A1)","X(A2)","X(A3)","X(A4)","X(A5)","X(A6)",null,null,null,null,null,null,"Lépcsôk(2)","X(A1)","X(A2)","X(A3)","X(A4)","X(A5)","X(A6)"]
["S1",500077,102,131.5,102,101,499868,null,null,null,null,null,null,"S1",500069,103,499938.5,100.5,100.5,71.5]
["S2",500028,81,127.5,101,100,499867,null,null,null,null,null,null,"S2",499976.5,102,499937.5,99.5,99.5,70.5]
["S3",500027,78.5,126.5,100,67,499866,null,null,null,null,null,null,"S3",499975.5,101,499936.5,78,98.5,69.5]
["S4",500026,66,100.5,99,66,499865,null,null,null,null,null,null,"S4",499974.5,100,499935.5,77,97.5,68.5]
["S5",500025,65,86,98,65,499864,null,null,null,null,null,null,"S5",499922.5,99,499934.5,65,96.5,67.5]
["S6",500024,64,85,97,64,499863,null,null,null,null,null,null,"S6",499921.5,98,499933.5,64,95.5,66.5]
["S7",500023,63,84,96,63,499862,null,null,null,null,null,null,"S7",499920.5,97,499932.5,63,94.5,65.5]
["S8",500022,62,62,95,62,499861,null,null,null,null,null,null,"S8",499919.5,96,499931.5,62,93.5,64.5]
["S9",500021,61,61,94,61,499860,null,null,null,null,null,null,"S9",499918.5,95,499930.5,61,92.5,63.5]
["S10",500020,60,60,93,60,499859,null,null,null,null,null,null,"S10",499917.5,94,499929.5,60,91.5,62.5]
["S11",500019,59,59,92,59,499858,null,null,null,null,null,null,"S11",499916.5,93,499928.5,59,90.5,61.5]
["S12",500018,58,58,91,58,499857,null,null,null,null,null,null,"S12",499915.5,92,499927.5,58,89.5,60.5]
["S13",500017,57,57,90,57,499856,null,null,null,null,null,null,"S13",499914.5,91,499926.5,57,88.5,59.5]
["S14",500016,56,56,89,56,499855,null,null,null,null,null,null,"S14",499913.5,90,499925.5,56,87.5,58.5]
["S15",500015,55,55,88,55,499854,null,null,null,null,null,null,"S15",499912.5,89,499924.5,55,86.5,57.5]
["S16",500014,54,54,87,54,499853,null,null,null,null,null,null,"S16",499911.5,88,499923.5,54,85.5,56.5]
["S17",500013,53,53,86,53,499852,null,null,null,null,null,null,"S17",499910.5,87,499922.5,53,84.5,55.5]
["S18",500012,52,52,85,52,499851,null,null,null,null,null,null,"S18",499909.5,86,499921.5,52,83.5,54.5]
["S19",500011,51,51,84,51,499850,null,null,null,null,null,null,"S19",499908.5,85,499920.5,51,82.5,53.5]
["S20",500010,50,50,83,50,499849,null,null,null,null,null,null,"S20",499907.5,84,499919.5,50,81.5,52.5]
["S21",500009,49,49,82,49,499848,null,null,null,null,null,null,"S21",499906.5,83,499918.5,49,80.5,49]
["S22",500008,48,48,81,48,499847,null,null,null,null,null,null,"S22",499905.5,82,499917.5,48,79.5,48]
["S23",500007,47,47,80,47,499846,null,null,null,null,null,null,"S23",499904.5,81,499916.5,47,78.5,47]
["S24",500006,46,46,79,46,499845,null,null,null,null,null,null,"S24",499903.5,80,499915.5,46,77.5,46]
["S25",500005,45,45,78,45,499844,null,null,null,null,null,null,"S25",499902.5,79,499914.5,45,76.5,45]
["S26",500004,44,44,77,44,499843,null,null,null,null,null,null,"S26",499901.5,78,499913.5,44,75.5,44]
["S27",500003,43,43,76,43,499842,null,null,null,null,null,null,"S27",499900.5,77,499912.5,43,74.5,43]
["S28",500002,42,42,75,42,499841,null,null,null,null,null,null,"S28",499899.5,76,499911.5,42,73.5,42]
["S29",500001,41,41,74,41,499840,null,null,null,null,null,null,"S29",499898.5,75,499910.5,41,72.5,41]
["S30",500000,40,40,73,40,499839,null,null,null,null,null,null,"S30",499897.5,74,499909.5,40,71.5,40]
["S31",499999,39,39,72,39,499838,null,null,null,null,null,null,"S31",499896.5,73,499908.5,39,70.5,39]
["S32",499998,38,38,71,38,499837,null,null,null,null,null,null,"S32",499895.5,72,499907.5,38,69.5,38]
["S33",499997,37,37,70,37,499836,null,null,null,null,null,null,"S33",499894.5,71,499906.5,37,68.5,37]
["S34",499996,36,36,69,36,499835,null,null,null,null,null,null,"S34",499893.5,70,499905.5,36,67.5,36]
["S35",499995,35,35,68,35,499834,null,null,null,null,null,null,"S35",499892.5,69,499904.5,35,66.5,35]
["S36",499994,34,34,67,34,499833,null,null,null,null,null,null,"S36",499891.5,68,499903.5,34,65.5,34]
["S37",499993,33,33,66,33,499832,null,null,null,null,null,null,"S37",499890.5,67,499902.5,33,64.5,33]
["S38",499992,32,32,65,32,499831,null,null,null,null,null,null,"S38",499889.5,66,499901.5,32,63.5,32]
["S39",499991,31,31,64,31,499830,null,null,null,null,null,null,"S39",499888.5,65,499900.5,31,62.5,31]
["S40",499990,30,30,63,30,499829,null,null,null,null,null,null,"S40",499887.5,64,499899.5,30,61.5,30]
["S41",499989,29,29,62,29,499828,null,null,null,null,null,null,"S41",499886.5,63,499898.5,29,60.5,29]
["S42",499988,28,28,61,28,499827,null,null,null,null,null,null,"S42",499885.5,62,499897.5,28,59.5,28]
["S43",499987,27,27,60,27,499826,null,null,null,null,null,null,"S43",499884.5,61,499896.5,27,58.5,27]
["S44",499986,26,26,59,26,499825,null,null,null,null,null,null,"S44",499883.5,60,499895.5,26,57.5,26]
["S45",499985,25,25,58,25,499824,null,null,null,null,null,null,"S45",499882.5,59,499894.5,25,56.5,25]
["S46",499984,24,24,57,24,499823,null,null,null,null,null,null,"S46",499881.5,58,499893.5,24,55.5,24]
["S47",499983,23,23,56,23,499822,null,null,null,null,null,null,"S47",499880.5,57,499892.5,23,54.5,23]
["S48",499982,22,22,55,22,499821,null,null,null,null,null,null,"S48",499879.5,56,499891.5,22,53.5,22]
["S49",499981,21,21,54,21,499820,null,null,null,null,null,null,"S49",499878.5,55,499890.5,21,52.5,21]
["S50",499980,20,20,53,20,499819,null,null,null,null,null,null,"S50",499877.5,54,499889.5,20,51.5,20]
["S51",499979,19,19,52,19,499815.5,null,null,null,null,null,null,"S51",499876.5,53,499888.5,19,50.5,19]
["S52",499978,18,18,51,18,499814.5,null,null,null,null,null,null,"S52",499875.5,52,499887.5,18,49.5,18]
["S53",499977,17,17,50,17,499813.5,null,null,null,null,null,null,"S53",499874.5,51,499886.5,17,48.5,17]
["S54",499976,16,16,49,16,499812.5,null,null,null,null,null,null,"S54",499873.5,50,499885.5,16,47.5,16]
["S55",499975,15,15,48,15,499811.5,null,null,null,null,null,null,"S55",499872.5,49,499884.5,15,46.5,15]
["S56",499974,14,14,47,14,499810.5,null,null,null,null,null,null,"S56",499871.5,48,499883.5,14,45.5,14]
["S57",499973,13,13,46,13,499809.5,null,null,null,null,null,null,"S57",499870.5,47,499882.5,13,44.5,13]
["S58",499972,12,12,45,12,499808.5,null,null,null,null,null,null,"S58",499869.5,46,499881.5,12,43.5,12]
["S59",499971,11,11,44,11,499807.5,null,null,null,null,null,null,"S59",499868.5,45,499880.5,11,42.5,11]
["S60",499970,10,10,43,10,499806.5,null,null,null,null,null,null,"S60",499867.5,44,499879.5,10,41.5,10]
["S61",499969,9,9,42,9,499805.5,null,null,null,null,null,null,"S61",499866.5,43,499878.5,9,40.5,9]
["S62",499968,8,8,41,8,499804.5,null,null,null,null,null,null,"S62",499865.5,42,499877.5,8,39.5,8]
["S63",499967,7,7,40,7,499803.5,null,null,null,null,null,null,"S63",499864.5,41,499876.5,7,38.5,7]
["S64",499966,6,6,39,6,499802.5,null,null,null,null,null,null,"S64",499863.5,40,499854.5,6,37.5,6]
["S65",499965,5,5,38,5,499801.5,null,null,null,null,null,null,"S65",499862.5,39,499853.5,5,36.5,5]
["S66",499964,4,4,37,4,499800.5,null,null,null,null,null,null,"S66",499861.5,38,499852.5,4,35.5,4]
["S67",499909,3,3,24,3,499799.5,null,null,null,null,null,null,"S67",499860.5,37,499838.5,3,34.5,3]
["S68",499908,2,2,23,2,499798.5,null,null,null,null,null,null,"S68",499859.5,21.5,499811.5,2,33.5,2]
["S69",499907,1,1,1,1,499797.5,null,null,null,null,null,null,"S69",499858.5,20.5,499808.5,1,4,1]
["S70",499820.5,0,0,0,0,499796.5,null,null,null,null,null,null,"S70",499809.5,0,499807.5,0,0,0]
[]
["COCO:Y0","X(A1)","X(A2)","X(A3)","X(A4)","X(A5)","X(A6)","Becslés","Tény+0","Delta","Delta/Tény","validitas",null,"COCO:Y0","X(A1)","X(A2)","X(A3)","X(A4)","X(A5)","X(A6)","Becslés","Tény+0","Delta","Delta/Tény"]
["O1",499982,31,17,24,15,499805.5,999874.6,1000000,125.4,0.01,{"$f":"IF(J224*W224<=0,\"valid\",\"invalid\")","v":"valid"},null,"O1",499904.5,73,499921.5,78,85.5,62.5,1000125,1000000,-125,-0.01]
["O2",499990,44,54,53,43,499822,1000006.1,1000000,-6.1,0,{"$f":"IF(J225*W225<=0,\"valid\",\"invalid\")","v":"valid"},null,"O2",499896.5,60,499884.5,49,58.5,46,999994.5,1000000,5.5,0]
["O3",499985,20,28,56,28,499826,999943.1,1000000,56.9,0.01,"valid",null,"O3",499901.5,83,499910.5,46,73.5,42,1000056.5,1000000,-56.5,-0.01]
["O4",499984,5,4,50,11,499797.5,999851.6,1000000,148.4,0.01,"valid",null,"O4",499902.5,98,499934.5,52,89.5,70.5,1000147,1000000,-147,-0.01]
["O5",500008,102,51,93,60,499841,1000155.1,1000000,-155.1,-0.02,"valid",null,"O5",499878.5,0,499888.5,9,41.5,28,999845.5,1000000,154.5,0.02]
["O6",499995,49,59,60,36,499853,1000052.1,1000000,-52.1,-0.01,"valid",null,"O6",499891.5,54,499880.5,45,65.5,15,999951.5,1000000,48.5,0]
["O7",500013,38,49,63,38,499810.5,1000011.6,1000000,-11.6,0,"valid",null,"O7",499873.5,65,499889.5,39,63.5,57.5,999988,1000000,12,0]
["O8",500005,24,14,74,30,499802.5,999949.6,1000000,50.4,0.01,"valid",null,"O8",499881.5,79,499924.5,28,70.5,65.5,1000049,1000000,-49,0]
["O9",500017,65,48,95,101,499830,1000156.1,1000000,-156.1,-0.02,"valid",null,"O9",499869.5,38,499890.5,7,0,38,999843,1000000,157,0.02]
["O10",500025,23,31,85,25,499803.5,999992.6,1000000,7.4,0,"valid",null,"O10",499861.5,80,499907.5,17,75.5,64.5,1000006,1000000,-6,0]
["O11",499908,34,20,62,29,499864,999917.1,1000000,82.9,0.01,"valid",null,"O11",499975.5,69,499918.5,40,71.5,8,1000082.5,1000000,-82.5,-0.01]
["O12",499970,57,46,60,63,499864,1000060.1,1000000,-60.1,-0.01,"valid",null,"O12",499916.5,46,499892.5,45,37.5,8,999945.5,1000000,54.5,0.01]
["O13",499999,55,39,78,45,499864,1000080.1,1000000,-80.099999999999994,-0.01,"valid",null,"O13",499887.5,48,499899.5,24,55.5,8,999922.5,1000000,77.5,0.01]
["O14",499968,17,15,84,21,499813.5,999918.6,1000000,81.400000000000006,0.01,"valid",null,"O14",499918.5,86,499923.5,19,79.5,55.5,1000082,1000000,-82,-0.01]
["O15",500028,64,62,102,65,499867,1000188.1,1000000,-188.1,-0.02,"valid",null,"O15",499858.5,40,499876.5,0,35.5,1,999811.5,1000000,188.5,0.02]
["O16",500016,52,86,90,55,499868,1000167.1,1000000,-167.1,-0.02,"valid",null,"O16",499870.5,51,499852.5,13,45.5,0,999832.5,1000000,167.5,0.02]
["O17",500003,50,59,82,62,499866,1000122.1,1000000,-122.1,-0.01,"valid",null,"O17",499883.5,53,499880.5,21,38.5,2,999878.5,1000000,121.5,0.01]
["O18",499971,25,2,88,47,499864,999997.1,1000000,2.9,0,"valid",null,"O18",499915.5,78,499936.5,15,53.5,8,1000006.5,1000000,-6.5,0]
["O19",499977,81,85,101,46,499864,1000154.1,1000000,-154.1,-0.02,"valid",null,"O19",499909.5,20.5,499853.5,1,54.5,8,999847,1000000,153,0.02]
["O20",499981,60,51,98,64,499859,1000113.1,1000000,-113.1,-0.01,"valid",null,"O20",499905.5,43,499888.5,4,36.5,9,999886.5,1000000,113.5,0.01]
["O21",499989,12,8,24,14,499799.5,999846.6,1000000,153.4,0.02,"valid",null,"O21",499897.5,91,499930.5,78,87.5,68.5,1000153,1000000,-153,-0.02]
["O22",500007,29,45,39,53,499813.5,999986.6,1000000,13.4,0,"valid",null,"O22",499879.5,75,499894.5,63,47.5,55.5,1000015,1000000,-15,0]
["O23",499991,8,21,46,1,499809.5,999876.6,1000000,123.4,0.01,"valid",null,"O23",499895.5,95,499917.5,56,99.5,58.5,1000122,1000000,-122,-0.01]
["O24",500000,2,23,45,2,499820,999892.1,1000000,107.9,0.01,"valid",null,"O24",499886.5,101,499915.5,57,98.5,48,1000106.5,1000000,-106.5,-0.01]
["O25",499988,78.5,61,67,100,499850,1000144.6,1000000,-144.6,-0.01,"valid",null,"O25",499898.5,21.5,499877.5,35,4,18,999854.5,1000000,145.5,0.01]
["O26",500023,36,57,54,44,499798.5,1000012.6,1000000,-12.6,0,"valid",null,"O26",499863.5,67,499882.5,48,56.5,69.5,999987,1000000,13,0]
["O27",500019,14,38,44,4,499814.5,999933.6,1000000,66.400000000000006,0.01,"valid",null,"O27",499867.5,89,499900.5,58,96.5,53.5,1000065,1000000,-65,-0.01]
["O28",499993,10,18,66,16,499800.5,999903.6,1000000,96.4,0.01,"valid",null,"O28",499893.5,93,499920.5,37,84.5,67.5,1000096,1000000,-96,-0.01]
["O29",499986,56,126.5,99,51,499807.5,1000126.1,1000000,-126.1,-0.01,"valid",null,"O29",499900.5,47,499811.5,3,50.5,61.5,999874,1000000,126,0.01]
["O30",500027,21,35,72,12,499823,999990.1,1000000,9.9,0,"valid",null,"O30",499859.5,82,499903.5,30,88.5,45,1000008.5,1000000,-8.5,0]
["O31",499974,4,0,0,40,499847,999865.1,1000000,134.9,0.01,"valid",null,"O31",499912.5,99,499938.5,100.5,60.5,24,1000135,1000000,-135,-0.01]
["O32",499979,29,27,42,22,499847,999946.1,1000000,53.9,0.01,"valid",null,"O32",499907.5,75,499911.5,60,78.5,24,1000056.5,1000000,-56.5,-0.01]
["O33",499992,6,24,1,8,499847,999878.1,1000000,121.9,0.01,"valid",null,"O33",499894.5,97,499914.5,99.5,92.5,24,1000122,1000000,-122,-0.01]
["O34",499964,1,11,37,0,499819,999832.1,1000000,167.9,0.02,"valid",null,"O34",499922.5,102,499927.5,65,100.5,49,1000166.5,1000000,-166.5,-0.02]
["O35",500020,45,30,70,39,499856,1000060.1,1000000,-60.1,-0.01,"valid",null,"O35",499866.5,58,499909.5,32,61.5,12,999939.5,1000000,60.5,0.01]
["O36",500009,42,36,71,49,499848,1000055.1,1000000,-55.1,-0.01,"valid",null,"O36",499877.5,61,499902.5,31,52.5,20,999944.5,1000000,55.5,0.01]
["O37",500001,26,30,52,33,499837,999979.1,1000000,20.9,0,"valid",null,"O37",499885.5,77,499909.5,51,67.5,31,1000021.5,1000000,-21.5,0]
["O38",499998,13,7,43,20,499828,999909.1,1000000,90.9,0.01,"valid",null,"O38",499889.5,90,499931.5,59,80.5,40,1000090.5,1000000,-90.5,-0.01]
["O39",500022,47,32,86,58,499858,1000103.1,1000000,-103.1,-0.01,"valid",null,"O39",499864.5,57,499906.5,16,42.5,10,999896.5,1000000,103.5,0.01]
["O40",499998,19,26,69,28,499855,999995.1,1000000,4.9000000000000004,0,"valid",null,"O40",499889.5,84,499912.5,34,73.5,13,1000006.5,1000000,-6.5,0]
["O41",499907,32,22,60,18,499847,999886.1,1000000,113.9,0.01,"valid",null,"O41",499976.5,71,499916.5,45,82.5,24,1000115.5,1000000,-115.5,-0.01]
["O42",499909,39,43,73,38,499824,999926.1,1000000,73.900000000000006,0.01,"valid",null,"O42",499974.5,64,499895.5,29,63.5,44,1000070.5,1000000,-70.5,-0.01]
["O43",499980,27,40,69,6,499835,999957.1,1000000,42.9,0,"valid",null,"O43",499906.5,76,499898.5,34,94.5,33,1000042.5,1000000,-42.5,0]
["O44",499965,3,10,80,10,499804.5,999872.6,1000000,127.4,0.01,"valid",null,"O44",499921.5,100,499928.5,23,91.5,63.5,1000128,1000000,-128,-0.01]
["O45",499987,61,47,96,61,499841,1000093.1,1000000,-93.1,-0.01,"valid",null,"O45",499899.5,42,499891.5,6,39.5,28,999906.5,1000000,93.5,0.01]
["O46",499969,59,131.5,92,56,499815.5,1000123.1,1000000,-123.1,-0.01,"valid",null,"O46",499917.5,44,499807.5,10,44.5,52.5,999876,1000000,124,0.01]
["O47",499973,41,53,76,36,499807.5,999986.6,1000000,13.4,0,"valid",null,"O47",499913.5,62,499885.5,27,65.5,61.5,1000015,1000000,-15,0]
["O48",499983,16,6,64,31,499842,999942.1,1000000,57.9,0.01,"valid",null,"O48",499903.5,87,499932.5,38,69.5,26,1000056.5,1000000,-56.5,-0.01]
["O49",499820.5,66,127.5,100,67,499829,1000010.1,1000000,-10.1,0,"valid",null,"O49",500069,37,499808.5,2,33.5,39,999989,1000000,11,0]
["O50",500011,22,52,90,19,499851,1000045.1,1000000,-45.1,0,"valid",null,"O50",499875.5,81,499886.5,13,81.5,17,999954.5,1000000,45.5,0]
["O51",499976,18,5,38,26,499821,999884.1,1000000,115.9,0.01,"valid",null,"O51",499910.5,85,499933.5,64,74.5,47,1000114.5,1000000,-114.5,-0.01]
["O52",499967,40,37,77,60,499832,1000013.1,1000000,-13.1,0,"valid",null,"O52",499919.5,63,499901.5,25,41.5,37,999987.5,1000000,12.5,0]
["O53",499978,7,9,47,7,499811.5,999859.6,1000000,140.4,0.01,"valid",null,"O53",499908.5,96,499929.5,55,93.5,56.5,1000139,1000000,-139,-0.01]
["O54",499994,0,1,40,3,499796.5,999834.6,1000000,165.4,0.02,"valid",null,"O54",499892.5,103,499937.5,62,97.5,71.5,1000164,1000000,-164,-0.02]
["O55",500077,62,34,76,57,499834,1000140.1,1000000,-140.1,-0.01,"valid",null,"O55",499809.5,41,499904.5,27,43.5,34,999859.5,1000000,140.5,0.01]
["O56",499996,51,55,60,52,499852,1000066.1,1000000,-66.099999999999994,-0.01,"valid",null,"O56",499890.5,52,499883.5,45,48.5,16,999935.5,1000000,64.5,0.01]
["O57",500018,35,42,66,32,499849,1000042.1,1000000,-42.1,0,"valid",null,"O57",499868.5,68,499896.5,37,68.5,19,999957.5,1000000,42.5,0]
["O58",500021,9,3,52,10,499808.5,999903.6,1000000,96.4,0.01,"valid",null,"O58",499865.5,94,499935.5,51,91.5,59.5,1000097,1000000,-97,-0.01]
["O59",500014,58,57,94,51,499827,1000101.1,1000000,-101.1,-0.01,"valid",null,"O59",499872.5,45,499882.5,8,50.5,41,999899.5,1000000,100.5,0.01]
["O60",500002,15,25,61,17,499801.5,999921.6,1000000,78.400000000000006,0.01,"valid",null,"O60",499884.5,88,499913.5,41,83.5,66.5,1000077,1000000,-77,-0.01]
["O61",500010,31,16,41,23,499833,999954.1,1000000,45.9,0,"valid",null,"O61",499876.5,73,499922.5,61,77.5,35,1000045.5,1000000,-45.5,0]
["O62",500006,44,13,49,34,499832,999978.1,1000000,21.9,0,"valid",null,"O62",499880.5,60,499925.5,54,66.5,37,1000023.5,1000000,-23.5,0]
["O63",499975,37,33,55,5,499836,999941.1,1000000,58.9,0.01,"valid",null,"O63",499911.5,66,499905.5,47,95.5,32,1000057.5,1000000,-57.5,-0.01]
["O64",499966,11,12,88,14,499825,999916.1,1000000,83.9,0.01,"valid",null,"O64",499920.5,92,499926.5,15,87.5,43,1000084.5,1000000,-84.5,-0.01]
["O65",500026,64,41,82,43,499854,1000110.1,1000000,-110.1,-0.01,"valid",null,"O65",499860.5,40,499897.5,21,58.5,14,999891.5,1000000,108.5,0.01]
["O66",500015,47,60,91,41,499857,1000111.1,1000000,-111.1,-0.01,{"$f":"IF(J289*W289<=0,\"valid\",\"invalid\")","v":"valid"},null,"O66",499871.5,57,499878.5,11,59.5,11,999888.5,1000000,111.5,0.01]
["O67",500012,48,45,84,24,499838,1000051.1,1000000,-51.1,-0.01,"valid",null,"O67",499874.5,55,499894.5,19,76.5,30,999949.5,1000000,50.5,0.01]
["O68",500004,33,19,49,54,499839,999998.1,1000000,1.9,0,"valid",null,"O68",499882.5,70,499919.5,54,46.5,29,1000001.5,1000000,-1.5,0]
["O69",499972,53,100.5,97,66,499865,1000153.6,1000000,-153.6,-0.02,"valid",null,"O69",499914.5,50,499838.5,5,34.5,3,999845.5,1000000,154.5,0.02]
["O70",500024,54,84,80,49,499843,1000134.1,1000000,-134.1,-0.01,"valid",null,"O70",499862.5,49,499854.5,23,52.5,25,999866.5,1000000,133.5,0.01]
[]
["S1 összeg:",1000381.5,null,null,null,null,null,null,null,null,null,null,null,"S1 összeg:",1000383]
["S70 összeg:",999617,null,null,null,null,null,null,null,null,null,null,null,"S70 összeg:",999617]
["Becslés összeg:",70000001,null,null,null,null,null,null,null,null,null,null,null,"Becslés összeg:",70000000.5]
["Tény összeg:",70000000,null,null,null,null,null,null,null,null,null,null,null,"Tény összeg:",70000000]
["Tény-becslés eltérés:",1,null,null,null,null,null,null,null,null,null,null,null,"Tény-becslés eltérés:",0.5]
["Tény négyzetösszeg:",null,null,null,null,null,null,null,null,null,null,null,null,"Tény négyzetösszeg:"]
["Becslés négyzetösszeg:",null,null,null,null,null,null,null,null,null,null,null,null,"Becslés négyzetösszeg:"]
["Négyzetösszeg hiba:",0,null,null,null,null,null,null,null,null,null,null,null,"Négyzetösszeg hiba:",0]
[]
["Open url",null,null,null,null,null,null,null,null,null,null,null,null,"Open url"]
[]
["Maximális memória használat: 1.48 Mb",null,null,null,null,null,null,null,null,null,null,null,null,"Maximális memória használat: 1.48 Mb"]
["A futtatás idôtartama: 0.29 mp (0 p)",null,null,null,null,null,null,null,null,null,null,null,null,"A futtatás idôtartama: 0.22 mp (0 p)"]

{"sheet":"eredmenyek","index":9,"n_rows":74,"n_cols":13,"rows_kept":74,"cut":false,"hidden":false,"merged":[]}
[]
[]
[null,null,{"$f":"OAM_ertek!W4","v":"burgonya"},{"$f":"OAM_ertek!X4","v":"Búza *összesen*na.*na."},{"$f":"OAM_ertek!Y4","v":"kukorica"},{"$f":"OAM_ertek!Z4","v":"napraforgó"},{"$f":"OAM_ertek!AA4","v":"őszi árpa"},{"$f":"OAM_ertek!AB4","v":"Rozs *összesen*na.*na."}]
[{"$f":"OAM_ertek!U5","v":"Régió"},{"$f":"OAM_ertek!V5","v":"Év"},{"$f":"OAM_ertek!W5","v":"t/ha"},{"$f":"OAM_ertek!X5","v":"t/ha"},{"$f":"OAM_ertek!Y5","v":"t/ha"},{"$f":"OAM_ertek!Z5","v":"t/ha"},{"$f":"OAM_ertek!AA5","v":"t/ha"},{"$f":"OAM_ertek!AB5","v":"t/ha"},{"$f":"OAM_ertek!AC5","v":"Y0"},{"$f":"modellek!H223","v":"Becslés"},{"$f":"modellek!L223","v":"validitas"},{"$f":"A4","v":"Régió"},{"$f":"B4","v":"Év"}]
[{"$f":"OAM_ertek!U6","v":"Dél-Alföld"},{"$f":"OAM_ertek!V6","v":2000},{"$f":"OAM_ertek!W6","v":48},{"$f":"OAM_ertek!X6","v":39},{"$f":"OAM_ertek!Y6","v":53},{"$f":"OAM_ertek!Z6","v":67},{"$f":"OAM_ertek!AA6","v":55},{"$f":"OAM_ertek!AB6","v":61},{"$f":"OAM_ertek!AC6","v":1000000},{"$f":"modellek!H224","v":999874.6},{"$f":"modellek!L224","v":"valid"},{"$f":"A5","v":"Dél-Alföld"},2000]
[{"$f":"OAM_ertek!U7","v":"Dél-Alföld"},{"$f":"OAM_ertek!V7","v":2001},{"$f":"OAM_ertek!W7","v":40},{"$f":"OAM_ertek!X7","v":26},{"$f":"OAM_ertek!Y7","v":16},{"$f":"OAM_ertek!Z7","v":50},{"$f":"OAM_ertek!AA7","v":27},{"$f":"OAM_ertek!AB7","v":47},{"$f":"OAM_ertek!AC7","v":1000000},{"$f":"modellek!H225","v":1000006.1},{"$f":"modellek!L225","v":"valid"},"Dél-Alföld",2001]
[{"$f":"OAM_ertek!U8","v":"Dél-Alföld"},{"$f":"OAM_ertek!V8","v":2002},{"$f":"OAM_ertek!W8","v":45},{"$f":"OAM_ertek!X8","v":50},{"$f":"OAM_ertek!Y8","v":42},{"$f":"OAM_ertek!Z8","v":47},{"$f":"OAM_ertek!AA8","v":42},{"$f":"OAM_ertek!AB8","v":43},{"$f":"OAM_ertek!AC8","v":1000000},{"$f":"modellek!H226","v":999943.1},{"$f":"modellek!L226","v":"valid"},"Dél-Alföld",2002]
[{"$f":"OAM_ertek!U9","v":"Dél-Alföld"},{"$f":"OAM_ertek!V9","v":2003},{"$f":"OAM_ertek!W9","v":46},{"$f":"OAM_ertek!X9","v":65},{"$f":"OAM_ertek!Y9","v":66},{"$f":"OAM_ertek!Z9","v":53},{"$f":"OAM_ertek!AA9","v":59},{"$f":"OAM_ertek!AB9","v":69},{"$f":"OAM_ertek!AC9","v":1000000},{"$f":"modellek!H227","v":999851.6},{"$f":"modellek!L227","v":"valid"},"Dél-Alföld",2003]
[{"$f":"OAM_ertek!U10","v":"Dél-Alföld"},{"$f":"OAM_ertek!V10","v":2004},{"$f":"OAM_ertek!W10","v":22},{"$f":"OAM_ertek!X10","v":1},{"$f":"OAM_ertek!Y10","v":19},{"$f":"OAM_ertek!Z10","v":10},{"$f":"OAM_ertek!AA10","v":10},{"$f":"OAM_ertek!AB10","v":28},{"$f":"OAM_ertek!AC10","v":1000000},{"$f":"modellek!H228","v":1000155.1},{"$f":"modellek!L228","v":"valid"},"Dél-Alföld",2004]
[{"$f":"OAM_ertek!U11","v":"Dél-Alföld"},{"$f":"OAM_ertek!V11","v":2005},{"$f":"OAM_ertek!W11","v":35},{"$f":"OAM_ertek!X11","v":21},{"$f":"OAM_ertek!Y11","v":11},{"$f":"OAM_ertek!Z11","v":43},{"$f":"OAM_ertek!AA11","v":34},{"$f":"OAM_ertek!AB11","v":16},{"$f":"OAM_ertek!AC11","v":1000000},{"$f":"modellek!H229","v":1000052.1},{"$f":"modellek!L229","v":"valid"},"Dél-Alföld",2005]
[{"$f":"OAM_ertek!U12","v":"Dél-Alföld"},{"$f":"OAM_ertek!V12","v":2006},{"$f":"OAM_ertek!W12","v":17},{"$f":"OAM_ertek!X12","v":32},{"$f":"OAM_ertek!Y12","v":21},{"$f":"OAM_ertek!Z12","v":40},{"$f":"OAM_ertek!AA12","v":32},{"$f":"OAM_ertek!AB12","v":56},{"$f":"OAM_ertek!AC12","v":1000000},{"$f":"modellek!H230","v":1000011.6},{"$f":"modellek!L230","v":"valid"},"Dél-Alföld",2006]
[{"$f":"OAM_ertek!U13","v":"Dél-Alföld"},{"$f":"OAM_ertek!V13","v":2007},{"$f":"OAM_ertek!W13","v":25},{"$f":"OAM_ertek!X13","v":46},{"$f":"OAM_ertek!Y13","v":56},{"$f":"OAM_ertek!Z13","v":29},{"$f":"OAM_ertek!AA13","v":40},{"$f":"OAM_ertek!AB13","v":64},{"$f":"OAM_ertek!AC13","v":1000000},{"$f":"modellek!H231","v":999949.6},{"$f":"modellek!L231","v":"valid"},"Dél-Alföld",2007]
[{"$f":"OAM_ertek!U14","v":"Dél-Alföld"},{"$f":"OAM_ertek!V14","v":2008},{"$f":"OAM_ertek!W14","v":13},{"$f":"OAM_ertek!X14","v":5},{"$f":"OAM_ertek!Y14","v":22},{"$f":"OAM_ertek!Z14","v":8},{"$f":"OAM_ertek!AA14","v":1},{"$f":"OAM_ertek!AB14","v":39},{"$f":"OAM_ertek!AC14","v":1000000},{"$f":"modellek!H232","v":1000156.1},{"$f":"modellek!L232","v":"valid"},"Dél-Alföld",2008]
[{"$f":"OAM_ertek!U15","v":"Dél-Alföld"},{"$f":"OAM_ertek!V15","v":2009},{"$f":"OAM_ertek!W15","v":5},{"$f":"OAM_ertek!X15","v":47},{"$f":"OAM_ertek!Y15","v":39},{"$f":"OAM_ertek!Z15","v":18},{"$f":"OAM_ertek!AA15","v":45},{"$f":"OAM_ertek!AB15","v":63},{"$f":"OAM_ertek!AC15","v":1000000},{"$f":"modellek!H233","v":999992.6},{"$f":"modellek!L233","v":"valid"},"Dél-Alföld",2009]
[{"$f":"OAM_ertek!U16","v":"Dél-Dunántúl"},{"$f":"OAM_ertek!V16","v":2000},{"$f":"OAM_ertek!W16","v":68},{"$f":"OAM_ertek!X16","v":36},{"$f":"OAM_ertek!Y16","v":50},{"$f":"OAM_ertek!Z16","v":41},{"$f":"OAM_ertek!AA16","v":41},{"$f":"OAM_ertek!AB16","v":5},{"$f":"OAM_ertek!AC16","v":1000000},{"$f":"modellek!H234","v":999917.1},{"$f":"modellek!L234","v":"valid"},"Dél-Dunántúl",2000]
[{"$f":"OAM_ertek!U17","v":"Dél-Dunántúl"},{"$f":"OAM_ertek!V17","v":2001},{"$f":"OAM_ertek!W17","v":60},{"$f":"OAM_ertek!X17","v":13},{"$f":"OAM_ertek!Y17","v":24},{"$f":"OAM_ertek!Z17","v":43},{"$f":"OAM_ertek!AA17","v":7},{"$f":"OAM_ertek!AB17","v":5},{"$f":"OAM_ertek!AC17","v":1000000},{"$f":"modellek!H235","v":1000060.1},{"$f":"modellek!L235","v":"valid"},"Dél-Dunántúl",2001]
[{"$f":"OAM_ertek!U18","v":"Dél-Dunántúl"},{"$f":"OAM_ertek!V18","v":2002},{"$f":"OAM_ertek!W18","v":31},{"$f":"OAM_ertek!X18","v":15},{"$f":"OAM_ertek!Y18","v":31},{"$f":"OAM_ertek!Z18","v":25},{"$f":"OAM_ertek!AA18","v":25},{"$f":"OAM_ertek!AB18","v":5},{"$f":"OAM_ertek!AC18","v":1000000},{"$f":"modellek!H236","v":1000080.1},{"$f":"modellek!L236","v":"valid"},"Dél-Dunántúl",2002]
[{"$f":"OAM_ertek!U19","v":"Dél-Dunántúl"},{"$f":"OAM_ertek!V19","v":2003},{"$f":"OAM_ertek!W19","v":62},{"$f":"OAM_ertek!X19","v":53},{"$f":"OAM_ertek!Y19","v":55},{"$f":"OAM_ertek!Z19","v":19},{"$f":"OAM_ertek!AA19","v":49},{"$f":"OAM_ertek!AB19","v":53},{"$f":"OAM_ertek!AC19","v":1000000},{"$f":"modellek!H237","v":999918.6},{"$f":"modellek!L237","v":"valid"},"Dél-Dunántúl",2003]
[{"$f":"OAM_ertek!U20","v":"Dél-Dunántúl"},{"$f":"OAM_ertek!V20","v":2004},{"$f":"OAM_ertek!W20","v":2},{"$f":"OAM_ertek!X20","v":6},{"$f":"OAM_ertek!Y20","v":8},{"$f":"OAM_ertek!Z20","v":1},{"$f":"OAM_ertek!AA20","v":5},{"$f":"OAM_ertek!AB20","v":2},{"$f":"OAM_ertek!AC20","v":1000000},{"$f":"modellek!H238","v":1000188.1},{"$f":"modellek!L238","v":"valid"},"Dél-Dunántúl",2004]
[{"$f":"OAM_ertek!U21","v":"Dél-Dunántúl"},{"$f":"OAM_ertek!V21","v":2005},{"$f":"OAM_ertek!W21","v":14},{"$f":"OAM_ertek!X21","v":18},{"$f":"OAM_ertek!Y21","v":5},{"$f":"OAM_ertek!Z21","v":13},{"$f":"OAM_ertek!AA21","v":15},{"$f":"OAM_ertek!AB21","v":1},{"$f":"OAM_ertek!AC21","v":1000000},{"$f":"modellek!H239","v":1000167.1},{"$f":"modellek!L239","v":"valid"},"Dél-Dunántúl",2005]
[{"$f":"OAM_ertek!U22","v":"Dél-Dunántúl"},{"$f":"OAM_ertek!V22","v":2006},{"$f":"OAM_ertek!W22","v":27},{"$f":"OAM_ertek!X22","v":20},{"$f":"OAM_ertek!Y22","v":11},{"$f":"OAM_ertek!Z22","v":21},{"$f":"OAM_ertek!AA22","v":8},{"$f":"OAM_ertek!AB22","v":3},{"$f":"OAM_ertek!AC22","v":1000000},{"$f":"modellek!H240","v":1000122.1},{"$f":"modellek!L240","v":"valid"},"Dél-Dunántúl",2006]
[{"$f":"OAM_ertek!U23","v":"Dél-Dunántúl"},{"$f":"OAM_ertek!V23","v":2007},{"$f":"OAM_ertek!W23","v":59},{"$f":"OAM_ertek!X23","v":45},{"$f":"OAM_ertek!Y23","v":68},{"$f":"OAM_ertek!Z23","v":15},{"$f":"OAM_ertek!AA23","v":23},{"$f":"OAM_ertek!AB23","v":5},{"$f":"OAM_ertek!AC23","v":1000000},{"$f":"modellek!H241","v":999997.1},{"$f":"modellek!L241","v":"valid"},"Dél-Dunántúl",2007]
[{"$f":"OAM_ertek!U24","v":"Dél-Dunántúl"},{"$f":"OAM_ertek!V24","v":2008},{"$f":"OAM_ertek!W24","v":53},{"$f":"OAM_ertek!X24","v":2},{"$f":"OAM_ertek!Y24","v":6},{"$f":"OAM_ertek!Z24","v":2},{"$f":"OAM_ertek!AA24","v":24},{"$f":"OAM_ertek!AB24","v":5},{"$f":"OAM_ertek!AC24","v":1000000},{"$f":"modellek!H242","v":1000154.1},{"$f":"modellek!L242","v":"valid"},"Dél-Dunántúl",2008]
[{"$f":"OAM_ertek!U25","v":"Dél-Dunántúl"},{"$f":"OAM_ertek!V25","v":2009},{"$f":"OAM_ertek!W25","v":49},{"$f":"OAM_ertek!X25","v":10},{"$f":"OAM_ertek!Y25","v":19},{"$f":"OAM_ertek!Z25","v":5},{"$f":"OAM_ertek!AA25","v":6},{"$f":"OAM_ertek!AB25","v":10},{"$f":"OAM_ertek!AC25","v":1000000},{"$f":"modellek!H243","v":1000113.1},{"$f":"modellek!L243","v":"valid"},"Dél-Dunántúl",2009]
[{"$f":"OAM_ertek!U26","v":"Észak-Alföld"},{"$f":"OAM_ertek!V26","v":2000},{"$f":"OAM_ertek!W26","v":41},{"$f":"OAM_ertek!X26","v":58},{"$f":"OAM_ertek!Y26","v":62},{"$f":"OAM_ertek!Z26","v":67},{"$f":"OAM_ertek!AA26","v":56},{"$f":"OAM_ertek!AB26","v":67},{"$f":"OAM_ertek!AC26","v":1000000},{"$f":"modellek!H244","v":999846.6},{"$f":"modellek!L244","v":"valid"},"Észak-Alföld",2000]
[{"$f":"OAM_ertek!U27","v":"Észak-Alföld"},{"$f":"OAM_ertek!V27","v":2001},{"$f":"OAM_ertek!W27","v":23},{"$f":"OAM_ertek!X27","v":41},{"$f":"OAM_ertek!Y27","v":25},{"$f":"OAM_ertek!Z27","v":64},{"$f":"OAM_ertek!AA27","v":17},{"$f":"OAM_ertek!AB27","v":53},{"$f":"OAM_ertek!AC27","v":1000000},{"$f":"modellek!H245","v":999986.6},{"$f":"modellek!L245","v":"valid"},"Észak-Alföld",2001]
[{"$f":"OAM_ertek!U28","v":"Észak-Alföld"},{"$f":"OAM_ertek!V28","v":2002},{"$f":"OAM_ertek!W28","v":39},{"$f":"OAM_ertek!X28","v":62},{"$f":"OAM_ertek!Y28","v":49},{"$f":"OAM_ertek!Z28","v":57},{"$f":"OAM_ertek!AA28","v":69},{"$f":"OAM_ertek!AB28","v":57},{"$f":"OAM_ertek!AC28","v":1000000},{"$f":"modellek!H246","v":999876.6},{"$f":"modellek!L246","v":"valid"},"Észak-Alföld",2002]
[{"$f":"OAM_ertek!U29","v":"Észak-Alföld"},{"$f":"OAM_ertek!V29","v":2003},{"$f":"OAM_ertek!W29","v":30},{"$f":"OAM_ertek!X29","v":68},{"$f":"OAM_ertek!Y29","v":47},{"$f":"OAM_ertek!Z29","v":58},{"$f":"OAM_ertek!AA29","v":68},{"$f":"OAM_ertek!AB29","v":49},{"$f":"OAM_ertek!AC29","v":1000000},{"$f":"modellek!H247","v":999892.1},{"$f":"modellek!L247","v":"valid"},"Észak-Alföld",2003]
[{"$f":"OAM_ertek!U30","v":"Észak-Alföld"},{"$f":"OAM_ertek!V30","v":2004},{"$f":"OAM_ertek!W30","v":42},{"$f":"OAM_ertek!X30","v":3},{"$f":"OAM_ertek!Y30","v":9},{"$f":"OAM_ertek!Z30","v":36},{"$f":"OAM_ertek!AA30","v":2},{"$f":"OAM_ertek!AB30","v":19},{"$f":"OAM_ertek!AC30","v":1000000},{"$f":"modellek!H248","v":1000144.6},{"$f":"modellek!L248","v":"valid"},"Észak-Alföld",2004]
[{"$f":"OAM_ertek!U31","v":"Észak-Alföld"},{"$f":"OAM_ertek!V31","v":2005},{"$f":"OAM_ertek!W31","v":7},{"$f":"OAM_ertek!X31","v":34},{"$f":"OAM_ertek!Y31","v":13},{"$f":"OAM_ertek!Z31","v":49},{"$f":"OAM_ertek!AA31","v":26},{"$f":"OAM_ertek!AB31","v":68},{"$f":"OAM_ertek!AC31","v":1000000},{"$f":"modellek!H249","v":1000012.6},{"$f":"modellek!L249","v":"valid"},"Észak-Alföld",2005]
[{"$f":"OAM_ertek!U32","v":"Észak-Alföld"},{"$f":"OAM_ertek!V32","v":2006},{"$f":"OAM_ertek!W32","v":11},{"$f":"OAM_ertek!X32","v":56},{"$f":"OAM_ertek!Y32","v":32},{"$f":"OAM_ertek!Z32","v":59},{"$f":"OAM_ertek!AA32","v":66},{"$f":"OAM_ertek!AB32","v":52},{"$f":"OAM_ertek!AC32","v":1000000},{"$f":"modellek!H250","v":999933.6},{"$f":"modellek!L250","v":"valid"},"Észak-Alföld",2006]
[{"$f":"OAM_ertek!U33","v":"Észak-Alföld"},{"$f":"OAM_ertek!V33","v":2007},{"$f":"OAM_ertek!W33","v":37},{"$f":"OAM_ertek!X33","v":60},{"$f":"OAM_ertek!Y33","v":52},{"$f":"OAM_ertek!Z33","v":37},{"$f":"OAM_ertek!AA33","v":54},{"$f":"OAM_ertek!AB33","v":66},{"$f":"OAM_ertek!AC33","v":1000000},{"$f":"modellek!H251","v":999903.6},{"$f":"modellek!L251","v":"valid"},"Észak-Alföld",2007]
[{"$f":"OAM_ertek!U34","v":"Észak-Alföld"},{"$f":"OAM_ertek!V34","v":2008},{"$f":"OAM_ertek!W34","v":44},{"$f":"OAM_ertek!X34","v":14},{"$f":"OAM_ertek!Y34","v":3},{"$f":"OAM_ertek!Z34","v":4},{"$f":"OAM_ertek!AA34","v":19},{"$f":"OAM_ertek!AB34","v":59},{"$f":"OAM_ertek!AC34","v":1000000},{"$f":"modellek!H252","v":1000126.1},{"$f":"modellek!L252","v":"valid"},"Észak-Alföld",2008]
[{"$f":"OAM_ertek!U35","v":"Észak-Alföld"},{"$f":"OAM_ertek!V35","v":2009},{"$f":"OAM_ertek!W35","v":3},{"$f":"OAM_ertek!X35","v":49},{"$f":"OAM_ertek!Y35","v":35},{"$f":"OAM_ertek!Z35","v":31},{"$f":"OAM_ertek!AA35","v":58},{"$f":"OAM_ertek!AB35","v":46},{"$f":"OAM_ertek!AC35","v":1000000},{"$f":"modellek!H253","v":999990.1},{"$f":"modellek!L253","v":"valid"},"Észak-Alföld",2009]
[{"$f":"OAM_ertek!U36","v":"Észak-Magyarország"},{"$f":"OAM_ertek!V36","v":2000},{"$f":"OAM_ertek!W36","v":56},{"$f":"OAM_ertek!X36","v":66},{"$f":"OAM_ertek!Y36","v":70},{"$f":"OAM_ertek!Z36","v":70},{"$f":"OAM_ertek!AA36","v":30},{"$f":"OAM_ertek!AB36","v":22},{"$f":"OAM_ertek!AC36","v":1000000},{"$f":"modellek!H254","v":999865.1},{"$f":"modellek!L254","v":"valid"},"Észak-Magyarország",2000]
[{"$f":"OAM_ertek!U37","v":"Észak-Magyarország"},{"$f":"OAM_ertek!V37","v":2001},{"$f":"OAM_ertek!W37","v":51},{"$f":"OAM_ertek!X37","v":41},{"$f":"OAM_ertek!Y37","v":43},{"$f":"OAM_ertek!Z37","v":61},{"$f":"OAM_ertek!AA37","v":48},{"$f":"OAM_ertek!AB37","v":22},{"$f":"OAM_ertek!AC37","v":1000000},{"$f":"modellek!H255","v":999946.1},{"$f":"modellek!L255","v":"valid"},"Észak-Magyarország",2001]
[{"$f":"OAM_ertek!U38","v":"Észak-Magyarország"},{"$f":"OAM_ertek!V38","v":2002},{"$f":"OAM_ertek!W38","v":38},{"$f":"OAM_ertek!X38","v":64},{"$f":"OAM_ertek!Y38","v":46},{"$f":"OAM_ertek!Z38","v":69},{"$f":"OAM_ertek!AA38","v":62},{"$f":"OAM_ertek!AB38","v":22},{"$f":"OAM_ertek!AC38","v":1000000},{"$f":"modellek!H256","v":999878.1},{"$f":"modellek!L256","v":"valid"},"Észak-Magyarország",2002]
[{"$f":"OAM_ertek!U39","v":"Észak-Magyarország"},{"$f":"OAM_ertek!V39","v":2003},{"$f":"OAM_ertek!W39","v":66},{"$f":"OAM_ertek!X39","v":69},{"$f":"OAM_ertek!Y39","v":59},{"$f":"OAM_ertek!Z39","v":66},{"$f":"OAM_ertek!AA39","v":70},{"$f":"OAM_ertek!AB39","v":50},{"$f":"OAM_ertek!AC39","v":1000000},{"$f":"modellek!H257","v":999832.1},{"$f":"modellek!L257","v":"valid"},"Észak-Magyarország",2003]
[{"$f":"OAM_ertek!U40","v":"Észak-Magyarország"},{"$f":"OAM_ertek!V40","v":2004},{"$f":"OAM_ertek!W40","v":10},{"$f":"OAM_ertek!X40","v":25},{"$f":"OAM_ertek!Y40","v":40},{"$f":"OAM_ertek!Z40","v":33},{"$f":"OAM_ertek!AA40","v":31},{"$f":"OAM_ertek!AB40","v":13},{"$f":"OAM_ertek!AC40","v":1000000},{"$f":"modellek!H258","v":1000060.1},{"$f":"modellek!L258","v":"valid"},"Észak-Magyarország",2004]
[{"$f":"OAM_ertek!U41","v":"Észak-Magyarország"},{"$f":"OAM_ertek!V41","v":2005},{"$f":"OAM_ertek!W41","v":21},{"$f":"OAM_ertek!X41","v":28},{"$f":"OAM_ertek!Y41","v":34},{"$f":"OAM_ertek!Z41","v":32},{"$f":"OAM_ertek!AA41","v":21},{"$f":"OAM_ertek!AB41","v":21},{"$f":"OAM_ertek!AC41","v":1000000},{"$f":"modellek!H259","v":1000055.1},{"$f":"modellek!L259","v":"valid"},"Észak-Magyarország",2005]
[{"$f":"OAM_ertek!U42","v":"Észak-Magyarország"},{"$f":"OAM_ertek!V42","v":2006},{"$f":"OAM_ertek!W42","v":29},{"$f":"OAM_ertek!X42","v":44},{"$f":"OAM_ertek!Y42","v":40},{"$f":"OAM_ertek!Z42","v":51},{"$f":"OAM_ertek!AA42","v":37},{"$f":"OAM_ertek!AB42","v":32},{"$f":"OAM_ertek!AC42","v":1000000},{"$f":"modellek!H260","v":999979.1},{"$f":"modellek!L260","v":"valid"},"Észak-Magyarország",2006]
[{"$f":"OAM_ertek!U43","v":"Észak-Magyarország"},{"$f":"OAM_ertek!V43","v":2007},{"$f":"OAM_ertek!W43","v":32},{"$f":"OAM_ertek!X43","v":57},{"$f":"OAM_ertek!Y43","v":63},{"$f":"OAM_ertek!Z43","v":60},{"$f":"OAM_ertek!AA43","v":50},{"$f":"OAM_ertek!AB43","v":41},{"$f":"OAM_ertek!AC43","v":1000000},{"$f":"modellek!H261","v":999909.1},{"$f":"modellek!L261","v":"valid"},"Észak-Magyarország",2007]
[{"$f":"OAM_ertek!U44","v":"Észak-Magyarország"},{"$f":"OAM_ertek!V44","v":2008},{"$f":"OAM_ertek!W44","v":8},{"$f":"OAM_ertek!X44","v":23},{"$f":"OAM_ertek!Y44","v":38},{"$f":"OAM_ertek!Z44","v":17},{"$f":"OAM_ertek!AA44","v":12},{"$f":"OAM_ertek!AB44","v":11},{"$f":"OAM_ertek!AC44","v":1000000},{"$f":"modellek!H262","v":1000103.1},{"$f":"modellek!L262","v":"valid"},"Észak-Magyarország",2008]
[{"$f":"OAM_ertek!U45","v":"Észak-Magyarország"},{"$f":"OAM_ertek!V45","v":2009},{"$f":"OAM_ertek!W45","v":32},{"$f":"OAM_ertek!X45","v":51},{"$f":"OAM_ertek!Y45","v":44},{"$f":"OAM_ertek!Z45","v":34},{"$f":"OAM_ertek!AA45","v":42},{"$f":"OAM_ertek!AB45","v":14},{"$f":"OAM_ertek!AC45","v":1000000},{"$f":"modellek!H263","v":999995.1},{"$f":"modellek!L263","v":"valid"},"Észak-Magyarország",2009]
[{"$f":"OAM_ertek!U46","v":"Közép-Dunántúl"},{"$f":"OAM_ertek!V46","v":2000},{"$f":"OAM_ertek!W46","v":69},{"$f":"OAM_ertek!X46","v":38},{"$f":"OAM_ertek!Y46","v":48},{"$f":"OAM_ertek!Z46","v":43},{"$f":"OAM_ertek!AA46","v":52},{"$f":"OAM_ertek!AB46","v":22},{"$f":"OAM_ertek!AC46","v":1000000},{"$f":"modellek!H264","v":999886.1},{"$f":"modellek!L264","v":"valid"},"Közép-Dunántúl",2000]
[{"$f":"OAM_ertek!U47","v":"Közép-Dunántúl"},{"$f":"OAM_ertek!V47","v":2001},{"$f":"OAM_ertek!W47","v":67},{"$f":"OAM_ertek!X47","v":31},{"$f":"OAM_ertek!Y47","v":27},{"$f":"OAM_ertek!Z47","v":30},{"$f":"OAM_ertek!AA47","v":32},{"$f":"OAM_ertek!AB47","v":45},{"$f":"OAM_ertek!AC47","v":1000000},{"$f":"modellek!H265","v":999926.1},{"$f":"modellek!L265","v":"valid"},"Közép-Dunántúl",2001]
[{"$f":"OAM_ertek!U48","v":"Közép-Dunántúl"},{"$f":"OAM_ertek!V48","v":2002},{"$f":"OAM_ertek!W48","v":50},{"$f":"OAM_ertek!X48","v":43},{"$f":"OAM_ertek!Y48","v":30},{"$f":"OAM_ertek!Z48","v":34},{"$f":"OAM_ertek!AA48","v":64},{"$f":"OAM_ertek!AB48","v":34},{"$f":"OAM_ertek!AC48","v":1000000},{"$f":"modellek!H266","v":999957.1},{"$f":"modellek!L266","v":"valid"},"Közép-Dunántúl",2002]
[{"$f":"OAM_ertek!U49","v":"Közép-Dunántúl"},{"$f":"OAM_ertek!V49","v":2003},{"$f":"OAM_ertek!W49","v":65},{"$f":"OAM_ertek!X49","v":67},{"$f":"OAM_ertek!Y49","v":60},{"$f":"OAM_ertek!Z49","v":23},{"$f":"OAM_ertek!AA49","v":60},{"$f":"OAM_ertek!AB49","v":62},{"$f":"OAM_ertek!AC49","v":1000000},{"$f":"modellek!H267","v":999872.6},{"$f":"modellek!L267","v":"valid"},"Közép-Dunántúl",2003]
[{"$f":"OAM_ertek!U50","v":"Közép-Dunántúl"},{"$f":"OAM_ertek!V50","v":2004},{"$f":"OAM_ertek!W50","v":43},{"$f":"OAM_ertek!X50","v":9},{"$f":"OAM_ertek!Y50","v":23},{"$f":"OAM_ertek!Z50","v":7},{"$f":"OAM_ertek!AA50","v":9},{"$f":"OAM_ertek!AB50","v":28},{"$f":"OAM_ertek!AC50","v":1000000},{"$f":"modellek!H268","v":1000093.1},{"$f":"modellek!L268","v":"valid"},"Közép-Dunántúl",2004]
[{"$f":"OAM_ertek!U51","v":"Közép-Dunántúl"},{"$f":"OAM_ertek!V51","v":2005},{"$f":"OAM_ertek!W51","v":61},{"$f":"OAM_ertek!X51","v":11},{"$f":"OAM_ertek!Y51","v":1},{"$f":"OAM_ertek!Z51","v":11},{"$f":"OAM_ertek!AA51","v":14},{"$f":"OAM_ertek!AB51","v":51},{"$f":"OAM_ertek!AC51","v":1000000},{"$f":"modellek!H269","v":1000123.1},{"$f":"modellek!L269","v":"valid"},"Közép-Dunántúl",2005]
[{"$f":"OAM_ertek!U52","v":"Közép-Dunántúl"},{"$f":"OAM_ertek!V52","v":2006},{"$f":"OAM_ertek!W52","v":57},{"$f":"OAM_ertek!X52","v":29},{"$f":"OAM_ertek!Y52","v":17},{"$f":"OAM_ertek!Z52","v":27},{"$f":"OAM_ertek!AA52","v":34},{"$f":"OAM_ertek!AB52","v":59},{"$f":"OAM_ertek!AC52","v":1000000},{"$f":"modellek!H270","v":999986.6},{"$f":"modellek!L270","v":"valid"},"Közép-Dunántúl",2006]
[{"$f":"OAM_ertek!U53","v":"Közép-Dunántúl"},{"$f":"OAM_ertek!V53","v":2007},{"$f":"OAM_ertek!W53","v":47},{"$f":"OAM_ertek!X53","v":54},{"$f":"OAM_ertek!Y53","v":64},{"$f":"OAM_ertek!Z53","v":39},{"$f":"OAM_ertek!AA53","v":39},{"$f":"OAM_ertek!AB53","v":27},{"$f":"OAM_ertek!AC53","v":1000000},{"$f":"modellek!H271","v":999942.1},{"$f":"modellek!L271","v":"valid"},"Közép-Dunántúl",2007]
[{"$f":"OAM_ertek!U54","v":"Közép-Dunántúl"},{"$f":"OAM_ertek!V54","v":2008},{"$f":"OAM_ertek!W54","v":70},{"$f":"OAM_ertek!X54","v":4},{"$f":"OAM_ertek!Y54","v":2},{"$f":"OAM_ertek!Z54","v":3},{"$f":"OAM_ertek!AA54","v":3},{"$f":"OAM_ertek!AB54","v":40},{"$f":"OAM_ertek!AC54","v":1000000},{"$f":"modellek!H272","v":1000010.1},{"$f":"modellek!L272","v":"valid"},"Közép-Dunántúl",2008]
[{"$f":"OAM_ertek!U55","v":"Közép-Dunántúl"},{"$f":"OAM_ertek!V55","v":2009},{"$f":"OAM_ertek!W55","v":19},{"$f":"OAM_ertek!X55","v":48},{"$f":"OAM_ertek!Y55","v":18},{"$f":"OAM_ertek!Z55","v":13},{"$f":"OAM_ertek!AA55","v":51},{"$f":"OAM_ertek!AB55","v":18},{"$f":"OAM_ertek!AC55","v":1000000},{"$f":"modellek!H273","v":1000045.1},{"$f":"modellek!L273","v":"valid"},"Közép-Dunántúl",2009]
[{"$f":"OAM_ertek!U56","v":"Közép-Magyarország"},{"$f":"OAM_ertek!V56","v":2000},{"$f":"OAM_ertek!W56","v":54},{"$f":"OAM_ertek!X56","v":52},{"$f":"OAM_ertek!Y56","v":65},{"$f":"OAM_ertek!Z56","v":65},{"$f":"OAM_ertek!AA56","v":44},{"$f":"OAM_ertek!AB56","v":48},{"$f":"OAM_ertek!AC56","v":1000000},{"$f":"modellek!H274","v":999884.1},{"$f":"modellek!L274","v":"valid"},"Közép-Magyarország",2000]
[{"$f":"OAM_ertek!U57","v":"Közép-Magyarország"},{"$f":"OAM_ertek!V57","v":2001},{"$f":"OAM_ertek!W57","v":63},{"$f":"OAM_ertek!X57","v":30},{"$f":"OAM_ertek!Y57","v":33},{"$f":"OAM_ertek!Z57","v":26},{"$f":"OAM_ertek!AA57","v":10},{"$f":"OAM_ertek!AB57","v":37},{"$f":"OAM_ertek!AC57","v":1000000},{"$f":"modellek!H275","v":1000013.1},{"$f":"modellek!L275","v":"valid"},"Közép-Magyarország",2001]
[{"$f":"OAM_ertek!U58","v":"Közép-Magyarország"},{"$f":"OAM_ertek!V58","v":2002},{"$f":"OAM_ertek!W58","v":52},{"$f":"OAM_ertek!X58","v":63},{"$f":"OAM_ertek!Y58","v":61},{"$f":"OAM_ertek!Z58","v":56},{"$f":"OAM_ertek!AA58","v":63},{"$f":"OAM_ertek!AB58","v":55},{"$f":"OAM_ertek!AC58","v":1000000},{"$f":"modellek!H276","v":999859.6},{"$f":"modellek!L276","v":"valid"},"Közép-Magyarország",2002]
[{"$f":"OAM_ertek!U59","v":"Közép-Magyarország"},{"$f":"OAM_ertek!V59","v":2003},{"$f":"OAM_ertek!W59","v":36},{"$f":"OAM_ertek!X59","v":70},{"$f":"OAM_ertek!Y59","v":69},{"$f":"OAM_ertek!Z59","v":63},{"$f":"OAM_ertek!AA59","v":67},{"$f":"OAM_ertek!AB59","v":70},{"$f":"OAM_ertek!AC59","v":1000000},{"$f":"modellek!H277","v":999834.6},{"$f":"modellek!L277","v":"valid"},"Közép-Magyarország",2003]
[{"$f":"OAM_ertek!U60","v":"Közép-Magyarország"},{"$f":"OAM_ertek!V60","v":2004},{"$f":"OAM_ertek!W60","v":1},{"$f":"OAM_ertek!X60","v":8},{"$f":"OAM_ertek!Y60","v":36},{"$f":"OAM_ertek!Z60","v":27},{"$f":"OAM_ertek!AA60","v":13},{"$f":"OAM_ertek!AB60","v":35},{"$f":"OAM_ertek!AC60","v":1000000},{"$f":"modellek!H278","v":1000140.1},{"$f":"modellek!L278","v":"valid"},"Közép-Magyarország",2004]
[{"$f":"OAM_ertek!U61","v":"Közép-Magyarország"},{"$f":"OAM_ertek!V61","v":2005},{"$f":"OAM_ertek!W61","v":34},{"$f":"OAM_ertek!X61","v":19},{"$f":"OAM_ertek!Y61","v":15},{"$f":"OAM_ertek!Z61","v":43},{"$f":"OAM_ertek!AA61","v":18},{"$f":"OAM_ertek!AB61","v":17},{"$f":"OAM_ertek!AC61","v":1000000},{"$f":"modellek!H279","v":1000066.1},{"$f":"modellek!L279","v":"valid"},"Közép-Magyarország",2005]
[{"$f":"OAM_ertek!U62","v":"Közép-Magyarország"},{"$f":"OAM_ertek!V62","v":2006},{"$f":"OAM_ertek!W62","v":12},{"$f":"OAM_ertek!X62","v":35},{"$f":"OAM_ertek!Y62","v":28},{"$f":"OAM_ertek!Z62","v":37},{"$f":"OAM_ertek!AA62","v":38},{"$f":"OAM_ertek!AB62","v":20},{"$f":"OAM_ertek!AC62","v":1000000},{"$f":"modellek!H280","v":1000042.1},{"$f":"modellek!L280","v":"valid"},"Közép-Magyarország",2006]
[{"$f":"OAM_ertek!U63","v":"Közép-Magyarország"},{"$f":"OAM_ertek!V63","v":2007},{"$f":"OAM_ertek!W63","v":9},{"$f":"OAM_ertek!X63","v":61},{"$f":"OAM_ertek!Y63","v":67},{"$f":"OAM_ertek!Z63","v":51},{"$f":"OAM_ertek!AA63","v":60},{"$f":"OAM_ertek!AB63","v":58},{"$f":"OAM_ertek!AC63","v":1000000},{"$f":"modellek!H281","v":999903.6},{"$f":"modellek!L281","v":"valid"},"Közép-Magyarország",2007]
[{"$f":"OAM_ertek!U64","v":"Közép-Magyarország"},{"$f":"OAM_ertek!V64","v":2008},{"$f":"OAM_ertek!W64","v":16},{"$f":"OAM_ertek!X64","v":12},{"$f":"OAM_ertek!Y64","v":13},{"$f":"OAM_ertek!Z64","v":9},{"$f":"OAM_ertek!AA64","v":19},{"$f":"OAM_ertek!AB64","v":42},{"$f":"OAM_ertek!AC64","v":1000000},{"$f":"modellek!H282","v":1000101.1},{"$f":"modellek!L282","v":"valid"},"Közép-Magyarország",2008]
[{"$f":"OAM_ertek!U65","v":"Közép-Magyarország"},{"$f":"OAM_ertek!V65","v":2009},{"$f":"OAM_ertek!W65","v":28},{"$f":"OAM_ertek!X65","v":55},{"$f":"OAM_ertek!Y65","v":45},{"$f":"OAM_ertek!Z65","v":42},{"$f":"OAM_ertek!AA65","v":53},{"$f":"OAM_ertek!AB65","v":65},{"$f":"OAM_ertek!AC65","v":1000000},{"$f":"modellek!H283","v":999921.6},{"$f":"modellek!L283","v":"valid"},"Közép-Magyarország",2009]
[{"$f":"OAM_ertek!U66","v":"Nyugat-Dunántúl"},{"$f":"OAM_ertek!V66","v":2000},{"$f":"OAM_ertek!W66","v":20},{"$f":"OAM_ertek!X66","v":39},{"$f":"OAM_ertek!Y66","v":54},{"$f":"OAM_ertek!Z66","v":62},{"$f":"OAM_ertek!AA66","v":47},{"$f":"OAM_ertek!AB66","v":36},{"$f":"OAM_ertek!AC66","v":1000000},{"$f":"modellek!H284","v":999954.1},{"$f":"modellek!L284","v":"valid"},"Nyugat-Dunántúl",2000]
[{"$f":"OAM_ertek!U67","v":"Nyugat-Dunántúl"},{"$f":"OAM_ertek!V67","v":2001},{"$f":"OAM_ertek!W67","v":24},{"$f":"OAM_ertek!X67","v":26},{"$f":"OAM_ertek!Y67","v":57},{"$f":"OAM_ertek!Z67","v":54},{"$f":"OAM_ertek!AA67","v":36},{"$f":"OAM_ertek!AB67","v":37},{"$f":"OAM_ertek!AC67","v":1000000},{"$f":"modellek!H285","v":999978.1},{"$f":"modellek!L285","v":"valid"},"Nyugat-Dunántúl",2001]
[{"$f":"OAM_ertek!U68","v":"Nyugat-Dunántúl"},{"$f":"OAM_ertek!V68","v":2002},{"$f":"OAM_ertek!W68","v":55},{"$f":"OAM_ertek!X68","v":33},{"$f":"OAM_ertek!Y68","v":37},{"$f":"OAM_ertek!Z68","v":48},{"$f":"OAM_ertek!AA68","v":65},{"$f":"OAM_ertek!AB68","v":33},{"$f":"OAM_ertek!AC68","v":1000000},{"$f":"modellek!H286","v":999941.1},{"$f":"modellek!L286","v":"valid"},"Nyugat-Dunántúl",2002]
[{"$f":"OAM_ertek!U69","v":"Nyugat-Dunántúl"},{"$f":"OAM_ertek!V69","v":2003},{"$f":"OAM_ertek!W69","v":64},{"$f":"OAM_ertek!X69","v":59},{"$f":"OAM_ertek!Y69","v":58},{"$f":"OAM_ertek!Z69","v":15},{"$f":"OAM_ertek!AA69","v":56},{"$f":"OAM_ertek!AB69","v":44},{"$f":"OAM_ertek!AC69","v":1000000},{"$f":"modellek!H287","v":999916.1},{"$f":"modellek!L287","v":"valid"},"Nyugat-Dunántúl",{"$f":"B68","v":2003}]
[{"$f":"OAM_ertek!U70","v":"Nyugat-Dunántúl"},{"$f":"OAM_ertek!V70","v":2004},{"$f":"OAM_ertek!W70","v":4},{"$f":"OAM_ertek!X70","v":6},{"$f":"OAM_ertek!Y70","v":29},{"$f":"OAM_ertek!Z70","v":21},{"$f":"OAM_ertek!AA70","v":27},{"$f":"OAM_ertek!AB70","v":15},{"$f":"OAM_ertek!AC70","v":1000000},{"$f":"modellek!H288","v":1000110.1},{"$f":"modellek!L288","v":"valid"},{"$f":"A69","v":"Nyugat-Dunántúl"},2004]
[{"$f":"OAM_ertek!U71","v":"Nyugat-Dunántúl"},{"$f":"OAM_ertek!V71","v":2005},{"$f":"OAM_ertek!W71","v":15},{"$f":"OAM_ertek!X71","v":23},{"$f":"OAM_ertek!Y71","v":10},{"$f":"OAM_ertek!Z71","v":12},{"$f":"OAM_ertek!AA71","v":29},{"$f":"OAM_ertek!AB71","v":12},{"$f":"OAM_ertek!AC71","v":1000000},{"$f":"modellek!H289","v":1000111.1},{"$f":"modellek!L289","v":"valid"},"Nyugat-Dunántúl",2005]
[{"$f":"OAM_ertek!U72","v":"Nyugat-Dunántúl"},{"$f":"OAM_ertek!V72","v":2006},{"$f":"OAM_ertek!W72","v":18},{"$f":"OAM_ertek!X72","v":22},{"$f":"OAM_ertek!Y72","v":25},{"$f":"OAM_ertek!Z72","v":19},{"$f":"OAM_ertek!AA72","v":46},{"$f":"OAM_ertek!AB72","v":31},{"$f":"OAM_ertek!AC72","v":1000000},{"$f":"modellek!H290","v":1000051.1},{"$f":"modellek!L290","v":"valid"},"Nyugat-Dunántúl",2006]
[{"$f":"OAM_ertek!U73","v":"Nyugat-Dunántúl"},{"$f":"OAM_ertek!V73","v":2007},{"$f":"OAM_ertek!W73","v":26},{"$f":"OAM_ertek!X73","v":37},{"$f":"OAM_ertek!Y73","v":51},{"$f":"OAM_ertek!Z73","v":54},{"$f":"OAM_ertek!AA73","v":16},{"$f":"OAM_ertek!AB73","v":30},{"$f":"OAM_ertek!AC73","v":1000000},{"$f":"modellek!H291","v":999998.1},{"$f":"modellek!L291","v":"valid"},"Nyugat-Dunántúl",2007]
[{"$f":"OAM_ertek!U74","v":"Nyugat-Dunántúl"},{"$f":"OAM_ertek!V74","v":2008},{"$f":"OAM_ertek!W74","v":58},{"$f":"OAM_ertek!X74","v":17},{"$f":"OAM_ertek!Y74","v":4},{"$f":"OAM_ertek!Z74","v":6},{"$f":"OAM_ertek!AA74","v":4},{"$f":"OAM_ertek!AB74","v":4},{"$f":"OAM_ertek!AC74","v":1000000},{"$f":"modellek!H292","v":1000153.6},{"$f":"modellek!L292","v":"valid"},"Nyugat-Dunántúl",2008]
[{"$f":"OAM_ertek!U75","v":"Nyugat-Dunántúl"},{"$f":"OAM_ertek!V75","v":2009},{"$f":"OAM_ertek!W75","v":6},{"$f":"OAM_ertek!X75","v":16},{"$f":"OAM_ertek!Y75","v":7},{"$f":"OAM_ertek!Z75","v":23},{"$f":"OAM_ertek!AA75","v":21},{"$f":"OAM_ertek!AB75","v":26},{"$f":"OAM_ertek!AC75","v":1000000},{"$f":"modellek!H293","v":1000134.1},{"$f":"modellek!L293","v":"valid"},"Nyugat-Dunántúl",2009]

{"sheet":"uj problemak","index":10,"n_rows":31,"n_cols":21,"rows_kept":31,"cut":false,"hidden":false,"merged":[]}
[null,"validitas","valid"]
[]
[null,"Összeg / Becslés","Oszlopcímkék",null,null,null,null,null,null,null,null,null,null,"naiv",null,null,"irány",0,0,0,"…"]
[null,"Sorcímkék",2000,2001,2002,2003,2004,2005,2006,2007,2008,2009,null,"legjobb régió?","sorrend",null,null,"átlag","trend","szórás","…"]
[null,"Dél-Alföld",999874.6,1000006.1,999943.1,999851.6,1000155.1,1000052.1,1000011.6,999949.6,1000156.1,999992.6,null,{"$f":"AVERAGE(C5:L5)","v":999999.24999999977},{"$f":"RANK(N5,N$5:N$11,0)","v":3},null,{"$f":"B5","v":"Dél-Alföld"}]
[null,"Dél-Dunántúl",999917.1,1000060.1,1000080.1,999918.6,1000188.1,1000167.1,1000122.1,999997.1,1000154.1,1000113.1,null,{"$f":"AVERAGE(C6:L6)","v":1000071.7499999998},{"$f":"RANK(N6,N$5:N$11,0)","v":1},null,{"$f":"B6","v":"Dél-Dunántúl"}]
[null,"Észak-Alföld",999846.6,999986.6,999876.6,999892.1,1000144.6,1000012.6,999933.6,999903.6,1000126.1,999990.1,null,999971.24999999977,6,null,"Észak-Alföld"]
[null,"Észak-Magyarország",999865.1,999946.1,999878.1,999832.1,1000060.1,1000055.1,999979.1,999909.1,1000103.1,999995.1,null,999962.29999999981,7,null,"Észak-Magyarország"]
[null,"Közép-Dunántúl",999886.1,999926.1,999957.1,999872.6,1000093.1,1000123.1,999986.6,999942.1,1000010.1,1000045.1,null,999984.19999999984,4,null,"Közép-Dunántúl"]
[null,"Közép-Magyarország",999884.1,1000013.1,999859.6,999834.6,1000140.1,1000066.1,1000042.1,999903.6,1000101.1,999921.6,null,999976.59999999986,5,null,"Közép-Magyarország"]
[null,"Nyugat-Dunántúl",999954.1,999978.1,999941.1,999916.1,1000110.1,1000111.1,1000051.1,999998.1,1000153.6,1000134.1,null,1000034.7499999998,2,null,"Nyugat-Dunántúl"]
[]
["naiv","legjobb év?",{"$f":"AVERAGE(C5:C11)","v":999889.67142857134},{"$f":"AVERAGE(D5:D11)","v":999988.0285714285},999933.67142857134,999873.95714285702,1000127.3142857142,1000083.8857142857,1000018.0285714285,999943.31428571418,1000114.8857142857,1000027.3857142857,null,{"$f":"AVERAGE(C5:L11)","v":1000000.0142857152}]
[null,"sorrend",{"$f":"RANK(C13,$C13:$L13,0)","v":9},{"$f":"RANK(D13,$C13:$L13,0)","v":6},8,10,1,3,5,7,2,4]
[]
[null,"Mutatószám","(Több tétel)"]
[null,"Mértékegység","t/ha"]
[]
[null,"Átlag / Érték","Oszlopcímkék"]
[null,"Sorcímkék",2000,2001,2002,2003,2004,2005,2006,2007,2008,2009,"Végösszeg","sorrend","eltérés"]
[null,"Dél-Alföld",5.4899999999999993,6.8516666666666657,6.13,5.0866666666666669,7.9633333333333338,7.2066666666666661,7.5949999999999998,6.5083333333333337,8.4983333333333331,8.2150000000000016,6.9545000000000021,{"$f":"RANK(M21,M$21:M$27,0)","v":2},{"$f":"N21-O5","v":-1}]
[null,"Dél-Dunántúl",3.8533333333333331,5.4816666666666665,6.6066666666666665,4.8449999999999998,10.003333333333334,8.6216666666666661,7.7716666666666656,4.6833333333333336,6.2316666666666665,7.0516666666666667,6.5149999999999979,{"$f":"RANK(M22,M$21:M$27,0)","v":5},{"$f":"N22-O6","v":4}]
[null,"Észak-Alföld",5.503333333333333,7.2583333333333337,5.6433333333333335,5.9200000000000008,7.37,8.3333333333333339,7.41,5.8550000000000004,7.0283333333333333,8.5083333333333329,6.883,3,-3]
[null,"Észak-Magyarország",4.3566666666666665,5.43,5.5283333333333324,3.58,8.1866666666666674,7.5516666666666667,6.7366666666666672,2.3683333333333332,8.6516666666666673,3.0166666666666662,5.5406666666666657,6,-1]
[null,"Közép-Dunántúl",3.2966666666666669,4.7450000000000001,5.9666666666666677,3.9083333333333328,7.1033333333333344,6.1416666666666666,5.833333333333333,5.7533333333333339,4.71,7.585,5.5043333333333351,7,3]
[null,"Közép-Magyarország",5.0116666666666667,5.5466666666666669,5.05,4.9633333333333329,9.3716666666666661,7.2333333333333334,8.01,7.1833333333333336,8.01,6.2466666666666661,6.6626666666666683,4,-1]
[null,"Nyugat-Dunántúl",6.8616666666666672,6.8216666666666663,5.48,4.4733333333333336,9.0633333333333326,8.2083333333333339,7.6800000000000006,6.8499999999999988,6.5416666666666679,8.5816666666666652,7.0561666666666678,1,-1]
[null,"Végösszeg",4.9104761904761904,6.0192857142857132,5.7721428571428577,4.6823809523809521,8.437380952380952,7.6138095238095236,7.2909523809523815,5.6002380952380957,7.0959523809523803,7.0292857142857157,6.4451904761904775]
[null,"sorrend",{"$f":"RANK(C28,$C28:$L28,0)","v":9},{"$f":"RANK(D28,$C28:$L28,0)","v":6},{"$f":"RANK(E28,$C28:$L28,0)","v":7},{"$f":"RANK(F28,$C28:$L28,0)","v":10},{"$f":"RANK(G28,$C28:$L28,0)","v":1},{"$f":"RANK(H28,$C28:$L28,0)","v":2},{"$f":"RANK(I28,$C28:$L28,0)","v":3},{"$f":"RANK(J28,$C28:$L28,0)","v":8},{"$f":"RANK(K28,$C28:$L28,0)","v":4},{"$f":"RANK(L28,$C28:$L28,0)","v":5}]
[]
[null,"eltérés",{"$f":"C29-C14","v":0},{"$f":"D29-D14","v":0},-1,0,0,-1,-2,1,2,1]