{"text_format":"1","workbook":"xlsx","n_sheets":31,"sheets":["nyers (9)","matarka (7)","matarka (6)","nyers (8)","nyers (6)","nyers (5)","matarka (5)","matarka (4)","matarka (3)","matarka (2)","matarka_old","matarka_SOK_KEPLET_HELYESEN","nyers_old","nyers (2)","nyers (3)","nyers (4)","nyers (7)","nyers_SOK_KEPLET_HELYESEN","nyers","matarka (311-)","matarka","webrol2024_1","2023_01...07","Munka5","Munka6","Munka4","Munka3","nyers_oldd","Munka1","2020-05060708","utolso"],"not_rendered":{"charts":0,"images":2,"macros":1,"external_links":0,"defined_names":0,"comments":0,"pivot_tables":0},"unopened":[],"bounds":{"document_bytes":16777216,"sheet_cells":100000,"rows_first":2000,"rows_last":500,"rows_between":2000,"halvings":0,"cell_chars":16384,"cell_head_chars":4096},"cells_cut":0,"cells_raw":0,"read":"whole","date_system":"1900"}

{"sheet":"nyers (9)","index":0,"n_rows":219,"n_cols":13,"rows_kept":219,"cut":false,"hidden":false,"merged":[[216,2,217,2],[216,3,217,3],[218,2,219,2],[218,3,219,3],[206,3,207,3],[208,3,209,3],[210,3,211,3],[212,2,213,2],[212,3,213,3],[214,2,215,2],[214,3,215,3],[194,3,195,3],[196,3,197,3],[198,3,199,3],[200,3,201,3],[202,3,203,3],[204,3,205,3],[184,3,185,3],[186,3,187,3],[188,3,189,3],[190,2,191,2],[190,3,191,3],[192,3,193,3],[174,3,175,3],[176,3,177,3],[178,3,179,3],[180,3,181,3],[182,2,183,2],[182,3,183,3],[164,2,165,2],[164,3,165,3],[166,3,167,3],[168,3,169,3],[170,3,171,3],[172,3,173,3],[156,3,157,3],[158,2,159,2],[158,3,159,3],[160,2,161,2],[160,3,161,3],[162,2,163,2],[162,3,163,3],[144,3,145,3],[146,3,147,3],[148,3,149,3],[150,3,151,3],[152,3,153,3],[154,3,155,3],[132,3,133,3],[134,3,135,3],[136,3,137,3],[138,3,139,3],[140,3,141,3],[142,3,143,3],[126,2,127,2],[126,3,127,3],[128,2,129,2],[128,3,129,3],[130,2,131,2],[130,3,131,3],[116,3,117,3],[118,3,119,3],[120,3,121,3],[122,3,123,3],[124,2,125,2],[124,3,125,3],[104,3,105,3],[106,3,107,3],[108,3,109,3],[110,3,111,3],[112,3,113,3],[114,2,115,2],[114,3,115,3],[94,3,95,3],[96,3,97,3],[98,2,99,2],[98,3,99,3],[100,3,101,3],[102,3,103,3],[84,3,85,3],[86,3,87,3],[88,3,89,3],[90,2,91,2],[90,3,91,3],[92,3,93,3],[76,2,77,2],[76,3,77,3],[78,2,79,2],[78,3,79,3],[80,3,81,3],[82,3,83,3],[66,3,67,3],[68,3,69,3],[70,3,71,3],[72,2,73,2],[72,3,73,3],[74,2,75,2],[74,3,75,3],[56,3,57,3],[58,2,59,2],[58,3,59,3],[60,3,61,3],[62,3,63,3],[64,3,65,3],[44,3,45,3],[46,3,47,3],[48,3,49,3],[50,3,51,3],[52,3,53,3],[54,2,55,2],[54,3,55,3],[36,2,37,2],[36,3,37,3],[38,2,39,2],[38,3,39,3],[40,3,41,3],[42,3,43,3],[28,3,29,3],[30,3,31,3],[32,2,33,2],[32,3,33,3],[34,2,35,2],[34,3,35,3],[18,3,19,3],[20,3,21,3],[22,3,23,3],[24,3,25,3],[26,2,27,2],[26,3,27,3],[10,2,11,2],[10,3,11,3],[12,2,13,2],[12,3,13,3],[14,3,15,3],[16,3,17,3],[0,3,1,3],[2,3,3,3],[4,2,5,2],[4,3,5,3],[6,3,7,3],[8,2,9,2],[8,3,9,3]]}
["miau300","Bócz Viktor","Alternatív, konkurens modellkapcsolatok kialakítása","(+)",null,{"$f":"A1","v":"miau300"},{"$f":"B1","v":"Bócz Viktor"},":",{"$f":"M1","v":"Alternatív, konkurens modellkapcsolatok kialakítása"},"  xx  ","https://miau.my-x.hu/miau/300/alternativ_modellkapcsolatok_euinf.docx",null,{"$f":"C1","v":"Alternatív, konkurens modellkapcsolatok kialakítása"}]
[null,"(KJE):","Alternative knowledge representations)"]
["miau300","LAJKÓNÉ BÉCSI MÓNIKA","A KUKORICA, BÚZA, ÁRPA, ROZS ÉS ZAB TERMELÉSI FÜGGVÉNYE","(+)",null,{"$f":"A3","v":"miau300"},"LAJKÓNÉ BÉCSI MÓNIKA",":",{"$f":"M3","v":"A KUKORICA, BÚZA, ÁRPA, ROZS ÉS ZAB TERMELÉSI FÜGGVÉNYE"},"  xx  ","https://miau.my-x.hu/miau/300/bz_rp_rzs_zb_kkrc.docx",null,{"$f":"C3","v":"A KUKORICA, BÚZA, ÁRPA, ROZS ÉS ZAB TERMELÉSI FÜGGVÉNYE"}]
[null,"(MY-X team):","(Production functions for wheat, barley, rye, oat)"]
["miau300","Gál Tamás, Pitlik László","ChatGPT-kísérletek: tanuláselméletek és a MI (ChatGPT-kísérletek: Learning theories and AI)","(+)",null,{"$f":"A5","v":"miau300"},"Gál Tamás, Pitlik László",":",{"$f":"M5","v":"ChatGPT-kísérletek: tanuláselméletek és a MI (ChatGPT-kísérletek: Learning theories and AI)"},"  xx  ","https://miau.my-x.hu/miau/300/chatGPT_tanulaselmeletek_KNUTH_20230502.docx",null,"ChatGPT-kísérletek: tanuláselméletek és a MI (ChatGPT-kísérletek: Learning theories and AI)"]
[null,"(MY-X team):"]
["miau300","Rácz Lívia","ChatGPT-kísérletek – matematika és írás","(+)",null,{"$f":"A7","v":"miau300"},"Rácz Lívia",":",{"$f":"M7","v":"ChatGPT-kísérletek – matematika és írás"},"  xx  ","https://miau.my-x.hu/miau/300/ChatGPT_teszt_matek_magyar.docx",null,{"$f":"C7","v":"ChatGPT-kísérletek – matematika és írás"}]
[null,"(MY-X team):","(ChatGPT-Experiments – mathematics & writing)"]
["miau300","Zsolt Lajos Kontra, László Pitlik","PPT-TXT: PROJECT STARLIGHT: \u000bROBOT-EYE FOR (TURKISH) FOOTBALL PLAYER-TALENT-IDENTIFICATION","(+)",null,{"$f":"A9","v":"miau300"},"Zsolt Lajos Kontra, László Pitlik",":",{"$f":"M9","v":"PPT-TXT: PROJECT STARLIGHT: \u000bROBOT-EYE FOR (TURKISH) FOOTBALL PLAYER-TALENT-IDENTIFICATION"},"  xx  ","https://miau.my-x.hu/miau/300/Project Starlight_0427.docx",null,{"$f":"C9","v":"PPT-TXT: PROJECT STARLIGHT: \u000bROBOT-EYE FOR (TURKISH) FOOTBALL PLAYER-TALENT-IDENTIFICATION"}]
[null,"(MY-X team):"]
["miau300","Zsolt Lajos Kontra, László Pitlik","PPT: PROJECT STARLIGHT: \u000bROBOT-EYE FOR (TURKISH) FOOTBALL PLAYER-TALENT-IDENTIFICATION","(+)",null,{"$f":"A11","v":"miau300"},"Zsolt Lajos Kontra, László Pitlik",":",{"$f":"M11","v":"PPT: PROJECT STARLIGHT: \u000bROBOT-EYE FOR (TURKISH) FOOTBALL PLAYER-TALENT-IDENTIFICATION"},"  xx  ","https://miau.my-x.hu/miau/300/PROJECT STARLIGHT_0427.pptx",null,{"$f":"C11","v":"PPT: PROJECT STARLIGHT: \u000bROBOT-EYE FOR (TURKISH) FOOTBALL PLAYER-TALENT-IDENTIFICATION"}]
[null,"(MY-X team):"]
["miau300","Pitlik László","Demo: Transcription-based cryptography","(+)",null,{"$f":"A13","v":"miau300"},"Pitlik László",":",{"$f":"M13","v":"Demo: Transcription-based cryptography"},"  xx  ","https://miau.my-x.hu/miau/300/transcription-based-cryptography.mp4",null,{"$f":"C13","v":"Demo: Transcription-based cryptography"}]
[null,"(MY-X team):"]
["miau300","Pitlik Marcell, Németh Tamás, Svastits Áron","Jelentős gyártási volumen változás kapcsán felmerülő \u000bdöntési lehetőségek a CLAAS portfóliójában","(+)",null,{"$f":"A15","v":"miau300"},"Pitlik Marcell, Németh Tamás, Svastits Áron",":",{"$f":"M15","v":"Jelentős gyártási volumen változás kapcsán felmerülő \u000bdöntési lehetőségek a CLAAS portfóliójában"},"  xx  ","https://miau.my-x.hu/miau/300/claas_uniteech_2023.ppt",null,{"$f":"C15","v":"Jelentős gyártási volumen változás kapcsán felmerülő \u000bdöntési lehetőségek a CLAAS portfóliójában"}]
[null,"(MY-X team):","(What is worth doing in case of relevant changes in the income-time-series and -structure - case study CLAAS)"]
["miau300","Pitlik László, Gál Tamás, ifj. Pitlik László","Tanuláselméletek lehetséges szintézisének lehetőségei és kockázatai mesterséges intelligenciák támogatásával","(+)",null,{"$f":"A17","v":"miau300"},"Pitlik László, Gál Tamás, ifj. Pitlik László",":",{"$f":"M17","v":"Tanuláselméletek lehetséges szintézisének lehetőségei és kockázatai mesterséges intelligenciák támogatásával"},"  xx  ","https://miau.my-x.hu/miau/300/elte_20231025_4.docx",null,{"$f":"C17","v":"Tanuláselméletek lehetséges szintézisének lehetőségei és kockázatai mesterséges intelligenciák támogatásával"}]
[null,"(MY-X team):","(Learning theories and their syntesis including AI)"]
["miau300","Pitlik László, Rácz Lívia, ifj. Pitlik László","ChatGPT-alapú neveléstudományi / oktatásmódszertani kísérletek (esettanulmány-részletek)","(+)",null,{"$f":"A19","v":"miau300"},"Pitlik László, Rácz Lívia, ifj. Pitlik László",":",{"$f":"M19","v":"ChatGPT-alapú neveléstudományi / oktatásmódszertani kísérletek (esettanulmány-részletek)"},"  xx  ","https://miau.my-x.hu/miau/300/elte_20231025_3.docx",null,{"$f":"C19","v":"ChatGPT-alapú neveléstudományi / oktatásmódszertani kísérletek (esettanulmány-részletek)"}]
[null,"(MY-X team):","(ChatGPT-based education - case-study-abstracts)"]
["miau300","Pitlik László, Sipos Péter, ifj. Pitlik László","2DM-alapú oktatásmódszertani kísérletek","(+)",null,{"$f":"A21","v":"miau300"},"Pitlik László, Sipos Péter, ifj. Pitlik László",":",{"$f":"M21","v":"2DM-alapú oktatásmódszertani kísérletek"},"  xx  ","https://miau.my-x.hu/miau/300/elte_20231025_2.docx",null,{"$f":"C21","v":"2DM-alapú oktatásmódszertani kísérletek"}]
[null,"(MY-X team):","(2DM-based education - case-study-abstracts)"]
["miau300","Pitlik László, Váradi Dániel, ifj. Pitlik László","Mesterséges intelligencia-alapú oktatásmódszertani kísérletek (esettanulmány-részletek)","(+)",null,{"$f":"A23","v":"miau300"},"Pitlik László, Váradi Dániel, ifj. Pitlik László",":",{"$f":"M23","v":"Mesterséges intelligencia-alapú oktatásmódszertani kísérletek (esettanulmány-részletek)"},"  xx  ","https://miau.my-x.hu/miau/300/elte_20231025_1.docx",null,{"$f":"C23","v":"Mesterséges intelligencia-alapú oktatásmódszertani kísérletek (esettanulmány-részletek)"}]
[null,"(MY-X team):","(AI-based education - case-study-abstracts)"]
["miau300","Balogh Imola Barbara, Lórántffy Laura","Kenyérár-becslés a 2022-es évre az egyéb termékek, szolgáltatások árai, keretfeltételt jelentő erőterek alapján","(+)",null,{"$f":"A25","v":"miau300"},"Balogh Imola Barbara, Lórántffy Laura",":",{"$f":"M25","v":"Kenyérár-becslés a 2022-es évre az egyéb termékek, szolgáltatások árai, keretfeltételt jelentő erőterek alapján"},"  xx  ","https://miau.my-x.hu/miau/300/kenyerar_2022 _.docx",null,{"$f":"C25","v":"Kenyérár-becslés a 2022-es évre az egyéb termékek, szolgáltatások árai, keretfeltételt jelentő erőterek alapján"}]
[null,"(MY-X team):","(Forecasting the price of the bread for the year 2022 based on prices of other products, services and framework conditions)"]
["miau300","Pitlik László","Bírálók bírálata – avagy ki vigyáz az őrzőkre? (Critical interpretations of critical interpretations – or who watches the watchers?)","(+)",null,{"$f":"A27","v":"miau300"},"Pitlik László",":",{"$f":"M27","v":"Bírálók bírálata – avagy ki vigyáz az őrzőkre? (Critical interpretations of critical interpretations – or who watches the watchers?)"},"  xx  ","https://miau.my-x.hu/miau/300/otdk_biralok_biralata.docx",null,{"$f":"C27","v":"Bírálók bírálata – avagy ki vigyáz az őrzőkre? (Critical interpretations of critical interpretations – or who watches the watchers?)"}]
[null,"(MY-X team):"]
["miau300","Váradi Dániel","Inkonzisztens előrejelzések veszélyei a Google Trends adatai alapján, avagy felemelkedés a konzisztencia világába","(+)",null,{"$f":"A29","v":"miau300"},"Váradi Dániel",":",{"$f":"M29","v":"Inkonzisztens előrejelzések veszélyei a Google Trends adatai alapján, avagy felemelkedés a konzisztencia világába"},"  xx  ","https://miau.my-x.hu/miau/300/rezumekotet_20230418.pdf",null,{"$f":"C29","v":"Inkonzisztens előrejelzések veszélyei a Google Trends adatai alapján, avagy felemelkedés a konzisztencia világába"}]
[null,"(KJE):","(Risks of the inconsistent forecasts)"]
["miau300","Anonim Hallgató","Speciális Rosling/Gapminder-vizualitás/animáció","(+)",null,{"$f":"A31","v":"miau300"},"Anonim Hallgató",":",{"$f":"M31","v":"Speciális Rosling/Gapminder-vizualitás/animáció"},"  xx  ","https://miau.my-x.hu/miau/300/rosling/",null,{"$f":"C31","v":"Speciális Rosling/Gapminder-vizualitás/animáció"}]
[null,"(KJE):","(Special Rosling/Gapminder-visualization/animation)"]
["miau300","Zsolt Lajos Kontra, László Pitlik","Artificial Intelligence-Based Sports Economics Analyses - Project Starlight: Robot-Eye for (Turkish) Football Player Talent Identification","(+)",null,{"$f":"A33","v":"miau300"},"Zsolt Lajos Kontra, László Pitlik",":",{"$f":"M33","v":"Artificial Intelligence-Based Sports Economics Analyses - Project Starlight: Robot-Eye for (Turkish) Football Player Talent Identification"},"  xx  ","https://miau.my-x.hu/miau/299/Kitap Sosyal.pdf",null,{"$f":"C33","v":"Artificial Intelligence-Based Sports Economics Analyses - Project Starlight: Robot-Eye for (Turkish) Football Player Talent Identification"}]
[null,"(MY-X team):"]
["miau301","László Pitlik, Dániel Váradi, Marcell Pitlik","ABS: Simulator development for yield estimation (in case of corn, oats, soybean) based on weather-data (6th International Congress on Scientific Research August 18-20. 2023, Ankara by IKSAD Institute)","(+)",null,{"$f":"A35","v":"miau301"},"László Pitlik, Dániel Váradi, Marcell Pitlik",":",{"$f":"M35","v":"ABS: Simulator development for yield estimation (in case of corn, oats, soybean) based on weather-data (6th International Congress on Scientific Research August 18-20. 2023, Ankara by IKSAD Institute)"},"  xx  ","https://miau.my-x.hu/miau/303/abs_ankara_yield.docx",null,{"$f":"C35","v":"ABS: Simulator development for yield estimation (in case of corn, oats, soybean) based on weather-data (6th International Congress on Scientific Research August 18-20. 2023, Ankara by IKSAD Institute)"}]
[null,"(MY-X team / KJE):"]
["miau301","László Pitlik, Dániel Váradi, Marcell Pitlik","PPT: Simulator development for yield estimation (in case of corn, oats, soybean) based on weather-data (6th International Congress on Scientific Research August 18-20. 2023, Ankara by IKSAD Institute)","(+)",null,{"$f":"A37","v":"miau301"},"László Pitlik, Dániel Váradi, Marcell Pitlik",":",{"$f":"M37","v":"PPT: Simulator development for yield estimation (in case of corn, oats, soybean) based on weather-data (6th International Congress on Scientific Research August 18-20. 2023, Ankara by IKSAD Institute)"},"  xx  ","https://miau.my-x.hu/miau/303/ankara2023_yield estimation.pptx",null,{"$f":"C37","v":"PPT: Simulator development for yield estimation (in case of corn, oats, soybean) based on weather-data (6th International Congress on Scientific Research August 18-20. 2023, Ankara by IKSAD Institute)"}]
[null,"(MY-X team / KJE):"]
["miau301","László Pitlik, Dániel Váradi, Marcell Pitlik","MP4: Simulator development for yield estimation (in case of corn, oats, soybean) based on weather-data (6th International Congress on Scientific Research August 18-20. 2023, Ankara by IKSAD Institute)","(+)",null,{"$f":"A39","v":"miau301"},"László Pitlik, Dániel Váradi, Marcell Pitlik",":",{"$f":"M39","v":"MP4: Simulator development for yield estimation (in case of corn, oats, soybean) based on weather-data (6th International Congress on Scientific Research August 18-20. 2023, Ankara by IKSAD Institute)"},"  xx  ","https://miau.my-x.hu/miau/303/ankara_yield.mp4",null,{"$f":"C39","v":"MP4: Simulator development for yield estimation (in case of corn, oats, soybean) based on weather-data (6th International Congress on Scientific Research August 18-20. 2023, Ankara by IKSAD Institute)"}]
[null,"(MY-X team / KJE):"]
["miau301","Anonim Hallgató","2DM-terv: BT-KFT-RT összehasonlítása","(+)",null,{"$f":"A41","v":"miau301"},"Anonim Hallgató",":",{"$f":"M41","v":"2DM-terv: BT-KFT-RT összehasonlítása"},"  xx  ","https://miau.my-x.hu/miau/301/2dm-bt-kft-rt.xlsx",null,{"$f":"C41","v":"2DM-terv: BT-KFT-RT összehasonlítása"}]
[null,"(MY-X team):","(2DM-plan for different forms of enterprises)"]
["miau301","Deák Zsombor, Pitlik László","Egy jelenség előrejelezhetőségének változása az előrejelzett idő növelésével párhuzamosan","(+)",null,{"$f":"A43","v":"miau301"},"Deák Zsombor, Pitlik László",":",{"$f":"M43","v":"Egy jelenség előrejelezhetőségének változása az előrejelzett idő növelésével párhuzamosan"},"  xx  ","https://miau.my-x.hu/miau/301/Google ADS_Robot.xlsx",null,{"$f":"C43","v":"Egy jelenség előrejelezhetőségének változása az előrejelzett idő növelésével párhuzamosan"}]
[null,"(MY-X team):","(Changes in the predictability of a phenomenon parallel to increasing the predicted time)"]
["miau301","Anonim Hallgató","NASDAQ-előrejelzés 1 napra három termelési függvénnyel a cripto-valuták idősorai alapján","(+)",null,{"$f":"A45","v":"miau301"},"Anonim Hallgató",":",{"$f":"M45","v":"NASDAQ-előrejelzés 1 napra három termelési függvénnyel a cripto-valuták idősorai alapján"},"  xx  ","https://miau.my-x.hu/miau/301/KriptoStatBead2.xlsx",null,{"$f":"C45","v":"NASDAQ-előrejelzés 1 napra három termelési függvénnyel a cripto-valuták idősorai alapján"}]
[null,"(MY-X team):","(3 models for the NASDAQ(t+1) based on time series of the crypto-currencies)"]
["miau301","Pitlik László","Ideál-vezérelt ár/teljesítmény-index","(+)",null,{"$f":"A47","v":"miau301"},"Pitlik László",":",{"$f":"M47","v":"Ideál-vezérelt ár/teljesítmény-index"},"  xx  ","https://miau.my-x.hu/miau/301/price_performance_compared_ideal.xlsx",null,{"$f":"C47","v":"Ideál-vezérelt ár/teljesítmény-index"}]
[null,"(MY-X team):","(Ideal-driven price/performance index)"]
["miau301","Pintér Miklósné","CHATGPT-KÍSÉRLETEK: AZ ELSŐSEGÉLYNYÚJTÁS OKTATÁSÁNAK JELENTŐSÉGE A LAIKUSOK KÖRÉBEN","(+)",null,{"$f":"A49","v":"miau301"},"Pintér Miklósné",":",{"$f":"M49","v":"CHATGPT-KÍSÉRLETEK: AZ ELSŐSEGÉLYNYÚJTÁS OKTATÁSÁNAK JELENTŐSÉGE A LAIKUSOK KÖRÉBEN"},"  xx  ","https://miau.my-x.hu/miau/301/CHATGPT_elsosegely.docx",null,{"$f":"C49","v":"CHATGPT-KÍSÉRLETEK: AZ ELSŐSEGÉLYNYÚJTÁS OKTATÁSÁNAK JELENTŐSÉGE A LAIKUSOK KÖRÉBEN"}]
[null,"(MY-X team):","(CHATGPT-EXPERIMENTS: THE SIGNIFICANCE OF FIRST AID EDUCATION AMONG LAY PEOPLE)"]
["miau301","Csohány Andor, Sztanojev Mercédesz, Váradi Dániel, Pitlik László","A nemzetközi fizetési rendszer EKG-ja és NCF-alapú alternatív modellek versenye","(+)",null,{"$f":"A51","v":"miau301"},"Csohány Andor, Sztanojev Mercédesz, Váradi Dániel, Pitlik László",":",{"$f":"M51","v":"A nemzetközi fizetési rendszer EKG-ja és NCF-alapú alternatív modellek versenye"},"  xx  ","https://miau.my-x.hu/miau/301/arfolyamvaltozas_konzisztense.docx",null,{"$f":"C51","v":"A nemzetközi fizetési rendszer EKG-ja és NCF-alapú alternatív modellek versenye"}]
[null,"(MY-X team):","(EKG of the international monetary system and impacts of NCF-based alternative core models)"]
["miau301","Kocsis Dóra, Pitlik László","A legjobb ár/teljesítményű árucikk kiválasztása, avagy az ideáltól való eltérés hatásai","(+)",null,{"$f":"A53","v":"miau301"},"Kocsis Dóra, Pitlik László",":",{"$f":"M53","v":"A legjobb ár/teljesítményű árucikk kiválasztása, avagy az ideáltól való eltérés hatásai"},"  xx  ","https://miau.my-x.hu/miau/301/tortillas2.docx",null,{"$f":"C53","v":"A legjobb ár/teljesítményű árucikk kiválasztása, avagy az ideáltól való eltérés hatásai"}]
[null,"(MY-X team):","(Identification of the objective price/performance index or the impacts of an ideal product specifications)"]
["miau301","László Pitlik","Deutschsprachige Demo-Publikation (II): Process-Mining – aus der Sicht der KI und des KNUTH-Prinzips","(+)",null,{"$f":"A55","v":"miau301"},"László Pitlik",":",{"$f":"M55","v":"Deutschsprachige Demo-Publikation (II): Process-Mining – aus der Sicht der KI und des KNUTH-Prinzips"},"  xx  ","https://miau.my-x.hu/miau/301/process-mining-v1.docx",null,{"$f":"C55","v":"Deutschsprachige Demo-Publikation (II): Process-Mining – aus der Sicht der KI und des KNUTH-Prinzips"}]
[null,"(MY-X team):"]
["miau301","Bajkó Balázs, Pitlik László","A történelmi korszakhatárok mekkora változással vannak a szókincsükre, avagy a szavak gyakoriságának a vizsgálata az NGRAM-VIEWER támogatásával","(+)",null,{"$f":"A57","v":"miau301"},"Bajkó Balázs, Pitlik László",":",{"$f":"M57","v":"A történelmi korszakhatárok mekkora változással vannak a szókincsükre, avagy a szavak gyakoriságának a vizsgálata az NGRAM-VIEWER támogatásával"},"  xx  ","https://miau.my-x.hu/miau/301/Ngram viewer (1).docx",null,{"$f":"C57","v":"A történelmi korszakhatárok mekkora változással vannak a szókincsükre, avagy a szavak gyakoriságának a vizsgálata az NGRAM-VIEWER támogatásával"}]
[null,"(MY-X team):","(NGRAM-VIEWER-based analyses of era-boundaries)"]
["miau301","László Pitlik","Deutschsprachige Demo-Publikation: Behandlung von fehlenden Datenpositionen in Zeitreihen","(+)",null,{"$f":"A59","v":"miau301"},"László Pitlik",":",{"$f":"M59","v":"Deutschsprachige Demo-Publikation: Behandlung von fehlenden Datenpositionen in Zeitreihen"},"  xx  ","https://miau.my-x.hu/miau/301/fhdw1_v1.docx",null,{"$f":"C59","v":"Deutschsprachige Demo-Publikation: Behandlung von fehlenden Datenpositionen in Zeitreihen"}]
[null,"(MY-X team):"]
["miau301","Patkós Boglárka, Pitlik László","Dechatlon országúti kerékpárok árának alakulása, avagy alternatív jövők konzisztenciája","(+)",null,{"$f":"A61","v":"miau301"},"Patkós Boglárka, Pitlik László",":",{"$f":"M61","v":"Dechatlon országúti kerékpárok árának alakulása, avagy alternatív jövők konzisztenciája"},"  xx  ","https://miau.my-x.hu/miau/301/bicycles.docx",null,{"$f":"C61","v":"Dechatlon országúti kerékpárok árának alakulása, avagy alternatív jövők konzisztenciája"}]
[null,"(MY-X team):","(Price analyses for Dechatlon-bikes or consistence of alternative future scenarios)"]
["miau301","Környei Dávid","Adat-vezérelt sakk-robotot célzó fejlesztési kísérletek","(+)",null,{"$f":"A63","v":"miau301"},"Környei Dávid",":",{"$f":"M63","v":"Adat-vezérelt sakk-robotot célzó fejlesztési kísérletek"},"  xx  ","https://miau.my-x.hu/miau/301/Sakk-robot.docx",null,{"$f":"C63","v":"Adat-vezérelt sakk-robotot célzó fejlesztési kísérletek"}]
[null,"(MY-X team):","(Experiments for developing data-driven chess-robots)"]
["miau301","Szántó Dóra","Kivándorlás, jólét összehasonlító elemzése","(+)",null,{"$f":"A65","v":"miau301"},"Szántó Dóra",":",{"$f":"M65","v":"Kivándorlás, jólét összehasonlító elemzése"},"  xx  ","https://miau.my-x.hu/miau/301/jolet_v1.docx",null,{"$f":"C65","v":"Kivándorlás, jólét összehasonlító elemzése"}]
[null,"(MY-X team):","(Similarity analyses concerning migration and well-being)"]
["miau301","Buzder-Lantos István","A Covid-robot, avagy befolyásoló tényezők feltárása a COVID-19 vírus terjedésére","(+)",null,{"$f":"A67","v":"miau301"},"Buzder-Lantos István",":",{"$f":"M67","v":"A Covid-robot, avagy befolyásoló tényezők feltárása a COVID-19 vírus terjedésére"},"  xx  ","https://miau.my-x.hu/miau/301/covid_final.docx",null,{"$f":"C67","v":"A Covid-robot, avagy befolyásoló tényezők feltárása a COVID-19 vírus terjedésére"}]
[null,"(MY-X team):","(The robot of the Covid: Identifying factors influencing the spread of COVID-19 virus)"]
["miau301","Knotz Szilvia, Pitlik László","Áfa-változás hatásvizsgálata Google Trends adatok alapján, avagy nyugodtan alhatnak-e a szavazásokban érintett parlamenti képviselők?","(+)",null,{"$f":"A69","v":"miau301"},"Knotz Szilvia, Pitlik László",":",{"$f":"M69","v":"Áfa-változás hatásvizsgálata Google Trends adatok alapján, avagy nyugodtan alhatnak-e a szavazásokban érintett parlamenti képviselők?"},"  xx  ","https://miau.my-x.hu/miau/301/afa_csokkentes_racionalitasa_fnl.docx",null,{"$f":"C69","v":"Áfa-változás hatásvizsgálata Google Trends adatok alapján, avagy nyugodtan alhatnak-e a szavazásokban érintett parlamenti képviselők?"}]
[null,"(MY-X team):","(Impact assessment of VAT change based on Google Trends data or can the members of parliament sleep peacefully?)"]
["miau301","Pitlik László","MI indukálta hatások és annak következményei a jövőkutatásban","(+)",null,{"$f":"A71","v":"miau301"},"Pitlik László",":",{"$f":"M71","v":"MI indukálta hatások és annak következményei a jövőkutatásban"},"  xx  ","https://miau.my-x.hu/miau/301/mi_es_a_jovokutatas_kapcsolata.docx",null,{"$f":"C71","v":"MI indukálta hatások és annak következményei a jövőkutatásban"}]
[null,"(KJE):","(Inductive impacts concerning futurology based on AI)"]
["miau301","László Pitlik, Dániel Váradi, Marcell Pitlik","Simulator development for yield estimation (in case of corn, oats, soybean) based on weather-data (6th International Congress on Scientific Research August 18-20. 2023, Ankara by IKSAD Institute)","(+)",null,{"$f":"A73","v":"miau301"},"László Pitlik, Dániel Váradi, Marcell Pitlik",":",{"$f":"M73","v":"Simulator development for yield estimation (in case of corn, oats, soybean) based on weather-data (6th International Congress on Scientific Research August 18-20. 2023, Ankara by IKSAD Institute)"},"  xx  ","https://miau.my-x.hu/miau/303/full_ankara_yield.docx",null,{"$f":"C73","v":"Simulator development for yield estimation (in case of corn, oats, soybean) based on weather-data (6th International Congress on Scientific Research August 18-20. 2023, Ankara by IKSAD Institute)"}]
[null,"(MY-X team / KJE):"]
["miau302","László Pitlik, Dániel Váradi, László Pitlik Jr.","MP4: Experiments in artificial intelligence-based educational methodology (case study presentations) (6th International Congress on Scientific Research August 18-20. 2023, Ankara by IKSAD Institute)","(+)",null,{"$f":"A75","v":"miau302"},"László Pitlik, Dániel Váradi, László Pitlik Jr.",":",{"$f":"M75","v":"MP4: Experiments in artificial intelligence-based educational methodology (case study presentations) (6th International Congress on Scientific Research August 18-20. 2023, Ankara by IKSAD Institute)"},"  xx  ","https://miau.my-x.hu/miau/303/ankara_ai_education.mp4",null,{"$f":"C75","v":"MP4: Experiments in artificial intelligence-based educational methodology (case study presentations) (6th International Congress on Scientific Research August 18-20. 2023, Ankara by IKSAD Institute)"}]
[null,"(MY-X team / KJE):"]
["miau302","László Pitlik, Dániel Váradi, László Pitlik Jr.","PPT: Experiments in artificial intelligence-based educational methodology (case study presentations) (6th International Congress on Scientific Research August 18-20. 2023, Ankara by IKSAD Institute)","(+)",null,{"$f":"A77","v":"miau302"},"László Pitlik, Dániel Váradi, László Pitlik Jr.",":",{"$f":"M77","v":"PPT: Experiments in artificial intelligence-based educational methodology (case study presentations) (6th International Congress on Scientific Research August 18-20. 2023, Ankara by IKSAD Institute)"},"  xx  ","https://miau.my-x.hu/miau/303/ankara2023_education_ai.pptx",null,{"$f":"C77","v":"PPT: Experiments in artificial intelligence-based educational methodology (case study presentations) (6th International Congress on Scientific Research August 18-20. 2023, Ankara by IKSAD Institute)"}]
[null,"(MY-X team / KJE):"]
["miau302","László Pitlik, Dániel Váradi, László Pitlik Jr.","ABS: Experiments in artificial intelligence-based educational methodology (case study presentations) (6th International Congress on Scientific Research August 18-20. 2023, Ankara by IKSAD Institute)","(+)",null,{"$f":"A79","v":"miau302"},"László Pitlik, Dániel Váradi, László Pitlik Jr.",":",{"$f":"M79","v":"ABS: Experiments in artificial intelligence-based educational methodology (case study presentations) (6th International Congress on Scientific Research August 18-20. 2023, Ankara by IKSAD Institute)"},"  xx  ","https://miau.my-x.hu/miau/303/abs_Experiments_in_AI-based_educational_methodology_ankara.docx",null,{"$f":"C79","v":"ABS: Experiments in artificial intelligence-based educational methodology (case study presentations) (6th International Congress on Scientific Research August 18-20. 2023, Ankara by IKSAD Institute)"}]
[null,"(MY-X team / KJE):"]
["miau302","Pitlik László","Optimalizált és naiv férfidivat-tudatosság-index HU 2004-2023 - vizualizációs támogatás","(+)",null,{"$f":"A81","v":"miau302"},"Pitlik László",":",{"$f":"M81","v":"Optimalizált és naiv férfidivat-tudatosság-index HU 2004-2023 - vizualizációs támogatás"},"  xx  ","https://miau.my-x.hu/miau/302/sport_brands_hu_map (1).xlsm",null,{"$f":"C81","v":"Optimalizált és naiv férfidivat-tudatosság-index HU 2004-2023 - vizualizációs támogatás"}]
[null,"(MY-X team):","(Visualization support for time series in case of the brand/fashion/sport-consciousness-index for Hungary 2004-2023)"]
["miau302","Pitlik László","Solver-alapú megoldás lehetősége a Ramanudzsan-féle bűvös négyzet esetében","(+)",null,{"$f":"A83","v":"miau302"},"Pitlik László",":",{"$f":"M83","v":"Solver-alapú megoldás lehetősége a Ramanudzsan-féle bűvös négyzet esetében"},"  xx  ","https://miau.my-x.hu/miau/302/ramanujan_magic_square.xlsx",null,{"$f":"C83","v":"Solver-alapú megoldás lehetősége a Ramanudzsan-féle bűvös négyzet esetében"}]
[null,"(MY-X team):","(Possibility of a solver-based solution in case of the magic square of Ramanujan)"]
["miau302","Pitlik László","Az amőbajáték megoldásának Solver-alapú és egyéb alternatívái","(+)",null,{"$f":"A85","v":"miau302"},"Pitlik László",":",{"$f":"M85","v":"Az amőbajáték megoldásának Solver-alapú és egyéb alternatívái"},"  xx  ","https://miau.my-x.hu/miau/302/tictactoe_solver_3_3.xlsx",null,{"$f":"C85","v":"Az amőbajáték megoldásának Solver-alapú és egyéb alternatívái"}]
[null,"(MY-X team):","(Alternative solutions for the tictactoe-game - especially case studies with Solver-engines)"]
["miau302","Pitlik László","A process-mining adatvagyon-demo az amőbajáték példáján","(+)",null,{"$f":"A87","v":"miau302"},"Pitlik László",":",{"$f":"M87","v":"A process-mining adatvagyon-demo az amőbajáték példáján"},"  xx  ","https://miau.my-x.hu/miau/302/oam-based-process-mining-tictactoe.xlsx",null,{"$f":"C87","v":"A process-mining adatvagyon-demo az amőbajáték példáján"}]
[null,"(MY-X team):","(Data-asset-demo for further process mining activities in case of tictactoe-games)"]
["miau302","Szemesiné Cseh Kata","Mikor volt az egyes digitális, bibliográfiai jellegű adatbázisok aranykora, avagy esettanulmány hasonlóságelemzésekre alapozott, konzisztens (vállalati) elemzési kultúra növelése érdekében","(+)",null,{"$f":"A89","v":"miau302"},"Szemesiné Cseh Kata",":",{"$f":"M89","v":"Mikor volt az egyes digitális, bibliográfiai jellegű adatbázisok aranykora, avagy esettanulmány hasonlóságelemzésekre alapozott, konzisztens (vállalati) elemzési kultúra növelése érdekében"},"  xx  ","https://miau.my-x.hu/miau/302/mtmt_matarka_epa_oszk_.docx",null,{"$f":"C89","v":"Mikor volt az egyes digitális, bibliográfiai jellegű adatbázisok aranykora, avagy esettanulmány hasonlóságelemzésekre alapozott, konzisztens (vállalati) elemzési kultúra növelése érdekében"}]
[null,"(MY-X team):","(Golden age analyses for library-oriented organisations)"]
["miau302","László Pitlik","How it is made: staircase-functions","(+)",null,{"$f":"A91","v":"miau302"},"László Pitlik",":",{"$f":"M91","v":"How it is made: staircase-functions"},"  xx  ","https://miau.my-x.hu/miau/302/how_it_is_made_staircase_functions.xlsx",null,{"$f":"C91","v":"How it is made: staircase-functions"}]
[null,"(MY-X team):"]
["miau302","Pitlik László","Excel-tanácsadás - Billentyűkombinációk","(+)",null,{"$f":"A93","v":"miau302"},"Pitlik László",":",{"$f":"M93","v":"Excel-tanácsadás - Billentyűkombinációk"},"  xx  ","https://miau.my-x.hu/miau/302/excel_support1.docx",null,{"$f":"C93","v":"Excel-tanácsadás - Billentyűkombinációk"}]
[null,"(MY-X team):","(Excel support – Hot keys)"]
["miau302","László Pitlik","Alternatív összefüggések erősségének összehasonlító vizsgálata a konzisztencia-fogalom mibenlétének demonstrálására","(+)",null,{"$f":"A95","v":"miau302"},"László Pitlik",":",{"$f":"M95","v":"Alternatív összefüggések erősségének összehasonlító vizsgálata a konzisztencia-fogalom mibenlétének demonstrálására"},"  xx  ","https://miau.my-x.hu/miau/302/evidence_based_thinking.xlsx",null,{"$f":"C95","v":"Alternatív összefüggések erősségének összehasonlító vizsgálata a konzisztencia-fogalom mibenlétének demonstrálására"}]
[null,"(MY-X team):","(Comparative analysis of the accuracy of alternative solutions for the demonstration of the term-definition of consistency)"]
["miau302","Pitlik László","Hibakeresés, rendszerviselkedés többlépéses tesztelése komplex összefüggések esetén","(+)",null,{"$f":"A97","v":"miau302"},"Pitlik László",":",{"$f":"M97","v":"Hibakeresés, rendszerviselkedés többlépéses tesztelése komplex összefüggések esetén"},"  xx  ","https://miau.my-x.hu/miau/302/coco_hibakereses_hibajavitas.xlsx",null,{"$f":"C97","v":"Hibakeresés, rendszerviselkedés többlépéses tesztelése komplex összefüggések esetén"}]
[null,"(MY-X team):","(Error-interpretation,step-by-step exploring system behaviours in case of complex systems)"]
["miau302","László Pitlik","KI-basierte Analysemöglichkeiten von Lagerbestandsdaten für prozessanalytische Zwecke","(+)",null,{"$f":"A99","v":"miau302"},"László Pitlik",":",{"$f":"M99","v":"KI-basierte Analysemöglichkeiten von Lagerbestandsdaten für prozessanalytische Zwecke"},"  xx  ","https://miau.my-x.hu/miau/302/bohrstangen_lagermanagement.xlsx",null,{"$f":"C99","v":"KI-basierte Analysemöglichkeiten von Lagerbestandsdaten für prozessanalytische Zwecke"}]
[null,"(MY-X team):"]
["miau302","Pitlik László","Kivonatok leendő PhD-Hallgatók felkészítéséből - 2 of n","(+)",null,{"$f":"A101","v":"miau302"},"Pitlik László",":",{"$f":"M101","v":"Kivonatok leendő PhD-Hallgatók felkészítéséből - 2 of n"},"  xx  ","https://miau.my-x.hu/miau/302/Kivonatok_PhD_2ofn.docx",null,{"$f":"C101","v":"Kivonatok leendő PhD-Hallgatók felkészítéséből - 2 of n"}]
[null,"(MY-X team):","(Highlights from the preparation process of future PhD-Students - 2 of n)"]
["miau302","Pitlik László","Kivonatok leendő PhD-Hallgatók felkészítéséből - 1 of n","(+)",null,{"$f":"A103","v":"miau302"},"Pitlik László",":",{"$f":"M103","v":"Kivonatok leendő PhD-Hallgatók felkészítéséből - 1 of n"},"  xx  ","https://miau.my-x.hu/miau/302/Kivonatok_PhD_1ofn.docx",null,{"$f":"C103","v":"Kivonatok leendő PhD-Hallgatók felkészítéséből - 1 of n"}]
[null,"(MY-X team):","(Highlights from the preparation process of future PhD-Students - 1 of n)"]
["miau302","Baranyai Attila, Pitlik László","Robot HR elemző","(+)",null,{"$f":"A105","v":"miau302"},"Baranyai Attila, Pitlik László",":",{"$f":"M105","v":"Robot HR elemző"},"  xx  ","https://miau.my-x.hu/miau/302/HR robot_4.docx",null,{"$f":"C105","v":"Robot HR elemző"}]
[null,"(KJE/MY-X team):","(HR-Robot)"]
["miau302","Anonim Hallgató, Pitlik László","Aranykor/piaci érték-elemzések a magyar piacon Google-Trends-adatok alapján: Auchan-Tesco-Aldi-Lidl-Penny-Coop-Spar","(+)",null,{"$f":"A107","v":"miau302"},"Anonim Hallgató, Pitlik László",":",{"$f":"M107","v":"Aranykor/piaci érték-elemzések a magyar piacon Google-Trends-adatok alapján: Auchan-Tesco-Aldi-Lidl-Penny-Coop-Spar"},"  xx  ","https://miau.my-x.hu/miau/302/Auchan.xlsx",null,{"$f":"C107","v":"Aranykor/piaci érték-elemzések a magyar piacon Google-Trends-adatok alapján: Auchan-Tesco-Aldi-Lidl-Penny-Coop-Spar"}]
[null,"(MY-X team):","(Golden ages or dynamic brand-values for Auchan-Tesco-Aldi-Lidl-Penny-Coop-Spar in Hungary based on data from Google Trends)"]
["miau302","Pitlik László","PPT: A jövőkutatás lehetséges jövője: Idő-modellek, mint konzisztencia-keretek","(+)",null,{"$f":"A109","v":"miau302"},"Pitlik László",":",{"$f":"M109","v":"PPT: A jövőkutatás lehetséges jövője: Idő-modellek, mint konzisztencia-keretek"},"  xx  ","https://miau.my-x.hu/miau/302/20230609_ido_jovokutatas.pptx",null,{"$f":"C109","v":"PPT: A jövőkutatás lehetséges jövője: Idő-modellek, mint konzisztencia-keretek"}]
[null,"(KJE/MY-X team):","(Potential future of the futurology: Time-models for consistence frames)"]
["miau302","Pitlik László","MP4: A jövőkutatás lehetséges jövője: Idő-modellek, mint konzisztencia-keretek","(+)",null,{"$f":"A111","v":"miau302"},"Pitlik László",":",{"$f":"M111","v":"MP4: A jövőkutatás lehetséges jövője: Idő-modellek, mint konzisztencia-keretek"},"  xx  ","https://miau.my-x.hu/miau/302/20230609_ido_jovo.mp4",null,{"$f":"C111","v":"MP4: A jövőkutatás lehetséges jövője: Idő-modellek, mint konzisztencia-keretek"}]
[null,"(KJE/MY-X team):","(Potential future of the futurology: Time-models for consistence frames)"]
["miau302","Pitlik László","A jövőkutatás lehetséges jövője: Idő-modellek, mint konzisztencia-keretek","(+)",null,{"$f":"A113","v":"miau302"},"Pitlik László",":",{"$f":"M113","v":"A jövőkutatás lehetséges jövője: Idő-modellek, mint konzisztencia-keretek"},"  xx  ","https://miau.my-x.hu/miau/302/20230609_ido_jovokutatas.docx",null,{"$f":"C113","v":"A jövőkutatás lehetséges jövője: Idő-modellek, mint konzisztencia-keretek"}]
[null,"(KJE/MY-X team):","(Potential future of the futurology: Time-models for consistence frames)"]
["miau302","László Pitlik, Dániel Váradi, László Pitlik Jr.","Experiments in artificial intelligence-based educational methodology (case study presentations) (6th International Congress on Scientific Research August 18-20. 2023, Ankara by IKSAD Institute)","(+)",null,{"$f":"A115","v":"miau302"},"László Pitlik, Dániel Váradi, László Pitlik Jr.",":",{"$f":"M115","v":"Experiments in artificial intelligence-based educational methodology (case study presentations) (6th International Congress on Scientific Research August 18-20. 2023, Ankara by IKSAD Institute)"},"  xx  ","https://miau.my-x.hu/miau/303/full_Experiments_in_AI-based_educational_methodology_ankara.docx",null,{"$f":"C115","v":"Experiments in artificial intelligence-based educational methodology (case study presentations) (6th International Congress on Scientific Research August 18-20. 2023, Ankara by IKSAD Institute)"}]
[null,"(MY-X team / KJE):"]
["miau303","Pitlik László","A jövőkutatás és fizika kapcsolata, avagy az időkutatásról a (kvantum)-fizikai szemszögéből","(+)",null,{"$f":"A117","v":"miau303"},"Pitlik László",":",{"$f":"M117","v":"A jövőkutatás és fizika kapcsolata, avagy az időkutatásról a (kvantum)-fizikai szemszögéből"},"  xx  ","https://miau.my-x.hu/miau/303/futurology_physics_time.docx",null,{"$f":"C117","v":"A jövőkutatás és fizika kapcsolata, avagy az időkutatásról a (kvantum)-fizikai szemszögéből"}]
[null,"(MY-X team):","(Futurology and physics or about the time-research from point of view of the quantum-physics)"]
["miau303","Pitlik László, Pitlik László (jun)","Mikor tekinthető egy szabályrendszer konzisztensebbnek, mint egy másik – avagy a sebességkorlátozó szabályok egymáshoz való viszonya","(+)",null,{"$f":"A119","v":"miau303"},"Pitlik László, Pitlik László (jun)",":",{"$f":"M119","v":"Mikor tekinthető egy szabályrendszer konzisztensebbnek, mint egy másik – avagy a sebességkorlátozó szabályok egymáshoz való viszonya"},"  xx  ","https://miau.my-x.hu/miau/303/speed_limitation_rule_systems.docx",null,{"$f":"C119","v":"Mikor tekinthető egy szabályrendszer konzisztensebbnek, mint egy másik – avagy a sebességkorlátozó szabályok egymáshoz való viszonya"}]
[null,"(MY-X team):","(Which rule system is more consistent – case study rules for speed limitation)"]
["miau303","Pitlik László, Pitlik Marcell, Váradi Dániel","ABS: Konzisztencia-orientált növénytermesztési termelési függvények levezetése MI-támogatással időjárási adatok bevonása mellett","(+)",null,{"$f":"A121","v":"miau303"},"Pitlik László, Pitlik Marcell, Váradi Dániel",":",{"$f":"M121","v":"ABS: Konzisztencia-orientált növénytermesztési termelési függvények levezetése MI-támogatással időjárási adatok bevonása mellett"},"  xx  ","https://miau.my-x.hu/miau/303/20230901_20231006_precision_farming_conference_kecskemet.docx",null,{"$f":"C121","v":"ABS: Konzisztencia-orientált növénytermesztési termelési függvények levezetése MI-támogatással időjárási adatok bevonása mellett"}]
[null,"(KJE, MY-X team):","(Deriving consistence-oriented production functions for plants based on AI support involving weather data)"]
["miau303","Pitlik László","2DM-játéktervezési sablon párhuzamos tervparaméter-rétegekkel","(+)",null,{"$f":"A123","v":"miau303"},"Pitlik László",":",{"$f":"M123","v":"2DM-játéktervezési sablon párhuzamos tervparaméter-rétegekkel"},"  xx  ","https://miau.my-x.hu/miau/303/2DM_quiz_file.xlsx",null,{"$f":"C123","v":"2DM-játéktervezési sablon párhuzamos tervparaméter-rétegekkel"}]
[null,"(KJE):","(2DM game planning structures/layers)"]
["miau303","László Pitlik, László Pitlik Jr., Mátyás Pitlik","ABS: New possibilities in the pixel-based cryptography (6th International Congress on Scientific Research August 18-20. 2023, Ankara by IKSAD Institute)","(+)",null,{"$f":"A125","v":"miau303"},"László Pitlik, László Pitlik Jr., Mátyás Pitlik",":",{"$f":"M125","v":"ABS: New possibilities in the pixel-based cryptography (6th International Congress on Scientific Research August 18-20. 2023, Ankara by IKSAD Institute)"},"  xx  ","https://miau.my-x.hu/miau/303/abs_pixel_based_cryptography_ankara.docx",null,{"$f":"C125","v":"ABS: New possibilities in the pixel-based cryptography (6th International Congress on Scientific Research August 18-20. 2023, Ankara by IKSAD Institute)"}]
[null,"(MY-X team / KJE):"]
["miau303","László Pitlik, László Pitlik Jr., Mátyás Pitlik","MP4: New possibilities in the pixel-based cryptography (6th International Congress on Scientific Research August 18-20. 2023, Ankara by IKSAD Institute)","(+)",null,{"$f":"A127","v":"miau303"},"László Pitlik, László Pitlik Jr., Mátyás Pitlik",":",{"$f":"M127","v":"MP4: New possibilities in the pixel-based cryptography (6th International Congress on Scientific Research August 18-20. 2023, Ankara by IKSAD Institute)"},"  xx  ","https://miau.my-x.hu/miau/303/ankara_crypt.mp4",null,{"$f":"C127","v":"MP4: New possibilities in the pixel-based cryptography (6th International Congress on Scientific Research August 18-20. 2023, Ankara by IKSAD Institute)"}]
[null,"(MY-X team / KJE):"]
["miau303","László Pitlik, László Pitlik Jr., Mátyás Pitlik","PPT: New possibilities in the pixel-based cryptography (6th International Congress on Scientific Research August 18-20. 2023, Ankara by IKSAD Institute)","(+)",null,{"$f":"A129","v":"miau303"},"László Pitlik, László Pitlik Jr., Mátyás Pitlik",":",{"$f":"M129","v":"PPT: New possibilities in the pixel-based cryptography (6th International Congress on Scientific Research August 18-20. 2023, Ankara by IKSAD Institute)"},"  xx  ","https://miau.my-x.hu/miau/303/ankara2023_pixel_based_cryptography.pptx",null,{"$f":"C129","v":"PPT: New possibilities in the pixel-based cryptography (6th International Congress on Scientific Research August 18-20. 2023, Ankara by IKSAD Institute)"}]
[null,"(MY-X team / KJE):"]
["miau303","László Pitlik, László Pitlik Jr., Mátyás Pitlik","New possibilities in the pixel-based cryptography (6th International Congress on Scientific Research August 18-20. 2023, Ankara by IKSAD Institute)","(+)",null,{"$f":"A131","v":"miau303"},"László Pitlik, László Pitlik Jr., Mátyás Pitlik",":",{"$f":"M131","v":"New possibilities in the pixel-based cryptography (6th International Congress on Scientific Research August 18-20. 2023, Ankara by IKSAD Institute)"},"  xx  ","https://miau.my-x.hu/miau/303/full_pixel_based_cryptography_ankara.docx",null,{"$f":"C131","v":"New possibilities in the pixel-based cryptography (6th International Congress on Scientific Research August 18-20. 2023, Ankara by IKSAD Institute)"}]
[null,"(MY-X team / KJE):"]
["miau304","Pitlik László","Stratégiai és operatív irracionalitások a (pályázat)értékelésben","(+)",null,{"$f":"A133","v":"miau304"},"Pitlik László",":",{"$f":"M133","v":"Stratégiai és operatív irracionalitások a (pályázat)értékelésben"},"  xx  ","https://miau.my-x.hu/miau/304/strat_op_irra.docx",null,{"$f":"C133","v":"Stratégiai és operatív irracionalitások a (pályázat)értékelésben"}]
[null,"(MY-X team):","(Irrationalities on strategic and operative levels in (tender)evaluation processes)"]
["miau304","Pitlik László","Az [n alatt a k] és a [k alatt az n] kapcsolata kriptográfiai szempontból","(+)",null,{"$f":"A135","v":"miau304"},"Pitlik László",":",{"$f":"M135","v":"Az [n alatt a k] és a [k alatt az n] kapcsolata kriptográfiai szempontból"},"  xx  ","https://miau.my-x.hu/miau/304/crypt3.xlsx",null,{"$f":"C135","v":"Az [n alatt a k] és a [k alatt az n] kapcsolata kriptográfiai szempontból"}]
[null,"(MY-X team):","(Relationships of [n choose k] and [k choose n] from point of view of the cryptography)"]
["miau304","Pitlik Marcell","Szövegbányászat Excel-alapon: karakterláncok-hasonlósága","(+)",null,{"$f":"A137","v":"miau304"},"Pitlik Marcell",":",{"$f":"M137","v":"Szövegbányászat Excel-alapon: karakterláncok-hasonlósága"},"  xx  ","https://miau.my-x.hu/miau/304/szavankent_tartalmaz2.xlsm",null,{"$f":"C137","v":"Szövegbányászat Excel-alapon: karakterláncok-hasonlósága"}]
[null,"(MY-X team):","(Text mining in Excel: similarity of strings)"]
["miau304","Pitlik László, Pitlik László (ifj.), Pitlik Mátyás","Új lehetőségek a pixel-alapú kriptográfiában","(+)",null,{"$f":"A139","v":"miau304"},"Pitlik László, Pitlik László (ifj.), Pitlik Mátyás",":",{"$f":"M139","v":"Új lehetőségek a pixel-alapú kriptográfiában"},"  xx  ","https://miau.my-x.hu/miau/304/jub2/pixel-alapu-kriptografia-kje.docx",null,{"$f":"C139","v":"Új lehetőségek a pixel-alapú kriptográfiában"}]
[null,"(MY-X team):","(New possibilities in the pixel-based cryptography )"]
["miau304","Pitlik László","ABS: A chatGPT szerepe a tudásmenedzsmentben","(+)",null,{"$f":"A141","v":"miau304"},"Pitlik László",":",{"$f":"M141","v":"ABS: A chatGPT szerepe a tudásmenedzsmentben"},"  xx  ","https://miau.my-x.hu/miau/304/20231107_tudasmenedzsment_konferencia.docx",null,{"$f":"C141","v":"ABS: A chatGPT szerepe a tudásmenedzsmentben"}]
[null,"(MY-X team):","(The role of the chatGPT in the knowledge management)"]
["miau304","Pitlik László","FULL: A chatGPT szerepe a tudásmenedzsmentben","(+)",null,{"$f":"A143","v":"miau304"},"Pitlik László",":",{"$f":"M143","v":"FULL: A chatGPT szerepe a tudásmenedzsmentben"},"  xx  ","https://miau.my-x.hu/miau/304/20231107.docx",null,{"$f":"C143","v":"FULL: A chatGPT szerepe a tudásmenedzsmentben"}]
[null,"(MY-X team):","(The role of the chatGPT in the knowledge management)"]
["miau304","Pitlik László","PPT: A chatGPT szerepe a tudásmenedzsmentben","(+)",null,{"$f":"A145","v":"miau304"},"Pitlik László",":",{"$f":"M145","v":"PPT: A chatGPT szerepe a tudásmenedzsmentben"},"  xx  ","https://miau.my-x.hu/miau/304/20231107.pptx",null,"PPT: A chatGPT szerepe a tudásmenedzsmentben"]
[null,"(MY-X team):","(The role of the chatGPT in the knowledge management)"]
["miau304","Pitlik László","A chatGPT szerepe a tudásmenedzsmentben","(+)",null,{"$f":"A147","v":"miau304"},"Pitlik László",":",{"$f":"M147","v":"A chatGPT szerepe a tudásmenedzsmentben"},"  xx  ","https://miau.my-x.hu/miau/304/20231107.aac",null,"A chatGPT szerepe a tudásmenedzsmentben"]
[null,"(MY-X team):","(The role of the chatGPT in the knowledge management)"]
["miau304","Pitlik László","Humán gondolatok strukturálása és véletlenszám-alapú induktív szakértői rendszer-szabályak generálása, avagy tudásreperzentációs gyakorlatok","(+)",null,{"$f":"A149","v":"miau304"},"Pitlik László",":",{"$f":"M149","v":"Humán gondolatok strukturálása és véletlenszám-alapú induktív szakértői rendszer-szabályak generálása, avagy tudásreperzentációs gyakorlatok"},"  xx  ","https://miau.my-x.hu/miau/304/rnd.xlsx",null,{"$f":"C149","v":"Humán gondolatok strukturálása és véletlenszám-alapú induktív szakértői rendszer-szabályak generálása, avagy tudásreperzentációs gyakorlatok"}]
[null,"(MY-X team):","(Examples of knowledge representations based on random inputs for inductive expert system-rules)"]
["miau304","Pitlik László","Robotkar működési logikájának feltárása teszteléssel","(+)",null,{"$f":"A151","v":"miau304"},"Pitlik László",":",{"$f":"M151","v":"Robotkar működési logikájának feltárása teszteléssel"},"  xx  ","https://miau.my-x.hu/miau/304/robotkar_black_box_teszteles_tervezes.xlsx",null,{"$f":"C151","v":"Robotkar működési logikájának feltárása teszteléssel"}]
[null,"(MY-X team):","(Derivation of working logic of a robot engine based on test scenarios)"]
["miau304","Pitlik László","Tiltott szavak MI-alapú életre keltése, avagy a bűnözés szó racionális szociológiai paraméterei","(+)",null,{"$f":"A153","v":"miau304"},"Pitlik László",":",{"$f":"M153","v":"Tiltott szavak MI-alapú életre keltése, avagy a bűnözés szó racionális szociológiai paraméterei"},"  xx  ","https://miau.my-x.hu/miau/304/rnd_szociologia.xlsx",null,"Tiltott szavak MI-alapú életre keltése, avagy a bűnözés szó racionális szociológiai paraméterei"]
[null,"(MY-X team):","(Forbidden words and their AI-based revitalisation or derivaton rational sociological attributes of the term \"crime\")"]
["miau304","Pitlik László","Matematikai feladat magyar nyelvi megfogalmazásának Excel-alapú átiratai","(+)",null,{"$f":"A155","v":"miau304"},"Pitlik László",":",{"$f":"M155","v":"Matematikai feladat magyar nyelvi megfogalmazásának Excel-alapú átiratai"},"  xx  ","https://miau.my-x.hu/miau/304/3333_2023o.xlsx",null,"Matematikai feladat magyar nyelvi megfogalmazásának Excel-alapú átiratai"]
[null,"(MY-X team):","Transcription variations of a mathematical problem based on a task-description in natural language"]
["miau304","Pitlik László","Cyborg-etológia, avagy ember-gép-interakciók tesztelése a chatGPT kapcsán","(+)",null,{"$f":"A157","v":"miau304"},"Pitlik László",":",{"$f":"M157","v":"Cyborg-etológia, avagy ember-gép-interakciók tesztelése a chatGPT kapcsán"},"  xx  ","https://miau.my-x.hu/mediawiki/index.php/ChatGPT_cyborg-etology_human-machine-interactions",null,"Cyborg-etológia, avagy ember-gép-interakciók tesztelése a chatGPT kapcsán"]
[null,"(MY-X team):","ChatGPT cyborg-etology human-machine-interactions"]
["miau304","Dániel Váradi, László Pitlik","PPT: MEASURING HOMOGENEITY OF COUNTRIES IN THE EUROPEAN UNION BASED ON SIMILARITY ANALYSES","(+)",null,{"$f":"A159","v":"miau304"},"Dániel Váradi, László Pitlik",":",{"$f":"M159","v":"PPT: MEASURING HOMOGENEITY OF COUNTRIES IN THE EUROPEAN UNION BASED ON SIMILARITY ANALYSES"},"  xx  ","https://miau.my-x.hu/miau/302/homogeneity.pptx",null,"PPT: MEASURING HOMOGENEITY OF COUNTRIES IN THE EUROPEAN UNION BASED ON SIMILARITY ANALYSES"]
[null,"(KJE/MY-X team):"]
["miau304","Dániel Váradi, László Pitlik","MP3: MEASURING HOMOGENEITY OF COUNTRIES IN THE EUROPEAN UNION BASED ON SIMILARITY ANALYSES","(+)",null,{"$f":"A161","v":"miau304"},"Dániel Váradi, László Pitlik",":",{"$f":"M161","v":"MP3: MEASURING HOMOGENEITY OF COUNTRIES IN THE EUROPEAN UNION BASED ON SIMILARITY ANALYSES"},"  xx  ","https://miau.my-x.hu/miau/302/homogeneity.mp3",null,"MP3: MEASURING HOMOGENEITY OF COUNTRIES IN THE EUROPEAN UNION BASED ON SIMILARITY ANALYSES"]
[null,"(KJE/MY-X team):"]
["miau304","Dániel Váradi, László Pitlik","FULL: MEASURING HOMOGENEITY OF COUNTRIES IN THE EUROPEAN UNION BASED ON SIMILARITY ANALYSES","(+)",null,{"$f":"A163","v":"miau304"},"Dániel Váradi, László Pitlik",":",{"$f":"M163","v":"FULL: MEASURING HOMOGENEITY OF COUNTRIES IN THE EUROPEAN UNION BASED ON SIMILARITY ANALYSES"},"  xx  ","https://miau.my-x.hu/miau/302/614b1f_5d67f53923834cb0b79f50efd4876fd5.pdf",null,"FULL: MEASURING HOMOGENEITY OF COUNTRIES IN THE EUROPEAN UNION BASED ON SIMILARITY ANALYSES"]
[null,"(KJE/MY-X team):"]
["miau304","Dániel Váradi, László Pitlik","ABSTRACT: MEASURING HOMOGENEITY OF COUNTRIES IN THE EUROPEAN UNION BASED ON SIMILARITY ANALYSES","(+)",null,{"$f":"A165","v":"miau304"},"Dániel Váradi, László Pitlik",":",{"$f":"M165","v":"ABSTRACT: MEASURING HOMOGENEITY OF COUNTRIES IN THE EUROPEAN UNION BASED ON SIMILARITY ANALYSES"},"  xx  ","https://miau.my-x.hu/miau/302/homogeneity_abs.docx",null,"ABSTRACT: MEASURING HOMOGENEITY OF COUNTRIES IN THE EUROPEAN UNION BASED ON SIMILARITY ANALYSES"]
[null,"(KJE/MY-X team):"]
["miau305","Sipos Péter","MP3: 2DM-alapú oktatásmódszertani kísérletek","(+)",null,{"$f":"A167","v":"miau305"},"Sipos Péter",":",{"$f":"M167","v":"MP3: 2DM-alapú oktatásmódszertani kísérletek"},"  xx  ","https://miau.my-x.hu/miau/305/elte_1.mp3",null,"MP3: 2DM-alapú oktatásmódszertani kísérletek"]
[null,"(KJE):","(2DM-driven pedagogical experiments)"]
["miau305","Sipos Péter, Pitlik László, ifj. Pitlik László","2DM-alapú oktatásmódszertani kísérletek","(+)",null,{"$f":"A169","v":"miau305"},"Sipos Péter, Pitlik László, ifj. Pitlik László",":",{"$f":"M169","v":"2DM-alapú oktatásmódszertani kísérletek"},"  xx  ","https://miau.my-x.hu/miau/305/elte_myx_1.pptx",null,"2DM-alapú oktatásmódszertani kísérletek"]
[null,"(KJE):","(2DM-driven pedagogical experiments)"]
["miau305","Rácz Lívia","MP3: ChatGPT-alapú neveléstudományi / oktatásmódszertani kísérletek","(+)",null,{"$f":"A171","v":"miau305"},"Rácz Lívia",":",{"$f":"M171","v":"MP3: ChatGPT-alapú neveléstudományi / oktatásmódszertani kísérletek"},"  xx  ","https://miau.my-x.hu/miau/305/elte_2.mp3",null,"MP3: ChatGPT-alapú neveléstudományi / oktatásmódszertani kísérletek"]
[null,"(KJE):","(chatGPT-driven pedagogical experiments)"]
["miau305","Rácz Lívia, Pitlik László, ifj. Pitlik László","ChatGPT-alapú neveléstudományi / oktatásmódszertani kísérletek","(+)",null,{"$f":"A173","v":"miau305"},"Rácz Lívia, Pitlik László, ifj. Pitlik László",":",{"$f":"M173","v":"ChatGPT-alapú neveléstudományi / oktatásmódszertani kísérletek"},"  xx  ","https://miau.my-x.hu/miau/305/elte_myx_2.pptx",null,"ChatGPT-alapú neveléstudományi / oktatásmódszertani kísérletek"]
[null,"(KJE):","(chatGPT-driven pedagogical experiments)"]
["miau305","Pitlik László, Váradi Dániel, ifj. Pitlik László","MP3: Mesterséges intelligencia-alapú oktatás-módszertani kísérletek","(+)",null,{"$f":"A175","v":"miau305"},"Pitlik László, Váradi Dániel, ifj. Pitlik László",":",{"$f":"M175","v":"MP3: Mesterséges intelligencia-alapú oktatás-módszertani kísérletek"},"  xx  ","https://miau.my-x.hu/miau/305/elte_3.mp3",null,"MP3: Mesterséges intelligencia-alapú oktatás-módszertani kísérletek"]
[null,"(KJE):","(AI-driven pedagogical experiments)"]
["miau305","Pitlik László, Váradi Dániel, ifj. Pitlik László","Mesterséges intelligencia-alapú oktatás-módszertani kísérletek","(+)",null,{"$f":"A177","v":"miau305"},"Pitlik László, Váradi Dániel, ifj. Pitlik László",":",{"$f":"M177","v":"Mesterséges intelligencia-alapú oktatás-módszertani kísérletek"},"  xx  ","https://miau.my-x.hu/miau/305/elte_myx_3.pptx",null,"Mesterséges intelligencia-alapú oktatás-módszertani kísérletek"]
[null,"(KJE):","(AI-driven pedagogical experiments)"]
["miau305","Váradi Dániel, Vancsura István, Pflum Tamás, Kiss Dávid","KJE TDK 2023","(+)",null,{"$f":"A179","v":"miau305"},"Váradi Dániel, Vancsura István, Pflum Tamás, Kiss Dávid",":",{"$f":"M179","v":"KJE TDK 2023"},"  xx  ","https://miau.my-x.hu/miau/305/kje_tdk_2023.docx",null,"KJE TDK 2023"]
[null,"(KJE):","(Annual Scientific Students Associations Conference of KJU 2023)"]
["miau305","Anonim Hallgatók, Pitlik László","Genetikai potenciál-elvű automatikus kódjavító eljárás, mint szakdolgozati / diplomadolgozati / PhD-disszertációként értelmezhető téma - (Monty-Hall-verzió)","(+)",null,{"$f":"A181","v":"miau305"},"Anonim Hallgatók, Pitlik László",":",{"$f":"M181","v":"Genetikai potenciál-elvű automatikus kódjavító eljárás, mint szakdolgozati / diplomadolgozati / PhD-disszertációként értelmezhető téma - (Monty-Hall-verzió)"},"  xx  ","https://miau.my-x.hu/temp/php/monty-hall-ember-vs-chatgpt.docx",null,"Genetikai potenciál-elvű automatikus kódjavító eljárás, mint szakdolgozati / diplomadolgozati / PhD-disszertációként értelmezhető téma - (Monty-Hall-verzió)"]
[null,"(KJE):","(Genetic-potential-based challenge - Monty-Hall-Version)"]
["miau305","Pitlik László","Gyakorló feladatok a Monty-Hall paradoxont értelmező téves megoldási alternatívák hibáinak feltárásához","(+)",null,{"$f":"A183","v":"miau305"},"Pitlik László",":",{"$f":"M183","v":"Gyakorló feladatok a Monty-Hall paradoxont értelmező téves megoldási alternatívák hibáinak feltárásához"},"  xx  ","https://miau.my-x.hu/bprof/monty-hall-paradoxon-tesztelese.xlsm",null,"Gyakorló feladatok a Monty-Hall paradoxont értelmező téves megoldási alternatívák hibáinak feltárásához"]
[null,"(KJE):"]
["miau305","Anonim Megrendelő, Pitlik László","Publikus megrendelői rapid-projekt I.","(+)",null,{"$f":"A185","v":"miau305"},"Anonim Megrendelő, Pitlik László",":",{"$f":"M185","v":"Publikus megrendelői rapid-projekt I."},"  xx  ","https://miau.my-x.hu/mediawiki/index.php/Rapid_projects",null,"Publikus megrendelői rapid-projekt I."]
[null,"(KJE):","(Customer-driven public rapid project I)"]
["miau305","Anonim Hallgatók, Pitlik László","Rapid-projektek példatára (2023 ősz)","(+)",null,{"$f":"A187","v":"miau305"},"Anonim Hallgatók, Pitlik László",":",{"$f":"M187","v":"Rapid-projektek példatára (2023 ősz)"},"  xx  ","https://miau.my-x.hu/bprof/2023/osz/rapid/?C=M;O=D",null,"Rapid-projektek példatára (2023 ősz)"]
[null,"(KJE):","(Catalogue of cases: rapid projects 2023-Winter)"]
["miau305","Pitlik László, Pitlik Marcell, Váradi Dániel","PPT: Konzisztencia-orientált növénytermesztési termelési függvények levezetése MI-támogatással időjárási adatok bevonása mellett","(+)",null,{"$f":"A189","v":"miau305"},"Pitlik László, Pitlik Marcell, Váradi Dániel",":",{"$f":"M189","v":"PPT: Konzisztencia-orientált növénytermesztési termelési függvények levezetése MI-támogatással időjárási adatok bevonása mellett"},"  xx  ","https://miau.my-x.hu/miau/305/kecskemet2023_yield_estimation.pptx",null,"PPT: Konzisztencia-orientált növénytermesztési termelési függvények levezetése MI-támogatással időjárási adatok bevonása mellett"]
[null,"(MY-X team, KJE):","(Deriving consistence-oriented production functions for plants based on AI support involving weather data)"]
["miau305","VIRTOUR","2DM-alapú tudományos ismeretterjesztés biológia témakörben II. (madarak) (2DM-based dissemination of scientific knowledge on the field of the biology Part II - Birds)","(+)",null,{"$f":"A191","v":"miau305"},"VIRTOUR",":",{"$f":"M191","v":"2DM-alapú tudományos ismeretterjesztés biológia témakörben II. (madarak) (2DM-based dissemination of scientific knowledge on the field of the biology Part II - Birds)"},"  xx  ","https://elearning.virtour.hu/games/2D/madar1/index.html",null,"2DM-alapú tudományos ismeretterjesztés biológia témakörben II. (madarak) (2DM-based dissemination of scientific knowledge on the field of the biology Part II - Birds)"]
[null,"(VIRTOUR):"]
["miau306","Pitlik László, Bócz Viktor, Vancsura István","MP4: Hacker-robot értelmezések III.","(+)",null,{"$f":"A193","v":"miau306"},"Pitlik László, Bócz Viktor, Vancsura István",":",{"$f":"M193","v":"MP4: Hacker-robot értelmezések III."},"  xx  ","https://miau.my-x.hu/miau/306/hacker_robot3.mp4",null,"MP4: Hacker-robot értelmezések III."]
[null,"(MY-X team):","(Hacker-robot interpretations - Part III)"]
["miau306","Pitlik László, Bócz Viktor","MP4: Hacker-robot értelmezések II.","(+)",null,{"$f":"A195","v":"miau306"},"Pitlik László, Bócz Viktor",":",{"$f":"M195","v":"MP4: Hacker-robot értelmezések II."},"  xx  ","https://miau.my-x.hu/miau/306/hacker_robot2.mp4",null,"MP4: Hacker-robot értelmezések II."]
[null,"(MY-X team):","(Hacker-robot interpretations - Part II)"]
["miau306","Pitlik László, Bócz Viktor","MP4: Hacker-robot értelmezések I.","(+)",null,{"$f":"A197","v":"miau306"},"Pitlik László, Bócz Viktor",":",{"$f":"M197","v":"MP4: Hacker-robot értelmezések I."},"  xx  ","https://miau.my-x.hu/miau/306/hacker_robot.mp4",null,"MP4: Hacker-robot értelmezések I."]
[null,"(MY-X team):","(Hacker-robot interpretations - Part I)"]
["miau306","Pitlik László","Adatvesztés gyanújának értelmezése eltérő szoftverekre hatására","(+)",null,{"$f":"A199","v":"miau306"},"Pitlik László",":",{"$f":"M199","v":"Adatvesztés gyanújának értelmezése eltérő szoftverekre hatására"},"  xx  ","https://miau.my-x.hu/miau/306/db_volumes.xlsx",null,"Adatvesztés gyanújának értelmezése eltérő szoftverekre hatására"]
[null,"(MY-X team):","Interpretation of suspected data lost based on different softwares"]
["miau306","Pitlik László","Van-e fejlődés (1800-2020) az NGRAM angol korpusza alapján a tudományos (bizonyítás-orientált) nyelvhasználat terén?","(+)",null,{"$f":"A201","v":"miau306"},"Pitlik László",":",{"$f":"M201","v":"Van-e fejlődés (1800-2020) az NGRAM angol korpusza alapján a tudományos (bizonyítás-orientált) nyelvhasználat terén?"},"  xx  ","https://miau.my-x.hu/miau/306/ngram_tudomanykommunikacio.xlsx",null,"Van-e fejlődés (1800-2020) az NGRAM angol korpusza alapján a tudományos (bizonyítás-orientált) nyelvhasználat terén?"]
[null,"(MY-X team):","Is there any development (1800-2020) concerning the scientific language using based on the English corpus of NGRAM?"]
["miau306","Hideg Éva, Kelemen Rita, Kristóf Tamás, Magas István, Ménesi Éva, Pitlik László, Valkó Gábor","Korszakváltás küszöbén a statisztika és a jövőkutatás","(+)",null,{"$f":"A203","v":"miau306"},"Hideg Éva, Kelemen Rita, Kristóf Tamás, Magas István, Ménesi Éva, Pitlik László, Valkó Gábor",":",{"$f":"M203","v":"Korszakváltás küszöbén a statisztika és a jövőkutatás"},"  xx  ","https://miau.my-x.hu/miau/306/20231121/MTA_jovokutatas_program_.pdf",null,"Korszakváltás küszöbén a statisztika és a jövőkutatás"]
[null,"(MTA IX. Osztály Statisztikai és a Jövőkutatási Tudományos Bizottság):","(Statistics and futures research: on the verge of an era change)"]
["miau306","Pitlik László","MP3: A mesterséges intelligencia indukálta hatások és annak következményei az előretekintési jövőkutatásban","(+)",null,{"$f":"A205","v":"miau306"},"Pitlik László",":",{"$f":"M205","v":"MP3: A mesterséges intelligencia indukálta hatások és annak következményei az előretekintési jövőkutatásban"},"  xx  ","https://miau.my-x.hu/miau/306/20231121.mp3",null,"MP3: A mesterséges intelligencia indukálta hatások és annak következményei az előretekintési jövőkutatásban"]
[null,"(KJE):","(AI-driven impacts and consequencies for the future science)"]
["miau306","Pitlik László","PPT: A mesterséges intelligencia indukálta hatások és annak következményei az előretekintési jövőkutatásban","(+)",null,{"$f":"A207","v":"miau306"},"Pitlik László",":",{"$f":"M207","v":"PPT: A mesterséges intelligencia indukálta hatások és annak következményei az előretekintési jövőkutatásban"},"  xx  ","https://miau.my-x.hu/miau/306/20231121.pptx",null,"PPT: A mesterséges intelligencia indukálta hatások és annak következményei az előretekintési jövőkutatásban"]
[null,"(KJE):","(AI-driven impacts and consequencies for the future science)"]
["miau306","Pitlik László","MP3/TXT: Digitális Pedagógiai K(n)utatóintézet","(+)",null,{"$f":"A209","v":"miau306"},"Pitlik László",":",{"$f":"M209","v":"MP3/TXT: Digitális Pedagógiai K(n)utatóintézet"},"  xx  ","https://miau.my-x.hu/miau/306/ridip2023.docx",null,"MP3/TXT: Digitális Pedagógiai K(n)utatóintézet"]
[null,"(KJE):","(Research Institute for Digital Pedagogy - RIDIP)"]
["miau306","Pitlik László, Vancsura István, Rácz Mária","Haiku-alapú, direkt vers-értelmező szöveggel támogatott, ill. indirekt képgenerálást előkészítő MI inicializálás tapasztalatai","(+)",null,{"$f":"A211","v":"miau306"},"Pitlik László, Vancsura István, Rácz Mária",":",{"$f":"M211","v":"Haiku-alapú, direkt vers-értelmező szöveggel támogatott, ill. indirekt képgenerálást előkészítő MI inicializálás tapasztalatai"},"  xx  ","https://miau.my-x.hu/miau/306/haiku_txt_trigger_kep.docx",null,"Haiku-alapú, direkt vers-értelmező szöveggel támogatott, ill. indirekt képgenerálást előkészítő MI inicializálás tapasztalatai"]
[null,"(MY-X team):","(Experiences with haiku-based, haiku-driven, picture-oriented AI-initialization)"]
["miau307",null,null,null,null,{"$f":"A213","v":"miau307"},0,":",{"$f":"M213","v":0},"  xx  ","https://miau.my-x.hu/miau/299/bearing_abcdef.xlsx",null,0]
[]
["miau307",null,null,null,null,{"$f":"A215","v":"miau307"},0,":",{"$f":"M215","v":0},"  xx  ","https://miau.my-x.hu/mediawiki/index.php/System-modeling",null,{"$f":"C215","v":0}]
[]
["miau307",null,null,null,null,{"$f":"A217","v":"miau307"},0,":",{"$f":"M217","v":0},"  xx  ","https://miau.my-x.hu/bprof/2023/antivirus_oam1.xlsx",null,0]
[]
["miau307",null,null,null,null,{"$f":"A219","v":"miau307"},0,":",{"$f":"M219","v":0},"  xx  ","https://miau.my-x.hu/miau/297/finans ve vergi.pdf",null,0]

{"sheet":"matarka (7)","index":1,"n_rows":125,"n_cols":2,"rows_kept":125,"cut":false,"hidden":false,"merged":[]}
[null,"***"]
["Magyar Internetes Agrárinformatikai Újság (MIAÚ),2023,26,300"]
[{"$f":"nyers!A225","v":0},{"$f":"nyers!G1&nyers!H1&nyers!I1&nyers!J1&nyers!K1","v":"Anonim Hallgató, Pitlik László:Selejtezés szubjektív szabályok mentén és optimalizált, automatizált szabály-felismerés alapján  xx  https://miau.my-x.hu/miau/307/selejtezes/"}]
[{"$f":"nyers!A226","v":0},{"$f":"nyers!G3&nyers!H3&nyers!I3&nyers!J3&nyers!K3","v":"Pitlik László:A COCO STEP-IX módszer szükségszerűségének felismerése és lépéseinek mibenléte - 2  xx  https://miau.my-x.hu/miau/307/stepix_okostelefon/"}]
[{"$f":"nyers!A227","v":0},{"$f":"nyers!G5&nyers!H5&nyers!I5&nyers!J5&nyers!K5","v":"Pitlik László:A COCO STEP-IX módszer szükségszerűségének felismerése és lépéseinek mibenléte  xx  https://miau.my-x.hu/miau/307/stepix_monitor/"}]
[{"$f":"nyers!A228","v":0},{"$f":"nyers!G7&nyers!H7&nyers!I7&nyers!J7&nyers!K7","v":"Pitlik László:Tesztállomány hermeneutikai szélsőségek alátámasztására  xx  https://miau.my-x.hu/miau/307/ksh/"}]
[{"$f":"nyers!A229","v":0},{"$f":"nyers!G9&nyers!H9&nyers!I9&nyers!J9&nyers!K9","v":"Anonim Hallgató, Pitlik László:Baromfihús-fogyás előrejelzése lineáris regresszióval, chatGPT-vel és MI-alapon  xx  https://miau.my-x.hu/miau/307/ido_poultry/"}]
[{"$f":"nyers!A230","v":0},{"$f":"nyers!G11&nyers!H11&nyers!I11&nyers!J11&nyers!K11","v":"Anonim Hallgató, Pitlik László:Személyes tapasztalatom az életmódváltással - avagy edzésprogramok sikerességének MI-alapú monitorozása  xx  https://miau.my-x.hu/miau/307/eletforma/"}]
[{"$f":"nyers!A231","v":0},{"$f":"nyers!G13&nyers!H13&nyers!I13&nyers!J13&nyers!K13","v":"Pitlik László:Kölcsönhatások modellezése hasonlóságelemzésekkel  xx  https://miau.my-x.hu/miau/307/nyers-erok_vs_kolcsonhatasok_additiv_multiplikativ.xlsx"}]
[{"$f":"nyers!A232","v":0},{"$f":"nyers!G15&nyers!H15&nyers!I15&nyers!J15&nyers!K15","v":"Anonim Hallgató:Context-free gyanúgenerálás önkormányzati adatok alapján - avagy így dolgozna egy robot-oknyomozó riporter  xx  https://miau.my-x.hu/miau/307/robot_gyanugeneralas.xlsx"}]
[{"$f":"nyers!A233","v":0},{"$f":"nyers!G17&nyers!H17&nyers!I17&nyers!J17&nyers!K17","v":"Anonim Hallgató:Lehet-e minden év másként egyformán biztonságosnak tekinthető a bűnügyi statisztikák alapján?  xx  https://miau.my-x.hu/miau/307/kozbiztonsag_index.xls"}]
[{"$f":"nyers!A234","v":0},{"$f":"nyers!G19&nyers!H19&nyers!I19&nyers!J19&nyers!K19","v":"Anonim Hallgató:Latin nyelvű orvosi szakszavak létjogosultsága Google Trends és Google Adwords adatok alapján  xx  https://miau.my-x.hu/miau/307/magyar_vs_latin.xlsx"}]
[{"$f":"nyers!A235","v":0},{"$f":"nyers!G21&nyers!H21&nyers!I21&nyers!J21&nyers!K21","v":"Pitlik László:Álságos chatGPT-definíciók álságos emberi minták következtében  xx  https://miau.my-x.hu/miau/307/bing_mi_rol_tanulas_nelkul.docx"}]
[{"$f":"nyers!A236","v":0},{"$f":"nyers!G23&nyers!H23&nyers!I23&nyers!J23&nyers!K23","v":"Anonim Hallgató, Pitlik László:A chatGPT, mint tárgyalás taktikákat támogató szimulátor  xx  https://miau.my-x.hu/miau/307/chatGPT_negotiator_1.docx"}]
[{"$f":"nyers!A237","v":0},{"$f":"nyers!G25&nyers!H25&nyers!I25&nyers!J25&nyers!K25","v":"Váradi Dániel:Az EU monitoring rendszerének mesterséges intelligencia alapokra helyezése  xx  https://miau.my-x.hu/miau/307/szakdolgozat_vd.pdf"}]
[{"$f":"nyers!A238","v":0},{"$f":"nyers!G27&nyers!H27&nyers!I27&nyers!J27&nyers!K27","v":"Vancsura István:Mesterséges intelligencia alkalmazása a közösségi médiában  xx  https://miau.my-x.hu/miau/307/szakdolgozat_vi.pdf"}]
[{"$f":"nyers!A239","v":0},{"$f":"nyers!G29&nyers!H29&nyers!I29&nyers!J29&nyers!K29","v":"Bartók Patrik Róbert:Objektív döntésoptimalizálás mesterséges intelligencia bevonásával  xx  https://miau.my-x.hu/miau/307/szakdolgozat_bp.pdf"}]
[{"$f":"nyers!A240","v":0},{"$f":"nyers!G31&nyers!H31&nyers!I31&nyers!J31&nyers!K31","v":"Molnár Csanád:Online Dietetikus Szakértő - Mesterséges Intelligencia segítségével  xx  https://miau.my-x.hu/miau/307/odessai_mcs.pdf"}]
[{"$f":"nyers!A241","v":0},{"$f":"nyers!G33&nyers!H33&nyers!I33&nyers!J33&nyers!K33","v":"Ódor Márk:Webfejlesztési folyamatok egy AI támogatott dietetikus alkalmazás számára  xx  https://miau.my-x.hu/miau/307/odessai_om.pdf"}]
["Magyar Internetes Agrárinformatikai Újság (MIAÚ),2023,26,301"]
[{"$f":"nyers!A242","v":0},{"$f":"nyers!G35&nyers!H35&nyers!I35&nyers!J35&nyers!K35","v":"István Vancsura:System modelling aspects of the Social-AI project - Part IV-V.  xx  https://miau.my-x.hu/miau/308/System_Modelling_part_4-5.pptx"}]
[{"$f":"nyers!A243","v":0},{"$f":"nyers!G37&nyers!H37&nyers!I37&nyers!J37&nyers!K37","v":"István Vancsura:System modelling aspects of the Social-AI project - Part III.  xx  https://miau.my-x.hu/miau/308/System_Modelling_part_3.pptx"}]
[{"$f":"nyers!A244","v":0},{"$f":"nyers!G39&nyers!H39&nyers!I39&nyers!J39&nyers!K39","v":"István Vancsura:System modelling aspects of the Social-AI project - Part II.  xx  https://miau.my-x.hu/miau/308/System_Modelling_GANTT.pptx"}]
[{"$f":"nyers!A245","v":0},{"$f":"nyers!G41&nyers!H41&nyers!I41&nyers!J41&nyers!K41","v":"Pitlik László és Anonim Hallgatók:Az asztrológia és a mesterséges intelligencia kapcsolata  xx  https://miau.my-x.hu/miau/308/Az_asztrologia_es_az emberi_kapcsolatok_v2.docx"}]
[{"$f":"nyers!A246","v":0},{"$f":"nyers!G43&nyers!H43&nyers!I43&nyers!J43&nyers!K43","v":"Varga Norbert, Pitlik László, Szikra Andrea, Nagy Károly Zsolt, Németh Imre, Vancsura István, Rácz Mária:Politológiai haikuk, avagy a természetes és a mesterséges intelligencia ta\u0002lálkozása  xx  https://miau.my-x.hu/miau/309/veszprem_konferencia_AI_haiku_tanulmany.pdf"}]
[{"$f":"nyers!A247","v":0},{"$f":"nyers!G45&nyers!H45&nyers!I45&nyers!J45&nyers!K45","v":"Váradi Dániel, Pitlik László:A homogenitás és az autonómia fogalmak kapcsolata egymással és a mesterséges intelligencia lehetőségeivel  xx  https://miau.my-x.hu/miau/308/homogenitas_autonomia_final.docx"}]
[{"$f":"nyers!A248","v":0},{"$f":"nyers!G47&nyers!H47&nyers!I47&nyers!J47&nyers!K47","v":"Dániel Váradi:FULL-TEXT: Business Process Management - Case study: Evaluation/monitoring projects based on EU-statistics  xx  https://miau.my-x.hu/miau/308/bpm_eu.docx"}]
[{"$f":"nyers!A249","v":0},{"$f":"nyers!G49&nyers!H49&nyers!I49&nyers!J49&nyers!K49","v":"Dániel Váradi:PPT: Business Process Management - Case study: Evaluation/monitoring projects based on EU-statistics  xx  https://miau.my-x.hu/miau/308/bpm_eu.pptx"}]
[{"$f":"nyers!A250","v":0},{"$f":"nyers!G51&nyers!H51&nyers!I51&nyers!J51&nyers!K51","v":"István Vancsura:System modelling aspects of the Social-AI project  xx  https://miau.my-x.hu/miau/308/modelling_socialai.pptx"}]
[{"$f":"nyers!A251","v":0},{"$f":"nyers!G53&nyers!H53&nyers!I53&nyers!J53&nyers!K53","v":"Szauder Veronika:ÚJGENERÁCIÓS MÓDSZEREK A MATEMATIKA OKTATÁSBAN - MI  xx  https://miau.my-x.hu/miau/308/matematika_MI.docx"}]
[{"$f":"nyers!A252","v":0},{"$f":"nyers!G55&nyers!H55&nyers!I55&nyers!J55&nyers!K55","v":"Dániel Váradi, László Pitlik, Marcell Pitlik, László Pitlik (Jr.), Mátyás Pitlik:MP4: ABOUT A NEW, HYBRIDIZED TIME-SERIES ANALYSIS METHOD BASED ON SIMILARITY ANALYSES AND MULTIDIMENSIONAL TIME-LAYERING TECHNIQUES  xx  https://miau.my-x.hu/miau/308/mudita.mp4"}]
[{"$f":"nyers!A253","v":0},{"$f":"nyers!G57&nyers!H57&nyers!I57&nyers!J57&nyers!K57","v":"Dániel Váradi, László Pitlik, Marcell Pitlik, László Pitlik (Jr.), Mátyás Pitlik:PPT: ABOUT A NEW, HYBRIDIZED TIME-SERIES ANALYSIS METHOD BASED ON SIMILARITY ANALYSES AND MULTIDIMENSIONAL TIME-LAYERING TECHNIQUES  xx  https://miau.my-x.hu/miau/308/Introducing_MUDITA.pptx"}]
[{"$f":"nyers!A254","v":0},{"$f":"nyers!G59&nyers!H59&nyers!I59&nyers!J59&nyers!K59","v":"Dániel Váradi, László Pitlik, Marcell Pitlik, László Pitlik (Jr.), Mátyás Pitlik:ABS: ABOUT A NEW, HYBRIDIZED TIME-SERIES ANALYSIS METHOD BASED ON SIMILARITY ANALYSES AND MULTIDIMENSIONAL TIME-LAYERING TECHNIQUES  xx  https://miau.my-x.hu/miau/308/abs_new_time_series_analysis_method_mudita.docx"}]
[{"$f":"nyers!A255","v":0},{"$f":"nyers!G61&nyers!H61&nyers!I61&nyers!J61&nyers!K61","v":"Dániel Váradi, László Pitlik, Marcell Pitlik, László Pitlik (Jr.), Mátyás Pitlik:FULL-TEXT: ABOUT A NEW, HYBRIDIZED TIME-SERIES ANALYSIS METHOD BASED ON SIMILARITY ANALYSES AND MULTIDIMENSIONAL TIME-LAYERING TECHNIQUES  xx  https://miau.my-x.hu/miau/308/full_new_time_series_analysis_method_mudita.docx"}]
[{"$f":"nyers!A256","v":0},{"$f":"nyers!G63&nyers!H63&nyers!I63&nyers!J63&nyers!K63","v":"László Pitlik:Solver-miracles?! - instead of classic solutions  xx  https://miau.my-x.hu/miau/309/x2-x3-12.xlsx"}]
[{"$f":"nyers!A257","v":0},{"$f":"nyers!G65&nyers!H65&nyers!I65&nyers!J65&nyers!K65","v":"Pitlik László:Melyik fájl éri meg lementeni leginkább a többi állományhoz képest?  xx  https://miau.my-x.hu/miau/309/which_files_worth_downloading.xlsx"}]
[{"$f":"nyers!A258","v":0},{"$f":"nyers!G67&nyers!H67&nyers!I67&nyers!J67&nyers!K67","v":"Váradi Dániel:Az EU-homogenitás és a piaci stratégiák kapcsolata  xx  https://miau.my-x.hu/miau/309/homogenitas_es_piac.pptx"}]
[{"$f":"nyers!A259","v":0},{"$f":"nyers!G69&nyers!H69&nyers!I69&nyers!J69&nyers!K69","v":"Váradi Dániel:A MOL átfogó mérlegelemzése MI segítségével  xx  https://miau.my-x.hu/miau/309/mol.pptx"}]
[{"$f":"nyers!A260","v":0},{"$f":"nyers!G71&nyers!H71&nyers!I71&nyers!J71&nyers!K71","v":"Vancsura István:Application of Artificial Intelligence in Social Media - Social AI - Part 2 – Implementation  xx  https://miau.my-x.hu/miau/309/Social_AI_Part_2.pdf"}]
[{"$f":"nyers!A261","v":0},{"$f":"nyers!G73&nyers!H73&nyers!I73&nyers!J73&nyers!K73","v":"Pitlik László:MP3: MI, avagy tévhitek és benchmarkok? - Miért érdemes új korszakhatárként tekinteni?  xx  https://miau.my-x.hu/miau/309/20240425_bekescsaba.mp4"}]
["Magyar Internetes Agrárinformatikai Újság (MIAÚ),2023,26,302"]
[{"$f":"nyers!A262","v":0},{"$f":"nyers!G75&nyers!H75&nyers!I75&nyers!J75&nyers!K75","v":"Kiss László:Országgyűlési felszólalások elemzése külpolitikai viszonylatban  xx  https://miau.my-x.hu/miau/309/parlamenti_hozzaszolasok/Kiss L Parlament ciklusok_kulpolitika.docx"}]
[{"$f":"nyers!A263","v":0},{"$f":"nyers!G77&nyers!H77&nyers!I77&nyers!J77&nyers!K77","v":"Pitlik Dóra, Tóth Rita:PPT: NAPELEMEK TELJESÍTMÉNY-VISZONYAINAK VIZSGÁLATA  xx  https://miau.my-x.hu/miau/309/pd_tdk/Pitlik_Dora-Toth_Rita_36OTDK.pptx"}]
[{"$f":"nyers!A264","v":0},{"$f":"nyers!G79&nyers!H79&nyers!I79&nyers!J79&nyers!K79","v":"Pitlik Dóra, Tóth Rita:ABS: NAPELEMEK TELJESÍTMÉNY-VISZONYAINAK VIZSGÁLATA  xx  https://miau.my-x.hu/miau/309/pd_tdk/ITDK_resume.docx"}]
[{"$f":"nyers!A265","v":0},{"$f":"nyers!G81&nyers!H81&nyers!I81&nyers!J81&nyers!K81","v":"Pitlik Dóra, Tóth Rita:FULL-TEXT: NAPELEMEK TELJESÍTMÉNY-VISZONYAINAK VIZSGÁLATA  xx  https://miau.my-x.hu/miau/309/pd_tdk/OTDK-2023-Pitlik-Toth.pdf"}]
[{"$f":"nyers!A266","v":0},{"$f":"nyers!G83&nyers!H83&nyers!I83&nyers!J83&nyers!K83","v":"Pitlik Dóra:PPT: Stratégiai tanácsadás a távmunka népszerűsítésének szükségszerűségéről (Google Trends társadalomlélektani adatai alapján)  xx  https://miau.my-x.hu/miau/309/GD/5gk7rm5.pptx"}]
[{"$f":"nyers!A267","v":0},{"$f":"nyers!G85&nyers!H85&nyers!I85&nyers!J85&nyers!K85","v":"Pitlik Dóra:Stratégiai tanácsadás a távmunka népszerűsítésének szükségszerűségéről (Google Trends társadalomlélektani adatai alapján)  xx  https://miau.my-x.hu/miau/309/GD/5gk7rm5.docx"}]
[{"$f":"nyers!A268","v":0},{"$f":"nyers!G87&nyers!H87&nyers!I87&nyers!J87&nyers!K87","v":"Dániel Váradi, László Pitlik (Jr.), Mátyás Pitlik, László Pitlik:Homogeneity analysis for sustainable regions – case study: Mezőföld  xx  https://miau.my-x.hu/miau/311/mezofold/full_region_team_sustainability_analyses.pdf"}]
[{"$f":"nyers!A269","v":0},{"$f":"nyers!G89&nyers!H89&nyers!I89&nyers!J89&nyers!K89","v":"Anonim Hallgatók:SUDOKU megoldások Solver-rel  xx  https://miau.my-x.hu/miau/310/sudoku/"}]
[{"$f":"nyers!A270","v":0},{"$f":"nyers!G91&nyers!H91&nyers!I91&nyers!J91&nyers!K91","v":"Angyal János, Pitlik László:COCO-STEP-IX gyorsított és teljes eljárások összevetése és ezek hatásai a részeredményekre, ill. a végeredményre  xx  https://miau.my-x.hu/miau/310/szerver_ar_telj_stepix_gyorsitott_teljes21.xlsx"}]
[{"$f":"nyers!A271","v":0},{"$f":"nyers!G93&nyers!H93&nyers!I93&nyers!J93&nyers!K93","v":"Csaba Sebők:ChatGPT & Barkochba (20-question-games)  xx  https://miau.my-x.hu/miau/310/ChatGPT_Can_you_guess_my_words.docx"}]
[{"$f":"nyers!A272","v":0},{"$f":"nyers!G95&nyers!H95&nyers!I95&nyers!J95&nyers!K95","v":"Pitlik László:INDIREKT()-Excel-függvényre alapozott programozás az adatvagyon-minőségbiztosítás példája kapcsán  xx  https://miau.my-x.hu/miau/310/OAM_99_60_1kor.xlsx"}]
[{"$f":"nyers!A273","v":0},{"$f":"nyers!G97&nyers!H97&nyers!I97&nyers!J97&nyers!K97","v":"Pitlik László:Attribútum-arányok és az inverzió-alapú validálás  xx  https://miau.my-x.hu/miau/310/arany_inverz.xlsx"}]
[{"$f":"nyers!A274","v":0},{"$f":"nyers!G99&nyers!H99&nyers!I99&nyers!J99&nyers!K99","v":"Anonim Hallgató:Creating texts for English lessons - chatGPT-experiments  xx  https://miau.my-x.hu/miau/310/chatGPT_problems_with_English_Lesson_materials.docx"}]
[{"$f":"nyers!A275","v":0},{"$f":"nyers!G101&nyers!H101&nyers!I101&nyers!J101&nyers!K101","v":"Lengyel Kíra Anna, Gulyás Léna, Simon Damarisz, Pitlik László:AI a filmes szakmában  xx  https://miau.my-x.hu/miau/310/AI_a_filmes_szakmaban.doc"}]
[{"$f":"nyers!A276","v":0},{"$f":"nyers!G103&nyers!H103&nyers!I103&nyers!J103&nyers!K103","v":"Ökrös Adrienn:Digitalizáció és RPA egy logisztikai irodában  xx  https://miau.my-x.hu/miau/310/rpa_casestudy_hu.docx"}]
[{"$f":"nyers!A277","v":0},{"$f":"nyers!G105&nyers!H105&nyers!I105&nyers!J105&nyers!K105","v":"Megyes István:Elektroenkefalográfia jelek feldolgozása gépi tanulással  xx  https://miau.my-x.hu/miau/310/L38TRN_Megyes_Nemes_SZAKDOLGOZAT.pdf"}]
[{"$f":"nyers!A278","v":0},{"$f":"nyers!G107&nyers!H107&nyers!I107&nyers!J107&nyers!K107","v":"Anonim Hallgató:Létezhető ChatGPT-aktivitás rendszer általi megtagadása, s kérlelésre való végrehajtása (Begging-modus in chatGPT in case of hidden system-competencies)  xx  https://miau.my-x.hu/miau/310/chatGPT_parancs_helyett_kerlelesre.jpg"}]
[{"$f":"nyers!A279","v":0},{"$f":"nyers!G109&nyers!H109&nyers!I109&nyers!J109&nyers!K109","v":"Loboda Bence, Pitlik László:Szubjektív és objektív érveléskultúra, avagy elvek és példák  xx  https://miau.my-x.hu/miau/310/szubjektivitas_vs_objektivitas_ember_chatGPT_OAM.docx"}]
[{"$f":"nyers!A280","v":0},{"$f":"nyers!G111&nyers!H111&nyers!I111&nyers!J111&nyers!K111","v":"Anonim Hallgató:Létezhető ChatGPT-aktivitás rendszer általi megtagadása, s parancsra való végrehajtása  xx  https://miau.my-x.hu/miau/310/chatGPT_parancsra.docx"}]
[{"$f":"nyers!A281","v":0},{"$f":"nyers!G113&nyers!H113&nyers!I113&nyers!J113&nyers!K113","v":"László Pitlik:Solo and doubled anti-discriminative (Y0) similarity analyses and their relationships  xx  https://miau.my-x.hu/miau/310/y0_doubled.xlsx"}]
[{"$f":"nyers!A282","v":0},{"$f":"nyers!G115&nyers!H115&nyers!I115&nyers!J115&nyers!K115","v":"0:0  xx  "}]
["Magyar Internetes Agrárinformatikai Újság (MIAÚ),2023,26,303"]
[{"$f":"nyers!A284","v":0},{"$f":"nyers!G117&nyers!H117&nyers!I117&nyers!J117&nyers!K117","v":"0:0  xx  "}]
[{"$f":"nyers!A285","v":0},{"$f":"nyers!G119&nyers!H119&nyers!I119&nyers!J119&nyers!K119","v":"0:0  xx  "}]
[{"$f":"nyers!A286","v":0},{"$f":"nyers!G121&nyers!H121&nyers!I121&nyers!J121&nyers!K121","v":"0:0  xx  "}]
[{"$f":"nyers!A287","v":0},{"$f":"nyers!G123&nyers!H123&nyers!I123&nyers!J123&nyers!K123","v":"0:0  xx  "}]
[{"$f":"nyers!A288","v":0},{"$f":"nyers!G125&nyers!H125&nyers!I125&nyers!J125&nyers!K125","v":"0:0  xx  "}]
[{"$f":"nyers!A289","v":0},{"$f":"nyers!G127&nyers!H127&nyers!I127&nyers!J127&nyers!K127","v":"0:0  xx  "}]
[{"$f":"nyers!A290","v":0},{"$f":"nyers!G129&nyers!H129&nyers!I129&nyers!J129&nyers!K129","v":"0:0  xx  "}]
[{"$f":"nyers!A291","v":0},{"$f":"nyers!G131&nyers!H131&nyers!I131&nyers!J131&nyers!K131","v":"0:0  xx  "}]
["Magyar Internetes Agrárinformatikai Újság (MIAÚ),2023,26,304"]
[{"$f":"nyers!A291","v":0},{"$f":"nyers!G133&nyers!H133&nyers!I133&nyers!J133&nyers!K133","v":"0:0  xx  "}]
[{"$f":"nyers!A292","v":0},{"$f":"nyers!G135&nyers!H135&nyers!I135&nyers!J135&nyers!K135","v":"0:0  xx  "}]
[{"$f":"nyers!A293","v":0},{"$f":"nyers!G137&nyers!H137&nyers!I137&nyers!J137&nyers!K137","v":"0:0  xx  "}]
[{"$f":"nyers!A294","v":0},{"$f":"nyers!G139&nyers!H139&nyers!I139&nyers!J139&nyers!K139","v":"0:0  xx  "}]
[{"$f":"nyers!A295","v":0},{"$f":"nyers!G141&nyers!H141&nyers!I141&nyers!J141&nyers!K141","v":"0:0  xx  "}]
[{"$f":"nyers!A296","v":0},{"$f":"nyers!G143&nyers!H143&nyers!I143&nyers!J143&nyers!K143","v":"0:0  xx  "}]
[{"$f":"nyers!A297","v":0},{"$f":"nyers!G145&nyers!H145&nyers!I145&nyers!J145&nyers!K145","v":"0:0  xx  "}]
[{"$f":"nyers!A298","v":0},{"$f":"nyers!G147&nyers!H147&nyers!I147&nyers!J147&nyers!K147","v":"0:0  xx  "}]
[{"$f":"nyers!A299","v":0},{"$f":"nyers!G149&nyers!H149&nyers!I149&nyers!J149&nyers!K149","v":"0:0  xx  "}]
[{"$f":"nyers!A300","v":0},{"$f":"nyers!G151&nyers!H151&nyers!I151&nyers!J151&nyers!K151","v":"0:0  xx  "}]
[{"$f":"nyers!A301","v":0},{"$f":"nyers!G153&nyers!H153&nyers!I153&nyers!J153&nyers!K153","v":"0:0  xx  "}]
[{"$f":"nyers!A302","v":0},{"$f":"nyers!G155&nyers!H155&nyers!I155&nyers!J155&nyers!K155","v":"0:0  xx  "}]
[{"$f":"nyers!A303","v":0},{"$f":"nyers!G157&nyers!H157&nyers!I157&nyers!J157&nyers!K157","v":"0:0  xx  "}]
[{"$f":"nyers!A304","v":0},{"$f":"nyers!G159&nyers!H159&nyers!I159&nyers!J159&nyers!K159","v":"0:0  xx  "}]
[{"$f":"nyers!A305","v":0},{"$f":"nyers!G161&nyers!H161&nyers!I161&nyers!J161&nyers!K161","v":"0:0  xx  "}]
[{"$f":"nyers!A306","v":0},{"$f":"nyers!G163&nyers!H163&nyers!I163&nyers!J163&nyers!K163","v":"0:0  xx  "}]
[{"$f":"nyers!A307","v":0},{"$f":"nyers!G165&nyers!H165&nyers!I165&nyers!J165&nyers!K165","v":"0:0  xx  "}]
["Magyar Internetes Agrárinformatikai Újság (MIAÚ),2024,27,305"]
[{"$f":"nyers!A308","v":0},{"$f":"nyers!G167&nyers!H167&nyers!I167&nyers!J167&nyers!K167","v":"0:0  xx  "}]
[{"$f":"nyers!A309","v":0},{"$f":"nyers!G169&nyers!H169&nyers!I169&nyers!J169&nyers!K169","v":"0:0  xx  "}]
[{"$f":"nyers!A310","v":0},{"$f":"nyers!G171&nyers!H171&nyers!I171&nyers!J171&nyers!K171","v":"0:0  xx  "}]
[{"$f":"nyers!A311","v":0},{"$f":"nyers!G173&nyers!H173&nyers!I173&nyers!J173&nyers!K173","v":"0:0  xx  "}]
[{"$f":"nyers!A312","v":0},{"$f":"nyers!G175&nyers!H175&nyers!I175&nyers!J175&nyers!K175","v":"0:0  xx  "}]
[{"$f":"nyers!A313","v":0},{"$f":"nyers!G177&nyers!H177&nyers!I177&nyers!J177&nyers!K177","v":"0:0  xx  "}]
[{"$f":"nyers!A314","v":0},{"$f":"nyers!G179&nyers!H179&nyers!I179&nyers!J179&nyers!K179","v":"0:0  xx  "}]
[{"$f":"nyers!A315","v":0},{"$f":"nyers!G181&nyers!H181&nyers!I181&nyers!J181&nyers!K181","v":"0:0  xx  "}]
[{"$f":"nyers!A316","v":0},{"$f":"nyers!G183&nyers!H183&nyers!I183&nyers!J183&nyers!K183","v":"0:0  xx  "}]
[{"$f":"nyers!A317","v":0},{"$f":"nyers!G185&nyers!H185&nyers!I185&nyers!J185&nyers!K185","v":"0:0  xx  "}]
[{"$f":"nyers!A317","v":0},{"$f":"nyers!G187&nyers!H187&nyers!I187&nyers!J187&nyers!K187","v":"0:0  xx  "}]
[{"$f":"nyers!A319","v":0},{"$f":"nyers!G189&nyers!H189&nyers!I189&nyers!J189&nyers!K189","v":"0:0  xx  "}]
[{"$f":"nyers!A320","v":0},{"$f":"nyers!G191&nyers!H191&nyers!I191&nyers!J191&nyers!K191","v":"0:0  xx  "}]
["Magyar Internetes Agrárinformatikai Újság (MIAÚ),2024,27,306"]
[{"$f":"nyers!A321","v":0},{"$f":"nyers!G193&nyers!H193&nyers!I193&nyers!J193&nyers!K193","v":"0:0  xx  "}]
[{"$f":"nyers!A322","v":0},{"$f":"nyers!G195&nyers!H195&nyers!I195&nyers!J195&nyers!K195","v":"0:0  xx  "}]
[{"$f":"nyers!A323","v":0},{"$f":"nyers!G197&nyers!H197&nyers!I197&nyers!J197&nyers!K197","v":"0:0  xx  "}]
[{"$f":"nyers!A324","v":0},{"$f":"nyers!G199&nyers!H199&nyers!I199&nyers!J199&nyers!K199","v":"0:0  xx  "}]
[{"$f":"nyers!A325","v":0},{"$f":"nyers!G201&nyers!H201&nyers!I201&nyers!J201&nyers!K201","v":"0:0  xx  "}]
[{"$f":"nyers!A326","v":0},{"$f":"nyers!G203&nyers!H203&nyers!I203&nyers!J203&nyers!K203","v":"0:0  xx  "}]
[{"$f":"nyers!A327","v":0},{"$f":"nyers!G205&nyers!H205&nyers!I205&nyers!J205&nyers!K205","v":"0:0  xx  "}]
[{"$f":"nyers!A328","v":0},{"$f":"nyers!G207&nyers!H207&nyers!I207&nyers!J207&nyers!K207","v":"0:0  xx  "}]
[{"$f":"nyers!A329","v":0},{"$f":"nyers!G209&nyers!H209&nyers!I209&nyers!J209&nyers!K209","v":"0:0  xx  "}]
[{"$f":"nyers!A330","v":0},{"$f":"nyers!G211&nyers!H211&nyers!I211&nyers!J211&nyers!K211","v":"0:0  xx  "}]
[null,"***"]
[null,{"$f":"nyers!G214&nyers!H214&nyers!I214&nyers!J214&nyers!K214","v":""}]
[]
[null,{"$f":"nyers!G216&nyers!H216&nyers!I216&nyers!J216&nyers!K216","v":""}]
[]
[null,{"$f":"nyers!G218&nyers!H218&nyers!I218&nyers!J218&nyers!K218","v":""}]
[]
[null,{"$f":"nyers!G220&nyers!H220&nyers!I220&nyers!J220&nyers!K220","v":""}]
[null,{"$f":"nyers!G221&nyers!H221&nyers!I221&nyers!J221&nyers!K221","v":""}]
[null,{"$f":"nyers!G222&nyers!H222&nyers!I222&nyers!J222&nyers!K222","v":""}]
[null,{"$f":"nyers!G223&nyers!H223&nyers!I223&nyers!J223&nyers!K223","v":""}]

{"sheet":"matarka (6)","index":2,"n_rows":129,"n_cols":2,"rows_kept":129,"cut":false,"hidden":false,"merged":[]}
[null,"***"]
["Magyar Internetes Agrárinformatikai Újság (MIAÚ),2023,26,293"]
[{"$f":"nyers!A225","v":0},{"$f":"nyers!G1&nyers!H1&nyers!I1&nyers!J1&nyers!K1","v":"Anonim Hallgató, Pitlik László:Selejtezés szubjektív szabályok mentén és optimalizált, automatizált szabály-felismerés alapján  xx  https://miau.my-x.hu/miau/307/selejtezes/"}]
[{"$f":"nyers!A226","v":0},{"$f":"nyers!G3&nyers!H3&nyers!I3&nyers!J3&nyers!K3","v":"Pitlik László:A COCO STEP-IX módszer szükségszerűségének felismerése és lépéseinek mibenléte - 2  xx  https://miau.my-x.hu/miau/307/stepix_okostelefon/"}]
[{"$f":"nyers!A227","v":0},"László Pitlik-Dániel Váradi-László Pitlik, ifj.-Mátyás Pitlik-Marcell Pitlik:MP3: NON-CAUSAL MODELLING AND FORECASTING  xx  https://miau.my-x.hu/miau/293/2022-12-28 11-24-37.mp3"]
[{"$f":"nyers!A228","v":0},"László Pitlik-Dániel Váradi-László Pitlik, ifj.-Mátyás Pitlik-Marcell Pitlik:PPT: NON-CAUSAL MODELLING AND FORECASTING  xx  https://miau.my-x.hu/miau/293/ncm-abstract-and-full-text-2022.pptx"]
[{"$f":"nyers!A229","v":0},"László Pitlik-Dániel Váradi-László Pitlik, ifj.-Mátyás Pitlik-Marcell Pitlik:FULL-TEXT: NON-CAUSAL MODELLING AND FORECASTING  xx  https://miau.my-x.hu/miau/293/ncm-abstract-and-full-text-2022.docx"]
[{"$f":"nyers!A230","v":0},"László Pitlik-Dániel Váradi-László Pitlik, ifj.-Mátyás Pitlik-Marcell Pitlik:ABSTRACT: NON-CAUSAL MODELLING AND FORECASTING  xx  https://miau.my-x.hu/miau/293/ncm-abstract-2022.docx"]
[{"$f":"nyers!A231","v":0},"Balogh Imola Barbara-Lórántffy Laura:A kenyér árának előrejelzése a 2021-es évre  xx  https://miau.my-x.hu/miau/293/kenyerar_2021.docx"]
[{"$f":"nyers!A232","v":0},{"$f":"nyers!G15&nyers!H15&nyers!I15&nyers!J15&nyers!K15","v":"Anonim Hallgató:Context-free gyanúgenerálás önkormányzati adatok alapján - avagy így dolgozna egy robot-oknyomozó riporter  xx  https://miau.my-x.hu/miau/307/robot_gyanugeneralas.xlsx"}]
[{"$f":"nyers!A233","v":0},{"$f":"nyers!G17&nyers!H17&nyers!I17&nyers!J17&nyers!K17","v":"Anonim Hallgató:Lehet-e minden év másként egyformán biztonságosnak tekinthető a bűnügyi statisztikák alapján?  xx  https://miau.my-x.hu/miau/307/kozbiztonsag_index.xls"}]
[{"$f":"nyers!A234","v":0},{"$f":"nyers!G19&nyers!H19&nyers!I19&nyers!J19&nyers!K19","v":"Anonim Hallgató:Latin nyelvű orvosi szakszavak létjogosultsága Google Trends és Google Adwords adatok alapján  xx  https://miau.my-x.hu/miau/307/magyar_vs_latin.xlsx"}]
[{"$f":"nyers!A235","v":0},{"$f":"nyers!G21&nyers!H21&nyers!I21&nyers!J21&nyers!K21","v":"Pitlik László:Álságos chatGPT-definíciók álságos emberi minták következtében  xx  https://miau.my-x.hu/miau/307/bing_mi_rol_tanulas_nelkul.docx"}]
[{"$f":"nyers!A236","v":0},{"$f":"nyers!G23&nyers!H23&nyers!I23&nyers!J23&nyers!K23","v":"Anonim Hallgató, Pitlik László:A chatGPT, mint tárgyalás taktikákat támogató szimulátor  xx  https://miau.my-x.hu/miau/307/chatGPT_negotiator_1.docx"}]
[{"$f":"nyers!A237","v":0},{"$f":"nyers!G25&nyers!H25&nyers!I25&nyers!J25&nyers!K25","v":"Váradi Dániel:Az EU monitoring rendszerének mesterséges intelligencia alapokra helyezése  xx  https://miau.my-x.hu/miau/307/szakdolgozat_vd.pdf"}]
[{"$f":"nyers!A238","v":0},{"$f":"nyers!G27&nyers!H27&nyers!I27&nyers!J27&nyers!K27","v":"Vancsura István:Mesterséges intelligencia alkalmazása a közösségi médiában  xx  https://miau.my-x.hu/miau/307/szakdolgozat_vi.pdf"}]
[{"$f":"nyers!A239","v":0},{"$f":"nyers!G29&nyers!H29&nyers!I29&nyers!J29&nyers!K29","v":"Bartók Patrik Róbert:Objektív döntésoptimalizálás mesterséges intelligencia bevonásával  xx  https://miau.my-x.hu/miau/307/szakdolgozat_bp.pdf"}]
[{"$f":"nyers!A240","v":0},{"$f":"nyers!G31&nyers!H31&nyers!I31&nyers!J31&nyers!K31","v":"Molnár Csanád:Online Dietetikus Szakértő - Mesterséges Intelligencia segítségével  xx  https://miau.my-x.hu/miau/307/odessai_mcs.pdf"}]
[{"$f":"nyers!A241","v":0},{"$f":"nyers!G33&nyers!H33&nyers!I33&nyers!J33&nyers!K33","v":"Ódor Márk:Webfejlesztési folyamatok egy AI támogatott dietetikus alkalmazás számára  xx  https://miau.my-x.hu/miau/307/odessai_om.pdf"}]
[{"$f":"nyers!A242","v":0},{"$f":"nyers!G35&nyers!H35&nyers!I35&nyers!J35&nyers!K35","v":"István Vancsura:System modelling aspects of the Social-AI project - Part IV-V.  xx  https://miau.my-x.hu/miau/308/System_Modelling_part_4-5.pptx"}]
[{"$f":"nyers!A243","v":0},"Pitlik László-Rikk János:EEG-jelek koncepció-kényszer nélküli és mintázat-kényszeres értelmezései  xx  https://miau.my-x.hu/miau/293/eeg_pilot.xlsx"]
["Magyar Internetes Agrárinformatikai Újság (MIAÚ),2023,26,294"]
[{"$f":"nyers!A244","v":0},"László Hammerl-László Pitlik:PPT: Evaluation and simulation of the European hydrogen market based on diverse similarity analyses  xx  https://miau.my-x.hu/miau/294/hydrogen_market.pptx"]
[{"$f":"nyers!A245","v":0},"László Hammerl-László Pitlik:Full-text: Evaluation and simulation of the European hydrogen market based on diverse similarity analyses  xx  https://miau.my-x.hu/miau/294/hydrogen_market.pdf"]
[{"$f":"nyers!A246","v":0},"László Hammerl-László Pitlik:MP4: Evaluation and simulation of the European hydrogen market based on diverse similarity analyses  xx  https://miau.my-x.hu/miau/294/hydrogen_market.mp4"]
[{"$f":"nyers!A247","v":0},"László Hammerl-László Pitlik:Abstract: Evaluation and simulation of the European hydrogen market based on diverse similarity analyses  xx  https://miau.my-x.hu/miau/294/hydrogen_market_analyses_2023_abs.xlsx"]
[{"$f":"nyers!A248","v":0},"László Pitlik-Dániel Váradi-László Pitlik, ifj.-Mátyás Pitlik-Marcell Pitlik:Full-text: How can the overlearning-risk be detected and handled in model- and case-level based on the DIF(e)SA (direct-inverse-function-symmetry) approach?  xx  https://miau.my-x.hu/miau/294/difesa_abstract_full_text_2023_v5.docx"]
[{"$f":"nyers!A249","v":0},"László Pitlik-Dániel Váradi-László Pitlik, ifj.-Mátyás Pitlik-Marcell Pitlik:MP4: How can the overlearning-risk be detected and handled in model- and case-level based on the DIF(e)SA (direct-inverse-function-symmetry) approach?  xx  https://miau.my-x.hu/miau/294/difesa.mp4"]
[{"$f":"nyers!A250","v":0},"László Pitlik-Dániel Váradi-László Pitlik, ifj.-Mátyás Pitlik-Marcell Pitlik:PPT: How can the overlearning-risk be detected and handled in model- and case-level based on the DIF(e)SA (direct-inverse-function-symmetry) approach?  xx  https://miau.my-x.hu/miau/294/difesa.pptx"]
[{"$f":"nyers!A251","v":0},"László Pitlik-Dániel Váradi-László Pitlik, ifj.-Mátyás Pitlik-Marcell Pitlik: How can the overlearning-risk be detected and handled in model- and case-level based on the DIF(e)SA (direct-inverse-function-symmetry) approach?  xx  https://miau.my-x.hu/miau/294/difesa_abstract_full_text_2023.docx"]
[{"$f":"nyers!A252","v":0},{"$f":"nyers!G55&nyers!H55&nyers!I55&nyers!J55&nyers!K55","v":"Dániel Váradi, László Pitlik, Marcell Pitlik, László Pitlik (Jr.), Mátyás Pitlik:MP4: ABOUT A NEW, HYBRIDIZED TIME-SERIES ANALYSIS METHOD BASED ON SIMILARITY ANALYSES AND MULTIDIMENSIONAL TIME-LAYERING TECHNIQUES  xx  https://miau.my-x.hu/miau/308/mudita.mp4"}]
[{"$f":"nyers!A253","v":0},{"$f":"nyers!G57&nyers!H57&nyers!I57&nyers!J57&nyers!K57","v":"Dániel Váradi, László Pitlik, Marcell Pitlik, László Pitlik (Jr.), Mátyás Pitlik:PPT: ABOUT A NEW, HYBRIDIZED TIME-SERIES ANALYSIS METHOD BASED ON SIMILARITY ANALYSES AND MULTIDIMENSIONAL TIME-LAYERING TECHNIQUES  xx  https://miau.my-x.hu/miau/308/Introducing_MUDITA.pptx"}]
[{"$f":"nyers!A254","v":0},{"$f":"nyers!G59&nyers!H59&nyers!I59&nyers!J59&nyers!K59","v":"Dániel Váradi, László Pitlik, Marcell Pitlik, László Pitlik (Jr.), Mátyás Pitlik:ABS: ABOUT A NEW, HYBRIDIZED TIME-SERIES ANALYSIS METHOD BASED ON SIMILARITY ANALYSES AND MULTIDIMENSIONAL TIME-LAYERING TECHNIQUES  xx  https://miau.my-x.hu/miau/308/abs_new_time_series_analysis_method_mudita.docx"}]
[{"$f":"nyers!A255","v":0},{"$f":"nyers!G61&nyers!H61&nyers!I61&nyers!J61&nyers!K61","v":"Dániel Váradi, László Pitlik, Marcell Pitlik, László Pitlik (Jr.), Mátyás Pitlik:FULL-TEXT: ABOUT A NEW, HYBRIDIZED TIME-SERIES ANALYSIS METHOD BASED ON SIMILARITY ANALYSES AND MULTIDIMENSIONAL TIME-LAYERING TECHNIQUES  xx  https://miau.my-x.hu/miau/308/full_new_time_series_analysis_method_mudita.docx"}]
[{"$f":"nyers!A256","v":0},{"$f":"nyers!G63&nyers!H63&nyers!I63&nyers!J63&nyers!K63","v":"László Pitlik:Solver-miracles?! - instead of classic solutions  xx  https://miau.my-x.hu/miau/309/x2-x3-12.xlsx"}]
[{"$f":"nyers!A257","v":0},{"$f":"nyers!G65&nyers!H65&nyers!I65&nyers!J65&nyers!K65","v":"Pitlik László:Melyik fájl éri meg lementeni leginkább a többi állományhoz képest?  xx  https://miau.my-x.hu/miau/309/which_files_worth_downloading.xlsx"}]
[{"$f":"nyers!A258","v":0},{"$f":"nyers!G67&nyers!H67&nyers!I67&nyers!J67&nyers!K67","v":"Váradi Dániel:Az EU-homogenitás és a piaci stratégiák kapcsolata  xx  https://miau.my-x.hu/miau/309/homogenitas_es_piac.pptx"}]
["Magyar Internetes Agrárinformatikai Újság (MIAÚ),2023,26,295"]
[{"$f":"nyers!A259","v":0},"Pitlik Dóra-Pitlik László:Napelem-kísérletek input-output kapcsolatainak leírása termelési függvénnyel  xx  https://miau.my-x.hu/miau/295/napelem_rendszerelemzes.xlsx"]
[{"$f":"nyers!A260","v":0},{"$f":"nyers!G71&nyers!H71&nyers!I71&nyers!J71&nyers!K71","v":"Vancsura István:Application of Artificial Intelligence in Social Media - Social AI - Part 2 – Implementation  xx  https://miau.my-x.hu/miau/309/Social_AI_Part_2.pdf"}]
[{"$f":"nyers!A261","v":0},"Csohány Andor-Sztanojev Mercédesz:Bitcoin értékének alakulása a közeljövőben (1 hónap múlva)  xx  https://miau.my-x.hu/miau/295/bitcoin.docx"]
[{"$f":"nyers!A262","v":0},{"$f":"nyers!G75&nyers!H75&nyers!I75&nyers!J75&nyers!K75","v":"Kiss László:Országgyűlési felszólalások elemzése külpolitikai viszonylatban  xx  https://miau.my-x.hu/miau/309/parlamenti_hozzaszolasok/Kiss L Parlament ciklusok_kulpolitika.docx"}]
[{"$f":"nyers!A263","v":0},{"$f":"nyers!G77&nyers!H77&nyers!I77&nyers!J77&nyers!K77","v":"Pitlik Dóra, Tóth Rita:PPT: NAPELEMEK TELJESÍTMÉNY-VISZONYAINAK VIZSGÁLATA  xx  https://miau.my-x.hu/miau/309/pd_tdk/Pitlik_Dora-Toth_Rita_36OTDK.pptx"}]
[{"$f":"nyers!A264","v":0},"László Pitlik-Adrienn Muhari-Attila Jónás-Zsófia Hirschmann-Zsuzsanna Kiss:Robot-Citizen, or automated data-driven decision support for elections  xx  https://miau.my-x.hu/miau/295/robot_citizen.docx"]
[{"$f":"nyers!A265","v":0},"László Pitlik-Adrienn Muhari-Attila Jónás-Zsófia Hirschmann-Zsuzsanna Kiss:Human-ethology, human-ecology - robotized  xx  https://miau.my-x.hu/miau/295/human_ethology_ecology_robotized.docx"]
[{"$f":"nyers!A266","v":0},{"$f":"nyers!G83&nyers!H83&nyers!I83&nyers!J83&nyers!K83","v":"Pitlik Dóra:PPT: Stratégiai tanácsadás a távmunka népszerűsítésének szükségszerűségéről (Google Trends társadalomlélektani adatai alapján)  xx  https://miau.my-x.hu/miau/309/GD/5gk7rm5.pptx"}]
[{"$f":"nyers!A267","v":0},{"$f":"nyers!G85&nyers!H85&nyers!I85&nyers!J85&nyers!K85","v":"Pitlik Dóra:Stratégiai tanácsadás a távmunka népszerűsítésének szükségszerűségéről (Google Trends társadalomlélektani adatai alapján)  xx  https://miau.my-x.hu/miau/309/GD/5gk7rm5.docx"}]
[{"$f":"nyers!A268","v":0},"Pitlik László, ifj.:Matematika feladatok tánciskolásoknak II.  xx  https://forms.gle/7uCwnVyyCVYYqJZdA"]
[{"$f":"nyers!A269","v":0},"Pitlik László, ifj.:Matematika feladatok tánciskolásoknak I.  xx  https://forms.gle/hypg2tdAjV4wDBfU9"]
[{"$f":"nyers!A270","v":0},"Pitlik László-Anonim Hallgatók:EGO-alapú online szakértői rendszer demo-állományok  xx  https://miau.my-x.hu/myx-free/ego/demo/"]
[{"$f":"nyers!A271","v":0},{"$f":"nyers!G93&nyers!H93&nyers!I93&nyers!J93&nyers!K93","v":"Csaba Sebők:ChatGPT & Barkochba (20-question-games)  xx  https://miau.my-x.hu/miau/310/ChatGPT_Can_you_guess_my_words.docx"}]
["Magyar Internetes Agrárinformatikai Újság (MIAÚ),2023,26,296"]
[{"$f":"nyers!A272","v":0},{"$f":"nyers!G95&nyers!H95&nyers!I95&nyers!J95&nyers!K95","v":"Pitlik László:INDIREKT()-Excel-függvényre alapozott programozás az adatvagyon-minőségbiztosítás példája kapcsán  xx  https://miau.my-x.hu/miau/310/OAM_99_60_1kor.xlsx"}]
[{"$f":"nyers!A273","v":0},"István Vancsura-László Pitlik:Different approaches for derivation of risk-index-values in case of transaction-evaluation?  xx  https://miau.my-x.hu/miau/296/risk_index_naive_regression_coco.xlsx"]
[{"$f":"nyers!A274","v":0},{"$f":"nyers!G99&nyers!H99&nyers!I99&nyers!J99&nyers!K99","v":"Anonim Hallgató:Creating texts for English lessons - chatGPT-experiments  xx  https://miau.my-x.hu/miau/310/chatGPT_problems_with_English_Lesson_materials.docx"}]
[{"$f":"nyers!A275","v":0},{"$f":"nyers!G101&nyers!H101&nyers!I101&nyers!J101&nyers!K101","v":"Lengyel Kíra Anna, Gulyás Léna, Simon Damarisz, Pitlik László:AI a filmes szakmában  xx  https://miau.my-x.hu/miau/310/AI_a_filmes_szakmaban.doc"}]
[{"$f":"nyers!A276","v":0},{"$f":"nyers!G103&nyers!H103&nyers!I103&nyers!J103&nyers!K103","v":"Ökrös Adrienn:Digitalizáció és RPA egy logisztikai irodában  xx  https://miau.my-x.hu/miau/310/rpa_casestudy_hu.docx"}]
[{"$f":"nyers!A277","v":0},"Pitlik László-Anonim Hallgató:Szövegbányászat hasonlóságelemzéssel források dinamikus kulcsszó-dominanciájának feltárására  xx  https://miau.my-x.hu/miau/296/text_mining_similarity_time-series.xlsx"]
[{"$f":"nyers!A278","v":0},{"$f":"nyers!G107&nyers!H107&nyers!I107&nyers!J107&nyers!K107","v":"Anonim Hallgató:Létezhető ChatGPT-aktivitás rendszer általi megtagadása, s kérlelésre való végrehajtása (Begging-modus in chatGPT in case of hidden system-competencies)  xx  https://miau.my-x.hu/miau/310/chatGPT_parancs_helyett_kerlelesre.jpg"}]
[{"$f":"nyers!A279","v":0},"László Pitlik-Dániel Váradi:PPT: JOKER#2 OR DERIVATION OF LACKING DATA IN BIOLOGICAL SYSTEMS  xx  https://miau.my-x.hu/miau/296/joker2.pptx"]
[{"$f":"nyers!A280","v":0},"László Pitlik-Dániel Váradi:Abstract: JOKER#2 OR DERIVATION OF LACKING DATA IN BIOLOGICAL SYSTEMS  xx  https://miau.my-x.hu/miau/296/joker2_for_biological_systems.docx"]
[{"$f":"nyers!A281","v":0},{"$f":"nyers!G113&nyers!H113&nyers!I113&nyers!J113&nyers!K113","v":"László Pitlik:Solo and doubled anti-discriminative (Y0) similarity analyses and their relationships  xx  https://miau.my-x.hu/miau/310/y0_doubled.xlsx"}]
[{"$f":"nyers!A282","v":0},"László Pitlik-Dániel Váradi:JOKER#2 OR DERIVATION OF LACKING DATA IN BIOLOGICAL SYSTEMS  xx  https://miau.my-x.hu/miau/296/5. PROCEEDINGS BOOK V-2.pdf"]
[{"$f":"nyers!A283","v":0},"Pitlik László:Oktatásmódszertani kísérlet - csak szöveges kommunikációra alapuló oktatás  xx  https://miau.my-x.hu/mediawiki/index.php/System-modeling"]
[{"$f":"nyers!A284","v":0},"Pitlik László:Oktatást támogató tippek, trükkök pedagógusoknak  xx  https://miau.my-x.hu/mediawiki/index.php/Oktatast_tamogato_IT_megoldasok"]
["Magyar Internetes Agrárinformatikai Újság (MIAÚ),2023,26,297"]
[{"$f":"nyers!A285","v":0},"Dániel Czúni-Gyöngyi Bánkuti-László Pitlik:Full text: INTRODUCTION OF A TEXT MINING-BASED DECISION SUPPORT TECHNIQUE  xx  https://miau.my-x.hu/miau/297/czuni_03_10_full.docx"]
[{"$f":"nyers!A286","v":0},"Dániel Czúni-Gyöngyi Bánkuti-László Pitlik:MP4: INTRODUCTION OF A TEXT MINING-BASED DECISION SUPPORT TECHNIQUE  xx  https://miau.my-x.hu/miau/297/esport.mp4"]
[{"$f":"nyers!A287","v":0},"Dániel Czúni-Gyöngyi Bánkuti-László Pitlik:PPT: INTRODUCTION OF A TEXT MINING-BASED DECISION SUPPORT TECHNIQUE  xx  https://miau.my-x.hu/miau/297/esport.pptx"]
[{"$f":"nyers!A288","v":0},"Dániel Czúni-Gyöngyi Bánkuti-László Pitlik:Abstract: INTRODUCTION OF A TEXT MINING-BASED DECISION SUPPORT TECHNIQUE  xx  https://miau.my-x.hu/miau/297/Czuni_Daniel_Abstract_02_15.docx"]
[{"$f":"nyers!A289","v":0},"István Vancsura, László Pitlik:PPT: FINANCE PROCESS AUTOMATION WITH NUMBERICAL DECISION MAKING  xx  https://miau.my-x.hu/miau/297/FINANCE PROCESS AUTOMATION WITH NUMERICAL DECISION MAKING.pptx"]
[{"$f":"nyers!A290","v":0},"István Vancsura-László Pitlik:MP4: FINANCE PROCESS AUTOMATION WITH NUMBERICAL DECISION MAKING  xx  https://miau.my-x.hu/miau/297/FINANCE PROCESS AUTOMATION WITH NUMERICAL DECISION MAKING.mp4"]
[{"$f":"nyers!A291","v":0},"Zsolt Lajos Kontra-László Pitlik:MP4: Starlight  xx  https://miau.my-x.hu/miau/297/starlight.mp4"]
[{"$f":"nyers!A292","v":0},"Zsolt Lajos Kontra-László Pitlik:PPT: Starlight  xx  https://miau.my-x.hu/miau/297/starlight_v5.pptx"]
[{"$f":"nyers!A293","v":0},"László Pitlik-László Pitlik, ifj.-Marcell Pitlik:Modelling challenges on the field of IT-security (based on artificial intelligence)  xx  https://miau.my-x.hu/miau/297/modelling_challenges_on_the_field_of_IT_security_based_on_AI.docx"]
[{"$f":"nyers!A294","v":0},{"$f":"nyers!G139&nyers!H139&nyers!I139&nyers!J139&nyers!K139","v":"0:0  xx  "}]
[{"$f":"nyers!A295","v":0},{"$f":"nyers!G141&nyers!H141&nyers!I141&nyers!J141&nyers!K141","v":"0:0  xx  "}]
[{"$f":"nyers!A296","v":0},"István Vancsura-László Pitlik:Abstract: FINANCE PROCESS AUTOMATION WITH NUMBERICAL DECISION MAKING  xx  https://miau.my-x.hu/miau/297/FINANCE PROCESS AUTOMATION_abstract.docx"]
[{"$f":"nyers!A297","v":0},{"$f":"nyers!G145&nyers!H145&nyers!I145&nyers!J145&nyers!K145","v":"0:0  xx  "}]
[{"$f":"nyers!A298","v":0},"Zsolt Lajos Kontra-László Pitlik:Project Starlight (abstract): Robot-eye for (Turkish) football player-talent-identification  xx  https://miau.my-x.hu/miau/297/starlight_v1.docx"]
[{"$f":"nyers!A299","v":0},"POSZMIK BARNA-PITLIK LÁSZLÓ:CHATGPT-KÍSÉRLETEK NR.2. - AVAGY A CHATGPT MATEMATIKAI KÉPESSÉGEI?  xx  https://miau.my-x.hu/miau/297/ChatGPT2.docx"]
[{"$f":"nyers!A300","v":0},"POSZMIK BARNA-DEÁK ZSOMBOR-PITLIK LÁSZLÓ:CHATGPT-KÍSÉRLETEK NR.1. - VAN-E JÓSÁG-FOGALMA A CHATGPT-NEK, ILL. KELLŐEN PC-E A CHATGPT KOMMUNIKÁCIÓJA?  xx  https://miau.my-x.hu/miau/297/ChatGPT.docx"]
[{"$f":"nyers!A301","v":0},{"$f":"nyers!G153&nyers!H153&nyers!I153&nyers!J153&nyers!K153","v":"0:0  xx  "}]
[{"$f":"nyers!A302","v":0},{"$f":"nyers!G155&nyers!H155&nyers!I155&nyers!J155&nyers!K155","v":"0:0  xx  "}]
[{"$f":"nyers!A303","v":0},"Zsolt Lajos Kontra-László Pitlik:PROJECT STARLIGHT: ROBOT-EYE FOR (TURKISH) FOOTBALL PLAYER-TALENT IDENTIFICATION  xx  https://miau.my-x.hu/miau/297/finans ve vergi.pdf"]
["Magyar Internetes Agrárinformatikai Újság (MIAÚ),2023,26,298"]
[{"$f":"nyers!A304","v":0},"Pitlik Marcell-Pitlik László:Erősen ingadozó megrendelés-állományú cégek döntési folyamatainak támogatása hasonlóságelemzésekkel  xx  https://miau.my-x.hu/miau/298/claas_v1.docx"]
[{"$f":"nyers!A305","v":0},"Marcell Pitlik-Dániel Váradi-László Pitlik:Simulator development for yield estimation (in case of corn, oats, soybean) based on weather-data  xx  https://miau.my-x.hu/miau/298/Simulator development for yield estimation_2.docx"]
[{"$f":"nyers!A306","v":0},"Pitlik László-Pitlik László, ifj.:Oktatást támogató innovatív IT-megoldások/filozóiák pedagógusoknak  xx  https://miau.my-x.hu/mediawiki/index.php/Oktatast_tamogato_IT_megoldasok"]
[{"$f":"nyers!A307","v":0},{"$f":"nyers!G165&nyers!H165&nyers!I165&nyers!J165&nyers!K165","v":"0:0  xx  "}]
[{"$f":"nyers!A308","v":0},{"$f":"nyers!G167&nyers!H167&nyers!I167&nyers!J167&nyers!K167","v":"0:0  xx  "}]
[{"$f":"nyers!A309","v":0},"Jónás Attila-Pitlik László:ChatGPT-verziókat összehasonlító elemzések II.  xx  https://miau.my-x.hu/miau/298/ChatGPT2_GPT4 (1).docx"]
[{"$f":"nyers!A310","v":0},"Jónás Attila-Pitlik László:ChatGPT-verziókat összehasonlító elemzések I.  xx  https://miau.my-x.hu/miau/298/ChatGPT_GPT4 (1).docx"]
[{"$f":"nyers!A311","v":0},"Rikk János-Pitlik László:ChatGPT-kísérletek - programozás  xx  https://miau.my-x.hu/miau/298/chatgpt_.docx"]
[{"$f":"nyers!A312","v":0},{"$f":"nyers!G175&nyers!H175&nyers!I175&nyers!J175&nyers!K175","v":"0:0  xx  "}]
[{"$f":"nyers!A313","v":0},"Sipos Péter-Pitlik László:ChatGPT kísérletek: 2dm-játékok generálása (2. rész)  xx  https://miau.my-x.hu/miau/298/ChatGPT-food-2.pdf"]
[{"$f":"nyers!A314","v":0},"Sipos Péter-Pitlik László:ChatGPT kísérletek: 2dm-játékok generálása (1. rész)  xx  https://miau.my-x.hu/miau/298/ChatGPT-food.pdf"]
[{"$f":"nyers!A315","v":0},{"$f":"nyers!G181&nyers!H181&nyers!I181&nyers!J181&nyers!K181","v":"0:0  xx  "}]
[{"$f":"nyers!A316","v":0},"István Vancsura-László Pitlik:FINANCE PROCESS AUTOMATION WITH NUMBERICAL DECISION MAKING  xx  https://miau.my-x.hu/miau/297/finans ve vergi.pdf"]
["Magyar Internetes Agrárinformatikai Újság (MIAÚ),2023,26,299"]
[{"$f":"nyers!A317","v":0},"Borgulya János Márk-Pitlik László:ChatGPT: Ember-gép-kooperációs gyakorlatok IIa/b. - Tényszerű tudás  xx  https://miau.my-x.hu/miau/299/chat_GPT_magabizossag2of2.docx"]
[{"$f":"nyers!A318","v":0},"Rácz Lívia-Pitlik László:ChatGPT: Ember-gép-kooperációs gyakorlatok I. - Élethosszigtartó tanulás  xx  https://miau.my-x.hu/miau/299/ChatGPT_az_elethosszig_tarto_tanulas_v1_v2_v3.docx"]
[{"$f":"nyers!A319","v":0},{"$f":"nyers!G189&nyers!H189&nyers!I189&nyers!J189&nyers!K189","v":"0:0  xx  "}]
[{"$f":"nyers!A320","v":0},{"$f":"nyers!G191&nyers!H191&nyers!I191&nyers!J191&nyers!K191","v":"0:0  xx  "}]
[{"$f":"nyers!A321","v":0},"Zsolt Lajos Kontra-László Pitlik:Full-text: Artificial Intelligence-Based Sports Economics Analyses Project Starlight: Robot-Eye for (Turkish) Football Player Talent Identification  xx  https://miau.my-x.hu/miau/299/Kitap Sosyal.pdf"]
[{"$f":"nyers!A322","v":0},"Zsolt Lajos Kontra-László Pitlik:Abstract: Artificial Intelligence-Based Sports Economics Analyses Project Starlight: Robot-Eye for (Turkish) Football Player Talent Identification  xx  https://miau.my-x.hu/miau/299/Artificial Intelligence-Based Sports Economics Analysis_Abstract.docx"]
[{"$f":"nyers!A323","v":0},{"$f":"nyers!G197&nyers!H197&nyers!I197&nyers!J197&nyers!K197","v":"0:0  xx  "}]
[{"$f":"nyers!A324","v":0},{"$f":"nyers!G199&nyers!H199&nyers!I199&nyers!J199&nyers!K199","v":"0:0  xx  "}]
[{"$f":"nyers!A325","v":0},"Forsterné Kolosa Esztella-Pitlik László:A munkanélküliek száma és a bruttó átlagkereset változása Magyarországon vármegyénként 2016 és 2022 között  xx  https://miau.my-x.hu/miau/299/rosling2"]
[{"$f":"nyers!A326","v":0},{"$f":"nyers!G203&nyers!H203&nyers!I203&nyers!J203&nyers!K203","v":"0:0  xx  "}]
[{"$f":"nyers!A327","v":0},{"$f":"nyers!G205&nyers!H205&nyers!I205&nyers!J205&nyers!K205","v":"0:0  xx  "}]
[{"$f":"nyers!A328","v":0},{"$f":"nyers!G207&nyers!H207&nyers!I207&nyers!J207&nyers!K207","v":"0:0  xx  "}]
[{"$f":"nyers!A329","v":0},{"$f":"nyers!G209&nyers!H209&nyers!I209&nyers!J209&nyers!K209","v":"0:0  xx  "}]
[{"$f":"nyers!A330","v":0},{"$f":"nyers!G211&nyers!H211&nyers!I211&nyers!J211&nyers!K211","v":"0:0  xx  "}]
[{"$f":"nyers!A331","v":0},{"$f":"nyers!G213&nyers!H213&nyers!I213&nyers!J213&nyers!K213","v":"0:0  xx  "}]
[{"$f":"nyers!A332","v":0},{"$f":"nyers!G215&nyers!H215&nyers!I215&nyers!J215&nyers!K215","v":"0:0  xx  "}]
[{"$f":"nyers!A333","v":0},{"$f":"nyers!G217&nyers!H217&nyers!I217&nyers!J217&nyers!K217","v":"0:0  xx  "}]
[{"$f":"nyers!A334","v":0},"Dániel Czúni-Gyöngyi Bánkuti-László Pitlik:INTRODUCTION OF A TEXT MINING-BASED DECISION SUPPORT TECHNIQUE  xx  https://miau.my-x.hu/miau/297/finans ve vergi.pdf"]
[null,"***"]
[null,{"$f":"nyers!G214&nyers!H214&nyers!I214&nyers!J214&nyers!K214","v":""}]
[]
[null,{"$f":"nyers!G216&nyers!H216&nyers!I216&nyers!J216&nyers!K216","v":""}]
[]
[null,{"$f":"nyers!G218&nyers!H218&nyers!I218&nyers!J218&nyers!K218","v":""}]
[]
[null,{"$f":"nyers!G220&nyers!H220&nyers!I220&nyers!J220&nyers!K220","v":""}]
[null,{"$f":"nyers!G221&nyers!H221&nyers!I221&nyers!J221&nyers!K221","v":""}]
[null,{"$f":"nyers!G222&nyers!H222&nyers!I222&nyers!J222&nyers!K222","v":""}]
[null,{"$f":"nyers!G223&nyers!H223&nyers!I223&nyers!J223&nyers!K223","v":""}]

{"sheet":"nyers (8)","index":3,"n_rows":334,"n_cols":13,"rows_kept":334,"cut":false,"hidden":false,"merged":[[216,2,217,2],[216,3,217,3],[218,2,219,2],[218,3,219,3],[210,2,211,2],[210,3,211,3],[212,2,213,2],[212,3,213,3],[214,2,215,2],[214,3,215,3],[204,2,205,2],[204,3,205,3],[206,2,207,2],[206,3,207,3],[208,2,209,2],[208,3,209,3],[194,2,195,2],[194,3,195,3],[196,3,197,3],[198,3,199,3],[200,3,201,3],[202,3,203,3],[184,3,185,3],[186,3,187,3],[188,2,189,2],[188,3,189,3],[190,3,191,3],[192,2,193,2],[192,3,193,3],[174,3,175,3],[176,3,177,3],[178,3,179,3],[180,3,181,3],[182,2,183,2],[182,3,183,3],[162,3,163,3],[164,3,165,3],[166,3,167,3],[168,3,169,3],[170,3,171,3],[172,3,173,3],[154,3,155,3],[156,2,157,2],[156,3,157,3],[158,3,159,3],[160,2,161,2],[160,3,161,3],[146,2,147,2],[146,3,147,3],[148,3,149,3],[150,3,151,3],[152,2,153,2],[152,3,153,3],[138,3,139,3],[140,2,141,2],[140,3,141,3],[142,2,143,2],[142,3,143,3],[144,2,145,2],[144,3,145,3],[132,2,133,2],[132,3,133,3],[134,2,135,2],[134,3,135,3],[136,2,137,2],[136,3,137,3],[126,2,127,2],[126,3,127,3],[128,2,129,2],[128,3,129,3],[130,2,131,2],[130,3,131,3],[120,2,121,2],[120,3,121,3],[122,2,123,2],[122,3,123,3],[124,2,125,2],[124,3,125,3],[112,3,113,3],[114,2,115,2],[114,3,115,3],[116,1,117,1],[116,3,117,3],[118,1,119,1],[118,3,119,3],[104,3,105,3],[106,2,107,2],[106,3,107,3],[108,2,109,2],[108,3,109,3],[110,2,111,2],[110,3,111,3],[96,2,97,2],[96,3,97,3],[98,3,99,3],[100,3,101,3],[102,2,103,2],[102,3,103,3],[86,3,87,3],[88,3,89,3],[90,3,91,3],[92,2,93,2],[92,3,93,3],[94,2,95,2],[94,3,95,3],[78,2,79,2],[78,3,79,3],[80,2,81,2],[80,3,81,3],[82,3,83,3],[84,3,85,3],[68,3,69,3],[70,3,71,3],[72,3,73,3],[74,2,75,2],[74,3,75,3],[76,2,77,2],[76,3,77,3],[58,3,59,3],[60,3,61,3],[62,3,63,3],[64,2,65,2],[64,3,65,3],[66,3,67,3],[50,2,51,2],[50,3,51,3],[52,2,53,2],[52,3,53,3],[54,3,55,3],[56,3,57,3],[44,2,45,2],[44,3,45,3],[46,2,47,2],[46,3,47,3],[48,2,49,2],[48,3,49,3],[36,3,37,3],[38,2,39,2],[38,3,39,3],[40,2,41,2],[40,3,41,3],[42,2,43,2],[42,3,43,3],[26,2,27,2],[26,3,27,3],[28,3,29,3],[30,3,31,3],[32,3,33,3],[34,3,35,3],[16,3,17,3],[18,3,19,3],[20,3,21,3],[22,3,23,3],[24,2,25,2],[24,3,25,3],[8,2,9,2],[8,3,9,3],[10,2,11,2],[10,3,11,3],[12,3,13,3],[14,3,15,3],[0,3,1,3],[2,3,3,3],[4,2,5,2],[4,3,5,3],[6,2,7,2],[6,3,7,3]]}
["miau293","Deák Zsombor","1-napos időjárás-előrejelzések pontossága","(+)",null,{"$f":"A1","v":"miau293"},{"$f":"B1","v":"Deák Zsombor"},":",{"$f":"M1","v":"1-napos időjárás-előrejelzések pontossága"},"  xx  ","https://miau.my-x.hu/miau/293/idojaras tenyek_vs_elorejelzesek_2022_09_19-10_19.docx",null,{"$f":"C1","v":"1-napos időjárás-előrejelzések pontossága"}]
[null,"(KJE):","(Fitting values for the 1-day-forcasts in case of different weather-phenomena concerning Budapest)"]
["miau293","Viktória Hrabosová","A többnapos turisztikai belföldi utazások trendje Magyarországon 2022-re nézve","(+)",null,{"$f":"A3","v":"miau293"},"Viktória Hrabosová",":",{"$f":"M3","v":"A többnapos turisztikai belföldi utazások trendje Magyarországon 2022-re nézve"},"  xx  ","https://miau.my-x.hu/miau/293/stadat_turizmus_kovetkezo_negyedev.docx",null,{"$f":"C3","v":"A többnapos turisztikai belföldi utazások trendje Magyarországon 2022-re nézve"}]
[null,"(KJE):","(Estimation of the number of multiday-tourists for the last quarter of 2022)"]
["miau293","László Pitlik (sen), Dániel Váradi, László Pitlik (jun), Mátyás Pitlik, Marcell Pitlik","MP3: NON-CAUSAL MODELLING AND FORECASTING","(+)",null,{"$f":"A5","v":"miau293"},"László Pitlik (sen), Dániel Váradi, László Pitlik (jun), Mátyás Pitlik, Marcell Pitlik",":",{"$f":"M5","v":"MP3: NON-CAUSAL MODELLING AND FORECASTING"},"  xx  ","https://miau.my-x.hu/miau/293/2022-12-28 11-24-37.mp3",null,"MP3: NON-CAUSAL MODELLING AND FORECASTING"]
[null,"(MY-X team):"]
["miau293","László Pitlik (sen), Dániel Váradi, László Pitlik (jun), Mátyás Pitlik, Marcell Pitlik","PPT: NON-CAUSAL MODELLING AND FORECASTING","(+)",null,{"$f":"A7","v":"miau293"},"László Pitlik (sen), Dániel Váradi, László Pitlik (jun), Mátyás Pitlik, Marcell Pitlik",":",{"$f":"M7","v":"PPT: NON-CAUSAL MODELLING AND FORECASTING"},"  xx  ","https://miau.my-x.hu/miau/293/ncm-abstract-and-full-text-2022.pptx",null,{"$f":"C7","v":"PPT: NON-CAUSAL MODELLING AND FORECASTING"}]
[null,"(MY-X team):"]
["miau293","László Pitlik (sen), Dániel Váradi, László Pitlik (jun), Mátyás Pitlik, Marcell Pitlik","FULL-TEXT: NON-CAUSAL MODELLING AND FORECASTING","(+)",null,{"$f":"A9","v":"miau293"},"László Pitlik (sen), Dániel Váradi, László Pitlik (jun), Mátyás Pitlik, Marcell Pitlik",":",{"$f":"M9","v":"FULL-TEXT: NON-CAUSAL MODELLING AND FORECASTING"},"  xx  ","https://miau.my-x.hu/miau/293/ncm-abstract-and-full-text-2022.docx",null,{"$f":"C9","v":"FULL-TEXT: NON-CAUSAL MODELLING AND FORECASTING"}]
[null,"(MY-X team):"]
["miau293","László Pitlik (sen), Dániel Váradi, László Pitlik (jun), Mátyás Pitlik, Marcell Pitlik","ABSTRACT: NON-CAUSAL MODELLING AND FORECASTING","(+)",null,{"$f":"A11","v":"miau293"},"László Pitlik (sen), Dániel Váradi, László Pitlik (jun), Mátyás Pitlik, Marcell Pitlik",":",{"$f":"M11","v":"ABSTRACT: NON-CAUSAL MODELLING AND FORECASTING"},"  xx  ","https://miau.my-x.hu/miau/293/ncm-abstract-2022.docx",null,{"$f":"C11","v":"ABSTRACT: NON-CAUSAL MODELLING AND FORECASTING"}]
[null,"(MY-X team):"]
["miau293","Balogh Imola Barbara, Lórántffy Laura","A kenyér árának előrejelzése a 2021-es évre","(+)",null,{"$f":"A13","v":"miau293"},"Balogh Imola Barbara, Lórántffy Laura",":",{"$f":"M13","v":"A kenyér árának előrejelzése a 2021-es évre"},"  xx  ","https://miau.my-x.hu/miau/293/kenyerar_2021.docx",null,{"$f":"C13","v":"A kenyér árának előrejelzése a 2021-es évre"}]
[null,"(KJE):","(Forecast for 2021 in case of the bread price)"]
["miau293","Pitlik László","Attribútumok szórása, mint új attribútum NCM keretek között","(+)",null,{"$f":"A15","v":"miau293"},"Pitlik László",":",{"$f":"M15","v":"Attribútumok szórása, mint új attribútum NCM keretek között"},"  xx  ","https://miau.my-x.hu/miau/293/ncm_querdenker.xlsx",null,{"$f":"C15","v":"Attribútumok szórása, mint új attribútum NCM keretek között"}]
[null,"(MY-X team):","(Standard deviation as a new attribute based on NCM)"]
["miau293","Váradi Dániel","Attribútumok között kikényszerített konzisztencia NCM-alapon","(+)",null,{"$f":"A17","v":"miau293"},"Váradi Dániel",":",{"$f":"M17","v":"Attribútumok között kikényszerített konzisztencia NCM-alapon"},"  xx  ","https://miau.my-x.hu/miau/293/ncm_attribute_relationships.xlsx",null,{"$f":"C17","v":"Attribútumok között kikényszerített konzisztencia NCM-alapon"}]
[null,"(MY-X team):","(Enforced consistence between attributes based on an NCM-approach)"]
["miau293","Pitlik László","NCM láncolt és/vagy átfedéses előrejelzésekkel","(+)",null,{"$f":"A19","v":"miau293"},"Pitlik László",":",{"$f":"M19","v":"NCM láncolt és/vagy átfedéses előrejelzésekkel"},"  xx  ","https://miau.my-x.hu/miau/293/ncm_chained_and_overlapping_effects.xlsx",null,{"$f":"C19","v":"NCM láncolt és/vagy átfedéses előrejelzésekkel"}]
[null,"(MY-X team):","(NCM with chaining and/or overlapping effects)"]
["miau293","Pitlik László","NCM szezonális mintázatok","(+)",null,{"$f":"A21","v":"miau293"},"Pitlik László",":",{"$f":"M21","v":"NCM szezonális mintázatok"},"  xx  ","https://miau.my-x.hu/miau/293/ncm_pattern_seasonal.xlsx",null,{"$f":"C21","v":"NCM szezonális mintázatok"}]
[null,"(MY-X team):","(NCM with seasonal patterns)"]
["miau293","Pitlik László","NCM spontán és kikényszerített mintázatok","(+)",null,{"$f":"A23","v":"miau293"},"Pitlik László",":",{"$f":"M23","v":"NCM spontán és kikényszerített mintázatok"},"  xx  ","https://miau.my-x.hu/miau/293/pattern_ncm.xlsx",null,{"$f":"C23","v":"NCM spontán és kikényszerített mintázatok"}]
[null,"(MY-X team):","(NCM with spontaneous and enforced patterns)"]
["miau293","Pitlik László","NCM and ceteris paribus","(+)",null,{"$f":"A25","v":"miau293"},"Pitlik László",":",{"$f":"M25","v":"NCM and ceteris paribus"},"  xx  ","https://miau.my-x.hu/miau/293/ceteris_paribus_ncm.xlsx",null,{"$f":"C25","v":"NCM and ceteris paribus"}]
[null,"(MY-X team):"]
["miau293","Pitlik László","JOKER#2","(+)",null,{"$f":"A27","v":"miau293"},"Pitlik László",":",{"$f":"M27","v":"JOKER#2"},"  xx  ","https://miau.my-x.hu/miau/293/joker%232.xlsx",null,{"$f":"C27","v":"JOKER#2"}]
[null,"(MY-X team):"]
["miau293","Nagy Richárd","RPA-demo rendszertervezési és rendszerdokumentációs céllal","(+)",null,{"$f":"A29","v":"miau293"},"Nagy Richárd",":",{"$f":"M29","v":"RPA-demo rendszertervezési és rendszerdokumentációs céllal"},"  xx  ","https://miau.my-x.hu/miau/293/rendszertervezes.webm",null,{"$f":"C29","v":"RPA-demo rendszertervezési és rendszerdokumentációs céllal"}]
[null,"(KJE):","(Robotic process automation demonstration material for system planning)"]
["miau293","Sipos Péter","Rendszertervezési, rendszerdokumentációs kísérletek kollaboratív környezetben","(+)",null,{"$f":"A31","v":"miau293"},"Sipos Péter",":",{"$f":"M31","v":"Rendszertervezési, rendszerdokumentációs kísérletek kollaboratív környezetben"},"  xx  ","https://miau.my-x.hu/mediawiki/index.php/BPROF:2dm",null,{"$f":"C31","v":"Rendszertervezési, rendszerdokumentációs kísérletek kollaboratív környezetben"}]
[null,"(KJE):","(Experimental documentation and system planning in a collaborative frame)"]
["miau293","Patkós Boglárka","EUR/HUF árfolyam-előrejelzés 1 napra","(+)",null,{"$f":"A33","v":"miau293"},"Patkós Boglárka",":",{"$f":"M33","v":"EUR/HUF árfolyam-előrejelzés 1 napra"},"  xx  ","https://miau.my-x.hu/miau/293/eur_huf.docx",null,{"$f":"C33","v":"EUR/HUF árfolyam-előrejelzés 1 napra"}]
[null,"(KJE):","(Forecast of the EUR/HUF course for 1 day)"]
["miau293","Pitlik László","Select distinct kimutatás-varázslás nélkül kérdőívek esetén","(+)",null,{"$f":"A35","v":"miau293"},"Pitlik László",":",{"$f":"M35","v":"Select distinct kimutatás-varázslás nélkül kérdőívek esetén"},"  xx  ","https://miau.my-x.hu/miau/293/flow1.xlsx",null,{"$f":"C35","v":"Select distinct kimutatás-varázslás nélkül kérdőívek esetén"}]
[null,"(KJE):","(A select-distinct-approach without pivot tables in case of questionnaires)"]
["miau293","Pitlik László, Rikk János","EEG-jelek koncepció-kényszer nélküli és mintázat-kényszeres értelmezései","(+)",null,{"$f":"A37","v":"miau293"},"Pitlik László, Rikk János",":",{"$f":"M37","v":"EEG-jelek koncepció-kényszer nélküli és mintázat-kényszeres értelmezései"},"  xx  ","https://miau.my-x.hu/miau/293/eeg_pilot.xlsx",null,{"$f":"C37","v":"EEG-jelek koncepció-kényszer nélküli és mintázat-kényszeres értelmezései"}]
[null,"(MY-X team):","(Interpretations of EEG-signs with or without predefined concepts)"]
["miau294","László Hammerl, László Pitlik","PPT: Evaluation and simulation of the European hydrogen market based on diverse similarity analyses","(+)",null,{"$f":"A39","v":"miau294"},"László Hammerl, László Pitlik",":",{"$f":"M39","v":"PPT: Evaluation and simulation of the European hydrogen market based on diverse similarity analyses"},"  xx  ","https://miau.my-x.hu/miau/294/hydrogen_market.pptx",null,{"$f":"C39","v":"PPT: Evaluation and simulation of the European hydrogen market based on diverse similarity analyses"}]
[null,"(MY-X team):"]
["miau294","László Hammerl, László Pitlik","Full-text: Evaluation and simulation of the European hydrogen market based on diverse similarity analyses","(+)",null,{"$f":"A41","v":"miau294"},"László Hammerl, László Pitlik",":",{"$f":"M41","v":"Full-text: Evaluation and simulation of the European hydrogen market based on diverse similarity analyses"},"  xx  ","https://miau.my-x.hu/miau/294/hydrogen_market.pdf",null,{"$f":"C41","v":"Full-text: Evaluation and simulation of the European hydrogen market based on diverse similarity analyses"}]
[null,"(MY-X team):"]
["miau294","László Hammerl, László Pitlik","MP4: Evaluation and simulation of the European hydrogen market based on diverse similarity analyses","(+)",null,{"$f":"A43","v":"miau294"},"László Hammerl, László Pitlik",":",{"$f":"M43","v":"MP4: Evaluation and simulation of the European hydrogen market based on diverse similarity analyses"},"  xx  ","https://miau.my-x.hu/miau/294/hydrogen_market.mp4",null,{"$f":"C43","v":"MP4: Evaluation and simulation of the European hydrogen market based on diverse similarity analyses"}]
[null,"(MY-X team):"]
["miau294","László Hammerl, László Pitlik","Abstract: Evaluation and simulation of the European hydrogen market based on diverse similarity analyses","(+)",null,{"$f":"A45","v":"miau294"},"László Hammerl, László Pitlik",":",{"$f":"M45","v":"Abstract: Evaluation and simulation of the European hydrogen market based on diverse similarity analyses"},"  xx  ","https://miau.my-x.hu/miau/294/hydrogen_market_analyses_2023_abs.xlsx",null,{"$f":"C45","v":"Abstract: Evaluation and simulation of the European hydrogen market based on diverse similarity analyses"}]
[null,"(MY-X team):"]
["miau294","László Pitlik (sen), Dániel Váradi, László Pitlik (jun), Mátyás Pitlik, Marcell Pitlik","Full-text: How can the overlearning-risk be detected and handled in model- and case-level based on the DIF(e)SA (direct-inverse-function-symmetry) approach?","(+)",null,{"$f":"A47","v":"miau294"},"László Pitlik (sen), Dániel Váradi, László Pitlik (jun), Mátyás Pitlik, Marcell Pitlik",":",{"$f":"M47","v":"Full-text: How can the overlearning-risk be detected and handled in model- and case-level based on the DIF(e)SA (direct-inverse-function-symmetry) approach?"},"  xx  ","https://miau.my-x.hu/miau/294/difesa_abstract_full_text_2023_v5.docx",null,{"$f":"C47","v":"Full-text: How can the overlearning-risk be detected and handled in model- and case-level based on the DIF(e)SA (direct-inverse-function-symmetry) approach?"}]
[null,"(MY-X team):"]
["miau294","László Pitlik (sen), Dániel Váradi, László Pitlik (jun), Mátyás Pitlik, Marcell Pitlik","MP4: How can the overlearning-risk be detected and handled in model- and case-level based on the DIF(e)SA (direct-inverse-function-symmetry) approach?","(+)",null,{"$f":"A49","v":"miau294"},"László Pitlik (sen), Dániel Váradi, László Pitlik (jun), Mátyás Pitlik, Marcell Pitlik",":",{"$f":"M49","v":"MP4: How can the overlearning-risk be detected and handled in model- and case-level based on the DIF(e)SA (direct-inverse-function-symmetry) approach?"},"  xx  ","https://miau.my-x.hu/miau/294/difesa.mp4",null,{"$f":"C49","v":"MP4: How can the overlearning-risk be detected and handled in model- and case-level based on the DIF(e)SA (direct-inverse-function-symmetry) approach?"}]
[null,"(MY-X team):"]
["miau294","László Pitlik (sen), Dániel Váradi, László Pitlik (jun), Mátyás Pitlik, Marcell Pitlik","PPT: How can the overlearning-risk be detected and handled in model- and case-level based on the DIF(e)SA (direct-inverse-function-symmetry) approach?","(+)",null,{"$f":"A51","v":"miau294"},"László Pitlik (sen), Dániel Váradi, László Pitlik (jun), Mátyás Pitlik, Marcell Pitlik",":",{"$f":"M51","v":"PPT: How can the overlearning-risk be detected and handled in model- and case-level based on the DIF(e)SA (direct-inverse-function-symmetry) approach?"},"  xx  ","https://miau.my-x.hu/miau/294/difesa.pptx",null,{"$f":"C51","v":"PPT: How can the overlearning-risk be detected and handled in model- and case-level based on the DIF(e)SA (direct-inverse-function-symmetry) approach?"}]
[null,"(MY-X team):"]
["miau294","László Pitlik (sen), Dániel Váradi, László Pitlik (jun), Mátyás Pitlik, Marcell Pitlik","Abstract: How can the overlearning-risk be detected and handled in model- and case-level based on the DIF(e)SA (direct-inverse-function-symmetry) approach?","(+)",null,{"$f":"A53","v":"miau294"},"László Pitlik (sen), Dániel Váradi, László Pitlik (jun), Mátyás Pitlik, Marcell Pitlik",":",{"$f":"M53","v":"Abstract: How can the overlearning-risk be detected and handled in model- and case-level based on the DIF(e)SA (direct-inverse-function-symmetry) approach?"},"  xx  ","https://miau.my-x.hu/miau/294/difesa_abstract_full_text_2023.docx",null,{"$f":"C53","v":"Abstract: How can the overlearning-risk be detected and handled in model- and case-level based on the DIF(e)SA (direct-inverse-function-symmetry) approach?"}]
[null,"(MY-X team):"]
["miau294","Pitlik László","Felzárkózik-e a magyar átlagbér az EU-s átlagbérhez?","(+)",null,{"$f":"A55","v":"miau294"},"Pitlik László",":",{"$f":"M55","v":"Felzárkózik-e a magyar átlagbér az EU-s átlagbérhez?"},"  xx  ","https://miau.my-x.hu/miau/294/atlagber_homogenizalodas.xlsx",null,{"$f":"C55","v":"Felzárkózik-e a magyar átlagbér az EU-s átlagbérhez?"}]
[null,"(MY-X team):","(Is there any approximation between the average salaries in Hungary and the EU?)"]
["miau294","Szemesiné Cseh Kata","A könyvtárhasználat alakulása az energiaárak függvényében","(+)",null,{"$f":"A57","v":"miau294"},"Szemesiné Cseh Kata",":",{"$f":"M57","v":"A könyvtárhasználat alakulása az energiaárak függvényében"},"  xx  ","https://miau.my-x.hu/miau/294/konyvtarba_jarok_szama.docx",null,{"$f":"C57","v":"A könyvtárhasználat alakulása az energiaárak függvényében"}]
[null,"(KJE):","(Estimation of the number of the library-visitors for the next year)"]
["miau294","Pitlik László","Gyakorló feladat makro-alapú és makro nélküli problémamegoldások érdekében","(+)",null,{"$f":"A59","v":"miau294"},"Pitlik László",":",{"$f":"M59","v":"Gyakorló feladat makro-alapú és makro nélküli problémamegoldások érdekében"},"  xx  ","https://miau.my-x.hu/miau/294/letszambecsles.xlsx",null,{"$f":"C59","v":"Gyakorló feladat makro-alapú és makro nélküli problémamegoldások érdekében"}]
[null,"(MY-X team):","(Problem handling with and without macros)"]
["miau294","Pitlik László","Előrejelzés-hitelességi probléma inicializálása hosszútávú időjárási prognózisok esetében","(+)",null,{"$f":"A61","v":"miau294"},"Pitlik László",":",{"$f":"M61","v":"Előrejelzés-hitelességi probléma inicializálása hosszútávú időjárási prognózisok esetében"},"  xx  ","https://miau.my-x.hu/miau/294/miert_bukik_el_az_idokep_robot_egy_Turing_teszten.xlsx",null,{"$f":"C61","v":"Előrejelzés-hitelességi probléma inicializálása hosszútávú időjárási prognózisok esetében"}]
[null,"(MY-X team):","(Initializing a Turing-test-situation concerning the validity of weather forecasts for 30 days)"]
["miau294","Pitlik László","Kutatási/publikációs terv - Politikai pluralizmus -index","(+)",null,{"$f":"A63","v":"miau294"},"Pitlik László",":",{"$f":"M63","v":"Kutatási/publikációs terv - Politikai pluralizmus -index"},"  xx  ","https://miau.my-x.hu/miau/294/politikai_pluralizmus_es_vagy_kaosz_index.docx",null,{"$f":"C63","v":"Kutatási/publikációs terv - Politikai pluralizmus -index"}]
[null,"(MY-X team):","(Research/publication plan concerning the political pluralism-index based on Google Trends)"]
["miau294","Pitlik László","Symmetries of direct and inverse staircase-function-layers in case of random OAMs","(+)",null,{"$f":"A65","v":"miau294"},"Pitlik László",":",{"$f":"M65","v":"Symmetries of direct and inverse staircase-function-layers in case of random OAMs"},"  xx  ","https://miau.my-x.hu/miau/294/rnd_based_direct_inverse_symmetry.xlsx",null,{"$f":"C65","v":"Symmetries of direct and inverse staircase-function-layers in case of random OAMs"}]
[null,"(MY-X team):"]
["miau294","Balogh Vince","A Laphroaig 10 whisky árának becslése 2023-ra vonatkozóan","(+)",null,{"$f":"A67","v":"miau294"},"Balogh Vince",":",{"$f":"M67","v":"A Laphroaig 10 whisky árának becslése 2023-ra vonatkozóan"},"  xx  ","https://miau.my-x.hu/miau/294/laphroaig_whisky_ar_2023.docx",null,{"$f":"C67","v":"A Laphroaig 10 whisky árának becslése 2023-ra vonatkozóan"}]
[null,"(KJE):","(Estimation of Laphroaig 10 whisky price for 2023)"]
["miau295","Pitlik Dóra, Pitlik László","Napelem-kísérletek input-output kapcsolatainak leírása termelési függvénnyel","(+)",null,{"$f":"A69","v":"miau295"},"Pitlik Dóra, Pitlik László",":",{"$f":"M69","v":"Napelem-kísérletek input-output kapcsolatainak leírása termelési függvénnyel"},"  xx  ","https://miau.my-x.hu/miau/295/napelem_rendszerelemzes.xlsx",null,{"$f":"C69","v":"Napelem-kísérletek input-output kapcsolatainak leírása termelési függvénnyel"}]
[null,"(MY-X team):","(Production-function-based description of performances and input conditions from experiments with solar panels)"]
["miau295","Pitlik László","Biztosítási piac idealitása és kapcsolata a GDP-vel országoként","(+)",null,{"$f":"A71","v":"miau295"},"Pitlik László",":",{"$f":"M71","v":"Biztosítási piac idealitása és kapcsolata a GDP-vel országoként"},"  xx  ","https://miau.my-x.hu/miau/295/biztositas_gdp.xlsx",null,{"$f":"C71","v":"Biztosítási piac idealitása és kapcsolata a GDP-vel országoként"}]
[null,"(MY-X team):","Country-based ideality index concerning the insurance market and GDP-modeling"]
["miau295","Csohány Andor, Sztanojev Mercédesz","Bitcoin értékének alakulása a közeljövőben (1 hónap múlva)","(+)",null,{"$f":"A73","v":"miau295"},"Csohány Andor, Sztanojev Mercédesz",":",{"$f":"M73","v":"Bitcoin értékének alakulása a közeljövőben (1 hónap múlva)"},"  xx  ","https://miau.my-x.hu/miau/295/bitcoin.docx",null,{"$f":"C73","v":"Bitcoin értékének alakulása a közeljövőben (1 hónap múlva)"}]
[null,"(MY-X team):","(Forecasts for bitcoin concerning the next month)"]
["miau295","László Pitlik","Symmetry-evaluation based on similarity analyses","(+)",null,{"$f":"A75","v":"miau295"},"László Pitlik",":",{"$f":"M75","v":"Symmetry-evaluation based on similarity analyses"},"  xx  ","https://miau.my-x.hu/miau/295/symmetry-index_difesa-robot-eye.xlsx",null,{"$f":"C75","v":"Symmetry-evaluation based on similarity analyses"}]
[null,"(MY-X team):"]
["miau295","László Pitlik","Token-based chatGPT3 - Example","(+)",null,{"$f":"A77","v":"miau295"},"László Pitlik",":",{"$f":"M77","v":"Token-based chatGPT3 - Example"},"  xx  ","https://miau.my-x.hu/miau/295/gpt_demo.docx",null,{"$f":"C77","v":"Token-based chatGPT3 - Example"}]
[null,"(MY-X team):"]
["miau295","László Pitlik, Adrienn Muhari, Attila Jónás, Zsófia Hirschmann, Zsuzsanna Kiss","Robot-Citizen, or automated data-driven decision support for elections","(+)",null,{"$f":"A79","v":"miau295"},"László Pitlik, Adrienn Muhari, Attila Jónás, Zsófia Hirschmann, Zsuzsanna Kiss",":",{"$f":"M79","v":"Robot-Citizen, or automated data-driven decision support for elections"},"  xx  ","https://miau.my-x.hu/miau/295/robot_citizen.docx",null,{"$f":"C79","v":"Robot-Citizen, or automated data-driven decision support for elections"}]
[null,"(MY-X team):"]
["miau295","László Pitlik, Adrienn Muhari, Attila Jónás, Zsófia Hirschmann, Zsuzsanna Kiss","Human-ethology, human-ecology - robotized","(+)",null,{"$f":"A81","v":"miau295"},"László Pitlik, Adrienn Muhari, Attila Jónás, Zsófia Hirschmann, Zsuzsanna Kiss",":",{"$f":"M81","v":"Human-ethology, human-ecology - robotized"},"  xx  ","https://miau.my-x.hu/miau/295/human_ethology_ecology_robotized.docx",null,{"$f":"C81","v":"Human-ethology, human-ecology - robotized"}]
[null,"(MY-X team):"]
["miau295","Jónás Attila","PPT: Nyílt adatbázisok automatizált elemzése OAM megközelítés alkalmazásával","(+)",null,{"$f":"A83","v":"miau295"},"Jónás Attila",":",{"$f":"M83","v":"PPT: Nyílt adatbázisok automatizált elemzése OAM megközelítés alkalmazásával"},"  xx  ","https://miau.my-x.hu/miau/295/jonas.pptx",null,{"$f":"C83","v":"PPT: Nyílt adatbázisok automatizált elemzése OAM megközelítés alkalmazásával"}]
[null,"(MY-X team):","(Automated estimations based on open databases using OAM and chained similarity analyses)"]
["miau295","Hirschmann Zsófia","PPT: Választási esélyek egységes rendszerű elemzése több országra párhuzamosan","(+)",null,{"$f":"A85","v":"miau295"},"Hirschmann Zsófia",":",{"$f":"M85","v":"PPT: Választási esélyek egységes rendszerű elemzése több országra párhuzamosan"},"  xx  ","https://miau.my-x.hu/miau/295/hirscmann.pptx",null,{"$f":"C85","v":"PPT: Választási esélyek egységes rendszerű elemzése több országra párhuzamosan"}]
[null,"(MY-X team):","(Automated estimations of future impacts of elections for a set of countries in a parallel way)"]
["miau295","Pitlik László (jun)","Matematika feladatok tánciskolásoknak II.","(+)",null,{"$f":"A87","v":"miau295"},"Pitlik László (jun)",":",{"$f":"M87","v":"Matematika feladatok tánciskolásoknak II."},"  xx  ","https://forms.gle/7uCwnVyyCVYYqJZdA",null,{"$f":"C87","v":"Matematika feladatok tánciskolásoknak II."}]
[null,"(MY-X team):","(Mathematics for dancers - Part II.)"]
["miau295","Pitlik László (jun)","Matematika feladatok tánciskolásoknak I.","(+)",null,{"$f":"A89","v":"miau295"},"Pitlik László (jun)",":",{"$f":"M89","v":"Matematika feladatok tánciskolásoknak I."},"  xx  ","https://forms.gle/hypg2tdAjV4wDBfU9",null,{"$f":"C89","v":"Matematika feladatok tánciskolásoknak I."}]
[null,"(MY-X team):","(Mathematics for dancers - Part I.)"]
["miau295","Pitlik László, (Anonim Hallgatók)","EGO-alapú online szakértői rendszer demo-állományok","(+)",null,{"$f":"A91","v":"miau295"},"Pitlik László, (Anonim Hallgatók)",":",{"$f":"M91","v":"EGO-alapú online szakértői rendszer demo-állományok"},"  xx  ","https://miau.my-x.hu/myx-free/ego/demo/",null,{"$f":"C91","v":"EGO-alapú online szakértői rendszer demo-állományok"}]
[null,"(MY-X team):","(EGO-based online demo expert systems)"]
["miau295","László Pitlik","Excel-based data-vizualisation","(+)",null,{"$f":"A93","v":"miau295"},"László Pitlik",":",{"$f":"M93","v":"Excel-based data-vizualisation"},"  xx  ","https://miau.my-x.hu/miau/295/gtfs/bkk_budapest_gtfs_v2.xlsx",null,{"$f":"C93","v":"Excel-based data-vizualisation"}]
[null,"(MY-X team):"]
["miau296","László Pitlik","Derivation and evaluation of alternative OAMs without lacking positions from an raw OAM with lacking positions","(+)",null,{"$f":"A95","v":"miau296"},"László Pitlik",":",{"$f":"M95","v":"Derivation and evaluation of alternative OAMs without lacking positions from an raw OAM with lacking positions"},"  xx  ","https://miau.my-x.hu/miau/296/oam_max_selections.xlsx",null,{"$f":"C95","v":"Derivation and evaluation of alternative OAMs without lacking positions from an raw OAM with lacking positions"}]
[null,"(MY-X team):"]
["miau296","Vancsura István, Pitlik László","Different approaches for derivation of risk-index-values in case of transaction-evaluation?","(+)",null,{"$f":"A97","v":"miau296"},"Vancsura István, Pitlik László",":",{"$f":"M97","v":"Different approaches for derivation of risk-index-values in case of transaction-evaluation?"},"  xx  ","https://miau.my-x.hu/miau/296/risk_index_naive_regression_coco.xlsx",null,{"$f":"C97","v":"Different approaches for derivation of risk-index-values in case of transaction-evaluation?"}]
[null,"(MY-X team):"]
["miau296","Pitlik László","A német AFD és a német politikai vezetők Google-Trends-alapú összefüggésrendszerének feltárása hasonlóságelemzéssel","(+)",null,{"$f":"A99","v":"miau296"},"Pitlik László",":",{"$f":"M99","v":"A német AFD és a német politikai vezetők Google-Trends-alapú összefüggésrendszerének feltárása hasonlóságelemzéssel"},"  xx  ","https://miau.my-x.hu/miau/296/afd_in_germany.xlsx",null,{"$f":"C99","v":"A német AFD és a német politikai vezetők Google-Trends-alapú összefüggésrendszerének feltárása hasonlóságelemzéssel"}]
[null,"(MY-X team):","(Pattern-exploration for AFD and the german political elite based on Google Trends Data)"]
["miau296","Pitlik László","Solver-alapú feladatmegoldás 8. osztályos matematikai felvételi feladat kapcsán","(+)",null,{"$f":"A101","v":"miau296"},"Pitlik László",":",{"$f":"M101","v":"Solver-alapú feladatmegoldás 8. osztályos matematikai felvételi feladat kapcsán"},"  xx  ","https://miau.my-x.hu/miau/296/felveteli_matek_8.xlsx",null,{"$f":"C101","v":"Solver-alapú feladatmegoldás 8. osztályos matematikai felvételi feladat kapcsán"}]
[null,"(MY-X team):","(Solver-based solutionn of a mathematical problem for primary schools)"]
["miau296","Bócz Viktor","Design pattern","(+)",null,{"$f":"A103","v":"miau296"},"Bócz Viktor",":",{"$f":"M103","v":"Design pattern"},"  xx  ","https://miau.my-x.hu/miau/296/design_pattern.docx",null,{"$f":"C103","v":"Design pattern"}]
[null,"(MY-X team):"]
["miau296","Pitlik László, Anonim Hallgató","Szövegbányászat hasonlóságelemzéssel források dinamikus kulcsszó-dominanciájának feltárására","(+)",null,{"$f":"A105","v":"miau296"},"Pitlik László, Anonim Hallgató",":",{"$f":"M105","v":"Szövegbányászat hasonlóságelemzéssel források dinamikus kulcsszó-dominanciájának feltárására"},"  xx  ","https://miau.my-x.hu/miau/296/text_mining_similarity_time-series.xlsx",null,{"$f":"C105","v":"Szövegbányászat hasonlóságelemzéssel források dinamikus kulcsszó-dominanciájának feltárására"}]
[null,"(MY-X team):","(Text-mining based on similarity analyses for exploring dynamic behaviour of keyword-dominance)"]
["miau296","György Losonczi","ONLINE MARKETING STRATEGIES OF THE NATIONAL MUSEUMS AND LIBRARIES (EU28)","(+)",null,{"$f":"A107","v":"miau296"},"György Losonczi",":",{"$f":"M107","v":"ONLINE MARKETING STRATEGIES OF THE NATIONAL MUSEUMS AND LIBRARIES (EU28)"},"  xx  ","https://miau.my-x.hu/miau/296/Marmara_Kitap.pdf",null,{"$f":"C107","v":"ONLINE MARKETING STRATEGIES OF THE NATIONAL MUSEUMS AND LIBRARIES (EU28)"}]
[null,"(MY-X team):"]
["miau296","László Pitlik, Dániel Váradi","PPT: JOKER#2 OR DERIVATION OF LACKING DATA IN BIOLOGICAL SYSTEMS","(+)",null,{"$f":"A109","v":"miau296"},"László Pitlik, Dániel Váradi",":",{"$f":"M109","v":"PPT: JOKER#2 OR DERIVATION OF LACKING DATA IN BIOLOGICAL SYSTEMS"},"  xx  ","https://miau.my-x.hu/miau/296/joker2.pptx",null,{"$f":"C109","v":"PPT: JOKER#2 OR DERIVATION OF LACKING DATA IN BIOLOGICAL SYSTEMS"}]
[null,"(MY-X team):"]
["miau296","László Pitlik, Dániel Váradi","Abstract: JOKER#2 OR DERIVATION OF LACKING DATA IN BIOLOGICAL SYSTEMS","(+)",null,{"$f":"A111","v":"miau296"},"László Pitlik, Dániel Váradi",":",{"$f":"M111","v":"Abstract: JOKER#2 OR DERIVATION OF LACKING DATA IN BIOLOGICAL SYSTEMS"},"  xx  ","https://miau.my-x.hu/miau/296/joker2_for_biological_systems.docx",null,{"$f":"C111","v":"Abstract: JOKER#2 OR DERIVATION OF LACKING DATA IN BIOLOGICAL SYSTEMS"}]
[null,"(MY-X team):"]
["miau296","László Pitlik","India és Sri Lanka összehasonlítása GAPMINDER-alapú animáció keretében","(+)",null,{"$f":"A113","v":"miau296"},"László Pitlik",":",{"$f":"M113","v":"India és Sri Lanka összehasonlítása GAPMINDER-alapú animáció keretében"},"  xx  ","https://miau.my-x.hu/miau/296/sri_lanka/",null,{"$f":"C113","v":"India és Sri Lanka összehasonlítása GAPMINDER-alapú animáció keretében"}]
[null,"(MY-X team):","(Comparison of India and Sri Lanke in frame of a GAPMINDER-animation)"]
["miau296","László Pitlik, Dániel Váradi","JOKER#2 OR DERIVATION OF LACKING DATA IN BIOLOGICAL SYSTEMS","(+)",null,{"$f":"A115","v":"miau296"},"László Pitlik, Dániel Váradi",":",{"$f":"M115","v":"JOKER#2 OR DERIVATION OF LACKING DATA IN BIOLOGICAL SYSTEMS"},"  xx  ","https://miau.my-x.hu/miau/296/5. PROCEEDINGS BOOK V-2.pdf",null,{"$f":"C115","v":"JOKER#2 OR DERIVATION OF LACKING DATA IN BIOLOGICAL SYSTEMS"}]
[null,"(MY-X team):"]
["miau296","Pitlik László:","Oktatásmódszertani kísérlet - csak szöveges kommunikációra alapuló oktatás","(+)",null,{"$f":"A117","v":"miau296"},"Pitlik László:",":",{"$f":"M117","v":"Oktatásmódszertani kísérlet - csak szöveges kommunikációra alapuló oktatás"},"  xx  ","https://miau.my-x.hu/mediawiki/index.php/System-modeling",null,{"$f":"C117","v":"Oktatásmódszertani kísérlet - csak szöveges kommunikációra alapuló oktatás"}]
[null,null,"(Teaching-methodology-experiment - education only in written form)"]
["miau296","Pitlik László:","Oktatást támogató tippek, trükkök pedagógusoknak","(+)",null,{"$f":"A119","v":"miau296"},"Pitlik László:",":",{"$f":"M119","v":"Oktatást támogató tippek, trükkök pedagógusoknak"},"  xx  ","https://miau.my-x.hu/mediawiki/index.php/Oktatast_tamogato_IT_megoldasok",null,{"$f":"C119","v":"Oktatást támogató tippek, trükkök pedagógusoknak"}]
[null,null,"(How can IT-solutions support the education/didactics?)"]
["miau297","Dániel Czúni, Gyöngyi Bánkuti, László Pitlik","Full text: INTRODUCTION OF A TEXT MINING-BASED DECISION SUPPORT TECHNIQUE","(+)",null,{"$f":"A121","v":"miau297"},"Dániel Czúni, Gyöngyi Bánkuti, László Pitlik",":",{"$f":"M121","v":"Full text: INTRODUCTION OF A TEXT MINING-BASED DECISION SUPPORT TECHNIQUE"},"  xx  ","https://miau.my-x.hu/miau/297/czuni_03_10_full.docx",null,{"$f":"C121","v":"Full text: INTRODUCTION OF A TEXT MINING-BASED DECISION SUPPORT TECHNIQUE"}]
[null,"(MY-X team):"]
["miau297","Dániel Czúni, Gyöngyi Bánkuti, László Pitlik","MP4: INTRODUCTION OF A TEXT MINING-BASED DECISION SUPPORT TECHNIQUE","(+)",null,{"$f":"A123","v":"miau297"},"Dániel Czúni, Gyöngyi Bánkuti, László Pitlik",":",{"$f":"M123","v":"MP4: INTRODUCTION OF A TEXT MINING-BASED DECISION SUPPORT TECHNIQUE"},"  xx  ","https://miau.my-x.hu/miau/297/esport.mp4",null,{"$f":"C123","v":"MP4: INTRODUCTION OF A TEXT MINING-BASED DECISION SUPPORT TECHNIQUE"}]
[null,"(MY-X team):"]
["miau297","Dániel Czúni, Gyöngyi Bánkuti, László Pitlik","PPT: INTRODUCTION OF A TEXT MINING-BASED DECISION SUPPORT TECHNIQUE","(+)",null,{"$f":"A125","v":"miau297"},"Dániel Czúni, Gyöngyi Bánkuti, László Pitlik",":",{"$f":"M125","v":"PPT: INTRODUCTION OF A TEXT MINING-BASED DECISION SUPPORT TECHNIQUE"},"  xx  ","https://miau.my-x.hu/miau/297/esport.pptx",null,{"$f":"C125","v":"PPT: INTRODUCTION OF A TEXT MINING-BASED DECISION SUPPORT TECHNIQUE"}]
[null,"(MY-X team):"]
["miau297","Dániel Czúni, Gyöngyi Bánkuti, László Pitlik","Abstract: INTRODUCTION OF A TEXT MINING-BASED DECISION SUPPORT TECHNIQUE","(+)",null,{"$f":"A127","v":"miau297"},"Dániel Czúni, Gyöngyi Bánkuti, László Pitlik",":",{"$f":"M127","v":"Abstract: INTRODUCTION OF A TEXT MINING-BASED DECISION SUPPORT TECHNIQUE"},"  xx  ","https://miau.my-x.hu/miau/297/Czuni_Daniel_Abstract_02_15.docx",null,{"$f":"C127","v":"Abstract: INTRODUCTION OF A TEXT MINING-BASED DECISION SUPPORT TECHNIQUE"}]
[null,"(MY-X team):"]
["miau297","István Vancsura, László Pitlik","PPT: FINANCE PROCESS AUTOMATION WITH NUMBERICAL DECISION MAKING","(+)",null,{"$f":"A129","v":"miau297"},"István Vancsura, László Pitlik",":",{"$f":"M129","v":"PPT: FINANCE PROCESS AUTOMATION WITH NUMBERICAL DECISION MAKING"},"  xx  ","https://miau.my-x.hu/miau/297/FINANCE PROCESS AUTOMATION WITH NUMERICAL DECISION MAKING.pptx",null,{"$f":"C129","v":"PPT: FINANCE PROCESS AUTOMATION WITH NUMBERICAL DECISION MAKING"}]
[null,"(MY-X team):"]
["miau297","István Vancsura, László Pitlik","MP4: FINANCE PROCESS AUTOMATION WITH NUMBERICAL DECISION MAKING","(+)",null,{"$f":"A131","v":"miau297"},"István Vancsura, László Pitlik",":",{"$f":"M131","v":"MP4: FINANCE PROCESS AUTOMATION WITH NUMBERICAL DECISION MAKING"},"  xx  ","https://miau.my-x.hu/miau/297/FINANCE PROCESS AUTOMATION WITH NUMERICAL DECISION MAKING.mp4",null,{"$f":"C131","v":"MP4: FINANCE PROCESS AUTOMATION WITH NUMBERICAL DECISION MAKING"}]
[null,"(MY-X team):"]
["miau297","Zsolt Lajos Kontra, László Pitlik","MP4: Starlight","(+)",null,{"$f":"A133","v":"miau297"},"Zsolt Lajos Kontra, László Pitlik",":",{"$f":"M133","v":"MP4: Starlight"},"  xx  ","https://miau.my-x.hu/miau/297/starlight.mp4",null,{"$f":"C133","v":"MP4: Starlight"}]
[null,"(MY-X team):"]
["miau297","Zsolt Lajos Kontra, László Pitlik","PPT: Starlight","(+)",null,{"$f":"A135","v":"miau297"},"Zsolt Lajos Kontra, László Pitlik",":",{"$f":"M135","v":"PPT: Starlight"},"  xx  ","https://miau.my-x.hu/miau/297/starlight_v5.pptx",null,{"$f":"C135","v":"PPT: Starlight"}]
[null,"(MY-X team):"]
["miau297","László Pitlik, László Pitlik (jun), Marcell Pitlik","Modelling challenges on the field of IT-security (based on artificial intelligence)","(+)",null,{"$f":"A137","v":"miau297"},"László Pitlik, László Pitlik (jun), Marcell Pitlik",":",{"$f":"M137","v":"Modelling challenges on the field of IT-security (based on artificial intelligence)"},"  xx  ","https://miau.my-x.hu/miau/297/modelling_challenges_on_the_field_of_IT_security_based_on_AI.docx",null,{"$f":"C137","v":"Modelling challenges on the field of IT-security (based on artificial intelligence)"}]
[null,"(MY-X team):"]
["miau297","Pitlik László","Szövegbányászati, szöveg-manipulációs lehetőségek képlettel és menüből Excel-ben","(+)",null,{"$f":"A139","v":"miau297"},"Pitlik László",":",{"$f":"M139","v":"Szövegbányászati, szöveg-manipulációs lehetőségek képlettel és menüből Excel-ben"},"  xx  ","https://miau.my-x.hu/miau/297/keplet_vs_menu.xlsx",null,{"$f":"C139","v":"Szövegbányászati, szöveg-manipulációs lehetőségek képlettel és menüből Excel-ben"}]
[null,"(MY-X team):","(Text mining/text-converting possibilities in Excel with formulas and based on the menu)"]
["miau297","László Pitlik","ChatGPT-experiment#3 - a quasi interview with Mr. Chat GeePeeTee (robot-expert for all)","(+)",null,{"$f":"A141","v":"miau297"},"László Pitlik",":",{"$f":"M141","v":"ChatGPT-experiment#3 - a quasi interview with Mr. Chat GeePeeTee (robot-expert for all)"},"  xx  ","https://miau.my-x.hu/miau/297/Chat-GeePeeTee_vs_Pratchett-G-Pete_nr1.docx",null,{"$f":"C141","v":"ChatGPT-experiment#3 - a quasi interview with Mr. Chat GeePeeTee (robot-expert for all)"}]
[null,"(MY-X team):"]
["miau297","István Vancsura, László Pitlik","Abstract: FINANCE PROCESS AUTOMATION WITH NUMBERICAL DECISION MAKING","(+)",null,{"$f":"A143","v":"miau297"},"István Vancsura, László Pitlik",":",{"$f":"M143","v":"Abstract: FINANCE PROCESS AUTOMATION WITH NUMBERICAL DECISION MAKING"},"  xx  ","https://miau.my-x.hu/miau/297/FINANCE PROCESS AUTOMATION_abstract.docx",null,{"$f":"C143","v":"Abstract: FINANCE PROCESS AUTOMATION WITH NUMBERICAL DECISION MAKING"}]
[null,"(MY-X team):"]
["miau297","László Pitlik","Potential stars and similarities (or geometry/aera-based object evaluations)","(+)",null,{"$f":"A145","v":"miau297"},"László Pitlik",":",{"$f":"M145","v":"Potential stars and similarities (or geometry/aera-based object evaluations)"},"  xx  ","https://miau.my-x.hu/miau/297/AREA-BASED-ANTI-DISCRIMINATION-MODELS.xlsx",null,"Potential stars and similarities (or geometry/aera-based object evaluations)"]
[null,"(MY-X team):"]
["miau297","Zsolt Lajos Kontra, László Pitlik","Project Starlight (abstract): Robot-eye for (Turkish) football player-talent-identification","(+)",null,{"$f":"A147","v":"miau297"},"Zsolt Lajos Kontra, László Pitlik",":",{"$f":"M147","v":"Project Starlight (abstract): Robot-eye for (Turkish) football player-talent-identification"},"  xx  ","https://miau.my-x.hu/miau/297/starlight_v1.docx",null,"Project Starlight (abstract): Robot-eye for (Turkish) football player-talent-identification"]
[null,"(MY-X team):"]
["miau297","POSZMIK BARNA, PITLIK LÁSZLÓ","CHATGPT-KÍSÉRLETEK NR.2. - AVAGY A CHATGPT MATEMATIKAI KÉPESSÉGEI?","(+)",null,{"$f":"A149","v":"miau297"},"POSZMIK BARNA, PITLIK LÁSZLÓ",":",{"$f":"M149","v":"CHATGPT-KÍSÉRLETEK NR.2. - AVAGY A CHATGPT MATEMATIKAI KÉPESSÉGEI?"},"  xx  ","https://miau.my-x.hu/miau/297/ChatGPT2.docx",null,{"$f":"C149","v":"CHATGPT-KÍSÉRLETEK NR.2. - AVAGY A CHATGPT MATEMATIKAI KÉPESSÉGEI?"}]
[null,"(MY-X team):","(Experiment#2 - About the mathematical potential of the chatGPT)"]
["miau297","POSZMIK BARNA, DEÁK ZSOMBOR, PITLIK LÁSZLÓ","CHATGPT-KÍSÉRLETEK NR.1. - VAN-E JÓSÁG-FOGALMA A CHATGPT-NEK, ILL. KELLŐEN PC-E A CHATGPT KOMMUNIKÁCIÓJA?","(+)",null,{"$f":"A151","v":"miau297"},"POSZMIK BARNA, DEÁK ZSOMBOR, PITLIK LÁSZLÓ",":",{"$f":"M151","v":"CHATGPT-KÍSÉRLETEK NR.1. - VAN-E JÓSÁG-FOGALMA A CHATGPT-NEK, ILL. KELLŐEN PC-E A CHATGPT KOMMUNIKÁCIÓJA?"},"  xx  ","https://miau.my-x.hu/miau/297/ChatGPT.docx",null,{"$f":"C151","v":"CHATGPT-KÍSÉRLETEK NR.1. - VAN-E JÓSÁG-FOGALMA A CHATGPT-NEK, ILL. KELLŐEN PC-E A CHATGPT KOMMUNIKÁCIÓJA?"}]
[null,"(MY-X team):","(Experiment#1 - Is there any term for Good in/behind chatGPT and/or is chatGPT PC-enough?)"]
["miau297","László Pitlik","Validated integration of more than 5 Google Trends data sets","(+)",null,{"$f":"A153","v":"miau297"},"László Pitlik",":",{"$f":"M153","v":"Validated integration of more than 5 Google Trends data sets"},"  xx  ","https://miau.my-x.hu/miau/297/google_trends_data_integration_variations.xlsx",null,"Validated integration of more than 5 Google Trends data sets"]
[null,"(MY-X team):"]
["miau297","Sipos Péter","C# exe-állomány visszafejtése","(+)",null,{"$f":"A155","v":"miau297"},"Sipos Péter",":",{"$f":"M155","v":"C# exe-állomány visszafejtése"},"  xx  ","https://miau.my-x.hu/miau/297/sipospeter_csharp_visszafejtese.mkv",null,"C# exe-állomány visszafejtése"]
[null,"(KJE):","(Reverse engineering: C# exe)"]
["miau297","Zsolt Lajos Kontra, László Pitlik","PROJECT STARLIGHT: ROBOT-EYE FOR (TURKISH) FOOTBALL PLAYER-TALENT IDENTIFICATION","(+)",null,{"$f":"A157","v":"miau297"},"Zsolt Lajos Kontra, László Pitlik",":",{"$f":"M157","v":"PROJECT STARLIGHT: ROBOT-EYE FOR (TURKISH) FOOTBALL PLAYER-TALENT IDENTIFICATION"},"  xx  ","https://miau.my-x.hu/miau/297/finans ve vergi.pdf",null,"PROJECT STARLIGHT: ROBOT-EYE FOR (TURKISH) FOOTBALL PLAYER-TALENT IDENTIFICATION"]
[null,"(MY-X team):"]
["miau298","Pitlik Marcell, Pitlik László","Erősen ingadozó megrendelés-állományú cégek döntési folyamatainak támogatása hasonlóságelemzésekkel","(+)",null,{"$f":"A159","v":"miau298"},"Pitlik Marcell, Pitlik László",":",{"$f":"M159","v":"Erősen ingadozó megrendelés-állományú cégek döntési folyamatainak támogatása hasonlóságelemzésekkel"},"  xx  ","https://miau.my-x.hu/miau/298/claas_v1.docx",null,"Erősen ingadozó megrendelés-állományú cégek döntési folyamatainak támogatása hasonlóságelemzésekkel"]
[null,"(MY-X team):","(Similarity-based decision support for enterprises with massive changing customer potential)"]
["miau298","Marcell Pitlik, Dániel Váradi, László Pitlik","Simulator development for yield estimation (in case of corn, oats, soybean) based on weather-data","(+)",null,{"$f":"A161","v":"miau298"},"Marcell Pitlik, Dániel Váradi, László Pitlik",":",{"$f":"M161","v":"Simulator development for yield estimation (in case of corn, oats, soybean) based on weather-data"},"  xx  ","https://miau.my-x.hu/miau/298/Simulator development for yield estimation_2.docx",null,"Simulator development for yield estimation (in case of corn, oats, soybean) based on weather-data"]
[null,"(MY-X team):"]
["miau298","Pitlik László, Pitlik László (jun)","Oktatást támogató innovatív IT-megoldások/filozóiák pedagógusoknak","(+)",null,{"$f":"A163","v":"miau298"},"Pitlik László, Pitlik László (jun)",":",{"$f":"M163","v":"Oktatást támogató innovatív IT-megoldások/filozóiák pedagógusoknak"},"  xx  ","https://miau.my-x.hu/mediawiki/index.php/Oktatast_tamogato_IT_megoldasok",null,"Oktatást támogató innovatív IT-megoldások/filozóiák pedagógusoknak"]
[null,"(KJE):","(IT-solutions and strategies for teachers supporting education)"]
["miau298","Pitlik László","A nemzetközi pénzpiac stabilitásának alakulása 2017-2021 között","(+)",null,{"$f":"A165","v":"miau298"},"Pitlik László",":",{"$f":"M165","v":"A nemzetközi pénzpiac stabilitásának alakulása 2017-2021 között"},"  xx  ","https://miau.my-x.hu/miau/298/hu0301-arfolyam.xls",null,"A nemzetközi pénzpiac stabilitásának alakulása 2017-2021 között"]
[null,"(KJE):","(Stability index for the international monetary system between 2017-2021)"]
["miau298","Pitlik László","Excel 3D-animáció - sport/divat-tudatosság Magyarországon","(+)",null,{"$f":"A167","v":"miau298"},"Pitlik László",":",{"$f":"M167","v":"Excel 3D-animáció - sport/divat-tudatosság Magyarországon"},"  xx  ","https://miau.my-x.hu/miau/298/3d_excel_demo.mp4",null,"Excel 3D-animáció - sport/divat-tudatosság Magyarországon"]
[null,"(KJE):","(Excel 3D-animation: sport/fashion-importance in Hungary)"]
["miau298","Jónás Attila, Pitlik László","ChatGPT-verziókat összehasonlító elemzések II.","(+)",null,{"$f":"A169","v":"miau298"},"Jónás Attila, Pitlik László",":",{"$f":"M169","v":"ChatGPT-verziókat összehasonlító elemzések II."},"  xx  ","https://miau.my-x.hu/miau/298/ChatGPT2_GPT4 (1).docx",null,"ChatGPT-verziókat összehasonlító elemzések II."]
[null,"(KJE):","(Comparing chatGPT versions - Part II)"]
["miau298","Jónás Attila, Pitlik László","ChatGPT-verziókat összehasonlító elemzések I.","(+)",null,{"$f":"A171","v":"miau298"},"Jónás Attila, Pitlik László",":",{"$f":"M171","v":"ChatGPT-verziókat összehasonlító elemzések I."},"  xx  ","https://miau.my-x.hu/miau/298/ChatGPT_GPT4 (1).docx",null,"ChatGPT-verziókat összehasonlító elemzések I."]
[null,"(KJE):","(Comparing chatGPT versions - Part I)"]
["miau298","Rikk János, Pitlik László","ChatGPT-kísérletek - programozás","(+)",null,{"$f":"A173","v":"miau298"},"Rikk János, Pitlik László",":",{"$f":"M173","v":"ChatGPT-kísérletek - programozás"},"  xx  ","https://miau.my-x.hu/miau/298/chatgpt_.docx",null,"ChatGPT-kísérletek - programozás"]
[null,"(KJE):","(Experiments with chatGPT on the field of creating source codes)"]
["miau298","Pitlik László","Naiv és optimalizált tudásvágy-indexek NGRAM-adatok alapján","(+)",null,{"$f":"A175","v":"miau298"},"Pitlik László",":",{"$f":"M175","v":"Naiv és optimalizált tudásvágy-indexek NGRAM-adatok alapján"},"  xx  ","https://miau.my-x.hu/miau/298/tudasvagy_index.xlsx",null,"Naiv és optimalizált tudásvágy-indexek NGRAM-adatok alapján"]
[null,"(KJE):","(Naive and optimized Thirst-For-Knowledge-Index-Generations based on NGRAM-data)"]
["miau298","Sipos Péter, Pitlik László","ChatGPT kísérletek: 2dm-játékok generálása (2. rész)","(+)",null,{"$f":"A177","v":"miau298"},"Sipos Péter, Pitlik László",":",{"$f":"M177","v":"ChatGPT kísérletek: 2dm-játékok generálása (2. rész)"},"  xx  ","https://miau.my-x.hu/miau/298/ChatGPT-food-2.pdf",null,"ChatGPT kísérletek: 2dm-játékok generálása (2. rész)"]
[null,"(KJE):","(Chat-GPT-experiments: Generating 2dm-games - Part II)"]
["miau298","Sipos Péter, Pitlik László","ChatGPT kísérletek: 2dm-játékok generálása (1. rész)","(+)",null,{"$f":"A179","v":"miau298"},"Sipos Péter, Pitlik László",":",{"$f":"M179","v":"ChatGPT kísérletek: 2dm-játékok generálása (1. rész)"},"  xx  ","https://miau.my-x.hu/miau/298/ChatGPT-food.pdf",null,"ChatGPT kísérletek: 2dm-játékok generálása (1. rész)"]
[null,"(KJE):","(Chat-GPT-experiments: Generating 2dm-games - Part I)"]
["miau298","Anonim Hallgató","Rendszermodellezés - esettanulmány","(+)",null,{"$f":"A181","v":"miau298"},"Anonim Hallgató",":",{"$f":"M181","v":"Rendszermodellezés - esettanulmány"},"  xx  ","https://miau.my-x.hu/miau/298/rendszermodellezes_bv.docx",null,"Rendszermodellezés - esettanulmány"]
[null,"(KJE):","(System modelling - case study)"]
["miau298","István Vancsura, László Pitlik","FINANCE PROCESS AUTOMATION WITH NUMBERICAL DECISION MAKING","(+)",null,{"$f":"A183","v":"miau298"},"István Vancsura, László Pitlik",":",{"$f":"M183","v":"FINANCE PROCESS AUTOMATION WITH NUMBERICAL DECISION MAKING"},"  xx  ","https://miau.my-x.hu/miau/297/finans ve vergi.pdf",null,"FINANCE PROCESS AUTOMATION WITH NUMBERICAL DECISION MAKING"]
[null,"(MY-X team):"]
["miau299","Borgulya János Márk, Pitlik László","ChatGPT: Ember-gép-kooperációs gyakorlatok IIa/b. - Tényszerű tudás","(+)",null,{"$f":"A185","v":"miau299"},"Borgulya János Márk, Pitlik László",":",{"$f":"M185","v":"ChatGPT: Ember-gép-kooperációs gyakorlatok IIa/b. - Tényszerű tudás"},"  xx  ","https://miau.my-x.hu/miau/299/chat_GPT_magabizossag2of2.docx",null,"ChatGPT: Ember-gép-kooperációs gyakorlatok IIa/b. - Tényszerű tudás"]
[null,"(MY-X team):","(Chat-GPT Excercises Part IIa/b. - about human-machine-cooperation possibilities concerning facts)"]
["miau299","Rácz Lívia, Pitlik László","ChatGPT: Ember-gép-kooperációs gyakorlatok I. - Élethosszigtartó tanulás","(+)",null,{"$f":"A187","v":"miau299"},"Rácz Lívia, Pitlik László",":",{"$f":"M187","v":"ChatGPT: Ember-gép-kooperációs gyakorlatok I. - Élethosszigtartó tanulás"},"  xx  ","https://miau.my-x.hu/miau/299/ChatGPT_az_elethosszig_tarto_tanulas_v1_v2_v3.docx",null,"ChatGPT: Ember-gép-kooperációs gyakorlatok I. - Élethosszigtartó tanulás"]
[null,"(MY-X team):","(Chat-GPT Excercises Part I. - about human-machine-cooperation possibilities concerning life-long-learning)"]
["miau299","Zsolt Lajos Kontra","Thesis: Artificial Intelligence-Based Sports Economics Analyses","(+)",null,{"$f":"A189","v":"miau299"},"Zsolt Lajos Kontra",":",{"$f":"M189","v":"Thesis: Artificial Intelligence-Based Sports Economics Analyses"},"  xx  ","https://miau.my-x.hu/miau/299/Artificial Intelligence-Based Sports Economics Analysis.pdf",null,"Thesis: Artificial Intelligence-Based Sports Economics Analyses"]
[null,"(MY-X team):"]
["miau299","Muhari Adrienn","Információhalmazok OAM szempontok szerinti feldolgozása és elemzése","(+)",null,{"$f":"A191","v":"miau299"},"Muhari Adrienn",":",{"$f":"M191","v":"Információhalmazok OAM szempontok szerinti feldolgozása és elemzése"},"  xx  ","https://miau.my-x.hu/miau/299/Muhari Adrienn - KJE Szakdolgozat - GazdMen.pdf",null,"Információhalmazok OAM szempontok szerinti feldolgozása és elemzése"]
[null,"(MY-X team):","(OAM-based analyses)"]
["miau299","Zsolt Lajos Kontra, László Pitlik","Full-text: Artificial Intelligence-Based Sports Economics Analyses Project Starlight: Robot-Eye for (Turkish) Football Player Talent Identification","(+)",null,{"$f":"A193","v":"miau299"},"Zsolt Lajos Kontra, László Pitlik",":",{"$f":"M193","v":"Full-text: Artificial Intelligence-Based Sports Economics Analyses Project Starlight: Robot-Eye for (Turkish) Football Player Talent Identification"},"  xx  ","https://miau.my-x.hu/miau/299/Kitap Sosyal.pdf",null,"Full-text: Artificial Intelligence-Based Sports Economics Analyses Project Starlight: Robot-Eye for (Turkish) Football Player Talent Identification"]
[null,"(MY-X team):"]
["miau299","Zsolt Lajos Kontra, László Pitlik","Abstract: Artificial Intelligence-Based Sports Economics Analyses Project Starlight: Robot-Eye for (Turkish) Football Player Talent Identification","(+)",null,{"$f":"A195","v":"miau299"},"Zsolt Lajos Kontra, László Pitlik",":",{"$f":"M195","v":"Abstract: Artificial Intelligence-Based Sports Economics Analyses Project Starlight: Robot-Eye for (Turkish) Football Player Talent Identification"},"  xx  ","https://miau.my-x.hu/miau/299/Artificial Intelligence-Based Sports Economics Analysis_Abstract.docx",null,"Abstract: Artificial Intelligence-Based Sports Economics Analyses Project Starlight: Robot-Eye for (Turkish) Football Player Talent Identification"]
[null,"(MY-X team):"]
["miau299","Liber Péter","Magyarország egészségügyi állapotának vizsgálata, avagy mennyire egyenszilárd a járóbeteg ellátás különböző regionális szinteken és idősorosan Magyarországon?","(+)",null,{"$f":"A197","v":"miau299"},"Liber Péter",":",{"$f":"M197","v":"Magyarország egészségügyi állapotának vizsgálata, avagy mennyire egyenszilárd a járóbeteg ellátás különböző regionális szinteken és idősorosan Magyarországon?"},"  xx  ","https://miau.my-x.hu/miau/299/liber",null,"Magyarország egészségügyi állapotának vizsgálata, avagy mennyire egyenszilárd a járóbeteg ellátás különböző regionális szinteken és idősorosan Magyarországon?"]
[null,"(MY-X team):","(Homogeneity analyses about the Hungarian health care services)"]
["miau299","Ács Kinga","Robot-polgár, robot-politológus - avagy mit lehet automatizálni a politikai elemzések kapcsán?","(+)",null,{"$f":"A199","v":"miau299"},"Ács Kinga",":",{"$f":"M199","v":"Robot-polgár, robot-politológus - avagy mit lehet automatizálni a politikai elemzések kapcsán?"},"  xx  ","https://miau.my-x.hu/miau/299/acs",null,"Robot-polgár, robot-politológus - avagy mit lehet automatizálni a politikai elemzések kapcsán?"]
[null,"(MY-X team):","(Robot-citizen, robot-politician or what can be analysed in automated ways concerning political processes?)"]
["miau299","Forsterné Kolosa Esztella, Pitlik László","A munkanélküliek száma és a bruttó átlagkereset változása Magyarországon vármegyénként 2016 és 2022 között","(+)",null,{"$f":"A201","v":"miau299"},"Forsterné Kolosa Esztella, Pitlik László",":",{"$f":"M201","v":"A munkanélküliek száma és a bruttó átlagkereset változása Magyarországon vármegyénként 2016 és 2022 között"},"  xx  ","https://miau.my-x.hu/miau/299/rosling2",null,"A munkanélküliek száma és a bruttó átlagkereset változása Magyarországon vármegyénként 2016 és 2022 között"]
[null,"(MY-X team):","(Rosling animation about average salary and unemployment ratio for counties in Hungary 2016-2022)"]
["miau299","Anonim Hallgató","Rosling-animáció: Fogyasztóiár-index alakulása (1961-2022) fogyasztási főcsoportok szerint az előző évhez képest","(+)",null,{"$f":"A203","v":"miau299"},"Anonim Hallgató",":",{"$f":"M203","v":"Rosling-animáció: Fogyasztóiár-index alakulása (1961-2022) fogyasztási főcsoportok szerint az előző évhez képest"},"  xx  ","https://miau.my-x.hu/miau/299/rosling1",null,"Rosling-animáció: Fogyasztóiár-index alakulása (1961-2022) fogyasztási főcsoportok szerint az előző évhez képest"]
[null,"(MY-X team):","(Price index animation with GAPMINDER for product/service-groups in case of 1961-2022 / previous year = 100%)"]
["miau299","László Pitlik","How to focus on relevant details in case of HR-statistics based on similarity analysis?","(+)",null,{"$f":"A205","v":"miau299"},"László Pitlik",":",{"$f":"M205","v":"How to focus on relevant details in case of HR-statistics based on similarity analysis?"},"  xx  ","https://miau.my-x.hu/miau/299/rd_eu.xlsx",null,"How to focus on relevant details in case of HR-statistics based on similarity analysis?"]
[null,"(MY-X team):"]
["miau299","László Pitlik","Is the LINUX-bubble quasi closed or new linux versions/releases may still be expected in future?","(+)",null,{"$f":"A207","v":"miau299"},"László Pitlik",":",{"$f":"M207","v":"Is the LINUX-bubble quasi closed or new linux versions/releases may still be expected in future?"},"  xx  ","https://miau.my-x.hu/miau/299/linux.xlsx",null,"Is the LINUX-bubble quasi closed or new linux versions/releases may still be expected in future?"]
[null,"(MY-X team):"]
["miau299","László Pitlik","Device-location in a building based on several wifi-signals or how to create average-oriented (naive) models with rel. high accuracy?","(+)",null,{"$f":"A209","v":"miau299"},"László Pitlik",":",{"$f":"M209","v":"Device-location in a building based on several wifi-signals or how to create average-oriented (naive) models with rel. high accuracy?"},"  xx  ","https://miau.my-x.hu/miau/299/log_analysis_wifi.xlsm",null,"Device-location in a building based on several wifi-signals or how to create average-oriented (naive) models with rel. high accuracy?"]
[null,"(MY-X team):"]
["miau299","László Pitlik","Interpretation anomalies of a health consciuosness index","(+)",null,{"$f":"A211","v":"miau299"},"László Pitlik",":",{"$f":"M211","v":"Interpretation anomalies of a health consciuosness index"},"  xx  ","https://miau.my-x.hu/miau/299/health_consciousness.xlsx",null,"Interpretation anomalies of a health consciuosness index"]
[null,"(MY-X team):"]
["miau299","László Pitlik, Marcell Pitlik","Consistence-based estimation of bearing degradations","(+)",null,{"$f":"A213","v":"miau299"},"László Pitlik, Marcell Pitlik",":",{"$f":"M213","v":"Consistence-based estimation of bearing degradations"},"  xx  ","https://miau.my-x.hu/miau/299/bearing_abcdef.xlsx",null,"Consistence-based estimation of bearing degradations"]
[null,"(MY-X team):"]
["miau299","László Pitlik","Case study: System modelling education-logs with history layers and its experiences concerning problem solving","(+)",null,{"$f":"A215","v":"miau299"},"László Pitlik",":",{"$f":"M215","v":"Case study: System modelling education-logs with history layers and its experiences concerning problem solving"},"  xx  ","https://miau.my-x.hu/mediawiki/index.php/System-modeling",null,{"$f":"C215","v":"Case study: System modelling education-logs with history layers and its experiences concerning problem solving"}]
[null,"(MY-X team):"]
["miau299","László Pitlik","Comparing anti-virus softwares","(+)",null,{"$f":"A217","v":"miau299"},"László Pitlik",":",{"$f":"M217","v":"Comparing anti-virus softwares"},"  xx  ","https://miau.my-x.hu/bprof/2023/antivirus_oam1.xlsx",null,"Comparing anti-virus softwares"]
[null,"(MY-X team):"]
["miau299","Dániel Czúni, Gyöngyi Bánkuti, László Pitlik","INTRODUCTION OF A TEXT MINING-BASED DECISION SUPPORT TECHNIQUE","(+)",null,{"$f":"A219","v":"miau299"},"Dániel Czúni, Gyöngyi Bánkuti, László Pitlik",":",{"$f":"M219","v":"INTRODUCTION OF A TEXT MINING-BASED DECISION SUPPORT TECHNIQUE"},"  xx  ","https://miau.my-x.hu/miau/297/finans ve vergi.pdf",null,"INTRODUCTION OF A TEXT MINING-BASED DECISION SUPPORT TECHNIQUE"]
[null,"(MY-X team):"]
[]
[]
[]
[]
["miau293"]
["miau293"]
["miau293"]
["miau293"]
["miau293"]
["miau293"]
["miau293"]
["miau293"]
["miau293"]
["miau293"]
["miau293"]
["miau293"]
["miau293"]
["miau293"]
["miau293"]
["miau293"]
["miau293"]
["miau293"]
["miau293"]
["miau294"]
["miau294"]
["miau294"]
["miau294"]
["miau294"]
["miau294"]
["miau294"]
["miau294"]
["miau294"]
["miau294"]
["miau294"]
["miau294"]
["miau294"]
["miau294"]
["miau294"]
["miau295"]
["miau295"]
["miau295"]
["miau295"]
["miau295"]
["miau295"]
["miau295"]
["miau295"]
["miau295"]
["miau295"]
["miau295"]
["miau295"]
["miau295"]
["miau296"]
["miau296"]
["miau296"]
["miau296"]
["miau296"]
["miau296"]
["miau296"]
["miau296"]
["miau296"]
["miau296"]
["miau296"]
["miau296"]
["miau296"]
["miau297"]
["miau297"]
["miau297"]
["miau297"]
["miau297"]
["miau297"]
["miau297"]
["miau297"]
["miau297"]
["miau297"]
["miau297"]
["miau297"]
["miau297"]
["miau297"]
["miau297"]
["miau297"]
["miau297"]
["miau297"]
["miau297"]
["miau298"]
["miau298"]
["miau298"]
["miau298"]
["miau298"]
["miau298"]
["miau298"]
["miau298"]
["miau298"]
["miau298"]
["miau298"]
["miau298"]
["miau298"]
["miau299"]
["miau299"]
["miau299"]
["miau299"]
["miau299"]
["miau299"]
["miau299"]
["miau299"]
["miau299"]
["miau299"]
["miau299"]
["miau299"]
["miau299"]
["miau299"]
["miau299"]
["miau299"]
["miau299"]
["miau299"]

{"sheet":"nyers (6)","index":4,"n_rows":152,"n_cols":13,"rows_kept":152,"cut":false,"hidden":false,"merged":[[142,3,143,3],[144,3,145,3],[146,3,147,3],[148,3,149,3],[150,3,151,3],[132,3,133,3],[134,3,135,3],[136,3,137,3],[138,3,139,3],[140,2,141,2],[140,3,141,3],[130,3,131,3],[110,3,111,3],[112,2,113,2],[112,3,113,3],[114,3,115,3],[116,3,117,3],[118,3,119,3],[120,3,121,3],[122,3,123,3],[124,3,125,3],[126,3,127,3],[128,3,129,3],[108,3,109,3],[86,3,87,3],[88,3,89,3],[90,3,91,3],[92,3,93,3],[94,3,95,3],[96,3,97,3],[98,3,99,3],[100,3,101,3],[102,3,103,3],[104,3,105,3],[106,3,107,3],[84,3,85,3],[66,2,67,2],[66,3,67,3],[68,3,69,3],[70,3,71,3],[72,3,73,3],[74,2,75,2],[74,3,75,3],[76,3,77,3],[78,2,79,2],[78,3,79,3],[80,3,81,3],[82,3,83,3],[56,3,57,3],[58,3,59,3],[60,3,61,3],[62,3,63,3],[64,2,65,2],[64,3,65,3],[28,2,29,2],[28,3,29,3],[54,3,55,3],[32,3,33,3],[34,3,35,3],[36,3,37,3],[38,3,39,3],[40,3,41,3],[42,3,43,3],[44,3,45,3],[46,3,47,3],[48,3,49,3],[50,3,51,3],[52,3,53,3],[30,3,31,3],[20,3,21,3],[22,3,23,3],[24,3,25,3],[26,3,27,3],[8,2,9,2],[8,3,9,3],[10,3,11,3],[12,3,13,3],[14,3,15,3],[16,3,17,3],[18,3,19,3],[0,3,1,3],[2,3,3,3],[4,3,5,3],[6,2,7,2],[6,3,7,3]]}
["miau281","Antal Boglárka","Online szakértői rendszerek fejlesztése a kockázatmanagementben","(+)",null,{"$f":"A1","v":"miau281"},{"$f":"B1","v":"Antal Boglárka"},":",{"$f":"M1","v":"Online szakértői rendszerek fejlesztése a kockázatmanagementben"},"  xx  ","https://miau.my-x.hu/miau/281/exs_and_coco.pdf",null,{"$f":"C1","v":"Online szakértői rendszerek fejlesztése a kockázatmanagementben"}]
[null,"(KJE):","(Online expert systems for the risk managenent)"]
["miau281","Sipos Péter Zsolt","Laptopok ár-teljesítmény elemzése előtétrendszerekkel és anélkül","(+)",null,{"$f":"A3","v":"miau281"},"Sipos Péter Zsolt",":",{"$f":"M3","v":"Laptopok ár-teljesítmény elemzése előtétrendszerekkel és anélkül"},"  xx  ","https://miau.my-x.hu/miau/281/laptop_komplex.docx",null,{"$f":"C3","v":"Laptopok ár-teljesítmény elemzése előtétrendszerekkel és anélkül"}]
[null,"(KJE):","(Price/performance analyses of laptops with and without special evaluation layers)"]
["miau281","Csizmadia Szilvia","DIGITÁLIS ÁTLALAKULÁS A RETAIL SZEKTORBAN INNOVATÍV ÜZLETI MODELLEK ALAPJÁN","(+)",null,{"$f":"A5","v":"miau281"},"Csizmadia Szilvia",":",{"$f":"M5","v":"DIGITÁLIS ÁTLALAKULÁS A RETAIL SZEKTORBAN INNOVATÍV ÜZLETI MODELLEK ALAPJÁN"},"  xx  ","https://miau.my-x.hu/miau/279/retail.pdf",null,"DIGITÁLIS ÁTLALAKULÁS A RETAIL SZEKTORBAN INNOVATÍV ÜZLETI MODELLEK ALAPJÁN"]
[null,"(KJE):","(Digital transformation in the retail sector based on innovative business models)"]
["miau281","Gergics Miléna","PDF: Robotedző","(+)",null,{"$f":"A7","v":"miau281"},"Gergics Miléna",":",{"$f":"M7","v":"PDF: Robotedző"},"  xx  ","https://miau.my-x.hu/miau/281/robotedzo.pdf",null,{"$f":"C7","v":"PDF: Robotedző"}]
[null,"(KJE):"]
["miau281","Gergics Miléna","PPT: Robotedző","(+)",null,{"$f":"A9","v":"miau281"},"Gergics Miléna",":",{"$f":"M9","v":"PPT: Robotedző"},"  xx  ","https://miau.my-x.hu/miau/281/robotedzo.pptx",null,{"$f":"C9","v":"PPT: Robotedző"}]
[null,"(KJE):"]
["miau281","Gattyán Annamária","Alkalmasak vagyunk-e a kutyatartásra?","(+)",null,{"$f":"A11","v":"miau281"},"Gattyán Annamária",":",{"$f":"M11","v":"Alkalmasak vagyunk-e a kutyatartásra?"},"  xx  ","https://miau.my-x.hu/miau/281/kutya_exs.docx",null,{"$f":"C11","v":"Alkalmasak vagyunk-e a kutyatartásra?"}]
[null,"(KJE):","(Are we competent to keep a dog?)"]
["miau281","Anonim Hallgató","Melyik a leginkább renitens EU-tagország?","(+)",null,{"$f":"A13","v":"miau281"},"Anonim Hallgató",":",{"$f":"M13","v":"Melyik a leginkább renitens EU-tagország?"},"  xx  ","https://miau.my-x.hu/miau/281/renitent_countries.docx",null,{"$f":"C13","v":"Melyik a leginkább renitens EU-tagország?"}]
[null,"(KJE):","(Which is the most (renitent)/corrupt country in the EU?)"]
["miau281","Anonim Hallgató","Mennyire egyenszilárd a német gazdaság energia-gazdálkodása","(+)",null,{"$f":"A15","v":"miau281"},"Anonim Hallgató",":",{"$f":"M15","v":"Mennyire egyenszilárd a német gazdaság energia-gazdálkodása"},"  xx  ","https://miau.my-x.hu/miau/281/nemet_egyenszilardsag.docx",null,{"$f":"C15","v":"Mennyire egyenszilárd a német gazdaság energia-gazdálkodása"}]
[null,"(KJE):","(How equitable the energy management of the German economy)"]
["miau281","Dobos Melissza","Az egészségügy fejlesztése és idő menedzselése","(+)",null,{"$f":"A17","v":"miau281"},"Dobos Melissza",":",{"$f":"M17","v":"Az egészségügy fejlesztése és idő menedzselése"},"  xx  ","https://miau.my-x.hu/miau/281/eu_kockazat.docx",null,{"$f":"C17","v":"Az egészségügy fejlesztése és idő menedzselése"}]
[null,"(KJE):","(Improving and accelerating healthcare)"]
["miau281","Ujváry Alexandra","Hallgatói teljesítmények összehasonlító elemzése","(+)",null,{"$f":"A19","v":"miau281"},"Ujváry Alexandra",":",{"$f":"M19","v":"Hallgatói teljesítmények összehasonlító elemzése"},"  xx  ","https://miau.my-x.hu/miau/281/publikaciok.docx",null,{"$f":"C19","v":"Hallgatói teljesítmények összehasonlító elemzése"}]
[null,"(KJE):","(Comparison of Student’s performances)"]
["miau281","Rakonczai Kíra","Írók értékelése","(+)",null,{"$f":"A21","v":"miau281"},"Rakonczai Kíra",":",{"$f":"M21","v":"Írók értékelése"},"  xx  ","https://miau.my-x.hu/miau/281/irok.docx",null,{"$f":"C21","v":"Írók értékelése"}]
[null,"(KJE):","(Evaluation of writers)"]
["miau281","Pitlik László, Pitlik Marcell","Választás 2022 Magyarország – avagy Robotpolgár 2022","(+)",null,{"$f":"A23","v":"miau281"},"Pitlik László, Pitlik Marcell",":",{"$f":"M23","v":"Választás 2022 Magyarország – avagy Robotpolgár 2022"},"  xx  ","https://miau.my-x.hu/miau/281/election_2022_hu.docx",null,{"$f":"C23","v":"Választás 2022 Magyarország – avagy Robotpolgár 2022"}]
[null,"(MY-X team):","(Election 2022 Hungary or Robot-Citizen 2022)"]
["miau281","Csík Balázs Béla","Beruházási/vásárlási döntéseket segítő modellezés - Hol is éri meg igazán hirdetni?","(+)",null,{"$f":"A25","v":"miau281"},"Csík Balázs Béla",":",{"$f":"M25","v":"Beruházási/vásárlási döntéseket segítő modellezés - Hol is éri meg igazán hirdetni?"},"  xx  ","https://miau.my-x.hu/miau/281/egyperegy.docx",null,{"$f":"C25","v":"Beruházási/vásárlási döntéseket segítő modellezés - Hol is éri meg igazán hirdetni?"}]
[null,"(KJE):","(Analysis of price/performance-ratios concerning competitive media partners)"]
["miau281","Muhari Adrienn","Weboldalba integrált grafikonok adatainak kinyerése (hangos film)","(+)",null,{"$f":"A27","v":"miau281"},"Muhari Adrienn",":",{"$f":"M27","v":"Weboldalba integrált grafikonok adatainak kinyerése (hangos film)"},"  xx  ","https://miau.my-x.hu/miau/281/f12.mp4",null,{"$f":"C27","v":"Weboldalba integrált grafikonok adatainak kinyerése (hangos film)"}]
[null,"(KJE):","(Extracting data from graphical web sites)"]
["miau281","Franciska Hefkó","The greenest county of Hungary","(+)",null,{"$f":"A29","v":"miau281"},"Franciska Hefkó",":",{"$f":"M29","v":"The greenest county of Hungary"},"  xx  ","https://miau.my-x.hu/miau/281/green.docx",null,{"$f":"C29","v":"The greenest county of Hungary"}]
[null,"(KJE):"]
["miau281","Kósa Mariann Ágnes","Hatékonyságnövelés a bérszámfejtés területén - Munkaidő nyilvántartás makróval","(+)",null,{"$f":"A31","v":"miau281"},"Kósa Mariann Ágnes",":",{"$f":"M31","v":"Hatékonyságnövelés a bérszámfejtés területén - Munkaidő nyilvántartás makróval"},"  xx  ","https://miau.my-x.hu/miau/281/munkaido.docx",null,{"$f":"C31","v":"Hatékonyságnövelés a bérszámfejtés területén - Munkaidő nyilvántartás makróval"}]
[null,"(KJE):","(Improving the efficiency of recording payroll time data - Working time recording using an Excel spreadsheet with a macro)"]
["miau281","Hirschmann Zsófia, Deák Gabriella Dóra","AZ EU ORSZÁGAINAK VIZSGÁLATA A 2016-2020-AS OLIMPIAI EREDMÉNYEK TÜKRÉBEN - Mi határozza meg egy ország sikeres szereplését?","(+)",null,{"$f":"A33","v":"miau281"},"Hirschmann Zsófia, Deák Gabriella Dóra",":",{"$f":"M33","v":"AZ EU ORSZÁGAINAK VIZSGÁLATA A 2016-2020-AS OLIMPIAI EREDMÉNYEK TÜKRÉBEN - Mi határozza meg egy ország sikeres szereplését?"},"  xx  ","https://miau.my-x.hu/miau/281/Olimpia.docx",null,{"$f":"C33","v":"AZ EU ORSZÁGAINAK VIZSGÁLATA A 2016-2020-AS OLIMPIAI EREDMÉNYEK TÜKRÉBEN - Mi határozza meg egy ország sikeres szereplését?"}]
[null,"(KJE):","(EXAMINATION OF EU COUNTRIES IN THE LIGHT OF THE 2016-2020 OLYMPICS - What determines a country’s success in the Olympics?)"]
["miau282","Pitlik László","Benchmark rekonstrukció és ár-szimulátor hasonlóságelemzéssel","(+)",null,{"$f":"A35","v":"miau282"},"Pitlik László",":",{"$f":"M35","v":"Benchmark rekonstrukció és ár-szimulátor hasonlóságelemzéssel"},"  xx  ","https://miau.my-x.hu/miau/282/benchmark_rekonstrukcio.xlsx",null,{"$f":"C35","v":"Benchmark rekonstrukció és ár-szimulátor hasonlóságelemzéssel"}]
[null,"(MY-X team):","(Benchmark reconstruction and price-simulator based on similarity analyses)"]
["miau282","Pitlik László","Bináris helyes választ elváró feladatok javítókulcsának feltörése solver-rel összpontszám nélkül","(+)",null,{"$f":"A37","v":"miau282"},"Pitlik László",":",{"$f":"M37","v":"Bináris helyes választ elváró feladatok javítókulcsának feltörése solver-rel összpontszám nélkül"},"  xx  ","https://miau.my-x.hu/miau/282/javkulcs_nincs_osszpontszam.xlsx",null,{"$f":"C37","v":"Bináris helyes választ elváró feladatok javítókulcsának feltörése solver-rel összpontszám nélkül"}]
[null,"(MY-X team):","(Derivation of evaluation test-codes based on solver in case of binary options with without total scores)"]
["miau282","Pitlik László","Több-elemű helyes választ elváró többszörös választásos feladatok (ABDC) javítókulcsának feltörése solver-rel","(+)",null,{"$f":"A39","v":"miau282"},"Pitlik László",":",{"$f":"M39","v":"Több-elemű helyes választ elváró többszörös választásos feladatok (ABDC) javítókulcsának feltörése solver-rel"},"  xx  ","https://miau.my-x.hu/miau/282/abcd-javitokulcs_4.xlsx",null,{"$f":"C39","v":"Több-elemű helyes választ elváró többszörös választásos feladatok (ABDC) javítókulcsának feltörése solver-rel"}]
[null,"(MY-X team):","(Derivation of evaluation test-codes based on solver in case of ABCD-options with different answer-groups)"]
["miau282","Pitlik László","Több egyedi helyes választ elváró többszörös választásos feladatok (ABDC) javítókulcsának feltörése solver-rel","(+)",null,{"$f":"A41","v":"miau282"},"Pitlik László",":",{"$f":"M41","v":"Több egyedi helyes választ elváró többszörös választásos feladatok (ABDC) javítókulcsának feltörése solver-rel"},"  xx  ","https://miau.my-x.hu/miau/282/abcd-javitokulcs_3.xlsx",null,{"$f":"C41","v":"Több egyedi helyes választ elváró többszörös választásos feladatok (ABDC) javítókulcsának feltörése solver-rel"}]
[null,"(MY-X team):","(Derivation of evaluation test-codes based on solver in case of ABCD-options with different true unique answers)"]
["miau282","Pitlik László","Egy helyes választ elváró többszörös választásos feladatok (ABDC) javítókulcsának feltörése solver-rel hibátlan/hibás minták esetén büntető pontokkal","(+)",null,{"$f":"A43","v":"miau282"},"Pitlik László",":",{"$f":"M43","v":"Egy helyes választ elváró többszörös választásos feladatok (ABDC) javítókulcsának feltörése solver-rel hibátlan/hibás minták esetén büntető pontokkal"},"  xx  ","https://miau.my-x.hu/miau/282/abcd-javitokulcs_2.xlsx",null,{"$f":"C43","v":"Egy helyes választ elváró többszörös választásos feladatok (ABDC) javítókulcsának feltörése solver-rel hibátlan/hibás minták esetén büntető pontokkal"}]
[null,"(MY-X team):","(Derivation of evaluation test-codes based on solver in case of ABCD-options with penalties)"]
["miau282","Pitlik László","Egy helyes választ elváró többszörös választásos feladatok (ABDC) javítókulcsának feltörése solver-rel hibátlan és hibás minták esetén","(+)",null,{"$f":"A45","v":"miau282"},"Pitlik László",":",{"$f":"M45","v":"Egy helyes választ elváró többszörös választásos feladatok (ABDC) javítókulcsának feltörése solver-rel hibátlan és hibás minták esetén"},"  xx  ","https://miau.my-x.hu/miau/282/abcd-javitokulcs.xlsx",null,{"$f":"C45","v":"Egy helyes választ elváró többszörös választásos feladatok (ABDC) javítókulcsának feltörése solver-rel hibátlan és hibás minták esetén"}]
[null,"(MY-X team):","(Derivation of evaluation test-codes based on solver in case of ABCD-options with one true answer per question)"]
["miau282","Pitlik László","Rendelkezésre álló és hiányzó bináris válaszmintázatok kombinatorikai értékelése a javítókulcstörés sikeressége érdekében","(+)",null,{"$f":"A47","v":"miau282"},"Pitlik László",":",{"$f":"M47","v":"Rendelkezésre álló és hiányzó bináris válaszmintázatok kombinatorikai értékelése a javítókulcstörés sikeressége érdekében"},"  xx  ","https://miau.my-x.hu/miau/282/pillango_effektusok.xlsx",null,{"$f":"C47","v":"Rendelkezésre álló és hiányzó bináris válaszmintázatok kombinatorikai értékelése a javítókulcstörés sikeressége érdekében"}]
[null,"(MY-X team):","(Combinatorial evaluation of different binary datasets concerning needed records for holistic problem solving)"]
["miau282","Anonim Hallgató","Bináris javítókulcs solver-alapú feltörése","(+)",null,{"$f":"A49","v":"miau282"},"Anonim Hallgató",":",{"$f":"M49","v":"Bináris javítókulcs solver-alapú feltörése"},"  xx  ","https://miau.my-x.hu/miau/282/igaz_hamis_javitokulcs.xlsx",null,{"$f":"C49","v":"Bináris javítókulcs solver-alapú feltörése"}]
[null,"(MY-X team):","(Derivation of the truth positions in case of binary answers of tests)"]
["miau282","Pitlik László","A búza termésátlagok idősorai alapján a statisztikai régiók méretének becslése solver-rel","(+)",null,{"$f":"A51","v":"miau282"},"Pitlik László",":",{"$f":"M51","v":"A búza termésátlagok idősorai alapján a statisztikai régiók méretének becslése solver-rel"},"  xx  ","https://miau.my-x.hu/miau/282/fadn_kodtores.xlsx",null,{"$f":"C51","v":"A búza termésátlagok idősorai alapján a statisztikai régiók méretének becslése solver-rel"}]
[null,"(MY-X team):","(Solver-based estimation of the volume/surface of regions derived from the average yields of wheat in form of time series)"]
["miau282","Pitlik László","Holtversenyek feloldása és versenyzői kockázatok levezetése az átlagtól való eltérés elve alapján","(+)",null,{"$f":"A53","v":"miau282"},"Pitlik László",":",{"$f":"M53","v":"Holtversenyek feloldása és versenyzői kockázatok levezetése az átlagtól való eltérés elve alapján"},"  xx  ","https://miau.my-x.hu/miau/282/naiv_optimalizalt_verziok3.xlsx",null,{"$f":"C53","v":"Holtversenyek feloldása és versenyzői kockázatok levezetése az átlagtól való eltérés elve alapján"}]
[null,"(MY-X team):","(Interpretation of dead heat constellations and/or risks of objects based on differences compared with the average levels)"]
["miau282","Pitlik László","Adatvagyon átlag-objektum és regionális objektumok ideális és kockázatos kölcsönhatásainak értelmezéséhez","(+)",null,{"$f":"A55","v":"miau282"},"Pitlik László",":",{"$f":"M55","v":"Adatvagyon átlag-objektum és regionális objektumok ideális és kockázatos kölcsönhatásainak értelmezéséhez"},"  xx  ","https://miau.my-x.hu/miau/282/eu_suspicions.xlsx",null,{"$f":"C55","v":"Adatvagyon átlag-objektum és regionális objektumok ideális és kockázatos kölcsönhatásainak értelmezéséhez"}]
[null,"(MY-X team):","(Database about ideal and/or risky relationships between regional and total/average objects)"]
["miau282","Pitlik László","Egy adott anti-diszkriminatív objektumpopulációból kieső objektumok hatása az egyensúlyra","(+)",null,{"$f":"A57","v":"miau282"},"Pitlik László",":",{"$f":"M57","v":"Egy adott anti-diszkriminatív objektumpopulációból kieső objektumok hatása az egyensúlyra"},"  xx  ","https://miau.my-x.hu/miau/282/trend_variations.xlsx",null,{"$f":"C57","v":"Egy adott anti-diszkriminatív objektumpopulációból kieső objektumok hatása az egyensúlyra"}]
[null,"(MY-X team):","(Impacts of excluded object(s) concerning an object population with anti-discriminative equlibrium)"]
["miau282","Pitlik László","Egyre rövidülő idősorok meredekségére alapozó előrejelzések hasonlóságelemzéssel","(+)",null,{"$f":"A59","v":"miau282"},"Pitlik László",":",{"$f":"M59","v":"Egyre rövidülő idősorok meredekségére alapozó előrejelzések hasonlóságelemzéssel"},"  xx  ","https://miau.my-x.hu/miau/282/trend_variations.xlsx",null,{"$f":"C59","v":"Egyre rövidülő idősorok meredekségére alapozó előrejelzések hasonlóságelemzéssel"}]
[null,"(MY-X team):","(Similarity-based forecasting using different long trends)"]
["miau282","Pitlik László","Lépcsős függvények lépcsőinek kombinatorikai tere","(+)",null,{"$f":"A61","v":"miau282"},"Pitlik László",":",{"$f":"M61","v":"Lépcsős függvények lépcsőinek kombinatorikai tere"},"  xx  ","https://miau.my-x.hu/miau/282/lepcsosfuggveny_brute_force.xlsx",null,{"$f":"C61","v":"Lépcsős függvények lépcsőinek kombinatorikai tere"}]
[null,"(MY-X team):","(Combinatorial space of values in a staircase function)"]
["miau282","Pitlik László","Alternatív lépcsős függvények","(+)",null,{"$f":"A63","v":"miau282"},"Pitlik László",":",{"$f":"M63","v":"Alternatív lépcsős függvények"},"  xx  ","https://miau.my-x.hu/miau/282/fereglyukak_alternativ_megoldasok_lepcsos_fuggvenyek_eseten.xlsx",null,{"$f":"C63","v":"Alternatív lépcsős függvények"}]
[null,"(MY-X team):","(Alternative solutions of staircase functions)"]
["miau282","Pitlik László","Impacts of Y-conversions and/or COCO-parameters concerning the model quality in similarity analyses","(+)",null,{"$f":"A65","v":"miau282"},"Pitlik László",":",{"$f":"M65","v":"Impacts of Y-conversions and/or COCO-parameters concerning the model quality in similarity analyses"},"  xx  ","https://miau.my-x.hu/miau/282/eu_validitas.xlsx",null,{"$f":"C65","v":"Impacts of Y-conversions and/or COCO-parameters concerning the model quality in similarity analyses"}]
[null,"(MY-X team):"]
["miau282","Pitlik László","Solver possibilities in Google spreadsheets (3747)","(+)",null,{"$f":"A67","v":"miau282"},"Pitlik László",":",{"$f":"M67","v":"Solver possibilities in Google spreadsheets (3747)"},"  xx  ","https://miau.my-x.hu/miau/282/google_spreadsheet_solver.png",null,{"$f":"C67","v":"Solver possibilities in Google spreadsheets (3747)"}]
[null,"(MY-X team):"]
["miau282","Pitlik László, Pitlik Marcell, Szani Ferenc","Pályázati dokumentációk automatizált és objektív kiértékelése szakértők bevonása nélkül","(+)",null,{"$f":"A69","v":"miau282"},"Pitlik László, Pitlik Marcell, Szani Ferenc",":",{"$f":"M69","v":"Pályázati dokumentációk automatizált és objektív kiértékelése szakértők bevonása nélkül"},"  xx  ","https://miau.my-x.hu/miau/282/anonim_esettanulmany.docx",null,{"$f":"C69","v":"Pályázati dokumentációk automatizált és objektív kiértékelése szakértők bevonása nélkül"}]
[null,"(MY-X team):","(Automated and objective evaluation of tender documentations – without any human experts)"]
["miau282","Pitlik László","Y-konverziók hatásai a modellek pontossági mutatóira, az attribútumok hatásmértékére és az objektumok validitására","(+)",null,{"$f":"A71","v":"miau282"},"Pitlik László",":",{"$f":"M71","v":"Y-konverziók hatásai a modellek pontossági mutatóira, az attribútumok hatásmértékére és az objektumok validitására"},"  xx  ","https://miau.my-x.hu/miau/281/Y_conversions.xlsx",null,{"$f":"C71","v":"Y-konverziók hatásai a modellek pontossági mutatóira, az attribútumok hatásmértékére és az objektumok validitására"}]
[null,"(MY-X team):","(Impacts of Y-conversions to the accuracies of the models, to the validity of objects and to the relevance of attributes)"]
["miau283","Pitlik László","Információbróker-feladat: Perspektivitás-index becslése képzések attraktivitásának idősorai alapján","(+)",null,{"$f":"A73","v":"miau283"},"Pitlik László",":",{"$f":"M73","v":"Információbróker-feladat: Perspektivitás-index becslése képzések attraktivitásának idősorai alapján"},"  xx  ","https://miau.my-x.hu/miau/283/euinf.xlsx",null,{"$f":"C73","v":"Információbróker-feladat: Perspektivitás-index becslése képzések attraktivitásának idősorai alapján"}]
[null,"(MY-X team):","(Tasks for information brokering educations: Derivation of a perspectivity index based on time series about attractivity of courses)"]
["miau283","Pitlik László","Activation of potential (pre-prepared) parts of functions based on Solver in case of maximizing the correlation between one single X and Y","(+)",null,{"$f":"A75","v":"miau283"},"Pitlik László",":",{"$f":"M75","v":"Activation of potential (pre-prepared) parts of functions based on Solver in case of maximizing the correlation between one single X and Y"},"  xx  ","https://miau.my-x.hu/miau/283/rnd_x_y_operator_tuning.xlsx",null,{"$f":"C75","v":"Activation of potential (pre-prepared) parts of functions based on Solver in case of maximizing the correlation between one single X and Y"}]
[null,"(MY-X team):"]
["miau283","Pitlik László","Súlyozott átlagszámítás hasonlóságelemzési vetületei","(+)",null,{"$f":"A77","v":"miau283"},"Pitlik László",":",{"$f":"M77","v":"Súlyozott átlagszámítás hasonlóságelemzési vetületei"},"  xx  ","https://miau.my-x.hu/miau/283/sulyozott_atlag_szamitas.xlsx",null,{"$f":"C77","v":"Súlyozott átlagszámítás hasonlóságelemzési vetületei"}]
[null,"(MY-X team):","(Interpretations of the weighted average with staircase functions)"]
["miau283","Pitlik László","Genetic potential driven modelling steps instead of genetic algorithms and/or Monte-Carlo-Methods and/or brute force approaches","(+)",null,{"$f":"A79","v":"miau283"},"Pitlik László",":",{"$f":"M79","v":"Genetic potential driven modelling steps instead of genetic algorithms and/or Monte-Carlo-Methods and/or brute force approaches"},"  xx  ","https://miau.my-x.hu/miau/283/genetic_potential_driven_estimations.xlsx",null,{"$f":"C79","v":"Genetic potential driven modelling steps instead of genetic algorithms and/or Monte-Carlo-Methods and/or brute force approaches"}]
[null,"(MY-X team):"]
["miau283","Pitlik László","Mark-my-professor: konzisztencia-orientált elemzésláncok - publikációs feladatterv","(+)",null,{"$f":"A81","v":"miau283"},"Pitlik László",":",{"$f":"M81","v":"Mark-my-professor: konzisztencia-orientált elemzésláncok - publikációs feladatterv"},"  xx  ","https://miau.my-x.hu/miau/283/publication_teachersdata.docx",null,{"$f":"C81","v":"Mark-my-professor: konzisztencia-orientált elemzésláncok - publikációs feladatterv"}]
[null,"(MY-X team):","(Mark-my-professor: consistence-oriented analysis-chains as a plan of a publication)"]
["miau283","Pitlik László","Holtversenyek feloldása az ideális/extrém objektum(ok) bevonása révén","(+)",null,{"$f":"A83","v":"miau283"},"Pitlik László",":",{"$f":"M83","v":"Holtversenyek feloldása az ideális/extrém objektum(ok) bevonása révén"},"  xx  ","https://miau.my-x.hu/miau/283/s1_mirror.xlsx",null,{"$f":"C83","v":"Holtversenyek feloldása az ideális/extrém objektum(ok) bevonása révén"}]
[null,"(MY-X team):","(Interpretation of dead heat constellations and/or risks of objects based on involving ideal/extreme objects)"]
["miau283","Pitlik László","Szubjektív pontozási skálák transzformációinak hatásai az értékelt alanyok végső sorrendjére több értékelő pontjainak összegzése esetén","(+)",null,{"$f":"A85","v":"miau283"},"Pitlik László",":",{"$f":"M85","v":"Szubjektív pontozási skálák transzformációinak hatásai az értékelt alanyok végső sorrendjére több értékelő pontjainak összegzése esetén"},"  xx  ","https://miau.my-x.hu/miau/283/szubjektiv_pontozasi_skalak_hatasai.xlsx",null,{"$f":"C85","v":"Szubjektív pontozási skálák transzformációinak hatásai az értékelt alanyok végső sorrendjére több értékelő pontjainak összegzése esetén"}]
[null,"(MY-X team):","(Impacts of different scale-transformations concerning the final ranking based on addition of the partial scores)"]
["miau283","Pitlik László, Sipos Péter","Rész-vs-egész inkonzisztenciák feltárása megfigyeltségi adatokon","(+)",null,{"$f":"A87","v":"miau283"},"Pitlik László, Sipos Péter",":",{"$f":"M87","v":"Rész-vs-egész inkonzisztenciák feltárása megfigyeltségi adatokon"},"  xx  ","https://miau.my-x.hu/miau/283/observation_v2.xlsx",null,{"$f":"C87","v":"Rész-vs-egész inkonzisztenciák feltárása megfigyeltségi adatokon"}]
[null,"(MY-X team):","(Derivation of inconsistences concerning partiality-vs-generality based on data about the being-observed-phenmenon)"]
["miau283","Pitlik László","COCO-online és COCO-Excel verziók eltérései ár/teljesítmény-elemzések esetén","(+)",null,{"$f":"A89","v":"miau283"},"Pitlik László",":",{"$f":"M89","v":"COCO-online és COCO-Excel verziók eltérései ár/teljesítmény-elemzések esetén"},"  xx  ","https://miau.my-x.hu/miau/283/camera database.xlsx",null,{"$f":"C89","v":"COCO-online és COCO-Excel verziók eltérései ár/teljesítmény-elemzések esetén"}]
[null,"(MY-X team):","(Differences of COCO-online and COCO-Excel in case of price/performance analyses)"]
["miau283","Pitlik László","Brand-értékek becslése, avagy COCO-STD és COCO-MCM kombinálása","(+)",null,{"$f":"A91","v":"miau283"},"Pitlik László",":",{"$f":"M91","v":"Brand-értékek becslése, avagy COCO-STD és COCO-MCM kombinálása"},"  xx  ","https://miau.my-x.hu/miau/283/std_mcm.xlsx",null,{"$f":"C91","v":"Brand-értékek becslése, avagy COCO-STD és COCO-MCM kombinálása"}]
[null,"(MY-X team):","(Estimation of brand-values or combinations of COCO-STD and COCO-MCM)"]
["miau283","Pitlik László","A COCO-MCM dupla-attribútumkészletű modellvariánsainak tulajdonságai","(+)",null,{"$f":"A93","v":"miau283"},"Pitlik László",":",{"$f":"M93","v":"A COCO-MCM dupla-attribútumkészletű modellvariánsainak tulajdonságai"},"  xx  ","https://miau.my-x.hu/miau/283/MCM_dupla_attributum_keszlet.xlsx",null,{"$f":"C93","v":"A COCO-MCM dupla-attribútumkészletű modellvariánsainak tulajdonságai"}]
[null,"(MY-X team):","(Characteristics of model-variations in case of COCO-MCM)"]
["miau283","Pitlik László","Hasonlóságelemzésre alapozott ZIP-megoldás","(+)",null,{"$f":"A95","v":"miau283"},"Pitlik László",":",{"$f":"M95","v":"Hasonlóságelemzésre alapozott ZIP-megoldás"},"  xx  ","https://miau.my-x.hu/miau/283/zip-hatasok.xlsx",null,{"$f":"C95","v":"Hasonlóságelemzésre alapozott ZIP-megoldás"}]
[null,"(MY-X team):","(Special ZIP-solution based on similarity analyses)"]
["miau283","Pitlik László","Az összeadási művelet leképeződései lépcsős függvényekre, mint a tudásreprezentáció egy különös formájára","(+)",null,{"$f":"A97","v":"miau283"},"Pitlik László",":",{"$f":"M97","v":"Az összeadási művelet leképeződései lépcsős függvényekre, mint a tudásreprezentáció egy különös formájára"},"  xx  ","https://miau.my-x.hu/miau/283/osszeadas_lepcsos_fuggvennyel.xlsx",null,{"$f":"C97","v":"Az összeadási művelet leképeződései lépcsős függvényekre, mint a tudásreprezentáció egy különös formájára"}]
[null,"(MY-X team):","(Interpreting the operator of addition in form of staircase functions as a special type of the knowledge representation)"]
["miau283","Pitlik László","Szignifikancia és/vagy hasonlóságelemzés, avagy oktatásmódszertani kezelések sorrendjének levezetése","(+)",null,{"$f":"A99","v":"miau283"},"Pitlik László",":",{"$f":"M99","v":"Szignifikancia és/vagy hasonlóságelemzés, avagy oktatásmódszertani kezelések sorrendjének levezetése"},"  xx  ","https://miau.my-x.hu/miau/283/prezi_ppt_duma.xlsx",null,{"$f":"C99","v":"Szignifikancia és/vagy hasonlóságelemzés, avagy oktatásmódszertani kezelések sorrendjének levezetése"}]
[null,"(MY-X team):","(Significance and/or similarity analysis, or derivation of ranks for educational treatments)"]
["miau283","Pitlik László","OAM-variációk előrejelzési célra idősoros adatok alapján (demo: EUR/HUF)","(+)",null,{"$f":"A101","v":"miau283"},"Pitlik László",":",{"$f":"M101","v":"OAM-variációk előrejelzési célra idősoros adatok alapján (demo: EUR/HUF)"},"  xx  ","https://miau.my-x.hu/miau/283/forcasting_demo.xlsx",null,{"$f":"C101","v":"OAM-variációk előrejelzési célra idősoros adatok alapján (demo: EUR/HUF)"}]
[null,"(MY-X team):","OAM-variations for forcasting based on time series (demo: EUR/HUF)"]
["miau283","Pitlik László","ZH-javítókulcs feltörése solver-rel adott (egyre növekvő számú) esetmennyiség alapján","(+)",null,{"$f":"A103","v":"miau283"},"Pitlik László",":",{"$f":"M103","v":"ZH-javítókulcs feltörése solver-rel adott (egyre növekvő számú) esetmennyiség alapján"},"  xx  ","https://miau.my-x.hu/miau/283/input_potential_estimation.xlsx",null,{"$f":"C103","v":"ZH-javítókulcs feltörése solver-rel adott (egyre növekvő számú) esetmennyiség alapján"}]
[null,"(MY-X team):","(Derivation of evaluation test-codes based on solver in case of increasing amount of cases)"]
["miau283","Pitlik László","Politikai kockázatok becslése a gazdasági fejlődés országonkénti indexének idősora alapján","(+)",null,{"$f":"A105","v":"miau283"},"Pitlik László",":",{"$f":"M105","v":"Politikai kockázatok becslése a gazdasági fejlődés országonkénti indexének idősora alapján"},"  xx  ","https://miau.my-x.hu/miau/283/2014-2020-eu-chamber-vs-coco.xlsx",null,{"$f":"C105","v":"Politikai kockázatok becslése a gazdasági fejlődés országonkénti indexének idősora alapján"}]
[null,"(MY-X team):","(Estimation of political exposure based on time series of the best-EU-country-for-business-index)"]
["miau283","Pitlik László","Holtversenyek feloldása és versenyzői kockázatok levezetése nyersadat-kockázatok alapján","(+)",null,{"$f":"A107","v":"miau283"},"Pitlik László",":",{"$f":"M107","v":"Holtversenyek feloldása és versenyzői kockázatok levezetése nyersadat-kockázatok alapján"},"  xx  ","https://miau.my-x.hu/miau/283/naiv_optimalizalt_verziok4.xlsx",null,{"$f":"C107","v":"Holtversenyek feloldása és versenyzői kockázatok levezetése nyersadat-kockázatok alapján"}]
[null,"(MY-X team):","(Interpretation of dead heat constellations and/or risks of objects based on risk estimation for each raw data-position)"]
["miau283","Pitlik László","Simpson paradoxon variánsok: processzorok órajelei generációnként","(+)",null,{"$f":"A109","v":"miau283"},"Pitlik László",":",{"$f":"M109","v":"Simpson paradoxon variánsok: processzorok órajelei generációnként"},"  xx  ","https://miau.my-x.hu/miau/283/simpson_paradoxon.xlsx",null,{"$f":"C109","v":"Simpson paradoxon variánsok: processzorok órajelei generációnként"}]
[null,"(MY-X team):","(Variations for the Simpson-paradox: turbo-speed of processors for different generations)"]
["miau283","Pitlik László","Az árelőny fogalmának története (számpéldákkal - publikációs feladatterv)","(+)",null,{"$f":"A111","v":"miau283"},"Pitlik László",":",{"$f":"M111","v":"Az árelőny fogalmának története (számpéldákkal - publikációs feladatterv)"},"  xx  ","https://miau.my-x.hu/miau/283/arelony.docx",null,{"$f":"C111","v":"Az árelőny fogalmának története (számpéldákkal - publikációs feladatterv)"}]
[null,"(MY-X team):","(The history of the term of the price/performance ratio - incl. numerical demonstrations as a plan of a publication)"]
["miau283","Pitlik László, Pitlik Marcell, Pitlik László (jun)","Estimation of bearing wear based on consistence-oriented modelling","(+)",null,{"$f":"A113","v":"miau283"},"Pitlik László, Pitlik Marcell, Pitlik László (jun)",":",{"$f":"M113","v":"Estimation of bearing wear based on consistence-oriented modelling"},"  xx  ","https://miau.my-x.hu/miau/283/bearing_wear_en.docx",null,{"$f":"C113","v":"Estimation of bearing wear based on consistence-oriented modelling"}]
[null,"(MY-X team):"]
["miau279","Ács Kinga","Lehet-e robotizálni egy cég stratégiai tervezését?","(+)",null,{"$f":"A115","v":"miau279"},"Ács Kinga",":",{"$f":"M115","v":"Lehet-e robotizálni egy cég stratégiai tervezését?"},"  xx  ","https://miau.my-x.hu/miau/279/elorejelzes.docx",null,{"$f":"C115","v":"Lehet-e robotizálni egy cég stratégiai tervezését?"}]
[null,"(KJE):","(Can we robotize the strategic planning of a company?)"]
["miau279","Vincze Miklós, Somogyi Kristóf","Orvos-beteg dialógusok - avagy eszkalációs kockázatok elemzése","(+)",null,{"$f":"A117","v":"miau279"},"Vincze Miklós, Somogyi Kristóf",":",{"$f":"M117","v":"Orvos-beteg dialógusok - avagy eszkalációs kockázatok elemzése"},"  xx  ","https://miau.my-x.hu/miau/279/orvos_beteg.docx",null,{"$f":"C117","v":"Orvos-beteg dialógusok - avagy eszkalációs kockázatok elemzése"}]
[null,"(OE):","(Dialogues between patients and doctors – escalation risk analyses)"]
["miau279","Karácsonyi Krisztián","Egymillió főre jutó balesetek kockázatelemzése megyénkénti felosztásban","(+)",null,{"$f":"A119","v":"miau279"},"Karácsonyi Krisztián",":",{"$f":"M119","v":"Egymillió főre jutó balesetek kockázatelemzése megyénkénti felosztásban"},"  xx  ","https://miau.my-x.hu/miau/279/balesetek.docx",null,{"$f":"C119","v":"Egymillió főre jutó balesetek kockázatelemzése megyénkénti felosztásban"}]
[null,"(OE):","(Accidents in county level - risk analyses based on similarities)"]
["miau279","Molnár Vince Nándor","Oktatás, kultúra és bűncselekmények, álláskeresés konzisztens kapcsolatainak vizsgálata - Robot-pszichológus, robot-szociológus","(+)",null,{"$f":"A121","v":"miau279"},"Molnár Vince Nándor",":",{"$f":"M121","v":"Oktatás, kultúra és bűncselekmények, álláskeresés konzisztens kapcsolatainak vizsgálata - Robot-pszichológus, robot-szociológus"},"  xx  ","https://miau.my-x.hu/miau/279/jo_rossz_kolcsonhatasok.docx",null,{"$f":"C121","v":"Oktatás, kultúra és bűncselekmények, álláskeresés konzisztens kapcsolatainak vizsgálata - Robot-pszichológus, robot-szociológus"}]
[null,"(OE):","(Education, culture, crime, employment - Robot-psychologist, robot-sociologist - risk analysis)"]
["miau279","Szakács Péter Barnabás","API műveletek tiltása tűzfal modul esetén - kockázatelemzés","(+)",null,{"$f":"A123","v":"miau279"},"Szakács Péter Barnabás",":",{"$f":"M123","v":"API műveletek tiltása tűzfal modul esetén - kockázatelemzés"},"  xx  ","https://miau.my-x.hu/miau/279/tiltas.docx",null,{"$f":"C123","v":"API műveletek tiltása tűzfal modul esetén - kockázatelemzés"}]
[null,"(OE):","(Prohibited API-operation in case of firewalls - risk analysis)"]
["miau279","Kovács Péter Pál","Kémiai konzisztencia teszt rekonstruálása / Módosított Herington teszt rekonstrukciója adathalmazt jellemző értékekből - kockázatelemzés","(+)",null,{"$f":"A125","v":"miau279"},"Kovács Péter Pál",":",{"$f":"M125","v":"Kémiai konzisztencia teszt rekonstruálása / Módosított Herington teszt rekonstrukciója adathalmazt jellemző értékekből - kockázatelemzés"},"  xx  ","https://miau.my-x.hu/miau/279/kemia.docx",null,{"$f":"C125","v":"Kémiai konzisztencia teszt rekonstruálása / Módosított Herington teszt rekonstrukciója adathalmazt jellemző értékekből - kockázatelemzés"}]
[null,"(OE):","(Reconstruction of chemical consistency test / Reconstruction of modified Herington test from characteristic valu"]
["miau279","Varga-Dudás József","A processzorok zavaros világa letisztult robotszemmel – avagy a melyiket válasszam kérdés egyértelmű válasza","(+)",null,{"$f":"A127","v":"miau279"},"Varga-Dudás József",":",{"$f":"M127","v":"A processzorok zavaros világa letisztult robotszemmel – avagy a melyiket válasszam kérdés egyértelmű válasza"},"  xx  ","https://miau.my-x.hu/miau/279/proc.docx",null,{"$f":"C127","v":"A processzorok zavaros világa letisztult robotszemmel – avagy a melyiket válasszam kérdés egyértelmű válasza"}]
[null,"(KJE):","(CPU benchmarking based on similarity analyses)"]
["miau279","Csaba Dávid","A legkockázatosabb munkavállalók és az általuk elkövetett hibák feltárása / Cél: A leghatékonyabb egyedi termelés","(+)",null,{"$f":"A129","v":"miau279"},"Csaba Dávid",":",{"$f":"M129","v":"A legkockázatosabb munkavállalók és az általuk elkövetett hibák feltárása / Cél: A leghatékonyabb egyedi termelés"},"  xx  ","https://miau.my-x.hu/miau/279/gyartas.docx",null,{"$f":"C129","v":"A legkockázatosabb munkavállalók és az általuk elkövetett hibák feltárása / Cél: A leghatékonyabb egyedi termelés"}]
[null,"(KJE):","(Identifying the most risky workers and the mistakes they make / Objective: The most efficient individual production)"]
["miau279","Hajdú Vivien Julianna, Varró Liliána Éva","A magyar társadalom rétegeinek becsült átlagos társadalmi-gazdasági értékessége","(+)",null,{"$f":"A131","v":"miau279"},"Hajdú Vivien Julianna, Varró Liliána Éva",":",{"$f":"M131","v":"A magyar társadalom rétegeinek becsült átlagos társadalmi-gazdasági értékessége"},"  xx  ","https://miau.my-x.hu/miau/279/nok_vs_ferfiak.docx",null,{"$f":"C131","v":"A magyar társadalom rétegeinek becsült átlagos társadalmi-gazdasági értékessége"}]
[null,"(KJE):","(Social values of age groups and gender positions in Hungary)"]
["miau279","Nagy Richárd","MP4: Halálos kimenetelű közlekedési balesetek vizsgálata az Európai Unióban OAM alapján / Önsorsrontó-e a Magyar?","(+)",null,{"$f":"A133","v":"miau279"},"Nagy Richárd",":",{"$f":"M133","v":"MP4: Halálos kimenetelű közlekedési balesetek vizsgálata az Európai Unióban OAM alapján / Önsorsrontó-e a Magyar?"},"  xx  ","https://miau.my-x.hu/miau/279/onsorsrontas.mp4",null,{"$f":"C133","v":"MP4: Halálos kimenetelű közlekedési balesetek vizsgálata az Európai Unióban OAM alapján / Önsorsrontó-e a Magyar?"}]
[null,"(KJE):","(Investigation of fatal road accidents in the European Union based on OAM / Are we, Hungarians, the architects of our own destruction?)"]
["miau279","Nagy Richárd","Halálos kimenetelű közlekedési balesetek vizsgálata az Európai Unióban OAM alapján / Önsorsrontó-e a Magyar?","(+)",null,{"$f":"A135","v":"miau279"},"Nagy Richárd",":",{"$f":"M135","v":"Halálos kimenetelű közlekedési balesetek vizsgálata az Európai Unióban OAM alapján / Önsorsrontó-e a Magyar?"},"  xx  ","https://miau.my-x.hu/miau/279/onsorsrontas.docx",null,{"$f":"C135","v":"Halálos kimenetelű közlekedési balesetek vizsgálata az Európai Unióban OAM alapján / Önsorsrontó-e a Magyar?"}]
[null,"(KJE):","(Investigation of fatal road accidents in the European Union based on OAM / Are we, Hungarians, the architects of our own destruction?)"]
["miau279","Pitlik Marcell","PPT: Égések zaj alapú elemzése mesterséges intelligenciával","(+)",null,{"$f":"A137","v":"miau279"},"Pitlik Marcell",":",{"$f":"M137","v":"PPT: Égések zaj alapú elemzése mesterséges intelligenciával"},"  xx  ","https://miau.my-x.hu/miau/279/tdk_zaj/TDK_2021_EM_PM.pptx",null,{"$f":"C137","v":"PPT: Égések zaj alapú elemzése mesterséges intelligenciával"}]
[null,"(BME):","(Noise diagnostics and analysis of steady combustion based on artificial intelligence)"]
["miau279","Pitlik Marcell","Égések zaj alapú elemzése mesterséges intelligenciával","(+)",null,{"$f":"A139","v":"miau279"},"Pitlik Marcell",":",{"$f":"M139","v":"Égések zaj alapú elemzése mesterséges intelligenciával"},"  xx  ","https://miau.my-x.hu/miau/279/tdk_zaj/TDK_PM_zaj_final.pdf",null,{"$f":"C139","v":"Égések zaj alapú elemzése mesterséges intelligenciával"}]
[null,"(BME):","(Noise diagnostics and analysis of steady combustion based on artificial intelligence)"]
["miau280","Pitlik László","JOKER - minimal version - step1-2-3","(+)",null,{"$f":"A141","v":"miau280"},"Pitlik László",":",{"$f":"M141","v":"JOKER - minimal version - step1-2-3"},"  xx  ","https://miau.my-x.hu/miau/280/joker_min_2.xlsx",null,{"$f":"C141","v":"JOKER - minimal version - step1-2-3"}]
[null,"(MY-X team):"]
["miau280","Pitlik László, Pitlik Marcell, Pitlik László (jun)","Csapágy-kopás becslése konzisztencia-alapú modellezéssel","(+)",null,{"$f":"A143","v":"miau280"},"Pitlik László, Pitlik Marcell, Pitlik László (jun)",":",{"$f":"M143","v":"Csapágy-kopás becslése konzisztencia-alapú modellezéssel"},"  xx  ","https://miau.my-x.hu/miau/280/bearing_wear_v1.docx",null,{"$f":"C143","v":"Csapágy-kopás becslése konzisztencia-alapú modellezéssel"}]
[null,"(MY-X team):","(Estimation of bearing wear based on consistence-oriented modelling)"]
["miau280","Pitlik László","Regresszió-alapú és lépcsős függvény-alapú anti-diszkriminatív modellek","(+)",null,{"$f":"A145","v":"miau280"},"Pitlik László",":",{"$f":"M145","v":"Anti-discriminative models - based on regressions and staircase functions"},"  xx  ","https://miau.my-x.hu/miau/280/y0_regressions.xlsx",null,"Anti-discriminative models - based on regressions and staircase functions"]
[null,"(My-X team):","(Anti-discriminative models - based on regressions and staircase functions)"]
["miau280","Pitlik László, Pitlik László (jun)","Párhuzamos valószínűségek aggregálása hasonlóságelemzéssel","(+)",null,{"$f":"A147","v":"miau280"},"Pitlik László, Pitlik László (jun)",":",{"$f":"M147","v":"Aggregation of parallel probabilities based on similarity analyses"},"  xx  ","https://miau.my-x.hu/miau/280/classification_finetuning.xlsx",null,"Aggregation of parallel probabilities based on similarity analyses"]
[null,"(My-X team):","(Aggregation of parallel probabilities based on similarity analyses)"]
["miau280","Pitlik László","Komplex mintázatok felismerése hasonlóságelemzéssel","(+)",null,{"$f":"A149","v":"miau280"},"Pitlik László",":",{"$f":"M149","v":"Komplex mintázatok felismerése hasonlóságelemzéssel"},"  xx  ","https://miau.my-x.hu/miau/280/tenyosszeg_becslesosszeg_elteresei.xlsx",null,{"$f":"C149","v":"Komplex mintázatok felismerése hasonlóságelemzéssel"}]
[null,"(My-X team):","(Exploring the existence of complex patterns based on similarity analysis)"]
["miau280","Barta Gergő","Mesterséges intelligencia módszerek alkalmazása az informatikai rendszerek biztonsági auditjában","(+)",null,{"$f":"A151","v":"miau280"},"Barta Gergő",":",{"$f":"M151","v":"Mesterséges intelligencia módszerek alkalmazása az informatikai rendszerek biztonsági auditjában"},"  xx  ","https://miau.my-x.hu/miau2009/index.php3?x=e159",null,{"$f":"C151","v":"Mesterséges intelligencia módszerek alkalmazása az informatikai rendszerek biztonsági auditjában"}]
[null,"(MATE GSZDI):","(Application of artificial intelligence methods in the security audit of IT systems)"]

{"sheet":"nyers (5)","index":5,"n_rows":152,"n_cols":13,"rows_kept":152,"cut":false,"hidden":false,"merged":[[142,3,143,3],[144,3,145,3],[146,3,147,3],[148,3,149,3],[150,3,151,3],[132,3,133,3],[134,3,135,3],[136,3,137,3],[138,3,139,3],[140,2,141,2],[140,3,141,3],[130,3,131,3],[108,3,109,3],[110,3,111,3],[112,3,113,3],[114,3,115,3],[116,3,117,3],[118,3,119,3],[120,3,121,3],[122,3,123,3],[124,3,125,3],[126,3,127,3],[128,3,129,3],[106,3,107,3],[86,2,87,2],[86,3,87,3],[88,3,89,3],[90,3,91,3],[92,3,93,3],[94,3,95,3],[96,3,97,3],[98,3,99,3],[100,3,101,3],[102,3,103,3],[104,3,105,3],[84,3,85,3],[66,3,67,3],[68,3,69,3],[70,3,71,3],[72,2,73,2],[72,3,73,3],[74,2,75,2],[74,3,75,3],[76,3,77,3],[78,3,79,3],[80,2,81,2],[80,3,81,3],[82,3,83,3],[56,2,57,2],[56,3,57,3],[58,3,59,3],[60,3,61,3],[62,3,63,3],[64,3,65,3],[46,3,47,3],[48,3,49,3],[50,3,51,3],[52,3,53,3],[54,2,55,2],[54,3,55,3],[36,2,37,2],[36,3,37,3],[38,3,39,3],[40,3,41,3],[42,3,43,3],[44,3,45,3],[34,3,35,3],[12,3,13,3],[14,3,15,3],[16,3,17,3],[18,3,19,3],[20,3,21,3],[22,3,23,3],[24,3,25,3],[26,3,27,3],[28,3,29,3],[30,3,31,3],[32,3,33,3],[10,3,11,3],[0,3,1,3],[2,3,3,3],[4,3,5,3],[6,3,7,3],[8,3,9,3]]}
["miau275","Pitlik László","COCO-MCM lépcsőszám optimalizálási kísérletek","(+)",null,{"$f":"A1","v":"miau275"},{"$f":"B1","v":"Pitlik László"},":",{"$f":"M1","v":"COCO-MCM lépcsőszám optimalizálási kísérletek"},"  xx  ","https://miau.my-x.hu/miau/275/coco_mcm_opt_perx.xlsx",null,{"$f":"C1","v":"COCO-MCM lépcsőszám optimalizálási kísérletek"}]
[null,"(MY-X team):","(Optimization attempts for COCO-MCM- stair-counts)"]
["miau275","Pitlik László","Nyelvi rekeszelés, avagy hogyan érzékeltessük írásban a hangsúlyozást avatárok számára","(+)",null,{"$f":"A3","v":"miau275"},"Pitlik László",":",{"$f":"M3","v":"Nyelvi rekeszelés, avagy hogyan érzékeltessük írásban a hangsúlyozást avatárok számára"},"  xx  ","https://miau.my-x.hu/miau/275/nyelvi_rekeszeles.docx",null,{"$f":"C3","v":"Nyelvi rekeszelés, avagy hogyan érzékeltessük írásban a hangsúlyozást avatárok számára"}]
[null,"(MY-X team):","(The role of the structuring in the interpretation of languages/sentences or how it is possible to initialize verbal effects in written form)"]
["miau275","Pitlik László","Legalább egyszer előforduló értékek darabszámának megszámlálása Excel-függvényekre alapozva","(+)",null,{"$f":"A5","v":"miau275"},"Pitlik László",":",{"$f":"M5","v":"Counting of distinct values based on Excel-functions"},"  xx  ","https://miau.my-x.hu/miau/275/occamsrazor_special.xlsx",null,"Counting of distinct values based on Excel-functions"]
[null,"(MY-X team):","(Counting of distinct values based on Excel-functions)"]
["miau275","Pitlik Marcell","Félvezetők gyártási hibájának automatizált felismerése tömeges szenzor-adatok alapján","(+)",null,{"$f":"A7","v":"miau275"},"Pitlik Marcell",":",{"$f":"M7","v":"Félvezetők gyártási hibájának automatizált felismerése tömeges szenzor-adatok alapján"},"  xx  ","https://miau.my-x.hu/miau/275/semiconductors_SECOM_PM.docx",null,{"$f":"C7","v":"Félvezetők gyártási hibájának automatizált felismerése tömeges szenzor-adatok alapján"}]
[null,"(MY-X team):","(Automated error-detection in the production of semiconductors based on big data from sensor-information)"]
["miau275","Pitlik Marcell","Félvezetők gyártási hibájának felismerése lépcsős függvényekkel a SECOM adatbázis alapján","(+)",null,{"$f":"A9","v":"miau275"},"Pitlik Marcell",":",{"$f":"M9","v":"Félvezetők gyártási hibájának felismerése lépcsős függvényekkel a SECOM adatbázis alapján"},"  xx  ","https://miau.my-x.hu/miau/275/secom_pm_2.pptx",null,{"$f":"C9","v":"Félvezetők gyártási hibájának felismerése lépcsős függvényekkel a SECOM adatbázis alapján"}]
[null,"(MY-X team):","(Derivation of production errors in case of semiconductors based on the SECOM-database)"]
["miau275","Pitlik László, Barta Gergő","Anti-diszkriminatív modellezés közelítése solver-alapú neurális hálókkal","(+)",null,{"$f":"A11","v":"miau275"},"Pitlik László, Barta Gergő",":",{"$f":"M11","v":"Anti-diszkriminatív modellezés közelítése solver-alapú neurális hálókkal"},"  xx  ","https://miau.my-x.hu/miau/275/solver-based-neural-networks.docx",null,{"$f":"C11","v":"Anti-diszkriminatív modellezés közelítése solver-alapú neurális hálókkal"}]
[null,"(MY-X team):","(Approximation of anti-discriminative models based on solver-based neural networks)"]
["miau275","Pitlik László, Pitlik Marcell","A lépcsős függvények szimmetria-alapú validitása és a nyersadatok kapcsolata","(+)",null,{"$f":"A13","v":"miau275"},"Pitlik László, Pitlik Marcell",":",{"$f":"M13","v":"A lépcsős függvények szimmetria-alapú validitása és a nyersadatok kapcsolata"},"  xx  ","https://miau.my-x.hu/miau/275/validity.docx",null,{"$f":"C13","v":"A lépcsős függvények szimmetria-alapú validitása és a nyersadatok kapcsolata"}]
[null,"(MY-X team):","(Connection between the raw data and the validity based on symmetry in case of staircase functions)"]
["miau275","Pitlik László","MP3: Automatizáció a kis és kkv-szektorban","(+)",null,{"$f":"A15","v":"miau275"},"Pitlik László",":",{"$f":"M15","v":"MP3: Automatizáció a kis és kkv-szektorban"},"  xx  ","https://miau.my-x.hu/miau/275/3of3.mp3",null,{"$f":"C15","v":"MP3: Automatizáció a kis és kkv-szektorban"}]
[null,"(KJE):","(Automation concerning SMEs)"]
["miau276","Pitlik László (jun)","Tanári záróvizsga - Szakdolgozatvédés - Tudásszintmérő tesztek","(+)",null,{"$f":"A17","v":"miau276"},"Pitlik László (jun)",":",{"$f":"M17","v":"Tanári záróvizsga - Szakdolgozatvédés - Tudásszintmérő tesztek"},"  xx  ","https://miau.my-x.hu/matkut/eredmenyek/szd_vedes-PitlikL.pptx",null,{"$f":"C17","v":"Tanári záróvizsga - Szakdolgozatvédés - Tudásszintmérő tesztek"}]
[null,"(ELTE):","(Final exam (thesis): Tests for deriving knowledge levels)"]
["miau276","Varga Dorottya","Ár-kockázat értékelés - VÉRNYOMÁSCSÖKKENTŐK","(+)",null,{"$f":"A19","v":"miau276"},"Varga Dorottya",":",{"$f":"M19","v":"Ár-kockázat értékelés - VÉRNYOMÁSCSÖKKENTŐK"},"  xx  ","https://miau.my-x.hu/miau/276/oe/ACE_gatlok/ACE-gatlok.pdf",null,{"$f":"C19","v":"Ár-kockázat értékelés - VÉRNYOMÁSCSÖKKENTŐK"}]
[null,"(OE):","(Price-risk assessment - ANTIHYPERTENSIVES)"]
["miau276","Kis András Nándor","Döntési esetjáték – optimalizált kezelése avagy kuratóriumi döntések robotizálási kísérletei","(+)",null,{"$f":"A21","v":"miau276"},"Kis András Nándor",":",{"$f":"M21","v":"Döntési esetjáték – optimalizált kezelése avagy kuratóriumi döntések robotizálási kísérletei"},"  xx  ","https://miau.my-x.hu/miau/276/oe/kuratorium/ux63p9_doku_final.pdf",null,{"$f":"C21","v":"Döntési esetjáték – optimalizált kezelése avagy kuratóriumi döntések robotizálási kísérletei"}]
[null,"(OE):","(Decision case study – with optimization or attempts to robotize board decisions)"]
["miau276","Dlehány Noémi","Milyen mobilt vegyek 2021-ben?","(+)",null,{"$f":"A23","v":"miau276"},"Dlehány Noémi",":",{"$f":"M23","v":"Milyen mobilt vegyek 2021-ben?"},"  xx  ","https://miau.my-x.hu/miau/276/oe/smartphones/smartphones.pdf",null,{"$f":"C23","v":"Milyen mobilt vegyek 2021-ben?"}]
[null,"(OE):","((What cell phone should I buy in 2021?)"]
["miau276","Mácz Andrea, Pitlik Marcell, Nyomárkay Kristóf, Németh Tamás","PPT: Autós forgalom számlálása","(+)",null,{"$f":"A25","v":"miau276"},"Mácz Andrea, Pitlik Marcell, Nyomárkay Kristóf, Németh Tamás",":",{"$f":"M25","v":"PPT: Autós forgalom számlálása"},"  xx  ","https://miau.my-x.hu/miau/276/forgalomszamlalas/GL_projekt_vegleges.pptx",null,{"$f":"C25","v":"PPT: Autós forgalom számlálása"}]
[null,"(BME):","(Counting of cars in real traffic situations)"]
["miau276","Mácz Andrea, Pitlik Marcell, Nyomárkay Kristóf, Németh Tamás","Autós forgalom számlálása","(+)",null,{"$f":"A27","v":"miau276"},"Mácz Andrea, Pitlik Marcell, Nyomárkay Kristóf, Németh Tamás",":",{"$f":"M27","v":"Autós forgalom számlálása"},"  xx  ","https://miau.my-x.hu/miau/276/forgalomszamlalas/GL_projekt_NT_NYK_MA_PM.pdf",null,{"$f":"C27","v":"Autós forgalom számlálása"}]
[null,"(BME):","(Counting of cars in real traffic situations)"]
["miau276","Ujlaki Richárd","Hol éri meg legjobban egy VIR-fejlesztői központot létrehozni Európában és miért?","(+)",null,{"$f":"A29","v":"miau276"},"Ujlaki Richárd",":",{"$f":"M29","v":"Hol éri meg legjobban egy VIR-fejlesztői központot létrehozni Európában és miért?"},"  xx  ","https://miau.my-x.hu/miau/276/kje/vir/vir.docx",null,{"$f":"C29","v":"Hol éri meg legjobban egy VIR-fejlesztői központot létrehozni Európában és miért?"}]
[null,"(KJE):","(Where can we build up the best price per value VIR development centre in Europe and why there?)"]
["miau276","Györgydeák Balázs Péter","Szakdolgozat: A szoftverfejlesztés gazdaságtana","(+)",null,{"$f":"A31","v":"miau276"},"Györgydeák Balázs Péter",":",{"$f":"M31","v":"Szakdolgozat: A szoftverfejlesztés gazdaságtana"},"  xx  ","https://miau.my-x.hu/miau/276/kje/szd1/a_szoftverfejlesztees_gazdasagtana.pdf",null,{"$f":"C31","v":"Szakdolgozat: A szoftverfejlesztés gazdaságtana"}]
[null,"(KJE):","(Information added value in the software engineering)"]
["miau276","Bagdi Dóra, Dúcs Attila, Martonosi Edit","Reprodukálási rejtvény: Hogyan lehet a klasszikus kérdőív értelmezéstől eljutni a modern adatelemzésig","(+)",null,{"$f":"A33","v":"miau276"},"Bagdi Dóra, Dúcs Attila, Martonosi Edit",":",{"$f":"M33","v":"Reprodukálási rejtvény: Hogyan lehet a klasszikus kérdőív értelmezéstől eljutni a modern adatelemzésig"},"  xx  ","https://miau.my-x.hu/miau/276/kje/questionnaires/Alkalmazott informatika (k%e9sz).docx",null,{"$f":"C33","v":"Reprodukálási rejtvény: Hogyan lehet a klasszikus kérdőív értelmezéstől eljutni a modern adatelemzésig"}]
[null,"(KJE):","(Challenge of reproduction concerning classic and modern interpretation of questionnaires)"]
["miau276","Pétery Zoltán","Utasbiztosítási szokások feltérképezése kimutatások és elemző modulok segítségével a kiegészítő fedezetek tekintetében","(+)",null,{"$f":"A35","v":"miau276"},"Pétery Zoltán",":",{"$f":"M35","v":"Utasbiztosítási szokások feltérképezése kimutatások és elemző modulok segítségével a kiegészítő fedezetek tekintetében"},"  xx  ","https://miau.my-x.hu/miau/276/kje/mcm/pz.pdf",null,{"$f":"C35","v":"Utasbiztosítási szokások feltérképezése kimutatások és elemző modulok segítségével a kiegészítő fedezetek tekintetében"}]
[null,"(KJE):","(Pattern exploration in case of extra modules of the travel insurances based on reports and AI-models)"]
["miau276","Csizmadia Szilvia","WHICH EUROPEAN COUNTRY IS THE BEST TO LIVE IN? / WO LEBT SICH AM BESTEN IN EUROPA?","(+)",null,{"$f":"A37","v":"miau276"},"Csizmadia Szilvia",":",{"$f":"M37","v":"WHICH EUROPEAN COUNTRY IS THE BEST TO LIVE IN? / WO LEBT SICH AM BESTEN IN EUROPA?"},"  xx  ","https://miau.my-x.hu/miau/276/kje/eu/Szilvia Csizmadia KJO0IX Ranking EU.pdf",null,{"$f":"C37","v":"WHICH EUROPEAN COUNTRY IS THE BEST TO LIVE IN? / WO LEBT SICH AM BESTEN IN EUROPA?"}]
[null,"(KJE):"]
["miau276","Pitlik Marcell","Égések mesterséges intelligencia-alapú elemzése","(+)",null,{"$f":"A39","v":"miau276"},"Pitlik Marcell",":",{"$f":"M39","v":"Égések mesterséges intelligencia-alapú elemzése"},"  xx  ","https://miau.my-x.hu/miau/276/ARM_HF_PM.pptx",null,{"$f":"C39","v":"Égések mesterséges intelligencia-alapú elemzése"}]
[null,"(MY-X team):","(AI-based analyses of the combustion)"]
["miau276","Pitlik László, Pitlik Dóra","A leggyakrabban használt Google felhőszolgáltatások bemutatása és azok gyakorlati alkalmazhatóságának megismertetése","(+)",null,{"$f":"A41","v":"miau276"},"Pitlik László, Pitlik Dóra",":",{"$f":"M41","v":"A leggyakrabban használt Google felhőszolgáltatások bemutatása és azok gyakorlati alkalmazhatóságának megismertetése"},"  xx  ","https://miau.my-x.hu/miau/276/google_services.docx",null,{"$f":"C41","v":"A leggyakrabban használt Google felhőszolgáltatások bemutatása és azok gyakorlati alkalmazhatóságának megismertetése"}]
[null,"(MY-X team):","(Most frequently used Google Services and their utilities in information brokering)"]
["miau276","Pitlik László, Pitlik Mátyás","Részletek egy kísérleti HPC-projekt kommunikációjából","(+)",null,{"$f":"A43","v":"miau276"},"Pitlik László, Pitlik Mátyás",":",{"$f":"M43","v":"Részletek egy kísérleti HPC-projekt kommunikációjából"},"  xx  ","https://miau.my-x.hu/miau/276/hpc_spec.docx",null,{"$f":"C43","v":"Részletek egy kísérleti HPC-projekt kommunikációjából"}]
[null,"(MY-X team):","(Details from communication activities in frame of an experimental HPC-project)"]
["miau276","Pitlik László (jun)","Tudásszintmérő tesztek: a feladattípusok és a tanulói válaszadási stratégiák vizsgálata (szakdolgozat)","(+)",null,{"$f":"A45","v":"miau276"},"Pitlik László (jun)",":",{"$f":"M45","v":"Tudásszintmérő tesztek: a feladattípusok és a tanulói válaszadási stratégiák vizsgálata (szakdolgozat)"},"  xx  ","https://miau.my-x.hu/matkut/eredmenyek/szakdolgozat-pL-sign.pdf",null,{"$f":"C45","v":"Tudásszintmérő tesztek: a feladattípusok és a tanulói válaszadási stratégiák vizsgálata (szakdolgozat)"}]
[null,"(ELTE):","(Thesis: Analyses of types of tasks and answer-strategies of Students in frame of tests constructed for exploration of knowledge levels)"]
["miau276","Pitlik László (jun)","Egyedi kérdőívezési keretrendszer éles verziója PHP-alapon","(+)",null,{"$f":"A47","v":"miau276"},"Pitlik László (jun)",":",{"$f":"M47","v":"Egyedi kérdőívezési keretrendszer éles verziója PHP-alapon"},"  xx  ","https://miau.my-x.hu/matkut/",null,{"$f":"C47","v":"Egyedi kérdőívezési keretrendszer éles verziója PHP-alapon"}]
[null,"(ELTE):","(Unique system for questionnaires based on PHP with real questions and controls)"]
["miau277","Pitlik László, Rikk János","Publikációk anonim, párhuzamos bírálatainak anomáliái","(+)",null,{"$f":"A49","v":"miau277"},"Pitlik László, Rikk János",":",{"$f":"M49","v":"Publikációk anonim, párhuzamos bírálatainak anomáliái"},"  xx  ","https://miau.my-x.hu/miau/275/review_anomalies.docx",null,{"$f":"C49","v":"Publikációk anonim, párhuzamos bírálatainak anomáliái"}]
[null,"(MY-X team):","(Anomalies of anonymous, parallel evaluations of publications)"]
["miau277","Pitlik László","Solver-alapú problémamegoldás, avagy ami a matematikai oktatásból kimaradt","(+)",null,{"$f":"A51","v":"miau277"},"Pitlik László",":",{"$f":"M51","v":"Solver-alapú problémamegoldás, avagy ami a matematikai oktatásból kimaradt"},"  xx  ","https://miau.my-x.hu/miau/277/KE2021_KJE.pptx",null,{"$f":"C51","v":"Solver-alapú problémamegoldás, avagy ami a matematikai oktatásból kimaradt"}]
[null,"(MY-X team):","(Solver-based problem solving or what might be missing in the education of the mathematics)"]
["miau277","Pitlik László","Solver-es kompetenciamérésre alkalmas alapfeladat","(+)",null,{"$f":"A53","v":"miau277"},"Pitlik László",":",{"$f":"M53","v":"Solver-es kompetenciamérésre alkalmas alapfeladat"},"  xx  ","https://miau.my-x.hu/miau/277/solver_kompetenciameres_8_10_2020.xlsx",null,{"$f":"C53","v":"Solver-es kompetenciamérésre alkalmas alapfeladat"}]
[null,"(MY-X team):","(Basic task for competence evaluation concerning Solver-oriented problem solving)"]
["miau277","Pitlik László, Pitlik Marcell","Mirror-ball-based seeing in multi-layered evaluation I.","(+)",null,{"$f":"A55","v":"miau277"},"Pitlik László, Pitlik Marcell",":",{"$f":"M55","v":"Mirror-ball-based seeing in multi-layered evaluation I."},"  xx  ","https://miau.my-x.hu/miau/277/mirror_ball_based_multi_layered_evaluation.docx",null,{"$f":"C55","v":"Mirror-ball-based seeing in multi-layered evaluation I."}]
[null,"(MY-X team):"]
["miau277","Pitlik László, Pitlik László (jun)","Multi-layered, objective, optimized evaluation of strategies over static code analysis tools","(+)",null,{"$f":"A57","v":"miau277"},"Pitlik László, Pitlik László (jun)",":",{"$f":"M57","v":"Multi-layered, objective, optimized evaluation of strategies over static code analysis tools"},"  xx  ","https://miau.my-x.hu/miau/277/multi_layered_evaluation_of_static_code_analysis_tools.docx",null,{"$f":"C57","v":"Multi-layered, objective, optimized evaluation of strategies over static code analysis tools"}]
[null,"(MY-X team):"]
["miau277","Pitlik László","Kihívás/felhívás: hogyan lehetséges az anti-diszkriminatív modellezés neurális hálókra alapozva?","(+)",null,{"$f":"A59","v":"miau277"},"Pitlik László",":",{"$f":"M59","v":"Kihívás/felhívás: hogyan lehetséges az anti-diszkriminatív modellezés neurális hálókra alapozva?"},"  xx  ","https://miau.my-x.hu/miau/277/ann_anti-discriminative-potential_v1.xlsx",null,{"$f":"C59","v":"Kihívás/felhívás: hogyan lehetséges az anti-diszkriminatív modellezés neurális hálókra alapozva?"}]
[null,"(MY-X team):","(How to model the anti-discriminative approach with artificial neural networks?)"]
["miau277","Anonim Hallgatók, Pitlik László","Blokklánc-tananyag (autodidakta) fejlesztése (avagy kulcsszavak és ezek fa-jellegű, ill. hipertextes kapcsolatai)","(+)",null,{"$f":"A61","v":"miau277"},"Anonim Hallgatók, Pitlik László",":",{"$f":"M61","v":"Blokklánc-tananyag (autodidakta) fejlesztése (avagy kulcsszavak és ezek fa-jellegű, ill. hipertextes kapcsolatai)"},"  xx  ","https://miau.my-x.hu/miau/277/blokklanc_tananyagfejlesztes_v1.docx",null,{"$f":"C61","v":"Blokklánc-tananyag (autodidakta) fejlesztése (avagy kulcsszavak és ezek fa-jellegű, ill. hipertextes kapcsolatai)"}]
[null,"(ÓE):","(Blockchain learning materials – based on tasks solved by Students)"]
["miau277","Mácz Andrea, Nyomárkay Kristóf, Svastits Áron, Szabó Gábor Péter, Németh Tamás, Pitlik Marcell","Történeti áttekintés a kőolajról","(+)",null,{"$f":"A63","v":"miau277"},"Mácz Andrea, Nyomárkay Kristóf, Svastits Áron, Szabó Gábor Péter, Németh Tamás, Pitlik Marcell",":",{"$f":"M63","v":"Történeti áttekintés a kőolajról"},"  xx  ","https://miau.my-x.hu/miau/277/NXEG_MA_NT_SA_SZG_NYK_PM.pdf",null,{"$f":"C63","v":"Történeti áttekintés a kőolajról"}]
[null,"(BME):","(Historical overview of crude oil)"]
["miau277","Pitlik Marcell","Térfogati égés optikai vizsgálata és mesterséges intelligencia alapú elemzése","(+)",null,{"$f":"A65","v":"miau277"},"Pitlik Marcell",":",{"$f":"M65","v":"Térfogati égés optikai vizsgálata és mesterséges intelligencia alapú elemzése"},"  xx  ","https://miau.my-x.hu/miau/277/szakdoga_PM_final.pdf",null,{"$f":"C65","v":"Térfogati égés optikai vizsgálata és mesterséges intelligencia alapú elemzése"}]
[null,"(BME):","(Optical diagnostics and analysis of steady combustion based on artificial intelligence)"]
["miau277","Krenner Bálint","Melyik az a 4jegyű szám, ...? ","(+)",null,{"$f":"A67","v":"miau277"},"Krenner Bálint",":",{"$f":"M67","v":"Melyik az a 4jegyű szám, ...? "},"  xx  ","https://miau.my-x.hu/miau/277/solver_helyett",null,{"$f":"C67","v":"Melyik az a 4jegyű szám, ...? "}]
[null,"(ÓE):","(What is the right number, if... ?)"]
["miau277","Pitlik László","Az IT-fejlődés és a fenntarthatóság kapcsolata","(+)",null,{"$f":"A69","v":"miau277"},"Pitlik László",":",{"$f":"M69","v":"Az IT-fejlődés és a fenntarthatóság kapcsolata"},"  xx  ","https://miau.my-x.hu/miau/277/IT_sustainability.pptx",null,{"$f":"C69","v":"Az IT-fejlődés és a fenntarthatóság kapcsolata"}]
[null,"(KJE):","(IT-based development and the term of sustainability)"]
["miau277","Pitlik László","Szövegelemzés (avagy az önkényes semmit mondás tételes leleplezése)","(+)",null,{"$f":"A71","v":"miau277"},"Pitlik László",":",{"$f":"M71","v":"Szövegelemzés (avagy az önkényes semmit mondás tételes leleplezése)"},"  xx  ","https://miau.my-x.hu/miau/277/kje_fenntarthatosag_IT_szemmel.docx",null,{"$f":"C71","v":"Szövegelemzés (avagy az önkényes semmit mondás tételes leleplezése)"}]
[null,"(KJE):","(Data-driven text-analysis or the examples for the arbitrary magic of words)"]
["miau278","Pitlik László","A new approach instead of the Proof of Work (PoW) in case of blockchains","(+)",null,{"$f":"A73","v":"miau278"},"Pitlik László",":",{"$f":"M73","v":"A new approach instead of the Proof of Work (PoW) in case of blockchains"},"  xx  ","https://miau.my-x.hu/miau/278/instead_of_PoW.xlsx",null,{"$f":"C73","v":"A new approach instead of the Proof of Work (PoW) in case of blockchains"}]
[null,"(MY-X):"]
["miau278","Pitlik László, Pitlik László (jun)","Corresemblance – core-resemblance, or deriving of the non-existence of information added-values","(+)",null,{"$f":"A75","v":"miau278"},"Pitlik László, Pitlik László (jun)",":",{"$f":"M75","v":"Corresemblance – core-resemblance, or deriving of the non-existence of information added-values"},"  xx  ","https://miau.my-x.hu/miau/278/Corresemblance.docx",null,{"$f":"C75","v":"Corresemblance – core-resemblance, or deriving of the non-existence of information added-values"}]
[null,"(MY-X):"]
["miau278","Nagy Richárd, Pitlik László","IT-biztonsági ismeretek számonkérésének variánsai, stratégiái és szintjei","(+)",null,{"$f":"A77","v":"miau278"},"Nagy Richárd, Pitlik László",":",{"$f":"M77","v":"IT-biztonsági ismeretek számonkérésének variánsai, stratégiái és szintjei"},"  xx  ","https://miau.my-x.hu/mediawiki/index.php/ITB",null,{"$f":"C77","v":"IT-biztonsági ismeretek számonkérésének variánsai, stratégiái és szintjei"}]
[null,"(KJE):","(Test versions for IT-security - Strategies, types and levels)"]
["miau278","Pitlik László, Pitlik Marcell","Solver-alapú fuzzy modellek vs. hasonlóságelemzés-variánsok versenye","(+)",null,{"$f":"A79","v":"miau278"},"Pitlik László, Pitlik Marcell",":",{"$f":"M79","v":"Solver-alapú fuzzy modellek vs. hasonlóságelemzés-variánsok versenye"},"  xx  ","https://miau.my-x.hu/miau/275/fuzzy_2x_6trapez_4pont_bc_no_azonossag_ifthen_eset10_new.xlsx",null,{"$f":"C79","v":"Solver-alapú fuzzy modellek vs. hasonlóságelemzés-variánsok versenye"}]
[null,"(MY-X team):","(Fuzzy logic (solver-based) vs. similarity analyses - The competition)"]
["miau278","Pitlik László","SUM() derived through PRODUCT()","(+)",null,{"$f":"A81","v":"miau278"},"Pitlik László",":",{"$f":"M81","v":"SUM() derived through PRODUCT()"},"  xx  ","https://miau.my-x.hu/miau/278/szorzas_alapjan_modellezett_osszeadas.xlsx",null,{"$f":"C81","v":"SUM() derived through PRODUCT()"}]
[null,"(MY-X team):"]
["miau278","Pitlik László","Dinamikus versenyelemzés Google Trends-adatok alapján","(+)",null,{"$f":"A83","v":"miau278"},"Pitlik László",":",{"$f":"M83","v":"Dinamikus versenyelemzés Google Trends-adatok alapján"},"  xx  ","https://miau.my-x.hu/miau/278/docler_v1.xlsx",null,{"$f":"C83","v":"Dinamikus versenyelemzés Google Trends-adatok alapján"}]
[null,"(MY-X team):","(Dynamic analysis of competitive situations based on Google Trends)"]
["miau278","Pitlik László","Alul- és túlteljesítés matematikai letapogatása többkörös szavazás első körös eredményei alapján a második kört illetően","(+)",null,{"$f":"A85","v":"miau278"},"Pitlik László",":",{"$f":"M85","v":"Alul- és túlteljesítés matematikai letapogatása többkörös szavazás első körös eredményei alapján a második kört illetően"},"  xx  ","https://miau.my-x.hu/miau/278/valasztasok2.xlsx",null,{"$f":"C85","v":"Alul- és túlteljesítés matematikai letapogatása többkörös szavazás első körös eredményei alapján a második kört illetően"}]
[null,"(MY-X team):","(Evaluation of second-layer-results based on first-layer-result in case of multilayered elections)"]
["miau278","Barta Gergő","An artificial intelligence based approach to detect internal control deficiencies","(+)",null,{"$f":"A87","v":"miau278"},"Barta Gergő",":",{"$f":"M87","v":"An artificial intelligence based approach to detect internal control deficiencies"},"  xx  ","https://miau.my-x.hu/miau/278/bartagergo.mp4",null,{"$f":"C87","v":"An artificial intelligence based approach to detect internal control deficiencies"}]
[null,"(Deloitte):"]
["miau279","Nagy Balázs","A virágméz árának változása az elmúlt két évben (avagy lehet-e két boltlánc ár-képzése egyformán kedvező?)","(+)",null,{"$f":"A89","v":"miau279"},"Nagy Balázs",":",{"$f":"M89","v":"A virágméz árának változása az elmúlt két évben (avagy lehet-e két boltlánc ár-képzése egyformán kedvező?)"},"  xx  ","https://miau.my-x.hu/miau/279/mez.docx",null,{"$f":"C89","v":"A virágméz árának változása az elmúlt két évben (avagy lehet-e két boltlánc ár-képzése egyformán kedvező?)"}]
[null,"(KJE):","(Analysis of honey prices on the last two years - or can two different supermarket chains be the best in pricing at the same time?)"]
["miau279","Nyeste Kristóf","COVID adatvagyon minőségbiztosításának anomáliái","(+)",null,{"$f":"A91","v":"miau279"},"Nyeste Kristóf",":",{"$f":"M91","v":"COVID adatvagyon minőségbiztosításának anomáliái"},"  xx  ","https://miau.my-x.hu/miau/279/covid_data_asset_anomalies.docx",null,{"$f":"C91","v":"COVID adatvagyon minőségbiztosításának anomáliái"}]
[null,"(OE):","(Anomalies in the data asset management about COVID-statistics)"]
["miau279","Farkas Ádám","Vajon meghatározható-e, melyik a legjobb programozási nyelv?","(+)",null,{"$f":"A93","v":"miau279"},"Farkas Ádám",":",{"$f":"M93","v":"Vajon meghatározható-e, melyik a legjobb programozási nyelv?"},"  xx  ","https://miau.my-x.hu/miau/279/programnyelvek.docx",null,{"$f":"C93","v":"Vajon meghatározható-e, melyik a legjobb programozási nyelv?"}]
[null,"(KJE):","(Whether can be determined the best programming language?)"]
["miau279","Gulyás Oldal Laura, Pitlik László","Személyek korkülönbségének becslése kézgeometriai jellemzők alapján","(+)",null,{"$f":"A95","v":"miau279"},"Gulyás Oldal Laura, Pitlik László",":",{"$f":"M95","v":"Személyek korkülönbségének becslése kézgeometriai jellemzők alapján"},"  xx  ","https://miau.my-x.hu/miau/279/keztenyerkor.docx",null,{"$f":"C95","v":"Személyek korkülönbségének becslése kézgeometriai jellemzők alapján"}]
[null,"(OE):","(Age estimation based on palm/hand-geometry)"]
["miau279","Kamenár Dávid","A COVID-19 vírus elleni védekezés sikeressége az Európai Unió tagállamaiban a 4. hullám idején","(+)",null,{"$f":"A97","v":"miau279"},"Kamenár Dávid",":",{"$f":"M97","v":"A COVID-19 vírus elleni védekezés sikeressége az Európai Unió tagállamaiban a 4. hullám idején"},"  xx  ","https://miau.my-x.hu/miau/279/covid.docx",null,{"$f":"C97","v":"A COVID-19 vírus elleni védekezés sikeressége az Európai Unió tagállamaiban a 4. hullám idején"}]
[null,"(OE):","(Success of protection against the COVID-19 virus in the member states of the European Union during the 4th wave"]
["miau279","Szepesi Judit Zsuzsa","Hatékonyságnövelés a bérszámfejtés kapcsán - Munkaidő adatokból importálható állományok előállítása makro segítségével","(+)",null,{"$f":"A99","v":"miau279"},"Szepesi Judit Zsuzsa",":",{"$f":"M99","v":"Hatékonyságnövelés a bérszámfejtés kapcsán - Munkaidő adatokból importálható állományok előállítása makro segítségével"},"  xx  ","https://miau.my-x.hu/miau/279/macro.docx",null,{"$f":"C99","v":"Hatékonyságnövelés a bérszámfejtés kapcsán - Munkaidő adatokból importálható állományok előállítása makro segítségével"}]
[null,"(KJE):","(Improving the efficiency of recording payroll time data - Generating importable files from working time data using macro)"]
["miau279","Szabó Kerecsen","Magyarország egészségügyi állapotának leírása - Egyenszilárdság-mérés területi alapon","(+)",null,{"$f":"A101","v":"miau279"},"Szabó Kerecsen",":",{"$f":"M101","v":"Magyarország egészségügyi állapotának leírása - Egyenszilárdság-mérés területi alapon"},"  xx  ","https://miau.my-x.hu/miau/279/teir.docx",null,{"$f":"C101","v":"Magyarország egészségügyi állapotának leírása - Egyenszilárdság-mérés területi alapon"}]
[null,"(OE):","(Analyses of the Hungarian health statistics based on time series - Does each county provide the same regional chances for the citizens of Hungary?)"]
["miau279","Tóth Zoltán","Ki is a jobb F1-pilóta valójában – avagy naiv és optimalizált kockázatelemzések","(+)",null,{"$f":"A103","v":"miau279"},"Tóth Zoltán",":",{"$f":"M103","v":"Ki is a jobb F1-pilóta valójában – avagy naiv és optimalizált kockázatelemzések"},"  xx  ","https://miau.my-x.hu/miau/279/formula1.docx",null,{"$f":"C103","v":"Ki is a jobb F1-pilóta valójában – avagy naiv és optimalizált kockázatelemzések"}]
[null,"(OE):","(Who is the better F1-pilot really – or risk analyses based on naïve and optimized approaches?)"]
["miau279","Burián Sándor","Egészségügyi adatok OLAP-szintű keresője kockázatelemzési célra","(+)",null,{"$f":"A105","v":"miau279"},"Burián Sándor",":",{"$f":"M105","v":"Egészségügyi adatok OLAP-szintű keresője kockázatelemzési célra"},"  xx  ","https://miau.my-x.hu/miau/279/olap_alapu_oktatas.mp4",null,{"$f":"C105","v":"Egészségügyi adatok OLAP-szintű keresője kockázatelemzési célra"}]
[null,"(OE):","(OLAP-based health statistics in learning content systems for risk management)"]
["miau279","Száraz Bence","Gyanú felderítés online szerepjátékban solver segítségével","(+)",null,{"$f":"A107","v":"miau279"},"Száraz Bence",":",{"$f":"M107","v":"Gyanú felderítés online szerepjátékban solver segítségével"},"  xx  ","https://miau.my-x.hu/miau/279/esport.docx",null,{"$f":"C107","v":"Gyanú felderítés online szerepjátékban solver segítségével"}]
[null,"(OE):","(Suspicion generation for online roleplay games based on Solver)"]
["miau279","Hegedűs Imre Bence","Az iPhone okostelefonok fejlődésének világa – a generációk közötti hasonlóságok elemzése robotszemmel","(+)",null,{"$f":"A109","v":"miau279"},"Hegedűs Imre Bence",":",{"$f":"M109","v":"Az iPhone okostelefonok fejlődésének világa – a generációk közötti hasonlóságok elemzése robotszemmel"},"  xx  ","https://miau.my-x.hu/miau/279/iphone.docx",null,{"$f":"C109","v":"Az iPhone okostelefonok fejlődésének világa – a generációk közötti hasonlóságok elemzése robotszemmel"}]
[null,"(KJE):","(Searching for the best iPhone based on anti-discriminative analyses)"]
["miau279","Csuba Krisztián Ádám, Nguyen Van Nam Tamás","Mennyire egyenszilárd az EU-ban az egészségügy országonkénti összevetésben 2019-ben?","(+)",null,{"$f":"A111","v":"miau279"},"Csuba Krisztián Ádám, Nguyen Van Nam Tamás",":",{"$f":"M111","v":"Mennyire egyenszilárd az EU-ban az egészségügy országonkénti összevetésben 2019-ben?"},"  xx  ","https://miau.my-x.hu/miau/279/eu_egyenszilardsag.docx",null,{"$f":"C111","v":"Mennyire egyenszilárd az EU-ban az egészségügy országonkénti összevetésben 2019-ben?"}]
[null,"(OE):","(Country ranking on European level for 2019 concerning health statistics based on Solver – or How well-balanced are the countries comparing to each other?)"]
["miau279","Almásy Márton György, Hörömpő András","Jutalomfüggvények hasonlóságainak értékelése – avagy egy-egy jobb függvény megtalálásának stratégiája","(+)",null,{"$f":"A113","v":"miau279"},"Almásy Márton György, Hörömpő András",":",{"$f":"M113","v":"Jutalomfüggvények hasonlóságainak értékelése – avagy egy-egy jobb függvény megtalálásának stratégiája"},"  xx  ","https://miau.my-x.hu/miau/279/jutalomfuggvenyek.docx",null,{"$f":"C113","v":"Jutalomfüggvények hasonlóságainak értékelése – avagy egy-egy jobb függvény megtalálásának stratégiája"}]
[null,"(OE):","(Similarity-based evaluation of reward functions – or identification strategy of a best function)"]
["miau279","Ács Kinga","Lehet-e robotizálni egy cég stratégiai tervezését?","(+)",null,{"$f":"A115","v":"miau279"},"Ács Kinga",":",{"$f":"M115","v":"Lehet-e robotizálni egy cég stratégiai tervezését?"},"  xx  ","https://miau.my-x.hu/miau/279/elorejelzes.docx",null,{"$f":"C115","v":"Lehet-e robotizálni egy cég stratégiai tervezését?"}]
[null,"(KJE):","(Can we robotize the strategic planning of a company?)"]
["miau279","Vincze Miklós, Somogyi Kristóf","Orvos-beteg dialógusok - avagy eszkalációs kockázatok elemzése","(+)",null,{"$f":"A117","v":"miau279"},"Vincze Miklós, Somogyi Kristóf",":",{"$f":"M117","v":"Orvos-beteg dialógusok - avagy eszkalációs kockázatok elemzése"},"  xx  ","https://miau.my-x.hu/miau/279/orvos_beteg.docx",null,{"$f":"C117","v":"Orvos-beteg dialógusok - avagy eszkalációs kockázatok elemzése"}]
[null,"(OE):","(Dialogues between patients and doctors – escalation risk analyses)"]
["miau279","Karácsonyi Krisztián","Egymillió főre jutó balesetek kockázatelemzése megyénkénti felosztásban","(+)",null,{"$f":"A119","v":"miau279"},"Karácsonyi Krisztián",":",{"$f":"M119","v":"Egymillió főre jutó balesetek kockázatelemzése megyénkénti felosztásban"},"  xx  ","https://miau.my-x.hu/miau/279/balesetek.docx",null,{"$f":"C119","v":"Egymillió főre jutó balesetek kockázatelemzése megyénkénti felosztásban"}]
[null,"(OE):","(Accidents in county level - risk analyses based on similarities)"]
["miau279","Molnár Vince Nándor","Oktatás, kultúra és bűncselekmények, álláskeresés konzisztens kapcsolatainak vizsgálata - Robot-pszichológus, robot-szociológus","(+)",null,{"$f":"A121","v":"miau279"},"Molnár Vince Nándor",":",{"$f":"M121","v":"Oktatás, kultúra és bűncselekmények, álláskeresés konzisztens kapcsolatainak vizsgálata - Robot-pszichológus, robot-szociológus"},"  xx  ","https://miau.my-x.hu/miau/279/jo_rossz_kolcsonhatasok.docx",null,{"$f":"C121","v":"Oktatás, kultúra és bűncselekmények, álláskeresés konzisztens kapcsolatainak vizsgálata - Robot-pszichológus, robot-szociológus"}]
[null,"(OE):","(Education, culture, crime, employment - Robot-psychologist, robot-sociologist - risk analysis)"]
["miau279","Szakács Péter Barnabás","API műveletek tiltása tűzfal modul esetén - kockázatelemzés","(+)",null,{"$f":"A123","v":"miau279"},"Szakács Péter Barnabás",":",{"$f":"M123","v":"API műveletek tiltása tűzfal modul esetén - kockázatelemzés"},"  xx  ","https://miau.my-x.hu/miau/279/tiltas.docx",null,{"$f":"C123","v":"API műveletek tiltása tűzfal modul esetén - kockázatelemzés"}]
[null,"(OE):","(Prohibited API-operation in case of firewalls - risk analysis)"]
["miau279","Kovács Péter Pál","Kémiai konzisztencia teszt rekonstruálása / Módosított Herington teszt rekonstrukciója adathalmazt jellemző értékekből - kockázatelemzés","(+)",null,{"$f":"A125","v":"miau279"},"Kovács Péter Pál",":",{"$f":"M125","v":"Kémiai konzisztencia teszt rekonstruálása / Módosított Herington teszt rekonstrukciója adathalmazt jellemző értékekből - kockázatelemzés"},"  xx  ","https://miau.my-x.hu/miau/279/kemia.docx",null,{"$f":"C125","v":"Kémiai konzisztencia teszt rekonstruálása / Módosított Herington teszt rekonstrukciója adathalmazt jellemző értékekből - kockázatelemzés"}]
[null,"(OE):","(Reconstruction of chemical consistency test / Reconstruction of modified Herington test from characteristic valu"]
["miau279","Varga-Dudás József","A processzorok zavaros világa letisztult robotszemmel – avagy a melyiket válasszam kérdés egyértelmű válasza","(+)",null,{"$f":"A127","v":"miau279"},"Varga-Dudás József",":",{"$f":"M127","v":"A processzorok zavaros világa letisztult robotszemmel – avagy a melyiket válasszam kérdés egyértelmű válasza"},"  xx  ","https://miau.my-x.hu/miau/279/proc.docx",null,{"$f":"C127","v":"A processzorok zavaros világa letisztult robotszemmel – avagy a melyiket válasszam kérdés egyértelmű válasza"}]
[null,"(KJE):","(CPU benchmarking based on similarity analyses)"]
["miau279","Csaba Dávid","A legkockázatosabb munkavállalók és az általuk elkövetett hibák feltárása / Cél: A leghatékonyabb egyedi termelés","(+)",null,{"$f":"A129","v":"miau279"},"Csaba Dávid",":",{"$f":"M129","v":"A legkockázatosabb munkavállalók és az általuk elkövetett hibák feltárása / Cél: A leghatékonyabb egyedi termelés"},"  xx  ","https://miau.my-x.hu/miau/279/gyartas.docx",null,{"$f":"C129","v":"A legkockázatosabb munkavállalók és az általuk elkövetett hibák feltárása / Cél: A leghatékonyabb egyedi termelés"}]
[null,"(KJE):","(Identifying the most risky workers and the mistakes they make / Objective: The most efficient individual production)"]
["miau279","Hajdú Vivien Julianna, Varró Liliána Éva","A magyar társadalom rétegeinek becsült átlagos társadalmi-gazdasági értékessége","(+)",null,{"$f":"A131","v":"miau279"},"Hajdú Vivien Julianna, Varró Liliána Éva",":",{"$f":"M131","v":"A magyar társadalom rétegeinek becsült átlagos társadalmi-gazdasági értékessége"},"  xx  ","https://miau.my-x.hu/miau/279/nok_vs_ferfiak.docx",null,{"$f":"C131","v":"A magyar társadalom rétegeinek becsült átlagos társadalmi-gazdasági értékessége"}]
[null,"(KJE):","(Social values of age groups and gender positions in Hungary)"]
["miau279","Nagy Richárd","MP4: Halálos kimenetelű közlekedési balesetek vizsgálata az Európai Unióban OAM alapján / Önsorsrontó-e a Magyar?","(+)",null,{"$f":"A133","v":"miau279"},"Nagy Richárd",":",{"$f":"M133","v":"MP4: Halálos kimenetelű közlekedési balesetek vizsgálata az Európai Unióban OAM alapján / Önsorsrontó-e a Magyar?"},"  xx  ","https://miau.my-x.hu/miau/279/onsorsrontas.mp4",null,{"$f":"C133","v":"MP4: Halálos kimenetelű közlekedési balesetek vizsgálata az Európai Unióban OAM alapján / Önsorsrontó-e a Magyar?"}]
[null,"(KJE):","(Investigation of fatal road accidents in the European Union based on OAM / Are we, Hungarians, the architects of our own destruction?)"]
["miau279","Nagy Richárd","Halálos kimenetelű közlekedési balesetek vizsgálata az Európai Unióban OAM alapján / Önsorsrontó-e a Magyar?","(+)",null,{"$f":"A135","v":"miau279"},"Nagy Richárd",":",{"$f":"M135","v":"Halálos kimenetelű közlekedési balesetek vizsgálata az Európai Unióban OAM alapján / Önsorsrontó-e a Magyar?"},"  xx  ","https://miau.my-x.hu/miau/279/onsorsrontas.docx",null,{"$f":"C135","v":"Halálos kimenetelű közlekedési balesetek vizsgálata az Európai Unióban OAM alapján / Önsorsrontó-e a Magyar?"}]
[null,"(KJE):","(Investigation of fatal road accidents in the European Union based on OAM / Are we, Hungarians, the architects of our own destruction?)"]
["miau279","Pitlik Marcell","PPT: Égések zaj alapú elemzése mesterséges intelligenciával","(+)",null,{"$f":"A137","v":"miau279"},"Pitlik Marcell",":",{"$f":"M137","v":"PPT: Égések zaj alapú elemzése mesterséges intelligenciával"},"  xx  ","https://miau.my-x.hu/miau/279/tdk_zaj/TDK_2021_EM_PM.pptx",null,{"$f":"C137","v":"PPT: Égések zaj alapú elemzése mesterséges intelligenciával"}]
[null,"(BME):","(Noise diagnostics and analysis of steady combustion based on artificial intelligence)"]
["miau279","Pitlik Marcell","Égések zaj alapú elemzése mesterséges intelligenciával","(+)",null,{"$f":"A139","v":"miau279"},"Pitlik Marcell",":",{"$f":"M139","v":"Égések zaj alapú elemzése mesterséges intelligenciával"},"  xx  ","https://miau.my-x.hu/miau/279/tdk_zaj/TDK_PM_zaj_final.pdf",null,{"$f":"C139","v":"Égések zaj alapú elemzése mesterséges intelligenciával"}]
[null,"(BME):","(Noise diagnostics and analysis of steady combustion based on artificial intelligence)"]
["miau280","Pitlik László","JOKER - minimal version - step1-2-3","(+)",null,{"$f":"A141","v":"miau280"},"Pitlik László",":",{"$f":"M141","v":"JOKER - minimal version - step1-2-3"},"  xx  ","https://miau.my-x.hu/miau/280/joker_min_2.xlsx",null,{"$f":"C141","v":"JOKER - minimal version - step1-2-3"}]
[null,"(MY-X team):"]
["miau280","Pitlik László, Pitlik Marcell, Pitlik László (jun)","Csapágy-kopás becslése konzisztencia-alapú modellezéssel","(+)",null,{"$f":"A143","v":"miau280"},"Pitlik László, Pitlik Marcell, Pitlik László (jun)",":",{"$f":"M143","v":"Csapágy-kopás becslése konzisztencia-alapú modellezéssel"},"  xx  ","https://miau.my-x.hu/miau/280/bearing_wear_v1.docx",null,{"$f":"C143","v":"Csapágy-kopás becslése konzisztencia-alapú modellezéssel"}]
[null,"(MY-X team):","(Estimation of bearing wear based on consistence-oriented modelling)"]
["miau280","Pitlik László","Regresszió-alapú és lépcsős függvény-alapú anti-diszkriminatív modellek","(+)",null,{"$f":"A145","v":"miau280"},"Pitlik László",":",{"$f":"M145","v":"Anti-discriminative models - based on regressions and staircase functions"},"  xx  ","https://miau.my-x.hu/miau/280/y0_regressions.xlsx",null,"Anti-discriminative models - based on regressions and staircase functions"]
[null,"(My-X team):","(Anti-discriminative models - based on regressions and staircase functions)"]
["miau280","Pitlik László, Pitlik László (jun)","Párhuzamos valószínűségek aggregálása hasonlóságelemzéssel","(+)",null,{"$f":"A147","v":"miau280"},"Pitlik László, Pitlik László (jun)",":",{"$f":"M147","v":"Aggregation of parallel probabilities based on similarity analyses"},"  xx  ","https://miau.my-x.hu/miau/280/classification_finetuning.xlsx",null,"Aggregation of parallel probabilities based on similarity analyses"]
[null,"(My-X team):","(Aggregation of parallel probabilities based on similarity analyses)"]
["miau280","Pitlik László","Komplex mintázatok felismerése hasonlóságelemzéssel","(+)",null,{"$f":"A149","v":"miau280"},"Pitlik László",":",{"$f":"M149","v":"Komplex mintázatok felismerése hasonlóságelemzéssel"},"  xx  ","https://miau.my-x.hu/miau/280/tenyosszeg_becslesosszeg_elteresei.xlsx",null,{"$f":"C149","v":"Komplex mintázatok felismerése hasonlóságelemzéssel"}]
[null,"(My-X team):","(Exploring the existence of complex patterns based on similarity analysis)"]
["miau280","Barta Gergő","Mesterséges intelligencia módszerek alkalmazása az informatikai rendszerek biztonsági auditjában","(+)",null,{"$f":"A151","v":"miau280"},"Barta Gergő",":",{"$f":"M151","v":"Mesterséges intelligencia módszerek alkalmazása az informatikai rendszerek biztonsági auditjában"},"  xx  ","https://miau.my-x.hu/miau2009/index.php3?x=e159",null,{"$f":"C151","v":"Mesterséges intelligencia módszerek alkalmazása az informatikai rendszerek biztonsági auditjában"}]
[null,"(MATE GSZDI):","(Application of artificial intelligence methods in the security audit of IT systems)"]

{"sheet":"matarka (5)","index":6,"n_rows":88,"n_cols":2,"rows_kept":88,"cut":false,"hidden":false,"merged":[]}
[null,"***"]
["Magyar Internetes Agrárinformatikai Újság (MIAÚ),2021,24,275"]
["miau275",{"$f":"nyers!G1&nyers!H1&nyers!I1&nyers!J1&nyers!K1","v":"Anonim Hallgató, Pitlik László:Selejtezés szubjektív szabályok mentén és optimalizált, automatizált szabály-felismerés alapján  xx  https://miau.my-x.hu/miau/307/selejtezes/"}]
["miau275",{"$f":"nyers!G3&nyers!H3&nyers!I3&nyers!J3&nyers!K3","v":"Pitlik László:A COCO STEP-IX módszer szükségszerűségének felismerése és lépéseinek mibenléte - 2  xx  https://miau.my-x.hu/miau/307/stepix_okostelefon/"}]
["miau275",{"$f":"nyers!G5&nyers!H5&nyers!I5&nyers!J5&nyers!K5","v":"Pitlik László:A COCO STEP-IX módszer szükségszerűségének felismerése és lépéseinek mibenléte  xx  https://miau.my-x.hu/miau/307/stepix_monitor/"}]
["miau275",{"$f":"nyers!G7&nyers!H7&nyers!I7&nyers!J7&nyers!K7","v":"Pitlik László:Tesztállomány hermeneutikai szélsőségek alátámasztására  xx  https://miau.my-x.hu/miau/307/ksh/"}]
["miau275",{"$f":"nyers!G9&nyers!H9&nyers!I9&nyers!J9&nyers!K9","v":"Anonim Hallgató, Pitlik László:Baromfihús-fogyás előrejelzése lineáris regresszióval, chatGPT-vel és MI-alapon  xx  https://miau.my-x.hu/miau/307/ido_poultry/"}]
["miau275","Pitlik László-Barta Gergő:Anti-diszkriminatív modellezés közelítése solver-alapú neurális hálókkal  xx  https://miau.my-x.hu/miau/275/solver-based-neural-networks.docx"]
["miau275","Pitlik László-Pitlik Marcell:A lépcsős függvények szimmetria-alapú validitása és a nyersadatok kapcsolata  xx  https://miau.my-x.hu/miau/275/validity.docx"]
["miau275",{"$f":"nyers!G15&nyers!H15&nyers!I15&nyers!J15&nyers!K15","v":"Anonim Hallgató:Context-free gyanúgenerálás önkormányzati adatok alapján - avagy így dolgozna egy robot-oknyomozó riporter  xx  https://miau.my-x.hu/miau/307/robot_gyanugeneralas.xlsx"}]
["Magyar Internetes Agrárinformatikai Újság (MIAÚ),2021,24,276"]
["miau276","Pitlik László, ifj.:Tanári záróvizsga - Szakdolgozatvédés - Tudásszintmérő tesztek  xx  https://miau.my-x.hu/matkut/eredmenyek/szd_vedes-PitlikL.pptx"]
["miau276",{"$f":"nyers!G19&nyers!H19&nyers!I19&nyers!J19&nyers!K19","v":"Anonim Hallgató:Latin nyelvű orvosi szakszavak létjogosultsága Google Trends és Google Adwords adatok alapján  xx  https://miau.my-x.hu/miau/307/magyar_vs_latin.xlsx"}]
["miau276",{"$f":"nyers!G21&nyers!H21&nyers!I21&nyers!J21&nyers!K21","v":"Pitlik László:Álságos chatGPT-definíciók álságos emberi minták következtében  xx  https://miau.my-x.hu/miau/307/bing_mi_rol_tanulas_nelkul.docx"}]
["miau276",{"$f":"nyers!G23&nyers!H23&nyers!I23&nyers!J23&nyers!K23","v":"Anonim Hallgató, Pitlik László:A chatGPT, mint tárgyalás taktikákat támogató szimulátor  xx  https://miau.my-x.hu/miau/307/chatGPT_negotiator_1.docx"}]
["miau276","Mácz Andrea-Pitlik Marcell-Nyomárkay Kristóf-Németh Tamás:PPT: Autós forgalom számlálása  xx  https://miau.my-x.hu/miau/276/forgalomszamlalas/GL_projekt_vegleges.pptx"]
["miau276","Mácz Andrea-Pitlik Marcell-Nyomárkay Kristóf-Németh Tamás:Autós forgalom számlálása  xx  https://miau.my-x.hu/miau/276/forgalomszamlalas/GL_projekt_NT_NYK_MA_PM.pdf"]
["miau276",{"$f":"nyers!G29&nyers!H29&nyers!I29&nyers!J29&nyers!K29","v":"Bartók Patrik Róbert:Objektív döntésoptimalizálás mesterséges intelligencia bevonásával  xx  https://miau.my-x.hu/miau/307/szakdolgozat_bp.pdf"}]
["miau276",{"$f":"nyers!G31&nyers!H31&nyers!I31&nyers!J31&nyers!K31","v":"Molnár Csanád:Online Dietetikus Szakértő - Mesterséges Intelligencia segítségével  xx  https://miau.my-x.hu/miau/307/odessai_mcs.pdf"}]
["miau276","Bagdi Dóra-Dúcs Attila-Martonosi Edit:Reprodukálási rejtvény: Hogyan lehet a klasszikus kérdőív értelmezéstől eljutni a modern adatelemzésig  xx  https://miau.my-x.hu/miau/276/kje/questionnaires/Alkalmazott informatika (k%e9sz).docx"]
["miau276",{"$f":"nyers!G35&nyers!H35&nyers!I35&nyers!J35&nyers!K35","v":"István Vancsura:System modelling aspects of the Social-AI project - Part IV-V.  xx  https://miau.my-x.hu/miau/308/System_Modelling_part_4-5.pptx"}]
["miau276",{"$f":"nyers!G37&nyers!H37&nyers!I37&nyers!J37&nyers!K37","v":"István Vancsura:System modelling aspects of the Social-AI project - Part III.  xx  https://miau.my-x.hu/miau/308/System_Modelling_part_3.pptx"}]
["miau276",{"$f":"nyers!G39&nyers!H39&nyers!I39&nyers!J39&nyers!K39","v":"István Vancsura:System modelling aspects of the Social-AI project - Part II.  xx  https://miau.my-x.hu/miau/308/System_Modelling_GANTT.pptx"}]
["miau276","Pitlik László-Pitlik Dóra:A leggyakrabban használt Google felhőszolgáltatások bemutatása és azok gyakorlati alkalmazhatóságának megismertetése  xx  https://miau.my-x.hu/miau/276/google_services.docx"]
["miau276","Pitlik László-Pitlik Mátyás:Részletek egy kísérleti HPC-projekt kommunikációjából  xx  https://miau.my-x.hu/miau/276/hpc_spec.docx"]
["miau276","Pitlik László, ifj.:Tudásszintmérő tesztek: a feladattípusok és a tanulói válaszadási stratégiák vizsgálata (szakdolgozat)  xx  https://miau.my-x.hu/matkut/eredmenyek/szakdolgozat-pL-sign.pdf"]
["miau276","Pitlik László, ifj.:Egyedi kérdőívezési keretrendszer éles verziója PHP-alapon  xx  https://miau.my-x.hu/matkut/"]
["Magyar Internetes Agrárinformatikai Újság (MIAÚ),2021,24,277"]
["miau277","Pitlik László-Rikk János:Publikációk anonim, párhuzamos bírálatainak anomáliái  xx  https://miau.my-x.hu/miau/275/review_anomalies.docx"]
["miau277",{"$f":"nyers!G51&nyers!H51&nyers!I51&nyers!J51&nyers!K51","v":"István Vancsura:System modelling aspects of the Social-AI project  xx  https://miau.my-x.hu/miau/308/modelling_socialai.pptx"}]
["miau277",{"$f":"nyers!G53&nyers!H53&nyers!I53&nyers!J53&nyers!K53","v":"Szauder Veronika:ÚJGENERÁCIÓS MÓDSZEREK A MATEMATIKA OKTATÁSBAN - MI  xx  https://miau.my-x.hu/miau/308/matematika_MI.docx"}]
["miau277","Pitlik László-Pitlik Marcell:Mirror-ball-based seeing in multi-layered evaluation I.  xx  https://miau.my-x.hu/miau/277/mirror_ball_based_multi_layered_evaluation.docx"]
["miau277","Pitlik László-Pitlik László, ifj.:Multi-layered, objective, optimized evaluation of strategies over static code analysis tools  xx  https://miau.my-x.hu/miau/277/multi_layered_evaluation_of_static_code_analysis_tools.docx"]
["miau277",{"$f":"nyers!G59&nyers!H59&nyers!I59&nyers!J59&nyers!K59","v":"Dániel Váradi, László Pitlik, Marcell Pitlik, László Pitlik (Jr.), Mátyás Pitlik:ABS: ABOUT A NEW, HYBRIDIZED TIME-SERIES ANALYSIS METHOD BASED ON SIMILARITY ANALYSES AND MULTIDIMENSIONAL TIME-LAYERING TECHNIQUES  xx  https://miau.my-x.hu/miau/308/abs_new_time_series_analysis_method_mudita.docx"}]
["miau277","Anonim Hallgatók-Pitlik László:Blokklánc-tananyag (autodidakta) fejlesztése (avagy kulcsszavak és ezek fa-jellegű, ill. hipertextes kapcsolatai)  xx  https://miau.my-x.hu/miau/277/blokklanc_tananyagfejlesztes_v1.docx"]
["miau277","Mácz Andrea-Nyomárkay Kristóf-Svastits Áron-Szabó Gábor Péter-Németh Tamás-Pitlik Marcell:Történeti áttekintés a kőolajról  xx  https://miau.my-x.hu/miau/277/NXEG_MA_NT_SA_SZG_NYK_PM.pdf"]
["miau277",{"$f":"nyers!G65&nyers!H65&nyers!I65&nyers!J65&nyers!K65","v":"Pitlik László:Melyik fájl éri meg lementeni leginkább a többi állományhoz képest?  xx  https://miau.my-x.hu/miau/309/which_files_worth_downloading.xlsx"}]
["miau277",{"$f":"nyers!G67&nyers!H67&nyers!I67&nyers!J67&nyers!K67","v":"Váradi Dániel:Az EU-homogenitás és a piaci stratégiák kapcsolata  xx  https://miau.my-x.hu/miau/309/homogenitas_es_piac.pptx"}]
["miau277",{"$f":"nyers!G69&nyers!H69&nyers!I69&nyers!J69&nyers!K69","v":"Váradi Dániel:A MOL átfogó mérlegelemzése MI segítségével  xx  https://miau.my-x.hu/miau/309/mol.pptx"}]
["miau277",{"$f":"nyers!G71&nyers!H71&nyers!I71&nyers!J71&nyers!K71","v":"Vancsura István:Application of Artificial Intelligence in Social Media - Social AI - Part 2 – Implementation  xx  https://miau.my-x.hu/miau/309/Social_AI_Part_2.pdf"}]
["Magyar Internetes Agrárinformatikai Újság (MIAÚ),2021,24,278"]
["miau278",{"$f":"nyers!G73&nyers!H73&nyers!I73&nyers!J73&nyers!K73","v":"Pitlik László:MP3: MI, avagy tévhitek és benchmarkok? - Miért érdemes új korszakhatárként tekinteni?  xx  https://miau.my-x.hu/miau/309/20240425_bekescsaba.mp4"}]
["miau278","Pitlik László-Pitlik László, ifj.:Corresemblance – core-resemblance, or deriving of the non-existence of information added-values  xx  https://miau.my-x.hu/miau/278/Corresemblance.docx"]
["miau278","Nagy Richárd-Pitlik László:IT-biztonsági ismeretek számonkérésének variánsai, stratégiái és szintjei  xx  https://miau.my-x.hu/mediawiki/index.php/ITB"]
["miau278","Pitlik László-Pitlik Marcell:Solver-alapú fuzzy modellek vs. hasonlóságelemzés-variánsok versenye  xx  https://miau.my-x.hu/miau/275/fuzzy_2x_6trapez_4pont_bc_no_azonossag_ifthen_eset10_new.xlsx"]
["miau278","Pitlik László:SUM() derived through PRODUCT()  xx  https://miau.my-x.hu/miau/278/szorzas_alapjan_modellezett_osszeadas.xlsx"]
["miau278",{"$f":"nyers!G83&nyers!H83&nyers!I83&nyers!J83&nyers!K83","v":"Pitlik Dóra:PPT: Stratégiai tanácsadás a távmunka népszerűsítésének szükségszerűségéről (Google Trends társadalomlélektani adatai alapján)  xx  https://miau.my-x.hu/miau/309/GD/5gk7rm5.pptx"}]
["miau278",{"$f":"nyers!G85&nyers!H85&nyers!I85&nyers!J85&nyers!K85","v":"Pitlik Dóra:Stratégiai tanácsadás a távmunka népszerűsítésének szükségszerűségéről (Google Trends társadalomlélektani adatai alapján)  xx  https://miau.my-x.hu/miau/309/GD/5gk7rm5.docx"}]
["miau278",{"$f":"nyers!G87&nyers!H87&nyers!I87&nyers!J87&nyers!K87","v":"Dániel Váradi, László Pitlik (Jr.), Mátyás Pitlik, László Pitlik:Homogeneity analysis for sustainable regions – case study: Mezőföld  xx  https://miau.my-x.hu/miau/311/mezofold/full_region_team_sustainability_analyses.pdf"}]
["Magyar Internetes Agrárinformatikai Újság (MIAÚ),2021,24,279"]
["miau279",{"$f":"nyers!G89&nyers!H89&nyers!I89&nyers!J89&nyers!K89","v":"Anonim Hallgatók:SUDOKU megoldások Solver-rel  xx  https://miau.my-x.hu/miau/310/sudoku/"}]
["miau279",{"$f":"nyers!G91&nyers!H91&nyers!I91&nyers!J91&nyers!K91","v":"Angyal János, Pitlik László:COCO-STEP-IX gyorsított és teljes eljárások összevetése és ezek hatásai a részeredményekre, ill. a végeredményre  xx  https://miau.my-x.hu/miau/310/szerver_ar_telj_stepix_gyorsitott_teljes21.xlsx"}]
["miau279",{"$f":"nyers!G93&nyers!H93&nyers!I93&nyers!J93&nyers!K93","v":"Csaba Sebők:ChatGPT & Barkochba (20-question-games)  xx  https://miau.my-x.hu/miau/310/ChatGPT_Can_you_guess_my_words.docx"}]
["miau279","Gulyás Oldal Laura-Pitlik László:Személyek korkülönbségének becslése kézgeometriai jellemzők alapján  xx  https://miau.my-x.hu/miau/279/keztenyerkor.docx"]
["miau279",{"$f":"nyers!G97&nyers!H97&nyers!I97&nyers!J97&nyers!K97","v":"Pitlik László:Attribútum-arányok és az inverzió-alapú validálás  xx  https://miau.my-x.hu/miau/310/arany_inverz.xlsx"}]
["miau279",{"$f":"nyers!G99&nyers!H99&nyers!I99&nyers!J99&nyers!K99","v":"Anonim Hallgató:Creating texts for English lessons - chatGPT-experiments  xx  https://miau.my-x.hu/miau/310/chatGPT_problems_with_English_Lesson_materials.docx"}]
["miau279",{"$f":"nyers!G101&nyers!H101&nyers!I101&nyers!J101&nyers!K101","v":"Lengyel Kíra Anna, Gulyás Léna, Simon Damarisz, Pitlik László:AI a filmes szakmában  xx  https://miau.my-x.hu/miau/310/AI_a_filmes_szakmaban.doc"}]
["miau279",{"$f":"nyers!G103&nyers!H103&nyers!I103&nyers!J103&nyers!K103","v":"Ökrös Adrienn:Digitalizáció és RPA egy logisztikai irodában  xx  https://miau.my-x.hu/miau/310/rpa_casestudy_hu.docx"}]
["miau279",{"$f":"nyers!G105&nyers!H105&nyers!I105&nyers!J105&nyers!K105","v":"Megyes István:Elektroenkefalográfia jelek feldolgozása gépi tanulással  xx  https://miau.my-x.hu/miau/310/L38TRN_Megyes_Nemes_SZAKDOLGOZAT.pdf"}]
["miau279",{"$f":"nyers!G107&nyers!H107&nyers!I107&nyers!J107&nyers!K107","v":"Anonim Hallgató:Létezhető ChatGPT-aktivitás rendszer általi megtagadása, s kérlelésre való végrehajtása (Begging-modus in chatGPT in case of hidden system-competencies)  xx  https://miau.my-x.hu/miau/310/chatGPT_parancs_helyett_kerlelesre.jpg"}]
["miau279",{"$f":"nyers!G109&nyers!H109&nyers!I109&nyers!J109&nyers!K109","v":"Loboda Bence, Pitlik László:Szubjektív és objektív érveléskultúra, avagy elvek és példák  xx  https://miau.my-x.hu/miau/310/szubjektivitas_vs_objektivitas_ember_chatGPT_OAM.docx"}]
["miau279",{"$f":"nyers!G111&nyers!H111&nyers!I111&nyers!J111&nyers!K111","v":"Anonim Hallgató:Létezhető ChatGPT-aktivitás rendszer általi megtagadása, s parancsra való végrehajtása  xx  https://miau.my-x.hu/miau/310/chatGPT_parancsra.docx"}]
["miau279","Almásy Márton György-Hörömpő András:Jutalomfüggvények hasonlóságainak értékelése – avagy egy-egy jobb függvény megtalálásának stratégiája  xx  https://miau.my-x.hu/miau/279/jutalomfuggvenyek.docx"]
["miau279",{"$f":"nyers!G115&nyers!H115&nyers!I115&nyers!J115&nyers!K115","v":"0:0  xx  "}]
["miau279","Vincze Miklós-Somogyi Kristóf:Orvos-beteg dialógusok - avagy eszkalációs kockázatok elemzése  xx  https://miau.my-x.hu/miau/279/orvos_beteg.docx"]
["miau279",{"$f":"nyers!G119&nyers!H119&nyers!I119&nyers!J119&nyers!K119","v":"0:0  xx  "}]
["miau279",{"$f":"nyers!G121&nyers!H121&nyers!I121&nyers!J121&nyers!K121","v":"0:0  xx  "}]
["miau279",{"$f":"nyers!G123&nyers!H123&nyers!I123&nyers!J123&nyers!K123","v":"0:0  xx  "}]
["miau279",{"$f":"nyers!G125&nyers!H125&nyers!I125&nyers!J125&nyers!K125","v":"0:0  xx  "}]
["miau279",{"$f":"nyers!G127&nyers!H127&nyers!I127&nyers!J127&nyers!K127","v":"0:0  xx  "}]
["miau279",{"$f":"nyers!G129&nyers!H129&nyers!I129&nyers!J129&nyers!K129","v":"0:0  xx  "}]
["miau279","Hajdú Vivien Julianna-Varró Liliána Éva:A magyar társadalom rétegeinek becsült átlagos társadalmi-gazdasági értékessége  xx  https://miau.my-x.hu/miau/279/nok_vs_ferfiak.docx"]
["miau279",{"$f":"nyers!G133&nyers!H133&nyers!I133&nyers!J133&nyers!K133","v":"0:0  xx  "}]
["miau279",{"$f":"nyers!G135&nyers!H135&nyers!I135&nyers!J135&nyers!K135","v":"0:0  xx  "}]
["miau279",{"$f":"nyers!G137&nyers!H137&nyers!I137&nyers!J137&nyers!K137","v":"0:0  xx  "}]
["miau279",{"$f":"nyers!G139&nyers!H139&nyers!I139&nyers!J139&nyers!K139","v":"0:0  xx  "}]
["Magyar Internetes Agrárinformatikai Újság (MIAÚ),2021,24,280"]
["miau280",{"$f":"nyers!G141&nyers!H141&nyers!I141&nyers!J141&nyers!K141","v":"0:0  xx  "}]
["miau280","Pitlik László-Pitlik Marcell-Pitlik László, ifj.:Csapágy-kopás becslése konzisztencia-alapú modellezéssel  xx  https://miau.my-x.hu/miau/280/bearing_wear_v1.docx"]
["miau280",{"$f":"nyers!G145&nyers!H145&nyers!I145&nyers!J145&nyers!K145","v":"0:0  xx  "}]
["miau280","Pitlik László-Pitlik László, ifj.:Aggregation of parallel probabilities based on similarity analyses  xx  https://miau.my-x.hu/miau/280/classification_finetuning.xlsx"]
["miau280",{"$f":"nyers!G149&nyers!H149&nyers!I149&nyers!J149&nyers!K149","v":"0:0  xx  "}]
["miau280",{"$f":"nyers!G151&nyers!H151&nyers!I151&nyers!J151&nyers!K151","v":"0:0  xx  "}]
[null,"***"]
[]
[null,{"$f":"nyers!G150&nyers!H150&nyers!I150&nyers!J150&nyers!K150","v":""}]
[]
[null,{"$f":"nyers!G152&nyers!H152&nyers!I152&nyers!J152&nyers!K152","v":""}]

{"sheet":"matarka (4)","index":7,"n_rows":27,"n_cols":2,"rows_kept":27,"cut":false,"hidden":false,"merged":[]}
[null,"***"]
["Magyar Internetes Agrárinformatikai Újság (MIAÚ),2020,23,265"]
["miau265",{"$f":"nyers!G1&nyers!H1&nyers!I1&nyers!J1&nyers!K1","v":"Anonim Hallgató, Pitlik László:Selejtezés szubjektív szabályok mentén és optimalizált, automatizált szabály-felismerés alapján  xx  https://miau.my-x.hu/miau/307/selejtezes/"}]
["miau265",{"$f":"nyers!G3&nyers!H3&nyers!I3&nyers!J3&nyers!K3","v":"Pitlik László:A COCO STEP-IX módszer szükségszerűségének felismerése és lépéseinek mibenléte - 2  xx  https://miau.my-x.hu/miau/307/stepix_okostelefon/"}]
["miau265",{"$f":"nyers!G5&nyers!H5&nyers!I5&nyers!J5&nyers!K5","v":"Pitlik László:A COCO STEP-IX módszer szükségszerűségének felismerése és lépéseinek mibenléte  xx  https://miau.my-x.hu/miau/307/stepix_monitor/"}]
["miau265",{"$f":"nyers!G7&nyers!H7&nyers!I7&nyers!J7&nyers!K7","v":"Pitlik László:Tesztállomány hermeneutikai szélsőségek alátámasztására  xx  https://miau.my-x.hu/miau/307/ksh/"}]
["miau265",{"$f":"nyers!G9&nyers!H9&nyers!I9&nyers!J9&nyers!K9","v":"Anonim Hallgató, Pitlik László:Baromfihús-fogyás előrejelzése lineáris regresszióval, chatGPT-vel és MI-alapon  xx  https://miau.my-x.hu/miau/307/ido_poultry/"}]
["miau265",{"$f":"nyers!G11&nyers!H11&nyers!I11&nyers!J11&nyers!K11","v":"Anonim Hallgató, Pitlik László:Személyes tapasztalatom az életmódváltással - avagy edzésprogramok sikerességének MI-alapú monitorozása  xx  https://miau.my-x.hu/miau/307/eletforma/"}]
["Magyar Internetes Agrárinformatikai Újság (MIAÚ),2020,23,266"]
["miau266",{"$f":"nyers!G13&nyers!H13&nyers!I13&nyers!J13&nyers!K13","v":"Pitlik László:Kölcsönhatások modellezése hasonlóságelemzésekkel  xx  https://miau.my-x.hu/miau/307/nyers-erok_vs_kolcsonhatasok_additiv_multiplikativ.xlsx"}]
["miau266",{"$f":"nyers!G15&nyers!H15&nyers!I15&nyers!J15&nyers!K15","v":"Anonim Hallgató:Context-free gyanúgenerálás önkormányzati adatok alapján - avagy így dolgozna egy robot-oknyomozó riporter  xx  https://miau.my-x.hu/miau/307/robot_gyanugeneralas.xlsx"}]
["miau266",{"$f":"nyers!G17&nyers!H17&nyers!I17&nyers!J17&nyers!K17","v":"Anonim Hallgató:Lehet-e minden év másként egyformán biztonságosnak tekinthető a bűnügyi statisztikák alapján?  xx  https://miau.my-x.hu/miau/307/kozbiztonsag_index.xls"}]
["miau266",{"$f":"nyers!G19&nyers!H19&nyers!I19&nyers!J19&nyers!K19","v":"Anonim Hallgató:Latin nyelvű orvosi szakszavak létjogosultsága Google Trends és Google Adwords adatok alapján  xx  https://miau.my-x.hu/miau/307/magyar_vs_latin.xlsx"}]
["miau266",{"$f":"nyers!G21&nyers!H21&nyers!I21&nyers!J21&nyers!K21","v":"Pitlik László:Álságos chatGPT-definíciók álságos emberi minták következtében  xx  https://miau.my-x.hu/miau/307/bing_mi_rol_tanulas_nelkul.docx"}]
["miau266",{"$f":"nyers!G23&nyers!H23&nyers!I23&nyers!J23&nyers!K23","v":"Anonim Hallgató, Pitlik László:A chatGPT, mint tárgyalás taktikákat támogató szimulátor  xx  https://miau.my-x.hu/miau/307/chatGPT_negotiator_1.docx"}]
["Magyar Internetes Agrárinformatikai Újság (MIAÚ),2020,23,267"]
["miau267",{"$f":"nyers!G25&nyers!H25&nyers!I25&nyers!J25&nyers!K25","v":"Váradi Dániel:Az EU monitoring rendszerének mesterséges intelligencia alapokra helyezése  xx  https://miau.my-x.hu/miau/307/szakdolgozat_vd.pdf"}]
["miau267",{"$f":"nyers!G27&nyers!H27&nyers!I27&nyers!J27&nyers!K27","v":"Vancsura István:Mesterséges intelligencia alkalmazása a közösségi médiában  xx  https://miau.my-x.hu/miau/307/szakdolgozat_vi.pdf"}]
["miau267",{"$f":"nyers!G29&nyers!H29&nyers!I29&nyers!J29&nyers!K29","v":"Bartók Patrik Róbert:Objektív döntésoptimalizálás mesterséges intelligencia bevonásával  xx  https://miau.my-x.hu/miau/307/szakdolgozat_bp.pdf"}]
["miau267",{"$f":"nyers!G31&nyers!H31&nyers!I31&nyers!J31&nyers!K31","v":"Molnár Csanád:Online Dietetikus Szakértő - Mesterséges Intelligencia segítségével  xx  https://miau.my-x.hu/miau/307/odessai_mcs.pdf"}]
["miau267",{"$f":"nyers!G33&nyers!H33&nyers!I33&nyers!J33&nyers!K33","v":"Ódor Márk:Webfejlesztési folyamatok egy AI támogatott dietetikus alkalmazás számára  xx  https://miau.my-x.hu/miau/307/odessai_om.pdf"}]
["miau267",{"$f":"nyers!G35&nyers!H35&nyers!I35&nyers!J35&nyers!K35","v":"István Vancsura:System modelling aspects of the Social-AI project - Part IV-V.  xx  https://miau.my-x.hu/miau/308/System_Modelling_part_4-5.pptx"}]
["miau267",{"$f":"nyers!G37&nyers!H37&nyers!I37&nyers!J37&nyers!K37","v":"István Vancsura:System modelling aspects of the Social-AI project - Part III.  xx  https://miau.my-x.hu/miau/308/System_Modelling_part_3.pptx"}]
["miau267",{"$f":"nyers!G39&nyers!H39&nyers!I39&nyers!J39&nyers!K39","v":"István Vancsura:System modelling aspects of the Social-AI project - Part II.  xx  https://miau.my-x.hu/miau/308/System_Modelling_GANTT.pptx"}]
["miau267",{"$f":"nyers!G41&nyers!H41&nyers!I41&nyers!J41&nyers!K41","v":"Pitlik László és Anonim Hallgatók:Az asztrológia és a mesterséges intelligencia kapcsolata  xx  https://miau.my-x.hu/miau/308/Az_asztrologia_es_az emberi_kapcsolatok_v2.docx"}]
["miau267",{"$f":"nyers!G43&nyers!H43&nyers!I43&nyers!J43&nyers!K43","v":"Varga Norbert, Pitlik László, Szikra Andrea, Nagy Károly Zsolt, Németh Imre, Vancsura István, Rácz Mária:Politológiai haikuk, avagy a természetes és a mesterséges intelligencia ta\u0002lálkozása  xx  https://miau.my-x.hu/miau/309/veszprem_konferencia_AI_haiku_tanulmany.pdf"}]
[null,"***"]

{"sheet":"matarka (3)","index":8,"n_rows":51,"n_cols":2,"rows_kept":51,"cut":false,"hidden":false,"merged":[]}
[null,"***"]
["Magyar Internetes Agrárinformatikai Újság (MIAÚ),2020,23,261"]
[{"$f":"nyers_oldd!F1","v":"miau261"},{"$f":"nyers_oldd!G1&nyers_oldd!H1&nyers_oldd!I1&nyers_oldd!J1&nyers_oldd!K1","v":"Amine Sahraouardi:Beliefs about the Use of Instagram: An Exploratory Study - How to model Instagram characteristics based on country profiles  xx  https://miau.my-x.hu/miau/261/instagram.pdf"}]
[{"$f":"nyers_oldd!F3","v":"miau261"},"Anna Laura Bódis-Luca Klára Bodolay:The learning success of different didactical actions  xx  https://miau.my-x.hu/miau/261/5percent.pdf"]
[{"$f":"nyers_oldd!F5","v":"miau261"},"Pavel Vovchik:Russian Economy between 1992-1998 or preferred terms for political communication/marketing  xx  https://miau.my-x.hu/miau/261/GDP_political_marketing_ru.pdf"]
[{"$f":"nyers_oldd!F7","v":"miau261"},"Dániel Fülöp:Hungarian Economy between 2010-2020 or preferred terms for political communication/marketing  xx  https://miau.my-x.hu/miau/261/GDP_political_marketing.pdf"]
[{"$f":"nyers_oldd!F9","v":"miau261"},"Aqib Masood-Navid Babaei:Management is the best way to increase productivity - or how to prove a hypothesis based on big-data and solver-oriented thinking experiments  xx  https://miau.my-x.hu/miau/261/Management_Project.pdf"]
[{"$f":"nyers_oldd!F11","v":"miau261"},"Raj Md Saidul Islam:How to select the best location for a business activity?  xx  https://miau.my-x.hu/miau/261/How_to_select_the_best_location_for_a_business_activity3.pdf"]
[{"$f":"nyers_oldd!F13","v":"miau261"},"Khalid Hafiz Waqar:Transnational Cooperation for COVID19 Control and Prevention or comparative estimation of the quality of health systems  xx  https://miau.my-x.hu/miau/261/health_management_quality_covid.pdf"]
[{"$f":"nyers_oldd!F15","v":"miau261"},"Kitti Visnyei:Game development approaches - Handling the freedom by players in gamification processes  xx  https://miau.my-x.hu/miau/261/GameDevelopment.pdf"]
[{"$f":"nyers_oldd!F17","v":"miau261"},"Sára Várkonyi:Coronavirus publication - the best-country-view  xx  https://miau.my-x.hu/miau/261/coronavirus_publication_final.pdf"]
[{"$f":"nyers_oldd!F19","v":"miau261"},"Aidana Sanbayeva:Eurovision - event tourism (festivals) as an attractor  xx  https://miau.my-x.hu/miau/261/eurovision.pdf"]
[{"$f":"nyers_oldd!F21","v":"miau261"},"Nadeem Azhar:Pizza to go – A Best Pizza Award – based on a robot judge  xx  https://miau.my-x.hu/miau/261/pizza_award_robot_judge.pdf"]
[{"$f":"nyers_oldd!F23","v":"miau261"},"Lubo Ngoie Junior:Food-Kaleidoscope – The Case of Belgium  xx  https://miau.my-x.hu/miau/261/food_kaleidoscope_belgium.pdf"]
[{"$f":"nyers_oldd!F25","v":"miau261"},"Yama Abdiani:Food-Kaleidoscope – The Case of Zambia  xx  https://miau.my-x.hu/miau/261/food_kaleidoscope_zambia.pdf"]
[{"$f":"nyers_oldd!F27","v":"miau261"},"Shahroze Shahroze:RANKING OF COUNTRIES CONCERNING AI-READINESS/RELATEDNESS OR IMPACTS OF ARTIFICIAL INTELLIGENCE  xx  https://miau.my-x.hu/miau/261/Ranking_of_countries_concerning_AI.pdf"]
[{"$f":"nyers_oldd!F29","v":"miau261"},"Nazir Nelson:Food-Kaleidoscope – The Case of Pakistan  xx  https://miau.my-x.hu/miau/261/Food_Kaleidoscope_Pakistan.pdf"]
[{"$f":"nyers_oldd!F31","v":"miau261"},"Kitoto Ngoie Jennifer:Food-Kaleidoscope – The Case of Congo  xx  https://miau.my-x.hu/miau/261/food_kaleidoscope_case_congo.pdf"]
[{"$f":"nyers_oldd!F33","v":"miau261"},"Dominik Riczó:Europe between 1960 and 1990 or what could derive a robot-historian about the second half of the cold war based on big-data?  xx  https://miau.my-x.hu/miau/261/coldwar_robot-historian_turing-test.pdf"]
[{"$f":"nyers_oldd!F35","v":"miau261"},"Syed Nabeel-Saad Muhammad Adil:2D-matrix game  xx  https://miau.my-x.hu/miau/261/quilt2_2dm_plus.pdf"]
[{"$f":"nyers_oldd!F37","v":"miau261"},"Nadja Oelmüllers:H1N1  xx  https://miau.my-x.hu/miau/261/h1n1.pdf"]
["Magyar Internetes Agrárinformatikai Újság (MIAÚ),2020,23,262"]
[{"$f":"nyers_oldd!F39","v":"miau262"},"Pitlik László-Pitlik László, ifj.:Harmonikus közép számítása Solver-rel  xx  https://miau.my-x.hu/miau/262/3tarcsa.xlsx"]
[{"$f":"nyers_oldd!F41","v":"miau262"},"Pitlik László:Hiányzó adatok becslésének láncreakciói  xx  https://miau.my-x.hu/miau/262/excel_plus.xls"]
[{"$f":"nyers_oldd!F43","v":"miau262"},"Pitlik László:Forecasting-oriented evaluation of further matches based on renewed elo-rating-approaches in frame of similarity analyses  xx  https://miau.my-x.hu/miau/262/exatlon_plus.xlsx"]
[{"$f":"nyers_oldd!F45","v":"miau262"},"Pitlik László:Specifikációt előkészítő egyeztetések – esettanulmány egy szaklap online megjelenésének előkészítésről  xx  https://miau.my-x.hu/miau/262/esettanulmany_online_szaklap.docx"]
[{"$f":"nyers_oldd!F47","v":"miau262"},"Pitlik László:Hipotézis-tervezés PhD-disszertációkhoz  xx  https://miau.my-x.hu/miau/262/hipotezis_tervezes_phd.docx"]
[{"$f":"nyers_oldd!F49","v":"miau262"},"Pitlik László:Egy teszt-kérdéssor párhuzamos világa - esettanulmány  xx  https://miau.my-x.hu/miau/262/igaz-hamis-parhuzamos-ertelmezesek.docx"]
[{"$f":"nyers_oldd!F51","v":"miau262"},"Pitlik László:Szoftver-specifikáció folyamatának lépései – esettanulmány  xx  https://miau.my-x.hu/miau/262/terv_v2.docx"]
[{"$f":"nyers_oldd!F53","v":"miau262"},"Bérczes Balázs:Versicherungen - Vergleich durch objektive Bewertung  xx  https://miau.my-x.hu/miau/262/Versicherung_Vergleich_durch_objektive_Bewertung.docx"]
[{"$f":"nyers_oldd!F55","v":"miau262"},"Pitlik Dóra:A zenei szépség naiv és módszeres értelmezése  xx  https://miau.my-x.hu/miau/262/zenei_szepseg_best_of.xlsx"]
[{"$f":"nyers_oldd!F57","v":"miau262"},"Pitlik László-Pitlik László, ifj.:Storyboard: QuILT 2.0 – Popular-science-level in exam-situations or it would be possible even more? = AI-based modelling the term of decadence  xx  https://miau.my-x.hu/miau/quilt/2020/quilt2/launching2020V13/quilt_2_0_final_exam_decadence_index.docx"]
[{"$f":"nyers_oldd!F59","v":"miau262"},"Pitlik László-Pitlik László, ifj.:Werkfilm: Decadence-index and sustainability-index for the USA  xx  https://miau.my-x.hu/miau/quilt/2020/quilt2/launching2020V13/part7.html"]
[{"$f":"nyers_oldd!F61","v":"miau262"},"Pitlik László-Pitlik László, ifj.:Storyboard: QuILT 2.0 – Layer-integration – or Food-Kaleidoscope-based knowledge tests in 2DM-frames  xx  https://miau.my-x.hu/miau/quilt/2020/quilt2/launching2020V06/quilt_2_0_2dm_and_food_kaleidoscope.docx"]
[{"$f":"nyers_oldd!F63","v":"miau262"},"Pitlik László-Pitlik László, ifj.:Werkfilm: Food-Kaleidoscope-based knowledge-tests in 2DM-frames  xx  https://miau.my-x.hu/miau/quilt/2020/quilt2/launching2020V06/part6.html"]
["Magyar Internetes Agrárinformatikai Újság (MIAÚ),2020,23,263"]
[{"$f":"nyers_oldd!F65","v":"miau263"},"Pitlik László:Erőből történő megoldási kísérletek megalapozása egy geometriai kihívás kapcsán  xx  https://miau.my-x.hu/bprof/router_geometria_erobol.xlsx"]
[{"$f":"nyers_oldd!F67","v":"miau263"},"Pitlik László:Egy közismert IQ-tesztfeladat erőből történő megoldási kísérleteinek megalapozása  xx  https://miau.my-x.hu/bprof/japan_iq_erobol.xlsx"]
[{"$f":"nyers_oldd!F69","v":"miau263"},"Pitlik László-Pitlik László, ifj.:A kongruenciáról - oktatási szintek szerint  xx  https://miau.my-x.hu/bprof/kongruencia_demo.xlsx"]
[{"$f":"nyers_oldd!F71","v":"miau263"},"Pitlik László-Rikk János:Tantárgy-fúziós komplex feladat-variánsok – 2020/2021 őszi (1.) félév – BPROF nappali/levelező  xx  https://miau.my-x.hu/bprof/bprof20202021osz_v3.docx"]
[{"$f":"nyers_oldd!F73","v":"miau263"},"Pitlik László:Universal classification method involving explorative model-bubbles  xx  https://miau.my-x.hu/miau/263/classification_tool.xlsx"]
[{"$f":"nyers_oldd!F75","v":"miau263"},"Pitlik László-Márta Attila:Robot-turisztikai-tanácsadó, avagy az emberi preferencia-hiány automatizált kezelése  xx  https://miau.my-x.hu/miau/263/bank-var-13.xlsx"]
[{"$f":"nyers_oldd!F77","v":"miau263"},"Barta Gergő-Pitlik László:Hipotézis-tervezés PhD-disszertációkhoz - Konzisztens gépi tanuló modellezés beltéri felhasználói lokalizáció meghatározásának pontosítására  xx  https://miau.my-x.hu/miau/263/Barta_Pitlik_final_no_remarks.docx"]
["Magyar Internetes Agrárinformatikai Újság (MIAÚ),2020,23,264"]
[{"$f":"nyers_oldd!F79","v":"miau264"},"Pitlik László:Az autodidakta/kritikus tanulás mintázatai – III. rész  xx  https://miau.my-x.hu/bprof/autodidakta_kritikus_tanulas_mintazatai_p3.docx"]
[{"$f":"nyers_oldd!F81","v":"miau264"},"Pitlik László:Az autodidakta/kritikus tanulás mintázatai – II. rész  xx  https://miau.my-x.hu/bprof/autodidakta_kritikus_tanulas_mintazatai_p2.docx"]
[{"$f":"nyers_oldd!F83","v":"miau264"},"Pitlik László:Az autodidakta/kritikus tanulás mintázatai – I. rész  xx  https://miau.my-x.hu/bprof/autodidakta_kritikus_tanulas_mintazatai.docx"]
[{"$f":"nyers_oldd!F85","v":"miau264"},"Pitlik Marcell:Bevezetés a képfeldolgozásba - autós forgalomszámlálás  xx  https://miau.my-x.hu/miau/264/kepfeldolgozas/hf_ZUBYPT.pdf"]
[{"$f":"nyers_oldd!F87","v":"miau264"},"Pitlik László-Pitlik Marcell-Pitlik Mátyás-Pitlik László, ifj.-Dávid Roland-Lovass László,-Tamás Krisztina,-Mórucz Norbert:EEG-azdálkodás avagy Fenntarthatóság és Pillangó-hatások  xx  https://miau.my-x.hu/miau/264/PL_DR_sustain butterfly hun.pdf"]
[{"$f":"nyers_oldd!F89","v":"miau264"},"Kóródi Gyula-Pitlik László-Rikk János:(Detecting the circaseptan pattern in COVID-19 infections and deaths for quality management of health-related data assets)  xx  https://miau.my-x.hu/miau/264/kb7.pdf"]
[null,"***"]

{"sheet":"matarka (2)","index":9,"n_rows":23,"n_cols":2,"rows_kept":23,"cut":false,"hidden":false,"merged":[]}
[null,"***"]
["Magyar Internetes Agrárinformatikai Újság (MIAÚ),2020,23,259"]
[{"$f":"nyers_oldd!F1","v":"miau261"},"Pitlik László-Pitlik Marcell:Intézményi személetváltási folyamat proaktív előkészítése az IT-szakértők által  xx  https://miau.my-x.hu/miau/quilt/2020/proaktiv_it.docx"]
[{"$f":"nyers_oldd!F3","v":"miau261"},"Pitlik László-Pitlik Marcell:Adatbázis-orientált adatvagyon-gazdálkodás vs. spontán projektmenedzsment  xx  https://miau.my-x.hu/miau/259/afterkickoff.docx"]
[{"$f":"nyers_oldd!F5","v":"miau261"},"Pitlik Dóra:Az online oktatással kapcsolatos kérdések diákok és tanárok között  xx  https://miau.my-x.hu/miau/259/tavoktatas_esethalmaz1.docx"]
[{"$f":"nyers_oldd!F7","v":"miau261"},"Pitlik László:RIS-alapú adatintegrációk: MIAÚ-MATARKA-MTMT (hangosfilm)  xx  https://miau.my-x.hu/miau/259/RIS.docx"]
[{"$f":"nyers_oldd!F9","v":"miau261"},"Pitlik László:Rendszertervezési, specifikáció-készítési, projekt-generálási példák  xx  https://miau.my-x.hu/miau/259/Rendszertervezes_specifikacio_projekt-generalas_demo.docx"]
[{"$f":"nyers_oldd!F11","v":"miau261"},"Anonim Szerzők:Az informatika története  xx  https://miau.my-x.hu/miau/259/tortenet_ppt/Az_informatika_tortenete.pdf"]
[{"$f":"nyers_oldd!F13","v":"miau261"},"Pitlik László-Pitlik Marcell:Információs rendszerek tervezésére való felkészülés IT-laikusok számára  xx  https://miau.my-x.hu/miau/259/erp_special.docx"]
["Magyar Internetes Agrárinformatikai Újság (MIAÚ),2020,23,260"]
[{"$f":"nyers_oldd!F15","v":"miau261"},"Pitlik László-Pitlik László, ifj.:Werkfilm: From \"how to produce an OAM behind an article\" to \"the article/case-study/publication about H1N1\"  xx  https://miau.my-x.hu/miau/quilt/2020/quilt2/launching2020III25/part0.html"]
[{"$f":"nyers_oldd!F17","v":"miau261"},"Pitlik László-Pitlik László, ifj.:Werkfilm: The Robot-Historian & The Cold-War  xx  https://miau.my-x.hu/miau/quilt/2020/quilt2/launching2020IV15/part3.html"]
[{"$f":"nyers_oldd!F19","v":"miau261"},"Pitlik László-Pitlik László, ifj.:Werkfilm: Teach others - based on big-data and solver-oriented AI - Food-Kaleidoscope - The Case Congo  xx  https://miau.my-x.hu/miau/quilt/2020/quilt2/launching2020IV22/part4.html"]
[{"$f":"nyers_oldd!F21","v":"miau261"},"Pitlik László-Pitlik László, ifj.:Werkfilm: Exam-situations based on big-data and solver-oriented AI  xx  https://miau.my-x.hu/miau/quilt/2020/quilt2/launching2020IV29/part5.html"]
[{"$f":"nyers_oldd!F23","v":"miau261"},"Pitlik László-Pitlik László, ifj.:Storyboard: QuILT 2.0, or the new area of the asynchronous distance education/learning - the case of H1N1  xx  https://miau.my-x.hu/miau/quilt/2020/quilt2/launching2020IV08/quilt_2_0.docx"]
[{"$f":"nyers_oldd!F25","v":"miau261"},"Pitlik László-Pitlik László, ifj.:Storyboard: QuILT 2.0 – roundtable of avatars in the asynchronous distance education/learning – the case \"Cold-War\" from a Robot-Historian with a positive Turing-test  xx  https://miau.my-x.hu/miau/quilt/2020/quilt2/launching2020IV15/quilt_2_0_round_table_1_0.docx"]
[{"$f":"nyers_oldd!F27","v":"miau261"},"Pitlik László-Pitlik László, ifj.:Storyboard: QuILT 2.0 – Teach-others with avatars in frame of an asynchronous distance education/learning – the case \"Food-Kaleidoscope\"  xx  https://miau.my-x.hu/miau/quilt/2020/quilt2/launching2020IV22/quilt_2_0_teach_others_1_0.docx"]
[{"$f":"nyers_oldd!F29","v":"miau261"},"Pitlik László-Pitlik László, ifj.:Storyboard: QuILT 2.0 – Exam versions in frame of an asynchronous distance education/learning – the 21st century is here  xx  https://miau.my-x.hu/miau/quilt/2020/quilt2/launching2020IV29/quilt_2_0_exam_version_xxi_century.docx"]
[{"$f":"nyers_oldd!F31","v":"miau261"},"Pitlik László:Food-Kaleidoscope - The Case of Hungary  xx  https://miau.my-x.hu/miau/quilt/2020/quilt2/launching2020IV22/food_kaleidoscope.docx"]
[{"$f":"nyers_oldd!F33","v":"miau261"},"Pitlik László:Turing-test for a Robot-Historian (or about the force fields of the Cold-War based on big-data and AI)  xx  https://miau.my-x.hu/miau/quilt/2020/quilt2/launching2020IV15/turing_test_for_robot_historian_cold_war.docx"]
[{"$f":"nyers_oldd!F35","v":"miau261"},"Pitlik László:H1N1 – SCANDAL? (proving former suspicions - based on an artificial-intelligence- and a big-data-driven approach)  xx  https://miau.my-x.hu/miau/quilt/2020/quilt2/launching2020IV08/H1N1_v1.docx"]
[{"$f":"nyers_oldd!F37","v":"miau261"},"Pitlik László-Pitlik Marcell:Sovereignty-oriented/PLA-based future of the (higher) education or case study how to measure the future-readiness?!  xx  https://miau.my-x.hu/miau/quilt/2020/sovereignty-pla.docx"]
[null,"***"]

{"sheet":"matarka_old","index":10,"n_rows":30,"n_cols":2,"rows_kept":30,"cut":false,"hidden":false,"merged":[]}
[null,"***"]
["Magyar Internetes Agrárinformatikai Újság (MIAÚ),2018,21,239"]
[{"$f":"nyers_old!F1","v":"miau239"},"Pitlik László-Pitlik Marcell-Pitlik Mátyás-Pitlik László, ifj. :Közlekedési döntések racionalitásának modellezése   xx  http://miau.gau.hu/miau/239/kvant_behavior_patterns_v1.docx"]
[{"$f":"nyers_old!F3","v":"miau239"},"Pitlik László-Pitlik Marcell:Konzisztencia-orientált modell-hibridizáció látszólag triviális műszaki jelenségek kezelésére  xx  http://miau.gau.hu/miau/239/konzisztencia_alapu_hibridizacio_v1.docx"]
[{"$f":"nyers_old!F5","v":"miau239"},{"$f":"nyers_old!G5&nyers_old!H5&nyers_old!I5&nyers_old!J5&nyers_old!K5","v":"Pitlik László:Konzisztencia-orientált előrejelzés és foresight a kortárs jövőkutatásban  xx  http://miau.gau.hu/miau/239/2Pitlik_Laszlo_konzisztencia_full.docx"}]
[{"$f":"nyers_old!F7","v":"miau239"},{"$f":"nyers_old!G7&nyers_old!H7&nyers_old!I7&nyers_old!J7&nyers_old!K7","v":"Pitlik László:Kivonatok: Konzisztencia-orientált előrejelzés és foresight a kortárs jövőkutatásban  xx  http://miau.gau.hu/miau/239/2Pitlik_Laszlo_konzisztencia.docx"}]
[{"$f":"nyers_old!F9","v":"miau239"},"Pitlik László-Pitlik László, ifj.-Pitlik Mátyás-Pitlik Marcell-Gyimesi Áron:Development of smart traffic evaluation- and influence-modules\u000bbased on non-declarative rules of artificial intelligence  xx  http://miau.gau.hu/miau/239/kosice.pptx"]
["Magyar Internetes Agrárinformatikai Újság (MIAÚ),2018,21,240"]
[{"$f":"nyers_old!F11","v":"miau240"},"Pitlik László-Pitlik Marcell-Pitlik Mátyás-Pitlik László, ifj. :Lámpa-terhelésindex számítása lámpaprogram-sorrendek becslése érdekében  xx  http://miau.gau.hu/miau/240/lampaprogramok_versenye.docx"]
[{"$f":"nyers_old!F13","v":"miau240"},"Pitlik László-Pitlik Marcell-Pitlik Mátyás-Pitlik László, ifj. :Döntéstámogatási operatív rétegek a közlekedés-optimalizálásban I. rész  xx  http://miau.gau.hu/miau/240/traffic_layers_1.docx"]
[{"$f":"nyers_old!F15","v":"miau240"},"Pitlik László-Pitlik Marcell-Pitlik Mátyás-Pitlik László, ifj. :Közlekedési lámpák ki/be-kapcsolásának mesterséges intelligencia-alapú vezérlése  xx  http://miau.gau.hu/miau/240/lampa_ki_be.docx"]
[{"$f":"nyers_old!F17","v":"miau240"},"Pitlik László-Pitlik Marcell-Pitlik Mátyás-Pitlik László, ifj. :Játékosított keretrendszerben történő tanulás log-adatainak elemzése  xx  http://miau.gau.hu/miau/240/2dm_phase2.docx"]
[{"$f":"nyers_old!F19","v":"miau240"},{"$f":"nyers_old!G19&nyers_old!H19&nyers_old!I19&nyers_old!J19&nyers_old!K19","v":"Barta Gergő:Szakirodalmi alapozás és kutatási terv, avagy egy komplex vizsga dokumentumai  xx  http://miau.gau.hu/miau/240/komplex/"}]
[{"$f":"nyers_old!F21","v":"miau240"},{"$f":"nyers_old!G21&nyers_old!H21&nyers_old!I21&nyers_old!J21&nyers_old!K21","v":"Czúni Dániel:A LEADER-jelenség \"hatása\", avagy kezdeti lépések az \"Innovátorrá\" válás útján  xx  http://miau.gau.hu/miau/240/100.docx"}]
[{"$f":"nyers_old!F23","v":"miau240"},"Pitlik László-Pitlik Marcell :A minden másként egyforma elv hatása az összefüggéskeresésre és az anomália-feltárásra   xx  http://miau.gau.hu/miau/240/x2y2r2.xlsx"]
["Magyar Internetes Agrárinformatikai Újság (MIAÚ),2018,21,238"]
[{"$f":"nyers_old!F25","v":"miau238"},"Pitlik László-Pitlik László, ifj.-Pitlik Marcell:Rosling-animációk didaktikai potenciálja a tanításban/tanulásban  xx  http://miau.gau.hu/miau/238/mmo2018_rosling.pptx"]
[{"$f":"nyers_old!F27","v":"miau238"},"Pitlik László-Pitlik László, ifj.-Pitlik Mátyás:Játékosított keretrendszerben történő tanulásból nyert log-adatokra alapozó profilírozás  xx  http://miau.gau.hu/miau/238/mmo2018_2dm.pptx"]
[{"$f":"nyers_old!F29","v":"miau238"},"Pitlik László-Pitlik László, ifj.-Pitlik Mátyás:Játékosított keretrendszerben történő tanulásból nyert log-adatokra alapozó profilírozás  xx  http://miau.gau.hu/miau/238/mmo2018_2dm_vagott.mp3"]
[{"$f":"nyers_old!F31","v":"miau238"},"Pitlik László-Pitlik László, ifj.-Pitlik Mátyás-Pitlik Marcell-Gyimesi Áron:Development of smart traffic evaluation- and influence-modules based on non-declarative rules of artificial intelligence  xx  http://miau.gau.hu/miau/238/Manuscript_Template_2017_myx.docx"]
[{"$f":"nyers_old!F33","v":"miau238"},{"$f":"nyers_old!G33&nyers_old!H33&nyers_old!I33&nyers_old!J33&nyers_old!K33","v":"Pitlik Mátyás:2DM-keretrendszer  xx  http://miau.gau.hu/miau/238/2dm"}]
[{"$f":"nyers_old!F35","v":"miau238"},"Pitlik László-Pitlik László, ifj.-Pitlik Marcell:Rosling-animációk didaktikai potenciálja a tanításban/tanulásban  xx  http://miau.gau.hu/miau/238/rosling_didactics.doc"]
[{"$f":"nyers_old!F37","v":"miau238"},"Pitlik László-Pitlik László, ifj.-Pitlik Marcell:Rosling-animációk didaktikai potenciálja a tanításban/tanulásban  xx  http://miau.gau.hu/miau/238/rosling_didactics_full_v1.doc"]
[{"$f":"nyers_old!F39","v":"miau238"},"Pitlik László-Pitlik László, ifj.-Pitlik Mátyás:Játékosított keretrendszerben történő tanulásból nyert log-adatokra alapozó profilírozás  xx  http://miau.gau.hu/miau/238/log_profile_full_v2.doc"]
[{"$f":"nyers_old!F41","v":"miau238"},"Pitlik László-Pitlik László, ifj.-Pitlik Mátyás:Játékosított keretrendszerben történő tanulásból nyert log-adatokra alapozó profilírozás  xx  http://miau.gau.hu/miau/238/log_profile.doc"]
[{"$f":"nyers_old!F43","v":"miau238"},"Pitlik László-Szani Ferenc-Mihályi Gabriella:A tacit tudás tudásmérnöki kezelésének lehetőségei a mesterséges intelligencia-alapú fogalomalkotás keretei között  xx  http://miau.gau.hu/miau/238/tacit_v1.pptx"]
[{"$f":"nyers_old!F45","v":"miau238"},"Pitlik László-Szani Ferenc-Mihályi Gabriella:A tacit tudás tudásmérnöki kezelésének lehetőségei a mesterséges intelligencia-alapú fogalomalkotás keretei között  xx  http://miau.gau.hu/miau/238/tacit_v1.docx"]
[{"$f":"nyers_old!F47","v":"miau238"},{"$f":"nyers_old!G47&nyers_old!H47&nyers_old!I47&nyers_old!J47&nyers_old!K47","v":"Pitlik László:A kiemelt figyelmet elváró jelenségek feltárásának modellezése  xx  http://miau.gau.hu/miau/238/exploring_critical_attributes_for_risk_management_v1.docx"}]
[null,"***"]
[null,{"$f":"nyers_old!G66&nyers_old!H66&nyers_old!I66&nyers_old!J66&nyers_old!K66","v":""}]

{"sheet":"matarka_SOK_KEPLET_HELYESEN","index":11,"n_rows":129,"n_cols":2,"rows_kept":129,"cut":false,"hidden":false,"merged":[]}
[null,"***"]
["Magyar Internetes Agrárinformatikai Újság (MIAÚ),2023,26,293"]
[{"$f":"nyers!A225","v":0},{"$f":"nyers!G1&nyers!H1&nyers!I1&nyers!J1&nyers!K1","v":"Anonim Hallgató, Pitlik László:Selejtezés szubjektív szabályok mentén és optimalizált, automatizált szabály-felismerés alapján  xx  https://miau.my-x.hu/miau/307/selejtezes/"}]
[{"$f":"nyers!A226","v":0},{"$f":"nyers!G3&nyers!H3&nyers!I3&nyers!J3&nyers!K3","v":"Pitlik László:A COCO STEP-IX módszer szükségszerűségének felismerése és lépéseinek mibenléte - 2  xx  https://miau.my-x.hu/miau/307/stepix_okostelefon/"}]
[{"$f":"nyers!A227","v":0},{"$f":"nyers!G5&nyers!H5&nyers!I5&nyers!J5&nyers!K5","v":"Pitlik László:A COCO STEP-IX módszer szükségszerűségének felismerése és lépéseinek mibenléte  xx  https://miau.my-x.hu/miau/307/stepix_monitor/"}]
[{"$f":"nyers!A228","v":0},{"$f":"nyers!G7&nyers!H7&nyers!I7&nyers!J7&nyers!K7","v":"Pitlik László:Tesztállomány hermeneutikai szélsőségek alátámasztására  xx  https://miau.my-x.hu/miau/307/ksh/"}]
[{"$f":"nyers!A229","v":0},{"$f":"nyers!G9&nyers!H9&nyers!I9&nyers!J9&nyers!K9","v":"Anonim Hallgató, Pitlik László:Baromfihús-fogyás előrejelzése lineáris regresszióval, chatGPT-vel és MI-alapon  xx  https://miau.my-x.hu/miau/307/ido_poultry/"}]
[{"$f":"nyers!A230","v":0},{"$f":"nyers!G11&nyers!H11&nyers!I11&nyers!J11&nyers!K11","v":"Anonim Hallgató, Pitlik László:Személyes tapasztalatom az életmódváltással - avagy edzésprogramok sikerességének MI-alapú monitorozása  xx  https://miau.my-x.hu/miau/307/eletforma/"}]
[{"$f":"nyers!A231","v":0},{"$f":"nyers!G13&nyers!H13&nyers!I13&nyers!J13&nyers!K13","v":"Pitlik László:Kölcsönhatások modellezése hasonlóságelemzésekkel  xx  https://miau.my-x.hu/miau/307/nyers-erok_vs_kolcsonhatasok_additiv_multiplikativ.xlsx"}]
[{"$f":"nyers!A232","v":0},{"$f":"nyers!G15&nyers!H15&nyers!I15&nyers!J15&nyers!K15","v":"Anonim Hallgató:Context-free gyanúgenerálás önkormányzati adatok alapján - avagy így dolgozna egy robot-oknyomozó riporter  xx  https://miau.my-x.hu/miau/307/robot_gyanugeneralas.xlsx"}]
[{"$f":"nyers!A233","v":0},{"$f":"nyers!G17&nyers!H17&nyers!I17&nyers!J17&nyers!K17","v":"Anonim Hallgató:Lehet-e minden év másként egyformán biztonságosnak tekinthető a bűnügyi statisztikák alapján?  xx  https://miau.my-x.hu/miau/307/kozbiztonsag_index.xls"}]
[{"$f":"nyers!A234","v":0},{"$f":"nyers!G19&nyers!H19&nyers!I19&nyers!J19&nyers!K19","v":"Anonim Hallgató:Latin nyelvű orvosi szakszavak létjogosultsága Google Trends és Google Adwords adatok alapján  xx  https://miau.my-x.hu/miau/307/magyar_vs_latin.xlsx"}]
[{"$f":"nyers!A235","v":0},{"$f":"nyers!G21&nyers!H21&nyers!I21&nyers!J21&nyers!K21","v":"Pitlik László:Álságos chatGPT-definíciók álságos emberi minták következtében  xx  https://miau.my-x.hu/miau/307/bing_mi_rol_tanulas_nelkul.docx"}]
[{"$f":"nyers!A236","v":0},{"$f":"nyers!G23&nyers!H23&nyers!I23&nyers!J23&nyers!K23","v":"Anonim Hallgató, Pitlik László:A chatGPT, mint tárgyalás taktikákat támogató szimulátor  xx  https://miau.my-x.hu/miau/307/chatGPT_negotiator_1.docx"}]
[{"$f":"nyers!A237","v":0},{"$f":"nyers!G25&nyers!H25&nyers!I25&nyers!J25&nyers!K25","v":"Váradi Dániel:Az EU monitoring rendszerének mesterséges intelligencia alapokra helyezése  xx  https://miau.my-x.hu/miau/307/szakdolgozat_vd.pdf"}]
[{"$f":"nyers!A238","v":0},{"$f":"nyers!G27&nyers!H27&nyers!I27&nyers!J27&nyers!K27","v":"Vancsura István:Mesterséges intelligencia alkalmazása a közösségi médiában  xx  https://miau.my-x.hu/miau/307/szakdolgozat_vi.pdf"}]
[{"$f":"nyers!A239","v":0},{"$f":"nyers!G29&nyers!H29&nyers!I29&nyers!J29&nyers!K29","v":"Bartók Patrik Róbert:Objektív döntésoptimalizálás mesterséges intelligencia bevonásával  xx  https://miau.my-x.hu/miau/307/szakdolgozat_bp.pdf"}]
[{"$f":"nyers!A240","v":0},{"$f":"nyers!G31&nyers!H31&nyers!I31&nyers!J31&nyers!K31","v":"Molnár Csanád:Online Dietetikus Szakértő - Mesterséges Intelligencia segítségével  xx  https://miau.my-x.hu/miau/307/odessai_mcs.pdf"}]
[{"$f":"nyers!A241","v":0},{"$f":"nyers!G33&nyers!H33&nyers!I33&nyers!J33&nyers!K33","v":"Ódor Márk:Webfejlesztési folyamatok egy AI támogatott dietetikus alkalmazás számára  xx  https://miau.my-x.hu/miau/307/odessai_om.pdf"}]
[{"$f":"nyers!A242","v":0},{"$f":"nyers!G35&nyers!H35&nyers!I35&nyers!J35&nyers!K35","v":"István Vancsura:System modelling aspects of the Social-AI project - Part IV-V.  xx  https://miau.my-x.hu/miau/308/System_Modelling_part_4-5.pptx"}]
[{"$f":"nyers!A243","v":0},{"$f":"nyers!G37&nyers!H37&nyers!I37&nyers!J37&nyers!K37","v":"István Vancsura:System modelling aspects of the Social-AI project - Part III.  xx  https://miau.my-x.hu/miau/308/System_Modelling_part_3.pptx"}]
["Magyar Internetes Agrárinformatikai Újság (MIAÚ),2023,26,294"]
[{"$f":"nyers!A244","v":0},{"$f":"nyers!G39&nyers!H39&nyers!I39&nyers!J39&nyers!K39","v":"István Vancsura:System modelling aspects of the Social-AI project - Part II.  xx  https://miau.my-x.hu/miau/308/System_Modelling_GANTT.pptx"}]
[{"$f":"nyers!A245","v":0},{"$f":"nyers!G41&nyers!H41&nyers!I41&nyers!J41&nyers!K41","v":"Pitlik László és Anonim Hallgatók:Az asztrológia és a mesterséges intelligencia kapcsolata  xx  https://miau.my-x.hu/miau/308/Az_asztrologia_es_az emberi_kapcsolatok_v2.docx"}]
[{"$f":"nyers!A246","v":0},{"$f":"nyers!G43&nyers!H43&nyers!I43&nyers!J43&nyers!K43","v":"Varga Norbert, Pitlik László, Szikra Andrea, Nagy Károly Zsolt, Németh Imre, Vancsura István, Rácz Mária:Politológiai haikuk, avagy a természetes és a mesterséges intelligencia ta\u0002lálkozása  xx  https://miau.my-x.hu/miau/309/veszprem_konferencia_AI_haiku_tanulmany.pdf"}]
[{"$f":"nyers!A247","v":0},{"$f":"nyers!G45&nyers!H45&nyers!I45&nyers!J45&nyers!K45","v":"Váradi Dániel, Pitlik László:A homogenitás és az autonómia fogalmak kapcsolata egymással és a mesterséges intelligencia lehetőségeivel  xx  https://miau.my-x.hu/miau/308/homogenitas_autonomia_final.docx"}]
[{"$f":"nyers!A248","v":0},{"$f":"nyers!G47&nyers!H47&nyers!I47&nyers!J47&nyers!K47","v":"Dániel Váradi:FULL-TEXT: Business Process Management - Case study: Evaluation/monitoring projects based on EU-statistics  xx  https://miau.my-x.hu/miau/308/bpm_eu.docx"}]
[{"$f":"nyers!A249","v":0},{"$f":"nyers!G49&nyers!H49&nyers!I49&nyers!J49&nyers!K49","v":"Dániel Váradi:PPT: Business Process Management - Case study: Evaluation/monitoring projects based on EU-statistics  xx  https://miau.my-x.hu/miau/308/bpm_eu.pptx"}]
[{"$f":"nyers!A250","v":0},{"$f":"nyers!G51&nyers!H51&nyers!I51&nyers!J51&nyers!K51","v":"István Vancsura:System modelling aspects of the Social-AI project  xx  https://miau.my-x.hu/miau/308/modelling_socialai.pptx"}]
[{"$f":"nyers!A251","v":0},{"$f":"nyers!G53&nyers!H53&nyers!I53&nyers!J53&nyers!K53","v":"Szauder Veronika:ÚJGENERÁCIÓS MÓDSZEREK A MATEMATIKA OKTATÁSBAN - MI  xx  https://miau.my-x.hu/miau/308/matematika_MI.docx"}]
[{"$f":"nyers!A252","v":0},{"$f":"nyers!G55&nyers!H55&nyers!I55&nyers!J55&nyers!K55","v":"Dániel Váradi, László Pitlik, Marcell Pitlik, László Pitlik (Jr.), Mátyás Pitlik:MP4: ABOUT A NEW, HYBRIDIZED TIME-SERIES ANALYSIS METHOD BASED ON SIMILARITY ANALYSES AND MULTIDIMENSIONAL TIME-LAYERING TECHNIQUES  xx  https://miau.my-x.hu/miau/308/mudita.mp4"}]
[{"$f":"nyers!A253","v":0},{"$f":"nyers!G57&nyers!H57&nyers!I57&nyers!J57&nyers!K57","v":"Dániel Váradi, László Pitlik, Marcell Pitlik, László Pitlik (Jr.), Mátyás Pitlik:PPT: ABOUT A NEW, HYBRIDIZED TIME-SERIES ANALYSIS METHOD BASED ON SIMILARITY ANALYSES AND MULTIDIMENSIONAL TIME-LAYERING TECHNIQUES  xx  https://miau.my-x.hu/miau/308/Introducing_MUDITA.pptx"}]
[{"$f":"nyers!A254","v":0},{"$f":"nyers!G59&nyers!H59&nyers!I59&nyers!J59&nyers!K59","v":"Dániel Váradi, László Pitlik, Marcell Pitlik, László Pitlik (Jr.), Mátyás Pitlik:ABS: ABOUT A NEW, HYBRIDIZED TIME-SERIES ANALYSIS METHOD BASED ON SIMILARITY ANALYSES AND MULTIDIMENSIONAL TIME-LAYERING TECHNIQUES  xx  https://miau.my-x.hu/miau/308/abs_new_time_series_analysis_method_mudita.docx"}]
[{"$f":"nyers!A255","v":0},{"$f":"nyers!G61&nyers!H61&nyers!I61&nyers!J61&nyers!K61","v":"Dániel Váradi, László Pitlik, Marcell Pitlik, László Pitlik (Jr.), Mátyás Pitlik:FULL-TEXT: ABOUT A NEW, HYBRIDIZED TIME-SERIES ANALYSIS METHOD BASED ON SIMILARITY ANALYSES AND MULTIDIMENSIONAL TIME-LAYERING TECHNIQUES  xx  https://miau.my-x.hu/miau/308/full_new_time_series_analysis_method_mudita.docx"}]
[{"$f":"nyers!A256","v":0},{"$f":"nyers!G63&nyers!H63&nyers!I63&nyers!J63&nyers!K63","v":"László Pitlik:Solver-miracles?! - instead of classic solutions  xx  https://miau.my-x.hu/miau/309/x2-x3-12.xlsx"}]
[{"$f":"nyers!A257","v":0},{"$f":"nyers!G65&nyers!H65&nyers!I65&nyers!J65&nyers!K65","v":"Pitlik László:Melyik fájl éri meg lementeni leginkább a többi állományhoz képest?  xx  https://miau.my-x.hu/miau/309/which_files_worth_downloading.xlsx"}]
[{"$f":"nyers!A258","v":0},{"$f":"nyers!G67&nyers!H67&nyers!I67&nyers!J67&nyers!K67","v":"Váradi Dániel:Az EU-homogenitás és a piaci stratégiák kapcsolata  xx  https://miau.my-x.hu/miau/309/homogenitas_es_piac.pptx"}]
["Magyar Internetes Agrárinformatikai Újság (MIAÚ),2023,26,295"]
[{"$f":"nyers!A259","v":0},{"$f":"nyers!G69&nyers!H69&nyers!I69&nyers!J69&nyers!K69","v":"Váradi Dániel:A MOL átfogó mérlegelemzése MI segítségével  xx  https://miau.my-x.hu/miau/309/mol.pptx"}]
[{"$f":"nyers!A260","v":0},{"$f":"nyers!G71&nyers!H71&nyers!I71&nyers!J71&nyers!K71","v":"Vancsura István:Application of Artificial Intelligence in Social Media - Social AI - Part 2 – Implementation  xx  https://miau.my-x.hu/miau/309/Social_AI_Part_2.pdf"}]
[{"$f":"nyers!A261","v":0},{"$f":"nyers!G73&nyers!H73&nyers!I73&nyers!J73&nyers!K73","v":"Pitlik László:MP3: MI, avagy tévhitek és benchmarkok? - Miért érdemes új korszakhatárként tekinteni?  xx  https://miau.my-x.hu/miau/309/20240425_bekescsaba.mp4"}]
[{"$f":"nyers!A262","v":0},{"$f":"nyers!G75&nyers!H75&nyers!I75&nyers!J75&nyers!K75","v":"Kiss László:Országgyűlési felszólalások elemzése külpolitikai viszonylatban  xx  https://miau.my-x.hu/miau/309/parlamenti_hozzaszolasok/Kiss L Parlament ciklusok_kulpolitika.docx"}]
[{"$f":"nyers!A263","v":0},{"$f":"nyers!G77&nyers!H77&nyers!I77&nyers!J77&nyers!K77","v":"Pitlik Dóra, Tóth Rita:PPT: NAPELEMEK TELJESÍTMÉNY-VISZONYAINAK VIZSGÁLATA  xx  https://miau.my-x.hu/miau/309/pd_tdk/Pitlik_Dora-Toth_Rita_36OTDK.pptx"}]
[{"$f":"nyers!A264","v":0},{"$f":"nyers!G79&nyers!H79&nyers!I79&nyers!J79&nyers!K79","v":"Pitlik Dóra, Tóth Rita:ABS: NAPELEMEK TELJESÍTMÉNY-VISZONYAINAK VIZSGÁLATA  xx  https://miau.my-x.hu/miau/309/pd_tdk/ITDK_resume.docx"}]
[{"$f":"nyers!A265","v":0},{"$f":"nyers!G81&nyers!H81&nyers!I81&nyers!J81&nyers!K81","v":"Pitlik Dóra, Tóth Rita:FULL-TEXT: NAPELEMEK TELJESÍTMÉNY-VISZONYAINAK VIZSGÁLATA  xx  https://miau.my-x.hu/miau/309/pd_tdk/OTDK-2023-Pitlik-Toth.pdf"}]
[{"$f":"nyers!A266","v":0},{"$f":"nyers!G83&nyers!H83&nyers!I83&nyers!J83&nyers!K83","v":"Pitlik Dóra:PPT: Stratégiai tanácsadás a távmunka népszerűsítésének szükségszerűségéről (Google Trends társadalomlélektani adatai alapján)  xx  https://miau.my-x.hu/miau/309/GD/5gk7rm5.pptx"}]
[{"$f":"nyers!A267","v":0},{"$f":"nyers!G85&nyers!H85&nyers!I85&nyers!J85&nyers!K85","v":"Pitlik Dóra:Stratégiai tanácsadás a távmunka népszerűsítésének szükségszerűségéről (Google Trends társadalomlélektani adatai alapján)  xx  https://miau.my-x.hu/miau/309/GD/5gk7rm5.docx"}]
[{"$f":"nyers!A268","v":0},{"$f":"nyers!G87&nyers!H87&nyers!I87&nyers!J87&nyers!K87","v":"Dániel Váradi, László Pitlik (Jr.), Mátyás Pitlik, László Pitlik:Homogeneity analysis for sustainable regions – case study: Mezőföld  xx  https://miau.my-x.hu/miau/311/mezofold/full_region_team_sustainability_analyses.pdf"}]
[{"$f":"nyers!A269","v":0},{"$f":"nyers!G89&nyers!H89&nyers!I89&nyers!J89&nyers!K89","v":"Anonim Hallgatók:SUDOKU megoldások Solver-rel  xx  https://miau.my-x.hu/miau/310/sudoku/"}]
[{"$f":"nyers!A270","v":0},{"$f":"nyers!G91&nyers!H91&nyers!I91&nyers!J91&nyers!K91","v":"Angyal János, Pitlik László:COCO-STEP-IX gyorsított és teljes eljárások összevetése és ezek hatásai a részeredményekre, ill. a végeredményre  xx  https://miau.my-x.hu/miau/310/szerver_ar_telj_stepix_gyorsitott_teljes21.xlsx"}]
[{"$f":"nyers!A271","v":0},{"$f":"nyers!G93&nyers!H93&nyers!I93&nyers!J93&nyers!K93","v":"Csaba Sebők:ChatGPT & Barkochba (20-question-games)  xx  https://miau.my-x.hu/miau/310/ChatGPT_Can_you_guess_my_words.docx"}]
["Magyar Internetes Agrárinformatikai Újság (MIAÚ),2023,26,296"]
[{"$f":"nyers!A272","v":0},{"$f":"nyers!G95&nyers!H95&nyers!I95&nyers!J95&nyers!K95","v":"Pitlik László:INDIREKT()-Excel-függvényre alapozott programozás az adatvagyon-minőségbiztosítás példája kapcsán  xx  https://miau.my-x.hu/miau/310/OAM_99_60_1kor.xlsx"}]
[{"$f":"nyers!A273","v":0},{"$f":"nyers!G97&nyers!H97&nyers!I97&nyers!J97&nyers!K97","v":"Pitlik László:Attribútum-arányok és az inverzió-alapú validálás  xx  https://miau.my-x.hu/miau/310/arany_inverz.xlsx"}]
[{"$f":"nyers!A274","v":0},{"$f":"nyers!G99&nyers!H99&nyers!I99&nyers!J99&nyers!K99","v":"Anonim Hallgató:Creating texts for English lessons - chatGPT-experiments  xx  https://miau.my-x.hu/miau/310/chatGPT_problems_with_English_Lesson_materials.docx"}]
[{"$f":"nyers!A275","v":0},{"$f":"nyers!G101&nyers!H101&nyers!I101&nyers!J101&nyers!K101","v":"Lengyel Kíra Anna, Gulyás Léna, Simon Damarisz, Pitlik László:AI a filmes szakmában  xx  https://miau.my-x.hu/miau/310/AI_a_filmes_szakmaban.doc"}]
[{"$f":"nyers!A276","v":0},{"$f":"nyers!G103&nyers!H103&nyers!I103&nyers!J103&nyers!K103","v":"Ökrös Adrienn:Digitalizáció és RPA egy logisztikai irodában  xx  https://miau.my-x.hu/miau/310/rpa_casestudy_hu.docx"}]
[{"$f":"nyers!A277","v":0},{"$f":"nyers!G105&nyers!H105&nyers!I105&nyers!J105&nyers!K105","v":"Megyes István:Elektroenkefalográfia jelek feldolgozása gépi tanulással  xx  https://miau.my-x.hu/miau/310/L38TRN_Megyes_Nemes_SZAKDOLGOZAT.pdf"}]
[{"$f":"nyers!A278","v":0},{"$f":"nyers!G107&nyers!H107&nyers!I107&nyers!J107&nyers!K107","v":"Anonim Hallgató:Létezhető ChatGPT-aktivitás rendszer általi megtagadása, s kérlelésre való végrehajtása (Begging-modus in chatGPT in case of hidden system-competencies)  xx  https://miau.my-x.hu/miau/310/chatGPT_parancs_helyett_kerlelesre.jpg"}]
[{"$f":"nyers!A279","v":0},{"$f":"nyers!G109&nyers!H109&nyers!I109&nyers!J109&nyers!K109","v":"Loboda Bence, Pitlik László:Szubjektív és objektív érveléskultúra, avagy elvek és példák  xx  https://miau.my-x.hu/miau/310/szubjektivitas_vs_objektivitas_ember_chatGPT_OAM.docx"}]
[{"$f":"nyers!A280","v":0},{"$f":"nyers!G111&nyers!H111&nyers!I111&nyers!J111&nyers!K111","v":"Anonim Hallgató:Létezhető ChatGPT-aktivitás rendszer általi megtagadása, s parancsra való végrehajtása  xx  https://miau.my-x.hu/miau/310/chatGPT_parancsra.docx"}]
[{"$f":"nyers!A281","v":0},{"$f":"nyers!G113&nyers!H113&nyers!I113&nyers!J113&nyers!K113","v":"László Pitlik:Solo and doubled anti-discriminative (Y0) similarity analyses and their relationships  xx  https://miau.my-x.hu/miau/310/y0_doubled.xlsx"}]
[{"$f":"nyers!A282","v":0},{"$f":"nyers!G115&nyers!H115&nyers!I115&nyers!J115&nyers!K115","v":"0:0  xx  "}]
[{"$f":"nyers!A283","v":0},{"$f":"nyers!G117&nyers!H117&nyers!I117&nyers!J117&nyers!K117","v":"0:0  xx  "}]
[{"$f":"nyers!A284","v":0},{"$f":"nyers!G119&nyers!H119&nyers!I119&nyers!J119&nyers!K119","v":"0:0  xx  "}]
["Magyar Internetes Agrárinformatikai Újság (MIAÚ),2023,26,297"]
[{"$f":"nyers!A285","v":0},{"$f":"nyers!G121&nyers!H121&nyers!I121&nyers!J121&nyers!K121","v":"0:0  xx  "}]
[{"$f":"nyers!A286","v":0},{"$f":"nyers!G123&nyers!H123&nyers!I123&nyers!J123&nyers!K123","v":"0:0  xx  "}]
[{"$f":"nyers!A287","v":0},{"$f":"nyers!G125&nyers!H125&nyers!I125&nyers!J125&nyers!K125","v":"0:0  xx  "}]
[{"$f":"nyers!A288","v":0},{"$f":"nyers!G127&nyers!H127&nyers!I127&nyers!J127&nyers!K127","v":"0:0  xx  "}]
[{"$f":"nyers!A289","v":0},{"$f":"nyers!G129&nyers!H129&nyers!I129&nyers!J129&nyers!K129","v":"0:0  xx  "}]
[{"$f":"nyers!A290","v":0},{"$f":"nyers!G131&nyers!H131&nyers!I131&nyers!J131&nyers!K131","v":"0:0  xx  "}]
[{"$f":"nyers!A291","v":0},{"$f":"nyers!G133&nyers!H133&nyers!I133&nyers!J133&nyers!K133","v":"0:0  xx  "}]
[{"$f":"nyers!A292","v":0},{"$f":"nyers!G135&nyers!H135&nyers!I135&nyers!J135&nyers!K135","v":"0:0  xx  "}]
[{"$f":"nyers!A293","v":0},{"$f":"nyers!G137&nyers!H137&nyers!I137&nyers!J137&nyers!K137","v":"0:0  xx  "}]
[{"$f":"nyers!A294","v":0},{"$f":"nyers!G139&nyers!H139&nyers!I139&nyers!J139&nyers!K139","v":"0:0  xx  "}]
[{"$f":"nyers!A295","v":0},{"$f":"nyers!G141&nyers!H141&nyers!I141&nyers!J141&nyers!K141","v":"0:0  xx  "}]
[{"$f":"nyers!A296","v":0},{"$f":"nyers!G143&nyers!H143&nyers!I143&nyers!J143&nyers!K143","v":"0:0  xx  "}]
[{"$f":"nyers!A297","v":0},{"$f":"nyers!G145&nyers!H145&nyers!I145&nyers!J145&nyers!K145","v":"0:0  xx  "}]
[{"$f":"nyers!A298","v":0},{"$f":"nyers!G147&nyers!H147&nyers!I147&nyers!J147&nyers!K147","v":"0:0  xx  "}]
[{"$f":"nyers!A299","v":0},{"$f":"nyers!G149&nyers!H149&nyers!I149&nyers!J149&nyers!K149","v":"0:0  xx  "}]
[{"$f":"nyers!A300","v":0},{"$f":"nyers!G151&nyers!H151&nyers!I151&nyers!J151&nyers!K151","v":"0:0  xx  "}]
[{"$f":"nyers!A301","v":0},{"$f":"nyers!G153&nyers!H153&nyers!I153&nyers!J153&nyers!K153","v":"0:0  xx  "}]
[{"$f":"nyers!A302","v":0},{"$f":"nyers!G155&nyers!H155&nyers!I155&nyers!J155&nyers!K155","v":"0:0  xx  "}]
[{"$f":"nyers!A303","v":0},{"$f":"nyers!G157&nyers!H157&nyers!I157&nyers!J157&nyers!K157","v":"0:0  xx  "}]
["Magyar Internetes Agrárinformatikai Újság (MIAÚ),2023,26,298"]
[{"$f":"nyers!A304","v":0},{"$f":"nyers!G159&nyers!H159&nyers!I159&nyers!J159&nyers!K159","v":"0:0  xx  "}]
[{"$f":"nyers!A305","v":0},{"$f":"nyers!G161&nyers!H161&nyers!I161&nyers!J161&nyers!K161","v":"0:0  xx  "}]
[{"$f":"nyers!A306","v":0},{"$f":"nyers!G163&nyers!H163&nyers!I163&nyers!J163&nyers!K163","v":"0:0  xx  "}]
[{"$f":"nyers!A307","v":0},{"$f":"nyers!G165&nyers!H165&nyers!I165&nyers!J165&nyers!K165","v":"0:0  xx  "}]
[{"$f":"nyers!A308","v":0},{"$f":"nyers!G167&nyers!H167&nyers!I167&nyers!J167&nyers!K167","v":"0:0  xx  "}]
[{"$f":"nyers!A309","v":0},{"$f":"nyers!G169&nyers!H169&nyers!I169&nyers!J169&nyers!K169","v":"0:0  xx  "}]
[{"$f":"nyers!A310","v":0},{"$f":"nyers!G171&nyers!H171&nyers!I171&nyers!J171&nyers!K171","v":"0:0  xx  "}]
[{"$f":"nyers!A311","v":0},{"$f":"nyers!G173&nyers!H173&nyers!I173&nyers!J173&nyers!K173","v":"0:0  xx  "}]
[{"$f":"nyers!A312","v":0},{"$f":"nyers!G175&nyers!H175&nyers!I175&nyers!J175&nyers!K175","v":"0:0  xx  "}]
[{"$f":"nyers!A313","v":0},{"$f":"nyers!G177&nyers!H177&nyers!I177&nyers!J177&nyers!K177","v":"0:0  xx  "}]
[{"$f":"nyers!A314","v":0},{"$f":"nyers!G179&nyers!H179&nyers!I179&nyers!J179&nyers!K179","v":"0:0  xx  "}]
[{"$f":"nyers!A315","v":0},{"$f":"nyers!G181&nyers!H181&nyers!I181&nyers!J181&nyers!K181","v":"0:0  xx  "}]
[{"$f":"nyers!A316","v":0},{"$f":"nyers!G183&nyers!H183&nyers!I183&nyers!J183&nyers!K183","v":"0:0  xx  "}]
["Magyar Internetes Agrárinformatikai Újság (MIAÚ),2023,26,299"]
[{"$f":"nyers!A317","v":0},{"$f":"nyers!G185&nyers!H185&nyers!I185&nyers!J185&nyers!K185","v":"0:0  xx  "}]
[{"$f":"nyers!A318","v":0},{"$f":"nyers!G187&nyers!H187&nyers!I187&nyers!J187&nyers!K187","v":"0:0  xx  "}]
[{"$f":"nyers!A319","v":0},{"$f":"nyers!G189&nyers!H189&nyers!I189&nyers!J189&nyers!K189","v":"0:0  xx  "}]
[{"$f":"nyers!A320","v":0},{"$f":"nyers!G191&nyers!H191&nyers!I191&nyers!J191&nyers!K191","v":"0:0  xx  "}]
[{"$f":"nyers!A321","v":0},{"$f":"nyers!G193&nyers!H193&nyers!I193&nyers!J193&nyers!K193","v":"0:0  xx  "}]
[{"$f":"nyers!A322","v":0},{"$f":"nyers!G195&nyers!H195&nyers!I195&nyers!J195&nyers!K195","v":"0:0  xx  "}]
[{"$f":"nyers!A323","v":0},{"$f":"nyers!G197&nyers!H197&nyers!I197&nyers!J197&nyers!K197","v":"0:0  xx  "}]
[{"$f":"nyers!A324","v":0},{"$f":"nyers!G199&nyers!H199&nyers!I199&nyers!J199&nyers!K199","v":"0:0  xx  "}]
[{"$f":"nyers!A325","v":0},{"$f":"nyers!G201&nyers!H201&nyers!I201&nyers!J201&nyers!K201","v":"0:0  xx  "}]
[{"$f":"nyers!A326","v":0},{"$f":"nyers!G203&nyers!H203&nyers!I203&nyers!J203&nyers!K203","v":"0:0  xx  "}]
[{"$f":"nyers!A327","v":0},{"$f":"nyers!G205&nyers!H205&nyers!I205&nyers!J205&nyers!K205","v":"0:0  xx  "}]
[{"$f":"nyers!A328","v":0},{"$f":"nyers!G207&nyers!H207&nyers!I207&nyers!J207&nyers!K207","v":"0:0  xx  "}]
[{"$f":"nyers!A329","v":0},{"$f":"nyers!G209&nyers!H209&nyers!I209&nyers!J209&nyers!K209","v":"0:0  xx  "}]
[{"$f":"nyers!A330","v":0},{"$f":"nyers!G211&nyers!H211&nyers!I211&nyers!J211&nyers!K211","v":"0:0  xx  "}]
[{"$f":"nyers!A331","v":0},{"$f":"nyers!G213&nyers!H213&nyers!I213&nyers!J213&nyers!K213","v":"0:0  xx  "}]
[{"$f":"nyers!A332","v":0},{"$f":"nyers!G215&nyers!H215&nyers!I215&nyers!J215&nyers!K215","v":"0:0  xx  "}]
[{"$f":"nyers!A333","v":0},{"$f":"nyers!G217&nyers!H217&nyers!I217&nyers!J217&nyers!K217","v":"0:0  xx  "}]
[{"$f":"nyers!A334","v":0},{"$f":"nyers!G219&nyers!H219&nyers!I219&nyers!J219&nyers!K219","v":"0:0  xx  "}]
[null,"***"]
[null,{"$f":"nyers!G214&nyers!H214&nyers!I214&nyers!J214&nyers!K214","v":""}]
[]
[null,{"$f":"nyers!G216&nyers!H216&nyers!I216&nyers!J216&nyers!K216","v":""}]
[]
[null,{"$f":"nyers!G218&nyers!H218&nyers!I218&nyers!J218&nyers!K218","v":""}]
[]
[null,{"$f":"nyers!G220&nyers!H220&nyers!I220&nyers!J220&nyers!K220","v":""}]
[null,{"$f":"nyers!G221&nyers!H221&nyers!I221&nyers!J221&nyers!K221","v":""}]
[null,{"$f":"nyers!G222&nyers!H222&nyers!I222&nyers!J222&nyers!K222","v":""}]
[null,{"$f":"nyers!G223&nyers!H223&nyers!I223&nyers!J223&nyers!K223","v":""}]

{"sheet":"nyers_old","index":12,"n_rows":61,"n_cols":15,"rows_kept":61,"cut":false,"hidden":false,"merged":[[0,3,1,3],[2,3,3,3],[4,3,5,3],[6,3,7,3],[8,3,9,3],[48,2,49,2],[12,3,13,3],[14,3,15,3],[16,3,17,3],[18,3,19,3],[58,3,59,3],[36,3,37,3],[38,3,39,3],[42,3,43,3],[44,3,45,3],[46,3,47,3],[48,3,49,3],[50,3,51,3],[52,3,53,3],[54,3,55,3],[56,3,57,3],[74,3,75,3],[60,3,61,3],[62,2,63,2],[62,3,63,3],[64,2,65,2],[64,3,65,3],[66,2,67,2],[66,3,67,3],[68,3,69,3],[70,3,71,3],[72,3,73,3],[86,3,87,3],[88,2,89,2],[88,3,89,3],[76,3,77,3],[78,3,79,3],[80,3,81,3],[82,2,83,2],[82,3,83,3],[84,3,85,3],[8,2,9,2],[30,2,31,2],[40,3,41,3],[34,3,35,3],[20,3,21,3],[22,3,23,3],[24,3,25,3],[26,3,27,3],[28,3,29,3],[30,3,31,3],[32,3,33,3],[10,3,11,3]]}
["miau239","Pitlik László, Pitlik Marcell, Pitlik Mátyás, Pitlik László, ifj. ","Közlekedési döntések racionalitásának modellezése ","(+)",null,{"$f":"A1","v":"miau239"},{"$f":"B1","v":"Pitlik László, Pitlik Marcell, Pitlik Mátyás, Pitlik László, ifj. "},":",{"$f":"M1","v":"Közlekedési döntések racionalitásának modellezése "},"  xx  ","http://miau.gau.hu/miau/239/kvant_behavior_patterns_v1.docx",null,{"$f":"C1","v":"Közlekedési döntések racionalitásának modellezése "},"Customer satisfaction survey \u0096 with consistence checks I.)"]
[null,"(MY-X team):","(Modelling rationality of decisions in case of traffic actions)"]
["miau239","Pitlik László, Pitlik Marcell","Konzisztencia-orientált modell-hibridizáció látszólag triviális műszaki jelenségek kezelésére","(+)",null,{"$f":"F1","v":"miau239"},{"$f":"B3","v":"Pitlik László, Pitlik Marcell"},":",{"$f":"C3","v":"Konzisztencia-orientált modell-hibridizáció látszólag triviális műszaki jelenségek kezelésére"},"  xx  ","http://miau.gau.hu/miau/239/konzisztencia_alapu_hibridizacio_v1.docx",null,{"$f":"C3","v":"Konzisztencia-orientált modell-hibridizáció látszólag triviális műszaki jelenségek kezelésére"}]
[null,"(MY-X team):","(Consistence-oriented hybridization of models in case of seemingly trivial technical phenomena)",null,null,null,null,null,null,null,null,null,null,"Solution of complex task based on logical steps)"]
["miau239","Pitlik László","Konzisztencia-orientált előrejelzés és foresight a kortárs jövőkutatásban","(+)",null,{"$f":"F3","v":"miau239"},{"$f":"B5","v":"Pitlik László"},":",{"$f":"C5","v":"Konzisztencia-orientált előrejelzés és foresight a kortárs jövőkutatásban"},"  xx  ","http://miau.gau.hu/miau/239/2Pitlik_Laszlo_konzisztencia_full.docx",null,{"$f":"C5","v":"Konzisztencia-orientált előrejelzés és foresight a kortárs jövőkutatásban"},")-függvénnyel, ill. grafikus keretben"]
[null,"(MY-X team):","Consistence-oriented forecasting and foresight in the contemporary future science",null,null,null,null,null,null,null,null,null,null,"Trend-function based on Solver, online service, LINEST",") and graphical frame)"]
["miau239","Pitlik László","Kivonatok: Konzisztencia-orientált előrejelzés és foresight a kortárs jövőkutatásban","(+)",null,{"$f":"F5","v":"miau239"},{"$f":"B7","v":"Pitlik László"},":",{"$f":"C7","v":"Kivonatok: Konzisztencia-orientált előrejelzés és foresight a kortárs jövőkutatásban"},"  xx  ","http://miau.gau.hu/miau/239/2Pitlik_Laszlo_konzisztencia.docx",null,{"$f":"C7","v":"Kivonatok: Konzisztencia-orientált előrejelzés és foresight a kortárs jövőkutatásban"}]
[null,"(MY-X team):","Consistence-oriented forecasting and foresight in the contemporary future science",null,null,null,null,null,null,null,null,null,null,"History and future of the KLM-model from point of view of the e-learning)"]
["miau239","Pitlik László, Pitlik László, ifj., Pitlik Mátyás, Pitlik Marcell, Gyimesi Áron","Development of smart traffic evaluation- and influence-modules\u000bbased on non-declarative rules of artificial intelligence","(+)",null,{"$f":"F7","v":"miau239"},{"$f":"B9","v":"Pitlik László, Pitlik László, ifj., Pitlik Mátyás, Pitlik Marcell, Gyimesi Áron"},":",{"$f":"C9","v":"Development of smart traffic evaluation- and influence-modules\u000bbased on non-declarative rules of artificial intelligence"},"  xx  ","http://miau.gau.hu/miau/239/kosice.pptx",null,{"$f":"C9","v":"Development of smart traffic evaluation- and influence-modules\u000bbased on non-declarative rules of artificial intelligence"},"avagy egy konzisztencia-vezérelt mesterséges intelligencia alapú robot szakértői vélemény)"]
[null,"(MY-X team):",null,null,null,null,null,null,null,null,null,null,null,"Robot-expertise 2050)"]
["miau240","Pitlik László, Pitlik Marcell, Pitlik Mátyás, Pitlik László, ifj. ","Lámpa-terhelésindex számítása lámpaprogram-sorrendek becslése érdekében","(+)",null,{"$f":"A11","v":"miau240"},{"$f":"B11","v":"Pitlik László, Pitlik Marcell, Pitlik Mátyás, Pitlik László, ifj. "},":",{"$f":"C11","v":"Lámpa-terhelésindex számítása lámpaprogram-sorrendek becslése érdekében"},"  xx  ","http://miau.gau.hu/miau/240/lampaprogramok_versenye.docx",null,{"$f":"C11","v":"Lámpa-terhelésindex számítása lámpaprogram-sorrendek becslése érdekében"}]
[null,"(MY-X team):","(Calculation of an exposure-index for traffic lights - concerning an ideal traffic-light-program)",null,null,null,null,null,null,null,null,null,null,"Project libraries, or minimal level of the knowledge management)"]
["miau240","Pitlik László, Pitlik Marcell, Pitlik Mátyás, Pitlik László, ifj. ","Döntéstámogatási operatív rétegek a közlekedés-optimalizálásban I. rész","(+)",null,{"$f":"F11","v":"miau240"},{"$f":"B13","v":"Pitlik László, Pitlik Marcell, Pitlik Mátyás, Pitlik László, ifj. "},":",{"$f":"C13","v":"Döntéstámogatási operatív rétegek a közlekedés-optimalizálásban I. rész"},"  xx  ","http://miau.gau.hu/miau/240/traffic_layers_1.docx",null,{"$f":"C13","v":"Döntéstámogatási operatív rétegek a közlekedés-optimalizálásban I. rész"}]
[null,"(MY-X team):","(Operative layers for decision support in the optimization of traffic \u0096 Part I.)",null,null,null,null,null,null,null,null,null,null,"Fine tuning of controlling system in content sharing/recommendation based on similarity analyses)"]
["miau240","Pitlik László, Pitlik Marcell, Pitlik Mátyás, Pitlik László, ifj. ","Közlekedési lámpák ki/be-kapcsolásának mesterséges intelligencia-alapú vezérlése","(+)",null,{"$f":"F13","v":"miau240"},{"$f":"B15","v":"Pitlik László, Pitlik Marcell, Pitlik Mátyás, Pitlik László, ifj. "},":",{"$f":"C15","v":"Közlekedési lámpák ki/be-kapcsolásának mesterséges intelligencia-alapú vezérlése"},"  xx  ","http://miau.gau.hu/miau/240/lampa_ki_be.docx",null,{"$f":"C15","v":"Közlekedési lámpák ki/be-kapcsolásának mesterséges intelligencia-alapú vezérlése"}]
[null,"(MY-X team):","(Control of traffic lights based on artificial intelligence)",null,null,null,null,null,null,null,null,null,null,"Worm holes in frame of similarity analyses based on LP-driven staircase functions)"]
["miau240","Pitlik László, Pitlik Marcell, Pitlik Mátyás, Pitlik László, ifj. ","Játékosított keretrendszerben történő tanulás log-adatainak elemzése","(+)",null,{"$f":"F15","v":"miau240"},{"$f":"B17","v":"Pitlik László, Pitlik Marcell, Pitlik Mátyás, Pitlik László, ifj. "},":",{"$f":"C17","v":"Játékosított keretrendszerben történő tanulás log-adatainak elemzése"},"  xx  ","http://miau.gau.hu/miau/240/2dm_phase2.docx",null,{"$f":"C17","v":"Játékosított keretrendszerben történő tanulás log-adatainak elemzése"}]
[null,"(MY-X team):","(Analyzing log-data about learning behavior of users, where data are coming from a gamification frame)",null,null,null,null,null,null,null,null,null,null,"Content recommendation system based on competence profiles of users)"]
["miau240","Barta Gergő","Szakirodalmi alapozás és kutatási terv, avagy egy komplex vizsga dokumentumai","(+)",null,{"$f":"A19","v":"miau240"},{"$f":"B19","v":"Barta Gergő"},":",{"$f":"C19","v":"Szakirodalmi alapozás és kutatási terv, avagy egy komplex vizsga dokumentumai"},"  xx  ","http://miau.gau.hu/miau/240/komplex/",null,{"$f":"C19","v":"Szakirodalmi alapozás és kutatási terv, avagy egy komplex vizsga dokumentumai"}]
[null,"(MY-X team):","(Analysing literature and plan of research as annexes of an complex exam)",null,null,null,null,null,null,null,null,null,null,"Alternative solutions based on makros in Excel)"]
["miau240","Czúni Dániel","A LEADER-jelenség \"hatása\", avagy kezdeti lépések az \"Innovátorrá\" válás útján","(+)",null,{"$f":"A21","v":"miau240"},{"$f":"B21","v":"Czúni Dániel"},":",{"$f":"C21","v":"A LEADER-jelenség \"hatása\", avagy kezdeti lépések az \"Innovátorrá\" válás útján"},"  xx  ","http://miau.gau.hu/miau/240/100.docx",null,{"$f":"C21","v":"A LEADER-jelenség \"hatása\", avagy kezdeti lépések az \"Innovátorrá\" válás útján"}]
[null,"(MY-X team):","(The impact of the LEADER-phenomenon, or first steps becoming an innovator)"]
["miau240","Pitlik László, Pitlik Marcell ","A minden másként egyforma elv hatása az összefüggéskeresésre és az anomália-feltárásra ","(+)",null,{"$f":"A23","v":"miau240"},{"$f":"B23","v":"Pitlik László, Pitlik Marcell "},":",{"$f":"C23","v":"A minden másként egyforma elv hatása az összefüggéskeresésre és az anomália-feltárásra "},"  xx  ","http://miau.gau.hu/miau/240/x2y2r2.xlsx",null,{"$f":"C23","v":"A minden másként egyforma elv hatása az összefüggéskeresésre és az anomália-feltárásra "}]
[null,"(MY-X team):","(Anti-discriminative modelling technique for exploration of anomalies and/or functions)",null,null,null,null,null,null,null,null,null,null,"Investigative librarianship: following the GOOGLE-MIAÚ axis)"]
["miau238","Pitlik László, Pitlik László, ifj., Pitlik Marcell","PPT: Rosling-animációk didaktikai potenciálja a tanításban/tanulásban","(+)",null,{"$f":"A25","v":"miau238"},{"$f":"B25","v":"Pitlik László, Pitlik László, ifj., Pitlik Marcell"},":",{"$f":"C25","v":"PPT: Rosling-animációk didaktikai potenciálja a tanításban/tanulásban"},"  xx  ","http://miau.gau.hu/miau/238/mmo2018_rosling.pptx",null,{"$f":"C25","v":"PPT: Rosling-animációk didaktikai potenciálja a tanításban/tanulásban"}]
[null,"(MY-X team):","(Potential of Rosling-animations in teaching and learning methodology)"]
["miau238","Pitlik László, Pitlik László, ifj., Pitlik Mátyás","PPT: Játékosított keretrendszerben történő tanulásból nyert log-adatokra alapozó profilírozás","(+)",null,{"$f":"A27","v":"miau238"},{"$f":"B27","v":"Pitlik László, Pitlik László, ifj., Pitlik Mátyás"},":",{"$f":"C27","v":"PPT: Játékosított keretrendszerben történő tanulásból nyert log-adatokra alapozó profilírozás"},"  xx  ","http://miau.gau.hu/miau/238/mmo2018_2dm.pptx",null,{"$f":"C27","v":"PPT: Játékosított keretrendszerben történő tanulásból nyert log-adatokra alapozó profilírozás"}]
[null,"(MY-X team):","(Profiling in frame of gamification-driven learning activities based on log-data)",null,null,null,null,null,null,null,null,null,null,"Analysis of the Moral-Machine-Tests based on manual preferences)"]
["miau238","Pitlik László, Pitlik László, ifj., Pitlik Mátyás","MP3: Játékosított keretrendszerben történő tanulásból nyert log-adatokra alapozó profilírozás","(+)",null,{"$f":"A29","v":"miau238"},{"$f":"B29","v":"Pitlik László, Pitlik László, ifj., Pitlik Mátyás"},":",{"$f":"C29","v":"MP3: Játékosított keretrendszerben történő tanulásból nyert log-adatokra alapozó profilírozás"},"  xx  ","http://miau.gau.hu/miau/238/mmo2018_2dm_vagott.mp3",null,{"$f":"C29","v":"MP3: Játékosított keretrendszerben történő tanulásból nyert log-adatokra alapozó profilírozás"}]
[null,"(MY-X team):","(Profiling in frame of gamification-driven learning activities based on log-data)",null,null,null,null,null,null,null,null,null,null,"Knowledge engineering on the field of tacit knowledge based on artificial intelligence-oriented term-creation processes)"]
["miau238","Pitlik László, Pitlik László, ifj., Pitlik Mátyás, Pitlik Marcell, Gyimesi Áron","Development of smart traffic evaluation- and influence-modules based on non-declarative rules of artificial intelligence","(+)",null,{"$f":"A31","v":"miau238"},{"$f":"B31","v":"Pitlik László, Pitlik László, ifj., Pitlik Mátyás, Pitlik Marcell, Gyimesi Áron"},":",{"$f":"C31","v":"Development of smart traffic evaluation- and influence-modules based on non-declarative rules of artificial intelligence"},"  xx  ","http://miau.gau.hu/miau/238/Manuscript_Template_2017_myx.docx",null,{"$f":"C31","v":"Development of smart traffic evaluation- and influence-modules based on non-declarative rules of artificial intelligence"}]
[null,"(MY-X team):",null,null,null,null,null,null,null,null,null,null,null,"Objective vs. Subjective weights in the similarity analysis)"]
["miau238","Pitlik Mátyás","2DM-keretrendszer","(+)",null,{"$f":"A33","v":"miau238"},{"$f":"B33","v":"Pitlik Mátyás"},":",{"$f":"C33","v":"2DM-keretrendszer"},"  xx  ","http://miau.gau.hu/miau/238/2dm",null,{"$f":"C33","v":"2DM-keretrendszer"}]
[null,"(MY-X team):","(2DM tool)",null,null,null,null,null,null,null,null,null,null,"Simple cellular automata based on Excel-makros)"]
["miau238","Pitlik László, Pitlik László, ifj., Pitlik Marcell","Rosling-animációk didaktikai potenciálja a tanításban/tanulásban","(+)",null,{"$f":"A35","v":"miau238"},{"$f":"B35","v":"Pitlik László, Pitlik László, ifj., Pitlik Marcell"},":",{"$f":"C35","v":"Rosling-animációk didaktikai potenciálja a tanításban/tanulásban"},"  xx  ","http://miau.gau.hu/miau/238/rosling_didactics.doc",null,{"$f":"C35","v":"Rosling-animációk didaktikai potenciálja a tanításban/tanulásban"},"Presentation in Osijek in frame of an ERASMUS STAFF MOBILITY ACTION)"]
[null,"(MY-X team):","(Potential of Rosling-animations in teaching and learning methodology)"]
["miau238","Pitlik László, Pitlik László, ifj., Pitlik Marcell","Rosling-animációk didaktikai potenciálja a tanításban/tanulásban","(+)",null,{"$f":"A37","v":"miau238"},{"$f":"B37","v":"Pitlik László, Pitlik László, ifj., Pitlik Marcell"},":",{"$f":"C37","v":"Rosling-animációk didaktikai potenciálja a tanításban/tanulásban"},"  xx  ","http://miau.gau.hu/miau/238/rosling_didactics_full_v1.doc",null,{"$f":"C37","v":"Rosling-animációk didaktikai potenciálja a tanításban/tanulásban"}]
[null,"(MY-X team):","(Potential of Rosling-animations in teaching and learning methodology)",null,null,null,null,null,null,null,null,null,null,"Multicultural aspects of WEBOMETRICS)"]
["miau238","Pitlik László, Pitlik László, ifj., Pitlik Mátyás","Játékosított keretrendszerben történő tanulásból nyert log-adatokra alapozó profilírozás","(+)",null,{"$f":"A39","v":"miau238"},{"$f":"B39","v":"Pitlik László, Pitlik László, ifj., Pitlik Mátyás"},":",{"$f":"C39","v":"Játékosított keretrendszerben történő tanulásból nyert log-adatokra alapozó profilírozás"},"  xx  ","http://miau.gau.hu/miau/238/log_profile_full_v2.doc",null,{"$f":"C39","v":"Játékosított keretrendszerben történő tanulásból nyert log-adatokra alapozó profilírozás"}]
[null,"(MY-X team):","(Profiling in frame of gamification-driven learning activities based on log-data)",null,null,null,null,null,null,null,null,null,null,"Maturity vs. university)"]
["miau238","Pitlik László, Pitlik László, ifj., Pitlik Mátyás","Játékosított keretrendszerben történő tanulásból nyert log-adatokra alapozó profilírozás","(+)",null,{"$f":"A41","v":"miau238"},{"$f":"B41","v":"Pitlik László, Pitlik László, ifj., Pitlik Mátyás"},":",{"$f":"C41","v":"Játékosított keretrendszerben történő tanulásból nyert log-adatokra alapozó profilírozás"},"  xx  ","http://miau.gau.hu/miau/238/log_profile.doc",null,{"$f":"C41","v":"Játékosított keretrendszerben történő tanulásból nyert log-adatokra alapozó profilírozás"}]
[null,"(MY-X team):","(Profiling in frame of gamification-driven learning activities based on log-data)",null,null,null,null,null,null,null,null,null,null,"Project library, knowledge store \u0096 or better than the bests before)"]
["miau238","Pitlik László, Szani Ferenc, Mihályi Gabriella","PPT: A tacit tudás tudásmérnöki kezelésének lehetőségei a mesterséges intelligencia-alapú fogalomalkotás keretei között","(+)",null,{"$f":"A43","v":"miau238"},{"$f":"B43","v":"Pitlik László, Szani Ferenc, Mihályi Gabriella"},":",{"$f":"C43","v":"PPT: A tacit tudás tudásmérnöki kezelésének lehetőségei a mesterséges intelligencia-alapú fogalomalkotás keretei között"},"  xx  ","http://miau.gau.hu/miau/238/tacit_v1.pptx",null,{"$f":"C43","v":"PPT: A tacit tudás tudásmérnöki kezelésének lehetőségei a mesterséges intelligencia-alapú fogalomalkotás keretei között"}]
[null,"(MY-X team):","(Knowledge engineering on the field of tacit knowledge based on artificial intelligence-oriented term-creation processes)"]
["miau238","Pitlik László, Szani Ferenc, Mihályi Gabriella","A tacit tudás tudásmérnöki kezelésének lehetőségei a mesterséges intelligencia-alapú fogalomalkotás keretei között","(+)",null,{"$f":"A45","v":"miau238"},{"$f":"B45","v":"Pitlik László, Szani Ferenc, Mihályi Gabriella"},":",{"$f":"C45","v":"A tacit tudás tudásmérnöki kezelésének lehetőségei a mesterséges intelligencia-alapú fogalomalkotás keretei között"},"  xx  ","http://miau.gau.hu/miau/238/tacit_v1.docx",null,{"$f":"C45","v":"A tacit tudás tudásmérnöki kezelésének lehetőségei a mesterséges intelligencia-alapú fogalomalkotás keretei között"}]
[null,"(MY-X team):","(Knowledge engineering on the field of tacit knowledge based on artificial intelligence-oriented term-creation processes)"]
["miau238","Pitlik László","A kiemelt figyelmet elváró jelenségek feltárásának modellezése","(+)",null,{"$f":"A47","v":"miau238"},{"$f":"B47","v":"Pitlik László"},":",{"$f":"C47","v":"A kiemelt figyelmet elváró jelenségek feltárásának modellezése"},"  xx  ","http://miau.gau.hu/miau/238/exploring_critical_attributes_for_risk_management_v1.docx",null,{"$f":"C47","v":"A kiemelt figyelmet elváró jelenségek feltárásának modellezése"}]
[null,"(MY-X team):","(Derivation of the next critical attribute in a complex risk management system)"]
["miau233",null,null,null,null,{"$f":"A49","v":"miau233"},{"$f":"B49","v":0},":",{"$f":"C49","v":0},"  xx  ","http://miau.gau.hu/miau/233/naiv-korrel.xlsx"]
[]
["miau233",null,null,null,null,{"$f":"A51","v":"miau233"},{"$f":"B51","v":0},":",{"$f":"C51","v":0},"  xx  ","http://miau.gau.hu/miau/233/cikk8_final.docx"]
[]
["miau233",null,null,null,null,{"$f":"A53","v":"miau233"},{"$f":"B53","v":0},":",{"$f":"C53","v":0},"  xx  ","http://miau.gau.hu/miau/233/apertus_debrecen_klm.docx"]
[]
["miau233",null,null,null,null,{"$f":"A55","v":"miau233"},{"$f":"B55","v":0},":",{"$f":"C55","v":0},"  xx  ","http://miau.gau.hu/miau/233/apertus_debrecen_vir.docx"]
[]
["miau233",null,null,null,null,{"$f":"A57","v":"miau233"},{"$f":"B57","v":0},":",{"$f":"C57","v":0},"  xx  ","http://miau.gau.hu/miau/233/apertus_debrecen_jo.docx"]
[]
["miau233",null,null,null,null,{"$f":"A59","v":"miau233"},{"$f":"B59","v":0},":",{"$f":"C59","v":0},"  xx  ","http://miau.gau.hu/miau/233/2500_3000.docx"]
[]
["miau233",null,null,null,null,{"$f":"A61","v":"miau233"},{"$f":"B61","v":0},":",{"$f":"C61","v":0},"  xx  ","http://miau.gau.hu/miau/233/kvant_monitoring_v5.docx"]

{"sheet":"nyers (2)","index":13,"n_rows":20,"n_cols":13,"rows_kept":20,"cut":false,"hidden":false,"merged":[[82,3,83,3],[84,3,85,3],[86,2,87,2],[86,3,87,3],[88,3,89,3],[80,3,81,3],[62,2,63,2],[62,3,63,3],[64,3,65,3],[66,3,67,3],[68,3,69,3],[70,3,71,3],[72,2,73,2],[72,3,73,3],[74,3,75,3],[76,3,77,3],[78,3,79,3],[60,2,61,2],[60,3,61,3],[44,3,45,3],[46,3,47,3],[48,3,49,3],[50,3,51,3],[52,2,53,2],[52,3,53,3],[54,3,55,3],[56,2,57,2],[56,3,57,3],[58,2,59,2],[58,3,59,3],[42,1,43,1],[42,3,43,3],[20,3,21,3],[22,3,23,3],[24,3,25,3],[26,3,27,3],[28,3,29,3],[30,3,31,3],[32,3,33,3],[34,3,35,3],[36,3,37,3],[38,3,39,3],[40,3,41,3],[8,2,9,2],[8,3,9,3],[18,3,19,3],[0,3,1,3],[2,3,3,3],[4,3,5,3],[6,3,7,3],[10,2,11,2],[10,3,11,3],[12,3,13,3],[14,3,15,3],[16,3,17,3]]}
["miau268","Pitlik László","Bizonyítás-szimulátor, avagy mit tudhat ténylegesen egy big-data alapon eljáró ROBOT-COVID-szakértő?","(+)",null,{"$f":"A1","v":"miau268"},{"$f":"B1","v":"Pitlik László"},":",{"$f":"M1","v":"Bizonyítás-szimulátor, avagy mit tudhat ténylegesen egy big-data alapon eljáró ROBOT-COVID-szakértő?"},"  xx  ","https://miau.my-x.hu/digeco/2020/2020osz/evidence_simulator.docx",null,{"$f":"C1","v":"Bizonyítás-szimulátor, avagy mit tudhat ténylegesen egy big-data alapon eljáró ROBOT-COVID-szakértő?"}]
[null,"(My-X team):","(Evidence-simulator, or what can be derived based on big-data by a ROBOT-COVID-expert?)"]
["miau268","Pitlik László, Biró Bálint, Pitlik Marcell, Pitlik László (jun)","A szakmai problémától a pszeudo-kódig, avagy a context-free szómágia és az Excel kapcsolata","(+)",null,{"$f":"A3","v":"miau268"},"Pitlik László, Biró Bálint, Pitlik Marcell, Pitlik László (jun)",":",{"$f":"M3","v":"A szakmai problémától a pszeudo-kódig, avagy a context-free szómágia és az Excel kapcsolata"},"  xx  ","https://miau.my-x.hu/digeco/2020/2020osz/hogyan_jussunk_el_egy_pszeudokodig.docx",null,{"$f":"C3","v":"A szakmai problémától a pszeudo-kódig, avagy a context-free szómágia és az Excel kapcsolata"}]
[null,"(My-X team):","(From the context-related problem to a pseudo-code, or magic of words in a context-free way leading to an Excel-demo)"]
["miau268","Pitlik László, Pitlik Marcell","Ceteris paribus alakzatok racionális polinomjai – hasonlóságelemzéssel","(+)",null,{"$f":"A5","v":"miau268"},"Pitlik László, Pitlik Marcell",":",{"$f":"M5","v":"Ceteris paribus alakzatok racionális polinomjai – hasonlóságelemzéssel"},"  xx  ","https://miau.my-x.hu/miau/268/ceteris_paribus_domestication.docx",null,{"$f":"C5","v":"Ceteris paribus alakzatok racionális polinomjai – hasonlóságelemzéssel"}]
[null,"(My-X team):","(Rational polynomial functions as ceteris paribus views – based on similarity analyses)"]
["miau268","Pitlik László","Előadás: Modern szemléletű projektciklus-értelmezések alapjai","(+)",null,{"$f":"A7","v":"miau268"},"Pitlik László",":",{"$f":"M7","v":"Előadás: Modern szemléletű projektciklus-értelmezések alapjai"},"  xx  ","https://miau.my-x.hu/miau/268/szeged.mp3",null,{"$f":"C7","v":"Előadás: Modern szemléletű projektciklus-értelmezések alapjai"}]
[null,"(KJE):","(Project-cycle-interpretations based on heretic approaches)"]
["miau268","Bakos Bence","TDK-előadás: PLA-felmérés adatainak mesterséges intelligencia alapú elemzése (Analyses of PLA-data assets based on artificial intelligence)","(+)",null,{"$f":"A9","v":"miau268"},"Bakos Bence",":",{"$f":"M9","v":"TDK-előadás: PLA-felmérés adatainak mesterséges intelligencia alapú elemzése (Analyses of PLA-data assets based on artificial intelligence)"},"  xx  ","https://miau.my-x.hu/miau/268/bb.mp4",null,{"$f":"C9","v":"TDK-előadás: PLA-felmérés adatainak mesterséges intelligencia alapú elemzése (Analyses of PLA-data assets based on artificial intelligence)"}]
[null,"(KJE):"]
["miau268","Bartók Patrik","TDK-előadás: Két eszköz közti adatátviteli lehetőségek áttekintése a biztonság szempontjából induktív szakértői rendszerrel (Security ranking of alternative data-transfer-approaches based on an inductive expert system tool)","(+)",null,{"$f":"A11","v":"miau268"},"Bartók Patrik",":",{"$f":"M11","v":"TDK-előadás: Két eszköz közti adatátviteli lehetőségek áttekintése a biztonság szempontjából induktív szakértői rendszerrel (Security ranking of alternative data-transfer-approaches based on an inductive expert system tool)"},"  xx  ","https://miau.my-x.hu/miau/268/bp.mp4",null,{"$f":"C11","v":"TDK-előadás: Két eszköz közti adatátviteli lehetőségek áttekintése a biztonság szempontjából induktív szakértői rendszerrel (Security ranking of alternative data-transfer-approaches based on an inductive expert system tool)"}]
[null,"(KJE):"]
["miau268","Pitlik László","Az erőből történő problémamegoldás demonstrálása egyéb alternatívák bemutatása mellett","(+)",null,{"$f":"A13","v":"miau268"},"Pitlik László",":",{"$f":"M13","v":"Az erőből történő problémamegoldás demonstrálása egyéb alternatívák bemutatása mellett"},"  xx  ","https://miau.my-x.hu/bprof/erobol.xlsx",null,{"$f":"C13","v":"Az erőből történő problémamegoldás demonstrálása egyéb alternatívák bemutatása mellett"}]
[null,"(MY-X team):","(Problem solving based on brute force and/or other approaches)"]
["miau268","Pitlik László, Pitlik Marcell, Pitlik László (jun)","A statisztikus tanulás robotizálása, avagy az evolúció alapvetően konzerválja-e a butaságot?!","(+)",null,{"$f":"A15","v":"miau268"},"Pitlik László, Pitlik Marcell, Pitlik László (jun)",":",{"$f":"M15","v":"A statisztikus tanulás robotizálása, avagy az evolúció alapvetően konzerválja-e a butaságot?!"},"  xx  ","https://miau.my-x.hu/bprof/2021/vajon_az_evulocio_konzervalja_az_emberi_butasagot.docx",null,{"$f":"C15","v":"A statisztikus tanulás robotizálása, avagy az evolúció alapvetően konzerválja-e a butaságot?!"}]
[null,"(MY-X team):","(Robotized statistical learning or the evolution as guarantee for the existence of the human dumbness?!)"]
["miau268","Pitlik László, Pitlik Marcell","Spontán matematika-tudásnövelés programozók esetében (a véletlen kezelésének kockázatai pszeudokódban)","(+)",null,{"$f":"A17","v":"miau268"},"Pitlik László, Pitlik Marcell",":",{"$f":"M17","v":"Spontán matematika-tudásnövelés programozók esetében (a véletlen kezelésének kockázatai pszeudokódban)"},"  xx  ","https://miau.my-x.hu/bprof/spontan_matematika.docx",null,{"$f":"C17","v":"Spontán matematika-tudásnövelés programozók esetében (a véletlen kezelésének kockázatai pszeudokódban)"}]
[null,"(MY-X team):","(Knowledge-increasing in mathematics in a spontaneous way in case of programmers or risks in pseudocode-based representations of the coincidence)"]
["miau268","Pitlik László, Pitlik Marcell","Context-free hermeneutikai gyakorlatok (hasonlóságelemzésláncok egységes rendszerű értelmezése transzponált OAM-ok alapján)","(+)",null,{"$f":"A19","v":"miau268"},"Pitlik László, Pitlik Marcell",":",{"$f":"M19","v":"Context-free hermeneutikai gyakorlatok (hasonlóságelemzésláncok egységes rendszerű értelmezése transzponált OAM-ok alapján)"},"  xx  ","https://miau.my-x.hu/miau/268/context_free_hermeneutics.docx",null,{"$f":"C19","v":"Context-free hermeneutikai gyakorlatok (hasonlóságelemzésláncok egységes rendszerű értelmezése transzponált OAM-ok alapján)"}]
[null,"(MY-X team):","(Context-free exercises in hermeneutics or holistic interpretations for chained similarity analyses based on transponed OAMs)"]

{"sheet":"nyers (3)","index":14,"n_rows":44,"n_cols":13,"rows_kept":44,"cut":false,"hidden":false,"merged":[[82,3,83,3],[84,3,85,3],[86,2,87,2],[86,3,87,3],[88,3,89,3],[80,3,81,3],[62,2,63,2],[62,3,63,3],[64,3,65,3],[66,3,67,3],[68,3,69,3],[70,3,71,3],[72,2,73,2],[72,3,73,3],[74,3,75,3],[76,3,77,3],[78,3,79,3],[60,2,61,2],[60,3,61,3],[42,3,43,3],[44,3,45,3],[46,3,47,3],[48,3,49,3],[50,3,51,3],[52,2,53,2],[52,3,53,3],[54,3,55,3],[56,2,57,2],[56,3,57,3],[58,2,59,2],[58,3,59,3],[40,3,41,3],[20,3,21,3],[22,3,23,3],[24,2,25,2],[24,3,25,3],[26,3,27,3],[28,2,29,2],[28,3,29,3],[30,3,31,3],[32,3,33,3],[34,3,35,3],[36,3,37,3],[38,3,39,3],[18,3,19,3],[0,2,1,2],[0,3,1,3],[2,3,3,3],[4,3,5,3],[6,3,7,3],[8,3,9,3],[10,3,11,3],[12,3,13,3],[14,2,15,2],[14,3,15,3],[16,3,17,3]]}
["miau269","Válogatás","Aranykor-értelmezések üzemi adatok alapján","(+)",null,{"$f":"A1","v":"miau269"},{"$f":"B1","v":"Válogatás"},":",{"$f":"M1","v":"Aranykor-értelmezések üzemi adatok alapján"},"  xx  ","https://miau.my-x.hu/miau/269/aranykor_golden_ages_studies.docx",null,{"$f":"C1","v":"Aranykor-értelmezések üzemi adatok alapján"}]
[null,"(KJE):"]
["miau269","Orovecz Dávid","Önálló tanulást támogató angol nyelvi teszt értékelésekkel és magyarázatokkal - dokumentációs nézet","(+)",null,{"$f":"A3","v":"miau269"},"Orovecz Dávid",":",{"$f":"M3","v":"Önálló tanulást támogató angol nyelvi teszt értékelésekkel és magyarázatokkal - dokumentációs nézet"},"  xx  ","https://miau.my-x.hu/miau/269/javascript_learning_by_doing.docx",null,{"$f":"C3","v":"Önálló tanulást támogató angol nyelvi teszt értékelésekkel és magyarázatokkal - dokumentációs nézet"}]
[null,"(KJE):","Autodidactic quiz in English with evaluation and interpretation layers - planning view"]
["miau269","Orovecz Dávid","Önálló tanulást támogató angol nyelvi teszt értékelésekkel és magyarázatokkal","(+)",null,{"$f":"A5","v":"miau269"},"Orovecz Dávid",":",{"$f":"M5","v":"Önálló tanulást támogató angol nyelvi teszt értékelésekkel és magyarázatokkal"},"  xx  ","https://miau.my-x.hu/miau/269/angol_nyelvi_teszt_magyarazatokkal.html",null,{"$f":"C5","v":"Önálló tanulást támogató angol nyelvi teszt értékelésekkel és magyarázatokkal"}]
[null,"(KJE):","Autodidactic quiz in English with evaluation and interpretation layers"]
["miau269","Zsanett András","Könyvelési adatok információs többletérték-termelő képességének feltárása egyetlen cég két évtizedes adatvagyona alapján","(+)",null,{"$f":"A7","v":"miau269"},"Zsanett András",":",{"$f":"M7","v":"Könyvelési adatok információs többletérték-termelő képességének feltárása egyetlen cég két évtizedes adatvagyona alapján"},"  xx  ","https://miau.my-x.hu/miau/269/vadex.docx",null,{"$f":"C7","v":"Könyvelési adatok információs többletérték-termelő képességének feltárása egyetlen cég két évtizedes adatvagyona alapján"}]
[null,"(KJE):","(Innovative time series analyses in case of one single enterprise - VADEX)"]
["miau269","Anonim Hallgató","Forráskódot bemutató publikáció köztes állapota a dolgozatkészítés tervezésének és kivitelezésének támogatására","(+)",null,{"$f":"A9","v":"miau269"},"Anonim Hallgató",":",{"$f":"M9","v":"Forráskódot bemutató publikáció köztes állapota a dolgozatkészítés tervezésének és kivitelezésének támogatására"},"  xx  ","https://miau.my-x.hu/miau/269/digeco_dolgozattervezes_koztesfazisai_macro.docx",null,{"$f":"C9","v":"Forráskódot bemutató publikáció köztes állapota a dolgozatkészítés tervezésének és kivitelezésének támogatására"}]
[null,"(KJE):","(Interim report about a source code supporting planning and realization of studies)"]
["miau269","Birgésné Velkei Éva","CÉG-ADATOK ÉRTELMEZÉSE MÁSKÉNT","(+)",null,{"$f":"A11","v":"miau269"},"Birgésné Velkei Éva",":",{"$f":"M11","v":"CÉG-ADATOK ÉRTELMEZÉSE MÁSKÉNT"},"  xx  ","https://miau.my-x.hu/miau/269/digeco_cegadatok_aranykor.docx",null,{"$f":"C11","v":"CÉG-ADATOK ÉRTELMEZÉSE MÁSKÉNT"}]
[null,"(KJE):","(Interpretation of information about enterprises - in an innovative way)"]
["miau269","Gergics Miléna","A ROBOTEDZŐ TERVEZETT ALKALMAZÁSA A NŐI LABDARÚGÁSBAN","(+)",null,{"$f":"A13","v":"miau269"},"Gergics Miléna",":",{"$f":"M13","v":"A ROBOTEDZŐ TERVEZETT ALKALMAZÁSA A NŐI LABDARÚGÁSBAN"},"  xx  ","https://miau.my-x.hu/miau/269/digeco_robotedzo.docx",null,{"$f":"C13","v":"A ROBOTEDZŐ TERVEZETT ALKALMAZÁSA A NŐI LABDARÚGÁSBAN"}]
[null,"(KJE):","(THE PROPOSED USE OF ROBOT COACH IN THE WOMEN’S FOOTBALL)"]
["miau270","Kodó Krisztina, Kovács László, Pitlik László","Experiences concerning digital transformation of the higher education on personal and institutional levels","(+)",null,{"$f":"A15","v":"miau270"},"Kodó Krisztina, Kovács László, Pitlik László",":",{"$f":"M15","v":"Experiences concerning digital transformation of the higher education on personal and institutional levels"},"  xx  ","https://miau.my-x.hu/miau/270/oecd_v5.docx",null,{"$f":"C15","v":"Experiences concerning digital transformation of the higher education on personal and institutional levels"}]
[null,"(KJU):"]
["miau270","Pitlik László, Pitlik Marcell, Pitlik László (jun)","Az anti-diszkriminatív, solver-alapú modellezés alternatív rétegei","(+)",null,{"$f":"A17","v":"miau270"},"Pitlik László, Pitlik Marcell, Pitlik László (jun)",":",{"$f":"M17","v":"Az anti-diszkriminatív, solver-alapú modellezés alternatív rétegei"},"  xx  ","https://miau.my-x.hu/miau/270/y0_alternative_approaches.docx",null,{"$f":"C17","v":"Az anti-diszkriminatív, solver-alapú modellezés alternatív rétegei"}]
[null,"(MY-X team):","(Alternative layers of the anti-discriminative, solver-based modelling)"]
["miau270","Pitlik László, Pitlik Marcell, Pitlik Mátyás","Robot-esztéta, avagy a szépség matematikája II.","(+)",null,{"$f":"A19","v":"miau270"},"Pitlik László, Pitlik Marcell, Pitlik Mátyás",":",{"$f":"M19","v":"Robot-esztéta, avagy a szépség matematikája II."},"  xx  ","https://miau.my-x.hu/miau/270/roboteszteta_II.docx",null,{"$f":"C19","v":"Robot-esztéta, avagy a szépség matematikája II."}]
[null,"(MY-X team):","(Robot-aesthetic-expert or the mathematics of the beauty - Part II.)"]
["miau270","Pitlik László, Pitlik Marcell, Pitlik Mátyás","Robot-esztéta, avagy a szépség matematikája I.","(+)",null,{"$f":"A21","v":"miau270"},"Pitlik László, Pitlik Marcell, Pitlik Mátyás",":",{"$f":"M21","v":"Robot-esztéta, avagy a szépség matematikája I."},"  xx  ","https://miau.my-x.hu/miau/270/roboteszteta.docx",null,{"$f":"C21","v":"Robot-esztéta, avagy a szépség matematikája I."}]
[null,"(MY-X team):","(Robot-aesthetic-expert or the mathematics of the beauty - Part I.)"]
["miau270","Pitlik László, Pitlik Marcell","A multikollinearitás téves kezelése, avagy információvesztést generáló változókizárás a hasonlóságelemzésben","(+)",null,{"$f":"A23","v":"miau270"},"Pitlik László, Pitlik Marcell",":",{"$f":"M23","v":"A multikollinearitás téves kezelése, avagy információvesztést generáló változókizárás a hasonlóságelemzésben"},"  xx  ","https://miau.my-x.hu/miau/270/multikollinearitas_vs_hasonlosagelemzes.docx",null,{"$f":"C23","v":"A multikollinearitás téves kezelése, avagy információvesztést generáló változókizárás a hasonlóságelemzésben"}]
[null,"(MY-X team):","(Wrong interpretation of the multicollinearity or even the exclusion of the affected variables leads to lack of information)"]
["miau270","Németh László, Pitlik László","Robot-lektor fejlesztése (részjelentés) (Robot-lector – progress report)","(+)",null,{"$f":"A25","v":"miau270"},"Németh László, Pitlik László",":",{"$f":"M25","v":"Robot-lektor fejlesztése (részjelentés) (Robot-lector – progress report)"},"  xx  ","https://miau.my-x.hu/miau/270/robotlektor_1223.docx",null,{"$f":"C25","v":"Robot-lektor fejlesztése (részjelentés) (Robot-lector – progress report)"}]
[null,"(INNOREG, MY-X team):"]
["miau270","Pitlik László","A pesszimizmus matematikája, avagy egy robot-pszichológus alapvetései","(+)",null,{"$f":"A27","v":"miau270"},"Pitlik László",":",{"$f":"M27","v":"A pesszimizmus matematikája, avagy egy robot-pszichológus alapvetései"},"  xx  ","https://miau.my-x.hu/miau/270/a_pesszimizmus_matematikaja.docx",null,{"$f":"C27","v":"A pesszimizmus matematikája, avagy egy robot-pszichológus alapvetései"}]
[null,"(MY-X team):","(Mathematics of the pessimism – or the basics of a robot-psychologist)"]
["miau270","Pitlik Mátyás, Pitlik László","FADN/MSZIH-adatok új OLAP-keretrendszere","(+)",null,{"$f":"A29","v":"miau270"},"Pitlik Mátyás, Pitlik László",":",{"$f":"M29","v":"FADN/MSZIH-adatok új OLAP-keretrendszere"},"  xx  ","https://miau.my-x.hu/eeg/olapForm.php?db=fadn",null,{"$f":"C29","v":"FADN/MSZIH-adatok új OLAP-keretrendszere"}]
[null,"(MY-X team):"]
["miau271","Pitlik László, Pitlik Marcell","Roo-Boo-MOOC, avagy a robotizált MOOC-fejlesztés lehetőségei és korlátai I.","(+)",null,{"$f":"A31","v":"miau271"},"Pitlik László, Pitlik Marcell",":",{"$f":"M31","v":"Roo-Boo-MOOC, avagy a robotizált MOOC-fejlesztés lehetőségei és korlátai I."},"  xx  ","https://miau.my-x.hu/miau/271/Roo-Boo-Mooc.docx",null,{"$f":"C31","v":"Roo-Boo-MOOC, avagy a robotizált MOOC-fejlesztés lehetőségei és korlátai I."}]
[null,"(MY-X team):","(Potentials and barriers in the robotized MOOC-development- Part I.)"]
["miau271","Pitlik László, Pitlik Marcell","A kongruens modellezés információs többletérték-termelő potenciálja","(+)",null,{"$f":"A33","v":"miau271"},"Pitlik László, Pitlik Marcell",":",{"$f":"M33","v":"A kongruens modellezés információs többletérték-termelő potenciálja"},"  xx  ","https://miau.my-x.hu/miau/271/kongruens_modellezes.docx",null,{"$f":"C33","v":"A kongruens modellezés információs többletérték-termelő potenciálja"}]
[null,"(MY-X team):","(Potential of the information added value based on congruent modelling)"]
["miau271","Pitlik László, Pitlik László (jun)","Több kombinatorikai réteggel nehezített feladat solver-alapú megoldása","(+)",null,{"$f":"A35","v":"miau271"},"Pitlik László, Pitlik László (jun)",":",{"$f":"M35","v":"Több kombinatorikai réteggel nehezített feladat solver-alapú megoldása"},"  xx  ","https://miau.my-x.hu/miau/271/solver_spec.xlsx",null,{"$f":"C35","v":"Több kombinatorikai réteggel nehezített feladat solver-alapú megoldása"}]
[null,"(MY-X team):","(Multilayered combinatrics in solver-based solutions)"]
["miau271","Pitlik Marcell","Digitális/elektronikus/virtuális (jegybank)pénz és a blokkláncok jelentősége a pénzügyekben, avagy az adat-elemzés és az adat-vizualizáció lehetőségei a döntéstámogatásban","(+)",null,{"$f":"A37","v":"miau271"},"Pitlik Marcell",":",{"$f":"M37","v":"Digitális/elektronikus/virtuális (jegybank)pénz és a blokkláncok jelentősége a pénzügyekben, avagy az adat-elemzés és az adat-vizualizáció lehetőségei a döntéstámogatásban"},"  xx  ","https://miau.my-x.hu/miau/271/BME_MNB_PM_2021.pdf",null,{"$f":"C37","v":"Digitális/elektronikus/virtuális (jegybank)pénz és a blokkláncok jelentősége a pénzügyekben, avagy az adat-elemzés és az adat-vizualizáció lehetőségei a döntéstámogatásban"}]
[null,"(MY-X team):","(Forecasting of the e-money volumes based on similarity analysis)"]
["miau271","Pitlik László","Javascript-alapú MOOC-őssejt","(+)",null,{"$f":"A39","v":"miau271"},"Pitlik László",":",{"$f":"M39","v":"Javascript-alapú MOOC-őssejt"},"  xx  ","https://miau.my-x.hu/myx-free/index.php3?x=test11",null,{"$f":"C39","v":"Javascript-alapú MOOC-őssejt"}]
[null,"(MY-X team):","(Javascript-based MOOC stem cell)"]
["miau271","Pitlik László","2DM-játék animációkkal","(+)",null,{"$f":"A41","v":"miau271"},"Pitlik László",":",{"$f":"M41","v":"2DM-játék animációkkal"},"  xx  ","https://miau.my-x.hu/miau/271/2dm/",null,{"$f":"C41","v":"2DM-játék animációkkal"}]
[null,"(MY-X team):","(2DM-game with animations)"]
["miau271","VIRTOUR","2DM-alapú tudományos ismeretterjesztés biológia témakörben","(+)",null,{"$f":"A43","v":"miau271"},"VIRTOUR",":",{"$f":"M43","v":"2DM-alapú tudományos ismeretterjesztés biológia témakörben"},"  xx  ","https://elearning.virtour.hu/games/2D/emlos1/index.html",null,{"$f":"C43","v":"2DM-alapú tudományos ismeretterjesztés biológia témakörben"}]
[null,"(VIRTOUR):","(2DM-based dissemination of scientific knowledge on the field of the biology)"]

{"sheet":"nyers (4)","index":15,"n_rows":62,"n_cols":13,"rows_kept":62,"cut":false,"hidden":false,"merged":[[62,2,63,2],[62,3,63,3],[64,3,65,3],[66,3,67,3],[88,3,89,3],[70,3,71,3],[72,2,73,2],[72,3,73,3],[74,3,75,3],[76,3,77,3],[78,3,79,3],[80,3,81,3],[82,3,83,3],[84,3,85,3],[86,2,87,2],[86,3,87,3],[68,3,69,3],[48,3,49,3],[50,3,51,3],[52,3,53,3],[54,3,55,3],[56,3,57,3],[58,3,59,3],[60,3,61,3],[46,3,47,3],[24,3,25,3],[26,3,27,3],[28,3,29,3],[30,3,31,3],[32,3,33,3],[34,3,35,3],[36,3,37,3],[38,3,39,3],[40,3,41,3],[42,3,43,3],[44,3,45,3],[22,3,23,3],[0,3,1,3],[2,3,3,3],[4,3,5,3],[6,3,7,3],[8,3,9,3],[10,3,11,3],[12,3,13,3],[14,3,15,3],[16,3,17,3],[18,3,19,3],[20,3,21,3]]}
["miau272","Pitlik László","Automatizáció a banki és biztosítási piacon","(+)",null,{"$f":"A1","v":"miau272"},{"$f":"B1","v":"Pitlik László"},":",{"$f":"M1","v":"Automatizáció a banki és biztosítási piacon"},"  xx  ","https://miau.my-x.hu/miau/272/bank_biztosito_automatizacio.mp3",null,{"$f":"C1","v":"Automatizáció a banki és biztosítási piacon"}]
[null,"(KJE):","(Automation in bank and insurance activities)"]
["miau272","Pitlik László","MP3: A digitalizáció szerepe a megváltozott kutatási környezetben","(+)",null,{"$f":"A3","v":"miau272"},"Pitlik László",":",{"$f":"M3","v":"MP3: A digitalizáció szerepe a megváltozott kutatási környezetben"},"  xx  ","https://miau.my-x.hu/miau/273/kutatas_1_of_3.mp3",null,{"$f":"C3","v":"MP3: A digitalizáció szerepe a megváltozott kutatási környezetben"}]
[null,"(KJE):","(Digitalization and research)"]
["miau272","Pitlik László","A digitalizáció szerepe a megváltozott kutatási környezetben","(+)",null,{"$f":"A5","v":"miau272"},"Pitlik László",":",{"$f":"M5","v":"A digitalizáció szerepe a megváltozott kutatási környezetben"},"  xx  ","https://miau.my-x.hu/miau/273/kje_eloadasok.docx",null,{"$f":"C5","v":"A digitalizáció szerepe a megváltozott kutatási környezetben"}]
[null,"(KJE):","(Digitalization and research)"]
["miau272","Pitlik László, Pitlik Marcell","Alternatív megoldások regressziós modellekben hasonlóságelemzésekhez képest","(+)",null,{"$f":"A7","v":"miau272"},"Pitlik László, Pitlik Marcell",":",{"$f":"M7","v":"Alternatív megoldások regressziós modellekben hasonlóságelemzésekhez képest"},"  xx  ","https://miau.my-x.hu/miau/272/cash2.xls",null,{"$f":"C7","v":"Alternatív megoldások regressziós modellekben hasonlóságelemzésekhez képest"}]
[null,"(MY-X Team):","(Alternative solutions of regression models compared to similarity analyses)"]
["miau272","Pitlik László","Triatlon-csapatok optimalizálása solver-támogatással","(+)",null,{"$f":"A9","v":"miau272"},"Pitlik László",":",{"$f":"M9","v":"Triatlon-csapatok optimalizálása solver-támogatással"},"  xx  ","https://miau.my-x.hu/miau/272/triatlon_solver_es_trukk.xlsx",null,{"$f":"C9","v":"Triatlon-csapatok optimalizálása solver-támogatással"}]
[null,"(MY-X team):","(Optimization of triatlon-teams based on solver)"]
["miau272","Pitlik László, Pitlik Marcell","Roo-Boo-MOOC, avagy a robotizált MOOC-fejlesztés lehetőségei és korlátai II.","(+)",null,{"$f":"A11","v":"miau272"},"Pitlik László, Pitlik Marcell",":",{"$f":"M11","v":"Roo-Boo-MOOC, avagy a robotizált MOOC-fejlesztés lehetőségei és korlátai II."},"  xx  ","https://miau.my-x.hu/miau/272/Roo_Boo_Mooc_2.docx",null,{"$f":"C11","v":"Roo-Boo-MOOC, avagy a robotizált MOOC-fejlesztés lehetőségei és korlátai II."}]
[null,"(MY-X team):","(Potentials and barriers in the robotized MOOC-development- Part II.)"]
["miau272","Pitlik László, Pitlik Marcell, Pitlik Mátyás, Rikk János","A hamis remény kódjai, avagy mi különbözteti meg a jó és a középszerű programozókat egymástól?","(+)",null,{"$f":"A13","v":"miau272"},"Pitlik László, Pitlik Marcell, Pitlik Mátyás, Rikk János",":",{"$f":"M13","v":"A hamis remény kódjai, avagy mi különbözteti meg a jó és a középszerű programozókat egymástól?"},"  xx  ","https://miau.my-x.hu/miau/272/a_hamis_remeny_kodjai.docx",null,{"$f":"C13","v":"A hamis remény kódjai, avagy mi különbözteti meg a jó és a középszerű programozókat egymástól?"}]
[null,"(MY-X team):","(Codes of the false hope – or what are the differences between the good and the norm-like programmers?)"]
["miau272","Pitlik László, Pitlik Marcell","Anonimitás, mint a jövő pénze","(+)",null,{"$f":"A15","v":"miau272"},"Pitlik László, Pitlik Marcell",":",{"$f":"M15","v":"Anonimitás, mint a jövő pénze"},"  xx  ","https://miau.my-x.hu/miau/272/anonimtas_az_uj_penz.docx",null,{"$f":"C15","v":"Anonimitás, mint a jövő pénze"}]
[null,"(MY-X team):","(Anonymity as a kind of money of the future)"]
["miau273","Pitlik László","BELBIN-teszt hasonlóság-alapú értékelése","(+)",null,{"$f":"A17","v":"miau273"},"Pitlik László",":",{"$f":"M17","v":"BELBIN-teszt hasonlóság-alapú értékelése"},"  xx  ","https://miau.my-x.hu/miau/273/belbin2.xlsm",null,{"$f":"C17","v":"BELBIN-teszt hasonlóság-alapú értékelése"}]
[null,"(MY-X team):","(Belbin-test evaluation based on similarity analyses)"]
["miau273","Pitlik László (jun)","BELBIN-teszt kánon-alapú értékelése","(+)",null,{"$f":"A19","v":"miau273"},"Pitlik László (jun)",":",{"$f":"M19","v":"BELBIN-teszt kánon-alapú értékelése"},"  xx  ","https://miau.my-x.hu/miau/273/belbin1.xlsm",null,{"$f":"C19","v":"BELBIN-teszt kánon-alapú értékelése"}]
[null,"(MY-X team):","(Belbin-test canonized evaluation)"]
["miau273","Válogatás","A kódlopó/kódkölcsönző programozásról","(+)",null,{"$f":"A21","v":"miau273"},"Válogatás",":",{"$f":"M21","v":"A kódlopó/kódkölcsönző programozásról"},"  xx  ","https://miau.my-x.hu/miau/273/prg_valogatas.docx",null,{"$f":"C21","v":"A kódlopó/kódkölcsönző programozásról"}]
[null,"(MY-X team):","(How to create source codes based on prepared elements?)"]
["miau273","Pitlik László","Termelési szerkezet optimalizálása Solver-alapon","(+)",null,{"$f":"A23","v":"miau273"},"Pitlik László",":",{"$f":"M23","v":"Termelési szerkezet optimalizálása Solver-alapon"},"  xx  ","https://miau.my-x.hu/miau/273/mcm3_2021.xls",null,{"$f":"C23","v":"Termelési szerkezet optimalizálása Solver-alapon"}]
[null,"(MY-X team):","(Optimizing production structure based on MS Excel-Solver)"]
["miau273","Pitlik László","Termelési szerkezet optimalizálása MCM-alapon","(+)",null,{"$f":"A25","v":"miau273"},"Pitlik László",":",{"$f":"M25","v":"Termelési szerkezet optimalizálása MCM-alapon"},"  xx  ","https://miau.my-x.hu/miau/273/mcm2_2021.xlsm",null,{"$f":"C25","v":"Termelési szerkezet optimalizálása MCM-alapon"}]
[null,"(MY-X team):","(Optimizing production structure based on MCM)"]
["miau273","Pitlik László, Rikk János, Pitlik Marcell","Naiv és optimalizált versenyértékelés az oktatásban","(+)",null,{"$f":"A27","v":"miau273"},"Pitlik László, Rikk János, Pitlik Marcell",":",{"$f":"M27","v":"Naiv és optimalizált versenyértékelés az oktatásban"},"  xx  ","https://miau.my-x.hu/miau/273/Naiv_optimalizalt_verziok2.docx",null,{"$f":"C27","v":"Naiv és optimalizált versenyértékelés az oktatásban"}]
[null,"(MY-X team):","(Naïve and optimized evaluation in competitive education)"]
["miau273","Pitlik László, Rikk János","Felsőoktatási intézmények teljesítmény-ellenőrzési rendszervariánsai","(+)",null,{"$f":"A29","v":"miau273"},"Pitlik László, Rikk János",":",{"$f":"M29","v":"Felsőoktatási intézmények teljesítmény-ellenőrzési rendszervariánsai"},"  xx  ","https://miau.my-x.hu/miau/273/performance.docx",null,{"$f":"C29","v":"Felsőoktatási intézmények teljesítmény-ellenőrzési rendszervariánsai"}]
[null,"(MY-X team):","(Variations for performance control systems in the higher education)"]
["miau273","Pitlik László, Pitlik Marcell","Alternatív megoldások idősorok legkarakterisztikusabb vágópontjainak feltárására","(+)",null,{"$f":"A31","v":"miau273"},"Pitlik László, Pitlik Marcell",":",{"$f":"M31","v":"Alternatív megoldások idősorok legkarakterisztikusabb vágópontjainak feltárására"},"  xx  ","https://miau.my-x.hu/miau/273/oe3_szakaszolas_demo.xlsx",null,{"$f":"C31","v":"Alternatív megoldások idősorok legkarakterisztikusabb vágópontjainak feltárására"}]
[null,"(MY-X team):","(Alternative solutions for the most characteristic cutting points in time series)"]
["miau273","Pitlik László, Pitlik Marcell","Az olaj, mint nyersanyag iránti érdeklődés lehetséges értelmezései","(+)",null,{"$f":"A33","v":"miau273"},"Pitlik László, Pitlik Marcell",":",{"$f":"M33","v":"Az olaj, mint nyersanyag iránti érdeklődés lehetséges értelmezései"},"  xx  ","https://miau.my-x.hu/miau/273/oil1.xlsx",null,{"$f":"C33","v":"Az olaj, mint nyersanyag iránti érdeklődés lehetséges értelmezései"}]
[null,"(MY-X team):","(Potential interpretations of Google-Trends about oil as such)"]
["miau273","Pitlik László, Pitlik Marcell","Hallgatói dolgozatok értékelése csak a kivonatok alapján, avagy a kivonat tartalmának szabványosítási kísérlete","(+)",null,{"$f":"A35","v":"miau273"},"Pitlik László, Pitlik Marcell",":",{"$f":"M35","v":"Hallgatói dolgozatok értékelése csak a kivonatok alapján, avagy a kivonat tartalmának szabványosítási kísérlete"},"  xx  ","https://miau.my-x.hu/miau/273/otdk_2021_abstract_standards.docx",null,{"$f":"C35","v":"Hallgatói dolgozatok értékelése csak a kivonatok alapján, avagy a kivonat tartalmának szabványosítási kísérlete"}]
[null,"(MY-X team):","(Evaluation of studies of Students based only on the abstract – or an attempt for standardization of abstracts)"]
["miau273","Pitlik Mátyás, Pitlik Marcell, Pitlik László, Pitlik László (jun)","Érmevásárlás hasonlóságelemzési alapon, avagy alternatív modellek és ezek kölcsönhatásai","(+)",null,{"$f":"A37","v":"miau273"},"Pitlik Mátyás, Pitlik Marcell, Pitlik László, Pitlik László (jun)",":",{"$f":"M37","v":"Érmevásárlás hasonlóságelemzési alapon, avagy alternatív modellek és ezek kölcsönhatásai"},"  xx  ","https://miau.my-x.hu/miau/273/erem_befektetes_coco.xlsx",null,{"$f":"C37","v":"Érmevásárlás hasonlóságelemzési alapon, avagy alternatív modellek és ezek kölcsönhatásai"}]
[null,"(MY-X team):","(Numismatic decision support based on alternative similarity analyses)"]
["miau273","Pitlik László, Pitlik Marcell","A Coursera aranykora, avagy az önkorlátozó mesterséges intelligencia","(+)",null,{"$f":"A39","v":"miau273"},"Pitlik László, Pitlik Marcell",":",{"$f":"M39","v":"A Coursera aranykora, avagy az önkorlátozó mesterséges intelligencia"},"  xx  ","https://miau.my-x.hu/miau/273/moocs.docx",null,{"$f":"C39","v":"A Coursera aranykora, avagy az önkorlátozó mesterséges intelligencia"}]
[null,"(MY-X team):","(Golden Age for Coursera – or self-limitation of artificial intelligence)"]
["miau273","Takács Vivien, Pitlik László","A SAMSUNG és a DELL brand-érték alakulásának összehasonlító elemzése","(+)",null,{"$f":"A41","v":"miau273"},"Takács Vivien, Pitlik László",":",{"$f":"M41","v":"A SAMSUNG és a DELL brand-érték alakulásának összehasonlító elemzése"},"  xx  ","https://miau.my-x.hu/miau/273/adidas_story.pdf#page=27",null,{"$f":"C41","v":"A SAMSUNG és a DELL brand-érték alakulásának összehasonlító elemzése"}]
[null,"(Learning Innovation Kft., My-X team):","(Comparative analysis of the time series of brand values concerning Samsung and Dell)"]
["miau273","Garabits Edina, Pitlik László","A COURSERA és az UDEMY brand-érték alakulásának összehasonlító elemzése","(+)",null,{"$f":"A43","v":"miau273"},"Garabits Edina, Pitlik László",":",{"$f":"M43","v":"A COURSERA és az UDEMY brand-érték alakulásának összehasonlító elemzése"},"  xx  ","https://miau.my-x.hu/miau/273/adidas_story.pdf#page=20",null,{"$f":"C43","v":"A COURSERA és az UDEMY brand-érték alakulásának összehasonlító elemzése"}]
[null,"(Learning Innovation Kft., My-X team):","(Comparative analysis of the time series of brand values concerning Coursera and Udemy)"]
["miau273","Boross Gábor, Pitlik László","A FERRARI brand-értékének idősoros alakulása, avagy a WIKIPEDIA hangulatértékek becslése","(+)",null,{"$f":"A45","v":"miau273"},"Boross Gábor, Pitlik László",":",{"$f":"M45","v":"A FERRARI brand-értékének idősoros alakulása, avagy a WIKIPEDIA hangulatértékek becslése"},"  xx  ","https://miau.my-x.hu/miau/273/adidas_story.pdf#page=14",null,"A FERRARI brand-értékének idősoros alakulása, avagy a WIKIPEDIA hangulatértékek becslése"]
[null,"(Learning Innovation Kft., My-X team):","(The time-series of the brand values of Ferrari from point of view of a robot historian – or estimation of emotional directions of Wikipedia about an enterprise)"]
["miau273","Kemény Norbert, Pitlik László","A SAMSUNG Electronics aranykora, avagy a naiv és a robotszem párhuzamai és eltérései","(+)",null,{"$f":"A47","v":"miau273"},"Kemény Norbert, Pitlik László",":",{"$f":"M47","v":"A SAMSUNG Electronics aranykora, avagy a naiv és a robotszem párhuzamai és eltérései"},"  xx  ","https://miau.my-x.hu/miau/273/adidas_story.pdf#page=8",null,"A SAMSUNG Electronics aranykora, avagy a naiv és a robotszem párhuzamai és eltérései"]
[null,"(Learning Innovation Kft., My-X team):","(The golden age of the Samsung Electronics company– or parallelisms and differences between robot eyes and naïve problem handling strategies)"]
["miau273","Rácz Zsolt, Pitlik László","Az ADIDAS-történet robotszemmel – avagy a validáció új aspektusai a hasonlóságelemzésben","(+)",null,{"$f":"A49","v":"miau273"},"Rácz Zsolt, Pitlik László",":",{"$f":"M49","v":"Az ADIDAS-történet robotszemmel – avagy a validáció új aspektusai a hasonlóságelemzésben"},"  xx  ","https://miau.my-x.hu/miau/273/adidas_story.pdf#page=1",null,"Az ADIDAS-történet robotszemmel – avagy a validáció új aspektusai a hasonlóságelemzésben"]
[null,"(Learning Innovation Kft., My-X team):","(The Adidas-story from point of view of a robot historian – or new aspects of the validation in the similarity analyses)"]
["miau274","Gergics Miléna, Pitlik László","Robotedző és robot-pszichológus feltörekvő labdarúgók piaci értékének növelésére","(+)",null,{"$f":"A51","v":"miau274"},"Gergics Miléna, Pitlik László",":",{"$f":"M51","v":"Robotedző és robot-pszichológus feltörekvő labdarúgók piaci értékének növelésére"},"  xx  ","https://miau.my-x.hu/miau/274/transfermarkt.xlsx",null,"Robotedző és robot-pszichológus feltörekvő labdarúgók piaci értékének növelésére"]
[null,"(MY-X team):","(Robot-coach and Robot-psychologist for increasing market value of young soccers)"]
["miau274","Pitlik Marcell","OTDK-MP3: Térfogati égés optikai vizsgálata és mesterséges intelligencia alapú elemzése","(+)",null,{"$f":"A53","v":"miau274"},"Pitlik Marcell",":",{"$f":"M53","v":"OTDK-MP3: Térfogati égés optikai vizsgálata és mesterséges intelligencia alapú elemzése"},"  xx  ","https://miau.my-x.hu/miau/274/OTDK_PM_v1.mp3",null,"OTDK-MP3: Térfogati égés optikai vizsgálata és mesterséges intelligencia alapú elemzése"]
[null,"(MY-X team):","(Optical diagnostics and analysis of steady combustion based on artificial intelligence)"]
["miau274","Pitlik Marcell","OTDK-PPT: Térfogati égés optikai vizsgálata és mesterséges intelligencia alapú elemzése","(+)",null,{"$f":"A55","v":"miau274"},"Pitlik Marcell",":",{"$f":"M55","v":"OTDK-PPT: Térfogati égés optikai vizsgálata és mesterséges intelligencia alapú elemzése"},"  xx  ","https://miau.my-x.hu/miau/274/OTDK_PM_v1.pptx",null,"OTDK-PPT: Térfogati égés optikai vizsgálata és mesterséges intelligencia alapú elemzése"]
[null,"(MY-X team):","(Optical diagnostics and analysis of steady combustion based on artificial intelligence)"]
["miau274","Pitlik László","Blokklánc-blokkok optimalizált feltöltésének alternatív megoldásai","(+)",null,{"$f":"A57","v":"miau274"},"Pitlik László",":",{"$f":"M57","v":"Blokklánc-blokkok optimalizált feltöltésének alternatív megoldásai"},"  xx  ","https://miau.my-x.hu/miau/274/blockchain_backpack.xlsx",null,"Blokklánc-blokkok optimalizált feltöltésének alternatív megoldásai"]
[null,"(MY-X team):","(Alternative solutions for defining transactions for blocks of blockchains)"]
["miau274","Pitlik László, Pitlik Marcell","Solver-függő alternatív megoldások a hasonlóságelemzésben","(+)",null,{"$f":"A59","v":"miau274"},"Pitlik László, Pitlik Marcell",":",{"$f":"M59","v":"Solver-függő alternatív megoldások a hasonlóságelemzésben"},"  xx  ","https://miau.my-x.hu/miau/274/solver_driven_alternatives.docx",null,"Solver-függő alternatív megoldások a hasonlóságelemzésben"]
[null,"(MY-X team):","(Solver-driven alternative solutions in the similarity analysis)"]
["miau274","Pitlik László","Látszólagos teljes invaliditás függvény-szimmetria vizsgálatok nyomán lépcsős függvényekkel","(+)",null,{"$f":"A61","v":"miau274"},"Pitlik László",":",{"$f":"M61","v":"Látszólagos teljes invaliditás függvény-szimmetria vizsgálatok nyomán lépcsős függvényekkel"},"  xx  ","https://miau.my-x.hu/miau/274/csak_invalid_objektum.xlsx",null,"Látszólagos teljes invaliditás függvény-szimmetria vizsgálatok nyomán lépcsős függvényekkel"]
[null,"(MY-X team):","(Seemingly total invalidity based on symmetry analyses of staircase functions)"]

{"sheet":"nyers (7)","index":16,"n_rows":151,"n_cols":13,"rows_kept":151,"cut":false,"hidden":false,"merged":[[150,3,151,3],[128,3,129,3],[130,3,131,3],[132,3,133,3],[134,3,135,3],[136,3,137,3],[138,3,139,3],[140,3,141,3],[142,3,143,3],[144,3,145,3],[146,3,147,3],[148,3,149,3],[126,2,127,2],[126,3,127,3],[106,3,107,3],[108,3,109,3],[110,3,111,3],[112,3,113,3],[114,3,115,3],[116,3,117,3],[118,3,119,3],[120,3,121,3],[122,3,123,3],[124,2,125,2],[124,3,125,3],[100,2,101,2],[100,3,101,3],[102,2,103,2],[102,3,103,3],[104,2,105,2],[104,3,105,3],[92,3,93,3],[94,3,95,3],[96,2,97,2],[96,3,97,3],[98,2,99,2],[98,3,99,3],[90,3,91,3],[68,3,69,3],[70,3,71,3],[72,3,73,3],[74,3,75,3],[76,3,77,3],[78,3,79,3],[80,3,81,3],[82,3,83,3],[84,3,85,3],[86,3,87,3],[88,3,89,3],[66,3,67,3],[46,3,47,3],[48,3,49,3],[50,3,51,3],[52,3,53,3],[56,3,57,3],[58,3,59,3],[60,3,61,3],[62,3,63,3],[64,3,65,3],[30,2,31,2],[30,3,31,3],[54,2,55,2],[54,3,55,3],[34,3,35,3],[36,3,37,3],[38,3,39,3],[40,3,41,3],[42,3,43,3],[44,3,45,3],[32,3,33,3],[22,3,23,3],[24,3,25,3],[26,3,27,3],[28,3,29,3],[10,3,11,3],[12,3,13,3],[14,3,15,3],[16,3,17,3],[18,3,19,3],[20,3,21,3],[0,3,1,3],[2,3,3,3],[4,3,5,3],[6,3,7,3],[8,3,9,3]]}
["miau284","Pitlik László","Solver-alapú problémamegoldás oktatásának munkanaplója 3 szemeszterre","(+)",null,{"$f":"A1","v":"miau284"},{"$f":"B1","v":"Pitlik László"},":",{"$f":"M1","v":"Solver-alapú problémamegoldás oktatásának munkanaplója 3 szemeszterre"},"  xx  ","https://miau.my-x.hu/mediawiki/index.php/OE_solver_EA",null,{"$f":"C1","v":"Solver-alapú problémamegoldás oktatásának munkanaplója 3 szemeszterre"}]
[null,"(OE):","(Solver-based problem solving course - success report for 3 semesters)"]
["miau284","Pitlik László","Szubjektivitás helyett MI-munkacsoportok objektív értékelése","(+)",null,{"$f":"A3","v":"miau284"},"Pitlik László",":",{"$f":"M3","v":"Szubjektivitás helyett MI-munkacsoportok objektív értékelése"},"  xx  ","https://miau.my-x.hu/miau/284/mi_munkacsoportok_projektek_ertekelese.xlsx",null,{"$f":"C3","v":"Szubjektivitás helyett MI-munkacsoportok objektív értékelése"}]
[null,"(OE):","(Instaed of subjectivity, objective evaluation of AI-projects/teams)"]
["miau284","Anonim Hallgató","Trailer-alapú kasszasiker-becslés mozifilmek esetén","(+)",null,{"$f":"A5","v":"miau284"},"Anonim Hallgató",":",{"$f":"M5","v":"Trailer-alapú kasszasiker-becslés mozifilmek esetén"},"  xx  ","https://miau.my-x.hu/miau/284/Trailerek.xlsx",null,"Trailer-alapú kasszasiker-becslés mozifilmek esetén"]
[null,"(KJE):","(Trailer-based estimation of market success in case of movie objects)"]
["miau284","Anonim Hallgató","Formula2 pilóták piaci értékének becslése","(+)",null,{"$f":"A7","v":"miau284"},"Anonim Hallgató",":",{"$f":"M7","v":"Formula2 pilóták piaci értékének becslése"},"  xx  ","https://miau.my-x.hu/miau/284/Formula2.docx",null,{"$f":"C7","v":"Formula2 pilóták piaci értékének becslése"}]
[null,"(OE):","(Evaluation of Formula2 pilots based on similarity analyses)"]
["miau284","Varró Angelika","2DM az info-kommunikációban - játékosítási aspektusok kisiskolások részére","(+)",null,{"$f":"A9","v":"miau284"},"Varró Angelika",":",{"$f":"M9","v":"2DM az info-kommunikációban - játékosítási aspektusok kisiskolások részére"},"  xx  ","https://miau.my-x.hu/miau/284/2dm_konyvtaros.pdf",null,{"$f":"C9","v":"2DM az info-kommunikációban - játékosítási aspektusok kisiskolások részére"}]
[null,"(KJE):","(2DM for the info-communication - gamification aspects for primary schools)"]
["miau284","Anonim Hallgató","Naív és solver-alapú odds-kalkulátorok","(+)",null,{"$f":"A11","v":"miau284"},"Anonim Hallgató",":",{"$f":"M11","v":"Naív és solver-alapú odds-kalkulátorok"},"  xx  ","https://miau.my-x.hu/miau/284/oddsCalculator.docx",null,{"$f":"C11","v":"Naív és solver-alapú odds-kalkulátorok"}]
[null,"(OE):","(Naive and solver-based odds-calculators)"]
["miau284","Anonim Hallgató","Bináris javítókulcsok feltörése (solver.js)","(+)",null,{"$f":"A13","v":"miau284"},"Anonim Hallgató",":",{"$f":"M13","v":"Bináris javítókulcsok feltörése (solver.js)"},"  xx  ","https://miau.my-x.hu/miau/284/kodtores.zip",null,{"$f":"C13","v":"Bináris javítókulcsok feltörése (solver.js)"}]
[null,"(OE):","(Derivation of evaluation binary test-codes based on solver.js)"]
["miau284","Anonim Hallgató","2DM az info-kommunikációban - játékosítási aspektusok","(+)",null,{"$f":"A15","v":"miau284"},"Anonim Hallgató",":",{"$f":"M15","v":"2DM az info-kommunikációban - játékosítási aspektusok"},"  xx  ","https://miau.my-x.hu/miau/284/2dm_piktogram.docx",null,{"$f":"C15","v":"2DM az info-kommunikációban - játékosítási aspektusok"}]
[null,"(KJE):","(2DM for the info-communication - gamification aspects)"]
["miau284","Anonim Hallgató","2DM az info-kommunikációban - ITB-aspektusok","(+)",null,{"$f":"A17","v":"miau284"},"Anonim Hallgató",":",{"$f":"M17","v":"2DM az info-kommunikációban - ITB-aspektusok"},"  xx  ","https://miau.my-x.hu/miau/284/2dm_itb.png",null,{"$f":"C17","v":"2DM az info-kommunikációban - ITB-aspektusok"}]
[null,"(KJE):","(2DM for the info-communication - IT-security aspects)"]
["miau284","Marton Olivér","2DM az info-kommunikációban - közösségi média aspektusok","(+)",null,{"$f":"A19","v":"miau284"},"Marton Olivér",":",{"$f":"M19","v":"2DM az info-kommunikációban - közösségi média aspektusok"},"  xx  ","https://miau.my-x.hu/miau/284/2DM_GAME.docx",null,{"$f":"C19","v":"2DM az info-kommunikációban - közösségi média aspektusok"}]
[null,"(KJE):","(2DM for the info-communication - social media aspects)"]
["miau284","Anonim Hallgató","Apaság/Rokonsági fok vizsgálatok","(+)",null,{"$f":"A21","v":"miau284"},"Anonim Hallgató",":",{"$f":"M21","v":"Apaság/Rokonsági fok vizsgálatok"},"  xx  ","https://miau.my-x.hu/miau/284/apasagi_vizsgalat.zip",null,{"$f":"C21","v":"Apaság/Rokonsági fok vizsgálatok"}]
[null,"(OE):","(Paternity tests - or the degree of kinship)"]
["miau284","Mérei Virág","Egy robot-pszichológus koncepciója Google-Trends-adatok alapján","(+)",null,{"$f":"A23","v":"miau284"},"Mérei Virág",":",{"$f":"M23","v":"Egy robot-pszichológus koncepciója Google-Trends-adatok alapján"},"  xx  ","https://miau.my-x.hu/miau/284/Robot_Pszichologus.docx",null,{"$f":"C23","v":"Egy robot-pszichológus koncepciója Google-Trends-adatok alapján"}]
[null,"(KJE):","(A concept of a robot-psychologist based on data from Google Trends)"]
["miau284","Pitlik László","Kérdőívek szöveges tartalmának számokká konvertálása FKERES/HA() függvények nélkül - Solver-rel","(+)",null,{"$f":"A25","v":"miau284"},"Pitlik László",":",{"$f":"M25","v":"Kérdőívek szöveges tartalmának számokká konvertálása FKERES/HA() függvények nélkül - Solver-rel"},"  xx  ","https://miau.my-x.hu/miau/284/fkeres_es_ha_helyett_numerikus_csereertek_solverrel.xlsx",null,{"$f":"C25","v":"Kérdőívek szöveges tartalmának számokká konvertálása FKERES/HA() függvények nélkül - Solver-rel"}]
[null,"(MY-X team):","(How to convert text inputs of a questionnaire to numeric values without VLOOKUP/IF() functions but with Solver)"]
["miau284","Ujlaki Richárd","Vállalatirányítási rendszerek gazdasági elemzése (Vállalatirányítási rendszerek KKV-k részére)","(+)",null,{"$f":"A27","v":"miau284"},"Ujlaki Richárd",":",{"$f":"M27","v":"Vállalatirányítási rendszerek gazdasági elemzése (Vállalatirányítási rendszerek KKV-k részére)"},"  xx  ","https://miau.my-x.hu/miau/284/kkv.pdf",null,{"$f":"C27","v":"Vállalatirányítási rendszerek gazdasági elemzése (Vállalatirányítási rendszerek KKV-k részére)"}]
[null,"(MY-X team):","(ERP for SMEs - exploring of real possibilities of information added values)"]
["miau284","Pitlik László","Alternatív algoritmikus problémamegoldások versenyeztetése","(+)",null,{"$f":"A29","v":"miau284"},"Pitlik László",":",{"$f":"M29","v":"Alternatív algoritmikus problémamegoldások versenyeztetése"},"  xx  ","https://miau.my-x.hu/miau/284/algoritmus_alternativak_versenye.xlsx",null,{"$f":"C29","v":"Alternatív algoritmikus problémamegoldások versenyeztetése"}]
[null,"(MY-X team):","(Evaluation of alternative algorithmic solutions)"]
["miau284","Pitlik László","Content-based spurious correlations or chances of causalities","(+)",null,{"$f":"A31","v":"miau284"},"Pitlik László",":",{"$f":"M31","v":"Content-based spurious correlations or chances of causalities"},"  xx  ","https://miau.my-x.hu/miau/284/spurious_correlation.xlsx",null,{"$f":"C31","v":"Content-based spurious correlations or chances of causalities"}]
[null,"(MY-X team):"]
["miau284","Pitlik László","Apaság/Rokonsági fok vizsgálatok Solver-rel","(+)",null,{"$f":"A33","v":"miau284"},"Pitlik László",":",{"$f":"M33","v":"Apaság/Rokonsági fok vizsgálatok Solver-rel"},"  xx  ","https://miau.my-x.hu/miau/284/apasag_vizsgalat_solver.xlsx",null,{"$f":"C33","v":"Apaság/Rokonsági fok vizsgálatok Solver-rel"}]
[null,"(MY-X team):","(Solver-based paternity tests - or the degree of kinship)"]
["miau284","Anonim Hallgató","Manuális és induktív szakértői rendszerek tervezése és fejlesztése","(+)",null,{"$f":"A35","v":"miau284"},"Anonim Hallgató",":",{"$f":"M35","v":"Manuális és induktív szakértői rendszerek tervezése és fejlesztése"},"  xx  ","https://miau.my-x.hu/miau/284/f1.xlsx",null,{"$f":"C35","v":"Manuális és induktív szakértői rendszerek tervezése és fejlesztése"}]
[null,"(MY-X team):","(Planning and developing human-driven and inductive expert systems)"]
["miau284","Pitlik László","Asszociáció-alapú üzenet-kódolás/dekódolás (rejtvények)","(+)",null,{"$f":"A37","v":"miau284"},"Pitlik László",":",{"$f":"M37","v":"Asszociáció-alapú üzenet-kódolás/dekódolás (rejtvények)"},"  xx  ","https://miau.my-x.hu/miau/284/asszociacio_kodolas.docx",null,{"$f":"C37","v":"Asszociáció-alapú üzenet-kódolás/dekódolás (rejtvények)"}]
[null,"(MY-X team):","(Association-based coding/decoding - demonstration materials)"]
["miau285","Hajdú Vivien Julianna, Varró Liliána Éva","A nemek közötti munkaerőpiaci egyenlőtlenségekből adódó feszültségek megszüntetését célzó program és hatásmechanizmusának bemutatása, megvalósítható társadalmi változások és utópiák feltárása","(+)",null,{"$f":"A39","v":"miau285"},"Hajdú Vivien Julianna, Varró Liliána Éva",":",{"$f":"M39","v":"A nemek közötti munkaerőpiaci egyenlőtlenségekből adódó feszültségek megszüntetését célzó program és hatásmechanizmusának bemutatása, megvalósítható társadalmi változások és utópiák feltárása"},"  xx  ","https://miau.my-x.hu/miau/284/linchpin/linchpin.docx",null,{"$f":"C39","v":"A nemek közötti munkaerőpiaci egyenlőtlenségekből adódó feszültségek megszüntetését célzó program és hatásmechanizmusának bemutatása, megvalósítható társadalmi változások és utópiák feltárása"}]
[null,"(MY-X team):","(Gender-based similarity analyses)"]
["miau285","Pitlik László, Rikk János, Kóródi Gyula","EEG-alapú COVID-kockázatok becslése hasonlóságelemzéssel","(+)",null,{"$f":"A41","v":"miau285"},"Pitlik László, Rikk János, Kóródi Gyula",":",{"$f":"M41","v":"EEG-alapú COVID-kockázatok becslése hasonlóságelemzéssel"},"  xx  ","https://miau.my-x.hu/miau/285/Study Covid PCR_final.xlsx",null,{"$f":"C41","v":"EEG-alapú COVID-kockázatok becslése hasonlóságelemzéssel"}]
[null,"(MY-X team):","(Estimation of COVID-risk-index based on similarity analysis and EEG-patterns)"]
["miau285","Pitlik László","STEP-IX demo (ingatlanok)","(+)",null,{"$f":"A43","v":"miau285"},"Pitlik László",":",{"$f":"M43","v":"STEP-IX demo (ingatlanok)"},"  xx  ","https://miau.my-x.hu/miau/285/step_ix_m12.xlsx",null,{"$f":"C43","v":"STEP-IX demo (ingatlanok)"}]
[null,"(OE):","(Demonstation material for STEP-IX-based modelling - real estate)"]
["miau285","Anonim Hallgatók","PPT: Robot-ingatlan-szakértő","(+)",null,{"$f":"A45","v":"miau285"},"Anonim Hallgatók",":",{"$f":"M45","v":"PPT: Robot-ingatlan-szakértő"},"  xx  ","https://miau.my-x.hu/miau/285/MI12.pptx",null,{"$f":"C45","v":"PPT: Robot-ingatlan-szakértő"}]
[null,"(OE):","(Robot-real-estate-expert)"]
["miau285","Anonim Hallgatók","PPT: Robot-repülésirányító","(+)",null,{"$f":"A47","v":"miau285"},"Anonim Hallgatók",":",{"$f":"M47","v":"PPT: Robot-repülésirányító"},"  xx  ","https://miau.my-x.hu/miau/285/MI05.pptx",null,{"$f":"C47","v":"PPT: Robot-repülésirányító"}]
[null,"(OE):","(Robot-aviation-expert)"]
["miau285","Anonim Hallgatók","Robot-repülésirányító","(+)",null,{"$f":"A49","v":"miau285"},"Anonim Hallgatók",":",{"$f":"M49","v":"Robot-repülésirányító"},"  xx  ","https://miau.my-x.hu/miau/285/MI05.pdf",null,{"$f":"C49","v":"Robot-repülésirányító"}]
[null,"(OE):","(Robot-aviation-expert)"]
["miau285","Ács Kinga / Deák G. Dóra / Dobos Melissza / Farkas Ádám / Franz Dorottya / Hirschmann Zsófia / Jónás Attila / Kiss Zsuzsanna / Lencsér Levente / Muhari Adrienn / Nagy Balázs / Szepesi Zsuzsanna / Ujváry Alexandra","Robot-polgár (e-gazság projekt 2022 vs 2010)","(+)",null,{"$f":"A51","v":"miau285"},"Ács Kinga / Deák G. Dóra / Dobos Melissza / Farkas Ádám / Franz Dorottya / Hirschmann Zsófia / Jónás Attila / Kiss Zsuzsanna / Lencsér Levente / Muhari Adrienn / Nagy Balázs / Szepesi Zsuzsanna / Ujváry Alexandra",":",{"$f":"M51","v":"Robot-polgár (e-gazság projekt 2022 vs 2010)"},"  xx  ","https://miau.my-x.hu/miau/285/e_gazsag_2022/?C=N;O=A",null,{"$f":"C51","v":"Robot-polgár (e-gazság projekt 2022 vs 2010)"}]
[null,"(KJE):","(Robot-citizen project 2022-2010)"]
["miau285","Anonim Hallgató","A MarkMyProfessor többrétegű értelmezése Solver-rel avagy gondolatok a kibernetikus oktatási intézmények néhány elvárható funkcionalitásáról","(+)",null,{"$f":"A53","v":"miau285"},"Anonim Hallgató",":",{"$f":"M53","v":"A MarkMyProfessor többrétegű értelmezése Solver-rel avagy gondolatok a kibernetikus oktatási intézmények néhány elvárható funkcionalitásáról"},"  xx  ","https://miau.my-x.hu/miau/284/mmp/publication_teachersdata_v2.docx",null,{"$f":"C53","v":"A MarkMyProfessor többrétegű értelmezése Solver-rel avagy gondolatok a kibernetikus oktatási intézmények néhány elvárható funkcionalitásáról"}]
[null,"(OE):","(Multilayer explanation of MMP-data by Solver or ideas about expectable functionality of the cyber education)"]
["miau285","Anonim Hallgató","To what extent can a Solver-based software reproduce the rating system in Formula-2?","(+)",null,{"$f":"A55","v":"miau285"},"Anonim Hallgató",":",{"$f":"M55","v":"To what extent can a Solver-based software reproduce the rating system in Formula-2?"},"  xx  ","https://miau.my-x.hu/miau/284/f2_2/f2_2_en.docx",null,{"$f":"C55","v":"To what extent can a Solver-based software reproduce the rating system in Formula-2?"}]
[null,"(OE):"]
["miau285","Anonim Hallgató","A WRC pilóták anti-diszkriminatív teljesítmény-becslése Solver-alapú megközelítéssel","(+)",null,{"$f":"A57","v":"miau285"},"Anonim Hallgató",":",{"$f":"M57","v":"A WRC pilóták anti-diszkriminatív teljesítmény-becslése Solver-alapú megközelítéssel"},"  xx  ","https://miau.my-x.hu/miau/284/wrc/solver-wrc.docx",null,{"$f":"C57","v":"A WRC pilóták anti-diszkriminatív teljesítmény-becslése Solver-alapú megközelítéssel"}]
[null,"(OE):","(Estimation of anti-discriminatory performance of WRC drivers using a Solver-based approach)"]
["miau285","Ujlaki Richárd","PPT: Vállalatirányítási rendszerek gazdasági elemzése (Vállalatirányítási rendszerek KKV-k részére)","(+)",null,{"$f":"A59","v":"miau285"},"Ujlaki Richárd",":",{"$f":"M59","v":"PPT: Vállalatirányítási rendszerek gazdasági elemzése (Vállalatirányítási rendszerek KKV-k részére)"},"  xx  ","https://miau.my-x.hu/miau/284/kkv.pptx",null,{"$f":"C59","v":"PPT: Vállalatirányítási rendszerek gazdasági elemzése (Vállalatirányítási rendszerek KKV-k részére)"}]
[null,"(KJE):","(ERP for SMEs - exploring of real possibilities of information added values)"]
["miau285","Anonim Hallgató","Póker-robot (blöff-robot)","(+)",null,{"$f":"A61","v":"miau285"},"Anonim Hallgató",":",{"$f":"M61","v":"Póker-robot (blöff-robot)"},"  xx  ","https://miau.my-x.hu/miau/284/poker.docx",null,{"$f":"C61","v":"Póker-robot (blöff-robot)"}]
[null,"(OE):","(Poker-robot / bluff-robot)"]
["miau286","Pitlik László","MAE&MSE-alapú, többlépcsős tesztelése eredményeinek kiaknázása Solver-rel a becslési pontosság növelésére","(+)",null,{"$f":"A63","v":"miau286"},"Pitlik László",":",{"$f":"M63","v":"MAE&MSE-alapú, többlépcsős tesztelése eredményeinek kiaknázása Solver-rel a becslési pontosság növelésére"},"  xx  ","https://miau.my-x.hu/miau/286/solver2_mse1.xlsx",null,{"$f":"C63","v":"MAE&MSE-alapú, többlépcsős tesztelése eredményeinek kiaknázása Solver-rel a becslési pontosság növelésére"}]
[null,"(MY-X team):","(Involving Solver into finetuning of MAE&MSE-oriented estimation fitting based on estimation series)"]
["miau286","Pitlik László","MAE-alapú, többlépcsős tesztelése eredményeinek kiaknázása Solver-rel a becslési pontosság növelésére","(+)",null,{"$f":"A65","v":"miau286"},"Pitlik László",":",{"$f":"M65","v":"MAE-alapú, többlépcsős tesztelése eredményeinek kiaknázása Solver-rel a becslési pontosság növelésére"},"  xx  ","https://miau.my-x.hu/miau/286/solver2_mae1.xlsx",null,{"$f":"C65","v":"MAE-alapú, többlépcsős tesztelése eredményeinek kiaknázása Solver-rel a becslési pontosság növelésére"}]
[null,"(MY-X team):","(Involving Solver into finetuning of MAE-oriented estimation fitting based on estimation series)"]
["miau286","Pitlik László","Matematikai gyakorló feladatok solver-es támogatása","(+)",null,{"$f":"A67","v":"miau286"},"Pitlik László",":",{"$f":"M67","v":"Matematikai gyakorló feladatok solver-es támogatása"},"  xx  ","https://miau.my-x.hu/miau/286/misztikus_szamok_solver.xlsx",null,{"$f":"C67","v":"Matematikai gyakorló feladatok solver-es támogatása"}]
[null,"(MY-X team):","(Mathematical exercises supoorted by Solver)"]
["miau286","Pitlik László","Az összeadás műveletének alternatív hasonlóságelemzési értelmezései","(+)",null,{"$f":"A69","v":"miau286"},"Pitlik László",":",{"$f":"M69","v":"Az összeadás műveletének alternatív hasonlóságelemzési értelmezései"},"  xx  ","https://miau.my-x.hu/miau/286/osszeadas_lepcsos_fuggvennyel.xlsx",null,{"$f":"C69","v":"Az összeadás műveletének alternatív hasonlóságelemzési értelmezései"}]
[null,"(MY-X team):","(Addition from point of view of different similarity analyses)"]
["miau286","Pitlik László","Mesterséges intelligencia fejlesztések a szakszervezetek működésének támogatására","(+)",null,{"$f":"A71","v":"miau286"},"Pitlik László",":",{"$f":"M71","v":"Mesterséges intelligencia fejlesztések a szakszervezetek működésének támogatására"},"  xx  ","https://miau.my-x.hu/miau/286/mi_szakszervezetek.docx",null,{"$f":"C71","v":"Mesterséges intelligencia fejlesztések a szakszervezetek működésének támogatására"}]
[null,"(MY-X team):","(Developing artificial intelligence to support trade union operations)"]
["miau287","Pitlik László, Pitlik Marcell","DATARACING 2022 – az MY-X kutatócsoport modellezési tapasztalatai, avagy a tudásmérnökség új lehetőségei","(+)",null,{"$f":"A73","v":"miau287"},"Pitlik László, Pitlik Marcell",":",{"$f":"M73","v":"DATARACING 2022 – az MY-X kutatócsoport modellezési tapasztalatai, avagy a tudásmérnökség új lehetőségei"},"  xx  ","https://miau.my-x.hu/miau/287/DATARACING2022.docx",null,{"$f":"C73","v":"DATARACING 2022 – az MY-X kutatócsoport modellezési tapasztalatai, avagy a tudásmérnökség új lehetőségei"}]
[null,"(MY-X team):","(DataRacing 2022 – modelling experiences of the MY-X team – or new possibilities in the knowledge engineering)"]
["miau287","Pitlik László","Sorszámozás-variánsok és a szubjektivitás hatása az ár/teljesítmény fogalom értelmezésére","(+)",null,{"$f":"A75","v":"miau287"},"Pitlik László",":",{"$f":"M75","v":"Sorszámozás-variánsok és a szubjektivitás hatása az ár/teljesítmény fogalom értelmezésére"},"  xx  ","https://miau.my-x.hu/miau/287/bprof1_laptop.xlsx",null,{"$f":"C75","v":"Sorszámozás-variánsok és a szubjektivitás hatása az ár/teljesítmény fogalom értelmezésére"}]
[null,"(MY-X team):","(Impacts of subjective ranking methods concerning the price/performance analyses)"]
["miau287","Pitlik László","GANTT-diagram-variánsok Excel-cellákkal és képletekkel, grafikus objektumok nélkül","(+)",null,{"$f":"A77","v":"miau287"},"Pitlik László",":",{"$f":"M77","v":"GANTT-diagram-variánsok Excel-cellákkal és képletekkel, grafikus objektumok nélkül"},"  xx  ","https://miau.my-x.hu/miau/287/gantt.xlsx",null,{"$f":"C77","v":"GANTT-diagram-variánsok Excel-cellákkal és képletekkel, grafikus objektumok nélkül"}]
[null,"(MY-X team):","(Versions for GANTT-charts based on Excel-cells and formels without any graphical elements)"]
["miau287","Pitlik László","Programozási feladatok tervezése, avagy ötnél több Google-Trends-adatsor integrálása","(+)",null,{"$f":"A79","v":"miau287"},"Pitlik László",":",{"$f":"M79","v":"Programozási feladatok tervezése, avagy ötnél több Google-Trends-adatsor integrálása"},"  xx  ","https://miau.my-x.hu/miau/287/tutorial_google_trends_5plus.xlsx",null,{"$f":"C79","v":"Programozási feladatok tervezése, avagy ötnél több Google-Trends-adatsor integrálása"}]
[null,"(MY-X team):","(Planning tasks for programming or integration more than 5 timeseries from Google Trends)"]
["miau288","Németh István, Szani Ferenc, Pitlik László","Tananyagok összehasonlító elemzése szemmozgás/érzelem/energia/EEG és egér/billentyűzet-log-adatok alapján","(+)",null,{"$f":"A81","v":"miau288"},"Németh István, Szani Ferenc, Pitlik László",":",{"$f":"M81","v":"Tananyagok összehasonlító elemzése szemmozgás/érzelem/energia/EEG és egér/billentyűzet-log-adatok alapján"},"  xx  ","https://miau.my-x.hu/miau/288/2d_3d_complex_study.docx",null,{"$f":"C81","v":"Tananyagok összehasonlító elemzése szemmozgás/érzelem/energia/EEG és egér/billentyűzet-log-adatok alapján"}]
[null,"(MY-X team):","(Comparative analysis of e-learning materials based on eye-motion/emotion-detection/energy/EEG- and mouse/keyboard logs)"]
["miau288","Pitlik László","Bementi és kimeneti teszt haladó (pl. céges/egyetemi) Excel-tanfolyamok tematikájának tervezésére, visszaigazolására","(+)",null,{"$f":"A83","v":"miau288"},"Pitlik László",":",{"$f":"M83","v":"Bementi és kimeneti teszt haladó (pl. céges/egyetemi) Excel-tanfolyamok tematikájának tervezésére, visszaigazolására"},"  xx  ","https://miau.my-x.hu/miau/288/excel_teszt.docx",null,{"$f":"C83","v":"Bementi és kimeneti teszt haladó (pl. céges/egyetemi) Excel-tanfolyamok tematikájának tervezésére, visszaigazolására"}]
[null,"(MY-X team):","(Excel-test questions for planning/evaluation topics of a professional Excel course)"]
["miau289","Pitlik László","Direkt és inverz szimmetriák a túltanulás korrigálására dupla-attribútumos lépcsős függvények esetén","(+)",null,{"$f":"A85","v":"miau289"},"Pitlik László",":",{"$f":"M85","v":"Direkt és inverz szimmetriák a túltanulás korrigálására dupla-attribútumos lépcsős függvények esetén"},"  xx  ","https://miau.my-x.hu/miau/289/eur_huf_1_nap_direkt_inverz_grafikus_konzisztencia.xlsx",null,{"$f":"C85","v":"Direkt és inverz szimmetriák a túltanulás korrigálására dupla-attribútumos lépcsős függvények esetén"}]
[null,"(MY-X team):","(Symmetry of direct and inverse layers as warn system for overlearning effects in frame of staircase functions)"]
["miau289","Pitlik László","Gépi puzzle kirakás brute force feladattá alakítása","(+)",null,{"$f":"A87","v":"miau289"},"Pitlik László",":",{"$f":"M87","v":"Gépi puzzle kirakás brute force feladattá alakítása"},"  xx  ","https://miau.my-x.hu/miau/289/puzzle_solver.xlsx",null,{"$f":"C87","v":"Gépi puzzle kirakás brute force feladattá alakítása"}]
[null,"(MY-X team):","(Converting a puzzle challenge to a brute force task for computers)"]
["miau289","Pitlik László","Amőba-játék naplózása Excel-makró segítségével","(+)",null,{"$f":"A89","v":"miau289"},"Pitlik László",":",{"$f":"M89","v":"Amőba-játék naplózása Excel-makró segítségével"},"  xx  ","https://miau.my-x.hu/miau/289/sheet7_amoba.xlsm",null,{"$f":"C89","v":"Amőba-játék naplózása Excel-makró segítségével"}]
[null,"(MY-X team):","(Macro-based game-logs)"]
["miau289","Pitlik László, Pitlik Marcell","Egyetemi elégedettségi kérdőívek automatizált értelmezési lehetőségei","(+)",null,{"$f":"A91","v":"miau289"},"Pitlik László, Pitlik Marcell",":",{"$f":"M91","v":"Egyetemi elégedettségi kérdőívek automatizált értelmezési lehetőségei"},"  xx  ","https://miau.my-x.hu/miau/289/knuth_kerdoivek.docx",null,{"$f":"C91","v":"Egyetemi elégedettségi kérdőívek automatizált értelmezési lehetőségei"}]
[null,"(MY-X team):","(Satisfaction analyses based on questionnaires concerning universities)"]
["miau290","Váradi Dániel","Inkonzisztens és konzisztencia-orientált előrejelzések","(+)",null,{"$f":"A93","v":"miau290"},"Váradi Dániel",":",{"$f":"M93","v":"Inkonzisztens és konzisztencia-orientált előrejelzések"},"  xx  ","https://miau.my-x.hu/miau/290/inkonzisztencia_TDK.docx",null,{"$f":"C93","v":"Inkonzisztens és konzisztencia-orientált előrejelzések"}]
[null,"(MY-X team):","(Inconsistent and consistence-oriented forecasting)"]
["miau290","Anonim Hallgató","Klón-elemzés: Melyik a leginkább internethasználat-orientált ország?","(+)",null,{"$f":"A95","v":"miau290"},"Anonim Hallgató",":",{"$f":"M95","v":"Klón-elemzés: Melyik a leginkább internethasználat-orientált ország?"},"  xx  ","https://miau.my-x.hu/miau/290/isoc_ci_cfp_pu_page_spreadsheet.xlsx",null,{"$f":"C95","v":"Klón-elemzés: Melyik a leginkább internethasználat-orientált ország?"}]
[null,"(MY-X team):","(Which country may be seen as the most Internet-oriented country?)"]
["miau290","Pitlik László","Oktatásmódszertani kísérlet (VBA-Macro) - Tartalom","(+)",null,{"$f":"A97","v":"miau290"},"Pitlik László",":",{"$f":"M97","v":"Oktatásmódszertani kísérlet (VBA-Macro) - Tartalom"},"  xx  ","https://miau.my-x.hu/mediawiki/index.php/Excel-makro",null,{"$f":"C97","v":"Oktatásmódszertani kísérlet (VBA-Macro) - Tartalom"}]
[null,"(MY-X team):"]
["miau290","Pitlik László","Oktatásmódszertani kísérlet (VBA-Macro) - keletkezéstörténet","(+)",null,{"$f":"A99","v":"miau290"},"Pitlik László",":",{"$f":"M99","v":"Oktatásmódszertani kísérlet (VBA-Macro) - keletkezéstörténet"},"  xx  ","https://miau.my-x.hu/mediawiki/index.php?title=Excel-makro&action=history",null,{"$f":"C99","v":"Oktatásmódszertani kísérlet (VBA-Macro) - keletkezéstörténet"}]
[null,"(MY-X team):"]
["miau290","Pitlik László","Oktatásmódszertani kísérlet (Excel) - keletkezéstörténet","(+)",null,{"$f":"A101","v":"miau290"},"Pitlik László",":",{"$f":"M101","v":"Oktatásmódszertani kísérlet (Excel) - keletkezéstörténet"},"  xx  ","https://miau.my-x.hu/mediawiki/index.php?title=Excel-feladatok-halad%C3%B3knak&action=history",null,{"$f":"C101","v":"Oktatásmódszertani kísérlet (Excel) - keletkezéstörténet"}]
[null,"(MY-X team):"]
["miau290","Pitlik László","Oktatásmódszertani kísérlet (Excel) - tartalom","(+)",null,{"$f":"A103","v":"miau290"},"Pitlik László",":",{"$f":"M103","v":"Oktatásmódszertani kísérlet (Excel) - tartalom"},"  xx  ","https://miau.my-x.hu/mediawiki/index.php/Excel-feladatok-halad%C3%B3knak",null,{"$f":"C103","v":"Oktatásmódszertani kísérlet (Excel) - tartalom"}]
[null,"(MY-X team):"]
["miau290","Pitlik László","Non-causal knowledge representation vs. causal models for rule-based simulations (or deriving more consistent estimations)","(+)",null,{"$f":"A105","v":"miau290"},"Pitlik László",":",{"$f":"M105","v":"Non-causal knowledge representation vs. causal models for rule-based simulations (or deriving more consistent estimations)"},"  xx  ","https://miau.my-x.hu/miau/290/special_forecast.xlsx",null,{"$f":"C105","v":"Non-causal knowledge representation vs. causal models for rule-based simulations (or deriving more consistent estimations)"}]
[null,"(MY-X team):"]
["miau290","Pitlik László","A 2021-es és 2022-es tél (1.né./I-II-III. hónap) középhőmérsékletének konzisztencia-orientált előrejelzése Budapestre","(+)",null,{"$f":"A107","v":"miau290"},"Pitlik László",":",{"$f":"M107","v":"A 2021-es és 2022-es tél (1.né./I-II-III. hónap) középhőmérsékletének konzisztencia-orientált előrejelzése Budapestre"},"  xx  ","https://miau.my-x.hu/miau/290/tel_2022.xlsx",null,{"$f":"C107","v":"A 2021-es és 2022-es tél (1.né./I-II-III. hónap) középhőmérsékletének konzisztencia-orientált előrejelzése Budapestre"}]
[null,"(MY-X team):","(Consistence-oriented forcasts for Q1 (incl. I-II-III months) in 2021/2022 concerning the average temperature of Budapest)"]
["miau291","Pitlik László","Becslések több rétegben az idő, mint Y alapján - átlag-azonosság helyett elvárt eltérések közelítésével","(+)",null,{"$f":"A109","v":"miau291"},"Pitlik László",":",{"$f":"M109","v":"Becslések több rétegben az idő, mint Y alapján - átlag-azonosság helyett elvárt eltérések közelítésével"},"  xx  ","https://miau.my-x.hu/miau/291/special_forecast5.xlsx",null,{"$f":"C109","v":"Becslések több rétegben az idő, mint Y alapján - átlag-azonosság helyett elvárt eltérések közelítésével"}]
[null,"(MY-X team):","(Estimations of multi-layered futures based on the time as Y and with expected differences instead of the samenesses in case of AVG)"]
["miau291","Hirschmann Zsófia","Választási esélyek egységes rendszerű elemzése több országra párhuzamosan","(+)",null,{"$f":"A111","v":"miau291"},"Hirschmann Zsófia",":",{"$f":"M111","v":"Választási esélyek egységes rendszerű elemzése több országra párhuzamosan"},"  xx  ","https://miau.my-x.hu/miau/291/e_gazsag_eredmenyek.pdf",null,{"$f":"C111","v":"Választási esélyek egységes rendszerű elemzése több országra párhuzamosan"}]
[null,"(KJE):","(Automated estimations of future impacts of elections for a set of countries in a parallel way)"]
["miau291","Jónás Attila","Nyílt adatbázisok automatizált elemzése OAM megközelítés alkalmazásával","(+)",null,{"$f":"A113","v":"miau291"},"Jónás Attila",":",{"$f":"M113","v":"Nyílt adatbázisok automatizált elemzése OAM megközelítés alkalmazásával"},"  xx  ","https://miau.my-x.hu/miau/291/e_gazsag_program.pdf",null,{"$f":"C113","v":"Nyílt adatbázisok automatizált elemzése OAM megközelítés alkalmazásával"}]
[null,"(KJE):","(Automated estimations based on open databases using OAM and chained similarity analyses)"]
["miau291","Pitlik László","Becslések több rétegben az idő, mint Y alapján - korrelációazonosság helyett elvárt eltérések közelítésével II","(+)",null,{"$f":"A115","v":"miau291"},"Pitlik László",":",{"$f":"M115","v":"Becslések több rétegben az idő, mint Y alapján - korrelációazonosság helyett elvárt eltérések közelítésével II"},"  xx  ","https://miau.my-x.hu/miau/291/special_forecast4.xlsx",null,{"$f":"C115","v":"Becslések több rétegben az idő, mint Y alapján - korrelációazonosság helyett elvárt eltérések közelítésével II"}]
[null,"(MY-X team):","(Estimations of multi-layered futures based on the time as Y and with expected differences instead of the samenesses-Part II)"]
["miau291","Pitlik László","Becslések több rétegben az idő, mint Y alapján - korrelációazonosság helyett elvárt eltérések közelítésével","(+)",null,{"$f":"A117","v":"miau291"},"Pitlik László",":",{"$f":"M117","v":"Becslések több rétegben az idő, mint Y alapján - korrelációazonosság helyett elvárt eltérések közelítésével"},"  xx  ","https://miau.my-x.hu/miau/291/special_forecast3.xlsx",null,{"$f":"C117","v":"Becslések több rétegben az idő, mint Y alapján - korrelációazonosság helyett elvárt eltérések közelítésével"}]
[null,"(MY-X team):","(Estimations of multi-layered futures based on the time as Y and with expected differences instead of samenesses)"]
["miau291","Pitlik László","Potenciális jövők becslése több rétegben az idő, mint Y alapján","(+)",null,{"$f":"A119","v":"miau291"},"Pitlik László",":",{"$f":"M119","v":"Potenciális jövők becslése több rétegben az idő, mint Y alapján"},"  xx  ","https://miau.my-x.hu/miau/291/special_forecast2.xlsx",null,{"$f":"C119","v":"Potenciális jövők becslése több rétegben az idő, mint Y alapján"}]
[null,"(MY-X team):","(Estimation of potential multi-layered futures based on the time as Y)"]
["miau291","Pitlik László","Adatvagyon-minőség-ellenőrzés az idő modellezhetőségén keresztül","(+)",null,{"$f":"A121","v":"miau291"},"Pitlik László",":",{"$f":"M121","v":"Adatvagyon-minőség-ellenőrzés az idő modellezhetőségén keresztül"},"  xx  ","https://miau.my-x.hu/miau/291/data_asset_quality_assurance_layers.xlsx",null,{"$f":"C121","v":"Adatvagyon-minőség-ellenőrzés az idő modellezhetőségén keresztül"}]
[null,"(MY-X team):","(Quality assurance in the data asset management based on time-models)"]
["miau291","LAJKÓNÉ BÉCSI MÓNIKA","A KUKORICA TERMELÉSI FÜGGVÉNYE, AVAGY MAGYARORSZÁGON A MINDENKORI JELENRE VONATKOZÓAN A KUKORICA TERMELÉSI FÜGGVÉNYÉNEK LEVEZETÉSE, ILLETVE EZEN ADATMENNYISÉG ALAPJÁN ELŐREJELZÉS 2022-RE","(+)",null,{"$f":"A123","v":"miau291"},"LAJKÓNÉ BÉCSI MÓNIKA",":",{"$f":"M123","v":"A KUKORICA TERMELÉSI FÜGGVÉNYE, AVAGY MAGYARORSZÁGON A MINDENKORI JELENRE VONATKOZÓAN A KUKORICA TERMELÉSI FÜGGVÉNYÉNEK LEVEZETÉSE, ILLETVE EZEN ADATMENNYISÉG ALAPJÁN ELŐREJELZÉS 2022-RE"},"  xx  ","https://miau.my-x.hu/miau/291/kukorica.docx",null,{"$f":"C123","v":"A KUKORICA TERMELÉSI FÜGGVÉNYE, AVAGY MAGYARORSZÁGON A MINDENKORI JELENRE VONATKOZÓAN A KUKORICA TERMELÉSI FÜGGVÉNYÉNEK LEVEZETÉSE, ILLETVE EZEN ADATMENNYISÉG ALAPJÁN ELŐREJELZÉS 2022-RE"}]
[null,"(KJE):","(Producation functions and forcasts for maize-yield)"]
["miau291","Pitlik László","Mathematical interpretations of tie-break-like evaluation-problems","(+)",null,{"$f":"A125","v":"miau291"},"Pitlik László",":",{"$f":"M125","v":"Mathematical interpretations of tie-break-like evaluation-problems"},"  xx  ","https://miau.my-x.hu/miau/291/pfizer2.xlsx",null,{"$f":"C125","v":"Mathematical interpretations of tie-break-like evaluation-problems"}]
[null,"(MY-X team):"]
["miau291","Pitlik László","Testing non-causal and causal models in case of a complex (known) function","(+)",null,{"$f":"A127","v":"miau291"},"Pitlik László",":",{"$f":"M127","v":"Testing non-causal and causal models in case of a complex (known) function"},"  xx  ","https://miau.my-x.hu/miau/291/non-causal_tests.xlsx",null,{"$f":"C127","v":"Testing non-causal and causal models in case of a complex (known) function"}]
[null,"(MY-X team):"]
["miau291","Pitlik László","A forgóajtóban való előzés matematikája","(+)",null,{"$f":"A129","v":"miau291"},"Pitlik László",":",{"$f":"M129","v":"A forgóajtóban való előzés matematikája"},"  xx  ","https://miau.my-x.hu/miau/291/coco_y0_rangsor_javulas.xlsx",null,{"$f":"C129","v":"A forgóajtóban való előzés matematikája"}]
[null,"(MY-X team):","(Mathematical interpretations of the phenomenon \"Overtaking in a revolving door\")"]
["miau292","Barta Gergő","Mesterséges intelligencia módszerek alkalmazása az informatikai rendszerek biztonsági auditjában - disszertáció","(+)",null,{"$f":"A131","v":"miau292"},"Barta Gergő",":",{"$f":"M131","v":"Mesterséges intelligencia módszerek alkalmazása az informatikai rendszerek biztonsági auditjában - disszertáció"},"  xx  ","https://miau.my-x.hu/miau/292/Barta_Gergo_ertekezes.pdf",null,{"$f":"C131","v":"Mesterséges intelligencia módszerek alkalmazása az informatikai rendszerek biztonsági auditjában - disszertáció"}]
[null,"(MATE GSZDI):","(Application of artificial intelligence methods in the security audit of IT systems - full text)"]
["miau292","Pitlik László","Makrók helyett II","(+)",null,{"$f":"A133","v":"miau292"},"Pitlik László",":",{"$f":"M133","v":"Makrók helyett II"},"  xx  ","https://miau.my-x.hu/miau/293/flow1.xlsx",null,{"$f":"C133","v":"Makrók helyett II"}]
[null,"(MY-X team):","Instead of macros - Part II"]
["miau292","Pitlik László","Makrók helyett I","(+)",null,{"$f":"A135","v":"miau292"},"Pitlik László",":",{"$f":"M135","v":"Makrók helyett I"},"  xx  ","https://miau.my-x.hu/miau/292/makro_helyett.xlsx",null,{"$f":"C135","v":"Makrók helyett I"}]
[null,"(MY-X team):","Instead of macros - Part I"]
["miau292","Pitlik László","Egy könyv központi állításának adat-vezérelt bizonyítási kísérletei","(+)",null,{"$f":"A137","v":"miau292"},"Pitlik László",":",{"$f":"M137","v":"Egy könyv központi állításának adat-vezérelt bizonyítási kísérletei"},"  xx  ","https://miau.my-x.hu/miau/292/ngram.xlsx",null,{"$f":"C137","v":"Egy könyv központi állításának adat-vezérelt bizonyítási kísérletei"}]
[null,"(MY-X team):","(Derivation of the central statement of a book based on data-driven analytical possibilities)"]
["miau292","Anonim Hallgató","Méretfüggő rapid projekt-klón","(+)",null,{"$f":"A139","v":"miau292"},"Anonim Hallgató",":",{"$f":"M139","v":"Méretfüggő rapid projekt-klón"},"  xx  ","https://miau.my-x.hu/miau/292/meretfuggo_elemzes_logisztika.xlsx",null,{"$f":"C139","v":"Méretfüggő rapid projekt-klón"}]
[null,"(KJE):","(Cloned rapid project for further reporting)"]
["miau292","Forsterné Kolosa Esztella","Modell-klónozás: EUR/HUF 10 vs. 15 napos modellje","(+)",null,{"$f":"A141","v":"miau292"},"Forsterné Kolosa Esztella",":",{"$f":"M141","v":"Modell-klónozás: EUR/HUF 10 vs. 15 napos modellje"},"  xx  ","https://miau.my-x.hu/miau/292/eur_huf_15_nap.xlsx",null,{"$f":"C141","v":"Modell-klónozás: EUR/HUF 10 vs. 15 napos modellje"}]
[null,"(KJE):","(Cloning of models: EUR/HUF 10 vs. 15 days before)"]
["miau292","Pitlik László","Mindig hibátlan anti-diszkriminatív (Y0) modellek dupla-attribútum-készlettel","(+)",null,{"$f":"A143","v":"miau292"},"Pitlik László",":",{"$f":"M143","v":"Mindig hibátlan anti-diszkriminatív (Y0) modellek dupla-attribútum-készlettel"},"  xx  ","https://miau.my-x.hu/miau/292/y0_dupla_mindig_hibatlan.xlsx",null,{"$f":"C143","v":"Mindig hibátlan anti-diszkriminatív (Y0) modellek dupla-attribútum-készlettel"}]
[null,"(MY-X team):","(Always error-free anti-discrimnative (Y0) models based on doubled-attribute-sets)"]
["miau292","Pitlik László","Béke-dominancia-index a volt szovjet tagköztársaságokban Google-Trends-adatok alapján","(+)",null,{"$f":"A145","v":"miau292"},"Pitlik László",":",{"$f":"M145","v":"Béke-dominancia-index a volt szovjet tagköztársaságokban Google-Trends-adatok alapján"},"  xx  ","https://miau.my-x.hu/miau/292/mir_vojna_google_trends.xlsx",null,"Béke-dominancia-index a volt szovjet tagköztársaságokban Google-Trends-adatok alapján"]
[null,"(MY-X team):","(Peace-index for the former republics of the Sowjetunion based on Google-Trends)"]
["miau292","Pitlik László","Fagyos napok számának becslése a többrétegű modell belső szimmetriai viszonyait túltanulási korrekciókra kiaknázva","(+)",null,{"$f":"A147","v":"miau292"},"Pitlik László",":",{"$f":"M147","v":"Fagyos napok számának becslése a többrétegű modell belső szimmetriai viszonyait túltanulási korrekciókra kiaknázva"},"  xx  ","https://miau.my-x.hu/miau/292/fagyos_napok_szama.xlsm",null,"Fagyos napok számának becslése a többrétegű modell belső szimmetriai viszonyait túltanulási korrekciókra kiaknázva"]
[null,"(MY-X team):","(Estimation of the number of frosty days or exploiting the internal symmetry conditions of the model for overlearning-corrections)"]
[null,null,null,null,null,{"$f":"A149","v":0},0,":",{"$f":"M149","v":0},"  xx  ",null,null,{"$f":"C149","v":0}]
[]
[null,null,null,null,null,{"$f":"A151","v":0},0,":",{"$f":"M151","v":0},"  xx  ",null,null,{"$f":"C151","v":0}]

{"sheet":"nyers_SOK_KEPLET_HELYESEN","index":17,"n_rows":334,"n_cols":13,"rows_kept":334,"cut":false,"hidden":false,"merged":[[8,2,9,2],[8,3,9,3],[10,2,11,2],[10,3,11,3],[12,3,13,3],[14,3,15,3],[0,3,1,3],[2,3,3,3],[4,2,5,2],[4,3,5,3],[6,2,7,2],[6,3,7,3],[26,2,27,2],[26,3,27,3],[28,3,29,3],[30,3,31,3],[32,3,33,3],[34,3,35,3],[16,3,17,3],[18,3,19,3],[20,3,21,3],[22,3,23,3],[24,2,25,2],[24,3,25,3],[44,2,45,2],[44,3,45,3],[46,2,47,2],[46,3,47,3],[48,2,49,2],[48,3,49,3],[36,3,37,3],[38,2,39,2],[38,3,39,3],[40,2,41,2],[40,3,41,3],[42,2,43,2],[42,3,43,3],[58,3,59,3],[60,3,61,3],[62,3,63,3],[64,2,65,2],[64,3,65,3],[66,3,67,3],[50,2,51,2],[50,3,51,3],[52,2,53,2],[52,3,53,3],[54,3,55,3],[56,3,57,3],[78,2,79,2],[78,3,79,3],[80,2,81,2],[80,3,81,3],[82,3,83,3],[84,3,85,3],[68,3,69,3],[70,3,71,3],[72,3,73,3],[74,2,75,2],[74,3,75,3],[76,2,77,2],[76,3,77,3],[96,2,97,2],[96,3,97,3],[98,3,99,3],[100,3,101,3],[102,2,103,2],[102,3,103,3],[86,3,87,3],[88,3,89,3],[90,3,91,3],[92,2,93,2],[92,3,93,3],[94,2,95,2],[94,3,95,3],[116,1,117,1],[116,3,117,3],[118,1,119,1],[118,3,119,3],[104,3,105,3],[106,2,107,2],[106,3,107,3],[108,2,109,2],[108,3,109,3],[110,2,111,2],[110,3,111,3],[120,2,121,2],[120,3,121,3],[122,2,123,2],[122,3,123,3],[124,2,125,2],[124,3,125,3],[112,3,113,3],[114,2,115,2],[114,3,115,3],[132,2,133,2],[132,3,133,3],[134,2,135,2],[134,3,135,3],[136,2,137,2],[136,3,137,3],[126,2,127,2],[126,3,127,3],[128,2,129,2],[128,3,129,3],[130,2,131,2],[130,3,131,3],[146,2,147,2],[146,3,147,3],[148,3,149,3],[150,3,151,3],[152,2,153,2],[152,3,153,3],[138,3,139,3],[140,2,141,2],[140,3,141,3],[142,2,143,2],[142,3,143,3],[144,2,145,2],[144,3,145,3],[162,3,163,3],[164,3,165,3],[166,3,167,3],[168,3,169,3],[170,3,171,3],[172,3,173,3],[154,3,155,3],[156,2,157,2],[156,3,157,3],[158,3,159,3],[160,2,161,2],[160,3,161,3],[184,3,185,3],[186,3,187,3],[188,2,189,2],[188,3,189,3],[190,3,191,3],[192,2,193,2],[192,3,193,3],[174,3,175,3],[176,3,177,3],[178,3,179,3],[180,3,181,3],[182,2,183,2],[182,3,183,3],[204,2,205,2],[204,3,205,3],[206,2,207,2],[206,3,207,3],[208,2,209,2],[208,3,209,3],[194,2,195,2],[194,3,195,3],[196,3,197,3],[198,3,199,3],[200,3,201,3],[202,3,203,3],[216,2,217,2],[216,3,217,3],[218,2,219,2],[218,3,219,3],[210,2,211,2],[210,3,211,3],[212,2,213,2],[212,3,213,3],[214,2,215,2],[214,3,215,3]]}
["miau293","Deák Zsombor","1-napos időjárás-előrejelzések pontossága","(+)",null,{"$f":"A1","v":"miau293"},{"$f":"B1","v":"Deák Zsombor"},":",{"$f":"M1","v":"1-napos időjárás-előrejelzések pontossága"},"  xx  ","https://miau.my-x.hu/miau/293/idojaras tenyek_vs_elorejelzesek_2022_09_19-10_19.docx",null,{"$f":"C1","v":"1-napos időjárás-előrejelzések pontossága"}]
[null,"(KJE):","(Fitting values for the 1-day-forcasts in case of different weather-phenomena concerning Budapest)"]
["miau293","Viktória Hrabosová","A többnapos turisztikai belföldi utazások trendje Magyarországon 2022-re nézve","(+)",null,{"$f":"A3","v":"miau293"},"Viktória Hrabosová",":",{"$f":"M3","v":"A többnapos turisztikai belföldi utazások trendje Magyarországon 2022-re nézve"},"  xx  ","https://miau.my-x.hu/miau/293/stadat_turizmus_kovetkezo_negyedev.docx",null,{"$f":"C3","v":"A többnapos turisztikai belföldi utazások trendje Magyarországon 2022-re nézve"}]
[null,"(KJE):","(Estimation of the number of multiday-tourists for the last quarter of 2022)"]
["miau293","László Pitlik (sen), Dániel Váradi, László Pitlik (jun), Mátyás Pitlik, Marcell Pitlik","MP3: NON-CAUSAL MODELLING AND FORECASTING","(+)",null,{"$f":"A5","v":"miau293"},"László Pitlik (sen), Dániel Váradi, László Pitlik (jun), Mátyás Pitlik, Marcell Pitlik",":",{"$f":"M5","v":"MP3: NON-CAUSAL MODELLING AND FORECASTING"},"  xx  ","https://miau.my-x.hu/miau/293/2022-12-28 11-24-37.mp3",null,"MP3: NON-CAUSAL MODELLING AND FORECASTING"]
[null,"(MY-X team):"]
["miau293","László Pitlik (sen), Dániel Váradi, László Pitlik (jun), Mátyás Pitlik, Marcell Pitlik","PPT: NON-CAUSAL MODELLING AND FORECASTING","(+)",null,{"$f":"A7","v":"miau293"},"László Pitlik (sen), Dániel Váradi, László Pitlik (jun), Mátyás Pitlik, Marcell Pitlik",":",{"$f":"M7","v":"PPT: NON-CAUSAL MODELLING AND FORECASTING"},"  xx  ","https://miau.my-x.hu/miau/293/ncm-abstract-and-full-text-2022.pptx",null,{"$f":"C7","v":"PPT: NON-CAUSAL MODELLING AND FORECASTING"}]
[null,"(MY-X team):"]
["miau293","László Pitlik (sen), Dániel Váradi, László Pitlik (jun), Mátyás Pitlik, Marcell Pitlik","FULL-TEXT: NON-CAUSAL MODELLING AND FORECASTING","(+)",null,{"$f":"A9","v":"miau293"},"László Pitlik (sen), Dániel Váradi, László Pitlik (jun), Mátyás Pitlik, Marcell Pitlik",":",{"$f":"M9","v":"FULL-TEXT: NON-CAUSAL MODELLING AND FORECASTING"},"  xx  ","https://miau.my-x.hu/miau/293/ncm-abstract-and-full-text-2022.docx",null,{"$f":"C9","v":"FULL-TEXT: NON-CAUSAL MODELLING AND FORECASTING"}]
[null,"(MY-X team):"]
["miau293","László Pitlik (sen), Dániel Váradi, László Pitlik (jun), Mátyás Pitlik, Marcell Pitlik","ABSTRACT: NON-CAUSAL MODELLING AND FORECASTING","(+)",null,{"$f":"A11","v":"miau293"},"László Pitlik (sen), Dániel Váradi, László Pitlik (jun), Mátyás Pitlik, Marcell Pitlik",":",{"$f":"M11","v":"ABSTRACT: NON-CAUSAL MODELLING AND FORECASTING"},"  xx  ","https://miau.my-x.hu/miau/293/ncm-abstract-2022.docx",null,{"$f":"C11","v":"ABSTRACT: NON-CAUSAL MODELLING AND FORECASTING"}]
[null,"(MY-X team):"]
["miau293","Balogh Imola Barbara, Lórántffy Laura","A kenyér árának előrejelzése a 2021-es évre","(+)",null,{"$f":"A13","v":"miau293"},"Balogh Imola Barbara, Lórántffy Laura",":",{"$f":"M13","v":"A kenyér árának előrejelzése a 2021-es évre"},"  xx  ","https://miau.my-x.hu/miau/293/kenyerar_2021.docx",null,{"$f":"C13","v":"A kenyér árának előrejelzése a 2021-es évre"}]
[null,"(KJE):","(Forecast for 2021 in case of the bread price)"]
["miau293","Pitlik László","Attribútumok szórása, mint új attribútum NCM keretek között","(+)",null,{"$f":"A15","v":"miau293"},"Pitlik László",":",{"$f":"M15","v":"Attribútumok szórása, mint új attribútum NCM keretek között"},"  xx  ","https://miau.my-x.hu/miau/293/ncm_querdenker.xlsx",null,{"$f":"C15","v":"Attribútumok szórása, mint új attribútum NCM keretek között"}]
[null,"(MY-X team):","(Standard deviation as a new attribute based on NCM)"]
["miau293","Váradi Dániel","Attribútumok között kikényszerített konzisztencia NCM-alapon","(+)",null,{"$f":"A17","v":"miau293"},"Váradi Dániel",":",{"$f":"M17","v":"Attribútumok között kikényszerített konzisztencia NCM-alapon"},"  xx  ","https://miau.my-x.hu/miau/293/ncm_attribute_relationships.xlsx",null,{"$f":"C17","v":"Attribútumok között kikényszerített konzisztencia NCM-alapon"}]
[null,"(MY-X team):","(Enforced consistence between attributes based on an NCM-approach)"]
["miau293","Pitlik László","NCM láncolt és/vagy átfedéses előrejelzésekkel","(+)",null,{"$f":"A19","v":"miau293"},"Pitlik László",":",{"$f":"M19","v":"NCM láncolt és/vagy átfedéses előrejelzésekkel"},"  xx  ","https://miau.my-x.hu/miau/293/ncm_chained_and_overlapping_effects.xlsx",null,{"$f":"C19","v":"NCM láncolt és/vagy átfedéses előrejelzésekkel"}]
[null,"(MY-X team):","(NCM with chaining and/or overlapping effects)"]
["miau293","Pitlik László","NCM szezonális mintázatok","(+)",null,{"$f":"A21","v":"miau293"},"Pitlik László",":",{"$f":"M21","v":"NCM szezonális mintázatok"},"  xx  ","https://miau.my-x.hu/miau/293/ncm_pattern_seasonal.xlsx",null,{"$f":"C21","v":"NCM szezonális mintázatok"}]
[null,"(MY-X team):","(NCM with seasonal patterns)"]
["miau293","Pitlik László","NCM spontán és kikényszerített mintázatok","(+)",null,{"$f":"A23","v":"miau293"},"Pitlik László",":",{"$f":"M23","v":"NCM spontán és kikényszerített mintázatok"},"  xx  ","https://miau.my-x.hu/miau/293/pattern_ncm.xlsx",null,{"$f":"C23","v":"NCM spontán és kikényszerített mintázatok"}]
[null,"(MY-X team):","(NCM with spontaneous and enforced patterns)"]
["miau293","Pitlik László","NCM and ceteris paribus","(+)",null,{"$f":"A25","v":"miau293"},"Pitlik László",":",{"$f":"M25","v":"NCM and ceteris paribus"},"  xx  ","https://miau.my-x.hu/miau/293/ceteris_paribus_ncm.xlsx",null,{"$f":"C25","v":"NCM and ceteris paribus"}]
[null,"(MY-X team):"]
["miau293","Pitlik László","JOKER#2","(+)",null,{"$f":"A27","v":"miau293"},"Pitlik László",":",{"$f":"M27","v":"JOKER#2"},"  xx  ","https://miau.my-x.hu/miau/293/joker%232.xlsx",null,{"$f":"C27","v":"JOKER#2"}]
[null,"(MY-X team):"]
["miau293","Nagy Richárd","RPA-demo rendszertervezési és rendszerdokumentációs céllal","(+)",null,{"$f":"A29","v":"miau293"},"Nagy Richárd",":",{"$f":"M29","v":"RPA-demo rendszertervezési és rendszerdokumentációs céllal"},"  xx  ","https://miau.my-x.hu/miau/293/rendszertervezes.webm",null,{"$f":"C29","v":"RPA-demo rendszertervezési és rendszerdokumentációs céllal"}]
[null,"(KJE):","(Robotic process automation demonstration material for system planning)"]
["miau293","Sipos Péter","Rendszertervezési, rendszerdokumentációs kísérletek kollaboratív környezetben","(+)",null,{"$f":"A31","v":"miau293"},"Sipos Péter",":",{"$f":"M31","v":"Rendszertervezési, rendszerdokumentációs kísérletek kollaboratív környezetben"},"  xx  ","https://miau.my-x.hu/mediawiki/index.php/BPROF:2dm",null,{"$f":"C31","v":"Rendszertervezési, rendszerdokumentációs kísérletek kollaboratív környezetben"}]
[null,"(KJE):","(Experimental documentation and system planning in a collaborative frame)"]
["miau293","Patkós Boglárka","EUR/HUF árfolyam-előrejelzés 1 napra","(+)",null,{"$f":"A33","v":"miau293"},"Patkós Boglárka",":",{"$f":"M33","v":"EUR/HUF árfolyam-előrejelzés 1 napra"},"  xx  ","https://miau.my-x.hu/miau/293/eur_huf.docx",null,{"$f":"C33","v":"EUR/HUF árfolyam-előrejelzés 1 napra"}]
[null,"(KJE):","(Forecast of the EUR/HUF course for 1 day)"]
["miau293","Pitlik László","Select distinct kimutatás-varázslás nélkül kérdőívek esetén","(+)",null,{"$f":"A35","v":"miau293"},"Pitlik László",":",{"$f":"M35","v":"Select distinct kimutatás-varázslás nélkül kérdőívek esetén"},"  xx  ","https://miau.my-x.hu/miau/293/flow1.xlsx",null,{"$f":"C35","v":"Select distinct kimutatás-varázslás nélkül kérdőívek esetén"}]
[null,"(KJE):","(A select-distinct-approach without pivot tables in case of questionnaires)"]
["miau293","Pitlik László, Rikk János","EEG-jelek koncepció-kényszer nélküli és mintázat-kényszeres értelmezései","(+)",null,{"$f":"A37","v":"miau293"},"Pitlik László, Rikk János",":",{"$f":"M37","v":"EEG-jelek koncepció-kényszer nélküli és mintázat-kényszeres értelmezései"},"  xx  ","https://miau.my-x.hu/miau/293/eeg_pilot.xlsx",null,{"$f":"C37","v":"EEG-jelek koncepció-kényszer nélküli és mintázat-kényszeres értelmezései"}]
[null,"(MY-X team):","(Interpretations of EEG-signs with or without predefined concepts)"]
["miau294","László Hammerl, László Pitlik","PPT: Evaluation and simulation of the European hydrogen market based on diverse similarity analyses","(+)",null,{"$f":"A39","v":"miau294"},"László Hammerl, László Pitlik",":",{"$f":"M39","v":"PPT: Evaluation and simulation of the European hydrogen market based on diverse similarity analyses"},"  xx  ","https://miau.my-x.hu/miau/294/hydrogen_market.pptx",null,{"$f":"C39","v":"PPT: Evaluation and simulation of the European hydrogen market based on diverse similarity analyses"}]
[null,"(MY-X team):"]
["miau294","László Hammerl, László Pitlik","Full-text: Evaluation and simulation of the European hydrogen market based on diverse similarity analyses","(+)",null,{"$f":"A41","v":"miau294"},"László Hammerl, László Pitlik",":",{"$f":"M41","v":"Full-text: Evaluation and simulation of the European hydrogen market based on diverse similarity analyses"},"  xx  ","https://miau.my-x.hu/miau/294/hydrogen_market.pdf",null,{"$f":"C41","v":"Full-text: Evaluation and simulation of the European hydrogen market based on diverse similarity analyses"}]
[null,"(MY-X team):"]
["miau294","László Hammerl, László Pitlik","MP4: Evaluation and simulation of the European hydrogen market based on diverse similarity analyses","(+)",null,{"$f":"A43","v":"miau294"},"László Hammerl, László Pitlik",":",{"$f":"M43","v":"MP4: Evaluation and simulation of the European hydrogen market based on diverse similarity analyses"},"  xx  ","https://miau.my-x.hu/miau/294/hydrogen_market.mp4",null,{"$f":"C43","v":"MP4: Evaluation and simulation of the European hydrogen market based on diverse similarity analyses"}]
[null,"(MY-X team):"]
["miau294","László Hammerl, László Pitlik","Abstract: Evaluation and simulation of the European hydrogen market based on diverse similarity analyses","(+)",null,{"$f":"A45","v":"miau294"},"László Hammerl, László Pitlik",":",{"$f":"M45","v":"Abstract: Evaluation and simulation of the European hydrogen market based on diverse similarity analyses"},"  xx  ","https://miau.my-x.hu/miau/294/hydrogen_market_analyses_2023_abs.xlsx",null,{"$f":"C45","v":"Abstract: Evaluation and simulation of the European hydrogen market based on diverse similarity analyses"}]
[null,"(MY-X team):"]
["miau294","László Pitlik (sen), Dániel Váradi, László Pitlik (jun), Mátyás Pitlik, Marcell Pitlik","Full-text: How can the overlearning-risk be detected and handled in model- and case-level based on the DIF(e)SA (direct-inverse-function-symmetry) approach?","(+)",null,{"$f":"A47","v":"miau294"},"László Pitlik (sen), Dániel Váradi, László Pitlik (jun), Mátyás Pitlik, Marcell Pitlik",":",{"$f":"M47","v":"Full-text: How can the overlearning-risk be detected and handled in model- and case-level based on the DIF(e)SA (direct-inverse-function-symmetry) approach?"},"  xx  ","https://miau.my-x.hu/miau/294/difesa_abstract_full_text_2023_v5.docx",null,{"$f":"C47","v":"Full-text: How can the overlearning-risk be detected and handled in model- and case-level based on the DIF(e)SA (direct-inverse-function-symmetry) approach?"}]
[null,"(MY-X team):"]
["miau294","László Pitlik (sen), Dániel Váradi, László Pitlik (jun), Mátyás Pitlik, Marcell Pitlik","MP4: How can the overlearning-risk be detected and handled in model- and case-level based on the DIF(e)SA (direct-inverse-function-symmetry) approach?","(+)",null,{"$f":"A49","v":"miau294"},"László Pitlik (sen), Dániel Váradi, László Pitlik (jun), Mátyás Pitlik, Marcell Pitlik",":",{"$f":"M49","v":"MP4: How can the overlearning-risk be detected and handled in model- and case-level based on the DIF(e)SA (direct-inverse-function-symmetry) approach?"},"  xx  ","https://miau.my-x.hu/miau/294/difesa.mp4",null,{"$f":"C49","v":"MP4: How can the overlearning-risk be detected and handled in model- and case-level based on the DIF(e)SA (direct-inverse-function-symmetry) approach?"}]
[null,"(MY-X team):"]
["miau294","László Pitlik (sen), Dániel Váradi, László Pitlik (jun), Mátyás Pitlik, Marcell Pitlik","PPT: How can the overlearning-risk be detected and handled in model- and case-level based on the DIF(e)SA (direct-inverse-function-symmetry) approach?","(+)",null,{"$f":"A51","v":"miau294"},"László Pitlik (sen), Dániel Váradi, László Pitlik (jun), Mátyás Pitlik, Marcell Pitlik",":",{"$f":"M51","v":"PPT: How can the overlearning-risk be detected and handled in model- and case-level based on the DIF(e)SA (direct-inverse-function-symmetry) approach?"},"  xx  ","https://miau.my-x.hu/miau/294/difesa.pptx",null,{"$f":"C51","v":"PPT: How can the overlearning-risk be detected and handled in model- and case-level based on the DIF(e)SA (direct-inverse-function-symmetry) approach?"}]
[null,"(MY-X team):"]
["miau294","László Pitlik (sen), Dániel Váradi, László Pitlik (jun), Mátyás Pitlik, Marcell Pitlik","Abstract: How can the overlearning-risk be detected and handled in model- and case-level based on the DIF(e)SA (direct-inverse-function-symmetry) approach?","(+)",null,{"$f":"A53","v":"miau294"},"László Pitlik (sen), Dániel Váradi, László Pitlik (jun), Mátyás Pitlik, Marcell Pitlik",":",{"$f":"M53","v":"Abstract: How can the overlearning-risk be detected and handled in model- and case-level based on the DIF(e)SA (direct-inverse-function-symmetry) approach?"},"  xx  ","https://miau.my-x.hu/miau/294/difesa_abstract_full_text_2023.docx",null,{"$f":"C53","v":"Abstract: How can the overlearning-risk be detected and handled in model- and case-level based on the DIF(e)SA (direct-inverse-function-symmetry) approach?"}]
[null,"(MY-X team):"]
["miau294","Pitlik László","Felzárkózik-e a magyar átlagbér az EU-s átlagbérhez?","(+)",null,{"$f":"A55","v":"miau294"},"Pitlik László",":",{"$f":"M55","v":"Felzárkózik-e a magyar átlagbér az EU-s átlagbérhez?"},"  xx  ","https://miau.my-x.hu/miau/294/atlagber_homogenizalodas.xlsx",null,{"$f":"C55","v":"Felzárkózik-e a magyar átlagbér az EU-s átlagbérhez?"}]
[null,"(MY-X team):","(Is there any approximation between the average salaries in Hungary and the EU?)"]
["miau294","Szemesiné Cseh Kata","A könyvtárhasználat alakulása az energiaárak függvényében","(+)",null,{"$f":"A57","v":"miau294"},"Szemesiné Cseh Kata",":",{"$f":"M57","v":"A könyvtárhasználat alakulása az energiaárak függvényében"},"  xx  ","https://miau.my-x.hu/miau/294/konyvtarba_jarok_szama.docx",null,{"$f":"C57","v":"A könyvtárhasználat alakulása az energiaárak függvényében"}]
[null,"(KJE):","(Estimation of the number of the library-visitors for the next year)"]
["miau294","Pitlik László","Gyakorló feladat makro-alapú és makro nélküli problémamegoldások érdekében","(+)",null,{"$f":"A59","v":"miau294"},"Pitlik László",":",{"$f":"M59","v":"Gyakorló feladat makro-alapú és makro nélküli problémamegoldások érdekében"},"  xx  ","https://miau.my-x.hu/miau/294/letszambecsles.xlsx",null,{"$f":"C59","v":"Gyakorló feladat makro-alapú és makro nélküli problémamegoldások érdekében"}]
[null,"(MY-X team):","(Problem handling with and without macros)"]
["miau294","Pitlik László","Előrejelzés-hitelességi probléma inicializálása hosszútávú időjárási prognózisok esetében","(+)",null,{"$f":"A61","v":"miau294"},"Pitlik László",":",{"$f":"M61","v":"Előrejelzés-hitelességi probléma inicializálása hosszútávú időjárási prognózisok esetében"},"  xx  ","https://miau.my-x.hu/miau/294/miert_bukik_el_az_idokep_robot_egy_Turing_teszten.xlsx",null,{"$f":"C61","v":"Előrejelzés-hitelességi probléma inicializálása hosszútávú időjárási prognózisok esetében"}]
[null,"(MY-X team):","(Initializing a Turing-test-situation concerning the validity of weather forecasts for 30 days)"]
["miau294","Pitlik László","Kutatási/publikációs terv - Politikai pluralizmus -index","(+)",null,{"$f":"A63","v":"miau294"},"Pitlik László",":",{"$f":"M63","v":"Kutatási/publikációs terv - Politikai pluralizmus -index"},"  xx  ","https://miau.my-x.hu/miau/294/politikai_pluralizmus_es_vagy_kaosz_index.docx",null,{"$f":"C63","v":"Kutatási/publikációs terv - Politikai pluralizmus -index"}]
[null,"(MY-X team):","(Research/publication plan concerning the political pluralism-index based on Google Trends)"]
["miau294","Pitlik László","Symmetries of direct and inverse staircase-function-layers in case of random OAMs","(+)",null,{"$f":"A65","v":"miau294"},"Pitlik László",":",{"$f":"M65","v":"Symmetries of direct and inverse staircase-function-layers in case of random OAMs"},"  xx  ","https://miau.my-x.hu/miau/294/rnd_based_direct_inverse_symmetry.xlsx",null,{"$f":"C65","v":"Symmetries of direct and inverse staircase-function-layers in case of random OAMs"}]
[null,"(MY-X team):"]
["miau294","Balogh Vince","A Laphroaig 10 whisky árának becslése 2023-ra vonatkozóan","(+)",null,{"$f":"A67","v":"miau294"},"Balogh Vince",":",{"$f":"M67","v":"A Laphroaig 10 whisky árának becslése 2023-ra vonatkozóan"},"  xx  ","https://miau.my-x.hu/miau/294/laphroaig_whisky_ar_2023.docx",null,{"$f":"C67","v":"A Laphroaig 10 whisky árának becslése 2023-ra vonatkozóan"}]
[null,"(KJE):","(Estimation of Laphroaig 10 whisky price for 2023)"]
["miau295","Pitlik Dóra, Pitlik László","Napelem-kísérletek input-output kapcsolatainak leírása termelési függvénnyel","(+)",null,{"$f":"A69","v":"miau295"},"Pitlik Dóra, Pitlik László",":",{"$f":"M69","v":"Napelem-kísérletek input-output kapcsolatainak leírása termelési függvénnyel"},"  xx  ","https://miau.my-x.hu/miau/295/napelem_rendszerelemzes.xlsx",null,{"$f":"C69","v":"Napelem-kísérletek input-output kapcsolatainak leírása termelési függvénnyel"}]
[null,"(MY-X team):","(Production-function-based description of performances and input conditions from experiments with solar panels)"]
["miau295","Pitlik László","Biztosítási piac idealitása és kapcsolata a GDP-vel országoként","(+)",null,{"$f":"A71","v":"miau295"},"Pitlik László",":",{"$f":"M71","v":"Biztosítási piac idealitása és kapcsolata a GDP-vel országoként"},"  xx  ","https://miau.my-x.hu/miau/295/biztositas_gdp.xlsx",null,{"$f":"C71","v":"Biztosítási piac idealitása és kapcsolata a GDP-vel országoként"}]
[null,"(MY-X team):","Country-based ideality index concerning the insurance market and GDP-modeling"]
["miau295","Csohány Andor, Sztanojev Mercédesz","Bitcoin értékének alakulása a közeljövőben (1 hónap múlva)","(+)",null,{"$f":"A73","v":"miau295"},"Csohány Andor, Sztanojev Mercédesz",":",{"$f":"M73","v":"Bitcoin értékének alakulása a közeljövőben (1 hónap múlva)"},"  xx  ","https://miau.my-x.hu/miau/295/bitcoin.docx",null,{"$f":"C73","v":"Bitcoin értékének alakulása a közeljövőben (1 hónap múlva)"}]
[null,"(MY-X team):","(Forecasts for bitcoin concerning the next month)"]
["miau295","László Pitlik","Symmetry-evaluation based on similarity analyses","(+)",null,{"$f":"A75","v":"miau295"},"László Pitlik",":",{"$f":"M75","v":"Symmetry-evaluation based on similarity analyses"},"  xx  ","https://miau.my-x.hu/miau/295/symmetry-index_difesa-robot-eye.xlsx",null,{"$f":"C75","v":"Symmetry-evaluation based on similarity analyses"}]
[null,"(MY-X team):"]
["miau295","László Pitlik","Token-based chatGPT3 - Example","(+)",null,{"$f":"A77","v":"miau295"},"László Pitlik",":",{"$f":"M77","v":"Token-based chatGPT3 - Example"},"  xx  ","https://miau.my-x.hu/miau/295/gpt_demo.docx",null,{"$f":"C77","v":"Token-based chatGPT3 - Example"}]
[null,"(MY-X team):"]
["miau295","László Pitlik, Adrienn Muhari, Attila Jónás, Zsófia Hirschmann, Zsuzsanna Kiss","Robot-Citizen, or automated data-driven decision support for elections","(+)",null,{"$f":"A79","v":"miau295"},"László Pitlik, Adrienn Muhari, Attila Jónás, Zsófia Hirschmann, Zsuzsanna Kiss",":",{"$f":"M79","v":"Robot-Citizen, or automated data-driven decision support for elections"},"  xx  ","https://miau.my-x.hu/miau/295/robot_citizen.docx",null,{"$f":"C79","v":"Robot-Citizen, or automated data-driven decision support for elections"}]
[null,"(MY-X team):"]
["miau295","László Pitlik, Adrienn Muhari, Attila Jónás, Zsófia Hirschmann, Zsuzsanna Kiss","Human-ethology, human-ecology - robotized","(+)",null,{"$f":"A81","v":"miau295"},"László Pitlik, Adrienn Muhari, Attila Jónás, Zsófia Hirschmann, Zsuzsanna Kiss",":",{"$f":"M81","v":"Human-ethology, human-ecology - robotized"},"  xx  ","https://miau.my-x.hu/miau/295/human_ethology_ecology_robotized.docx",null,{"$f":"C81","v":"Human-ethology, human-ecology - robotized"}]
[null,"(MY-X team):"]
["miau295","Jónás Attila","PPT: Nyílt adatbázisok automatizált elemzése OAM megközelítés alkalmazásával","(+)",null,{"$f":"A83","v":"miau295"},"Jónás Attila",":",{"$f":"M83","v":"PPT: Nyílt adatbázisok automatizált elemzése OAM megközelítés alkalmazásával"},"  xx  ","https://miau.my-x.hu/miau/295/jonas.pptx",null,{"$f":"C83","v":"PPT: Nyílt adatbázisok automatizált elemzése OAM megközelítés alkalmazásával"}]
[null,"(MY-X team):","(Automated estimations based on open databases using OAM and chained similarity analyses)"]
["miau295","Hirschmann Zsófia","PPT: Választási esélyek egységes rendszerű elemzése több országra párhuzamosan","(+)",null,{"$f":"A85","v":"miau295"},"Hirschmann Zsófia",":",{"$f":"M85","v":"PPT: Választási esélyek egységes rendszerű elemzése több országra párhuzamosan"},"  xx  ","https://miau.my-x.hu/miau/295/hirscmann.pptx",null,{"$f":"C85","v":"PPT: Választási esélyek egységes rendszerű elemzése több országra párhuzamosan"}]
[null,"(MY-X team):","(Automated estimations of future impacts of elections for a set of countries in a parallel way)"]
["miau295","Pitlik László (jun)","Matematika feladatok tánciskolásoknak II.","(+)",null,{"$f":"A87","v":"miau295"},"Pitlik László (jun)",":",{"$f":"M87","v":"Matematika feladatok tánciskolásoknak II."},"  xx  ","https://forms.gle/7uCwnVyyCVYYqJZdA",null,{"$f":"C87","v":"Matematika feladatok tánciskolásoknak II."}]
[null,"(MY-X team):","(Mathematics for dancers - Part II.)"]
["miau295","Pitlik László (jun)","Matematika feladatok tánciskolásoknak I.","(+)",null,{"$f":"A89","v":"miau295"},"Pitlik László (jun)",":",{"$f":"M89","v":"Matematika feladatok tánciskolásoknak I."},"  xx  ","https://forms.gle/hypg2tdAjV4wDBfU9",null,{"$f":"C89","v":"Matematika feladatok tánciskolásoknak I."}]
[null,"(MY-X team):","(Mathematics for dancers - Part I.)"]
["miau295","Pitlik László, (Anonim Hallgatók)","EGO-alapú online szakértői rendszer demo-állományok","(+)",null,{"$f":"A91","v":"miau295"},"Pitlik László, (Anonim Hallgatók)",":",{"$f":"M91","v":"EGO-alapú online szakértői rendszer demo-állományok"},"  xx  ","https://miau.my-x.hu/myx-free/ego/demo/",null,{"$f":"C91","v":"EGO-alapú online szakértői rendszer demo-állományok"}]
[null,"(MY-X team):","(EGO-based online demo expert systems)"]
["miau295","László Pitlik","Excel-based data-vizualisation","(+)",null,{"$f":"A93","v":"miau295"},"László Pitlik",":",{"$f":"M93","v":"Excel-based data-vizualisation"},"  xx  ","https://miau.my-x.hu/miau/295/gtfs/bkk_budapest_gtfs_v2.xlsx",null,{"$f":"C93","v":"Excel-based data-vizualisation"}]
[null,"(MY-X team):"]
["miau296","László Pitlik","Derivation and evaluation of alternative OAMs without lacking positions from an raw OAM with lacking positions","(+)",null,{"$f":"A95","v":"miau296"},"László Pitlik",":",{"$f":"M95","v":"Derivation and evaluation of alternative OAMs without lacking positions from an raw OAM with lacking positions"},"  xx  ","https://miau.my-x.hu/miau/296/oam_max_selections.xlsx",null,{"$f":"C95","v":"Derivation and evaluation of alternative OAMs without lacking positions from an raw OAM with lacking positions"}]
[null,"(MY-X team):"]
["miau296","Vancsura István, Pitlik László","Different approaches for derivation of risk-index-values in case of transaction-evaluation?","(+)",null,{"$f":"A97","v":"miau296"},"Vancsura István, Pitlik László",":",{"$f":"M97","v":"Different approaches for derivation of risk-index-values in case of transaction-evaluation?"},"  xx  ","https://miau.my-x.hu/miau/296/risk_index_naive_regression_coco.xlsx",null,{"$f":"C97","v":"Different approaches for derivation of risk-index-values in case of transaction-evaluation?"}]
[null,"(MY-X team):"]
["miau296","Pitlik László","A német AFD és a német politikai vezetők Google-Trends-alapú összefüggésrendszerének feltárása hasonlóságelemzéssel","(+)",null,{"$f":"A99","v":"miau296"},"Pitlik László",":",{"$f":"M99","v":"A német AFD és a német politikai vezetők Google-Trends-alapú összefüggésrendszerének feltárása hasonlóságelemzéssel"},"  xx  ","https://miau.my-x.hu/miau/296/afd_in_germany.xlsx",null,{"$f":"C99","v":"A német AFD és a német politikai vezetők Google-Trends-alapú összefüggésrendszerének feltárása hasonlóságelemzéssel"}]
[null,"(MY-X team):","(Pattern-exploration for AFD and the german political elite based on Google Trends Data)"]
["miau296","Pitlik László","Solver-alapú feladatmegoldás 8. osztályos matematikai felvételi feladat kapcsán","(+)",null,{"$f":"A101","v":"miau296"},"Pitlik László",":",{"$f":"M101","v":"Solver-alapú feladatmegoldás 8. osztályos matematikai felvételi feladat kapcsán"},"  xx  ","https://miau.my-x.hu/miau/296/felveteli_matek_8.xlsx",null,{"$f":"C101","v":"Solver-alapú feladatmegoldás 8. osztályos matematikai felvételi feladat kapcsán"}]
[null,"(MY-X team):","(Solver-based solutionn of a mathematical problem for primary schools)"]
["miau296","Bócz Viktor","Design pattern","(+)",null,{"$f":"A103","v":"miau296"},"Bócz Viktor",":",{"$f":"M103","v":"Design pattern"},"  xx  ","https://miau.my-x.hu/miau/296/design_pattern.docx",null,{"$f":"C103","v":"Design pattern"}]
[null,"(MY-X team):"]
["miau296","Pitlik László, Anonim Hallgató","Szövegbányászat hasonlóságelemzéssel források dinamikus kulcsszó-dominanciájának feltárására","(+)",null,{"$f":"A105","v":"miau296"},"Pitlik László, Anonim Hallgató",":",{"$f":"M105","v":"Szövegbányászat hasonlóságelemzéssel források dinamikus kulcsszó-dominanciájának feltárására"},"  xx  ","https://miau.my-x.hu/miau/296/text_mining_similarity_time-series.xlsx",null,{"$f":"C105","v":"Szövegbányászat hasonlóságelemzéssel források dinamikus kulcsszó-dominanciájának feltárására"}]
[null,"(MY-X team):","(Text-mining based on similarity analyses for exploring dynamic behaviour of keyword-dominance)"]
["miau296","György Losonczi","ONLINE MARKETING STRATEGIES OF THE NATIONAL MUSEUMS AND LIBRARIES (EU28)","(+)",null,{"$f":"A107","v":"miau296"},"György Losonczi",":",{"$f":"M107","v":"ONLINE MARKETING STRATEGIES OF THE NATIONAL MUSEUMS AND LIBRARIES (EU28)"},"  xx  ","https://miau.my-x.hu/miau/296/Marmara_Kitap.pdf",null,{"$f":"C107","v":"ONLINE MARKETING STRATEGIES OF THE NATIONAL MUSEUMS AND LIBRARIES (EU28)"}]
[null,"(MY-X team):"]
["miau296","László Pitlik, Dániel Váradi","PPT: JOKER#2 OR DERIVATION OF LACKING DATA IN BIOLOGICAL SYSTEMS","(+)",null,{"$f":"A109","v":"miau296"},"László Pitlik, Dániel Váradi",":",{"$f":"M109","v":"PPT: JOKER#2 OR DERIVATION OF LACKING DATA IN BIOLOGICAL SYSTEMS"},"  xx  ","https://miau.my-x.hu/miau/296/joker2.pptx",null,{"$f":"C109","v":"PPT: JOKER#2 OR DERIVATION OF LACKING DATA IN BIOLOGICAL SYSTEMS"}]
[null,"(MY-X team):"]
["miau296","László Pitlik, Dániel Váradi","Abstract: JOKER#2 OR DERIVATION OF LACKING DATA IN BIOLOGICAL SYSTEMS","(+)",null,{"$f":"A111","v":"miau296"},"László Pitlik, Dániel Váradi",":",{"$f":"M111","v":"Abstract: JOKER#2 OR DERIVATION OF LACKING DATA IN BIOLOGICAL SYSTEMS"},"  xx  ","https://miau.my-x.hu/miau/296/joker2_for_biological_systems.docx",null,{"$f":"C111","v":"Abstract: JOKER#2 OR DERIVATION OF LACKING DATA IN BIOLOGICAL SYSTEMS"}]
[null,"(MY-X team):"]
["miau296","László Pitlik","India és Sri Lanka összehasonlítása GAPMINDER-alapú animáció keretében","(+)",null,{"$f":"A113","v":"miau296"},"László Pitlik",":",{"$f":"M113","v":"India és Sri Lanka összehasonlítása GAPMINDER-alapú animáció keretében"},"  xx  ","https://miau.my-x.hu/miau/296/sri_lanka/",null,{"$f":"C113","v":"India és Sri Lanka összehasonlítása GAPMINDER-alapú animáció keretében"}]
[null,"(MY-X team):","(Comparison of India and Sri Lanke in frame of a GAPMINDER-animation)"]
["miau296","László Pitlik, Dániel Váradi","JOKER#2 OR DERIVATION OF LACKING DATA IN BIOLOGICAL SYSTEMS","(+)",null,{"$f":"A115","v":"miau296"},"László Pitlik, Dániel Váradi",":",{"$f":"M115","v":"JOKER#2 OR DERIVATION OF LACKING DATA IN BIOLOGICAL SYSTEMS"},"  xx  ","https://miau.my-x.hu/miau/296/5. PROCEEDINGS BOOK V-2.pdf",null,{"$f":"C115","v":"JOKER#2 OR DERIVATION OF LACKING DATA IN BIOLOGICAL SYSTEMS"}]
[null,"(MY-X team):"]
["miau296","Pitlik László:","Oktatásmódszertani kísérlet - csak szöveges kommunikációra alapuló oktatás","(+)",null,{"$f":"A117","v":"miau296"},"Pitlik László:",":",{"$f":"M117","v":"Oktatásmódszertani kísérlet - csak szöveges kommunikációra alapuló oktatás"},"  xx  ","https://miau.my-x.hu/mediawiki/index.php/System-modeling",null,{"$f":"C117","v":"Oktatásmódszertani kísérlet - csak szöveges kommunikációra alapuló oktatás"}]
[null,null,"(Teaching-methodology-experiment - education only in written form)"]
["miau296","Pitlik László:","Oktatást támogató tippek, trükkök pedagógusoknak","(+)",null,{"$f":"A119","v":"miau296"},"Pitlik László:",":",{"$f":"M119","v":"Oktatást támogató tippek, trükkök pedagógusoknak"},"  xx  ","https://miau.my-x.hu/mediawiki/index.php/Oktatast_tamogato_IT_megoldasok",null,{"$f":"C119","v":"Oktatást támogató tippek, trükkök pedagógusoknak"}]
[null,null,"(How can IT-solutions support the education/didactics?)"]
["miau297","Dániel Czúni, Gyöngyi Bánkuti, László Pitlik","Full text: INTRODUCTION OF A TEXT MINING-BASED DECISION SUPPORT TECHNIQUE","(+)",null,{"$f":"A121","v":"miau297"},"Dániel Czúni, Gyöngyi Bánkuti, László Pitlik",":",{"$f":"M121","v":"Full text: INTRODUCTION OF A TEXT MINING-BASED DECISION SUPPORT TECHNIQUE"},"  xx  ","https://miau.my-x.hu/miau/297/czuni_03_10_full.docx",null,{"$f":"C121","v":"Full text: INTRODUCTION OF A TEXT MINING-BASED DECISION SUPPORT TECHNIQUE"}]
[null,"(MY-X team):"]
["miau297","Dániel Czúni, Gyöngyi Bánkuti, László Pitlik","MP4: INTRODUCTION OF A TEXT MINING-BASED DECISION SUPPORT TECHNIQUE","(+)",null,{"$f":"A123","v":"miau297"},"Dániel Czúni, Gyöngyi Bánkuti, László Pitlik",":",{"$f":"M123","v":"MP4: INTRODUCTION OF A TEXT MINING-BASED DECISION SUPPORT TECHNIQUE"},"  xx  ","https://miau.my-x.hu/miau/297/esport.mp4",null,{"$f":"C123","v":"MP4: INTRODUCTION OF A TEXT MINING-BASED DECISION SUPPORT TECHNIQUE"}]
[null,"(MY-X team):"]
["miau297","Dániel Czúni, Gyöngyi Bánkuti, László Pitlik","PPT: INTRODUCTION OF A TEXT MINING-BASED DECISION SUPPORT TECHNIQUE","(+)",null,{"$f":"A125","v":"miau297"},"Dániel Czúni, Gyöngyi Bánkuti, László Pitlik",":",{"$f":"M125","v":"PPT: INTRODUCTION OF A TEXT MINING-BASED DECISION SUPPORT TECHNIQUE"},"  xx  ","https://miau.my-x.hu/miau/297/esport.pptx",null,{"$f":"C125","v":"PPT: INTRODUCTION OF A TEXT MINING-BASED DECISION SUPPORT TECHNIQUE"}]
[null,"(MY-X team):"]
["miau297","Dániel Czúni, Gyöngyi Bánkuti, László Pitlik","Abstract: INTRODUCTION OF A TEXT MINING-BASED DECISION SUPPORT TECHNIQUE","(+)",null,{"$f":"A127","v":"miau297"},"Dániel Czúni, Gyöngyi Bánkuti, László Pitlik",":",{"$f":"M127","v":"Abstract: INTRODUCTION OF A TEXT MINING-BASED DECISION SUPPORT TECHNIQUE"},"  xx  ","https://miau.my-x.hu/miau/297/Czuni_Daniel_Abstract_02_15.docx",null,{"$f":"C127","v":"Abstract: INTRODUCTION OF A TEXT MINING-BASED DECISION SUPPORT TECHNIQUE"}]
[null,"(MY-X team):"]
["miau297","István Vancsura, László Pitlik","PPT: FINANCE PROCESS AUTOMATION WITH NUMBERICAL DECISION MAKING","(+)",null,{"$f":"A129","v":"miau297"},"István Vancsura, László Pitlik",":",{"$f":"M129","v":"PPT: FINANCE PROCESS AUTOMATION WITH NUMBERICAL DECISION MAKING"},"  xx  ","https://miau.my-x.hu/miau/297/FINANCE PROCESS AUTOMATION WITH NUMERICAL DECISION MAKING.pptx",null,{"$f":"C129","v":"PPT: FINANCE PROCESS AUTOMATION WITH NUMBERICAL DECISION MAKING"}]
[null,"(MY-X team):"]
["miau297","István Vancsura, László Pitlik","MP4: FINANCE PROCESS AUTOMATION WITH NUMBERICAL DECISION MAKING","(+)",null,{"$f":"A131","v":"miau297"},"István Vancsura, László Pitlik",":",{"$f":"M131","v":"MP4: FINANCE PROCESS AUTOMATION WITH NUMBERICAL DECISION MAKING"},"  xx  ","https://miau.my-x.hu/miau/297/FINANCE PROCESS AUTOMATION WITH NUMERICAL DECISION MAKING.mp4",null,{"$f":"C131","v":"MP4: FINANCE PROCESS AUTOMATION WITH NUMBERICAL DECISION MAKING"}]
[null,"(MY-X team):"]
["miau297","Zsolt Lajos Kontra, László Pitlik","MP4: Starlight","(+)",null,{"$f":"A133","v":"miau297"},"Zsolt Lajos Kontra, László Pitlik",":",{"$f":"M133","v":"MP4: Starlight"},"  xx  ","https://miau.my-x.hu/miau/297/starlight.mp4",null,{"$f":"C133","v":"MP4: Starlight"}]
[null,"(MY-X team):"]
["miau297","Zsolt Lajos Kontra, László Pitlik","PPT: Starlight","(+)",null,{"$f":"A135","v":"miau297"},"Zsolt Lajos Kontra, László Pitlik",":",{"$f":"M135","v":"PPT: Starlight"},"  xx  ","https://miau.my-x.hu/miau/297/starlight_v5.pptx",null,{"$f":"C135","v":"PPT: Starlight"}]
[null,"(MY-X team):"]
["miau297","László Pitlik, László Pitlik (jun), Marcell Pitlik","Modelling challenges on the field of IT-security (based on artificial intelligence)","(+)",null,{"$f":"A137","v":"miau297"},"László Pitlik, László Pitlik (jun), Marcell Pitlik",":",{"$f":"M137","v":"Modelling challenges on the field of IT-security (based on artificial intelligence)"},"  xx  ","https://miau.my-x.hu/miau/297/modelling_challenges_on_the_field_of_IT_security_based_on_AI.docx",null,{"$f":"C137","v":"Modelling challenges on the field of IT-security (based on artificial intelligence)"}]
[null,"(MY-X team):"]
["miau297","Pitlik László","Szövegbányászati, szöveg-manipulációs lehetőségek képlettel és menüből Excel-ben","(+)",null,{"$f":"A139","v":"miau297"},"Pitlik László",":",{"$f":"M139","v":"Szövegbányászati, szöveg-manipulációs lehetőségek képlettel és menüből Excel-ben"},"  xx  ","https://miau.my-x.hu/miau/297/keplet_vs_menu.xlsx",null,{"$f":"C139","v":"Szövegbányászati, szöveg-manipulációs lehetőségek képlettel és menüből Excel-ben"}]
[null,"(MY-X team):","(Text mining/text-converting possibilities in Excel with formulas and based on the menu)"]
["miau297","László Pitlik","ChatGPT-experiment#3 - a quasi interview with Mr. Chat GeePeeTee (robot-expert for all)","(+)",null,{"$f":"A141","v":"miau297"},"László Pitlik",":",{"$f":"M141","v":"ChatGPT-experiment#3 - a quasi interview with Mr. Chat GeePeeTee (robot-expert for all)"},"  xx  ","https://miau.my-x.hu/miau/297/Chat-GeePeeTee_vs_Pratchett-G-Pete_nr1.docx",null,{"$f":"C141","v":"ChatGPT-experiment#3 - a quasi interview with Mr. Chat GeePeeTee (robot-expert for all)"}]
[null,"(MY-X team):"]
["miau297","István Vancsura, László Pitlik","Abstract: FINANCE PROCESS AUTOMATION WITH NUMBERICAL DECISION MAKING","(+)",null,{"$f":"A143","v":"miau297"},"István Vancsura, László Pitlik",":",{"$f":"M143","v":"Abstract: FINANCE PROCESS AUTOMATION WITH NUMBERICAL DECISION MAKING"},"  xx  ","https://miau.my-x.hu/miau/297/FINANCE PROCESS AUTOMATION_abstract.docx",null,{"$f":"C143","v":"Abstract: FINANCE PROCESS AUTOMATION WITH NUMBERICAL DECISION MAKING"}]
[null,"(MY-X team):"]
["miau297","László Pitlik","Potential stars and similarities (or geometry/aera-based object evaluations)","(+)",null,{"$f":"A145","v":"miau297"},"László Pitlik",":",{"$f":"M145","v":"Potential stars and similarities (or geometry/aera-based object evaluations)"},"  xx  ","https://miau.my-x.hu/miau/297/AREA-BASED-ANTI-DISCRIMINATION-MODELS.xlsx",null,"Potential stars and similarities (or geometry/aera-based object evaluations)"]
[null,"(MY-X team):"]
["miau297","Zsolt Lajos Kontra, László Pitlik","Project Starlight (abstract): Robot-eye for (Turkish) football player-talent-identification","(+)",null,{"$f":"A147","v":"miau297"},"Zsolt Lajos Kontra, László Pitlik",":",{"$f":"M147","v":"Project Starlight (abstract): Robot-eye for (Turkish) football player-talent-identification"},"  xx  ","https://miau.my-x.hu/miau/297/starlight_v1.docx",null,"Project Starlight (abstract): Robot-eye for (Turkish) football player-talent-identification"]
[null,"(MY-X team):"]
["miau297","POSZMIK BARNA, PITLIK LÁSZLÓ","CHATGPT-KÍSÉRLETEK NR.2. - AVAGY A CHATGPT MATEMATIKAI KÉPESSÉGEI?","(+)",null,{"$f":"A149","v":"miau297"},"POSZMIK BARNA, PITLIK LÁSZLÓ",":",{"$f":"M149","v":"CHATGPT-KÍSÉRLETEK NR.2. - AVAGY A CHATGPT MATEMATIKAI KÉPESSÉGEI?"},"  xx  ","https://miau.my-x.hu/miau/297/ChatGPT2.docx",null,{"$f":"C149","v":"CHATGPT-KÍSÉRLETEK NR.2. - AVAGY A CHATGPT MATEMATIKAI KÉPESSÉGEI?"}]
[null,"(MY-X team):","(Experiment#2 - About the mathematical potential of the chatGPT)"]
["miau297","POSZMIK BARNA, DEÁK ZSOMBOR, PITLIK LÁSZLÓ","CHATGPT-KÍSÉRLETEK NR.1. - VAN-E JÓSÁG-FOGALMA A CHATGPT-NEK, ILL. KELLŐEN PC-E A CHATGPT KOMMUNIKÁCIÓJA?","(+)",null,{"$f":"A151","v":"miau297"},"POSZMIK BARNA, DEÁK ZSOMBOR, PITLIK LÁSZLÓ",":",{"$f":"M151","v":"CHATGPT-KÍSÉRLETEK NR.1. - VAN-E JÓSÁG-FOGALMA A CHATGPT-NEK, ILL. KELLŐEN PC-E A CHATGPT KOMMUNIKÁCIÓJA?"},"  xx  ","https://miau.my-x.hu/miau/297/ChatGPT.docx",null,{"$f":"C151","v":"CHATGPT-KÍSÉRLETEK NR.1. - VAN-E JÓSÁG-FOGALMA A CHATGPT-NEK, ILL. KELLŐEN PC-E A CHATGPT KOMMUNIKÁCIÓJA?"}]
[null,"(MY-X team):","(Experiment#1 - Is there any term for Good in/behind chatGPT and/or is chatGPT PC-enough?)"]
["miau297","László Pitlik","Validated integration of more than 5 Google Trends data sets","(+)",null,{"$f":"A153","v":"miau297"},"László Pitlik",":",{"$f":"M153","v":"Validated integration of more than 5 Google Trends data sets"},"  xx  ","https://miau.my-x.hu/miau/297/google_trends_data_integration_variations.xlsx",null,"Validated integration of more than 5 Google Trends data sets"]
[null,"(MY-X team):"]
["miau297","Sipos Péter","C# exe-állomány visszafejtése","(+)",null,{"$f":"A155","v":"miau297"},"Sipos Péter",":",{"$f":"M155","v":"C# exe-állomány visszafejtése"},"  xx  ","https://miau.my-x.hu/miau/297/sipospeter_csharp_visszafejtese.mkv",null,"C# exe-állomány visszafejtése"]
[null,"(KJE):","(Reverse engineering: C# exe)"]
["miau297","Zsolt Lajos Kontra, László Pitlik","PROJECT STARLIGHT: ROBOT-EYE FOR (TURKISH) FOOTBALL PLAYER-TALENT IDENTIFICATION","(+)",null,{"$f":"A157","v":"miau297"},"Zsolt Lajos Kontra, László Pitlik",":",{"$f":"M157","v":"PROJECT STARLIGHT: ROBOT-EYE FOR (TURKISH) FOOTBALL PLAYER-TALENT IDENTIFICATION"},"  xx  ","https://miau.my-x.hu/miau/297/finans ve vergi.pdf",null,"PROJECT STARLIGHT: ROBOT-EYE FOR (TURKISH) FOOTBALL PLAYER-TALENT IDENTIFICATION"]
[null,"(MY-X team):"]
["miau298","Pitlik Marcell, Pitlik László","Erősen ingadozó megrendelés-állományú cégek döntési folyamatainak támogatása hasonlóságelemzésekkel","(+)",null,{"$f":"A159","v":"miau298"},"Pitlik Marcell, Pitlik László",":",{"$f":"M159","v":"Erősen ingadozó megrendelés-állományú cégek döntési folyamatainak támogatása hasonlóságelemzésekkel"},"  xx  ","https://miau.my-x.hu/miau/298/claas_v1.docx",null,"Erősen ingadozó megrendelés-állományú cégek döntési folyamatainak támogatása hasonlóságelemzésekkel"]
[null,"(MY-X team):","(Similarity-based decision support for enterprises with massive changing customer potential)"]
["miau298","Marcell Pitlik, Dániel Váradi, László Pitlik","Simulator development for yield estimation (in case of corn, oats, soybean) based on weather-data","(+)",null,{"$f":"A161","v":"miau298"},"Marcell Pitlik, Dániel Váradi, László Pitlik",":",{"$f":"M161","v":"Simulator development for yield estimation (in case of corn, oats, soybean) based on weather-data"},"  xx  ","https://miau.my-x.hu/miau/298/Simulator development for yield estimation_2.docx",null,"Simulator development for yield estimation (in case of corn, oats, soybean) based on weather-data"]
[null,"(MY-X team):"]
["miau298","Pitlik László, Pitlik László (jun)","Oktatást támogató innovatív IT-megoldások/filozóiák pedagógusoknak","(+)",null,{"$f":"A163","v":"miau298"},"Pitlik László, Pitlik László (jun)",":",{"$f":"M163","v":"Oktatást támogató innovatív IT-megoldások/filozóiák pedagógusoknak"},"  xx  ","https://miau.my-x.hu/mediawiki/index.php/Oktatast_tamogato_IT_megoldasok",null,"Oktatást támogató innovatív IT-megoldások/filozóiák pedagógusoknak"]
[null,"(KJE):","(IT-solutions and strategies for teachers supporting education)"]
["miau298","Pitlik László","A nemzetközi pénzpiac stabilitásának alakulása 2017-2021 között","(+)",null,{"$f":"A165","v":"miau298"},"Pitlik László",":",{"$f":"M165","v":"A nemzetközi pénzpiac stabilitásának alakulása 2017-2021 között"},"  xx  ","https://miau.my-x.hu/miau/298/hu0301-arfolyam.xls",null,"A nemzetközi pénzpiac stabilitásának alakulása 2017-2021 között"]
[null,"(KJE):","(Stability index for the international monetary system between 2017-2021)"]
["miau298","Pitlik László","Excel 3D-animáció - sport/divat-tudatosság Magyarországon","(+)",null,{"$f":"A167","v":"miau298"},"Pitlik László",":",{"$f":"M167","v":"Excel 3D-animáció - sport/divat-tudatosság Magyarországon"},"  xx  ","https://miau.my-x.hu/miau/298/3d_excel_demo.mp4",null,"Excel 3D-animáció - sport/divat-tudatosság Magyarországon"]
[null,"(KJE):","(Excel 3D-animation: sport/fashion-importance in Hungary)"]
["miau298","Jónás Attila, Pitlik László","ChatGPT-verziókat összehasonlító elemzések II.","(+)",null,{"$f":"A169","v":"miau298"},"Jónás Attila, Pitlik László",":",{"$f":"M169","v":"ChatGPT-verziókat összehasonlító elemzések II."},"  xx  ","https://miau.my-x.hu/miau/298/ChatGPT2_GPT4 (1).docx",null,"ChatGPT-verziókat összehasonlító elemzések II."]
[null,"(KJE):","(Comparing chatGPT versions - Part II)"]
["miau298","Jónás Attila, Pitlik László","ChatGPT-verziókat összehasonlító elemzések I.","(+)",null,{"$f":"A171","v":"miau298"},"Jónás Attila, Pitlik László",":",{"$f":"M171","v":"ChatGPT-verziókat összehasonlító elemzések I."},"  xx  ","https://miau.my-x.hu/miau/298/ChatGPT_GPT4 (1).docx",null,"ChatGPT-verziókat összehasonlító elemzések I."]
[null,"(KJE):","(Comparing chatGPT versions - Part I)"]
["miau298","Rikk János, Pitlik László","ChatGPT-kísérletek - programozás","(+)",null,{"$f":"A173","v":"miau298"},"Rikk János, Pitlik László",":",{"$f":"M173","v":"ChatGPT-kísérletek - programozás"},"  xx  ","https://miau.my-x.hu/miau/298/chatgpt_.docx",null,"ChatGPT-kísérletek - programozás"]
[null,"(KJE):","(Experiments with chatGPT on the field of creating source codes)"]
["miau298","Pitlik László","Naiv és optimalizált tudásvágy-indexek NGRAM-adatok alapján","(+)",null,{"$f":"A175","v":"miau298"},"Pitlik László",":",{"$f":"M175","v":"Naiv és optimalizált tudásvágy-indexek NGRAM-adatok alapján"},"  xx  ","https://miau.my-x.hu/miau/298/tudasvagy_index.xlsx",null,"Naiv és optimalizált tudásvágy-indexek NGRAM-adatok alapján"]
[null,"(KJE):","(Naive and optimized Thirst-For-Knowledge-Index-Generations based on NGRAM-data)"]
["miau298","Sipos Péter, Pitlik László","ChatGPT kísérletek: 2dm-játékok generálása (2. rész)","(+)",null,{"$f":"A177","v":"miau298"},"Sipos Péter, Pitlik László",":",{"$f":"M177","v":"ChatGPT kísérletek: 2dm-játékok generálása (2. rész)"},"  xx  ","https://miau.my-x.hu/miau/298/ChatGPT-food-2.pdf",null,"ChatGPT kísérletek: 2dm-játékok generálása (2. rész)"]
[null,"(KJE):","(Chat-GPT-experiments: Generating 2dm-games - Part II)"]
["miau298","Sipos Péter, Pitlik László","ChatGPT kísérletek: 2dm-játékok generálása (1. rész)","(+)",null,{"$f":"A179","v":"miau298"},"Sipos Péter, Pitlik László",":",{"$f":"M179","v":"ChatGPT kísérletek: 2dm-játékok generálása (1. rész)"},"  xx  ","https://miau.my-x.hu/miau/298/ChatGPT-food.pdf",null,"ChatGPT kísérletek: 2dm-játékok generálása (1. rész)"]
[null,"(KJE):","(Chat-GPT-experiments: Generating 2dm-games - Part I)"]
["miau298","Anonim Hallgató","Rendszermodellezés - esettanulmány","(+)",null,{"$f":"A181","v":"miau298"},"Anonim Hallgató",":",{"$f":"M181","v":"Rendszermodellezés - esettanulmány"},"  xx  ","https://miau.my-x.hu/miau/298/rendszermodellezes_bv.docx",null,"Rendszermodellezés - esettanulmány"]
[null,"(KJE):","(System modelling - case study)"]
["miau298","István Vancsura, László Pitlik","FINANCE PROCESS AUTOMATION WITH NUMBERICAL DECISION MAKING","(+)",null,{"$f":"A183","v":"miau298"},"István Vancsura, László Pitlik",":",{"$f":"M183","v":"FINANCE PROCESS AUTOMATION WITH NUMBERICAL DECISION MAKING"},"  xx  ","https://miau.my-x.hu/miau/297/finans ve vergi.pdf",null,"FINANCE PROCESS AUTOMATION WITH NUMBERICAL DECISION MAKING"]
[null,"(MY-X team):"]
["miau299","Borgulya János Márk, Pitlik László","ChatGPT: Ember-gép-kooperációs gyakorlatok IIa/b. - Tényszerű tudás","(+)",null,{"$f":"A185","v":"miau299"},"Borgulya János Márk, Pitlik László",":",{"$f":"M185","v":"ChatGPT: Ember-gép-kooperációs gyakorlatok IIa/b. - Tényszerű tudás"},"  xx  ","https://miau.my-x.hu/miau/299/chat_GPT_magabizossag2of2.docx",null,"ChatGPT: Ember-gép-kooperációs gyakorlatok IIa/b. - Tényszerű tudás"]
[null,"(MY-X team):","(Chat-GPT Excercises Part IIa/b. - about human-machine-cooperation possibilities concerning facts)"]
["miau299","Rácz Lívia, Pitlik László","ChatGPT: Ember-gép-kooperációs gyakorlatok I. - Élethosszigtartó tanulás","(+)",null,{"$f":"A187","v":"miau299"},"Rácz Lívia, Pitlik László",":",{"$f":"M187","v":"ChatGPT: Ember-gép-kooperációs gyakorlatok I. - Élethosszigtartó tanulás"},"  xx  ","https://miau.my-x.hu/miau/299/ChatGPT_az_elethosszig_tarto_tanulas_v1_v2_v3.docx",null,"ChatGPT: Ember-gép-kooperációs gyakorlatok I. - Élethosszigtartó tanulás"]
[null,"(MY-X team):","(Chat-GPT Excercises Part I. - about human-machine-cooperation possibilities concerning life-long-learning)"]
["miau299","Zsolt Lajos Kontra","Thesis: Artificial Intelligence-Based Sports Economics Analyses","(+)",null,{"$f":"A189","v":"miau299"},"Zsolt Lajos Kontra",":",{"$f":"M189","v":"Thesis: Artificial Intelligence-Based Sports Economics Analyses"},"  xx  ","https://miau.my-x.hu/miau/299/Artificial Intelligence-Based Sports Economics Analysis.pdf",null,"Thesis: Artificial Intelligence-Based Sports Economics Analyses"]
[null,"(MY-X team):"]
["miau299","Muhari Adrienn","Információhalmazok OAM szempontok szerinti feldolgozása és elemzése","(+)",null,{"$f":"A191","v":"miau299"},"Muhari Adrienn",":",{"$f":"M191","v":"Információhalmazok OAM szempontok szerinti feldolgozása és elemzése"},"  xx  ","https://miau.my-x.hu/miau/299/Muhari Adrienn - KJE Szakdolgozat - GazdMen.pdf",null,"Információhalmazok OAM szempontok szerinti feldolgozása és elemzése"]
[null,"(MY-X team):","(OAM-based analyses)"]
["miau299","Zsolt Lajos Kontra, László Pitlik","Full-text: Artificial Intelligence-Based Sports Economics Analyses Project Starlight: Robot-Eye for (Turkish) Football Player Talent Identification","(+)",null,{"$f":"A193","v":"miau299"},"Zsolt Lajos Kontra, László Pitlik",":",{"$f":"M193","v":"Full-text: Artificial Intelligence-Based Sports Economics Analyses Project Starlight: Robot-Eye for (Turkish) Football Player Talent Identification"},"  xx  ","https://miau.my-x.hu/miau/299/Kitap Sosyal.pdf",null,"Full-text: Artificial Intelligence-Based Sports Economics Analyses Project Starlight: Robot-Eye for (Turkish) Football Player Talent Identification"]
[null,"(MY-X team):"]
["miau299","Zsolt Lajos Kontra, László Pitlik","Abstract: Artificial Intelligence-Based Sports Economics Analyses Project Starlight: Robot-Eye for (Turkish) Football Player Talent Identification","(+)",null,{"$f":"A195","v":"miau299"},"Zsolt Lajos Kontra, László Pitlik",":",{"$f":"M195","v":"Abstract: Artificial Intelligence-Based Sports Economics Analyses Project Starlight: Robot-Eye for (Turkish) Football Player Talent Identification"},"  xx  ","https://miau.my-x.hu/miau/299/Artificial Intelligence-Based Sports Economics Analysis_Abstract.docx",null,"Abstract: Artificial Intelligence-Based Sports Economics Analyses Project Starlight: Robot-Eye for (Turkish) Football Player Talent Identification"]
[null,"(MY-X team):"]
["miau299","Liber Péter","Magyarország egészségügyi állapotának vizsgálata, avagy mennyire egyenszilárd a járóbeteg ellátás különböző regionális szinteken és idősorosan Magyarországon?","(+)",null,{"$f":"A197","v":"miau299"},"Liber Péter",":",{"$f":"M197","v":"Magyarország egészségügyi állapotának vizsgálata, avagy mennyire egyenszilárd a járóbeteg ellátás különböző regionális szinteken és idősorosan Magyarországon?"},"  xx  ","https://miau.my-x.hu/miau/299/liber",null,"Magyarország egészségügyi állapotának vizsgálata, avagy mennyire egyenszilárd a járóbeteg ellátás különböző regionális szinteken és idősorosan Magyarországon?"]
[null,"(MY-X team):","(Homogeneity analyses about the Hungarian health care services)"]
["miau299","Ács Kinga","Robot-polgár, robot-politológus - avagy mit lehet automatizálni a politikai elemzések kapcsán?","(+)",null,{"$f":"A199","v":"miau299"},"Ács Kinga",":",{"$f":"M199","v":"Robot-polgár, robot-politológus - avagy mit lehet automatizálni a politikai elemzések kapcsán?"},"  xx  ","https://miau.my-x.hu/miau/299/acs",null,"Robot-polgár, robot-politológus - avagy mit lehet automatizálni a politikai elemzések kapcsán?"]
[null,"(MY-X team):","(Robot-citizen, robot-politician or what can be analysed in automated ways concerning political processes?)"]
["miau299","Forsterné Kolosa Esztella, Pitlik László","A munkanélküliek száma és a bruttó átlagkereset változása Magyarországon vármegyénként 2016 és 2022 között","(+)",null,{"$f":"A201","v":"miau299"},"Forsterné Kolosa Esztella, Pitlik László",":",{"$f":"M201","v":"A munkanélküliek száma és a bruttó átlagkereset változása Magyarországon vármegyénként 2016 és 2022 között"},"  xx  ","https://miau.my-x.hu/miau/299/rosling2",null,"A munkanélküliek száma és a bruttó átlagkereset változása Magyarországon vármegyénként 2016 és 2022 között"]
[null,"(MY-X team):","(Rosling animation about average salary and unemployment ratio for counties in Hungary 2016-2022)"]
["miau299","Anonim Hallgató","Rosling-animáció: Fogyasztóiár-index alakulása (1961-2022) fogyasztási főcsoportok szerint az előző évhez képest","(+)",null,{"$f":"A203","v":"miau299"},"Anonim Hallgató",":",{"$f":"M203","v":"Rosling-animáció: Fogyasztóiár-index alakulása (1961-2022) fogyasztási főcsoportok szerint az előző évhez képest"},"  xx  ","https://miau.my-x.hu/miau/299/rosling1",null,"Rosling-animáció: Fogyasztóiár-index alakulása (1961-2022) fogyasztási főcsoportok szerint az előző évhez képest"]
[null,"(MY-X team):","(Price index animation with GAPMINDER for product/service-groups in case of 1961-2022 / previous year = 100%)"]
["miau299","László Pitlik","How to focus on relevant details in case of HR-statistics based on similarity analysis?","(+)",null,{"$f":"A205","v":"miau299"},"László Pitlik",":",{"$f":"M205","v":"How to focus on relevant details in case of HR-statistics based on similarity analysis?"},"  xx  ","https://miau.my-x.hu/miau/299/rd_eu.xlsx",null,"How to focus on relevant details in case of HR-statistics based on similarity analysis?"]
[null,"(MY-X team):"]
["miau299","László Pitlik","Is the LINUX-bubble quasi closed or new linux versions/releases may still be expected in future?","(+)",null,{"$f":"A207","v":"miau299"},"László Pitlik",":",{"$f":"M207","v":"Is the LINUX-bubble quasi closed or new linux versions/releases may still be expected in future?"},"  xx  ","https://miau.my-x.hu/miau/299/linux.xlsx",null,"Is the LINUX-bubble quasi closed or new linux versions/releases may still be expected in future?"]
[null,"(MY-X team):"]
["miau299","László Pitlik","Device-location in a building based on several wifi-signals or how to create average-oriented (naive) models with rel. high accuracy?","(+)",null,{"$f":"A209","v":"miau299"},"László Pitlik",":",{"$f":"M209","v":"Device-location in a building based on several wifi-signals or how to create average-oriented (naive) models with rel. high accuracy?"},"  xx  ","https://miau.my-x.hu/miau/299/log_analysis_wifi.xlsm",null,"Device-location in a building based on several wifi-signals or how to create average-oriented (naive) models with rel. high accuracy?"]
[null,"(MY-X team):"]
["miau299","László Pitlik","Interpretation anomalies of a health consciuosness index","(+)",null,{"$f":"A211","v":"miau299"},"László Pitlik",":",{"$f":"M211","v":"Interpretation anomalies of a health consciuosness index"},"  xx  ","https://miau.my-x.hu/miau/299/health_consciousness.xlsx",null,"Interpretation anomalies of a health consciuosness index"]
[null,"(MY-X team):"]
["miau299","László Pitlik, Marcell Pitlik","Consistence-based estimation of bearing degradations","(+)",null,{"$f":"A213","v":"miau299"},"László Pitlik, Marcell Pitlik",":",{"$f":"M213","v":"Consistence-based estimation of bearing degradations"},"  xx  ","https://miau.my-x.hu/miau/299/bearing_abcdef.xlsx",null,"Consistence-based estimation of bearing degradations"]
[null,"(MY-X team):"]
["miau299","László Pitlik","Case study: System modelling education-logs with history layers and its experiences concerning problem solving","(+)",null,{"$f":"A215","v":"miau299"},"László Pitlik",":",{"$f":"M215","v":"Case study: System modelling education-logs with history layers and its experiences concerning problem solving"},"  xx  ","https://miau.my-x.hu/mediawiki/index.php/System-modeling",null,{"$f":"C215","v":"Case study: System modelling education-logs with history layers and its experiences concerning problem solving"}]
[null,"(MY-X team):"]
["miau299","László Pitlik","Comparing anti-virus softwares","(+)",null,{"$f":"A217","v":"miau299"},"László Pitlik",":",{"$f":"M217","v":"Comparing anti-virus softwares"},"  xx  ","https://miau.my-x.hu/bprof/2023/antivirus_oam1.xlsx",null,"Comparing anti-virus softwares"]
[null,"(MY-X team):"]
["miau299","Dániel Czúni, Gyöngyi Bánkuti, László Pitlik","INTRODUCTION OF A TEXT MINING-BASED DECISION SUPPORT TECHNIQUE","(+)",null,{"$f":"A219","v":"miau299"},"Dániel Czúni, Gyöngyi Bánkuti, László Pitlik",":",{"$f":"M219","v":"INTRODUCTION OF A TEXT MINING-BASED DECISION SUPPORT TECHNIQUE"},"  xx  ","https://miau.my-x.hu/miau/297/finans ve vergi.pdf",null,"INTRODUCTION OF A TEXT MINING-BASED DECISION SUPPORT TECHNIQUE"]
[null,"(MY-X team):"]
[]
[]
[]
[]
["miau293"]
["miau293"]
["miau293"]
["miau293"]
["miau293"]
["miau293"]
["miau293"]
["miau293"]
["miau293"]
["miau293"]
["miau293"]
["miau293"]
["miau293"]
["miau293"]
["miau293"]
["miau293"]
["miau293"]
["miau293"]
["miau293"]
["miau294"]
["miau294"]
["miau294"]
["miau294"]
["miau294"]
["miau294"]
["miau294"]
["miau294"]
["miau294"]
["miau294"]
["miau294"]
["miau294"]
["miau294"]
["miau294"]
["miau294"]
["miau295"]
["miau295"]
["miau295"]
["miau295"]
["miau295"]
["miau295"]
["miau295"]
["miau295"]
["miau295"]
["miau295"]
["miau295"]
["miau295"]
["miau295"]
["miau296"]
["miau296"]
["miau296"]
["miau296"]
["miau296"]
["miau296"]
["miau296"]
["miau296"]
["miau296"]
["miau296"]
["miau296"]
["miau296"]
["miau296"]
["miau297"]
["miau297"]
["miau297"]
["miau297"]
["miau297"]
["miau297"]
["miau297"]
["miau297"]
["miau297"]
["miau297"]
["miau297"]
["miau297"]
["miau297"]
["miau297"]
["miau297"]
["miau297"]
["miau297"]
["miau297"]
["miau297"]
["miau298"]
["miau298"]
["miau298"]
["miau298"]
["miau298"]
["miau298"]
["miau298"]
["miau298"]
["miau298"]
["miau298"]
["miau298"]
["miau298"]
["miau298"]
["miau299"]
["miau299"]
["miau299"]
["miau299"]
["miau299"]
["miau299"]
["miau299"]
["miau299"]
["miau299"]
["miau299"]
["miau299"]
["miau299"]
["miau299"]
["miau299"]
["miau299"]
["miau299"]
["miau299"]
["miau299"]

{"sheet":"nyers","index":18,"n_rows":219,"n_cols":13,"rows_kept":219,"cut":false,"hidden":false,"merged":[[106,2,107,2],[112,2,113,2],[34,2,35,2],[36,2,37,2],[54,2,55,2],[58,2,59,2],[98,2,99,2],[46,2,47,2],[48,2,49,2],[50,2,51,2],[56,2,57,2],[60,2,61,2],[62,2,63,2],[70,2,71,2],[86,2,87,2],[92,2,93,2],[218,2,219,2],[218,3,219,3],[212,2,213,2],[212,3,213,3],[214,2,215,2],[214,3,215,3],[216,2,217,2],[216,3,217,3],[206,3,207,3],[208,3,209,3],[210,3,211,3],[198,3,199,3],[200,3,201,3],[202,3,203,3],[204,3,205,3],[192,3,193,3],[194,3,195,3],[196,3,197,3],[184,3,185,3],[186,3,187,3],[188,3,189,3],[190,3,191,3],[176,3,177,3],[178,3,179,3],[180,3,181,3],[182,2,183,2],[182,3,183,3],[190,2,191,2],[166,3,167,3],[168,3,169,3],[170,3,171,3],[172,3,173,3],[174,3,175,3],[158,3,159,3],[160,2,161,2],[160,3,161,3],[162,3,163,3],[164,3,165,3],[158,2,159,2],[162,2,163,2],[164,2,165,2],[152,3,153,3],[154,3,155,3],[156,3,157,3],[150,3,151,3],[140,3,141,3],[142,3,143,3],[144,3,145,3],[146,3,147,3],[128,2,129,2],[130,2,131,2],[114,2,115,2],[124,2,125,2],[126,2,127,2],[38,2,39,2],[134,3,135,3],[136,3,137,3],[138,3,139,3],[148,3,149,3],[122,3,123,3],[124,3,125,3],[126,3,127,3],[128,3,129,3],[130,3,131,3],[116,3,117,3],[118,3,119,3],[120,3,121,3],[102,3,103,3],[104,3,105,3],[106,3,107,3],[108,3,109,3],[110,3,111,3],[132,3,133,3],[28,3,29,3],[18,3,19,3],[20,3,21,3],[22,3,23,3],[36,3,37,3],[38,3,39,3],[40,3,41,3],[112,3,113,3],[114,3,115,3],[58,3,59,3],[70,3,71,3],[62,3,63,3],[92,3,93,3],[94,3,95,3],[96,3,97,3],[98,3,99,3],[100,3,101,3],[90,3,91,3],[64,3,65,3],[66,3,67,3],[68,3,69,3],[42,3,43,3],[30,3,31,3],[0,3,1,3],[2,3,3,3],[4,3,5,3],[24,3,25,3],[26,3,27,3],[12,3,13,3],[14,3,15,3],[16,3,17,3],[6,3,7,3],[8,3,9,3],[10,3,11,3],[32,3,33,3],[34,3,35,3],[88,3,89,3],[72,3,73,3],[74,3,75,3],[76,3,77,3],[82,3,83,3],[84,3,85,3],[86,3,87,3],[78,3,79,3],[80,3,81,3],[44,3,45,3],[46,3,47,3],[48,3,49,3],[50,3,51,3],[54,3,55,3],[52,3,53,3],[60,3,61,3],[56,3,57,3]]}
["miau307","Anonim Hallgató, Pitlik László","Selejtezés szubjektív szabályok mentén és optimalizált, automatizált szabály-felismerés alapján","(+)",null,{"$f":"A1","v":"miau307"},{"$f":"B1","v":"Anonim Hallgató, Pitlik László"},":",{"$f":"M1","v":"Selejtezés szubjektív szabályok mentén és optimalizált, automatizált szabály-felismerés alapján"},"  xx  ","https://miau.my-x.hu/miau/307/selejtezes/",null,{"$f":"C1","v":"Selejtezés szubjektív szabályok mentén és optimalizált, automatizált szabály-felismerés alapján"}]
[null,"(KJE):","(Decision support based on subjective rules and based on derived/optimized rules - Case study: disposal policy)"]
["miau307","Pitlik László","A COCO STEP-IX módszer szükségszerűségének felismerése és lépéseinek mibenléte - 2","(+)",null,{"$f":"A3","v":"miau307"},{"$f":"B3","v":"Pitlik László"},":",{"$f":"M3","v":"A COCO STEP-IX módszer szükségszerűségének felismerése és lépéseinek mibenléte - 2"},"  xx  ","https://miau.my-x.hu/miau/307/stepix_okostelefon/",null,{"$f":"C3","v":"A COCO STEP-IX módszer szükségszerűségének felismerése és lépéseinek mibenléte - 2"}]
[null,"(MY-X team):","(COCO STEP IX: necessity and logic - Part 2)"]
["miau307","Pitlik László","A COCO STEP-IX módszer szükségszerűségének felismerése és lépéseinek mibenléte","(+)",null,{"$f":"A5","v":"miau307"},{"$f":"B5","v":"Pitlik László"},":",{"$f":"M5","v":"A COCO STEP-IX módszer szükségszerűségének felismerése és lépéseinek mibenléte"},"  xx  ","https://miau.my-x.hu/miau/307/stepix_monitor/",null,"A COCO STEP-IX módszer szükségszerűségének felismerése és lépéseinek mibenléte"]
[null,"(MY-X team):","(COCO STEP IX: necessity and logic)"]
["miau307","Pitlik László","Tesztállomány hermeneutikai szélsőségek alátámasztására","(+)",null,{"$f":"A7","v":"miau307"},{"$f":"B7","v":"Pitlik László"},":",{"$f":"M7","v":"Tesztállomány hermeneutikai szélsőségek alátámasztására"},"  xx  ","https://miau.my-x.hu/miau/307/ksh/",null,{"$f":"C7","v":"Tesztállomány hermeneutikai szélsőségek alátámasztására"}]
[null,"(KJE):","(Test cases for hermeneutical extremities)"]
["miau307","Anonim Hallgató, Pitlik László","Baromfihús-fogyás előrejelzése lineáris regresszióval, chatGPT-vel és MI-alapon","(+)",null,{"$f":"A9","v":"miau307"},{"$f":"B9","v":"Anonim Hallgató, Pitlik László"},":",{"$f":"M9","v":"Baromfihús-fogyás előrejelzése lineáris regresszióval, chatGPT-vel és MI-alapon"},"  xx  ","https://miau.my-x.hu/miau/307/ido_poultry/",null,{"$f":"C9","v":"Baromfihús-fogyás előrejelzése lineáris regresszióval, chatGPT-vel és MI-alapon"}]
[null,"(KJE):","(Forecasts for poultry-meat consumption based on linear regression, chatGPT and AI)"]
["miau307","Anonim Hallgató, Pitlik László","Személyes tapasztalatom az életmódváltással - avagy edzésprogramok sikerességének MI-alapú monitorozása","(+)",null,{"$f":"A11","v":"miau307"},{"$f":"B11","v":"Anonim Hallgató, Pitlik László"},":",{"$f":"M11","v":"Személyes tapasztalatom az életmódváltással - avagy edzésprogramok sikerességének MI-alapú monitorozása"},"  xx  ","https://miau.my-x.hu/miau/307/eletforma/",null,{"$f":"C11","v":"Személyes tapasztalatom az életmódváltással - avagy edzésprogramok sikerességének MI-alapú monitorozása"}]
[null,"(KJE):","(The Art of Making A Habit - or AI-based monitoring of training programs)"]
["miau307","Pitlik László","Kölcsönhatások modellezése hasonlóságelemzésekkel","(+)",null,{"$f":"A13","v":"miau307"},{"$f":"B13","v":"Pitlik László"},":",{"$f":"M13","v":"Kölcsönhatások modellezése hasonlóságelemzésekkel"},"  xx  ","https://miau.my-x.hu/miau/307/nyers-erok_vs_kolcsonhatasok_additiv_multiplikativ.xlsx",null,{"$f":"C13","v":"Kölcsönhatások modellezése hasonlóságelemzésekkel"}]
[null,"(KJE):","(Modelling interactions based on similarity analyses)"]
["miau307","Anonim Hallgató","Context-free gyanúgenerálás önkormányzati adatok alapján - avagy így dolgozna egy robot-oknyomozó riporter","(+)",null,{"$f":"A15","v":"miau307"},{"$f":"B15","v":"Anonim Hallgató"},":",{"$f":"M15","v":"Context-free gyanúgenerálás önkormányzati adatok alapján - avagy így dolgozna egy robot-oknyomozó riporter"},"  xx  ","https://miau.my-x.hu/miau/307/robot_gyanugeneralas.xlsx",null,{"$f":"C15","v":"Context-free gyanúgenerálás önkormányzati adatok alapján - avagy így dolgozna egy robot-oknyomozó riporter"}]
[null,"(KJE):","(Context-free suspicion-generation based on data of the local governments - or that is how a robot investigative reporter would work)"]
["miau307","Anonim Hallgató","Lehet-e minden év másként egyformán biztonságosnak tekinthető a bűnügyi statisztikák alapján?","(+)",null,{"$f":"A17","v":"miau307"},{"$f":"B17","v":"Anonim Hallgató"},":",{"$f":"M17","v":"Lehet-e minden év másként egyformán biztonságosnak tekinthető a bűnügyi statisztikák alapján?"},"  xx  ","https://miau.my-x.hu/miau/307/kozbiztonsag_index.xls",null,{"$f":"C17","v":"Lehet-e minden év másként egyformán biztonságosnak tekinthető a bűnügyi statisztikák alapján?"}]
[null,"(KJE):","(Might every year be considered equally safe based on crime statistics?)"]
["miau307","Anonim Hallgató","Latin nyelvű orvosi szakszavak létjogosultsága Google Trends és Google Adwords adatok alapján","(+)",null,{"$f":"A19","v":"miau307"},{"$f":"B19","v":"Anonim Hallgató"},":",{"$f":"M19","v":"Latin nyelvű orvosi szakszavak létjogosultsága Google Trends és Google Adwords adatok alapján"},"  xx  ","https://miau.my-x.hu/miau/307/magyar_vs_latin.xlsx",null,{"$f":"C19","v":"Latin nyelvű orvosi szakszavak létjogosultsága Google Trends és Google Adwords adatok alapján"}]
[null,"(KJE):","(Importance of medical terms in Latin based on Google Trends and Google Adwords data)"]
["miau307","Pitlik László","Álságos chatGPT-definíciók álságos emberi minták következtében","(+)",null,{"$f":"A21","v":"miau307"},{"$f":"B21","v":"Pitlik László"},":",{"$f":"M21","v":"Álságos chatGPT-definíciók álságos emberi minták következtében"},"  xx  ","https://miau.my-x.hu/miau/307/bing_mi_rol_tanulas_nelkul.docx",null,{"$f":"C21","v":"Álságos chatGPT-definíciók álságos emberi minták következtében"}]
[null,"(KJE):","(Two-faced definitions of chatGPT, based on two-faced human patterns)"]
["miau307","Anonim Hallgató, Pitlik László","A chatGPT, mint tárgyalás taktikákat támogató szimulátor","(+)",null,{"$f":"A23","v":"miau307"},{"$f":"B23","v":"Anonim Hallgató, Pitlik László"},":",{"$f":"M23","v":"A chatGPT, mint tárgyalás taktikákat támogató szimulátor"},"  xx  ","https://miau.my-x.hu/miau/307/chatGPT_negotiator_1.docx",null,{"$f":"C23","v":"A chatGPT, mint tárgyalás taktikákat támogató szimulátor"}]
[null,"(KJE):","(The chatGPT as Negotiator)"]
["miau307","Váradi Dániel","Az EU monitoring rendszerének mesterséges intelligencia alapokra helyezése","(+)",null,{"$f":"A25","v":"miau307"},{"$f":"B25","v":"Váradi Dániel"},":",{"$f":"M25","v":"Az EU monitoring rendszerének mesterséges intelligencia alapokra helyezése"},"  xx  ","https://miau.my-x.hu/miau/307/szakdolgozat_vd.pdf",null,{"$f":"C25","v":"Az EU monitoring rendszerének mesterséges intelligencia alapokra helyezése"}]
[null,"(KJE):","(AI-based monitoring system for the EU)"]
["miau307","Vancsura István","Mesterséges intelligencia alkalmazása a közösségi médiában","(+)",null,{"$f":"A27","v":"miau307"},{"$f":"B27","v":"Vancsura István"},":",{"$f":"M27","v":"Mesterséges intelligencia alkalmazása a közösségi médiában"},"  xx  ","https://miau.my-x.hu/miau/307/szakdolgozat_vi.pdf",null,{"$f":"C27","v":"Mesterséges intelligencia alkalmazása a közösségi médiában"}]
[null,"(KJE):","(The Social AI project)"]
["miau307","Bartók Patrik Róbert","Objektív döntésoptimalizálás mesterséges intelligencia bevonásával","(+)",null,{"$f":"A29","v":"miau307"},{"$f":"B29","v":"Bartók Patrik Róbert"},":",{"$f":"M29","v":"Objektív döntésoptimalizálás mesterséges intelligencia bevonásával"},"  xx  ","https://miau.my-x.hu/miau/307/szakdolgozat_bp.pdf",null,{"$f":"C29","v":"Objektív döntésoptimalizálás mesterséges intelligencia bevonásával"}]
[null,"(KJE):","(Objective decision optimization involving artificial intelligence)"]
["miau307","Molnár Csanád","Online Dietetikus Szakértő - Mesterséges Intelligencia segítségével","(+)",null,{"$f":"A31","v":"miau307"},{"$f":"B31","v":"Molnár Csanád"},":",{"$f":"M31","v":"Online Dietetikus Szakértő - Mesterséges Intelligencia segítségével"},"  xx  ","https://miau.my-x.hu/miau/307/odessai_mcs.pdf",null,{"$f":"C31","v":"Online Dietetikus Szakértő - Mesterséges Intelligencia segítségével"}]
[null,"(KJE):","(Online Dietetic Expert System with AI)"]
["miau307","Ódor Márk","Webfejlesztési folyamatok egy AI támogatott dietetikus alkalmazás számára","(+)",null,{"$f":"A33","v":"miau307"},{"$f":"B33","v":"Ódor Márk"},":",{"$f":"M33","v":"Webfejlesztési folyamatok egy AI támogatott dietetikus alkalmazás számára"},"  xx  ","https://miau.my-x.hu/miau/307/odessai_om.pdf",null,{"$f":"C33","v":"Webfejlesztési folyamatok egy AI támogatott dietetikus alkalmazás számára"}]
[null,"(KJE):","(Web development processes for an AI-supported dietetic application)"]
["miau308","István Vancsura","System modelling aspects of the Social-AI project - Part IV-V.","(+)",null,{"$f":"A35","v":"miau308"},{"$f":"B35","v":"István Vancsura"},":",{"$f":"M35","v":"System modelling aspects of the Social-AI project - Part IV-V."},"  xx  ","https://miau.my-x.hu/miau/308/System_Modelling_part_4-5.pptx",null,{"$f":"C35","v":"System modelling aspects of the Social-AI project - Part IV-V."}]
[null,"(KJE):"]
["miau308","István Vancsura","System modelling aspects of the Social-AI project - Part III.","(+)",null,{"$f":"A37","v":"miau308"},{"$f":"B37","v":"István Vancsura"},":",{"$f":"M37","v":"System modelling aspects of the Social-AI project - Part III."},"  xx  ","https://miau.my-x.hu/miau/308/System_Modelling_part_3.pptx",null,{"$f":"C37","v":"System modelling aspects of the Social-AI project - Part III."}]
[null,"(KJE):"]
["miau308","István Vancsura","System modelling aspects of the Social-AI project - Part II.","(+)",null,{"$f":"A39","v":"miau308"},{"$f":"B39","v":"István Vancsura"},":",{"$f":"M39","v":"System modelling aspects of the Social-AI project - Part II."},"  xx  ","https://miau.my-x.hu/miau/308/System_Modelling_GANTT.pptx",null,{"$f":"C39","v":"System modelling aspects of the Social-AI project - Part II."}]
[null,"(KJE):"]
["miau308","Pitlik László és Anonim Hallgatók","Az asztrológia és a mesterséges intelligencia kapcsolata","(+)",null,{"$f":"A41","v":"miau308"},{"$f":"B41","v":"Pitlik László és Anonim Hallgatók"},":",{"$f":"M41","v":"Az asztrológia és a mesterséges intelligencia kapcsolata"},"  xx  ","https://miau.my-x.hu/miau/308/Az_asztrologia_es_az emberi_kapcsolatok_v2.docx",null,{"$f":"C41","v":"Az asztrológia és a mesterséges intelligencia kapcsolata"}]
[null,"(KJE):","(AI-strology)"]
["miau308","Varga Norbert, Pitlik László, Szikra Andrea, Nagy Károly Zsolt, Németh Imre, Vancsura István, Rácz Mária","Politológiai haikuk, avagy a természetes és a mesterséges intelligencia ta\u0002lálkozása","(+)",null,{"$f":"A43","v":"miau308"},{"$f":"B43","v":"Varga Norbert, Pitlik László, Szikra Andrea, Nagy Károly Zsolt, Németh Imre, Vancsura István, Rácz Mária"},":",{"$f":"M43","v":"Politológiai haikuk, avagy a természetes és a mesterséges intelligencia ta\u0002lálkozása"},"  xx  ","https://miau.my-x.hu/miau/309/veszprem_konferencia_AI_haiku_tanulmany.pdf",null,{"$f":"C43","v":"Politológiai haikuk, avagy a természetes és a mesterséges intelligencia ta\u0002lálkozása"}]
[null,"(KJE):","(Political science haikus, or the meeting of natural and artificial intelligence)"]
["miau308","Váradi Dániel, Pitlik László","A homogenitás és az autonómia fogalmak kapcsolata egymással és a mesterséges intelligencia lehetőségeivel","(+)",null,{"$f":"A45","v":"miau308"},{"$f":"B45","v":"Váradi Dániel, Pitlik László"},":",{"$f":"M45","v":"A homogenitás és az autonómia fogalmak kapcsolata egymással és a mesterséges intelligencia lehetőségeivel"},"  xx  ","https://miau.my-x.hu/miau/308/homogenitas_autonomia_final.docx",null,{"$f":"C45","v":"A homogenitás és az autonómia fogalmak kapcsolata egymással és a mesterséges intelligencia lehetőségeivel"}]
[null,"(KJE):","(The relationship between the definitions of homogeneity and autonomy, and their connection with artificial intelligence)"]
["miau308","Dániel Váradi","FULL-TEXT: Business Process Management - Case study: Evaluation/monitoring projects based on EU-statistics","(+)",null,{"$f":"A47","v":"miau308"},{"$f":"B47","v":"Dániel Váradi"},":",{"$f":"M47","v":"FULL-TEXT: Business Process Management - Case study: Evaluation/monitoring projects based on EU-statistics"},"  xx  ","https://miau.my-x.hu/miau/308/bpm_eu.docx",null,{"$f":"C47","v":"FULL-TEXT: Business Process Management - Case study: Evaluation/monitoring projects based on EU-statistics"}]
[null,"(KJE):"]
["miau308","Dániel Váradi","PPT: Business Process Management - Case study: Evaluation/monitoring projects based on EU-statistics","(+)",null,{"$f":"A49","v":"miau308"},{"$f":"B49","v":"Dániel Váradi"},":",{"$f":"M49","v":"PPT: Business Process Management - Case study: Evaluation/monitoring projects based on EU-statistics"},"  xx  ","https://miau.my-x.hu/miau/308/bpm_eu.pptx",null,{"$f":"C49","v":"PPT: Business Process Management - Case study: Evaluation/monitoring projects based on EU-statistics"}]
[null,"(KJE):"]
["miau308","István Vancsura","System modelling aspects of the Social-AI project","(+)",null,{"$f":"A51","v":"miau308"},{"$f":"B51","v":"István Vancsura"},":",{"$f":"M51","v":"System modelling aspects of the Social-AI project"},"  xx  ","https://miau.my-x.hu/miau/308/modelling_socialai.pptx",null,{"$f":"C51","v":"System modelling aspects of the Social-AI project"}]
[null,"(KJE):"]
["miau308","Szauder Veronika","ÚJGENERÁCIÓS MÓDSZEREK A MATEMATIKA OKTATÁSBAN - MI","(+)",null,{"$f":"A53","v":"miau308"},{"$f":"B53","v":"Szauder Veronika"},":",{"$f":"M53","v":"ÚJGENERÁCIÓS MÓDSZEREK A MATEMATIKA OKTATÁSBAN - MI"},"  xx  ","https://miau.my-x.hu/miau/308/matematika_MI.docx",null,{"$f":"C53","v":"ÚJGENERÁCIÓS MÓDSZEREK A MATEMATIKA OKTATÁSBAN - MI"}]
[null,"(KJE):","(New methods in the education of mathematics - an AI-based approach)"]
["miau308","Dániel Váradi, László Pitlik, Marcell Pitlik, László Pitlik (Jr.), Mátyás Pitlik","MP4: ABOUT A NEW, HYBRIDIZED TIME-SERIES ANALYSIS METHOD BASED ON SIMILARITY ANALYSES AND MULTIDIMENSIONAL TIME-LAYERING TECHNIQUES","(+)",null,{"$f":"A55","v":"miau308"},{"$f":"B55","v":"Dániel Váradi, László Pitlik, Marcell Pitlik, László Pitlik (Jr.), Mátyás Pitlik"},":",{"$f":"M55","v":"MP4: ABOUT A NEW, HYBRIDIZED TIME-SERIES ANALYSIS METHOD BASED ON SIMILARITY ANALYSES AND MULTIDIMENSIONAL TIME-LAYERING TECHNIQUES"},"  xx  ","https://miau.my-x.hu/miau/308/mudita.mp4",null,{"$f":"C55","v":"MP4: ABOUT A NEW, HYBRIDIZED TIME-SERIES ANALYSIS METHOD BASED ON SIMILARITY ANALYSES AND MULTIDIMENSIONAL TIME-LAYERING TECHNIQUES"}]
[null,"(KJE/MY-X team):"]
["miau308","Dániel Váradi, László Pitlik, Marcell Pitlik, László Pitlik (Jr.), Mátyás Pitlik","PPT: ABOUT A NEW, HYBRIDIZED TIME-SERIES ANALYSIS METHOD BASED ON SIMILARITY ANALYSES AND MULTIDIMENSIONAL TIME-LAYERING TECHNIQUES","(+)",null,{"$f":"A57","v":"miau308"},{"$f":"B57","v":"Dániel Váradi, László Pitlik, Marcell Pitlik, László Pitlik (Jr.), Mátyás Pitlik"},":",{"$f":"M57","v":"PPT: ABOUT A NEW, HYBRIDIZED TIME-SERIES ANALYSIS METHOD BASED ON SIMILARITY ANALYSES AND MULTIDIMENSIONAL TIME-LAYERING TECHNIQUES"},"  xx  ","https://miau.my-x.hu/miau/308/Introducing_MUDITA.pptx",null,{"$f":"C57","v":"PPT: ABOUT A NEW, HYBRIDIZED TIME-SERIES ANALYSIS METHOD BASED ON SIMILARITY ANALYSES AND MULTIDIMENSIONAL TIME-LAYERING TECHNIQUES"}]
[null,"(KJE/MY-X team):"]
["miau308","Dániel Váradi, László Pitlik, Marcell Pitlik, László Pitlik (Jr.), Mátyás Pitlik","ABS: ABOUT A NEW, HYBRIDIZED TIME-SERIES ANALYSIS METHOD BASED ON SIMILARITY ANALYSES AND MULTIDIMENSIONAL TIME-LAYERING TECHNIQUES","(+)",null,{"$f":"A59","v":"miau308"},{"$f":"B59","v":"Dániel Váradi, László Pitlik, Marcell Pitlik, László Pitlik (Jr.), Mátyás Pitlik"},":",{"$f":"M59","v":"ABS: ABOUT A NEW, HYBRIDIZED TIME-SERIES ANALYSIS METHOD BASED ON SIMILARITY ANALYSES AND MULTIDIMENSIONAL TIME-LAYERING TECHNIQUES"},"  xx  ","https://miau.my-x.hu/miau/308/abs_new_time_series_analysis_method_mudita.docx",null,{"$f":"C59","v":"ABS: ABOUT A NEW, HYBRIDIZED TIME-SERIES ANALYSIS METHOD BASED ON SIMILARITY ANALYSES AND MULTIDIMENSIONAL TIME-LAYERING TECHNIQUES"}]
[null,"(KJE/MY-X team):"]
["miau308","Dániel Váradi, László Pitlik, Marcell Pitlik, László Pitlik (Jr.), Mátyás Pitlik","FULL-TEXT: ABOUT A NEW, HYBRIDIZED TIME-SERIES ANALYSIS METHOD BASED ON SIMILARITY ANALYSES AND MULTIDIMENSIONAL TIME-LAYERING TECHNIQUES","(+)",null,{"$f":"A61","v":"miau308"},{"$f":"B61","v":"Dániel Váradi, László Pitlik, Marcell Pitlik, László Pitlik (Jr.), Mátyás Pitlik"},":",{"$f":"M61","v":"FULL-TEXT: ABOUT A NEW, HYBRIDIZED TIME-SERIES ANALYSIS METHOD BASED ON SIMILARITY ANALYSES AND MULTIDIMENSIONAL TIME-LAYERING TECHNIQUES"},"  xx  ","https://miau.my-x.hu/miau/308/full_new_time_series_analysis_method_mudita.docx",null,{"$f":"C61","v":"FULL-TEXT: ABOUT A NEW, HYBRIDIZED TIME-SERIES ANALYSIS METHOD BASED ON SIMILARITY ANALYSES AND MULTIDIMENSIONAL TIME-LAYERING TECHNIQUES"}]
[null,"(KJE/MY-X team):"]
["miau309","László Pitlik","Solver-miracles?! - instead of classic solutions","(+)",null,{"$f":"A63","v":"miau309"},{"$f":"B63","v":"László Pitlik"},":",{"$f":"M63","v":"Solver-miracles?! - instead of classic solutions"},"  xx  ","https://miau.my-x.hu/miau/309/x2-x3-12.xlsx",null,{"$f":"C63","v":"Solver-miracles?! - instead of classic solutions"}]
[null,"(KJE):"]
["miau309","Pitlik László","Melyik fájl éri meg lementeni leginkább a többi állományhoz képest?","(+)",null,{"$f":"A65","v":"miau309"},{"$f":"B65","v":"Pitlik László"},":",{"$f":"M65","v":"Melyik fájl éri meg lementeni leginkább a többi állományhoz képest?"},"  xx  ","https://miau.my-x.hu/miau/309/which_files_worth_downloading.xlsx",null,{"$f":"C65","v":"Melyik fájl éri meg lementeni leginkább a többi állományhoz képest?"}]
[null,"(KJE):","(Which files are worth downloading/(re-)storing?)"]
["miau309","Váradi Dániel","Az EU-homogenitás és a piaci stratégiák kapcsolata","(+)",null,{"$f":"A67","v":"miau309"},{"$f":"B67","v":"Váradi Dániel"},":",{"$f":"M67","v":"Az EU-homogenitás és a piaci stratégiák kapcsolata"},"  xx  ","https://miau.my-x.hu/miau/309/homogenitas_es_piac.pptx",null,{"$f":"C67","v":"Az EU-homogenitás és a piaci stratégiák kapcsolata"}]
[null,"(KJE):","(Connections between the homogeneity of the EU and market strategies)"]
["miau309","Váradi Dániel","A MOL átfogó mérlegelemzése MI segítségével","(+)",null,{"$f":"A69","v":"miau309"},{"$f":"B69","v":"Váradi Dániel"},":",{"$f":"M69","v":"A MOL átfogó mérlegelemzése MI segítségével"},"  xx  ","https://miau.my-x.hu/miau/309/mol.pptx",null,{"$f":"C69","v":"A MOL átfogó mérlegelemzése MI segítségével"}]
[null,"(KJE):","(Analyses of financial data in case of MOL based on AI solutions)"]
["miau309","Vancsura István","Application of Artificial Intelligence in Social Media - Social AI - Part 2 – Implementation","(+)",null,{"$f":"A71","v":"miau309"},{"$f":"B71","v":"Vancsura István"},":",{"$f":"M71","v":"Application of Artificial Intelligence in Social Media - Social AI - Part 2 – Implementation"},"  xx  ","https://miau.my-x.hu/miau/309/Social_AI_Part_2.pdf",null,{"$f":"C71","v":"Application of Artificial Intelligence in Social Media - Social AI - Part 2 – Implementation"}]
[null,"(KJE):"]
["miau309","Pitlik László","MP3: MI, avagy tévhitek és benchmarkok? - Miért érdemes új korszakhatárként tekinteni?","(+)",null,{"$f":"A73","v":"miau309"},{"$f":"B73","v":"Pitlik László"},":",{"$f":"M73","v":"MP3: MI, avagy tévhitek és benchmarkok? - Miért érdemes új korszakhatárként tekinteni?"},"  xx  ","https://miau.my-x.hu/miau/309/20240425_bekescsaba.mp4",null,{"$f":"C73","v":"MP3: MI, avagy tévhitek és benchmarkok? - Miért érdemes új korszakhatárként tekinteni?"}]
[null,"(KJE):","(AI or misconceptions and benchmarks? - Why should the mass appearance of AI be seen as a new epoch?)"]
["miau309","Kiss László","Országgyűlési felszólalások elemzése külpolitikai viszonylatban","(+)",null,{"$f":"A75","v":"miau309"},{"$f":"B75","v":"Kiss László"},":",{"$f":"M75","v":"Országgyűlési felszólalások elemzése külpolitikai viszonylatban"},"  xx  ","https://miau.my-x.hu/miau/309/parlamenti_hozzaszolasok/Kiss L Parlament ciklusok_kulpolitika.docx",null,{"$f":"C75","v":"Országgyűlési felszólalások elemzése külpolitikai viszonylatban"}]
[null,"(KJE):","(Analysis of parliamentary speeches in relation to foreign policy)"]
["miau309","Pitlik Dóra, Tóth Rita","PPT: NAPELEMEK TELJESÍTMÉNY-VISZONYAINAK VIZSGÁLATA","(+)",null,{"$f":"A77","v":"miau309"},{"$f":"B77","v":"Pitlik Dóra, Tóth Rita"},":",{"$f":"M77","v":"PPT: NAPELEMEK TELJESÍTMÉNY-VISZONYAINAK VIZSGÁLATA"},"  xx  ","https://miau.my-x.hu/miau/309/pd_tdk/Pitlik_Dora-Toth_Rita_36OTDK.pptx",null,{"$f":"C77","v":"PPT: NAPELEMEK TELJESÍTMÉNY-VISZONYAINAK VIZSGÁLATA"}]
[null,"(Premontrei Iskolaközpont):","(Examination of performance relations of solar panels)"]
["miau309","Pitlik Dóra, Tóth Rita","ABS: NAPELEMEK TELJESÍTMÉNY-VISZONYAINAK VIZSGÁLATA","(+)",null,{"$f":"A79","v":"miau309"},{"$f":"B79","v":"Pitlik Dóra, Tóth Rita"},":",{"$f":"M79","v":"ABS: NAPELEMEK TELJESÍTMÉNY-VISZONYAINAK VIZSGÁLATA"},"  xx  ","https://miau.my-x.hu/miau/309/pd_tdk/ITDK_resume.docx",null,{"$f":"C79","v":"ABS: NAPELEMEK TELJESÍTMÉNY-VISZONYAINAK VIZSGÁLATA"}]
[null,"(Premontrei Iskolaközpont):","(Examination of performance relations of solar panels)"]
["miau309","Pitlik Dóra, Tóth Rita","FULL-TEXT: NAPELEMEK TELJESÍTMÉNY-VISZONYAINAK VIZSGÁLATA","(+)",null,{"$f":"A81","v":"miau309"},{"$f":"B81","v":"Pitlik Dóra, Tóth Rita"},":",{"$f":"M81","v":"FULL-TEXT: NAPELEMEK TELJESÍTMÉNY-VISZONYAINAK VIZSGÁLATA"},"  xx  ","https://miau.my-x.hu/miau/309/pd_tdk/OTDK-2023-Pitlik-Toth.pdf",null,{"$f":"C81","v":"FULL-TEXT: NAPELEMEK TELJESÍTMÉNY-VISZONYAINAK VIZSGÁLATA"}]
[null,"(Premontrei Iskolaközpont):","(Examination of performance relations of solar panels)"]
["miau309","Pitlik Dóra","PPT: Stratégiai tanácsadás a távmunka népszerűsítésének szükségszerűségéről (Google Trends társadalomlélektani adatai alapján)","(+)",null,{"$f":"A83","v":"miau309"},{"$f":"B83","v":"Pitlik Dóra"},":",{"$f":"M83","v":"PPT: Stratégiai tanácsadás a távmunka népszerűsítésének szükségszerűségéről (Google Trends társadalomlélektani adatai alapján)"},"  xx  ","https://miau.my-x.hu/miau/309/GD/5gk7rm5.pptx",null,{"$f":"C83","v":"PPT: Stratégiai tanácsadás a távmunka népszerűsítésének szükségszerűségéről (Google Trends társadalomlélektani adatai alapján)"}]
[null,"(MY-X team):","Strategic consulting regarding the necessity of promoting remote working (based on Google Trends socio-psychological data)"]
["miau309","Pitlik Dóra","Stratégiai tanácsadás a távmunka népszerűsítésének szükségszerűségéről (Google Trends társadalomlélektani adatai alapján)","(+)",null,{"$f":"A85","v":"miau309"},{"$f":"B85","v":"Pitlik Dóra"},":",{"$f":"M85","v":"Stratégiai tanácsadás a távmunka népszerűsítésének szükségszerűségéről (Google Trends társadalomlélektani adatai alapján)"},"  xx  ","https://miau.my-x.hu/miau/309/GD/5gk7rm5.docx",null,{"$f":"C85","v":"Stratégiai tanácsadás a távmunka népszerűsítésének szükségszerűségéről (Google Trends társadalomlélektani adatai alapján)"}]
[null,"(MY-X team):","Strategic consulting regarding the necessity of promoting remote working (based on Google Trends socio-psychological data)"]
["miau310","Dániel Váradi, László Pitlik (Jr.), Mátyás Pitlik, László Pitlik","Homogeneity analysis for sustainable regions – case study: Mezőföld","(+)",null,{"$f":"A87","v":"miau310"},{"$f":"B87","v":"Dániel Váradi, László Pitlik (Jr.), Mátyás Pitlik, László Pitlik"},":",{"$f":"M87","v":"Homogeneity analysis for sustainable regions – case study: Mezőföld"},"  xx  ","https://miau.my-x.hu/miau/311/mezofold/full_region_team_sustainability_analyses.pdf",null,{"$f":"C87","v":"Homogeneity analysis for sustainable regions – case study: Mezőföld"}]
[null,"(MY-X team):"]
["miau310","Anonim Hallgatók","SUDOKU megoldások Solver-rel","(+)",null,{"$f":"A89","v":"miau310"},{"$f":"B89","v":"Anonim Hallgatók"},":",{"$f":"M89","v":"SUDOKU megoldások Solver-rel"},"  xx  ","https://miau.my-x.hu/miau/310/sudoku/",null,{"$f":"C89","v":"SUDOKU megoldások Solver-rel"}]
[null,"(MY-X team):","(Solver-based SUDOKU-solutions)"]
["miau310","Angyal János, Pitlik László","COCO-STEP-IX gyorsított és teljes eljárások összevetése és ezek hatásai a részeredményekre, ill. a végeredményre","(+)",null,{"$f":"A91","v":"miau310"},{"$f":"B91","v":"Angyal János, Pitlik László"},":",{"$f":"M91","v":"COCO-STEP-IX gyorsított és teljes eljárások összevetése és ezek hatásai a részeredményekre, ill. a végeredményre"},"  xx  ","https://miau.my-x.hu/miau/310/szerver_ar_telj_stepix_gyorsitott_teljes21.xlsx",null,{"$f":"C91","v":"COCO-STEP-IX gyorsított és teljes eljárások összevetése és ezek hatásai a részeredményekre, ill. a végeredményre"}]
[null,"(MY-X team):","(Compering fast and complex COCO-STEP-IX-runs and their impacts concerning the partial and the final conclusions)"]
["miau310","Csaba Sebők","ChatGPT & Barkochba (20-question-games)","(+)",null,{"$f":"A93","v":"miau310"},{"$f":"B93","v":"Csaba Sebők"},":",{"$f":"M93","v":"ChatGPT & Barkochba (20-question-games)"},"  xx  ","https://miau.my-x.hu/miau/310/ChatGPT_Can_you_guess_my_words.docx",null,{"$f":"C93","v":"ChatGPT & Barkochba (20-question-games)"}]
[null,"(MY-X team):"]
["miau310","Pitlik László","INDIREKT()-Excel-függvényre alapozott programozás az adatvagyon-minőségbiztosítás példája kapcsán","(+)",null,{"$f":"A95","v":"miau310"},{"$f":"B95","v":"Pitlik László"},":",{"$f":"M95","v":"INDIREKT()-Excel-függvényre alapozott programozás az adatvagyon-minőségbiztosítás példája kapcsán"},"  xx  ","https://miau.my-x.hu/miau/310/OAM_99_60_1kor.xlsx",null,{"$f":"C95","v":"INDIREKT()-Excel-függvényre alapozott programozás az adatvagyon-minőségbiztosítás példája kapcsán"}]
[null,"(MY-X team):","(INDIRECT()-Excel-function-oriented prgramming in case of the quality assurance for data assets)"]
["miau310","Pitlik László","Attribútum-arányok és az inverzió-alapú validálás","(+)",null,{"$f":"A97","v":"miau310"},{"$f":"B97","v":"Pitlik László"},":",{"$f":"M97","v":"Attribútum-arányok és az inverzió-alapú validálás"},"  xx  ","https://miau.my-x.hu/miau/310/arany_inverz.xlsx",null,{"$f":"C97","v":"Attribútum-arányok és az inverzió-alapú validálás"}]
[null,"(MY-X team):","(Inversion-based model-validation in case of ratios of the raw attributes)"]
["miau310","Anonim Hallgató","Creating texts for English lessons - chatGPT-experiments","(+)",null,{"$f":"A99","v":"miau310"},{"$f":"B99","v":"Anonim Hallgató"},":",{"$f":"M99","v":"Creating texts for English lessons - chatGPT-experiments"},"  xx  ","https://miau.my-x.hu/miau/310/chatGPT_problems_with_English_Lesson_materials.docx",null,{"$f":"C99","v":"Creating texts for English lessons - chatGPT-experiments"}]
[null,"(KJE):"]
["miau310","Lengyel Kíra Anna, Gulyás Léna, Simon Damarisz, Pitlik László","AI a filmes szakmában","(+)",null,{"$f":"A101","v":"miau310"},{"$f":"B101","v":"Lengyel Kíra Anna, Gulyás Léna, Simon Damarisz, Pitlik László"},":",{"$f":"M101","v":"AI a filmes szakmában"},"  xx  ","https://miau.my-x.hu/miau/310/AI_a_filmes_szakmaban.doc",null,{"$f":"C101","v":"AI a filmes szakmában"}]
[null,"(KJE):","(The AI & the movie)"]
["miau310","Ökrös Adrienn","Digitalizáció és RPA egy logisztikai irodában","(+)",null,{"$f":"A103","v":"miau310"},{"$f":"B103","v":"Ökrös Adrienn"},":",{"$f":"M103","v":"Digitalizáció és RPA egy logisztikai irodában"},"  xx  ","https://miau.my-x.hu/miau/310/rpa_casestudy_hu.docx",null,{"$f":"C103","v":"Digitalizáció és RPA egy logisztikai irodában"}]
[null,"(KJE):","(Digitalization and RPA in a logistic project)"]
["miau310","Megyes István","Elektroenkefalográfia jelek feldolgozása gépi tanulással","(+)",null,{"$f":"A105","v":"miau310"},{"$f":"B105","v":"Megyes István"},":",{"$f":"M105","v":"Elektroenkefalográfia jelek feldolgozása gépi tanulással"},"  xx  ","https://miau.my-x.hu/miau/310/L38TRN_Megyes_Nemes_SZAKDOLGOZAT.pdf",null,{"$f":"C105","v":"Elektroenkefalográfia jelek feldolgozása gépi tanulással"}]
[null,"(ÓE):","(EEG-data-processing based on machine learning approaches)"]
["miau310","Anonim Hallgató","Létezhető ChatGPT-aktivitás rendszer általi megtagadása, s kérlelésre való végrehajtása (Begging-modus in chatGPT in case of hidden system-competencies)","(+)",null,{"$f":"A107","v":"miau310"},{"$f":"B107","v":"Anonim Hallgató"},":",{"$f":"M107","v":"Létezhető ChatGPT-aktivitás rendszer általi megtagadása, s kérlelésre való végrehajtása (Begging-modus in chatGPT in case of hidden system-competencies)"},"  xx  ","https://miau.my-x.hu/miau/310/chatGPT_parancs_helyett_kerlelesre.jpg",null,{"$f":"C107","v":"Létezhető ChatGPT-aktivitás rendszer általi megtagadása, s kérlelésre való végrehajtása (Begging-modus in chatGPT in case of hidden system-competencies)"}]
[null,"(MY-X team):"]
["miau310","Loboda Bence, Pitlik László","Szubjektív és objektív érveléskultúra, avagy elvek és példák","(+)",null,{"$f":"A109","v":"miau310"},{"$f":"B109","v":"Loboda Bence, Pitlik László"},":",{"$f":"M109","v":"Szubjektív és objektív érveléskultúra, avagy elvek és példák"},"  xx  ","https://miau.my-x.hu/miau/310/szubjektivitas_vs_objektivitas_ember_chatGPT_OAM.docx",null,{"$f":"C109","v":"Szubjektív és objektív érveléskultúra, avagy elvek és példák"}]
[null,"(MY-X team):","(Subjective and objective discussion culture – principles and examples)"]
["miau310","Anonim Hallgató","Létezhető ChatGPT-aktivitás rendszer általi megtagadása, s parancsra való végrehajtása","(+)",null,{"$f":"A111","v":"miau310"},{"$f":"B111","v":"Anonim Hallgató"},":",{"$f":"M111","v":"Létezhető ChatGPT-aktivitás rendszer általi megtagadása, s parancsra való végrehajtása"},"  xx  ","https://miau.my-x.hu/miau/310/chatGPT_parancsra.docx",null,{"$f":"C111","v":"Létezhető ChatGPT-aktivitás rendszer általi megtagadása, s parancsra való végrehajtása"}]
[null,"(KJE):","(Command-modus in chatGPT in case of hidden system-competencies)"]
["miau310","László Pitlik","Solo and doubled anti-discriminative (Y0) similarity analyses and their relationships","(+)",null,{"$f":"A113","v":"miau310"},{"$f":"B113","v":"László Pitlik"},":",{"$f":"M113","v":"Solo and doubled anti-discriminative (Y0) similarity analyses and their relationships"},"  xx  ","https://miau.my-x.hu/miau/310/y0_doubled.xlsx",null,{"$f":"C113","v":"Solo and doubled anti-discriminative (Y0) similarity analyses and their relationships"}]
[null,"(MY-X team):"]
["miau311",null,null,null,null,{"$f":"A115","v":"miau311"},{"$f":"B115","v":0},":",{"$f":"M115","v":0},"  xx  ",null,null,{"$f":"C115","v":0}]
[]
["miau311",null,null,null,null,{"$f":"A117","v":"miau311"},{"$f":"B117","v":0},":",{"$f":"M117","v":0},"  xx  ",null,null,{"$f":"C117","v":0}]
[]
["miau311",null,null,null,null,{"$f":"A119","v":"miau311"},{"$f":"B119","v":0},":",{"$f":"M119","v":0},"  xx  ",null,null,{"$f":"C119","v":0}]
[]
["miau311",null,null,null,null,{"$f":"A121","v":"miau311"},{"$f":"B121","v":0},":",{"$f":"M121","v":0},"  xx  ",null,null,{"$f":"C121","v":0}]
[]
["miau311",null,null,null,null,{"$f":"A123","v":"miau311"},{"$f":"B123","v":0},":",{"$f":"M123","v":0},"  xx  ",null,null,{"$f":"C123","v":0}]
[]
["miau311",null,null,null,null,{"$f":"A125","v":"miau311"},{"$f":"B125","v":0},":",{"$f":"M125","v":0},"  xx  ",null,null,{"$f":"C125","v":0}]
[]
["miau311",null,null,null,null,{"$f":"A127","v":"miau311"},{"$f":"B127","v":0},":",{"$f":"M127","v":0},"  xx  ",null,null,{"$f":"C127","v":0}]
[]
["miau311",null,null,null,null,{"$f":"A129","v":"miau311"},{"$f":"B129","v":0},":",{"$f":"M129","v":0},"  xx  ",null,null,{"$f":"C129","v":0}]
[]
["miau311",null,null,null,null,{"$f":"A131","v":"miau311"},{"$f":"B131","v":0},":",{"$f":"M131","v":0},"  xx  ",null,null,{"$f":"C131","v":0}]
[]
["miau311",null,null,null,null,{"$f":"A133","v":"miau311"},{"$f":"B133","v":0},":",{"$f":"M133","v":0},"  xx  ",null,null,{"$f":"C133","v":0}]
[]
["miau311",null,null,null,null,{"$f":"A135","v":"miau311"},{"$f":"B135","v":0},":",{"$f":"M135","v":0},"  xx  ",null,null,{"$f":"C135","v":0}]
[]
["miau311",null,null,null,null,{"$f":"A137","v":"miau311"},{"$f":"B137","v":0},":",{"$f":"M137","v":0},"  xx  ",null,null,{"$f":"C137","v":0}]
[]
["miau311",null,null,null,null,{"$f":"A139","v":"miau311"},{"$f":"B139","v":0},":",{"$f":"M139","v":0},"  xx  ",null,null,{"$f":"C139","v":0}]
[]
["miau311",null,null,null,null,{"$f":"A141","v":"miau311"},{"$f":"B141","v":0},":",{"$f":"M141","v":0},"  xx  ",null,null,{"$f":"C141","v":0}]
[]
["miau311",null,null,null,null,{"$f":"A143","v":"miau311"},{"$f":"B143","v":0},":",{"$f":"M143","v":0},"  xx  ",null,null,{"$f":"C143","v":0}]
[]
["miau311",null,null,null,null,{"$f":"A145","v":"miau311"},{"$f":"B145","v":0},":",{"$f":"M145","v":0},"  xx  ",null,null,0]
[]
["miau311",null,null,null,null,{"$f":"A147","v":"miau311"},{"$f":"B147","v":0},":",{"$f":"M147","v":0},"  xx  ",null,null,0]
[]
["miau311",null,null,null,null,{"$f":"A149","v":"miau311"},{"$f":"B149","v":0},":",{"$f":"M149","v":0},"  xx  ",null,null,{"$f":"C149","v":0}]
[]
["miau311",null,null,null,null,{"$f":"A151","v":"miau311"},{"$f":"B151","v":0},":",{"$f":"M151","v":0},"  xx  ",null,null,{"$f":"C151","v":0}]
[]
["miau311",null,null,null,null,{"$f":"A153","v":"miau311"},{"$f":"B153","v":0},":",{"$f":"M153","v":0},"  xx  ",null,null,0]
[]
["miau311",null,null,null,null,{"$f":"A155","v":"miau311"},{"$f":"B155","v":0},":",{"$f":"M155","v":0},"  xx  ",null,null,0]
[]
["miau311",null,null,null,null,{"$f":"A157","v":"miau311"},{"$f":"B157","v":0},":",{"$f":"M157","v":0},"  xx  ",null,null,0]
[]
["miau311",null,null,null,null,{"$f":"A159","v":"miau311"},{"$f":"B159","v":0},":",{"$f":"M159","v":0},"  xx  ",null,null,0]
[]
["miau311",null,null,null,null,{"$f":"A161","v":"miau311"},{"$f":"B161","v":0},":",{"$f":"M161","v":0},"  xx  ",null,null,0]
[]
["miau311",null,null,null,null,{"$f":"A163","v":"miau311"},{"$f":"B163","v":0},":",{"$f":"M163","v":0},"  xx  ",null,null,0]
[]
["miau311",null,null,null,null,{"$f":"A165","v":"miau311"},{"$f":"B165","v":0},":",{"$f":"M165","v":0},"  xx  ",null,null,0]
[]
["miau311",null,null,null,null,{"$f":"A167","v":"miau311"},{"$f":"B167","v":0},":",{"$f":"M167","v":0},"  xx  ",null,null,0]
[]
["miau311",null,null,null,null,{"$f":"A169","v":"miau311"},{"$f":"B169","v":0},":",{"$f":"M169","v":0},"  xx  ",null,null,0]
[]
["miau311",null,null,null,null,{"$f":"A171","v":"miau311"},{"$f":"B171","v":0},":",{"$f":"M171","v":0},"  xx  ",null,null,0]
[]
["miau311",null,null,null,null,{"$f":"A173","v":"miau311"},{"$f":"B173","v":0},":",{"$f":"M173","v":0},"  xx  ",null,null,0]
[]
["miau311",null,null,null,null,{"$f":"A175","v":"miau311"},{"$f":"B175","v":0},":",{"$f":"M175","v":0},"  xx  ",null,null,0]
[]
["miau311",null,null,null,null,{"$f":"A177","v":"miau311"},{"$f":"B177","v":0},":",{"$f":"M177","v":0},"  xx  ",null,null,0]
[]
["miau311",null,null,null,null,{"$f":"A179","v":"miau311"},{"$f":"B179","v":0},":",{"$f":"M179","v":0},"  xx  ",null,null,0]
[]
["miau311",null,null,null,null,{"$f":"A181","v":"miau311"},{"$f":"B181","v":0},":",{"$f":"M181","v":0},"  xx  ",null,null,0]
[]
["miau311",null,null,null,null,{"$f":"A183","v":"miau311"},{"$f":"B183","v":0},":",{"$f":"M183","v":0},"  xx  ",null,null,0]
[]
["miau311",null,null,null,null,{"$f":"A185","v":"miau311"},{"$f":"B185","v":0},":",{"$f":"M185","v":0},"  xx  ",null,null,0]
[]
["miau311",null,null,null,null,{"$f":"A187","v":"miau311"},{"$f":"B187","v":0},":",{"$f":"M187","v":0},"  xx  ",null,null,0]
[]
["miau311",null,null,null,null,{"$f":"A189","v":"miau311"},{"$f":"B189","v":0},":",{"$f":"M189","v":0},"  xx  ",null,null,0]
[]
["miau311",null,null,null,null,{"$f":"A191","v":"miau311"},{"$f":"B191","v":0},":",{"$f":"M191","v":0},"  xx  ",null,null,0]
[]
["miau311",null,null,null,null,{"$f":"A193","v":"miau311"},{"$f":"B193","v":0},":",{"$f":"M193","v":0},"  xx  ",null,null,0]
[]
["miau311",null,null,null,null,{"$f":"A195","v":"miau311"},{"$f":"B195","v":0},":",{"$f":"M195","v":0},"  xx  ",null,null,0]
[]
["miau311",null,null,null,null,{"$f":"A197","v":"miau311"},{"$f":"B197","v":0},":",{"$f":"M197","v":0},"  xx  ",null,null,0]
[]
["miau311",null,null,null,null,{"$f":"A199","v":"miau311"},{"$f":"B199","v":0},":",{"$f":"M199","v":0},"  xx  ",null,null,0]
[]
["miau311",null,null,null,null,{"$f":"A201","v":"miau311"},{"$f":"B201","v":0},":",{"$f":"M201","v":0},"  xx  ",null,null,0]
[]
["miau311",null,null,null,null,{"$f":"A203","v":"miau311"},{"$f":"B203","v":0},":",{"$f":"M203","v":0},"  xx  ",null,null,0]
[]
["miau311",null,null,null,null,{"$f":"A205","v":"miau311"},{"$f":"B205","v":0},":",{"$f":"M205","v":0},"  xx  ",null,null,0]
[]
["miau311",null,null,null,null,{"$f":"A207","v":"miau311"},{"$f":"B207","v":0},":",{"$f":"M207","v":0},"  xx  ",null,null,0]
[]
["miau311",null,null,null,null,{"$f":"A209","v":"miau311"},{"$f":"B209","v":0},":",{"$f":"M209","v":0},"  xx  ",null,null,0]
[]
["miau311",null,null,null,null,{"$f":"A211","v":"miau311"},{"$f":"B211","v":0},":",{"$f":"M211","v":0},"  xx  ",null,null,0]
[]
["miau311",null,null,null,null,{"$f":"A213","v":"miau311"},{"$f":"B213","v":0},":",{"$f":"M213","v":0},"  xx  ",null,null,0]
[]
["miau311",null,null,null,null,{"$f":"A215","v":"miau311"},{"$f":"B215","v":0},":",{"$f":"M215","v":0},"  xx  ",null,null,{"$f":"C215","v":0}]
[]
["miau311",null,null,null,null,{"$f":"A217","v":"miau311"},{"$f":"B217","v":0},":",{"$f":"M217","v":0},"  xx  ",null,null,0]
[]
["miau311",null,null,null,null,{"$f":"A219","v":"miau311"},{"$f":"B219","v":0},":",{"$f":"M219","v":0},"  xx  ",null,null,0]

{"sheet":"matarka (311-)","index":19,"n_rows":63,"n_cols":2,"rows_kept":63,"cut":false,"hidden":false,"merged":[]}
[" ","***"]
["Magyar Internetes Agrárinformatikai Újság (MIAÚ),2024,27,307"]
[{"$f":"nyers!A1","v":"miau307"},{"$f":"nyers!G1&nyers!H1&nyers!I1&nyers!J1&nyers!K1","v":"Anonim Hallgató, Pitlik László:Selejtezés szubjektív szabályok mentén és optimalizált, automatizált szabály-felismerés alapján  xx  https://miau.my-x.hu/miau/307/selejtezes/"}]
[{"$f":"nyers!A3","v":"miau307"},{"$f":"nyers!G3&nyers!H3&nyers!I3&nyers!J3&nyers!K3","v":"Pitlik László:A COCO STEP-IX módszer szükségszerűségének felismerése és lépéseinek mibenléte - 2  xx  https://miau.my-x.hu/miau/307/stepix_okostelefon/"}]
[{"$f":"nyers!A5","v":"miau307"},{"$f":"nyers!G5&nyers!H5&nyers!I5&nyers!J5&nyers!K5","v":"Pitlik László:A COCO STEP-IX módszer szükségszerűségének felismerése és lépéseinek mibenléte  xx  https://miau.my-x.hu/miau/307/stepix_monitor/"}]
[{"$f":"nyers!A7","v":"miau307"},{"$f":"nyers!G7&nyers!H7&nyers!I7&nyers!J7&nyers!K7","v":"Pitlik László:Tesztállomány hermeneutikai szélsőségek alátámasztására  xx  https://miau.my-x.hu/miau/307/ksh/"}]
[{"$f":"nyers!A9","v":"miau307"},{"$f":"nyers!G9&nyers!H9&nyers!I9&nyers!J9&nyers!K9","v":"Anonim Hallgató, Pitlik László:Baromfihús-fogyás előrejelzése lineáris regresszióval, chatGPT-vel és MI-alapon  xx  https://miau.my-x.hu/miau/307/ido_poultry/"}]
[{"$f":"nyers!A11","v":"miau307"},{"$f":"nyers!G11&nyers!H11&nyers!I11&nyers!J11&nyers!K11","v":"Anonim Hallgató, Pitlik László:Személyes tapasztalatom az életmódváltással - avagy edzésprogramok sikerességének MI-alapú monitorozása  xx  https://miau.my-x.hu/miau/307/eletforma/"}]
[{"$f":"nyers!A13","v":"miau307"},{"$f":"nyers!G13&nyers!H13&nyers!I13&nyers!J13&nyers!K13","v":"Pitlik László:Kölcsönhatások modellezése hasonlóságelemzésekkel  xx  https://miau.my-x.hu/miau/307/nyers-erok_vs_kolcsonhatasok_additiv_multiplikativ.xlsx"}]
[{"$f":"nyers!A15","v":"miau307"},{"$f":"nyers!G15&nyers!H15&nyers!I15&nyers!J15&nyers!K15","v":"Anonim Hallgató:Context-free gyanúgenerálás önkormányzati adatok alapján - avagy így dolgozna egy robot-oknyomozó riporter  xx  https://miau.my-x.hu/miau/307/robot_gyanugeneralas.xlsx"}]
[{"$f":"nyers!A17","v":"miau307"},{"$f":"nyers!G17&nyers!H17&nyers!I17&nyers!J17&nyers!K17","v":"Anonim Hallgató:Lehet-e minden év másként egyformán biztonságosnak tekinthető a bűnügyi statisztikák alapján?  xx  https://miau.my-x.hu/miau/307/kozbiztonsag_index.xls"}]
[{"$f":"nyers!A19","v":"miau307"},{"$f":"nyers!G19&nyers!H19&nyers!I19&nyers!J19&nyers!K19","v":"Anonim Hallgató:Latin nyelvű orvosi szakszavak létjogosultsága Google Trends és Google Adwords adatok alapján  xx  https://miau.my-x.hu/miau/307/magyar_vs_latin.xlsx"}]
[{"$f":"nyers!A21","v":"miau307"},{"$f":"nyers!G21&nyers!H21&nyers!I21&nyers!J21&nyers!K21","v":"Pitlik László:Álságos chatGPT-definíciók álságos emberi minták következtében  xx  https://miau.my-x.hu/miau/307/bing_mi_rol_tanulas_nelkul.docx"}]
[{"$f":"nyers!A23","v":"miau307"},{"$f":"nyers!G23&nyers!H23&nyers!I23&nyers!J23&nyers!K23","v":"Anonim Hallgató, Pitlik László:A chatGPT, mint tárgyalás taktikákat támogató szimulátor  xx  https://miau.my-x.hu/miau/307/chatGPT_negotiator_1.docx"}]
[{"$f":"nyers!A25","v":"miau307"},{"$f":"nyers!G25&nyers!H25&nyers!I25&nyers!J25&nyers!K25","v":"Váradi Dániel:Az EU monitoring rendszerének mesterséges intelligencia alapokra helyezése  xx  https://miau.my-x.hu/miau/307/szakdolgozat_vd.pdf"}]
[{"$f":"nyers!A27","v":"miau307"},{"$f":"nyers!G27&nyers!H27&nyers!I27&nyers!J27&nyers!K27","v":"Vancsura István:Mesterséges intelligencia alkalmazása a közösségi médiában  xx  https://miau.my-x.hu/miau/307/szakdolgozat_vi.pdf"}]
[{"$f":"nyers!A29","v":"miau307"},{"$f":"nyers!G29&nyers!H29&nyers!I29&nyers!J29&nyers!K29","v":"Bartók Patrik Róbert:Objektív döntésoptimalizálás mesterséges intelligencia bevonásával  xx  https://miau.my-x.hu/miau/307/szakdolgozat_bp.pdf"}]
[{"$f":"nyers!A31","v":"miau307"},{"$f":"nyers!G31&nyers!H31&nyers!I31&nyers!J31&nyers!K31","v":"Molnár Csanád:Online Dietetikus Szakértő - Mesterséges Intelligencia segítségével  xx  https://miau.my-x.hu/miau/307/odessai_mcs.pdf"}]
[{"$f":"nyers!A33","v":"miau307"},{"$f":"nyers!G33&nyers!H33&nyers!I33&nyers!J33&nyers!K33","v":"Ódor Márk:Webfejlesztési folyamatok egy AI támogatott dietetikus alkalmazás számára  xx  https://miau.my-x.hu/miau/307/odessai_om.pdf"}]
["Magyar Internetes Agrárinformatikai Újság (MIAÚ),2024,27,308"]
[{"$f":"nyers!A35","v":"miau308"},{"$f":"nyers!G35&nyers!H35&nyers!I35&nyers!J35&nyers!K35","v":"István Vancsura:System modelling aspects of the Social-AI project - Part IV-V.  xx  https://miau.my-x.hu/miau/308/System_Modelling_part_4-5.pptx"}]
[{"$f":"nyers!A37","v":"miau308"},{"$f":"nyers!G37&nyers!H37&nyers!I37&nyers!J37&nyers!K37","v":"István Vancsura:System modelling aspects of the Social-AI project - Part III.  xx  https://miau.my-x.hu/miau/308/System_Modelling_part_3.pptx"}]
[{"$f":"nyers!A39","v":"miau308"},{"$f":"nyers!G39&nyers!H39&nyers!I39&nyers!J39&nyers!K39","v":"István Vancsura:System modelling aspects of the Social-AI project - Part II.  xx  https://miau.my-x.hu/miau/308/System_Modelling_GANTT.pptx"}]
[{"$f":"nyers!A41","v":"miau308"},{"$f":"nyers!G41&nyers!H41&nyers!I41&nyers!J41&nyers!K41","v":"Pitlik László és Anonim Hallgatók:Az asztrológia és a mesterséges intelligencia kapcsolata  xx  https://miau.my-x.hu/miau/308/Az_asztrologia_es_az emberi_kapcsolatok_v2.docx"}]
[{"$f":"nyers!A43","v":"miau308"},{"$f":"nyers!G43&nyers!H43&nyers!I43&nyers!J43&nyers!K43","v":"Varga Norbert, Pitlik László, Szikra Andrea, Nagy Károly Zsolt, Németh Imre, Vancsura István, Rácz Mária:Politológiai haikuk, avagy a természetes és a mesterséges intelligencia ta\u0002lálkozása  xx  https://miau.my-x.hu/miau/309/veszprem_konferencia_AI_haiku_tanulmany.pdf"}]
[{"$f":"nyers!A45","v":"miau308"},{"$f":"nyers!G45&nyers!H45&nyers!I45&nyers!J45&nyers!K45","v":"Váradi Dániel, Pitlik László:A homogenitás és az autonómia fogalmak kapcsolata egymással és a mesterséges intelligencia lehetőségeivel  xx  https://miau.my-x.hu/miau/308/homogenitas_autonomia_final.docx"}]
[{"$f":"nyers!A47","v":"miau308"},{"$f":"nyers!G47&nyers!H47&nyers!I47&nyers!J47&nyers!K47","v":"Dániel Váradi:FULL-TEXT: Business Process Management - Case study: Evaluation/monitoring projects based on EU-statistics  xx  https://miau.my-x.hu/miau/308/bpm_eu.docx"}]
[{"$f":"nyers!A49","v":"miau308"},{"$f":"nyers!G49&nyers!H49&nyers!I49&nyers!J49&nyers!K49","v":"Dániel Váradi:PPT: Business Process Management - Case study: Evaluation/monitoring projects based on EU-statistics  xx  https://miau.my-x.hu/miau/308/bpm_eu.pptx"}]
[{"$f":"nyers!A51","v":"miau308"},{"$f":"nyers!G51&nyers!H51&nyers!I51&nyers!J51&nyers!K51","v":"István Vancsura:System modelling aspects of the Social-AI project  xx  https://miau.my-x.hu/miau/308/modelling_socialai.pptx"}]
[{"$f":"nyers!A53","v":"miau308"},{"$f":"nyers!G53&nyers!H53&nyers!I53&nyers!J53&nyers!K53","v":"Szauder Veronika:ÚJGENERÁCIÓS MÓDSZEREK A MATEMATIKA OKTATÁSBAN - MI  xx  https://miau.my-x.hu/miau/308/matematika_MI.docx"}]
[{"$f":"nyers!A55","v":"miau308"},{"$f":"nyers!G55&nyers!H55&nyers!I55&nyers!J55&nyers!K55","v":"Dániel Váradi, László Pitlik, Marcell Pitlik, László Pitlik (Jr.), Mátyás Pitlik:MP4: ABOUT A NEW, HYBRIDIZED TIME-SERIES ANALYSIS METHOD BASED ON SIMILARITY ANALYSES AND MULTIDIMENSIONAL TIME-LAYERING TECHNIQUES  xx  https://miau.my-x.hu/miau/308/mudita.mp4"}]
[{"$f":"nyers!A57","v":"miau308"},{"$f":"nyers!G57&nyers!H57&nyers!I57&nyers!J57&nyers!K57","v":"Dániel Váradi, László Pitlik, Marcell Pitlik, László Pitlik (Jr.), Mátyás Pitlik:PPT: ABOUT A NEW, HYBRIDIZED TIME-SERIES ANALYSIS METHOD BASED ON SIMILARITY ANALYSES AND MULTIDIMENSIONAL TIME-LAYERING TECHNIQUES  xx  https://miau.my-x.hu/miau/308/Introducing_MUDITA.pptx"}]
[{"$f":"nyers!A59","v":"miau308"},{"$f":"nyers!G59&nyers!H59&nyers!I59&nyers!J59&nyers!K59","v":"Dániel Váradi, László Pitlik, Marcell Pitlik, László Pitlik (Jr.), Mátyás Pitlik:ABS: ABOUT A NEW, HYBRIDIZED TIME-SERIES ANALYSIS METHOD BASED ON SIMILARITY ANALYSES AND MULTIDIMENSIONAL TIME-LAYERING TECHNIQUES  xx  https://miau.my-x.hu/miau/308/abs_new_time_series_analysis_method_mudita.docx"}]
[{"$f":"nyers!A61","v":"miau308"},{"$f":"nyers!G61&nyers!H61&nyers!I61&nyers!J61&nyers!K61","v":"Dániel Váradi, László Pitlik, Marcell Pitlik, László Pitlik (Jr.), Mátyás Pitlik:FULL-TEXT: ABOUT A NEW, HYBRIDIZED TIME-SERIES ANALYSIS METHOD BASED ON SIMILARITY ANALYSES AND MULTIDIMENSIONAL TIME-LAYERING TECHNIQUES  xx  https://miau.my-x.hu/miau/308/full_new_time_series_analysis_method_mudita.docx"}]
["Magyar Internetes Agrárinformatikai Újság (MIAÚ),2024,27,309"]
[{"$f":"nyers!A63","v":"miau309"},{"$f":"nyers!G63&nyers!H63&nyers!I63&nyers!J63&nyers!K63","v":"László Pitlik:Solver-miracles?! - instead of classic solutions  xx  https://miau.my-x.hu/miau/309/x2-x3-12.xlsx"}]
[{"$f":"nyers!A65","v":"miau309"},{"$f":"nyers!G65&nyers!H65&nyers!I65&nyers!J65&nyers!K65","v":"Pitlik László:Melyik fájl éri meg lementeni leginkább a többi állományhoz képest?  xx  https://miau.my-x.hu/miau/309/which_files_worth_downloading.xlsx"}]
[{"$f":"nyers!A67","v":"miau309"},{"$f":"nyers!G67&nyers!H67&nyers!I67&nyers!J67&nyers!K67","v":"Váradi Dániel:Az EU-homogenitás és a piaci stratégiák kapcsolata  xx  https://miau.my-x.hu/miau/309/homogenitas_es_piac.pptx"}]
[{"$f":"nyers!A69","v":"miau309"},{"$f":"nyers!G69&nyers!H69&nyers!I69&nyers!J69&nyers!K69","v":"Váradi Dániel:A MOL átfogó mérlegelemzése MI segítségével  xx  https://miau.my-x.hu/miau/309/mol.pptx"}]
[{"$f":"nyers!A71","v":"miau309"},{"$f":"nyers!G71&nyers!H71&nyers!I71&nyers!J71&nyers!K71","v":"Vancsura István:Application of Artificial Intelligence in Social Media - Social AI - Part 2 – Implementation  xx  https://miau.my-x.hu/miau/309/Social_AI_Part_2.pdf"}]
[{"$f":"nyers!A73","v":"miau309"},{"$f":"nyers!G73&nyers!H73&nyers!I73&nyers!J73&nyers!K73","v":"Pitlik László:MP3: MI, avagy tévhitek és benchmarkok? - Miért érdemes új korszakhatárként tekinteni?  xx  https://miau.my-x.hu/miau/309/20240425_bekescsaba.mp4"}]
[{"$f":"nyers!A75","v":"miau309"},{"$f":"nyers!G75&nyers!H75&nyers!I75&nyers!J75&nyers!K75","v":"Kiss László:Országgyűlési felszólalások elemzése külpolitikai viszonylatban  xx  https://miau.my-x.hu/miau/309/parlamenti_hozzaszolasok/Kiss L Parlament ciklusok_kulpolitika.docx"}]
[{"$f":"nyers!A77","v":"miau309"},{"$f":"nyers!G77&nyers!H77&nyers!I77&nyers!J77&nyers!K77","v":"Pitlik Dóra, Tóth Rita:PPT: NAPELEMEK TELJESÍTMÉNY-VISZONYAINAK VIZSGÁLATA  xx  https://miau.my-x.hu/miau/309/pd_tdk/Pitlik_Dora-Toth_Rita_36OTDK.pptx"}]
[{"$f":"nyers!A79","v":"miau309"},{"$f":"nyers!G79&nyers!H79&nyers!I79&nyers!J79&nyers!K79","v":"Pitlik Dóra, Tóth Rita:ABS: NAPELEMEK TELJESÍTMÉNY-VISZONYAINAK VIZSGÁLATA  xx  https://miau.my-x.hu/miau/309/pd_tdk/ITDK_resume.docx"}]
[{"$f":"nyers!A81","v":"miau309"},{"$f":"nyers!G81&nyers!H81&nyers!I81&nyers!J81&nyers!K81","v":"Pitlik Dóra, Tóth Rita:FULL-TEXT: NAPELEMEK TELJESÍTMÉNY-VISZONYAINAK VIZSGÁLATA  xx  https://miau.my-x.hu/miau/309/pd_tdk/OTDK-2023-Pitlik-Toth.pdf"}]
[{"$f":"nyers!A83","v":"miau309"},{"$f":"nyers!G83&nyers!H83&nyers!I83&nyers!J83&nyers!K83","v":"Pitlik Dóra:PPT: Stratégiai tanácsadás a távmunka népszerűsítésének szükségszerűségéről (Google Trends társadalomlélektani adatai alapján)  xx  https://miau.my-x.hu/miau/309/GD/5gk7rm5.pptx"}]
[{"$f":"nyers!A85","v":"miau309"},{"$f":"nyers!G85&nyers!H85&nyers!I85&nyers!J85&nyers!K85","v":"Pitlik Dóra:Stratégiai tanácsadás a távmunka népszerűsítésének szükségszerűségéről (Google Trends társadalomlélektani adatai alapján)  xx  https://miau.my-x.hu/miau/309/GD/5gk7rm5.docx"}]
["Magyar Internetes Agrárinformatikai Újság (MIAÚ),2024,27,310"]
[{"$f":"nyers!A87","v":"miau310"},{"$f":"nyers!G87&nyers!H87&nyers!I87&nyers!J87&nyers!K87","v":"Dániel Váradi, László Pitlik (Jr.), Mátyás Pitlik, László Pitlik:Homogeneity analysis for sustainable regions – case study: Mezőföld  xx  https://miau.my-x.hu/miau/311/mezofold/full_region_team_sustainability_analyses.pdf"}]
[{"$f":"nyers!A89","v":"miau310"},{"$f":"nyers!G89&nyers!H89&nyers!I89&nyers!J89&nyers!K89","v":"Anonim Hallgatók:SUDOKU megoldások Solver-rel  xx  https://miau.my-x.hu/miau/310/sudoku/"}]
[{"$f":"nyers!A91","v":"miau310"},{"$f":"nyers!G91&nyers!H91&nyers!I91&nyers!J91&nyers!K91","v":"Angyal János, Pitlik László:COCO-STEP-IX gyorsított és teljes eljárások összevetése és ezek hatásai a részeredményekre, ill. a végeredményre  xx  https://miau.my-x.hu/miau/310/szerver_ar_telj_stepix_gyorsitott_teljes21.xlsx"}]
[{"$f":"nyers!A93","v":"miau310"},{"$f":"nyers!G93&nyers!H93&nyers!I93&nyers!J93&nyers!K93","v":"Csaba Sebők:ChatGPT & Barkochba (20-question-games)  xx  https://miau.my-x.hu/miau/310/ChatGPT_Can_you_guess_my_words.docx"}]
[{"$f":"nyers!A95","v":"miau310"},{"$f":"nyers!G95&nyers!H95&nyers!I95&nyers!J95&nyers!K95","v":"Pitlik László:INDIREKT()-Excel-függvényre alapozott programozás az adatvagyon-minőségbiztosítás példája kapcsán  xx  https://miau.my-x.hu/miau/310/OAM_99_60_1kor.xlsx"}]
[{"$f":"nyers!A97","v":"miau310"},{"$f":"nyers!G97&nyers!H97&nyers!I97&nyers!J97&nyers!K97","v":"Pitlik László:Attribútum-arányok és az inverzió-alapú validálás  xx  https://miau.my-x.hu/miau/310/arany_inverz.xlsx"}]
[{"$f":"nyers!A99","v":"miau310"},{"$f":"nyers!G99&nyers!H99&nyers!I99&nyers!J99&nyers!K99","v":"Anonim Hallgató:Creating texts for English lessons - chatGPT-experiments  xx  https://miau.my-x.hu/miau/310/chatGPT_problems_with_English_Lesson_materials.docx"}]
[{"$f":"nyers!A101","v":"miau310"},{"$f":"nyers!G101&nyers!H101&nyers!I101&nyers!J101&nyers!K101","v":"Lengyel Kíra Anna, Gulyás Léna, Simon Damarisz, Pitlik László:AI a filmes szakmában  xx  https://miau.my-x.hu/miau/310/AI_a_filmes_szakmaban.doc"}]
[{"$f":"nyers!A103","v":"miau310"},{"$f":"nyers!G103&nyers!H103&nyers!I103&nyers!J103&nyers!K103","v":"Ökrös Adrienn:Digitalizáció és RPA egy logisztikai irodában  xx  https://miau.my-x.hu/miau/310/rpa_casestudy_hu.docx"}]
[{"$f":"nyers!A105","v":"miau310"},{"$f":"nyers!G105&nyers!H105&nyers!I105&nyers!J105&nyers!K105","v":"Megyes István:Elektroenkefalográfia jelek feldolgozása gépi tanulással  xx  https://miau.my-x.hu/miau/310/L38TRN_Megyes_Nemes_SZAKDOLGOZAT.pdf"}]
[{"$f":"nyers!A107","v":"miau310"},{"$f":"nyers!G107&nyers!H107&nyers!I107&nyers!J107&nyers!K107","v":"Anonim Hallgató:Létezhető ChatGPT-aktivitás rendszer általi megtagadása, s kérlelésre való végrehajtása (Begging-modus in chatGPT in case of hidden system-competencies)  xx  https://miau.my-x.hu/miau/310/chatGPT_parancs_helyett_kerlelesre.jpg"}]
[{"$f":"nyers!A109","v":"miau310"},{"$f":"nyers!G109&nyers!H109&nyers!I109&nyers!J109&nyers!K109","v":"Loboda Bence, Pitlik László:Szubjektív és objektív érveléskultúra, avagy elvek és példák  xx  https://miau.my-x.hu/miau/310/szubjektivitas_vs_objektivitas_ember_chatGPT_OAM.docx"}]
[{"$f":"nyers!A111","v":"miau310"},{"$f":"nyers!G111&nyers!H111&nyers!I111&nyers!J111&nyers!K111","v":"Anonim Hallgató:Létezhető ChatGPT-aktivitás rendszer általi megtagadása, s parancsra való végrehajtása  xx  https://miau.my-x.hu/miau/310/chatGPT_parancsra.docx"}]
[{"$f":"nyers!A113","v":"miau310"},{"$f":"nyers!G113&nyers!H113&nyers!I113&nyers!J113&nyers!K113","v":"László Pitlik:Solo and doubled anti-discriminative (Y0) similarity analyses and their relationships  xx  https://miau.my-x.hu/miau/310/y0_doubled.xlsx"}]
[null,"***"]

{"sheet":"matarka","index":20,"n_rows":63,"n_cols":2,"rows_kept":63,"cut":false,"hidden":false,"merged":[]}
[" ","***"]
["Magyar Internetes Agrárinformatikai Újság (MIAÚ),2024,27,307"]
["miau307","Anonim Hallgató-Pitlik László:Selejtezés szubjektív szabályok mentén és optimalizált, automatizált szabály-felismerés alapján  xx  https://miau.my-x.hu/miau/307/selejtezes/"]
["miau307","Pitlik László:A COCO STEP-IX módszer szükségszerűségének felismerése és lépéseinek mibenléte - 2  xx  https://miau.my-x.hu/miau/307/stepix_okostelefon/"]
["miau307","Pitlik László:A COCO STEP-IX módszer szükségszerűségének felismerése és lépéseinek mibenléte  xx  https://miau.my-x.hu/miau/307/stepix_monitor/"]
["miau307","Pitlik László:Tesztállomány hermeneutikai szélsőségek alátámasztására  xx  https://miau.my-x.hu/miau/307/ksh/"]
["miau307","Anonim Hallgató-Pitlik László:Baromfihús-fogyás előrejelzése lineáris regresszióval, chatGPT-vel és MI-alapon  xx  https://miau.my-x.hu/miau/307/ido_poultry/"]
["miau307","Anonim Hallgató-Pitlik László:Személyes tapasztalatom az életmódváltással - avagy edzésprogramok sikerességének MI-alapú monitorozása  xx  https://miau.my-x.hu/miau/307/eletforma/"]
["miau307","Pitlik László:Kölcsönhatások modellezése hasonlóságelemzésekkel  xx  https://miau.my-x.hu/miau/307/nyers-erok_vs_kolcsonhatasok_additiv_multiplikativ.xlsx"]
["miau307","Anonim Hallgató:Context-free gyanúgenerálás önkormányzati adatok alapján - avagy így dolgozna egy robot-oknyomozó riporter  xx  https://miau.my-x.hu/miau/307/robot_gyanugeneralas.xlsx"]
["miau307","Anonim Hallgató:Lehet-e minden év másként egyformán biztonságosnak tekinthető a bűnügyi statisztikák alapján?  xx  https://miau.my-x.hu/miau/307/kozbiztonsag_index.xls"]
["miau307","Anonim Hallgató:Latin nyelvű orvosi szakszavak létjogosultsága Google Trends és Google Adwords adatok alapján  xx  https://miau.my-x.hu/miau/307/magyar_vs_latin.xlsx"]
["miau307","Pitlik László:Álságos chatGPT-definíciók álságos emberi minták következtében  xx  https://miau.my-x.hu/miau/307/bing_mi_rol_tanulas_nelkul.docx"]
["miau307","Anonim Hallgató-Pitlik László:A chatGPT, mint tárgyalás taktikákat támogató szimulátor  xx  https://miau.my-x.hu/miau/307/chatGPT_negotiator_1.docx"]
["miau307","Váradi Dániel:Az EU monitoring rendszerének mesterséges intelligencia alapokra helyezése  xx  https://miau.my-x.hu/miau/307/szakdolgozat_vd.pdf"]
["miau307","Vancsura István:Mesterséges intelligencia alkalmazása a közösségi médiában  xx  https://miau.my-x.hu/miau/307/szakdolgozat_vi.pdf"]
["miau307","Bartók Patrik Róbert:Objektív döntésoptimalizálás mesterséges intelligencia bevonásával  xx  https://miau.my-x.hu/miau/307/szakdolgozat_bp.pdf"]
["miau307","Molnár Csanád:Online Dietetikus Szakértő - Mesterséges Intelligencia segítségével  xx  https://miau.my-x.hu/miau/307/odessai_mcs.pdf"]
["miau307","Ódor Márk:Webfejlesztési folyamatok egy AI támogatott dietetikus alkalmazás számára  xx  https://miau.my-x.hu/miau/307/odessai_om.pdf"]
["Magyar Internetes Agrárinformatikai Újság (MIAÚ),2024,27,308"]
["miau308","István Vancsura:System modelling aspects of the Social-AI project - Part IV-V.  xx  https://miau.my-x.hu/miau/308/System_Modelling_part_4-5.pptx"]
["miau308","István Vancsura:System modelling aspects of the Social-AI project - Part III.  xx  https://miau.my-x.hu/miau/308/System_Modelling_part_3.pptx"]
["miau308","István Vancsura:System modelling aspects of the Social-AI project - Part II.  xx  https://miau.my-x.hu/miau/308/System_Modelling_GANTT.pptx"]
["miau308","Pitlik László-Anonim Hallgatók:Az asztrológia és a mesterséges intelligencia kapcsolata  xx  https://miau.my-x.hu/miau/308/Az_asztrologia_es_az emberi_kapcsolatok_v2.docx"]
["miau308","Varga Norbert-Pitlik László-Szikra Andrea-Nagy Károly Zsolt-Németh Imre-Vancsura István-Rácz Mária:Politológiai haikuk, avagy a természetes és a mesterséges intelligencia ta\u0002lálkozása  xx  https://miau.my-x.hu/miau/309/veszprem_konferencia_AI_haiku_tanulmany.pdf"]
["miau308","Váradi Dániel-Pitlik László:A homogenitás és az autonómia fogalmak kapcsolata egymással és a mesterséges intelligencia lehetőségeivel  xx  https://miau.my-x.hu/miau/308/homogenitas_autonomia_final.docx"]
["miau308","Dániel Váradi:FULL-TEXT: Business Process Management - Case study: Evaluation/monitoring projects based on EU-statistics  xx  https://miau.my-x.hu/miau/308/bpm_eu.docx"]
["miau308","Dániel Váradi:PPT: Business Process Management - Case study: Evaluation/monitoring projects based on EU-statistics  xx  https://miau.my-x.hu/miau/308/bpm_eu.pptx"]
["miau308","István Vancsura:System modelling aspects of the Social-AI project  xx  https://miau.my-x.hu/miau/308/modelling_socialai.pptx"]
["miau308","Szauder Veronika:ÚJ GENERÁCIÓS MÓDSZEREK A MATEMATIKA OKTATÁSBAN - MI  xx  https://miau.my-x.hu/miau/308/matematika_MI.docx"]
["miau308","Dániel Váradi-László Pitlik-Marcell Pitlik-László Pitlik, ifj.-Mátyás Pitlik:MP4: ABOUT A NEW, HYBRIDIZED TIME-SERIES ANALYSIS METHOD BASED ON SIMILARITY ANALYSES AND MULTIDIMENSIONAL TIME-LAYERING TECHNIQUES  xx  https://miau.my-x.hu/miau/308/mudita.mp4"]
["miau308","Dániel Váradi-László Pitlik-Marcell Pitlik-László Pitlik, ifj.-Mátyás Pitlik:PPT: ABOUT A NEW, HYBRIDIZED TIME-SERIES ANALYSIS METHOD BASED ON SIMILARITY ANALYSES AND MULTIDIMENSIONAL TIME-LAYERING TECHNIQUES  xx  https://miau.my-x.hu/miau/308/Introducing_MUDITA.pptx"]
["miau308","Dániel Váradi-László Pitlik-Marcell Pitlik-László Pitlik, ifj.-Mátyás Pitlik:ABS: ABOUT A NEW, HYBRIDIZED TIME-SERIES ANALYSIS METHOD BASED ON SIMILARITY ANALYSES AND MULTIDIMENSIONAL TIME-LAYERING TECHNIQUES  xx  https://miau.my-x.hu/miau/308/abs_new_time_series_analysis_method_mudita.docx"]
["miau308","Dániel Váradi-László Pitlik-Marcell Pitlik-László Pitlik, ifj.-Mátyás Pitlik:FULL-TEXT: ABOUT A NEW, HYBRIDIZED TIME-SERIES ANALYSIS METHOD BASED ON SIMILARITY ANALYSES AND MULTIDIMENSIONAL TIME-LAYERING TECHNIQUES  xx  https://miau.my-x.hu/miau/308/full_new_time_series_analysis_method_mudita.docx"]
["Magyar Internetes Agrárinformatikai Újság (MIAÚ),2024,27,309"]
["miau309","László Pitlik:Solver-miracles?! - instead of classic solutions  xx  https://miau.my-x.hu/miau/309/x2-x3-12.xlsx"]
["miau309","Pitlik László:Melyik fájl éri meg lementeni leginkább a többi állományhoz képest?  xx  https://miau.my-x.hu/miau/309/which_files_worth_downloading.xlsx"]
["miau309","Váradi Dániel:Az EU-homogenitás és a piaci stratégiák kapcsolata  xx  https://miau.my-x.hu/miau/309/homogenitas_es_piac.pptx"]
["miau309","Váradi Dániel:A MOL átfogó mérlegelemzése MI segítségével  xx  https://miau.my-x.hu/miau/309/mol.pptx"]
["miau309","Vancsura István:Application of Artificial Intelligence in Social Media - Social AI - Part 2 – Implementation  xx  https://miau.my-x.hu/miau/309/Social_AI_Part_2.pdf"]
["miau309","Pitlik László:MP3: MI, avagy tévhitek és benchmarkok? - Miért érdemes új korszakhatárként tekinteni?  xx  https://miau.my-x.hu/miau/309/20240425_bekescsaba.mp4"]
["miau309","Kiss László:Országgyűlési felszólalások elemzése külpolitikai viszonylatban  xx  https://miau.my-x.hu/miau/309/parlamenti_hozzaszolasok/Kiss L Parlament ciklusok_kulpolitika.docx"]
["miau309","Pitlik Dóra-Tóth Rita:PPT: NAPELEMEK TELJESÍTMÉNY-VISZONYAINAK VIZSGÁLATA  xx  https://miau.my-x.hu/miau/309/pd_tdk/Pitlik_Dora-Toth_Rita_36OTDK.pptx"]
["miau309","Pitlik Dóra-Tóth Rita:ABS: NAPELEMEK TELJESÍTMÉNY-VISZONYAINAK VIZSGÁLATA  xx  https://miau.my-x.hu/miau/309/pd_tdk/ITDK_resume.docx"]
["miau309","Pitlik Dóra-Tóth Rita:FULL-TEXT: NAPELEMEK TELJESÍTMÉNY-VISZONYAINAK VIZSGÁLATA  xx  https://miau.my-x.hu/miau/309/pd_tdk/OTDK-2023-Pitlik-Toth.pdf"]
["miau309","Pitlik Dóra:PPT: Stratégiai tanácsadás a távmunka népszerűsítésének szükségszerűségéről (Google Trends társadalomlélektani adatai alapján)  xx  https://miau.my-x.hu/miau/309/GD/5gk7rm5.pptx"]
["miau309","Pitlik Dóra:Stratégiai tanácsadás a távmunka népszerűsítésének szükségszerűségéről (Google Trends társadalomlélektani adatai alapján)  xx  https://miau.my-x.hu/miau/309/GD/5gk7rm5.docx"]
["Magyar Internetes Agrárinformatikai Újság (MIAÚ),2024,27,310"]
["miau310","Dániel Váradi-László Pitlik, ifj.-Mátyás Pitlik-László Pitlik:Homogeneity analysis for sustainable regions – case study: Mezőföld  xx  https://miau.my-x.hu/miau/311/mezofold/full_region_team_sustainability_analyses.pdf"]
["miau310","Anonim Hallgatók:SUDOKU megoldások Solver-rel  xx  https://miau.my-x.hu/miau/310/sudoku/"]
["miau310","Angyal János-Pitlik László:COCO-STEP-IX gyorsított és teljes eljárások összevetése és ezek hatásai a részeredményekre, ill. a végeredményre  xx  https://miau.my-x.hu/miau/310/szerver_ar_telj_stepix_gyorsitott_teljes21.xlsx"]
["miau310","Csaba Sebők:ChatGPT & Barkochba (20-question-games)  xx  https://miau.my-x.hu/miau/310/ChatGPT_Can_you_guess_my_words.docx"]
["miau310","Pitlik László:INDIREKT()-Excel-függvényre alapozott programozás az adatvagyon-minőségbiztosítás példája kapcsán  xx  https://miau.my-x.hu/miau/310/OAM_99_60_1kor.xlsx"]
["miau310","Pitlik László:Attribútum-arányok és az inverzió-alapú validálás  xx  https://miau.my-x.hu/miau/310/arany_inverz.xlsx"]
["miau310","Anonim Hallgató:Creating texts for English lessons - chatGPT-experiments  xx  https://miau.my-x.hu/miau/310/chatGPT_problems_with_English_Lesson_materials.docx"]
["miau310","Lengyel Kíra Anna-Gulyás Léna-Simon Damarisz-Pitlik László:AI a filmes szakmában  xx  https://miau.my-x.hu/miau/310/AI_a_filmes_szakmaban.doc"]
["miau310","Ökrös Adrienn:Digitalizáció és RPA egy logisztikai irodában  xx  https://miau.my-x.hu/miau/310/rpa_casestudy_hu.docx"]
["miau310","Megyes István:Elektroenkefalográfia jelek feldolgozása gépi tanulással  xx  https://miau.my-x.hu/miau/310/L38TRN_Megyes_Nemes_SZAKDOLGOZAT.pdf"]
["miau310","Anonim Hallgató:Létezhető ChatGPT-aktivitás rendszer általi megtagadása, s kérlelésre való végrehajtása (Begging-modus in chatGPT in case of hidden system-competencies)  xx  https://miau.my-x.hu/miau/310/chatGPT_parancs_helyett_kerlelesre.jpg"]
["miau310","Loboda Bence-Pitlik László:Szubjektív és objektív érveléskultúra, avagy elvek és példák  xx  https://miau.my-x.hu/miau/310/szubjektivitas_vs_objektivitas_ember_chatGPT_OAM.docx"]
["miau310","Anonim Hallgató:Létezhető ChatGPT-aktivitás rendszer általi megtagadása, s parancsra való végrehajtása  xx  https://miau.my-x.hu/miau/310/chatGPT_parancsra.docx"]
["miau310","László Pitlik:Solo and doubled anti-discriminative (Y0) similarity analyses and their relationships  xx  https://miau.my-x.hu/miau/310/y0_doubled.xlsx"]
[null,"***"]

{"sheet":"webrol2024_1","index":21,"n_rows":46,"n_cols":30,"rows_kept":46,"cut":false,"hidden":false,"merged":[[14,26,15,26],[16,26,17,26],[18,26,19,26],[20,26,21,26],[2,26,3,26],[4,26,5,26],[6,26,7,26],[8,26,9,26],[10,26,11,26],[12,26,13,26],[22,22,23,22],[24,22,25,22],[26,21,27,21],[26,22,27,22],[34,17,35,17],[34,18,35,18],[28,17,29,17],[28,18,29,18],[30,17,31,17],[30,18,31,18],[32,17,33,17],[32,18,33,18],[2,22,3,22],[4,22,5,22],[6,22,7,22],[8,22,9,22],[10,22,11,22],[12,22,13,22],[14,22,15,22],[16,22,17,22],[26,18,27,18],[14,18,15,18],[16,18,17,18],[18,18,19,18],[20,18,21,18],[22,18,23,18],[24,18,25,18],[2,18,3,18],[4,18,5,18],[6,18,7,18],[8,18,9,18],[10,18,11,18],[12,18,13,18],[18,21,19,21],[18,22,19,22],[20,22,21,22],[12,14,13,14],[14,13,15,13],[14,14,15,14],[16,13,17,13],[16,14,17,14],[2,14,3,14],[4,14,5,14],[6,14,7,14],[8,14,9,14],[10,13,11,13],[10,14,11,14],[42,9,43,9],[42,10,43,10],[22,10,23,10],[24,10,25,10],[26,9,27,9],[26,10,27,10],[28,10,29,10],[30,10,31,10],[12,13,13,13],[40,5,41,5],[40,6,41,6],[2,9,3,9],[2,10,3,10],[4,9,5,9],[4,10,5,10],[6,9,7,9],[6,10,7,10],[8,10,9,10],[10,10,11,10],[28,6,29,6],[30,6,31,6],[32,6,33,6],[34,6,35,6],[36,6,37,6],[38,6,39,6],[20,6,21,6],[22,5,23,5],[32,10,33,10],[34,10,35,10],[36,10,37,10],[38,10,39,10],[40,10,41,10],[26,5,27,5],[26,6,27,6],[8,6,9,6],[10,6,11,6],[12,6,13,6],[14,6,15,6],[16,6,17,6],[18,6,19,6],[12,10,13,10],[14,10,15,10],[16,10,17,10],[18,9,19,9],[18,10,19,10],[20,10,21,10],[2,5,3,5],[2,6,3,6],[4,5,5,5],[4,6,5,6],[6,5,7,5],[6,6,7,6],[20,2,21,2],[22,2,23,2],[24,2,25,2],[12,2,13,2],[14,2,15,2],[16,2,17,2],[18,2,19,2],[2,2,3,2],[4,2,5,2],[22,6,23,6],[24,6,25,6],[6,1,7,1],[6,2,7,2],[8,2,9,2],[10,1,11,1],[10,2,11,2],[30,2,31,2],[32,2,33,2],[34,1,35,1],[34,2,35,2],[26,2,27,2],[28,1,29,1],[28,2,29,2],[12,1,13,1],[14,1,15,1]]}
["MIAU No. = 300 *** Év/Year = 2023 *** Hónap/Month = augusztus",null,17,null,"MIAU No. = 301 *** Év/Year = 2023 *** Hónap/Month = szeptember",null,20,null,"MIAU No. = 302 *** Év/Year = 2023 *** Hónap/Month = október",null,21,null,"MIAU No. = 303 *** Év/Year = 2023 *** Hónap/Month = november",null,8,null,"MIAU No. = 304 *** Év/Year = 2023 *** Hónap/Month = december",null,17,null,"MIAU No. = 305 *** Év/Year = 2024 *** Hónap/Month = január",null,13,null,"MIAU No. = 306 *** Év/Year = 2024 *** Hónap/Month = február",null,10,null,{"$f":"SUM(A1:AA1)","v":106},{"$f":"ROW(nyers!A212)/2","v":106}]
[]
["Bócz Viktor","Alternatív, konkurens modellkapcsolatok kialakítása","(+)",null,"László Pitlik, Dániel Váradi, Marcell Pitlik","ABS: Simulator development for yield estimation (in case of corn, oats, soybean) based on weather-data (6th International Congress on Scientific Research August 18-20. 2023, Ankara by IKSAD Institute)","(+)",null,"László Pitlik, Dániel Váradi, László Pitlik Jr.","MP4: Experiments in artificial intelligence-based educational methodology (case study presentations) (6th International Congress on Scientific Research August 18-20. 2023, Ankara by IKSAD Institute)","(+)",null,"Pitlik László","A jövőkutatás és fizika kapcsolata, avagy az időkutatásról a (kvantum)-fizikai szemszögéből","(+)",null,"Pitlik László","Stratégiai és operatív irracionalitások a (pályázat)értékelésben","(+)",null,"Sipos Péter","MP3: 2DM-alapú oktatásmódszertani kísérletek","(+)",null,"Pitlik László, Bócz Viktor, Vancsura István","MP4: Hacker-robot értelmezések III.","(+)"]
["(KJE):","Alternative knowledge representations)",null,null,"(MY-X team / KJE):",null,null,null,"(MY-X team / KJE):",null,null,null,"(MY-X team):","(Futurology and physics or about the time-research from point of view of the quantum-physics)",null,null,"(MY-X team):","(Irrationalities on strategic and operative levels in (tender)evaluation processes)",null,null,"(KJE):","(2DM-driven pedagogical experiments)",null,null,"(MY-X team):","(Hacker-robot interpretations - Part III)"]
["LAJKÓNÉ BÉCSI MÓNIKA","A KUKORICA, BÚZA, ÁRPA, ROZS ÉS ZAB TERMELÉSI FÜGGVÉNYE","(+)",null,"László Pitlik, Dániel Váradi, Marcell Pitlik","PPT: Simulator development for yield estimation (in case of corn, oats, soybean) based on weather-data (6th International Congress on Scientific Research August 18-20. 2023, Ankara by IKSAD Institute)","(+)",null,"László Pitlik, Dániel Váradi, László Pitlik Jr.","PPT: Experiments in artificial intelligence-based educational methodology (case study presentations) (6th International Congress on Scientific Research August 18-20. 2023, Ankara by IKSAD Institute)","(+)",null,"Pitlik László, Pitlik László (jun)","Mikor tekinthető egy szabályrendszer konzisztensebbnek, mint egy másik – avagy a sebességkorlátozó szabályok egymáshoz való viszonya","(+)",null,"Pitlik László","Az [n alatt a k] és a [k alatt az n] kapcsolata kriptográfiai szempontból","(+)",null,"Sipos Péter, Pitlik László, ifj. Pitlik László","2DM-alapú oktatásmódszertani kísérletek","(+)",null,"Pitlik László, Bócz Viktor","MP4: Hacker-robot értelmezések II.","(+)"]
["(MY-X team):","(Production functions for wheat, barley, rye, oat)",null,null,"(MY-X team / KJE):",null,null,null,"(MY-X team / KJE):",null,null,null,"(MY-X team):","(Which rule system is more consistent – case study rules for speed limitation)",null,null,"(MY-X team):","(Relationships of [n choose k] and [k choose n] from point of view of the cryptography)",null,null,"(KJE):","(2DM-driven pedagogical experiments)",null,null,"(MY-X team):","(Hacker-robot interpretations - Part II)"]
["Gál Tamás, Pitlik László","ChatGPT-kísérletek: tanuláselméletek és a MI (ChatGPT-kísérletek: Learning theories and AI)","(+)",null,"László Pitlik, Dániel Váradi, Marcell Pitlik","MP4: Simulator development for yield estimation (in case of corn, oats, soybean) based on weather-data (6th International Congress on Scientific Research August 18-20. 2023, Ankara by IKSAD Institute)","(+)",null,"László Pitlik, Dániel Váradi, László Pitlik Jr.","ABS: Experiments in artificial intelligence-based educational methodology (case study presentations) (6th International Congress on Scientific Research August 18-20. 2023, Ankara by IKSAD Institute)","(+)",null,"Pitlik László, Pitlik Marcell, Váradi Dániel","ABS: Konzisztencia-orientált növénytermesztési termelési függvények levezetése MI-támogatással időjárási adatok bevonása mellett","(+)",null,"Pitlik Marcell","Szövegbányászat Excel-alapon: karakterláncok-hasonlósága","(+)",null,"Rácz Lívia","MP3: ChatGPT-alapú neveléstudományi / oktatásmódszertani kísérletek","(+)",null,"Pitlik László, Bócz Viktor","MP4: Hacker-robot értelmezések I.","(+)"]
["(MY-X team):",null,null,null,"(MY-X team / KJE):",null,null,null,"(MY-X team / KJE):",null,null,null,"(KJE, MY-X team):","(Deriving consistence-oriented production functions for plants based on AI support involving weather data)",null,null,"(MY-X team):","(Text mining in Excel: similarity of strings)",null,null,"(KJE):","(chatGPT-driven pedagogical experiments)",null,null,"(MY-X team):","(Hacker-robot interpretations - Part I)"]
["Rácz Lívia","ChatGPT-kísérletek – matematika és írás","(+)",null,"Anonim Hallgató","2DM-terv: BT-KFT-RT összehasonlítása","(+)",null,"Pitlik László","Optimalizált és naiv férfidivat-tudatosság-index HU 2004-2023 - vizualizációs támogatás","(+)",null,"Pitlik László","2DM-játéktervezési sablon párhuzamos tervparaméter-rétegekkel","(+)",null,"Pitlik László, Pitlik László (ifj.), Pitlik Mátyás","Új lehetőségek a pixel-alapú kriptográfiában","(+)",null,"Rácz Lívia, Pitlik László, ifj. Pitlik László","ChatGPT-alapú neveléstudományi / oktatásmódszertani kísérletek","(+)",null,"Pitlik László","Adatvesztés gyanújának értelmezése eltérő szoftverekre hatására","(+)"]
["(MY-X team):","(ChatGPT-Experiments – mathematics & writing)",null,null,"(MY-X team):","(2DM-plan for different forms of enterprises)",null,null,"(MY-X team):","(Visualization support for time series in case of the brand/fashion/sport-consciousness-index for Hungary 2004-2023)",null,null,"(KJE):","(2DM game planning structures/layers)",null,null,"(MY-X team):","(New possibilities in the pixel-based cryptography )",null,null,"(KJE):","(chatGPT-driven pedagogical experiments)",null,null,"(MY-X team):","Interpretation of suspected data lost based on different softwares"]
["Zsolt Lajos Kontra, László Pitlik","PPT-TXT: PROJECT STARLIGHT: \u000bROBOT-EYE FOR (TURKISH) FOOTBALL PLAYER-TALENT-IDENTIFICATION","(+)",null,"Deák Zsombor, Pitlik László","Egy jelenség előrejelezhetőségének változása az előrejelzett idő növelésével párhuzamosan","(+)",null,"Pitlik László","Solver-alapú megoldás lehetősége a Ramanudzsan-féle bűvös négyzet esetében","(+)",null,"László Pitlik, László Pitlik Jr., Mátyás Pitlik","ABS: New possibilities in the pixel-based cryptography (6th International Congress on Scientific Research August 18-20. 2023, Ankara by IKSAD Institute)","(+)",null,"Pitlik László","ABS: A chatGPT szerepe a tudásmenedzsmentben","(+)",null,"Pitlik László, Váradi Dániel, ifj. Pitlik László","MP3: Mesterséges intelligencia-alapú oktatás-módszertani kísérletek","(+)",null,"Pitlik László","Van-e fejlődés (1800-2020) az NGRAM angol korpusza alapján a tudományos (bizonyítás-orientált) nyelvhasználat terén?","(+)"]
["(MY-X team):",null,null,null,"(MY-X team):","(Changes in the predictability of a phenomenon parallel to increasing the predicted time)",null,null,"(MY-X team):","(Possibility of a solver-based solution in case of the magic square of Ramanujan)",null,null,"(MY-X team / KJE):",null,null,null,"(MY-X team):","(The role of the chatGPT in the knowledge management)",null,null,"(KJE):","(AI-driven pedagogical experiments)",null,null,"(MY-X team):","Is there any development (1800-2020) concerning the scientific language using based on the English corpus of NGRAM?"]
["Zsolt Lajos Kontra, László Pitlik","PPT: PROJECT STARLIGHT: \u000bROBOT-EYE FOR (TURKISH) FOOTBALL PLAYER-TALENT-IDENTIFICATION","(+)",null,"Anonim Hallgató","NASDAQ-előrejelzés 1 napra három termelési függvénnyel a cripto-valuták idősorai alapján","(+)",null,"Pitlik László","Az amőbajáték megoldásának Solver-alapú és egyéb alternatívái","(+)",null,"László Pitlik, László Pitlik Jr., Mátyás Pitlik","MP4: New possibilities in the pixel-based cryptography (6th International Congress on Scientific Research August 18-20. 2023, Ankara by IKSAD Institute)","(+)",null,"Pitlik László","FULL: A chatGPT szerepe a tudásmenedzsmentben","(+)",null,"Pitlik László, Váradi Dániel, ifj. Pitlik László","Mesterséges intelligencia-alapú oktatás-módszertani kísérletek","(+)",null,"Hideg Éva, Kelemen Rita, Kristóf Tamás, Magas István, Ménesi Éva, Pitlik László, Valkó Gábor","Korszakváltás küszöbén a statisztika és a jövőkutatás","(+)"]
["(MY-X team):",null,null,null,"(MY-X team):","(3 models for the NASDAQ(t+1) based on time series of the crypto-currencies)",null,null,"(MY-X team):","(Alternative solutions for the tictactoe-game - especially case studies with Solver-engines)",null,null,"(MY-X team / KJE):",null,null,null,"(MY-X team):","(The role of the chatGPT in the knowledge management)",null,null,"(KJE):","(AI-driven pedagogical experiments)",null,null,"(MTA IX. Osztály Statisztikai és a Jövőkutatási Tudományos Bizottság):","(Statistics and futures research: on the verge of an era change)"]
["Pitlik László","Demo: Transcription-based cryptography","(+)",null,"Pitlik László","Ideál-vezérelt ár/teljesítmény-index","(+)",null,"Pitlik László","A process-mining adatvagyon-demo az amőbajáték példáján","(+)",null,"László Pitlik, László Pitlik Jr., Mátyás Pitlik","PPT: New possibilities in the pixel-based cryptography (6th International Congress on Scientific Research August 18-20. 2023, Ankara by IKSAD Institute)","(+)",null,"Pitlik László","PPT: A chatGPT szerepe a tudásmenedzsmentben","(+)",null,"Váradi Dániel, Vancsura István, Pflum Tamás, Kiss Dávid","KJE TDK 2023","(+)",null,"Pitlik László","MP3: A mesterséges intelligencia indukálta hatások és annak következményei az előretekintési jövőkutatásban","(+)"]
["(MY-X team):",null,null,null,"(MY-X team):","(Ideal-driven price/performance index)",null,null,"(MY-X team):","(Data-asset-demo for further process mining activities in case of tictactoe-games)",null,null,"(MY-X team / KJE):",null,null,null,"(MY-X team):","(The role of the chatGPT in the knowledge management)",null,null,"(KJE):","(Annual Scientific Students Associations Conference of KJU 2023)",null,null,"(KJE):","(AI-driven impacts and consequencies for the future science)"]
["Pitlik Marcell, Németh Tamás, Svastits Áron","Jelentős gyártási volumen változás kapcsán felmerülő \u000bdöntési lehetőségek a CLAAS portfóliójában","(+)",null,"Pintér Miklósné","CHATGPT-KÍSÉRLETEK: AZ ELSŐSEGÉLYNYÚJTÁS OKTATÁSÁNAK JELENTŐSÉGE A LAIKUSOK KÖRÉBEN","(+)",null,"Szemesiné Cseh Kata","Mikor volt az egyes digitális, bibliográfiai jellegű adatbázisok aranykora, avagy esettanulmány hasonlóságelemzésekre alapozott, konzisztens (vállalati) elemzési kultúra növelése érdekében","(+)",null,"László Pitlik, László Pitlik Jr., Mátyás Pitlik","New possibilities in the pixel-based cryptography (6th International Congress on Scientific Research August 18-20. 2023, Ankara by IKSAD Institute)","(+)",null,"Pitlik László","A chatGPT szerepe a tudásmenedzsmentben","(+)",null,"Anonim Hallgatók, Pitlik László","Genetikai potenciál-elvű automatikus kódjavító eljárás, mint szakdolgozati / diplomadolgozati / PhD-disszertációként értelmezhető téma - (Monty-Hall-verzió)","(+)",null,"Pitlik László","PPT: A mesterséges intelligencia indukálta hatások és annak következményei az előretekintési jövőkutatásban","(+)"]
["(MY-X team):","(What is worth doing in case of relevant changes in the income-time-series and -structure - case study CLAAS)",null,null,"(MY-X team):","(CHATGPT-EXPERIMENTS: THE SIGNIFICANCE OF FIRST AID EDUCATION AMONG LAY PEOPLE)",null,null,"(MY-X team):","(Golden age analyses for library-oriented organisations)",null,null,"(MY-X team / KJE):",null,null,null,"(MY-X team):","(The role of the chatGPT in the knowledge management)",null,null,"(KJE):","(Genetic-potential-based challenge - Monty-Hall-Version)",null,null,"(KJE):","(AI-driven impacts and consequencies for the future science)"]
["Pitlik László, Gál Tamás, ifj. Pitlik László","Tanuláselméletek lehetséges szintézisének lehetőségei és kockázatai mesterséges intelligenciák támogatásával","(+)",null,"Csohány Andor, Sztanojev Mercédesz, Váradi Dániel, Pitlik László","A nemzetközi fizetési rendszer EKG-ja és NCF-alapú alternatív modellek versenye","(+)",null,"László Pitlik","How it is made: staircase-functions","(+)",null,null,null,null,null,"Pitlik László","Humán gondolatok strukturálása és véletlenszám-alapú induktív szakértői rendszer-szabályak generálása, avagy tudásreperzentációs gyakorlatok","(+)",null,"Pitlik László","Gyakorló feladatok a Monty-Hall paradoxont értelmező téves megoldási alternatívák hibáinak feltárásához","(+)",null,"Pitlik László","MP3/TXT: Digitális Pedagógiai K(n)utatóintézet","(+)"]
["(MY-X team):","(Learning theories and their syntesis including AI)",null,null,"(MY-X team):","(EKG of the international monetary system and impacts of NCF-based alternative core models)",null,null,"(MY-X team):",null,null,null,"MIAU No. = 302 ... (MIAU No. = 303) ... MIAU No. = 304",null,null,null,"(MY-X team):","(Examples of knowledge representations based on random inputs for inductive expert system-rules)",null,null,"(KJE):",null,null,null,"(KJE):","(Research Institute for Digital Pedagogy - RIDIP)"]
["Pitlik László, Rácz Lívia, ifj. Pitlik László","ChatGPT-alapú neveléstudományi / oktatásmódszertani kísérletek (esettanulmány-részletek)","(+)",null,"Kocsis Dóra, Pitlik László","A legjobb ár/teljesítményű árucikk kiválasztása, avagy az ideáltól való eltérés hatásai","(+)",null,"Pitlik László","Excel-tanácsadás - Billentyűkombinációk","(+)",null,"miau.my-",null,null,null,"Pitlik László","Robotkar működési logikájának feltárása teszteléssel","(+)",null,"Anonim Megrendelő, Pitlik László","Publikus megrendelői rapid-projekt I.","(+)",null,"Pitlik László, Vancsura István, Rácz Mária","Haiku-alapú, direkt vers-értelmező szöveggel támogatott, ill. indirekt képgenerálást előkészítő MI inicializálás tapasztalatai","(+)"]
["(MY-X team):","(ChatGPT-based education - case-study-abstracts)",null,null,"(MY-X team):","(Identification of the objective price/performance index or the impacts of an ideal product specifications)",null,null,"(MY-X team):","(Excel support – Hot keys)",null,null,null,null,null,null,"(MY-X team):","(Derivation of working logic of a robot engine based on test scenarios)",null,null,"(KJE):","(Customer-driven public rapid project I)",null,null,"(MY-X team):","(Experiences with haiku-based, haiku-driven, picture-oriented AI-initialization)"]
["Pitlik László, Sipos Péter, ifj. Pitlik László","2DM-alapú oktatásmódszertani kísérletek","(+)",null,"László Pitlik","Deutschsprachige Demo-Publikation (II): Process-Mining – aus der Sicht der KI und des KNUTH-Prinzips","(+)",null,"László Pitlik","Alternatív összefüggések erősségének összehasonlító vizsgálata a konzisztencia-fogalom mibenlétének demonstrálására","(+)",null,null,null,null,null,"Pitlik László","Tiltott szavak MI-alapú életre keltése, avagy a bűnözés szó racionális szociológiai paraméterei","(+)",null,"Anonim Hallgatók, Pitlik László","Rapid-projektek példatára (2023 ősz)","(+)"]
["(MY-X team):","(2DM-based education - case-study-abstracts)",null,null,"(MY-X team):",null,null,null,"(MY-X team):","(Comparative analysis of the accuracy of alternative solutions for the demonstration of the term-definition of consistency)",null,null,null,null,null,null,"(MY-X team):","(Forbidden words and their AI-based revitalisation or derivaton rational sociological attributes of the term \"crime\")",null,null,"(KJE):","(Catalogue of cases: rapid projects 2023-Winter)",null,null,"MIAU No. = 305 ... (MIAU No. = 306) ... MIAU No. = 307"]
["Pitlik László, Váradi Dániel, ifj. Pitlik László","Mesterséges intelligencia-alapú oktatásmódszertani kísérletek (esettanulmány-részletek)","(+)",null,"Bajkó Balázs, Pitlik László","A történelmi korszakhatárok mekkora változással vannak a szókincsükre, avagy a szavak gyakoriságának a vizsgálata az NGRAM-VIEWER támogatásával","(+)",null,"Pitlik László","Hibakeresés, rendszerviselkedés többlépéses tesztelése komplex összefüggések esetén","(+)",null,null,null,null,null,"Pitlik László","Matematikai feladat magyar nyelvi megfogalmazásának Excel-alapú átiratai","(+)",null,"Pitlik László, Pitlik Marcell, Váradi Dániel","PPT: Konzisztencia-orientált növénytermesztési termelési függvények levezetése MI-támogatással időjárási adatok bevonása mellett","(+)"]
["(MY-X team):","(AI-based education - case-study-abstracts)",null,null,"(MY-X team):","(NGRAM-VIEWER-based analyses of era-boundaries)",null,null,"(MY-X team):","(Error-interpretation,step-by-step exploring system behaviours in case of complex systems)",null,null,null,null,null,null,"(MY-X team):","Transcription variations of a mathematical problem based on a task-description in natural language",null,null,"(MY-X team, KJE):","(Deriving consistence-oriented production functions for plants based on AI support involving weather data)"]
["Balogh Imola Barbara, Lórántffy Laura","Kenyérár-becslés a 2022-es évre az egyéb termékek, szolgáltatások árai, keretfeltételt jelentő erőterek alapján","(+)",null,"László Pitlik","Deutschsprachige Demo-Publikation: Behandlung von fehlenden Datenpositionen in Zeitreihen","(+)",null,"László Pitlik","KI-basierte Analysemöglichkeiten von Lagerbestandsdaten für prozessanalytische Zwecke","(+)",null,null,null,null,null,"Pitlik László","Cyborg-etológia, avagy ember-gép-interakciók tesztelése a chatGPT kapcsán","(+)",null,"VIRTOUR","2DM-alapú tudományos ismeretterjesztés biológia témakörben II. (madarak) (2DM-based dissemination of scientific knowledge on the field of the biology Part II - Birds)","(+)"]
["(MY-X team):","(Forecasting the price of the bread for the year 2022 based on prices of other products, services and framework conditions)",null,null,"(MY-X team):",null,null,null,"(MY-X team):",null,null,null,null,null,null,null,"(MY-X team):","ChatGPT cyborg-etology human-machine-interactions",null,null,"(VIRTOUR):"]
["Pitlik László","Bírálók bírálata – avagy ki vigyáz az őrzőkre? (Critical interpretations of critical interpretations – or who watches the watchers?)","(+)",null,"Patkós Boglárka, Pitlik László","Dechatlon országúti kerékpárok árának alakulása, avagy alternatív jövők konzisztenciája","(+)",null,"Pitlik László","Kivonatok leendő PhD-Hallgatók felkészítéséből - 2 of n","(+)",null,null,null,null,null,"Dániel Váradi, László Pitlik","PPT: MEASURING HOMOGENEITY OF COUNTRIES IN THE EUROPEAN UNION BASED ON SIMILARITY ANALYSES","(+)"]
["(MY-X team):",null,null,null,"(MY-X team):","(Price analyses for Dechatlon-bikes or consistence of alternative future scenarios)",null,null,"(MY-X team):","(Highlights from the preparation process of future PhD-Students - 2 of n)",null,null,null,null,null,null,"(KJE/MY-X team):",null,null,null,"MIAU No. = 304 ... (MIAU No. = 305) ... MIAU No. = 306"]
["Váradi Dániel","Inkonzisztens előrejelzések veszélyei a Google Trends adatai alapján, avagy felemelkedés a konzisztencia világába","(+)",null,"Környei Dávid","Adat-vezérelt sakk-robotot célzó fejlesztési kísérletek","(+)",null,"Pitlik László","Kivonatok leendő PhD-Hallgatók felkészítéséből - 1 of n","(+)",null,null,null,null,null,"Dániel Váradi, László Pitlik","MP3: MEASURING HOMOGENEITY OF COUNTRIES IN THE EUROPEAN UNION BASED ON SIMILARITY ANALYSES","(+)"]
["(KJE):","(Risks of the inconsistent forecasts)",null,null,"(MY-X team):","(Experiments for developing data-driven chess-robots)",null,null,"(MY-X team):","(Highlights from the preparation process of future PhD-Students - 1 of n)",null,null,null,null,null,null,"(KJE/MY-X team):"]
["Anonim Hallgató","Speciális Rosling/Gapminder-vizualitás/animáció","(+)",null,"Szántó Dóra","Kivándorlás, jólét összehasonlító elemzése","(+)",null,"Baranyai Attila, Pitlik László","Robot HR elemző","(+)",null,null,null,null,null,"Dániel Váradi, László Pitlik","FULL: MEASURING HOMOGENEITY OF COUNTRIES IN THE EUROPEAN UNION BASED ON SIMILARITY ANALYSES","(+)"]
["(KJE):","(Special Rosling/Gapminder-visualization/animation)",null,null,"(MY-X team):","(Similarity analyses concerning migration and well-being)",null,null,"(KJE/MY-X team):","(HR-Robot)",null,null,null,null,null,null,"(KJE/MY-X team):"]
["Zsolt Lajos Kontra, László Pitlik","Artificial Intelligence-Based Sports Economics Analyses - Project Starlight: Robot-Eye for (Turkish) Football Player Talent Identification","(+)",null,"Buzder-Lantos István","A Covid-robot, avagy befolyásoló tényezők feltárása a COVID-19 vírus terjedésére","(+)",null,"Anonim Hallgató, Pitlik László","Aranykor/piaci érték-elemzések a magyar piacon Google-Trends-adatok alapján: Auchan-Tesco-Aldi-Lidl-Penny-Coop-Spar","(+)",null,null,null,null,null,"Dániel Váradi, László Pitlik","ABSTRACT: MEASURING HOMOGENEITY OF COUNTRIES IN THE EUROPEAN UNION BASED ON SIMILARITY ANALYSES","(+)"]
["(MY-X team):",null,null,null,"(MY-X team):","(The robot of the Covid: Identifying factors influencing the spread of COVID-19 virus)",null,null,"(MY-X team):","(Golden ages or dynamic brand-values for Auchan-Tesco-Aldi-Lidl-Penny-Coop-Spar in Hungary based on data from Google Trends)",null,null,null,null,null,null,"(KJE/MY-X team):"]
[null,null,null,null,"Knotz Szilvia, Pitlik László","Áfa-változás hatásvizsgálata Google Trends adatok alapján, avagy nyugodtan alhatnak-e a szavazásokban érintett parlamenti képviselők?","(+)",null,"Pitlik László","PPT: A jövőkutatás lehetséges jövője: Idő-modellek, mint konzisztencia-keretek","(+)"]
["MIAU No. = 299 ... (MIAU No. = 300) ... MIAU No. = 301",null,null,null,"(MY-X team):","(Impact assessment of VAT change based on Google Trends data or can the members of parliament sleep peacefully?)",null,null,"(KJE/MY-X team):","(Potential future of the futurology: Time-models for consistence frames)",null,null,null,null,null,null,"MIAU No. = 303 ... (MIAU No. = 304) ... MIAU No. = 305"]
[null,null,null,null,"Pitlik László","MI indukálta hatások és annak következményei a jövőkutatásban","(+)",null,"Pitlik László","MP4: A jövőkutatás lehetséges jövője: Idő-modellek, mint konzisztencia-keretek","(+)",null,null,null,null,null,"miau.my-"]
[null,null,null,null,"(KJE):","(Inductive impacts concerning futurology based on AI)",null,null,"(KJE/MY-X team):","(Potential future of the futurology: Time-models for consistence frames)"]
[null,null,null,null,"László Pitlik, Dániel Váradi, Marcell Pitlik","Simulator development for yield estimation (in case of corn, oats, soybean) based on weather-data (6th International Congress on Scientific Research August 18-20. 2023, Ankara by IKSAD Institute)","(+)",null,"Pitlik László","A jövőkutatás lehetséges jövője: Idő-modellek, mint konzisztencia-keretek","(+)"]
[null,null,null,null,"(MY-X team / KJE):",null,null,null,"(KJE/MY-X team):","(Potential future of the futurology: Time-models for consistence frames)"]
[null,null,null,null,null,null,null,null,"László Pitlik, Dániel Váradi, László Pitlik Jr.","Experiments in artificial intelligence-based educational methodology (case study presentations) (6th International Congress on Scientific Research August 18-20. 2023, Ankara by IKSAD Institute)","(+)"]
[null,null,null,null,"MIAU No. = 300 ... (MIAU No. = 301) ... MIAU No. = 302",null,null,null,"(MY-X team / KJE):"]
[]
[null,null,null,null,null,null,null,null,"MIAU No. = 301 ... (MIAU No. = 302) ... MIAU No. = 303"]

{"sheet":"2023_01...07","index":22,"n_rows":42,"n_cols":27,"rows_kept":42,"cut":false,"hidden":false,"merged":[[34,25,35,25],[34,26,35,26],[36,25,37,25],[36,26,37,26],[28,25,29,25],[28,26,29,26],[30,25,31,25],[30,26,31,26],[32,25,33,25],[32,26,33,26],[24,25,25,25],[24,26,25,26],[26,25,27,25],[26,26,27,26],[12,25,13,25],[12,26,13,26],[14,26,15,26],[16,26,17,26],[18,26,19,26],[20,26,21,26],[24,22,25,22],[26,21,27,21],[26,22,27,22],[2,26,3,26],[4,26,5,26],[6,25,7,25],[6,26,7,26],[8,26,9,26],[10,25,11,25],[10,26,11,26],[12,22,13,22],[14,22,15,22],[16,22,17,22],[18,22,19,22],[20,22,21,22],[22,22,23,22],[2,22,3,22],[4,21,5,21],[4,22,5,22],[6,22,7,22],[8,22,9,22],[10,22,11,22],[22,25,23,25],[22,26,23,26],[30,18,31,18],[32,18,33,18],[34,17,35,17],[34,18,35,18],[36,18,37,18],[38,17,39,17],[38,18,39,18],[24,17,25,17],[24,18,25,18],[26,17,27,17],[26,18,27,18],[28,17,29,17],[28,18,29,18],[20,18,21,18],[22,17,23,17],[22,18,23,18],[10,17,11,17],[10,18,11,18],[12,17,13,17],[12,18,13,18],[14,17,15,17],[14,18,15,18],[2,17,3,17],[2,18,3,18],[4,17,5,17],[4,18,5,18],[6,17,7,17],[6,18,7,18],[8,17,9,17],[8,18,9,18],[18,13,19,13],[18,14,19,14],[10,14,11,14],[12,14,13,14],[14,13,15,13],[14,14,15,14],[16,13,17,13],[16,14,17,14],[16,17,17,17],[16,18,17,18],[18,17,19,17],[18,18,19,18],[26,6,27,6],[24,10,25,10],[26,9,27,9],[26,10,27,10],[2,13,3,13],[2,14,3,14],[4,13,5,13],[4,14,5,14],[6,14,7,14],[8,14,9,14],[10,13,11,13],[14,9,15,9],[14,10,15,10],[16,10,17,10],[18,10,19,10],[20,10,21,10],[22,10,23,10],[26,12,27,12],[26,14,27,14],[20,14,21,14],[22,13,23,13],[22,14,23,14],[24,12,25,12],[24,14,25,14],[2,10,3,10],[4,10,5,10],[6,10,7,10],[8,9,9,9],[8,10,9,10],[10,9,11,9],[10,10,11,10],[12,9,13,9],[12,10,13,10],[38,2,39,2],[2,5,3,5],[2,6,3,6],[4,5,5,5],[4,6,5,6],[6,5,7,5],[6,6,7,6],[8,5,9,5],[8,6,9,6],[10,5,11,5],[28,5,29,5],[28,6,29,6],[10,6,11,6],[12,5,13,5],[12,6,13,6],[14,5,15,5],[14,6,15,6],[16,5,17,5],[16,6,17,6],[30,6,31,6],[18,6,19,6],[20,6,21,6],[22,6,23,6],[24,6,25,6],[28,1,29,1],[28,2,29,2],[30,2,31,2],[32,2,33,2],[34,2,35,2],[36,2,37,2],[18,2,19,2],[20,2,21,2],[22,2,23,2],[24,2,25,2],[26,1,27,1],[26,2,27,2],[10,1,11,1],[10,2,11,2],[12,1,13,1],[12,2,13,2],[14,2,15,2],[16,2,17,2],[2,2,3,2],[4,2,5,2],[6,1,7,1],[6,2,7,2],[8,1,9,1],[8,2,9,2]]}
["MIAU No. = 293 *** Év/Year = 2023 *** Hónap/Month = január",null,null,null,"MIAU No. = 294 *** Év/Year = 2023 *** Hónap/Month = február",null,null,null,"MIAU No. = 295 *** Év/Year = 2023 *** Hónap/Month = március",null,null,null,"MIAU No. = 296 *** Év/Year = 2023 *** Hónap/Month = április",null,null,null,"MIAU No. = 297 *** Év/Year = 2023 *** Hónap/Month = május",null,null,null,"MIAU No. = 298 *** Év/Year = 2023 *** Hónap/Month = június",null,null,null,"MIAU No. = 299 *** Év/Year = 2023 *** Hónap/Month = július"]
[]
["Deák Zsombor","1-napos időjárás-előrejelzések pontossága","(+)",null,"László Hammerl, László Pitlik","PPT: Evaluation and simulation of the European hydrogen market based on diverse similarity analyses","(+)",null,"Pitlik Dóra, Pitlik László","Napelem-kísérletek input-output kapcsolatainak leírása termelési függvénnyel","(+)",null,"László Pitlik","Derivation and evaluation of alternative OAMs without lacking positions from an raw OAM with lacking positions","(+)",null,"Dániel Czúni, Gyöngyi Bánkuti, László Pitlik","Full text: INTRODUCTION OF A TEXT MINING-BASED DECISION SUPPORT TECHNIQUE","(+)",null,"Pitlik Marcell, Pitlik László","Erősen ingadozó megrendelés-állományú cégek döntési folyamatainak támogatása hasonlóságelemzésekkel","(+)",null,"Borgulya János Márk, Pitlik László","ChatGPT: Ember-gép-kooperációs gyakorlatok IIa/b. - Tényszerű tudás","(+)"]
["(KJE):","(Fitting values for the 1-day-forcasts in case of different weather-phenomena concerning Budapest)",null,null,"(MY-X team):",null,null,null,"(MY-X team):","(Production-function-based description of performances and input conditions from experiments with solar panels)",null,null,"(MY-X team):",null,null,null,"(MY-X team):",null,null,null,"(MY-X team):","(Similarity-based decision support for enterprises with massive changing customer potential)",null,null,"(MY-X team):","(Chat-GPT Excercises Part IIa/b. - about human-machine-cooperation possibilities concerning facts)"]
["Viktória Hrabosová","A többnapos turisztikai belföldi utazások trendje Magyarországon 2022-re nézve","(+)",null,"László Hammerl, László Pitlik","Full-text: Evaluation and simulation of the European hydrogen market based on diverse similarity analyses","(+)",null,"Pitlik László","Biztosítási piac idealitása és kapcsolata a GDP-vel országoként","(+)",null,"Vancsura István, Pitlik László","Different approaches for derivation of risk-index-values in case of transaction-evaluation?","(+)",null,"Dániel Czúni, Gyöngyi Bánkuti, László Pitlik","MP4: INTRODUCTION OF A TEXT MINING-BASED DECISION SUPPORT TECHNIQUE","(+)",null,"Marcell Pitlik, Dániel Váradi, László Pitlik","Simulator development for yield estimation (in case of corn, oats, soybean) based on weather-data","(+)",null,"Rácz Lívia, Pitlik László","ChatGPT: Ember-gép-kooperációs gyakorlatok I. - Élethosszigtartó tanulás","(+)"]
["(KJE):","(Estimation of the number of multiday-tourists for the last quarter of 2022)",null,null,"(MY-X team):",null,null,null,"(MY-X team):","Country-based ideality index concerning the insurance market and GDP-modeling",null,null,"(MY-X team):",null,null,null,"(MY-X team):",null,null,null,"(MY-X team):",null,null,null,"(MY-X team):","(Chat-GPT Excercises Part I. - about human-machine-cooperation possibilities concerning life-long-learning)"]
["László Pitlik (sen), Dániel Váradi, László Pitlik (jun), Mátyás Pitlik, Marcell Pitlik","MP3: NON-CAUSAL MODELLING AND FORECASTING","(+)",null,"László Hammerl, László Pitlik","MP4: Evaluation and simulation of the European hydrogen market based on diverse similarity analyses","(+)",null,"Csohány Andor, Sztanojev Mercédesz","Bitcoin értékének alakulása a közeljövőben (1 hónap múlva)","(+)",null,"Pitlik László","A német AFD és a német politikai vezetők Google-Trends-alapú összefüggésrendszerének feltárása hasonlóságelemzéssel","(+)",null,"Dániel Czúni, Gyöngyi Bánkuti, László Pitlik","PPT: INTRODUCTION OF A TEXT MINING-BASED DECISION SUPPORT TECHNIQUE","(+)",null,"Pitlik László, Pitlik László (jun)","Oktatást támogató innovatív IT-megoldások/filozóiák pedagógusoknak","(+)",null,"Zsolt Lajos Kontra","Thesis: Artificial Intelligence-Based Sports Economics Analyses","(+)"]
["(MY-X team):",null,null,null,"(MY-X team):",null,null,null,"(MY-X team):","(Forecasts for bitcoin concerning the next month)",null,null,"(MY-X team):","(Pattern-exploration for AFD and the german political elite based on Google Trends Data)",null,null,"(MY-X team):",null,null,null,"(KJE):","(IT-solutions and strategies for teachers supporting education)",null,null,"(MY-X team):"]
["László Pitlik (sen), Dániel Váradi, László Pitlik (jun), Mátyás Pitlik, Marcell Pitlik","PPT: NON-CAUSAL MODELLING AND FORECASTING","(+)",null,"László Hammerl, László Pitlik","Abstract: Evaluation and simulation of the European hydrogen market based on diverse similarity analyses","(+)",null,"László Pitlik","Symmetry-evaluation based on similarity analyses","(+)",null,"Pitlik László","Solver-alapú feladatmegoldás 8. osztályos matematikai felvételi feladat kapcsán","(+)",null,"Dániel Czúni, Gyöngyi Bánkuti, László Pitlik","Abstract: INTRODUCTION OF A TEXT MINING-BASED DECISION SUPPORT TECHNIQUE","(+)",null,"Pitlik László","A nemzetközi pénzpiac stabilitásának alakulása 2017-2021 között","(+)",null,"Muhari Adrienn","Információhalmazok OAM szempontok szerinti feldolgozása és elemzése","(+)"]
["(MY-X team):",null,null,null,"(MY-X team):",null,null,null,"(MY-X team):",null,null,null,"(MY-X team):","(Solver-based solutionn of a mathematical problem for primary schools)",null,null,"(MY-X team):",null,null,null,"(KJE):","(Stability index for the international monetary system between 2017-2021)",null,null,"(MY-X team):","(OAM-based analyses)"]
["László Pitlik (sen), Dániel Váradi, László Pitlik (jun), Mátyás Pitlik, Marcell Pitlik","FULL-TEXT: NON-CAUSAL MODELLING AND FORECASTING","(+)",null,"László Pitlik (sen), Dániel Váradi, László Pitlik (jun), Mátyás Pitlik, Marcell Pitlik","Full-text: How can the overlearning-risk be detected and handled in model- and case-level based on the DIF(e)SA (direct-inverse-function-symmetry) approach?","(+)",null,"László Pitlik","Token-based chatGPT3 - Example","(+)",null,"Bócz Viktor","Design pattern","(+)",null,"István Vancsura, László Pitlik","PPT: FINANCE PROCESS AUTOMATION WITH NUMBERICAL DECISION MAKING","(+)",null,"Pitlik László","Excel 3D-animáció - sport/divat-tudatosság Magyarországon","(+)",null,"Zsolt Lajos Kontra, László Pitlik","Full-text: Artificial Intelligence-Based Sports Economics Analyses Project Starlight: Robot-Eye for (Turkish) Football Player Talent Identification","(+)"]
["(MY-X team):",null,null,null,"(MY-X team):",null,null,null,"(MY-X team):",null,null,null,"(MY-X team):",null,null,null,"(MY-X team):",null,null,null,"(KJE):","(Excel 3D-animation: sport/fashion-importance in Hungary)",null,null,"(MY-X team):"]
["László Pitlik (sen), Dániel Váradi, László Pitlik (jun), Mátyás Pitlik, Marcell Pitlik","ABSTRACT: NON-CAUSAL MODELLING AND FORECASTING","(+)",null,"László Pitlik (sen), Dániel Váradi, László Pitlik (jun), Mátyás Pitlik, Marcell Pitlik","MP4: How can the overlearning-risk be detected and handled in model- and case-level based on the DIF(e)SA (direct-inverse-function-symmetry) approach?","(+)",null,"László Pitlik, Adrienn Muhari, Attila Jónás, Zsófia Hirschmann, Zsuzsanna Kiss","Robot-Citizen, or automated data-driven decision support for elections","(+)",null,"Pitlik László, Anonim Hallgató","Szövegbányászat hasonlóságelemzéssel források dinamikus kulcsszó-dominanciájának feltárására","(+)",null,"István Vancsura, László Pitlik","MP4: FINANCE PROCESS AUTOMATION WITH NUMBERICAL DECISION MAKING","(+)",null,"Jónás Attila, Pitlik László","ChatGPT-verziókat összehasonlító elemzések II.","(+)",null,"Zsolt Lajos Kontra, László Pitlik","Abstract: Artificial Intelligence-Based Sports Economics Analyses Project Starlight: Robot-Eye for (Turkish) Football Player Talent Identification","(+)"]
["(MY-X team):",null,null,null,"(MY-X team):",null,null,null,"(MY-X team):",null,null,null,"(MY-X team):","(Text-mining based on similarity analyses for exploring dynamic behaviour of keyword-dominance)",null,null,"(MY-X team):",null,null,null,"(KJE):","(Comparing chatGPT versions - Part II)",null,null,"(MY-X team):"]
["Balogh Imola Barbara, Lórántffy Laura","A kenyér árának előrejelzése a 2021-es évre","(+)",null,"László Pitlik (sen), Dániel Váradi, László Pitlik (jun), Mátyás Pitlik, Marcell Pitlik","PPT: How can the overlearning-risk be detected and handled in model- and case-level based on the DIF(e)SA (direct-inverse-function-symmetry) approach?","(+)",null,"László Pitlik, Adrienn Muhari, Attila Jónás, Zsófia Hirschmann, Zsuzsanna Kiss","Human-ethology, human-ecology - robotized","(+)",null,"György Losonczi","ONLINE MARKETING STRATEGIES OF THE NATIONAL MUSEUMS AND LIBRARIES (EU28)","(+)",null,"Zsolt Lajos Kontra, László Pitlik","MP4: Starlight","(+)",null,"Jónás Attila, Pitlik László","ChatGPT-verziókat összehasonlító elemzések I.","(+)",null,"Liber Péter","Magyarország egészségügyi állapotának vizsgálata, avagy mennyire egyenszilárd a járóbeteg ellátás különböző regionális szinteken és idősorosan Magyarországon?","(+)"]
["(KJE):","(Forecast for 2021 in case of the bread price)",null,null,"(MY-X team):",null,null,null,"(MY-X team):",null,null,null,"(MY-X team):",null,null,null,"(MY-X team):",null,null,null,"(KJE):","(Comparing chatGPT versions - Part I)",null,null,"(MY-X team):","(Homogeneity analyses about the Hungarian health care services)"]
["Pitlik László","Attribútumok szórása, mint új attribútum NCM keretek között","(+)",null,"László Pitlik (sen), Dániel Váradi, László Pitlik (jun), Mátyás Pitlik, Marcell Pitlik","Abstract: How can the overlearning-risk be detected and handled in model- and case-level based on the DIF(e)SA (direct-inverse-function-symmetry) approach?","(+)",null,"Jónás Attila","PPT: Nyílt adatbázisok automatizált elemzése OAM megközelítés alkalmazásával","(+)",null,"László Pitlik, Dániel Váradi","PPT: JOKER#2 OR DERIVATION OF LACKING DATA IN BIOLOGICAL SYSTEMS","(+)",null,"Zsolt Lajos Kontra, László Pitlik","PPT: Starlight","(+)",null,"Rikk János, Pitlik László","ChatGPT-kísérletek - programozás","(+)",null,"Ács Kinga","Robot-polgár, robot-politológus - avagy mit lehet automatizálni a politikai elemzések kapcsán?","(+)"]
["(MY-X team):","(Standard deviation as a new attribute based on NCM)",null,null,"(MY-X team):",null,null,null,"(MY-X team):","(Automated estimations based on open databases using OAM and chained similarity analyses)",null,null,"(MY-X team):",null,null,null,"(MY-X team):",null,null,null,"(KJE):","(Experiments with chatGPT on the field of creating source codes)",null,null,"(MY-X team):","(Robot-citizen, robot-politician or what can be analysed in automated ways concerning political processes?)"]
["Váradi Dániel","Attribútumok között kikényszerített konzisztencia NCM-alapon","(+)",null,"Pitlik László","Felzárkózik-e a magyar átlagbér az EU-s átlagbérhez?","(+)",null,"Hirschmann Zsófia","PPT: Választási esélyek egységes rendszerű elemzése több országra párhuzamosan","(+)",null,"László Pitlik, Dániel Váradi","Abstract: JOKER#2 OR DERIVATION OF LACKING DATA IN BIOLOGICAL SYSTEMS","(+)",null,"László Pitlik, László Pitlik (jun), Marcell Pitlik","Modelling challenges on the field of IT-security (based on artificial intelligence)","(+)",null,"Pitlik László","Naiv és optimalizált tudásvágy-indexek NGRAM-adatok alapján","(+)",null,"Forsterné Kolosa Esztella, Pitlik László","A munkanélküliek száma és a bruttó átlagkereset változása Magyarországon vármegyénként 2016 és 2022 között","(+)"]
["(MY-X team):","(Enforced consistence between attributes based on an NCM-approach)",null,null,"(MY-X team):","(Is there any approximation between the average salaries in Hungary and the EU?)",null,null,"(MY-X team):","(Automated estimations of future impacts of elections for a set of countries in a parallel way)",null,null,"(MY-X team):",null,null,null,"(MY-X team):",null,null,null,"(KJE):","(Naive and optimized Thirst-For-Knowledge-Index-Generations based on NGRAM-data)",null,null,"(MY-X team):","(Rosling animation about average salary and unemployment ratio for counties in Hungary 2016-2022)"]
["Pitlik László","NCM láncolt és/vagy átfedéses előrejelzésekkel","(+)",null,"Szemesiné Cseh Kata","A könyvtárhasználat alakulása az energiaárak függvényében","(+)",null,"Pitlik László (jun)","Matematika feladatok tánciskolásoknak II.","(+)",null,"László Pitlik","India és Sri Lanka összehasonlítása GAPMINDER-alapú animáció keretében","(+)",null,"Pitlik László","Szövegbányászati, szöveg-manipulációs lehetőségek képlettel és menüből Excel-ben","(+)",null,"Sipos Péter, Pitlik László","ChatGPT kísérletek: 2dm-játékok generálása (2. rész)","(+)",null,"Anonim Hallgató","Rosling-animáció: Fogyasztóiár-index alakulása (1961-2022) fogyasztási főcsoportok szerint az előző évhez képest","(+)"]
["(MY-X team):","(NCM with chaining and/or overlapping effects)",null,null,"(KJE):","(Estimation of the number of the library-visitors for the next year)",null,null,"(MY-X team):","(Mathematics for dancers - Part II.)",null,null,"(MY-X team):","(Comparison of India and Sri Lanke in frame of a GAPMINDER-animation)",null,null,"(MY-X team):","(Text mining/text-converting possibilities in Excel with formulas and based on the menu)",null,null,"(KJE):","(Chat-GPT-experiments: Generating 2dm-games - Part II)",null,null,"(MY-X team):","(Price index animation with GAPMINDER for product/service-groups in case of 1961-2022 / previous year = 100%)"]
["Pitlik László","NCM szezonális mintázatok","(+)",null,"Pitlik László","Gyakorló feladat makro-alapú és makro nélküli problémamegoldások érdekében","(+)",null,"Pitlik László (jun)","Matematika feladatok tánciskolásoknak I.","(+)",null,"László Pitlik, Dániel Váradi","JOKER#2 OR DERIVATION OF LACKING DATA IN BIOLOGICAL SYSTEMS","(+)",null,"László Pitlik","ChatGPT-experiment#3 - a quasi interview with Mr. Chat GeePeeTee (robot-expert for all)","(+)",null,"Sipos Péter, Pitlik László","ChatGPT kísérletek: 2dm-játékok generálása (1. rész)","(+)",null,"László Pitlik","How to focus on relevant details in case of HR-statistics based on similarity analysis?","(+)"]
["(MY-X team):","(NCM with seasonal patterns)",null,null,"(MY-X team):","(Problem handling with and without macros)",null,null,"(MY-X team):","(Mathematics for dancers - Part I.)",null,null,"(MY-X team):",null,null,null,"(MY-X team):",null,null,null,"(KJE):","(Chat-GPT-experiments: Generating 2dm-games - Part I)",null,null,"(MY-X team):"]
["Pitlik László","NCM spontán és kikényszerített mintázatok","(+)",null,"Pitlik László","Előrejelzés-hitelességi probléma inicializálása hosszútávú időjárási prognózisok esetében","(+)",null,"Pitlik László, (Anonim Hallgatók)","EGO-alapú online szakértői rendszer demo-állományok","(+)",null,"Pitlik László:","Oktatásmódszertani kísérlet - csak szöveges kommunikációra alapuló oktatás","(+)",null,"István Vancsura, László Pitlik","Abstract: FINANCE PROCESS AUTOMATION WITH NUMBERICAL DECISION MAKING","(+)",null,"Anonim Hallgató","Rendszermodellezés - esettanulmány","(+)",null,"László Pitlik","Is the LINUX-bubble quasi closed or new linux versions/releases may still be expected in future?","(+)"]
["(MY-X team):","(NCM with spontaneous and enforced patterns)",null,null,"(MY-X team):","(Initializing a Turing-test-situation concerning the validity of weather forecasts for 30 days)",null,null,"(MY-X team):","(EGO-based online demo expert systems)",null,null,null,"(Teaching-methodology-experiment - education only in written form)",null,null,"(MY-X team):",null,null,null,"(KJE):","(System modelling - case study)",null,null,"(MY-X team):"]
["Pitlik László","NCM and ceteris paribus","(+)",null,"Pitlik László","Kutatási/publikációs terv - Politikai pluralizmus -index","(+)",null,"László Pitlik","Excel-based data-vizualisation","(+)",null,"Pitlik László:","Oktatást támogató tippek, trükkök pedagógusoknak","(+)",null,"László Pitlik","Potential stars and similarities (or geometry/aera-based object evaluations)","(+)",null,"István Vancsura, László Pitlik","FINANCE PROCESS AUTOMATION WITH NUMBERICAL DECISION MAKING","(+)",null,"László Pitlik","Device-location in a building based on several wifi-signals or how to create average-oriented (naive) models with rel. high accuracy?","(+)"]
["(MY-X team):",null,null,null,"(MY-X team):","(Research/publication plan concerning the political pluralism-index based on Google Trends)",null,null,"(MY-X team):",null,null,null,null,"(How can IT-solutions support the education/didactics?)",null,null,"(MY-X team):",null,null,null,"(MY-X team):",null,null,null,"(MY-X team):"]
["Pitlik László","JOKER#2","(+)",null,"Pitlik László","Symmetries of direct and inverse staircase-function-layers in case of random OAMs","(+)",null,null,null,null,null,null,null,null,null,"Zsolt Lajos Kontra, László Pitlik","Project Starlight (abstract): Robot-eye for (Turkish) football player-talent-identification","(+)",null,null,null,null,null,"László Pitlik","Interpretation anomalies of a health consciuosness index","(+)"]
["(MY-X team):",null,null,null,"(MY-X team):",null,null,null,"MIAU No. = 294 ... (MIAU No. = 295) ... MIAU No. = 296",null,null,null,"MIAU No. = 295 ... (MIAU No. = 296) ... MIAU No. = 297",null,null,null,"(MY-X team):",null,null,null,"MIAU No. = 297 ... (MIAU No. = 298) ... MIAU No. = 299",null,null,null,"(MY-X team):"]
["Nagy Richárd","RPA-demo rendszertervezési és rendszerdokumentációs céllal","(+)",null,"Balogh Vince","A Laphroaig 10 whisky árának becslése 2023-ra vonatkozóan","(+)",null,null,null,null,null,"miau.my-",null,null,null,"POSZMIK BARNA, PITLIK LÁSZLÓ","CHATGPT-KÍSÉRLETEK NR.2. - AVAGY A CHATGPT MATEMATIKAI KÉPESSÉGEI?","(+)",null,"miau.my-",null,null,null,"László Pitlik, Marcell Pitlik","Consistence-based estimation of bearing degradations","(+)"]
["(KJE):","(Robotic process automation demonstration material for system planning)",null,null,"(KJE):","(Estimation of Laphroaig 10 whisky price for 2023)",null,null,null,null,null,null,null,null,null,null,"(MY-X team):","(Experiment#2 - About the mathematical potential of the chatGPT)",null,null,null,null,null,null,"(MY-X team):"]
["Sipos Péter","Rendszertervezési, rendszerdokumentációs kísérletek kollaboratív környezetben","(+)",null,null,null,null,null,null,null,null,null,null,null,null,null,"POSZMIK BARNA, DEÁK ZSOMBOR, PITLIK LÁSZLÓ","CHATGPT-KÍSÉRLETEK NR.1. - VAN-E JÓSÁG-FOGALMA A CHATGPT-NEK, ILL. KELLŐEN PC-E A CHATGPT KOMMUNIKÁCIÓJA?","(+)",null,null,null,null,null,"László Pitlik","Case study: System modelling education-logs with history layers and its experiences concerning problem solving","(+)"]
["(KJE):","(Experimental documentation and system planning in a collaborative frame)",null,null,"MIAU No. = 293 ... (MIAU No. = 294) ... MIAU No. = 295",null,null,null,null,null,null,null,null,null,null,null,"(MY-X team):","(Experiment#1 - Is there any term for Good in/behind chatGPT and/or is chatGPT PC-enough?)",null,null,null,null,null,null,"(MY-X team):"]
["Patkós Boglárka","EUR/HUF árfolyam-előrejelzés 1 napra","(+)",null,"miau.my-",null,null,null,null,null,null,null,null,null,null,null,"László Pitlik","Validated integration of more than 5 Google Trends data sets","(+)",null,null,null,null,null,"László Pitlik","Comparing anti-virus softwares","(+)"]
["(KJE):","(Forecast of the EUR/HUF course for 1 day)",null,null,null,null,null,null,null,null,null,null,null,null,null,null,"(MY-X team):",null,null,null,null,null,null,null,"(MY-X team):"]
["Pitlik László","Select distinct kimutatás-varázslás nélkül kérdőívek esetén","(+)",null,null,null,null,null,null,null,null,null,null,null,null,null,"Sipos Péter","C# exe-állomány visszafejtése","(+)",null,null,null,null,null,"Dániel Czúni, Gyöngyi Bánkuti, László Pitlik","INTRODUCTION OF A TEXT MINING-BASED DECISION SUPPORT TECHNIQUE","(+)"]
["(KJE):","(A select-distinct-approach without pivot tables in case of questionnaires)",null,null,null,null,null,null,null,null,null,null,null,null,null,null,"(KJE):","(Reverse engineering: C# exe)",null,null,null,null,null,null,"(MY-X team):"]
["Pitlik László, Rikk János","EEG-jelek koncepció-kényszer nélküli és mintázat-kényszeres értelmezései","(+)",null,null,null,null,null,null,null,null,null,null,null,null,null,"Zsolt Lajos Kontra, László Pitlik","PROJECT STARLIGHT: ROBOT-EYE FOR (TURKISH) FOOTBALL PLAYER-TALENT IDENTIFICATION","(+)"]
["(MY-X team):","(Interpretations of EEG-signs with or without predefined concepts)",null,null,null,null,null,null,null,null,null,null,null,null,null,null,"(MY-X team):",null,null,null,null,null,null,null,"MIAU No. = 298 ... (MIAU No. = 299) ... MIAU No. = 300"]
[]
["MIAU No. = 292 ... (MIAU No. = 293) ... MIAU No. = 294",null,null,null,null,null,null,null,null,null,null,null,null,null,null,null,"MIAU No. = 296 ... (MIAU No. = 297) ... MIAU No. = 298"]

{"sheet":"Munka5","index":23,"n_rows":166,"n_cols":25,"rows_kept":166,"cut":false,"hidden":false,"merged":[[139,14,140,14],[141,14,142,14],[143,14,144,14],[145,13,146,13],[145,14,146,14],[147,14,148,14],[149,14,150,14],[151,13,152,13],[151,14,152,14],[125,13,126,13],[125,14,126,14],[127,14,128,14],[129,14,130,14],[131,13,132,13],[131,14,132,14],[133,14,134,14],[135,14,136,14],[137,13,138,13],[137,14,138,14],[125,5,126,5],[125,6,126,6],[137,5,138,5],[145,5,146,5],[125,9,126,9],[125,10,126,10],[127,10,128,10],[129,10,130,10],[131,10,132,10],[133,9,134,9],[133,10,134,10],[135,10,136,10],[137,10,138,10],[139,10,140,10],[141,10,142,10],[143,10,144,10],[145,10,146,10],[147,10,148,10],[141,6,142,6],[143,6,144,6],[145,6,146,6],[147,5,148,5],[147,6,148,6],[149,5,150,5],[149,6,150,6],[151,5,152,5],[151,6,152,6],[127,6,128,6],[129,5,130,5],[129,6,130,6],[131,6,132,6],[133,6,134,6],[135,6,136,6],[137,6,138,6],[139,5,140,5],[139,6,140,6],[143,2,144,2],[145,2,146,2],[147,2,148,2],[149,2,150,2],[151,2,152,2],[153,2,154,2],[155,2,156,2],[157,2,158,2],[127,5,128,5],[141,5,142,5],[125,2,126,2],[127,2,128,2],[129,2,130,2],[131,2,132,2],[133,2,134,2],[135,2,136,2],[137,2,138,2],[139,2,140,2],[141,2,142,2],[76,6,77,6],[62,6,63,6],[64,6,65,6],[66,6,67,6],[68,6,69,6],[70,6,71,6],[78,6,79,6],[42,10,43,10],[44,9,45,9],[44,10,45,10],[46,10,47,10],[48,9,49,9],[78,10,79,10],[52,6,53,6],[54,6,55,6],[48,6,49,6],[50,6,51,6],[80,10,81,10],[82,9,83,9],[82,10,83,10],[68,10,69,10],[70,10,71,10],[72,10,73,10],[74,10,75,10],[76,10,77,10],[66,10,67,10],[68,2,69,2],[70,1,71,1],[70,2,71,2],[72,2,73,2],[72,5,73,5],[72,6,73,6],[48,10,49,10],[50,10,51,10],[52,10,53,10],[54,10,55,10],[56,10,57,10],[58,10,59,10],[60,10,61,10],[62,10,63,10],[64,10,65,10],[74,5,75,5],[74,6,75,6],[56,6,57,6],[58,6,59,6],[60,6,61,6],[42,2,43,2],[44,2,45,2],[46,2,47,2],[48,1,49,1],[48,2,49,2],[74,2,75,2],[58,2,59,2],[60,2,61,2],[62,2,63,2],[64,2,65,2],[66,2,67,2],[50,1,51,1],[50,2,51,2],[52,2,53,2],[54,2,55,2],[56,2,57,2],[42,6,43,6],[44,6,45,6],[46,6,47,6],[50,18,51,18],[52,18,53,18],[2,22,3,22],[4,22,5,22],[6,22,7,22],[8,22,9,22],[10,22,11,22],[2,21,3,21],[12,22,13,22],[38,18,39,18],[40,18,41,18],[42,18,43,18],[44,18,45,18],[46,18,47,18],[48,18,49,18],[26,18,27,18],[28,18,29,18],[30,18,31,18],[32,18,33,18],[34,18,35,18],[36,18,37,18],[24,18,25,18],[22,18,23,18],[12,14,13,14],[14,14,15,14],[16,13,17,13],[16,14,17,14],[12,18,13,18],[14,18,15,18],[16,18,17,18],[18,18,19,18],[20,18,21,18],[2,10,3,10],[4,10,5,10],[2,18,3,18],[4,18,5,18],[6,18,7,18],[8,18,9,18],[10,18,11,18],[8,14,9,14],[10,13,11,13],[10,14,11,14],[2,13,3,13],[2,14,3,14],[4,13,5,13],[4,14,5,14],[6,14,7,14],[20,9,21,9],[20,10,21,10],[28,6,29,6],[30,6,31,6],[32,6,33,6],[26,6,27,6],[22,10,23,10],[24,10,25,10],[6,10,7,10],[8,9,9,9],[8,10,9,10],[10,9,11,9],[10,10,11,10],[18,6,19,6],[20,6,21,6],[16,10,17,10],[18,10,19,10],[12,10,13,10],[14,10,15,10],[22,5,23,5],[22,6,23,6],[24,6,25,6],[14,2,15,2],[16,2,17,2],[2,6,3,6],[4,6,5,6],[6,6,7,6],[8,6,9,6],[10,6,11,6],[12,6,13,6],[14,6,15,6],[16,6,17,6],[2,2,3,2],[4,2,5,2],[6,2,7,2],[8,2,9,2],[10,2,11,2],[12,2,13,2]]}
["MIAU No. = 275 *** Év/Year = 2021 *** Hónap/Month = július",null,8,null,"MIAU No. = 276 *** Év/Year = 2021 *** Hónap/Month = augusztus",null,16,null,"MIAU No. = 277 *** Év/Year = 2021 *** Hónap/Month = szeptember",null,12,null,"MIAU No. = 278 *** Év/Year = 2021 *** Hónap/Month = október",null,8,null,"MIAU No. = 279 *** Év/Year = 2021 *** Hónap/Month = november",null,26,null,"MIAU No. = 280 *** Év/Year = 2021 *** Hónap/Month = december",null,6,null,{"$f":"SUM(A1:W1)","v":76}]
[]
["Pitlik László","COCO-MCM lépcsőszám optimalizálási kísérletek","(+)",null,"Pitlik László (jun)","Tanári záróvizsga - Szakdolgozatvédés - Tudásszintmérő tesztek","(+)",null,"Pitlik László, Rikk János","Publikációk anonim, párhuzamos bírálatainak anomáliái","(+)",null,"Pitlik László","A new approach instead of the Proof of Work (PoW) in case of blockchains","(+)",null,"Nagy Balázs","A virágméz árának változása az elmúlt két évben (avagy lehet-e két boltlánc ár-képzése egyformán kedvező?)","(+)",null,"Pitlik László","JOKER - minimal version - step1-2-3","(+)"]
["(MY-X team):","(Optimization attempts for COCO-MCM- stair-counts)",null,null,"(ELTE):","(Final exam (thesis): Tests for deriving knowledge levels)",null,null,"(MY-X team):","(Anomalies of anonymous, parallel evaluations of publications)",null,null,"(MY-X):",null,null,null,"(KJE):","(Analysis of honey prices on the last two years - or can two different supermarket chains be the best in pricing at the same time?)",null,null,"(MY-X team):"]
["Pitlik László","Nyelvi rekeszelés, avagy hogyan érzékeltessük írásban a hangsúlyozást avatárok számára","(+)",null,"Varga Dorottya","Ár-kockázat értékelés - VÉRNYOMÁSCSÖKKENTŐK","(+)",null,"Pitlik László","Solver-alapú problémamegoldás, avagy ami a matematikai oktatásból kimaradt","(+)",null,"Pitlik László, Pitlik László (jun)","Corresemblance – core-resemblance, or deriving of the non-existence of information added-values","(+)",null,"Nyeste Kristóf","COVID adatvagyon minőségbiztosításának anomáliái","(+)",null,"Pitlik László, Pitlik Marcell, Pitlik László (jun)","Csapágy-kopás becslése konzisztencia-alapú modellezéssel","(+)"]
["(MY-X team):","(The role of the structuring in the interpretation of languages/sentences or how it is possible to initialize verbal effects in written form)",null,null,"(OE):","(Price-risk assessment - ANTIHYPERTENSIVES)",null,null,"(MY-X team):","(Solver-based problem solving or what might be missing in the education of the mathematics)",null,null,"(MY-X):",null,null,null,"(OE):","(Anomalies in the data asset management about COVID-statistics)",null,null,"(MY-X team):","(Estimation of bearing wear based on consistence-oriented modelling)"]
["Pitlik László","Legalább egyszer előforduló értékek darabszámának megszámlálása Excel-függvényekre alapozva","(+)",null,"Kis András Nándor","Döntési esetjáték – optimalizált kezelése avagy kuratóriumi döntések robotizálási kísérletei","(+)",null,"Pitlik László","Solver-es kompetenciamérésre alkalmas alapfeladat","(+)",null,"Nagy Richárd, Pitlik László","IT-biztonsági ismeretek számonkérésének variánsai, stratégiái és szintjei","(+)",null,"Farkas Ádám","Vajon meghatározható-e, melyik a legjobb programozási nyelv?","(+)",null,"Pitlik László","Regresszió-alapú és lépcsős függvény-alapú anti-diszkriminatív modellek","(+)"]
["(MY-X team):","(Counting of distinct values based on Excel-functions)",null,null,"(OE):","(Decision case study – with optimization or attempts to robotize board decisions)",null,null,"(MY-X team):","(Basic task for competence evaluation concerning Solver-oriented problem solving)",null,null,"(KJE):","(Test versions for IT-security - Strategies, types and levels)",null,null,"(KJE):","(Whether can be determined the best programming language?)",null,null,"(My-X team):","(Anti-discriminative models - based on regressions and staircase functions)"]
["Pitlik Marcell","Félvezetők gyártási hibájának automatizált felismerése tömeges szenzor-adatok alapján","(+)",null,"Dlehány Noémi","Milyen mobilt vegyek 2021-ben?","(+)",null,"Pitlik László, Pitlik Marcell","Mirror-ball-based seeing in multi-layered evaluation I.","(+)",null,"Pitlik László, Pitlik Marcell","Solver-alapú fuzzy modellek vs. hasonlóságelemzés-variánsok versenye","(+)",null,"Gulyás Oldal Laura, Pitlik László","Személyek korkülönbségének becslése kézgeometriai jellemzők alapján","(+)",null,"Pitlik László, Pitlik László (jun)","Párhuzamos valószínűségek aggregálása hasonlóságelemzéssel","(+)"]
["(MY-X team):","(Automated error-detection in the production of semiconductors based on big data from sensor-information)",null,null,"(OE):","((What cell phone should I buy in 2021?)",null,null,"(MY-X team):",null,null,null,"(MY-X team):","(Fuzzy logic (solver-based) vs. similarity analyses - The competition)",null,null,"(OE):","(Age estimation based on palm/hand-geometry)",null,null,"(My-X team):","(Aggregation of parallel probabilities based on similarity analyses)"]
["Pitlik Marcell","Félvezetők gyártási hibájának felismerése lépcsős függvényekkel a SECOM adatbázis alapján","(+)",null,"Mácz Andrea, Pitlik Marcell, Nyomárkay Kristóf, Németh Tamás","PPT: Autós forgalom számlálása","(+)",null,"Pitlik László, Pitlik László (jun)","Multi-layered, objective, optimized evaluation of strategies over static code analysis tools","(+)",null,"Pitlik László","SUM() derived through PRODUCT()","(+)",null,"Kamenár Dávid","A COVID-19 vírus elleni védekezés sikeressége az Európai Unió tagállamaiban a 4. hullám idején","(+)",null,"Pitlik László","Komplex mintázatok felismerése hasonlóságelemzéssel","(+)"]
["(MY-X team):","(Derivation of production errors in case of semiconductors based on the SECOM-database)",null,null,"(BME):","(Counting of cars in real traffic situations)",null,null,"(MY-X team):",null,null,null,"(MY-X team):",null,null,null,"(OE):","(Success of protection against the COVID-19 virus in the member states of the European Union during the 4th wave",null,null,"(My-X team):","(Exploring the existence of complex patterns based on similarity analysis)"]
["Pitlik László, Barta Gergő","Anti-diszkriminatív modellezés közelítése solver-alapú neurális hálókkal","(+)",null,"Mácz Andrea, Pitlik Marcell, Nyomárkay Kristóf, Németh Tamás","Autós forgalom számlálása","(+)",null,"Pitlik László","Kihívás/felhívás: hogyan lehetséges az anti-diszkriminatív modellezés neurális hálókra alapozva?","(+)",null,"Pitlik László","Dinamikus versenyelemzés Google Trends-adatok alapján","(+)",null,"Szepesi Judit Zsuzsa","Hatékonyságnövelés a bérszámfejtés kapcsán - Munkaidő adatokból importálható állományok előállítása makro segítségével","(+)",null,"Barta Gergő","Mesterséges intelligencia módszerek alkalmazása az informatikai rendszerek biztonsági auditjában","(+)"]
["(MY-X team):","(Approximation of anti-discriminative models based on solver-based neural networks)",null,null,"(BME):","(Counting of cars in real traffic situations)",null,null,"(MY-X team):","(How to model the anti-discriminative approach with artificial neural networks?)",null,null,"(MY-X team):","(Dynamic analysis of competitive situations based on Google Trends)",null,null,"(KJE):","(Improving the efficiency of recording payroll time data - Generating importable files from working time data using macro)",null,null,"(MATE GSZDI):","(Application of artificial intelligence methods in the security audit of IT systems)"]
["Pitlik László, Pitlik Marcell","A lépcsős függvények szimmetria-alapú validitása és a nyersadatok kapcsolata","(+)",null,"Ujlaki Richárd","Hol éri meg legjobban egy VIR-fejlesztői központot létrehozni Európában és miért?","(+)",null,"Anonim Hallgatók, Pitlik László","Blokklánc-tananyag (autodidakta) fejlesztése (avagy kulcsszavak és ezek fa-jellegű, ill. hipertextes kapcsolatai)","(+)",null,"Pitlik László","Alul- és túlteljesítés matematikai letapogatása többkörös szavazás első körös eredményei alapján a második kört illetően","(+)",null,"Szabó Kerecsen","Magyarország egészségügyi állapotának leírása - Egyenszilárdság-mérés területi alapon","(+)"]
["(MY-X team):","(Connection between the raw data and the validity based on symmetry in case of staircase functions)",null,null,"(KJE):","(Where can we build up the best price per value VIR development centre in Europe and why there?)",null,null,"(ÓE):","(Blockchain learning materials – based on tasks solved by Students)",null,null,"(MY-X team):","(Evaluation of second-layer-results based on first-layer-result in case of multilayered elections)",null,null,"(OE):","(Analyses of the Hungarian health statistics based on time series - Does each county provide the same regional chances for the citizens of Hungary?)",null,null,"MIAU No. = 279 ... (MIAU No. = 280) ... MIAU No. = 281"]
["Pitlik László","MP3: Automatizáció a kis és kkv-szektorban","(+)",null,"Györgydeák Balázs Péter","Szakdolgozat: A szoftverfejlesztés gazdaságtana","(+)",null,"Mácz Andrea, Nyomárkay Kristóf, Svastits Áron, Szabó Gábor Péter, Németh Tamás, Pitlik Marcell","Történeti áttekintés a kőolajról","(+)",null,"Barta Gergő","An artificial intelligence based approach to detect internal control deficiencies","(+)",null,"Tóth Zoltán","Ki is a jobb F1-pilóta valójában – avagy naiv és optimalizált kockázatelemzések","(+)"]
["(KJE):","(Automation concerning SMEs)",null,null,"(KJE):","(Information added value in the software engineering)",null,null,"(BME):","(Historical overview of crude oil)",null,null,"(Deloitte):",null,null,null,"(OE):","(Who is the better F1-pilot really – or risk analyses based on naïve and optimized approaches?)"]
[null,null,null,null,"Bagdi Dóra, Dúcs Attila, Martonosi Edit","Reprodukálási rejtvény: Hogyan lehet a klasszikus kérdőív értelmezéstől eljutni a modern adatelemzésig","(+)",null,"Pitlik Marcell","Térfogati égés optikai vizsgálata és mesterséges intelligencia alapú elemzése","(+)",null,null,null,null,null,"Burián Sándor","Egészségügyi adatok OLAP-szintű keresője kockázatelemzési célra","(+)"]
["MIAU No. = 274 ... (MIAU No. = 275) ... MIAU No. = 276",null,null,null,"(KJE):","(Challenge of reproduction concerning classic and modern interpretation of questionnaires)",null,null,"(BME):","(Optical diagnostics and analysis of steady combustion based on artificial intelligence)",null,null,"MIAU No. = 277 ... (MIAU No. = 278) ... MIAU No. = 279",null,null,null,"(OE):","(OLAP-based health statistics in learning content systems for risk management)"]
[null,null,null,null,"Pétery Zoltán","Utasbiztosítási szokások feltérképezése kimutatások és elemző modulok segítségével a kiegészítő fedezetek tekintetében","(+)",null,"Krenner Bálint","Melyik az a 4jegyű szám, ...? (What is the right number, if... ?)","(+)",null,"miau.my-",null,null,null,"Száraz Bence","Gyanú felderítés online szerepjátékban solver segítségével","(+)"]
[null,null,null,null,"(KJE):","(Pattern exploration in case of extra modules of the travel insurances based on reports and AI-models)",null,null,"(ÓE):",null,null,null,null,null,null,null,"(OE):","(Suspicion generation for online roleplay games based on Solver)"]
[null,null,null,null,"Csizmadia Szilvia","WHICH EUROPEAN COUNTRY IS THE BEST TO LIVE IN? / WO LEBT SICH AM BESTEN IN EUROPA?","(+)",null,"Pitlik László","Az IT-fejlődés és a fenntarthatóság kapcsolata","(+)",null,null,null,null,null,"Hegedűs Imre Bence","Az iPhone okostelefonok fejlődésének világa – a generációk közötti hasonlóságok elemzése robotszemmel","(+)"]
[null,null,null,null,"(KJE):",null,null,null,"(KJE):","(IT-based development and the term of sustainability)",null,null,null,null,null,null,"(KJE):","(Searching for the best iPhone based on anti-discriminative analyses)"]
[null,null,null,null,"Pitlik Marcell","Égések mesterséges intelligencia-alapú elemzése","(+)",null,"Pitlik László","Szövegelemzés (avagy az önkényes semmit mondás tételes leleplezése)","(+)",null,null,null,null,null,"Csuba Krisztián Ádám, Nguyen Van Nam Tamás","Mennyire egyenszilárd az EU-ban az egészségügy országonkénti összevetésben 2019-ben?","(+)"]
[null,null,null,null,"(MY-X team):","(AI-based analyses of the combustion)",null,null,"(KJE):","(Data-driven text-analysis or the examples for the arbitrary magic of words)",null,null,null,null,null,null,"(OE):","(Country ranking on European level for 2019 concerning health statistics based on Solver – or How well-balanced are the countries comparing to each other?)"]
[null,null,null,null,"Pitlik László, Pitlik Dóra","A leggyakrabban használt Google felhőszolgáltatások bemutatása és azok gyakorlati alkalmazhatóságának megismertetése","(+)",null,null,null,null,null,null,null,null,null,"Almásy Márton György, Hörömpő András","Jutalomfüggvények hasonlóságainak értékelése – avagy egy-egy jobb függvény megtalálásának stratégiája","(+)"]
[null,null,null,null,"(MY-X team):","(Most frequently used Google Services and their utilities in information brokering)",null,null,"MIAU No. = 276 ... (MIAU No. = 277) ... MIAU No. = 278",null,null,null,null,null,null,null,"(OE):","(Similarity-based evaluation of reward functions – or identification strategy of a best function)"]
[null,null,null,null,"Pitlik László, Pitlik Mátyás","Részletek egy kísérleti HPC-projekt kommunikációjából","(+)",null,"miau.my-",null,null,null,null,null,null,null,"Ács Kinga","Lehet-e robotizálni egy cég stratégiai tervezését?","(+)"]
[null,null,null,null,"(MY-X team):","(Details from communication activities in frame of an experimental HPC-project)",null,null,null,null,null,null,null,null,null,null,"(KJE):","(Can we robotize the strategic planning of a company?)"]
[null,null,null,null,"Pitlik László (jun)","Tudásszintmérő tesztek: a feladattípusok és a tanulói válaszadási stratégiák vizsgálata (szakdolgozat)","(+)",null,null,null,null,null,null,null,null,null,"Vincze Miklós, Somogyi Kristóf","Orvos-beteg dialógusok - avagy eszkalációs kockázatok elemzése","(+)"]
[null,null,null,null,"(ELTE):","(Thesis: Analyses of types of tasks and answer-strategies of Students in frame of tests constructed for exploration of knowledge levels)",null,null,null,null,null,null,null,null,null,null,"(OE):","(Dialogues between patients and doctors – escalation risk analyses)"]
[null,null,null,null,"Pitlik László (jun)","Egyedi kérdőívezési keretrendszer éles verziója PHP-alapon","(+)",null,null,null,null,null,null,null,null,null,"Karácsonyi Krisztián","Egymillió főre jutó balesetek kockázatelemzése megyénkénti felosztásban","(+)"]
[null,null,null,null,"(ELTE):","(Unique system for questionnaires based on PHP with real questions and controls)",null,null,null,null,null,null,null,null,null,null,"(OE):","(Accidents in county level - risk analyses based on similarities)"]
[null,null,null,null,null,null,null,null,null,null,null,null,null,null,null,null,"Molnár Vince Nándor","Oktatás, kultúra és bűncselekmények, álláskeresés konzisztens kapcsolatainak vizsgálata - Robot-pszichológus, robot-szociológus","(+)"]
[null,null,null,null,"MIAU No. = 275 ... (MIAU No. = 276) ... MIAU No. = 277",null,null,null,null,null,null,null,null,null,null,null,"(OE):","(Education, culture, crime, employment - Robot-psychologist, robot-sociologist - risk analysis)"]
[null,null,null,null,null,null,null,null,null,null,null,null,null,null,null,null,"Szakács Péter Barnabás","API műveletek tiltása tűzfal modul esetén - kockázatelemzés","(+)"]
[null,null,null,null,null,null,null,null,null,null,null,null,null,null,null,null,"(OE):","(Prohibited API-operation in case of firewalls - risk analysis)"]
[null,null,null,null,null,null,null,null,null,null,null,null,null,null,null,null,"Kovács Péter Pál","Kémiai konzisztencia teszt rekonstruálása / Módosított Herington teszt rekonstrukciója adathalmazt jellemző értékekből - kockázatelemzés","(+)"]
[null,null,null,null,null,null,null,null,null,null,null,null,null,null,null,null,"(OE):","(Reconstruction of chemical consistency test / Reconstruction of modified Herington test from characteristic valu"]
["MIAU No. = 281 *** Év/Year = 2022 *** Hónap/Month = január",null,null,null,"MIAU No. = 282 *** Év/Year = 2022 *** Hónap/Month = február",null,null,null,"MIAU No. = 283 *** Év/Year = 2022 *** Hónap/Month = március",null,null,null,null,null,null,null,"Varga-Dudás József","A processzorok zavaros világa letisztult robotszemmel – avagy a melyiket válasszam kérdés egyértelmű válasza","(+)"]
[null,null,null,null,null,null,null,null,null,null,null,null,null,null,null,null,"(KJE):","(CPU benchmarking based on similarity analyses)"]
["Antal Boglárka","Online szakértői rendszerek fejlesztése a kockázatmanagementben","(+)",null,"Pitlik László","Benchmark rekonstrukció és ár-szimulátor hasonlóságelemzéssel","(+)",null,"Pitlik László","Információbróker-feladat: Perspektivitás-index becslése képzések attraktivitásának idősorai alapján","(+)",null,null,null,null,null,"Csaba Dávid","A legkockázatosabb munkavállalók és az általuk elkövetett hibák feltárása / Cél: A leghatékonyabb egyedi termelés","(+)"]
["(KJE):","(Online expert systems for the risk managenent)",null,null,"(MY-X team):","(Benchmark reconstruction and price-simulator based on similarity analyses)",null,null,"(MY-X team):","(Tasks for information brokering educations: Derivation of a perspectivity index based on time series about attractivity of courses)",null,null,null,null,null,null,"(KJE):","(Identifying the most risky workers and the mistakes they make / Objective: The most efficient individual production)"]
["Sipos Péter Zsolt","Laptopok ár-teljesítmény elemzése előtétrendszerekkel és anélkül","(+)",null,"Pitlik László","Bináris helyes választ elváró feladatok javítókulcsának feltörése solver-rel összpontszám nélkül","(+)",null,"Pitlik László","Activation of potential (pre-prepared) parts of functions based on Solver in case of maximizing the correlation between one single X and Y","(+)",null,null,null,null,null,"Hajdú Vivien Julianna, Varró Liliána Éva","A magyar társadalom rétegeinek becsült átlagos társadalmi-gazdasági értékessége","(+)"]
["(KJE):","(Price/performance analyses of laptops with and without special evaluation layers)",null,null,"(MY-X team):","(Derivation of evaluation test-codes based on solver in case of binary options with without total scores)",null,null,"(MY-X team):",null,null,null,null,null,null,null,"(KJE):","(Social values of age groups and gender positions in Hungary)"]
["Csizmadia Szilvia","DIGITÁLIS ÁTLALAKULÁS A RETAIL SZEKTORBAN INNOVATÍV ÜZLETI MODELLEK ALAPJÁN","(+)",null,"Pitlik László","Több-elemű helyes választ elváró többszörös választásos feladatok (ABDC) javítókulcsának feltörése solver-rel","(+)",null,"Pitlik László","Súlyozott átlagszámítás hasonlóságelemzési vetületei","(+)",null,null,null,null,null,"Nagy Richárd","MP4: Halálos kimenetelű közlekedési balesetek vizsgálata az Európai Unióban OAM alapján / Önsorsrontó-e a Magyar?","(+)"]
["(KJE):","(Digital transformation in the retail sector based on innovative business models)",null,null,"(MY-X team):","(Derivation of evaluation test-codes based on solver in case of ABCD-options with different answer-groups)",null,null,"(MY-X team):","(Interpretations of the weighted average with staircase functions)",null,null,null,null,null,null,"(KJE):","(Investigation of fatal road accidents in the European Union based on OAM / Are we, Hungarians, the architects of our own destruction?)"]
["Gergics Miléna","PDF: Robotedző","(+)",null,"Pitlik László","Több egyedi helyes választ elváró többszörös választásos feladatok (ABDC) javítókulcsának feltörése solver-rel","(+)",null,"Pitlik László","Genetic potential driven modelling steps instead of genetic algorithms and/or Monte-Carlo-Methods and/or brute force approaches","(+)",null,null,null,null,null,"Nagy Richárd","Halálos kimenetelű közlekedési balesetek vizsgálata az Európai Unióban OAM alapján / Önsorsrontó-e a Magyar?","(+)"]
["(KJE):",null,null,null,"(MY-X team):","(Derivation of evaluation test-codes based on solver in case of ABCD-options with different true unique answers)",null,null,"(MY-X team):",null,null,null,null,null,null,null,"(KJE):","(Investigation of fatal road accidents in the European Union based on OAM / Are we, Hungarians, the architects of our own destruction?)"]
["Gergics Miléna","PPT: Robotedző","(+)",null,"Pitlik László","Egy helyes választ elváró többszörös választásos feladatok (ABDC) javítókulcsának feltörése solver-rel hibátlan/hibás minták esetén büntető pontokkal","(+)",null,"Pitlik László","Mark-my-professor: konzisztencia-orientált elemzésláncok - publikációs feladatterv","(+)",null,null,null,null,null,"Pitlik Marcell","PPT: Égések zaj alapú elemzése mesterséges intelligenciával","(+)"]
["(KJE):",null,null,null,"(MY-X team):","(Derivation of evaluation test-codes based on solver in case of ABCD-options with penalties)",null,null,"(MY-X team):","(Mark-my-professor: consistence-oriented analysis-chains as a plan of a publication)",null,null,null,null,null,null,"(BME):","(Noise diagnostics and analysis of steady combustion based on artificial intelligence)"]
["Gattyán Annamária","Alkalmasak vagyunk-e a kutyatartásra?","(+)",null,"Pitlik László","Egy helyes választ elváró többszörös választásos feladatok (ABDC) javítókulcsának feltörése solver-rel hibátlan és hibás minták esetén","(+)",null,"Pitlik László","Holtversenyek feloldása az ideális/extrém objektum(ok) bevonása révén","(+)",null,null,null,null,null,"Pitlik Marcell","Égések zaj alapú elemzése mesterséges intelligenciával","(+)"]
["(KJE):","(Are we competent to keep a dog?)",null,null,"(MY-X team):","(Derivation of evaluation test-codes based on solver in case of ABCD-options with one true answer per question)",null,null,"(MY-X team):","(Interpretation of dead heat constellations and/or risks of objects based on involving ideal/extreme objects)",null,null,null,null,null,null,"(BME):","(Noise diagnostics and analysis of steady combustion based on artificial intelligence)"]
["Anonim Hallgató","Melyik a leginkább renitens EU-tagország?","(+)",null,"Pitlik László","Rendelkezésre álló és hiányzó bináris válaszmintázatok kombinatorikai értékelése a javítókulcstörés sikeressége érdekében","(+)",null,"Pitlik László","Szubjektív pontozási skálák transzformációinak hatásai az értékelt alanyok végső sorrendjére több értékelő pontjainak összegzése esetén","(+)"]
["(KJE):","(Which is the most (renitent)/corrupt country in the EU?)",null,null,"(MY-X team):","(Combinatorial evaluation of different binary datasets concerning needed records for holistic problem solving)",null,null,"(MY-X team):","(Impacts of different scale-transformations concerning the final ranking based on addition of the partial scores)",null,null,null,null,null,null,"MIAU No. = 278 ... (MIAU No. = 279) ... MIAU No. = 280"]
["Anonim Hallgató","Mennyire egyenszilárd a német gazdaság energia-gazdálkodása","(+)",null,"Anonim Hallgató","Bináris javítókulcs solver-alapú feltörése","(+)",null,"Pitlik László, Sipos Péter","Rész-vs-egész inkonzisztenciák feltárása megfigyeltségi adatokon","(+)",null,null,null,null,null,"miau.my-"]
["(KJE):","(How equitable the energy management of the German economy)",null,null,"(MY-X team):","(Derivation of the truth positions in case of binary answers of tests)",null,null,"(MY-X team):","(Derivation of inconsistences concerning partiality-vs-generality based on data about the being-observed-phenmenon)"]
["Dobos Melissza","Az egészségügy fejlesztése és idő menedzselése","(+)",null,"Pitlik László","A búza termésátlagok idősorai alapján a statisztikai régiók méretének becslése solver-rel","(+)",null,"Pitlik László","COCO-online és COCO-Excel verziók eltérései ár/teljesítmény-elemzések esetén","(+)"]
["(KJE):","(Improving and accelerating healthcare)",null,null,"(MY-X team):","(Solver-based estimation of the volume/surface of regions derived from the average yields of wheat in form of time series)",null,null,"(MY-X team):","(Differences of COCO-online and COCO-Excel in case of price/performance analyses)"]
["Ujváry Alexandra","Hallgatói teljesítmények összehasonlító elemzése","(+)",null,"Pitlik László","Holtversenyek feloldása és versenyzői kockázatok levezetése az átlagtól való eltérés elve alapján","(+)",null,"Pitlik László","Brand-értékek becslése, avagy COCO-STD és COCO-MCM kombinálása","(+)"]
["(KJE):","(Comparison of Student’s performances)",null,null,"(MY-X team):","(Interpretation of dead heat constellations and/or risks of objects based on differences compared with the average levels)",null,null,"(MY-X team):","(Estimation of brand-values or combinations of COCO-STD and COCO-MCM)"]
["Rakonczai Kíra","Írók értékelése","(+)",null,"Pitlik László","Adatvagyon átlag-objektum és regionális objektumok ideális és kockázatos kölcsönhatásainak értelmezéséhez","(+)",null,"Pitlik László","A COCO-MCM dupla-attribútumkészletű modellvariánsainak tulajdonságai","(+)"]
["(KJE):","(Evaluation of writers)",null,null,"(MY-X team):","(Database about ideal and/or risky relationships between regional and total/average objects)",null,null,"(MY-X team):","(Characteristics of model-variations in case of COCO-MCM)"]
["Pitlik László, Pitlik Marcell","Választás 2022 Magyarország – avagy Robotpolgár 2022","(+)",null,"Pitlik László","Egy adott anti-diszkriminatív objektumpopulációból kieső objektumok hatása az egyensúlyra","(+)",null,"Pitlik László","Hasonlóságelemzésre alapozott ZIP-megoldás","(+)"]
["(MY-X team):","(Election 2022 Hungary or Robot-Citizen 2022)",null,null,"(MY-X team):","(Impacts of excluded object(s) concerning an object population with anti-discriminative equlibrium)",null,null,"(MY-X team):","(Special ZIP-solution based on similarity analyses)"]
["Csík Balázs Béla","Beruházási/vásárlási döntéseket segítő modellezés - Hol is éri meg igazán hirdetni?","(+)",null,"Pitlik László","Egyre rövidülő idősorok meredekségére alapozó előrejelzések hasonlóságelemzéssel","(+)",null,"Pitlik László","Az összeadási művelet leképeződései lépcsős függvényekre, mint a tudásreprezentáció egy különös formájára","(+)"]
["(KJE):","(Analysis of price/performance-ratios concerning competitive media partners)",null,null,"(MY-X team):","(Similarity-based forecasting using different long trends)",null,null,"(MY-X team):","(Interpreting the operator of addition in form of staircase functions as a special type of the knowledge representation)"]
["Muhari Adrienn","Weboldalba integrált grafikonok adatainak kinyerése (hangos film)","(+)",null,"Pitlik László","Lépcsős függvények lépcsőinek kombinatorikai tere","(+)",null,"Pitlik László","Szignifikancia és/vagy hasonlóságelemzés, avagy oktatásmódszertani kezelések sorrendjének levezetése","(+)"]
["(KJE):","(Extracting data from graphical web sites)",null,null,"(MY-X team):","(Combinatorial space of values in a staircase function)",null,null,"(MY-X team):","(Significance and/or similarity analysis, or derivation of ranks for educational treatments)"]
["Franciska Hefkó","The greenest county of Hungary","(+)",null,"Pitlik László","Alternatív lépcsős függvények","(+)",null,"Pitlik László","OAM-variációk előrejelzési célra idősoros adatok alapján (demo: EUR/HUF)","(+)"]
["(KJE):",null,null,null,"(MY-X team):","(Alternative solutions of staircase functions)",null,null,"(MY-X team):","OAM-variations for forcasting based on time series (demo: EUR/HUF)"]
["Kósa Mariann Ágnes","Hatékonyságnövelés a bérszámfejtés területén - Munkaidő nyilvántartás makróval","(+)",null,"Pitlik László","Impacts of Y-conversions and/or COCO-parameters concerning the model quality in similarity analyses","(+)",null,"Pitlik László","ZH-javítókulcs feltörése solver-rel adott (egyre növekvő számú) esetmennyiség alapján","(+)"]
["(KJE):","(Improving the efficiency of recording payroll time data - Working time recording using an Excel spreadsheet with a macro)",null,null,"(MY-X team):",null,null,null,"(MY-X team):","(Derivation of evaluation test-codes based on solver in case of increasing amount of cases)"]
["Hirschmann Zsófia, Deák Gabriella Dóra","AZ EU ORSZÁGAINAK VIZSGÁLATA A 2016-2020-AS OLIMPIAI EREDMÉNYEK TÜKRÉBEN - Mi határozza meg egy ország sikeres szereplését?","(+)",null,"Pitlik László","Solver possibilities in Google spreadsheets (3747)","(+)",null,"Pitlik László","Politikai kockázatok becslése a gazdasági fejlődés országonkénti indexének idősora alapján","(+)"]
["(KJE):","(EXAMINATION OF EU COUNTRIES IN THE LIGHT OF THE 2016-2020 OLYMPICS - What determines a country’s success in the Olympics?)",null,null,"(MY-X team):",null,null,null,"(MY-X team):","(Estimation of political exposure based on time series of the best-EU-country-for-business-index)"]
[null,null,null,null,"Pitlik László, Pitlik Marcell, Szani Ferenc","Pályázati dokumentációk automatizált és objektív kiértékelése szakértők bevonása nélkül","(+)",null,"Pitlik László","Holtversenyek feloldása és versenyzői kockázatok levezetése nyersadat-kockázatok alapján","(+)"]
["MIAU No. = 280 ... (MIAU No. = 281) ... MIAU No. = 282",null,null,null,"(MY-X team):","(Automated and objective evaluation of tender documentations – without any human experts)",null,null,"(MY-X team):","(Interpretation of dead heat constellations and/or risks of objects based on risk estimation for each raw data-position)"]
[null,null,null,null,"Pitlik László","Y-konverziók hatásai a modellek pontossági mutatóira, az attribútumok hatásmértékére és az objektumok validitására","(+)",null,"Pitlik László","Simpson paradoxon variánsok: processzorok órajelei generációnként","(+)"]
[null,null,null,null,"(MY-X team):","(Impacts of Y-conversions to the accuracies of the models, to the validity of objects and to the relevance of attributes)",null,null,"(MY-X team):","(Variations for the Simpson-paradox: turbo-speed of processors for different generations)"]
[null,null,null,null,null,null,null,null,"Pitlik László","Az árelőny fogalmának története (számpéldákkal - publikációs feladatterv)","(+)"]
[null,null,null,null,"MIAU No. = 281 ... (MIAU No. = 282) ... MIAU No. = 283",null,null,null,"(MY-X team):","(The history of the term of the price/performance ratio - incl. numerical demonstrations as a plan of a publication)"]
[null,null,null,null,"miau.my-",null,null,null,"Pitlik László, Pitlik Marcell, Pitlik László (jun)","Estimation of bearing wear based on consistence-oriented modelling","(+)"]
[null,null,null,null,null,null,null,null,"(MY-X team):"]
[]
[null,null,null,null,null,null,null,null,"MIAU No. = 282 ... (MIAU No. = 283) ... MIAU No. = 284"]
[null,null,null,null,null,null,null,null,"miau.my-"]
[]
[]
[]
[]
[]
[]
[null,null,null,null,null,"LAJKÓNÉ BÉCSI MÓNIKA:A KUKORICA TERMELÉSI FÜGGVÉNYE, AVAGY MAGYARORSZÁGON A MINDENKORI JELENRE VONATKOZÓAN A KUKORICA TERMELÉSI FÜGGVÉNYÉNEK LEVEZETÉSE, ILLETVE EZEN ADATMENNYISÉG ALAPJÁN ELŐREJELZÉS 2022-RE  xx  https://miau.my-x.hu/miau/291/kukorica.docx"]
[null,null,null,null,null,{"$f":"LOWER(F94)","v":"lajkóné bécsi mónika:a kukorica termelési függvénye, avagy magyarországon a mindenkori jelenre vonatkozóan a kukorica termelési függvényének levezetése, illetve ezen adatmennyiség alapján előrejelzés 2022-re  xx  https://miau.my-x.hu/miau/291/kukorica.docx"}]
[]
[]
[]
[]
[]
[]
[]
[]
[]
[]
[]
[]
[]
[]
[]
[]
[]
[]
[]
[]
[]
[]
[]
[]
[]
[]
[]
[]
["MIAU No. = 307 *** Év/Year = 2024 *** Hónap/Month = március",null,null,null,"MIAU No. = 308 *** Év/Year = 2024 *** Hónap/Month = április",null,null,null,"MIAU No. = 309 *** Év/Year = 2024 *** Hónap/Month = május",null,null,null,"MIAU No. = 310 *** Év/Year = 2024 *** Hónap/Month = június"]
[]
["Anonim Hallgató, Pitlik László","Selejtezés szubjektív szabályok mentén és optimalizált, automatizált szabály-felismerés alapján","(+)",null,"István Vancsura","System modelling aspects of the Social-AI project - Part IV-V.","(+)",null,"László Pitlik","Solver-miracles?! - instead of classic solutions","(+)",null,"Dániel Váradi, László Pitlik (Jr.), Mátyás Pitlik, László Pitlik","Homogeneity analysis for sustainable regions – case study: Mezőföld","(+)"]
["(KJE):","(Decision support based on subjective rules and based on derived/optimized rules - Case study: disposal policy)",null,null,"(KJE):",null,null,null,"(KJE):",null,null,null,"(MY-X team):"]
["Pitlik László","A COCO STEP-IX módszer szükségszerűségének felismerése és lépéseinek mibenléte - 2","(+)",null,"István Vancsura","System modelling aspects of the Social-AI project - Part III.","(+)",null,"Pitlik László","Melyik fájl éri meg lementeni leginkább a többi állományhoz képest?","(+)",null,"Anonim Hallgatók","SUDOKU megoldások Solver-rel","(+)"]
["(MY-X team):","(COCO STEP IX: necessity and logic - Part 2)",null,null,"(KJE):",null,null,null,"(KJE):","(Which files are worth downloading/(re-)storing?)",null,null,"(MY-X team):","(Solver-based SUDOKU-solutions)"]
["Pitlik László","A COCO STEP-IX módszer szükségszerűségének felismerése és lépéseinek mibenléte","(+)",null,"István Vancsura","System modelling aspects of the Social-AI project - Part II.","(+)",null,"Váradi Dániel","Az EU-homogenitás és a piaci stratégiák kapcsolata","(+)",null,"Angyal János, Pitlik László","COCO-STEP-IX gyorsított és teljes eljárások összevetése és ezek hatásai a részeredményekre, ill. a végeredményre","(+)"]
["(MY-X team):","(COCO STEP IX: necessity and logic)",null,null,"(KJE):",null,null,null,"(KJE):","(Connections between the homogeneity of the EU and market strategies)",null,null,"(MY-X team):","(Compering fast and complex COCO-STEP-IX-runs and their impacts concerning the partial and the final conclusions)"]
["Pitlik László","Tesztállomány hermeneutikai szélsőségek alátámasztására","(+)",null,"Pitlik László és Anonim Hallgatók","Az asztrológia és a mesterséges intelligencia kapcsolata","(+)",null,"Váradi Dániel","A MOL átfogó mérlegelemzése MI segítségével","(+)",null,"Csaba Sebők","ChatGPT & Barkochba (20-question-games)","(+)"]
["(KJE):","(Test cases for hermeneutical extremities)",null,null,"(KJE):","(AI-strology)",null,null,"(KJE):","(Analyses of financial data in case of MOL based on AI solutions)",null,null,"(MY-X team):"]
["Anonim Hallgató, Pitlik László","Baromfihús-fogyás előrejelzése lineáris regresszióval, chatGPT-vel és MI-alapon","(+)",null,"Varga Norbert, Pitlik László, Szikra Andrea, Nagy Károly Zsolt, Németh Imre, Vancsura István, Rácz Mária","Politológiai haikuk, avagy a természetes és a mesterséges intelligencia ta\u0002lálkozása","(+)",null,"Vancsura István","Application of Artificial Intelligence in Social Media - Social AI - Part 2 – Implementation","(+)",null,"Pitlik László","INDIREKT()-Excel-függvényre alapozott programozás az adatvagyon-minőségbiztosítás példája kapcsán","(+)"]
["(KJE):","(Forecasts for poultry-meat consumption based on linear regression, chatGPT and AI)",null,null,"(KJE):","(Political science haikus, or the meeting of natural and artificial intelligence)",null,null,"(KJE):",null,null,null,"(MY-X team):","(INDIRECT()-Excel-function-oriented prgramming in case of the quality assurance for data assets)"]
["Anonim Hallgató, Pitlik László","Személyes tapasztalatom az életmódváltással - avagy edzésprogramok sikerességének MI-alapú monitorozása","(+)",null,"Váradi Dániel, Pitlik László","A homogenitás és az autonómia fogalmak kapcsolata egymással és a mesterséges intelligencia lehetőségeivel","(+)",null,"Pitlik László","MP3: MI, avagy tévhitek és benchmarkok? - Miért érdemes új korszakhatárként tekinteni?","(+)",null,"Pitlik László","Attribútum-arányok és az inverzió-alapú validálás","(+)"]
["(KJE):","(The Art of Making A Habit - or AI-based monitoring of training programs)",null,null,"(KJE):","(The relationship between the definitions of homogeneity and autonomy, and their connection with artificial intelligence)",null,null,"(KJE):","(AI or misconceptions and benchmarks? - Why should the mass appearance of AI be seen as a new epoch?)",null,null,"(MY-X team):","(Inversion-based model-validation in case of ratios of the raw attributes)"]
["Pitlik László","Kölcsönhatások modellezése hasonlóságelemzésekkel","(+)",null,"Dániel Váradi","FULL-TEXT: Business Process Management - Case study: Evaluation/monitoring projects based on EU-statistics","(+)",null,"Kiss László","Országgyűlési felszólalások elemzése külpolitikai viszonylatban","(+)",null,"Anonim Hallgató","Creating texts for English lessons - chatGPT-experiments","(+)"]
["(KJE):","(Modelling interactions based on similarity analyses)",null,null,"(KJE):",null,null,null,"(KJE):","(Analysis of parliamentary speeches in relation to foreign policy)",null,null,"(KJE):"]
["Anonim Hallgató","Context-free gyanúgenerálás önkormányzati adatok alapján - avagy így dolgozna egy robot-oknyomozó riporter","(+)",null,"Dániel Váradi","PPT: Business Process Management - Case study: Evaluation/monitoring projects based on EU-statistics","(+)",null,"Pitlik Dóra, Tóth Rita","PPT: NAPELEMEK TELJESÍTMÉNY-VISZONYAINAK VIZSGÁLATA","(+)",null,"Lengyel Kíra Anna, Gulyás Léna, Simon Damarisz, Pitlik László","AI a filmes szakmában","(+)"]
["(KJE):","(Context-free suspicion-generation based on data of the local governments - or that is how a robot investigative reporter would work)",null,null,"(KJE):",null,null,null,"(Premontrei Iskolaközpont):","(Examination of performance relations of solar panels)",null,null,"(KJE):","(The AI & the movie)"]
["Anonim Hallgató","Lehet-e minden év másként egyformán biztonságosnak tekinthető a bűnügyi statisztikák alapján?","(+)",null,"István Vancsura","System modelling aspects of the Social-AI project","(+)",null,"Pitlik Dóra, Tóth Rita","ABS: NAPELEMEK TELJESÍTMÉNY-VISZONYAINAK VIZSGÁLATA","(+)",null,"Ökrös Adrienn","Digitalizáció és RPA egy logisztikai irodában","(+)"]
["(KJE):","(Might every year be considered equally safe based on crime statistics?)",null,null,"(KJE):",null,null,null,"(Premontrei Iskolaközpont):","(Examination of performance relations of solar panels)",null,null,"(KJE):","(Digitalization and RPA in a logistic project)"]
["Anonim Hallgató","Latin nyelvű orvosi szakszavak létjogosultsága Google Trends és Google Adwords adatok alapján","(+)",null,"Szauder Veronika","ÚJGENERÁCIÓS MÓDSZEREK A MATEMATIKA OKTATÁSBAN - MI","(+)",null,"Pitlik Dóra, Tóth Rita","FULL-TEXT: NAPELEMEK TELJESÍTMÉNY-VISZONYAINAK VIZSGÁLATA","(+)",null,"Megyes István","Elektroenkefalográfia jelek feldolgozása gépi tanulással","(+)"]
["(KJE):","(Importance of medical terms in Latin based on Google Trends and Google Adwords data)",null,null,"(KJE):","(New methods in the education of mathematics - an AI-based approach)",null,null,"(Premontrei Iskolaközpont):","(Examination of performance relations of solar panels)",null,null,"(ÓE):","(EEG-data-processing based on machine learning approaches)"]
["Pitlik László","Álságos chatGPT-definíciók álságos emberi minták következtében","(+)",null,"Dániel Váradi, László Pitlik, Marcell Pitlik, László Pitlik (Jr.), Mátyás Pitlik","MP4: ABOUT A NEW, HYBRIDIZED TIME-SERIES ANALYSIS METHOD BASED ON SIMILARITY ANALYSES AND MULTIDIMENSIONAL TIME-LAYERING TECHNIQUES","(+)",null,"Pitlik Dóra","PPT: Stratégiai tanácsadás a távmunka népszerűsítésének szükségszerűségéről (Google Trends társadalomlélektani adatai alapján)","(+)",null,"Anonim Hallgató","Létezhető ChatGPT-aktivitás rendszer általi megtagadása, s kérlelésre való végrehajtása (Begging-modus in chatGPT in case of hidden system-competencies)","(+)"]
["(KJE):","(Two-faced definitions of chatGPT, based on two-faced human patterns)",null,null,"(KJE/MY-X team):",null,null,null,"(MY-X team):","Strategic consulting regarding the necessity of promoting remote working (based on Google Trends socio-psychological data)",null,null,"(MY-X team):"]
["Anonim Hallgató, Pitlik László","A chatGPT, mint tárgyalás taktikákat támogató szimulátor","(+)",null,"Dániel Váradi, László Pitlik, Marcell Pitlik, László Pitlik (Jr.), Mátyás Pitlik","PPT: ABOUT A NEW, HYBRIDIZED TIME-SERIES ANALYSIS METHOD BASED ON SIMILARITY ANALYSES AND MULTIDIMENSIONAL TIME-LAYERING TECHNIQUES","(+)",null,"Pitlik Dóra","Stratégiai tanácsadás a távmunka népszerűsítésének szükségszerűségéről (Google Trends társadalomlélektani adatai alapján)","(+)",null,"Loboda Bence, Pitlik László","Szubjektív és objektív érveléskultúra, avagy elvek és példák","(+)"]
["(KJE):","(The chatGPT as Negotiator)",null,null,"(KJE/MY-X team):",null,null,null,"(MY-X team):","Strategic consulting regarding the necessity of promoting remote working (based on Google Trends socio-psychological data)",null,null,"(MY-X team):","(Subjective and objective discussion culture – principles and examples)"]
["Váradi Dániel","Az EU monitoring rendszerének mesterséges intelligencia alapokra helyezése","(+)",null,"Dániel Váradi, László Pitlik, Marcell Pitlik, László Pitlik (Jr.), Mátyás Pitlik","ABS: ABOUT A NEW, HYBRIDIZED TIME-SERIES ANALYSIS METHOD BASED ON SIMILARITY ANALYSES AND MULTIDIMENSIONAL TIME-LAYERING TECHNIQUES","(+)",null,null,null,null,null,"Anonim Hallgató","Létezhető ChatGPT-aktivitás rendszer általi megtagadása, s parancsra való végrehajtása","(+)"]
["(KJE):","(AI-based monitoring system for the EU)",null,null,"(KJE/MY-X team):",null,null,null,"MIAU No. = 308 ... (MIAU No. = 309) ... MIAU No. = 310",null,null,null,"(KJE):","(Command-modus in chatGPT in case of hidden system-competencies)"]
["Vancsura István","Mesterséges intelligencia alkalmazása a közösségi médiában","(+)",null,"Dániel Váradi, László Pitlik, Marcell Pitlik, László Pitlik (Jr.), Mátyás Pitlik","FULL-TEXT: ABOUT A NEW, HYBRIDIZED TIME-SERIES ANALYSIS METHOD BASED ON SIMILARITY ANALYSES AND MULTIDIMENSIONAL TIME-LAYERING TECHNIQUES","(+)",null,null,null,null,null,"László Pitlik","Solo and doubled anti-discriminative (Y0) similarity analyses and their relationships","(+)"]
["(KJE):","(The Social AI project)",null,null,"(KJE/MY-X team):",null,null,null,null,null,null,null,"(MY-X team):"]
["Bartók Patrik Róbert","Objektív döntésoptimalizálás mesterséges intelligencia bevonásával","(+)"]
["(KJE):","(Objective decision optimization involving artificial intelligence)",null,null,"MIAU No. = 307 ... (MIAU No. = 308) ... MIAU No. = 309",null,null,null,null,null,null,null,"MIAU No. = 309 ... (MIAU No. = 310) ... MIAU No. = 311"]
["Molnár Csanád","Online Dietetikus Szakértő - Mesterséges Intelligencia segítségével","(+)",null,"miau.my-x.hu",null,null,null,null,null,null,null,"miau.my-"]
["(KJE):","(Online Dietetic Expert System with AI)"]
["Ódor Márk","Webfejlesztési folyamatok egy AI támogatott dietetikus alkalmazás számára","(+)",null,"myxfree.tool"]
["(KJE):","(Web development processes for an AI-supported dietetic application)"]
[null,null,null,null,"rss.services"]
["MIAU No. = 306 ... (MIAU No. = 307) ... MIAU No. = 308"]
["miau.my-x.hu"]
[]
["myxfree.tool"]
[]
["rss.services"]

{"sheet":"Munka6","index":24,"n_rows":201,"n_cols":3,"rows_kept":201,"cut":false,"hidden":false,"merged":[[191,2,192,2],[193,2,194,2],[195,2,196,2],[197,2,198,2],[174,2,175,2],[181,2,182,2],[183,2,184,2],[185,2,186,2],[187,2,188,2],[189,2,190,2],[172,1,173,1],[172,2,173,2],[147,2,148,2],[154,2,155,2],[156,2,157,2],[158,2,159,2],[160,2,161,2],[162,2,163,2],[164,2,165,2],[166,2,167,2],[168,2,169,2],[170,1,171,1],[170,2,171,2],[141,1,142,1],[141,2,142,2],[143,1,144,1],[143,2,144,2],[145,1,146,1],[145,2,146,2],[133,2,134,2],[135,2,136,2],[137,1,138,1],[137,2,138,2],[139,1,140,1],[139,2,140,2],[126,2,127,2],[89,2,90,2],[91,2,92,2],[98,2,99,2],[100,2,101,2],[102,2,103,2],[104,2,105,2],[111,2,112,2],[113,2,114,2],[120,2,121,2],[122,2,123,2],[124,2,125,2],[87,2,88,2],[61,2,62,2],[63,2,64,2],[65,2,66,2],[67,2,68,2],[71,2,72,2],[73,2,74,2],[75,2,76,2],[83,2,84,2],[85,2,86,2],[32,1,33,1],[32,2,33,2],[69,1,70,1],[69,2,70,2],[36,2,37,2],[38,2,39,2],[53,2,54,2],[55,2,56,2],[57,2,58,2],[59,2,60,2],[34,2,35,2],[24,2,25,2],[26,2,27,2],[28,2,29,2],[30,2,31,2],[12,2,13,2],[14,2,15,2],[16,2,17,2],[18,2,19,2],[20,2,21,2],[22,2,23,2],[2,2,3,2],[4,2,5,2],[6,2,7,2],[8,2,9,2],[10,2,11,2]]}
["MIAU No. = 284 *** Év/Year = 2022 *** Hónap/Month = április"]
[]
["Pitlik László","Solver-alapú problémamegoldás oktatásának munkanaplója 3 szemeszterre","(+)"]
["(OE):","(Solver-based problem solving course - success report for 3 semesters)"]
["Pitlik László","Szubjektivitás helyett MI-munkacsoportok objektív értékelése","(+)"]
["(OE):","(Instaed of subjectivity, objective evaluation of AI-projects/teams)"]
["Anonim Hallgató","Trailer-alapú kasszasiker-becslés mozifilmek esetén","(+)"]
["(KJE):","(Trailer-based estimation of market success in case of movie objects)"]
["Anonim Hallgató","Formula2 pilóták piaci értékének becslése","(+)"]
["(OE):","(Evaluation of Formula2 pilots based on similarity analyses)"]
["Varró Angelika","2DM az info-kommunikációban - játékosítási aspektusok kisiskolások részére","(+)"]
["(KJE):","(2DM for the info-communication - gamification aspects for primary schools)"]
["Anonim Hallgató","Naív és solver-alapú odds-kalkulátorok","(+)"]
["(OE):","(Naive and solver-based odds-calculators)"]
["Anonim Hallgató","Bináris javítókulcsok feltörése (solver.js)","(+)"]
["(OE):","(Derivation of evaluation binary test-codes based on solver.js)"]
["Anonim Hallgató","2DM az info-kommunikációban - játékosítási aspektusok","(+)"]
["(KJE):","(2DM for the info-communication - gamification aspects)"]
["Anonim Hallgató","2DM az info-kommunikációban - ITB-aspektusok","(+)"]
["(KJE):","(2DM for the info-communication - IT-security aspects)"]
["Marton Olivér","2DM az info-kommunikációban - közösségi média aspektusok","(+)"]
["(KJE):","(2DM for the info-communication - social media aspects)"]
["Anonim Hallgató","Apaság/Rokonsági fok vizsgálatok","(+)"]
["(OE):","(Paternity tests - or the degree of kinship)"]
["Mérei Virág","Egy robot-pszichológus koncepciója Google-Trends-adatok alapján","(+)"]
["(KJE):","(A concept of a robot-psychologist based on data from Google Trends)"]
["Pitlik László","Kérdőívek szöveges tartalmának számokká konvertálása FKERES/HA() függvények nélkül - Solver-rel","(+)"]
["(MY-X team):","(How to convert text inputs of a questionnaire to numeric values without VLOOKUP/IF() functions but with Solver)"]
["Ujlaki Richárd","Vállalatirányítási rendszerek gazdasági elemzése (Vállalatirányítási rendszerek KKV-k részére)","(+)"]
["(MY-X team):","(ERP for SMEs - exploring of real possibilities of information added values)"]
["Pitlik László","Alternatív algoritmikus problémamegoldások versenyeztetése","(+)"]
["(MY-X team):","(Evaluation of alternative algorithmic solutions)"]
["Pitlik László","Content-based spurious correlations or chances of causalities","(+)"]
["(MY-X team):"]
["Pitlik László","Apaság/Rokonsági fok vizsgálatok Solver-rel","(+)"]
["(MY-X team):","(Solver-based paternity tests - or the degree of kinship)"]
["Anonim Hallgató","Manuális és induktív szakértői rendszerek tervezése és fejlesztése","(+)"]
["(MY-X team):","(Planning and developing human-driven and inductive expert systems)"]
["Pitlik László","Asszociáció-alapú üzenet-kódolás/dekódolás (rejtvények)","(+)"]
["(MY-X team):","(Association-based coding/decoding - demonstration materials)"]
[]
["MIAU No. = 283 ... (MIAU No. = 284) ... MIAU No. = 285"]
["miau.my-x.hu"]
[]
["myxfree.tool"]
[]
["rss.services"]
[]
[]
[]
[]
["MIAU No. = 285 *** Év/Year = 2022 *** Hónap/Month = május"]
[]
["Hajdú Vivien Julianna, Varró Liliána Éva","A nemek közötti munkaerőpiaci egyenlőtlenségekből adódó feszültségek megszüntetését célzó program és hatásmechanizmusának bemutatása, megvalósítható társadalmi változások és utópiák feltárása","(+)"]
["(MY-X team):","(Gender-based similarity analyses)"]
["Pitlik László, Rikk János, Kóródi Gyula","EEG-alapú COVID-kockázatok becslése hasonlóságelemzéssel","(+)"]
["(MY-X team):","(Estimation of COVID-risk-index based on similarity analysis and EEG-patterns)"]
["Pitlik László","STEP-IX demo (ingatlanok)","(+)"]
["(OE):","(Demonstation material for STEP-IX-based modelling - real estate)"]
["Anonim Hallgatók","PPT: Robot-ingatlan-szakértő","(+)"]
["(OE):","(Robot-real-estate-expert)"]
["Anonim Hallgatók","PPT: Robot-repülésirányító","(+)"]
["(OE):","(Robot-aviation-expert)"]
["Anonim Hallgatók","Robot-repülésirányító","(+)"]
["(OE):","(Robot-aviation-expert)"]
["Ács Kinga / Deák G. Dóra / Dobos Melissza / Farkas Ádám / Franz Dorottya / Hirschmann Zsófia / Jónás Attila / Kiss Zsuzsanna / Lencsér Levente / Muhari Adrienn / Nagy Balázs / Szepesi Zsuzsanna / Ujváry Alexandra","Robot-polgár (e-gazság projekt 2022 vs 2010)","(+)"]
["(KJE):","(Robot-citizen project 2022-2010)"]
["Anonim Hallgató","A MarkMyProfessor többrétegű értelmezése Solver-rel avagy gondolatok a kibernetikus oktatási intézmények néhány elvárható funkcionalitásáról","(+)"]
["(OE):","(Multilayer explanation of MMP-data by Solver or ideas about expectable functionality of the cyber education)"]
["Anonim Hallgató","To what extent can a Solver-based software reproduce the rating system in Formula-2?","(+)"]
["(OE):"]
["Anonim Hallgató","A WRC pilóták anti-diszkriminatív teljesítmény-becslése Solver-alapú megközelítéssel","(+)"]
["(OE):","(Estimation of anti-discriminatory performance of WRC drivers using a Solver-based approach)"]
["Ujlaki Richárd","PPT: Vállalatirányítási rendszerek gazdasági elemzése (Vállalatirányítási rendszerek KKV-k részére)","(+)"]
["(KJE):","(ERP for SMEs - exploring of real possibilities of information added values)"]
["Anonim Hallgató","Póker-robot (blöff-robot)","(+)"]
["(OE):","(Poker-robot / bluff-robot)"]
[]
["MIAU No. = 284 ... (MIAU No. = 285) ... MIAU No. = 286"]
["miau.my-"]
[]
["MIAU No. = 286 *** Év/Year = 2022 *** Hónap/Month = június"]
[]
["Pitlik László","MAE&MSE-alapú, többlépcsős tesztelése eredményeinek kiaknázása Solver-rel a becslési pontosság növelésére","(+)"]
["(MY-X team):","(Involving Solver into finetuning of MAE&MSE-oriented estimation fitting based on estimation series)"]
["Pitlik László","MAE-alapú, többlépcsős tesztelése eredményeinek kiaknázása Solver-rel a becslési pontosság növelésére","(+)"]
["(MY-X team):","(Involving Solver into finetuning of MAE-oriented estimation fitting based on estimation series)"]
["Pitlik László","Matematikai gyakorló feladatok solver-es támogatása","(+)"]
["(MY-X team):","(Mathematical exercises supoorted by Solver)"]
["Pitlik László","Az összeadás műveletének alternatív hasonlóságelemzési értelmezései","(+)"]
["(MY-X team):","(Addition from point of view of different similarity analyses)"]
["Pitlik László","Mesterséges intelligencia fejlesztések a szakszervezetek működésének támogatására","(+)"]
["(MY-X team):","(Developing artificial intelligence to support trade union operations)"]
[]
["MIAU No. = 285 ... (MIAU No. = 286) ... MIAU No. = 287"]
[]
["MIAU No. = 287 *** Év/Year = 2022 *** Hónap/Month = július"]
[]
["Pitlik László, Pitlik Marcell","DATARACING 2022 – az MY-X kutatócsoport modellezési tapasztalatai, avagy a tudásmérnökség új lehetőségei","(+)"]
["(MY-X team):","(DataRacing 2022 – modelling experiences of the MY-X team – or new possibilities in the knowledge engineering)"]
["Pitlik László","Sorszámozás-variánsok és a szubjektivitás hatása az ár/teljesítmény fogalom értelmezésére","(+)"]
["(MY-X team):","(Impacts of subjective ranking methods concerning the price/performance analyses)"]
["Pitlik László","GANTT-diagram-variánsok Excel-cellákkal és képletekkel, grafikus objektumok nélkül","(+)"]
["(MY-X team):","(Versions for GANTT-charts based on Excel-cells and formels without any graphical elements)"]
["Pitlik László","Programozási feladatok tervezése, avagy ötnél több Google-Trends-adatsor integrálása","(+)"]
["(MY-X team):","(Planning tasks for programming or integration more than 5 timeseries from Google Trends)"]
[]
["MIAU No. = 286 ... (MIAU No. = 287) ... MIAU No. = 288"]
[]
["MIAU No. = 288 *** Év/Year = 2022 *** Hónap/Month = augusztus"]
[]
["Németh István, Szani Ferenc, Pitlik László","Tananyagok összehasonlító elemzése szemmozgás/érzelem/energia/EEG és egér/billentyűzet-log-adatok alapján","(+)"]
["(MY-X team):","(Comparative analysis of e-learning materials based on eye-motion/emotion-detection/energy/EEG- and mouse/keyboard logs)"]
["Pitlik László","Bementi és kimeneti teszt haladó (pl. céges/egyetemi) Excel-tanfolyamok tematikájának tervezésére, visszaigazolására","(+)"]
["(MY-X team):","(Excel-test questions for planning/evaluation topics of a professional Excel course)"]
[]
["MIAU No. = 287 ... (MIAU No. = 288) ... MIAU No. = 289"]
["miau.my-"]
["MIAU No. = 289 *** Év/Year = 2022 *** Hónap/Month = szeptember"]
[]
["Pitlik László","Direkt és inverz szimmetriák a túltanulás korrigálására dupla-attribútumos lépcsős függvények esetén","(+)"]
["(MY-X team):","(Symmetry of direct and inverse layers as warn system for overlearning effects in frame of staircase functions)"]
["Pitlik László","Gépi puzzle kirakás brute force feladattá alakítása","(+)"]
["(MY-X team):","(Converting a puzzle challenge to a brute force task for computers)"]
["Pitlik László","Amőba-játék naplózása Excel-makró segítségével","(+)"]
["(MY-X team):","(Macro-based game-logs)"]
["Pitlik László, Pitlik Marcell","Egyetemi elégedettségi kérdőívek automatizált értelmezési lehetőségei","(+)"]
["(MY-X team):","(Satisfaction analyses based on questionnaires concerning universities)"]
[]
["MIAU No. = 288 ... (MIAU No. = 289) ... MIAU No. = 290"]
[]
["MIAU No. = 290 *** Év/Year = 2022 *** Hónap/Month = október"]
[]
["Váradi Dániel","Inkonzisztens és konzisztencia-orientált előrejelzések","(+)"]
["(MY-X team):","(Inconsistent and consistence-oriented forecasting)"]
["Anonim Hallgató","Klón-elemzés: Melyik a leginkább internethasználat-orientált ország?","(+)"]
["(MY-X team):","(Which country may be seen as the most Internet-oriented country?)"]
["Pitlik László","Oktatásmódszertani kísérlet (VBA-Macro) - Tartalom","(+)"]
["(MY-X team):"]
["Pitlik László","Oktatásmódszertani kísérlet (VBA-Macro) - keletkezéstörténet","(+)"]
["(MY-X team):"]
["Pitlik László","Oktatásmódszertani kísérlet (Excel) - keletkezéstörténet","(+)"]
["(MY-X team):"]
["Pitlik László","Oktatásmódszertani kísérlet (Excel) - tartalom","(+)"]
["(MY-X team):"]
["Pitlik László","Non-causal knowledge representation vs. causal models for rule-based simulations (or deriving more consistent estimations)","(+)"]
["(MY-X team):"]
["Pitlik László","A 2021-es és 2022-es tél (1.né./I-II-III. hónap) középhőmérsékletének konzisztencia-orientált előrejelzése Budapestre","(+)"]
["(MY-X team):","(Consistence-oriented forcasts for Q1 (incl. I-II-III months) in 2021/2022 concerning the average temperature of Budapest)"]
[]
["MIAU No. = 289 ... (MIAU No. = 290) ... MIAU No. = 291"]
[]
["MIAU No. = 291 *** Év/Year = 2022 *** Hónap/Month = november"]
[]
["Pitlik László","Becslések több rétegben az idő, mint Y alapján - átlag-azonosság helyett elvárt eltérések közelítésével","(+)"]
["(MY-X team):","(Estimations of multi-layered futures based on the time as Y and with expected differences instead of the samenesses in case of AVG)"]
["Hirschmann Zsófia","Választási esélyek egységes rendszerű elemzése több országra párhuzamosan","(+)"]
["(KJE):","(Automated estimations of future impacts of elections for a set of countries in a parallel way)"]
["Jónás Attila","Nyílt adatbázisok automatizált elemzése OAM megközelítés alkalmazásával","(+)"]
["(KJE):","(Automated estimations based on open databases using OAM and chained similarity analyses)"]
["Pitlik László","Becslések több rétegben az idő, mint Y alapján - korrelációazonosság helyett elvárt eltérések közelítésével II","(+)"]
["(MY-X team):","(Estimations of multi-layered futures based on the time as Y and with expected differences instead of the samenesses-Part II)"]
["Pitlik László","Becslések több rétegben az idő, mint Y alapján - korrelációazonosság helyett elvárt eltérések közelítésével","(+)"]
["(MY-X team):","(Estimations of multi-layered futures based on the time as Y and with expected differences instead of samenesses)"]
["Pitlik László","Potenciális jövők becslése több rétegben az idő, mint Y alapján","(+)"]
["(MY-X team):","(Estimation of potential multi-layered futures based on the time as Y)"]
["Pitlik László","Adatvagyon-minőség-ellenőrzés az idő modellezhetőségén keresztül","(+)"]
["(MY-X team):","(Quality assurance in the data asset management based on time-models)"]
["LAJKÓNÉ BÉCSI MÓNIKA","A KUKORICA TERMELÉSI FÜGGVÉNYE, AVAGY MAGYARORSZÁGON A MINDENKORI JELENRE VONATKOZÓAN A KUKORICA TERMELÉSI FÜGGVÉNYÉNEK LEVEZETÉSE, ILLETVE EZEN ADATMENNYISÉG ALAPJÁN ELŐREJELZÉS 2022-RE","(+)"]
["(KJE):","(Producation functions and forcasts for maize-yield)"]
["Pitlik László","Mathematical interpretations of tie-break-like evaluation-problems","(+)"]
["(MY-X team):"]
["Pitlik László","Testing non-causal and causal models in case of a complex (known) function","(+)"]
["(MY-X team):"]
["Pitlik László","A forgóajtóban való előzés matematikája","(+)"]
["(MY-X team):","(Mathematical interpretations of the phenomenon \"Overtaking in a revolving door\")"]
[]
["MIAU No. = 290 ... (MIAU No. = 291) ... MIAU No. = 292"]
[]
["MIAU No. = 292 *** Év/Year = 2022 *** Hónap/Month = december"]
[]
["Barta Gergő","Mesterséges intelligencia módszerek alkalmazása az informatikai rendszerek biztonsági auditjában - disszertáció","(+)"]
["(MATE GSZDI):","(Application of artificial intelligence methods in the security audit of IT systems - full text)"]
["Pitlik László","Makrók helyett II","(+)"]
["(MY-X team):","Instead of macros - Part II"]
["Pitlik László","Makrók helyett I","(+)"]
["(MY-X team):","Instead of macros - Part I"]
["Pitlik László","Egy könyv központi állításának adat-vezérelt bizonyítási kísérletei","(+)"]
["(MY-X team):","(Derivation of the central statement of a book based on data-driven analytical possibilities)"]
["Anonim Hallgató","Méretfüggő rapid projekt-klón","(+)"]
["(KJE):","(Cloned rapid project for further reporting)"]
["Forsterné Kolosa Esztella","Modell-klónozás: EUR/HUF 10 vs. 15 napos modellje","(+)"]
["(KJE):","(Cloning of models: EUR/HUF 10 vs. 15 days before)"]
["Pitlik László","Mindig hibátlan anti-diszkriminatív (Y0) modellek dupla-attribútum-készlettel","(+)"]
["(MY-X team):","(Always error-free anti-discrimnative (Y0) models based on doubled-attribute-sets)"]
["Pitlik László","Béke-dominancia-index a volt szovjet tagköztársaságokban Google-Trends-adatok alapján","(+)"]
["(MY-X team):","(Peace-index for the former republics of the Sowjetunion based on Google-Trends)"]
["Pitlik László","Fagyos napok számának becslése a többrétegű modell belső szimmetriai viszonyait túltanulási korrekciókra kiaknázva","(+)"]
["(MY-X team):","(Estimation of the number of frosty days or exploiting the internal symmetry conditions of the model for overlearning-corrections)"]
[]
["MIAU No. = 291 ... (MIAU No. = 292) ... MIAU No. = 293"]

{"sheet":"Munka4","index":25,"n_rows":39,"n_cols":11,"rows_kept":39,"cut":false,"hidden":false,"merged":[[30,6,31,6],[32,6,33,6],[34,6,35,6],[2,10,3,10],[4,10,5,10],[6,10,7,10],[8,10,9,10],[10,10,11,10],[12,10,13,10],[18,6,19,6],[20,6,21,6],[22,6,23,6],[24,6,25,6],[26,6,27,6],[28,6,29,6],[14,2,15,2],[16,2,17,2],[2,6,3,6],[4,6,5,6],[6,6,7,6],[8,6,9,6],[10,6,11,6],[12,6,13,6],[14,6,15,6],[16,6,17,6],[2,2,3,2],[4,2,5,2],[6,2,7,2],[8,2,9,2],[10,2,11,2],[12,2,13,2]]}
["MIAU No. = 272 *** Év/Year = 2021 *** Hónap/Month = április",null,8,null,"MIAU No. = 273 *** Év/Year = 2021 *** Hónap/Month = május",null,17,null,"MIAU No. = 274 *** Év/Year = 2021 *** Hónap/Month = június",null,6]
[]
["Pitlik László","Automatizáció a banki és biztosítási piacon","(+)",null,"Pitlik László","BELBIN-teszt hasonlóság-alapú értékelése","(+)",null,"Gergics Miléna, Pitlik László","Robotedző és robot-pszichológus feltörekvő labdarúgók piaci értékének növelésére","(+)"]
["(KJE):","(Automation in bank and insurance activities)",null,null,"(MY-X team):","(Belbin-test evaluation based on similarity analyses)",null,null,"(MY-X team):","(Robot-coach and Robot-psychologist for increasing market value of young soccers)"]
["Pitlik László","MP3: A digitalizáció szerepe a megváltozott kutatási környezetben","(+)",null,"Pitlik László (jun)","BELBIN-teszt kánon-alapú értékelése","(+)",null,"Pitlik Marcell","OTDK-MP3: Térfogati égés optikai vizsgálata és mesterséges intelligencia alapú elemzése","(+)"]
["(KJE):","(Digitalization and research)",null,null,"(MY-X team):","(Belbin-test canonized evaluation)",null,null,"(MY-X team):","(Optical diagnostics and analysis of steady combustion based on artificial intelligence)"]
["Pitlik László","A digitalizáció szerepe a megváltozott kutatási környezetben","(+)",null,"Válogatás","A kódlopó/kódkölcsönző programozásról","(+)",null,"Pitlik Marcell","OTDK-PPT: Térfogati égés optikai vizsgálata és mesterséges intelligencia alapú elemzése","(+)"]
["(KJE):","(Digitalization and research)",null,null,"(MY-X team):","(How to create source codes based on prepared elements?)",null,null,"(MY-X team):","(Optical diagnostics and analysis of steady combustion based on artificial intelligence)"]
["Pitlik László, Pitlik Marcell","Alternatív megoldások regressziós modellekben hasonlóságelemzésekhez képest","(+)",null,"Pitlik László","Termelési szerkezet optimalizálása Solver-alapon","(+)",null,"Pitlik László","Blokklánc-blokkok optimalizált feltöltésének alternatív megoldásai","(+)"]
["(MY-X Team):","(Alternative solutions of regression models compared to similarity analyses)",null,null,"(MY-X team):","(Optimizing production structure based on MS Excel-Solver)",null,null,"(MY-X team):","(Alternative solutions for defining transactions for blocks of blockchains)"]
["Pitlik László","Triatlon-csapatok optimalizálása solver-támogatással","(+)",null,"Pitlik László","Termelési szerkezet optimalizálása MCM-alapon","(+)",null,"Pitlik László, Pitlik Marcell","Solver-függő alternatív megoldások a hasonlóságelemzésben","(+)"]
["(MY-X team):","(Optimization of triatlon-teams based on solver)",null,null,"(MY-X team):","(Optimizing production structure based on MCM)",null,null,"(MY-X team):","(Solver-driven alternative solutions in the similarity analysis)"]
["Pitlik László, Pitlik Marcell","Roo-Boo-MOOC, avagy a robotizált MOOC-fejlesztés lehetőségei és korlátai II.","(+)",null,"Pitlik László, Rikk János, Pitlik Marcell","Naiv és optimalizált versenyértékelés az oktatásban","(+)",null,"Pitlik László","Látszólagos teljes invaliditás függvény-szimmetria vizsgálatok nyomán lépcsős függvényekkel","(+)"]
["(MY-X team):","(Potentials and barriers in the robotized MOOC-development- Part II.)",null,null,"(MY-X team):","(Naïve and optimized evaluation in competitive education)",null,null,"(MY-X team):","(Seemingly total invalidity based on symmetry analyses of staircase functions)"]
["Pitlik László, Pitlik Marcell, Pitlik Mátyás, Rikk János","A hamis remény kódjai, avagy mi különbözteti meg a jó és a középszerű programozókat egymástól?","(+)",null,"Pitlik László, Rikk János","Felsőoktatási intézmények teljesítmény-ellenőrzési rendszervariánsai","(+)"]
["(MY-X team):","(Codes of the false hope – or what are the differences between the good and the norm-like programmers?)",null,null,"(MY-X team):","(Variations for performance control systems in the higher education)",null,null,"MIAU No. = 273 ... (MIAU No. = 274) ... MIAU No. = 275"]
["Pitlik László, Pitlik Marcell","Anonimitás, mint a jövő pénze","(+)",null,"Pitlik László, Pitlik Marcell","Alternatív megoldások idősorok legkarakterisztikusabb vágópontjainak feltárására","(+)"]
["(MY-X team):","(Anonymity as a kind of money of the future)",null,null,"(MY-X team):","(Alternative solutions for the most characteristic cutting points in time series)"]
[null,null,null,null,"Pitlik László, Pitlik Marcell","Az olaj, mint nyersanyag iránti érdeklődés lehetséges értelmezései","(+)"]
["MIAU No. = 271 ... (MIAU No. = 272) ... MIAU No. = 273",null,null,null,"(MY-X team):","(Potential interpretations of Google-Trends about oil as such)"]
["miau.my-",null,null,null,"Pitlik László, Pitlik Marcell","Hallgatói dolgozatok értékelése csak a kivonatok alapján, avagy a kivonat tartalmának szabványosítási kísérlete","(+)"]
[null,null,null,null,"(MY-X team):","(Evaluation of studies of Students based only on the abstract – or an attempt for standardization of abstracts)"]
[null,null,null,null,"Pitlik Mátyás, Pitlik Marcell, Pitlik László, Pitlik László (jun)","Érmevásárlás hasonlóságelemzési alapon, avagy alternatív modellek és ezek kölcsönhatásai","(+)"]
[null,null,null,null,"(MY-X team):","(Numismatic decision support based on alternative similarity analyses)"]
[null,null,null,null,"Pitlik László, Pitlik Marcell","A Coursera aranykora, avagy az önkorlátozó mesterséges intelligencia","(+)"]
[null,null,null,null,"(MY-X team):","(Golden Age for Coursera – or self-limitation of artificial intelligence)"]
[null,null,null,null,"Takács Vivien, Pitlik László","A SAMSUNG és a DELL brand-érték alakulásának összehasonlító elemzése","(+)"]
[null,null,null,null,"(Learning Innovation Kft., My-X team):","(Comparative analysis of the time series of brand values concerning Samsung and Dell)"]
[null,null,null,null,"Garabits Edina, Pitlik László","A COURSERA és az UDEMY brand-érték alakulásának összehasonlító elemzése","(+)"]
[null,null,null,null,"(Learning Innovation Kft., My-X team):","(Comparative analysis of the time series of brand values concerning Coursera and Udemy)"]
[null,null,null,null,"Boross Gábor, Pitlik László","A FERRARI brand-értékének idősoros alakulása, avagy a WIKIPEDIA hangulatértékek becslése","(+)"]
[null,null,null,null,"(Learning Innovation Kft., My-X team):","(The time-series of the brand values of Ferrari from point of view of a robot historian – or estimation of emotional directions of Wikipedia about an enterprise)"]
[null,null,null,null,"Kemény Norbert, Pitlik László","A SAMSUNG Electronics aranykora, avagy a naiv és a robotszem párhuzamai és eltérései","(+)"]
[null,null,null,null,"(Learning Innovation Kft., My-X team):","(The golden age of the Samsung Electronics company– or parallelisms and differences between robot eyes and naïve problem handling strategies)"]
[null,null,null,null,"Rácz Zsolt, Pitlik László","Az ADIDAS-történet robotszemmel – avagy a validáció új aspektusai a hasonlóságelemzésben","(+)"]
[null,null,null,null,"(Learning Innovation Kft., My-X team):","(The Adidas-story from point of view of a robot historian – or new aspects of the validation in the similarity analyses)"]
[]
[null,null,null,null,"MIAU No. = 272 ... (MIAU No. = 273) ... MIAU No. = 274"]
[null,null,null,null,"miau.my-"]

{"sheet":"Munka3","index":26,"n_rows":137,"n_cols":3,"rows_kept":137,"cut":false,"hidden":false,"merged":[[120,2,121,2],[122,2,123,2],[124,2,125,2],[126,2,127,2],[128,2,129,2],[106,2,107,2],[108,1,109,1],[108,2,109,2],[116,2,117,2],[118,2,119,2],[96,2,97,2],[98,2,99,2],[100,2,101,2],[102,2,103,2],[104,1,105,1],[104,2,105,2],[82,2,83,2],[84,2,85,2],[86,2,87,2],[94,1,95,1],[94,2,95,2],[74,1,75,1],[74,2,75,2],[76,2,77,2],[78,2,79,2],[80,2,81,2],[30,2,31,2],[2,2,3,2],[4,2,5,2],[6,2,7,2],[8,2,9,2],[10,2,11,2],[12,2,13,2],[20,2,21,2],[22,2,23,2],[24,2,25,2],[26,2,27,2],[28,2,29,2],[32,2,33,2],[34,2,35,2],[36,2,37,2],[38,0,39,0],[38,2,39,2],[47,2,48,2],[49,2,50,2],[51,2,52,2],[53,2,54,2],[55,1,56,1],[55,2,56,2],[65,2,66,2],[57,1,58,1],[57,2,58,2],[59,2,60,2],[61,2,62,2],[63,2,64,2]]}
[" október"]
[]
["Pitlik László (jun)","A közjó mérése","(+)"]
["(MY-X team):","(Modelling of the Common Good)"]
["Pitlik László (jun)","Adatforrások a közjó mérésében: Eurostat és OECD","(+)"]
["(MY-X team):","(Data sources for the modelling of the Common Good)"]
["Pitlik László (jun)","Komplex fejlettségi index","(+)"]
["(MY-X team):","(Complex Development index - CDi)"]
["Pitlik László (jun)","Az európai integrációról","(+)"]
["(MY-X team):","(About the European Integration)"]
["Pitlik László, Pitlik Marcell","A ROBOT-ÍRÓ alapjai","(+)"]
["(MY-X team):","(Basics of a ROBOT-writer)"]
["Pitlik László, Rikk János, Gángó Vince, Tóth Csaba","A távoktatás, mint kritikus oktatási üzem – IT-aspektusai, avagy felkészülés a duális képzésre","(+)"]
["(MY-X team):","(Distance education as a kind of critical education operation and its IT-relevant aspects, or preparation for a dual education)"]
[]
["MIAU No. "]
[]
[]
["november"]
[]
["Bakos Bence","Prezentáció: PLA-felmérés adatainak mesterséges intelligencia alapú elemzése","(+)"]
["(KJE):","(Analyses of PLA-data assets based on artificial intelligence)"]
["Bartók Patrik","Prezentáció: Két eszköz közti adatátviteli lehetőségek áttekintése a biztonság szempontjából induktív szakértői rendszerrel","(+)"]
["(KJE):","(Security ranking of alternative data-transfer-approaches based on an inductive expert system tool)"]
["Pitlik László, Pitlik Marcell, Bartók Patrik, Rikk János","Értékek matematikája","(+)"]
["(MY-X team):","(Mathematics of values)"]
["Pitlik László, Pitlik Marcell, Bakos Bence, Rikk János","Solver-alapú problémamegoldás, avagy az adatvagyontól a kész jelentésig tartó projekt minőségmenedzsmentje","(+)"]
["(MY-X team):","(Solver-based problem solving, or from the data assets to a closed study with quality management aspects)"]
["Pitlik László, Pitlik Mátyás, Pitlik Marcell, Rikk János","EEG-mintázatok előhívása és feltárása MI-alapon","(+)"]
["(MY-X team):","(Deriving and detecting EEG-patterns based on AI)"]
["Bartók Patrik","Két eszköz közti adatátviteli lehetőségek áttekintése a biztonság szempontjából induktív szakértői rendszerrel","(+)"]
["(KJE):","(Security ranking of alternative data-transfer-approaches based on an inductive expert system tool)"]
["Bakos Bence","PLA-felmérés adatainak mesterséges intelligencia alapú elemzése","(+)"]
["(KJE):","(Analyses of PLA-data assets based on artificial intelligence)"]
["Pitlik Marcell","Prezentáció: Térfogati égés optikai vizsgálata és mesterséges intelligencia alapú elemzése","(+)"]
["(BME):","(Optical diagnostics and analysis of steady combustion based on artificial intelligence)"]
["Pitlik Marcell","Térfogati égés optikai vizsgálata és mesterséges intelligencia alapú elemzése","(+)"]
["(BME):","(Optical diagnostics and analysis of steady combustion based on artificial intelligence)"]
["Pitlik László, Pitlik Marcell:","Szubjektív értékelések kiegészítése objektív adatforrásokkal és ezek mesterséges intelligencia-alapú értelmezésével","(+)"]
[null,"(Completion of subjective evaluations through objective data sources and their AI-based analyses)"]
[]
["MIAU"]
[]
[]
[]
["MIAU No. = 268 *** Év/Year = 2020 *** Hónap/Month = december"]
[]
["Pitlik László","Bizonyítás-szimulátor, avagy mit tudhat ténylegesen egy big-data alapon eljáró ROBOT-COVID-szakértő?","(+)"]
["(My-X team):","(Evidence-simulator, or what can be derived based on big-data by a ROBOT-COVID-expert?)"]
["Pitlik László, Biró Bálint, Pitlik Marcell, Pitlik László (jun)","A szakmai problémától a pszeudo-kódig, avagy a context-free szómágia és az Excel kapcsolata","(+)"]
["(My-X team):","(From the context-related problem to a pseudo-code, or magic of words in a context-free way leading to an Excel-demo)"]
["Pitlik László, Pitlik Marcell","Ceteris paribus alakzatok racionális polinomjai – hasonlóságelemzéssel","(+)"]
["(My-X team):","(Rational polynomial functions as ceteris paribus views – based on similarity analyses)"]
["Pitlik László","Előadás: Modern szemléletű projektciklus-értelmezések alapjai","(+)"]
["(KJE):","(Project-cycle-interpretations based on heretic approaches)"]
["Bakos Bence","TDK-előadás: PLA-felmérés adatainak mesterséges intelligencia alapú elemzése (Analyses of PLA-data assets based on artificial intelligence)","(+)"]
["(KJE):"]
["Bartók Patrik","TDK-előadás: Két eszköz közti adatátviteli lehetőségek áttekintése a biztonság szempontjából induktív szakértői rendszerrel (Security ranking of alternative data-transfer-approaches based on an inductive expert system tool)","(+)"]
["(KJE):"]
["Pitlik László","Az erőből történő problémamegoldás demonstrálása egyéb alternatívák bemutatása mellett","(+)"]
["(MY-X team):","(Problem solving based on brute force and/or other approaches)"]
["Pitlik László, Pitlik Marcell, Pitlik László (jun)","A statisztikus tanulás robotizálása, avagy az evolúció alapvetően konzerválja-e a butaságot?!","(+)"]
["(MY-X team):","(Robotized statistical learning or the evolution as guarantee for the existence of the human dumbness?!)"]
["Pitlik László, Pitlik Marcell","Spontán matematika-tudásnövelés programozók esetében (a véletlen kezelésének kockázatai pszeudokódban)","(+)"]
["(MY-X team):","(Knowledge-increasing in mathematics in a spontaneous way in case of programmers or risks in pseudocode-based representations of the coincidence)"]
["Pitlik László, Pitlik Marcell","Context-free hermeneutikai gyakorlatok (hasonlóságelemzésláncok egységes rendszerű értelmezése transzponált OAM-ok alapján)","(+)"]
["(MY-X team):","(Context-free exercises in hermeneutics or holistic interpretations for chained similarity analyses based on transponed OAMs)"]
[]
["MIAU No. = 267 ... (MIAU No. = 268) ... MIAU No. = 269"]
[]
[]
[]
["MIAU No. = 269 *** Év/Year = 2021 *** Hónap/Month = január"]
[]
["Válogatás","Aranykor-értelmezések üzemi adatok alapján (Interpretation of the Golden Age concerning enterprises)","(+)"]
["(KJE):"]
["Orovecz Dávid","Önálló tanulást támogató angol nyelvi teszt értékelésekkel és magyarázatokkal - dokumentációs nézet","(+)"]
["(KJE):","Autodidactic quiz in English with evaluation and interpretation layers - planning view"]
["Orovecz Dávid","Önálló tanulást támogató angol nyelvi teszt értékelésekkel és magyarázatokkal","(+)"]
["(KJE):","Autodidactic quiz in English with evaluation and interpretation layers"]
["Zsanett András","Könyvelési adatok információs többletérték-termelő képességének feltárása egyetlen cég két évtizedes adatvagyona alapján","(+)"]
["(KJE):","(Innovative time series analyses in case of one single enterprise - VADEX)"]
["Anonim Hallgató","Forráskódot bemutató publikáció köztes állapota a dolgozatkészítés tervezésének és kivitelezésének támogatására","(+)"]
["(KJE):","(Interim report about a source code supporting planning and realization of studies)"]
["Birgésné Velkei Éva","CÉG-ADATOK ÉRTELMEZÉSE MÁSKÉNT","(+)"]
["(KJE):","(Interpretation of information about enterprises - in an innovative way)"]
["Gergics Miléna","A ROBOTEDZŐ TERVEZETT ALKALMAZÁSA A NŐI LABDARÚGÁSBAN","(+)"]
["(KJE):","(THE PROPOSED USE OF ROBOT COACH IN THE WOMEN’S FOOTBALL)"]
[]
["MIAU No. = 268 ... (MIAU No. = 269) ... MIAU No. = 270"]
["miau.my-"]
[]
["MIAU No. = 270 *** Év/Year = 2021 *** Hónap/Month = február"]
[]
["Kodó Krisztina, Kovács László, Pitlik László","Experiences concerning digital transformation of the higher education on personal and institutional levels","(+)"]
["(KJU):"]
["Pitlik László, Pitlik Marcell, Pitlik László (jun)","Az anti-diszkriminatív, solver-alapú modellezés alternatív rétegei","(+)"]
["(MY-X team):","(Alternative layers of the anti-discriminative, solver-based modelling)"]
["Pitlik László, Pitlik Marcell, Pitlik Mátyás","Robot-esztéta, avagy a szépség matematikája II.","(+)"]
["(MY-X team):","(Robot-aesthetic-expert or the mathematics of the beauty - Part II.)"]
["Pitlik László, Pitlik Marcell, Pitlik Mátyás","Robot-esztéta, avagy a szépség matematikája I.","(+)"]
["(MY-X team):","(Robot-aesthetic-expert or the mathematics of the beauty - Part I.)"]
["Pitlik László, Pitlik Marcell","A multikollinearitás téves kezelése, avagy információvesztést generáló változókizárás a hasonlóságelemzésben","(+)"]
["(MY-X team):","(Wrong interpretation of the multicollinearity or even the exclusion of the affected variables leads to lack of information)"]
["Németh László, Pitlik László","Robot-lektor fejlesztése (részjelentés) (Robot-lector – progress report)","(+)"]
["(INNOREG, MY-X team):"]
["Pitlik László","A pesszimizmus matematikája, avagy egy robot-pszichológus alapvetései","(+)"]
["(MY-X team):","(Mathematics of the pessimism – or the basics of a robot-psychologist)"]
["Pitlik Mátyás, Pitlik László","FADN/MSZIH-adatok új OLAP-keretrendszere","(+)"]
["(MY-X team):"]
[]
["MIAU No. = 269 ... (MIAU No. = 270) ... MIAU No. = 271"]
[]
[]
["MIAU No. = 271 *** Év/Year = 2021 *** Hónap/Month = március"]
[]
["Pitlik László, Pitlik Marcell","Roo-Boo-MOOC, avagy a robotizált MOOC-fejlesztés lehetőségei és korlátai I.","(+)"]
["(MY-X team):","(Potentials and barriers in the robotized MOOC-development- Part I.)"]
["Pitlik László, Pitlik Marcell","A kongruens modellezés információs többletérték-termelő potenciálja","(+)"]
["(MY-X team):","(Potential of the information added value based on congruent modelling)"]
["Pitlik László, Pitlik László (jun)","Több kombinatorikai réteggel nehezített feladat solver-alapú megoldása","(+)"]
["(MY-X team):","(Multilayered combinatrics in solver-based solutions)"]
["Pitlik Marcell","Digitális/elektronikus/virtuális (jegybank)pénz és a blokkláncok jelentősége a pénzügyekben, avagy az adat-elemzés és az adat-vizualizáció lehetőségei a döntéstámogatásban","(+)"]
["(MY-X team):","(Forecasting of the e-money volumes based on similarity analysis)"]
["Pitlik László","Javascript-alapú MOOC-őssejt","(+)"]
["(MY-X team):","(Javascript-based MOOC stem cell)"]
["Pitlik László","2DM-játék animációkkal","(+)"]
["(MY-X team):","(2DM-game with animations)"]
["VIRTOUR","2DM-alapú tudományos ismeretterjesztés biológia témakörben","(+)"]
["(VIRTOUR):","(2DM-based dissemination of scientific knowledge on the field of the biology)"]
[]
["MIAU No. = 270 ... (MIAU No. = 271) ... MIAU No. = 272"]
["miau.my-x.hu"]
[]
["myxfree.tool"]
[]
["rss.services"]

{"sheet":"nyers_oldd","index":27,"n_rows":90,"n_cols":13,"rows_kept":90,"cut":false,"hidden":false,"merged":[[18,2,19,2],[72,3,73,3],[74,3,75,3],[82,3,83,3],[84,3,85,3],[62,3,63,3],[64,3,65,3],[66,3,67,3],[68,3,69,3],[70,3,71,3],[56,3,57,3],[58,2,59,2],[58,3,59,3],[60,2,61,2],[60,3,61,3],[48,3,49,3],[88,3,89,3],[86,3,87,3],[76,3,77,3],[78,3,79,3],[80,3,81,3],[50,3,51,3],[52,2,53,2],[52,3,53,3],[54,3,55,3],[40,3,41,3],[42,2,43,2],[42,3,43,3],[44,3,45,3],[46,3,47,3],[32,3,33,3],[34,3,35,3],[36,3,37,3],[38,3,39,3],[34,2,35,2],[36,2,37,2],[24,3,25,3],[26,3,27,3],[28,3,29,3],[30,2,31,2],[30,3,31,3],[28,2,29,2],[26,2,27,2],[24,2,25,2],[14,3,15,3],[16,3,17,3],[18,3,19,3],[20,3,21,3],[22,3,23,3],[0,3,1,3],[2,3,3,3],[4,3,5,3],[12,3,13,3],[6,3,7,3],[8,3,9,3],[10,3,11,3],[10,2,11,2],[12,2,13,2],[72,2,73,2],[86,2,87,2],[0,2,1,2],[2,2,3,2],[4,2,5,2],[6,2,7,2],[8,2,9,2],[32,2,33,2],[56,2,57,2],[62,2,63,2],[20,2,21,2],[22,2,23,2],[14,2,15,2],[16,2,17,2]]}
["miau261","Amine Sahraouardi","Beliefs about the Use of Instagram: An Exploratory Study - How to model Instagram characteristics based on country profiles","(+)",null,{"$f":"A1","v":"miau261"},{"$f":"B1","v":"Amine Sahraouardi"},":",{"$f":"M1","v":"Beliefs about the Use of Instagram: An Exploratory Study - How to model Instagram characteristics based on country profiles"},"  xx  ","https://miau.my-x.hu/miau/261/instagram.pdf",null,{"$f":"C1","v":"Beliefs about the Use of Instagram: An Exploratory Study - How to model Instagram characteristics based on country profiles"}]
[null,"(KJU):"]
["miau261","Anna Laura Bódis, Luca Klára Bodolay","The learning success of different didactical actions","(+)",null,{"$f":"A3","v":"miau261"},{"$f":"B3","v":"Anna Laura Bódis, Luca Klára Bodolay"},":",{"$f":"M3","v":"The learning success of different didactical actions"},"  xx  ","https://miau.my-x.hu/miau/261/5percent.pdf",null,{"$f":"C3","v":"The learning success of different didactical actions"}]
[null,"(KJU):"]
["miau261","Pavel Vovchik","Russian Economy between 1992-1998 or preferred terms for political communication/marketing","(+)",null,{"$f":"A5","v":"miau261"},{"$f":"B5","v":"Pavel Vovchik"},":",{"$f":"M5","v":"Russian Economy between 1992-1998 or preferred terms for political communication/marketing"},"  xx  ","https://miau.my-x.hu/miau/261/GDP_political_marketing_ru.pdf",null,{"$f":"C5","v":"Russian Economy between 1992-1998 or preferred terms for political communication/marketing"}]
[null,"(KJU):"]
["miau261","Dániel FÜLÖP","Hungarian Economy between 2010-2020 or preferred terms for political communication/marketing","(+)",null,{"$f":"A7","v":"miau261"},{"$f":"B7","v":"Dániel FÜLÖP"},":",{"$f":"M7","v":"Hungarian Economy between 2010-2020 or preferred terms for political communication/marketing"},"  xx  ","https://miau.my-x.hu/miau/261/GDP_political_marketing.pdf",null,{"$f":"C7","v":"Hungarian Economy between 2010-2020 or preferred terms for political communication/marketing"}]
[null,"(KJU):"]
["miau261","Aqib Masood, Navid Babaei","Management is the best way to increase productivity - or how to prove a hypothesis based on big-data and solver-oriented thinking experiments","(+)",null,{"$f":"A9","v":"miau261"},{"$f":"B9","v":"Aqib Masood, Navid Babaei"},":",{"$f":"M9","v":"Management is the best way to increase productivity - or how to prove a hypothesis based on big-data and solver-oriented thinking experiments"},"  xx  ","https://miau.my-x.hu/miau/261/Management_Project.pdf",null,{"$f":"C9","v":"Management is the best way to increase productivity - or how to prove a hypothesis based on big-data and solver-oriented thinking experiments"}]
[null,"(KJU):"]
["miau261","Raj Md Saidul Islam","How to select the best location for a business activity?","(+)",null,{"$f":"A11","v":"miau261"},{"$f":"B11","v":"Raj Md Saidul Islam"},":",{"$f":"M11","v":"How to select the best location for a business activity?"},"  xx  ","https://miau.my-x.hu/miau/261/How_to_select_the_best_location_for_a_business_activity3.pdf",null,{"$f":"C11","v":"How to select the best location for a business activity?"}]
[null,"(KJU):"]
["miau261","Khalid Hafiz Waqar","Transnational Cooperation for COVID19 Control and Prevention or comparative estimation of the quality of health systems","(+)",null,{"$f":"A13","v":"miau261"},{"$f":"B13","v":"Khalid Hafiz Waqar"},":",{"$f":"M13","v":"Transnational Cooperation for COVID19 Control and Prevention or comparative estimation of the quality of health systems"},"  xx  ","https://miau.my-x.hu/miau/261/health_management_quality_covid.pdf",null,{"$f":"C13","v":"Transnational Cooperation for COVID19 Control and Prevention or comparative estimation of the quality of health systems"}]
[null,"(KJU):"]
["miau261","Kitti Visnyei","GAME DEVELOPMENT APPROACHES - Handling the freedom by players in gamification processes","(+)",null,{"$f":"A15","v":"miau261"},{"$f":"B15","v":"Kitti Visnyei"},":",{"$f":"M15","v":"GAME DEVELOPMENT APPROACHES - Handling the freedom by players in gamification processes"},"  xx  ","https://miau.my-x.hu/miau/261/GameDevelopment.pdf",null,{"$f":"C15","v":"GAME DEVELOPMENT APPROACHES - Handling the freedom by players in gamification processes"}]
[null,"(KJU):"]
["miau261","Sára Várkonyi","Coronavirus publication - the best-country-view","(+)",null,{"$f":"A17","v":"miau261"},{"$f":"B17","v":"Sára Várkonyi"},":",{"$f":"M17","v":"Coronavirus publication - the best-country-view"},"  xx  ","https://miau.my-x.hu/miau/261/coronavirus_publication_final.pdf",null,{"$f":"C17","v":"Coronavirus publication - the best-country-view"}]
[null,"(KJU):"]
["miau261","Aidana Sanbayeva","Eurovision - event tourism (festivals) as an attractor","(+)",null,{"$f":"A19","v":"miau261"},{"$f":"B19","v":"Aidana Sanbayeva"},":",{"$f":"M19","v":"Eurovision - event tourism (festivals) as an attractor"},"  xx  ","https://miau.my-x.hu/miau/261/eurovision.pdf",null,{"$f":"C19","v":"Eurovision - event tourism (festivals) as an attractor"}]
[null,"(KJU):"]
["miau261","Nadeem Azhar","Pizza to go – A Best Pizza Award – based on a robot judge","(+)",null,{"$f":"A21","v":"miau261"},{"$f":"B21","v":"Nadeem Azhar"},":",{"$f":"M21","v":"Pizza to go – A Best Pizza Award – based on a robot judge"},"  xx  ","https://miau.my-x.hu/miau/261/pizza_award_robot_judge.pdf",null,{"$f":"C21","v":"Pizza to go – A Best Pizza Award – based on a robot judge"}]
[null,"(KJU):"]
["miau261","LUBO NGOIE JUNIOR","Food-Kaleidoscope – The Case of Belgium","(+)",null,{"$f":"A23","v":"miau261"},{"$f":"B23","v":"LUBO NGOIE JUNIOR"},":",{"$f":"M23","v":"Food-Kaleidoscope – The Case of Belgium"},"  xx  ","https://miau.my-x.hu/miau/261/food_kaleidoscope_belgium.pdf",null,{"$f":"C23","v":"Food-Kaleidoscope – The Case of Belgium"}]
[null,"(KJU):"]
["miau261","Yama Abdiani","Food-Kaleidoscope – The Case of Zambia","(+)",null,{"$f":"A25","v":"miau261"},{"$f":"B25","v":"Yama Abdiani"},":",{"$f":"M25","v":"Food-Kaleidoscope – The Case of Zambia"},"  xx  ","https://miau.my-x.hu/miau/261/food_kaleidoscope_zambia.pdf",null,{"$f":"C25","v":"Food-Kaleidoscope – The Case of Zambia"}]
[null,"(KJU):"]
["miau261","Shahroze Shahroze","RANKING OF COUNTRIES CONCERNING AI-READINESS/RELATEDNESS OR IMPACTS OF ARTIFICIAL INTELLIGENCE","(+)",null,{"$f":"A27","v":"miau261"},{"$f":"B27","v":"Shahroze Shahroze"},":",{"$f":"M27","v":"RANKING OF COUNTRIES CONCERNING AI-READINESS/RELATEDNESS OR IMPACTS OF ARTIFICIAL INTELLIGENCE"},"  xx  ","https://miau.my-x.hu/miau/261/Ranking_of_countries_concerning_AI.pdf",null,{"$f":"C27","v":"RANKING OF COUNTRIES CONCERNING AI-READINESS/RELATEDNESS OR IMPACTS OF ARTIFICIAL INTELLIGENCE"}]
[null,"(KJU):"]
["miau261","Nazir Nelson","Food-Kaleidoscope – The Case of Pakistan","(+)",null,{"$f":"A29","v":"miau261"},{"$f":"B29","v":"Nazir Nelson"},":",{"$f":"M29","v":"Food-Kaleidoscope – The Case of Pakistan"},"  xx  ","https://miau.my-x.hu/miau/261/Food_Kaleidoscope_Pakistan.pdf",null,{"$f":"C29","v":"Food-Kaleidoscope – The Case of Pakistan"}]
[null,"(KJU):"]
["miau261","Kitoto Ngoie Jennifer","Food-Kaleidoscope – The Case of Congo","(+)",null,{"$f":"A31","v":"miau261"},{"$f":"B31","v":"Kitoto Ngoie Jennifer"},":",{"$f":"M31","v":"Food-Kaleidoscope – The Case of Congo"},"  xx  ","https://miau.my-x.hu/miau/261/food_kaleidoscope_case_congo.pdf",null,{"$f":"C31","v":"Food-Kaleidoscope – The Case of Congo"}]
[null,"(KJU):"]
["miau261","Dominik Riczó","Europe between 1960 and 1990 or what could derive a robot-historian about the second half of the cold war based on big-data?","(+)",null,{"$f":"A33","v":"miau261"},{"$f":"B33","v":"Dominik Riczó"},":",{"$f":"M33","v":"Europe between 1960 and 1990 or what could derive a robot-historian about the second half of the cold war based on big-data?"},"  xx  ","https://miau.my-x.hu/miau/261/coldwar_robot-historian_turing-test.pdf",null,{"$f":"C33","v":"Europe between 1960 and 1990 or what could derive a robot-historian about the second half of the cold war based on big-data?"}]
[null,"(KJU):"]
["miau261","Syed Nabeel, Saad Muhammad Adil","2D MATRIX GAME","(+)",null,{"$f":"A35","v":"miau261"},{"$f":"B35","v":"Syed Nabeel, Saad Muhammad Adil"},":",{"$f":"M35","v":"2D MATRIX GAME"},"  xx  ","https://miau.my-x.hu/miau/261/quilt2_2dm_plus.pdf",null,{"$f":"C35","v":"2D MATRIX GAME"}]
[null,"(KJU):"]
["miau261","Nadja Oelmüllers","H1N1","(+)",null,{"$f":"A37","v":"miau261"},{"$f":"B37","v":"Nadja Oelmüllers"},":",{"$f":"M37","v":"H1N1"},"  xx  ","https://miau.my-x.hu/miau/261/h1n1.pdf",null,{"$f":"C37","v":"H1N1"}]
[null,"(KJU):"]
["miau262","Pitlik László, Pitlik László (jun)","Harmonikus közép számítása Solver-rel",null,null,{"$f":"A39","v":"miau262"},{"$f":"B39","v":"Pitlik László, Pitlik László (jun)"},":",{"$f":"M39","v":"Harmonikus közép számítása Solver-rel"},"  xx  ","https://miau.my-x.hu/miau/262/3tarcsa.xlsx",null,{"$f":"C39","v":"Harmonikus közép számítása Solver-rel"}]
[null,"(MY-X team):","(Calculation of harmonic means with Solver)"]
["miau262","Pitlik László","Hiányzó adatok becslésének láncreakciói",null,null,{"$f":"A41","v":"miau262"},{"$f":"B41","v":"Pitlik László"},":",{"$f":"M41","v":"Hiányzó adatok becslésének láncreakciói"},"  xx  ","https://miau.my-x.hu/miau/262/excel_plus.xls",null,{"$f":"C41","v":"Hiányzó adatok becslésének láncreakciói"}]
[null,"(MY-X team):","(Estimation of missing values in frame of chained processes)"]
["miau262","Pitlik László","Forecasting-oriented evaluation of further matches based on renewed elo-rating-approaches in frame of similarity analyses",null,null,{"$f":"A43","v":"miau262"},{"$f":"B43","v":"Pitlik László"},":",{"$f":"M43","v":"Forecasting-oriented evaluation of further matches based on renewed elo-rating-approaches in frame of similarity analyses"},"  xx  ","https://miau.my-x.hu/miau/262/exatlon_plus.xlsx",null,{"$f":"C43","v":"Forecasting-oriented evaluation of further matches based on renewed elo-rating-approaches in frame of similarity analyses"}]
[null,"(MY-X team):"]
["miau262","Pitlik László","Specifikációt előkészítő egyeztetések – esettanulmány egy szaklap online megjelenésének előkészítésről",null,null,{"$f":"A45","v":"miau262"},{"$f":"B45","v":"Pitlik László"},":",{"$f":"M45","v":"Specifikációt előkészítő egyeztetések – esettanulmány egy szaklap online megjelenésének előkészítésről"},"  xx  ","https://miau.my-x.hu/miau/262/esettanulmany_online_szaklap.docx",null,{"$f":"C45","v":"Specifikációt előkészítő egyeztetések – esettanulmány egy szaklap online megjelenésének előkészítésről"}]
[null,"(MY-X team):","(Preparation steps of a specification – case study about the online presence of a scientific journal)"]
["miau262","Pitlik László","Hipotézis-tervezés PhD-disszertációkhoz",null,null,{"$f":"A47","v":"miau262"},{"$f":"B47","v":"Pitlik László"},":",{"$f":"M47","v":"Hipotézis-tervezés PhD-disszertációkhoz"},"  xx  ","https://miau.my-x.hu/miau/262/hipotezis_tervezes_phd.docx",null,{"$f":"C47","v":"Hipotézis-tervezés PhD-disszertációkhoz"}]
[null,"(MY-X team):","(Planning of hypotheses for PhD-degrees)"]
["miau262","Pitlik László","Egy teszt-kérdéssor párhuzamos világa - esettanulmány",null,null,{"$f":"A49","v":"miau262"},{"$f":"B49","v":"Pitlik László"},":",{"$f":"M49","v":"Egy teszt-kérdéssor párhuzamos világa - esettanulmány"},"  xx  ","https://miau.my-x.hu/miau/262/igaz-hamis-parhuzamos-ertelmezesek.docx",null,{"$f":"C49","v":"Egy teszt-kérdéssor párhuzamos világa - esettanulmány"}]
[null,"(MY-X team):","(Parallel universes of a test – case study)"]
["miau262","Pitlik László","Szoftver-specifikáció folyamatának lépései – esettanulmány",null,null,{"$f":"A51","v":"miau262"},{"$f":"B51","v":"Pitlik László"},":",{"$f":"M51","v":"Szoftver-specifikáció folyamatának lépései – esettanulmány"},"  xx  ","https://miau.my-x.hu/miau/262/terv_v2.docx",null,{"$f":"C51","v":"Szoftver-specifikáció folyamatának lépései – esettanulmány"}]
[null,"(MY-X team):","(Steps of the specification process in the software development)"]
["miau262","Bérczes Balázs","Versicherungen - Vergleich durch objektive Bewertung",null,null,{"$f":"A53","v":"miau262"},{"$f":"B53","v":"Bérczes Balázs"},":",{"$f":"M53","v":"Versicherungen - Vergleich durch objektive Bewertung"},"  xx  ","https://miau.my-x.hu/miau/262/Versicherung_Vergleich_durch_objektive_Bewertung.docx",null,{"$f":"C53","v":"Versicherungen - Vergleich durch objektive Bewertung"}]
[null,"(KJU):"]
["miau262","Pitlik Dóra","A zenei szépség naív és módszeres értelmezése",null,null,{"$f":"A55","v":"miau262"},{"$f":"B55","v":"Pitlik Dóra"},":",{"$f":"M55","v":"A zenei szépség naív és módszeres értelmezése"},"  xx  ","https://miau.my-x.hu/miau/262/zenei_szepseg_best_of.xlsx",null,{"$f":"C55","v":"A zenei szépség naív és módszeres értelmezése"}]
[null,"(MY-X team):","(Beauty of music - based on naive and optimized approaches)"]
["miau262","Pitlik László, Pitlik László (jun)","Storyboard: QuILT 2.0 – Popular-science-level in exam-situations or it would be possible even more? = AI-based modelling the term of decadence",null,null,{"$f":"A57","v":"miau262"},{"$f":"B57","v":"Pitlik László, Pitlik László (jun)"},":",{"$f":"M57","v":"Storyboard: QuILT 2.0 – Popular-science-level in exam-situations or it would be possible even more? = AI-based modelling the term of decadence"},"  xx  ","https://miau.my-x.hu/miau/quilt/2020/quilt2/launching2020V13/quilt_2_0_final_exam_decadence_index.docx",null,{"$f":"C57","v":"Storyboard: QuILT 2.0 – Popular-science-level in exam-situations or it would be possible even more? = AI-based modelling the term of decadence"}]
[null,"(MY-X team):"]
["miau262","Pitlik László, Pitlik László (jun)","Werkfilm: Decadence-index and sustainability-index for the USA",null,null,{"$f":"A59","v":"miau262"},{"$f":"B59","v":"Pitlik László, Pitlik László (jun)"},":",{"$f":"M59","v":"Werkfilm: Decadence-index and sustainability-index for the USA"},"  xx  ","https://miau.my-x.hu/miau/quilt/2020/quilt2/launching2020V13/part7.html",null,{"$f":"C59","v":"Werkfilm: Decadence-index and sustainability-index for the USA"}]
[null,"(MY-X team):"]
["miau262","Pitlik László, Pitlik László (jun)","Storyboard: QuILT 2.0 – Layer-integration – or Food-Kaleidoscope-based knowledge tests in 2DM-frames",null,null,{"$f":"A61","v":"miau262"},{"$f":"B61","v":"Pitlik László, Pitlik László (jun)"},":",{"$f":"M61","v":"Storyboard: QuILT 2.0 – Layer-integration – or Food-Kaleidoscope-based knowledge tests in 2DM-frames"},"  xx  ","https://miau.my-x.hu/miau/quilt/2020/quilt2/launching2020V06/quilt_2_0_2dm_and_food_kaleidoscope.docx",null,{"$f":"C61","v":"Storyboard: QuILT 2.0 – Layer-integration – or Food-Kaleidoscope-based knowledge tests in 2DM-frames"}]
[null,"(MY-X team):"]
["miau262","Pitlik László, Pitlik László (jun)","Werkfilm: Food-Kaleidoscope-based knowledge-tests in 2DM-frames",null,null,{"$f":"A63","v":"miau262"},{"$f":"B63","v":"Pitlik László, Pitlik László (jun)"},":",{"$f":"M63","v":"Werkfilm: Food-Kaleidoscope-based knowledge-tests in 2DM-frames"},"  xx  ","https://miau.my-x.hu/miau/quilt/2020/quilt2/launching2020V06/part6.html",null,{"$f":"C63","v":"Werkfilm: Food-Kaleidoscope-based knowledge-tests in 2DM-frames"}]
[null,"(MY-X team):"]
["miau263","Pitlik László","Erőből történő megoldási kísérletek megalapozása egy geometriai kihívás kapcsán",null,null,{"$f":"A65","v":"miau263"},{"$f":"B65","v":"Pitlik László"},":",{"$f":"M65","v":"Erőből történő megoldási kísérletek megalapozása egy geometriai kihívás kapcsán"},"  xx  ","https://miau.my-x.hu/bprof/router_geometria_erobol.xlsx",null,{"$f":"C65","v":"Erőből történő megoldási kísérletek megalapozása egy geometriai kihívás kapcsán"}]
[null,"(MY-X team):","(Introduction-experiments of potential solution-alternatives in brute force level for geometrical challenges)"]
["miau263","Pitlik László","Egy közismert IQ-tesztfeladat erőből történő megoldási kísérleteinek megalapozása",null,null,{"$f":"A67","v":"miau263"},{"$f":"B67","v":"Pitlik László"},":",{"$f":"M67","v":"Egy közismert IQ-tesztfeladat erőből történő megoldási kísérleteinek megalapozása"},"  xx  ","https://miau.my-x.hu/bprof/japan_iq_erobol.xlsx",null,{"$f":"C67","v":"Egy közismert IQ-tesztfeladat erőből történő megoldási kísérleteinek megalapozása"}]
[null,"(MY-X team):","(Introduction-experiments of potential solution-alternatives in brute force level)"]
["miau263","Pitlik László, Pitlik László (jun)","A kongruenciáról - oktatási szintek szerint",null,null,{"$f":"A69","v":"miau263"},{"$f":"B69","v":"Pitlik László, Pitlik László (jun)"},":",{"$f":"M69","v":"A kongruenciáról - oktatási szintek szerint"},"  xx  ","https://miau.my-x.hu/bprof/kongruencia_demo.xlsx",null,{"$f":"C69","v":"A kongruenciáról - oktatási szintek szerint"}]
[null,"(MY-X team):","(About the phenomenon of the congruence - in different levels of the education canon)"]
["miau263","Pitlik László, Rikk János","Tantárgy-fúziós komplex feladat-variánsok – 2020/2021 őszi (1.) félév – BPROF nappali/levelező",null,null,{"$f":"A71","v":"miau263"},{"$f":"B71","v":"Pitlik László, Rikk János"},":",{"$f":"M71","v":"Tantárgy-fúziós komplex feladat-variánsok – 2020/2021 őszi (1.) félév – BPROF nappali/levelező"},"  xx  ","https://miau.my-x.hu/bprof/bprof20202021osz_v3.docx",null,{"$f":"C71","v":"Tantárgy-fúziós komplex feladat-variánsok – 2020/2021 őszi (1.) félév – BPROF nappali/levelező"}]
[null,"(MY-X team):","(BPROF education strategy and operative parameters with examples)"]
["miau263","Pitlik László","Universal classification method involving explorative model-bubbles",null,null,{"$f":"A73","v":"miau263"},{"$f":"B73","v":"Pitlik László"},":",{"$f":"M73","v":"Universal classification method involving explorative model-bubbles"},"  xx  ","https://miau.my-x.hu/miau/263/classification_tool.xlsx",null,{"$f":"C73","v":"Universal classification method involving explorative model-bubbles"}]
[null,"(MY-X team):"]
["miau263","Pitlik László, Márta Attila","Robot-turisztikai-tanácsadó, avagy az emberi preferencia-hiány automatizált kezelése",null,null,{"$f":"A75","v":"miau263"},{"$f":"B75","v":"Pitlik László, Márta Attila"},":",{"$f":"M75","v":"Robot-turisztikai-tanácsadó, avagy az emberi preferencia-hiány automatizált kezelése"},"  xx  ","https://miau.my-x.hu/miau/263/bank-var-13.xlsx",null,{"$f":"C75","v":"Robot-turisztikai-tanácsadó, avagy az emberi preferencia-hiány automatizált kezelése"}]
[null,"(MY-X team):","(Robot expert for touristic planning or how to decide without human preferences)"]
["miau263","Barta Gergő, Pitlik László","Hipotézis-tervezés PhD-disszertációkhoz - Konzisztens gépi tanuló modellezés beltéri felhasználói lokalizáció meghatározásának pontosítására",null,null,{"$f":"A77","v":"miau263"},{"$f":"B77","v":"Barta Gergő, Pitlik László"},":",{"$f":"M77","v":"Hipotézis-tervezés PhD-disszertációkhoz - Konzisztens gépi tanuló modellezés beltéri felhasználói lokalizáció meghatározásának pontosítására"},"  xx  ","https://miau.my-x.hu/miau/263/Barta_Pitlik_final_no_remarks.docx",null,{"$f":"C77","v":"Hipotézis-tervezés PhD-disszertációkhoz - Konzisztens gépi tanuló modellezés beltéri felhasználói lokalizáció meghatározásának pontosítására"}]
[null,"(My-X team):","(Planning of hypotheses for PhD-degrees II.)"]
["miau264","Pitlik László","Az autodidakta/kritikus tanulás mintázatai – III. rész",null,null,{"$f":"A79","v":"miau264"},{"$f":"B79","v":"Pitlik László"},":",{"$f":"M79","v":"Az autodidakta/kritikus tanulás mintázatai – III. rész"},"  xx  ","https://miau.my-x.hu/bprof/autodidakta_kritikus_tanulas_mintazatai_p3.docx",null,{"$f":"C79","v":"Az autodidakta/kritikus tanulás mintázatai – III. rész"}]
[null,"(MY-X team):","(Patterns of the autodidactic/critic-oriented learning – Part III)"]
["miau264","Pitlik László","Az autodidakta/kritikus tanulás mintázatai – II. rész",null,null,{"$f":"A81","v":"miau264"},{"$f":"B81","v":"Pitlik László"},":",{"$f":"M81","v":"Az autodidakta/kritikus tanulás mintázatai – II. rész"},"  xx  ","https://miau.my-x.hu/bprof/autodidakta_kritikus_tanulas_mintazatai_p2.docx",null,{"$f":"C81","v":"Az autodidakta/kritikus tanulás mintázatai – II. rész"}]
[null,"(MY-X team):","(Patterns of the autodidactic/critic-oriented learning – Part II)"]
["miau264","Pitlik László","Az autodidakta/kritikus tanulás mintázatai – I. rész",null,null,{"$f":"A83","v":"miau264"},{"$f":"B83","v":"Pitlik László"},":",{"$f":"M83","v":"Az autodidakta/kritikus tanulás mintázatai – I. rész"},"  xx  ","https://miau.my-x.hu/bprof/autodidakta_kritikus_tanulas_mintazatai.docx",null,{"$f":"C83","v":"Az autodidakta/kritikus tanulás mintázatai – I. rész"}]
[null,"(MY-X team):","(Patterns of the autodidactic/critic-oriented learning – Part I)"]
["miau264","Pitlik Marcell","Bevezetés a képfeldolgozásba - autós forgalomszámlálás",null,null,{"$f":"A85","v":"miau264"},{"$f":"B85","v":"Pitlik Marcell"},":",{"$f":"M85","v":"Bevezetés a képfeldolgozásba - autós forgalomszámlálás"},"  xx  ","https://miau.my-x.hu/miau/264/kepfeldolgozas/hf_ZUBYPT.pdf",null,{"$f":"C85","v":"Bevezetés a képfeldolgozásba - autós forgalomszámlálás"}]
[null,"(BME):","(Introduction into the image processing - counting traffic of vehicles)"]
["miau264","Pitlik László, Pitlik Marcell, Pitlik Mátyás, Pitlik László (jun), Dávid Roland, Lovass László, Tamás Krisztina, Mórucz Norbert","EEG-azdálkodás avagy Fenntarthatóság és Pillangó-hatások",null,null,{"$f":"A87","v":"miau264"},{"$f":"B87","v":"Pitlik László, Pitlik Marcell, Pitlik Mátyás, Pitlik László (jun), Dávid Roland, Lovass László, Tamás Krisztina, Mórucz Norbert"},":",{"$f":"M87","v":"EEG-azdálkodás avagy Fenntarthatóság és Pillangó-hatások"},"  xx  ","https://miau.my-x.hu/miau/264/PL_DR_sustain butterfly hun.pdf",null,{"$f":"C87","v":"EEG-azdálkodás avagy Fenntarthatóság és Pillangó-hatások"}]
[null,"(MY-X Team, INNORIA Kutatási és Fejlesztési Kft., 4025 Debrecen, Hungary, Team Flow Team, INNORIA Kutatási és Fejlesztési Kft., 4025 Debrecen, Hungary, Szolgáltatási és Tudásgazdasági Kutató és Fejlesztő Központ Kodolányi János Egyetem ):"]
["miau264","Kóródi Gyula, Pitlik László, Rikk János","A circaseptan ritmus a COVID-19 megbetegedések és halálesetek kapcsán az adatvagyon-gazdálkodás minőségbiztosítása keretében",null,null,{"$f":"A89","v":"miau264"},{"$f":"B89","v":"Kóródi Gyula, Pitlik László, Rikk János"},":",{"$f":"M89","v":"(Detecting the circaseptan pattern in COVID-19 infections and deaths for quality management of health-related data assets)"},"  xx  ","https://miau.my-x.hu/miau/264/kb7.pdf",null,{"$f":"C90","v":"(Detecting the circaseptan pattern in COVID-19 infections and deaths for quality management of health-related data assets)"}]
[null,"(NKE/KJE/KJE):","(Detecting the circaseptan pattern in COVID-19 infections and deaths for quality management of health-related data assets)"]

{"sheet":"Munka1","index":28,"n_rows":116,"n_cols":7,"rows_kept":116,"cut":false,"hidden":false,"merged":[[107,5,108,5],[107,6,108,6],[109,5,110,5],[109,6,110,6],[101,5,102,5],[101,6,102,6],[103,5,104,5],[103,6,104,6],[105,5,106,5],[105,6,106,6],[97,2,98,2],[99,2,100,2],[87,5,88,5],[87,6,88,6],[89,5,90,5],[89,6,90,6],[91,5,92,5],[91,6,92,6],[93,5,94,5],[93,6,94,6],[95,5,96,5],[95,6,96,6],[97,5,98,5],[97,6,98,6],[99,5,100,5],[99,6,100,6],[87,2,88,2],[89,2,90,2],[91,2,92,2],[93,2,94,2],[95,2,96,2],[10,2,11,2],[0,2,1,2],[2,2,3,2],[4,2,5,2],[6,2,7,2],[8,2,9,2],[24,2,25,2],[26,2,27,2],[28,2,29,2],[12,2,13,2],[14,2,15,2],[16,2,17,2],[18,2,19,2],[20,2,21,2],[22,2,23,2],[35,1,36,1],[35,2,36,2],[37,1,38,1],[37,2,38,2],[39,1,40,1],[39,2,40,2],[41,1,42,1],[41,2,42,2],[43,2,44,2],[45,2,46,2],[47,1,48,1],[47,2,48,2],[35,6,36,6],[37,6,38,6],[39,6,40,6],[41,6,42,6],[43,6,44,6],[45,6,46,6],[47,6,48,6],[49,5,50,5],[49,6,50,6],[51,5,52,5],[51,6,52,6],[53,5,54,5],[53,6,54,6],[55,5,56,5],[55,6,56,6],[57,5,58,5],[57,6,58,6],[59,5,60,5],[59,6,60,6],[61,5,62,5],[61,6,62,6],[63,5,64,5],[63,6,64,6]]}
["Pitlik Mátyás, Pitlik László, Pitlik Marcell","Érme-választás többrétegű optimalizálás keretében","(+)"]
["(MY-X team):","(Numismatics and similarity analysis)"]
["Pitlik Mátyás","A 2DM-játék tervezési (vak) nézete","(+)"]
["(MY-X team):","(Blind layer in the 2DM gamification frame)"]
["Pitlik László","MIAÚ aktivitások nyomai hazai PhD-folyamatokban","(+)"]
["(MY-X team):","(PhD-activities in Hungary with MIAU-references)"]
["Pitlik László, Pitlik Marcell, Pitlik László (jun), Pitlik Mátyás","Közlekedés- és környezetszimulátor működési helyességének tesztelése","(+)"]
["(MY-X team):","(Testing of robustness of a traffic/environment-simulator)"]
["Pitlik Mátyás, Pitlik László, Pitlik Marcell, Pitlik László (jun)","Valós kémia-feladat 2DM keretrendszerbe adaptálva","(+)"]
["(MY-X team):","(2DM-game about useful knowledge in chemistry)"]
["Pitlik László, Pitlik Marcell, Pitlik Mátyás","Kimutatásvarázslás-láncok és klasszikus programkódok összevetése","(+)"]
["(MY-X team):","(Comparing chained pivot-reports and classic sources codes)"]
["Pitlik László","Hasonlóságelemzés optimum hatásainak kiváltása COCO-STD-modellekkel","(+)"]
["(MY-X team):","(Optimum effects generated in COCO-STD-modells based on similarity analyses)"]
["Pitlik László, Pitlik Marcell, Pitlik Mátyás, Pitlik László (jun)","Titkosírás haladóknak III.","(+)"]
["(MY-X team):","(Cipher - exercises for advanced users - Part III)"]
["Pitlik László, Pitlik Marcell, Pitlik Mátyás, Pitlik László (jun)","Titkosírás haladóknak II.","(+)"]
["(MY-X team):","(Cipher - exercises for advanced users - Part II)"]
["Pitlik László, Pitlik Marcell, Pitlik Mátyás, Pitlik László (jun)","Titkosírás haladóknak I.","(+)"]
["(MY-X team):","(Cipher - exercises for advanced users - Part I)"]
["Pitlik László, Pitlik Marcell","SUDOKU-algoritmusok összevetése, avagy SOLVER vs. egyedi kód","(+)"]
["(MY-X team):","(Comparing of SUDOKU-algorithms or SOLVER vs. customized source code)"]
["Pitlik Mátyás, Pitlik Marcell, Pitlik László","Hasonlóságelemzés java-script-alapon","(+)"]
["(MY-X team):","(Similarity analyses based on java-script)"]
["Pitlik László, Pitlik Marcell","Hasonlóságelemzés macro-alapon","(+)"]
["(MY-X team):","(Similarity analyses based on Excel-macros)"]
["Pitlik László, Pitlik Marcell","Az Excel-macro tanítás/tanulás tapasztalatai","(+)"]
["(MY-X team):","(Experiences of teaching/learning of Excel-macros)"]
["Pitlik László, Pitlik Marcell","Típusproblémák Excel-alapú vállalati adatvagyonok kezelésekor","(+)"]
["(MY-X team):","(Typical problems in Excel-based data asset management)"]
[]
[]
[]
["MIAU No. = 258 *** Év/Year = 2020 *** Hónap/Month = február",null,null,null,"MIAU No. = 257 *** Év/Year = 2020 *** Hónap/Month = január"]
[]
["Pitlik László, Pitlik Marcell","Solver-based problem-handling","(+)",null,"Hidvégi Attila","Macro-alapú komplex árkalkulátor","(+)"]
["(MY-X team):",null,null,null,"(KJE):","(Macro-based prize-calculations)"]
["Pitlik László, Pitlik Marcell","Objective evaluation of Student’s publications based on Excel-Solver and their comparable log-data","(+)",null,"Benyó Balázs, Sikur Lajos","Budaörs területére igényelhető behajtási engedély","(+)"]
["(MY-X team):",null,null,null,"(KJE):","(Entry permits for Budaörs)"]
["Pitlik László, Pitlik Marcell, Pitlik Mátyás","How to design a graphical expert system with teaching/learning effects?","(+)",null,"Selmeczi Bernadett, Fixl Anikó, Bédi Szilvia","Ellenőrző kalkulátor egy biztosító társaság kötelező gépjármű felelősségbiztosítási termékére","(+)"]
["(MY-X team):",null,null,null,"(KJE):","(Expert system for prizing car insurance scenarios)"]
["Pitlik László, Pitlik Marcell","Treasure hunting effects in the gamification of higher education courses","(+)",null,"Anonim Hallgató","Bankfiókok teljesítményének összehasonlítása naiv és Solver-alapú megoldással","(+)"]
["(MY-X team):",null,null,null,"(KJE):","(Comparing performances of financial institutions based on naive and solver-driven solutions)"]
["Pitlik László, Pitlik Marcell","Tudomány(területek)ről tudományosan, avagy a robotizált érdekvédelem mesterséges intelligencia alapjai","(+)",null,"Forgács Barbara, Molnár Julianna","Külföldről behozott használt járművek forgalomba helyezésének adatbázisa (belső felhasználásra)","(+)"]
["(MY-X team):","(Thinking about the science in a scientific way, or robotized representation of interests based on artificial intelligence)",null,null,"(KJE):","(Register of used vehicles imported from abroad -specification for internal use in an authority)"]
["Pitlik László, Pitlik Marcell","A hasonlóság fogalmának szerepe a kommunikáció- és médiatudományokban","(+)",null,"OSZTHEIMER NORBERT, BÖRÖCZ ZSOLT, KOCSIS PÉTER","BANKFÜGGETLEN HITELKALKULÁTOR ESZKÖZ MIKRO-ÉS KISVÁLLALKOZÁSOK SZÁMÁRA, FORGÓESZKÖZ HITEL ÉS BERUHÁZÁSI HITEL KALKULÁLÁSÁRA","(+)"]
["(MY-X team):","(The role of the term of similarity in the communication and media sciences)",null,null,"(KJE):","(INDEPENDENT BORROWING CALCULATOR FOR MICRO- AND SMALL ENTERPRISES IN CASE OF CURRENT ASSET LOANS AND INVESTMENT LOANS)"]
["Pitlik László, Pitlik Marcell, Pitlik Mátyás","Pillangó-effektusok fellépése idősorok hasonlóságelemzésre alapozó értelmezésekor (Butterfly-effects in similarity analyses of time series)","(+)",null,"Kumorné Pál Angéla","Értékpapír ajánlási lista készítése MIFID kérdőív mellett","(+)"]
["(MY-X team):",null,null,null,"(KJE):","(Recommendation of shares/securities based on a MIFID questionnaire)"]
[null,null,null,null,"Pitlik László, Pitlik Marcell, Pitlik Mátyás, Pitlik László (jun), Pitlik Dóra","EXCEL-alapismeretek - egy tananyag-fejlesztési kísérlet eredményei","(+)"]
["MIAU No. = 257 ... (MIAU No. = 258) ... MIAU No. = 259",null,null,null,"(MY-X team):"]
["miau.my-",null,null,null,"Pitlik László, Pitlik Marcell, Pitlik Mátyás, Pitlik László (jun), Pitlik Dóra","WORD-alapismeretek - egy tananyag-fejlesztési kísérlet eredményei","(+)"]
[null,null,null,null,"(MY-X team):"]
[null,null,null,null,"Pitlik László, Pitlik Marcell, Pitlik Mátyás, Pitlik László (jun), Pitlik Dóra","PPT-alapismeretek - egy tananyag-fejlesztési kísérlet eredményei","(+)"]
[null,null,null,null,"(MY-X team):"]
[null,null,null,null,"Pitlik László, Pitlik Marcell, Pitlik Mátyás, Pitlik László (jun), Pitlik Dóra","Internet-alapismeretek - egy tananyag-fejlesztési kísérlet eredményei","(+)"]
[null,null,null,null,"(MY-X team):"]
[null,null,null,null,"Pitlik Mátyás","The best location for a new monitoring station with animated effects","(+)"]
[null,null,null,null,"(MY-X team):"]
[null,null,null,null,"Pitlik László, Pitlik Marcell","Solving repetitive tasks without macro in Excel","(+)"]
[null,null,null,null,"(MY-X team):"]
[null,null,null,null,"Pitlik László, Pitlik Marcell","Riddle-detection with similarity analyses and/or Solver-based modelling","(+)"]
[null,null,null,null,"(MY-X team):"]
[null,null,null,null,"Bálint Biró, László Pitlik","The evaluation of exogenous ligands cross-reactivity to a 7TM receptor based on online artificial intelligence engines","(+)"]
[null,null,null,null,"(ABC / KJE (MY-X team)):"]
[]
[null,null,null,null,"MIAU No. = 256 ... (MIAU No. = 257) ... MIAU No. = 258"]
[null,null,null,null,"miau.my-"]
[]
[]
[]
[]
[]
[]
[]
[]
[]
[]
[]
[]
[]
[]
[]
[]
[]
["MIAU No. = 259 *** Év/Year = 2020 *** Hónap/Month = március",null,null,null,"MIAU No. = 260 *** Év/Year = 2020 *** Hónap/Month = áprilils"]
[]
["Pitlik László, Pitlik Marcell","Intézményi személetváltási folyamat proaktív előkészítése az IT-szakértők által","(+)",null,"Pitlik László, Pitlik László (jun)","Werkfilm: From \"how to produce an OAM behind an article\" to \"the article/case-study/publication about H1N1\"","(+)"]
["(MY-X team):","(Pro-active preparation of shifting paradigms in the higher education based on a status report of IT-experts)",null,null,"(MY-X team):"]
["Pitlik László, Pitlik Marcell","Adatbázis-orientált adatvagyon-gazdálkodás vs. spontán projektmenedzsment","(+)",null,"Pitlik László, Pitlik László (jun)","Werkfilm: The Robot-Historian & The Cold-War","(+)"]
["(MY-X team):","(Data-base oriented data asset management vs. spontaneous project management)",null,null,"(MY-X team):"]
["Pitlik Dóra","Az online oktatással kapcsolatos kérdések diákok és tanárok között","(+)",null,"Pitlik László, Pitlik László (jun)","Werkfilm: Teach others - based on big-data and solver-oriented AI - Food-Kaleidoscope - The Case Congo","(+)"]
["(MY-X team):","(Online communication between Students and Teachers in frame of the distance education)",null,null,"(MY-X team):"]
["Pitlik László","RIS-alapú adatintegrációk: MIAÚ-MATARKA-MTMT (hangosfilm)","(+)",null,"Pitlik László, Pitlik László (jun)","Werkfilm: Exam-situations based on big-data and solver-oriented AI","(+)"]
["(KJE):","(RIS-based integration of data assets - the Case of MIAU – MATARKA – MTMT - a tutorial-like presentation)",null,null,"(MY-X team):"]
["Pitlik László","Rendszertervezési, specifikáció-készítési, projekt-generálási példák","(+)",null,"Pitlik László, Pitlik László (jun)","Storyboard: QuILT 2.0, or the new area of the asynchronous distance education/learning - the case of H1N1","(+)"]
["(KJE):","(Case study for system-planning, software-specification, project- generation)",null,null,"(MY-X team):"]
["Anonim Szerzők","Az informatika története","(+)",null,"Pitlik László, Pitlik László (jun)","Storyboard: QuILT 2.0 – roundtable of avatars in the asynchronous distance education/learning – the case \"Cold-War\" from a Robot-Historian with a positive Turing-test","(+)"]
["(Premontrei Iskolaközpont):","(History of the informatics)",null,null,"(MY-X team):"]
["Pitlik László, Pitlik Marcell","Információs rendszerek tervezésére való felkészülés IT-laikusok számára","(+)",null,"Pitlik László, Pitlik László (jun)","Storyboard: QuILT 2.0 – Teach-others with avatars in frame of an asynchronous distance education/learning – the case \"Food-Kaleidoscope\"","(+)"]
["(MY-X team):","(Self-preparation of lay persons concerning IT competences in case of planning information systems)",null,null,"(MY-X team):"]
[null,null,null,null,"Pitlik László, Pitlik László (jun)","Storyboard: QuILT 2.0 – Exam versions in frame of an asynchronous distance education/learning – the 21st century is here","(+)"]
["MIAU No. = 258 ... (MIAU No. = 259) ... MIAU No. = 260",null,null,null,"(MY-X team):"]
[null,null,null,null,"Pitlik László","Food-Kaleidoscope - The Case of Hungary","(+)"]
[null,null,null,null,"(MY-X team):"]
[null,null,null,null,"Pitlik László","Turing-test for a Robot-Historian (or about the force fields of the Cold-War based on big-data and AI)","(+)"]
[null,null,null,null,"(MY-X team):"]
[null,null,null,null,"Pitlik László","H1N1 – SCANDAL? (proving former suspicions - based on an artificial-intelligence- and a big-data-driven approach)","(+)"]
[null,null,null,null,"(MY-X team):"]
[null,null,null,null,"Pitlik László, Pitlik Marcell","Sovereignty-oriented/PLA-based future of the (higher) education or case study how to measure the future-readiness?!","(+)"]
[null,null,null,null,"(MY-X team):"]
[]
[null,null,null,null,"MIAU No. = 259 ... (MIAU No. = 260) ... MIAU No. = 261"]
[null,null,null,null,"miau.my-x.hu"]
[]
[null,null,null,null,"myxfree.tool"]

{"sheet":"2020-05060708","index":29,"n_rows":43,"n_cols":15,"rows_kept":43,"cut":false,"hidden":false,"merged":[[2,1,3,1],[2,2,3,2],[4,1,5,1],[4,2,5,2],[6,1,7,1],[6,2,7,2],[8,1,9,1],[8,2,9,2],[10,1,11,1],[10,2,11,2],[12,1,13,1],[12,2,13,2],[14,1,15,1],[14,2,15,2],[16,1,17,1],[16,2,17,2],[18,1,19,1],[18,2,19,2],[20,1,21,1],[20,2,21,2],[22,1,23,1],[22,2,23,2],[24,1,25,1],[24,2,25,2],[36,2,37,2],[26,1,27,1],[26,2,27,2],[28,1,29,1],[28,2,29,2],[30,1,31,1],[30,2,31,2],[22,6,23,6],[38,1,39,1],[38,2,39,2],[2,6,3,6],[4,6,5,6],[6,5,7,5],[6,6,7,6],[8,6,9,6],[10,6,11,6],[12,6,13,6],[14,6,15,6],[32,1,33,1],[32,2,33,2],[34,1,35,1],[34,2,35,2],[36,1,37,1],[24,5,25,5],[24,6,25,6],[26,5,27,5],[26,6,27,6],[2,10,3,10],[4,10,5,10],[6,10,7,10],[8,10,9,10],[10,9,11,9],[10,10,11,10],[16,5,17,5],[16,6,17,6],[18,6,19,6],[20,5,21,5],[20,6,21,6],[22,5,23,5],[12,10,13,10],[14,10,15,10],[2,14,3,14],[4,14,5,14],[6,14,7,14],[8,14,9,14],[10,13,11,13],[10,14,11,14],[12,14,13,14]]}
["MIAU No. = 261 *** Év/Year = 2020 *** Hónap/Month = május",null,null,null,"MIAU No. = 262 *** Év/Year = 2020 *** Hónap/Month = június",null,null,null,"MIAU No. = 263 *** Év/Year = 2020 *** Hónap/Month = július",null,null,null,"MIAU No. = 264 *** Év/Year = 2020 *** Hónap/Month = augusztus"]
[]
["Amine Sahraouardi","Beliefs about the Use of Instagram: An Exploratory Study - How to model Instagram characteristics based on country profiles","(+)",null,"Pitlik László, Pitlik László (jun)","Harmonikus közép számítása Solver-rel","(+)",null,"Pitlik László","Erőből történő megoldási kísérletek megalapozása egy geometriai kihívás kapcsán","(+)",null,"Pitlik László","Az autodidakta/kritikus tanulás mintázatai – III. rész","(+)"]
["(KJU):",null,null,null,"(MY-X team):","(Calculation of harmonic means with Solver)",null,null,"(MY-X team):","(Introduction-experiments of potential solution-alternatives in brute force level for geometrical challenges)",null,null,"(MY-X team):","(Patterns of the autodidactic/critic-oriented learning – Part III)"]
["Anna Laura Bódis, Luca Klára Bodolay","The learning success of different didactical actions","(+)",null,"Pitlik László","Hiányzó adatok becslésének láncreakciói","(+)",null,"Pitlik László","Egy közismert IQ-tesztfeladat erőből történő megoldási kísérleteinek megalapozása","(+)",null,"Pitlik László","Az autodidakta/kritikus tanulás mintázatai – II. rész","(+)"]
["(KJU):",null,null,null,"(MY-X team):","(Estimation of missing values in frame of chained processes)",null,null,"(MY-X team):","(Introduction-experiments of potential solution-alternatives in brute force level)",null,null,"(MY-X team):","(Patterns of the autodidactic/critic-oriented learning – Part II)"]
["Pavel Vovchik","Russian Economy between 1992-1998 or preferred terms for political communication/marketing","(+)",null,"Pitlik László","Forecasting-oriented evaluation of further matches based on renewed elo-rating-approaches in frame of similarity analyses","(+)",null,"Pitlik László, Pitlik László (jun)","A kongruenciáról - oktatási szintek szerint","(+)",null,"Pitlik László","Az autodidakta/kritikus tanulás mintázatai – I. rész","(+)"]
["(KJU):",null,null,null,"(MY-X team):",null,null,null,"(MY-X team):","(About the phenomenon of the congruence - in different levels of the education canon)",null,null,"(MY-X team):","(Patterns of the autodidactic/critic-oriented learning – Part I)"]
["Dániel FÜLÖP","Hungarian Economy between 2010-2020 or preferred terms for political communication/marketing","(+)",null,"Pitlik László","Specifikációt előkészítő egyeztetések – esettanulmány egy szaklap online megjelenésének előkészítésről","(+)",null,"Pitlik László, Rikk János","Tantárgy-fúziós komplex feladat-variánsok – 2020/2021 őszi (1.) félév – BPROF nappali/levelező","(+)",null,"Pitlik Marcell","Bevezetés a képfeldolgozásba - autós forgalomszámlálás","(+)"]
["(KJU):",null,null,null,"(MY-X team):","(Preparation steps of a specification – case study about the online presence of a scientific journal)",null,null,"(MY-X team):","(BPROF education strategy and operative parameters with examples)",null,null,"(BME):","(Introduction into the image processing - counting traffic of vehicles)"]
["Aqib Masood, Navid Babaei","Management is the best way to increase productivity - or how to prove a hypothesis based on big-data and solver-oriented thinking experiments","(+)",null,"Pitlik László","Hipotézis-tervezés PhD-disszertációkhoz","(+)",null,"Pitlik László","Universal classification method involving explorative model-bubbles","(+)",null,"Pitlik László, Pitlik Marcell, Pitlik Mátyás, Pitlik László (jun), Dávid Roland, Lovass László, Tamás Krisztina, Mórucz Norbert","EEG-azdálkodás avagy Fenntarthatóság és Pillangó-hatások","(+)"]
["(KJU):",null,null,null,"(MY-X team):","(Planning of hypotheses for PhD-degrees)",null,null,"(MY-X team):",null,null,null,"(MY-X Team, INNORIA Kutatási és Fejlesztési Kft., 4025 Debrecen, Hungary, Team Flow Team, INNORIA Kutatási és Fejlesztési Kft., 4025 Debrecen, Hungary, Szolgáltatási és Tudásgazdasági Kutató és Fejlesztő Központ Kodolányi János Egyetem ):"]
["Raj Md Saidul Islam","How to select the best location for a business activity?","(+)",null,"Pitlik László","Egy teszt-kérdéssor párhuzamos világa - esettanulmány","(+)",null,"Pitlik László, Márta Attila","Robot-turisztikai-tanácsadó, avagy az emberi preferencia-hiány automatizált kezelése","(+)",null,"Kóródi Gyula, Pitlik László, Rikk János","A circaseptan ritmus a COVID-19 megbetegedések és halálesetek kapcsán az adatvagyon-gazdálkodás minőségbiztosítása keretében","(+)"]
["(KJU):",null,null,null,"(MY-X team):","(Parallel universes of a test – case study)",null,null,"(MY-X team):","(Robot expert for touristic planning or how to decide without human preferences)",null,null,"(NKE/KJE/KJE):","(Detecting the circaseptan pattern in COVID-19 infections and deaths for quality management of health-related data assets)"]
["Khalid Hafiz Waqar","Transnational Cooperation for COVID19 Control and Prevention or comparative estimation of the quality of health systems","(+)",null,"Pitlik László","Szoftver-specifikáció folyamatának lépései – esettanulmány","(+)",null,"Barta Gergő, Pitlik László","Hipotézis-tervezés PhD-disszertációkhoz - Konzisztens gépi tanuló modellezés beltéri felhasználói lokalizáció meghatározásának pontosítására","(+)"]
["(KJU):",null,null,null,"(MY-X team):","(Steps of the specification process in the software development)",null,null,"(My-X team):","(Planning of hypotheses for PhD-degrees II.)",null,null,"MIAU No. = 263 ... (MIAU No. = 264) ... MIAU No. = 265"]
["Kitti Visnyei","GAME DEVELOPMENT APPROACHES - Handling the freedom by players in gamification processes","(+)",null,"Bérczes Balázs","Versicherungen - Vergleich durch objektive Bewertung","(+)",null,null,null,null,null,"miau.my-"]
["(KJU):",null,null,null,"(KJU):",null,null,null,"MIAU No. = 262 ... (MIAU No. = 263) ... MIAU No. = 264"]
["Sára Várkonyi","Coronavirus publication - the best-country-view","(+)",null,"Pitlik Dóra","A zenei szépség naív és módszeres értelmezése","(+)"]
["(KJU):",null,null,null,"(MY-X team):","(Beauty of music - based on naive and optimized approaches)"]
["Aidana Sanbayeva","Eurovision - event tourism (festivals) as an attractor","(+)",null,"Pitlik László, Pitlik László (jun)","Storyboard: QuILT 2.0 – Popular-science-level in exam-situations or it would be possible even more? = AI-based modelling the term of decadence","(+)"]
["(KJU):",null,null,null,"(MY-X team):"]
["Nadeem Azhar","Pizza to go – A Best Pizza Award – based on a robot judge","(+)",null,"Pitlik László, Pitlik László (jun)","Werkfilm: Decadence-index and sustainability-index for the USA","(+)"]
["(KJU):",null,null,null,"(MY-X team):"]
["LUBO NGOIE JUNIOR","Food-Kaleidoscope – The Case of Belgium","(+)",null,"Pitlik László, Pitlik László (jun)","Storyboard: QuILT 2.0 – Layer-integration – or Food-Kaleidoscope-based knowledge tests in 2DM-frames","(+)"]
["(KJU):",null,null,null,"(MY-X team):"]
["Yama Abdiani","Food-Kaleidoscope – The Case of Zambia","(+)",null,"Pitlik László, Pitlik László (jun)","Werkfilm: Food-Kaleidoscope-based knowledge-tests in 2DM-frames","(+)"]
["(KJU):",null,null,null,"(MY-X team):"]
["Shahroze Shahroze","RANKING OF COUNTRIES CONCERNING AI-READINESS/RELATEDNESS OR IMPACTS OF ARTIFICIAL INTELLIGENCE","(+)"]
["(KJU):",null,null,null,"MIAU No. = 261 ... (MIAU No. = 262) ... MIAU No. = 263"]
["Nazir Nelson","Food-Kaleidoscope – The Case of Pakistan","(+)"]
["(KJU):"]
["Kitoto Ngoie Jennifer","Food-Kaleidoscope – The Case of Congo","(+)"]
["(KJU):"]
["Dominik Riczó","Europe between 1960 and 1990 or what could derive a robot-historian about the second half of the cold war based on big-data?","(+)"]
["(KJU):"]
["Syed Nabeel, Saad Muhammad Adil","2D MATRIX GAME","(+)"]
["(KJU):"]
["Nadja Oelmüllers","H1N1","(+)"]
["(KJU):"]
[]
["MIAU No. = 260 ... (MIAU No. = 261) ... MIAU No. = 262"]
["miau.m"]

{"sheet":"utolso","index":30,"n_rows":23,"n_cols":2,"rows_kept":23,"cut":false,"hidden":false,"merged":[]}
[null,"***"]
["Magyar Internetes Agrárinformatikai Újság (MIAÚ),2020,23,259"]
["miau259","Pitlik László-Pitlik Marcell:Intézményi személetváltási folyamat proaktív előkészítése az IT-szakértők által  xx  https://miau.my-x.hu/miau/quilt/2020/proaktiv_it.docx"]
["miau259","Pitlik László-Pitlik Marcell:Adatbázis-orientált adatvagyon-gazdálkodás vs. spontán projektmenedzsment  xx  https://miau.my-x.hu/miau/259/afterkickoff.docx"]
["miau259","Pitlik Dóra:Az online oktatással kapcsolatos kérdések diákok és tanárok között  xx  https://miau.my-x.hu/miau/259/tavoktatas_esethalmaz1.docx"]
["miau259","Pitlik László:RIS-alapú adatintegrációk: MIAÚ-MATARKA-MTMT (hangosfilm)  xx  https://miau.my-x.hu/miau/259/RIS.docx"]
["miau259","Pitlik László:Rendszertervezési, specifikáció-készítési, projekt-generálási példák  xx  https://miau.my-x.hu/miau/259/Rendszertervezes_specifikacio_projekt-generalas_demo.docx"]
["miau259","Anonim Szerzők:Az informatika története  xx  https://miau.my-x.hu/miau/259/tortenet_ppt/Az_informatika_tortenete.pdf"]
["miau259","Pitlik László-Pitlik Marcell:Információs rendszerek tervezésére való felkészülés IT-laikusok számára  xx  https://miau.my-x.hu/miau/259/erp_special.docx"]
["Magyar Internetes Agrárinformatikai Újság (MIAÚ),2020,23,260"]
["miau260","Pitlik László-Pitlik László, ifj.:Werkfilm: From \"how to produce an OAM behind an article\" to \"the article/case-study/publication about H1N1\"  xx  https://miau.my-x.hu/miau/quilt/2020/quilt2/launching2020III25/part0.html"]
["miau260","Pitlik László-Pitlik László, ifj.:Werkfilm: The Robot-Historian & The Cold-War  xx  https://miau.my-x.hu/miau/quilt/2020/quilt2/launching2020IV15/part3.html"]
["miau260","Pitlik László-Pitlik László, ifj.:Werkfilm: Teach others - based on big-data and solver-oriented AI - Food-Kaleidoscope - The Case Congo  xx  https://miau.my-x.hu/miau/quilt/2020/quilt2/launching2020IV22/part4.html"]
["miau260","Pitlik László-Pitlik László, ifj.:Werkfilm: Exam-situations based on big-data and solver-oriented AI  xx  https://miau.my-x.hu/miau/quilt/2020/quilt2/launching2020IV29/part5.html"]
["miau260","Pitlik László-Pitlik László, ifj.:Storyboard: QuILT 2.0, or the new area of the asynchronous distance education/learning - the case of H1N1  xx  https://miau.my-x.hu/miau/quilt/2020/quilt2/launching2020IV08/quilt_2_0.docx"]
["miau260","Pitlik László-Pitlik László, ifj.:Storyboard: QuILT 2.0 – roundtable of avatars in the asynchronous distance education/learning – the case \"Cold-War\" from a Robot-Historian with a positive Turing-test  xx  https://miau.my-x.hu/miau/quilt/2020/quilt2/launching2020IV15/quilt_2_0_round_table_1_0.docx"]
["miau260","Pitlik László-Pitlik László, ifj.:Storyboard: QuILT 2.0 – Teach-others with avatars in frame of an asynchronous distance education/learning – the case \"Food-Kaleidoscope\"  xx  https://miau.my-x.hu/miau/quilt/2020/quilt2/launching2020IV22/quilt_2_0_teach_others_1_0.docx"]
["miau260","Pitlik László-Pitlik László, ifj.:Storyboard: QuILT 2.0 – Exam versions in frame of an asynchronous distance education/learning – the 21st century is here  xx  https://miau.my-x.hu/miau/quilt/2020/quilt2/launching2020IV29/quilt_2_0_exam_version_xxi_century.docx"]
["miau260","Pitlik László:Food-Kaleidoscope - The Case of Hungary  xx  https://miau.my-x.hu/miau/quilt/2020/quilt2/launching2020IV22/food_kaleidoscope.docx"]
["miau260","Pitlik László:Turing-test for a Robot-Historian (or about the force fields of the Cold-War based on big-data and AI)  xx  https://miau.my-x.hu/miau/quilt/2020/quilt2/launching2020IV15/turing_test_for_robot_historian_cold_war.docx"]
["miau260","Pitlik László:H1N1 – SCANDAL? (proving former suspicions - based on an artificial-intelligence- and a big-data-driven approach)  xx  https://miau.my-x.hu/miau/quilt/2020/quilt2/launching2020IV08/H1N1_v1.docx"]
["miau260","Pitlik László-Pitlik Marcell:Sovereignty-oriented/PLA-based future of the (higher) education or case study how to measure the future-readiness?!  xx  https://miau.my-x.hu/miau/quilt/2020/sovereignty-pla.docx"]
[null,"***"]