{"text_format":"1","workbook":"xlsx","n_sheets":10,"sheets":["Info","Főlap","Adattábla","Kimutatás","Ellenőrző pivots","ellenorzes_oam_darab","OAM","Solver","GYIK,Súgó","dokumentáció vázlata"],"not_rendered":{"charts":0,"images":1,"macros":1,"external_links":0,"defined_names":34,"comments":2,"pivot_tables":14},"unopened":[],"bounds":{"document_bytes":16777216,"sheet_cells":100000,"rows_first":2000,"rows_last":500,"rows_between":2000,"halvings":0,"cell_chars":16384,"cell_head_chars":4096},"cells_cut":0,"cells_raw":0,"read":"whole","date_system":"1900"}

{"sheet":"Info","index":0,"n_rows":15,"n_cols":3,"rows_kept":15,"cut":false,"hidden":true,"merged":[]}
["Munkalap/Tartomány","Értelmező megjegyzések"]
["Adattábla munkalap (teljes)","Az adatbázis szerkezete megfelel a potenciális valóságnak, de az itt közölt adatok csak a gyakorló feladat érdekében kialakított racionális tartományba tartozó véletlenszámok."]
["Ellenőrző pivots","Az ellenőrző kérdésekhez tartozó kimutatásvarázslással előállított válaszok (riportok)…"]
["Kimutatás","Mely tartományok mit jelentenek és miért jöttek létre?","<--elvarratlan szálak?"]
["Kimutatás","…","<--elvarratlan szálak?"]
["Kimutatás","…","<--elvarratlan szálak?"]
["Kimutatás","…","<--elvarratlan szálak?"]
["Kimutatás","…","<--elvarratlan szálak?"]
["Főlap (teljes)","Mi a feladat célja?","<--elvarratlan szálak?"]
["Főlap (teljes)","Kik a feladat célcsoportjai?","<--elvarratlan szálak?"]
["Főlap (teljes)","Mi a feladat megoldásától elvárt hasznosság?","<--elvarratlan szálak?"]
["Főlap (teljes)","…","<--elvarratlan szálak?"]
["OAM","Ide kellene egy olyan táblázat (pivot?), melynek sorai a főlapon látható település/fiók sorozat elemei és oszlopai minden olyan attribútum, mely értékelésre került, ill. a főlap összpontszáma… Itt kell megadni az attribútumok értékelés során értelmezett irányát (minél/annál). ","<--elvarratlan szálak?"]
["Solver","Az OAM alapján létre kell hozni Solver-rel a lehet-e minden objektum másként egyforma kérdésre a választ…","<--elvarratlan szálak?"]
["ALT+F8 (macro)","A macro szöveges leírása (feladat-specifikáció, önellenőrzési pontok)…","<--elvarratlan szálak?"]

{"sheet":"Főlap","index":1,"n_rows":30,"n_cols":9,"rows_kept":30,"cut":false,"hidden":false,"merged":[]}
[]
[]
[]
[null,null,null,null," Bankfiókok teljesítményének összehasonlítása megadott időszakra"]
[]
[]
[null,null,null,null,"Időszak kezdete:","2019-01-10",null,"Időszak vége:","2019-03-10"]
[]
[]
[null,null,null,null,null,"Város","Fiók","Pontszám"]
[null,null,null,null,null,"Nyíregyháza","010",54]
[null,null,null,null,null,"Győr","006",53]
[null,null,null,null,null,"Zalaegerszeg","020",53]
[null,null,null,null,null,"Kecskemét","008",52]
[null,null,null,null,null,"Budapest Észak","003",51]
[null,null,null,null,null,"Szolnok","016",51]
[null,null,null,null,null,"Tatabánya","018",49]
[null,null,null,null,null,"Eger","005",48]
[null,null,null,null,null,"Székesfehérvár","014",48]
[null,null,null,null,null,"Kaposvár","007",47]
[null,null,null,null,null,"Pécs","011",45]
[null,null,null,null,null,"Szekszárd","015",44]
[null,null,null,null,null,"Békéscsaba","001",43]
[null,null,null,null,null,"Szombathely","017",42]
[null,null,null,null,null,"Miskolc","009",41]
[null,null,null,null,null,"Szeged","013",41]
[null,null,null,null,null,"Budapest Dél","002",39]
[null,null,null,null,null,"Salgótarján","012",39]
[null,null,null,null,null,"Veszprém","019",38]
[null,null,null,null,null,"Debrecen","004",37]

{"sheet":"Adattábla","index":2,"n_rows":7561,"n_cols":13,"rows_kept":7561,"cut":false,"hidden":false,"merged":[]}
["Sorszám","Város","Fiók","Negyedév","Év.Hó.Nap","Attribútum","Érték","M.egység","Rögzítés dátuma","Rögzítette","Időtartomány",null,"<--fiktív adatok"]
[1,"Békéscsaba","001","Q1","2019-01-02","Betérő ügyfelek",44,"fő","2019-02-01","kispali12",{"$f":"AND(E2>=Kimutatás!B$2,E2<=Kimutatás!B$3)","v":false}]
[2,"Békéscsaba","001","Q1","2019-01-02","Lakossági hitelnövekmény összege ",9,"Mhuf","2019-02-01","kispali12",{"$f":"AND(E3>=Kimutatás!B$2,E3<=Kimutatás!B$3)","v":false}]
[3,"Békéscsaba","001","Q1","2019-01-02","Lakossági számlanyitás",6,"db","2019-02-01","kispali12",{"$f":"AND(E4>=Kimutatás!B$2,E4<=Kimutatás!B$3)","v":false}]
[4,"Békéscsaba","001","Q1","2019-01-02","KKV hitelnövekmény (db)",2,"db","2019-02-01","kispali12",{"$f":"AND(E5>=Kimutatás!B$2,E5<=Kimutatás!B$3)","v":false}]
[5,"Békéscsaba","001","Q1","2019-01-02","KKV számlanyitás",-1,"db","2019-02-01","kispali12",{"$f":"AND(E6>=Kimutatás!B$2,E6<=Kimutatás!B$3)","v":false}]
[6,"Békéscsaba","001","Q1","2019-01-02","Betét állomány növekmény",29,"Mhuf","2019-02-01","kispali12",{"$f":"AND(E7>=Kimutatás!B$2,E7<=Kimutatás!B$3)","v":false}]
[7,"Békéscsaba","001","Q1","2019-01-03","Betérő ügyfelek",27,"fő","2019-02-01","kispali12",{"$f":"AND(E8>=Kimutatás!B$2,E8<=Kimutatás!B$3)","v":false}]
[8,"Békéscsaba","001","Q1","2019-01-03","Lakossági hitelnövekmény összege ",48,"Mhuf","2019-02-01","kispali12",{"$f":"AND(E9>=Kimutatás!B$2,E9<=Kimutatás!B$3)","v":false}]
[9,"Békéscsaba","001","Q1","2019-01-03","Lakossági számlanyitás",-4,"db","2019-02-01","kispali12",{"$f":"AND(E10>=Kimutatás!B$2,E10<=Kimutatás!B$3)","v":false}]
[10,"Békéscsaba","001","Q1","2019-01-03","KKV hitelnövekmény (db)",0,"db","2019-02-01","kispali12",{"$f":"AND(E11>=Kimutatás!B$2,E11<=Kimutatás!B$3)","v":false}]
[11,"Békéscsaba","001","Q1","2019-01-03","KKV számlanyitás",3,"db","2019-02-01","kispali12",{"$f":"AND(E12>=Kimutatás!B$2,E12<=Kimutatás!B$3)","v":false}]
[12,"Békéscsaba","001","Q1","2019-01-03","Betét állomány növekmény",18,"Mhuf","2019-02-01","kispali12",{"$f":"AND(E13>=Kimutatás!B$2,E13<=Kimutatás!B$3)","v":false}]
[13,"Békéscsaba","001","Q1","2019-01-06","Betérő ügyfelek",32,"fő","2019-02-01","kispali12",{"$f":"AND(E14>=Kimutatás!B$2,E14<=Kimutatás!B$3)","v":false}]
[14,"Békéscsaba","001","Q1","2019-01-06","Lakossági hitelnövekmény összege ",4,"Mhuf","2019-02-01","kispali12",{"$f":"AND(E15>=Kimutatás!B$2,E15<=Kimutatás!B$3)","v":false}]
[15,"Békéscsaba","001","Q1","2019-01-06","Lakossági számlanyitás",0,"db","2019-02-01","kispali12",{"$f":"AND(E16>=Kimutatás!B$2,E16<=Kimutatás!B$3)","v":false}]
[16,"Békéscsaba","001","Q1","2019-01-06","KKV hitelnövekmény (db)",0,"db","2019-02-01","kispali12",{"$f":"AND(E17>=Kimutatás!B$2,E17<=Kimutatás!B$3)","v":false}]
[17,"Békéscsaba","001","Q1","2019-01-06","KKV számlanyitás",0,"db","2019-02-01","kispali12",{"$f":"AND(E18>=Kimutatás!B$2,E18<=Kimutatás!B$3)","v":false}]
[18,"Békéscsaba","001","Q1","2019-01-06","Betét állomány növekmény",5,"Mhuf","2019-02-01","kispali12",{"$f":"AND(E19>=Kimutatás!B$2,E19<=Kimutatás!B$3)","v":false}]
[19,"Békéscsaba","001","Q1","2019-01-07","Betérő ügyfelek",36,"fő","2019-02-01","kispali12",{"$f":"AND(E20>=Kimutatás!B$2,E20<=Kimutatás!B$3)","v":false}]
[20,"Békéscsaba","001","Q1","2019-01-07","Lakossági hitelnövekmény összege ",23,"Mhuf","2019-02-01","kispali12",{"$f":"AND(E21>=Kimutatás!B$2,E21<=Kimutatás!B$3)","v":false}]
[21,"Békéscsaba","001","Q1","2019-01-07","Lakossági számlanyitás",1,"db","2019-02-01","kispali12",{"$f":"AND(E22>=Kimutatás!B$2,E22<=Kimutatás!B$3)","v":false}]
[22,"Békéscsaba","001","Q1","2019-01-07","KKV hitelnövekmény (db)",-2,"db","2019-02-01","kispali12",{"$f":"AND(E23>=Kimutatás!B$2,E23<=Kimutatás!B$3)","v":false}]
[23,"Békéscsaba","001","Q1","2019-01-07","KKV számlanyitás",-2,"db","2019-02-01","kispali12",{"$f":"AND(E24>=Kimutatás!B$2,E24<=Kimutatás!B$3)","v":false}]
[24,"Békéscsaba","001","Q1","2019-01-07","Betét állomány növekmény",8,"Mhuf","2019-02-01","kispali12",{"$f":"AND(E25>=Kimutatás!B$2,E25<=Kimutatás!B$3)","v":false}]
[25,"Békéscsaba","001","Q1","2019-01-08","Betérő ügyfelek",38,"fő","2019-02-01","kispali12",{"$f":"AND(E26>=Kimutatás!B$2,E26<=Kimutatás!B$3)","v":false}]
[26,"Békéscsaba","001","Q1","2019-01-08","Lakossági hitelnövekmény összege ",40,"Mhuf","2019-02-01","kispali12",{"$f":"AND(E27>=Kimutatás!B$2,E27<=Kimutatás!B$3)","v":false}]
[27,"Békéscsaba","001","Q1","2019-01-08","Lakossági számlanyitás",-2,"db","2019-02-01","kispali12",{"$f":"AND(E28>=Kimutatás!B$2,E28<=Kimutatás!B$3)","v":false}]
[28,"Békéscsaba","001","Q1","2019-01-08","KKV hitelnövekmény (db)",-2,"db","2019-02-01","kispali12",{"$f":"AND(E29>=Kimutatás!B$2,E29<=Kimutatás!B$3)","v":false}]
[29,"Békéscsaba","001","Q1","2019-01-08","KKV számlanyitás",-5,"db","2019-02-01","kispali12",{"$f":"AND(E30>=Kimutatás!B$2,E30<=Kimutatás!B$3)","v":false}]
[30,"Békéscsaba","001","Q1","2019-01-08","Betét állomány növekmény",9,"Mhuf","2019-02-01","kispali12",{"$f":"AND(E31>=Kimutatás!B$2,E31<=Kimutatás!B$3)","v":false}]
[31,"Békéscsaba","001","Q1","2019-01-09","Betérő ügyfelek",48,"fő","2019-02-01","kispali12",{"$f":"AND(E32>=Kimutatás!B$2,E32<=Kimutatás!B$3)","v":false}]
[32,"Békéscsaba","001","Q1","2019-01-09","Lakossági hitelnövekmény összege ",30,"Mhuf","2019-02-01","kispali12",{"$f":"AND(E33>=Kimutatás!B$2,E33<=Kimutatás!B$3)","v":false}]
[33,"Békéscsaba","001","Q1","2019-01-09","Lakossági számlanyitás",-5,"db","2019-02-01","kispali12",{"$f":"AND(E34>=Kimutatás!B$2,E34<=Kimutatás!B$3)","v":false}]
[34,"Békéscsaba","001","Q1","2019-01-09","KKV hitelnövekmény (db)",1,"db","2019-02-01","kispali12",{"$f":"AND(E35>=Kimutatás!B$2,E35<=Kimutatás!B$3)","v":false}]
[35,"Békéscsaba","001","Q1","2019-01-09","KKV számlanyitás",-3,"db","2019-02-01","kispali12",{"$f":"AND(E36>=Kimutatás!B$2,E36<=Kimutatás!B$3)","v":false}]
[36,"Békéscsaba","001","Q1","2019-01-09","Betét állomány növekmény",42,"Mhuf","2019-02-01","kispali12",{"$f":"AND(E37>=Kimutatás!B$2,E37<=Kimutatás!B$3)","v":false}]
[37,"Békéscsaba","001","Q1","2019-01-10","Betérő ügyfelek",39,"fő","2019-02-01","kispali12",{"$f":"AND(E38>=Kimutatás!B$2,E38<=Kimutatás!B$3)","v":true}]
[38,"Békéscsaba","001","Q1","2019-01-10","Lakossági hitelnövekmény összege ",48,"Mhuf","2019-02-01","kispali12",{"$f":"AND(E39>=Kimutatás!B$2,E39<=Kimutatás!B$3)","v":true}]
[39,"Békéscsaba","001","Q1","2019-01-10","Lakossági számlanyitás",5,"db","2019-02-01","kispali12",{"$f":"AND(E40>=Kimutatás!B$2,E40<=Kimutatás!B$3)","v":true}]
[40,"Békéscsaba","001","Q1","2019-01-10","KKV hitelnövekmény (db)",2,"db","2019-02-01","kispali12",{"$f":"AND(E41>=Kimutatás!B$2,E41<=Kimutatás!B$3)","v":true}]
[41,"Békéscsaba","001","Q1","2019-01-10","KKV számlanyitás",2,"db","2019-02-01","kispali12",{"$f":"AND(E42>=Kimutatás!B$2,E42<=Kimutatás!B$3)","v":true}]
[42,"Békéscsaba","001","Q1","2019-01-10","Betét állomány növekmény",8,"Mhuf","2019-02-01","kispali12",{"$f":"AND(E43>=Kimutatás!B$2,E43<=Kimutatás!B$3)","v":true}]
[43,"Békéscsaba","001","Q1","2019-01-13","Betérő ügyfelek",33,"fő","2019-02-01","kispali12",{"$f":"AND(E44>=Kimutatás!B$2,E44<=Kimutatás!B$3)","v":true}]
[44,"Békéscsaba","001","Q1","2019-01-13","Lakossági hitelnövekmény összege ",-4,"Mhuf","2019-02-01","kispali12",{"$f":"AND(E45>=Kimutatás!B$2,E45<=Kimutatás!B$3)","v":true}]
[45,"Békéscsaba","001","Q1","2019-01-13","Lakossági számlanyitás",6,"db","2019-02-01","kispali12",{"$f":"AND(E46>=Kimutatás!B$2,E46<=Kimutatás!B$3)","v":true}]
[46,"Békéscsaba","001","Q1","2019-01-13","KKV hitelnövekmény (db)",-2,"db","2019-02-01","kispali12",{"$f":"AND(E47>=Kimutatás!B$2,E47<=Kimutatás!B$3)","v":true}]
[47,"Békéscsaba","001","Q1","2019-01-13","KKV számlanyitás",-4,"db","2019-02-01","kispali12",{"$f":"AND(E48>=Kimutatás!B$2,E48<=Kimutatás!B$3)","v":true}]
[48,"Békéscsaba","001","Q1","2019-01-13","Betét állomány növekmény",48,"Mhuf","2019-02-01","kispali12",{"$f":"AND(E49>=Kimutatás!B$2,E49<=Kimutatás!B$3)","v":true}]
[49,"Békéscsaba","001","Q1","2019-01-14","Betérő ügyfelek",4,"fő","2019-02-01","kispali12",{"$f":"AND(E50>=Kimutatás!B$2,E50<=Kimutatás!B$3)","v":true}]
[50,"Békéscsaba","001","Q1","2019-01-14","Lakossági hitelnövekmény összege ",0,"Mhuf","2019-02-01","kispali12",{"$f":"AND(E51>=Kimutatás!B$2,E51<=Kimutatás!B$3)","v":true}]
[51,"Békéscsaba","001","Q1","2019-01-14","Lakossági számlanyitás",0,"db","2019-02-01","kispali12",{"$f":"AND(E52>=Kimutatás!B$2,E52<=Kimutatás!B$3)","v":true}]
[52,"Békéscsaba","001","Q1","2019-01-14","KKV hitelnövekmény (db)",2,"db","2019-02-01","kispali12",{"$f":"AND(E53>=Kimutatás!B$2,E53<=Kimutatás!B$3)","v":true}]
[53,"Békéscsaba","001","Q1","2019-01-14","KKV számlanyitás",2,"db","2019-02-01","kispali12",{"$f":"AND(E54>=Kimutatás!B$2,E54<=Kimutatás!B$3)","v":true}]
[54,"Békéscsaba","001","Q1","2019-01-14","Betét állomány növekmény",42,"Mhuf","2019-02-01","kispali12",{"$f":"AND(E55>=Kimutatás!B$2,E55<=Kimutatás!B$3)","v":true}]
[55,"Békéscsaba","001","Q1","2019-01-15","Betérő ügyfelek",50,"fő","2019-02-01","kispali12",{"$f":"AND(E56>=Kimutatás!B$2,E56<=Kimutatás!B$3)","v":true}]
[56,"Békéscsaba","001","Q1","2019-01-15","Lakossági hitelnövekmény összege ",43,"Mhuf","2019-02-01","kispali12",{"$f":"AND(E57>=Kimutatás!B$2,E57<=Kimutatás!B$3)","v":true}]
[57,"Békéscsaba","001","Q1","2019-01-15","Lakossági számlanyitás",1,"db","2019-02-01","kispali12",{"$f":"AND(E58>=Kimutatás!B$2,E58<=Kimutatás!B$3)","v":true}]
[58,"Békéscsaba","001","Q1","2019-01-15","KKV hitelnövekmény (db)",-2,"db","2019-02-01","kispali12",{"$f":"AND(E59>=Kimutatás!B$2,E59<=Kimutatás!B$3)","v":true}]
[59,"Békéscsaba","001","Q1","2019-01-15","KKV számlanyitás",0,"db","2019-02-01","kispali12",{"$f":"AND(E60>=Kimutatás!B$2,E60<=Kimutatás!B$3)","v":true}]
[60,"Békéscsaba","001","Q1","2019-01-15","Betét állomány növekmény",34,"Mhuf","2019-02-01","kispali12",{"$f":"AND(E61>=Kimutatás!B$2,E61<=Kimutatás!B$3)","v":true}]
[61,"Békéscsaba","001","Q1","2019-01-16","Betérő ügyfelek",2,"fő","2019-02-01","kispali12",{"$f":"AND(E62>=Kimutatás!B$2,E62<=Kimutatás!B$3)","v":true}]
[62,"Békéscsaba","001","Q1","2019-01-16","Lakossági hitelnövekmény összege ",49,"Mhuf","2019-02-01","kispali12",{"$f":"AND(E63>=Kimutatás!B$2,E63<=Kimutatás!B$3)","v":true}]
[63,"Békéscsaba","001","Q1","2019-01-16","Lakossági számlanyitás",1,"db","2019-02-01","kispali12",{"$f":"AND(E64>=Kimutatás!B$2,E64<=Kimutatás!B$3)","v":true}]
[64,"Békéscsaba","001","Q1","2019-01-16","KKV hitelnövekmény (db)",-1,"db","2019-02-01","kispali12",{"$f":"AND(E65>=Kimutatás!B$2,E65<=Kimutatás!B$3)","v":true}]
[65,"Békéscsaba","001","Q1","2019-01-16","KKV számlanyitás",-3,"db","2019-02-01","kispali12",{"$f":"AND(E66>=Kimutatás!B$2,E66<=Kimutatás!B$3)","v":true}]
[66,"Békéscsaba","001","Q1","2019-01-16","Betét állomány növekmény",29,"Mhuf","2019-02-01","kispali12",{"$f":"AND(E67>=Kimutatás!B$2,E67<=Kimutatás!B$3)","v":true}]
[67,"Békéscsaba","001","Q1","2019-01-17","Betérő ügyfelek",48,"fő","2019-02-01","kispali12",{"$f":"AND(E68>=Kimutatás!B$2,E68<=Kimutatás!B$3)","v":true}]
[68,"Békéscsaba","001","Q1","2019-01-17","Lakossági hitelnövekmény összege ",40,"Mhuf","2019-02-01","kispali12",{"$f":"AND(E69>=Kimutatás!B$2,E69<=Kimutatás!B$3)","v":true}]
[69,"Békéscsaba","001","Q1","2019-01-17","Lakossági számlanyitás",5,"db","2019-02-01","kispali12",{"$f":"AND(E70>=Kimutatás!B$2,E70<=Kimutatás!B$3)","v":true}]
[70,"Békéscsaba","001","Q1","2019-01-17","KKV hitelnövekmény (db)",-1,"db","2019-02-01","kispali12",{"$f":"AND(E71>=Kimutatás!B$2,E71<=Kimutatás!B$3)","v":true}]
[71,"Békéscsaba","001","Q1","2019-01-17","KKV számlanyitás",2,"db","2019-02-01","kispali12",{"$f":"AND(E72>=Kimutatás!B$2,E72<=Kimutatás!B$3)","v":true}]
[72,"Békéscsaba","001","Q1","2019-01-17","Betét állomány növekmény",28,"Mhuf","2019-02-01","kispali12",{"$f":"AND(E73>=Kimutatás!B$2,E73<=Kimutatás!B$3)","v":true}]
[73,"Békéscsaba","001","Q1","2019-01-20","Betérő ügyfelek",14,"fő","2019-02-01","kispali12",{"$f":"AND(E74>=Kimutatás!B$2,E74<=Kimutatás!B$3)","v":true}]
[74,"Békéscsaba","001","Q1","2019-01-20","Lakossági hitelnövekmény összege ",21,"Mhuf","2019-02-01","kispali12",{"$f":"AND(E75>=Kimutatás!B$2,E75<=Kimutatás!B$3)","v":true}]
[75,"Békéscsaba","001","Q1","2019-01-20","Lakossági számlanyitás",-5,"db","2019-02-01","kispali12",{"$f":"AND(E76>=Kimutatás!B$2,E76<=Kimutatás!B$3)","v":true}]
[76,"Békéscsaba","001","Q1","2019-01-20","KKV hitelnövekmény (db)",0,"db","2019-02-01","kispali12",{"$f":"AND(E77>=Kimutatás!B$2,E77<=Kimutatás!B$3)","v":true}]
[77,"Békéscsaba","001","Q1","2019-01-20","KKV számlanyitás",-1,"db","2019-02-01","kispali12",{"$f":"AND(E78>=Kimutatás!B$2,E78<=Kimutatás!B$3)","v":true}]
[78,"Békéscsaba","001","Q1","2019-01-20","Betét állomány növekmény",-6,"Mhuf","2019-02-01","kispali12",{"$f":"AND(E79>=Kimutatás!B$2,E79<=Kimutatás!B$3)","v":true}]
[79,"Békéscsaba","001","Q1","2019-01-21","Betérő ügyfelek",14,"fő","2019-02-01","kispali12",{"$f":"AND(E80>=Kimutatás!B$2,E80<=Kimutatás!B$3)","v":true}]
[80,"Békéscsaba","001","Q1","2019-01-21","Lakossági hitelnövekmény összege ",5,"Mhuf","2019-02-01","kispali12",{"$f":"AND(E81>=Kimutatás!B$2,E81<=Kimutatás!B$3)","v":true}]
[81,"Békéscsaba","001","Q1","2019-01-21","Lakossági számlanyitás",-4,"db","2019-02-01","kispali12",{"$f":"AND(E82>=Kimutatás!B$2,E82<=Kimutatás!B$3)","v":true}]
[82,"Békéscsaba","001","Q1","2019-01-21","KKV hitelnövekmény (db)",1,"db","2019-02-01","kispali12",{"$f":"AND(E83>=Kimutatás!B$2,E83<=Kimutatás!B$3)","v":true}]
[83,"Békéscsaba","001","Q1","2019-01-21","KKV számlanyitás",-4,"db","2019-02-01","kispali12",{"$f":"AND(E84>=Kimutatás!B$2,E84<=Kimutatás!B$3)","v":true}]
[84,"Békéscsaba","001","Q1","2019-01-21","Betét állomány növekmény",19,"Mhuf","2019-02-01","kispali12",{"$f":"AND(E85>=Kimutatás!B$2,E85<=Kimutatás!B$3)","v":true}]
[85,"Békéscsaba","001","Q1","2019-01-22","Betérő ügyfelek",29,"fő","2019-02-01","kispali12",{"$f":"AND(E86>=Kimutatás!B$2,E86<=Kimutatás!B$3)","v":true}]
[86,"Békéscsaba","001","Q1","2019-01-22","Lakossági hitelnövekmény összege ",-9,"Mhuf","2019-02-01","kispali12",{"$f":"AND(E87>=Kimutatás!B$2,E87<=Kimutatás!B$3)","v":true}]
[87,"Békéscsaba","001","Q1","2019-01-22","Lakossági számlanyitás",-5,"db","2019-02-01","kispali12",{"$f":"AND(E88>=Kimutatás!B$2,E88<=Kimutatás!B$3)","v":true}]
[88,"Békéscsaba","001","Q1","2019-01-22","KKV hitelnövekmény (db)",1,"db","2019-02-01","kispali12",{"$f":"AND(E89>=Kimutatás!B$2,E89<=Kimutatás!B$3)","v":true}]
[89,"Békéscsaba","001","Q1","2019-01-22","KKV számlanyitás",-3,"db","2019-02-01","kispali12",{"$f":"AND(E90>=Kimutatás!B$2,E90<=Kimutatás!B$3)","v":true}]
[90,"Békéscsaba","001","Q1","2019-01-22","Betét állomány növekmény",4,"Mhuf","2019-02-01","kispali12",{"$f":"AND(E91>=Kimutatás!B$2,E91<=Kimutatás!B$3)","v":true}]
[91,"Békéscsaba","001","Q1","2019-01-23","Betérő ügyfelek",45,"fő","2019-02-01","kispali12",{"$f":"AND(E92>=Kimutatás!B$2,E92<=Kimutatás!B$3)","v":true}]
[92,"Békéscsaba","001","Q1","2019-01-23","Lakossági hitelnövekmény összege ",47,"Mhuf","2019-02-01","kispali12",{"$f":"AND(E93>=Kimutatás!B$2,E93<=Kimutatás!B$3)","v":true}]
[93,"Békéscsaba","001","Q1","2019-01-23","Lakossági számlanyitás",-3,"db","2019-02-01","kispali12",{"$f":"AND(E94>=Kimutatás!B$2,E94<=Kimutatás!B$3)","v":true}]
[94,"Békéscsaba","001","Q1","2019-01-23","KKV hitelnövekmény (db)",2,"db","2019-02-01","kispali12",{"$f":"AND(E95>=Kimutatás!B$2,E95<=Kimutatás!B$3)","v":true}]
[95,"Békéscsaba","001","Q1","2019-01-23","KKV számlanyitás",-4,"db","2019-02-01","kispali12",{"$f":"AND(E96>=Kimutatás!B$2,E96<=Kimutatás!B$3)","v":true}]
[96,"Békéscsaba","001","Q1","2019-01-23","Betét állomány növekmény",-15,"Mhuf","2019-02-01","kispali12",{"$f":"AND(E97>=Kimutatás!B$2,E97<=Kimutatás!B$3)","v":true}]
[97,"Békéscsaba","001","Q1","2019-01-24","Betérő ügyfelek",27,"fő","2019-02-01","kispali12",{"$f":"AND(E98>=Kimutatás!B$2,E98<=Kimutatás!B$3)","v":true}]
[98,"Békéscsaba","001","Q1","2019-01-24","Lakossági hitelnövekmény összege ",9,"Mhuf","2019-02-01","kispali12",{"$f":"AND(E99>=Kimutatás!B$2,E99<=Kimutatás!B$3)","v":true}]
[99,"Békéscsaba","001","Q1","2019-01-24","Lakossági számlanyitás",-1,"db","2019-02-01","kispali12",{"$f":"AND(E100>=Kimutatás!B$2,E100<=Kimutatás!B$3)","v":true}]
[100,"Békéscsaba","001","Q1","2019-01-24","KKV hitelnövekmény (db)",2,"db","2019-02-01","kispali12",{"$f":"AND(E101>=Kimutatás!B$2,E101<=Kimutatás!B$3)","v":true}]
[101,"Békéscsaba","001","Q1","2019-01-24","KKV számlanyitás",-2,"db","2019-02-01","kispali12",{"$f":"AND(E102>=Kimutatás!B$2,E102<=Kimutatás!B$3)","v":true}]
[102,"Békéscsaba","001","Q1","2019-01-24","Betét állomány növekmény",0,"Mhuf","2019-02-01","kispali12",{"$f":"AND(E103>=Kimutatás!B$2,E103<=Kimutatás!B$3)","v":true}]
[103,"Békéscsaba","001","Q1","2019-01-27","Betérő ügyfelek",21,"fő","2019-02-01","kispali12",{"$f":"AND(E104>=Kimutatás!B$2,E104<=Kimutatás!B$3)","v":true}]
[104,"Békéscsaba","001","Q1","2019-01-27","Lakossági hitelnövekmény összege ",46,"Mhuf","2019-02-01","kispali12",{"$f":"AND(E105>=Kimutatás!B$2,E105<=Kimutatás!B$3)","v":true}]
[105,"Békéscsaba","001","Q1","2019-01-27","Lakossági számlanyitás",0,"db","2019-02-01","kispali12",{"$f":"AND(E106>=Kimutatás!B$2,E106<=Kimutatás!B$3)","v":true}]
[106,"Békéscsaba","001","Q1","2019-01-27","KKV hitelnövekmény (db)",1,"db","2019-02-01","kispali12",{"$f":"AND(E107>=Kimutatás!B$2,E107<=Kimutatás!B$3)","v":true}]
[107,"Békéscsaba","001","Q1","2019-01-27","KKV számlanyitás",0,"db","2019-02-01","kispali12",{"$f":"AND(E108>=Kimutatás!B$2,E108<=Kimutatás!B$3)","v":true}]
[108,"Békéscsaba","001","Q1","2019-01-27","Betét állomány növekmény",49,"Mhuf","2019-02-01","kispali12",{"$f":"AND(E109>=Kimutatás!B$2,E109<=Kimutatás!B$3)","v":true}]
[109,"Békéscsaba","001","Q1","2019-01-28","Betérő ügyfelek",48,"fő","2019-02-01","kispali12",{"$f":"AND(E110>=Kimutatás!B$2,E110<=Kimutatás!B$3)","v":true}]
[110,"Békéscsaba","001","Q1","2019-01-28","Lakossági hitelnövekmény összege ",12,"Mhuf","2019-02-01","kispali12",{"$f":"AND(E111>=Kimutatás!B$2,E111<=Kimutatás!B$3)","v":true}]
[111,"Békéscsaba","001","Q1","2019-01-28","Lakossági számlanyitás",7,"db","2019-02-01","kispali12",{"$f":"AND(E112>=Kimutatás!B$2,E112<=Kimutatás!B$3)","v":true}]
[112,"Békéscsaba","001","Q1","2019-01-28","KKV hitelnövekmény (db)",-2,"db","2019-02-01","kispali12",{"$f":"AND(E113>=Kimutatás!B$2,E113<=Kimutatás!B$3)","v":true}]
[113,"Békéscsaba","001","Q1","2019-01-28","KKV számlanyitás",0,"db","2019-02-01","kispali12",{"$f":"AND(E114>=Kimutatás!B$2,E114<=Kimutatás!B$3)","v":true}]
[114,"Békéscsaba","001","Q1","2019-01-28","Betét állomány növekmény",-13,"Mhuf","2019-02-01","kispali12",{"$f":"AND(E115>=Kimutatás!B$2,E115<=Kimutatás!B$3)","v":true}]
[115,"Békéscsaba","001","Q1","2019-01-29","Betérő ügyfelek",14,"fő","2019-02-01","kispali12",{"$f":"AND(E116>=Kimutatás!B$2,E116<=Kimutatás!B$3)","v":true}]
[116,"Békéscsaba","001","Q1","2019-01-29","Lakossági hitelnövekmény összege ",-10,"Mhuf","2019-02-01","kispali12",{"$f":"AND(E117>=Kimutatás!B$2,E117<=Kimutatás!B$3)","v":true}]
[117,"Békéscsaba","001","Q1","2019-01-29","Lakossági számlanyitás",8,"db","2019-02-01","kispali12",{"$f":"AND(E118>=Kimutatás!B$2,E118<=Kimutatás!B$3)","v":true}]
[118,"Békéscsaba","001","Q1","2019-01-29","KKV hitelnövekmény (db)",0,"db","2019-02-01","kispali12",{"$f":"AND(E119>=Kimutatás!B$2,E119<=Kimutatás!B$3)","v":true}]
[119,"Békéscsaba","001","Q1","2019-01-29","KKV számlanyitás",2,"db","2019-02-01","kispali12",{"$f":"AND(E120>=Kimutatás!B$2,E120<=Kimutatás!B$3)","v":true}]
[120,"Békéscsaba","001","Q1","2019-01-29","Betét állomány növekmény",29,"Mhuf","2019-02-01","kispali12",{"$f":"AND(E121>=Kimutatás!B$2,E121<=Kimutatás!B$3)","v":true}]
[121,"Békéscsaba","001","Q1","2019-01-30","Betérő ügyfelek",15,"fő","2019-02-01","kispali12",{"$f":"AND(E122>=Kimutatás!B$2,E122<=Kimutatás!B$3)","v":true}]
[122,"Békéscsaba","001","Q1","2019-01-30","Lakossági hitelnövekmény összege ",4,"Mhuf","2019-02-01","kispali12",{"$f":"AND(E123>=Kimutatás!B$2,E123<=Kimutatás!B$3)","v":true}]
[123,"Békéscsaba","001","Q1","2019-01-30","Lakossági számlanyitás",3,"db","2019-02-01","kispali12",{"$f":"AND(E124>=Kimutatás!B$2,E124<=Kimutatás!B$3)","v":true}]
[124,"Békéscsaba","001","Q1","2019-01-30","KKV hitelnövekmény (db)",-1,"db","2019-02-01","kispali12",{"$f":"AND(E125>=Kimutatás!B$2,E125<=Kimutatás!B$3)","v":true}]
[125,"Békéscsaba","001","Q1","2019-01-30","KKV számlanyitás",3,"db","2019-02-01","kispali12",{"$f":"AND(E126>=Kimutatás!B$2,E126<=Kimutatás!B$3)","v":true}]
[126,"Békéscsaba","001","Q1","2019-01-30","Betét állomány növekmény",22,"Mhuf","2019-02-01","kispali12",{"$f":"AND(E127>=Kimutatás!B$2,E127<=Kimutatás!B$3)","v":true}]
[127,"Békéscsaba","001","Q1","2019-01-31","Betérő ügyfelek",36,"fő","2019-02-01","kispali12",{"$f":"AND(E128>=Kimutatás!B$2,E128<=Kimutatás!B$3)","v":true}]
[128,"Békéscsaba","001","Q1","2019-01-31","Lakossági hitelnövekmény összege ",11,"Mhuf","2019-02-01","kispali12",{"$f":"AND(E129>=Kimutatás!B$2,E129<=Kimutatás!B$3)","v":true}]
[129,"Békéscsaba","001","Q1","2019-01-31","Lakossági számlanyitás",9,"db","2019-02-01","kispali12",{"$f":"AND(E130>=Kimutatás!B$2,E130<=Kimutatás!B$3)","v":true}]
[130,"Békéscsaba","001","Q1","2019-01-31","KKV hitelnövekmény (db)",-1,"db","2019-02-01","kispali12",{"$f":"AND(E131>=Kimutatás!B$2,E131<=Kimutatás!B$3)","v":true}]
[131,"Békéscsaba","001","Q1","2019-01-31","KKV számlanyitás",-3,"db","2019-02-01","kispali12",{"$f":"AND(E132>=Kimutatás!B$2,E132<=Kimutatás!B$3)","v":true}]
[132,"Békéscsaba","001","Q1","2019-01-31","Betét állomány növekmény",21,"Mhuf","2019-02-01","kispali12",{"$f":"AND(E133>=Kimutatás!B$2,E133<=Kimutatás!B$3)","v":true}]
[133,"Békéscsaba","001","Q1","2019-02-03","Betérő ügyfelek",43,"fő","2019-03-01","moricz1b",{"$f":"AND(E134>=Kimutatás!B$2,E134<=Kimutatás!B$3)","v":true}]
[134,"Békéscsaba","001","Q1","2019-02-03","Lakossági hitelnövekmény összege ",-7,"Mhuf","2019-03-01","moricz1b",{"$f":"AND(E135>=Kimutatás!B$2,E135<=Kimutatás!B$3)","v":true}]
[135,"Békéscsaba","001","Q1","2019-02-03","Lakossági számlanyitás",8,"db","2019-03-01","moricz1b",{"$f":"AND(E136>=Kimutatás!B$2,E136<=Kimutatás!B$3)","v":true}]
[136,"Békéscsaba","001","Q1","2019-02-03","KKV hitelnövekmény (db)",0,"db","2019-03-01","moricz1b",{"$f":"AND(E137>=Kimutatás!B$2,E137<=Kimutatás!B$3)","v":true}]
[137,"Békéscsaba","001","Q1","2019-02-03","KKV számlanyitás",-5,"db","2019-03-01","moricz1b",{"$f":"AND(E138>=Kimutatás!B$2,E138<=Kimutatás!B$3)","v":true}]
[138,"Békéscsaba","001","Q1","2019-02-03","Betét állomány növekmény",29,"Mhuf","2019-03-01","moricz1b",{"$f":"AND(E139>=Kimutatás!B$2,E139<=Kimutatás!B$3)","v":true}]
[139,"Békéscsaba","001","Q1","2019-02-04","Betérő ügyfelek",13,"fő","2019-03-01","moricz1b",{"$f":"AND(E140>=Kimutatás!B$2,E140<=Kimutatás!B$3)","v":true}]
[140,"Békéscsaba","001","Q1","2019-02-04","Lakossági hitelnövekmény összege ",48,"Mhuf","2019-03-01","moricz1b",{"$f":"AND(E141>=Kimutatás!B$2,E141<=Kimutatás!B$3)","v":true}]
[141,"Békéscsaba","001","Q1","2019-02-04","Lakossági számlanyitás",5,"db","2019-03-01","moricz1b",{"$f":"AND(E142>=Kimutatás!B$2,E142<=Kimutatás!B$3)","v":true}]
[142,"Békéscsaba","001","Q1","2019-02-04","KKV hitelnövekmény (db)",-1,"db","2019-03-01","moricz1b",{"$f":"AND(E143>=Kimutatás!B$2,E143<=Kimutatás!B$3)","v":true}]
[143,"Békéscsaba","001","Q1","2019-02-04","KKV számlanyitás",-4,"db","2019-03-01","moricz1b",{"$f":"AND(E144>=Kimutatás!B$2,E144<=Kimutatás!B$3)","v":true}]
[144,"Békéscsaba","001","Q1","2019-02-04","Betét állomány növekmény",-7,"Mhuf","2019-03-01","moricz1b",{"$f":"AND(E145>=Kimutatás!B$2,E145<=Kimutatás!B$3)","v":true}]
[145,"Békéscsaba","001","Q1","2019-02-05","Betérő ügyfelek",7,"fő","2019-03-01","moricz1b",{"$f":"AND(E146>=Kimutatás!B$2,E146<=Kimutatás!B$3)","v":true}]
[146,"Békéscsaba","001","Q1","2019-02-05","Lakossági hitelnövekmény összege ",21,"Mhuf","2019-03-01","moricz1b",{"$f":"AND(E147>=Kimutatás!B$2,E147<=Kimutatás!B$3)","v":true}]
[147,"Békéscsaba","001","Q1","2019-02-05","Lakossági számlanyitás",4,"db","2019-03-01","moricz1b",{"$f":"AND(E148>=Kimutatás!B$2,E148<=Kimutatás!B$3)","v":true}]
[148,"Békéscsaba","001","Q1","2019-02-05","KKV hitelnövekmény (db)",-2,"db","2019-03-01","moricz1b",{"$f":"AND(E149>=Kimutatás!B$2,E149<=Kimutatás!B$3)","v":true}]
[149,"Békéscsaba","001","Q1","2019-02-05","KKV számlanyitás",2,"db","2019-03-01","moricz1b",{"$f":"AND(E150>=Kimutatás!B$2,E150<=Kimutatás!B$3)","v":true}]
[150,"Békéscsaba","001","Q1","2019-02-05","Betét állomány növekmény",-10,"Mhuf","2019-03-01","moricz1b",{"$f":"AND(E151>=Kimutatás!B$2,E151<=Kimutatás!B$3)","v":true}]
[151,"Békéscsaba","001","Q1","2019-02-06","Betérő ügyfelek",23,"fő","2019-03-01","moricz1b",{"$f":"AND(E152>=Kimutatás!B$2,E152<=Kimutatás!B$3)","v":true}]
[152,"Békéscsaba","001","Q1","2019-02-06","Lakossági hitelnövekmény összege ",41,"Mhuf","2019-03-01","moricz1b",{"$f":"AND(E153>=Kimutatás!B$2,E153<=Kimutatás!B$3)","v":true}]
[153,"Békéscsaba","001","Q1","2019-02-06","Lakossági számlanyitás",-5,"db","2019-03-01","moricz1b",{"$f":"AND(E154>=Kimutatás!B$2,E154<=Kimutatás!B$3)","v":true}]
[154,"Békéscsaba","001","Q1","2019-02-06","KKV hitelnövekmény (db)",2,"db","2019-03-01","moricz1b",{"$f":"AND(E155>=Kimutatás!B$2,E155<=Kimutatás!B$3)","v":true}]
[155,"Békéscsaba","001","Q1","2019-02-06","KKV számlanyitás",3,"db","2019-03-01","moricz1b",{"$f":"AND(E156>=Kimutatás!B$2,E156<=Kimutatás!B$3)","v":true}]
[156,"Békéscsaba","001","Q1","2019-02-06","Betét állomány növekmény",26,"Mhuf","2019-03-01","moricz1b",{"$f":"AND(E157>=Kimutatás!B$2,E157<=Kimutatás!B$3)","v":true}]
[157,"Békéscsaba","001","Q1","2019-02-07","Betérő ügyfelek",31,"fő","2019-03-01","moricz1b",{"$f":"AND(E158>=Kimutatás!B$2,E158<=Kimutatás!B$3)","v":true}]
[158,"Békéscsaba","001","Q1","2019-02-07","Lakossági hitelnövekmény összege ",42,"Mhuf","2019-03-01","moricz1b",{"$f":"AND(E159>=Kimutatás!B$2,E159<=Kimutatás!B$3)","v":true}]
[159,"Békéscsaba","001","Q1","2019-02-07","Lakossági számlanyitás",6,"db","2019-03-01","moricz1b",{"$f":"AND(E160>=Kimutatás!B$2,E160<=Kimutatás!B$3)","v":true}]
[160,"Békéscsaba","001","Q1","2019-02-07","KKV hitelnövekmény (db)",0,"db","2019-03-01","moricz1b",{"$f":"AND(E161>=Kimutatás!B$2,E161<=Kimutatás!B$3)","v":true}]
[161,"Békéscsaba","001","Q1","2019-02-07","KKV számlanyitás",3,"db","2019-03-01","moricz1b",{"$f":"AND(E162>=Kimutatás!B$2,E162<=Kimutatás!B$3)","v":true}]
[162,"Békéscsaba","001","Q1","2019-02-07","Betét állomány növekmény",41,"Mhuf","2019-03-01","moricz1b",{"$f":"AND(E163>=Kimutatás!B$2,E163<=Kimutatás!B$3)","v":true}]
[163,"Békéscsaba","001","Q1","2019-02-10","Betérő ügyfelek",19,"fő","2019-03-01","moricz1b",{"$f":"AND(E164>=Kimutatás!B$2,E164<=Kimutatás!B$3)","v":true}]
[164,"Békéscsaba","001","Q1","2019-02-10","Lakossági hitelnövekmény összege ",33,"Mhuf","2019-03-01","moricz1b",{"$f":"AND(E165>=Kimutatás!B$2,E165<=Kimutatás!B$3)","v":true}]
[165,"Békéscsaba","001","Q1","2019-02-10","Lakossági számlanyitás",4,"db","2019-03-01","moricz1b",{"$f":"AND(E166>=Kimutatás!B$2,E166<=Kimutatás!B$3)","v":true}]
[166,"Békéscsaba","001","Q1","2019-02-10","KKV hitelnövekmény (db)",-1,"db","2019-03-01","moricz1b",{"$f":"AND(E167>=Kimutatás!B$2,E167<=Kimutatás!B$3)","v":true}]
[167,"Békéscsaba","001","Q1","2019-02-10","KKV számlanyitás",1,"db","2019-03-01","moricz1b",{"$f":"AND(E168>=Kimutatás!B$2,E168<=Kimutatás!B$3)","v":true}]
[168,"Békéscsaba","001","Q1","2019-02-10","Betét állomány növekmény",21,"Mhuf","2019-03-01","moricz1b",{"$f":"AND(E169>=Kimutatás!B$2,E169<=Kimutatás!B$3)","v":true}]
[169,"Békéscsaba","001","Q1","2019-02-11","Betérő ügyfelek",6,"fő","2019-03-01","moricz1b",{"$f":"AND(E170>=Kimutatás!B$2,E170<=Kimutatás!B$3)","v":true}]
[170,"Békéscsaba","001","Q1","2019-02-11","Lakossági hitelnövekmény összege ",36,"Mhuf","2019-03-01","moricz1b",{"$f":"AND(E171>=Kimutatás!B$2,E171<=Kimutatás!B$3)","v":true}]
[171,"Békéscsaba","001","Q1","2019-02-11","Lakossági számlanyitás",-4,"db","2019-03-01","moricz1b",{"$f":"AND(E172>=Kimutatás!B$2,E172<=Kimutatás!B$3)","v":true}]
[172,"Békéscsaba","001","Q1","2019-02-11","KKV hitelnövekmény (db)",-2,"db","2019-03-01","moricz1b",{"$f":"AND(E173>=Kimutatás!B$2,E173<=Kimutatás!B$3)","v":true}]
[173,"Békéscsaba","001","Q1","2019-02-11","KKV számlanyitás",4,"db","2019-03-01","moricz1b",{"$f":"AND(E174>=Kimutatás!B$2,E174<=Kimutatás!B$3)","v":true}]
[174,"Békéscsaba","001","Q1","2019-02-11","Betét állomány növekmény",-6,"Mhuf","2019-03-01","moricz1b",{"$f":"AND(E175>=Kimutatás!B$2,E175<=Kimutatás!B$3)","v":true}]
[175,"Békéscsaba","001","Q1","2019-02-12","Betérő ügyfelek",9,"fő","2019-03-01","moricz1b",{"$f":"AND(E176>=Kimutatás!B$2,E176<=Kimutatás!B$3)","v":true}]
[176,"Békéscsaba","001","Q1","2019-02-12","Lakossági hitelnövekmény összege ",30,"Mhuf","2019-03-01","moricz1b",{"$f":"AND(E177>=Kimutatás!B$2,E177<=Kimutatás!B$3)","v":true}]
[177,"Békéscsaba","001","Q1","2019-02-12","Lakossági számlanyitás",-4,"db","2019-03-01","moricz1b",{"$f":"AND(E178>=Kimutatás!B$2,E178<=Kimutatás!B$3)","v":true}]
[178,"Békéscsaba","001","Q1","2019-02-12","KKV hitelnövekmény (db)",-2,"db","2019-03-01","moricz1b",{"$f":"AND(E179>=Kimutatás!B$2,E179<=Kimutatás!B$3)","v":true}]
[179,"Békéscsaba","001","Q1","2019-02-12","KKV számlanyitás",2,"db","2019-03-01","moricz1b",{"$f":"AND(E180>=Kimutatás!B$2,E180<=Kimutatás!B$3)","v":true}]
[180,"Békéscsaba","001","Q1","2019-02-12","Betét állomány növekmény",49,"Mhuf","2019-03-01","moricz1b",{"$f":"AND(E181>=Kimutatás!B$2,E181<=Kimutatás!B$3)","v":true}]
[181,"Békéscsaba","001","Q1","2019-02-13","Betérő ügyfelek",20,"fő","2019-03-01","moricz1b",{"$f":"AND(E182>=Kimutatás!B$2,E182<=Kimutatás!B$3)","v":true}]
[182,"Békéscsaba","001","Q1","2019-02-13","Lakossági hitelnövekmény összege ",24,"Mhuf","2019-03-01","moricz1b",{"$f":"AND(E183>=Kimutatás!B$2,E183<=Kimutatás!B$3)","v":true}]
[183,"Békéscsaba","001","Q1","2019-02-13","Lakossági számlanyitás",7,"db","2019-03-01","moricz1b",{"$f":"AND(E184>=Kimutatás!B$2,E184<=Kimutatás!B$3)","v":true}]
[184,"Békéscsaba","001","Q1","2019-02-13","KKV hitelnövekmény (db)",0,"db","2019-03-01","moricz1b",{"$f":"AND(E185>=Kimutatás!B$2,E185<=Kimutatás!B$3)","v":true}]
[185,"Békéscsaba","001","Q1","2019-02-13","KKV számlanyitás",-4,"db","2019-03-01","moricz1b",{"$f":"AND(E186>=Kimutatás!B$2,E186<=Kimutatás!B$3)","v":true}]
[186,"Békéscsaba","001","Q1","2019-02-13","Betét állomány növekmény",15,"Mhuf","2019-03-01","moricz1b",{"$f":"AND(E187>=Kimutatás!B$2,E187<=Kimutatás!B$3)","v":true}]
[187,"Békéscsaba","001","Q1","2019-02-14","Betérő ügyfelek",31,"fő","2019-03-01","moricz1b",{"$f":"AND(E188>=Kimutatás!B$2,E188<=Kimutatás!B$3)","v":true}]
[188,"Békéscsaba","001","Q1","2019-02-14","Lakossági hitelnövekmény összege ",30,"Mhuf","2019-03-01","moricz1b",{"$f":"AND(E189>=Kimutatás!B$2,E189<=Kimutatás!B$3)","v":true}]
[189,"Békéscsaba","001","Q1","2019-02-14","Lakossági számlanyitás",8,"db","2019-03-01","moricz1b",{"$f":"AND(E190>=Kimutatás!B$2,E190<=Kimutatás!B$3)","v":true}]
[190,"Békéscsaba","001","Q1","2019-02-14","KKV hitelnövekmény (db)",0,"db","2019-03-01","moricz1b",{"$f":"AND(E191>=Kimutatás!B$2,E191<=Kimutatás!B$3)","v":true}]
[191,"Békéscsaba","001","Q1","2019-02-14","KKV számlanyitás",5,"db","2019-03-01","moricz1b",{"$f":"AND(E192>=Kimutatás!B$2,E192<=Kimutatás!B$3)","v":true}]
[192,"Békéscsaba","001","Q1","2019-02-14","Betét állomány növekmény",19,"Mhuf","2019-03-01","moricz1b",{"$f":"AND(E193>=Kimutatás!B$2,E193<=Kimutatás!B$3)","v":true}]
[193,"Békéscsaba","001","Q1","2019-02-17","Betérő ügyfelek",48,"fő","2019-03-01","moricz1b",{"$f":"AND(E194>=Kimutatás!B$2,E194<=Kimutatás!B$3)","v":true}]
[194,"Békéscsaba","001","Q1","2019-02-17","Lakossági hitelnövekmény összege ",27,"Mhuf","2019-03-01","moricz1b",{"$f":"AND(E195>=Kimutatás!B$2,E195<=Kimutatás!B$3)","v":true}]
[195,"Békéscsaba","001","Q1","2019-02-17","Lakossági számlanyitás",9,"db","2019-03-01","moricz1b",{"$f":"AND(E196>=Kimutatás!B$2,E196<=Kimutatás!B$3)","v":true}]
[196,"Békéscsaba","001","Q1","2019-02-17","KKV hitelnövekmény (db)",0,"db","2019-03-01","moricz1b",{"$f":"AND(E197>=Kimutatás!B$2,E197<=Kimutatás!B$3)","v":true}]
[197,"Békéscsaba","001","Q1","2019-02-17","KKV számlanyitás",-5,"db","2019-03-01","moricz1b",{"$f":"AND(E198>=Kimutatás!B$2,E198<=Kimutatás!B$3)","v":true}]
[198,"Békéscsaba","001","Q1","2019-02-17","Betét állomány növekmény",2,"Mhuf","2019-03-01","moricz1b",{"$f":"AND(E199>=Kimutatás!B$2,E199<=Kimutatás!B$3)","v":true}]
[199,"Békéscsaba","001","Q1","2019-02-18","Betérő ügyfelek",12,"fő","2019-03-01","moricz1b",{"$f":"AND(E200>=Kimutatás!B$2,E200<=Kimutatás!B$3)","v":true}]
[200,"Békéscsaba","001","Q1","2019-02-18","Lakossági hitelnövekmény összege ",12,"Mhuf","2019-03-01","moricz1b",{"$f":"AND(E201>=Kimutatás!B$2,E201<=Kimutatás!B$3)","v":true}]
[201,"Békéscsaba","001","Q1","2019-02-18","Lakossági számlanyitás",4,"db","2019-03-01","moricz1b",{"$f":"AND(E202>=Kimutatás!B$2,E202<=Kimutatás!B$3)","v":true}]
[202,"Békéscsaba","001","Q1","2019-02-18","KKV hitelnövekmény (db)",2,"db","2019-03-01","moricz1b",{"$f":"AND(E203>=Kimutatás!B$2,E203<=Kimutatás!B$3)","v":true}]
[203,"Békéscsaba","001","Q1","2019-02-18","KKV számlanyitás",-5,"db","2019-03-01","moricz1b",{"$f":"AND(E204>=Kimutatás!B$2,E204<=Kimutatás!B$3)","v":true}]
[204,"Békéscsaba","001","Q1","2019-02-18","Betét állomány növekmény",14,"Mhuf","2019-03-01","moricz1b",{"$f":"AND(E205>=Kimutatás!B$2,E205<=Kimutatás!B$3)","v":true}]
[205,"Békéscsaba","001","Q1","2019-02-19","Betérő ügyfelek",30,"fő","2019-03-01","moricz1b",{"$f":"AND(E206>=Kimutatás!B$2,E206<=Kimutatás!B$3)","v":true}]
[206,"Békéscsaba","001","Q1","2019-02-19","Lakossági hitelnövekmény összege ",47,"Mhuf","2019-03-01","moricz1b",{"$f":"AND(E207>=Kimutatás!B$2,E207<=Kimutatás!B$3)","v":true}]
[207,"Békéscsaba","001","Q1","2019-02-19","Lakossági számlanyitás",6,"db","2019-03-01","moricz1b",{"$f":"AND(E208>=Kimutatás!B$2,E208<=Kimutatás!B$3)","v":true}]
[208,"Békéscsaba","001","Q1","2019-02-19","KKV hitelnövekmény (db)",1,"db","2019-03-01","moricz1b",{"$f":"AND(E209>=Kimutatás!B$2,E209<=Kimutatás!B$3)","v":true}]
[209,"Békéscsaba","001","Q1","2019-02-19","KKV számlanyitás",-5,"db","2019-03-01","moricz1b",{"$f":"AND(E210>=Kimutatás!B$2,E210<=Kimutatás!B$3)","v":true}]
[210,"Békéscsaba","001","Q1","2019-02-19","Betét állomány növekmény",43,"Mhuf","2019-03-01","moricz1b",{"$f":"AND(E211>=Kimutatás!B$2,E211<=Kimutatás!B$3)","v":true}]
[211,"Békéscsaba","001","Q1","2019-02-20","Betérő ügyfelek",39,"fő","2019-03-01","moricz1b",{"$f":"AND(E212>=Kimutatás!B$2,E212<=Kimutatás!B$3)","v":true}]
[212,"Békéscsaba","001","Q1","2019-02-20","Lakossági hitelnövekmény összege ",41,"Mhuf","2019-03-01","moricz1b",{"$f":"AND(E213>=Kimutatás!B$2,E213<=Kimutatás!B$3)","v":true}]
[213,"Békéscsaba","001","Q1","2019-02-20","Lakossági számlanyitás",2,"db","2019-03-01","moricz1b",{"$f":"AND(E214>=Kimutatás!B$2,E214<=Kimutatás!B$3)","v":true}]
[214,"Békéscsaba","001","Q1","2019-02-20","KKV hitelnövekmény (db)",0,"db","2019-03-01","moricz1b",{"$f":"AND(E215>=Kimutatás!B$2,E215<=Kimutatás!B$3)","v":true}]
[215,"Békéscsaba","001","Q1","2019-02-20","KKV számlanyitás",-4,"db","2019-03-01","moricz1b",{"$f":"AND(E216>=Kimutatás!B$2,E216<=Kimutatás!B$3)","v":true}]
[216,"Békéscsaba","001","Q1","2019-02-20","Betét állomány növekmény",17,"Mhuf","2019-03-01","moricz1b",{"$f":"AND(E217>=Kimutatás!B$2,E217<=Kimutatás!B$3)","v":true}]
[217,"Békéscsaba","001","Q1","2019-02-21","Betérő ügyfelek",12,"fő","2019-03-01","moricz1b",{"$f":"AND(E218>=Kimutatás!B$2,E218<=Kimutatás!B$3)","v":true}]
[218,"Békéscsaba","001","Q1","2019-02-21","Lakossági hitelnövekmény összege ",30,"Mhuf","2019-03-01","moricz1b",{"$f":"AND(E219>=Kimutatás!B$2,E219<=Kimutatás!B$3)","v":true}]
[219,"Békéscsaba","001","Q1","2019-02-21","Lakossági számlanyitás",0,"db","2019-03-01","moricz1b",{"$f":"AND(E220>=Kimutatás!B$2,E220<=Kimutatás!B$3)","v":true}]
[220,"Békéscsaba","001","Q1","2019-02-21","KKV hitelnövekmény (db)",-1,"db","2019-03-01","moricz1b",{"$f":"AND(E221>=Kimutatás!B$2,E221<=Kimutatás!B$3)","v":true}]
[221,"Békéscsaba","001","Q1","2019-02-21","KKV számlanyitás",-2,"db","2019-03-01","moricz1b",{"$f":"AND(E222>=Kimutatás!B$2,E222<=Kimutatás!B$3)","v":true}]
[222,"Békéscsaba","001","Q1","2019-02-21","Betét állomány növekmény",5,"Mhuf","2019-03-01","moricz1b",{"$f":"AND(E223>=Kimutatás!B$2,E223<=Kimutatás!B$3)","v":true}]
[223,"Békéscsaba","001","Q1","2019-02-24","Betérő ügyfelek",27,"fő","2019-03-01","moricz1b",{"$f":"AND(E224>=Kimutatás!B$2,E224<=Kimutatás!B$3)","v":true}]
[224,"Békéscsaba","001","Q1","2019-02-24","Lakossági hitelnövekmény összege ",47,"Mhuf","2019-03-01","moricz1b",{"$f":"AND(E225>=Kimutatás!B$2,E225<=Kimutatás!B$3)","v":true}]
[225,"Békéscsaba","001","Q1","2019-02-24","Lakossági számlanyitás",-1,"db","2019-03-01","moricz1b",{"$f":"AND(E226>=Kimutatás!B$2,E226<=Kimutatás!B$3)","v":true}]
[226,"Békéscsaba","001","Q1","2019-02-24","KKV hitelnövekmény (db)",2,"db","2019-03-01","moricz1b",{"$f":"AND(E227>=Kimutatás!B$2,E227<=Kimutatás!B$3)","v":true}]
[227,"Békéscsaba","001","Q1","2019-02-24","KKV számlanyitás",-4,"db","2019-03-01","moricz1b",{"$f":"AND(E228>=Kimutatás!B$2,E228<=Kimutatás!B$3)","v":true}]
[228,"Békéscsaba","001","Q1","2019-02-24","Betét állomány növekmény",-10,"Mhuf","2019-03-01","moricz1b",{"$f":"AND(E229>=Kimutatás!B$2,E229<=Kimutatás!B$3)","v":true}]
[229,"Békéscsaba","001","Q1","2019-02-25","Betérő ügyfelek",19,"fő","2019-03-01","moricz1b",{"$f":"AND(E230>=Kimutatás!B$2,E230<=Kimutatás!B$3)","v":true}]
[230,"Békéscsaba","001","Q1","2019-02-25","Lakossági hitelnövekmény összege ",0,"Mhuf","2019-03-01","moricz1b",{"$f":"AND(E231>=Kimutatás!B$2,E231<=Kimutatás!B$3)","v":true}]
[231,"Békéscsaba","001","Q1","2019-02-25","Lakossági számlanyitás",-1,"db","2019-03-01","moricz1b",{"$f":"AND(E232>=Kimutatás!B$2,E232<=Kimutatás!B$3)","v":true}]
[232,"Békéscsaba","001","Q1","2019-02-25","KKV hitelnövekmény (db)",-1,"db","2019-03-01","moricz1b",{"$f":"AND(E233>=Kimutatás!B$2,E233<=Kimutatás!B$3)","v":true}]
[233,"Békéscsaba","001","Q1","2019-02-25","KKV számlanyitás",3,"db","2019-03-01","moricz1b",{"$f":"AND(E234>=Kimutatás!B$2,E234<=Kimutatás!B$3)","v":true}]
[234,"Békéscsaba","001","Q1","2019-02-25","Betét állomány növekmény",45,"Mhuf","2019-03-01","moricz1b",{"$f":"AND(E235>=Kimutatás!B$2,E235<=Kimutatás!B$3)","v":true}]
[235,"Békéscsaba","001","Q1","2019-02-26","Betérő ügyfelek",19,"fő","2019-03-01","moricz1b",{"$f":"AND(E236>=Kimutatás!B$2,E236<=Kimutatás!B$3)","v":true}]
[236,"Békéscsaba","001","Q1","2019-02-26","Lakossági hitelnövekmény összege ",33,"Mhuf","2019-03-01","moricz1b",{"$f":"AND(E237>=Kimutatás!B$2,E237<=Kimutatás!B$3)","v":true}]
[237,"Békéscsaba","001","Q1","2019-02-26","Lakossági számlanyitás",8,"db","2019-03-01","moricz1b",{"$f":"AND(E238>=Kimutatás!B$2,E238<=Kimutatás!B$3)","v":true}]
[238,"Békéscsaba","001","Q1","2019-02-26","KKV hitelnövekmény (db)",-1,"db","2019-03-01","moricz1b",{"$f":"AND(E239>=Kimutatás!B$2,E239<=Kimutatás!B$3)","v":true}]
[239,"Békéscsaba","001","Q1","2019-02-26","KKV számlanyitás",-4,"db","2019-03-01","moricz1b",{"$f":"AND(E240>=Kimutatás!B$2,E240<=Kimutatás!B$3)","v":true}]
[240,"Békéscsaba","001","Q1","2019-02-26","Betét állomány növekmény",-11,"Mhuf","2019-03-01","moricz1b",{"$f":"AND(E241>=Kimutatás!B$2,E241<=Kimutatás!B$3)","v":true}]
[241,"Békéscsaba","001","Q1","2019-02-27","Betérő ügyfelek",26,"fő","2019-03-01","moricz1b",{"$f":"AND(E242>=Kimutatás!B$2,E242<=Kimutatás!B$3)","v":true}]
[242,"Békéscsaba","001","Q1","2019-02-27","Lakossági hitelnövekmény összege ",20,"Mhuf","2019-03-01","moricz1b",{"$f":"AND(E243>=Kimutatás!B$2,E243<=Kimutatás!B$3)","v":true}]
[243,"Békéscsaba","001","Q1","2019-02-27","Lakossági számlanyitás",0,"db","2019-03-01","moricz1b",{"$f":"AND(E244>=Kimutatás!B$2,E244<=Kimutatás!B$3)","v":true}]
[244,"Békéscsaba","001","Q1","2019-02-27","KKV hitelnövekmény (db)",0,"db","2019-03-01","moricz1b",{"$f":"AND(E245>=Kimutatás!B$2,E245<=Kimutatás!B$3)","v":true}]
[245,"Békéscsaba","001","Q1","2019-02-27","KKV számlanyitás",-4,"db","2019-03-01","moricz1b",{"$f":"AND(E246>=Kimutatás!B$2,E246<=Kimutatás!B$3)","v":true}]
[246,"Békéscsaba","001","Q1","2019-02-27","Betét állomány növekmény",23,"Mhuf","2019-03-01","moricz1b",{"$f":"AND(E247>=Kimutatás!B$2,E247<=Kimutatás!B$3)","v":true}]
[247,"Békéscsaba","001","Q1","2019-02-28","Betérő ügyfelek",28,"fő","2019-03-01","moricz1b",{"$f":"AND(E248>=Kimutatás!B$2,E248<=Kimutatás!B$3)","v":true}]
[248,"Békéscsaba","001","Q1","2019-02-28","Lakossági hitelnövekmény összege ",28,"Mhuf","2019-03-01","moricz1b",{"$f":"AND(E249>=Kimutatás!B$2,E249<=Kimutatás!B$3)","v":true}]
[249,"Békéscsaba","001","Q1","2019-02-28","Lakossági számlanyitás",0,"db","2019-03-01","moricz1b",{"$f":"AND(E250>=Kimutatás!B$2,E250<=Kimutatás!B$3)","v":true}]
[250,"Békéscsaba","001","Q1","2019-02-28","KKV hitelnövekmény (db)",1,"db","2019-03-01","moricz1b",{"$f":"AND(E251>=Kimutatás!B$2,E251<=Kimutatás!B$3)","v":true}]
[251,"Békéscsaba","001","Q1","2019-02-28","KKV számlanyitás",5,"db","2019-03-01","moricz1b",{"$f":"AND(E252>=Kimutatás!B$2,E252<=Kimutatás!B$3)","v":true}]
[252,"Békéscsaba","001","Q1","2019-02-28","Betét állomány növekmény",36,"Mhuf","2019-03-01","moricz1b",{"$f":"AND(E253>=Kimutatás!B$2,E253<=Kimutatás!B$3)","v":true}]
[253,"Békéscsaba","001","Q1","2019-03-03","Betérő ügyfelek",22,"fő","2019-04-01","vincekis",{"$f":"AND(E254>=Kimutatás!B$2,E254<=Kimutatás!B$3)","v":true}]
[254,"Békéscsaba","001","Q1","2019-03-03","Lakossági hitelnövekmény összege ",-8,"Mhuf","2019-04-01","vincekis",{"$f":"AND(E255>=Kimutatás!B$2,E255<=Kimutatás!B$3)","v":true}]
[255,"Békéscsaba","001","Q1","2019-03-03","Lakossági számlanyitás",3,"db","2019-04-01","vincekis",{"$f":"AND(E256>=Kimutatás!B$2,E256<=Kimutatás!B$3)","v":true}]
[256,"Békéscsaba","001","Q1","2019-03-03","KKV hitelnövekmény (db)",1,"db","2019-04-01","vincekis",{"$f":"AND(E257>=Kimutatás!B$2,E257<=Kimutatás!B$3)","v":true}]
[257,"Békéscsaba","001","Q1","2019-03-03","KKV számlanyitás",1,"db","2019-04-01","vincekis",{"$f":"AND(E258>=Kimutatás!B$2,E258<=Kimutatás!B$3)","v":true}]
[258,"Békéscsaba","001","Q1","2019-03-03","Betét állomány növekmény",-19,"Mhuf","2019-04-01","vincekis",{"$f":"AND(E259>=Kimutatás!B$2,E259<=Kimutatás!B$3)","v":true}]
[259,"Békéscsaba","001","Q1","2019-03-04","Betérő ügyfelek",33,"fő","2019-04-01","vincekis",{"$f":"AND(E260>=Kimutatás!B$2,E260<=Kimutatás!B$3)","v":true}]
[260,"Békéscsaba","001","Q1","2019-03-04","Lakossági hitelnövekmény összege ",3,"Mhuf","2019-04-01","vincekis",{"$f":"AND(E261>=Kimutatás!B$2,E261<=Kimutatás!B$3)","v":true}]
[261,"Békéscsaba","001","Q1","2019-03-04","Lakossági számlanyitás",2,"db","2019-04-01","vincekis",{"$f":"AND(E262>=Kimutatás!B$2,E262<=Kimutatás!B$3)","v":true}]
[262,"Békéscsaba","001","Q1","2019-03-04","KKV hitelnövekmény (db)",-2,"db","2019-04-01","vincekis",{"$f":"AND(E263>=Kimutatás!B$2,E263<=Kimutatás!B$3)","v":true}]
[263,"Békéscsaba","001","Q1","2019-03-04","KKV számlanyitás",-1,"db","2019-04-01","vincekis",{"$f":"AND(E264>=Kimutatás!B$2,E264<=Kimutatás!B$3)","v":true}]
[264,"Békéscsaba","001","Q1","2019-03-04","Betét állomány növekmény",-20,"Mhuf","2019-04-01","vincekis",{"$f":"AND(E265>=Kimutatás!B$2,E265<=Kimutatás!B$3)","v":true}]
[265,"Békéscsaba","001","Q1","2019-03-05","Betérő ügyfelek",19,"fő","2019-04-01","vincekis",{"$f":"AND(E266>=Kimutatás!B$2,E266<=Kimutatás!B$3)","v":true}]
[266,"Békéscsaba","001","Q1","2019-03-05","Lakossági hitelnövekmény összege ",11,"Mhuf","2019-04-01","vincekis",{"$f":"AND(E267>=Kimutatás!B$2,E267<=Kimutatás!B$3)","v":true}]
[267,"Békéscsaba","001","Q1","2019-03-05","Lakossági számlanyitás",9,"db","2019-04-01","vincekis",{"$f":"AND(E268>=Kimutatás!B$2,E268<=Kimutatás!B$3)","v":true}]
[268,"Békéscsaba","001","Q1","2019-03-05","KKV hitelnövekmény (db)",1,"db","2019-04-01","vincekis",{"$f":"AND(E269>=Kimutatás!B$2,E269<=Kimutatás!B$3)","v":true}]
[269,"Békéscsaba","001","Q1","2019-03-05","KKV számlanyitás",-1,"db","2019-04-01","vincekis",{"$f":"AND(E270>=Kimutatás!B$2,E270<=Kimutatás!B$3)","v":true}]
[270,"Békéscsaba","001","Q1","2019-03-05","Betét állomány növekmény",16,"Mhuf","2019-04-01","vincekis",{"$f":"AND(E271>=Kimutatás!B$2,E271<=Kimutatás!B$3)","v":true}]
[271,"Békéscsaba","001","Q1","2019-03-06","Betérő ügyfelek",31,"fő","2019-04-01","vincekis",{"$f":"AND(E272>=Kimutatás!B$2,E272<=Kimutatás!B$3)","v":true}]
[272,"Békéscsaba","001","Q1","2019-03-06","Lakossági hitelnövekmény összege ",-5,"Mhuf","2019-04-01","vincekis",{"$f":"AND(E273>=Kimutatás!B$2,E273<=Kimutatás!B$3)","v":true}]
[273,"Békéscsaba","001","Q1","2019-03-06","Lakossági számlanyitás",-4,"db","2019-04-01","vincekis",{"$f":"AND(E274>=Kimutatás!B$2,E274<=Kimutatás!B$3)","v":true}]
[274,"Békéscsaba","001","Q1","2019-03-06","KKV hitelnövekmény (db)",-1,"db","2019-04-01","vincekis",{"$f":"AND(E275>=Kimutatás!B$2,E275<=Kimutatás!B$3)","v":true}]
[275,"Békéscsaba","001","Q1","2019-03-06","KKV számlanyitás",0,"db","2019-04-01","vincekis",{"$f":"AND(E276>=Kimutatás!B$2,E276<=Kimutatás!B$3)","v":true}]
[276,"Békéscsaba","001","Q1","2019-03-06","Betét állomány növekmény",38,"Mhuf","2019-04-01","vincekis",{"$f":"AND(E277>=Kimutatás!B$2,E277<=Kimutatás!B$3)","v":true}]
[277,"Békéscsaba","001","Q1","2019-03-07","Betérő ügyfelek",5,"fő","2019-04-01","vincekis",{"$f":"AND(E278>=Kimutatás!B$2,E278<=Kimutatás!B$3)","v":true}]
[278,"Békéscsaba","001","Q1","2019-03-07","Lakossági hitelnövekmény összege ",15,"Mhuf","2019-04-01","vincekis",{"$f":"AND(E279>=Kimutatás!B$2,E279<=Kimutatás!B$3)","v":true}]
[279,"Békéscsaba","001","Q1","2019-03-07","Lakossági számlanyitás",-1,"db","2019-04-01","vincekis",{"$f":"AND(E280>=Kimutatás!B$2,E280<=Kimutatás!B$3)","v":true}]
[280,"Békéscsaba","001","Q1","2019-03-07","KKV hitelnövekmény (db)",2,"db","2019-04-01","vincekis",{"$f":"AND(E281>=Kimutatás!B$2,E281<=Kimutatás!B$3)","v":true}]
[281,"Békéscsaba","001","Q1","2019-03-07","KKV számlanyitás",-1,"db","2019-04-01","vincekis",{"$f":"AND(E282>=Kimutatás!B$2,E282<=Kimutatás!B$3)","v":true}]
[282,"Békéscsaba","001","Q1","2019-03-07","Betét állomány növekmény",21,"Mhuf","2019-04-01","vincekis",{"$f":"AND(E283>=Kimutatás!B$2,E283<=Kimutatás!B$3)","v":true}]
[283,"Békéscsaba","001","Q1","2019-03-10","Betérő ügyfelek",40,"fő","2019-04-01","vincekis",{"$f":"AND(E284>=Kimutatás!B$2,E284<=Kimutatás!B$3)","v":true}]
[284,"Békéscsaba","001","Q1","2019-03-10","Lakossági hitelnövekmény összege ",9,"Mhuf","2019-04-01","vincekis",{"$f":"AND(E285>=Kimutatás!B$2,E285<=Kimutatás!B$3)","v":true}]
[285,"Békéscsaba","001","Q1","2019-03-10","Lakossági számlanyitás",3,"db","2019-04-01","vincekis",{"$f":"AND(E286>=Kimutatás!B$2,E286<=Kimutatás!B$3)","v":true}]
[286,"Békéscsaba","001","Q1","2019-03-10","KKV hitelnövekmény (db)",-2,"db","2019-04-01","vincekis",{"$f":"AND(E287>=Kimutatás!B$2,E287<=Kimutatás!B$3)","v":true}]
[287,"Békéscsaba","001","Q1","2019-03-10","KKV számlanyitás",-3,"db","2019-04-01","vincekis",{"$f":"AND(E288>=Kimutatás!B$2,E288<=Kimutatás!B$3)","v":true}]
[288,"Békéscsaba","001","Q1","2019-03-10","Betét állomány növekmény",35,"Mhuf","2019-04-01","vincekis",{"$f":"AND(E289>=Kimutatás!B$2,E289<=Kimutatás!B$3)","v":true}]
[289,"Békéscsaba","001","Q1","2019-03-11","Betérő ügyfelek",17,"fő","2019-04-01","vincekis",{"$f":"AND(E290>=Kimutatás!B$2,E290<=Kimutatás!B$3)","v":false}]
[290,"Békéscsaba","001","Q1","2019-03-11","Lakossági hitelnövekmény összege ",8,"Mhuf","2019-04-01","vincekis",{"$f":"AND(E291>=Kimutatás!B$2,E291<=Kimutatás!B$3)","v":false}]
[291,"Békéscsaba","001","Q1","2019-03-11","Lakossági számlanyitás",-3,"db","2019-04-01","vincekis",{"$f":"AND(E292>=Kimutatás!B$2,E292<=Kimutatás!B$3)","v":false}]
[292,"Békéscsaba","001","Q1","2019-03-11","KKV hitelnövekmény (db)",1,"db","2019-04-01","vincekis",{"$f":"AND(E293>=Kimutatás!B$2,E293<=Kimutatás!B$3)","v":false}]
[293,"Békéscsaba","001","Q1","2019-03-11","KKV számlanyitás",-4,"db","2019-04-01","vincekis",{"$f":"AND(E294>=Kimutatás!B$2,E294<=Kimutatás!B$3)","v":false}]
[294,"Békéscsaba","001","Q1","2019-03-11","Betét állomány növekmény",16,"Mhuf","2019-04-01","vincekis",{"$f":"AND(E295>=Kimutatás!B$2,E295<=Kimutatás!B$3)","v":false}]
[295,"Békéscsaba","001","Q1","2019-03-12","Betérő ügyfelek",44,"fő","2019-04-01","vincekis",{"$f":"AND(E296>=Kimutatás!B$2,E296<=Kimutatás!B$3)","v":false}]
[296,"Békéscsaba","001","Q1","2019-03-12","Lakossági hitelnövekmény összege ",5,"Mhuf","2019-04-01","vincekis",{"$f":"AND(E297>=Kimutatás!B$2,E297<=Kimutatás!B$3)","v":false}]
[297,"Békéscsaba","001","Q1","2019-03-12","Lakossági számlanyitás",-4,"db","2019-04-01","vincekis",{"$f":"AND(E298>=Kimutatás!B$2,E298<=Kimutatás!B$3)","v":false}]
[298,"Békéscsaba","001","Q1","2019-03-12","KKV hitelnövekmény (db)",0,"db","2019-04-01","vincekis",{"$f":"AND(E299>=Kimutatás!B$2,E299<=Kimutatás!B$3)","v":false}]
[299,"Békéscsaba","001","Q1","2019-03-12","KKV számlanyitás",-3,"db","2019-04-01","vincekis",{"$f":"AND(E300>=Kimutatás!B$2,E300<=Kimutatás!B$3)","v":false}]
[300,"Békéscsaba","001","Q1","2019-03-12","Betét állomány növekmény",22,"Mhuf","2019-04-01","vincekis",{"$f":"AND(E301>=Kimutatás!B$2,E301<=Kimutatás!B$3)","v":false}]
[301,"Békéscsaba","001","Q1","2019-03-13","Betérő ügyfelek",38,"fő","2019-04-01","vincekis",{"$f":"AND(E302>=Kimutatás!B$2,E302<=Kimutatás!B$3)","v":false}]
[302,"Békéscsaba","001","Q1","2019-03-13","Lakossági hitelnövekmény összege ",31,"Mhuf","2019-04-01","vincekis",{"$f":"AND(E303>=Kimutatás!B$2,E303<=Kimutatás!B$3)","v":false}]
[303,"Békéscsaba","001","Q1","2019-03-13","Lakossági számlanyitás",-4,"db","2019-04-01","vincekis",{"$f":"AND(E304>=Kimutatás!B$2,E304<=Kimutatás!B$3)","v":false}]
[304,"Békéscsaba","001","Q1","2019-03-13","KKV hitelnövekmény (db)",1,"db","2019-04-01","vincekis",{"$f":"AND(E305>=Kimutatás!B$2,E305<=Kimutatás!B$3)","v":false}]
[305,"Békéscsaba","001","Q1","2019-03-13","KKV számlanyitás",-5,"db","2019-04-01","vincekis",{"$f":"AND(E306>=Kimutatás!B$2,E306<=Kimutatás!B$3)","v":false}]
[306,"Békéscsaba","001","Q1","2019-03-13","Betét állomány növekmény",3,"Mhuf","2019-04-01","vincekis",{"$f":"AND(E307>=Kimutatás!B$2,E307<=Kimutatás!B$3)","v":false}]
[307,"Békéscsaba","001","Q1","2019-03-14","Betérő ügyfelek",20,"fő","2019-04-01","vincekis",{"$f":"AND(E308>=Kimutatás!B$2,E308<=Kimutatás!B$3)","v":false}]
[308,"Békéscsaba","001","Q1","2019-03-14","Lakossági hitelnövekmény összege ",46,"Mhuf","2019-04-01","vincekis",{"$f":"AND(E309>=Kimutatás!B$2,E309<=Kimutatás!B$3)","v":false}]
[309,"Békéscsaba","001","Q1","2019-03-14","Lakossági számlanyitás",6,"db","2019-04-01","vincekis",{"$f":"AND(E310>=Kimutatás!B$2,E310<=Kimutatás!B$3)","v":false}]
[310,"Békéscsaba","001","Q1","2019-03-14","KKV hitelnövekmény (db)",-1,"db","2019-04-01","vincekis",{"$f":"AND(E311>=Kimutatás!B$2,E311<=Kimutatás!B$3)","v":false}]
[311,"Békéscsaba","001","Q1","2019-03-14","KKV számlanyitás",-5,"db","2019-04-01","vincekis",{"$f":"AND(E312>=Kimutatás!B$2,E312<=Kimutatás!B$3)","v":false}]
[312,"Békéscsaba","001","Q1","2019-03-14","Betét állomány növekmény",31,"Mhuf","2019-04-01","vincekis",{"$f":"AND(E313>=Kimutatás!B$2,E313<=Kimutatás!B$3)","v":false}]
[313,"Békéscsaba","001","Q1","2019-03-17","Betérő ügyfelek",46,"fő","2019-04-01","vincekis",{"$f":"AND(E314>=Kimutatás!B$2,E314<=Kimutatás!B$3)","v":false}]
[314,"Békéscsaba","001","Q1","2019-03-17","Lakossági hitelnövekmény összege ",49,"Mhuf","2019-04-01","vincekis",{"$f":"AND(E315>=Kimutatás!B$2,E315<=Kimutatás!B$3)","v":false}]
[315,"Békéscsaba","001","Q1","2019-03-17","Lakossági számlanyitás",10,"db","2019-04-01","vincekis",{"$f":"AND(E316>=Kimutatás!B$2,E316<=Kimutatás!B$3)","v":false}]
[316,"Békéscsaba","001","Q1","2019-03-17","KKV hitelnövekmény (db)",-1,"db","2019-04-01","vincekis",{"$f":"AND(E317>=Kimutatás!B$2,E317<=Kimutatás!B$3)","v":false}]
[317,"Békéscsaba","001","Q1","2019-03-17","KKV számlanyitás",5,"db","2019-04-01","vincekis",{"$f":"AND(E318>=Kimutatás!B$2,E318<=Kimutatás!B$3)","v":false}]
[318,"Békéscsaba","001","Q1","2019-03-17","Betét állomány növekmény",-14,"Mhuf","2019-04-01","vincekis",{"$f":"AND(E319>=Kimutatás!B$2,E319<=Kimutatás!B$3)","v":false}]
[319,"Békéscsaba","001","Q1","2019-03-18","Betérő ügyfelek",19,"fő","2019-04-01","vincekis",{"$f":"AND(E320>=Kimutatás!B$2,E320<=Kimutatás!B$3)","v":false}]
[320,"Békéscsaba","001","Q1","2019-03-18","Lakossági hitelnövekmény összege ",39,"Mhuf","2019-04-01","vincekis",{"$f":"AND(E321>=Kimutatás!B$2,E321<=Kimutatás!B$3)","v":false}]
[321,"Békéscsaba","001","Q1","2019-03-18","Lakossági számlanyitás",10,"db","2019-04-01","vincekis",{"$f":"AND(E322>=Kimutatás!B$2,E322<=Kimutatás!B$3)","v":false}]
[322,"Békéscsaba","001","Q1","2019-03-18","KKV hitelnövekmény (db)",1,"db","2019-04-01","vincekis",{"$f":"AND(E323>=Kimutatás!B$2,E323<=Kimutatás!B$3)","v":false}]
[323,"Békéscsaba","001","Q1","2019-03-18","KKV számlanyitás",4,"db","2019-04-01","vincekis",{"$f":"AND(E324>=Kimutatás!B$2,E324<=Kimutatás!B$3)","v":false}]
[324,"Békéscsaba","001","Q1","2019-03-18","Betét állomány növekmény",34,"Mhuf","2019-04-01","vincekis",{"$f":"AND(E325>=Kimutatás!B$2,E325<=Kimutatás!B$3)","v":false}]
[325,"Békéscsaba","001","Q1","2019-03-19","Betérő ügyfelek",21,"fő","2019-04-01","vincekis",{"$f":"AND(E326>=Kimutatás!B$2,E326<=Kimutatás!B$3)","v":false}]
[326,"Békéscsaba","001","Q1","2019-03-19","Lakossági hitelnövekmény összege ",-7,"Mhuf","2019-04-01","vincekis",{"$f":"AND(E327>=Kimutatás!B$2,E327<=Kimutatás!B$3)","v":false}]
[327,"Békéscsaba","001","Q1","2019-03-19","Lakossági számlanyitás",1,"db","2019-04-01","vincekis",{"$f":"AND(E328>=Kimutatás!B$2,E328<=Kimutatás!B$3)","v":false}]
[328,"Békéscsaba","001","Q1","2019-03-19","KKV hitelnövekmény (db)",0,"db","2019-04-01","vincekis",{"$f":"AND(E329>=Kimutatás!B$2,E329<=Kimutatás!B$3)","v":false}]
[329,"Békéscsaba","001","Q1","2019-03-19","KKV számlanyitás",3,"db","2019-04-01","vincekis",{"$f":"AND(E330>=Kimutatás!B$2,E330<=Kimutatás!B$3)","v":false}]
[330,"Békéscsaba","001","Q1","2019-03-19","Betét állomány növekmény",-19,"Mhuf","2019-04-01","vincekis",{"$f":"AND(E331>=Kimutatás!B$2,E331<=Kimutatás!B$3)","v":false}]
[331,"Békéscsaba","001","Q1","2019-03-20","Betérő ügyfelek",33,"fő","2019-04-01","vincekis",{"$f":"AND(E332>=Kimutatás!B$2,E332<=Kimutatás!B$3)","v":false}]
[332,"Békéscsaba","001","Q1","2019-03-20","Lakossági hitelnövekmény összege ",38,"Mhuf","2019-04-01","vincekis",{"$f":"AND(E333>=Kimutatás!B$2,E333<=Kimutatás!B$3)","v":false}]
[333,"Békéscsaba","001","Q1","2019-03-20","Lakossági számlanyitás",2,"db","2019-04-01","vincekis",{"$f":"AND(E334>=Kimutatás!B$2,E334<=Kimutatás!B$3)","v":false}]
[334,"Békéscsaba","001","Q1","2019-03-20","KKV hitelnövekmény (db)",-1,"db","2019-04-01","vincekis",{"$f":"AND(E335>=Kimutatás!B$2,E335<=Kimutatás!B$3)","v":false}]
[335,"Békéscsaba","001","Q1","2019-03-20","KKV számlanyitás",-5,"db","2019-04-01","vincekis",{"$f":"AND(E336>=Kimutatás!B$2,E336<=Kimutatás!B$3)","v":false}]
[336,"Békéscsaba","001","Q1","2019-03-20","Betét állomány növekmény",-15,"Mhuf","2019-04-01","vincekis",{"$f":"AND(E337>=Kimutatás!B$2,E337<=Kimutatás!B$3)","v":false}]
[337,"Békéscsaba","001","Q1","2019-03-21","Betérő ügyfelek",22,"fő","2019-04-01","vincekis",{"$f":"AND(E338>=Kimutatás!B$2,E338<=Kimutatás!B$3)","v":false}]
[338,"Békéscsaba","001","Q1","2019-03-21","Lakossági hitelnövekmény összege ",48,"Mhuf","2019-04-01","vincekis",{"$f":"AND(E339>=Kimutatás!B$2,E339<=Kimutatás!B$3)","v":false}]
[339,"Békéscsaba","001","Q1","2019-03-21","Lakossági számlanyitás",5,"db","2019-04-01","vincekis",{"$f":"AND(E340>=Kimutatás!B$2,E340<=Kimutatás!B$3)","v":false}]
[340,"Békéscsaba","001","Q1","2019-03-21","KKV hitelnövekmény (db)",1,"db","2019-04-01","vincekis",{"$f":"AND(E341>=Kimutatás!B$2,E341<=Kimutatás!B$3)","v":false}]
[341,"Békéscsaba","001","Q1","2019-03-21","KKV számlanyitás",-4,"db","2019-04-01","vincekis",{"$f":"AND(E342>=Kimutatás!B$2,E342<=Kimutatás!B$3)","v":false}]
[342,"Békéscsaba","001","Q1","2019-03-21","Betét állomány növekmény",-4,"Mhuf","2019-04-01","vincekis",{"$f":"AND(E343>=Kimutatás!B$2,E343<=Kimutatás!B$3)","v":false}]
[343,"Békéscsaba","001","Q1","2019-03-24","Betérő ügyfelek",29,"fő","2019-04-01","vincekis",{"$f":"AND(E344>=Kimutatás!B$2,E344<=Kimutatás!B$3)","v":false}]
[344,"Békéscsaba","001","Q1","2019-03-24","Lakossági hitelnövekmény összege ",13,"Mhuf","2019-04-01","vincekis",{"$f":"AND(E345>=Kimutatás!B$2,E345<=Kimutatás!B$3)","v":false}]
[345,"Békéscsaba","001","Q1","2019-03-24","Lakossági számlanyitás",1,"db","2019-04-01","vincekis",{"$f":"AND(E346>=Kimutatás!B$2,E346<=Kimutatás!B$3)","v":false}]
[346,"Békéscsaba","001","Q1","2019-03-24","KKV hitelnövekmény (db)",0,"db","2019-04-01","vincekis",{"$f":"AND(E347>=Kimutatás!B$2,E347<=Kimutatás!B$3)","v":false}]
[347,"Békéscsaba","001","Q1","2019-03-24","KKV számlanyitás",5,"db","2019-04-01","vincekis",{"$f":"AND(E348>=Kimutatás!B$2,E348<=Kimutatás!B$3)","v":false}]
[348,"Békéscsaba","001","Q1","2019-03-24","Betét állomány növekmény",-1,"Mhuf","2019-04-01","vincekis",{"$f":"AND(E349>=Kimutatás!B$2,E349<=Kimutatás!B$3)","v":false}]
[349,"Békéscsaba","001","Q1","2019-03-25","Betérő ügyfelek",11,"fő","2019-04-01","vincekis",{"$f":"AND(E350>=Kimutatás!B$2,E350<=Kimutatás!B$3)","v":false}]
[350,"Békéscsaba","001","Q1","2019-03-25","Lakossági hitelnövekmény összege ",-8,"Mhuf","2019-04-01","vincekis",{"$f":"AND(E351>=Kimutatás!B$2,E351<=Kimutatás!B$3)","v":false}]
[351,"Békéscsaba","001","Q1","2019-03-25","Lakossági számlanyitás",3,"db","2019-04-01","vincekis",{"$f":"AND(E352>=Kimutatás!B$2,E352<=Kimutatás!B$3)","v":false}]
[352,"Békéscsaba","001","Q1","2019-03-25","KKV hitelnövekmény (db)",-2,"db","2019-04-01","vincekis",{"$f":"AND(E353>=Kimutatás!B$2,E353<=Kimutatás!B$3)","v":false}]
[353,"Békéscsaba","001","Q1","2019-03-25","KKV számlanyitás",-1,"db","2019-04-01","vincekis",{"$f":"AND(E354>=Kimutatás!B$2,E354<=Kimutatás!B$3)","v":false}]
[354,"Békéscsaba","001","Q1","2019-03-25","Betét állomány növekmény",14,"Mhuf","2019-04-01","vincekis",{"$f":"AND(E355>=Kimutatás!B$2,E355<=Kimutatás!B$3)","v":false}]
[355,"Békéscsaba","001","Q1","2019-03-26","Betérő ügyfelek",21,"fő","2019-04-01","vincekis",{"$f":"AND(E356>=Kimutatás!B$2,E356<=Kimutatás!B$3)","v":false}]
[356,"Békéscsaba","001","Q1","2019-03-26","Lakossági hitelnövekmény összege ",41,"Mhuf","2019-04-01","vincekis",{"$f":"AND(E357>=Kimutatás!B$2,E357<=Kimutatás!B$3)","v":false}]
[357,"Békéscsaba","001","Q1","2019-03-26","Lakossági számlanyitás",2,"db","2019-04-01","vincekis",{"$f":"AND(E358>=Kimutatás!B$2,E358<=Kimutatás!B$3)","v":false}]
[358,"Békéscsaba","001","Q1","2019-03-26","KKV hitelnövekmény (db)",-2,"db","2019-04-01","vincekis",{"$f":"AND(E359>=Kimutatás!B$2,E359<=Kimutatás!B$3)","v":false}]
[359,"Békéscsaba","001","Q1","2019-03-26","KKV számlanyitás",-4,"db","2019-04-01","vincekis",{"$f":"AND(E360>=Kimutatás!B$2,E360<=Kimutatás!B$3)","v":false}]
[360,"Békéscsaba","001","Q1","2019-03-26","Betét állomány növekmény",-7,"Mhuf","2019-04-01","vincekis",{"$f":"AND(E361>=Kimutatás!B$2,E361<=Kimutatás!B$3)","v":false}]
[361,"Békéscsaba","001","Q1","2019-03-27","Betérő ügyfelek",23,"fő","2019-04-01","vincekis",{"$f":"AND(E362>=Kimutatás!B$2,E362<=Kimutatás!B$3)","v":false}]
[362,"Békéscsaba","001","Q1","2019-03-27","Lakossági hitelnövekmény összege ",46,"Mhuf","2019-04-01","vincekis",{"$f":"AND(E363>=Kimutatás!B$2,E363<=Kimutatás!B$3)","v":false}]
[363,"Békéscsaba","001","Q1","2019-03-27","Lakossági számlanyitás",1,"db","2019-04-01","vincekis",{"$f":"AND(E364>=Kimutatás!B$2,E364<=Kimutatás!B$3)","v":false}]
[364,"Békéscsaba","001","Q1","2019-03-27","KKV hitelnövekmény (db)",-1,"db","2019-04-01","vincekis",{"$f":"AND(E365>=Kimutatás!B$2,E365<=Kimutatás!B$3)","v":false}]
[365,"Békéscsaba","001","Q1","2019-03-27","KKV számlanyitás",2,"db","2019-04-01","vincekis",{"$f":"AND(E366>=Kimutatás!B$2,E366<=Kimutatás!B$3)","v":false}]
[366,"Békéscsaba","001","Q1","2019-03-27","Betét állomány növekmény",-12,"Mhuf","2019-04-01","vincekis",{"$f":"AND(E367>=Kimutatás!B$2,E367<=Kimutatás!B$3)","v":false}]
[367,"Békéscsaba","001","Q1","2019-03-28","Betérő ügyfelek",23,"fő","2019-04-01","vincekis",{"$f":"AND(E368>=Kimutatás!B$2,E368<=Kimutatás!B$3)","v":false}]
[368,"Békéscsaba","001","Q1","2019-03-28","Lakossági hitelnövekmény összege ",28,"Mhuf","2019-04-01","vincekis",{"$f":"AND(E369>=Kimutatás!B$2,E369<=Kimutatás!B$3)","v":false}]
[369,"Békéscsaba","001","Q1","2019-03-28","Lakossági számlanyitás",-1,"db","2019-04-01","vincekis",{"$f":"AND(E370>=Kimutatás!B$2,E370<=Kimutatás!B$3)","v":false}]
[370,"Békéscsaba","001","Q1","2019-03-28","KKV hitelnövekmény (db)",0,"db","2019-04-01","vincekis",{"$f":"AND(E371>=Kimutatás!B$2,E371<=Kimutatás!B$3)","v":false}]
[371,"Békéscsaba","001","Q1","2019-03-28","KKV számlanyitás",4,"db","2019-04-01","vincekis",{"$f":"AND(E372>=Kimutatás!B$2,E372<=Kimutatás!B$3)","v":false}]
[372,"Békéscsaba","001","Q1","2019-03-28","Betét állomány növekmény",0,"Mhuf","2019-04-01","vincekis",{"$f":"AND(E373>=Kimutatás!B$2,E373<=Kimutatás!B$3)","v":false}]
[373,"Békéscsaba","001","Q1","2019-03-31","Betérő ügyfelek",13,"fő","2019-04-01","vincekis",{"$f":"AND(E374>=Kimutatás!B$2,E374<=Kimutatás!B$3)","v":false}]
[374,"Békéscsaba","001","Q1","2019-03-31","Lakossági hitelnövekmény összege ",50,"Mhuf","2019-04-01","vincekis",{"$f":"AND(E375>=Kimutatás!B$2,E375<=Kimutatás!B$3)","v":false}]
[375,"Békéscsaba","001","Q1","2019-03-31","Lakossági számlanyitás",7,"db","2019-04-01","vincekis",{"$f":"AND(E376>=Kimutatás!B$2,E376<=Kimutatás!B$3)","v":false}]
[376,"Békéscsaba","001","Q1","2019-03-31","KKV hitelnövekmény (db)",0,"db","2019-04-01","vincekis",{"$f":"AND(E377>=Kimutatás!B$2,E377<=Kimutatás!B$3)","v":false}]
[377,"Békéscsaba","001","Q1","2019-03-31","KKV számlanyitás",-5,"db","2019-04-01","vincekis",{"$f":"AND(E378>=Kimutatás!B$2,E378<=Kimutatás!B$3)","v":false}]
[378,"Békéscsaba","001","Q1","2019-03-31","Betét állomány növekmény",5,"Mhuf","2019-04-01","vincekis",{"$f":"AND(E379>=Kimutatás!B$2,E379<=Kimutatás!B$3)","v":false}]
[379,"Budapest Észak","002","Q1","2019-01-02","Betérő ügyfelek",28,"fő","2019-02-01","monoska",{"$f":"AND(E380>=Kimutatás!B$2,E380<=Kimutatás!B$3)","v":false}]
[380,"Budapest Észak","002","Q1","2019-01-02","Lakossági hitelnövekmény összege ",48,"Mhuf","2019-02-01","monoska",{"$f":"AND(E381>=Kimutatás!B$2,E381<=Kimutatás!B$3)","v":false}]
[381,"Budapest Észak","002","Q1","2019-01-02","Lakossági számlanyitás",6,"db","2019-02-01","monoska",{"$f":"AND(E382>=Kimutatás!B$2,E382<=Kimutatás!B$3)","v":false}]
[382,"Budapest Észak","002","Q1","2019-01-02","KKV hitelnövekmény (db)",-1,"db","2019-02-01","monoska",{"$f":"AND(E383>=Kimutatás!B$2,E383<=Kimutatás!B$3)","v":false}]
[383,"Budapest Észak","002","Q1","2019-01-02","KKV számlanyitás",2,"db","2019-02-01","monoska",{"$f":"AND(E384>=Kimutatás!B$2,E384<=Kimutatás!B$3)","v":false}]
[384,"Budapest Észak","002","Q1","2019-01-02","Betét állomány növekmény",-4,"Mhuf","2019-02-01","monoska",{"$f":"AND(E385>=Kimutatás!B$2,E385<=Kimutatás!B$3)","v":false}]
[385,"Budapest Észak","002","Q1","2019-01-03","Betérő ügyfelek",45,"fő","2019-02-01","monoska",{"$f":"AND(E386>=Kimutatás!B$2,E386<=Kimutatás!B$3)","v":false}]
[386,"Budapest Észak","002","Q1","2019-01-03","Lakossági hitelnövekmény összege ",-1,"Mhuf","2019-02-01","monoska",{"$f":"AND(E387>=Kimutatás!B$2,E387<=Kimutatás!B$3)","v":false}]
[387,"Budapest Észak","002","Q1","2019-01-03","Lakossági számlanyitás",-3,"db","2019-02-01","monoska",{"$f":"AND(E388>=Kimutatás!B$2,E388<=Kimutatás!B$3)","v":false}]
[388,"Budapest Észak","002","Q1","2019-01-03","KKV hitelnövekmény (db)",2,"db","2019-02-01","monoska",{"$f":"AND(E389>=Kimutatás!B$2,E389<=Kimutatás!B$3)","v":false}]
[389,"Budapest Észak","002","Q1","2019-01-03","KKV számlanyitás",4,"db","2019-02-01","monoska",{"$f":"AND(E390>=Kimutatás!B$2,E390<=Kimutatás!B$3)","v":false}]
[390,"Budapest Észak","002","Q1","2019-01-03","Betét állomány növekmény",-20,"Mhuf","2019-02-01","monoska",{"$f":"AND(E391>=Kimutatás!B$2,E391<=Kimutatás!B$3)","v":false}]
[391,"Budapest Észak","002","Q1","2019-01-06","Betérő ügyfelek",43,"fő","2019-02-01","monoska",{"$f":"AND(E392>=Kimutatás!B$2,E392<=Kimutatás!B$3)","v":false}]
[392,"Budapest Észak","002","Q1","2019-01-06","Lakossági hitelnövekmény összege ",20,"Mhuf","2019-02-01","monoska",{"$f":"AND(E393>=Kimutatás!B$2,E393<=Kimutatás!B$3)","v":false}]
[393,"Budapest Észak","002","Q1","2019-01-06","Lakossági számlanyitás",-3,"db","2019-02-01","monoska",{"$f":"AND(E394>=Kimutatás!B$2,E394<=Kimutatás!B$3)","v":false}]
[394,"Budapest Észak","002","Q1","2019-01-06","KKV hitelnövekmény (db)",0,"db","2019-02-01","monoska",{"$f":"AND(E395>=Kimutatás!B$2,E395<=Kimutatás!B$3)","v":false}]
[395,"Budapest Észak","002","Q1","2019-01-06","KKV számlanyitás",-2,"db","2019-02-01","monoska",{"$f":"AND(E396>=Kimutatás!B$2,E396<=Kimutatás!B$3)","v":false}]
[396,"Budapest Észak","002","Q1","2019-01-06","Betét állomány növekmény",43,"Mhuf","2019-02-01","monoska",{"$f":"AND(E397>=Kimutatás!B$2,E397<=Kimutatás!B$3)","v":false}]
[397,"Budapest Észak","002","Q1","2019-01-07","Betérő ügyfelek",42,"fő","2019-02-01","monoska",{"$f":"AND(E398>=Kimutatás!B$2,E398<=Kimutatás!B$3)","v":false}]
[398,"Budapest Észak","002","Q1","2019-01-07","Lakossági hitelnövekmény összege ",-4,"Mhuf","2019-02-01","monoska",{"$f":"AND(E399>=Kimutatás!B$2,E399<=Kimutatás!B$3)","v":false}]
[399,"Budapest Észak","002","Q1","2019-01-07","Lakossági számlanyitás",7,"db","2019-02-01","monoska",{"$f":"AND(E400>=Kimutatás!B$2,E400<=Kimutatás!B$3)","v":false}]
[400,"Budapest Észak","002","Q1","2019-01-07","KKV hitelnövekmény (db)",-1,"db","2019-02-01","monoska",{"$f":"AND(E401>=Kimutatás!B$2,E401<=Kimutatás!B$3)","v":false}]
[401,"Budapest Észak","002","Q1","2019-01-07","KKV számlanyitás",4,"db","2019-02-01","monoska",{"$f":"AND(E402>=Kimutatás!B$2,E402<=Kimutatás!B$3)","v":false}]
[402,"Budapest Észak","002","Q1","2019-01-07","Betét állomány növekmény",-17,"Mhuf","2019-02-01","monoska",{"$f":"AND(E403>=Kimutatás!B$2,E403<=Kimutatás!B$3)","v":false}]
[403,"Budapest Észak","002","Q1","2019-01-08","Betérő ügyfelek",3,"fő","2019-02-01","monoska",{"$f":"AND(E404>=Kimutatás!B$2,E404<=Kimutatás!B$3)","v":false}]
[404,"Budapest Észak","002","Q1","2019-01-08","Lakossági hitelnövekmény összege ",19,"Mhuf","2019-02-01","monoska",{"$f":"AND(E405>=Kimutatás!B$2,E405<=Kimutatás!B$3)","v":false}]
[405,"Budapest Észak","002","Q1","2019-01-08","Lakossági számlanyitás",10,"db","2019-02-01","monoska",{"$f":"AND(E406>=Kimutatás!B$2,E406<=Kimutatás!B$3)","v":false}]
[406,"Budapest Észak","002","Q1","2019-01-08","KKV hitelnövekmény (db)",2,"db","2019-02-01","monoska",{"$f":"AND(E407>=Kimutatás!B$2,E407<=Kimutatás!B$3)","v":false}]
[407,"Budapest Észak","002","Q1","2019-01-08","KKV számlanyitás",-2,"db","2019-02-01","monoska",{"$f":"AND(E408>=Kimutatás!B$2,E408<=Kimutatás!B$3)","v":false}]
[408,"Budapest Észak","002","Q1","2019-01-08","Betét állomány növekmény",0,"Mhuf","2019-02-01","monoska",{"$f":"AND(E409>=Kimutatás!B$2,E409<=Kimutatás!B$3)","v":false}]
[409,"Budapest Észak","002","Q1","2019-01-09","Betérő ügyfelek",14,"fő","2019-02-01","monoska",{"$f":"AND(E410>=Kimutatás!B$2,E410<=Kimutatás!B$3)","v":false}]
[410,"Budapest Észak","002","Q1","2019-01-09","Lakossági hitelnövekmény összege ",28,"Mhuf","2019-02-01","monoska",{"$f":"AND(E411>=Kimutatás!B$2,E411<=Kimutatás!B$3)","v":false}]
[411,"Budapest Észak","002","Q1","2019-01-09","Lakossági számlanyitás",2,"db","2019-02-01","monoska",{"$f":"AND(E412>=Kimutatás!B$2,E412<=Kimutatás!B$3)","v":false}]
[412,"Budapest Észak","002","Q1","2019-01-09","KKV hitelnövekmény (db)",-2,"db","2019-02-01","monoska",{"$f":"AND(E413>=Kimutatás!B$2,E413<=Kimutatás!B$3)","v":false}]
[413,"Budapest Észak","002","Q1","2019-01-09","KKV számlanyitás",4,"db","2019-02-01","monoska",{"$f":"AND(E414>=Kimutatás!B$2,E414<=Kimutatás!B$3)","v":false}]
[414,"Budapest Észak","002","Q1","2019-01-09","Betét állomány növekmény",48,"Mhuf","2019-02-01","monoska",{"$f":"AND(E415>=Kimutatás!B$2,E415<=Kimutatás!B$3)","v":false}]
[415,"Budapest Észak","002","Q1","2019-01-10","Betérő ügyfelek",4,"fő","2019-02-01","monoska",{"$f":"AND(E416>=Kimutatás!B$2,E416<=Kimutatás!B$3)","v":true}]
[416,"Budapest Észak","002","Q1","2019-01-10","Lakossági hitelnövekmény összege ",-4,"Mhuf","2019-02-01","monoska",{"$f":"AND(E417>=Kimutatás!B$2,E417<=Kimutatás!B$3)","v":true}]
[417,"Budapest Észak","002","Q1","2019-01-10","Lakossági számlanyitás",-4,"db","2019-02-01","monoska",{"$f":"AND(E418>=Kimutatás!B$2,E418<=Kimutatás!B$3)","v":true}]
[418,"Budapest Észak","002","Q1","2019-01-10","KKV hitelnövekmény (db)",1,"db","2019-02-01","monoska",{"$f":"AND(E419>=Kimutatás!B$2,E419<=Kimutatás!B$3)","v":true}]
[419,"Budapest Észak","002","Q1","2019-01-10","KKV számlanyitás",5,"db","2019-02-01","monoska",{"$f":"AND(E420>=Kimutatás!B$2,E420<=Kimutatás!B$3)","v":true}]
[420,"Budapest Észak","002","Q1","2019-01-10","Betét állomány növekmény",38,"Mhuf","2019-02-01","monoska",{"$f":"AND(E421>=Kimutatás!B$2,E421<=Kimutatás!B$3)","v":true}]
[421,"Budapest Észak","002","Q1","2019-01-13","Betérő ügyfelek",10,"fő","2019-02-01","monoska",{"$f":"AND(E422>=Kimutatás!B$2,E422<=Kimutatás!B$3)","v":true}]
[422,"Budapest Észak","002","Q1","2019-01-13","Lakossági hitelnövekmény összege ",28,"Mhuf","2019-02-01","monoska",{"$f":"AND(E423>=Kimutatás!B$2,E423<=Kimutatás!B$3)","v":true}]
[423,"Budapest Észak","002","Q1","2019-01-13","Lakossági számlanyitás",6,"db","2019-02-01","monoska",{"$f":"AND(E424>=Kimutatás!B$2,E424<=Kimutatás!B$3)","v":true}]
[424,"Budapest Észak","002","Q1","2019-01-13","KKV hitelnövekmény (db)",-1,"db","2019-02-01","monoska",{"$f":"AND(E425>=Kimutatás!B$2,E425<=Kimutatás!B$3)","v":true}]
[425,"Budapest Észak","002","Q1","2019-01-13","KKV számlanyitás",-3,"db","2019-02-01","monoska",{"$f":"AND(E426>=Kimutatás!B$2,E426<=Kimutatás!B$3)","v":true}]
[426,"Budapest Észak","002","Q1","2019-01-13","Betét állomány növekmény",-9,"Mhuf","2019-02-01","monoska",{"$f":"AND(E427>=Kimutatás!B$2,E427<=Kimutatás!B$3)","v":true}]
[427,"Budapest Észak","002","Q1","2019-01-14","Betérő ügyfelek",39,"fő","2019-02-01","monoska",{"$f":"AND(E428>=Kimutatás!B$2,E428<=Kimutatás!B$3)","v":true}]
[428,"Budapest Észak","002","Q1","2019-01-14","Lakossági hitelnövekmény összege ",49,"Mhuf","2019-02-01","monoska",{"$f":"AND(E429>=Kimutatás!B$2,E429<=Kimutatás!B$3)","v":true}]
[429,"Budapest Észak","002","Q1","2019-01-14","Lakossági számlanyitás",-4,"db","2019-02-01","monoska",{"$f":"AND(E430>=Kimutatás!B$2,E430<=Kimutatás!B$3)","v":true}]
[430,"Budapest Észak","002","Q1","2019-01-14","KKV hitelnövekmény (db)",-1,"db","2019-02-01","monoska",{"$f":"AND(E431>=Kimutatás!B$2,E431<=Kimutatás!B$3)","v":true}]
[431,"Budapest Észak","002","Q1","2019-01-14","KKV számlanyitás",-3,"db","2019-02-01","monoska",{"$f":"AND(E432>=Kimutatás!B$2,E432<=Kimutatás!B$3)","v":true}]
[432,"Budapest Észak","002","Q1","2019-01-14","Betét állomány növekmény",45,"Mhuf","2019-02-01","monoska",{"$f":"AND(E433>=Kimutatás!B$2,E433<=Kimutatás!B$3)","v":true}]
[433,"Budapest Észak","002","Q1","2019-01-15","Betérő ügyfelek",37,"fő","2019-02-01","monoska",{"$f":"AND(E434>=Kimutatás!B$2,E434<=Kimutatás!B$3)","v":true}]
[434,"Budapest Észak","002","Q1","2019-01-15","Lakossági hitelnövekmény összege ",-1,"Mhuf","2019-02-01","monoska",{"$f":"AND(E435>=Kimutatás!B$2,E435<=Kimutatás!B$3)","v":true}]
[435,"Budapest Észak","002","Q1","2019-01-15","Lakossági számlanyitás",7,"db","2019-02-01","monoska",{"$f":"AND(E436>=Kimutatás!B$2,E436<=Kimutatás!B$3)","v":true}]
[436,"Budapest Észak","002","Q1","2019-01-15","KKV hitelnövekmény (db)",2,"db","2019-02-01","monoska",{"$f":"AND(E437>=Kimutatás!B$2,E437<=Kimutatás!B$3)","v":true}]
[437,"Budapest Észak","002","Q1","2019-01-15","KKV számlanyitás",5,"db","2019-02-01","monoska",{"$f":"AND(E438>=Kimutatás!B$2,E438<=Kimutatás!B$3)","v":true}]
[438,"Budapest Észak","002","Q1","2019-01-15","Betét állomány növekmény",25,"Mhuf","2019-02-01","monoska",{"$f":"AND(E439>=Kimutatás!B$2,E439<=Kimutatás!B$3)","v":true}]
[439,"Budapest Észak","002","Q1","2019-01-16","Betérő ügyfelek",23,"fő","2019-02-01","monoska",{"$f":"AND(E440>=Kimutatás!B$2,E440<=Kimutatás!B$3)","v":true}]
[440,"Budapest Észak","002","Q1","2019-01-16","Lakossági hitelnövekmény összege ",-3,"Mhuf","2019-02-01","monoska",{"$f":"AND(E441>=Kimutatás!B$2,E441<=Kimutatás!B$3)","v":true}]
[441,"Budapest Észak","002","Q1","2019-01-16","Lakossági számlanyitás",7,"db","2019-02-01","monoska",{"$f":"AND(E442>=Kimutatás!B$2,E442<=Kimutatás!B$3)","v":true}]
[442,"Budapest Észak","002","Q1","2019-01-16","KKV hitelnövekmény (db)",-2,"db","2019-02-01","monoska",{"$f":"AND(E443>=Kimutatás!B$2,E443<=Kimutatás!B$3)","v":true}]
[443,"Budapest Észak","002","Q1","2019-01-16","KKV számlanyitás",-2,"db","2019-02-01","monoska",{"$f":"AND(E444>=Kimutatás!B$2,E444<=Kimutatás!B$3)","v":true}]
[444,"Budapest Észak","002","Q1","2019-01-16","Betét állomány növekmény",43,"Mhuf","2019-02-01","monoska",{"$f":"AND(E445>=Kimutatás!B$2,E445<=Kimutatás!B$3)","v":true}]
[445,"Budapest Észak","002","Q1","2019-01-17","Betérő ügyfelek",28,"fő","2019-02-01","monoska",{"$f":"AND(E446>=Kimutatás!B$2,E446<=Kimutatás!B$3)","v":true}]
[446,"Budapest Észak","002","Q1","2019-01-17","Lakossági hitelnövekmény összege ",50,"Mhuf","2019-02-01","monoska",{"$f":"AND(E447>=Kimutatás!B$2,E447<=Kimutatás!B$3)","v":true}]
[447,"Budapest Észak","002","Q1","2019-01-17","Lakossági számlanyitás",10,"db","2019-02-01","monoska",{"$f":"AND(E448>=Kimutatás!B$2,E448<=Kimutatás!B$3)","v":true}]
[448,"Budapest Észak","002","Q1","2019-01-17","KKV hitelnövekmény (db)",-1,"db","2019-02-01","monoska",{"$f":"AND(E449>=Kimutatás!B$2,E449<=Kimutatás!B$3)","v":true}]
[449,"Budapest Észak","002","Q1","2019-01-17","KKV számlanyitás",-5,"db","2019-02-01","monoska",{"$f":"AND(E450>=Kimutatás!B$2,E450<=Kimutatás!B$3)","v":true}]
[450,"Budapest Észak","002","Q1","2019-01-17","Betét állomány növekmény",-7,"Mhuf","2019-02-01","monoska",{"$f":"AND(E451>=Kimutatás!B$2,E451<=Kimutatás!B$3)","v":true}]
[451,"Budapest Észak","002","Q1","2019-01-20","Betérő ügyfelek",12,"fő","2019-02-01","monoska",{"$f":"AND(E452>=Kimutatás!B$2,E452<=Kimutatás!B$3)","v":true}]
[452,"Budapest Észak","002","Q1","2019-01-20","Lakossági hitelnövekmény összege ",46,"Mhuf","2019-02-01","monoska",{"$f":"AND(E453>=Kimutatás!B$2,E453<=Kimutatás!B$3)","v":true}]
[453,"Budapest Észak","002","Q1","2019-01-20","Lakossági számlanyitás",6,"db","2019-02-01","monoska",{"$f":"AND(E454>=Kimutatás!B$2,E454<=Kimutatás!B$3)","v":true}]
[454,"Budapest Észak","002","Q1","2019-01-20","KKV hitelnövekmény (db)",2,"db","2019-02-01","monoska",{"$f":"AND(E455>=Kimutatás!B$2,E455<=Kimutatás!B$3)","v":true}]
[455,"Budapest Észak","002","Q1","2019-01-20","KKV számlanyitás",0,"db","2019-02-01","monoska",{"$f":"AND(E456>=Kimutatás!B$2,E456<=Kimutatás!B$3)","v":true}]
[456,"Budapest Észak","002","Q1","2019-01-20","Betét állomány növekmény",49,"Mhuf","2019-02-01","monoska",{"$f":"AND(E457>=Kimutatás!B$2,E457<=Kimutatás!B$3)","v":true}]
[457,"Budapest Észak","002","Q1","2019-01-21","Betérő ügyfelek",5,"fő","2019-02-01","monoska",{"$f":"AND(E458>=Kimutatás!B$2,E458<=Kimutatás!B$3)","v":true}]
[458,"Budapest Észak","002","Q1","2019-01-21","Lakossági hitelnövekmény összege ",46,"Mhuf","2019-02-01","monoska",{"$f":"AND(E459>=Kimutatás!B$2,E459<=Kimutatás!B$3)","v":true}]
[459,"Budapest Észak","002","Q1","2019-01-21","Lakossági számlanyitás",-4,"db","2019-02-01","monoska",{"$f":"AND(E460>=Kimutatás!B$2,E460<=Kimutatás!B$3)","v":true}]
[460,"Budapest Észak","002","Q1","2019-01-21","KKV hitelnövekmény (db)",1,"db","2019-02-01","monoska",{"$f":"AND(E461>=Kimutatás!B$2,E461<=Kimutatás!B$3)","v":true}]
[461,"Budapest Észak","002","Q1","2019-01-21","KKV számlanyitás",1,"db","2019-02-01","monoska",{"$f":"AND(E462>=Kimutatás!B$2,E462<=Kimutatás!B$3)","v":true}]
[462,"Budapest Észak","002","Q1","2019-01-21","Betét állomány növekmény",33,"Mhuf","2019-02-01","monoska",{"$f":"AND(E463>=Kimutatás!B$2,E463<=Kimutatás!B$3)","v":true}]
[463,"Budapest Észak","002","Q1","2019-01-22","Betérő ügyfelek",44,"fő","2019-02-01","monoska",{"$f":"AND(E464>=Kimutatás!B$2,E464<=Kimutatás!B$3)","v":true}]
[464,"Budapest Észak","002","Q1","2019-01-22","Lakossági hitelnövekmény összege ",-8,"Mhuf","2019-02-01","monoska",{"$f":"AND(E465>=Kimutatás!B$2,E465<=Kimutatás!B$3)","v":true}]
[465,"Budapest Észak","002","Q1","2019-01-22","Lakossági számlanyitás",8,"db","2019-02-01","monoska",{"$f":"AND(E466>=Kimutatás!B$2,E466<=Kimutatás!B$3)","v":true}]
[466,"Budapest Észak","002","Q1","2019-01-22","KKV hitelnövekmény (db)",-2,"db","2019-02-01","monoska",{"$f":"AND(E467>=Kimutatás!B$2,E467<=Kimutatás!B$3)","v":true}]
[467,"Budapest Észak","002","Q1","2019-01-22","KKV számlanyitás",-2,"db","2019-02-01","monoska",{"$f":"AND(E468>=Kimutatás!B$2,E468<=Kimutatás!B$3)","v":true}]
[468,"Budapest Észak","002","Q1","2019-01-22","Betét állomány növekmény",-5,"Mhuf","2019-02-01","monoska",{"$f":"AND(E469>=Kimutatás!B$2,E469<=Kimutatás!B$3)","v":true}]
[469,"Budapest Észak","002","Q1","2019-01-23","Betérő ügyfelek",7,"fő","2019-02-01","monoska",{"$f":"AND(E470>=Kimutatás!B$2,E470<=Kimutatás!B$3)","v":true}]
[470,"Budapest Észak","002","Q1","2019-01-23","Lakossági hitelnövekmény összege ",14,"Mhuf","2019-02-01","monoska",{"$f":"AND(E471>=Kimutatás!B$2,E471<=Kimutatás!B$3)","v":true}]
[471,"Budapest Észak","002","Q1","2019-01-23","Lakossági számlanyitás",-3,"db","2019-02-01","monoska",{"$f":"AND(E472>=Kimutatás!B$2,E472<=Kimutatás!B$3)","v":true}]
[472,"Budapest Észak","002","Q1","2019-01-23","KKV hitelnövekmény (db)",2,"db","2019-02-01","monoska",{"$f":"AND(E473>=Kimutatás!B$2,E473<=Kimutatás!B$3)","v":true}]
[473,"Budapest Észak","002","Q1","2019-01-23","KKV számlanyitás",5,"db","2019-02-01","monoska",{"$f":"AND(E474>=Kimutatás!B$2,E474<=Kimutatás!B$3)","v":true}]
[474,"Budapest Észak","002","Q1","2019-01-23","Betét állomány növekmény",-15,"Mhuf","2019-02-01","monoska",{"$f":"AND(E475>=Kimutatás!B$2,E475<=Kimutatás!B$3)","v":true}]
[475,"Budapest Észak","002","Q1","2019-01-24","Betérő ügyfelek",31,"fő","2019-02-01","monoska",{"$f":"AND(E476>=Kimutatás!B$2,E476<=Kimutatás!B$3)","v":true}]
[476,"Budapest Észak","002","Q1","2019-01-24","Lakossági hitelnövekmény összege ",50,"Mhuf","2019-02-01","monoska",{"$f":"AND(E477>=Kimutatás!B$2,E477<=Kimutatás!B$3)","v":true}]
[477,"Budapest Észak","002","Q1","2019-01-24","Lakossági számlanyitás",-4,"db","2019-02-01","monoska",{"$f":"AND(E478>=Kimutatás!B$2,E478<=Kimutatás!B$3)","v":true}]
[478,"Budapest Észak","002","Q1","2019-01-24","KKV hitelnövekmény (db)",-2,"db","2019-02-01","monoska",{"$f":"AND(E479>=Kimutatás!B$2,E479<=Kimutatás!B$3)","v":true}]
[479,"Budapest Észak","002","Q1","2019-01-24","KKV számlanyitás",5,"db","2019-02-01","monoska",{"$f":"AND(E480>=Kimutatás!B$2,E480<=Kimutatás!B$3)","v":true}]
[480,"Budapest Észak","002","Q1","2019-01-24","Betét állomány növekmény",15,"Mhuf","2019-02-01","monoska",{"$f":"AND(E481>=Kimutatás!B$2,E481<=Kimutatás!B$3)","v":true}]
[481,"Budapest Észak","002","Q1","2019-01-27","Betérő ügyfelek",32,"fő","2019-02-01","monoska",{"$f":"AND(E482>=Kimutatás!B$2,E482<=Kimutatás!B$3)","v":true}]
[482,"Budapest Észak","002","Q1","2019-01-27","Lakossági hitelnövekmény összege ",28,"Mhuf","2019-02-01","monoska",{"$f":"AND(E483>=Kimutatás!B$2,E483<=Kimutatás!B$3)","v":true}]
[483,"Budapest Észak","002","Q1","2019-01-27","Lakossági számlanyitás",4,"db","2019-02-01","monoska",{"$f":"AND(E484>=Kimutatás!B$2,E484<=Kimutatás!B$3)","v":true}]
[484,"Budapest Észak","002","Q1","2019-01-27","KKV hitelnövekmény (db)",-1,"db","2019-02-01","monoska",{"$f":"AND(E485>=Kimutatás!B$2,E485<=Kimutatás!B$3)","v":true}]
[485,"Budapest Észak","002","Q1","2019-01-27","KKV számlanyitás",3,"db","2019-02-01","monoska",{"$f":"AND(E486>=Kimutatás!B$2,E486<=Kimutatás!B$3)","v":true}]
[486,"Budapest Észak","002","Q1","2019-01-27","Betét állomány növekmény",5,"Mhuf","2019-02-01","monoska",{"$f":"AND(E487>=Kimutatás!B$2,E487<=Kimutatás!B$3)","v":true}]
[487,"Budapest Észak","002","Q1","2019-01-28","Betérő ügyfelek",21,"fő","2019-02-01","monoska",{"$f":"AND(E488>=Kimutatás!B$2,E488<=Kimutatás!B$3)","v":true}]
[488,"Budapest Észak","002","Q1","2019-01-28","Lakossági hitelnövekmény összege ",20,"Mhuf","2019-02-01","monoska",{"$f":"AND(E489>=Kimutatás!B$2,E489<=Kimutatás!B$3)","v":true}]
[489,"Budapest Észak","002","Q1","2019-01-28","Lakossági számlanyitás",0,"db","2019-02-01","monoska",{"$f":"AND(E490>=Kimutatás!B$2,E490<=Kimutatás!B$3)","v":true}]
[490,"Budapest Észak","002","Q1","2019-01-28","KKV hitelnövekmény (db)",-2,"db","2019-02-01","monoska",{"$f":"AND(E491>=Kimutatás!B$2,E491<=Kimutatás!B$3)","v":true}]
[491,"Budapest Észak","002","Q1","2019-01-28","KKV számlanyitás",-2,"db","2019-02-01","monoska",{"$f":"AND(E492>=Kimutatás!B$2,E492<=Kimutatás!B$3)","v":true}]
[492,"Budapest Észak","002","Q1","2019-01-28","Betét állomány növekmény",-15,"Mhuf","2019-02-01","monoska",{"$f":"AND(E493>=Kimutatás!B$2,E493<=Kimutatás!B$3)","v":true}]
[493,"Budapest Észak","002","Q1","2019-01-29","Betérő ügyfelek",49,"fő","2019-02-01","monoska",{"$f":"AND(E494>=Kimutatás!B$2,E494<=Kimutatás!B$3)","v":true}]
[494,"Budapest Észak","002","Q1","2019-01-29","Lakossági hitelnövekmény összege ",-4,"Mhuf","2019-02-01","monoska",{"$f":"AND(E495>=Kimutatás!B$2,E495<=Kimutatás!B$3)","v":true}]
[495,"Budapest Észak","002","Q1","2019-01-29","Lakossági számlanyitás",7,"db","2019-02-01","monoska",{"$f":"AND(E496>=Kimutatás!B$2,E496<=Kimutatás!B$3)","v":true}]
[496,"Budapest Észak","002","Q1","2019-01-29","KKV hitelnövekmény (db)",-2,"db","2019-02-01","monoska",{"$f":"AND(E497>=Kimutatás!B$2,E497<=Kimutatás!B$3)","v":true}]
[497,"Budapest Észak","002","Q1","2019-01-29","KKV számlanyitás",0,"db","2019-02-01","monoska",{"$f":"AND(E498>=Kimutatás!B$2,E498<=Kimutatás!B$3)","v":true}]
[498,"Budapest Észak","002","Q1","2019-01-29","Betét állomány növekmény",21,"Mhuf","2019-02-01","monoska",{"$f":"AND(E499>=Kimutatás!B$2,E499<=Kimutatás!B$3)","v":true}]
[499,"Budapest Észak","002","Q1","2019-01-30","Betérő ügyfelek",33,"fő","2019-02-01","monoska",{"$f":"AND(E500>=Kimutatás!B$2,E500<=Kimutatás!B$3)","v":true}]
[500,"Budapest Észak","002","Q1","2019-01-30","Lakossági hitelnövekmény összege ",31,"Mhuf","2019-02-01","monoska",{"$f":"AND(E501>=Kimutatás!B$2,E501<=Kimutatás!B$3)","v":true}]
[501,"Budapest Észak","002","Q1","2019-01-30","Lakossági számlanyitás",9,"db","2019-02-01","monoska",{"$f":"AND(E502>=Kimutatás!B$2,E502<=Kimutatás!B$3)","v":true}]
[502,"Budapest Észak","002","Q1","2019-01-30","KKV hitelnövekmény (db)",2,"db","2019-02-01","monoska",{"$f":"AND(E503>=Kimutatás!B$2,E503<=Kimutatás!B$3)","v":true}]
[503,"Budapest Észak","002","Q1","2019-01-30","KKV számlanyitás",-2,"db","2019-02-01","monoska",{"$f":"AND(E504>=Kimutatás!B$2,E504<=Kimutatás!B$3)","v":true}]
[504,"Budapest Észak","002","Q1","2019-01-30","Betét állomány növekmény",34,"Mhuf","2019-02-01","monoska",{"$f":"AND(E505>=Kimutatás!B$2,E505<=Kimutatás!B$3)","v":true}]
[505,"Budapest Észak","002","Q1","2019-01-31","Betérő ügyfelek",48,"fő","2019-02-01","monoska",{"$f":"AND(E506>=Kimutatás!B$2,E506<=Kimutatás!B$3)","v":true}]
[506,"Budapest Észak","002","Q1","2019-01-31","Lakossági hitelnövekmény összege ",20,"Mhuf","2019-02-01","monoska",{"$f":"AND(E507>=Kimutatás!B$2,E507<=Kimutatás!B$3)","v":true}]
[507,"Budapest Észak","002","Q1","2019-01-31","Lakossági számlanyitás",8,"db","2019-02-01","monoska",{"$f":"AND(E508>=Kimutatás!B$2,E508<=Kimutatás!B$3)","v":true}]
[508,"Budapest Észak","002","Q1","2019-01-31","KKV hitelnövekmény (db)",0,"db","2019-02-01","monoska",{"$f":"AND(E509>=Kimutatás!B$2,E509<=Kimutatás!B$3)","v":true}]
[509,"Budapest Észak","002","Q1","2019-01-31","KKV számlanyitás",2,"db","2019-02-01","monoska",{"$f":"AND(E510>=Kimutatás!B$2,E510<=Kimutatás!B$3)","v":true}]
[510,"Budapest Észak","002","Q1","2019-01-31","Betét állomány növekmény",47,"Mhuf","2019-02-01","monoska",{"$f":"AND(E511>=Kimutatás!B$2,E511<=Kimutatás!B$3)","v":true}]
[511,"Budapest Észak","002","Q1","2019-02-03","Betérő ügyfelek",21,"fő","2019-03-01","zsupan2",{"$f":"AND(E512>=Kimutatás!B$2,E512<=Kimutatás!B$3)","v":true}]
[512,"Budapest Észak","002","Q1","2019-02-03","Lakossági hitelnövekmény összege ",49,"Mhuf","2019-03-01","zsupan2",{"$f":"AND(E513>=Kimutatás!B$2,E513<=Kimutatás!B$3)","v":true}]
[513,"Budapest Észak","002","Q1","2019-02-03","Lakossági számlanyitás",2,"db","2019-03-01","zsupan2",{"$f":"AND(E514>=Kimutatás!B$2,E514<=Kimutatás!B$3)","v":true}]
[514,"Budapest Észak","002","Q1","2019-02-03","KKV hitelnövekmény (db)",-1,"db","2019-03-01","zsupan2",{"$f":"AND(E515>=Kimutatás!B$2,E515<=Kimutatás!B$3)","v":true}]
[515,"Budapest Észak","002","Q1","2019-02-03","KKV számlanyitás",-1,"db","2019-03-01","zsupan2",{"$f":"AND(E516>=Kimutatás!B$2,E516<=Kimutatás!B$3)","v":true}]
[516,"Budapest Észak","002","Q1","2019-02-03","Betét állomány növekmény",28,"Mhuf","2019-03-01","zsupan2",{"$f":"AND(E517>=Kimutatás!B$2,E517<=Kimutatás!B$3)","v":true}]
[517,"Budapest Észak","002","Q1","2019-02-04","Betérő ügyfelek",2,"fő","2019-03-01","zsupan2",{"$f":"AND(E518>=Kimutatás!B$2,E518<=Kimutatás!B$3)","v":true}]
[518,"Budapest Észak","002","Q1","2019-02-04","Lakossági hitelnövekmény összege ",28,"Mhuf","2019-03-01","zsupan2",{"$f":"AND(E519>=Kimutatás!B$2,E519<=Kimutatás!B$3)","v":true}]
[519,"Budapest Észak","002","Q1","2019-02-04","Lakossági számlanyitás",4,"db","2019-03-01","zsupan2",{"$f":"AND(E520>=Kimutatás!B$2,E520<=Kimutatás!B$3)","v":true}]
[520,"Budapest Észak","002","Q1","2019-02-04","KKV hitelnövekmény (db)",0,"db","2019-03-01","zsupan2",{"$f":"AND(E521>=Kimutatás!B$2,E521<=Kimutatás!B$3)","v":true}]
[521,"Budapest Észak","002","Q1","2019-02-04","KKV számlanyitás",0,"db","2019-03-01","zsupan2",{"$f":"AND(E522>=Kimutatás!B$2,E522<=Kimutatás!B$3)","v":true}]
[522,"Budapest Észak","002","Q1","2019-02-04","Betét állomány növekmény",14,"Mhuf","2019-03-01","zsupan2",{"$f":"AND(E523>=Kimutatás!B$2,E523<=Kimutatás!B$3)","v":true}]
[523,"Budapest Észak","002","Q1","2019-02-05","Betérő ügyfelek",29,"fő","2019-03-01","zsupan2",{"$f":"AND(E524>=Kimutatás!B$2,E524<=Kimutatás!B$3)","v":true}]
[524,"Budapest Észak","002","Q1","2019-02-05","Lakossági hitelnövekmény összege ",-8,"Mhuf","2019-03-01","zsupan2",{"$f":"AND(E525>=Kimutatás!B$2,E525<=Kimutatás!B$3)","v":true}]
[525,"Budapest Észak","002","Q1","2019-02-05","Lakossági számlanyitás",4,"db","2019-03-01","zsupan2",{"$f":"AND(E526>=Kimutatás!B$2,E526<=Kimutatás!B$3)","v":true}]
[526,"Budapest Észak","002","Q1","2019-02-05","KKV hitelnövekmény (db)",0,"db","2019-03-01","zsupan2",{"$f":"AND(E527>=Kimutatás!B$2,E527<=Kimutatás!B$3)","v":true}]
[527,"Budapest Észak","002","Q1","2019-02-05","KKV számlanyitás",2,"db","2019-03-01","zsupan2",{"$f":"AND(E528>=Kimutatás!B$2,E528<=Kimutatás!B$3)","v":true}]
[528,"Budapest Észak","002","Q1","2019-02-05","Betét állomány növekmény",48,"Mhuf","2019-03-01","zsupan2",{"$f":"AND(E529>=Kimutatás!B$2,E529<=Kimutatás!B$3)","v":true}]
[529,"Budapest Észak","002","Q1","2019-02-06","Betérő ügyfelek",30,"fő","2019-03-01","zsupan2",{"$f":"AND(E530>=Kimutatás!B$2,E530<=Kimutatás!B$3)","v":true}]
[530,"Budapest Észak","002","Q1","2019-02-06","Lakossági hitelnövekmény összege ",26,"Mhuf","2019-03-01","zsupan2",{"$f":"AND(E531>=Kimutatás!B$2,E531<=Kimutatás!B$3)","v":true}]
[531,"Budapest Észak","002","Q1","2019-02-06","Lakossági számlanyitás",2,"db","2019-03-01","zsupan2",{"$f":"AND(E532>=Kimutatás!B$2,E532<=Kimutatás!B$3)","v":true}]
[532,"Budapest Észak","002","Q1","2019-02-06","KKV hitelnövekmény (db)",0,"db","2019-03-01","zsupan2",{"$f":"AND(E533>=Kimutatás!B$2,E533<=Kimutatás!B$3)","v":true}]
[533,"Budapest Észak","002","Q1","2019-02-06","KKV számlanyitás",-3,"db","2019-03-01","zsupan2",{"$f":"AND(E534>=Kimutatás!B$2,E534<=Kimutatás!B$3)","v":true}]
[534,"Budapest Észak","002","Q1","2019-02-06","Betét állomány növekmény",9,"Mhuf","2019-03-01","zsupan2",{"$f":"AND(E535>=Kimutatás!B$2,E535<=Kimutatás!B$3)","v":true}]
[535,"Budapest Észak","002","Q1","2019-02-07","Betérő ügyfelek",39,"fő","2019-03-01","zsupan2",{"$f":"AND(E536>=Kimutatás!B$2,E536<=Kimutatás!B$3)","v":true}]
[536,"Budapest Észak","002","Q1","2019-02-07","Lakossági hitelnövekmény összege ",30,"Mhuf","2019-03-01","zsupan2",{"$f":"AND(E537>=Kimutatás!B$2,E537<=Kimutatás!B$3)","v":true}]
[537,"Budapest Észak","002","Q1","2019-02-07","Lakossági számlanyitás",-3,"db","2019-03-01","zsupan2",{"$f":"AND(E538>=Kimutatás!B$2,E538<=Kimutatás!B$3)","v":true}]
[538,"Budapest Észak","002","Q1","2019-02-07","KKV hitelnövekmény (db)",-1,"db","2019-03-01","zsupan2",{"$f":"AND(E539>=Kimutatás!B$2,E539<=Kimutatás!B$3)","v":true}]
[539,"Budapest Észak","002","Q1","2019-02-07","KKV számlanyitás",5,"db","2019-03-01","zsupan2",{"$f":"AND(E540>=Kimutatás!B$2,E540<=Kimutatás!B$3)","v":true}]
[540,"Budapest Észak","002","Q1","2019-02-07","Betét állomány növekmény",-16,"Mhuf","2019-03-01","zsupan2",{"$f":"AND(E541>=Kimutatás!B$2,E541<=Kimutatás!B$3)","v":true}]
[541,"Budapest Észak","002","Q1","2019-02-10","Betérő ügyfelek",17,"fő","2019-03-01","zsupan2",{"$f":"AND(E542>=Kimutatás!B$2,E542<=Kimutatás!B$3)","v":true}]
[542,"Budapest Észak","002","Q1","2019-02-10","Lakossági hitelnövekmény összege ",8,"Mhuf","2019-03-01","zsupan2",{"$f":"AND(E543>=Kimutatás!B$2,E543<=Kimutatás!B$3)","v":true}]
[543,"Budapest Észak","002","Q1","2019-02-10","Lakossági számlanyitás",2,"db","2019-03-01","zsupan2",{"$f":"AND(E544>=Kimutatás!B$2,E544<=Kimutatás!B$3)","v":true}]
[544,"Budapest Észak","002","Q1","2019-02-10","KKV hitelnövekmény (db)",-1,"db","2019-03-01","zsupan2",{"$f":"AND(E545>=Kimutatás!B$2,E545<=Kimutatás!B$3)","v":true}]
[545,"Budapest Észak","002","Q1","2019-02-10","KKV számlanyitás",1,"db","2019-03-01","zsupan2",{"$f":"AND(E546>=Kimutatás!B$2,E546<=Kimutatás!B$3)","v":true}]
[546,"Budapest Észak","002","Q1","2019-02-10","Betét állomány növekmény",10,"Mhuf","2019-03-01","zsupan2",{"$f":"AND(E547>=Kimutatás!B$2,E547<=Kimutatás!B$3)","v":true}]
[547,"Budapest Észak","002","Q1","2019-02-11","Betérő ügyfelek",41,"fő","2019-03-01","zsupan2",{"$f":"AND(E548>=Kimutatás!B$2,E548<=Kimutatás!B$3)","v":true}]
[548,"Budapest Észak","002","Q1","2019-02-11","Lakossági hitelnövekmény összege ",-6,"Mhuf","2019-03-01","zsupan2",{"$f":"AND(E549>=Kimutatás!B$2,E549<=Kimutatás!B$3)","v":true}]
[549,"Budapest Észak","002","Q1","2019-02-11","Lakossági számlanyitás",8,"db","2019-03-01","zsupan2",{"$f":"AND(E550>=Kimutatás!B$2,E550<=Kimutatás!B$3)","v":true}]
[550,"Budapest Észak","002","Q1","2019-02-11","KKV hitelnövekmény (db)",1,"db","2019-03-01","zsupan2",{"$f":"AND(E551>=Kimutatás!B$2,E551<=Kimutatás!B$3)","v":true}]
[551,"Budapest Észak","002","Q1","2019-02-11","KKV számlanyitás",-2,"db","2019-03-01","zsupan2",{"$f":"AND(E552>=Kimutatás!B$2,E552<=Kimutatás!B$3)","v":true}]
[552,"Budapest Észak","002","Q1","2019-02-11","Betét állomány növekmény",5,"Mhuf","2019-03-01","zsupan2",{"$f":"AND(E553>=Kimutatás!B$2,E553<=Kimutatás!B$3)","v":true}]
[553,"Budapest Észak","002","Q1","2019-02-12","Betérő ügyfelek",44,"fő","2019-03-01","zsupan2",{"$f":"AND(E554>=Kimutatás!B$2,E554<=Kimutatás!B$3)","v":true}]
[554,"Budapest Észak","002","Q1","2019-02-12","Lakossági hitelnövekmény összege ",-5,"Mhuf","2019-03-01","zsupan2",{"$f":"AND(E555>=Kimutatás!B$2,E555<=Kimutatás!B$3)","v":true}]
[555,"Budapest Észak","002","Q1","2019-02-12","Lakossági számlanyitás",9,"db","2019-03-01","zsupan2",{"$f":"AND(E556>=Kimutatás!B$2,E556<=Kimutatás!B$3)","v":true}]
[556,"Budapest Észak","002","Q1","2019-02-12","KKV hitelnövekmény (db)",2,"db","2019-03-01","zsupan2",{"$f":"AND(E557>=Kimutatás!B$2,E557<=Kimutatás!B$3)","v":true}]
[557,"Budapest Észak","002","Q1","2019-02-12","KKV számlanyitás",2,"db","2019-03-01","zsupan2",{"$f":"AND(E558>=Kimutatás!B$2,E558<=Kimutatás!B$3)","v":true}]
[558,"Budapest Észak","002","Q1","2019-02-12","Betét állomány növekmény",-4,"Mhuf","2019-03-01","zsupan2",{"$f":"AND(E559>=Kimutatás!B$2,E559<=Kimutatás!B$3)","v":true}]
[559,"Budapest Észak","002","Q1","2019-02-13","Betérő ügyfelek",47,"fő","2019-03-01","zsupan2",{"$f":"AND(E560>=Kimutatás!B$2,E560<=Kimutatás!B$3)","v":true}]
[560,"Budapest Észak","002","Q1","2019-02-13","Lakossági hitelnövekmény összege ",-10,"Mhuf","2019-03-01","zsupan2",{"$f":"AND(E561>=Kimutatás!B$2,E561<=Kimutatás!B$3)","v":true}]
[561,"Budapest Észak","002","Q1","2019-02-13","Lakossági számlanyitás",2,"db","2019-03-01","zsupan2",{"$f":"AND(E562>=Kimutatás!B$2,E562<=Kimutatás!B$3)","v":true}]
[562,"Budapest Észak","002","Q1","2019-02-13","KKV hitelnövekmény (db)",2,"db","2019-03-01","zsupan2",{"$f":"AND(E563>=Kimutatás!B$2,E563<=Kimutatás!B$3)","v":true}]
[563,"Budapest Észak","002","Q1","2019-02-13","KKV számlanyitás",0,"db","2019-03-01","zsupan2",{"$f":"AND(E564>=Kimutatás!B$2,E564<=Kimutatás!B$3)","v":true}]
[564,"Budapest Észak","002","Q1","2019-02-13","Betét állomány növekmény",48,"Mhuf","2019-03-01","zsupan2",{"$f":"AND(E565>=Kimutatás!B$2,E565<=Kimutatás!B$3)","v":true}]
[565,"Budapest Észak","002","Q1","2019-02-14","Betérő ügyfelek",14,"fő","2019-03-01","zsupan2",{"$f":"AND(E566>=Kimutatás!B$2,E566<=Kimutatás!B$3)","v":true}]
[566,"Budapest Észak","002","Q1","2019-02-14","Lakossági hitelnövekmény összege ",47,"Mhuf","2019-03-01","zsupan2",{"$f":"AND(E567>=Kimutatás!B$2,E567<=Kimutatás!B$3)","v":true}]
[567,"Budapest Észak","002","Q1","2019-02-14","Lakossági számlanyitás",5,"db","2019-03-01","zsupan2",{"$f":"AND(E568>=Kimutatás!B$2,E568<=Kimutatás!B$3)","v":true}]
[568,"Budapest Észak","002","Q1","2019-02-14","KKV hitelnövekmény (db)",0,"db","2019-03-01","zsupan2",{"$f":"AND(E569>=Kimutatás!B$2,E569<=Kimutatás!B$3)","v":true}]
[569,"Budapest Észak","002","Q1","2019-02-14","KKV számlanyitás",5,"db","2019-03-01","zsupan2",{"$f":"AND(E570>=Kimutatás!B$2,E570<=Kimutatás!B$3)","v":true}]
[570,"Budapest Észak","002","Q1","2019-02-14","Betét állomány növekmény",14,"Mhuf","2019-03-01","zsupan2",{"$f":"AND(E571>=Kimutatás!B$2,E571<=Kimutatás!B$3)","v":true}]
[571,"Budapest Észak","002","Q1","2019-02-17","Betérő ügyfelek",37,"fő","2019-03-01","zsupan2",{"$f":"AND(E572>=Kimutatás!B$2,E572<=Kimutatás!B$3)","v":true}]
[572,"Budapest Észak","002","Q1","2019-02-17","Lakossági hitelnövekmény összege ",3,"Mhuf","2019-03-01","zsupan2",{"$f":"AND(E573>=Kimutatás!B$2,E573<=Kimutatás!B$3)","v":true}]
[573,"Budapest Észak","002","Q1","2019-02-17","Lakossági számlanyitás",-4,"db","2019-03-01","zsupan2",{"$f":"AND(E574>=Kimutatás!B$2,E574<=Kimutatás!B$3)","v":true}]
[574,"Budapest Észak","002","Q1","2019-02-17","KKV hitelnövekmény (db)",1,"db","2019-03-01","zsupan2",{"$f":"AND(E575>=Kimutatás!B$2,E575<=Kimutatás!B$3)","v":true}]
[575,"Budapest Észak","002","Q1","2019-02-17","KKV számlanyitás",3,"db","2019-03-01","zsupan2",{"$f":"AND(E576>=Kimutatás!B$2,E576<=Kimutatás!B$3)","v":true}]
[576,"Budapest Észak","002","Q1","2019-02-17","Betét állomány növekmény",11,"Mhuf","2019-03-01","zsupan2",{"$f":"AND(E577>=Kimutatás!B$2,E577<=Kimutatás!B$3)","v":true}]
[577,"Budapest Észak","002","Q1","2019-02-18","Betérő ügyfelek",6,"fő","2019-03-01","zsupan2",{"$f":"AND(E578>=Kimutatás!B$2,E578<=Kimutatás!B$3)","v":true}]
[578,"Budapest Észak","002","Q1","2019-02-18","Lakossági hitelnövekmény összege ",13,"Mhuf","2019-03-01","zsupan2",{"$f":"AND(E579>=Kimutatás!B$2,E579<=Kimutatás!B$3)","v":true}]
[579,"Budapest Észak","002","Q1","2019-02-18","Lakossági számlanyitás",-1,"db","2019-03-01","zsupan2",{"$f":"AND(E580>=Kimutatás!B$2,E580<=Kimutatás!B$3)","v":true}]
[580,"Budapest Észak","002","Q1","2019-02-18","KKV hitelnövekmény (db)",2,"db","2019-03-01","zsupan2",{"$f":"AND(E581>=Kimutatás!B$2,E581<=Kimutatás!B$3)","v":true}]
[581,"Budapest Észak","002","Q1","2019-02-18","KKV számlanyitás",0,"db","2019-03-01","zsupan2",{"$f":"AND(E582>=Kimutatás!B$2,E582<=Kimutatás!B$3)","v":true}]
[582,"Budapest Észak","002","Q1","2019-02-18","Betét állomány növekmény",9,"Mhuf","2019-03-01","zsupan2",{"$f":"AND(E583>=Kimutatás!B$2,E583<=Kimutatás!B$3)","v":true}]
[583,"Budapest Észak","002","Q1","2019-02-19","Betérő ügyfelek",4,"fő","2019-03-01","zsupan2",{"$f":"AND(E584>=Kimutatás!B$2,E584<=Kimutatás!B$3)","v":true}]
[584,"Budapest Észak","002","Q1","2019-02-19","Lakossági hitelnövekmény összege ",1,"Mhuf","2019-03-01","zsupan2",{"$f":"AND(E585>=Kimutatás!B$2,E585<=Kimutatás!B$3)","v":true}]
[585,"Budapest Észak","002","Q1","2019-02-19","Lakossági számlanyitás",-3,"db","2019-03-01","zsupan2",{"$f":"AND(E586>=Kimutatás!B$2,E586<=Kimutatás!B$3)","v":true}]
[586,"Budapest Észak","002","Q1","2019-02-19","KKV hitelnövekmény (db)",2,"db","2019-03-01","zsupan2",{"$f":"AND(E587>=Kimutatás!B$2,E587<=Kimutatás!B$3)","v":true}]
[587,"Budapest Észak","002","Q1","2019-02-19","KKV számlanyitás",-1,"db","2019-03-01","zsupan2",{"$f":"AND(E588>=Kimutatás!B$2,E588<=Kimutatás!B$3)","v":true}]
[588,"Budapest Észak","002","Q1","2019-02-19","Betét állomány növekmény",-10,"Mhuf","2019-03-01","zsupan2",{"$f":"AND(E589>=Kimutatás!B$2,E589<=Kimutatás!B$3)","v":true}]
[589,"Budapest Észak","002","Q1","2019-02-20","Betérő ügyfelek",8,"fő","2019-03-01","zsupan2",{"$f":"AND(E590>=Kimutatás!B$2,E590<=Kimutatás!B$3)","v":true}]
[590,"Budapest Észak","002","Q1","2019-02-20","Lakossági hitelnövekmény összege ",46,"Mhuf","2019-03-01","zsupan2",{"$f":"AND(E591>=Kimutatás!B$2,E591<=Kimutatás!B$3)","v":true}]
[591,"Budapest Észak","002","Q1","2019-02-20","Lakossági számlanyitás",0,"db","2019-03-01","zsupan2",{"$f":"AND(E592>=Kimutatás!B$2,E592<=Kimutatás!B$3)","v":true}]
[592,"Budapest Észak","002","Q1","2019-02-20","KKV hitelnövekmény (db)",-1,"db","2019-03-01","zsupan2",{"$f":"AND(E593>=Kimutatás!B$2,E593<=Kimutatás!B$3)","v":true}]
[593,"Budapest Észak","002","Q1","2019-02-20","KKV számlanyitás",-1,"db","2019-03-01","zsupan2",{"$f":"AND(E594>=Kimutatás!B$2,E594<=Kimutatás!B$3)","v":true}]
[594,"Budapest Észak","002","Q1","2019-02-20","Betét állomány növekmény",47,"Mhuf","2019-03-01","zsupan2",{"$f":"AND(E595>=Kimutatás!B$2,E595<=Kimutatás!B$3)","v":true}]
[595,"Budapest Észak","002","Q1","2019-02-21","Betérő ügyfelek",3,"fő","2019-03-01","zsupan2",{"$f":"AND(E596>=Kimutatás!B$2,E596<=Kimutatás!B$3)","v":true}]
[596,"Budapest Észak","002","Q1","2019-02-21","Lakossági hitelnövekmény összege ",36,"Mhuf","2019-03-01","zsupan2",{"$f":"AND(E597>=Kimutatás!B$2,E597<=Kimutatás!B$3)","v":true}]
[597,"Budapest Észak","002","Q1","2019-02-21","Lakossági számlanyitás",7,"db","2019-03-01","zsupan2",{"$f":"AND(E598>=Kimutatás!B$2,E598<=Kimutatás!B$3)","v":true}]
[598,"Budapest Észak","002","Q1","2019-02-21","KKV hitelnövekmény (db)",1,"db","2019-03-01","zsupan2",{"$f":"AND(E599>=Kimutatás!B$2,E599<=Kimutatás!B$3)","v":true}]
[599,"Budapest Észak","002","Q1","2019-02-21","KKV számlanyitás",-4,"db","2019-03-01","zsupan2",{"$f":"AND(E600>=Kimutatás!B$2,E600<=Kimutatás!B$3)","v":true}]
[600,"Budapest Észak","002","Q1","2019-02-21","Betét állomány növekmény",34,"Mhuf","2019-03-01","zsupan2",{"$f":"AND(E601>=Kimutatás!B$2,E601<=Kimutatás!B$3)","v":true}]
[601,"Budapest Észak","002","Q1","2019-02-24","Betérő ügyfelek",26,"fő","2019-03-01","zsupan2",{"$f":"AND(E602>=Kimutatás!B$2,E602<=Kimutatás!B$3)","v":true}]
[602,"Budapest Észak","002","Q1","2019-02-24","Lakossági hitelnövekmény összege ",21,"Mhuf","2019-03-01","zsupan2",{"$f":"AND(E603>=Kimutatás!B$2,E603<=Kimutatás!B$3)","v":true}]
[603,"Budapest Észak","002","Q1","2019-02-24","Lakossági számlanyitás",6,"db","2019-03-01","zsupan2",{"$f":"AND(E604>=Kimutatás!B$2,E604<=Kimutatás!B$3)","v":true}]
[604,"Budapest Észak","002","Q1","2019-02-24","KKV hitelnövekmény (db)",0,"db","2019-03-01","zsupan2",{"$f":"AND(E605>=Kimutatás!B$2,E605<=Kimutatás!B$3)","v":true}]
[605,"Budapest Észak","002","Q1","2019-02-24","KKV számlanyitás",5,"db","2019-03-01","zsupan2",{"$f":"AND(E606>=Kimutatás!B$2,E606<=Kimutatás!B$3)","v":true}]
[606,"Budapest Észak","002","Q1","2019-02-24","Betét állomány növekmény",-3,"Mhuf","2019-03-01","zsupan2",{"$f":"AND(E607>=Kimutatás!B$2,E607<=Kimutatás!B$3)","v":true}]
[607,"Budapest Észak","002","Q1","2019-02-25","Betérő ügyfelek",27,"fő","2019-03-01","zsupan2",{"$f":"AND(E608>=Kimutatás!B$2,E608<=Kimutatás!B$3)","v":true}]
[608,"Budapest Észak","002","Q1","2019-02-25","Lakossági hitelnövekmény összege ",34,"Mhuf","2019-03-01","zsupan2",{"$f":"AND(E609>=Kimutatás!B$2,E609<=Kimutatás!B$3)","v":true}]
[609,"Budapest Észak","002","Q1","2019-02-25","Lakossági számlanyitás",10,"db","2019-03-01","zsupan2",{"$f":"AND(E610>=Kimutatás!B$2,E610<=Kimutatás!B$3)","v":true}]
[610,"Budapest Észak","002","Q1","2019-02-25","KKV hitelnövekmény (db)",2,"db","2019-03-01","zsupan2",{"$f":"AND(E611>=Kimutatás!B$2,E611<=Kimutatás!B$3)","v":true}]
[611,"Budapest Észak","002","Q1","2019-02-25","KKV számlanyitás",4,"db","2019-03-01","zsupan2",{"$f":"AND(E612>=Kimutatás!B$2,E612<=Kimutatás!B$3)","v":true}]
[612,"Budapest Észak","002","Q1","2019-02-25","Betét állomány növekmény",-4,"Mhuf","2019-03-01","zsupan2",{"$f":"AND(E613>=Kimutatás!B$2,E613<=Kimutatás!B$3)","v":true}]
[613,"Budapest Észak","002","Q1","2019-02-26","Betérő ügyfelek",39,"fő","2019-03-01","zsupan2",{"$f":"AND(E614>=Kimutatás!B$2,E614<=Kimutatás!B$3)","v":true}]
[614,"Budapest Észak","002","Q1","2019-02-26","Lakossági hitelnövekmény összege ",50,"Mhuf","2019-03-01","zsupan2",{"$f":"AND(E615>=Kimutatás!B$2,E615<=Kimutatás!B$3)","v":true}]
[615,"Budapest Észak","002","Q1","2019-02-26","Lakossági számlanyitás",0,"db","2019-03-01","zsupan2",{"$f":"AND(E616>=Kimutatás!B$2,E616<=Kimutatás!B$3)","v":true}]
[616,"Budapest Észak","002","Q1","2019-02-26","KKV hitelnövekmény (db)",2,"db","2019-03-01","zsupan2",{"$f":"AND(E617>=Kimutatás!B$2,E617<=Kimutatás!B$3)","v":true}]
[617,"Budapest Észak","002","Q1","2019-02-26","KKV számlanyitás",-5,"db","2019-03-01","zsupan2",{"$f":"AND(E618>=Kimutatás!B$2,E618<=Kimutatás!B$3)","v":true}]
[618,"Budapest Észak","002","Q1","2019-02-26","Betét állomány növekmény",23,"Mhuf","2019-03-01","zsupan2",{"$f":"AND(E619>=Kimutatás!B$2,E619<=Kimutatás!B$3)","v":true}]
[619,"Budapest Észak","002","Q1","2019-02-27","Betérő ügyfelek",21,"fő","2019-03-01","zsupan2",{"$f":"AND(E620>=Kimutatás!B$2,E620<=Kimutatás!B$3)","v":true}]
[620,"Budapest Észak","002","Q1","2019-02-27","Lakossági hitelnövekmény összege ",27,"Mhuf","2019-03-01","zsupan2",{"$f":"AND(E621>=Kimutatás!B$2,E621<=Kimutatás!B$3)","v":true}]
[621,"Budapest Észak","002","Q1","2019-02-27","Lakossági számlanyitás",-5,"db","2019-03-01","zsupan2",{"$f":"AND(E622>=Kimutatás!B$2,E622<=Kimutatás!B$3)","v":true}]
[622,"Budapest Észak","002","Q1","2019-02-27","KKV hitelnövekmény (db)",-2,"db","2019-03-01","zsupan2",{"$f":"AND(E623>=Kimutatás!B$2,E623<=Kimutatás!B$3)","v":true}]
[623,"Budapest Észak","002","Q1","2019-02-27","KKV számlanyitás",-3,"db","2019-03-01","zsupan2",{"$f":"AND(E624>=Kimutatás!B$2,E624<=Kimutatás!B$3)","v":true}]
[624,"Budapest Észak","002","Q1","2019-02-27","Betét állomány növekmény",41,"Mhuf","2019-03-01","zsupan2",{"$f":"AND(E625>=Kimutatás!B$2,E625<=Kimutatás!B$3)","v":true}]
[625,"Budapest Észak","002","Q1","2019-02-28","Betérő ügyfelek",3,"fő","2019-03-01","zsupan2",{"$f":"AND(E626>=Kimutatás!B$2,E626<=Kimutatás!B$3)","v":true}]
[626,"Budapest Észak","002","Q1","2019-02-28","Lakossági hitelnövekmény összege ",20,"Mhuf","2019-03-01","zsupan2",{"$f":"AND(E627>=Kimutatás!B$2,E627<=Kimutatás!B$3)","v":true}]
[627,"Budapest Észak","002","Q1","2019-02-28","Lakossági számlanyitás",8,"db","2019-03-01","zsupan2",{"$f":"AND(E628>=Kimutatás!B$2,E628<=Kimutatás!B$3)","v":true}]
[628,"Budapest Észak","002","Q1","2019-02-28","KKV hitelnövekmény (db)",-2,"db","2019-03-01","zsupan2",{"$f":"AND(E629>=Kimutatás!B$2,E629<=Kimutatás!B$3)","v":true}]
[629,"Budapest Észak","002","Q1","2019-02-28","KKV számlanyitás",5,"db","2019-03-01","zsupan2",{"$f":"AND(E630>=Kimutatás!B$2,E630<=Kimutatás!B$3)","v":true}]
[630,"Budapest Észak","002","Q1","2019-02-28","Betét állomány növekmény",-20,"Mhuf","2019-03-01","zsupan2",{"$f":"AND(E631>=Kimutatás!B$2,E631<=Kimutatás!B$3)","v":true}]
[631,"Budapest Észak","002","Q1","2019-03-03","Betérő ügyfelek",24,"fő","2019-04-01","horvath33",{"$f":"AND(E632>=Kimutatás!B$2,E632<=Kimutatás!B$3)","v":true}]
[632,"Budapest Észak","002","Q1","2019-03-03","Lakossági hitelnövekmény összege ",2,"Mhuf","2019-04-01","horvath33",{"$f":"AND(E633>=Kimutatás!B$2,E633<=Kimutatás!B$3)","v":true}]
[633,"Budapest Észak","002","Q1","2019-03-03","Lakossági számlanyitás",0,"db","2019-04-01","horvath33",{"$f":"AND(E634>=Kimutatás!B$2,E634<=Kimutatás!B$3)","v":true}]
[634,"Budapest Észak","002","Q1","2019-03-03","KKV hitelnövekmény (db)",2,"db","2019-04-01","horvath33",{"$f":"AND(E635>=Kimutatás!B$2,E635<=Kimutatás!B$3)","v":true}]
[635,"Budapest Észak","002","Q1","2019-03-03","KKV számlanyitás",-2,"db","2019-04-01","horvath33",{"$f":"AND(E636>=Kimutatás!B$2,E636<=Kimutatás!B$3)","v":true}]
[636,"Budapest Észak","002","Q1","2019-03-03","Betét állomány növekmény",-6,"Mhuf","2019-04-01","horvath33",{"$f":"AND(E637>=Kimutatás!B$2,E637<=Kimutatás!B$3)","v":true}]
[637,"Budapest Észak","002","Q1","2019-03-04","Betérő ügyfelek",35,"fő","2019-04-01","horvath33",{"$f":"AND(E638>=Kimutatás!B$2,E638<=Kimutatás!B$3)","v":true}]
[638,"Budapest Észak","002","Q1","2019-03-04","Lakossági hitelnövekmény összege ",-5,"Mhuf","2019-04-01","horvath33",{"$f":"AND(E639>=Kimutatás!B$2,E639<=Kimutatás!B$3)","v":true}]
[639,"Budapest Észak","002","Q1","2019-03-04","Lakossági számlanyitás",-5,"db","2019-04-01","horvath33",{"$f":"AND(E640>=Kimutatás!B$2,E640<=Kimutatás!B$3)","v":true}]
[640,"Budapest Észak","002","Q1","2019-03-04","KKV hitelnövekmény (db)",-2,"db","2019-04-01","horvath33",{"$f":"AND(E641>=Kimutatás!B$2,E641<=Kimutatás!B$3)","v":true}]
[641,"Budapest Észak","002","Q1","2019-03-04","KKV számlanyitás",5,"db","2019-04-01","horvath33",{"$f":"AND(E642>=Kimutatás!B$2,E642<=Kimutatás!B$3)","v":true}]
[642,"Budapest Észak","002","Q1","2019-03-04","Betét állomány növekmény",23,"Mhuf","2019-04-01","horvath33",{"$f":"AND(E643>=Kimutatás!B$2,E643<=Kimutatás!B$3)","v":true}]
[643,"Budapest Észak","002","Q1","2019-03-05","Betérő ügyfelek",3,"fő","2019-04-01","horvath33",{"$f":"AND(E644>=Kimutatás!B$2,E644<=Kimutatás!B$3)","v":true}]
[644,"Budapest Észak","002","Q1","2019-03-05","Lakossági hitelnövekmény összege ",2,"Mhuf","2019-04-01","horvath33",{"$f":"AND(E645>=Kimutatás!B$2,E645<=Kimutatás!B$3)","v":true}]
[645,"Budapest Észak","002","Q1","2019-03-05","Lakossági számlanyitás",0,"db","2019-04-01","horvath33",{"$f":"AND(E646>=Kimutatás!B$2,E646<=Kimutatás!B$3)","v":true}]
[646,"Budapest Észak","002","Q1","2019-03-05","KKV hitelnövekmény (db)",2,"db","2019-04-01","horvath33",{"$f":"AND(E647>=Kimutatás!B$2,E647<=Kimutatás!B$3)","v":true}]
[647,"Budapest Észak","002","Q1","2019-03-05","KKV számlanyitás",2,"db","2019-04-01","horvath33",{"$f":"AND(E648>=Kimutatás!B$2,E648<=Kimutatás!B$3)","v":true}]
[648,"Budapest Észak","002","Q1","2019-03-05","Betét állomány növekmény",6,"Mhuf","2019-04-01","horvath33",{"$f":"AND(E649>=Kimutatás!B$2,E649<=Kimutatás!B$3)","v":true}]
[649,"Budapest Észak","002","Q1","2019-03-06","Betérő ügyfelek",46,"fő","2019-04-01","horvath33",{"$f":"AND(E650>=Kimutatás!B$2,E650<=Kimutatás!B$3)","v":true}]
[650,"Budapest Észak","002","Q1","2019-03-06","Lakossági hitelnövekmény összege ",-4,"Mhuf","2019-04-01","horvath33",{"$f":"AND(E651>=Kimutatás!B$2,E651<=Kimutatás!B$3)","v":true}]
[651,"Budapest Észak","002","Q1","2019-03-06","Lakossági számlanyitás",9,"db","2019-04-01","horvath33",{"$f":"AND(E652>=Kimutatás!B$2,E652<=Kimutatás!B$3)","v":true}]
[652,"Budapest Észak","002","Q1","2019-03-06","KKV hitelnövekmény (db)",2,"db","2019-04-01","horvath33",{"$f":"AND(E653>=Kimutatás!B$2,E653<=Kimutatás!B$3)","v":true}]
[653,"Budapest Észak","002","Q1","2019-03-06","KKV számlanyitás",-1,"db","2019-04-01","horvath33",{"$f":"AND(E654>=Kimutatás!B$2,E654<=Kimutatás!B$3)","v":true}]
[654,"Budapest Észak","002","Q1","2019-03-06","Betét állomány növekmény",45,"Mhuf","2019-04-01","horvath33",{"$f":"AND(E655>=Kimutatás!B$2,E655<=Kimutatás!B$3)","v":true}]
[655,"Budapest Észak","002","Q1","2019-03-07","Betérő ügyfelek",31,"fő","2019-04-01","horvath33",{"$f":"AND(E656>=Kimutatás!B$2,E656<=Kimutatás!B$3)","v":true}]
[656,"Budapest Észak","002","Q1","2019-03-07","Lakossági hitelnövekmény összege ",-7,"Mhuf","2019-04-01","horvath33",{"$f":"AND(E657>=Kimutatás!B$2,E657<=Kimutatás!B$3)","v":true}]
[657,"Budapest Észak","002","Q1","2019-03-07","Lakossági számlanyitás",-1,"db","2019-04-01","horvath33",{"$f":"AND(E658>=Kimutatás!B$2,E658<=Kimutatás!B$3)","v":true}]
[658,"Budapest Észak","002","Q1","2019-03-07","KKV hitelnövekmény (db)",2,"db","2019-04-01","horvath33",{"$f":"AND(E659>=Kimutatás!B$2,E659<=Kimutatás!B$3)","v":true}]
[659,"Budapest Észak","002","Q1","2019-03-07","KKV számlanyitás",1,"db","2019-04-01","horvath33",{"$f":"AND(E660>=Kimutatás!B$2,E660<=Kimutatás!B$3)","v":true}]
[660,"Budapest Észak","002","Q1","2019-03-07","Betét állomány növekmény",18,"Mhuf","2019-04-01","horvath33",{"$f":"AND(E661>=Kimutatás!B$2,E661<=Kimutatás!B$3)","v":true}]
[661,"Budapest Észak","002","Q1","2019-03-10","Betérő ügyfelek",50,"fő","2019-04-01","horvath33",{"$f":"AND(E662>=Kimutatás!B$2,E662<=Kimutatás!B$3)","v":true}]
[662,"Budapest Észak","002","Q1","2019-03-10","Lakossági hitelnövekmény összege ",27,"Mhuf","2019-04-01","horvath33",{"$f":"AND(E663>=Kimutatás!B$2,E663<=Kimutatás!B$3)","v":true}]
[663,"Budapest Észak","002","Q1","2019-03-10","Lakossági számlanyitás",1,"db","2019-04-01","horvath33",{"$f":"AND(E664>=Kimutatás!B$2,E664<=Kimutatás!B$3)","v":true}]
[664,"Budapest Észak","002","Q1","2019-03-10","KKV hitelnövekmény (db)",1,"db","2019-04-01","horvath33",{"$f":"AND(E665>=Kimutatás!B$2,E665<=Kimutatás!B$3)","v":true}]
[665,"Budapest Észak","002","Q1","2019-03-10","KKV számlanyitás",1,"db","2019-04-01","horvath33",{"$f":"AND(E666>=Kimutatás!B$2,E666<=Kimutatás!B$3)","v":true}]
[666,"Budapest Észak","002","Q1","2019-03-10","Betét állomány növekmény",20,"Mhuf","2019-04-01","horvath33",{"$f":"AND(E667>=Kimutatás!B$2,E667<=Kimutatás!B$3)","v":true}]
[667,"Budapest Észak","002","Q1","2019-03-11","Betérő ügyfelek",9,"fő","2019-04-01","horvath33",{"$f":"AND(E668>=Kimutatás!B$2,E668<=Kimutatás!B$3)","v":false}]
[668,"Budapest Észak","002","Q1","2019-03-11","Lakossági hitelnövekmény összege ",23,"Mhuf","2019-04-01","horvath33",{"$f":"AND(E669>=Kimutatás!B$2,E669<=Kimutatás!B$3)","v":false}]
[669,"Budapest Észak","002","Q1","2019-03-11","Lakossági számlanyitás",0,"db","2019-04-01","horvath33",{"$f":"AND(E670>=Kimutatás!B$2,E670<=Kimutatás!B$3)","v":false}]
[670,"Budapest Észak","002","Q1","2019-03-11","KKV hitelnövekmény (db)",-1,"db","2019-04-01","horvath33",{"$f":"AND(E671>=Kimutatás!B$2,E671<=Kimutatás!B$3)","v":false}]
[671,"Budapest Észak","002","Q1","2019-03-11","KKV számlanyitás",2,"db","2019-04-01","horvath33",{"$f":"AND(E672>=Kimutatás!B$2,E672<=Kimutatás!B$3)","v":false}]
[672,"Budapest Észak","002","Q1","2019-03-11","Betét állomány növekmény",-11,"Mhuf","2019-04-01","horvath33",{"$f":"AND(E673>=Kimutatás!B$2,E673<=Kimutatás!B$3)","v":false}]
[673,"Budapest Észak","002","Q1","2019-03-12","Betérő ügyfelek",39,"fő","2019-04-01","horvath33",{"$f":"AND(E674>=Kimutatás!B$2,E674<=Kimutatás!B$3)","v":false}]
[674,"Budapest Észak","002","Q1","2019-03-12","Lakossági hitelnövekmény összege ",8,"Mhuf","2019-04-01","horvath33",{"$f":"AND(E675>=Kimutatás!B$2,E675<=Kimutatás!B$3)","v":false}]
[675,"Budapest Észak","002","Q1","2019-03-12","Lakossági számlanyitás",7,"db","2019-04-01","horvath33",{"$f":"AND(E676>=Kimutatás!B$2,E676<=Kimutatás!B$3)","v":false}]
[676,"Budapest Észak","002","Q1","2019-03-12","KKV hitelnövekmény (db)",-2,"db","2019-04-01","horvath33",{"$f":"AND(E677>=Kimutatás!B$2,E677<=Kimutatás!B$3)","v":false}]
[677,"Budapest Észak","002","Q1","2019-03-12","KKV számlanyitás",0,"db","2019-04-01","horvath33",{"$f":"AND(E678>=Kimutatás!B$2,E678<=Kimutatás!B$3)","v":false}]
[678,"Budapest Észak","002","Q1","2019-03-12","Betét állomány növekmény",-16,"Mhuf","2019-04-01","horvath33",{"$f":"AND(E679>=Kimutatás!B$2,E679<=Kimutatás!B$3)","v":false}]
[679,"Budapest Észak","002","Q1","2019-03-13","Betérő ügyfelek",6,"fő","2019-04-01","horvath33",{"$f":"AND(E680>=Kimutatás!B$2,E680<=Kimutatás!B$3)","v":false}]
[680,"Budapest Észak","002","Q1","2019-03-13","Lakossági hitelnövekmény összege ",-5,"Mhuf","2019-04-01","horvath33",{"$f":"AND(E681>=Kimutatás!B$2,E681<=Kimutatás!B$3)","v":false}]
[681,"Budapest Észak","002","Q1","2019-03-13","Lakossági számlanyitás",1,"db","2019-04-01","horvath33",{"$f":"AND(E682>=Kimutatás!B$2,E682<=Kimutatás!B$3)","v":false}]
[682,"Budapest Észak","002","Q1","2019-03-13","KKV hitelnövekmény (db)",2,"db","2019-04-01","horvath33",{"$f":"AND(E683>=Kimutatás!B$2,E683<=Kimutatás!B$3)","v":false}]
[683,"Budapest Észak","002","Q1","2019-03-13","KKV számlanyitás",2,"db","2019-04-01","horvath33",{"$f":"AND(E684>=Kimutatás!B$2,E684<=Kimutatás!B$3)","v":false}]
[684,"Budapest Észak","002","Q1","2019-03-13","Betét állomány növekmény",42,"Mhuf","2019-04-01","horvath33",{"$f":"AND(E685>=Kimutatás!B$2,E685<=Kimutatás!B$3)","v":false}]
[685,"Budapest Észak","002","Q1","2019-03-14","Betérő ügyfelek",30,"fő","2019-04-01","horvath33",{"$f":"AND(E686>=Kimutatás!B$2,E686<=Kimutatás!B$3)","v":false}]
[686,"Budapest Észak","002","Q1","2019-03-14","Lakossági hitelnövekmény összege ",-4,"Mhuf","2019-04-01","horvath33",{"$f":"AND(E687>=Kimutatás!B$2,E687<=Kimutatás!B$3)","v":false}]
[687,"Budapest Észak","002","Q1","2019-03-14","Lakossági számlanyitás",9,"db","2019-04-01","horvath33",{"$f":"AND(E688>=Kimutatás!B$2,E688<=Kimutatás!B$3)","v":false}]
[688,"Budapest Észak","002","Q1","2019-03-14","KKV hitelnövekmény (db)",0,"db","2019-04-01","horvath33",{"$f":"AND(E689>=Kimutatás!B$2,E689<=Kimutatás!B$3)","v":false}]
[689,"Budapest Észak","002","Q1","2019-03-14","KKV számlanyitás",2,"db","2019-04-01","horvath33",{"$f":"AND(E690>=Kimutatás!B$2,E690<=Kimutatás!B$3)","v":false}]
[690,"Budapest Észak","002","Q1","2019-03-14","Betét állomány növekmény",7,"Mhuf","2019-04-01","horvath33",{"$f":"AND(E691>=Kimutatás!B$2,E691<=Kimutatás!B$3)","v":false}]
[691,"Budapest Észak","002","Q1","2019-03-17","Betérő ügyfelek",1,"fő","2019-04-01","horvath33",{"$f":"AND(E692>=Kimutatás!B$2,E692<=Kimutatás!B$3)","v":false}]
[692,"Budapest Észak","002","Q1","2019-03-17","Lakossági hitelnövekmény összege ",39,"Mhuf","2019-04-01","horvath33",{"$f":"AND(E693>=Kimutatás!B$2,E693<=Kimutatás!B$3)","v":false}]
[693,"Budapest Észak","002","Q1","2019-03-17","Lakossági számlanyitás",5,"db","2019-04-01","horvath33",{"$f":"AND(E694>=Kimutatás!B$2,E694<=Kimutatás!B$3)","v":false}]
[694,"Budapest Észak","002","Q1","2019-03-17","KKV hitelnövekmény (db)",2,"db","2019-04-01","horvath33",{"$f":"AND(E695>=Kimutatás!B$2,E695<=Kimutatás!B$3)","v":false}]
[695,"Budapest Észak","002","Q1","2019-03-17","KKV számlanyitás",-2,"db","2019-04-01","horvath33",{"$f":"AND(E696>=Kimutatás!B$2,E696<=Kimutatás!B$3)","v":false}]
[696,"Budapest Észak","002","Q1","2019-03-17","Betét állomány növekmény",38,"Mhuf","2019-04-01","horvath33",{"$f":"AND(E697>=Kimutatás!B$2,E697<=Kimutatás!B$3)","v":false}]
[697,"Budapest Észak","002","Q1","2019-03-18","Betérő ügyfelek",14,"fő","2019-04-01","horvath33",{"$f":"AND(E698>=Kimutatás!B$2,E698<=Kimutatás!B$3)","v":false}]
[698,"Budapest Észak","002","Q1","2019-03-18","Lakossági hitelnövekmény összege ",25,"Mhuf","2019-04-01","horvath33",{"$f":"AND(E699>=Kimutatás!B$2,E699<=Kimutatás!B$3)","v":false}]
[699,"Budapest Észak","002","Q1","2019-03-18","Lakossági számlanyitás",-5,"db","2019-04-01","horvath33",{"$f":"AND(E700>=Kimutatás!B$2,E700<=Kimutatás!B$3)","v":false}]
[700,"Budapest Észak","002","Q1","2019-03-18","KKV hitelnövekmény (db)",-2,"db","2019-04-01","horvath33",{"$f":"AND(E701>=Kimutatás!B$2,E701<=Kimutatás!B$3)","v":false}]
[701,"Budapest Észak","002","Q1","2019-03-18","KKV számlanyitás",3,"db","2019-04-01","horvath33",{"$f":"AND(E702>=Kimutatás!B$2,E702<=Kimutatás!B$3)","v":false}]
[702,"Budapest Észak","002","Q1","2019-03-18","Betét állomány növekmény",-11,"Mhuf","2019-04-01","horvath33",{"$f":"AND(E703>=Kimutatás!B$2,E703<=Kimutatás!B$3)","v":false}]
[703,"Budapest Észak","002","Q1","2019-03-19","Betérő ügyfelek",38,"fő","2019-04-01","horvath33",{"$f":"AND(E704>=Kimutatás!B$2,E704<=Kimutatás!B$3)","v":false}]
[704,"Budapest Észak","002","Q1","2019-03-19","Lakossági hitelnövekmény összege ",26,"Mhuf","2019-04-01","horvath33",{"$f":"AND(E705>=Kimutatás!B$2,E705<=Kimutatás!B$3)","v":false}]
[705,"Budapest Észak","002","Q1","2019-03-19","Lakossági számlanyitás",-5,"db","2019-04-01","horvath33",{"$f":"AND(E706>=Kimutatás!B$2,E706<=Kimutatás!B$3)","v":false}]
[706,"Budapest Észak","002","Q1","2019-03-19","KKV hitelnövekmény (db)",-2,"db","2019-04-01","horvath33",{"$f":"AND(E707>=Kimutatás!B$2,E707<=Kimutatás!B$3)","v":false}]
[707,"Budapest Észak","002","Q1","2019-03-19","KKV számlanyitás",-5,"db","2019-04-01","horvath33",{"$f":"AND(E708>=Kimutatás!B$2,E708<=Kimutatás!B$3)","v":false}]
[708,"Budapest Észak","002","Q1","2019-03-19","Betét állomány növekmény",-4,"Mhuf","2019-04-01","horvath33",{"$f":"AND(E709>=Kimutatás!B$2,E709<=Kimutatás!B$3)","v":false}]
[709,"Budapest Észak","002","Q1","2019-03-20","Betérő ügyfelek",42,"fő","2019-04-01","horvath33",{"$f":"AND(E710>=Kimutatás!B$2,E710<=Kimutatás!B$3)","v":false}]
[710,"Budapest Észak","002","Q1","2019-03-20","Lakossági hitelnövekmény összege ",37,"Mhuf","2019-04-01","horvath33",{"$f":"AND(E711>=Kimutatás!B$2,E711<=Kimutatás!B$3)","v":false}]
[711,"Budapest Észak","002","Q1","2019-03-20","Lakossági számlanyitás",7,"db","2019-04-01","horvath33",{"$f":"AND(E712>=Kimutatás!B$2,E712<=Kimutatás!B$3)","v":false}]
[712,"Budapest Észak","002","Q1","2019-03-20","KKV hitelnövekmény (db)",-1,"db","2019-04-01","horvath33",{"$f":"AND(E713>=Kimutatás!B$2,E713<=Kimutatás!B$3)","v":false}]
[713,"Budapest Észak","002","Q1","2019-03-20","KKV számlanyitás",-1,"db","2019-04-01","horvath33",{"$f":"AND(E714>=Kimutatás!B$2,E714<=Kimutatás!B$3)","v":false}]
[714,"Budapest Észak","002","Q1","2019-03-20","Betét állomány növekmény",-5,"Mhuf","2019-04-01","horvath33",{"$f":"AND(E715>=Kimutatás!B$2,E715<=Kimutatás!B$3)","v":false}]
[715,"Budapest Észak","002","Q1","2019-03-21","Betérő ügyfelek",17,"fő","2019-04-01","horvath33",{"$f":"AND(E716>=Kimutatás!B$2,E716<=Kimutatás!B$3)","v":false}]
[716,"Budapest Észak","002","Q1","2019-03-21","Lakossági hitelnövekmény összege ",46,"Mhuf","2019-04-01","horvath33",{"$f":"AND(E717>=Kimutatás!B$2,E717<=Kimutatás!B$3)","v":false}]
[717,"Budapest Észak","002","Q1","2019-03-21","Lakossági számlanyitás",4,"db","2019-04-01","horvath33",{"$f":"AND(E718>=Kimutatás!B$2,E718<=Kimutatás!B$3)","v":false}]
[718,"Budapest Észak","002","Q1","2019-03-21","KKV hitelnövekmény (db)",-2,"db","2019-04-01","horvath33",{"$f":"AND(E719>=Kimutatás!B$2,E719<=Kimutatás!B$3)","v":false}]
[719,"Budapest Észak","002","Q1","2019-03-21","KKV számlanyitás",-1,"db","2019-04-01","horvath33",{"$f":"AND(E720>=Kimutatás!B$2,E720<=Kimutatás!B$3)","v":false}]
[720,"Budapest Észak","002","Q1","2019-03-21","Betét állomány növekmény",26,"Mhuf","2019-04-01","horvath33",{"$f":"AND(E721>=Kimutatás!B$2,E721<=Kimutatás!B$3)","v":false}]
[721,"Budapest Észak","002","Q1","2019-03-24","Betérő ügyfelek",19,"fő","2019-04-01","horvath33",{"$f":"AND(E722>=Kimutatás!B$2,E722<=Kimutatás!B$3)","v":false}]
[722,"Budapest Észak","002","Q1","2019-03-24","Lakossági hitelnövekmény összege ",13,"Mhuf","2019-04-01","horvath33",{"$f":"AND(E723>=Kimutatás!B$2,E723<=Kimutatás!B$3)","v":false}]
[723,"Budapest Észak","002","Q1","2019-03-24","Lakossági számlanyitás",-3,"db","2019-04-01","horvath33",{"$f":"AND(E724>=Kimutatás!B$2,E724<=Kimutatás!B$3)","v":false}]
[724,"Budapest Észak","002","Q1","2019-03-24","KKV hitelnövekmény (db)",-1,"db","2019-04-01","horvath33",{"$f":"AND(E725>=Kimutatás!B$2,E725<=Kimutatás!B$3)","v":false}]
[725,"Budapest Észak","002","Q1","2019-03-24","KKV számlanyitás",0,"db","2019-04-01","horvath33",{"$f":"AND(E726>=Kimutatás!B$2,E726<=Kimutatás!B$3)","v":false}]
[726,"Budapest Észak","002","Q1","2019-03-24","Betét állomány növekmény",-20,"Mhuf","2019-04-01","horvath33",{"$f":"AND(E727>=Kimutatás!B$2,E727<=Kimutatás!B$3)","v":false}]
[727,"Budapest Észak","002","Q1","2019-03-25","Betérő ügyfelek",18,"fő","2019-04-01","horvath33",{"$f":"AND(E728>=Kimutatás!B$2,E728<=Kimutatás!B$3)","v":false}]
[728,"Budapest Észak","002","Q1","2019-03-25","Lakossági hitelnövekmény összege ",39,"Mhuf","2019-04-01","horvath33",{"$f":"AND(E729>=Kimutatás!B$2,E729<=Kimutatás!B$3)","v":false}]
[729,"Budapest Észak","002","Q1","2019-03-25","Lakossági számlanyitás",6,"db","2019-04-01","horvath33",{"$f":"AND(E730>=Kimutatás!B$2,E730<=Kimutatás!B$3)","v":false}]
[730,"Budapest Észak","002","Q1","2019-03-25","KKV hitelnövekmény (db)",-1,"db","2019-04-01","horvath33",{"$f":"AND(E731>=Kimutatás!B$2,E731<=Kimutatás!B$3)","v":false}]
[731,"Budapest Észak","002","Q1","2019-03-25","KKV számlanyitás",0,"db","2019-04-01","horvath33",{"$f":"AND(E732>=Kimutatás!B$2,E732<=Kimutatás!B$3)","v":false}]
[732,"Budapest Észak","002","Q1","2019-03-25","Betét állomány növekmény",-4,"Mhuf","2019-04-01","horvath33",{"$f":"AND(E733>=Kimutatás!B$2,E733<=Kimutatás!B$3)","v":false}]
[733,"Budapest Észak","002","Q1","2019-03-26","Betérő ügyfelek",39,"fő","2019-04-01","horvath33",{"$f":"AND(E734>=Kimutatás!B$2,E734<=Kimutatás!B$3)","v":false}]
[734,"Budapest Észak","002","Q1","2019-03-26","Lakossági hitelnövekmény összege ",8,"Mhuf","2019-04-01","horvath33",{"$f":"AND(E735>=Kimutatás!B$2,E735<=Kimutatás!B$3)","v":false}]
[735,"Budapest Észak","002","Q1","2019-03-26","Lakossági számlanyitás",-5,"db","2019-04-01","horvath33",{"$f":"AND(E736>=Kimutatás!B$2,E736<=Kimutatás!B$3)","v":false}]
[736,"Budapest Észak","002","Q1","2019-03-26","KKV hitelnövekmény (db)",-1,"db","2019-04-01","horvath33",{"$f":"AND(E737>=Kimutatás!B$2,E737<=Kimutatás!B$3)","v":false}]
[737,"Budapest Észak","002","Q1","2019-03-26","KKV számlanyitás",-4,"db","2019-04-01","horvath33",{"$f":"AND(E738>=Kimutatás!B$2,E738<=Kimutatás!B$3)","v":false}]
[738,"Budapest Észak","002","Q1","2019-03-26","Betét állomány növekmény",36,"Mhuf","2019-04-01","horvath33",{"$f":"AND(E739>=Kimutatás!B$2,E739<=Kimutatás!B$3)","v":false}]
[739,"Budapest Észak","002","Q1","2019-03-27","Betérő ügyfelek",11,"fő","2019-04-01","horvath33",{"$f":"AND(E740>=Kimutatás!B$2,E740<=Kimutatás!B$3)","v":false}]
[740,"Budapest Észak","002","Q1","2019-03-27","Lakossági hitelnövekmény összege ",25,"Mhuf","2019-04-01","horvath33",{"$f":"AND(E741>=Kimutatás!B$2,E741<=Kimutatás!B$3)","v":false}]
[741,"Budapest Észak","002","Q1","2019-03-27","Lakossági számlanyitás",6,"db","2019-04-01","horvath33",{"$f":"AND(E742>=Kimutatás!B$2,E742<=Kimutatás!B$3)","v":false}]
[742,"Budapest Észak","002","Q1","2019-03-27","KKV hitelnövekmény (db)",-1,"db","2019-04-01","horvath33",{"$f":"AND(E743>=Kimutatás!B$2,E743<=Kimutatás!B$3)","v":false}]
[743,"Budapest Észak","002","Q1","2019-03-27","KKV számlanyitás",-1,"db","2019-04-01","horvath33",{"$f":"AND(E744>=Kimutatás!B$2,E744<=Kimutatás!B$3)","v":false}]
[744,"Budapest Észak","002","Q1","2019-03-27","Betét állomány növekmény",16,"Mhuf","2019-04-01","horvath33",{"$f":"AND(E745>=Kimutatás!B$2,E745<=Kimutatás!B$3)","v":false}]
[745,"Budapest Észak","002","Q1","2019-03-28","Betérő ügyfelek",47,"fő","2019-04-01","horvath33",{"$f":"AND(E746>=Kimutatás!B$2,E746<=Kimutatás!B$3)","v":false}]
[746,"Budapest Észak","002","Q1","2019-03-28","Lakossági hitelnövekmény összege ",12,"Mhuf","2019-04-01","horvath33",{"$f":"AND(E747>=Kimutatás!B$2,E747<=Kimutatás!B$3)","v":false}]
[747,"Budapest Észak","002","Q1","2019-03-28","Lakossági számlanyitás",10,"db","2019-04-01","horvath33",{"$f":"AND(E748>=Kimutatás!B$2,E748<=Kimutatás!B$3)","v":false}]
[748,"Budapest Észak","002","Q1","2019-03-28","KKV hitelnövekmény (db)",0,"db","2019-04-01","horvath33",{"$f":"AND(E749>=Kimutatás!B$2,E749<=Kimutatás!B$3)","v":false}]
[749,"Budapest Észak","002","Q1","2019-03-28","KKV számlanyitás",4,"db","2019-04-01","horvath33",{"$f":"AND(E750>=Kimutatás!B$2,E750<=Kimutatás!B$3)","v":false}]
[750,"Budapest Észak","002","Q1","2019-03-28","Betét állomány növekmény",20,"Mhuf","2019-04-01","horvath33",{"$f":"AND(E751>=Kimutatás!B$2,E751<=Kimutatás!B$3)","v":false}]
[751,"Budapest Észak","002","Q1","2019-03-31","Betérő ügyfelek",27,"fő","2019-04-01","horvath33",{"$f":"AND(E752>=Kimutatás!B$2,E752<=Kimutatás!B$3)","v":false}]
[752,"Budapest Észak","002","Q1","2019-03-31","Lakossági hitelnövekmény összege ",13,"Mhuf","2019-04-01","horvath33",{"$f":"AND(E753>=Kimutatás!B$2,E753<=Kimutatás!B$3)","v":false}]
[753,"Budapest Észak","002","Q1","2019-03-31","Lakossági számlanyitás",-4,"db","2019-04-01","horvath33",{"$f":"AND(E754>=Kimutatás!B$2,E754<=Kimutatás!B$3)","v":false}]
[754,"Budapest Észak","002","Q1","2019-03-31","KKV hitelnövekmény (db)",1,"db","2019-04-01","horvath33",{"$f":"AND(E755>=Kimutatás!B$2,E755<=Kimutatás!B$3)","v":false}]
[755,"Budapest Észak","002","Q1","2019-03-31","KKV számlanyitás",-4,"db","2019-04-01","horvath33",{"$f":"AND(E756>=Kimutatás!B$2,E756<=Kimutatás!B$3)","v":false}]
[756,"Budapest Észak","002","Q1","2019-03-31","Betét állomány növekmény",-11,"Mhuf","2019-04-01","horvath33",{"$f":"AND(E757>=Kimutatás!B$2,E757<=Kimutatás!B$3)","v":false}]
[757,"Budapest Dél","003","Q1","2019-01-02","Betérő ügyfelek",44,"fő","2019-02-01","pircsi",{"$f":"AND(E758>=Kimutatás!B$2,E758<=Kimutatás!B$3)","v":false}]
[758,"Budapest Dél","003","Q1","2019-01-02","Lakossági hitelnövekmény összege ",2,"Mhuf","2019-02-01","pircsi",{"$f":"AND(E759>=Kimutatás!B$2,E759<=Kimutatás!B$3)","v":false}]
[759,"Budapest Dél","003","Q1","2019-01-02","Lakossági számlanyitás",1,"db","2019-02-01","pircsi",{"$f":"AND(E760>=Kimutatás!B$2,E760<=Kimutatás!B$3)","v":false}]
[760,"Budapest Dél","003","Q1","2019-01-02","KKV hitelnövekmény (db)",2,"db","2019-02-01","pircsi",{"$f":"AND(E761>=Kimutatás!B$2,E761<=Kimutatás!B$3)","v":false}]
[761,"Budapest Dél","003","Q1","2019-01-02","KKV számlanyitás",0,"db","2019-02-01","pircsi",{"$f":"AND(E762>=Kimutatás!B$2,E762<=Kimutatás!B$3)","v":false}]
[762,"Budapest Dél","003","Q1","2019-01-02","Betét állomány növekmény",20,"Mhuf","2019-02-01","pircsi",{"$f":"AND(E763>=Kimutatás!B$2,E763<=Kimutatás!B$3)","v":false}]
[763,"Budapest Dél","003","Q1","2019-01-03","Betérő ügyfelek",23,"fő","2019-02-01","pircsi",{"$f":"AND(E764>=Kimutatás!B$2,E764<=Kimutatás!B$3)","v":false}]
[764,"Budapest Dél","003","Q1","2019-01-03","Lakossági hitelnövekmény összege ",23,"Mhuf","2019-02-01","pircsi",{"$f":"AND(E765>=Kimutatás!B$2,E765<=Kimutatás!B$3)","v":false}]
[765,"Budapest Dél","003","Q1","2019-01-03","Lakossági számlanyitás",2,"db","2019-02-01","pircsi",{"$f":"AND(E766>=Kimutatás!B$2,E766<=Kimutatás!B$3)","v":false}]
[766,"Budapest Dél","003","Q1","2019-01-03","KKV hitelnövekmény (db)",2,"db","2019-02-01","pircsi",{"$f":"AND(E767>=Kimutatás!B$2,E767<=Kimutatás!B$3)","v":false}]
[767,"Budapest Dél","003","Q1","2019-01-03","KKV számlanyitás",1,"db","2019-02-01","pircsi",{"$f":"AND(E768>=Kimutatás!B$2,E768<=Kimutatás!B$3)","v":false}]
[768,"Budapest Dél","003","Q1","2019-01-03","Betét állomány növekmény",37,"Mhuf","2019-02-01","pircsi",{"$f":"AND(E769>=Kimutatás!B$2,E769<=Kimutatás!B$3)","v":false}]
[769,"Budapest Dél","003","Q1","2019-01-06","Betérő ügyfelek",29,"fő","2019-02-01","pircsi",{"$f":"AND(E770>=Kimutatás!B$2,E770<=Kimutatás!B$3)","v":false}]
[770,"Budapest Dél","003","Q1","2019-01-06","Lakossági hitelnövekmény összege ",46,"Mhuf","2019-02-01","pircsi",{"$f":"AND(E771>=Kimutatás!B$2,E771<=Kimutatás!B$3)","v":false}]
[771,"Budapest Dél","003","Q1","2019-01-06","Lakossági számlanyitás",10,"db","2019-02-01","pircsi",{"$f":"AND(E772>=Kimutatás!B$2,E772<=Kimutatás!B$3)","v":false}]
[772,"Budapest Dél","003","Q1","2019-01-06","KKV hitelnövekmény (db)",1,"db","2019-02-01","pircsi",{"$f":"AND(E773>=Kimutatás!B$2,E773<=Kimutatás!B$3)","v":false}]
[773,"Budapest Dél","003","Q1","2019-01-06","KKV számlanyitás",1,"db","2019-02-01","pircsi",{"$f":"AND(E774>=Kimutatás!B$2,E774<=Kimutatás!B$3)","v":false}]
[774,"Budapest Dél","003","Q1","2019-01-06","Betét állomány növekmény",-5,"Mhuf","2019-02-01","pircsi",{"$f":"AND(E775>=Kimutatás!B$2,E775<=Kimutatás!B$3)","v":false}]
[775,"Budapest Dél","003","Q1","2019-01-07","Betérő ügyfelek",18,"fő","2019-02-01","pircsi",{"$f":"AND(E776>=Kimutatás!B$2,E776<=Kimutatás!B$3)","v":false}]
[776,"Budapest Dél","003","Q1","2019-01-07","Lakossági hitelnövekmény összege ",36,"Mhuf","2019-02-01","pircsi",{"$f":"AND(E777>=Kimutatás!B$2,E777<=Kimutatás!B$3)","v":false}]
[777,"Budapest Dél","003","Q1","2019-01-07","Lakossági számlanyitás",10,"db","2019-02-01","pircsi",{"$f":"AND(E778>=Kimutatás!B$2,E778<=Kimutatás!B$3)","v":false}]
[778,"Budapest Dél","003","Q1","2019-01-07","KKV hitelnövekmény (db)",2,"db","2019-02-01","pircsi",{"$f":"AND(E779>=Kimutatás!B$2,E779<=Kimutatás!B$3)","v":false}]
[779,"Budapest Dél","003","Q1","2019-01-07","KKV számlanyitás",2,"db","2019-02-01","pircsi",{"$f":"AND(E780>=Kimutatás!B$2,E780<=Kimutatás!B$3)","v":false}]
[780,"Budapest Dél","003","Q1","2019-01-07","Betét állomány növekmény",21,"Mhuf","2019-02-01","pircsi",{"$f":"AND(E781>=Kimutatás!B$2,E781<=Kimutatás!B$3)","v":false}]
[781,"Budapest Dél","003","Q1","2019-01-08","Betérő ügyfelek",22,"fő","2019-02-01","pircsi",{"$f":"AND(E782>=Kimutatás!B$2,E782<=Kimutatás!B$3)","v":false}]
[782,"Budapest Dél","003","Q1","2019-01-08","Lakossági hitelnövekmény összege ",34,"Mhuf","2019-02-01","pircsi",{"$f":"AND(E783>=Kimutatás!B$2,E783<=Kimutatás!B$3)","v":false}]
[783,"Budapest Dél","003","Q1","2019-01-08","Lakossági számlanyitás",3,"db","2019-02-01","pircsi",{"$f":"AND(E784>=Kimutatás!B$2,E784<=Kimutatás!B$3)","v":false}]
[784,"Budapest Dél","003","Q1","2019-01-08","KKV hitelnövekmény (db)",0,"db","2019-02-01","pircsi",{"$f":"AND(E785>=Kimutatás!B$2,E785<=Kimutatás!B$3)","v":false}]
[785,"Budapest Dél","003","Q1","2019-01-08","KKV számlanyitás",3,"db","2019-02-01","pircsi",{"$f":"AND(E786>=Kimutatás!B$2,E786<=Kimutatás!B$3)","v":false}]
[786,"Budapest Dél","003","Q1","2019-01-08","Betét állomány növekmény",47,"Mhuf","2019-02-01","pircsi",{"$f":"AND(E787>=Kimutatás!B$2,E787<=Kimutatás!B$3)","v":false}]
[787,"Budapest Dél","003","Q1","2019-01-09","Betérő ügyfelek",1,"fő","2019-02-01","pircsi",{"$f":"AND(E788>=Kimutatás!B$2,E788<=Kimutatás!B$3)","v":false}]
[788,"Budapest Dél","003","Q1","2019-01-09","Lakossági hitelnövekmény összege ",1,"Mhuf","2019-02-01","pircsi",{"$f":"AND(E789>=Kimutatás!B$2,E789<=Kimutatás!B$3)","v":false}]
[789,"Budapest Dél","003","Q1","2019-01-09","Lakossági számlanyitás",-1,"db","2019-02-01","pircsi",{"$f":"AND(E790>=Kimutatás!B$2,E790<=Kimutatás!B$3)","v":false}]
[790,"Budapest Dél","003","Q1","2019-01-09","KKV hitelnövekmény (db)",-1,"db","2019-02-01","pircsi",{"$f":"AND(E791>=Kimutatás!B$2,E791<=Kimutatás!B$3)","v":false}]
[791,"Budapest Dél","003","Q1","2019-01-09","KKV számlanyitás",4,"db","2019-02-01","pircsi",{"$f":"AND(E792>=Kimutatás!B$2,E792<=Kimutatás!B$3)","v":false}]
[792,"Budapest Dél","003","Q1","2019-01-09","Betét állomány növekmény",31,"Mhuf","2019-02-01","pircsi",{"$f":"AND(E793>=Kimutatás!B$2,E793<=Kimutatás!B$3)","v":false}]
[793,"Budapest Dél","003","Q1","2019-01-10","Betérő ügyfelek",6,"fő","2019-02-01","pircsi",{"$f":"AND(E794>=Kimutatás!B$2,E794<=Kimutatás!B$3)","v":true}]
[794,"Budapest Dél","003","Q1","2019-01-10","Lakossági hitelnövekmény összege ",12,"Mhuf","2019-02-01","pircsi",{"$f":"AND(E795>=Kimutatás!B$2,E795<=Kimutatás!B$3)","v":true}]
[795,"Budapest Dél","003","Q1","2019-01-10","Lakossági számlanyitás",1,"db","2019-02-01","pircsi",{"$f":"AND(E796>=Kimutatás!B$2,E796<=Kimutatás!B$3)","v":true}]
[796,"Budapest Dél","003","Q1","2019-01-10","KKV hitelnövekmény (db)",1,"db","2019-02-01","pircsi",{"$f":"AND(E797>=Kimutatás!B$2,E797<=Kimutatás!B$3)","v":true}]
[797,"Budapest Dél","003","Q1","2019-01-10","KKV számlanyitás",3,"db","2019-02-01","pircsi",{"$f":"AND(E798>=Kimutatás!B$2,E798<=Kimutatás!B$3)","v":true}]
[798,"Budapest Dél","003","Q1","2019-01-10","Betét állomány növekmény",48,"Mhuf","2019-02-01","pircsi",{"$f":"AND(E799>=Kimutatás!B$2,E799<=Kimutatás!B$3)","v":true}]
[799,"Budapest Dél","003","Q1","2019-01-13","Betérő ügyfelek",10,"fő","2019-02-01","pircsi",{"$f":"AND(E800>=Kimutatás!B$2,E800<=Kimutatás!B$3)","v":true}]
[800,"Budapest Dél","003","Q1","2019-01-13","Lakossági hitelnövekmény összege ",32,"Mhuf","2019-02-01","pircsi",{"$f":"AND(E801>=Kimutatás!B$2,E801<=Kimutatás!B$3)","v":true}]
[801,"Budapest Dél","003","Q1","2019-01-13","Lakossági számlanyitás",0,"db","2019-02-01","pircsi",{"$f":"AND(E802>=Kimutatás!B$2,E802<=Kimutatás!B$3)","v":true}]
[802,"Budapest Dél","003","Q1","2019-01-13","KKV hitelnövekmény (db)",0,"db","2019-02-01","pircsi",{"$f":"AND(E803>=Kimutatás!B$2,E803<=Kimutatás!B$3)","v":true}]
[803,"Budapest Dél","003","Q1","2019-01-13","KKV számlanyitás",-3,"db","2019-02-01","pircsi",{"$f":"AND(E804>=Kimutatás!B$2,E804<=Kimutatás!B$3)","v":true}]
[804,"Budapest Dél","003","Q1","2019-01-13","Betét állomány növekmény",18,"Mhuf","2019-02-01","pircsi",{"$f":"AND(E805>=Kimutatás!B$2,E805<=Kimutatás!B$3)","v":true}]
[805,"Budapest Dél","003","Q1","2019-01-14","Betérő ügyfelek",1,"fő","2019-02-01","pircsi",{"$f":"AND(E806>=Kimutatás!B$2,E806<=Kimutatás!B$3)","v":true}]
[806,"Budapest Dél","003","Q1","2019-01-14","Lakossági hitelnövekmény összege ",-1,"Mhuf","2019-02-01","pircsi",{"$f":"AND(E807>=Kimutatás!B$2,E807<=Kimutatás!B$3)","v":true}]
[807,"Budapest Dél","003","Q1","2019-01-14","Lakossági számlanyitás",7,"db","2019-02-01","pircsi",{"$f":"AND(E808>=Kimutatás!B$2,E808<=Kimutatás!B$3)","v":true}]
[808,"Budapest Dél","003","Q1","2019-01-14","KKV hitelnövekmény (db)",0,"db","2019-02-01","pircsi",{"$f":"AND(E809>=Kimutatás!B$2,E809<=Kimutatás!B$3)","v":true}]
[809,"Budapest Dél","003","Q1","2019-01-14","KKV számlanyitás",4,"db","2019-02-01","pircsi",{"$f":"AND(E810>=Kimutatás!B$2,E810<=Kimutatás!B$3)","v":true}]
[810,"Budapest Dél","003","Q1","2019-01-14","Betét állomány növekmény",-17,"Mhuf","2019-02-01","pircsi",{"$f":"AND(E811>=Kimutatás!B$2,E811<=Kimutatás!B$3)","v":true}]
[811,"Budapest Dél","003","Q1","2019-01-15","Betérő ügyfelek",3,"fő","2019-02-01","pircsi",{"$f":"AND(E812>=Kimutatás!B$2,E812<=Kimutatás!B$3)","v":true}]
[812,"Budapest Dél","003","Q1","2019-01-15","Lakossági hitelnövekmény összege ",43,"Mhuf","2019-02-01","pircsi",{"$f":"AND(E813>=Kimutatás!B$2,E813<=Kimutatás!B$3)","v":true}]
[813,"Budapest Dél","003","Q1","2019-01-15","Lakossági számlanyitás",2,"db","2019-02-01","pircsi",{"$f":"AND(E814>=Kimutatás!B$2,E814<=Kimutatás!B$3)","v":true}]
[814,"Budapest Dél","003","Q1","2019-01-15","KKV hitelnövekmény (db)",0,"db","2019-02-01","pircsi",{"$f":"AND(E815>=Kimutatás!B$2,E815<=Kimutatás!B$3)","v":true}]
[815,"Budapest Dél","003","Q1","2019-01-15","KKV számlanyitás",-5,"db","2019-02-01","pircsi",{"$f":"AND(E816>=Kimutatás!B$2,E816<=Kimutatás!B$3)","v":true}]
[816,"Budapest Dél","003","Q1","2019-01-15","Betét állomány növekmény",5,"Mhuf","2019-02-01","pircsi",{"$f":"AND(E817>=Kimutatás!B$2,E817<=Kimutatás!B$3)","v":true}]
[817,"Budapest Dél","003","Q1","2019-01-16","Betérő ügyfelek",3,"fő","2019-02-01","pircsi",{"$f":"AND(E818>=Kimutatás!B$2,E818<=Kimutatás!B$3)","v":true}]
[818,"Budapest Dél","003","Q1","2019-01-16","Lakossági hitelnövekmény összege ",44,"Mhuf","2019-02-01","pircsi",{"$f":"AND(E819>=Kimutatás!B$2,E819<=Kimutatás!B$3)","v":true}]
[819,"Budapest Dél","003","Q1","2019-01-16","Lakossági számlanyitás",5,"db","2019-02-01","pircsi",{"$f":"AND(E820>=Kimutatás!B$2,E820<=Kimutatás!B$3)","v":true}]
[820,"Budapest Dél","003","Q1","2019-01-16","KKV hitelnövekmény (db)",-2,"db","2019-02-01","pircsi",{"$f":"AND(E821>=Kimutatás!B$2,E821<=Kimutatás!B$3)","v":true}]
[821,"Budapest Dél","003","Q1","2019-01-16","KKV számlanyitás",0,"db","2019-02-01","pircsi",{"$f":"AND(E822>=Kimutatás!B$2,E822<=Kimutatás!B$3)","v":true}]
[822,"Budapest Dél","003","Q1","2019-01-16","Betét állomány növekmény",38,"Mhuf","2019-02-01","pircsi",{"$f":"AND(E823>=Kimutatás!B$2,E823<=Kimutatás!B$3)","v":true}]
[823,"Budapest Dél","003","Q1","2019-01-17","Betérő ügyfelek",2,"fő","2019-02-01","pircsi",{"$f":"AND(E824>=Kimutatás!B$2,E824<=Kimutatás!B$3)","v":true}]
[824,"Budapest Dél","003","Q1","2019-01-17","Lakossági hitelnövekmény összege ",30,"Mhuf","2019-02-01","pircsi",{"$f":"AND(E825>=Kimutatás!B$2,E825<=Kimutatás!B$3)","v":true}]
[825,"Budapest Dél","003","Q1","2019-01-17","Lakossági számlanyitás",3,"db","2019-02-01","pircsi",{"$f":"AND(E826>=Kimutatás!B$2,E826<=Kimutatás!B$3)","v":true}]
[826,"Budapest Dél","003","Q1","2019-01-17","KKV hitelnövekmény (db)",1,"db","2019-02-01","pircsi",{"$f":"AND(E827>=Kimutatás!B$2,E827<=Kimutatás!B$3)","v":true}]
[827,"Budapest Dél","003","Q1","2019-01-17","KKV számlanyitás",0,"db","2019-02-01","pircsi",{"$f":"AND(E828>=Kimutatás!B$2,E828<=Kimutatás!B$3)","v":true}]
[828,"Budapest Dél","003","Q1","2019-01-17","Betét állomány növekmény",3,"Mhuf","2019-02-01","pircsi",{"$f":"AND(E829>=Kimutatás!B$2,E829<=Kimutatás!B$3)","v":true}]
[829,"Budapest Dél","003","Q1","2019-01-20","Betérő ügyfelek",33,"fő","2019-02-01","pircsi",{"$f":"AND(E830>=Kimutatás!B$2,E830<=Kimutatás!B$3)","v":true}]
[830,"Budapest Dél","003","Q1","2019-01-20","Lakossági hitelnövekmény összege ",8,"Mhuf","2019-02-01","pircsi",{"$f":"AND(E831>=Kimutatás!B$2,E831<=Kimutatás!B$3)","v":true}]
[831,"Budapest Dél","003","Q1","2019-01-20","Lakossági számlanyitás",2,"db","2019-02-01","pircsi",{"$f":"AND(E832>=Kimutatás!B$2,E832<=Kimutatás!B$3)","v":true}]
[832,"Budapest Dél","003","Q1","2019-01-20","KKV hitelnövekmény (db)",1,"db","2019-02-01","pircsi",{"$f":"AND(E833>=Kimutatás!B$2,E833<=Kimutatás!B$3)","v":true}]
[833,"Budapest Dél","003","Q1","2019-01-20","KKV számlanyitás",-5,"db","2019-02-01","pircsi",{"$f":"AND(E834>=Kimutatás!B$2,E834<=Kimutatás!B$3)","v":true}]
[834,"Budapest Dél","003","Q1","2019-01-20","Betét állomány növekmény",20,"Mhuf","2019-02-01","pircsi",{"$f":"AND(E835>=Kimutatás!B$2,E835<=Kimutatás!B$3)","v":true}]
[835,"Budapest Dél","003","Q1","2019-01-21","Betérő ügyfelek",37,"fő","2019-02-01","pircsi",{"$f":"AND(E836>=Kimutatás!B$2,E836<=Kimutatás!B$3)","v":true}]
[836,"Budapest Dél","003","Q1","2019-01-21","Lakossági hitelnövekmény összege ",25,"Mhuf","2019-02-01","pircsi",{"$f":"AND(E837>=Kimutatás!B$2,E837<=Kimutatás!B$3)","v":true}]
[837,"Budapest Dél","003","Q1","2019-01-21","Lakossági számlanyitás",-2,"db","2019-02-01","pircsi",{"$f":"AND(E838>=Kimutatás!B$2,E838<=Kimutatás!B$3)","v":true}]
[838,"Budapest Dél","003","Q1","2019-01-21","KKV hitelnövekmény (db)",2,"db","2019-02-01","pircsi",{"$f":"AND(E839>=Kimutatás!B$2,E839<=Kimutatás!B$3)","v":true}]
[839,"Budapest Dél","003","Q1","2019-01-21","KKV számlanyitás",-5,"db","2019-02-01","pircsi",{"$f":"AND(E840>=Kimutatás!B$2,E840<=Kimutatás!B$3)","v":true}]
[840,"Budapest Dél","003","Q1","2019-01-21","Betét állomány növekmény",44,"Mhuf","2019-02-01","pircsi",{"$f":"AND(E841>=Kimutatás!B$2,E841<=Kimutatás!B$3)","v":true}]
[841,"Budapest Dél","003","Q1","2019-01-22","Betérő ügyfelek",8,"fő","2019-02-01","pircsi",{"$f":"AND(E842>=Kimutatás!B$2,E842<=Kimutatás!B$3)","v":true}]
[842,"Budapest Dél","003","Q1","2019-01-22","Lakossági hitelnövekmény összege ",14,"Mhuf","2019-02-01","pircsi",{"$f":"AND(E843>=Kimutatás!B$2,E843<=Kimutatás!B$3)","v":true}]
[843,"Budapest Dél","003","Q1","2019-01-22","Lakossági számlanyitás",2,"db","2019-02-01","pircsi",{"$f":"AND(E844>=Kimutatás!B$2,E844<=Kimutatás!B$3)","v":true}]
[844,"Budapest Dél","003","Q1","2019-01-22","KKV hitelnövekmény (db)",-2,"db","2019-02-01","pircsi",{"$f":"AND(E845>=Kimutatás!B$2,E845<=Kimutatás!B$3)","v":true}]
[845,"Budapest Dél","003","Q1","2019-01-22","KKV számlanyitás",-5,"db","2019-02-01","pircsi",{"$f":"AND(E846>=Kimutatás!B$2,E846<=Kimutatás!B$3)","v":true}]
[846,"Budapest Dél","003","Q1","2019-01-22","Betét állomány növekmény",-19,"Mhuf","2019-02-01","pircsi",{"$f":"AND(E847>=Kimutatás!B$2,E847<=Kimutatás!B$3)","v":true}]
[847,"Budapest Dél","003","Q1","2019-01-23","Betérő ügyfelek",49,"fő","2019-02-01","pircsi",{"$f":"AND(E848>=Kimutatás!B$2,E848<=Kimutatás!B$3)","v":true}]
[848,"Budapest Dél","003","Q1","2019-01-23","Lakossági hitelnövekmény összege ",3,"Mhuf","2019-02-01","pircsi",{"$f":"AND(E849>=Kimutatás!B$2,E849<=Kimutatás!B$3)","v":true}]
[849,"Budapest Dél","003","Q1","2019-01-23","Lakossági számlanyitás",9,"db","2019-02-01","pircsi",{"$f":"AND(E850>=Kimutatás!B$2,E850<=Kimutatás!B$3)","v":true}]
[850,"Budapest Dél","003","Q1","2019-01-23","KKV hitelnövekmény (db)",-2,"db","2019-02-01","pircsi",{"$f":"AND(E851>=Kimutatás!B$2,E851<=Kimutatás!B$3)","v":true}]
[851,"Budapest Dél","003","Q1","2019-01-23","KKV számlanyitás",0,"db","2019-02-01","pircsi",{"$f":"AND(E852>=Kimutatás!B$2,E852<=Kimutatás!B$3)","v":true}]
[852,"Budapest Dél","003","Q1","2019-01-23","Betét állomány növekmény",7,"Mhuf","2019-02-01","pircsi",{"$f":"AND(E853>=Kimutatás!B$2,E853<=Kimutatás!B$3)","v":true}]
[853,"Budapest Dél","003","Q1","2019-01-24","Betérő ügyfelek",23,"fő","2019-02-01","pircsi",{"$f":"AND(E854>=Kimutatás!B$2,E854<=Kimutatás!B$3)","v":true}]
[854,"Budapest Dél","003","Q1","2019-01-24","Lakossági hitelnövekmény összege ",16,"Mhuf","2019-02-01","pircsi",{"$f":"AND(E855>=Kimutatás!B$2,E855<=Kimutatás!B$3)","v":true}]
[855,"Budapest Dél","003","Q1","2019-01-24","Lakossági számlanyitás",7,"db","2019-02-01","pircsi",{"$f":"AND(E856>=Kimutatás!B$2,E856<=Kimutatás!B$3)","v":true}]
[856,"Budapest Dél","003","Q1","2019-01-24","KKV hitelnövekmény (db)",-1,"db","2019-02-01","pircsi",{"$f":"AND(E857>=Kimutatás!B$2,E857<=Kimutatás!B$3)","v":true}]
[857,"Budapest Dél","003","Q1","2019-01-24","KKV számlanyitás",4,"db","2019-02-01","pircsi",{"$f":"AND(E858>=Kimutatás!B$2,E858<=Kimutatás!B$3)","v":true}]
[858,"Budapest Dél","003","Q1","2019-01-24","Betét állomány növekmény",44,"Mhuf","2019-02-01","pircsi",{"$f":"AND(E859>=Kimutatás!B$2,E859<=Kimutatás!B$3)","v":true}]
[859,"Budapest Dél","003","Q1","2019-01-27","Betérő ügyfelek",15,"fő","2019-02-01","pircsi",{"$f":"AND(E860>=Kimutatás!B$2,E860<=Kimutatás!B$3)","v":true}]
[860,"Budapest Dél","003","Q1","2019-01-27","Lakossági hitelnövekmény összege ",28,"Mhuf","2019-02-01","pircsi",{"$f":"AND(E861>=Kimutatás!B$2,E861<=Kimutatás!B$3)","v":true}]
[861,"Budapest Dél","003","Q1","2019-01-27","Lakossági számlanyitás",-4,"db","2019-02-01","pircsi",{"$f":"AND(E862>=Kimutatás!B$2,E862<=Kimutatás!B$3)","v":true}]
[862,"Budapest Dél","003","Q1","2019-01-27","KKV hitelnövekmény (db)",-2,"db","2019-02-01","pircsi",{"$f":"AND(E863>=Kimutatás!B$2,E863<=Kimutatás!B$3)","v":true}]
[863,"Budapest Dél","003","Q1","2019-01-27","KKV számlanyitás",5,"db","2019-02-01","pircsi",{"$f":"AND(E864>=Kimutatás!B$2,E864<=Kimutatás!B$3)","v":true}]
[864,"Budapest Dél","003","Q1","2019-01-27","Betét állomány növekmény",46,"Mhuf","2019-02-01","pircsi",{"$f":"AND(E865>=Kimutatás!B$2,E865<=Kimutatás!B$3)","v":true}]
[865,"Budapest Dél","003","Q1","2019-01-28","Betérő ügyfelek",27,"fő","2019-02-01","pircsi",{"$f":"AND(E866>=Kimutatás!B$2,E866<=Kimutatás!B$3)","v":true}]
[866,"Budapest Dél","003","Q1","2019-01-28","Lakossági hitelnövekmény összege ",9,"Mhuf","2019-02-01","pircsi",{"$f":"AND(E867>=Kimutatás!B$2,E867<=Kimutatás!B$3)","v":true}]
[867,"Budapest Dél","003","Q1","2019-01-28","Lakossági számlanyitás",-3,"db","2019-02-01","pircsi",{"$f":"AND(E868>=Kimutatás!B$2,E868<=Kimutatás!B$3)","v":true}]
[868,"Budapest Dél","003","Q1","2019-01-28","KKV hitelnövekmény (db)",1,"db","2019-02-01","pircsi",{"$f":"AND(E869>=Kimutatás!B$2,E869<=Kimutatás!B$3)","v":true}]
[869,"Budapest Dél","003","Q1","2019-01-28","KKV számlanyitás",0,"db","2019-02-01","pircsi",{"$f":"AND(E870>=Kimutatás!B$2,E870<=Kimutatás!B$3)","v":true}]
[870,"Budapest Dél","003","Q1","2019-01-28","Betét állomány növekmény",22,"Mhuf","2019-02-01","pircsi",{"$f":"AND(E871>=Kimutatás!B$2,E871<=Kimutatás!B$3)","v":true}]
[871,"Budapest Dél","003","Q1","2019-01-29","Betérő ügyfelek",7,"fő","2019-02-01","pircsi",{"$f":"AND(E872>=Kimutatás!B$2,E872<=Kimutatás!B$3)","v":true}]
[872,"Budapest Dél","003","Q1","2019-01-29","Lakossági hitelnövekmény összege ",49,"Mhuf","2019-02-01","pircsi",{"$f":"AND(E873>=Kimutatás!B$2,E873<=Kimutatás!B$3)","v":true}]
[873,"Budapest Dél","003","Q1","2019-01-29","Lakossági számlanyitás",-1,"db","2019-02-01","pircsi",{"$f":"AND(E874>=Kimutatás!B$2,E874<=Kimutatás!B$3)","v":true}]
[874,"Budapest Dél","003","Q1","2019-01-29","KKV hitelnövekmény (db)",-1,"db","2019-02-01","pircsi",{"$f":"AND(E875>=Kimutatás!B$2,E875<=Kimutatás!B$3)","v":true}]
[875,"Budapest Dél","003","Q1","2019-01-29","KKV számlanyitás",4,"db","2019-02-01","pircsi",{"$f":"AND(E876>=Kimutatás!B$2,E876<=Kimutatás!B$3)","v":true}]
[876,"Budapest Dél","003","Q1","2019-01-29","Betét állomány növekmény",9,"Mhuf","2019-02-01","pircsi",{"$f":"AND(E877>=Kimutatás!B$2,E877<=Kimutatás!B$3)","v":true}]
[877,"Budapest Dél","003","Q1","2019-01-30","Betérő ügyfelek",42,"fő","2019-02-01","pircsi",{"$f":"AND(E878>=Kimutatás!B$2,E878<=Kimutatás!B$3)","v":true}]
[878,"Budapest Dél","003","Q1","2019-01-30","Lakossági hitelnövekmény összege ",48,"Mhuf","2019-02-01","pircsi",{"$f":"AND(E879>=Kimutatás!B$2,E879<=Kimutatás!B$3)","v":true}]
[879,"Budapest Dél","003","Q1","2019-01-30","Lakossági számlanyitás",7,"db","2019-02-01","pircsi",{"$f":"AND(E880>=Kimutatás!B$2,E880<=Kimutatás!B$3)","v":true}]
[880,"Budapest Dél","003","Q1","2019-01-30","KKV hitelnövekmény (db)",1,"db","2019-02-01","pircsi",{"$f":"AND(E881>=Kimutatás!B$2,E881<=Kimutatás!B$3)","v":true}]
[881,"Budapest Dél","003","Q1","2019-01-30","KKV számlanyitás",4,"db","2019-02-01","pircsi",{"$f":"AND(E882>=Kimutatás!B$2,E882<=Kimutatás!B$3)","v":true}]
[882,"Budapest Dél","003","Q1","2019-01-30","Betét állomány növekmény",22,"Mhuf","2019-02-01","pircsi",{"$f":"AND(E883>=Kimutatás!B$2,E883<=Kimutatás!B$3)","v":true}]
[883,"Budapest Dél","003","Q1","2019-01-31","Betérő ügyfelek",14,"fő","2019-02-01","pircsi",{"$f":"AND(E884>=Kimutatás!B$2,E884<=Kimutatás!B$3)","v":true}]
[884,"Budapest Dél","003","Q1","2019-01-31","Lakossági hitelnövekmény összege ",3,"Mhuf","2019-02-01","pircsi",{"$f":"AND(E885>=Kimutatás!B$2,E885<=Kimutatás!B$3)","v":true}]
[885,"Budapest Dél","003","Q1","2019-01-31","Lakossági számlanyitás",1,"db","2019-02-01","pircsi",{"$f":"AND(E886>=Kimutatás!B$2,E886<=Kimutatás!B$3)","v":true}]
[886,"Budapest Dél","003","Q1","2019-01-31","KKV hitelnövekmény (db)",-2,"db","2019-02-01","pircsi",{"$f":"AND(E887>=Kimutatás!B$2,E887<=Kimutatás!B$3)","v":true}]
[887,"Budapest Dél","003","Q1","2019-01-31","KKV számlanyitás",-4,"db","2019-02-01","pircsi",{"$f":"AND(E888>=Kimutatás!B$2,E888<=Kimutatás!B$3)","v":true}]
[888,"Budapest Dél","003","Q1","2019-01-31","Betét állomány növekmény",47,"Mhuf","2019-02-01","pircsi",{"$f":"AND(E889>=Kimutatás!B$2,E889<=Kimutatás!B$3)","v":true}]
[889,"Budapest Dél","003","Q1","2019-02-03","Betérő ügyfelek",36,"fő","2019-03-01","lajanagy",{"$f":"AND(E890>=Kimutatás!B$2,E890<=Kimutatás!B$3)","v":true}]
[890,"Budapest Dél","003","Q1","2019-02-03","Lakossági hitelnövekmény összege ",27,"Mhuf","2019-03-01","lajanagy",{"$f":"AND(E891>=Kimutatás!B$2,E891<=Kimutatás!B$3)","v":true}]
[891,"Budapest Dél","003","Q1","2019-02-03","Lakossági számlanyitás",7,"db","2019-03-01","lajanagy",{"$f":"AND(E892>=Kimutatás!B$2,E892<=Kimutatás!B$3)","v":true}]
[892,"Budapest Dél","003","Q1","2019-02-03","KKV hitelnövekmény (db)",2,"db","2019-03-01","lajanagy",{"$f":"AND(E893>=Kimutatás!B$2,E893<=Kimutatás!B$3)","v":true}]
[893,"Budapest Dél","003","Q1","2019-02-03","KKV számlanyitás",3,"db","2019-03-01","lajanagy",{"$f":"AND(E894>=Kimutatás!B$2,E894<=Kimutatás!B$3)","v":true}]
[894,"Budapest Dél","003","Q1","2019-02-03","Betét állomány növekmény",5,"Mhuf","2019-03-01","lajanagy",{"$f":"AND(E895>=Kimutatás!B$2,E895<=Kimutatás!B$3)","v":true}]
[895,"Budapest Dél","003","Q1","2019-02-04","Betérő ügyfelek",16,"fő","2019-03-01","lajanagy",{"$f":"AND(E896>=Kimutatás!B$2,E896<=Kimutatás!B$3)","v":true}]
[896,"Budapest Dél","003","Q1","2019-02-04","Lakossági hitelnövekmény összege ",10,"Mhuf","2019-03-01","lajanagy",{"$f":"AND(E897>=Kimutatás!B$2,E897<=Kimutatás!B$3)","v":true}]
[897,"Budapest Dél","003","Q1","2019-02-04","Lakossági számlanyitás",9,"db","2019-03-01","lajanagy",{"$f":"AND(E898>=Kimutatás!B$2,E898<=Kimutatás!B$3)","v":true}]
[898,"Budapest Dél","003","Q1","2019-02-04","KKV hitelnövekmény (db)",-2,"db","2019-03-01","lajanagy",{"$f":"AND(E899>=Kimutatás!B$2,E899<=Kimutatás!B$3)","v":true}]
[899,"Budapest Dél","003","Q1","2019-02-04","KKV számlanyitás",2,"db","2019-03-01","lajanagy",{"$f":"AND(E900>=Kimutatás!B$2,E900<=Kimutatás!B$3)","v":true}]
[900,"Budapest Dél","003","Q1","2019-02-04","Betét állomány növekmény",-12,"Mhuf","2019-03-01","lajanagy",{"$f":"AND(E901>=Kimutatás!B$2,E901<=Kimutatás!B$3)","v":true}]
[901,"Budapest Dél","003","Q1","2019-02-05","Betérő ügyfelek",29,"fő","2019-03-01","lajanagy",{"$f":"AND(E902>=Kimutatás!B$2,E902<=Kimutatás!B$3)","v":true}]
[902,"Budapest Dél","003","Q1","2019-02-05","Lakossági hitelnövekmény összege ",8,"Mhuf","2019-03-01","lajanagy",{"$f":"AND(E903>=Kimutatás!B$2,E903<=Kimutatás!B$3)","v":true}]
[903,"Budapest Dél","003","Q1","2019-02-05","Lakossági számlanyitás",-2,"db","2019-03-01","lajanagy",{"$f":"AND(E904>=Kimutatás!B$2,E904<=Kimutatás!B$3)","v":true}]
[904,"Budapest Dél","003","Q1","2019-02-05","KKV hitelnövekmény (db)",-2,"db","2019-03-01","lajanagy",{"$f":"AND(E905>=Kimutatás!B$2,E905<=Kimutatás!B$3)","v":true}]
[905,"Budapest Dél","003","Q1","2019-02-05","KKV számlanyitás",-3,"db","2019-03-01","lajanagy",{"$f":"AND(E906>=Kimutatás!B$2,E906<=Kimutatás!B$3)","v":true}]
[906,"Budapest Dél","003","Q1","2019-02-05","Betét állomány növekmény",17,"Mhuf","2019-03-01","lajanagy",{"$f":"AND(E907>=Kimutatás!B$2,E907<=Kimutatás!B$3)","v":true}]
[907,"Budapest Dél","003","Q1","2019-02-06","Betérő ügyfelek",19,"fő","2019-03-01","lajanagy",{"$f":"AND(E908>=Kimutatás!B$2,E908<=Kimutatás!B$3)","v":true}]
[908,"Budapest Dél","003","Q1","2019-02-06","Lakossági hitelnövekmény összege ",50,"Mhuf","2019-03-01","lajanagy",{"$f":"AND(E909>=Kimutatás!B$2,E909<=Kimutatás!B$3)","v":true}]
[909,"Budapest Dél","003","Q1","2019-02-06","Lakossági számlanyitás",-5,"db","2019-03-01","lajanagy",{"$f":"AND(E910>=Kimutatás!B$2,E910<=Kimutatás!B$3)","v":true}]
[910,"Budapest Dél","003","Q1","2019-02-06","KKV hitelnövekmény (db)",-1,"db","2019-03-01","lajanagy",{"$f":"AND(E911>=Kimutatás!B$2,E911<=Kimutatás!B$3)","v":true}]
[911,"Budapest Dél","003","Q1","2019-02-06","KKV számlanyitás",0,"db","2019-03-01","lajanagy",{"$f":"AND(E912>=Kimutatás!B$2,E912<=Kimutatás!B$3)","v":true}]
[912,"Budapest Dél","003","Q1","2019-02-06","Betét állomány növekmény",5,"Mhuf","2019-03-01","lajanagy",{"$f":"AND(E913>=Kimutatás!B$2,E913<=Kimutatás!B$3)","v":true}]
[913,"Budapest Dél","003","Q1","2019-02-07","Betérő ügyfelek",20,"fő","2019-03-01","lajanagy",{"$f":"AND(E914>=Kimutatás!B$2,E914<=Kimutatás!B$3)","v":true}]
[914,"Budapest Dél","003","Q1","2019-02-07","Lakossági hitelnövekmény összege ",26,"Mhuf","2019-03-01","lajanagy",{"$f":"AND(E915>=Kimutatás!B$2,E915<=Kimutatás!B$3)","v":true}]
[915,"Budapest Dél","003","Q1","2019-02-07","Lakossági számlanyitás",6,"db","2019-03-01","lajanagy",{"$f":"AND(E916>=Kimutatás!B$2,E916<=Kimutatás!B$3)","v":true}]
[916,"Budapest Dél","003","Q1","2019-02-07","KKV hitelnövekmény (db)",-2,"db","2019-03-01","lajanagy",{"$f":"AND(E917>=Kimutatás!B$2,E917<=Kimutatás!B$3)","v":true}]
[917,"Budapest Dél","003","Q1","2019-02-07","KKV számlanyitás",2,"db","2019-03-01","lajanagy",{"$f":"AND(E918>=Kimutatás!B$2,E918<=Kimutatás!B$3)","v":true}]
[918,"Budapest Dél","003","Q1","2019-02-07","Betét állomány növekmény",0,"Mhuf","2019-03-01","lajanagy",{"$f":"AND(E919>=Kimutatás!B$2,E919<=Kimutatás!B$3)","v":true}]
[919,"Budapest Dél","003","Q1","2019-02-10","Betérő ügyfelek",21,"fő","2019-03-01","lajanagy",{"$f":"AND(E920>=Kimutatás!B$2,E920<=Kimutatás!B$3)","v":true}]
[920,"Budapest Dél","003","Q1","2019-02-10","Lakossági hitelnövekmény összege ",-1,"Mhuf","2019-03-01","lajanagy",{"$f":"AND(E921>=Kimutatás!B$2,E921<=Kimutatás!B$3)","v":true}]
[921,"Budapest Dél","003","Q1","2019-02-10","Lakossági számlanyitás",2,"db","2019-03-01","lajanagy",{"$f":"AND(E922>=Kimutatás!B$2,E922<=Kimutatás!B$3)","v":true}]
[922,"Budapest Dél","003","Q1","2019-02-10","KKV hitelnövekmény (db)",2,"db","2019-03-01","lajanagy",{"$f":"AND(E923>=Kimutatás!B$2,E923<=Kimutatás!B$3)","v":true}]
[923,"Budapest Dél","003","Q1","2019-02-10","KKV számlanyitás",2,"db","2019-03-01","lajanagy",{"$f":"AND(E924>=Kimutatás!B$2,E924<=Kimutatás!B$3)","v":true}]
[924,"Budapest Dél","003","Q1","2019-02-10","Betét állomány növekmény",-19,"Mhuf","2019-03-01","lajanagy",{"$f":"AND(E925>=Kimutatás!B$2,E925<=Kimutatás!B$3)","v":true}]
[925,"Budapest Dél","003","Q1","2019-02-11","Betérő ügyfelek",1,"fő","2019-03-01","lajanagy",{"$f":"AND(E926>=Kimutatás!B$2,E926<=Kimutatás!B$3)","v":true}]
[926,"Budapest Dél","003","Q1","2019-02-11","Lakossági hitelnövekmény összege ",38,"Mhuf","2019-03-01","lajanagy",{"$f":"AND(E927>=Kimutatás!B$2,E927<=Kimutatás!B$3)","v":true}]
[927,"Budapest Dél","003","Q1","2019-02-11","Lakossági számlanyitás",1,"db","2019-03-01","lajanagy",{"$f":"AND(E928>=Kimutatás!B$2,E928<=Kimutatás!B$3)","v":true}]
[928,"Budapest Dél","003","Q1","2019-02-11","KKV hitelnövekmény (db)",-2,"db","2019-03-01","lajanagy",{"$f":"AND(E929>=Kimutatás!B$2,E929<=Kimutatás!B$3)","v":true}]
[929,"Budapest Dél","003","Q1","2019-02-11","KKV számlanyitás",-5,"db","2019-03-01","lajanagy",{"$f":"AND(E930>=Kimutatás!B$2,E930<=Kimutatás!B$3)","v":true}]
[930,"Budapest Dél","003","Q1","2019-02-11","Betét állomány növekmény",13,"Mhuf","2019-03-01","lajanagy",{"$f":"AND(E931>=Kimutatás!B$2,E931<=Kimutatás!B$3)","v":true}]
[931,"Budapest Dél","003","Q1","2019-02-12","Betérő ügyfelek",16,"fő","2019-03-01","lajanagy",{"$f":"AND(E932>=Kimutatás!B$2,E932<=Kimutatás!B$3)","v":true}]
[932,"Budapest Dél","003","Q1","2019-02-12","Lakossági hitelnövekmény összege ",-5,"Mhuf","2019-03-01","lajanagy",{"$f":"AND(E933>=Kimutatás!B$2,E933<=Kimutatás!B$3)","v":true}]
[933,"Budapest Dél","003","Q1","2019-02-12","Lakossági számlanyitás",2,"db","2019-03-01","lajanagy",{"$f":"AND(E934>=Kimutatás!B$2,E934<=Kimutatás!B$3)","v":true}]
[934,"Budapest Dél","003","Q1","2019-02-12","KKV hitelnövekmény (db)",1,"db","2019-03-01","lajanagy",{"$f":"AND(E935>=Kimutatás!B$2,E935<=Kimutatás!B$3)","v":true}]
[935,"Budapest Dél","003","Q1","2019-02-12","KKV számlanyitás",-2,"db","2019-03-01","lajanagy",{"$f":"AND(E936>=Kimutatás!B$2,E936<=Kimutatás!B$3)","v":true}]
[936,"Budapest Dél","003","Q1","2019-02-12","Betét állomány növekmény",19,"Mhuf","2019-03-01","lajanagy",{"$f":"AND(E937>=Kimutatás!B$2,E937<=Kimutatás!B$3)","v":true}]
[937,"Budapest Dél","003","Q1","2019-02-13","Betérő ügyfelek",35,"fő","2019-03-01","lajanagy",{"$f":"AND(E938>=Kimutatás!B$2,E938<=Kimutatás!B$3)","v":true}]
[938,"Budapest Dél","003","Q1","2019-02-13","Lakossági hitelnövekmény összege ",-10,"Mhuf","2019-03-01","lajanagy",{"$f":"AND(E939>=Kimutatás!B$2,E939<=Kimutatás!B$3)","v":true}]
[939,"Budapest Dél","003","Q1","2019-02-13","Lakossági számlanyitás",-4,"db","2019-03-01","lajanagy",{"$f":"AND(E940>=Kimutatás!B$2,E940<=Kimutatás!B$3)","v":true}]
[940,"Budapest Dél","003","Q1","2019-02-13","KKV hitelnövekmény (db)",2,"db","2019-03-01","lajanagy",{"$f":"AND(E941>=Kimutatás!B$2,E941<=Kimutatás!B$3)","v":true}]
[941,"Budapest Dél","003","Q1","2019-02-13","KKV számlanyitás",0,"db","2019-03-01","lajanagy",{"$f":"AND(E942>=Kimutatás!B$2,E942<=Kimutatás!B$3)","v":true}]
[942,"Budapest Dél","003","Q1","2019-02-13","Betét állomány növekmény",-20,"Mhuf","2019-03-01","lajanagy",{"$f":"AND(E943>=Kimutatás!B$2,E943<=Kimutatás!B$3)","v":true}]
[943,"Budapest Dél","003","Q1","2019-02-14","Betérő ügyfelek",38,"fő","2019-03-01","lajanagy",{"$f":"AND(E944>=Kimutatás!B$2,E944<=Kimutatás!B$3)","v":true}]
[944,"Budapest Dél","003","Q1","2019-02-14","Lakossági hitelnövekmény összege ",34,"Mhuf","2019-03-01","lajanagy",{"$f":"AND(E945>=Kimutatás!B$2,E945<=Kimutatás!B$3)","v":true}]
[945,"Budapest Dél","003","Q1","2019-02-14","Lakossági számlanyitás",-4,"db","2019-03-01","lajanagy",{"$f":"AND(E946>=Kimutatás!B$2,E946<=Kimutatás!B$3)","v":true}]
[946,"Budapest Dél","003","Q1","2019-02-14","KKV hitelnövekmény (db)",-1,"db","2019-03-01","lajanagy",{"$f":"AND(E947>=Kimutatás!B$2,E947<=Kimutatás!B$3)","v":true}]
[947,"Budapest Dél","003","Q1","2019-02-14","KKV számlanyitás",5,"db","2019-03-01","lajanagy",{"$f":"AND(E948>=Kimutatás!B$2,E948<=Kimutatás!B$3)","v":true}]
[948,"Budapest Dél","003","Q1","2019-02-14","Betét állomány növekmény",10,"Mhuf","2019-03-01","lajanagy",{"$f":"AND(E949>=Kimutatás!B$2,E949<=Kimutatás!B$3)","v":true}]
[949,"Budapest Dél","003","Q1","2019-02-17","Betérő ügyfelek",40,"fő","2019-03-01","lajanagy",{"$f":"AND(E950>=Kimutatás!B$2,E950<=Kimutatás!B$3)","v":true}]
[950,"Budapest Dél","003","Q1","2019-02-17","Lakossági hitelnövekmény összege ",22,"Mhuf","2019-03-01","lajanagy",{"$f":"AND(E951>=Kimutatás!B$2,E951<=Kimutatás!B$3)","v":true}]
[951,"Budapest Dél","003","Q1","2019-02-17","Lakossági számlanyitás",9,"db","2019-03-01","lajanagy",{"$f":"AND(E952>=Kimutatás!B$2,E952<=Kimutatás!B$3)","v":true}]
[952,"Budapest Dél","003","Q1","2019-02-17","KKV hitelnövekmény (db)",0,"db","2019-03-01","lajanagy",{"$f":"AND(E953>=Kimutatás!B$2,E953<=Kimutatás!B$3)","v":true}]
[953,"Budapest Dél","003","Q1","2019-02-17","KKV számlanyitás",5,"db","2019-03-01","lajanagy",{"$f":"AND(E954>=Kimutatás!B$2,E954<=Kimutatás!B$3)","v":true}]
[954,"Budapest Dél","003","Q1","2019-02-17","Betét állomány növekmény",26,"Mhuf","2019-03-01","lajanagy",{"$f":"AND(E955>=Kimutatás!B$2,E955<=Kimutatás!B$3)","v":true}]
[955,"Budapest Dél","003","Q1","2019-02-18","Betérő ügyfelek",4,"fő","2019-03-01","lajanagy",{"$f":"AND(E956>=Kimutatás!B$2,E956<=Kimutatás!B$3)","v":true}]
[956,"Budapest Dél","003","Q1","2019-02-18","Lakossági hitelnövekmény összege ",27,"Mhuf","2019-03-01","lajanagy",{"$f":"AND(E957>=Kimutatás!B$2,E957<=Kimutatás!B$3)","v":true}]
[957,"Budapest Dél","003","Q1","2019-02-18","Lakossági számlanyitás",2,"db","2019-03-01","lajanagy",{"$f":"AND(E958>=Kimutatás!B$2,E958<=Kimutatás!B$3)","v":true}]
[958,"Budapest Dél","003","Q1","2019-02-18","KKV hitelnövekmény (db)",1,"db","2019-03-01","lajanagy",{"$f":"AND(E959>=Kimutatás!B$2,E959<=Kimutatás!B$3)","v":true}]
[959,"Budapest Dél","003","Q1","2019-02-18","KKV számlanyitás",-1,"db","2019-03-01","lajanagy",{"$f":"AND(E960>=Kimutatás!B$2,E960<=Kimutatás!B$3)","v":true}]
[960,"Budapest Dél","003","Q1","2019-02-18","Betét állomány növekmény",40,"Mhuf","2019-03-01","lajanagy",{"$f":"AND(E961>=Kimutatás!B$2,E961<=Kimutatás!B$3)","v":true}]
[961,"Budapest Dél","003","Q1","2019-02-19","Betérő ügyfelek",31,"fő","2019-03-01","lajanagy",{"$f":"AND(E962>=Kimutatás!B$2,E962<=Kimutatás!B$3)","v":true}]
[962,"Budapest Dél","003","Q1","2019-02-19","Lakossági hitelnövekmény összege ",39,"Mhuf","2019-03-01","lajanagy",{"$f":"AND(E963>=Kimutatás!B$2,E963<=Kimutatás!B$3)","v":true}]
[963,"Budapest Dél","003","Q1","2019-02-19","Lakossági számlanyitás",10,"db","2019-03-01","lajanagy",{"$f":"AND(E964>=Kimutatás!B$2,E964<=Kimutatás!B$3)","v":true}]
[964,"Budapest Dél","003","Q1","2019-02-19","KKV hitelnövekmény (db)",-1,"db","2019-03-01","lajanagy",{"$f":"AND(E965>=Kimutatás!B$2,E965<=Kimutatás!B$3)","v":true}]
[965,"Budapest Dél","003","Q1","2019-02-19","KKV számlanyitás",2,"db","2019-03-01","lajanagy",{"$f":"AND(E966>=Kimutatás!B$2,E966<=Kimutatás!B$3)","v":true}]
[966,"Budapest Dél","003","Q1","2019-02-19","Betét állomány növekmény",21,"Mhuf","2019-03-01","lajanagy",{"$f":"AND(E967>=Kimutatás!B$2,E967<=Kimutatás!B$3)","v":true}]
[967,"Budapest Dél","003","Q1","2019-02-20","Betérő ügyfelek",38,"fő","2019-03-01","lajanagy",{"$f":"AND(E968>=Kimutatás!B$2,E968<=Kimutatás!B$3)","v":true}]
[968,"Budapest Dél","003","Q1","2019-02-20","Lakossági hitelnövekmény összege ",36,"Mhuf","2019-03-01","lajanagy",{"$f":"AND(E969>=Kimutatás!B$2,E969<=Kimutatás!B$3)","v":true}]
[969,"Budapest Dél","003","Q1","2019-02-20","Lakossági számlanyitás",-2,"db","2019-03-01","lajanagy",{"$f":"AND(E970>=Kimutatás!B$2,E970<=Kimutatás!B$3)","v":true}]
[970,"Budapest Dél","003","Q1","2019-02-20","KKV hitelnövekmény (db)",-2,"db","2019-03-01","lajanagy",{"$f":"AND(E971>=Kimutatás!B$2,E971<=Kimutatás!B$3)","v":true}]
[971,"Budapest Dél","003","Q1","2019-02-20","KKV számlanyitás",-4,"db","2019-03-01","lajanagy",{"$f":"AND(E972>=Kimutatás!B$2,E972<=Kimutatás!B$3)","v":true}]
[972,"Budapest Dél","003","Q1","2019-02-20","Betét állomány növekmény",30,"Mhuf","2019-03-01","lajanagy",{"$f":"AND(E973>=Kimutatás!B$2,E973<=Kimutatás!B$3)","v":true}]
[973,"Budapest Dél","003","Q1","2019-02-21","Betérő ügyfelek",46,"fő","2019-03-01","lajanagy",{"$f":"AND(E974>=Kimutatás!B$2,E974<=Kimutatás!B$3)","v":true}]
[974,"Budapest Dél","003","Q1","2019-02-21","Lakossági hitelnövekmény összege ",15,"Mhuf","2019-03-01","lajanagy",{"$f":"AND(E975>=Kimutatás!B$2,E975<=Kimutatás!B$3)","v":true}]
[975,"Budapest Dél","003","Q1","2019-02-21","Lakossági számlanyitás",-1,"db","2019-03-01","lajanagy",{"$f":"AND(E976>=Kimutatás!B$2,E976<=Kimutatás!B$3)","v":true}]
[976,"Budapest Dél","003","Q1","2019-02-21","KKV hitelnövekmény (db)",1,"db","2019-03-01","lajanagy",{"$f":"AND(E977>=Kimutatás!B$2,E977<=Kimutatás!B$3)","v":true}]
[977,"Budapest Dél","003","Q1","2019-02-21","KKV számlanyitás",4,"db","2019-03-01","lajanagy",{"$f":"AND(E978>=Kimutatás!B$2,E978<=Kimutatás!B$3)","v":true}]
[978,"Budapest Dél","003","Q1","2019-02-21","Betét állomány növekmény",-18,"Mhuf","2019-03-01","lajanagy",{"$f":"AND(E979>=Kimutatás!B$2,E979<=Kimutatás!B$3)","v":true}]
[979,"Budapest Dél","003","Q1","2019-02-24","Betérő ügyfelek",47,"fő","2019-03-01","lajanagy",{"$f":"AND(E980>=Kimutatás!B$2,E980<=Kimutatás!B$3)","v":true}]
[980,"Budapest Dél","003","Q1","2019-02-24","Lakossági hitelnövekmény összege ",33,"Mhuf","2019-03-01","lajanagy",{"$f":"AND(E981>=Kimutatás!B$2,E981<=Kimutatás!B$3)","v":true}]
[981,"Budapest Dél","003","Q1","2019-02-24","Lakossági számlanyitás",-1,"db","2019-03-01","lajanagy",{"$f":"AND(E982>=Kimutatás!B$2,E982<=Kimutatás!B$3)","v":true}]
[982,"Budapest Dél","003","Q1","2019-02-24","KKV hitelnövekmény (db)",0,"db","2019-03-01","lajanagy",{"$f":"AND(E983>=Kimutatás!B$2,E983<=Kimutatás!B$3)","v":true}]
[983,"Budapest Dél","003","Q1","2019-02-24","KKV számlanyitás",4,"db","2019-03-01","lajanagy",{"$f":"AND(E984>=Kimutatás!B$2,E984<=Kimutatás!B$3)","v":true}]
[984,"Budapest Dél","003","Q1","2019-02-24","Betét állomány növekmény",-11,"Mhuf","2019-03-01","lajanagy",{"$f":"AND(E985>=Kimutatás!B$2,E985<=Kimutatás!B$3)","v":true}]
[985,"Budapest Dél","003","Q1","2019-02-25","Betérő ügyfelek",20,"fő","2019-03-01","lajanagy",{"$f":"AND(E986>=Kimutatás!B$2,E986<=Kimutatás!B$3)","v":true}]
[986,"Budapest Dél","003","Q1","2019-02-25","Lakossági hitelnövekmény összege ",36,"Mhuf","2019-03-01","lajanagy",{"$f":"AND(E987>=Kimutatás!B$2,E987<=Kimutatás!B$3)","v":true}]
[987,"Budapest Dél","003","Q1","2019-02-25","Lakossági számlanyitás",-3,"db","2019-03-01","lajanagy",{"$f":"AND(E988>=Kimutatás!B$2,E988<=Kimutatás!B$3)","v":true}]
[988,"Budapest Dél","003","Q1","2019-02-25","KKV hitelnövekmény (db)",-1,"db","2019-03-01","lajanagy",{"$f":"AND(E989>=Kimutatás!B$2,E989<=Kimutatás!B$3)","v":true}]
[989,"Budapest Dél","003","Q1","2019-02-25","KKV számlanyitás",0,"db","2019-03-01","lajanagy",{"$f":"AND(E990>=Kimutatás!B$2,E990<=Kimutatás!B$3)","v":true}]
[990,"Budapest Dél","003","Q1","2019-02-25","Betét állomány növekmény",26,"Mhuf","2019-03-01","lajanagy",{"$f":"AND(E991>=Kimutatás!B$2,E991<=Kimutatás!B$3)","v":true}]
[991,"Budapest Dél","003","Q1","2019-02-26","Betérő ügyfelek",30,"fő","2019-03-01","lajanagy",{"$f":"AND(E992>=Kimutatás!B$2,E992<=Kimutatás!B$3)","v":true}]
[992,"Budapest Dél","003","Q1","2019-02-26","Lakossági hitelnövekmény összege ",-2,"Mhuf","2019-03-01","lajanagy",{"$f":"AND(E993>=Kimutatás!B$2,E993<=Kimutatás!B$3)","v":true}]
[993,"Budapest Dél","003","Q1","2019-02-26","Lakossági számlanyitás",7,"db","2019-03-01","lajanagy",{"$f":"AND(E994>=Kimutatás!B$2,E994<=Kimutatás!B$3)","v":true}]
[994,"Budapest Dél","003","Q1","2019-02-26","KKV hitelnövekmény (db)",-1,"db","2019-03-01","lajanagy",{"$f":"AND(E995>=Kimutatás!B$2,E995<=Kimutatás!B$3)","v":true}]
[995,"Budapest Dél","003","Q1","2019-02-26","KKV számlanyitás",-3,"db","2019-03-01","lajanagy",{"$f":"AND(E996>=Kimutatás!B$2,E996<=Kimutatás!B$3)","v":true}]
[996,"Budapest Dél","003","Q1","2019-02-26","Betét állomány növekmény",16,"Mhuf","2019-03-01","lajanagy",{"$f":"AND(E997>=Kimutatás!B$2,E997<=Kimutatás!B$3)","v":true}]
[997,"Budapest Dél","003","Q1","2019-02-27","Betérő ügyfelek",50,"fő","2019-03-01","lajanagy",{"$f":"AND(E998>=Kimutatás!B$2,E998<=Kimutatás!B$3)","v":true}]
[998,"Budapest Dél","003","Q1","2019-02-27","Lakossági hitelnövekmény összege ",16,"Mhuf","2019-03-01","lajanagy",{"$f":"AND(E999>=Kimutatás!B$2,E999<=Kimutatás!B$3)","v":true}]
[999,"Budapest Dél","003","Q1","2019-02-27","Lakossági számlanyitás",3,"db","2019-03-01","lajanagy",{"$f":"AND(E1000>=Kimutatás!B$2,E1000<=Kimutatás!B$3)","v":true}]
[1000,"Budapest Dél","003","Q1","2019-02-27","KKV hitelnövekmény (db)",-2,"db","2019-03-01","lajanagy",{"$f":"AND(E1001>=Kimutatás!B$2,E1001<=Kimutatás!B$3)","v":true}]
[1001,"Budapest Dél","003","Q1","2019-02-27","KKV számlanyitás",-1,"db","2019-03-01","lajanagy",{"$f":"AND(E1002>=Kimutatás!B$2,E1002<=Kimutatás!B$3)","v":true}]
[1002,"Budapest Dél","003","Q1","2019-02-27","Betét állomány növekmény",7,"Mhuf","2019-03-01","lajanagy",{"$f":"AND(E1003>=Kimutatás!B$2,E1003<=Kimutatás!B$3)","v":true}]
[1003,"Budapest Dél","003","Q1","2019-02-28","Betérő ügyfelek",43,"fő","2019-03-01","lajanagy",{"$f":"AND(E1004>=Kimutatás!B$2,E1004<=Kimutatás!B$3)","v":true}]
[1004,"Budapest Dél","003","Q1","2019-02-28","Lakossági hitelnövekmény összege ",22,"Mhuf","2019-03-01","lajanagy",{"$f":"AND(E1005>=Kimutatás!B$2,E1005<=Kimutatás!B$3)","v":true}]
[1005,"Budapest Dél","003","Q1","2019-02-28","Lakossági számlanyitás",9,"db","2019-03-01","lajanagy",{"$f":"AND(E1006>=Kimutatás!B$2,E1006<=Kimutatás!B$3)","v":true}]
[1006,"Budapest Dél","003","Q1","2019-02-28","KKV hitelnövekmény (db)",0,"db","2019-03-01","lajanagy",{"$f":"AND(E1007>=Kimutatás!B$2,E1007<=Kimutatás!B$3)","v":true}]
[1007,"Budapest Dél","003","Q1","2019-02-28","KKV számlanyitás",-4,"db","2019-03-01","lajanagy",{"$f":"AND(E1008>=Kimutatás!B$2,E1008<=Kimutatás!B$3)","v":true}]
[1008,"Budapest Dél","003","Q1","2019-02-28","Betét állomány növekmény",-2,"Mhuf","2019-03-01","lajanagy",{"$f":"AND(E1009>=Kimutatás!B$2,E1009<=Kimutatás!B$3)","v":true}]
[1009,"Budapest Dél","003","Q1","2019-03-03","Betérő ügyfelek",9,"fő","2019-04-01","berecz2a",{"$f":"AND(E1010>=Kimutatás!B$2,E1010<=Kimutatás!B$3)","v":true}]
[1010,"Budapest Dél","003","Q1","2019-03-03","Lakossági hitelnövekmény összege ",15,"Mhuf","2019-04-01","berecz2a",{"$f":"AND(E1011>=Kimutatás!B$2,E1011<=Kimutatás!B$3)","v":true}]
[1011,"Budapest Dél","003","Q1","2019-03-03","Lakossági számlanyitás",10,"db","2019-04-01","berecz2a",{"$f":"AND(E1012>=Kimutatás!B$2,E1012<=Kimutatás!B$3)","v":true}]
[1012,"Budapest Dél","003","Q1","2019-03-03","KKV hitelnövekmény (db)",-2,"db","2019-04-01","berecz2a",{"$f":"AND(E1013>=Kimutatás!B$2,E1013<=Kimutatás!B$3)","v":true}]
[1013,"Budapest Dél","003","Q1","2019-03-03","KKV számlanyitás",-5,"db","2019-04-01","berecz2a",{"$f":"AND(E1014>=Kimutatás!B$2,E1014<=Kimutatás!B$3)","v":true}]
[1014,"Budapest Dél","003","Q1","2019-03-03","Betét állomány növekmény",-9,"Mhuf","2019-04-01","berecz2a",{"$f":"AND(E1015>=Kimutatás!B$2,E1015<=Kimutatás!B$3)","v":true}]
[1015,"Budapest Dél","003","Q1","2019-03-04","Betérő ügyfelek",30,"fő","2019-04-01","berecz2a",{"$f":"AND(E1016>=Kimutatás!B$2,E1016<=Kimutatás!B$3)","v":true}]
[1016,"Budapest Dél","003","Q1","2019-03-04","Lakossági hitelnövekmény összege ",35,"Mhuf","2019-04-01","berecz2a",{"$f":"AND(E1017>=Kimutatás!B$2,E1017<=Kimutatás!B$3)","v":true}]
[1017,"Budapest Dél","003","Q1","2019-03-04","Lakossági számlanyitás",0,"db","2019-04-01","berecz2a",{"$f":"AND(E1018>=Kimutatás!B$2,E1018<=Kimutatás!B$3)","v":true}]
[1018,"Budapest Dél","003","Q1","2019-03-04","KKV hitelnövekmény (db)",-2,"db","2019-04-01","berecz2a",{"$f":"AND(E1019>=Kimutatás!B$2,E1019<=Kimutatás!B$3)","v":true}]
[1019,"Budapest Dél","003","Q1","2019-03-04","KKV számlanyitás",-3,"db","2019-04-01","berecz2a",{"$f":"AND(E1020>=Kimutatás!B$2,E1020<=Kimutatás!B$3)","v":true}]
[1020,"Budapest Dél","003","Q1","2019-03-04","Betét állomány növekmény",13,"Mhuf","2019-04-01","berecz2a",{"$f":"AND(E1021>=Kimutatás!B$2,E1021<=Kimutatás!B$3)","v":true}]
[1021,"Budapest Dél","003","Q1","2019-03-05","Betérő ügyfelek",40,"fő","2019-04-01","berecz2a",{"$f":"AND(E1022>=Kimutatás!B$2,E1022<=Kimutatás!B$3)","v":true}]
[1022,"Budapest Dél","003","Q1","2019-03-05","Lakossági hitelnövekmény összege ",-10,"Mhuf","2019-04-01","berecz2a",{"$f":"AND(E1023>=Kimutatás!B$2,E1023<=Kimutatás!B$3)","v":true}]
[1023,"Budapest Dél","003","Q1","2019-03-05","Lakossági számlanyitás",4,"db","2019-04-01","berecz2a",{"$f":"AND(E1024>=Kimutatás!B$2,E1024<=Kimutatás!B$3)","v":true}]
[1024,"Budapest Dél","003","Q1","2019-03-05","KKV hitelnövekmény (db)",-1,"db","2019-04-01","berecz2a",{"$f":"AND(E1025>=Kimutatás!B$2,E1025<=Kimutatás!B$3)","v":true}]
[1025,"Budapest Dél","003","Q1","2019-03-05","KKV számlanyitás",1,"db","2019-04-01","berecz2a",{"$f":"AND(E1026>=Kimutatás!B$2,E1026<=Kimutatás!B$3)","v":true}]
[1026,"Budapest Dél","003","Q1","2019-03-05","Betét állomány növekmény",37,"Mhuf","2019-04-01","berecz2a",{"$f":"AND(E1027>=Kimutatás!B$2,E1027<=Kimutatás!B$3)","v":true}]
[1027,"Budapest Dél","003","Q1","2019-03-06","Betérő ügyfelek",47,"fő","2019-04-01","berecz2a",{"$f":"AND(E1028>=Kimutatás!B$2,E1028<=Kimutatás!B$3)","v":true}]
[1028,"Budapest Dél","003","Q1","2019-03-06","Lakossági hitelnövekmény összege ",27,"Mhuf","2019-04-01","berecz2a",{"$f":"AND(E1029>=Kimutatás!B$2,E1029<=Kimutatás!B$3)","v":true}]
[1029,"Budapest Dél","003","Q1","2019-03-06","Lakossági számlanyitás",1,"db","2019-04-01","berecz2a",{"$f":"AND(E1030>=Kimutatás!B$2,E1030<=Kimutatás!B$3)","v":true}]
[1030,"Budapest Dél","003","Q1","2019-03-06","KKV hitelnövekmény (db)",-2,"db","2019-04-01","berecz2a",{"$f":"AND(E1031>=Kimutatás!B$2,E1031<=Kimutatás!B$3)","v":true}]
[1031,"Budapest Dél","003","Q1","2019-03-06","KKV számlanyitás",-4,"db","2019-04-01","berecz2a",{"$f":"AND(E1032>=Kimutatás!B$2,E1032<=Kimutatás!B$3)","v":true}]
[1032,"Budapest Dél","003","Q1","2019-03-06","Betét állomány növekmény",16,"Mhuf","2019-04-01","berecz2a",{"$f":"AND(E1033>=Kimutatás!B$2,E1033<=Kimutatás!B$3)","v":true}]
[1033,"Budapest Dél","003","Q1","2019-03-07","Betérő ügyfelek",47,"fő","2019-04-01","berecz2a",{"$f":"AND(E1034>=Kimutatás!B$2,E1034<=Kimutatás!B$3)","v":true}]
[1034,"Budapest Dél","003","Q1","2019-03-07","Lakossági hitelnövekmény összege ",35,"Mhuf","2019-04-01","berecz2a",{"$f":"AND(E1035>=Kimutatás!B$2,E1035<=Kimutatás!B$3)","v":true}]
[1035,"Budapest Dél","003","Q1","2019-03-07","Lakossági számlanyitás",-5,"db","2019-04-01","berecz2a",{"$f":"AND(E1036>=Kimutatás!B$2,E1036<=Kimutatás!B$3)","v":true}]
[1036,"Budapest Dél","003","Q1","2019-03-07","KKV hitelnövekmény (db)",-2,"db","2019-04-01","berecz2a",{"$f":"AND(E1037>=Kimutatás!B$2,E1037<=Kimutatás!B$3)","v":true}]
[1037,"Budapest Dél","003","Q1","2019-03-07","KKV számlanyitás",-1,"db","2019-04-01","berecz2a",{"$f":"AND(E1038>=Kimutatás!B$2,E1038<=Kimutatás!B$3)","v":true}]
[1038,"Budapest Dél","003","Q1","2019-03-07","Betét állomány növekmény",2,"Mhuf","2019-04-01","berecz2a",{"$f":"AND(E1039>=Kimutatás!B$2,E1039<=Kimutatás!B$3)","v":true}]
[1039,"Budapest Dél","003","Q1","2019-03-10","Betérő ügyfelek",18,"fő","2019-04-01","berecz2a",{"$f":"AND(E1040>=Kimutatás!B$2,E1040<=Kimutatás!B$3)","v":true}]
[1040,"Budapest Dél","003","Q1","2019-03-10","Lakossági hitelnövekmény összege ",35,"Mhuf","2019-04-01","berecz2a",{"$f":"AND(E1041>=Kimutatás!B$2,E1041<=Kimutatás!B$3)","v":true}]
[1041,"Budapest Dél","003","Q1","2019-03-10","Lakossági számlanyitás",3,"db","2019-04-01","berecz2a",{"$f":"AND(E1042>=Kimutatás!B$2,E1042<=Kimutatás!B$3)","v":true}]
[1042,"Budapest Dél","003","Q1","2019-03-10","KKV hitelnövekmény (db)",1,"db","2019-04-01","berecz2a",{"$f":"AND(E1043>=Kimutatás!B$2,E1043<=Kimutatás!B$3)","v":true}]
[1043,"Budapest Dél","003","Q1","2019-03-10","KKV számlanyitás",-3,"db","2019-04-01","berecz2a",{"$f":"AND(E1044>=Kimutatás!B$2,E1044<=Kimutatás!B$3)","v":true}]
[1044,"Budapest Dél","003","Q1","2019-03-10","Betét állomány növekmény",23,"Mhuf","2019-04-01","berecz2a",{"$f":"AND(E1045>=Kimutatás!B$2,E1045<=Kimutatás!B$3)","v":true}]
[1045,"Budapest Dél","003","Q1","2019-03-11","Betérő ügyfelek",50,"fő","2019-04-01","berecz2a",{"$f":"AND(E1046>=Kimutatás!B$2,E1046<=Kimutatás!B$3)","v":false}]
[1046,"Budapest Dél","003","Q1","2019-03-11","Lakossági hitelnövekmény összege ",20,"Mhuf","2019-04-01","berecz2a",{"$f":"AND(E1047>=Kimutatás!B$2,E1047<=Kimutatás!B$3)","v":false}]
[1047,"Budapest Dél","003","Q1","2019-03-11","Lakossági számlanyitás",8,"db","2019-04-01","berecz2a",{"$f":"AND(E1048>=Kimutatás!B$2,E1048<=Kimutatás!B$3)","v":false}]
[1048,"Budapest Dél","003","Q1","2019-03-11","KKV hitelnövekmény (db)",-1,"db","2019-04-01","berecz2a",{"$f":"AND(E1049>=Kimutatás!B$2,E1049<=Kimutatás!B$3)","v":false}]
[1049,"Budapest Dél","003","Q1","2019-03-11","KKV számlanyitás",-5,"db","2019-04-01","berecz2a",{"$f":"AND(E1050>=Kimutatás!B$2,E1050<=Kimutatás!B$3)","v":false}]
[1050,"Budapest Dél","003","Q1","2019-03-11","Betét állomány növekmény",27,"Mhuf","2019-04-01","berecz2a",{"$f":"AND(E1051>=Kimutatás!B$2,E1051<=Kimutatás!B$3)","v":false}]
[1051,"Budapest Dél","003","Q1","2019-03-12","Betérő ügyfelek",41,"fő","2019-04-01","berecz2a",{"$f":"AND(E1052>=Kimutatás!B$2,E1052<=Kimutatás!B$3)","v":false}]
[1052,"Budapest Dél","003","Q1","2019-03-12","Lakossági hitelnövekmény összege ",32,"Mhuf","2019-04-01","berecz2a",{"$f":"AND(E1053>=Kimutatás!B$2,E1053<=Kimutatás!B$3)","v":false}]
[1053,"Budapest Dél","003","Q1","2019-03-12","Lakossági számlanyitás",-4,"db","2019-04-01","berecz2a",{"$f":"AND(E1054>=Kimutatás!B$2,E1054<=Kimutatás!B$3)","v":false}]
[1054,"Budapest Dél","003","Q1","2019-03-12","KKV hitelnövekmény (db)",1,"db","2019-04-01","berecz2a",{"$f":"AND(E1055>=Kimutatás!B$2,E1055<=Kimutatás!B$3)","v":false}]
[1055,"Budapest Dél","003","Q1","2019-03-12","KKV számlanyitás",-1,"db","2019-04-01","berecz2a",{"$f":"AND(E1056>=Kimutatás!B$2,E1056<=Kimutatás!B$3)","v":false}]
[1056,"Budapest Dél","003","Q1","2019-03-12","Betét állomány növekmény",46,"Mhuf","2019-04-01","berecz2a",{"$f":"AND(E1057>=Kimutatás!B$2,E1057<=Kimutatás!B$3)","v":false}]
[1057,"Budapest Dél","003","Q1","2019-03-13","Betérő ügyfelek",42,"fő","2019-04-01","berecz2a",{"$f":"AND(E1058>=Kimutatás!B$2,E1058<=Kimutatás!B$3)","v":false}]
[1058,"Budapest Dél","003","Q1","2019-03-13","Lakossági hitelnövekmény összege ",-8,"Mhuf","2019-04-01","berecz2a",{"$f":"AND(E1059>=Kimutatás!B$2,E1059<=Kimutatás!B$3)","v":false}]
[1059,"Budapest Dél","003","Q1","2019-03-13","Lakossági számlanyitás",0,"db","2019-04-01","berecz2a",{"$f":"AND(E1060>=Kimutatás!B$2,E1060<=Kimutatás!B$3)","v":false}]
[1060,"Budapest Dél","003","Q1","2019-03-13","KKV hitelnövekmény (db)",0,"db","2019-04-01","berecz2a",{"$f":"AND(E1061>=Kimutatás!B$2,E1061<=Kimutatás!B$3)","v":false}]
[1061,"Budapest Dél","003","Q1","2019-03-13","KKV számlanyitás",-3,"db","2019-04-01","berecz2a",{"$f":"AND(E1062>=Kimutatás!B$2,E1062<=Kimutatás!B$3)","v":false}]
[1062,"Budapest Dél","003","Q1","2019-03-13","Betét állomány növekmény",47,"Mhuf","2019-04-01","berecz2a",{"$f":"AND(E1063>=Kimutatás!B$2,E1063<=Kimutatás!B$3)","v":false}]
[1063,"Budapest Dél","003","Q1","2019-03-14","Betérő ügyfelek",26,"fő","2019-04-01","berecz2a",{"$f":"AND(E1064>=Kimutatás!B$2,E1064<=Kimutatás!B$3)","v":false}]
[1064,"Budapest Dél","003","Q1","2019-03-14","Lakossági hitelnövekmény összege ",25,"Mhuf","2019-04-01","berecz2a",{"$f":"AND(E1065>=Kimutatás!B$2,E1065<=Kimutatás!B$3)","v":false}]
[1065,"Budapest Dél","003","Q1","2019-03-14","Lakossági számlanyitás",2,"db","2019-04-01","berecz2a",{"$f":"AND(E1066>=Kimutatás!B$2,E1066<=Kimutatás!B$3)","v":false}]
[1066,"Budapest Dél","003","Q1","2019-03-14","KKV hitelnövekmény (db)",-2,"db","2019-04-01","berecz2a",{"$f":"AND(E1067>=Kimutatás!B$2,E1067<=Kimutatás!B$3)","v":false}]
[1067,"Budapest Dél","003","Q1","2019-03-14","KKV számlanyitás",-5,"db","2019-04-01","berecz2a",{"$f":"AND(E1068>=Kimutatás!B$2,E1068<=Kimutatás!B$3)","v":false}]
[1068,"Budapest Dél","003","Q1","2019-03-14","Betét állomány növekmény",40,"Mhuf","2019-04-01","berecz2a",{"$f":"AND(E1069>=Kimutatás!B$2,E1069<=Kimutatás!B$3)","v":false}]
[1069,"Budapest Dél","003","Q1","2019-03-17","Betérő ügyfelek",16,"fő","2019-04-01","berecz2a",{"$f":"AND(E1070>=Kimutatás!B$2,E1070<=Kimutatás!B$3)","v":false}]
[1070,"Budapest Dél","003","Q1","2019-03-17","Lakossági hitelnövekmény összege ",11,"Mhuf","2019-04-01","berecz2a",{"$f":"AND(E1071>=Kimutatás!B$2,E1071<=Kimutatás!B$3)","v":false}]
[1071,"Budapest Dél","003","Q1","2019-03-17","Lakossági számlanyitás",6,"db","2019-04-01","berecz2a",{"$f":"AND(E1072>=Kimutatás!B$2,E1072<=Kimutatás!B$3)","v":false}]
[1072,"Budapest Dél","003","Q1","2019-03-17","KKV hitelnövekmény (db)",2,"db","2019-04-01","berecz2a",{"$f":"AND(E1073>=Kimutatás!B$2,E1073<=Kimutatás!B$3)","v":false}]
[1073,"Budapest Dél","003","Q1","2019-03-17","KKV számlanyitás",4,"db","2019-04-01","berecz2a",{"$f":"AND(E1074>=Kimutatás!B$2,E1074<=Kimutatás!B$3)","v":false}]
[1074,"Budapest Dél","003","Q1","2019-03-17","Betét állomány növekmény",36,"Mhuf","2019-04-01","berecz2a",{"$f":"AND(E1075>=Kimutatás!B$2,E1075<=Kimutatás!B$3)","v":false}]
[1075,"Budapest Dél","003","Q1","2019-03-18","Betérő ügyfelek",35,"fő","2019-04-01","berecz2a",{"$f":"AND(E1076>=Kimutatás!B$2,E1076<=Kimutatás!B$3)","v":false}]
[1076,"Budapest Dél","003","Q1","2019-03-18","Lakossági hitelnövekmény összege ",0,"Mhuf","2019-04-01","berecz2a",{"$f":"AND(E1077>=Kimutatás!B$2,E1077<=Kimutatás!B$3)","v":false}]
[1077,"Budapest Dél","003","Q1","2019-03-18","Lakossági számlanyitás",6,"db","2019-04-01","berecz2a",{"$f":"AND(E1078>=Kimutatás!B$2,E1078<=Kimutatás!B$3)","v":false}]
[1078,"Budapest Dél","003","Q1","2019-03-18","KKV hitelnövekmény (db)",0,"db","2019-04-01","berecz2a",{"$f":"AND(E1079>=Kimutatás!B$2,E1079<=Kimutatás!B$3)","v":false}]
[1079,"Budapest Dél","003","Q1","2019-03-18","KKV számlanyitás",-5,"db","2019-04-01","berecz2a",{"$f":"AND(E1080>=Kimutatás!B$2,E1080<=Kimutatás!B$3)","v":false}]
[1080,"Budapest Dél","003","Q1","2019-03-18","Betét állomány növekmény",49,"Mhuf","2019-04-01","berecz2a",{"$f":"AND(E1081>=Kimutatás!B$2,E1081<=Kimutatás!B$3)","v":false}]
[1081,"Budapest Dél","003","Q1","2019-03-19","Betérő ügyfelek",39,"fő","2019-04-01","berecz2a",{"$f":"AND(E1082>=Kimutatás!B$2,E1082<=Kimutatás!B$3)","v":false}]
[1082,"Budapest Dél","003","Q1","2019-03-19","Lakossági hitelnövekmény összege ",1,"Mhuf","2019-04-01","berecz2a",{"$f":"AND(E1083>=Kimutatás!B$2,E1083<=Kimutatás!B$3)","v":false}]
[1083,"Budapest Dél","003","Q1","2019-03-19","Lakossági számlanyitás",7,"db","2019-04-01","berecz2a",{"$f":"AND(E1084>=Kimutatás!B$2,E1084<=Kimutatás!B$3)","v":false}]
[1084,"Budapest Dél","003","Q1","2019-03-19","KKV hitelnövekmény (db)",2,"db","2019-04-01","berecz2a",{"$f":"AND(E1085>=Kimutatás!B$2,E1085<=Kimutatás!B$3)","v":false}]
[1085,"Budapest Dél","003","Q1","2019-03-19","KKV számlanyitás",-1,"db","2019-04-01","berecz2a",{"$f":"AND(E1086>=Kimutatás!B$2,E1086<=Kimutatás!B$3)","v":false}]
[1086,"Budapest Dél","003","Q1","2019-03-19","Betét állomány növekmény",0,"Mhuf","2019-04-01","berecz2a",{"$f":"AND(E1087>=Kimutatás!B$2,E1087<=Kimutatás!B$3)","v":false}]
[1087,"Budapest Dél","003","Q1","2019-03-20","Betérő ügyfelek",13,"fő","2019-04-01","berecz2a",{"$f":"AND(E1088>=Kimutatás!B$2,E1088<=Kimutatás!B$3)","v":false}]
[1088,"Budapest Dél","003","Q1","2019-03-20","Lakossági hitelnövekmény összege ",19,"Mhuf","2019-04-01","berecz2a",{"$f":"AND(E1089>=Kimutatás!B$2,E1089<=Kimutatás!B$3)","v":false}]
[1089,"Budapest Dél","003","Q1","2019-03-20","Lakossági számlanyitás",2,"db","2019-04-01","berecz2a",{"$f":"AND(E1090>=Kimutatás!B$2,E1090<=Kimutatás!B$3)","v":false}]
[1090,"Budapest Dél","003","Q1","2019-03-20","KKV hitelnövekmény (db)",0,"db","2019-04-01","berecz2a",{"$f":"AND(E1091>=Kimutatás!B$2,E1091<=Kimutatás!B$3)","v":false}]
[1091,"Budapest Dél","003","Q1","2019-03-20","KKV számlanyitás",2,"db","2019-04-01","berecz2a",{"$f":"AND(E1092>=Kimutatás!B$2,E1092<=Kimutatás!B$3)","v":false}]
[1092,"Budapest Dél","003","Q1","2019-03-20","Betét állomány növekmény",-11,"Mhuf","2019-04-01","berecz2a",{"$f":"AND(E1093>=Kimutatás!B$2,E1093<=Kimutatás!B$3)","v":false}]
[1093,"Budapest Dél","003","Q1","2019-03-21","Betérő ügyfelek",6,"fő","2019-04-01","berecz2a",{"$f":"AND(E1094>=Kimutatás!B$2,E1094<=Kimutatás!B$3)","v":false}]
[1094,"Budapest Dél","003","Q1","2019-03-21","Lakossági hitelnövekmény összege ",38,"Mhuf","2019-04-01","berecz2a",{"$f":"AND(E1095>=Kimutatás!B$2,E1095<=Kimutatás!B$3)","v":false}]
[1095,"Budapest Dél","003","Q1","2019-03-21","Lakossági számlanyitás",5,"db","2019-04-01","berecz2a",{"$f":"AND(E1096>=Kimutatás!B$2,E1096<=Kimutatás!B$3)","v":false}]
[1096,"Budapest Dél","003","Q1","2019-03-21","KKV hitelnövekmény (db)",-1,"db","2019-04-01","berecz2a",{"$f":"AND(E1097>=Kimutatás!B$2,E1097<=Kimutatás!B$3)","v":false}]
[1097,"Budapest Dél","003","Q1","2019-03-21","KKV számlanyitás",5,"db","2019-04-01","berecz2a",{"$f":"AND(E1098>=Kimutatás!B$2,E1098<=Kimutatás!B$3)","v":false}]
[1098,"Budapest Dél","003","Q1","2019-03-21","Betét állomány növekmény",-1,"Mhuf","2019-04-01","berecz2a",{"$f":"AND(E1099>=Kimutatás!B$2,E1099<=Kimutatás!B$3)","v":false}]
[1099,"Budapest Dél","003","Q1","2019-03-24","Betérő ügyfelek",9,"fő","2019-04-01","berecz2a",{"$f":"AND(E1100>=Kimutatás!B$2,E1100<=Kimutatás!B$3)","v":false}]
[1100,"Budapest Dél","003","Q1","2019-03-24","Lakossági hitelnövekmény összege ",50,"Mhuf","2019-04-01","berecz2a",{"$f":"AND(E1101>=Kimutatás!B$2,E1101<=Kimutatás!B$3)","v":false}]
[1101,"Budapest Dél","003","Q1","2019-03-24","Lakossági számlanyitás",4,"db","2019-04-01","berecz2a",{"$f":"AND(E1102>=Kimutatás!B$2,E1102<=Kimutatás!B$3)","v":false}]
[1102,"Budapest Dél","003","Q1","2019-03-24","KKV hitelnövekmény (db)",1,"db","2019-04-01","berecz2a",{"$f":"AND(E1103>=Kimutatás!B$2,E1103<=Kimutatás!B$3)","v":false}]
[1103,"Budapest Dél","003","Q1","2019-03-24","KKV számlanyitás",3,"db","2019-04-01","berecz2a",{"$f":"AND(E1104>=Kimutatás!B$2,E1104<=Kimutatás!B$3)","v":false}]
[1104,"Budapest Dél","003","Q1","2019-03-24","Betét állomány növekmény",37,"Mhuf","2019-04-01","berecz2a",{"$f":"AND(E1105>=Kimutatás!B$2,E1105<=Kimutatás!B$3)","v":false}]
[1105,"Budapest Dél","003","Q1","2019-03-25","Betérő ügyfelek",47,"fő","2019-04-01","berecz2a",{"$f":"AND(E1106>=Kimutatás!B$2,E1106<=Kimutatás!B$3)","v":false}]
[1106,"Budapest Dél","003","Q1","2019-03-25","Lakossági hitelnövekmény összege ",-1,"Mhuf","2019-04-01","berecz2a",{"$f":"AND(E1107>=Kimutatás!B$2,E1107<=Kimutatás!B$3)","v":false}]
[1107,"Budapest Dél","003","Q1","2019-03-25","Lakossági számlanyitás",-1,"db","2019-04-01","berecz2a",{"$f":"AND(E1108>=Kimutatás!B$2,E1108<=Kimutatás!B$3)","v":false}]
[1108,"Budapest Dél","003","Q1","2019-03-25","KKV hitelnövekmény (db)",-2,"db","2019-04-01","berecz2a",{"$f":"AND(E1109>=Kimutatás!B$2,E1109<=Kimutatás!B$3)","v":false}]
[1109,"Budapest Dél","003","Q1","2019-03-25","KKV számlanyitás",-1,"db","2019-04-01","berecz2a",{"$f":"AND(E1110>=Kimutatás!B$2,E1110<=Kimutatás!B$3)","v":false}]
[1110,"Budapest Dél","003","Q1","2019-03-25","Betét állomány növekmény",-15,"Mhuf","2019-04-01","berecz2a",{"$f":"AND(E1111>=Kimutatás!B$2,E1111<=Kimutatás!B$3)","v":false}]
[1111,"Budapest Dél","003","Q1","2019-03-26","Betérő ügyfelek",30,"fő","2019-04-01","berecz2a",{"$f":"AND(E1112>=Kimutatás!B$2,E1112<=Kimutatás!B$3)","v":false}]
[1112,"Budapest Dél","003","Q1","2019-03-26","Lakossági hitelnövekmény összege ",24,"Mhuf","2019-04-01","berecz2a",{"$f":"AND(E1113>=Kimutatás!B$2,E1113<=Kimutatás!B$3)","v":false}]
[1113,"Budapest Dél","003","Q1","2019-03-26","Lakossági számlanyitás",8,"db","2019-04-01","berecz2a",{"$f":"AND(E1114>=Kimutatás!B$2,E1114<=Kimutatás!B$3)","v":false}]
[1114,"Budapest Dél","003","Q1","2019-03-26","KKV hitelnövekmény (db)",1,"db","2019-04-01","berecz2a",{"$f":"AND(E1115>=Kimutatás!B$2,E1115<=Kimutatás!B$3)","v":false}]
[1115,"Budapest Dél","003","Q1","2019-03-26","KKV számlanyitás",-4,"db","2019-04-01","berecz2a",{"$f":"AND(E1116>=Kimutatás!B$2,E1116<=Kimutatás!B$3)","v":false}]
[1116,"Budapest Dél","003","Q1","2019-03-26","Betét állomány növekmény",-19,"Mhuf","2019-04-01","berecz2a",{"$f":"AND(E1117>=Kimutatás!B$2,E1117<=Kimutatás!B$3)","v":false}]
[1117,"Budapest Dél","003","Q1","2019-03-27","Betérő ügyfelek",11,"fő","2019-04-01","berecz2a",{"$f":"AND(E1118>=Kimutatás!B$2,E1118<=Kimutatás!B$3)","v":false}]
[1118,"Budapest Dél","003","Q1","2019-03-27","Lakossági hitelnövekmény összege ",46,"Mhuf","2019-04-01","berecz2a",{"$f":"AND(E1119>=Kimutatás!B$2,E1119<=Kimutatás!B$3)","v":false}]
[1119,"Budapest Dél","003","Q1","2019-03-27","Lakossági számlanyitás",2,"db","2019-04-01","berecz2a",{"$f":"AND(E1120>=Kimutatás!B$2,E1120<=Kimutatás!B$3)","v":false}]
[1120,"Budapest Dél","003","Q1","2019-03-27","KKV hitelnövekmény (db)",-1,"db","2019-04-01","berecz2a",{"$f":"AND(E1121>=Kimutatás!B$2,E1121<=Kimutatás!B$3)","v":false}]
[1121,"Budapest Dél","003","Q1","2019-03-27","KKV számlanyitás",-5,"db","2019-04-01","berecz2a",{"$f":"AND(E1122>=Kimutatás!B$2,E1122<=Kimutatás!B$3)","v":false}]
[1122,"Budapest Dél","003","Q1","2019-03-27","Betét állomány növekmény",-18,"Mhuf","2019-04-01","berecz2a",{"$f":"AND(E1123>=Kimutatás!B$2,E1123<=Kimutatás!B$3)","v":false}]
[1123,"Budapest Dél","003","Q1","2019-03-28","Betérő ügyfelek",47,"fő","2019-04-01","berecz2a",{"$f":"AND(E1124>=Kimutatás!B$2,E1124<=Kimutatás!B$3)","v":false}]
[1124,"Budapest Dél","003","Q1","2019-03-28","Lakossági hitelnövekmény összege ",36,"Mhuf","2019-04-01","berecz2a",{"$f":"AND(E1125>=Kimutatás!B$2,E1125<=Kimutatás!B$3)","v":false}]
[1125,"Budapest Dél","003","Q1","2019-03-28","Lakossági számlanyitás",2,"db","2019-04-01","berecz2a",{"$f":"AND(E1126>=Kimutatás!B$2,E1126<=Kimutatás!B$3)","v":false}]
[1126,"Budapest Dél","003","Q1","2019-03-28","KKV hitelnövekmény (db)",2,"db","2019-04-01","berecz2a",{"$f":"AND(E1127>=Kimutatás!B$2,E1127<=Kimutatás!B$3)","v":false}]
[1127,"Budapest Dél","003","Q1","2019-03-28","KKV számlanyitás",-2,"db","2019-04-01","berecz2a",{"$f":"AND(E1128>=Kimutatás!B$2,E1128<=Kimutatás!B$3)","v":false}]
[1128,"Budapest Dél","003","Q1","2019-03-28","Betét állomány növekmény",-8,"Mhuf","2019-04-01","berecz2a",{"$f":"AND(E1129>=Kimutatás!B$2,E1129<=Kimutatás!B$3)","v":false}]
[1129,"Budapest Dél","003","Q1","2019-03-31","Betérő ügyfelek",24,"fő","2019-04-01","berecz2a",{"$f":"AND(E1130>=Kimutatás!B$2,E1130<=Kimutatás!B$3)","v":false}]
[1130,"Budapest Dél","003","Q1","2019-03-31","Lakossági hitelnövekmény összege ",39,"Mhuf","2019-04-01","berecz2a",{"$f":"AND(E1131>=Kimutatás!B$2,E1131<=Kimutatás!B$3)","v":false}]
[1131,"Budapest Dél","003","Q1","2019-03-31","Lakossági számlanyitás",-1,"db","2019-04-01","berecz2a",{"$f":"AND(E1132>=Kimutatás!B$2,E1132<=Kimutatás!B$3)","v":false}]
[1132,"Budapest Dél","003","Q1","2019-03-31","KKV hitelnövekmény (db)",-2,"db","2019-04-01","berecz2a",{"$f":"AND(E1133>=Kimutatás!B$2,E1133<=Kimutatás!B$3)","v":false}]
[1133,"Budapest Dél","003","Q1","2019-03-31","KKV számlanyitás",-2,"db","2019-04-01","berecz2a",{"$f":"AND(E1134>=Kimutatás!B$2,E1134<=Kimutatás!B$3)","v":false}]
[1134,"Budapest Dél","003","Q1","2019-03-31","Betét állomány növekmény",25,"Mhuf","2019-04-01","berecz2a",{"$f":"AND(E1135>=Kimutatás!B$2,E1135<=Kimutatás!B$3)","v":false}]
[1135,"Debrecen","004","Q1","2019-01-02","Betérő ügyfelek",29,"fő","2019-02-01","lajosk",{"$f":"AND(E1136>=Kimutatás!B$2,E1136<=Kimutatás!B$3)","v":false}]
[1136,"Debrecen",{"$f":"C1136","v":"004"},"Q1","2019-01-02","Lakossági hitelnövekmény összege ",7,"Mhuf","2019-02-01","lajosk",{"$f":"AND(E1137>=Kimutatás!B$2,E1137<=Kimutatás!B$3)","v":false}]
[1137,"Debrecen","004","Q1","2019-01-02","Lakossági számlanyitás",7,"db","2019-02-01","lajosk",{"$f":"AND(E1138>=Kimutatás!B$2,E1138<=Kimutatás!B$3)","v":false}]
[1138,"Debrecen","004","Q1","2019-01-02","KKV hitelnövekmény (db)",0,"db","2019-02-01","lajosk",{"$f":"AND(E1139>=Kimutatás!B$2,E1139<=Kimutatás!B$3)","v":false}]
[1139,"Debrecen","004","Q1","2019-01-02","KKV számlanyitás",-2,"db","2019-02-01","lajosk",{"$f":"AND(E1140>=Kimutatás!B$2,E1140<=Kimutatás!B$3)","v":false}]
[1140,"Debrecen","004","Q1","2019-01-02","Betét állomány növekmény",-18,"Mhuf","2019-02-01","lajosk",{"$f":"AND(E1141>=Kimutatás!B$2,E1141<=Kimutatás!B$3)","v":false}]
[1141,"Debrecen","004","Q1","2019-01-03","Betérő ügyfelek",32,"fő","2019-02-01","lajosk",{"$f":"AND(E1142>=Kimutatás!B$2,E1142<=Kimutatás!B$3)","v":false}]
[1142,"Debrecen","004","Q1","2019-01-03","Lakossági hitelnövekmény összege ",1,"Mhuf","2019-02-01","lajosk",{"$f":"AND(E1143>=Kimutatás!B$2,E1143<=Kimutatás!B$3)","v":false}]
[1143,"Debrecen","004","Q1","2019-01-03","Lakossági számlanyitás",6,"db","2019-02-01","lajosk",{"$f":"AND(E1144>=Kimutatás!B$2,E1144<=Kimutatás!B$3)","v":false}]
[1144,"Debrecen","004","Q1","2019-01-03","KKV hitelnövekmény (db)",-1,"db","2019-02-01","lajosk",{"$f":"AND(E1145>=Kimutatás!B$2,E1145<=Kimutatás!B$3)","v":false}]
[1145,"Debrecen","004","Q1","2019-01-03","KKV számlanyitás",2,"db","2019-02-01","lajosk",{"$f":"AND(E1146>=Kimutatás!B$2,E1146<=Kimutatás!B$3)","v":false}]
[1146,"Debrecen","004","Q1","2019-01-03","Betét állomány növekmény",-2,"Mhuf","2019-02-01","lajosk",{"$f":"AND(E1147>=Kimutatás!B$2,E1147<=Kimutatás!B$3)","v":false}]
[1147,"Debrecen","004","Q1","2019-01-06","Betérő ügyfelek",33,"fő","2019-02-01","lajosk",{"$f":"AND(E1148>=Kimutatás!B$2,E1148<=Kimutatás!B$3)","v":false}]
[1148,"Debrecen","004","Q1","2019-01-06","Lakossági hitelnövekmény összege ",-8,"Mhuf","2019-02-01","lajosk",{"$f":"AND(E1149>=Kimutatás!B$2,E1149<=Kimutatás!B$3)","v":false}]
[1149,"Debrecen","004","Q1","2019-01-06","Lakossági számlanyitás",2,"db","2019-02-01","lajosk",{"$f":"AND(E1150>=Kimutatás!B$2,E1150<=Kimutatás!B$3)","v":false}]
[1150,"Debrecen","004","Q1","2019-01-06","KKV hitelnövekmény (db)",-2,"db","2019-02-01","lajosk",{"$f":"AND(E1151>=Kimutatás!B$2,E1151<=Kimutatás!B$3)","v":false}]
[1151,"Debrecen","004","Q1","2019-01-06","KKV számlanyitás",-4,"db","2019-02-01","lajosk",{"$f":"AND(E1152>=Kimutatás!B$2,E1152<=Kimutatás!B$3)","v":false}]
[1152,"Debrecen","004","Q1","2019-01-06","Betét állomány növekmény",4,"Mhuf","2019-02-01","lajosk",{"$f":"AND(E1153>=Kimutatás!B$2,E1153<=Kimutatás!B$3)","v":false}]
[1153,"Debrecen","004","Q1","2019-01-07","Betérő ügyfelek",1,"fő","2019-02-01","lajosk",{"$f":"AND(E1154>=Kimutatás!B$2,E1154<=Kimutatás!B$3)","v":false}]
[1154,"Debrecen","004","Q1","2019-01-07","Lakossági hitelnövekmény összege ",37,"Mhuf","2019-02-01","lajosk",{"$f":"AND(E1155>=Kimutatás!B$2,E1155<=Kimutatás!B$3)","v":false}]
[1155,"Debrecen","004","Q1","2019-01-07","Lakossági számlanyitás",1,"db","2019-02-01","lajosk",{"$f":"AND(E1156>=Kimutatás!B$2,E1156<=Kimutatás!B$3)","v":false}]
[1156,"Debrecen","004","Q1","2019-01-07","KKV hitelnövekmény (db)",-1,"db","2019-02-01","lajosk",{"$f":"AND(E1157>=Kimutatás!B$2,E1157<=Kimutatás!B$3)","v":false}]
[1157,"Debrecen","004","Q1","2019-01-07","KKV számlanyitás",2,"db","2019-02-01","lajosk",{"$f":"AND(E1158>=Kimutatás!B$2,E1158<=Kimutatás!B$3)","v":false}]
[1158,"Debrecen","004","Q1","2019-01-07","Betét állomány növekmény",-2,"Mhuf","2019-02-01","lajosk",{"$f":"AND(E1159>=Kimutatás!B$2,E1159<=Kimutatás!B$3)","v":false}]
[1159,"Debrecen","004","Q1","2019-01-08","Betérő ügyfelek",37,"fő","2019-02-01","lajosk",{"$f":"AND(E1160>=Kimutatás!B$2,E1160<=Kimutatás!B$3)","v":false}]
[1160,"Debrecen","004","Q1","2019-01-08","Lakossági hitelnövekmény összege ",-8,"Mhuf","2019-02-01","lajosk",{"$f":"AND(E1161>=Kimutatás!B$2,E1161<=Kimutatás!B$3)","v":false}]
[1161,"Debrecen","004","Q1","2019-01-08","Lakossági számlanyitás",-2,"db","2019-02-01","lajosk",{"$f":"AND(E1162>=Kimutatás!B$2,E1162<=Kimutatás!B$3)","v":false}]
[1162,"Debrecen","004","Q1","2019-01-08","KKV hitelnövekmény (db)",-1,"db","2019-02-01","lajosk",{"$f":"AND(E1163>=Kimutatás!B$2,E1163<=Kimutatás!B$3)","v":false}]
[1163,"Debrecen","004","Q1","2019-01-08","KKV számlanyitás",-4,"db","2019-02-01","lajosk",{"$f":"AND(E1164>=Kimutatás!B$2,E1164<=Kimutatás!B$3)","v":false}]
[1164,"Debrecen","004","Q1","2019-01-08","Betét állomány növekmény",32,"Mhuf","2019-02-01","lajosk",{"$f":"AND(E1165>=Kimutatás!B$2,E1165<=Kimutatás!B$3)","v":false}]
[1165,"Debrecen","004","Q1","2019-01-09","Betérő ügyfelek",39,"fő","2019-02-01","lajosk",{"$f":"AND(E1166>=Kimutatás!B$2,E1166<=Kimutatás!B$3)","v":false}]
[1166,"Debrecen","004","Q1","2019-01-09","Lakossági hitelnövekmény összege ",-9,"Mhuf","2019-02-01","lajosk",{"$f":"AND(E1167>=Kimutatás!B$2,E1167<=Kimutatás!B$3)","v":false}]
[1167,"Debrecen","004","Q1","2019-01-09","Lakossági számlanyitás",1,"db","2019-02-01","lajosk",{"$f":"AND(E1168>=Kimutatás!B$2,E1168<=Kimutatás!B$3)","v":false}]
[1168,"Debrecen","004","Q1","2019-01-09","KKV hitelnövekmény (db)",-1,"db","2019-02-01","lajosk",{"$f":"AND(E1169>=Kimutatás!B$2,E1169<=Kimutatás!B$3)","v":false}]
[1169,"Debrecen","004","Q1","2019-01-09","KKV számlanyitás",-3,"db","2019-02-01","lajosk",{"$f":"AND(E1170>=Kimutatás!B$2,E1170<=Kimutatás!B$3)","v":false}]
[1170,"Debrecen","004","Q1","2019-01-09","Betét állomány növekmény",26,"Mhuf","2019-02-01","lajosk",{"$f":"AND(E1171>=Kimutatás!B$2,E1171<=Kimutatás!B$3)","v":false}]
[1171,"Debrecen","004","Q1","2019-01-10","Betérő ügyfelek",45,"fő","2019-02-01","lajosk",{"$f":"AND(E1172>=Kimutatás!B$2,E1172<=Kimutatás!B$3)","v":true}]
[1172,"Debrecen","004","Q1","2019-01-10","Lakossági hitelnövekmény összege ",41,"Mhuf","2019-02-01","lajosk",{"$f":"AND(E1173>=Kimutatás!B$2,E1173<=Kimutatás!B$3)","v":true}]
[1173,"Debrecen","004","Q1","2019-01-10","Lakossági számlanyitás",5,"db","2019-02-01","lajosk",{"$f":"AND(E1174>=Kimutatás!B$2,E1174<=Kimutatás!B$3)","v":true}]
[1174,"Debrecen","004","Q1","2019-01-10","KKV hitelnövekmény (db)",0,"db","2019-02-01","lajosk",{"$f":"AND(E1175>=Kimutatás!B$2,E1175<=Kimutatás!B$3)","v":true}]
[1175,"Debrecen","004","Q1","2019-01-10","KKV számlanyitás",2,"db","2019-02-01","lajosk",{"$f":"AND(E1176>=Kimutatás!B$2,E1176<=Kimutatás!B$3)","v":true}]
[1176,"Debrecen","004","Q1","2019-01-10","Betét állomány növekmény",-6,"Mhuf","2019-02-01","lajosk",{"$f":"AND(E1177>=Kimutatás!B$2,E1177<=Kimutatás!B$3)","v":true}]
[1177,"Debrecen","004","Q1","2019-01-13","Betérő ügyfelek",4,"fő","2019-02-01","lajosk",{"$f":"AND(E1178>=Kimutatás!B$2,E1178<=Kimutatás!B$3)","v":true}]
[1178,"Debrecen","004","Q1","2019-01-13","Lakossági hitelnövekmény összege ",17,"Mhuf","2019-02-01","lajosk",{"$f":"AND(E1179>=Kimutatás!B$2,E1179<=Kimutatás!B$3)","v":true}]
[1179,"Debrecen","004","Q1","2019-01-13","Lakossági számlanyitás",1,"db","2019-02-01","lajosk",{"$f":"AND(E1180>=Kimutatás!B$2,E1180<=Kimutatás!B$3)","v":true}]
[1180,"Debrecen","004","Q1","2019-01-13","KKV hitelnövekmény (db)",2,"db","2019-02-01","lajosk",{"$f":"AND(E1181>=Kimutatás!B$2,E1181<=Kimutatás!B$3)","v":true}]
[1181,"Debrecen","004","Q1","2019-01-13","KKV számlanyitás",-4,"db","2019-02-01","lajosk",{"$f":"AND(E1182>=Kimutatás!B$2,E1182<=Kimutatás!B$3)","v":true}]
[1182,"Debrecen","004","Q1","2019-01-13","Betét állomány növekmény",24,"Mhuf","2019-02-01","lajosk",{"$f":"AND(E1183>=Kimutatás!B$2,E1183<=Kimutatás!B$3)","v":true}]
[1183,"Debrecen","004","Q1","2019-01-14","Betérő ügyfelek",10,"fő","2019-02-01","lajosk",{"$f":"AND(E1184>=Kimutatás!B$2,E1184<=Kimutatás!B$3)","v":true}]
[1184,"Debrecen","004","Q1","2019-01-14","Lakossági hitelnövekmény összege ",5,"Mhuf","2019-02-01","lajosk",{"$f":"AND(E1185>=Kimutatás!B$2,E1185<=Kimutatás!B$3)","v":true}]
[1185,"Debrecen","004","Q1","2019-01-14","Lakossági számlanyitás",6,"db","2019-02-01","lajosk",{"$f":"AND(E1186>=Kimutatás!B$2,E1186<=Kimutatás!B$3)","v":true}]
[1186,"Debrecen","004","Q1","2019-01-14","KKV hitelnövekmény (db)",-2,"db","2019-02-01","lajosk",{"$f":"AND(E1187>=Kimutatás!B$2,E1187<=Kimutatás!B$3)","v":true}]
[1187,"Debrecen","004","Q1","2019-01-14","KKV számlanyitás",3,"db","2019-02-01","lajosk",{"$f":"AND(E1188>=Kimutatás!B$2,E1188<=Kimutatás!B$3)","v":true}]
[1188,"Debrecen","004","Q1","2019-01-14","Betét állomány növekmény",25,"Mhuf","2019-02-01","lajosk",{"$f":"AND(E1189>=Kimutatás!B$2,E1189<=Kimutatás!B$3)","v":true}]
[1189,"Debrecen","004","Q1","2019-01-15","Betérő ügyfelek",35,"fő","2019-02-01","lajosk",{"$f":"AND(E1190>=Kimutatás!B$2,E1190<=Kimutatás!B$3)","v":true}]
[1190,"Debrecen","004","Q1","2019-01-15","Lakossági hitelnövekmény összege ",24,"Mhuf","2019-02-01","lajosk",{"$f":"AND(E1191>=Kimutatás!B$2,E1191<=Kimutatás!B$3)","v":true}]
[1191,"Debrecen","004","Q1","2019-01-15","Lakossági számlanyitás",-4,"db","2019-02-01","lajosk",{"$f":"AND(E1192>=Kimutatás!B$2,E1192<=Kimutatás!B$3)","v":true}]
[1192,"Debrecen","004","Q1","2019-01-15","KKV hitelnövekmény (db)",-2,"db","2019-02-01","lajosk",{"$f":"AND(E1193>=Kimutatás!B$2,E1193<=Kimutatás!B$3)","v":true}]
[1193,"Debrecen","004","Q1","2019-01-15","KKV számlanyitás",-1,"db","2019-02-01","lajosk",{"$f":"AND(E1194>=Kimutatás!B$2,E1194<=Kimutatás!B$3)","v":true}]
[1194,"Debrecen","004","Q1","2019-01-15","Betét állomány növekmény",26,"Mhuf","2019-02-01","lajosk",{"$f":"AND(E1195>=Kimutatás!B$2,E1195<=Kimutatás!B$3)","v":true}]
[1195,"Debrecen","004","Q1","2019-01-16","Betérő ügyfelek",3,"fő","2019-02-01","lajosk",{"$f":"AND(E1196>=Kimutatás!B$2,E1196<=Kimutatás!B$3)","v":true}]
[1196,"Debrecen","004","Q1","2019-01-16","Lakossági hitelnövekmény összege ",-6,"Mhuf","2019-02-01","lajosk",{"$f":"AND(E1197>=Kimutatás!B$2,E1197<=Kimutatás!B$3)","v":true}]
[1197,"Debrecen","004","Q1","2019-01-16","Lakossági számlanyitás",6,"db","2019-02-01","lajosk",{"$f":"AND(E1198>=Kimutatás!B$2,E1198<=Kimutatás!B$3)","v":true}]
[1198,"Debrecen","004","Q1","2019-01-16","KKV hitelnövekmény (db)",-2,"db","2019-02-01","lajosk",{"$f":"AND(E1199>=Kimutatás!B$2,E1199<=Kimutatás!B$3)","v":true}]
[1199,"Debrecen","004","Q1","2019-01-16","KKV számlanyitás",-2,"db","2019-02-01","lajosk",{"$f":"AND(E1200>=Kimutatás!B$2,E1200<=Kimutatás!B$3)","v":true}]
[1200,"Debrecen",{"$f":"C1200","v":"004"},"Q1","2019-01-16","Betét állomány növekmény",21,"Mhuf","2019-02-01","lajosk",{"$f":"AND(E1201>=Kimutatás!B$2,E1201<=Kimutatás!B$3)","v":true}]
[1201,"Debrecen","004","Q1","2019-01-17","Betérő ügyfelek",16,"fő","2019-02-01","lajosk",{"$f":"AND(E1202>=Kimutatás!B$2,E1202<=Kimutatás!B$3)","v":true}]
[1202,"Debrecen","004","Q1","2019-01-17","Lakossági hitelnövekmény összege ",9,"Mhuf","2019-02-01","lajosk",{"$f":"AND(E1203>=Kimutatás!B$2,E1203<=Kimutatás!B$3)","v":true}]
[1203,"Debrecen","004","Q1","2019-01-17","Lakossági számlanyitás",8,"db","2019-02-01","lajosk",{"$f":"AND(E1204>=Kimutatás!B$2,E1204<=Kimutatás!B$3)","v":true}]
[1204,"Debrecen","004","Q1","2019-01-17","KKV hitelnövekmény (db)",-1,"db","2019-02-01","lajosk",{"$f":"AND(E1205>=Kimutatás!B$2,E1205<=Kimutatás!B$3)","v":true}]
[1205,"Debrecen","004","Q1","2019-01-17","KKV számlanyitás",-2,"db","2019-02-01","lajosk",{"$f":"AND(E1206>=Kimutatás!B$2,E1206<=Kimutatás!B$3)","v":true}]
[1206,"Debrecen","004","Q1","2019-01-17","Betét állomány növekmény",13,"Mhuf","2019-02-01","lajosk",{"$f":"AND(E1207>=Kimutatás!B$2,E1207<=Kimutatás!B$3)","v":true}]
[1207,"Debrecen","004","Q1","2019-01-20","Betérő ügyfelek",37,"fő","2019-02-01","lajosk",{"$f":"AND(E1208>=Kimutatás!B$2,E1208<=Kimutatás!B$3)","v":true}]
[1208,"Debrecen","004","Q1","2019-01-20","Lakossági hitelnövekmény összege ",2,"Mhuf","2019-02-01","lajosk",{"$f":"AND(E1209>=Kimutatás!B$2,E1209<=Kimutatás!B$3)","v":true}]
[1209,"Debrecen","004","Q1","2019-01-20","Lakossági számlanyitás",-5,"db","2019-02-01","lajosk",{"$f":"AND(E1210>=Kimutatás!B$2,E1210<=Kimutatás!B$3)","v":true}]
[1210,"Debrecen","004","Q1","2019-01-20","KKV hitelnövekmény (db)",2,"db","2019-02-01","lajosk",{"$f":"AND(E1211>=Kimutatás!B$2,E1211<=Kimutatás!B$3)","v":true}]
[1211,"Debrecen","004","Q1","2019-01-20","KKV számlanyitás",-4,"db","2019-02-01","lajosk",{"$f":"AND(E1212>=Kimutatás!B$2,E1212<=Kimutatás!B$3)","v":true}]
[1212,"Debrecen","004","Q1","2019-01-20","Betét állomány növekmény",40,"Mhuf","2019-02-01","lajosk",{"$f":"AND(E1213>=Kimutatás!B$2,E1213<=Kimutatás!B$3)","v":true}]
[1213,"Debrecen","004","Q1","2019-01-21","Betérő ügyfelek",17,"fő","2019-02-01","lajosk",{"$f":"AND(E1214>=Kimutatás!B$2,E1214<=Kimutatás!B$3)","v":true}]
[1214,"Debrecen","004","Q1","2019-01-21","Lakossági hitelnövekmény összege ",8,"Mhuf","2019-02-01","lajosk",{"$f":"AND(E1215>=Kimutatás!B$2,E1215<=Kimutatás!B$3)","v":true}]
[1215,"Debrecen","004","Q1","2019-01-21","Lakossági számlanyitás",5,"db","2019-02-01","lajosk",{"$f":"AND(E1216>=Kimutatás!B$2,E1216<=Kimutatás!B$3)","v":true}]
[1216,"Debrecen","004","Q1","2019-01-21","KKV hitelnövekmény (db)",2,"db","2019-02-01","lajosk",{"$f":"AND(E1217>=Kimutatás!B$2,E1217<=Kimutatás!B$3)","v":true}]
[1217,"Debrecen","004","Q1","2019-01-21","KKV számlanyitás",-5,"db","2019-02-01","lajosk",{"$f":"AND(E1218>=Kimutatás!B$2,E1218<=Kimutatás!B$3)","v":true}]
[1218,"Debrecen","004","Q1","2019-01-21","Betét állomány növekmény",14,"Mhuf","2019-02-01","lajosk",{"$f":"AND(E1219>=Kimutatás!B$2,E1219<=Kimutatás!B$3)","v":true}]
[1219,"Debrecen","004","Q1","2019-01-22","Betérő ügyfelek",9,"fő","2019-02-01","lajosk",{"$f":"AND(E1220>=Kimutatás!B$2,E1220<=Kimutatás!B$3)","v":true}]
[1220,"Debrecen","004","Q1","2019-01-22","Lakossági hitelnövekmény összege ",21,"Mhuf","2019-02-01","lajosk",{"$f":"AND(E1221>=Kimutatás!B$2,E1221<=Kimutatás!B$3)","v":true}]
[1221,"Debrecen","004","Q1","2019-01-22","Lakossági számlanyitás",-2,"db","2019-02-01","lajosk",{"$f":"AND(E1222>=Kimutatás!B$2,E1222<=Kimutatás!B$3)","v":true}]
[1222,"Debrecen","004","Q1","2019-01-22","KKV hitelnövekmény (db)",1,"db","2019-02-01","lajosk",{"$f":"AND(E1223>=Kimutatás!B$2,E1223<=Kimutatás!B$3)","v":true}]
[1223,"Debrecen","004","Q1","2019-01-22","KKV számlanyitás",-4,"db","2019-02-01","lajosk",{"$f":"AND(E1224>=Kimutatás!B$2,E1224<=Kimutatás!B$3)","v":true}]
[1224,"Debrecen","004","Q1","2019-01-22","Betét állomány növekmény",-10,"Mhuf","2019-02-01","lajosk",{"$f":"AND(E1225>=Kimutatás!B$2,E1225<=Kimutatás!B$3)","v":true}]
[1225,"Debrecen","004","Q1","2019-01-23","Betérő ügyfelek",22,"fő","2019-02-01","lajosk",{"$f":"AND(E1226>=Kimutatás!B$2,E1226<=Kimutatás!B$3)","v":true}]
[1226,"Debrecen","004","Q1","2019-01-23","Lakossági hitelnövekmény összege ",-4,"Mhuf","2019-02-01","lajosk",{"$f":"AND(E1227>=Kimutatás!B$2,E1227<=Kimutatás!B$3)","v":true}]
[1227,"Debrecen","004","Q1","2019-01-23","Lakossági számlanyitás",0,"db","2019-02-01","lajosk",{"$f":"AND(E1228>=Kimutatás!B$2,E1228<=Kimutatás!B$3)","v":true}]
[1228,"Debrecen","004","Q1","2019-01-23","KKV hitelnövekmény (db)",1,"db","2019-02-01","lajosk",{"$f":"AND(E1229>=Kimutatás!B$2,E1229<=Kimutatás!B$3)","v":true}]
[1229,"Debrecen","004","Q1","2019-01-23","KKV számlanyitás",4,"db","2019-02-01","lajosk",{"$f":"AND(E1230>=Kimutatás!B$2,E1230<=Kimutatás!B$3)","v":true}]
[1230,"Debrecen","004","Q1","2019-01-23","Betét állomány növekmény",18,"Mhuf","2019-02-01","lajosk",{"$f":"AND(E1231>=Kimutatás!B$2,E1231<=Kimutatás!B$3)","v":true}]
[1231,"Debrecen","004","Q1","2019-01-24","Betérő ügyfelek",42,"fő","2019-02-01","lajosk",{"$f":"AND(E1232>=Kimutatás!B$2,E1232<=Kimutatás!B$3)","v":true}]
[1232,"Debrecen","004","Q1","2019-01-24","Lakossági hitelnövekmény összege ",22,"Mhuf","2019-02-01","lajosk",{"$f":"AND(E1233>=Kimutatás!B$2,E1233<=Kimutatás!B$3)","v":true}]
[1233,"Debrecen","004","Q1","2019-01-24","Lakossági számlanyitás",-1,"db","2019-02-01","lajosk",{"$f":"AND(E1234>=Kimutatás!B$2,E1234<=Kimutatás!B$3)","v":true}]
[1234,"Debrecen","004","Q1","2019-01-24","KKV hitelnövekmény (db)",0,"db","2019-02-01","lajosk",{"$f":"AND(E1235>=Kimutatás!B$2,E1235<=Kimutatás!B$3)","v":true}]
[1235,"Debrecen","004","Q1","2019-01-24","KKV számlanyitás",2,"db","2019-02-01","lajosk",{"$f":"AND(E1236>=Kimutatás!B$2,E1236<=Kimutatás!B$3)","v":true}]
[1236,"Debrecen","004","Q1","2019-01-24","Betét állomány növekmény",-16,"Mhuf","2019-02-01","lajosk",{"$f":"AND(E1237>=Kimutatás!B$2,E1237<=Kimutatás!B$3)","v":true}]
[1237,"Debrecen","004","Q1","2019-01-27","Betérő ügyfelek",38,"fő","2019-02-01","lajosk",{"$f":"AND(E1238>=Kimutatás!B$2,E1238<=Kimutatás!B$3)","v":true}]
[1238,"Debrecen","004","Q1","2019-01-27","Lakossági hitelnövekmény összege ",7,"Mhuf","2019-02-01","lajosk",{"$f":"AND(E1239>=Kimutatás!B$2,E1239<=Kimutatás!B$3)","v":true}]
[1239,"Debrecen","004","Q1","2019-01-27","Lakossági számlanyitás",1,"db","2019-02-01","lajosk",{"$f":"AND(E1240>=Kimutatás!B$2,E1240<=Kimutatás!B$3)","v":true}]
[1240,"Debrecen","004","Q1","2019-01-27","KKV hitelnövekmény (db)",1,"db","2019-02-01","lajosk",{"$f":"AND(E1241>=Kimutatás!B$2,E1241<=Kimutatás!B$3)","v":true}]
[1241,"Debrecen","004","Q1","2019-01-27","KKV számlanyitás",-1,"db","2019-02-01","lajosk",{"$f":"AND(E1242>=Kimutatás!B$2,E1242<=Kimutatás!B$3)","v":true}]
[1242,"Debrecen","004","Q1","2019-01-27","Betét állomány növekmény",43,"Mhuf","2019-02-01","lajosk",{"$f":"AND(E1243>=Kimutatás!B$2,E1243<=Kimutatás!B$3)","v":true}]
[1243,"Debrecen","004","Q1","2019-01-28","Betérő ügyfelek",35,"fő","2019-02-01","lajosk",{"$f":"AND(E1244>=Kimutatás!B$2,E1244<=Kimutatás!B$3)","v":true}]
[1244,"Debrecen","004","Q1","2019-01-28","Lakossági hitelnövekmény összege ",49,"Mhuf","2019-02-01","lajosk",{"$f":"AND(E1245>=Kimutatás!B$2,E1245<=Kimutatás!B$3)","v":true}]
[1245,"Debrecen","004","Q1","2019-01-28","Lakossági számlanyitás",4,"db","2019-02-01","lajosk",{"$f":"AND(E1246>=Kimutatás!B$2,E1246<=Kimutatás!B$3)","v":true}]
[1246,"Debrecen","004","Q1","2019-01-28","KKV hitelnövekmény (db)",1,"db","2019-02-01","lajosk",{"$f":"AND(E1247>=Kimutatás!B$2,E1247<=Kimutatás!B$3)","v":true}]
[1247,"Debrecen","004","Q1","2019-01-28","KKV számlanyitás",2,"db","2019-02-01","lajosk",{"$f":"AND(E1248>=Kimutatás!B$2,E1248<=Kimutatás!B$3)","v":true}]
[1248,"Debrecen","004","Q1","2019-01-28","Betét állomány növekmény",3,"Mhuf","2019-02-01","lajosk",{"$f":"AND(E1249>=Kimutatás!B$2,E1249<=Kimutatás!B$3)","v":true}]
[1249,"Debrecen","004","Q1","2019-01-29","Betérő ügyfelek",6,"fő","2019-02-01","lajosk",{"$f":"AND(E1250>=Kimutatás!B$2,E1250<=Kimutatás!B$3)","v":true}]
[1250,"Debrecen","004","Q1","2019-01-29","Lakossági hitelnövekmény összege ",2,"Mhuf","2019-02-01","lajosk",{"$f":"AND(E1251>=Kimutatás!B$2,E1251<=Kimutatás!B$3)","v":true}]
[1251,"Debrecen","004","Q1","2019-01-29","Lakossági számlanyitás",4,"db","2019-02-01","lajosk",{"$f":"AND(E1252>=Kimutatás!B$2,E1252<=Kimutatás!B$3)","v":true}]
[1252,"Debrecen","004","Q1","2019-01-29","KKV hitelnövekmény (db)",1,"db","2019-02-01","lajosk",{"$f":"AND(E1253>=Kimutatás!B$2,E1253<=Kimutatás!B$3)","v":true}]
[1253,"Debrecen","004","Q1","2019-01-29","KKV számlanyitás",3,"db","2019-02-01","lajosk",{"$f":"AND(E1254>=Kimutatás!B$2,E1254<=Kimutatás!B$3)","v":true}]
[1254,"Debrecen","004","Q1","2019-01-29","Betét állomány növekmény",48,"Mhuf","2019-02-01","lajosk",{"$f":"AND(E1255>=Kimutatás!B$2,E1255<=Kimutatás!B$3)","v":true}]
[1255,"Debrecen","004","Q1","2019-01-30","Betérő ügyfelek",44,"fő","2019-02-01","lajosk",{"$f":"AND(E1256>=Kimutatás!B$2,E1256<=Kimutatás!B$3)","v":true}]
[1256,"Debrecen","004","Q1","2019-01-30","Lakossági hitelnövekmény összege ",29,"Mhuf","2019-02-01","lajosk",{"$f":"AND(E1257>=Kimutatás!B$2,E1257<=Kimutatás!B$3)","v":true}]
[1257,"Debrecen","004","Q1","2019-01-30","Lakossági számlanyitás",3,"db","2019-02-01","lajosk",{"$f":"AND(E1258>=Kimutatás!B$2,E1258<=Kimutatás!B$3)","v":true}]
[1258,"Debrecen","004","Q1","2019-01-30","KKV hitelnövekmény (db)",-2,"db","2019-02-01","lajosk",{"$f":"AND(E1259>=Kimutatás!B$2,E1259<=Kimutatás!B$3)","v":true}]
[1259,"Debrecen","004","Q1","2019-01-30","KKV számlanyitás",0,"db","2019-02-01","lajosk",{"$f":"AND(E1260>=Kimutatás!B$2,E1260<=Kimutatás!B$3)","v":true}]
[1260,"Debrecen","004","Q1","2019-01-30","Betét állomány növekmény",21,"Mhuf","2019-02-01","lajosk",{"$f":"AND(E1261>=Kimutatás!B$2,E1261<=Kimutatás!B$3)","v":true}]
[1261,"Debrecen","004","Q1","2019-01-31","Betérő ügyfelek",28,"fő","2019-02-01","lajosk",{"$f":"AND(E1262>=Kimutatás!B$2,E1262<=Kimutatás!B$3)","v":true}]
[1262,"Debrecen","004","Q1","2019-01-31","Lakossági hitelnövekmény összege ",47,"Mhuf","2019-02-01","lajosk",{"$f":"AND(E1263>=Kimutatás!B$2,E1263<=Kimutatás!B$3)","v":true}]
[1263,"Debrecen","004","Q1","2019-01-31","Lakossági számlanyitás",-2,"db","2019-02-01","lajosk",{"$f":"AND(E1264>=Kimutatás!B$2,E1264<=Kimutatás!B$3)","v":true}]
[1264,"Debrecen",{"$f":"C1264","v":"004"},"Q1","2019-01-31","KKV hitelnövekmény (db)",2,"db","2019-02-01","lajosk",{"$f":"AND(E1265>=Kimutatás!B$2,E1265<=Kimutatás!B$3)","v":true}]
[1265,"Debrecen","004","Q1","2019-01-31","KKV számlanyitás",-4,"db","2019-02-01","lajosk",{"$f":"AND(E1266>=Kimutatás!B$2,E1266<=Kimutatás!B$3)","v":true}]
[1266,"Debrecen","004","Q1","2019-01-31","Betét állomány növekmény",-4,"Mhuf","2019-02-01","lajosk",{"$f":"AND(E1267>=Kimutatás!B$2,E1267<=Kimutatás!B$3)","v":true}]
[1267,"Debrecen","004","Q1","2019-02-03","Betérő ügyfelek",31,"fő","2019-03-01","laszlop",{"$f":"AND(E1268>=Kimutatás!B$2,E1268<=Kimutatás!B$3)","v":true}]
[1268,"Debrecen","004","Q1","2019-02-03","Lakossági hitelnövekmény összege ",-10,"Mhuf","2019-03-01","laszlop",{"$f":"AND(E1269>=Kimutatás!B$2,E1269<=Kimutatás!B$3)","v":true}]
[1269,"Debrecen","004","Q1","2019-02-03","Lakossági számlanyitás",-2,"db","2019-03-01","laszlop",{"$f":"AND(E1270>=Kimutatás!B$2,E1270<=Kimutatás!B$3)","v":true}]
[1270,"Debrecen","004","Q1","2019-02-03","KKV hitelnövekmény (db)",-2,"db","2019-03-01","laszlop",{"$f":"AND(E1271>=Kimutatás!B$2,E1271<=Kimutatás!B$3)","v":true}]
[1271,"Debrecen","004","Q1","2019-02-03","KKV számlanyitás",5,"db","2019-03-01","laszlop",{"$f":"AND(E1272>=Kimutatás!B$2,E1272<=Kimutatás!B$3)","v":true}]
[1272,"Debrecen","004","Q1","2019-02-03","Betét állomány növekmény",-2,"Mhuf","2019-03-01","laszlop",{"$f":"AND(E1273>=Kimutatás!B$2,E1273<=Kimutatás!B$3)","v":true}]
[1273,"Debrecen","004","Q1","2019-02-04","Betérő ügyfelek",25,"fő","2019-03-01","laszlop",{"$f":"AND(E1274>=Kimutatás!B$2,E1274<=Kimutatás!B$3)","v":true}]
[1274,"Debrecen","004","Q1","2019-02-04","Lakossági hitelnövekmény összege ",24,"Mhuf","2019-03-01","laszlop",{"$f":"AND(E1275>=Kimutatás!B$2,E1275<=Kimutatás!B$3)","v":true}]
[1275,"Debrecen","004","Q1","2019-02-04","Lakossági számlanyitás",10,"db","2019-03-01","laszlop",{"$f":"AND(E1276>=Kimutatás!B$2,E1276<=Kimutatás!B$3)","v":true}]
[1276,"Debrecen","004","Q1","2019-02-04","KKV hitelnövekmény (db)",1,"db","2019-03-01","laszlop",{"$f":"AND(E1277>=Kimutatás!B$2,E1277<=Kimutatás!B$3)","v":true}]
[1277,"Debrecen","004","Q1","2019-02-04","KKV számlanyitás",0,"db","2019-03-01","laszlop",{"$f":"AND(E1278>=Kimutatás!B$2,E1278<=Kimutatás!B$3)","v":true}]
[1278,"Debrecen","004","Q1","2019-02-04","Betét állomány növekmény",-18,"Mhuf","2019-03-01","laszlop",{"$f":"AND(E1279>=Kimutatás!B$2,E1279<=Kimutatás!B$3)","v":true}]
[1279,"Debrecen","004","Q1","2019-02-05","Betérő ügyfelek",3,"fő","2019-03-01","laszlop",{"$f":"AND(E1280>=Kimutatás!B$2,E1280<=Kimutatás!B$3)","v":true}]
[1280,"Debrecen","004","Q1","2019-02-05","Lakossági hitelnövekmény összege ",19,"Mhuf","2019-03-01","laszlop",{"$f":"AND(E1281>=Kimutatás!B$2,E1281<=Kimutatás!B$3)","v":true}]
[1281,"Debrecen","004","Q1","2019-02-05","Lakossági számlanyitás",-4,"db","2019-03-01","laszlop",{"$f":"AND(E1282>=Kimutatás!B$2,E1282<=Kimutatás!B$3)","v":true}]
[1282,"Debrecen","004","Q1","2019-02-05","KKV hitelnövekmény (db)",-2,"db","2019-03-01","laszlop",{"$f":"AND(E1283>=Kimutatás!B$2,E1283<=Kimutatás!B$3)","v":true}]
[1283,"Debrecen","004","Q1","2019-02-05","KKV számlanyitás",1,"db","2019-03-01","laszlop",{"$f":"AND(E1284>=Kimutatás!B$2,E1284<=Kimutatás!B$3)","v":true}]
[1284,"Debrecen","004","Q1","2019-02-05","Betét állomány növekmény",36,"Mhuf","2019-03-01","laszlop",{"$f":"AND(E1285>=Kimutatás!B$2,E1285<=Kimutatás!B$3)","v":true}]
[1285,"Debrecen","004","Q1","2019-02-06","Betérő ügyfelek",28,"fő","2019-03-01","laszlop",{"$f":"AND(E1286>=Kimutatás!B$2,E1286<=Kimutatás!B$3)","v":true}]
[1286,"Debrecen","004","Q1","2019-02-06","Lakossági hitelnövekmény összege ",19,"Mhuf","2019-03-01","laszlop",{"$f":"AND(E1287>=Kimutatás!B$2,E1287<=Kimutatás!B$3)","v":true}]
[1287,"Debrecen","004","Q1","2019-02-06","Lakossági számlanyitás",7,"db","2019-03-01","laszlop",{"$f":"AND(E1288>=Kimutatás!B$2,E1288<=Kimutatás!B$3)","v":true}]
[1288,"Debrecen","004","Q1","2019-02-06","KKV hitelnövekmény (db)",0,"db","2019-03-01","laszlop",{"$f":"AND(E1289>=Kimutatás!B$2,E1289<=Kimutatás!B$3)","v":true}]
[1289,"Debrecen","004","Q1","2019-02-06","KKV számlanyitás",0,"db","2019-03-01","laszlop",{"$f":"AND(E1290>=Kimutatás!B$2,E1290<=Kimutatás!B$3)","v":true}]
[1290,"Debrecen","004","Q1","2019-02-06","Betét állomány növekmény",9,"Mhuf","2019-03-01","laszlop",{"$f":"AND(E1291>=Kimutatás!B$2,E1291<=Kimutatás!B$3)","v":true}]
[1291,"Debrecen","004","Q1","2019-02-07","Betérő ügyfelek",11,"fő","2019-03-01","laszlop",{"$f":"AND(E1292>=Kimutatás!B$2,E1292<=Kimutatás!B$3)","v":true}]
[1292,"Debrecen","004","Q1","2019-02-07","Lakossági hitelnövekmény összege ",9,"Mhuf","2019-03-01","laszlop",{"$f":"AND(E1293>=Kimutatás!B$2,E1293<=Kimutatás!B$3)","v":true}]
[1293,"Debrecen","004","Q1","2019-02-07","Lakossági számlanyitás",2,"db","2019-03-01","laszlop",{"$f":"AND(E1294>=Kimutatás!B$2,E1294<=Kimutatás!B$3)","v":true}]
[1294,"Debrecen","004","Q1","2019-02-07","KKV hitelnövekmény (db)",-2,"db","2019-03-01","laszlop",{"$f":"AND(E1295>=Kimutatás!B$2,E1295<=Kimutatás!B$3)","v":true}]
[1295,"Debrecen","004","Q1","2019-02-07","KKV számlanyitás",-2,"db","2019-03-01","laszlop",{"$f":"AND(E1296>=Kimutatás!B$2,E1296<=Kimutatás!B$3)","v":true}]
[1296,"Debrecen","004","Q1","2019-02-07","Betét állomány növekmény",50,"Mhuf","2019-03-01","laszlop",{"$f":"AND(E1297>=Kimutatás!B$2,E1297<=Kimutatás!B$3)","v":true}]
[1297,"Debrecen","004","Q1","2019-02-10","Betérő ügyfelek",4,"fő","2019-03-01","laszlop",{"$f":"AND(E1298>=Kimutatás!B$2,E1298<=Kimutatás!B$3)","v":true}]
[1298,"Debrecen","004","Q1","2019-02-10","Lakossági hitelnövekmény összege ",49,"Mhuf","2019-03-01","laszlop",{"$f":"AND(E1299>=Kimutatás!B$2,E1299<=Kimutatás!B$3)","v":true}]
[1299,"Debrecen","004","Q1","2019-02-10","Lakossági számlanyitás",-2,"db","2019-03-01","laszlop",{"$f":"AND(E1300>=Kimutatás!B$2,E1300<=Kimutatás!B$3)","v":true}]
[1300,"Debrecen","004","Q1","2019-02-10","KKV hitelnövekmény (db)",0,"db","2019-03-01","laszlop",{"$f":"AND(E1301>=Kimutatás!B$2,E1301<=Kimutatás!B$3)","v":true}]
[1301,"Debrecen","004","Q1","2019-02-10","KKV számlanyitás",5,"db","2019-03-01","laszlop",{"$f":"AND(E1302>=Kimutatás!B$2,E1302<=Kimutatás!B$3)","v":true}]
[1302,"Debrecen","004","Q1","2019-02-10","Betét állomány növekmény",20,"Mhuf","2019-03-01","laszlop",{"$f":"AND(E1303>=Kimutatás!B$2,E1303<=Kimutatás!B$3)","v":true}]
[1303,"Debrecen","004","Q1","2019-02-11","Betérő ügyfelek",17,"fő","2019-03-01","laszlop",{"$f":"AND(E1304>=Kimutatás!B$2,E1304<=Kimutatás!B$3)","v":true}]
[1304,"Debrecen","004","Q1","2019-02-11","Lakossági hitelnövekmény összege ",10,"Mhuf","2019-03-01","laszlop",{"$f":"AND(E1305>=Kimutatás!B$2,E1305<=Kimutatás!B$3)","v":true}]
[1305,"Debrecen","004","Q1","2019-02-11","Lakossági számlanyitás",6,"db","2019-03-01","laszlop",{"$f":"AND(E1306>=Kimutatás!B$2,E1306<=Kimutatás!B$3)","v":true}]
[1306,"Debrecen","004","Q1","2019-02-11","KKV hitelnövekmény (db)",0,"db","2019-03-01","laszlop",{"$f":"AND(E1307>=Kimutatás!B$2,E1307<=Kimutatás!B$3)","v":true}]
[1307,"Debrecen","004","Q1","2019-02-11","KKV számlanyitás",-4,"db","2019-03-01","laszlop",{"$f":"AND(E1308>=Kimutatás!B$2,E1308<=Kimutatás!B$3)","v":true}]
[1308,"Debrecen","004","Q1","2019-02-11","Betét állomány növekmény",25,"Mhuf","2019-03-01","laszlop",{"$f":"AND(E1309>=Kimutatás!B$2,E1309<=Kimutatás!B$3)","v":true}]
[1309,"Debrecen","004","Q1","2019-02-12","Betérő ügyfelek",30,"fő","2019-03-01","laszlop",{"$f":"AND(E1310>=Kimutatás!B$2,E1310<=Kimutatás!B$3)","v":true}]
[1310,"Debrecen","004","Q1","2019-02-12","Lakossági hitelnövekmény összege ",32,"Mhuf","2019-03-01","laszlop",{"$f":"AND(E1311>=Kimutatás!B$2,E1311<=Kimutatás!B$3)","v":true}]
[1311,"Debrecen","004","Q1","2019-02-12","Lakossági számlanyitás",0,"db","2019-03-01","laszlop",{"$f":"AND(E1312>=Kimutatás!B$2,E1312<=Kimutatás!B$3)","v":true}]
[1312,"Debrecen","004","Q1","2019-02-12","KKV hitelnövekmény (db)",-1,"db","2019-03-01","laszlop",{"$f":"AND(E1313>=Kimutatás!B$2,E1313<=Kimutatás!B$3)","v":true}]
[1313,"Debrecen","004","Q1","2019-02-12","KKV számlanyitás",1,"db","2019-03-01","laszlop",{"$f":"AND(E1314>=Kimutatás!B$2,E1314<=Kimutatás!B$3)","v":true}]
[1314,"Debrecen","004","Q1","2019-02-12","Betét állomány növekmény",-15,"Mhuf","2019-03-01","laszlop",{"$f":"AND(E1315>=Kimutatás!B$2,E1315<=Kimutatás!B$3)","v":true}]
[1315,"Debrecen","004","Q1","2019-02-13","Betérő ügyfelek",17,"fő","2019-03-01","laszlop",{"$f":"AND(E1316>=Kimutatás!B$2,E1316<=Kimutatás!B$3)","v":true}]
[1316,"Debrecen","004","Q1","2019-02-13","Lakossági hitelnövekmény összege ",4,"Mhuf","2019-03-01","laszlop",{"$f":"AND(E1317>=Kimutatás!B$2,E1317<=Kimutatás!B$3)","v":true}]
[1317,"Debrecen","004","Q1","2019-02-13","Lakossági számlanyitás",6,"db","2019-03-01","laszlop",{"$f":"AND(E1318>=Kimutatás!B$2,E1318<=Kimutatás!B$3)","v":true}]
[1318,"Debrecen","004","Q1","2019-02-13","KKV hitelnövekmény (db)",-1,"db","2019-03-01","laszlop",{"$f":"AND(E1319>=Kimutatás!B$2,E1319<=Kimutatás!B$3)","v":true}]
[1319,"Debrecen","004","Q1","2019-02-13","KKV számlanyitás",-5,"db","2019-03-01","laszlop",{"$f":"AND(E1320>=Kimutatás!B$2,E1320<=Kimutatás!B$3)","v":true}]
[1320,"Debrecen","004","Q1","2019-02-13","Betét állomány növekmény",0,"Mhuf","2019-03-01","laszlop",{"$f":"AND(E1321>=Kimutatás!B$2,E1321<=Kimutatás!B$3)","v":true}]
[1321,"Debrecen","004","Q1","2019-02-14","Betérő ügyfelek",10,"fő","2019-03-01","laszlop",{"$f":"AND(E1322>=Kimutatás!B$2,E1322<=Kimutatás!B$3)","v":true}]
[1322,"Debrecen","004","Q1","2019-02-14","Lakossági hitelnövekmény összege ",-2,"Mhuf","2019-03-01","laszlop",{"$f":"AND(E1323>=Kimutatás!B$2,E1323<=Kimutatás!B$3)","v":true}]
[1323,"Debrecen","004","Q1","2019-02-14","Lakossági számlanyitás",8,"db","2019-03-01","laszlop",{"$f":"AND(E1324>=Kimutatás!B$2,E1324<=Kimutatás!B$3)","v":true}]
[1324,"Debrecen","004","Q1","2019-02-14","KKV hitelnövekmény (db)",0,"db","2019-03-01","laszlop",{"$f":"AND(E1325>=Kimutatás!B$2,E1325<=Kimutatás!B$3)","v":true}]
[1325,"Debrecen","004","Q1","2019-02-14","KKV számlanyitás",1,"db","2019-03-01","laszlop",{"$f":"AND(E1326>=Kimutatás!B$2,E1326<=Kimutatás!B$3)","v":true}]
[1326,"Debrecen","004","Q1","2019-02-14","Betét állomány növekmény",-4,"Mhuf","2019-03-01","laszlop",{"$f":"AND(E1327>=Kimutatás!B$2,E1327<=Kimutatás!B$3)","v":true}]
[1327,"Debrecen","004","Q1","2019-02-17","Betérő ügyfelek",13,"fő","2019-03-01","laszlop",{"$f":"AND(E1328>=Kimutatás!B$2,E1328<=Kimutatás!B$3)","v":true}]
[1328,"Debrecen",{"$f":"C1328","v":"004"},"Q1","2019-02-17","Lakossági hitelnövekmény összege ",-5,"Mhuf","2019-03-01","laszlop",{"$f":"AND(E1329>=Kimutatás!B$2,E1329<=Kimutatás!B$3)","v":true}]
[1329,"Debrecen","004","Q1","2019-02-17","Lakossági számlanyitás",8,"db","2019-03-01","laszlop",{"$f":"AND(E1330>=Kimutatás!B$2,E1330<=Kimutatás!B$3)","v":true}]
[1330,"Debrecen","004","Q1","2019-02-17","KKV hitelnövekmény (db)",2,"db","2019-03-01","laszlop",{"$f":"AND(E1331>=Kimutatás!B$2,E1331<=Kimutatás!B$3)","v":true}]
[1331,"Debrecen","004","Q1","2019-02-17","KKV számlanyitás",-4,"db","2019-03-01","laszlop",{"$f":"AND(E1332>=Kimutatás!B$2,E1332<=Kimutatás!B$3)","v":true}]
[1332,"Debrecen","004","Q1","2019-02-17","Betét állomány növekmény",-16,"Mhuf","2019-03-01","laszlop",{"$f":"AND(E1333>=Kimutatás!B$2,E1333<=Kimutatás!B$3)","v":true}]
[1333,"Debrecen","004","Q1","2019-02-18","Betérő ügyfelek",41,"fő","2019-03-01","laszlop",{"$f":"AND(E1334>=Kimutatás!B$2,E1334<=Kimutatás!B$3)","v":true}]
[1334,"Debrecen","004","Q1","2019-02-18","Lakossági hitelnövekmény összege ",16,"Mhuf","2019-03-01","laszlop",{"$f":"AND(E1335>=Kimutatás!B$2,E1335<=Kimutatás!B$3)","v":true}]
[1335,"Debrecen","004","Q1","2019-02-18","Lakossági számlanyitás",2,"db","2019-03-01","laszlop",{"$f":"AND(E1336>=Kimutatás!B$2,E1336<=Kimutatás!B$3)","v":true}]
[1336,"Debrecen","004","Q1","2019-02-18","KKV hitelnövekmény (db)",0,"db","2019-03-01","laszlop",{"$f":"AND(E1337>=Kimutatás!B$2,E1337<=Kimutatás!B$3)","v":true}]
[1337,"Debrecen","004","Q1","2019-02-18","KKV számlanyitás",0,"db","2019-03-01","laszlop",{"$f":"AND(E1338>=Kimutatás!B$2,E1338<=Kimutatás!B$3)","v":true}]
[1338,"Debrecen","004","Q1","2019-02-18","Betét állomány növekmény",27,"Mhuf","2019-03-01","laszlop",{"$f":"AND(E1339>=Kimutatás!B$2,E1339<=Kimutatás!B$3)","v":true}]
[1339,"Debrecen","004","Q1","2019-02-19","Betérő ügyfelek",47,"fő","2019-03-01","laszlop",{"$f":"AND(E1340>=Kimutatás!B$2,E1340<=Kimutatás!B$3)","v":true}]
[1340,"Debrecen","004","Q1","2019-02-19","Lakossági hitelnövekmény összege ",4,"Mhuf","2019-03-01","laszlop",{"$f":"AND(E1341>=Kimutatás!B$2,E1341<=Kimutatás!B$3)","v":true}]
[1341,"Debrecen","004","Q1","2019-02-19","Lakossági számlanyitás",0,"db","2019-03-01","laszlop",{"$f":"AND(E1342>=Kimutatás!B$2,E1342<=Kimutatás!B$3)","v":true}]
[1342,"Debrecen","004","Q1","2019-02-19","KKV hitelnövekmény (db)",-2,"db","2019-03-01","laszlop",{"$f":"AND(E1343>=Kimutatás!B$2,E1343<=Kimutatás!B$3)","v":true}]
[1343,"Debrecen","004","Q1","2019-02-19","KKV számlanyitás",-1,"db","2019-03-01","laszlop",{"$f":"AND(E1344>=Kimutatás!B$2,E1344<=Kimutatás!B$3)","v":true}]
[1344,"Debrecen","004","Q1","2019-02-19","Betét állomány növekmény",-8,"Mhuf","2019-03-01","laszlop",{"$f":"AND(E1345>=Kimutatás!B$2,E1345<=Kimutatás!B$3)","v":true}]
[1345,"Debrecen","004","Q1","2019-02-20","Betérő ügyfelek",16,"fő","2019-03-01","laszlop",{"$f":"AND(E1346>=Kimutatás!B$2,E1346<=Kimutatás!B$3)","v":true}]
[1346,"Debrecen","004","Q1","2019-02-20","Lakossági hitelnövekmény összege ",30,"Mhuf","2019-03-01","laszlop",{"$f":"AND(E1347>=Kimutatás!B$2,E1347<=Kimutatás!B$3)","v":true}]
[1347,"Debrecen","004","Q1","2019-02-20","Lakossági számlanyitás",3,"db","2019-03-01","laszlop",{"$f":"AND(E1348>=Kimutatás!B$2,E1348<=Kimutatás!B$3)","v":true}]
[1348,"Debrecen","004","Q1","2019-02-20","KKV hitelnövekmény (db)",0,"db","2019-03-01","laszlop",{"$f":"AND(E1349>=Kimutatás!B$2,E1349<=Kimutatás!B$3)","v":true}]
[1349,"Debrecen","004","Q1","2019-02-20","KKV számlanyitás",3,"db","2019-03-01","laszlop",{"$f":"AND(E1350>=Kimutatás!B$2,E1350<=Kimutatás!B$3)","v":true}]
[1350,"Debrecen","004","Q1","2019-02-20","Betét állomány növekmény",-16,"Mhuf","2019-03-01","laszlop",{"$f":"AND(E1351>=Kimutatás!B$2,E1351<=Kimutatás!B$3)","v":true}]
[1351,"Debrecen","004","Q1","2019-02-21","Betérő ügyfelek",20,"fő","2019-03-01","laszlop",{"$f":"AND(E1352>=Kimutatás!B$2,E1352<=Kimutatás!B$3)","v":true}]
[1352,"Debrecen","004","Q1","2019-02-21","Lakossági hitelnövekmény összege ",-8,"Mhuf","2019-03-01","laszlop",{"$f":"AND(E1353>=Kimutatás!B$2,E1353<=Kimutatás!B$3)","v":true}]
[1353,"Debrecen","004","Q1","2019-02-21","Lakossági számlanyitás",-4,"db","2019-03-01","laszlop",{"$f":"AND(E1354>=Kimutatás!B$2,E1354<=Kimutatás!B$3)","v":true}]
[1354,"Debrecen","004","Q1","2019-02-21","KKV hitelnövekmény (db)",-1,"db","2019-03-01","laszlop",{"$f":"AND(E1355>=Kimutatás!B$2,E1355<=Kimutatás!B$3)","v":true}]
[1355,"Debrecen","004","Q1","2019-02-21","KKV számlanyitás",-5,"db","2019-03-01","laszlop",{"$f":"AND(E1356>=Kimutatás!B$2,E1356<=Kimutatás!B$3)","v":true}]
[1356,"Debrecen","004","Q1","2019-02-21","Betét állomány növekmény",37,"Mhuf","2019-03-01","laszlop",{"$f":"AND(E1357>=Kimutatás!B$2,E1357<=Kimutatás!B$3)","v":true}]
[1357,"Debrecen","004","Q1","2019-02-24","Betérő ügyfelek",11,"fő","2019-03-01","laszlop",{"$f":"AND(E1358>=Kimutatás!B$2,E1358<=Kimutatás!B$3)","v":true}]
[1358,"Debrecen","004","Q1","2019-02-24","Lakossági hitelnövekmény összege ",27,"Mhuf","2019-03-01","laszlop",{"$f":"AND(E1359>=Kimutatás!B$2,E1359<=Kimutatás!B$3)","v":true}]
[1359,"Debrecen","004","Q1","2019-02-24","Lakossági számlanyitás",-1,"db","2019-03-01","laszlop",{"$f":"AND(E1360>=Kimutatás!B$2,E1360<=Kimutatás!B$3)","v":true}]
[1360,"Debrecen","004","Q1","2019-02-24","KKV hitelnövekmény (db)",1,"db","2019-03-01","laszlop",{"$f":"AND(E1361>=Kimutatás!B$2,E1361<=Kimutatás!B$3)","v":true}]
[1361,"Debrecen","004","Q1","2019-02-24","KKV számlanyitás",1,"db","2019-03-01","laszlop",{"$f":"AND(E1362>=Kimutatás!B$2,E1362<=Kimutatás!B$3)","v":true}]
[1362,"Debrecen","004","Q1","2019-02-24","Betét állomány növekmény",-6,"Mhuf","2019-03-01","laszlop",{"$f":"AND(E1363>=Kimutatás!B$2,E1363<=Kimutatás!B$3)","v":true}]
[1363,"Debrecen","004","Q1","2019-02-25","Betérő ügyfelek",31,"fő","2019-03-01","laszlop",{"$f":"AND(E1364>=Kimutatás!B$2,E1364<=Kimutatás!B$3)","v":true}]
[1364,"Debrecen","004","Q1","2019-02-25","Lakossági hitelnövekmény összege ",-5,"Mhuf","2019-03-01","laszlop",{"$f":"AND(E1365>=Kimutatás!B$2,E1365<=Kimutatás!B$3)","v":true}]
[1365,"Debrecen","004","Q1","2019-02-25","Lakossági számlanyitás",10,"db","2019-03-01","laszlop",{"$f":"AND(E1366>=Kimutatás!B$2,E1366<=Kimutatás!B$3)","v":true}]
[1366,"Debrecen","004","Q1","2019-02-25","KKV hitelnövekmény (db)",0,"db","2019-03-01","laszlop",{"$f":"AND(E1367>=Kimutatás!B$2,E1367<=Kimutatás!B$3)","v":true}]
[1367,"Debrecen","004","Q1","2019-02-25","KKV számlanyitás",3,"db","2019-03-01","laszlop",{"$f":"AND(E1368>=Kimutatás!B$2,E1368<=Kimutatás!B$3)","v":true}]
[1368,"Debrecen","004","Q1","2019-02-25","Betét állomány növekmény",2,"Mhuf","2019-03-01","laszlop",{"$f":"AND(E1369>=Kimutatás!B$2,E1369<=Kimutatás!B$3)","v":true}]
[1369,"Debrecen","004","Q1","2019-02-26","Betérő ügyfelek",4,"fő","2019-03-01","laszlop",{"$f":"AND(E1370>=Kimutatás!B$2,E1370<=Kimutatás!B$3)","v":true}]
[1370,"Debrecen","004","Q1","2019-02-26","Lakossági hitelnövekmény összege ",3,"Mhuf","2019-03-01","laszlop",{"$f":"AND(E1371>=Kimutatás!B$2,E1371<=Kimutatás!B$3)","v":true}]
[1371,"Debrecen","004","Q1","2019-02-26","Lakossági számlanyitás",-1,"db","2019-03-01","laszlop",{"$f":"AND(E1372>=Kimutatás!B$2,E1372<=Kimutatás!B$3)","v":true}]
[1372,"Debrecen","004","Q1","2019-02-26","KKV hitelnövekmény (db)",0,"db","2019-03-01","laszlop",{"$f":"AND(E1373>=Kimutatás!B$2,E1373<=Kimutatás!B$3)","v":true}]
[1373,"Debrecen","004","Q1","2019-02-26","KKV számlanyitás",4,"db","2019-03-01","laszlop",{"$f":"AND(E1374>=Kimutatás!B$2,E1374<=Kimutatás!B$3)","v":true}]
[1374,"Debrecen","004","Q1","2019-02-26","Betét állomány növekmény",-10,"Mhuf","2019-03-01","laszlop",{"$f":"AND(E1375>=Kimutatás!B$2,E1375<=Kimutatás!B$3)","v":true}]
[1375,"Debrecen","004","Q1","2019-02-27","Betérő ügyfelek",26,"fő","2019-03-01","laszlop",{"$f":"AND(E1376>=Kimutatás!B$2,E1376<=Kimutatás!B$3)","v":true}]
[1376,"Debrecen","004","Q1","2019-02-27","Lakossági hitelnövekmény összege ",0,"Mhuf","2019-03-01","laszlop",{"$f":"AND(E1377>=Kimutatás!B$2,E1377<=Kimutatás!B$3)","v":true}]
[1377,"Debrecen","004","Q1","2019-02-27","Lakossági számlanyitás",2,"db","2019-03-01","laszlop",{"$f":"AND(E1378>=Kimutatás!B$2,E1378<=Kimutatás!B$3)","v":true}]
[1378,"Debrecen","004","Q1","2019-02-27","KKV hitelnövekmény (db)",-1,"db","2019-03-01","laszlop",{"$f":"AND(E1379>=Kimutatás!B$2,E1379<=Kimutatás!B$3)","v":true}]
[1379,"Debrecen","004","Q1","2019-02-27","KKV számlanyitás",4,"db","2019-03-01","laszlop",{"$f":"AND(E1380>=Kimutatás!B$2,E1380<=Kimutatás!B$3)","v":true}]
[1380,"Debrecen","004","Q1","2019-02-27","Betét állomány növekmény",-9,"Mhuf","2019-03-01","laszlop",{"$f":"AND(E1381>=Kimutatás!B$2,E1381<=Kimutatás!B$3)","v":true}]
[1381,"Debrecen","004","Q1","2019-02-28","Betérő ügyfelek",2,"fő","2019-03-01","laszlop",{"$f":"AND(E1382>=Kimutatás!B$2,E1382<=Kimutatás!B$3)","v":true}]
[1382,"Debrecen","004","Q1","2019-02-28","Lakossági hitelnövekmény összege ",-3,"Mhuf","2019-03-01","laszlop",{"$f":"AND(E1383>=Kimutatás!B$2,E1383<=Kimutatás!B$3)","v":true}]
[1383,"Debrecen","004","Q1","2019-02-28","Lakossági számlanyitás",9,"db","2019-03-01","laszlop",{"$f":"AND(E1384>=Kimutatás!B$2,E1384<=Kimutatás!B$3)","v":true}]
[1384,"Debrecen","004","Q1","2019-02-28","KKV hitelnövekmény (db)",-1,"db","2019-03-01","laszlop",{"$f":"AND(E1385>=Kimutatás!B$2,E1385<=Kimutatás!B$3)","v":true}]
[1385,"Debrecen","004","Q1","2019-02-28","KKV számlanyitás",-1,"db","2019-03-01","laszlop",{"$f":"AND(E1386>=Kimutatás!B$2,E1386<=Kimutatás!B$3)","v":true}]
[1386,"Debrecen","004","Q1","2019-02-28","Betét állomány növekmény",34,"Mhuf","2019-03-01","laszlop",{"$f":"AND(E1387>=Kimutatás!B$2,E1387<=Kimutatás!B$3)","v":true}]
[1387,"Debrecen","004","Q1","2019-03-03","Betérő ügyfelek",12,"fő","2019-04-01","edinak",{"$f":"AND(E1388>=Kimutatás!B$2,E1388<=Kimutatás!B$3)","v":true}]
[1388,"Debrecen","004","Q1","2019-03-03","Lakossági hitelnövekmény összege ",37,"Mhuf","2019-04-01","edinak",{"$f":"AND(E1389>=Kimutatás!B$2,E1389<=Kimutatás!B$3)","v":true}]
[1389,"Debrecen","004","Q1","2019-03-03","Lakossági számlanyitás",4,"db","2019-04-01","edinak",{"$f":"AND(E1390>=Kimutatás!B$2,E1390<=Kimutatás!B$3)","v":true}]
[1390,"Debrecen","004","Q1","2019-03-03","KKV hitelnövekmény (db)",0,"db","2019-04-01","edinak",{"$f":"AND(E1391>=Kimutatás!B$2,E1391<=Kimutatás!B$3)","v":true}]
[1391,"Debrecen","004","Q1","2019-03-03","KKV számlanyitás",-1,"db","2019-04-01","edinak",{"$f":"AND(E1392>=Kimutatás!B$2,E1392<=Kimutatás!B$3)","v":true}]
[1392,"Debrecen",{"$f":"C1392","v":"004"},"Q1","2019-03-03","Betét állomány növekmény",21,"Mhuf","2019-04-01","edinak",{"$f":"AND(E1393>=Kimutatás!B$2,E1393<=Kimutatás!B$3)","v":true}]
[1393,"Debrecen","004","Q1","2019-03-04","Betérő ügyfelek",1,"fő","2019-04-01","edinak",{"$f":"AND(E1394>=Kimutatás!B$2,E1394<=Kimutatás!B$3)","v":true}]
[1394,"Debrecen","004","Q1","2019-03-04","Lakossági hitelnövekmény összege ",10,"Mhuf","2019-04-01","edinak",{"$f":"AND(E1395>=Kimutatás!B$2,E1395<=Kimutatás!B$3)","v":true}]
[1395,"Debrecen","004","Q1","2019-03-04","Lakossági számlanyitás",-4,"db","2019-04-01","edinak",{"$f":"AND(E1396>=Kimutatás!B$2,E1396<=Kimutatás!B$3)","v":true}]
[1396,"Debrecen","004","Q1","2019-03-04","KKV hitelnövekmény (db)",0,"db","2019-04-01","edinak",{"$f":"AND(E1397>=Kimutatás!B$2,E1397<=Kimutatás!B$3)","v":true}]
[1397,"Debrecen","004","Q1","2019-03-04","KKV számlanyitás",-2,"db","2019-04-01","edinak",{"$f":"AND(E1398>=Kimutatás!B$2,E1398<=Kimutatás!B$3)","v":true}]
[1398,"Debrecen","004","Q1","2019-03-04","Betét állomány növekmény",-17,"Mhuf","2019-04-01","edinak",{"$f":"AND(E1399>=Kimutatás!B$2,E1399<=Kimutatás!B$3)","v":true}]
[1399,"Debrecen","004","Q1","2019-03-05","Betérő ügyfelek",14,"fő","2019-04-01","edinak",{"$f":"AND(E1400>=Kimutatás!B$2,E1400<=Kimutatás!B$3)","v":true}]
[1400,"Debrecen","004","Q1","2019-03-05","Lakossági hitelnövekmény összege ",38,"Mhuf","2019-04-01","edinak",{"$f":"AND(E1401>=Kimutatás!B$2,E1401<=Kimutatás!B$3)","v":true}]
[1401,"Debrecen","004","Q1","2019-03-05","Lakossági számlanyitás",5,"db","2019-04-01","edinak",{"$f":"AND(E1402>=Kimutatás!B$2,E1402<=Kimutatás!B$3)","v":true}]
[1402,"Debrecen","004","Q1","2019-03-05","KKV hitelnövekmény (db)",1,"db","2019-04-01","edinak",{"$f":"AND(E1403>=Kimutatás!B$2,E1403<=Kimutatás!B$3)","v":true}]
[1403,"Debrecen","004","Q1","2019-03-05","KKV számlanyitás",0,"db","2019-04-01","edinak",{"$f":"AND(E1404>=Kimutatás!B$2,E1404<=Kimutatás!B$3)","v":true}]
[1404,"Debrecen","004","Q1","2019-03-05","Betét állomány növekmény",49,"Mhuf","2019-04-01","edinak",{"$f":"AND(E1405>=Kimutatás!B$2,E1405<=Kimutatás!B$3)","v":true}]
[1405,"Debrecen","004","Q1","2019-03-06","Betérő ügyfelek",40,"fő","2019-04-01","edinak",{"$f":"AND(E1406>=Kimutatás!B$2,E1406<=Kimutatás!B$3)","v":true}]
[1406,"Debrecen","004","Q1","2019-03-06","Lakossági hitelnövekmény összege ",38,"Mhuf","2019-04-01","edinak",{"$f":"AND(E1407>=Kimutatás!B$2,E1407<=Kimutatás!B$3)","v":true}]
[1407,"Debrecen","004","Q1","2019-03-06","Lakossági számlanyitás",2,"db","2019-04-01","edinak",{"$f":"AND(E1408>=Kimutatás!B$2,E1408<=Kimutatás!B$3)","v":true}]
[1408,"Debrecen","004","Q1","2019-03-06","KKV hitelnövekmény (db)",2,"db","2019-04-01","edinak",{"$f":"AND(E1409>=Kimutatás!B$2,E1409<=Kimutatás!B$3)","v":true}]
[1409,"Debrecen","004","Q1","2019-03-06","KKV számlanyitás",4,"db","2019-04-01","edinak",{"$f":"AND(E1410>=Kimutatás!B$2,E1410<=Kimutatás!B$3)","v":true}]
[1410,"Debrecen","004","Q1","2019-03-06","Betét állomány növekmény",2,"Mhuf","2019-04-01","edinak",{"$f":"AND(E1411>=Kimutatás!B$2,E1411<=Kimutatás!B$3)","v":true}]
[1411,"Debrecen","004","Q1","2019-03-07","Betérő ügyfelek",31,"fő","2019-04-01","edinak",{"$f":"AND(E1412>=Kimutatás!B$2,E1412<=Kimutatás!B$3)","v":true}]
[1412,"Debrecen","004","Q1","2019-03-07","Lakossági hitelnövekmény összege ",44,"Mhuf","2019-04-01","edinak",{"$f":"AND(E1413>=Kimutatás!B$2,E1413<=Kimutatás!B$3)","v":true}]
[1413,"Debrecen","004","Q1","2019-03-07","Lakossági számlanyitás",-5,"db","2019-04-01","edinak",{"$f":"AND(E1414>=Kimutatás!B$2,E1414<=Kimutatás!B$3)","v":true}]
[1414,"Debrecen","004","Q1","2019-03-07","KKV hitelnövekmény (db)",2,"db","2019-04-01","edinak",{"$f":"AND(E1415>=Kimutatás!B$2,E1415<=Kimutatás!B$3)","v":true}]
[1415,"Debrecen","004","Q1","2019-03-07","KKV számlanyitás",-2,"db","2019-04-01","edinak",{"$f":"AND(E1416>=Kimutatás!B$2,E1416<=Kimutatás!B$3)","v":true}]
[1416,"Debrecen","004","Q1","2019-03-07","Betét állomány növekmény",24,"Mhuf","2019-04-01","edinak",{"$f":"AND(E1417>=Kimutatás!B$2,E1417<=Kimutatás!B$3)","v":true}]
[1417,"Debrecen","004","Q1","2019-03-10","Betérő ügyfelek",28,"fő","2019-04-01","edinak",{"$f":"AND(E1418>=Kimutatás!B$2,E1418<=Kimutatás!B$3)","v":true}]
[1418,"Debrecen","004","Q1","2019-03-10","Lakossági hitelnövekmény összege ",23,"Mhuf","2019-04-01","edinak",{"$f":"AND(E1419>=Kimutatás!B$2,E1419<=Kimutatás!B$3)","v":true}]
[1419,"Debrecen","004","Q1","2019-03-10","Lakossági számlanyitás",-4,"db","2019-04-01","edinak",{"$f":"AND(E1420>=Kimutatás!B$2,E1420<=Kimutatás!B$3)","v":true}]
[1420,"Debrecen","004","Q1","2019-03-10","KKV hitelnövekmény (db)",-2,"db","2019-04-01","edinak",{"$f":"AND(E1421>=Kimutatás!B$2,E1421<=Kimutatás!B$3)","v":true}]
[1421,"Debrecen","004","Q1","2019-03-10","KKV számlanyitás",0,"db","2019-04-01","edinak",{"$f":"AND(E1422>=Kimutatás!B$2,E1422<=Kimutatás!B$3)","v":true}]
[1422,"Debrecen","004","Q1","2019-03-10","Betét állomány növekmény",49,"Mhuf","2019-04-01","edinak",{"$f":"AND(E1423>=Kimutatás!B$2,E1423<=Kimutatás!B$3)","v":true}]
[1423,"Debrecen","004","Q1","2019-03-11","Betérő ügyfelek",28,"fő","2019-04-01","edinak",{"$f":"AND(E1424>=Kimutatás!B$2,E1424<=Kimutatás!B$3)","v":false}]
[1424,"Debrecen","004","Q1","2019-03-11","Lakossági hitelnövekmény összege ",32,"Mhuf","2019-04-01","edinak",{"$f":"AND(E1425>=Kimutatás!B$2,E1425<=Kimutatás!B$3)","v":false}]
[1425,"Debrecen","004","Q1","2019-03-11","Lakossági számlanyitás",6,"db","2019-04-01","edinak",{"$f":"AND(E1426>=Kimutatás!B$2,E1426<=Kimutatás!B$3)","v":false}]
[1426,"Debrecen","004","Q1","2019-03-11","KKV hitelnövekmény (db)",1,"db","2019-04-01","edinak",{"$f":"AND(E1427>=Kimutatás!B$2,E1427<=Kimutatás!B$3)","v":false}]
[1427,"Debrecen","004","Q1","2019-03-11","KKV számlanyitás",-5,"db","2019-04-01","edinak",{"$f":"AND(E1428>=Kimutatás!B$2,E1428<=Kimutatás!B$3)","v":false}]
[1428,"Debrecen","004","Q1","2019-03-11","Betét állomány növekmény",-1,"Mhuf","2019-04-01","edinak",{"$f":"AND(E1429>=Kimutatás!B$2,E1429<=Kimutatás!B$3)","v":false}]
[1429,"Debrecen","004","Q1","2019-03-12","Betérő ügyfelek",18,"fő","2019-04-01","edinak",{"$f":"AND(E1430>=Kimutatás!B$2,E1430<=Kimutatás!B$3)","v":false}]
[1430,"Debrecen","004","Q1","2019-03-12","Lakossági hitelnövekmény összege ",-3,"Mhuf","2019-04-01","edinak",{"$f":"AND(E1431>=Kimutatás!B$2,E1431<=Kimutatás!B$3)","v":false}]
[1431,"Debrecen","004","Q1","2019-03-12","Lakossági számlanyitás",8,"db","2019-04-01","edinak",{"$f":"AND(E1432>=Kimutatás!B$2,E1432<=Kimutatás!B$3)","v":false}]
[1432,"Debrecen","004","Q1","2019-03-12","KKV hitelnövekmény (db)",2,"db","2019-04-01","edinak",{"$f":"AND(E1433>=Kimutatás!B$2,E1433<=Kimutatás!B$3)","v":false}]
[1433,"Debrecen","004","Q1","2019-03-12","KKV számlanyitás",-3,"db","2019-04-01","edinak",{"$f":"AND(E1434>=Kimutatás!B$2,E1434<=Kimutatás!B$3)","v":false}]
[1434,"Debrecen","004","Q1","2019-03-12","Betét állomány növekmény",20,"Mhuf","2019-04-01","edinak",{"$f":"AND(E1435>=Kimutatás!B$2,E1435<=Kimutatás!B$3)","v":false}]
[1435,"Debrecen","004","Q1","2019-03-13","Betérő ügyfelek",2,"fő","2019-04-01","edinak",{"$f":"AND(E1436>=Kimutatás!B$2,E1436<=Kimutatás!B$3)","v":false}]
[1436,"Debrecen","004","Q1","2019-03-13","Lakossági hitelnövekmény összege ",44,"Mhuf","2019-04-01","edinak",{"$f":"AND(E1437>=Kimutatás!B$2,E1437<=Kimutatás!B$3)","v":false}]
[1437,"Debrecen","004","Q1","2019-03-13","Lakossági számlanyitás",-5,"db","2019-04-01","edinak",{"$f":"AND(E1438>=Kimutatás!B$2,E1438<=Kimutatás!B$3)","v":false}]
[1438,"Debrecen","004","Q1","2019-03-13","KKV hitelnövekmény (db)",-1,"db","2019-04-01","edinak",{"$f":"AND(E1439>=Kimutatás!B$2,E1439<=Kimutatás!B$3)","v":false}]
[1439,"Debrecen","004","Q1","2019-03-13","KKV számlanyitás",-4,"db","2019-04-01","edinak",{"$f":"AND(E1440>=Kimutatás!B$2,E1440<=Kimutatás!B$3)","v":false}]
[1440,"Debrecen","004","Q1","2019-03-13","Betét állomány növekmény",20,"Mhuf","2019-04-01","edinak",{"$f":"AND(E1441>=Kimutatás!B$2,E1441<=Kimutatás!B$3)","v":false}]
[1441,"Debrecen","004","Q1","2019-03-14","Betérő ügyfelek",21,"fő","2019-04-01","edinak",{"$f":"AND(E1442>=Kimutatás!B$2,E1442<=Kimutatás!B$3)","v":false}]
[1442,"Debrecen","004","Q1","2019-03-14","Lakossági hitelnövekmény összege ",35,"Mhuf","2019-04-01","edinak",{"$f":"AND(E1443>=Kimutatás!B$2,E1443<=Kimutatás!B$3)","v":false}]
[1443,"Debrecen","004","Q1","2019-03-14","Lakossági számlanyitás",10,"db","2019-04-01","edinak",{"$f":"AND(E1444>=Kimutatás!B$2,E1444<=Kimutatás!B$3)","v":false}]
[1444,"Debrecen","004","Q1","2019-03-14","KKV hitelnövekmény (db)",1,"db","2019-04-01","edinak",{"$f":"AND(E1445>=Kimutatás!B$2,E1445<=Kimutatás!B$3)","v":false}]
[1445,"Debrecen","004","Q1","2019-03-14","KKV számlanyitás",2,"db","2019-04-01","edinak",{"$f":"AND(E1446>=Kimutatás!B$2,E1446<=Kimutatás!B$3)","v":false}]
[1446,"Debrecen","004","Q1","2019-03-14","Betét állomány növekmény",46,"Mhuf","2019-04-01","edinak",{"$f":"AND(E1447>=Kimutatás!B$2,E1447<=Kimutatás!B$3)","v":false}]
[1447,"Debrecen","004","Q1","2019-03-17","Betérő ügyfelek",36,"fő","2019-04-01","edinak",{"$f":"AND(E1448>=Kimutatás!B$2,E1448<=Kimutatás!B$3)","v":false}]
[1448,"Debrecen","004","Q1","2019-03-17","Lakossági hitelnövekmény összege ",35,"Mhuf","2019-04-01","edinak",{"$f":"AND(E1449>=Kimutatás!B$2,E1449<=Kimutatás!B$3)","v":false}]
[1449,"Debrecen","004","Q1","2019-03-17","Lakossági számlanyitás",4,"db","2019-04-01","edinak",{"$f":"AND(E1450>=Kimutatás!B$2,E1450<=Kimutatás!B$3)","v":false}]
[1450,"Debrecen","004","Q1","2019-03-17","KKV hitelnövekmény (db)",2,"db","2019-04-01","edinak",{"$f":"AND(E1451>=Kimutatás!B$2,E1451<=Kimutatás!B$3)","v":false}]
[1451,"Debrecen","004","Q1","2019-03-17","KKV számlanyitás",-3,"db","2019-04-01","edinak",{"$f":"AND(E1452>=Kimutatás!B$2,E1452<=Kimutatás!B$3)","v":false}]
[1452,"Debrecen","004","Q1","2019-03-17","Betét állomány növekmény",42,"Mhuf","2019-04-01","edinak",{"$f":"AND(E1453>=Kimutatás!B$2,E1453<=Kimutatás!B$3)","v":false}]
[1453,"Debrecen","004","Q1","2019-03-18","Betérő ügyfelek",32,"fő","2019-04-01","edinak",{"$f":"AND(E1454>=Kimutatás!B$2,E1454<=Kimutatás!B$3)","v":false}]
[1454,"Debrecen","004","Q1","2019-03-18","Lakossági hitelnövekmény összege ",9,"Mhuf","2019-04-01","edinak",{"$f":"AND(E1455>=Kimutatás!B$2,E1455<=Kimutatás!B$3)","v":false}]
[1455,"Debrecen","004","Q1","2019-03-18","Lakossági számlanyitás",7,"db","2019-04-01","edinak",{"$f":"AND(E1456>=Kimutatás!B$2,E1456<=Kimutatás!B$3)","v":false}]
[1456,"Debrecen",{"$f":"C1456","v":"004"},"Q1","2019-03-18","KKV hitelnövekmény (db)",2,"db","2019-04-01","edinak",{"$f":"AND(E1457>=Kimutatás!B$2,E1457<=Kimutatás!B$3)","v":false}]
[1457,"Debrecen","004","Q1","2019-03-18","KKV számlanyitás",-2,"db","2019-04-01","edinak",{"$f":"AND(E1458>=Kimutatás!B$2,E1458<=Kimutatás!B$3)","v":false}]
[1458,"Debrecen","004","Q1","2019-03-18","Betét állomány növekmény",-7,"Mhuf","2019-04-01","edinak",{"$f":"AND(E1459>=Kimutatás!B$2,E1459<=Kimutatás!B$3)","v":false}]
[1459,"Debrecen","004","Q1","2019-03-19","Betérő ügyfelek",42,"fő","2019-04-01","edinak",{"$f":"AND(E1460>=Kimutatás!B$2,E1460<=Kimutatás!B$3)","v":false}]
[1460,"Debrecen","004","Q1","2019-03-19","Lakossági hitelnövekmény összege ",8,"Mhuf","2019-04-01","edinak",{"$f":"AND(E1461>=Kimutatás!B$2,E1461<=Kimutatás!B$3)","v":false}]
[1461,"Debrecen","004","Q1","2019-03-19","Lakossági számlanyitás",6,"db","2019-04-01","edinak",{"$f":"AND(E1462>=Kimutatás!B$2,E1462<=Kimutatás!B$3)","v":false}]
[1462,"Debrecen","004","Q1","2019-03-19","KKV hitelnövekmény (db)",0,"db","2019-04-01","edinak",{"$f":"AND(E1463>=Kimutatás!B$2,E1463<=Kimutatás!B$3)","v":false}]
[1463,"Debrecen","004","Q1","2019-03-19","KKV számlanyitás",1,"db","2019-04-01","edinak",{"$f":"AND(E1464>=Kimutatás!B$2,E1464<=Kimutatás!B$3)","v":false}]
[1464,"Debrecen","004","Q1","2019-03-19","Betét állomány növekmény",30,"Mhuf","2019-04-01","edinak",{"$f":"AND(E1465>=Kimutatás!B$2,E1465<=Kimutatás!B$3)","v":false}]
[1465,"Debrecen","004","Q1","2019-03-20","Betérő ügyfelek",8,"fő","2019-04-01","edinak",{"$f":"AND(E1466>=Kimutatás!B$2,E1466<=Kimutatás!B$3)","v":false}]
[1466,"Debrecen","004","Q1","2019-03-20","Lakossági hitelnövekmény összege ",23,"Mhuf","2019-04-01","edinak",{"$f":"AND(E1467>=Kimutatás!B$2,E1467<=Kimutatás!B$3)","v":false}]
[1467,"Debrecen","004","Q1","2019-03-20","Lakossági számlanyitás",4,"db","2019-04-01","edinak",{"$f":"AND(E1468>=Kimutatás!B$2,E1468<=Kimutatás!B$3)","v":false}]
[1468,"Debrecen","004","Q1","2019-03-20","KKV hitelnövekmény (db)",-2,"db","2019-04-01","edinak",{"$f":"AND(E1469>=Kimutatás!B$2,E1469<=Kimutatás!B$3)","v":false}]
[1469,"Debrecen","004","Q1","2019-03-20","KKV számlanyitás",2,"db","2019-04-01","edinak",{"$f":"AND(E1470>=Kimutatás!B$2,E1470<=Kimutatás!B$3)","v":false}]
[1470,"Debrecen","004","Q1","2019-03-20","Betét állomány növekmény",14,"Mhuf","2019-04-01","edinak",{"$f":"AND(E1471>=Kimutatás!B$2,E1471<=Kimutatás!B$3)","v":false}]
[1471,"Debrecen","004","Q1","2019-03-21","Betérő ügyfelek",40,"fő","2019-04-01","edinak",{"$f":"AND(E1472>=Kimutatás!B$2,E1472<=Kimutatás!B$3)","v":false}]
[1472,"Debrecen","004","Q1","2019-03-21","Lakossági hitelnövekmény összege ",30,"Mhuf","2019-04-01","edinak",{"$f":"AND(E1473>=Kimutatás!B$2,E1473<=Kimutatás!B$3)","v":false}]
[1473,"Debrecen","004","Q1","2019-03-21","Lakossági számlanyitás",6,"db","2019-04-01","edinak",{"$f":"AND(E1474>=Kimutatás!B$2,E1474<=Kimutatás!B$3)","v":false}]
[1474,"Debrecen","004","Q1","2019-03-21","KKV hitelnövekmény (db)",-2,"db","2019-04-01","edinak",{"$f":"AND(E1475>=Kimutatás!B$2,E1475<=Kimutatás!B$3)","v":false}]
[1475,"Debrecen","004","Q1","2019-03-21","KKV számlanyitás",-3,"db","2019-04-01","edinak",{"$f":"AND(E1476>=Kimutatás!B$2,E1476<=Kimutatás!B$3)","v":false}]
[1476,"Debrecen","004","Q1","2019-03-21","Betét állomány növekmény",-9,"Mhuf","2019-04-01","edinak",{"$f":"AND(E1477>=Kimutatás!B$2,E1477<=Kimutatás!B$3)","v":false}]
[1477,"Debrecen","004","Q1","2019-03-24","Betérő ügyfelek",45,"fő","2019-04-01","edinak",{"$f":"AND(E1478>=Kimutatás!B$2,E1478<=Kimutatás!B$3)","v":false}]
[1478,"Debrecen","004","Q1","2019-03-24","Lakossági hitelnövekmény összege ",0,"Mhuf","2019-04-01","edinak",{"$f":"AND(E1479>=Kimutatás!B$2,E1479<=Kimutatás!B$3)","v":false}]
[1479,"Debrecen","004","Q1","2019-03-24","Lakossági számlanyitás",5,"db","2019-04-01","edinak",{"$f":"AND(E1480>=Kimutatás!B$2,E1480<=Kimutatás!B$3)","v":false}]
[1480,"Debrecen","004","Q1","2019-03-24","KKV hitelnövekmény (db)",2,"db","2019-04-01","edinak",{"$f":"AND(E1481>=Kimutatás!B$2,E1481<=Kimutatás!B$3)","v":false}]
[1481,"Debrecen","004","Q1","2019-03-24","KKV számlanyitás",0,"db","2019-04-01","edinak",{"$f":"AND(E1482>=Kimutatás!B$2,E1482<=Kimutatás!B$3)","v":false}]
[1482,"Debrecen","004","Q1","2019-03-24","Betét állomány növekmény",25,"Mhuf","2019-04-01","edinak",{"$f":"AND(E1483>=Kimutatás!B$2,E1483<=Kimutatás!B$3)","v":false}]
[1483,"Debrecen","004","Q1","2019-03-25","Betérő ügyfelek",46,"fő","2019-04-01","edinak",{"$f":"AND(E1484>=Kimutatás!B$2,E1484<=Kimutatás!B$3)","v":false}]
[1484,"Debrecen","004","Q1","2019-03-25","Lakossági hitelnövekmény összege ",31,"Mhuf","2019-04-01","edinak",{"$f":"AND(E1485>=Kimutatás!B$2,E1485<=Kimutatás!B$3)","v":false}]
[1485,"Debrecen","004","Q1","2019-03-25","Lakossági számlanyitás",-5,"db","2019-04-01","edinak",{"$f":"AND(E1486>=Kimutatás!B$2,E1486<=Kimutatás!B$3)","v":false}]
[1486,"Debrecen","004","Q1","2019-03-25","KKV hitelnövekmény (db)",-1,"db","2019-04-01","edinak",{"$f":"AND(E1487>=Kimutatás!B$2,E1487<=Kimutatás!B$3)","v":false}]
[1487,"Debrecen","004","Q1","2019-03-25","KKV számlanyitás",2,"db","2019-04-01","edinak",{"$f":"AND(E1488>=Kimutatás!B$2,E1488<=Kimutatás!B$3)","v":false}]
[1488,"Debrecen","004","Q1","2019-03-25","Betét állomány növekmény",0,"Mhuf","2019-04-01","edinak",{"$f":"AND(E1489>=Kimutatás!B$2,E1489<=Kimutatás!B$3)","v":false}]
[1489,"Debrecen","004","Q1","2019-03-26","Betérő ügyfelek",34,"fő","2019-04-01","edinak",{"$f":"AND(E1490>=Kimutatás!B$2,E1490<=Kimutatás!B$3)","v":false}]
[1490,"Debrecen","004","Q1","2019-03-26","Lakossági hitelnövekmény összege ",9,"Mhuf","2019-04-01","edinak",{"$f":"AND(E1491>=Kimutatás!B$2,E1491<=Kimutatás!B$3)","v":false}]
[1491,"Debrecen","004","Q1","2019-03-26","Lakossági számlanyitás",-5,"db","2019-04-01","edinak",{"$f":"AND(E1492>=Kimutatás!B$2,E1492<=Kimutatás!B$3)","v":false}]
[1492,"Debrecen","004","Q1","2019-03-26","KKV hitelnövekmény (db)",-2,"db","2019-04-01","edinak",{"$f":"AND(E1493>=Kimutatás!B$2,E1493<=Kimutatás!B$3)","v":false}]
[1493,"Debrecen","004","Q1","2019-03-26","KKV számlanyitás",-5,"db","2019-04-01","edinak",{"$f":"AND(E1494>=Kimutatás!B$2,E1494<=Kimutatás!B$3)","v":false}]
[1494,"Debrecen","004","Q1","2019-03-26","Betét állomány növekmény",2,"Mhuf","2019-04-01","edinak",{"$f":"AND(E1495>=Kimutatás!B$2,E1495<=Kimutatás!B$3)","v":false}]
[1495,"Debrecen","004","Q1","2019-03-27","Betérő ügyfelek",25,"fő","2019-04-01","edinak",{"$f":"AND(E1496>=Kimutatás!B$2,E1496<=Kimutatás!B$3)","v":false}]
[1496,"Debrecen","004","Q1","2019-03-27","Lakossági hitelnövekmény összege ",6,"Mhuf","2019-04-01","edinak",{"$f":"AND(E1497>=Kimutatás!B$2,E1497<=Kimutatás!B$3)","v":false}]
[1497,"Debrecen","004","Q1","2019-03-27","Lakossági számlanyitás",6,"db","2019-04-01","edinak",{"$f":"AND(E1498>=Kimutatás!B$2,E1498<=Kimutatás!B$3)","v":false}]
[1498,"Debrecen","004","Q1","2019-03-27","KKV hitelnövekmény (db)",-2,"db","2019-04-01","edinak",{"$f":"AND(E1499>=Kimutatás!B$2,E1499<=Kimutatás!B$3)","v":false}]
[1499,"Debrecen","004","Q1","2019-03-27","KKV számlanyitás",4,"db","2019-04-01","edinak",{"$f":"AND(E1500>=Kimutatás!B$2,E1500<=Kimutatás!B$3)","v":false}]
[1500,"Debrecen","004","Q1","2019-03-27","Betét állomány növekmény",29,"Mhuf","2019-04-01","edinak",{"$f":"AND(E1501>=Kimutatás!B$2,E1501<=Kimutatás!B$3)","v":false}]
[1501,"Debrecen","004","Q1","2019-03-28","Betérő ügyfelek",30,"fő","2019-04-01","edinak",{"$f":"AND(E1502>=Kimutatás!B$2,E1502<=Kimutatás!B$3)","v":false}]
[1502,"Debrecen","004","Q1","2019-03-28","Lakossági hitelnövekmény összege ",-2,"Mhuf","2019-04-01","edinak",{"$f":"AND(E1503>=Kimutatás!B$2,E1503<=Kimutatás!B$3)","v":false}]
[1503,"Debrecen","004","Q1","2019-03-28","Lakossági számlanyitás",7,"db","2019-04-01","edinak",{"$f":"AND(E1504>=Kimutatás!B$2,E1504<=Kimutatás!B$3)","v":false}]
[1504,"Debrecen","004","Q1","2019-03-28","KKV hitelnövekmény (db)",0,"db","2019-04-01","edinak",{"$f":"AND(E1505>=Kimutatás!B$2,E1505<=Kimutatás!B$3)","v":false}]
[1505,"Debrecen","004","Q1","2019-03-28","KKV számlanyitás",2,"db","2019-04-01","edinak",{"$f":"AND(E1506>=Kimutatás!B$2,E1506<=Kimutatás!B$3)","v":false}]
[1506,"Debrecen","004","Q1","2019-03-28","Betét állomány növekmény",38,"Mhuf","2019-04-01","edinak",{"$f":"AND(E1507>=Kimutatás!B$2,E1507<=Kimutatás!B$3)","v":false}]
[1507,"Debrecen","004","Q1","2019-03-31","Betérő ügyfelek",38,"fő","2019-04-01","edinak",{"$f":"AND(E1508>=Kimutatás!B$2,E1508<=Kimutatás!B$3)","v":false}]
[1508,"Debrecen","004","Q1","2019-03-31","Lakossági hitelnövekmény összege ",22,"Mhuf","2019-04-01","edinak",{"$f":"AND(E1509>=Kimutatás!B$2,E1509<=Kimutatás!B$3)","v":false}]
[1509,"Debrecen","004","Q1","2019-03-31","Lakossági számlanyitás",8,"db","2019-04-01","edinak",{"$f":"AND(E1510>=Kimutatás!B$2,E1510<=Kimutatás!B$3)","v":false}]
[1510,"Debrecen","004","Q1","2019-03-31","KKV hitelnövekmény (db)",-1,"db","2019-04-01","edinak",{"$f":"AND(E1511>=Kimutatás!B$2,E1511<=Kimutatás!B$3)","v":false}]
[1511,"Debrecen","004","Q1","2019-03-31","KKV számlanyitás",2,"db","2019-04-01","edinak",{"$f":"AND(E1512>=Kimutatás!B$2,E1512<=Kimutatás!B$3)","v":false}]
[1512,"Debrecen","004","Q1","2019-03-31","Betét állomány növekmény",41,"Mhuf","2019-04-01","edinak",{"$f":"AND(E1513>=Kimutatás!B$2,E1513<=Kimutatás!B$3)","v":false}]
[1513,"Eger","005","Q1","2019-01-02","Betérő ügyfelek",23,"fő","2019-02-01","idobo",{"$f":"AND(E1514>=Kimutatás!B$2,E1514<=Kimutatás!B$3)","v":false}]
[1514,"Eger","005","Q1","2019-01-02","Lakossági hitelnövekmény összege ",3,"Mhuf","2019-02-01","idobo",{"$f":"AND(E1515>=Kimutatás!B$2,E1515<=Kimutatás!B$3)","v":false}]
[1515,"Eger","005","Q1","2019-01-02","Lakossági számlanyitás",0,"db","2019-02-01","idobo",{"$f":"AND(E1516>=Kimutatás!B$2,E1516<=Kimutatás!B$3)","v":false}]
[1516,"Eger","005","Q1","2019-01-02","KKV hitelnövekmény (db)",2,"db","2019-02-01","idobo",{"$f":"AND(E1517>=Kimutatás!B$2,E1517<=Kimutatás!B$3)","v":false}]
[1517,"Eger","005","Q1","2019-01-02","KKV számlanyitás",0,"db","2019-02-01","idobo",{"$f":"AND(E1518>=Kimutatás!B$2,E1518<=Kimutatás!B$3)","v":false}]
[1518,"Eger","005","Q1","2019-01-02","Betét állomány növekmény",42,"Mhuf","2019-02-01","idobo",{"$f":"AND(E1519>=Kimutatás!B$2,E1519<=Kimutatás!B$3)","v":false}]
[1519,"Eger","005","Q1","2019-01-03","Betérő ügyfelek",1,"fő","2019-02-01","idobo",{"$f":"AND(E1520>=Kimutatás!B$2,E1520<=Kimutatás!B$3)","v":false}]
[1520,"Eger","005","Q1","2019-01-03","Lakossági hitelnövekmény összege ",41,"Mhuf","2019-02-01","idobo",{"$f":"AND(E1521>=Kimutatás!B$2,E1521<=Kimutatás!B$3)","v":false}]
[1521,"Eger","005","Q1","2019-01-03","Lakossági számlanyitás",4,"db","2019-02-01","idobo",{"$f":"AND(E1522>=Kimutatás!B$2,E1522<=Kimutatás!B$3)","v":false}]
[1522,"Eger","005","Q1","2019-01-03","KKV hitelnövekmény (db)",-1,"db","2019-02-01","idobo",{"$f":"AND(E1523>=Kimutatás!B$2,E1523<=Kimutatás!B$3)","v":false}]
[1523,"Eger","005","Q1","2019-01-03","KKV számlanyitás",-4,"db","2019-02-01","idobo",{"$f":"AND(E1524>=Kimutatás!B$2,E1524<=Kimutatás!B$3)","v":false}]
[1524,"Eger","005","Q1","2019-01-03","Betét állomány növekmény",48,"Mhuf","2019-02-01","idobo",{"$f":"AND(E1525>=Kimutatás!B$2,E1525<=Kimutatás!B$3)","v":false}]
[1525,"Eger","005","Q1","2019-01-06","Betérő ügyfelek",18,"fő","2019-02-01","idobo",{"$f":"AND(E1526>=Kimutatás!B$2,E1526<=Kimutatás!B$3)","v":false}]
[1526,"Eger","005","Q1","2019-01-06","Lakossági hitelnövekmény összege ",50,"Mhuf","2019-02-01","idobo",{"$f":"AND(E1527>=Kimutatás!B$2,E1527<=Kimutatás!B$3)","v":false}]
[1527,"Eger","005","Q1","2019-01-06","Lakossági számlanyitás",4,"db","2019-02-01","idobo",{"$f":"AND(E1528>=Kimutatás!B$2,E1528<=Kimutatás!B$3)","v":false}]
[1528,"Eger","005","Q1","2019-01-06","KKV hitelnövekmény (db)",2,"db","2019-02-01","idobo",{"$f":"AND(E1529>=Kimutatás!B$2,E1529<=Kimutatás!B$3)","v":false}]
[1529,"Eger","005","Q1","2019-01-06","KKV számlanyitás",-2,"db","2019-02-01","idobo",{"$f":"AND(E1530>=Kimutatás!B$2,E1530<=Kimutatás!B$3)","v":false}]
[1530,"Eger","005","Q1","2019-01-06","Betét állomány növekmény",32,"Mhuf","2019-02-01","idobo",{"$f":"AND(E1531>=Kimutatás!B$2,E1531<=Kimutatás!B$3)","v":false}]
[1531,"Eger","005","Q1","2019-01-07","Betérő ügyfelek",29,"fő","2019-02-01","idobo",{"$f":"AND(E1532>=Kimutatás!B$2,E1532<=Kimutatás!B$3)","v":false}]
[1532,"Eger","005","Q1","2019-01-07","Lakossági hitelnövekmény összege ",28,"Mhuf","2019-02-01","idobo",{"$f":"AND(E1533>=Kimutatás!B$2,E1533<=Kimutatás!B$3)","v":false}]
[1533,"Eger","005","Q1","2019-01-07","Lakossági számlanyitás",6,"db","2019-02-01","idobo",{"$f":"AND(E1534>=Kimutatás!B$2,E1534<=Kimutatás!B$3)","v":false}]
[1534,"Eger","005","Q1","2019-01-07","KKV hitelnövekmény (db)",-1,"db","2019-02-01","idobo",{"$f":"AND(E1535>=Kimutatás!B$2,E1535<=Kimutatás!B$3)","v":false}]
[1535,"Eger","005","Q1","2019-01-07","KKV számlanyitás",-1,"db","2019-02-01","idobo",{"$f":"AND(E1536>=Kimutatás!B$2,E1536<=Kimutatás!B$3)","v":false}]
[1536,"Eger","005","Q1","2019-01-07","Betét állomány növekmény",36,"Mhuf","2019-02-01","idobo",{"$f":"AND(E1537>=Kimutatás!B$2,E1537<=Kimutatás!B$3)","v":false}]
[1537,"Eger","005","Q1","2019-01-08","Betérő ügyfelek",48,"fő","2019-02-01","idobo",{"$f":"AND(E1538>=Kimutatás!B$2,E1538<=Kimutatás!B$3)","v":false}]
[1538,"Eger","005","Q1","2019-01-08","Lakossági hitelnövekmény összege ",5,"Mhuf","2019-02-01","idobo",{"$f":"AND(E1539>=Kimutatás!B$2,E1539<=Kimutatás!B$3)","v":false}]
[1539,"Eger","005","Q1","2019-01-08","Lakossági számlanyitás",9,"db","2019-02-01","idobo",{"$f":"AND(E1540>=Kimutatás!B$2,E1540<=Kimutatás!B$3)","v":false}]
[1540,"Eger","005","Q1","2019-01-08","KKV hitelnövekmény (db)",0,"db","2019-02-01","idobo",{"$f":"AND(E1541>=Kimutatás!B$2,E1541<=Kimutatás!B$3)","v":false}]
[1541,"Eger","005","Q1","2019-01-08","KKV számlanyitás",5,"db","2019-02-01","idobo",{"$f":"AND(E1542>=Kimutatás!B$2,E1542<=Kimutatás!B$3)","v":false}]
[1542,"Eger","005","Q1","2019-01-08","Betét állomány növekmény",-4,"Mhuf","2019-02-01","idobo",{"$f":"AND(E1543>=Kimutatás!B$2,E1543<=Kimutatás!B$3)","v":false}]
[1543,"Eger","005","Q1","2019-01-09","Betérő ügyfelek",38,"fő","2019-02-01","idobo",{"$f":"AND(E1544>=Kimutatás!B$2,E1544<=Kimutatás!B$3)","v":false}]
[1544,"Eger","005","Q1","2019-01-09","Lakossági hitelnövekmény összege ",28,"Mhuf","2019-02-01","idobo",{"$f":"AND(E1545>=Kimutatás!B$2,E1545<=Kimutatás!B$3)","v":false}]
[1545,"Eger","005","Q1","2019-01-09","Lakossági számlanyitás",0,"db","2019-02-01","idobo",{"$f":"AND(E1546>=Kimutatás!B$2,E1546<=Kimutatás!B$3)","v":false}]
[1546,"Eger","005","Q1","2019-01-09","KKV hitelnövekmény (db)",1,"db","2019-02-01","idobo",{"$f":"AND(E1547>=Kimutatás!B$2,E1547<=Kimutatás!B$3)","v":false}]
[1547,"Eger","005","Q1","2019-01-09","KKV számlanyitás",5,"db","2019-02-01","idobo",{"$f":"AND(E1548>=Kimutatás!B$2,E1548<=Kimutatás!B$3)","v":false}]
[1548,"Eger","005","Q1","2019-01-09","Betét állomány növekmény",25,"Mhuf","2019-02-01","idobo",{"$f":"AND(E1549>=Kimutatás!B$2,E1549<=Kimutatás!B$3)","v":false}]
[1549,"Eger","005","Q1","2019-01-10","Betérő ügyfelek",8,"fő","2019-02-01","idobo",{"$f":"AND(E1550>=Kimutatás!B$2,E1550<=Kimutatás!B$3)","v":true}]
[1550,"Eger","005","Q1","2019-01-10","Lakossági hitelnövekmény összege ",30,"Mhuf","2019-02-01","idobo",{"$f":"AND(E1551>=Kimutatás!B$2,E1551<=Kimutatás!B$3)","v":true}]
[1551,"Eger","005","Q1","2019-01-10","Lakossági számlanyitás",-4,"db","2019-02-01","idobo",{"$f":"AND(E1552>=Kimutatás!B$2,E1552<=Kimutatás!B$3)","v":true}]
[1552,"Eger","005","Q1","2019-01-10","KKV hitelnövekmény (db)",1,"db","2019-02-01","idobo",{"$f":"AND(E1553>=Kimutatás!B$2,E1553<=Kimutatás!B$3)","v":true}]
[1553,"Eger","005","Q1","2019-01-10","KKV számlanyitás",2,"db","2019-02-01","idobo",{"$f":"AND(E1554>=Kimutatás!B$2,E1554<=Kimutatás!B$3)","v":true}]
[1554,"Eger","005","Q1","2019-01-10","Betét állomány növekmény",6,"Mhuf","2019-02-01","idobo",{"$f":"AND(E1555>=Kimutatás!B$2,E1555<=Kimutatás!B$3)","v":true}]
[1555,"Eger","005","Q1","2019-01-13","Betérő ügyfelek",47,"fő","2019-02-01","idobo",{"$f":"AND(E1556>=Kimutatás!B$2,E1556<=Kimutatás!B$3)","v":true}]
[1556,"Eger","005","Q1","2019-01-13","Lakossági hitelnövekmény összege ",16,"Mhuf","2019-02-01","idobo",{"$f":"AND(E1557>=Kimutatás!B$2,E1557<=Kimutatás!B$3)","v":true}]
[1557,"Eger","005","Q1","2019-01-13","Lakossági számlanyitás",-2,"db","2019-02-01","idobo",{"$f":"AND(E1558>=Kimutatás!B$2,E1558<=Kimutatás!B$3)","v":true}]
[1558,"Eger","005","Q1","2019-01-13","KKV hitelnövekmény (db)",1,"db","2019-02-01","idobo",{"$f":"AND(E1559>=Kimutatás!B$2,E1559<=Kimutatás!B$3)","v":true}]
[1559,"Eger","005","Q1","2019-01-13","KKV számlanyitás",3,"db","2019-02-01","idobo",{"$f":"AND(E1560>=Kimutatás!B$2,E1560<=Kimutatás!B$3)","v":true}]
[1560,"Eger","005","Q1","2019-01-13","Betét állomány növekmény",5,"Mhuf","2019-02-01","idobo",{"$f":"AND(E1561>=Kimutatás!B$2,E1561<=Kimutatás!B$3)","v":true}]
[1561,"Eger","005","Q1","2019-01-14","Betérő ügyfelek",36,"fő","2019-02-01","idobo",{"$f":"AND(E1562>=Kimutatás!B$2,E1562<=Kimutatás!B$3)","v":true}]
[1562,"Eger","005","Q1","2019-01-14","Lakossági hitelnövekmény összege ",30,"Mhuf","2019-02-01","idobo",{"$f":"AND(E1563>=Kimutatás!B$2,E1563<=Kimutatás!B$3)","v":true}]
[1563,"Eger","005","Q1","2019-01-14","Lakossági számlanyitás",-4,"db","2019-02-01","idobo",{"$f":"AND(E1564>=Kimutatás!B$2,E1564<=Kimutatás!B$3)","v":true}]
[1564,"Eger","005","Q1","2019-01-14","KKV hitelnövekmény (db)",2,"db","2019-02-01","idobo",{"$f":"AND(E1565>=Kimutatás!B$2,E1565<=Kimutatás!B$3)","v":true}]
[1565,"Eger","005","Q1","2019-01-14","KKV számlanyitás",-2,"db","2019-02-01","idobo",{"$f":"AND(E1566>=Kimutatás!B$2,E1566<=Kimutatás!B$3)","v":true}]
[1566,"Eger","005","Q1","2019-01-14","Betét állomány növekmény",46,"Mhuf","2019-02-01","idobo",{"$f":"AND(E1567>=Kimutatás!B$2,E1567<=Kimutatás!B$3)","v":true}]
[1567,"Eger","005","Q1","2019-01-15","Betérő ügyfelek",20,"fő","2019-02-01","idobo",{"$f":"AND(E1568>=Kimutatás!B$2,E1568<=Kimutatás!B$3)","v":true}]
[1568,"Eger","005","Q1","2019-01-15","Lakossági hitelnövekmény összege ",44,"Mhuf","2019-02-01","idobo",{"$f":"AND(E1569>=Kimutatás!B$2,E1569<=Kimutatás!B$3)","v":true}]
[1569,"Eger","005","Q1","2019-01-15","Lakossági számlanyitás",-5,"db","2019-02-01","idobo",{"$f":"AND(E1570>=Kimutatás!B$2,E1570<=Kimutatás!B$3)","v":true}]
[1570,"Eger","005","Q1","2019-01-15","KKV hitelnövekmény (db)",0,"db","2019-02-01","idobo",{"$f":"AND(E1571>=Kimutatás!B$2,E1571<=Kimutatás!B$3)","v":true}]
[1571,"Eger","005","Q1","2019-01-15","KKV számlanyitás",-1,"db","2019-02-01","idobo",{"$f":"AND(E1572>=Kimutatás!B$2,E1572<=Kimutatás!B$3)","v":true}]
[1572,"Eger","005","Q1","2019-01-15","Betét állomány növekmény",34,"Mhuf","2019-02-01","idobo",{"$f":"AND(E1573>=Kimutatás!B$2,E1573<=Kimutatás!B$3)","v":true}]
[1573,"Eger","005","Q1","2019-01-16","Betérő ügyfelek",30,"fő","2019-02-01","idobo",{"$f":"AND(E1574>=Kimutatás!B$2,E1574<=Kimutatás!B$3)","v":true}]
[1574,"Eger","005","Q1","2019-01-16","Lakossági hitelnövekmény összege ",-5,"Mhuf","2019-02-01","idobo",{"$f":"AND(E1575>=Kimutatás!B$2,E1575<=Kimutatás!B$3)","v":true}]
[1575,"Eger","005","Q1","2019-01-16","Lakossági számlanyitás",5,"db","2019-02-01","idobo",{"$f":"AND(E1576>=Kimutatás!B$2,E1576<=Kimutatás!B$3)","v":true}]
[1576,"Eger","005","Q1","2019-01-16","KKV hitelnövekmény (db)",1,"db","2019-02-01","idobo",{"$f":"AND(E1577>=Kimutatás!B$2,E1577<=Kimutatás!B$3)","v":true}]
[1577,"Eger","005","Q1","2019-01-16","KKV számlanyitás",5,"db","2019-02-01","idobo",{"$f":"AND(E1578>=Kimutatás!B$2,E1578<=Kimutatás!B$3)","v":true}]
[1578,"Eger","005","Q1","2019-01-16","Betét állomány növekmény",22,"Mhuf","2019-02-01","idobo",{"$f":"AND(E1579>=Kimutatás!B$2,E1579<=Kimutatás!B$3)","v":true}]
[1579,"Eger","005","Q1","2019-01-17","Betérő ügyfelek",49,"fő","2019-02-01","idobo",{"$f":"AND(E1580>=Kimutatás!B$2,E1580<=Kimutatás!B$3)","v":true}]
[1580,"Eger","005","Q1","2019-01-17","Lakossági hitelnövekmény összege ",8,"Mhuf","2019-02-01","idobo",{"$f":"AND(E1581>=Kimutatás!B$2,E1581<=Kimutatás!B$3)","v":true}]
[1581,"Eger","005","Q1","2019-01-17","Lakossági számlanyitás",0,"db","2019-02-01","idobo",{"$f":"AND(E1582>=Kimutatás!B$2,E1582<=Kimutatás!B$3)","v":true}]
[1582,"Eger","005","Q1","2019-01-17","KKV hitelnövekmény (db)",-1,"db","2019-02-01","idobo",{"$f":"AND(E1583>=Kimutatás!B$2,E1583<=Kimutatás!B$3)","v":true}]
[1583,"Eger","005","Q1","2019-01-17","KKV számlanyitás",1,"db","2019-02-01","idobo",{"$f":"AND(E1584>=Kimutatás!B$2,E1584<=Kimutatás!B$3)","v":true}]
[1584,"Eger","005","Q1","2019-01-17","Betét állomány növekmény",38,"Mhuf","2019-02-01","idobo",{"$f":"AND(E1585>=Kimutatás!B$2,E1585<=Kimutatás!B$3)","v":true}]
[1585,"Eger","005","Q1","2019-01-20","Betérő ügyfelek",21,"fő","2019-02-01","idobo",{"$f":"AND(E1586>=Kimutatás!B$2,E1586<=Kimutatás!B$3)","v":true}]
[1586,"Eger","005","Q1","2019-01-20","Lakossági hitelnövekmény összege ",35,"Mhuf","2019-02-01","idobo",{"$f":"AND(E1587>=Kimutatás!B$2,E1587<=Kimutatás!B$3)","v":true}]
[1587,"Eger","005","Q1","2019-01-20","Lakossági számlanyitás",7,"db","2019-02-01","idobo",{"$f":"AND(E1588>=Kimutatás!B$2,E1588<=Kimutatás!B$3)","v":true}]
[1588,"Eger","005","Q1","2019-01-20","KKV hitelnövekmény (db)",-2,"db","2019-02-01","idobo",{"$f":"AND(E1589>=Kimutatás!B$2,E1589<=Kimutatás!B$3)","v":true}]
[1589,"Eger","005","Q1","2019-01-20","KKV számlanyitás",4,"db","2019-02-01","idobo",{"$f":"AND(E1590>=Kimutatás!B$2,E1590<=Kimutatás!B$3)","v":true}]
[1590,"Eger","005","Q1","2019-01-20","Betét állomány növekmény",1,"Mhuf","2019-02-01","idobo",{"$f":"AND(E1591>=Kimutatás!B$2,E1591<=Kimutatás!B$3)","v":true}]
[1591,"Eger","005","Q1","2019-01-21","Betérő ügyfelek",32,"fő","2019-02-01","idobo",{"$f":"AND(E1592>=Kimutatás!B$2,E1592<=Kimutatás!B$3)","v":true}]
[1592,"Eger","005","Q1","2019-01-21","Lakossági hitelnövekmény összege ",7,"Mhuf","2019-02-01","idobo",{"$f":"AND(E1593>=Kimutatás!B$2,E1593<=Kimutatás!B$3)","v":true}]
[1593,"Eger","005","Q1","2019-01-21","Lakossági számlanyitás",9,"db","2019-02-01","idobo",{"$f":"AND(E1594>=Kimutatás!B$2,E1594<=Kimutatás!B$3)","v":true}]
[1594,"Eger","005","Q1","2019-01-21","KKV hitelnövekmény (db)",1,"db","2019-02-01","idobo",{"$f":"AND(E1595>=Kimutatás!B$2,E1595<=Kimutatás!B$3)","v":true}]
[1595,"Eger","005","Q1","2019-01-21","KKV számlanyitás",5,"db","2019-02-01","idobo",{"$f":"AND(E1596>=Kimutatás!B$2,E1596<=Kimutatás!B$3)","v":true}]
[1596,"Eger","005","Q1","2019-01-21","Betét állomány növekmény",10,"Mhuf","2019-02-01","idobo",{"$f":"AND(E1597>=Kimutatás!B$2,E1597<=Kimutatás!B$3)","v":true}]
[1597,"Eger","005","Q1","2019-01-22","Betérő ügyfelek",11,"fő","2019-02-01","idobo",{"$f":"AND(E1598>=Kimutatás!B$2,E1598<=Kimutatás!B$3)","v":true}]
[1598,"Eger","005","Q1","2019-01-22","Lakossági hitelnövekmény összege ",8,"Mhuf","2019-02-01","idobo",{"$f":"AND(E1599>=Kimutatás!B$2,E1599<=Kimutatás!B$3)","v":true}]
[1599,"Eger","005","Q1","2019-01-22","Lakossági számlanyitás",-3,"db","2019-02-01","idobo",{"$f":"AND(E1600>=Kimutatás!B$2,E1600<=Kimutatás!B$3)","v":true}]
[1600,"Eger","005","Q1","2019-01-22","KKV hitelnövekmény (db)",2,"db","2019-02-01","idobo",{"$f":"AND(E1601>=Kimutatás!B$2,E1601<=Kimutatás!B$3)","v":true}]
[1601,"Eger","005","Q1","2019-01-22","KKV számlanyitás",-5,"db","2019-02-01","idobo",{"$f":"AND(E1602>=Kimutatás!B$2,E1602<=Kimutatás!B$3)","v":true}]
[1602,"Eger","005","Q1","2019-01-22","Betét állomány növekmény",49,"Mhuf","2019-02-01","idobo",{"$f":"AND(E1603>=Kimutatás!B$2,E1603<=Kimutatás!B$3)","v":true}]
[1603,"Eger","005","Q1","2019-01-23","Betérő ügyfelek",43,"fő","2019-02-01","idobo",{"$f":"AND(E1604>=Kimutatás!B$2,E1604<=Kimutatás!B$3)","v":true}]
[1604,"Eger","005","Q1","2019-01-23","Lakossági hitelnövekmény összege ",-10,"Mhuf","2019-02-01","idobo",{"$f":"AND(E1605>=Kimutatás!B$2,E1605<=Kimutatás!B$3)","v":true}]
[1605,"Eger","005","Q1","2019-01-23","Lakossági számlanyitás",1,"db","2019-02-01","idobo",{"$f":"AND(E1606>=Kimutatás!B$2,E1606<=Kimutatás!B$3)","v":true}]
[1606,"Eger","005","Q1","2019-01-23","KKV hitelnövekmény (db)",1,"db","2019-02-01","idobo",{"$f":"AND(E1607>=Kimutatás!B$2,E1607<=Kimutatás!B$3)","v":true}]
[1607,"Eger","005","Q1","2019-01-23","KKV számlanyitás",-3,"db","2019-02-01","idobo",{"$f":"AND(E1608>=Kimutatás!B$2,E1608<=Kimutatás!B$3)","v":true}]
[1608,"Eger","005","Q1","2019-01-23","Betét állomány növekmény",32,"Mhuf","2019-02-01","idobo",{"$f":"AND(E1609>=Kimutatás!B$2,E1609<=Kimutatás!B$3)","v":true}]
[1609,"Eger","005","Q1","2019-01-24","Betérő ügyfelek",27,"fő","2019-02-01","idobo",{"$f":"AND(E1610>=Kimutatás!B$2,E1610<=Kimutatás!B$3)","v":true}]
[1610,"Eger","005","Q1","2019-01-24","Lakossági hitelnövekmény összege ",33,"Mhuf","2019-02-01","idobo",{"$f":"AND(E1611>=Kimutatás!B$2,E1611<=Kimutatás!B$3)","v":true}]
[1611,"Eger","005","Q1","2019-01-24","Lakossági számlanyitás",-3,"db","2019-02-01","idobo",{"$f":"AND(E1612>=Kimutatás!B$2,E1612<=Kimutatás!B$3)","v":true}]
[1612,"Eger","005","Q1","2019-01-24","KKV hitelnövekmény (db)",0,"db","2019-02-01","idobo",{"$f":"AND(E1613>=Kimutatás!B$2,E1613<=Kimutatás!B$3)","v":true}]
[1613,"Eger","005","Q1","2019-01-24","KKV számlanyitás",-4,"db","2019-02-01","idobo",{"$f":"AND(E1614>=Kimutatás!B$2,E1614<=Kimutatás!B$3)","v":true}]
[1614,"Eger","005","Q1","2019-01-24","Betét állomány növekmény",21,"Mhuf","2019-02-01","idobo",{"$f":"AND(E1615>=Kimutatás!B$2,E1615<=Kimutatás!B$3)","v":true}]
[1615,"Eger","005","Q1","2019-01-27","Betérő ügyfelek",31,"fő","2019-02-01","idobo",{"$f":"AND(E1616>=Kimutatás!B$2,E1616<=Kimutatás!B$3)","v":true}]
[1616,"Eger","005","Q1","2019-01-27","Lakossági hitelnövekmény összege ",18,"Mhuf","2019-02-01","idobo",{"$f":"AND(E1617>=Kimutatás!B$2,E1617<=Kimutatás!B$3)","v":true}]
[1617,"Eger","005","Q1","2019-01-27","Lakossági számlanyitás",1,"db","2019-02-01","idobo",{"$f":"AND(E1618>=Kimutatás!B$2,E1618<=Kimutatás!B$3)","v":true}]
[1618,"Eger","005","Q1","2019-01-27","KKV hitelnövekmény (db)",0,"db","2019-02-01","idobo",{"$f":"AND(E1619>=Kimutatás!B$2,E1619<=Kimutatás!B$3)","v":true}]
[1619,"Eger","005","Q1","2019-01-27","KKV számlanyitás",-2,"db","2019-02-01","idobo",{"$f":"AND(E1620>=Kimutatás!B$2,E1620<=Kimutatás!B$3)","v":true}]
[1620,"Eger","005","Q1","2019-01-27","Betét állomány növekmény",19,"Mhuf","2019-02-01","idobo",{"$f":"AND(E1621>=Kimutatás!B$2,E1621<=Kimutatás!B$3)","v":true}]
[1621,"Eger","005","Q1","2019-01-28","Betérő ügyfelek",14,"fő","2019-02-01","idobo",{"$f":"AND(E1622>=Kimutatás!B$2,E1622<=Kimutatás!B$3)","v":true}]
[1622,"Eger","005","Q1","2019-01-28","Lakossági hitelnövekmény összege ",12,"Mhuf","2019-02-01","idobo",{"$f":"AND(E1623>=Kimutatás!B$2,E1623<=Kimutatás!B$3)","v":true}]
[1623,"Eger","005","Q1","2019-01-28","Lakossági számlanyitás",-2,"db","2019-02-01","idobo",{"$f":"AND(E1624>=Kimutatás!B$2,E1624<=Kimutatás!B$3)","v":true}]
[1624,"Eger","005","Q1","2019-01-28","KKV hitelnövekmény (db)",-1,"db","2019-02-01","idobo",{"$f":"AND(E1625>=Kimutatás!B$2,E1625<=Kimutatás!B$3)","v":true}]
[1625,"Eger","005","Q1","2019-01-28","KKV számlanyitás",-5,"db","2019-02-01","idobo",{"$f":"AND(E1626>=Kimutatás!B$2,E1626<=Kimutatás!B$3)","v":true}]
[1626,"Eger","005","Q1","2019-01-28","Betét állomány növekmény",24,"Mhuf","2019-02-01","idobo",{"$f":"AND(E1627>=Kimutatás!B$2,E1627<=Kimutatás!B$3)","v":true}]
[1627,"Eger","005","Q1","2019-01-29","Betérő ügyfelek",30,"fő","2019-02-01","idobo",{"$f":"AND(E1628>=Kimutatás!B$2,E1628<=Kimutatás!B$3)","v":true}]
[1628,"Eger","005","Q1","2019-01-29","Lakossági hitelnövekmény összege ",27,"Mhuf","2019-02-01","idobo",{"$f":"AND(E1629>=Kimutatás!B$2,E1629<=Kimutatás!B$3)","v":true}]
[1629,"Eger","005","Q1","2019-01-29","Lakossági számlanyitás",8,"db","2019-02-01","idobo",{"$f":"AND(E1630>=Kimutatás!B$2,E1630<=Kimutatás!B$3)","v":true}]
[1630,"Eger","005","Q1","2019-01-29","KKV hitelnövekmény (db)",0,"db","2019-02-01","idobo",{"$f":"AND(E1631>=Kimutatás!B$2,E1631<=Kimutatás!B$3)","v":true}]
[1631,"Eger","005","Q1","2019-01-29","KKV számlanyitás",0,"db","2019-02-01","idobo",{"$f":"AND(E1632>=Kimutatás!B$2,E1632<=Kimutatás!B$3)","v":true}]
[1632,"Eger","005","Q1","2019-01-29","Betét állomány növekmény",41,"Mhuf","2019-02-01","idobo",{"$f":"AND(E1633>=Kimutatás!B$2,E1633<=Kimutatás!B$3)","v":true}]
[1633,"Eger","005","Q1","2019-01-30","Betérő ügyfelek",26,"fő","2019-02-01","idobo",{"$f":"AND(E1634>=Kimutatás!B$2,E1634<=Kimutatás!B$3)","v":true}]
[1634,"Eger","005","Q1","2019-01-30","Lakossági hitelnövekmény összege ",44,"Mhuf","2019-02-01","idobo",{"$f":"AND(E1635>=Kimutatás!B$2,E1635<=Kimutatás!B$3)","v":true}]
[1635,"Eger","005","Q1","2019-01-30","Lakossági számlanyitás",2,"db","2019-02-01","idobo",{"$f":"AND(E1636>=Kimutatás!B$2,E1636<=Kimutatás!B$3)","v":true}]
[1636,"Eger","005","Q1","2019-01-30","KKV hitelnövekmény (db)",2,"db","2019-02-01","idobo",{"$f":"AND(E1637>=Kimutatás!B$2,E1637<=Kimutatás!B$3)","v":true}]
[1637,"Eger","005","Q1","2019-01-30","KKV számlanyitás",4,"db","2019-02-01","idobo",{"$f":"AND(E1638>=Kimutatás!B$2,E1638<=Kimutatás!B$3)","v":true}]
[1638,"Eger","005","Q1","2019-01-30","Betét állomány növekmény",20,"Mhuf","2019-02-01","idobo",{"$f":"AND(E1639>=Kimutatás!B$2,E1639<=Kimutatás!B$3)","v":true}]
[1639,"Eger","005","Q1","2019-01-31","Betérő ügyfelek",48,"fő","2019-02-01","idobo",{"$f":"AND(E1640>=Kimutatás!B$2,E1640<=Kimutatás!B$3)","v":true}]
[1640,"Eger","005","Q1","2019-01-31","Lakossági hitelnövekmény összege ",-9,"Mhuf","2019-02-01","idobo",{"$f":"AND(E1641>=Kimutatás!B$2,E1641<=Kimutatás!B$3)","v":true}]
[1641,"Eger","005","Q1","2019-01-31","Lakossági számlanyitás",4,"db","2019-02-01","idobo",{"$f":"AND(E1642>=Kimutatás!B$2,E1642<=Kimutatás!B$3)","v":true}]
[1642,"Eger","005","Q1","2019-01-31","KKV hitelnövekmény (db)",-1,"db","2019-02-01","idobo",{"$f":"AND(E1643>=Kimutatás!B$2,E1643<=Kimutatás!B$3)","v":true}]
[1643,"Eger","005","Q1","2019-01-31","KKV számlanyitás",-2,"db","2019-02-01","idobo",{"$f":"AND(E1644>=Kimutatás!B$2,E1644<=Kimutatás!B$3)","v":true}]
[1644,"Eger","005","Q1","2019-01-31","Betét állomány növekmény",6,"Mhuf","2019-02-01","idobo",{"$f":"AND(E1645>=Kimutatás!B$2,E1645<=Kimutatás!B$3)","v":true}]
[1645,"Eger","005","Q1","2019-02-03","Betérő ügyfelek",4,"fő","2019-03-01","gbors",{"$f":"AND(E1646>=Kimutatás!B$2,E1646<=Kimutatás!B$3)","v":true}]
[1646,"Eger","005","Q1","2019-02-03","Lakossági hitelnövekmény összege ",45,"Mhuf","2019-03-01","gbors",{"$f":"AND(E1647>=Kimutatás!B$2,E1647<=Kimutatás!B$3)","v":true}]
[1647,"Eger","005","Q1","2019-02-03","Lakossági számlanyitás",-2,"db","2019-03-01","gbors",{"$f":"AND(E1648>=Kimutatás!B$2,E1648<=Kimutatás!B$3)","v":true}]
[1648,"Eger","005","Q1","2019-02-03","KKV hitelnövekmény (db)",2,"db","2019-03-01","gbors",{"$f":"AND(E1649>=Kimutatás!B$2,E1649<=Kimutatás!B$3)","v":true}]
[1649,"Eger","005","Q1","2019-02-03","KKV számlanyitás",-1,"db","2019-03-01","gbors",{"$f":"AND(E1650>=Kimutatás!B$2,E1650<=Kimutatás!B$3)","v":true}]
[1650,"Eger","005","Q1","2019-02-03","Betét állomány növekmény",-7,"Mhuf","2019-03-01","gbors",{"$f":"AND(E1651>=Kimutatás!B$2,E1651<=Kimutatás!B$3)","v":true}]
[1651,"Eger","005","Q1","2019-02-04","Betérő ügyfelek",30,"fő","2019-03-01","gbors",{"$f":"AND(E1652>=Kimutatás!B$2,E1652<=Kimutatás!B$3)","v":true}]
[1652,"Eger","005","Q1","2019-02-04","Lakossági hitelnövekmény összege ",7,"Mhuf","2019-03-01","gbors",{"$f":"AND(E1653>=Kimutatás!B$2,E1653<=Kimutatás!B$3)","v":true}]
[1653,"Eger","005","Q1","2019-02-04","Lakossági számlanyitás",5,"db","2019-03-01","gbors",{"$f":"AND(E1654>=Kimutatás!B$2,E1654<=Kimutatás!B$3)","v":true}]
[1654,"Eger","005","Q1","2019-02-04","KKV hitelnövekmény (db)",2,"db","2019-03-01","gbors",{"$f":"AND(E1655>=Kimutatás!B$2,E1655<=Kimutatás!B$3)","v":true}]
[1655,"Eger","005","Q1","2019-02-04","KKV számlanyitás",5,"db","2019-03-01","gbors",{"$f":"AND(E1656>=Kimutatás!B$2,E1656<=Kimutatás!B$3)","v":true}]
[1656,"Eger","005","Q1","2019-02-04","Betét állomány növekmény",48,"Mhuf","2019-03-01","gbors",{"$f":"AND(E1657>=Kimutatás!B$2,E1657<=Kimutatás!B$3)","v":true}]
[1657,"Eger","005","Q1","2019-02-05","Betérő ügyfelek",12,"fő","2019-03-01","gbors",{"$f":"AND(E1658>=Kimutatás!B$2,E1658<=Kimutatás!B$3)","v":true}]
[1658,"Eger","005","Q1","2019-02-05","Lakossági hitelnövekmény összege ",19,"Mhuf","2019-03-01","gbors",{"$f":"AND(E1659>=Kimutatás!B$2,E1659<=Kimutatás!B$3)","v":true}]
[1659,"Eger","005","Q1","2019-02-05","Lakossági számlanyitás",6,"db","2019-03-01","gbors",{"$f":"AND(E1660>=Kimutatás!B$2,E1660<=Kimutatás!B$3)","v":true}]
[1660,"Eger","005","Q1","2019-02-05","KKV hitelnövekmény (db)",-1,"db","2019-03-01","gbors",{"$f":"AND(E1661>=Kimutatás!B$2,E1661<=Kimutatás!B$3)","v":true}]
[1661,"Eger","005","Q1","2019-02-05","KKV számlanyitás",-5,"db","2019-03-01","gbors",{"$f":"AND(E1662>=Kimutatás!B$2,E1662<=Kimutatás!B$3)","v":true}]
[1662,"Eger","005","Q1","2019-02-05","Betét állomány növekmény",37,"Mhuf","2019-03-01","gbors",{"$f":"AND(E1663>=Kimutatás!B$2,E1663<=Kimutatás!B$3)","v":true}]
[1663,"Eger","005","Q1","2019-02-06","Betérő ügyfelek",20,"fő","2019-03-01","gbors",{"$f":"AND(E1664>=Kimutatás!B$2,E1664<=Kimutatás!B$3)","v":true}]
[1664,"Eger","005","Q1","2019-02-06","Lakossági hitelnövekmény összege ",35,"Mhuf","2019-03-01","gbors",{"$f":"AND(E1665>=Kimutatás!B$2,E1665<=Kimutatás!B$3)","v":true}]
[1665,"Eger","005","Q1","2019-02-06","Lakossági számlanyitás",9,"db","2019-03-01","gbors",{"$f":"AND(E1666>=Kimutatás!B$2,E1666<=Kimutatás!B$3)","v":true}]
[1666,"Eger","005","Q1","2019-02-06","KKV hitelnövekmény (db)",1,"db","2019-03-01","gbors",{"$f":"AND(E1667>=Kimutatás!B$2,E1667<=Kimutatás!B$3)","v":true}]
[1667,"Eger","005","Q1","2019-02-06","KKV számlanyitás",-1,"db","2019-03-01","gbors",{"$f":"AND(E1668>=Kimutatás!B$2,E1668<=Kimutatás!B$3)","v":true}]
[1668,"Eger","005","Q1","2019-02-06","Betét állomány növekmény",17,"Mhuf","2019-03-01","gbors",{"$f":"AND(E1669>=Kimutatás!B$2,E1669<=Kimutatás!B$3)","v":true}]
[1669,"Eger","005","Q1","2019-02-07","Betérő ügyfelek",44,"fő","2019-03-01","gbors",{"$f":"AND(E1670>=Kimutatás!B$2,E1670<=Kimutatás!B$3)","v":true}]
[1670,"Eger","005","Q1","2019-02-07","Lakossági hitelnövekmény összege ",39,"Mhuf","2019-03-01","gbors",{"$f":"AND(E1671>=Kimutatás!B$2,E1671<=Kimutatás!B$3)","v":true}]
[1671,"Eger","005","Q1","2019-02-07","Lakossági számlanyitás",5,"db","2019-03-01","gbors",{"$f":"AND(E1672>=Kimutatás!B$2,E1672<=Kimutatás!B$3)","v":true}]
[1672,"Eger","005","Q1","2019-02-07","KKV hitelnövekmény (db)",0,"db","2019-03-01","gbors",{"$f":"AND(E1673>=Kimutatás!B$2,E1673<=Kimutatás!B$3)","v":true}]
[1673,"Eger","005","Q1","2019-02-07","KKV számlanyitás",3,"db","2019-03-01","gbors",{"$f":"AND(E1674>=Kimutatás!B$2,E1674<=Kimutatás!B$3)","v":true}]
[1674,"Eger","005","Q1","2019-02-07","Betét állomány növekmény",-13,"Mhuf","2019-03-01","gbors",{"$f":"AND(E1675>=Kimutatás!B$2,E1675<=Kimutatás!B$3)","v":true}]
[1675,"Eger","005","Q1","2019-02-10","Betérő ügyfelek",20,"fő","2019-03-01","gbors",{"$f":"AND(E1676>=Kimutatás!B$2,E1676<=Kimutatás!B$3)","v":true}]
[1676,"Eger","005","Q1","2019-02-10","Lakossági hitelnövekmény összege ",4,"Mhuf","2019-03-01","gbors",{"$f":"AND(E1677>=Kimutatás!B$2,E1677<=Kimutatás!B$3)","v":true}]
[1677,"Eger","005","Q1","2019-02-10","Lakossági számlanyitás",-4,"db","2019-03-01","gbors",{"$f":"AND(E1678>=Kimutatás!B$2,E1678<=Kimutatás!B$3)","v":true}]
[1678,"Eger","005","Q1","2019-02-10","KKV hitelnövekmény (db)",1,"db","2019-03-01","gbors",{"$f":"AND(E1679>=Kimutatás!B$2,E1679<=Kimutatás!B$3)","v":true}]
[1679,"Eger","005","Q1","2019-02-10","KKV számlanyitás",-3,"db","2019-03-01","gbors",{"$f":"AND(E1680>=Kimutatás!B$2,E1680<=Kimutatás!B$3)","v":true}]
[1680,"Eger","005","Q1","2019-02-10","Betét állomány növekmény",15,"Mhuf","2019-03-01","gbors",{"$f":"AND(E1681>=Kimutatás!B$2,E1681<=Kimutatás!B$3)","v":true}]
[1681,"Eger","005","Q1","2019-02-11","Betérő ügyfelek",41,"fő","2019-03-01","gbors",{"$f":"AND(E1682>=Kimutatás!B$2,E1682<=Kimutatás!B$3)","v":true}]
[1682,"Eger","005","Q1","2019-02-11","Lakossági hitelnövekmény összege ",33,"Mhuf","2019-03-01","gbors",{"$f":"AND(E1683>=Kimutatás!B$2,E1683<=Kimutatás!B$3)","v":true}]
[1683,"Eger","005","Q1","2019-02-11","Lakossági számlanyitás",-2,"db","2019-03-01","gbors",{"$f":"AND(E1684>=Kimutatás!B$2,E1684<=Kimutatás!B$3)","v":true}]
[1684,"Eger","005","Q1","2019-02-11","KKV hitelnövekmény (db)",-2,"db","2019-03-01","gbors",{"$f":"AND(E1685>=Kimutatás!B$2,E1685<=Kimutatás!B$3)","v":true}]
[1685,"Eger","005","Q1","2019-02-11","KKV számlanyitás",-1,"db","2019-03-01","gbors",{"$f":"AND(E1686>=Kimutatás!B$2,E1686<=Kimutatás!B$3)","v":true}]
[1686,"Eger","005","Q1","2019-02-11","Betét állomány növekmény",0,"Mhuf","2019-03-01","gbors",{"$f":"AND(E1687>=Kimutatás!B$2,E1687<=Kimutatás!B$3)","v":true}]
[1687,"Eger","005","Q1","2019-02-12","Betérő ügyfelek",19,"fő","2019-03-01","gbors",{"$f":"AND(E1688>=Kimutatás!B$2,E1688<=Kimutatás!B$3)","v":true}]
[1688,"Eger","005","Q1","2019-02-12","Lakossági hitelnövekmény összege ",47,"Mhuf","2019-03-01","gbors",{"$f":"AND(E1689>=Kimutatás!B$2,E1689<=Kimutatás!B$3)","v":true}]
[1689,"Eger","005","Q1","2019-02-12","Lakossági számlanyitás",6,"db","2019-03-01","gbors",{"$f":"AND(E1690>=Kimutatás!B$2,E1690<=Kimutatás!B$3)","v":true}]
[1690,"Eger","005","Q1","2019-02-12","KKV hitelnövekmény (db)",-1,"db","2019-03-01","gbors",{"$f":"AND(E1691>=Kimutatás!B$2,E1691<=Kimutatás!B$3)","v":true}]
[1691,"Eger","005","Q1","2019-02-12","KKV számlanyitás",3,"db","2019-03-01","gbors",{"$f":"AND(E1692>=Kimutatás!B$2,E1692<=Kimutatás!B$3)","v":true}]
[1692,"Eger","005","Q1","2019-02-12","Betét állomány növekmény",14,"Mhuf","2019-03-01","gbors",{"$f":"AND(E1693>=Kimutatás!B$2,E1693<=Kimutatás!B$3)","v":true}]
[1693,"Eger","005","Q1","2019-02-13","Betérő ügyfelek",21,"fő","2019-03-01","gbors",{"$f":"AND(E1694>=Kimutatás!B$2,E1694<=Kimutatás!B$3)","v":true}]
[1694,"Eger","005","Q1","2019-02-13","Lakossági hitelnövekmény összege ",3,"Mhuf","2019-03-01","gbors",{"$f":"AND(E1695>=Kimutatás!B$2,E1695<=Kimutatás!B$3)","v":true}]
[1695,"Eger","005","Q1","2019-02-13","Lakossági számlanyitás",-2,"db","2019-03-01","gbors",{"$f":"AND(E1696>=Kimutatás!B$2,E1696<=Kimutatás!B$3)","v":true}]
[1696,"Eger","005","Q1","2019-02-13","KKV hitelnövekmény (db)",0,"db","2019-03-01","gbors",{"$f":"AND(E1697>=Kimutatás!B$2,E1697<=Kimutatás!B$3)","v":true}]
[1697,"Eger","005","Q1","2019-02-13","KKV számlanyitás",5,"db","2019-03-01","gbors",{"$f":"AND(E1698>=Kimutatás!B$2,E1698<=Kimutatás!B$3)","v":true}]
[1698,"Eger","005","Q1","2019-02-13","Betét állomány növekmény",12,"Mhuf","2019-03-01","gbors",{"$f":"AND(E1699>=Kimutatás!B$2,E1699<=Kimutatás!B$3)","v":true}]
[1699,"Eger","005","Q1","2019-02-14","Betérő ügyfelek",46,"fő","2019-03-01","gbors",{"$f":"AND(E1700>=Kimutatás!B$2,E1700<=Kimutatás!B$3)","v":true}]
[1700,"Eger","005","Q1","2019-02-14","Lakossági hitelnövekmény összege ",7,"Mhuf","2019-03-01","gbors",{"$f":"AND(E1701>=Kimutatás!B$2,E1701<=Kimutatás!B$3)","v":true}]
[1701,"Eger","005","Q1","2019-02-14","Lakossági számlanyitás",4,"db","2019-03-01","gbors",{"$f":"AND(E1702>=Kimutatás!B$2,E1702<=Kimutatás!B$3)","v":true}]
[1702,"Eger","005","Q1","2019-02-14","KKV hitelnövekmény (db)",1,"db","2019-03-01","gbors",{"$f":"AND(E1703>=Kimutatás!B$2,E1703<=Kimutatás!B$3)","v":true}]
[1703,"Eger","005","Q1","2019-02-14","KKV számlanyitás",1,"db","2019-03-01","gbors",{"$f":"AND(E1704>=Kimutatás!B$2,E1704<=Kimutatás!B$3)","v":true}]
[1704,"Eger","005","Q1","2019-02-14","Betét állomány növekmény",11,"Mhuf","2019-03-01","gbors",{"$f":"AND(E1705>=Kimutatás!B$2,E1705<=Kimutatás!B$3)","v":true}]
[1705,"Eger","005","Q1","2019-02-17","Betérő ügyfelek",38,"fő","2019-03-01","gbors",{"$f":"AND(E1706>=Kimutatás!B$2,E1706<=Kimutatás!B$3)","v":true}]
[1706,"Eger","005","Q1","2019-02-17","Lakossági hitelnövekmény összege ",44,"Mhuf","2019-03-01","gbors",{"$f":"AND(E1707>=Kimutatás!B$2,E1707<=Kimutatás!B$3)","v":true}]
[1707,"Eger","005","Q1","2019-02-17","Lakossági számlanyitás",-5,"db","2019-03-01","gbors",{"$f":"AND(E1708>=Kimutatás!B$2,E1708<=Kimutatás!B$3)","v":true}]
[1708,"Eger","005","Q1","2019-02-17","KKV hitelnövekmény (db)",-1,"db","2019-03-01","gbors",{"$f":"AND(E1709>=Kimutatás!B$2,E1709<=Kimutatás!B$3)","v":true}]
[1709,"Eger","005","Q1","2019-02-17","KKV számlanyitás",2,"db","2019-03-01","gbors",{"$f":"AND(E1710>=Kimutatás!B$2,E1710<=Kimutatás!B$3)","v":true}]
[1710,"Eger","005","Q1","2019-02-17","Betét állomány növekmény",-17,"Mhuf","2019-03-01","gbors",{"$f":"AND(E1711>=Kimutatás!B$2,E1711<=Kimutatás!B$3)","v":true}]
[1711,"Eger","005","Q1","2019-02-18","Betérő ügyfelek",18,"fő","2019-03-01","gbors",{"$f":"AND(E1712>=Kimutatás!B$2,E1712<=Kimutatás!B$3)","v":true}]
[1712,"Eger","005","Q1","2019-02-18","Lakossági hitelnövekmény összege ",33,"Mhuf","2019-03-01","gbors",{"$f":"AND(E1713>=Kimutatás!B$2,E1713<=Kimutatás!B$3)","v":true}]
[1713,"Eger","005","Q1","2019-02-18","Lakossági számlanyitás",1,"db","2019-03-01","gbors",{"$f":"AND(E1714>=Kimutatás!B$2,E1714<=Kimutatás!B$3)","v":true}]
[1714,"Eger","005","Q1","2019-02-18","KKV hitelnövekmény (db)",-2,"db","2019-03-01","gbors",{"$f":"AND(E1715>=Kimutatás!B$2,E1715<=Kimutatás!B$3)","v":true}]
[1715,"Eger","005","Q1","2019-02-18","KKV számlanyitás",-2,"db","2019-03-01","gbors",{"$f":"AND(E1716>=Kimutatás!B$2,E1716<=Kimutatás!B$3)","v":true}]
[1716,"Eger","005","Q1","2019-02-18","Betét állomány növekmény",-10,"Mhuf","2019-03-01","gbors",{"$f":"AND(E1717>=Kimutatás!B$2,E1717<=Kimutatás!B$3)","v":true}]
[1717,"Eger","005","Q1","2019-02-19","Betérő ügyfelek",20,"fő","2019-03-01","gbors",{"$f":"AND(E1718>=Kimutatás!B$2,E1718<=Kimutatás!B$3)","v":true}]
[1718,"Eger","005","Q1","2019-02-19","Lakossági hitelnövekmény összege ",34,"Mhuf","2019-03-01","gbors",{"$f":"AND(E1719>=Kimutatás!B$2,E1719<=Kimutatás!B$3)","v":true}]
[1719,"Eger","005","Q1","2019-02-19","Lakossági számlanyitás",6,"db","2019-03-01","gbors",{"$f":"AND(E1720>=Kimutatás!B$2,E1720<=Kimutatás!B$3)","v":true}]
[1720,"Eger","005","Q1","2019-02-19","KKV hitelnövekmény (db)",-1,"db","2019-03-01","gbors",{"$f":"AND(E1721>=Kimutatás!B$2,E1721<=Kimutatás!B$3)","v":true}]
[1721,"Eger","005","Q1","2019-02-19","KKV számlanyitás",-5,"db","2019-03-01","gbors",{"$f":"AND(E1722>=Kimutatás!B$2,E1722<=Kimutatás!B$3)","v":true}]
[1722,"Eger","005","Q1","2019-02-19","Betét állomány növekmény",25,"Mhuf","2019-03-01","gbors",{"$f":"AND(E1723>=Kimutatás!B$2,E1723<=Kimutatás!B$3)","v":true}]
[1723,"Eger","005","Q1","2019-02-20","Betérő ügyfelek",42,"fő","2019-03-01","gbors",{"$f":"AND(E1724>=Kimutatás!B$2,E1724<=Kimutatás!B$3)","v":true}]
[1724,"Eger","005","Q1","2019-02-20","Lakossági hitelnövekmény összege ",13,"Mhuf","2019-03-01","gbors",{"$f":"AND(E1725>=Kimutatás!B$2,E1725<=Kimutatás!B$3)","v":true}]
[1725,"Eger","005","Q1","2019-02-20","Lakossági számlanyitás",1,"db","2019-03-01","gbors",{"$f":"AND(E1726>=Kimutatás!B$2,E1726<=Kimutatás!B$3)","v":true}]
[1726,"Eger","005","Q1","2019-02-20","KKV hitelnövekmény (db)",-1,"db","2019-03-01","gbors",{"$f":"AND(E1727>=Kimutatás!B$2,E1727<=Kimutatás!B$3)","v":true}]
[1727,"Eger","005","Q1","2019-02-20","KKV számlanyitás",-2,"db","2019-03-01","gbors",{"$f":"AND(E1728>=Kimutatás!B$2,E1728<=Kimutatás!B$3)","v":true}]
[1728,"Eger","005","Q1","2019-02-20","Betét állomány növekmény",25,"Mhuf","2019-03-01","gbors",{"$f":"AND(E1729>=Kimutatás!B$2,E1729<=Kimutatás!B$3)","v":true}]
[1729,"Eger","005","Q1","2019-02-21","Betérő ügyfelek",50,"fő","2019-03-01","gbors",{"$f":"AND(E1730>=Kimutatás!B$2,E1730<=Kimutatás!B$3)","v":true}]
[1730,"Eger","005","Q1","2019-02-21","Lakossági hitelnövekmény összege ",46,"Mhuf","2019-03-01","gbors",{"$f":"AND(E1731>=Kimutatás!B$2,E1731<=Kimutatás!B$3)","v":true}]
[1731,"Eger","005","Q1","2019-02-21","Lakossági számlanyitás",-4,"db","2019-03-01","gbors",{"$f":"AND(E1732>=Kimutatás!B$2,E1732<=Kimutatás!B$3)","v":true}]
[1732,"Eger","005","Q1","2019-02-21","KKV hitelnövekmény (db)",1,"db","2019-03-01","gbors",{"$f":"AND(E1733>=Kimutatás!B$2,E1733<=Kimutatás!B$3)","v":true}]
[1733,"Eger","005","Q1","2019-02-21","KKV számlanyitás",-4,"db","2019-03-01","gbors",{"$f":"AND(E1734>=Kimutatás!B$2,E1734<=Kimutatás!B$3)","v":true}]
[1734,"Eger","005","Q1","2019-02-21","Betét állomány növekmény",21,"Mhuf","2019-03-01","gbors",{"$f":"AND(E1735>=Kimutatás!B$2,E1735<=Kimutatás!B$3)","v":true}]
[1735,"Eger","005","Q1","2019-02-24","Betérő ügyfelek",1,"fő","2019-03-01","gbors",{"$f":"AND(E1736>=Kimutatás!B$2,E1736<=Kimutatás!B$3)","v":true}]
[1736,"Eger","005","Q1","2019-02-24","Lakossági hitelnövekmény összege ",17,"Mhuf","2019-03-01","gbors",{"$f":"AND(E1737>=Kimutatás!B$2,E1737<=Kimutatás!B$3)","v":true}]
[1737,"Eger","005","Q1","2019-02-24","Lakossági számlanyitás",2,"db","2019-03-01","gbors",{"$f":"AND(E1738>=Kimutatás!B$2,E1738<=Kimutatás!B$3)","v":true}]
[1738,"Eger","005","Q1","2019-02-24","KKV hitelnövekmény (db)",2,"db","2019-03-01","gbors",{"$f":"AND(E1739>=Kimutatás!B$2,E1739<=Kimutatás!B$3)","v":true}]
[1739,"Eger","005","Q1","2019-02-24","KKV számlanyitás",-2,"db","2019-03-01","gbors",{"$f":"AND(E1740>=Kimutatás!B$2,E1740<=Kimutatás!B$3)","v":true}]
[1740,"Eger","005","Q1","2019-02-24","Betét állomány növekmény",10,"Mhuf","2019-03-01","gbors",{"$f":"AND(E1741>=Kimutatás!B$2,E1741<=Kimutatás!B$3)","v":true}]
[1741,"Eger","005","Q1","2019-02-25","Betérő ügyfelek",7,"fő","2019-03-01","gbors",{"$f":"AND(E1742>=Kimutatás!B$2,E1742<=Kimutatás!B$3)","v":true}]
[1742,"Eger","005","Q1","2019-02-25","Lakossági hitelnövekmény összege ",-1,"Mhuf","2019-03-01","gbors",{"$f":"AND(E1743>=Kimutatás!B$2,E1743<=Kimutatás!B$3)","v":true}]
[1743,"Eger","005","Q1","2019-02-25","Lakossági számlanyitás",2,"db","2019-03-01","gbors",{"$f":"AND(E1744>=Kimutatás!B$2,E1744<=Kimutatás!B$3)","v":true}]
[1744,"Eger","005","Q1","2019-02-25","KKV hitelnövekmény (db)",1,"db","2019-03-01","gbors",{"$f":"AND(E1745>=Kimutatás!B$2,E1745<=Kimutatás!B$3)","v":true}]
[1745,"Eger","005","Q1","2019-02-25","KKV számlanyitás",-3,"db","2019-03-01","gbors",{"$f":"AND(E1746>=Kimutatás!B$2,E1746<=Kimutatás!B$3)","v":true}]
[1746,"Eger","005","Q1","2019-02-25","Betét állomány növekmény",42,"Mhuf","2019-03-01","gbors",{"$f":"AND(E1747>=Kimutatás!B$2,E1747<=Kimutatás!B$3)","v":true}]
[1747,"Eger","005","Q1","2019-02-26","Betérő ügyfelek",26,"fő","2019-03-01","gbors",{"$f":"AND(E1748>=Kimutatás!B$2,E1748<=Kimutatás!B$3)","v":true}]
[1748,"Eger","005","Q1","2019-02-26","Lakossági hitelnövekmény összege ",11,"Mhuf","2019-03-01","gbors",{"$f":"AND(E1749>=Kimutatás!B$2,E1749<=Kimutatás!B$3)","v":true}]
[1749,"Eger","005","Q1","2019-02-26","Lakossági számlanyitás",10,"db","2019-03-01","gbors",{"$f":"AND(E1750>=Kimutatás!B$2,E1750<=Kimutatás!B$3)","v":true}]
[1750,"Eger","005","Q1","2019-02-26","KKV hitelnövekmény (db)",1,"db","2019-03-01","gbors",{"$f":"AND(E1751>=Kimutatás!B$2,E1751<=Kimutatás!B$3)","v":true}]
[1751,"Eger","005","Q1","2019-02-26","KKV számlanyitás",0,"db","2019-03-01","gbors",{"$f":"AND(E1752>=Kimutatás!B$2,E1752<=Kimutatás!B$3)","v":true}]
[1752,"Eger","005","Q1","2019-02-26","Betét állomány növekmény",-10,"Mhuf","2019-03-01","gbors",{"$f":"AND(E1753>=Kimutatás!B$2,E1753<=Kimutatás!B$3)","v":true}]
[1753,"Eger","005","Q1","2019-02-27","Betérő ügyfelek",1,"fő","2019-03-01","gbors",{"$f":"AND(E1754>=Kimutatás!B$2,E1754<=Kimutatás!B$3)","v":true}]
[1754,"Eger","005","Q1","2019-02-27","Lakossági hitelnövekmény összege ",-5,"Mhuf","2019-03-01","gbors",{"$f":"AND(E1755>=Kimutatás!B$2,E1755<=Kimutatás!B$3)","v":true}]
[1755,"Eger","005","Q1","2019-02-27","Lakossági számlanyitás",4,"db","2019-03-01","gbors",{"$f":"AND(E1756>=Kimutatás!B$2,E1756<=Kimutatás!B$3)","v":true}]
[1756,"Eger","005","Q1","2019-02-27","KKV hitelnövekmény (db)",2,"db","2019-03-01","gbors",{"$f":"AND(E1757>=Kimutatás!B$2,E1757<=Kimutatás!B$3)","v":true}]
[1757,"Eger","005","Q1","2019-02-27","KKV számlanyitás",-2,"db","2019-03-01","gbors",{"$f":"AND(E1758>=Kimutatás!B$2,E1758<=Kimutatás!B$3)","v":true}]
[1758,"Eger","005","Q1","2019-02-27","Betét állomány növekmény",19,"Mhuf","2019-03-01","gbors",{"$f":"AND(E1759>=Kimutatás!B$2,E1759<=Kimutatás!B$3)","v":true}]
[1759,"Eger","005","Q1","2019-02-28","Betérő ügyfelek",25,"fő","2019-03-01","gbors",{"$f":"AND(E1760>=Kimutatás!B$2,E1760<=Kimutatás!B$3)","v":true}]
[1760,"Eger","005","Q1","2019-02-28","Lakossági hitelnövekmény összege ",46,"Mhuf","2019-03-01","gbors",{"$f":"AND(E1761>=Kimutatás!B$2,E1761<=Kimutatás!B$3)","v":true}]
[1761,"Eger","005","Q1","2019-02-28","Lakossági számlanyitás",-2,"db","2019-03-01","gbors",{"$f":"AND(E1762>=Kimutatás!B$2,E1762<=Kimutatás!B$3)","v":true}]
[1762,"Eger","005","Q1","2019-02-28","KKV hitelnövekmény (db)",1,"db","2019-03-01","gbors",{"$f":"AND(E1763>=Kimutatás!B$2,E1763<=Kimutatás!B$3)","v":true}]
[1763,"Eger","005","Q1","2019-02-28","KKV számlanyitás",-3,"db","2019-03-01","gbors",{"$f":"AND(E1764>=Kimutatás!B$2,E1764<=Kimutatás!B$3)","v":true}]
[1764,"Eger","005","Q1","2019-02-28","Betét állomány növekmény",28,"Mhuf","2019-03-01","gbors",{"$f":"AND(E1765>=Kimutatás!B$2,E1765<=Kimutatás!B$3)","v":true}]
[1765,"Eger","005","Q1","2019-03-03","Betérő ügyfelek",4,"fő","2019-04-01","jumur1",{"$f":"AND(E1766>=Kimutatás!B$2,E1766<=Kimutatás!B$3)","v":true}]
[1766,"Eger","005","Q1","2019-03-03","Lakossági hitelnövekmény összege ",17,"Mhuf","2019-04-01","jumur1",{"$f":"AND(E1767>=Kimutatás!B$2,E1767<=Kimutatás!B$3)","v":true}]
[1767,"Eger","005","Q1","2019-03-03","Lakossági számlanyitás",-3,"db","2019-04-01","jumur1",{"$f":"AND(E1768>=Kimutatás!B$2,E1768<=Kimutatás!B$3)","v":true}]
[1768,"Eger","005","Q1","2019-03-03","KKV hitelnövekmény (db)",1,"db","2019-04-01","jumur1",{"$f":"AND(E1769>=Kimutatás!B$2,E1769<=Kimutatás!B$3)","v":true}]
[1769,"Eger","005","Q1","2019-03-03","KKV számlanyitás",4,"db","2019-04-01","jumur1",{"$f":"AND(E1770>=Kimutatás!B$2,E1770<=Kimutatás!B$3)","v":true}]
[1770,"Eger","005","Q1","2019-03-03","Betét állomány növekmény",2,"Mhuf","2019-04-01","jumur1",{"$f":"AND(E1771>=Kimutatás!B$2,E1771<=Kimutatás!B$3)","v":true}]
[1771,"Eger","005","Q1","2019-03-04","Betérő ügyfelek",10,"fő","2019-04-01","jumur1",{"$f":"AND(E1772>=Kimutatás!B$2,E1772<=Kimutatás!B$3)","v":true}]
[1772,"Eger","005","Q1","2019-03-04","Lakossági hitelnövekmény összege ",22,"Mhuf","2019-04-01","jumur1",{"$f":"AND(E1773>=Kimutatás!B$2,E1773<=Kimutatás!B$3)","v":true}]
[1773,"Eger","005","Q1","2019-03-04","Lakossági számlanyitás",6,"db","2019-04-01","jumur1",{"$f":"AND(E1774>=Kimutatás!B$2,E1774<=Kimutatás!B$3)","v":true}]
[1774,"Eger","005","Q1","2019-03-04","KKV hitelnövekmény (db)",0,"db","2019-04-01","jumur1",{"$f":"AND(E1775>=Kimutatás!B$2,E1775<=Kimutatás!B$3)","v":true}]
[1775,"Eger","005","Q1","2019-03-04","KKV számlanyitás",1,"db","2019-04-01","jumur1",{"$f":"AND(E1776>=Kimutatás!B$2,E1776<=Kimutatás!B$3)","v":true}]
[1776,"Eger","005","Q1","2019-03-04","Betét állomány növekmény",48,"Mhuf","2019-04-01","jumur1",{"$f":"AND(E1777>=Kimutatás!B$2,E1777<=Kimutatás!B$3)","v":true}]
[1777,"Eger","005","Q1","2019-03-05","Betérő ügyfelek",1,"fő","2019-04-01","jumur1",{"$f":"AND(E1778>=Kimutatás!B$2,E1778<=Kimutatás!B$3)","v":true}]
[1778,"Eger","005","Q1","2019-03-05","Lakossági hitelnövekmény összege ",1,"Mhuf","2019-04-01","jumur1",{"$f":"AND(E1779>=Kimutatás!B$2,E1779<=Kimutatás!B$3)","v":true}]
[1779,"Eger","005","Q1","2019-03-05","Lakossági számlanyitás",6,"db","2019-04-01","jumur1",{"$f":"AND(E1780>=Kimutatás!B$2,E1780<=Kimutatás!B$3)","v":true}]
[1780,"Eger","005","Q1","2019-03-05","KKV hitelnövekmény (db)",1,"db","2019-04-01","jumur1",{"$f":"AND(E1781>=Kimutatás!B$2,E1781<=Kimutatás!B$3)","v":true}]
[1781,"Eger","005","Q1","2019-03-05","KKV számlanyitás",-2,"db","2019-04-01","jumur1",{"$f":"AND(E1782>=Kimutatás!B$2,E1782<=Kimutatás!B$3)","v":true}]
[1782,"Eger","005","Q1","2019-03-05","Betét állomány növekmény",17,"Mhuf","2019-04-01","jumur1",{"$f":"AND(E1783>=Kimutatás!B$2,E1783<=Kimutatás!B$3)","v":true}]
[1783,"Eger","005","Q1","2019-03-06","Betérő ügyfelek",49,"fő","2019-04-01","jumur1",{"$f":"AND(E1784>=Kimutatás!B$2,E1784<=Kimutatás!B$3)","v":true}]
[1784,"Eger","005","Q1","2019-03-06","Lakossági hitelnövekmény összege ",16,"Mhuf","2019-04-01","jumur1",{"$f":"AND(E1785>=Kimutatás!B$2,E1785<=Kimutatás!B$3)","v":true}]
[1785,"Eger","005","Q1","2019-03-06","Lakossági számlanyitás",5,"db","2019-04-01","jumur1",{"$f":"AND(E1786>=Kimutatás!B$2,E1786<=Kimutatás!B$3)","v":true}]
[1786,"Eger","005","Q1","2019-03-06","KKV hitelnövekmény (db)",0,"db","2019-04-01","jumur1",{"$f":"AND(E1787>=Kimutatás!B$2,E1787<=Kimutatás!B$3)","v":true}]
[1787,"Eger","005","Q1","2019-03-06","KKV számlanyitás",-4,"db","2019-04-01","jumur1",{"$f":"AND(E1788>=Kimutatás!B$2,E1788<=Kimutatás!B$3)","v":true}]
[1788,"Eger","005","Q1","2019-03-06","Betét állomány növekmény",35,"Mhuf","2019-04-01","jumur1",{"$f":"AND(E1789>=Kimutatás!B$2,E1789<=Kimutatás!B$3)","v":true}]
[1789,"Eger","005","Q1","2019-03-07","Betérő ügyfelek",46,"fő","2019-04-01","jumur1",{"$f":"AND(E1790>=Kimutatás!B$2,E1790<=Kimutatás!B$3)","v":true}]
[1790,"Eger","005","Q1","2019-03-07","Lakossági hitelnövekmény összege ",50,"Mhuf","2019-04-01","jumur1",{"$f":"AND(E1791>=Kimutatás!B$2,E1791<=Kimutatás!B$3)","v":true}]
[1791,"Eger","005","Q1","2019-03-07","Lakossági számlanyitás",4,"db","2019-04-01","jumur1",{"$f":"AND(E1792>=Kimutatás!B$2,E1792<=Kimutatás!B$3)","v":true}]
[1792,"Eger","005","Q1","2019-03-07","KKV hitelnövekmény (db)",-2,"db","2019-04-01","jumur1",{"$f":"AND(E1793>=Kimutatás!B$2,E1793<=Kimutatás!B$3)","v":true}]
[1793,"Eger","005","Q1","2019-03-07","KKV számlanyitás",-3,"db","2019-04-01","jumur1",{"$f":"AND(E1794>=Kimutatás!B$2,E1794<=Kimutatás!B$3)","v":true}]
[1794,"Eger","005","Q1","2019-03-07","Betét állomány növekmény",-12,"Mhuf","2019-04-01","jumur1",{"$f":"AND(E1795>=Kimutatás!B$2,E1795<=Kimutatás!B$3)","v":true}]
[1795,"Eger","005","Q1","2019-03-10","Betérő ügyfelek",8,"fő","2019-04-01","jumur1",{"$f":"AND(E1796>=Kimutatás!B$2,E1796<=Kimutatás!B$3)","v":true}]
[1796,"Eger","005","Q1","2019-03-10","Lakossági hitelnövekmény összege ",6,"Mhuf","2019-04-01","jumur1",{"$f":"AND(E1797>=Kimutatás!B$2,E1797<=Kimutatás!B$3)","v":true}]
[1797,"Eger","005","Q1","2019-03-10","Lakossági számlanyitás",3,"db","2019-04-01","jumur1",{"$f":"AND(E1798>=Kimutatás!B$2,E1798<=Kimutatás!B$3)","v":true}]
[1798,"Eger","005","Q1","2019-03-10","KKV hitelnövekmény (db)",0,"db","2019-04-01","jumur1",{"$f":"AND(E1799>=Kimutatás!B$2,E1799<=Kimutatás!B$3)","v":true}]
[1799,"Eger","005","Q1","2019-03-10","KKV számlanyitás",5,"db","2019-04-01","jumur1",{"$f":"AND(E1800>=Kimutatás!B$2,E1800<=Kimutatás!B$3)","v":true}]
[1800,"Eger","005","Q1","2019-03-10","Betét állomány növekmény",4,"Mhuf","2019-04-01","jumur1",{"$f":"AND(E1801>=Kimutatás!B$2,E1801<=Kimutatás!B$3)","v":true}]
[1801,"Eger","005","Q1","2019-03-11","Betérő ügyfelek",34,"fő","2019-04-01","jumur1",{"$f":"AND(E1802>=Kimutatás!B$2,E1802<=Kimutatás!B$3)","v":false}]
[1802,"Eger","005","Q1","2019-03-11","Lakossági hitelnövekmény összege ",17,"Mhuf","2019-04-01","jumur1",{"$f":"AND(E1803>=Kimutatás!B$2,E1803<=Kimutatás!B$3)","v":false}]
[1803,"Eger","005","Q1","2019-03-11","Lakossági számlanyitás",-3,"db","2019-04-01","jumur1",{"$f":"AND(E1804>=Kimutatás!B$2,E1804<=Kimutatás!B$3)","v":false}]
[1804,"Eger","005","Q1","2019-03-11","KKV hitelnövekmény (db)",-2,"db","2019-04-01","jumur1",{"$f":"AND(E1805>=Kimutatás!B$2,E1805<=Kimutatás!B$3)","v":false}]
[1805,"Eger","005","Q1","2019-03-11","KKV számlanyitás",-1,"db","2019-04-01","jumur1",{"$f":"AND(E1806>=Kimutatás!B$2,E1806<=Kimutatás!B$3)","v":false}]
[1806,"Eger","005","Q1","2019-03-11","Betét állomány növekmény",-3,"Mhuf","2019-04-01","jumur1",{"$f":"AND(E1807>=Kimutatás!B$2,E1807<=Kimutatás!B$3)","v":false}]
[1807,"Eger","005","Q1","2019-03-12","Betérő ügyfelek",34,"fő","2019-04-01","jumur1",{"$f":"AND(E1808>=Kimutatás!B$2,E1808<=Kimutatás!B$3)","v":false}]
[1808,"Eger","005","Q1","2019-03-12","Lakossági hitelnövekmény összege ",-6,"Mhuf","2019-04-01","jumur1",{"$f":"AND(E1809>=Kimutatás!B$2,E1809<=Kimutatás!B$3)","v":false}]
[1809,"Eger","005","Q1","2019-03-12","Lakossági számlanyitás",3,"db","2019-04-01","jumur1",{"$f":"AND(E1810>=Kimutatás!B$2,E1810<=Kimutatás!B$3)","v":false}]
[1810,"Eger","005","Q1","2019-03-12","KKV hitelnövekmény (db)",2,"db","2019-04-01","jumur1",{"$f":"AND(E1811>=Kimutatás!B$2,E1811<=Kimutatás!B$3)","v":false}]
[1811,"Eger","005","Q1","2019-03-12","KKV számlanyitás",-4,"db","2019-04-01","jumur1",{"$f":"AND(E1812>=Kimutatás!B$2,E1812<=Kimutatás!B$3)","v":false}]
[1812,"Eger","005","Q1","2019-03-12","Betét állomány növekmény",29,"Mhuf","2019-04-01","jumur1",{"$f":"AND(E1813>=Kimutatás!B$2,E1813<=Kimutatás!B$3)","v":false}]
[1813,"Eger","005","Q1","2019-03-13","Betérő ügyfelek",22,"fő","2019-04-01","jumur1",{"$f":"AND(E1814>=Kimutatás!B$2,E1814<=Kimutatás!B$3)","v":false}]
[1814,"Eger","005","Q1","2019-03-13","Lakossági hitelnövekmény összege ",-2,"Mhuf","2019-04-01","jumur1",{"$f":"AND(E1815>=Kimutatás!B$2,E1815<=Kimutatás!B$3)","v":false}]
[1815,"Eger","005","Q1","2019-03-13","Lakossági számlanyitás",3,"db","2019-04-01","jumur1",{"$f":"AND(E1816>=Kimutatás!B$2,E1816<=Kimutatás!B$3)","v":false}]
[1816,"Eger","005","Q1","2019-03-13","KKV hitelnövekmény (db)",0,"db","2019-04-01","jumur1",{"$f":"AND(E1817>=Kimutatás!B$2,E1817<=Kimutatás!B$3)","v":false}]
[1817,"Eger","005","Q1","2019-03-13","KKV számlanyitás",-4,"db","2019-04-01","jumur1",{"$f":"AND(E1818>=Kimutatás!B$2,E1818<=Kimutatás!B$3)","v":false}]
[1818,"Eger","005","Q1","2019-03-13","Betét állomány növekmény",1,"Mhuf","2019-04-01","jumur1",{"$f":"AND(E1819>=Kimutatás!B$2,E1819<=Kimutatás!B$3)","v":false}]
[1819,"Eger","005","Q1","2019-03-14","Betérő ügyfelek",26,"fő","2019-04-01","jumur1",{"$f":"AND(E1820>=Kimutatás!B$2,E1820<=Kimutatás!B$3)","v":false}]
[1820,"Eger","005","Q1","2019-03-14","Lakossági hitelnövekmény összege ",19,"Mhuf","2019-04-01","jumur1",{"$f":"AND(E1821>=Kimutatás!B$2,E1821<=Kimutatás!B$3)","v":false}]
[1821,"Eger","005","Q1","2019-03-14","Lakossági számlanyitás",6,"db","2019-04-01","jumur1",{"$f":"AND(E1822>=Kimutatás!B$2,E1822<=Kimutatás!B$3)","v":false}]
[1822,"Eger","005","Q1","2019-03-14","KKV hitelnövekmény (db)",-1,"db","2019-04-01","jumur1",{"$f":"AND(E1823>=Kimutatás!B$2,E1823<=Kimutatás!B$3)","v":false}]
[1823,"Eger","005","Q1","2019-03-14","KKV számlanyitás",-1,"db","2019-04-01","jumur1",{"$f":"AND(E1824>=Kimutatás!B$2,E1824<=Kimutatás!B$3)","v":false}]
[1824,"Eger","005","Q1","2019-03-14","Betét állomány növekmény",0,"Mhuf","2019-04-01","jumur1",{"$f":"AND(E1825>=Kimutatás!B$2,E1825<=Kimutatás!B$3)","v":false}]
[1825,"Eger","005","Q1","2019-03-17","Betérő ügyfelek",39,"fő","2019-04-01","jumur1",{"$f":"AND(E1826>=Kimutatás!B$2,E1826<=Kimutatás!B$3)","v":false}]
[1826,"Eger","005","Q1","2019-03-17","Lakossági hitelnövekmény összege ",10,"Mhuf","2019-04-01","jumur1",{"$f":"AND(E1827>=Kimutatás!B$2,E1827<=Kimutatás!B$3)","v":false}]
[1827,"Eger","005","Q1","2019-03-17","Lakossági számlanyitás",8,"db","2019-04-01","jumur1",{"$f":"AND(E1828>=Kimutatás!B$2,E1828<=Kimutatás!B$3)","v":false}]
[1828,"Eger","005","Q1","2019-03-17","KKV hitelnövekmény (db)",2,"db","2019-04-01","jumur1",{"$f":"AND(E1829>=Kimutatás!B$2,E1829<=Kimutatás!B$3)","v":false}]
[1829,"Eger","005","Q1","2019-03-17","KKV számlanyitás",-5,"db","2019-04-01","jumur1",{"$f":"AND(E1830>=Kimutatás!B$2,E1830<=Kimutatás!B$3)","v":false}]
[1830,"Eger","005","Q1","2019-03-17","Betét állomány növekmény",-2,"Mhuf","2019-04-01","jumur1",{"$f":"AND(E1831>=Kimutatás!B$2,E1831<=Kimutatás!B$3)","v":false}]
[1831,"Eger","005","Q1","2019-03-18","Betérő ügyfelek",8,"fő","2019-04-01","jumur1",{"$f":"AND(E1832>=Kimutatás!B$2,E1832<=Kimutatás!B$3)","v":false}]
[1832,"Eger","005","Q1","2019-03-18","Lakossági hitelnövekmény összege ",8,"Mhuf","2019-04-01","jumur1",{"$f":"AND(E1833>=Kimutatás!B$2,E1833<=Kimutatás!B$3)","v":false}]
[1833,"Eger","005","Q1","2019-03-18","Lakossági számlanyitás",4,"db","2019-04-01","jumur1",{"$f":"AND(E1834>=Kimutatás!B$2,E1834<=Kimutatás!B$3)","v":false}]
[1834,"Eger","005","Q1","2019-03-18","KKV hitelnövekmény (db)",1,"db","2019-04-01","jumur1",{"$f":"AND(E1835>=Kimutatás!B$2,E1835<=Kimutatás!B$3)","v":false}]
[1835,"Eger","005","Q1","2019-03-18","KKV számlanyitás",-3,"db","2019-04-01","jumur1",{"$f":"AND(E1836>=Kimutatás!B$2,E1836<=Kimutatás!B$3)","v":false}]
[1836,"Eger","005","Q1","2019-03-18","Betét állomány növekmény",14,"Mhuf","2019-04-01","jumur1",{"$f":"AND(E1837>=Kimutatás!B$2,E1837<=Kimutatás!B$3)","v":false}]
[1837,"Eger","005","Q1","2019-03-19","Betérő ügyfelek",5,"fő","2019-04-01","jumur1",{"$f":"AND(E1838>=Kimutatás!B$2,E1838<=Kimutatás!B$3)","v":false}]
[1838,"Eger","005","Q1","2019-03-19","Lakossági hitelnövekmény összege ",3,"Mhuf","2019-04-01","jumur1",{"$f":"AND(E1839>=Kimutatás!B$2,E1839<=Kimutatás!B$3)","v":false}]
[1839,"Eger","005","Q1","2019-03-19","Lakossági számlanyitás",-4,"db","2019-04-01","jumur1",{"$f":"AND(E1840>=Kimutatás!B$2,E1840<=Kimutatás!B$3)","v":false}]
[1840,"Eger","005","Q1","2019-03-19","KKV hitelnövekmény (db)",-2,"db","2019-04-01","jumur1",{"$f":"AND(E1841>=Kimutatás!B$2,E1841<=Kimutatás!B$3)","v":false}]
[1841,"Eger","005","Q1","2019-03-19","KKV számlanyitás",-1,"db","2019-04-01","jumur1",{"$f":"AND(E1842>=Kimutatás!B$2,E1842<=Kimutatás!B$3)","v":false}]
[1842,"Eger","005","Q1","2019-03-19","Betét állomány növekmény",21,"Mhuf","2019-04-01","jumur1",{"$f":"AND(E1843>=Kimutatás!B$2,E1843<=Kimutatás!B$3)","v":false}]
[1843,"Eger","005","Q1","2019-03-20","Betérő ügyfelek",30,"fő","2019-04-01","jumur1",{"$f":"AND(E1844>=Kimutatás!B$2,E1844<=Kimutatás!B$3)","v":false}]
[1844,"Eger","005","Q1","2019-03-20","Lakossági hitelnövekmény összege ",3,"Mhuf","2019-04-01","jumur1",{"$f":"AND(E1845>=Kimutatás!B$2,E1845<=Kimutatás!B$3)","v":false}]
[1845,"Eger","005","Q1","2019-03-20","Lakossági számlanyitás",7,"db","2019-04-01","jumur1",{"$f":"AND(E1846>=Kimutatás!B$2,E1846<=Kimutatás!B$3)","v":false}]
[1846,"Eger","005","Q1","2019-03-20","KKV hitelnövekmény (db)",-1,"db","2019-04-01","jumur1",{"$f":"AND(E1847>=Kimutatás!B$2,E1847<=Kimutatás!B$3)","v":false}]
[1847,"Eger","005","Q1","2019-03-20","KKV számlanyitás",-2,"db","2019-04-01","jumur1",{"$f":"AND(E1848>=Kimutatás!B$2,E1848<=Kimutatás!B$3)","v":false}]
[1848,"Eger","005","Q1","2019-03-20","Betét állomány növekmény",5,"Mhuf","2019-04-01","jumur1",{"$f":"AND(E1849>=Kimutatás!B$2,E1849<=Kimutatás!B$3)","v":false}]
[1849,"Eger","005","Q1","2019-03-21","Betérő ügyfelek",21,"fő","2019-04-01","jumur1",{"$f":"AND(E1850>=Kimutatás!B$2,E1850<=Kimutatás!B$3)","v":false}]
[1850,"Eger","005","Q1","2019-03-21","Lakossági hitelnövekmény összege ",28,"Mhuf","2019-04-01","jumur1",{"$f":"AND(E1851>=Kimutatás!B$2,E1851<=Kimutatás!B$3)","v":false}]
[1851,"Eger","005","Q1","2019-03-21","Lakossági számlanyitás",-1,"db","2019-04-01","jumur1",{"$f":"AND(E1852>=Kimutatás!B$2,E1852<=Kimutatás!B$3)","v":false}]
[1852,"Eger","005","Q1","2019-03-21","KKV hitelnövekmény (db)",-1,"db","2019-04-01","jumur1",{"$f":"AND(E1853>=Kimutatás!B$2,E1853<=Kimutatás!B$3)","v":false}]
[1853,"Eger","005","Q1","2019-03-21","KKV számlanyitás",4,"db","2019-04-01","jumur1",{"$f":"AND(E1854>=Kimutatás!B$2,E1854<=Kimutatás!B$3)","v":false}]
[1854,"Eger","005","Q1","2019-03-21","Betét állomány növekmény",12,"Mhuf","2019-04-01","jumur1",{"$f":"AND(E1855>=Kimutatás!B$2,E1855<=Kimutatás!B$3)","v":false}]
[1855,"Eger","005","Q1","2019-03-24","Betérő ügyfelek",37,"fő","2019-04-01","jumur1",{"$f":"AND(E1856>=Kimutatás!B$2,E1856<=Kimutatás!B$3)","v":false}]
[1856,"Eger","005","Q1","2019-03-24","Lakossági hitelnövekmény összege ",0,"Mhuf","2019-04-01","jumur1",{"$f":"AND(E1857>=Kimutatás!B$2,E1857<=Kimutatás!B$3)","v":false}]
[1857,"Eger","005","Q1","2019-03-24","Lakossági számlanyitás",9,"db","2019-04-01","jumur1",{"$f":"AND(E1858>=Kimutatás!B$2,E1858<=Kimutatás!B$3)","v":false}]
[1858,"Eger","005","Q1","2019-03-24","KKV hitelnövekmény (db)",1,"db","2019-04-01","jumur1",{"$f":"AND(E1859>=Kimutatás!B$2,E1859<=Kimutatás!B$3)","v":false}]
[1859,"Eger","005","Q1","2019-03-24","KKV számlanyitás",1,"db","2019-04-01","jumur1",{"$f":"AND(E1860>=Kimutatás!B$2,E1860<=Kimutatás!B$3)","v":false}]
[1860,"Eger","005","Q1","2019-03-24","Betét állomány növekmény",31,"Mhuf","2019-04-01","jumur1",{"$f":"AND(E1861>=Kimutatás!B$2,E1861<=Kimutatás!B$3)","v":false}]
[1861,"Eger","005","Q1","2019-03-25","Betérő ügyfelek",50,"fő","2019-04-01","jumur1",{"$f":"AND(E1862>=Kimutatás!B$2,E1862<=Kimutatás!B$3)","v":false}]
[1862,"Eger","005","Q1","2019-03-25","Lakossági hitelnövekmény összege ",-7,"Mhuf","2019-04-01","jumur1",{"$f":"AND(E1863>=Kimutatás!B$2,E1863<=Kimutatás!B$3)","v":false}]
[1863,"Eger","005","Q1","2019-03-25","Lakossági számlanyitás",6,"db","2019-04-01","jumur1",{"$f":"AND(E1864>=Kimutatás!B$2,E1864<=Kimutatás!B$3)","v":false}]
[1864,"Eger","005","Q1","2019-03-25","KKV hitelnövekmény (db)",0,"db","2019-04-01","jumur1",{"$f":"AND(E1865>=Kimutatás!B$2,E1865<=Kimutatás!B$3)","v":false}]
[1865,"Eger","005","Q1","2019-03-25","KKV számlanyitás",-4,"db","2019-04-01","jumur1",{"$f":"AND(E1866>=Kimutatás!B$2,E1866<=Kimutatás!B$3)","v":false}]
[1866,"Eger","005","Q1","2019-03-25","Betét állomány növekmény",34,"Mhuf","2019-04-01","jumur1",{"$f":"AND(E1867>=Kimutatás!B$2,E1867<=Kimutatás!B$3)","v":false}]
[1867,"Eger","005","Q1","2019-03-26","Betérő ügyfelek",11,"fő","2019-04-01","jumur1",{"$f":"AND(E1868>=Kimutatás!B$2,E1868<=Kimutatás!B$3)","v":false}]
[1868,"Eger","005","Q1","2019-03-26","Lakossági hitelnövekmény összege ",-1,"Mhuf","2019-04-01","jumur1",{"$f":"AND(E1869>=Kimutatás!B$2,E1869<=Kimutatás!B$3)","v":false}]
[1869,"Eger","005","Q1","2019-03-26","Lakossági számlanyitás",7,"db","2019-04-01","jumur1",{"$f":"AND(E1870>=Kimutatás!B$2,E1870<=Kimutatás!B$3)","v":false}]
[1870,"Eger","005","Q1","2019-03-26","KKV hitelnövekmény (db)",0,"db","2019-04-01","jumur1",{"$f":"AND(E1871>=Kimutatás!B$2,E1871<=Kimutatás!B$3)","v":false}]
[1871,"Eger","005","Q1","2019-03-26","KKV számlanyitás",3,"db","2019-04-01","jumur1",{"$f":"AND(E1872>=Kimutatás!B$2,E1872<=Kimutatás!B$3)","v":false}]
[1872,"Eger","005","Q1","2019-03-26","Betét állomány növekmény",34,"Mhuf","2019-04-01","jumur1",{"$f":"AND(E1873>=Kimutatás!B$2,E1873<=Kimutatás!B$3)","v":false}]
[1873,"Eger","005","Q1","2019-03-27","Betérő ügyfelek",21,"fő","2019-04-01","jumur1",{"$f":"AND(E1874>=Kimutatás!B$2,E1874<=Kimutatás!B$3)","v":false}]
[1874,"Eger","005","Q1","2019-03-27","Lakossági hitelnövekmény összege ",11,"Mhuf","2019-04-01","jumur1",{"$f":"AND(E1875>=Kimutatás!B$2,E1875<=Kimutatás!B$3)","v":false}]
[1875,"Eger","005","Q1","2019-03-27","Lakossági számlanyitás",3,"db","2019-04-01","jumur1",{"$f":"AND(E1876>=Kimutatás!B$2,E1876<=Kimutatás!B$3)","v":false}]
[1876,"Eger","005","Q1","2019-03-27","KKV hitelnövekmény (db)",0,"db","2019-04-01","jumur1",{"$f":"AND(E1877>=Kimutatás!B$2,E1877<=Kimutatás!B$3)","v":false}]
[1877,"Eger","005","Q1","2019-03-27","KKV számlanyitás",2,"db","2019-04-01","jumur1",{"$f":"AND(E1878>=Kimutatás!B$2,E1878<=Kimutatás!B$3)","v":false}]
[1878,"Eger","005","Q1","2019-03-27","Betét állomány növekmény",7,"Mhuf","2019-04-01","jumur1",{"$f":"AND(E1879>=Kimutatás!B$2,E1879<=Kimutatás!B$3)","v":false}]
[1879,"Eger","005","Q1","2019-03-28","Betérő ügyfelek",43,"fő","2019-04-01","jumur1",{"$f":"AND(E1880>=Kimutatás!B$2,E1880<=Kimutatás!B$3)","v":false}]
[1880,"Eger","005","Q1","2019-03-28","Lakossági hitelnövekmény összege ",-1,"Mhuf","2019-04-01","jumur1",{"$f":"AND(E1881>=Kimutatás!B$2,E1881<=Kimutatás!B$3)","v":false}]
[1881,"Eger","005","Q1","2019-03-28","Lakossági számlanyitás",6,"db","2019-04-01","jumur1",{"$f":"AND(E1882>=Kimutatás!B$2,E1882<=Kimutatás!B$3)","v":false}]
[1882,"Eger","005","Q1","2019-03-28","KKV hitelnövekmény (db)",-1,"db","2019-04-01","jumur1",{"$f":"AND(E1883>=Kimutatás!B$2,E1883<=Kimutatás!B$3)","v":false}]
[1883,"Eger","005","Q1","2019-03-28","KKV számlanyitás",1,"db","2019-04-01","jumur1",{"$f":"AND(E1884>=Kimutatás!B$2,E1884<=Kimutatás!B$3)","v":false}]
[1884,"Eger","005","Q1","2019-03-28","Betét állomány növekmény",10,"Mhuf","2019-04-01","jumur1",{"$f":"AND(E1885>=Kimutatás!B$2,E1885<=Kimutatás!B$3)","v":false}]
[1885,"Eger","005","Q1","2019-03-31","Betérő ügyfelek",48,"fő","2019-04-01","jumur1",{"$f":"AND(E1886>=Kimutatás!B$2,E1886<=Kimutatás!B$3)","v":false}]
[1886,"Eger","005","Q1","2019-03-31","Lakossági hitelnövekmény összege ",24,"Mhuf","2019-04-01","jumur1",{"$f":"AND(E1887>=Kimutatás!B$2,E1887<=Kimutatás!B$3)","v":false}]
[1887,"Eger","005","Q1","2019-03-31","Lakossági számlanyitás",-3,"db","2019-04-01","jumur1",{"$f":"AND(E1888>=Kimutatás!B$2,E1888<=Kimutatás!B$3)","v":false}]
[1888,"Eger","005","Q1","2019-03-31","KKV hitelnövekmény (db)",-2,"db","2019-04-01","jumur1",{"$f":"AND(E1889>=Kimutatás!B$2,E1889<=Kimutatás!B$3)","v":false}]
[1889,"Eger","005","Q1","2019-03-31","KKV számlanyitás",1,"db","2019-04-01","jumur1",{"$f":"AND(E1890>=Kimutatás!B$2,E1890<=Kimutatás!B$3)","v":false}]
[1890,"Eger","005","Q1","2019-03-31","Betét állomány növekmény",-20,"Mhuf","2019-04-01","jumur1",{"$f":"AND(E1891>=Kimutatás!B$2,E1891<=Kimutatás!B$3)","v":false}]
[1891,"Győr","006","Q1","2019-01-02","Betérő ügyfelek",19,"fő","2019-02-01","napol01",{"$f":"AND(E1892>=Kimutatás!B$2,E1892<=Kimutatás!B$3)","v":false}]
[1892,"Győr","006","Q1","2019-01-02","Lakossági hitelnövekmény összege ",33,"Mhuf","2019-02-01","napol01",{"$f":"AND(E1893>=Kimutatás!B$2,E1893<=Kimutatás!B$3)","v":false}]
[1893,"Győr","006","Q1","2019-01-02","Lakossági számlanyitás",-4,"db","2019-02-01","napol01",{"$f":"AND(E1894>=Kimutatás!B$2,E1894<=Kimutatás!B$3)","v":false}]
[1894,"Győr","006","Q1","2019-01-02","KKV hitelnövekmény (db)",-2,"db","2019-02-01","napol01",{"$f":"AND(E1895>=Kimutatás!B$2,E1895<=Kimutatás!B$3)","v":false}]
[1895,"Győr","006","Q1","2019-01-02","KKV számlanyitás",-3,"db","2019-02-01","napol01",{"$f":"AND(E1896>=Kimutatás!B$2,E1896<=Kimutatás!B$3)","v":false}]
[1896,"Győr","006","Q1","2019-01-02","Betét állomány növekmény",-20,"Mhuf","2019-02-01","napol01",{"$f":"AND(E1897>=Kimutatás!B$2,E1897<=Kimutatás!B$3)","v":false}]
[1897,"Győr","006","Q1","2019-01-03","Betérő ügyfelek",50,"fő","2019-02-01","napol01",{"$f":"AND(E1898>=Kimutatás!B$2,E1898<=Kimutatás!B$3)","v":false}]
[1898,"Győr","006","Q1","2019-01-03","Lakossági hitelnövekmény összege ",33,"Mhuf","2019-02-01","napol01",{"$f":"AND(E1899>=Kimutatás!B$2,E1899<=Kimutatás!B$3)","v":false}]
[1899,"Győr","006","Q1","2019-01-03","Lakossági számlanyitás",8,"db","2019-02-01","napol01",{"$f":"AND(E1900>=Kimutatás!B$2,E1900<=Kimutatás!B$3)","v":false}]
[1900,"Győr","006","Q1","2019-01-03","KKV hitelnövekmény (db)",-1,"db","2019-02-01","napol01",{"$f":"AND(E1901>=Kimutatás!B$2,E1901<=Kimutatás!B$3)","v":false}]
[1901,"Győr","006","Q1","2019-01-03","KKV számlanyitás",-4,"db","2019-02-01","napol01",{"$f":"AND(E1902>=Kimutatás!B$2,E1902<=Kimutatás!B$3)","v":false}]
[1902,"Győr","006","Q1","2019-01-03","Betét állomány növekmény",8,"Mhuf","2019-02-01","napol01",{"$f":"AND(E1903>=Kimutatás!B$2,E1903<=Kimutatás!B$3)","v":false}]
[1903,"Győr","006","Q1","2019-01-06","Betérő ügyfelek",26,"fő","2019-02-01","napol01",{"$f":"AND(E1904>=Kimutatás!B$2,E1904<=Kimutatás!B$3)","v":false}]
[1904,"Győr","006","Q1","2019-01-06","Lakossági hitelnövekmény összege ",-10,"Mhuf","2019-02-01","napol01",{"$f":"AND(E1905>=Kimutatás!B$2,E1905<=Kimutatás!B$3)","v":false}]
[1905,"Győr","006","Q1","2019-01-06","Lakossági számlanyitás",1,"db","2019-02-01","napol01",{"$f":"AND(E1906>=Kimutatás!B$2,E1906<=Kimutatás!B$3)","v":false}]
[1906,"Győr","006","Q1","2019-01-06","KKV hitelnövekmény (db)",-2,"db","2019-02-01","napol01",{"$f":"AND(E1907>=Kimutatás!B$2,E1907<=Kimutatás!B$3)","v":false}]
[1907,"Győr","006","Q1","2019-01-06","KKV számlanyitás",4,"db","2019-02-01","napol01",{"$f":"AND(E1908>=Kimutatás!B$2,E1908<=Kimutatás!B$3)","v":false}]
[1908,"Győr","006","Q1","2019-01-06","Betét állomány növekmény",3,"Mhuf","2019-02-01","napol01",{"$f":"AND(E1909>=Kimutatás!B$2,E1909<=Kimutatás!B$3)","v":false}]
[1909,"Győr","006","Q1","2019-01-07","Betérő ügyfelek",5,"fő","2019-02-01","napol01",{"$f":"AND(E1910>=Kimutatás!B$2,E1910<=Kimutatás!B$3)","v":false}]
[1910,"Győr","006","Q1","2019-01-07","Lakossági hitelnövekmény összege ",49,"Mhuf","2019-02-01","napol01",{"$f":"AND(E1911>=Kimutatás!B$2,E1911<=Kimutatás!B$3)","v":false}]
[1911,"Győr","006","Q1","2019-01-07","Lakossági számlanyitás",-5,"db","2019-02-01","napol01",{"$f":"AND(E1912>=Kimutatás!B$2,E1912<=Kimutatás!B$3)","v":false}]
[1912,"Győr","006","Q1","2019-01-07","KKV hitelnövekmény (db)",-2,"db","2019-02-01","napol01",{"$f":"AND(E1913>=Kimutatás!B$2,E1913<=Kimutatás!B$3)","v":false}]
[1913,"Győr","006","Q1","2019-01-07","KKV számlanyitás",-4,"db","2019-02-01","napol01",{"$f":"AND(E1914>=Kimutatás!B$2,E1914<=Kimutatás!B$3)","v":false}]
[1914,"Győr","006","Q1","2019-01-07","Betét állomány növekmény",-10,"Mhuf","2019-02-01","napol01",{"$f":"AND(E1915>=Kimutatás!B$2,E1915<=Kimutatás!B$3)","v":false}]
[1915,"Győr","006","Q1","2019-01-08","Betérő ügyfelek",19,"fő","2019-02-01","napol01",{"$f":"AND(E1916>=Kimutatás!B$2,E1916<=Kimutatás!B$3)","v":false}]
[1916,"Győr","006","Q1","2019-01-08","Lakossági hitelnövekmény összege ",7,"Mhuf","2019-02-01","napol01",{"$f":"AND(E1917>=Kimutatás!B$2,E1917<=Kimutatás!B$3)","v":false}]
[1917,"Győr","006","Q1","2019-01-08","Lakossági számlanyitás",-5,"db","2019-02-01","napol01",{"$f":"AND(E1918>=Kimutatás!B$2,E1918<=Kimutatás!B$3)","v":false}]
[1918,"Győr","006","Q1","2019-01-08","KKV hitelnövekmény (db)",-1,"db","2019-02-01","napol01",{"$f":"AND(E1919>=Kimutatás!B$2,E1919<=Kimutatás!B$3)","v":false}]
[1919,"Győr","006","Q1","2019-01-08","KKV számlanyitás",3,"db","2019-02-01","napol01",{"$f":"AND(E1920>=Kimutatás!B$2,E1920<=Kimutatás!B$3)","v":false}]
[1920,"Győr","006","Q1","2019-01-08","Betét állomány növekmény",29,"Mhuf","2019-02-01","napol01",{"$f":"AND(E1921>=Kimutatás!B$2,E1921<=Kimutatás!B$3)","v":false}]
[1921,"Győr","006","Q1","2019-01-09","Betérő ügyfelek",19,"fő","2019-02-01","napol01",{"$f":"AND(E1922>=Kimutatás!B$2,E1922<=Kimutatás!B$3)","v":false}]
[1922,"Győr","006","Q1","2019-01-09","Lakossági hitelnövekmény összege ",5,"Mhuf","2019-02-01","napol01",{"$f":"AND(E1923>=Kimutatás!B$2,E1923<=Kimutatás!B$3)","v":false}]
[1923,"Győr","006","Q1","2019-01-09","Lakossági számlanyitás",4,"db","2019-02-01","napol01",{"$f":"AND(E1924>=Kimutatás!B$2,E1924<=Kimutatás!B$3)","v":false}]
[1924,"Győr","006","Q1","2019-01-09","KKV hitelnövekmény (db)",-1,"db","2019-02-01","napol01",{"$f":"AND(E1925>=Kimutatás!B$2,E1925<=Kimutatás!B$3)","v":false}]
[1925,"Győr","006","Q1","2019-01-09","KKV számlanyitás",1,"db","2019-02-01","napol01",{"$f":"AND(E1926>=Kimutatás!B$2,E1926<=Kimutatás!B$3)","v":false}]
[1926,"Győr","006","Q1","2019-01-09","Betét állomány növekmény",18,"Mhuf","2019-02-01","napol01",{"$f":"AND(E1927>=Kimutatás!B$2,E1927<=Kimutatás!B$3)","v":false}]
[1927,"Győr","006","Q1","2019-01-10","Betérő ügyfelek",50,"fő","2019-02-01","napol01",{"$f":"AND(E1928>=Kimutatás!B$2,E1928<=Kimutatás!B$3)","v":true}]
[1928,"Győr","006","Q1","2019-01-10","Lakossági hitelnövekmény összege ",23,"Mhuf","2019-02-01","napol01",{"$f":"AND(E1929>=Kimutatás!B$2,E1929<=Kimutatás!B$3)","v":true}]
[1929,"Győr","006","Q1","2019-01-10","Lakossági számlanyitás",3,"db","2019-02-01","napol01",{"$f":"AND(E1930>=Kimutatás!B$2,E1930<=Kimutatás!B$3)","v":true}]
[1930,"Győr","006","Q1","2019-01-10","KKV hitelnövekmény (db)",2,"db","2019-02-01","napol01",{"$f":"AND(E1931>=Kimutatás!B$2,E1931<=Kimutatás!B$3)","v":true}]
[1931,"Győr","006","Q1","2019-01-10","KKV számlanyitás",1,"db","2019-02-01","napol01",{"$f":"AND(E1932>=Kimutatás!B$2,E1932<=Kimutatás!B$3)","v":true}]
[1932,"Győr","006","Q1","2019-01-10","Betét állomány növekmény",15,"Mhuf","2019-02-01","napol01",{"$f":"AND(E1933>=Kimutatás!B$2,E1933<=Kimutatás!B$3)","v":true}]
[1933,"Győr","006","Q1","2019-01-13","Betérő ügyfelek",5,"fő","2019-02-01","napol01",{"$f":"AND(E1934>=Kimutatás!B$2,E1934<=Kimutatás!B$3)","v":true}]
[1934,"Győr","006","Q1","2019-01-13","Lakossági hitelnövekmény összege ",22,"Mhuf","2019-02-01","napol01",{"$f":"AND(E1935>=Kimutatás!B$2,E1935<=Kimutatás!B$3)","v":true}]
[1935,"Győr","006","Q1","2019-01-13","Lakossági számlanyitás",6,"db","2019-02-01","napol01",{"$f":"AND(E1936>=Kimutatás!B$2,E1936<=Kimutatás!B$3)","v":true}]
[1936,"Győr","006","Q1","2019-01-13","KKV hitelnövekmény (db)",-2,"db","2019-02-01","napol01",{"$f":"AND(E1937>=Kimutatás!B$2,E1937<=Kimutatás!B$3)","v":true}]
[1937,"Győr","006","Q1","2019-01-13","KKV számlanyitás",1,"db","2019-02-01","napol01",{"$f":"AND(E1938>=Kimutatás!B$2,E1938<=Kimutatás!B$3)","v":true}]
[1938,"Győr","006","Q1","2019-01-13","Betét állomány növekmény",34,"Mhuf","2019-02-01","napol01",{"$f":"AND(E1939>=Kimutatás!B$2,E1939<=Kimutatás!B$3)","v":true}]
[1939,"Győr","006","Q1","2019-01-14","Betérő ügyfelek",39,"fő","2019-02-01","napol01",{"$f":"AND(E1940>=Kimutatás!B$2,E1940<=Kimutatás!B$3)","v":true}]
[1940,"Győr","006","Q1","2019-01-14","Lakossági hitelnövekmény összege ",14,"Mhuf","2019-02-01","napol01",{"$f":"AND(E1941>=Kimutatás!B$2,E1941<=Kimutatás!B$3)","v":true}]
[1941,"Győr","006","Q1","2019-01-14","Lakossági számlanyitás",8,"db","2019-02-01","napol01",{"$f":"AND(E1942>=Kimutatás!B$2,E1942<=Kimutatás!B$3)","v":true}]
[1942,"Győr","006","Q1","2019-01-14","KKV hitelnövekmény (db)",2,"db","2019-02-01","napol01",{"$f":"AND(E1943>=Kimutatás!B$2,E1943<=Kimutatás!B$3)","v":true}]
[1943,"Győr","006","Q1","2019-01-14","KKV számlanyitás",-1,"db","2019-02-01","napol01",{"$f":"AND(E1944>=Kimutatás!B$2,E1944<=Kimutatás!B$3)","v":true}]
[1944,"Győr","006","Q1","2019-01-14","Betét állomány növekmény",35,"Mhuf","2019-02-01","napol01",{"$f":"AND(E1945>=Kimutatás!B$2,E1945<=Kimutatás!B$3)","v":true}]
[1945,"Győr","006","Q1","2019-01-15","Betérő ügyfelek",15,"fő","2019-02-01","napol01",{"$f":"AND(E1946>=Kimutatás!B$2,E1946<=Kimutatás!B$3)","v":true}]
[1946,"Győr","006","Q1","2019-01-15","Lakossági hitelnövekmény összege ",34,"Mhuf","2019-02-01","napol01",{"$f":"AND(E1947>=Kimutatás!B$2,E1947<=Kimutatás!B$3)","v":true}]
[1947,"Győr","006","Q1","2019-01-15","Lakossági számlanyitás",0,"db","2019-02-01","napol01",{"$f":"AND(E1948>=Kimutatás!B$2,E1948<=Kimutatás!B$3)","v":true}]
[1948,"Győr","006","Q1","2019-01-15","KKV hitelnövekmény (db)",1,"db","2019-02-01","napol01",{"$f":"AND(E1949>=Kimutatás!B$2,E1949<=Kimutatás!B$3)","v":true}]
[1949,"Győr","006","Q1","2019-01-15","KKV számlanyitás",-2,"db","2019-02-01","napol01",{"$f":"AND(E1950>=Kimutatás!B$2,E1950<=Kimutatás!B$3)","v":true}]
[1950,"Győr","006","Q1","2019-01-15","Betét állomány növekmény",20,"Mhuf","2019-02-01","napol01",{"$f":"AND(E1951>=Kimutatás!B$2,E1951<=Kimutatás!B$3)","v":true}]
[1951,"Győr","006","Q1","2019-01-16","Betérő ügyfelek",43,"fő","2019-02-01","napol01",{"$f":"AND(E1952>=Kimutatás!B$2,E1952<=Kimutatás!B$3)","v":true}]
[1952,"Győr","006","Q1","2019-01-16","Lakossági hitelnövekmény összege ",35,"Mhuf","2019-02-01","napol01",{"$f":"AND(E1953>=Kimutatás!B$2,E1953<=Kimutatás!B$3)","v":true}]
[1953,"Győr","006","Q1","2019-01-16","Lakossági számlanyitás",6,"db","2019-02-01","napol01",{"$f":"AND(E1954>=Kimutatás!B$2,E1954<=Kimutatás!B$3)","v":true}]
[1954,"Győr","006","Q1","2019-01-16","KKV hitelnövekmény (db)",0,"db","2019-02-01","napol01",{"$f":"AND(E1955>=Kimutatás!B$2,E1955<=Kimutatás!B$3)","v":true}]
[1955,"Győr","006","Q1","2019-01-16","KKV számlanyitás",2,"db","2019-02-01","napol01",{"$f":"AND(E1956>=Kimutatás!B$2,E1956<=Kimutatás!B$3)","v":true}]
[1956,"Győr","006","Q1","2019-01-16","Betét állomány növekmény",44,"Mhuf","2019-02-01","napol01",{"$f":"AND(E1957>=Kimutatás!B$2,E1957<=Kimutatás!B$3)","v":true}]
[1957,"Győr","006","Q1","2019-01-17","Betérő ügyfelek",16,"fő","2019-02-01","napol01",{"$f":"AND(E1958>=Kimutatás!B$2,E1958<=Kimutatás!B$3)","v":true}]
[1958,"Győr","006","Q1","2019-01-17","Lakossági hitelnövekmény összege ",11,"Mhuf","2019-02-01","napol01",{"$f":"AND(E1959>=Kimutatás!B$2,E1959<=Kimutatás!B$3)","v":true}]
[1959,"Győr","006","Q1","2019-01-17","Lakossági számlanyitás",7,"db","2019-02-01","napol01",{"$f":"AND(E1960>=Kimutatás!B$2,E1960<=Kimutatás!B$3)","v":true}]
[1960,"Győr","006","Q1","2019-01-17","KKV hitelnövekmény (db)",1,"db","2019-02-01","napol01",{"$f":"AND(E1961>=Kimutatás!B$2,E1961<=Kimutatás!B$3)","v":true}]
[1961,"Győr","006","Q1","2019-01-17","KKV számlanyitás",-5,"db","2019-02-01","napol01",{"$f":"AND(E1962>=Kimutatás!B$2,E1962<=Kimutatás!B$3)","v":true}]
[1962,"Győr","006","Q1","2019-01-17","Betét állomány növekmény",47,"Mhuf","2019-02-01","napol01",{"$f":"AND(E1963>=Kimutatás!B$2,E1963<=Kimutatás!B$3)","v":true}]
[1963,"Győr","006","Q1","2019-01-20","Betérő ügyfelek",39,"fő","2019-02-01","napol01",{"$f":"AND(E1964>=Kimutatás!B$2,E1964<=Kimutatás!B$3)","v":true}]
[1964,"Győr","006","Q1","2019-01-20","Lakossági hitelnövekmény összege ",8,"Mhuf","2019-02-01","napol01",{"$f":"AND(E1965>=Kimutatás!B$2,E1965<=Kimutatás!B$3)","v":true}]
[1965,"Győr","006","Q1","2019-01-20","Lakossági számlanyitás",-4,"db","2019-02-01","napol01",{"$f":"AND(E1966>=Kimutatás!B$2,E1966<=Kimutatás!B$3)","v":true}]
[1966,"Győr","006","Q1","2019-01-20","KKV hitelnövekmény (db)",-1,"db","2019-02-01","napol01",{"$f":"AND(E1967>=Kimutatás!B$2,E1967<=Kimutatás!B$3)","v":true}]
[1967,"Győr","006","Q1","2019-01-20","KKV számlanyitás",4,"db","2019-02-01","napol01",{"$f":"AND(E1968>=Kimutatás!B$2,E1968<=Kimutatás!B$3)","v":true}]
[1968,"Győr","006","Q1","2019-01-20","Betét állomány növekmény",-9,"Mhuf","2019-02-01","napol01",{"$f":"AND(E1969>=Kimutatás!B$2,E1969<=Kimutatás!B$3)","v":true}]
[1969,"Győr","006","Q1","2019-01-21","Betérő ügyfelek",19,"fő","2019-02-01","napol01",{"$f":"AND(E1970>=Kimutatás!B$2,E1970<=Kimutatás!B$3)","v":true}]
[1970,"Győr","006","Q1","2019-01-21","Lakossági hitelnövekmény összege ",17,"Mhuf","2019-02-01","napol01",{"$f":"AND(E1971>=Kimutatás!B$2,E1971<=Kimutatás!B$3)","v":true}]
[1971,"Győr","006","Q1","2019-01-21","Lakossági számlanyitás",-2,"db","2019-02-01","napol01",{"$f":"AND(E1972>=Kimutatás!B$2,E1972<=Kimutatás!B$3)","v":true}]
[1972,"Győr","006","Q1","2019-01-21","KKV hitelnövekmény (db)",-2,"db","2019-02-01","napol01",{"$f":"AND(E1973>=Kimutatás!B$2,E1973<=Kimutatás!B$3)","v":true}]
[1973,"Győr","006","Q1","2019-01-21","KKV számlanyitás",1,"db","2019-02-01","napol01",{"$f":"AND(E1974>=Kimutatás!B$2,E1974<=Kimutatás!B$3)","v":true}]
[1974,"Győr","006","Q1","2019-01-21","Betét állomány növekmény",2,"Mhuf","2019-02-01","napol01",{"$f":"AND(E1975>=Kimutatás!B$2,E1975<=Kimutatás!B$3)","v":true}]
[1975,"Győr","006","Q1","2019-01-22","Betérő ügyfelek",27,"fő","2019-02-01","napol01",{"$f":"AND(E1976>=Kimutatás!B$2,E1976<=Kimutatás!B$3)","v":true}]
[1976,"Győr","006","Q1","2019-01-22","Lakossági hitelnövekmény összege ",45,"Mhuf","2019-02-01","napol01",{"$f":"AND(E1977>=Kimutatás!B$2,E1977<=Kimutatás!B$3)","v":true}]
[1977,"Győr","006","Q1","2019-01-22","Lakossági számlanyitás",0,"db","2019-02-01","napol01",{"$f":"AND(E1978>=Kimutatás!B$2,E1978<=Kimutatás!B$3)","v":true}]
[1978,"Győr","006","Q1","2019-01-22","KKV hitelnövekmény (db)",-2,"db","2019-02-01","napol01",{"$f":"AND(E1979>=Kimutatás!B$2,E1979<=Kimutatás!B$3)","v":true}]
[1979,"Győr","006","Q1","2019-01-22","KKV számlanyitás",0,"db","2019-02-01","napol01",{"$f":"AND(E1980>=Kimutatás!B$2,E1980<=Kimutatás!B$3)","v":true}]
[1980,"Győr","006","Q1","2019-01-22","Betét állomány növekmény",-18,"Mhuf","2019-02-01","napol01",{"$f":"AND(E1981>=Kimutatás!B$2,E1981<=Kimutatás!B$3)","v":true}]
[1981,"Győr","006","Q1","2019-01-23","Betérő ügyfelek",15,"fő","2019-02-01","napol01",{"$f":"AND(E1982>=Kimutatás!B$2,E1982<=Kimutatás!B$3)","v":true}]
[1982,"Győr","006","Q1","2019-01-23","Lakossági hitelnövekmény összege ",28,"Mhuf","2019-02-01","napol01",{"$f":"AND(E1983>=Kimutatás!B$2,E1983<=Kimutatás!B$3)","v":true}]
[1983,"Győr","006","Q1","2019-01-23","Lakossági számlanyitás",7,"db","2019-02-01","napol01",{"$f":"AND(E1984>=Kimutatás!B$2,E1984<=Kimutatás!B$3)","v":true}]
[1984,"Győr","006","Q1","2019-01-23","KKV hitelnövekmény (db)",-2,"db","2019-02-01","napol01",{"$f":"AND(E1985>=Kimutatás!B$2,E1985<=Kimutatás!B$3)","v":true}]
[1985,"Győr","006","Q1","2019-01-23","KKV számlanyitás",-2,"db","2019-02-01","napol01",{"$f":"AND(E1986>=Kimutatás!B$2,E1986<=Kimutatás!B$3)","v":true}]
[1986,"Győr","006","Q1","2019-01-23","Betét állomány növekmény",-6,"Mhuf","2019-02-01","napol01",{"$f":"AND(E1987>=Kimutatás!B$2,E1987<=Kimutatás!B$3)","v":true}]
[1987,"Győr","006","Q1","2019-01-24","Betérő ügyfelek",43,"fő","2019-02-01","napol01",{"$f":"AND(E1988>=Kimutatás!B$2,E1988<=Kimutatás!B$3)","v":true}]
[1988,"Győr","006","Q1","2019-01-24","Lakossági hitelnövekmény összege ",27,"Mhuf","2019-02-01","napol01",{"$f":"AND(E1989>=Kimutatás!B$2,E1989<=Kimutatás!B$3)","v":true}]
[1989,"Győr","006","Q1","2019-01-24","Lakossági számlanyitás",5,"db","2019-02-01","napol01",{"$f":"AND(E1990>=Kimutatás!B$2,E1990<=Kimutatás!B$3)","v":true}]
[1990,"Győr","006","Q1","2019-01-24","KKV hitelnövekmény (db)",0,"db","2019-02-01","napol01",{"$f":"AND(E1991>=Kimutatás!B$2,E1991<=Kimutatás!B$3)","v":true}]
[1991,"Győr","006","Q1","2019-01-24","KKV számlanyitás",4,"db","2019-02-01","napol01",{"$f":"AND(E1992>=Kimutatás!B$2,E1992<=Kimutatás!B$3)","v":true}]
[1992,"Győr","006","Q1","2019-01-24","Betét állomány növekmény",29,"Mhuf","2019-02-01","napol01",{"$f":"AND(E1993>=Kimutatás!B$2,E1993<=Kimutatás!B$3)","v":true}]
[1993,"Győr","006","Q1","2019-01-27","Betérő ügyfelek",8,"fő","2019-02-01","napol01",{"$f":"AND(E1994>=Kimutatás!B$2,E1994<=Kimutatás!B$3)","v":true}]
[1994,"Győr","006","Q1","2019-01-27","Lakossági hitelnövekmény összege ",-10,"Mhuf","2019-02-01","napol01",{"$f":"AND(E1995>=Kimutatás!B$2,E1995<=Kimutatás!B$3)","v":true}]
[1995,"Győr","006","Q1","2019-01-27","Lakossági számlanyitás",1,"db","2019-02-01","napol01",{"$f":"AND(E1996>=Kimutatás!B$2,E1996<=Kimutatás!B$3)","v":true}]
[1996,"Győr","006","Q1","2019-01-27","KKV hitelnövekmény (db)",1,"db","2019-02-01","napol01",{"$f":"AND(E1997>=Kimutatás!B$2,E1997<=Kimutatás!B$3)","v":true}]
[1997,"Győr","006","Q1","2019-01-27","KKV számlanyitás",-4,"db","2019-02-01","napol01",{"$f":"AND(E1998>=Kimutatás!B$2,E1998<=Kimutatás!B$3)","v":true}]
[1998,"Győr","006","Q1","2019-01-27","Betét állomány növekmény",26,"Mhuf","2019-02-01","napol01",{"$f":"AND(E1999>=Kimutatás!B$2,E1999<=Kimutatás!B$3)","v":true}]
[1999,"Győr","006","Q1","2019-01-28","Betérő ügyfelek",17,"fő","2019-02-01","napol01",{"$f":"AND(E2000>=Kimutatás!B$2,E2000<=Kimutatás!B$3)","v":true}]
[2000,"Győr","006","Q1","2019-01-28","Lakossági hitelnövekmény összege ",15,"Mhuf","2019-02-01","napol01",{"$f":"AND(E2001>=Kimutatás!B$2,E2001<=Kimutatás!B$3)","v":true}]
[2001,"Győr","006","Q1","2019-01-28","Lakossági számlanyitás",8,"db","2019-02-01","napol01",{"$f":"AND(E2002>=Kimutatás!B$2,E2002<=Kimutatás!B$3)","v":true}]
[2002,"Győr","006","Q1","2019-01-28","KKV hitelnövekmény (db)",2,"db","2019-02-01","napol01",{"$f":"AND(E2003>=Kimutatás!B$2,E2003<=Kimutatás!B$3)","v":true}]
[2003,"Győr","006","Q1","2019-01-28","KKV számlanyitás",-5,"db","2019-02-01","napol01",{"$f":"AND(E2004>=Kimutatás!B$2,E2004<=Kimutatás!B$3)","v":true}]
[2004,"Győr","006","Q1","2019-01-28","Betét állomány növekmény",32,"Mhuf","2019-02-01","napol01",{"$f":"AND(E2005>=Kimutatás!B$2,E2005<=Kimutatás!B$3)","v":true}]
[2005,"Győr","006","Q1","2019-01-29","Betérő ügyfelek",20,"fő","2019-02-01","napol01",{"$f":"AND(E2006>=Kimutatás!B$2,E2006<=Kimutatás!B$3)","v":true}]
[2006,"Győr","006","Q1","2019-01-29","Lakossági hitelnövekmény összege ",17,"Mhuf","2019-02-01","napol01",{"$f":"AND(E2007>=Kimutatás!B$2,E2007<=Kimutatás!B$3)","v":true}]
[2007,"Győr","006","Q1","2019-01-29","Lakossági számlanyitás",1,"db","2019-02-01","napol01",{"$f":"AND(E2008>=Kimutatás!B$2,E2008<=Kimutatás!B$3)","v":true}]
[2008,"Győr","006","Q1","2019-01-29","KKV hitelnövekmény (db)",1,"db","2019-02-01","napol01",{"$f":"AND(E2009>=Kimutatás!B$2,E2009<=Kimutatás!B$3)","v":true}]
[2009,"Győr","006","Q1","2019-01-29","KKV számlanyitás",-3,"db","2019-02-01","napol01",{"$f":"AND(E2010>=Kimutatás!B$2,E2010<=Kimutatás!B$3)","v":true}]
[2010,"Győr","006","Q1","2019-01-29","Betét állomány növekmény",10,"Mhuf","2019-02-01","napol01",{"$f":"AND(E2011>=Kimutatás!B$2,E2011<=Kimutatás!B$3)","v":true}]
[2011,"Győr","006","Q1","2019-01-30","Betérő ügyfelek",31,"fő","2019-02-01","napol01",{"$f":"AND(E2012>=Kimutatás!B$2,E2012<=Kimutatás!B$3)","v":true}]
[2012,"Győr","006","Q1","2019-01-30","Lakossági hitelnövekmény összege ",9,"Mhuf","2019-02-01","napol01",{"$f":"AND(E2013>=Kimutatás!B$2,E2013<=Kimutatás!B$3)","v":true}]
[2013,"Győr","006","Q1","2019-01-30","Lakossági számlanyitás",8,"db","2019-02-01","napol01",{"$f":"AND(E2014>=Kimutatás!B$2,E2014<=Kimutatás!B$3)","v":true}]
[2014,"Győr","006","Q1","2019-01-30","KKV hitelnövekmény (db)",1,"db","2019-02-01","napol01",{"$f":"AND(E2015>=Kimutatás!B$2,E2015<=Kimutatás!B$3)","v":true}]
[2015,"Győr","006","Q1","2019-01-30","KKV számlanyitás",2,"db","2019-02-01","napol01",{"$f":"AND(E2016>=Kimutatás!B$2,E2016<=Kimutatás!B$3)","v":true}]
[2016,"Győr","006","Q1","2019-01-30","Betét állomány növekmény",6,"Mhuf","2019-02-01","napol01",{"$f":"AND(E2017>=Kimutatás!B$2,E2017<=Kimutatás!B$3)","v":true}]
[2017,"Győr","006","Q1","2019-01-31","Betérő ügyfelek",42,"fő","2019-02-01","napol01",{"$f":"AND(E2018>=Kimutatás!B$2,E2018<=Kimutatás!B$3)","v":true}]
[2018,"Győr","006","Q1","2019-01-31","Lakossági hitelnövekmény összege ",33,"Mhuf","2019-02-01","napol01",{"$f":"AND(E2019>=Kimutatás!B$2,E2019<=Kimutatás!B$3)","v":true}]
[2019,"Győr","006","Q1","2019-01-31","Lakossági számlanyitás",4,"db","2019-02-01","napol01",{"$f":"AND(E2020>=Kimutatás!B$2,E2020<=Kimutatás!B$3)","v":true}]
[2020,"Győr","006","Q1","2019-01-31","KKV hitelnövekmény (db)",-2,"db","2019-02-01","napol01",{"$f":"AND(E2021>=Kimutatás!B$2,E2021<=Kimutatás!B$3)","v":true}]
[2021,"Győr","006","Q1","2019-01-31","KKV számlanyitás",3,"db","2019-02-01","napol01",{"$f":"AND(E2022>=Kimutatás!B$2,E2022<=Kimutatás!B$3)","v":true}]
[2022,"Győr","006","Q1","2019-01-31","Betét állomány növekmény",14,"Mhuf","2019-02-01","napol01",{"$f":"AND(E2023>=Kimutatás!B$2,E2023<=Kimutatás!B$3)","v":true}]
[2023,"Győr","006","Q1","2019-02-03","Betérő ügyfelek",2,"fő","2019-03-01","hien000",{"$f":"AND(E2024>=Kimutatás!B$2,E2024<=Kimutatás!B$3)","v":true}]
[2024,"Győr","006","Q1","2019-02-03","Lakossági hitelnövekmény összege ",26,"Mhuf","2019-03-01","hien000",{"$f":"AND(E2025>=Kimutatás!B$2,E2025<=Kimutatás!B$3)","v":true}]
[2025,"Győr","006","Q1","2019-02-03","Lakossági számlanyitás",-1,"db","2019-03-01","hien000",{"$f":"AND(E2026>=Kimutatás!B$2,E2026<=Kimutatás!B$3)","v":true}]
[2026,"Győr","006","Q1","2019-02-03","KKV hitelnövekmény (db)",2,"db","2019-03-01","hien000",{"$f":"AND(E2027>=Kimutatás!B$2,E2027<=Kimutatás!B$3)","v":true}]
[2027,"Győr","006","Q1","2019-02-03","KKV számlanyitás",-2,"db","2019-03-01","hien000",{"$f":"AND(E2028>=Kimutatás!B$2,E2028<=Kimutatás!B$3)","v":true}]
[2028,"Győr","006","Q1","2019-02-03","Betét állomány növekmény",19,"Mhuf","2019-03-01","hien000",{"$f":"AND(E2029>=Kimutatás!B$2,E2029<=Kimutatás!B$3)","v":true}]
[2029,"Győr","006","Q1","2019-02-04","Betérő ügyfelek",5,"fő","2019-03-01","hien000",{"$f":"AND(E2030>=Kimutatás!B$2,E2030<=Kimutatás!B$3)","v":true}]
[2030,"Győr","006","Q1","2019-02-04","Lakossági hitelnövekmény összege ",1,"Mhuf","2019-03-01","hien000",{"$f":"AND(E2031>=Kimutatás!B$2,E2031<=Kimutatás!B$3)","v":true}]
[2031,"Győr","006","Q1","2019-02-04","Lakossági számlanyitás",10,"db","2019-03-01","hien000",{"$f":"AND(E2032>=Kimutatás!B$2,E2032<=Kimutatás!B$3)","v":true}]
[2032,"Győr","006","Q1","2019-02-04","KKV hitelnövekmény (db)",1,"db","2019-03-01","hien000",{"$f":"AND(E2033>=Kimutatás!B$2,E2033<=Kimutatás!B$3)","v":true}]
[2033,"Győr","006","Q1","2019-02-04","KKV számlanyitás",-4,"db","2019-03-01","hien000",{"$f":"AND(E2034>=Kimutatás!B$2,E2034<=Kimutatás!B$3)","v":true}]
[2034,"Győr","006","Q1","2019-02-04","Betét állomány növekmény",28,"Mhuf","2019-03-01","hien000",{"$f":"AND(E2035>=Kimutatás!B$2,E2035<=Kimutatás!B$3)","v":true}]
[2035,"Győr","006","Q1","2019-02-05","Betérő ügyfelek",25,"fő","2019-03-01","hien000",{"$f":"AND(E2036>=Kimutatás!B$2,E2036<=Kimutatás!B$3)","v":true}]
[2036,"Győr","006","Q1","2019-02-05","Lakossági hitelnövekmény összege ",-4,"Mhuf","2019-03-01","hien000",{"$f":"AND(E2037>=Kimutatás!B$2,E2037<=Kimutatás!B$3)","v":true}]
[2037,"Győr","006","Q1","2019-02-05","Lakossági számlanyitás",-5,"db","2019-03-01","hien000",{"$f":"AND(E2038>=Kimutatás!B$2,E2038<=Kimutatás!B$3)","v":true}]
[2038,"Győr","006","Q1","2019-02-05","KKV hitelnövekmény (db)",2,"db","2019-03-01","hien000",{"$f":"AND(E2039>=Kimutatás!B$2,E2039<=Kimutatás!B$3)","v":true}]
[2039,"Győr","006","Q1","2019-02-05","KKV számlanyitás",-1,"db","2019-03-01","hien000",{"$f":"AND(E2040>=Kimutatás!B$2,E2040<=Kimutatás!B$3)","v":true}]
[2040,"Győr","006","Q1","2019-02-05","Betét állomány növekmény",40,"Mhuf","2019-03-01","hien000",{"$f":"AND(E2041>=Kimutatás!B$2,E2041<=Kimutatás!B$3)","v":true}]
[2041,"Győr","006","Q1","2019-02-06","Betérő ügyfelek",7,"fő","2019-03-01","hien000",{"$f":"AND(E2042>=Kimutatás!B$2,E2042<=Kimutatás!B$3)","v":true}]
[2042,"Győr","006","Q1","2019-02-06","Lakossági hitelnövekmény összege ",28,"Mhuf","2019-03-01","hien000",{"$f":"AND(E2043>=Kimutatás!B$2,E2043<=Kimutatás!B$3)","v":true}]
[2043,"Győr","006","Q1","2019-02-06","Lakossági számlanyitás",8,"db","2019-03-01","hien000",{"$f":"AND(E2044>=Kimutatás!B$2,E2044<=Kimutatás!B$3)","v":true}]
[2044,"Győr","006","Q1","2019-02-06","KKV hitelnövekmény (db)",-2,"db","2019-03-01","hien000",{"$f":"AND(E2045>=Kimutatás!B$2,E2045<=Kimutatás!B$3)","v":true}]
[2045,"Győr","006","Q1","2019-02-06","KKV számlanyitás",-4,"db","2019-03-01","hien000",{"$f":"AND(E2046>=Kimutatás!B$2,E2046<=Kimutatás!B$3)","v":true}]
[2046,"Győr","006","Q1","2019-02-06","Betét állomány növekmény",44,"Mhuf","2019-03-01","hien000",{"$f":"AND(E2047>=Kimutatás!B$2,E2047<=Kimutatás!B$3)","v":true}]
[2047,"Győr","006","Q1","2019-02-07","Betérő ügyfelek",42,"fő","2019-03-01","hien000",{"$f":"AND(E2048>=Kimutatás!B$2,E2048<=Kimutatás!B$3)","v":true}]
[2048,"Győr","006","Q1","2019-02-07","Lakossági hitelnövekmény összege ",12,"Mhuf","2019-03-01","hien000",{"$f":"AND(E2049>=Kimutatás!B$2,E2049<=Kimutatás!B$3)","v":true}]
[2049,"Győr","006","Q1","2019-02-07","Lakossági számlanyitás",1,"db","2019-03-01","hien000",{"$f":"AND(E2050>=Kimutatás!B$2,E2050<=Kimutatás!B$3)","v":true}]
[2050,"Győr","006","Q1","2019-02-07","KKV hitelnövekmény (db)",2,"db","2019-03-01","hien000",{"$f":"AND(E2051>=Kimutatás!B$2,E2051<=Kimutatás!B$3)","v":true}]
[2051,"Győr","006","Q1","2019-02-07","KKV számlanyitás",-2,"db","2019-03-01","hien000",{"$f":"AND(E2052>=Kimutatás!B$2,E2052<=Kimutatás!B$3)","v":true}]
[2052,"Győr","006","Q1","2019-02-07","Betét állomány növekmény",6,"Mhuf","2019-03-01","hien000",{"$f":"AND(E2053>=Kimutatás!B$2,E2053<=Kimutatás!B$3)","v":true}]
[2053,"Győr","006","Q1","2019-02-10","Betérő ügyfelek",47,"fő","2019-03-01","hien000",{"$f":"AND(E2054>=Kimutatás!B$2,E2054<=Kimutatás!B$3)","v":true}]
[2054,"Győr","006","Q1","2019-02-10","Lakossági hitelnövekmény összege ",-2,"Mhuf","2019-03-01","hien000",{"$f":"AND(E2055>=Kimutatás!B$2,E2055<=Kimutatás!B$3)","v":true}]
[2055,"Győr","006","Q1","2019-02-10","Lakossági számlanyitás",-5,"db","2019-03-01","hien000",{"$f":"AND(E2056>=Kimutatás!B$2,E2056<=Kimutatás!B$3)","v":true}]
[2056,"Győr","006","Q1","2019-02-10","KKV hitelnövekmény (db)",-1,"db","2019-03-01","hien000",{"$f":"AND(E2057>=Kimutatás!B$2,E2057<=Kimutatás!B$3)","v":true}]
[2057,"Győr","006","Q1","2019-02-10","KKV számlanyitás",1,"db","2019-03-01","hien000",{"$f":"AND(E2058>=Kimutatás!B$2,E2058<=Kimutatás!B$3)","v":true}]
[2058,"Győr","006","Q1","2019-02-10","Betét állomány növekmény",48,"Mhuf","2019-03-01","hien000",{"$f":"AND(E2059>=Kimutatás!B$2,E2059<=Kimutatás!B$3)","v":true}]
[2059,"Győr","006","Q1","2019-02-11","Betérő ügyfelek",14,"fő","2019-03-01","hien000",{"$f":"AND(E2060>=Kimutatás!B$2,E2060<=Kimutatás!B$3)","v":true}]
[2060,"Győr","006","Q1","2019-02-11","Lakossági hitelnövekmény összege ",36,"Mhuf","2019-03-01","hien000",{"$f":"AND(E2061>=Kimutatás!B$2,E2061<=Kimutatás!B$3)","v":true}]
[2061,"Győr","006","Q1","2019-02-11","Lakossági számlanyitás",7,"db","2019-03-01","hien000",{"$f":"AND(E2062>=Kimutatás!B$2,E2062<=Kimutatás!B$3)","v":true}]
[2062,"Győr","006","Q1","2019-02-11","KKV hitelnövekmény (db)",0,"db","2019-03-01","hien000",{"$f":"AND(E2063>=Kimutatás!B$2,E2063<=Kimutatás!B$3)","v":true}]
[2063,"Győr","006","Q1","2019-02-11","KKV számlanyitás",0,"db","2019-03-01","hien000",{"$f":"AND(E2064>=Kimutatás!B$2,E2064<=Kimutatás!B$3)","v":true}]
[2064,"Győr","006","Q1","2019-02-11","Betét állomány növekmény",16,"Mhuf","2019-03-01","hien000",{"$f":"AND(E2065>=Kimutatás!B$2,E2065<=Kimutatás!B$3)","v":true}]
[2065,"Győr","006","Q1","2019-02-12","Betérő ügyfelek",41,"fő","2019-03-01","hien000",{"$f":"AND(E2066>=Kimutatás!B$2,E2066<=Kimutatás!B$3)","v":true}]
[2066,"Győr","006","Q1","2019-02-12","Lakossági hitelnövekmény összege ",7,"Mhuf","2019-03-01","hien000",{"$f":"AND(E2067>=Kimutatás!B$2,E2067<=Kimutatás!B$3)","v":true}]
[2067,"Győr","006","Q1","2019-02-12","Lakossági számlanyitás",10,"db","2019-03-01","hien000",{"$f":"AND(E2068>=Kimutatás!B$2,E2068<=Kimutatás!B$3)","v":true}]
[2068,"Győr","006","Q1","2019-02-12","KKV hitelnövekmény (db)",1,"db","2019-03-01","hien000",{"$f":"AND(E2069>=Kimutatás!B$2,E2069<=Kimutatás!B$3)","v":true}]
[2069,"Győr","006","Q1","2019-02-12","KKV számlanyitás",-5,"db","2019-03-01","hien000",{"$f":"AND(E2070>=Kimutatás!B$2,E2070<=Kimutatás!B$3)","v":true}]
[2070,"Győr","006","Q1","2019-02-12","Betét állomány növekmény",44,"Mhuf","2019-03-01","hien000",{"$f":"AND(E2071>=Kimutatás!B$2,E2071<=Kimutatás!B$3)","v":true}]
[2071,"Győr","006","Q1","2019-02-13","Betérő ügyfelek",40,"fő","2019-03-01","hien000",{"$f":"AND(E2072>=Kimutatás!B$2,E2072<=Kimutatás!B$3)","v":true}]
[2072,"Győr","006","Q1","2019-02-13","Lakossági hitelnövekmény összege ",-6,"Mhuf","2019-03-01","hien000",{"$f":"AND(E2073>=Kimutatás!B$2,E2073<=Kimutatás!B$3)","v":true}]
[2073,"Győr","006","Q1","2019-02-13","Lakossági számlanyitás",0,"db","2019-03-01","hien000",{"$f":"AND(E2074>=Kimutatás!B$2,E2074<=Kimutatás!B$3)","v":true}]
[2074,"Győr","006","Q1","2019-02-13","KKV hitelnövekmény (db)",2,"db","2019-03-01","hien000",{"$f":"AND(E2075>=Kimutatás!B$2,E2075<=Kimutatás!B$3)","v":true}]
[2075,"Győr","006","Q1","2019-02-13","KKV számlanyitás",-5,"db","2019-03-01","hien000",{"$f":"AND(E2076>=Kimutatás!B$2,E2076<=Kimutatás!B$3)","v":true}]
[2076,"Győr","006","Q1","2019-02-13","Betét állomány növekmény",48,"Mhuf","2019-03-01","hien000",{"$f":"AND(E2077>=Kimutatás!B$2,E2077<=Kimutatás!B$3)","v":true}]
[2077,"Győr","006","Q1","2019-02-14","Betérő ügyfelek",15,"fő","2019-03-01","hien000",{"$f":"AND(E2078>=Kimutatás!B$2,E2078<=Kimutatás!B$3)","v":true}]
[2078,"Győr","006","Q1","2019-02-14","Lakossági hitelnövekmény összege ",-9,"Mhuf","2019-03-01","hien000",{"$f":"AND(E2079>=Kimutatás!B$2,E2079<=Kimutatás!B$3)","v":true}]
[2079,"Győr","006","Q1","2019-02-14","Lakossági számlanyitás",7,"db","2019-03-01","hien000",{"$f":"AND(E2080>=Kimutatás!B$2,E2080<=Kimutatás!B$3)","v":true}]
[2080,"Győr","006","Q1","2019-02-14","KKV hitelnövekmény (db)",2,"db","2019-03-01","hien000",{"$f":"AND(E2081>=Kimutatás!B$2,E2081<=Kimutatás!B$3)","v":true}]
[2081,"Győr","006","Q1","2019-02-14","KKV számlanyitás",5,"db","2019-03-01","hien000",{"$f":"AND(E2082>=Kimutatás!B$2,E2082<=Kimutatás!B$3)","v":true}]
[2082,"Győr","006","Q1","2019-02-14","Betét állomány növekmény",28,"Mhuf","2019-03-01","hien000",{"$f":"AND(E2083>=Kimutatás!B$2,E2083<=Kimutatás!B$3)","v":true}]
[2083,"Győr","006","Q1","2019-02-17","Betérő ügyfelek",26,"fő","2019-03-01","hien000",{"$f":"AND(E2084>=Kimutatás!B$2,E2084<=Kimutatás!B$3)","v":true}]
[2084,"Győr","006","Q1","2019-02-17","Lakossági hitelnövekmény összege ",-5,"Mhuf","2019-03-01","hien000",{"$f":"AND(E2085>=Kimutatás!B$2,E2085<=Kimutatás!B$3)","v":true}]
[2085,"Győr","006","Q1","2019-02-17","Lakossági számlanyitás",0,"db","2019-03-01","hien000",{"$f":"AND(E2086>=Kimutatás!B$2,E2086<=Kimutatás!B$3)","v":true}]
[2086,"Győr","006","Q1","2019-02-17","KKV hitelnövekmény (db)",1,"db","2019-03-01","hien000",{"$f":"AND(E2087>=Kimutatás!B$2,E2087<=Kimutatás!B$3)","v":true}]
[2087,"Győr","006","Q1","2019-02-17","KKV számlanyitás",-3,"db","2019-03-01","hien000",{"$f":"AND(E2088>=Kimutatás!B$2,E2088<=Kimutatás!B$3)","v":true}]
[2088,"Győr","006","Q1","2019-02-17","Betét állomány növekmény",15,"Mhuf","2019-03-01","hien000",{"$f":"AND(E2089>=Kimutatás!B$2,E2089<=Kimutatás!B$3)","v":true}]
[2089,"Győr","006","Q1","2019-02-18","Betérő ügyfelek",49,"fő","2019-03-01","hien000",{"$f":"AND(E2090>=Kimutatás!B$2,E2090<=Kimutatás!B$3)","v":true}]
[2090,"Győr","006","Q1","2019-02-18","Lakossági hitelnövekmény összege ",34,"Mhuf","2019-03-01","hien000",{"$f":"AND(E2091>=Kimutatás!B$2,E2091<=Kimutatás!B$3)","v":true}]
[2091,"Győr","006","Q1","2019-02-18","Lakossági számlanyitás",-3,"db","2019-03-01","hien000",{"$f":"AND(E2092>=Kimutatás!B$2,E2092<=Kimutatás!B$3)","v":true}]
[2092,"Győr","006","Q1","2019-02-18","KKV hitelnövekmény (db)",1,"db","2019-03-01","hien000",{"$f":"AND(E2093>=Kimutatás!B$2,E2093<=Kimutatás!B$3)","v":true}]
[2093,"Győr","006","Q1","2019-02-18","KKV számlanyitás",0,"db","2019-03-01","hien000",{"$f":"AND(E2094>=Kimutatás!B$2,E2094<=Kimutatás!B$3)","v":true}]
[2094,"Győr","006","Q1","2019-02-18","Betét állomány növekmény",-19,"Mhuf","2019-03-01","hien000",{"$f":"AND(E2095>=Kimutatás!B$2,E2095<=Kimutatás!B$3)","v":true}]
[2095,"Győr","006","Q1","2019-02-19","Betérő ügyfelek",7,"fő","2019-03-01","hien000",{"$f":"AND(E2096>=Kimutatás!B$2,E2096<=Kimutatás!B$3)","v":true}]
[2096,"Győr","006","Q1","2019-02-19","Lakossági hitelnövekmény összege ",28,"Mhuf","2019-03-01","hien000",{"$f":"AND(E2097>=Kimutatás!B$2,E2097<=Kimutatás!B$3)","v":true}]
[2097,"Győr","006","Q1","2019-02-19","Lakossági számlanyitás",8,"db","2019-03-01","hien000",{"$f":"AND(E2098>=Kimutatás!B$2,E2098<=Kimutatás!B$3)","v":true}]
[2098,"Győr","006","Q1","2019-02-19","KKV hitelnövekmény (db)",-1,"db","2019-03-01","hien000",{"$f":"AND(E2099>=Kimutatás!B$2,E2099<=Kimutatás!B$3)","v":true}]
[2099,"Győr","006","Q1","2019-02-19","KKV számlanyitás",-1,"db","2019-03-01","hien000",{"$f":"AND(E2100>=Kimutatás!B$2,E2100<=Kimutatás!B$3)","v":true}]
[2100,"Győr","006","Q1","2019-02-19","Betét állomány növekmény",47,"Mhuf","2019-03-01","hien000",{"$f":"AND(E2101>=Kimutatás!B$2,E2101<=Kimutatás!B$3)","v":true}]
[2101,"Győr","006","Q1","2019-02-20","Betérő ügyfelek",12,"fő","2019-03-01","hien000",{"$f":"AND(E2102>=Kimutatás!B$2,E2102<=Kimutatás!B$3)","v":true}]
[2102,"Győr","006","Q1","2019-02-20","Lakossági hitelnövekmény összege ",-6,"Mhuf","2019-03-01","hien000",{"$f":"AND(E2103>=Kimutatás!B$2,E2103<=Kimutatás!B$3)","v":true}]
[2103,"Győr","006","Q1","2019-02-20","Lakossági számlanyitás",1,"db","2019-03-01","hien000",{"$f":"AND(E2104>=Kimutatás!B$2,E2104<=Kimutatás!B$3)","v":true}]
[2104,"Győr","006","Q1","2019-02-20","KKV hitelnövekmény (db)",-2,"db","2019-03-01","hien000",{"$f":"AND(E2105>=Kimutatás!B$2,E2105<=Kimutatás!B$3)","v":true}]
[2105,"Győr","006","Q1","2019-02-20","KKV számlanyitás",4,"db","2019-03-01","hien000",{"$f":"AND(E2106>=Kimutatás!B$2,E2106<=Kimutatás!B$3)","v":true}]
[2106,"Győr","006","Q1","2019-02-20","Betét állomány növekmény",45,"Mhuf","2019-03-01","hien000",{"$f":"AND(E2107>=Kimutatás!B$2,E2107<=Kimutatás!B$3)","v":true}]
[2107,"Győr","006","Q1","2019-02-21","Betérő ügyfelek",45,"fő","2019-03-01","hien000",{"$f":"AND(E2108>=Kimutatás!B$2,E2108<=Kimutatás!B$3)","v":true}]
[2108,"Győr","006","Q1","2019-02-21","Lakossági hitelnövekmény összege ",1,"Mhuf","2019-03-01","hien000",{"$f":"AND(E2109>=Kimutatás!B$2,E2109<=Kimutatás!B$3)","v":true}]
[2109,"Győr","006","Q1","2019-02-21","Lakossági számlanyitás",-3,"db","2019-03-01","hien000",{"$f":"AND(E2110>=Kimutatás!B$2,E2110<=Kimutatás!B$3)","v":true}]
[2110,"Győr","006","Q1","2019-02-21","KKV hitelnövekmény (db)",1,"db","2019-03-01","hien000",{"$f":"AND(E2111>=Kimutatás!B$2,E2111<=Kimutatás!B$3)","v":true}]
[2111,"Győr","006","Q1","2019-02-21","KKV számlanyitás",5,"db","2019-03-01","hien000",{"$f":"AND(E2112>=Kimutatás!B$2,E2112<=Kimutatás!B$3)","v":true}]
[2112,"Győr","006","Q1","2019-02-21","Betét állomány növekmény",-3,"Mhuf","2019-03-01","hien000",{"$f":"AND(E2113>=Kimutatás!B$2,E2113<=Kimutatás!B$3)","v":true}]
[2113,"Győr","006","Q1","2019-02-24","Betérő ügyfelek",31,"fő","2019-03-01","hien000",{"$f":"AND(E2114>=Kimutatás!B$2,E2114<=Kimutatás!B$3)","v":true}]
[2114,"Győr","006","Q1","2019-02-24","Lakossági hitelnövekmény összege ",50,"Mhuf","2019-03-01","hien000",{"$f":"AND(E2115>=Kimutatás!B$2,E2115<=Kimutatás!B$3)","v":true}]
[2115,"Győr","006","Q1","2019-02-24","Lakossági számlanyitás",-4,"db","2019-03-01","hien000",{"$f":"AND(E2116>=Kimutatás!B$2,E2116<=Kimutatás!B$3)","v":true}]
[2116,"Győr","006","Q1","2019-02-24","KKV hitelnövekmény (db)",-2,"db","2019-03-01","hien000",{"$f":"AND(E2117>=Kimutatás!B$2,E2117<=Kimutatás!B$3)","v":true}]
[2117,"Győr","006","Q1","2019-02-24","KKV számlanyitás",3,"db","2019-03-01","hien000",{"$f":"AND(E2118>=Kimutatás!B$2,E2118<=Kimutatás!B$3)","v":true}]
[2118,"Győr","006","Q1","2019-02-24","Betét állomány növekmény",43,"Mhuf","2019-03-01","hien000",{"$f":"AND(E2119>=Kimutatás!B$2,E2119<=Kimutatás!B$3)","v":true}]
[2119,"Győr","006","Q1","2019-02-25","Betérő ügyfelek",45,"fő","2019-03-01","hien000",{"$f":"AND(E2120>=Kimutatás!B$2,E2120<=Kimutatás!B$3)","v":true}]
[2120,"Győr","006","Q1","2019-02-25","Lakossági hitelnövekmény összege ",30,"Mhuf","2019-03-01","hien000",{"$f":"AND(E2121>=Kimutatás!B$2,E2121<=Kimutatás!B$3)","v":true}]
[2121,"Győr","006","Q1","2019-02-25","Lakossági számlanyitás",-1,"db","2019-03-01","hien000",{"$f":"AND(E2122>=Kimutatás!B$2,E2122<=Kimutatás!B$3)","v":true}]
[2122,"Győr","006","Q1","2019-02-25","KKV hitelnövekmény (db)",2,"db","2019-03-01","hien000",{"$f":"AND(E2123>=Kimutatás!B$2,E2123<=Kimutatás!B$3)","v":true}]
[2123,"Győr","006","Q1","2019-02-25","KKV számlanyitás",3,"db","2019-03-01","hien000",{"$f":"AND(E2124>=Kimutatás!B$2,E2124<=Kimutatás!B$3)","v":true}]
[2124,"Győr","006","Q1","2019-02-25","Betét állomány növekmény",-11,"Mhuf","2019-03-01","hien000",{"$f":"AND(E2125>=Kimutatás!B$2,E2125<=Kimutatás!B$3)","v":true}]
[2125,"Győr","006","Q1","2019-02-26","Betérő ügyfelek",33,"fő","2019-03-01","hien000",{"$f":"AND(E2126>=Kimutatás!B$2,E2126<=Kimutatás!B$3)","v":true}]
[2126,"Győr","006","Q1","2019-02-26","Lakossági hitelnövekmény összege ",9,"Mhuf","2019-03-01","hien000",{"$f":"AND(E2127>=Kimutatás!B$2,E2127<=Kimutatás!B$3)","v":true}]
[2127,"Győr","006","Q1","2019-02-26","Lakossági számlanyitás",1,"db","2019-03-01","hien000",{"$f":"AND(E2128>=Kimutatás!B$2,E2128<=Kimutatás!B$3)","v":true}]
[2128,"Győr","006","Q1","2019-02-26","KKV hitelnövekmény (db)",0,"db","2019-03-01","hien000",{"$f":"AND(E2129>=Kimutatás!B$2,E2129<=Kimutatás!B$3)","v":true}]
[2129,"Győr","006","Q1","2019-02-26","KKV számlanyitás",0,"db","2019-03-01","hien000",{"$f":"AND(E2130>=Kimutatás!B$2,E2130<=Kimutatás!B$3)","v":true}]
[2130,"Győr","006","Q1","2019-02-26","Betét állomány növekmény",26,"Mhuf","2019-03-01","hien000",{"$f":"AND(E2131>=Kimutatás!B$2,E2131<=Kimutatás!B$3)","v":true}]
[2131,"Győr","006","Q1","2019-02-27","Betérő ügyfelek",26,"fő","2019-03-01","hien000",{"$f":"AND(E2132>=Kimutatás!B$2,E2132<=Kimutatás!B$3)","v":true}]
[2132,"Győr","006","Q1","2019-02-27","Lakossági hitelnövekmény összege ",42,"Mhuf","2019-03-01","hien000",{"$f":"AND(E2133>=Kimutatás!B$2,E2133<=Kimutatás!B$3)","v":true}]
[2133,"Győr","006","Q1","2019-02-27","Lakossági számlanyitás",5,"db","2019-03-01","hien000",{"$f":"AND(E2134>=Kimutatás!B$2,E2134<=Kimutatás!B$3)","v":true}]
[2134,"Győr","006","Q1","2019-02-27","KKV hitelnövekmény (db)",-2,"db","2019-03-01","hien000",{"$f":"AND(E2135>=Kimutatás!B$2,E2135<=Kimutatás!B$3)","v":true}]
[2135,"Győr","006","Q1","2019-02-27","KKV számlanyitás",4,"db","2019-03-01","hien000",{"$f":"AND(E2136>=Kimutatás!B$2,E2136<=Kimutatás!B$3)","v":true}]
[2136,"Győr","006","Q1","2019-02-27","Betét állomány növekmény",41,"Mhuf","2019-03-01","hien000",{"$f":"AND(E2137>=Kimutatás!B$2,E2137<=Kimutatás!B$3)","v":true}]
[2137,"Győr","006","Q1","2019-02-28","Betérő ügyfelek",50,"fő","2019-03-01","hien000",{"$f":"AND(E2138>=Kimutatás!B$2,E2138<=Kimutatás!B$3)","v":true}]
[2138,"Győr","006","Q1","2019-02-28","Lakossági hitelnövekmény összege ",30,"Mhuf","2019-03-01","hien000",{"$f":"AND(E2139>=Kimutatás!B$2,E2139<=Kimutatás!B$3)","v":true}]
[2139,"Győr","006","Q1","2019-02-28","Lakossági számlanyitás",10,"db","2019-03-01","hien000",{"$f":"AND(E2140>=Kimutatás!B$2,E2140<=Kimutatás!B$3)","v":true}]
[2140,"Győr","006","Q1","2019-02-28","KKV hitelnövekmény (db)",2,"db","2019-03-01","hien000",{"$f":"AND(E2141>=Kimutatás!B$2,E2141<=Kimutatás!B$3)","v":true}]
[2141,"Győr","006","Q1","2019-02-28","KKV számlanyitás",-1,"db","2019-03-01","hien000",{"$f":"AND(E2142>=Kimutatás!B$2,E2142<=Kimutatás!B$3)","v":true}]
[2142,"Győr","006","Q1","2019-02-28","Betét állomány növekmény",49,"Mhuf","2019-03-01","hien000",{"$f":"AND(E2143>=Kimutatás!B$2,E2143<=Kimutatás!B$3)","v":true}]
[2143,"Győr","006","Q1","2019-03-03","Betérő ügyfelek",4,"fő","2019-04-01","tototo",{"$f":"AND(E2144>=Kimutatás!B$2,E2144<=Kimutatás!B$3)","v":true}]
[2144,"Győr","006","Q1","2019-03-03","Lakossági hitelnövekmény összege ",42,"Mhuf","2019-04-01","tototo",{"$f":"AND(E2145>=Kimutatás!B$2,E2145<=Kimutatás!B$3)","v":true}]
[2145,"Győr","006","Q1","2019-03-03","Lakossági számlanyitás",-1,"db","2019-04-01","tototo",{"$f":"AND(E2146>=Kimutatás!B$2,E2146<=Kimutatás!B$3)","v":true}]
[2146,"Győr","006","Q1","2019-03-03","KKV hitelnövekmény (db)",1,"db","2019-04-01","tototo",{"$f":"AND(E2147>=Kimutatás!B$2,E2147<=Kimutatás!B$3)","v":true}]
[2147,"Győr","006","Q1","2019-03-03","KKV számlanyitás",3,"db","2019-04-01","tototo",{"$f":"AND(E2148>=Kimutatás!B$2,E2148<=Kimutatás!B$3)","v":true}]
[2148,"Győr","006","Q1","2019-03-03","Betét állomány növekmény",5,"Mhuf","2019-04-01","tototo",{"$f":"AND(E2149>=Kimutatás!B$2,E2149<=Kimutatás!B$3)","v":true}]
[2149,"Győr","006","Q1","2019-03-04","Betérő ügyfelek",37,"fő","2019-04-01","tototo",{"$f":"AND(E2150>=Kimutatás!B$2,E2150<=Kimutatás!B$3)","v":true}]
[2150,"Győr","006","Q1","2019-03-04","Lakossági hitelnövekmény összege ",23,"Mhuf","2019-04-01","tototo",{"$f":"AND(E2151>=Kimutatás!B$2,E2151<=Kimutatás!B$3)","v":true}]
[2151,"Győr","006","Q1","2019-03-04","Lakossági számlanyitás",7,"db","2019-04-01","tototo",{"$f":"AND(E2152>=Kimutatás!B$2,E2152<=Kimutatás!B$3)","v":true}]
[2152,"Győr","006","Q1","2019-03-04","KKV hitelnövekmény (db)",2,"db","2019-04-01","tototo",{"$f":"AND(E2153>=Kimutatás!B$2,E2153<=Kimutatás!B$3)","v":true}]
[2153,"Győr","006","Q1","2019-03-04","KKV számlanyitás",-5,"db","2019-04-01","tototo",{"$f":"AND(E2154>=Kimutatás!B$2,E2154<=Kimutatás!B$3)","v":true}]
[2154,"Győr","006","Q1","2019-03-04","Betét állomány növekmény",30,"Mhuf","2019-04-01","tototo",{"$f":"AND(E2155>=Kimutatás!B$2,E2155<=Kimutatás!B$3)","v":true}]
[2155,"Győr","006","Q1","2019-03-05","Betérő ügyfelek",30,"fő","2019-04-01","tototo",{"$f":"AND(E2156>=Kimutatás!B$2,E2156<=Kimutatás!B$3)","v":true}]
[2156,"Győr","006","Q1","2019-03-05","Lakossági hitelnövekmény összege ",-2,"Mhuf","2019-04-01","tototo",{"$f":"AND(E2157>=Kimutatás!B$2,E2157<=Kimutatás!B$3)","v":true}]
[2157,"Győr","006","Q1","2019-03-05","Lakossági számlanyitás",5,"db","2019-04-01","tototo",{"$f":"AND(E2158>=Kimutatás!B$2,E2158<=Kimutatás!B$3)","v":true}]
[2158,"Győr","006","Q1","2019-03-05","KKV hitelnövekmény (db)",-1,"db","2019-04-01","tototo",{"$f":"AND(E2159>=Kimutatás!B$2,E2159<=Kimutatás!B$3)","v":true}]
[2159,"Győr","006","Q1","2019-03-05","KKV számlanyitás",4,"db","2019-04-01","tototo",{"$f":"AND(E2160>=Kimutatás!B$2,E2160<=Kimutatás!B$3)","v":true}]
[2160,"Győr","006","Q1","2019-03-05","Betét állomány növekmény",33,"Mhuf","2019-04-01","tototo",{"$f":"AND(E2161>=Kimutatás!B$2,E2161<=Kimutatás!B$3)","v":true}]
[2161,"Győr","006","Q1","2019-03-06","Betérő ügyfelek",36,"fő","2019-04-01","tototo",{"$f":"AND(E2162>=Kimutatás!B$2,E2162<=Kimutatás!B$3)","v":true}]
[2162,"Győr","006","Q1","2019-03-06","Lakossági hitelnövekmény összege ",20,"Mhuf","2019-04-01","tototo",{"$f":"AND(E2163>=Kimutatás!B$2,E2163<=Kimutatás!B$3)","v":true}]
[2163,"Győr","006","Q1","2019-03-06","Lakossági számlanyitás",6,"db","2019-04-01","tototo",{"$f":"AND(E2164>=Kimutatás!B$2,E2164<=Kimutatás!B$3)","v":true}]
[2164,"Győr","006","Q1","2019-03-06","KKV hitelnövekmény (db)",1,"db","2019-04-01","tototo",{"$f":"AND(E2165>=Kimutatás!B$2,E2165<=Kimutatás!B$3)","v":true}]
[2165,"Győr","006","Q1","2019-03-06","KKV számlanyitás",2,"db","2019-04-01","tototo",{"$f":"AND(E2166>=Kimutatás!B$2,E2166<=Kimutatás!B$3)","v":true}]
[2166,"Győr","006","Q1","2019-03-06","Betét állomány növekmény",26,"Mhuf","2019-04-01","tototo",{"$f":"AND(E2167>=Kimutatás!B$2,E2167<=Kimutatás!B$3)","v":true}]
[2167,"Győr","006","Q1","2019-03-07","Betérő ügyfelek",41,"fő","2019-04-01","tototo",{"$f":"AND(E2168>=Kimutatás!B$2,E2168<=Kimutatás!B$3)","v":true}]
[2168,"Győr","006","Q1","2019-03-07","Lakossági hitelnövekmény összege ",-7,"Mhuf","2019-04-01","tototo",{"$f":"AND(E2169>=Kimutatás!B$2,E2169<=Kimutatás!B$3)","v":true}]
[2169,"Győr","006","Q1","2019-03-07","Lakossági számlanyitás",5,"db","2019-04-01","tototo",{"$f":"AND(E2170>=Kimutatás!B$2,E2170<=Kimutatás!B$3)","v":true}]
[2170,"Győr","006","Q1","2019-03-07","KKV hitelnövekmény (db)",1,"db","2019-04-01","tototo",{"$f":"AND(E2171>=Kimutatás!B$2,E2171<=Kimutatás!B$3)","v":true}]
[2171,"Győr","006","Q1","2019-03-07","KKV számlanyitás",0,"db","2019-04-01","tototo",{"$f":"AND(E2172>=Kimutatás!B$2,E2172<=Kimutatás!B$3)","v":true}]
[2172,"Győr","006","Q1","2019-03-07","Betét állomány növekmény",-3,"Mhuf","2019-04-01","tototo",{"$f":"AND(E2173>=Kimutatás!B$2,E2173<=Kimutatás!B$3)","v":true}]
[2173,"Győr","006","Q1","2019-03-10","Betérő ügyfelek",16,"fő","2019-04-01","tototo",{"$f":"AND(E2174>=Kimutatás!B$2,E2174<=Kimutatás!B$3)","v":true}]
[2174,"Győr","006","Q1","2019-03-10","Lakossági hitelnövekmény összege ",5,"Mhuf","2019-04-01","tototo",{"$f":"AND(E2175>=Kimutatás!B$2,E2175<=Kimutatás!B$3)","v":true}]
[2175,"Győr","006","Q1","2019-03-10","Lakossági számlanyitás",-4,"db","2019-04-01","tototo",{"$f":"AND(E2176>=Kimutatás!B$2,E2176<=Kimutatás!B$3)","v":true}]
[2176,"Győr","006","Q1","2019-03-10","KKV hitelnövekmény (db)",-1,"db","2019-04-01","tototo",{"$f":"AND(E2177>=Kimutatás!B$2,E2177<=Kimutatás!B$3)","v":true}]
[2177,"Győr","006","Q1","2019-03-10","KKV számlanyitás",5,"db","2019-04-01","tototo",{"$f":"AND(E2178>=Kimutatás!B$2,E2178<=Kimutatás!B$3)","v":true}]
[2178,"Győr","006","Q1","2019-03-10","Betét állomány növekmény",-19,"Mhuf","2019-04-01","tototo",{"$f":"AND(E2179>=Kimutatás!B$2,E2179<=Kimutatás!B$3)","v":true}]
[2179,"Győr","006","Q1","2019-03-11","Betérő ügyfelek",23,"fő","2019-04-01","tototo",{"$f":"AND(E2180>=Kimutatás!B$2,E2180<=Kimutatás!B$3)","v":false}]
[2180,"Győr","006","Q1","2019-03-11","Lakossági hitelnövekmény összege ",49,"Mhuf","2019-04-01","tototo",{"$f":"AND(E2181>=Kimutatás!B$2,E2181<=Kimutatás!B$3)","v":false}]
[2181,"Győr","006","Q1","2019-03-11","Lakossági számlanyitás",1,"db","2019-04-01","tototo",{"$f":"AND(E2182>=Kimutatás!B$2,E2182<=Kimutatás!B$3)","v":false}]
[2182,"Győr","006","Q1","2019-03-11","KKV hitelnövekmény (db)",0,"db","2019-04-01","tototo",{"$f":"AND(E2183>=Kimutatás!B$2,E2183<=Kimutatás!B$3)","v":false}]
[2183,"Győr","006","Q1","2019-03-11","KKV számlanyitás",0,"db","2019-04-01","tototo",{"$f":"AND(E2184>=Kimutatás!B$2,E2184<=Kimutatás!B$3)","v":false}]
[2184,"Győr","006","Q1","2019-03-11","Betét állomány növekmény",1,"Mhuf","2019-04-01","tototo",{"$f":"AND(E2185>=Kimutatás!B$2,E2185<=Kimutatás!B$3)","v":false}]
[2185,"Győr","006","Q1","2019-03-12","Betérő ügyfelek",35,"fő","2019-04-01","tototo",{"$f":"AND(E2186>=Kimutatás!B$2,E2186<=Kimutatás!B$3)","v":false}]
[2186,"Győr","006","Q1","2019-03-12","Lakossági hitelnövekmény összege ",5,"Mhuf","2019-04-01","tototo",{"$f":"AND(E2187>=Kimutatás!B$2,E2187<=Kimutatás!B$3)","v":false}]
[2187,"Győr","006","Q1","2019-03-12","Lakossági számlanyitás",0,"db","2019-04-01","tototo",{"$f":"AND(E2188>=Kimutatás!B$2,E2188<=Kimutatás!B$3)","v":false}]
[2188,"Győr","006","Q1","2019-03-12","KKV hitelnövekmény (db)",-2,"db","2019-04-01","tototo",{"$f":"AND(E2189>=Kimutatás!B$2,E2189<=Kimutatás!B$3)","v":false}]
[2189,"Győr","006","Q1","2019-03-12","KKV számlanyitás",5,"db","2019-04-01","tototo",{"$f":"AND(E2190>=Kimutatás!B$2,E2190<=Kimutatás!B$3)","v":false}]
[2190,"Győr","006","Q1","2019-03-12","Betét állomány növekmény",35,"Mhuf","2019-04-01","tototo",{"$f":"AND(E2191>=Kimutatás!B$2,E2191<=Kimutatás!B$3)","v":false}]
[2191,"Győr","006","Q1","2019-03-13","Betérő ügyfelek",16,"fő","2019-04-01","tototo",{"$f":"AND(E2192>=Kimutatás!B$2,E2192<=Kimutatás!B$3)","v":false}]
[2192,"Győr","006","Q1","2019-03-13","Lakossági hitelnövekmény összege ",8,"Mhuf","2019-04-01","tototo",{"$f":"AND(E2193>=Kimutatás!B$2,E2193<=Kimutatás!B$3)","v":false}]
[2193,"Győr","006","Q1","2019-03-13","Lakossági számlanyitás",-2,"db","2019-04-01","tototo",{"$f":"AND(E2194>=Kimutatás!B$2,E2194<=Kimutatás!B$3)","v":false}]
[2194,"Győr","006","Q1","2019-03-13","KKV hitelnövekmény (db)",0,"db","2019-04-01","tototo",{"$f":"AND(E2195>=Kimutatás!B$2,E2195<=Kimutatás!B$3)","v":false}]
[2195,"Győr","006","Q1","2019-03-13","KKV számlanyitás",-1,"db","2019-04-01","tototo",{"$f":"AND(E2196>=Kimutatás!B$2,E2196<=Kimutatás!B$3)","v":false}]
[2196,"Győr","006","Q1","2019-03-13","Betét állomány növekmény",28,"Mhuf","2019-04-01","tototo",{"$f":"AND(E2197>=Kimutatás!B$2,E2197<=Kimutatás!B$3)","v":false}]
[2197,"Győr","006","Q1","2019-03-14","Betérő ügyfelek",27,"fő","2019-04-01","tototo",{"$f":"AND(E2198>=Kimutatás!B$2,E2198<=Kimutatás!B$3)","v":false}]
[2198,"Győr","006","Q1","2019-03-14","Lakossági hitelnövekmény összege ",21,"Mhuf","2019-04-01","tototo",{"$f":"AND(E2199>=Kimutatás!B$2,E2199<=Kimutatás!B$3)","v":false}]
[2199,"Győr","006","Q1","2019-03-14","Lakossági számlanyitás",7,"db","2019-04-01","tototo",{"$f":"AND(E2200>=Kimutatás!B$2,E2200<=Kimutatás!B$3)","v":false}]
[2200,"Győr","006","Q1","2019-03-14","KKV hitelnövekmény (db)",1,"db","2019-04-01","tototo",{"$f":"AND(E2201>=Kimutatás!B$2,E2201<=Kimutatás!B$3)","v":false}]
[2201,"Győr","006","Q1","2019-03-14","KKV számlanyitás",-4,"db","2019-04-01","tototo",{"$f":"AND(E2202>=Kimutatás!B$2,E2202<=Kimutatás!B$3)","v":false}]
[2202,"Győr","006","Q1","2019-03-14","Betét állomány növekmény",-9,"Mhuf","2019-04-01","tototo",{"$f":"AND(E2203>=Kimutatás!B$2,E2203<=Kimutatás!B$3)","v":false}]
[2203,"Győr","006","Q1","2019-03-17","Betérő ügyfelek",44,"fő","2019-04-01","tototo",{"$f":"AND(E2204>=Kimutatás!B$2,E2204<=Kimutatás!B$3)","v":false}]
[2204,"Győr","006","Q1","2019-03-17","Lakossági hitelnövekmény összege ",9,"Mhuf","2019-04-01","tototo",{"$f":"AND(E2205>=Kimutatás!B$2,E2205<=Kimutatás!B$3)","v":false}]
[2205,"Győr","006","Q1","2019-03-17","Lakossági számlanyitás",-3,"db","2019-04-01","tototo",{"$f":"AND(E2206>=Kimutatás!B$2,E2206<=Kimutatás!B$3)","v":false}]
[2206,"Győr","006","Q1","2019-03-17","KKV hitelnövekmény (db)",-2,"db","2019-04-01","tototo",{"$f":"AND(E2207>=Kimutatás!B$2,E2207<=Kimutatás!B$3)","v":false}]
[2207,"Győr","006","Q1","2019-03-17","KKV számlanyitás",3,"db","2019-04-01","tototo",{"$f":"AND(E2208>=Kimutatás!B$2,E2208<=Kimutatás!B$3)","v":false}]
[2208,"Győr","006","Q1","2019-03-17","Betét állomány növekmény",50,"Mhuf","2019-04-01","tototo",{"$f":"AND(E2209>=Kimutatás!B$2,E2209<=Kimutatás!B$3)","v":false}]
[2209,"Győr","006","Q1","2019-03-18","Betérő ügyfelek",44,"fő","2019-04-01","tototo",{"$f":"AND(E2210>=Kimutatás!B$2,E2210<=Kimutatás!B$3)","v":false}]
[2210,"Győr","006","Q1","2019-03-18","Lakossági hitelnövekmény összege ",0,"Mhuf","2019-04-01","tototo",{"$f":"AND(E2211>=Kimutatás!B$2,E2211<=Kimutatás!B$3)","v":false}]
[2211,"Győr","006","Q1","2019-03-18","Lakossági számlanyitás",1,"db","2019-04-01","tototo",{"$f":"AND(E2212>=Kimutatás!B$2,E2212<=Kimutatás!B$3)","v":false}]
[2212,"Győr","006","Q1","2019-03-18","KKV hitelnövekmény (db)",-2,"db","2019-04-01","tototo",{"$f":"AND(E2213>=Kimutatás!B$2,E2213<=Kimutatás!B$3)","v":false}]
[2213,"Győr","006","Q1","2019-03-18","KKV számlanyitás",-3,"db","2019-04-01","tototo",{"$f":"AND(E2214>=Kimutatás!B$2,E2214<=Kimutatás!B$3)","v":false}]
[2214,"Győr","006","Q1","2019-03-18","Betét állomány növekmény",8,"Mhuf","2019-04-01","tototo",{"$f":"AND(E2215>=Kimutatás!B$2,E2215<=Kimutatás!B$3)","v":false}]
[2215,"Győr","006","Q1","2019-03-19","Betérő ügyfelek",12,"fő","2019-04-01","tototo",{"$f":"AND(E2216>=Kimutatás!B$2,E2216<=Kimutatás!B$3)","v":false}]
[2216,"Győr","006","Q1","2019-03-19","Lakossági hitelnövekmény összege ",17,"Mhuf","2019-04-01","tototo",{"$f":"AND(E2217>=Kimutatás!B$2,E2217<=Kimutatás!B$3)","v":false}]
[2217,"Győr","006","Q1","2019-03-19","Lakossági számlanyitás",2,"db","2019-04-01","tototo",{"$f":"AND(E2218>=Kimutatás!B$2,E2218<=Kimutatás!B$3)","v":false}]
[2218,"Győr","006","Q1","2019-03-19","KKV hitelnövekmény (db)",0,"db","2019-04-01","tototo",{"$f":"AND(E2219>=Kimutatás!B$2,E2219<=Kimutatás!B$3)","v":false}]
[2219,"Győr","006","Q1","2019-03-19","KKV számlanyitás",-1,"db","2019-04-01","tototo",{"$f":"AND(E2220>=Kimutatás!B$2,E2220<=Kimutatás!B$3)","v":false}]
[2220,"Győr","006","Q1","2019-03-19","Betét állomány növekmény",-3,"Mhuf","2019-04-01","tototo",{"$f":"AND(E2221>=Kimutatás!B$2,E2221<=Kimutatás!B$3)","v":false}]
[2221,"Győr","006","Q1","2019-03-20","Betérő ügyfelek",16,"fő","2019-04-01","tototo",{"$f":"AND(E2222>=Kimutatás!B$2,E2222<=Kimutatás!B$3)","v":false}]
[2222,"Győr","006","Q1","2019-03-20","Lakossági hitelnövekmény összege ",-7,"Mhuf","2019-04-01","tototo",{"$f":"AND(E2223>=Kimutatás!B$2,E2223<=Kimutatás!B$3)","v":false}]
[2223,"Győr","006","Q1","2019-03-20","Lakossági számlanyitás",4,"db","2019-04-01","tototo",{"$f":"AND(E2224>=Kimutatás!B$2,E2224<=Kimutatás!B$3)","v":false}]
[2224,"Győr","006","Q1","2019-03-20","KKV hitelnövekmény (db)",1,"db","2019-04-01","tototo",{"$f":"AND(E2225>=Kimutatás!B$2,E2225<=Kimutatás!B$3)","v":false}]
[2225,"Győr","006","Q1","2019-03-20","KKV számlanyitás",0,"db","2019-04-01","tototo",{"$f":"AND(E2226>=Kimutatás!B$2,E2226<=Kimutatás!B$3)","v":false}]
[2226,"Győr","006","Q1","2019-03-20","Betét állomány növekmény",47,"Mhuf","2019-04-01","tototo",{"$f":"AND(E2227>=Kimutatás!B$2,E2227<=Kimutatás!B$3)","v":false}]
[2227,"Győr","006","Q1","2019-03-21","Betérő ügyfelek",33,"fő","2019-04-01","tototo",{"$f":"AND(E2228>=Kimutatás!B$2,E2228<=Kimutatás!B$3)","v":false}]
[2228,"Győr","006","Q1","2019-03-21","Lakossági hitelnövekmény összege ",9,"Mhuf","2019-04-01","tototo",{"$f":"AND(E2229>=Kimutatás!B$2,E2229<=Kimutatás!B$3)","v":false}]
[2229,"Győr","006","Q1","2019-03-21","Lakossági számlanyitás",0,"db","2019-04-01","tototo",{"$f":"AND(E2230>=Kimutatás!B$2,E2230<=Kimutatás!B$3)","v":false}]
[2230,"Győr","006","Q1","2019-03-21","KKV hitelnövekmény (db)",1,"db","2019-04-01","tototo",{"$f":"AND(E2231>=Kimutatás!B$2,E2231<=Kimutatás!B$3)","v":false}]
[2231,"Győr","006","Q1","2019-03-21","KKV számlanyitás",2,"db","2019-04-01","tototo",{"$f":"AND(E2232>=Kimutatás!B$2,E2232<=Kimutatás!B$3)","v":false}]
[2232,"Győr","006","Q1","2019-03-21","Betét állomány növekmény",42,"Mhuf","2019-04-01","tototo",{"$f":"AND(E2233>=Kimutatás!B$2,E2233<=Kimutatás!B$3)","v":false}]
[2233,"Győr","006","Q1","2019-03-24","Betérő ügyfelek",20,"fő","2019-04-01","tototo",{"$f":"AND(E2234>=Kimutatás!B$2,E2234<=Kimutatás!B$3)","v":false}]
[2234,"Győr","006","Q1","2019-03-24","Lakossági hitelnövekmény összege ",-3,"Mhuf","2019-04-01","tototo",{"$f":"AND(E2235>=Kimutatás!B$2,E2235<=Kimutatás!B$3)","v":false}]
[2235,"Győr","006","Q1","2019-03-24","Lakossági számlanyitás",8,"db","2019-04-01","tototo",{"$f":"AND(E2236>=Kimutatás!B$2,E2236<=Kimutatás!B$3)","v":false}]
[2236,"Győr","006","Q1","2019-03-24","KKV hitelnövekmény (db)",2,"db","2019-04-01","tototo",{"$f":"AND(E2237>=Kimutatás!B$2,E2237<=Kimutatás!B$3)","v":false}]
[2237,"Győr","006","Q1","2019-03-24","KKV számlanyitás",-5,"db","2019-04-01","tototo",{"$f":"AND(E2238>=Kimutatás!B$2,E2238<=Kimutatás!B$3)","v":false}]
[2238,"Győr","006","Q1","2019-03-24","Betét állomány növekmény",-19,"Mhuf","2019-04-01","tototo",{"$f":"AND(E2239>=Kimutatás!B$2,E2239<=Kimutatás!B$3)","v":false}]
[2239,"Győr","006","Q1","2019-03-25","Betérő ügyfelek",15,"fő","2019-04-01","tototo",{"$f":"AND(E2240>=Kimutatás!B$2,E2240<=Kimutatás!B$3)","v":false}]
[2240,"Győr","006","Q1","2019-03-25","Lakossági hitelnövekmény összege ",32,"Mhuf","2019-04-01","tototo",{"$f":"AND(E2241>=Kimutatás!B$2,E2241<=Kimutatás!B$3)","v":false}]
[2241,"Győr","006","Q1","2019-03-25","Lakossági számlanyitás",5,"db","2019-04-01","tototo",{"$f":"AND(E2242>=Kimutatás!B$2,E2242<=Kimutatás!B$3)","v":false}]
[2242,"Győr","006","Q1","2019-03-25","KKV hitelnövekmény (db)",-1,"db","2019-04-01","tototo",{"$f":"AND(E2243>=Kimutatás!B$2,E2243<=Kimutatás!B$3)","v":false}]
[2243,"Győr","006","Q1","2019-03-25","KKV számlanyitás",-1,"db","2019-04-01","tototo",{"$f":"AND(E2244>=Kimutatás!B$2,E2244<=Kimutatás!B$3)","v":false}]
[2244,"Győr","006","Q1","2019-03-25","Betét állomány növekmény",18,"Mhuf","2019-04-01","tototo",{"$f":"AND(E2245>=Kimutatás!B$2,E2245<=Kimutatás!B$3)","v":false}]
[2245,"Győr","006","Q1","2019-03-26","Betérő ügyfelek",17,"fő","2019-04-01","tototo",{"$f":"AND(E2246>=Kimutatás!B$2,E2246<=Kimutatás!B$3)","v":false}]
[2246,"Győr","006","Q1","2019-03-26","Lakossági hitelnövekmény összege ",22,"Mhuf","2019-04-01","tototo",{"$f":"AND(E2247>=Kimutatás!B$2,E2247<=Kimutatás!B$3)","v":false}]
[2247,"Győr","006","Q1","2019-03-26","Lakossági számlanyitás",3,"db","2019-04-01","tototo",{"$f":"AND(E2248>=Kimutatás!B$2,E2248<=Kimutatás!B$3)","v":false}]
[2248,"Győr","006","Q1","2019-03-26","KKV hitelnövekmény (db)",-1,"db","2019-04-01","tototo",{"$f":"AND(E2249>=Kimutatás!B$2,E2249<=Kimutatás!B$3)","v":false}]
[2249,"Győr","006","Q1","2019-03-26","KKV számlanyitás",-5,"db","2019-04-01","tototo",{"$f":"AND(E2250>=Kimutatás!B$2,E2250<=Kimutatás!B$3)","v":false}]
[2250,"Győr","006","Q1","2019-03-26","Betét állomány növekmény",8,"Mhuf","2019-04-01","tototo",{"$f":"AND(E2251>=Kimutatás!B$2,E2251<=Kimutatás!B$3)","v":false}]
[2251,"Győr","006","Q1","2019-03-27","Betérő ügyfelek",16,"fő","2019-04-01","tototo",{"$f":"AND(E2252>=Kimutatás!B$2,E2252<=Kimutatás!B$3)","v":false}]
[2252,"Győr","006","Q1","2019-03-27","Lakossági hitelnövekmény összege ",23,"Mhuf","2019-04-01","tototo",{"$f":"AND(E2253>=Kimutatás!B$2,E2253<=Kimutatás!B$3)","v":false}]
[2253,"Győr","006","Q1","2019-03-27","Lakossági számlanyitás",8,"db","2019-04-01","tototo",{"$f":"AND(E2254>=Kimutatás!B$2,E2254<=Kimutatás!B$3)","v":false}]
[2254,"Győr","006","Q1","2019-03-27","KKV hitelnövekmény (db)",-2,"db","2019-04-01","tototo",{"$f":"AND(E2255>=Kimutatás!B$2,E2255<=Kimutatás!B$3)","v":false}]
[2255,"Győr","006","Q1","2019-03-27","KKV számlanyitás",-2,"db","2019-04-01","tototo",{"$f":"AND(E2256>=Kimutatás!B$2,E2256<=Kimutatás!B$3)","v":false}]
[2256,"Győr","006","Q1","2019-03-27","Betét állomány növekmény",-11,"Mhuf","2019-04-01","tototo",{"$f":"AND(E2257>=Kimutatás!B$2,E2257<=Kimutatás!B$3)","v":false}]
[2257,"Győr","006","Q1","2019-03-28","Betérő ügyfelek",37,"fő","2019-04-01","tototo",{"$f":"AND(E2258>=Kimutatás!B$2,E2258<=Kimutatás!B$3)","v":false}]
[2258,"Győr","006","Q1","2019-03-28","Lakossági hitelnövekmény összege ",11,"Mhuf","2019-04-01","tototo",{"$f":"AND(E2259>=Kimutatás!B$2,E2259<=Kimutatás!B$3)","v":false}]
[2259,"Győr","006","Q1","2019-03-28","Lakossági számlanyitás",6,"db","2019-04-01","tototo",{"$f":"AND(E2260>=Kimutatás!B$2,E2260<=Kimutatás!B$3)","v":false}]
[2260,"Győr","006","Q1","2019-03-28","KKV hitelnövekmény (db)",2,"db","2019-04-01","tototo",{"$f":"AND(E2261>=Kimutatás!B$2,E2261<=Kimutatás!B$3)","v":false}]
[2261,"Győr","006","Q1","2019-03-28","KKV számlanyitás",-5,"db","2019-04-01","tototo",{"$f":"AND(E2262>=Kimutatás!B$2,E2262<=Kimutatás!B$3)","v":false}]
[2262,"Győr","006","Q1","2019-03-28","Betét állomány növekmény",12,"Mhuf","2019-04-01","tototo",{"$f":"AND(E2263>=Kimutatás!B$2,E2263<=Kimutatás!B$3)","v":false}]
[2263,"Győr","006","Q1","2019-03-31","Betérő ügyfelek",9,"fő","2019-04-01","tototo",{"$f":"AND(E2264>=Kimutatás!B$2,E2264<=Kimutatás!B$3)","v":false}]
[2264,"Győr","006","Q1","2019-03-31","Lakossági hitelnövekmény összege ",46,"Mhuf","2019-04-01","tototo",{"$f":"AND(E2265>=Kimutatás!B$2,E2265<=Kimutatás!B$3)","v":false}]
[2265,"Győr","006","Q1","2019-03-31","Lakossági számlanyitás",-2,"db","2019-04-01","tototo",{"$f":"AND(E2266>=Kimutatás!B$2,E2266<=Kimutatás!B$3)","v":false}]
[2266,"Győr","006","Q1","2019-03-31","KKV hitelnövekmény (db)",2,"db","2019-04-01","tototo",{"$f":"AND(E2267>=Kimutatás!B$2,E2267<=Kimutatás!B$3)","v":false}]
[2267,"Győr","006","Q1","2019-03-31","KKV számlanyitás",5,"db","2019-04-01","tototo",{"$f":"AND(E2268>=Kimutatás!B$2,E2268<=Kimutatás!B$3)","v":false}]
[2268,"Győr","006","Q1","2019-03-31","Betét állomány növekmény",-18,"Mhuf","2019-04-01","tototo",{"$f":"AND(E2269>=Kimutatás!B$2,E2269<=Kimutatás!B$3)","v":false}]
[2269,"Kaposvár","007","Q1","2019-01-02","Betérő ügyfelek",28,"fő","2019-02-01","vica23",{"$f":"AND(E2270>=Kimutatás!B$2,E2270<=Kimutatás!B$3)","v":false}]
[2270,"Kaposvár","007","Q1","2019-01-02","Lakossági hitelnövekmény összege ",4,"Mhuf","2019-02-01","vica23",{"$f":"AND(E2271>=Kimutatás!B$2,E2271<=Kimutatás!B$3)","v":false}]
[2271,"Kaposvár","007","Q1","2019-01-02","Lakossági számlanyitás",4,"db","2019-02-01","vica23",{"$f":"AND(E2272>=Kimutatás!B$2,E2272<=Kimutatás!B$3)","v":false}]
[2272,"Kaposvár","007","Q1","2019-01-02","KKV hitelnövekmény (db)",-1,"db","2019-02-01","vica23",{"$f":"AND(E2273>=Kimutatás!B$2,E2273<=Kimutatás!B$3)","v":false}]
[2273,"Kaposvár","007","Q1","2019-01-02","KKV számlanyitás",0,"db","2019-02-01","vica23",{"$f":"AND(E2274>=Kimutatás!B$2,E2274<=Kimutatás!B$3)","v":false}]
[2274,"Kaposvár","007","Q1","2019-01-02","Betét állomány növekmény",24,"Mhuf","2019-02-01","vica23",{"$f":"AND(E2275>=Kimutatás!B$2,E2275<=Kimutatás!B$3)","v":false}]
[2275,"Kaposvár","007","Q1","2019-01-03","Betérő ügyfelek",43,"fő","2019-02-01","vica23",{"$f":"AND(E2276>=Kimutatás!B$2,E2276<=Kimutatás!B$3)","v":false}]
[2276,"Kaposvár","007","Q1","2019-01-03","Lakossági hitelnövekmény összege ",23,"Mhuf","2019-02-01","vica23",{"$f":"AND(E2277>=Kimutatás!B$2,E2277<=Kimutatás!B$3)","v":false}]
[2277,"Kaposvár","007","Q1","2019-01-03","Lakossági számlanyitás",-1,"db","2019-02-01","vica23",{"$f":"AND(E2278>=Kimutatás!B$2,E2278<=Kimutatás!B$3)","v":false}]
[2278,"Kaposvár","007","Q1","2019-01-03","KKV hitelnövekmény (db)",1,"db","2019-02-01","vica23",{"$f":"AND(E2279>=Kimutatás!B$2,E2279<=Kimutatás!B$3)","v":false}]
[2279,"Kaposvár","007","Q1","2019-01-03","KKV számlanyitás",-4,"db","2019-02-01","vica23",{"$f":"AND(E2280>=Kimutatás!B$2,E2280<=Kimutatás!B$3)","v":false}]
[2280,"Kaposvár","007","Q1","2019-01-03","Betét állomány növekmény",16,"Mhuf","2019-02-01","vica23",{"$f":"AND(E2281>=Kimutatás!B$2,E2281<=Kimutatás!B$3)","v":false}]
[2281,"Kaposvár","007","Q1","2019-01-06","Betérő ügyfelek",50,"fő","2019-02-01","vica23",{"$f":"AND(E2282>=Kimutatás!B$2,E2282<=Kimutatás!B$3)","v":false}]
[2282,"Kaposvár","007","Q1","2019-01-06","Lakossági hitelnövekmény összege ",42,"Mhuf","2019-02-01","vica23",{"$f":"AND(E2283>=Kimutatás!B$2,E2283<=Kimutatás!B$3)","v":false}]
[2283,"Kaposvár","007","Q1","2019-01-06","Lakossági számlanyitás",2,"db","2019-02-01","vica23",{"$f":"AND(E2284>=Kimutatás!B$2,E2284<=Kimutatás!B$3)","v":false}]
[2284,"Kaposvár","007","Q1","2019-01-06","KKV hitelnövekmény (db)",0,"db","2019-02-01","vica23",{"$f":"AND(E2285>=Kimutatás!B$2,E2285<=Kimutatás!B$3)","v":false}]
[2285,"Kaposvár","007","Q1","2019-01-06","KKV számlanyitás",3,"db","2019-02-01","vica23",{"$f":"AND(E2286>=Kimutatás!B$2,E2286<=Kimutatás!B$3)","v":false}]
[2286,"Kaposvár","007","Q1","2019-01-06","Betét állomány növekmény",11,"Mhuf","2019-02-01","vica23",{"$f":"AND(E2287>=Kimutatás!B$2,E2287<=Kimutatás!B$3)","v":false}]
[2287,"Kaposvár","007","Q1","2019-01-07","Betérő ügyfelek",45,"fő","2019-02-01","vica23",{"$f":"AND(E2288>=Kimutatás!B$2,E2288<=Kimutatás!B$3)","v":false}]
[2288,"Kaposvár","007","Q1","2019-01-07","Lakossági hitelnövekmény összege ",31,"Mhuf","2019-02-01","vica23",{"$f":"AND(E2289>=Kimutatás!B$2,E2289<=Kimutatás!B$3)","v":false}]
[2289,"Kaposvár","007","Q1","2019-01-07","Lakossági számlanyitás",-1,"db","2019-02-01","vica23",{"$f":"AND(E2290>=Kimutatás!B$2,E2290<=Kimutatás!B$3)","v":false}]
[2290,"Kaposvár","007","Q1","2019-01-07","KKV hitelnövekmény (db)",-1,"db","2019-02-01","vica23",{"$f":"AND(E2291>=Kimutatás!B$2,E2291<=Kimutatás!B$3)","v":false}]
[2291,"Kaposvár","007","Q1","2019-01-07","KKV számlanyitás",-2,"db","2019-02-01","vica23",{"$f":"AND(E2292>=Kimutatás!B$2,E2292<=Kimutatás!B$3)","v":false}]
[2292,"Kaposvár","007","Q1","2019-01-07","Betét állomány növekmény",29,"Mhuf","2019-02-01","vica23",{"$f":"AND(E2293>=Kimutatás!B$2,E2293<=Kimutatás!B$3)","v":false}]
[2293,"Kaposvár","007","Q1","2019-01-08","Betérő ügyfelek",15,"fő","2019-02-01","vica23",{"$f":"AND(E2294>=Kimutatás!B$2,E2294<=Kimutatás!B$3)","v":false}]
[2294,"Kaposvár","007","Q1","2019-01-08","Lakossági hitelnövekmény összege ",13,"Mhuf","2019-02-01","vica23",{"$f":"AND(E2295>=Kimutatás!B$2,E2295<=Kimutatás!B$3)","v":false}]
[2295,"Kaposvár","007","Q1","2019-01-08","Lakossági számlanyitás",5,"db","2019-02-01","vica23",{"$f":"AND(E2296>=Kimutatás!B$2,E2296<=Kimutatás!B$3)","v":false}]
[2296,"Kaposvár","007","Q1","2019-01-08","KKV hitelnövekmény (db)",0,"db","2019-02-01","vica23",{"$f":"AND(E2297>=Kimutatás!B$2,E2297<=Kimutatás!B$3)","v":false}]
[2297,"Kaposvár","007","Q1","2019-01-08","KKV számlanyitás",-4,"db","2019-02-01","vica23",{"$f":"AND(E2298>=Kimutatás!B$2,E2298<=Kimutatás!B$3)","v":false}]
[2298,"Kaposvár","007","Q1","2019-01-08","Betét állomány növekmény",36,"Mhuf","2019-02-01","vica23",{"$f":"AND(E2299>=Kimutatás!B$2,E2299<=Kimutatás!B$3)","v":false}]
[2299,"Kaposvár","007","Q1","2019-01-09","Betérő ügyfelek",26,"fő","2019-02-01","vica23",{"$f":"AND(E2300>=Kimutatás!B$2,E2300<=Kimutatás!B$3)","v":false}]
[2300,"Kaposvár","007","Q1","2019-01-09","Lakossági hitelnövekmény összege ",12,"Mhuf","2019-02-01","vica23",{"$f":"AND(E2301>=Kimutatás!B$2,E2301<=Kimutatás!B$3)","v":false}]
[2301,"Kaposvár","007","Q1","2019-01-09","Lakossági számlanyitás",-5,"db","2019-02-01","vica23",{"$f":"AND(E2302>=Kimutatás!B$2,E2302<=Kimutatás!B$3)","v":false}]
[2302,"Kaposvár","007","Q1","2019-01-09","KKV hitelnövekmény (db)",-2,"db","2019-02-01","vica23",{"$f":"AND(E2303>=Kimutatás!B$2,E2303<=Kimutatás!B$3)","v":false}]
[2303,"Kaposvár","007","Q1","2019-01-09","KKV számlanyitás",-2,"db","2019-02-01","vica23",{"$f":"AND(E2304>=Kimutatás!B$2,E2304<=Kimutatás!B$3)","v":false}]
[2304,"Kaposvár","007","Q1","2019-01-09","Betét állomány növekmény",46,"Mhuf","2019-02-01","vica23",{"$f":"AND(E2305>=Kimutatás!B$2,E2305<=Kimutatás!B$3)","v":false}]
[2305,"Kaposvár","007","Q1","2019-01-10","Betérő ügyfelek",48,"fő","2019-02-01","vica23",{"$f":"AND(E2306>=Kimutatás!B$2,E2306<=Kimutatás!B$3)","v":true}]
[2306,"Kaposvár","007","Q1","2019-01-10","Lakossági hitelnövekmény összege ",50,"Mhuf","2019-02-01","vica23",{"$f":"AND(E2307>=Kimutatás!B$2,E2307<=Kimutatás!B$3)","v":true}]
[2307,"Kaposvár","007","Q1","2019-01-10","Lakossági számlanyitás",2,"db","2019-02-01","vica23",{"$f":"AND(E2308>=Kimutatás!B$2,E2308<=Kimutatás!B$3)","v":true}]
[2308,"Kaposvár","007","Q1","2019-01-10","KKV hitelnövekmény (db)",0,"db","2019-02-01","vica23",{"$f":"AND(E2309>=Kimutatás!B$2,E2309<=Kimutatás!B$3)","v":true}]
[2309,"Kaposvár","007","Q1","2019-01-10","KKV számlanyitás",-5,"db","2019-02-01","vica23",{"$f":"AND(E2310>=Kimutatás!B$2,E2310<=Kimutatás!B$3)","v":true}]
[2310,"Kaposvár","007","Q1","2019-01-10","Betét állomány növekmény",-5,"Mhuf","2019-02-01","vica23",{"$f":"AND(E2311>=Kimutatás!B$2,E2311<=Kimutatás!B$3)","v":true}]
[2311,"Kaposvár","007","Q1","2019-01-13","Betérő ügyfelek",11,"fő","2019-02-01","vica23",{"$f":"AND(E2312>=Kimutatás!B$2,E2312<=Kimutatás!B$3)","v":true}]
[2312,"Kaposvár","007","Q1","2019-01-13","Lakossági hitelnövekmény összege ",23,"Mhuf","2019-02-01","vica23",{"$f":"AND(E2313>=Kimutatás!B$2,E2313<=Kimutatás!B$3)","v":true}]
[2313,"Kaposvár","007","Q1","2019-01-13","Lakossági számlanyitás",1,"db","2019-02-01","vica23",{"$f":"AND(E2314>=Kimutatás!B$2,E2314<=Kimutatás!B$3)","v":true}]
[2314,"Kaposvár","007","Q1","2019-01-13","KKV hitelnövekmény (db)",-2,"db","2019-02-01","vica23",{"$f":"AND(E2315>=Kimutatás!B$2,E2315<=Kimutatás!B$3)","v":true}]
[2315,"Kaposvár","007","Q1","2019-01-13","KKV számlanyitás",4,"db","2019-02-01","vica23",{"$f":"AND(E2316>=Kimutatás!B$2,E2316<=Kimutatás!B$3)","v":true}]
[2316,"Kaposvár","007","Q1","2019-01-13","Betét állomány növekmény",20,"Mhuf","2019-02-01","vica23",{"$f":"AND(E2317>=Kimutatás!B$2,E2317<=Kimutatás!B$3)","v":true}]
[2317,"Kaposvár","007","Q1","2019-01-14","Betérő ügyfelek",7,"fő","2019-02-01","vica23",{"$f":"AND(E2318>=Kimutatás!B$2,E2318<=Kimutatás!B$3)","v":true}]
[2318,"Kaposvár","007","Q1","2019-01-14","Lakossági hitelnövekmény összege ",50,"Mhuf","2019-02-01","vica23",{"$f":"AND(E2319>=Kimutatás!B$2,E2319<=Kimutatás!B$3)","v":true}]
[2319,"Kaposvár","007","Q1","2019-01-14","Lakossági számlanyitás",7,"db","2019-02-01","vica23",{"$f":"AND(E2320>=Kimutatás!B$2,E2320<=Kimutatás!B$3)","v":true}]
[2320,"Kaposvár","007","Q1","2019-01-14","KKV hitelnövekmény (db)",1,"db","2019-02-01","vica23",{"$f":"AND(E2321>=Kimutatás!B$2,E2321<=Kimutatás!B$3)","v":true}]
[2321,"Kaposvár","007","Q1","2019-01-14","KKV számlanyitás",4,"db","2019-02-01","vica23",{"$f":"AND(E2322>=Kimutatás!B$2,E2322<=Kimutatás!B$3)","v":true}]
[2322,"Kaposvár","007","Q1","2019-01-14","Betét állomány növekmény",-19,"Mhuf","2019-02-01","vica23",{"$f":"AND(E2323>=Kimutatás!B$2,E2323<=Kimutatás!B$3)","v":true}]
[2323,"Kaposvár","007","Q1","2019-01-15","Betérő ügyfelek",31,"fő","2019-02-01","vica23",{"$f":"AND(E2324>=Kimutatás!B$2,E2324<=Kimutatás!B$3)","v":true}]
[2324,"Kaposvár","007","Q1","2019-01-15","Lakossági hitelnövekmény összege ",4,"Mhuf","2019-02-01","vica23",{"$f":"AND(E2325>=Kimutatás!B$2,E2325<=Kimutatás!B$3)","v":true}]
[2325,"Kaposvár","007","Q1","2019-01-15","Lakossági számlanyitás",0,"db","2019-02-01","vica23",{"$f":"AND(E2326>=Kimutatás!B$2,E2326<=Kimutatás!B$3)","v":true}]
[2326,"Kaposvár","007","Q1","2019-01-15","KKV hitelnövekmény (db)",-1,"db","2019-02-01","vica23",{"$f":"AND(E2327>=Kimutatás!B$2,E2327<=Kimutatás!B$3)","v":true}]
[2327,"Kaposvár","007","Q1","2019-01-15","KKV számlanyitás",-5,"db","2019-02-01","vica23",{"$f":"AND(E2328>=Kimutatás!B$2,E2328<=Kimutatás!B$3)","v":true}]
[2328,"Kaposvár","007","Q1","2019-01-15","Betét állomány növekmény",-7,"Mhuf","2019-02-01","vica23",{"$f":"AND(E2329>=Kimutatás!B$2,E2329<=Kimutatás!B$3)","v":true}]
[2329,"Kaposvár","007","Q1","2019-01-16","Betérő ügyfelek",20,"fő","2019-02-01","vica23",{"$f":"AND(E2330>=Kimutatás!B$2,E2330<=Kimutatás!B$3)","v":true}]
[2330,"Kaposvár","007","Q1","2019-01-16","Lakossági hitelnövekmény összege ",41,"Mhuf","2019-02-01","vica23",{"$f":"AND(E2331>=Kimutatás!B$2,E2331<=Kimutatás!B$3)","v":true}]
[2331,"Kaposvár","007","Q1","2019-01-16","Lakossági számlanyitás",-5,"db","2019-02-01","vica23",{"$f":"AND(E2332>=Kimutatás!B$2,E2332<=Kimutatás!B$3)","v":true}]
[2332,"Kaposvár","007","Q1","2019-01-16","KKV hitelnövekmény (db)",-2,"db","2019-02-01","vica23",{"$f":"AND(E2333>=Kimutatás!B$2,E2333<=Kimutatás!B$3)","v":true}]
[2333,"Kaposvár","007","Q1","2019-01-16","KKV számlanyitás",-4,"db","2019-02-01","vica23",{"$f":"AND(E2334>=Kimutatás!B$2,E2334<=Kimutatás!B$3)","v":true}]
[2334,"Kaposvár","007","Q1","2019-01-16","Betét állomány növekmény",8,"Mhuf","2019-02-01","vica23",{"$f":"AND(E2335>=Kimutatás!B$2,E2335<=Kimutatás!B$3)","v":true}]
[2335,"Kaposvár","007","Q1","2019-01-17","Betérő ügyfelek",20,"fő","2019-02-01","vica23",{"$f":"AND(E2336>=Kimutatás!B$2,E2336<=Kimutatás!B$3)","v":true}]
[2336,"Kaposvár","007","Q1","2019-01-17","Lakossági hitelnövekmény összege ",34,"Mhuf","2019-02-01","vica23",{"$f":"AND(E2337>=Kimutatás!B$2,E2337<=Kimutatás!B$3)","v":true}]
[2337,"Kaposvár","007","Q1","2019-01-17","Lakossági számlanyitás",1,"db","2019-02-01","vica23",{"$f":"AND(E2338>=Kimutatás!B$2,E2338<=Kimutatás!B$3)","v":true}]
[2338,"Kaposvár","007","Q1","2019-01-17","KKV hitelnövekmény (db)",2,"db","2019-02-01","vica23",{"$f":"AND(E2339>=Kimutatás!B$2,E2339<=Kimutatás!B$3)","v":true}]
[2339,"Kaposvár","007","Q1","2019-01-17","KKV számlanyitás",2,"db","2019-02-01","vica23",{"$f":"AND(E2340>=Kimutatás!B$2,E2340<=Kimutatás!B$3)","v":true}]
[2340,"Kaposvár","007","Q1","2019-01-17","Betét állomány növekmény",-17,"Mhuf","2019-02-01","vica23",{"$f":"AND(E2341>=Kimutatás!B$2,E2341<=Kimutatás!B$3)","v":true}]
[2341,"Kaposvár","007","Q1","2019-01-20","Betérő ügyfelek",34,"fő","2019-02-01","vica23",{"$f":"AND(E2342>=Kimutatás!B$2,E2342<=Kimutatás!B$3)","v":true}]
[2342,"Kaposvár","007","Q1","2019-01-20","Lakossági hitelnövekmény összege ",5,"Mhuf","2019-02-01","vica23",{"$f":"AND(E2343>=Kimutatás!B$2,E2343<=Kimutatás!B$3)","v":true}]
[2343,"Kaposvár","007","Q1","2019-01-20","Lakossági számlanyitás",8,"db","2019-02-01","vica23",{"$f":"AND(E2344>=Kimutatás!B$2,E2344<=Kimutatás!B$3)","v":true}]
[2344,"Kaposvár","007","Q1","2019-01-20","KKV hitelnövekmény (db)",-1,"db","2019-02-01","vica23",{"$f":"AND(E2345>=Kimutatás!B$2,E2345<=Kimutatás!B$3)","v":true}]
[2345,"Kaposvár","007","Q1","2019-01-20","KKV számlanyitás",1,"db","2019-02-01","vica23",{"$f":"AND(E2346>=Kimutatás!B$2,E2346<=Kimutatás!B$3)","v":true}]
[2346,"Kaposvár","007","Q1","2019-01-20","Betét állomány növekmény",49,"Mhuf","2019-02-01","vica23",{"$f":"AND(E2347>=Kimutatás!B$2,E2347<=Kimutatás!B$3)","v":true}]
[2347,"Kaposvár","007","Q1","2019-01-21","Betérő ügyfelek",10,"fő","2019-02-01","vica23",{"$f":"AND(E2348>=Kimutatás!B$2,E2348<=Kimutatás!B$3)","v":true}]
[2348,"Kaposvár","007","Q1","2019-01-21","Lakossági hitelnövekmény összege ",-4,"Mhuf","2019-02-01","vica23",{"$f":"AND(E2349>=Kimutatás!B$2,E2349<=Kimutatás!B$3)","v":true}]
[2349,"Kaposvár","007","Q1","2019-01-21","Lakossági számlanyitás",-1,"db","2019-02-01","vica23",{"$f":"AND(E2350>=Kimutatás!B$2,E2350<=Kimutatás!B$3)","v":true}]
[2350,"Kaposvár","007","Q1","2019-01-21","KKV hitelnövekmény (db)",-1,"db","2019-02-01","vica23",{"$f":"AND(E2351>=Kimutatás!B$2,E2351<=Kimutatás!B$3)","v":true}]
[2351,"Kaposvár","007","Q1","2019-01-21","KKV számlanyitás",3,"db","2019-02-01","vica23",{"$f":"AND(E2352>=Kimutatás!B$2,E2352<=Kimutatás!B$3)","v":true}]
[2352,"Kaposvár","007","Q1","2019-01-21","Betét állomány növekmény",47,"Mhuf","2019-02-01","vica23",{"$f":"AND(E2353>=Kimutatás!B$2,E2353<=Kimutatás!B$3)","v":true}]
[2353,"Kaposvár","007","Q1","2019-01-22","Betérő ügyfelek",7,"fő","2019-02-01","vica23",{"$f":"AND(E2354>=Kimutatás!B$2,E2354<=Kimutatás!B$3)","v":true}]
[2354,"Kaposvár","007","Q1","2019-01-22","Lakossági hitelnövekmény összege ",4,"Mhuf","2019-02-01","vica23",{"$f":"AND(E2355>=Kimutatás!B$2,E2355<=Kimutatás!B$3)","v":true}]
[2355,"Kaposvár","007","Q1","2019-01-22","Lakossági számlanyitás",-3,"db","2019-02-01","vica23",{"$f":"AND(E2356>=Kimutatás!B$2,E2356<=Kimutatás!B$3)","v":true}]
[2356,"Kaposvár","007","Q1","2019-01-22","KKV hitelnövekmény (db)",-2,"db","2019-02-01","vica23",{"$f":"AND(E2357>=Kimutatás!B$2,E2357<=Kimutatás!B$3)","v":true}]
[2357,"Kaposvár","007","Q1","2019-01-22","KKV számlanyitás",-4,"db","2019-02-01","vica23",{"$f":"AND(E2358>=Kimutatás!B$2,E2358<=Kimutatás!B$3)","v":true}]
[2358,"Kaposvár","007","Q1","2019-01-22","Betét állomány növekmény",10,"Mhuf","2019-02-01","vica23",{"$f":"AND(E2359>=Kimutatás!B$2,E2359<=Kimutatás!B$3)","v":true}]
[2359,"Kaposvár","007","Q1","2019-01-23","Betérő ügyfelek",45,"fő","2019-02-01","vica23",{"$f":"AND(E2360>=Kimutatás!B$2,E2360<=Kimutatás!B$3)","v":true}]
[2360,"Kaposvár","007","Q1","2019-01-23","Lakossági hitelnövekmény összege ",38,"Mhuf","2019-02-01","vica23",{"$f":"AND(E2361>=Kimutatás!B$2,E2361<=Kimutatás!B$3)","v":true}]
[2361,"Kaposvár","007","Q1","2019-01-23","Lakossági számlanyitás",1,"db","2019-02-01","vica23",{"$f":"AND(E2362>=Kimutatás!B$2,E2362<=Kimutatás!B$3)","v":true}]
[2362,"Kaposvár","007","Q1","2019-01-23","KKV hitelnövekmény (db)",0,"db","2019-02-01","vica23",{"$f":"AND(E2363>=Kimutatás!B$2,E2363<=Kimutatás!B$3)","v":true}]
[2363,"Kaposvár","007","Q1","2019-01-23","KKV számlanyitás",-3,"db","2019-02-01","vica23",{"$f":"AND(E2364>=Kimutatás!B$2,E2364<=Kimutatás!B$3)","v":true}]
[2364,"Kaposvár","007","Q1","2019-01-23","Betét állomány növekmény",18,"Mhuf","2019-02-01","vica23",{"$f":"AND(E2365>=Kimutatás!B$2,E2365<=Kimutatás!B$3)","v":true}]
[2365,"Kaposvár","007","Q1","2019-01-24","Betérő ügyfelek",21,"fő","2019-02-01","vica23",{"$f":"AND(E2366>=Kimutatás!B$2,E2366<=Kimutatás!B$3)","v":true}]
[2366,"Kaposvár","007","Q1","2019-01-24","Lakossági hitelnövekmény összege ",45,"Mhuf","2019-02-01","vica23",{"$f":"AND(E2367>=Kimutatás!B$2,E2367<=Kimutatás!B$3)","v":true}]
[2367,"Kaposvár","007","Q1","2019-01-24","Lakossági számlanyitás",0,"db","2019-02-01","vica23",{"$f":"AND(E2368>=Kimutatás!B$2,E2368<=Kimutatás!B$3)","v":true}]
[2368,"Kaposvár","007","Q1","2019-01-24","KKV hitelnövekmény (db)",1,"db","2019-02-01","vica23",{"$f":"AND(E2369>=Kimutatás!B$2,E2369<=Kimutatás!B$3)","v":true}]
[2369,"Kaposvár","007","Q1","2019-01-24","KKV számlanyitás",4,"db","2019-02-01","vica23",{"$f":"AND(E2370>=Kimutatás!B$2,E2370<=Kimutatás!B$3)","v":true}]
[2370,"Kaposvár","007","Q1","2019-01-24","Betét állomány növekmény",-18,"Mhuf","2019-02-01","vica23",{"$f":"AND(E2371>=Kimutatás!B$2,E2371<=Kimutatás!B$3)","v":true}]
[2371,"Kaposvár","007","Q1","2019-01-27","Betérő ügyfelek",30,"fő","2019-02-01","vica23",{"$f":"AND(E2372>=Kimutatás!B$2,E2372<=Kimutatás!B$3)","v":true}]
[2372,"Kaposvár","007","Q1","2019-01-27","Lakossági hitelnövekmény összege ",8,"Mhuf","2019-02-01","vica23",{"$f":"AND(E2373>=Kimutatás!B$2,E2373<=Kimutatás!B$3)","v":true}]
[2373,"Kaposvár","007","Q1","2019-01-27","Lakossági számlanyitás",5,"db","2019-02-01","vica23",{"$f":"AND(E2374>=Kimutatás!B$2,E2374<=Kimutatás!B$3)","v":true}]
[2374,"Kaposvár","007","Q1","2019-01-27","KKV hitelnövekmény (db)",-1,"db","2019-02-01","vica23",{"$f":"AND(E2375>=Kimutatás!B$2,E2375<=Kimutatás!B$3)","v":true}]
[2375,"Kaposvár","007","Q1","2019-01-27","KKV számlanyitás",0,"db","2019-02-01","vica23",{"$f":"AND(E2376>=Kimutatás!B$2,E2376<=Kimutatás!B$3)","v":true}]
[2376,"Kaposvár","007","Q1","2019-01-27","Betét állomány növekmény",36,"Mhuf","2019-02-01","vica23",{"$f":"AND(E2377>=Kimutatás!B$2,E2377<=Kimutatás!B$3)","v":true}]
[2377,"Kaposvár","007","Q1","2019-01-28","Betérő ügyfelek",35,"fő","2019-02-01","vica23",{"$f":"AND(E2378>=Kimutatás!B$2,E2378<=Kimutatás!B$3)","v":true}]
[2378,"Kaposvár","007","Q1","2019-01-28","Lakossági hitelnövekmény összege ",20,"Mhuf","2019-02-01","vica23",{"$f":"AND(E2379>=Kimutatás!B$2,E2379<=Kimutatás!B$3)","v":true}]
[2379,"Kaposvár","007","Q1","2019-01-28","Lakossági számlanyitás",1,"db","2019-02-01","vica23",{"$f":"AND(E2380>=Kimutatás!B$2,E2380<=Kimutatás!B$3)","v":true}]
[2380,"Kaposvár","007","Q1","2019-01-28","KKV hitelnövekmény (db)",-1,"db","2019-02-01","vica23",{"$f":"AND(E2381>=Kimutatás!B$2,E2381<=Kimutatás!B$3)","v":true}]
[2381,"Kaposvár","007","Q1","2019-01-28","KKV számlanyitás",-4,"db","2019-02-01","vica23",{"$f":"AND(E2382>=Kimutatás!B$2,E2382<=Kimutatás!B$3)","v":true}]
[2382,"Kaposvár","007","Q1","2019-01-28","Betét állomány növekmény",33,"Mhuf","2019-02-01","vica23",{"$f":"AND(E2383>=Kimutatás!B$2,E2383<=Kimutatás!B$3)","v":true}]
[2383,"Kaposvár","007","Q1","2019-01-29","Betérő ügyfelek",19,"fő","2019-02-01","vica23",{"$f":"AND(E2384>=Kimutatás!B$2,E2384<=Kimutatás!B$3)","v":true}]
[2384,"Kaposvár","007","Q1","2019-01-29","Lakossági hitelnövekmény összege ",-2,"Mhuf","2019-02-01","vica23",{"$f":"AND(E2385>=Kimutatás!B$2,E2385<=Kimutatás!B$3)","v":true}]
[2385,"Kaposvár","007","Q1","2019-01-29","Lakossági számlanyitás",1,"db","2019-02-01","vica23",{"$f":"AND(E2386>=Kimutatás!B$2,E2386<=Kimutatás!B$3)","v":true}]
[2386,"Kaposvár","007","Q1","2019-01-29","KKV hitelnövekmény (db)",-2,"db","2019-02-01","vica23",{"$f":"AND(E2387>=Kimutatás!B$2,E2387<=Kimutatás!B$3)","v":true}]
[2387,"Kaposvár","007","Q1","2019-01-29","KKV számlanyitás",4,"db","2019-02-01","vica23",{"$f":"AND(E2388>=Kimutatás!B$2,E2388<=Kimutatás!B$3)","v":true}]
[2388,"Kaposvár","007","Q1","2019-01-29","Betét állomány növekmény",22,"Mhuf","2019-02-01","vica23",{"$f":"AND(E2389>=Kimutatás!B$2,E2389<=Kimutatás!B$3)","v":true}]
[2389,"Kaposvár","007","Q1","2019-01-30","Betérő ügyfelek",25,"fő","2019-02-01","vica23",{"$f":"AND(E2390>=Kimutatás!B$2,E2390<=Kimutatás!B$3)","v":true}]
[2390,"Kaposvár","007","Q1","2019-01-30","Lakossági hitelnövekmény összege ",3,"Mhuf","2019-02-01","vica23",{"$f":"AND(E2391>=Kimutatás!B$2,E2391<=Kimutatás!B$3)","v":true}]
[2391,"Kaposvár","007","Q1","2019-01-30","Lakossági számlanyitás",-2,"db","2019-02-01","vica23",{"$f":"AND(E2392>=Kimutatás!B$2,E2392<=Kimutatás!B$3)","v":true}]
[2392,"Kaposvár","007","Q1","2019-01-30","KKV hitelnövekmény (db)",2,"db","2019-02-01","vica23",{"$f":"AND(E2393>=Kimutatás!B$2,E2393<=Kimutatás!B$3)","v":true}]
[2393,"Kaposvár","007","Q1","2019-01-30","KKV számlanyitás",-5,"db","2019-02-01","vica23",{"$f":"AND(E2394>=Kimutatás!B$2,E2394<=Kimutatás!B$3)","v":true}]
[2394,"Kaposvár","007","Q1","2019-01-30","Betét állomány növekmény",-15,"Mhuf","2019-02-01","vica23",{"$f":"AND(E2395>=Kimutatás!B$2,E2395<=Kimutatás!B$3)","v":true}]
[2395,"Kaposvár","007","Q1","2019-01-31","Betérő ügyfelek",32,"fő","2019-02-01","vica23",{"$f":"AND(E2396>=Kimutatás!B$2,E2396<=Kimutatás!B$3)","v":true}]
[2396,"Kaposvár","007","Q1","2019-01-31","Lakossági hitelnövekmény összege ",6,"Mhuf","2019-02-01","vica23",{"$f":"AND(E2397>=Kimutatás!B$2,E2397<=Kimutatás!B$3)","v":true}]
[2397,"Kaposvár","007","Q1","2019-01-31","Lakossági számlanyitás",1,"db","2019-02-01","vica23",{"$f":"AND(E2398>=Kimutatás!B$2,E2398<=Kimutatás!B$3)","v":true}]
[2398,"Kaposvár","007","Q1","2019-01-31","KKV hitelnövekmény (db)",0,"db","2019-02-01","vica23",{"$f":"AND(E2399>=Kimutatás!B$2,E2399<=Kimutatás!B$3)","v":true}]
[2399,"Kaposvár","007","Q1","2019-01-31","KKV számlanyitás",1,"db","2019-02-01","vica23",{"$f":"AND(E2400>=Kimutatás!B$2,E2400<=Kimutatás!B$3)","v":true}]
[2400,"Kaposvár","007","Q1","2019-01-31","Betét állomány növekmény",23,"Mhuf","2019-02-01","vica23",{"$f":"AND(E2401>=Kimutatás!B$2,E2401<=Kimutatás!B$3)","v":true}]
[2401,"Kaposvár","007","Q1","2019-02-03","Betérő ügyfelek",44,"fő","2019-03-01","bonca",{"$f":"AND(E2402>=Kimutatás!B$2,E2402<=Kimutatás!B$3)","v":true}]
[2402,"Kaposvár","007","Q1","2019-02-03","Lakossági hitelnövekmény összege ",-4,"Mhuf","2019-03-01","bonca",{"$f":"AND(E2403>=Kimutatás!B$2,E2403<=Kimutatás!B$3)","v":true}]
[2403,"Kaposvár","007","Q1","2019-02-03","Lakossági számlanyitás",-2,"db","2019-03-01","bonca",{"$f":"AND(E2404>=Kimutatás!B$2,E2404<=Kimutatás!B$3)","v":true}]
[2404,"Kaposvár","007","Q1","2019-02-03","KKV hitelnövekmény (db)",-2,"db","2019-03-01","bonca",{"$f":"AND(E2405>=Kimutatás!B$2,E2405<=Kimutatás!B$3)","v":true}]
[2405,"Kaposvár","007","Q1","2019-02-03","KKV számlanyitás",3,"db","2019-03-01","bonca",{"$f":"AND(E2406>=Kimutatás!B$2,E2406<=Kimutatás!B$3)","v":true}]
[2406,"Kaposvár","007","Q1","2019-02-03","Betét állomány növekmény",45,"Mhuf","2019-03-01","bonca",{"$f":"AND(E2407>=Kimutatás!B$2,E2407<=Kimutatás!B$3)","v":true}]
[2407,"Kaposvár","007","Q1","2019-02-04","Betérő ügyfelek",19,"fő","2019-03-01","bonca",{"$f":"AND(E2408>=Kimutatás!B$2,E2408<=Kimutatás!B$3)","v":true}]
[2408,"Kaposvár","007","Q1","2019-02-04","Lakossági hitelnövekmény összege ",25,"Mhuf","2019-03-01","bonca",{"$f":"AND(E2409>=Kimutatás!B$2,E2409<=Kimutatás!B$3)","v":true}]
[2409,"Kaposvár","007","Q1","2019-02-04","Lakossági számlanyitás",5,"db","2019-03-01","bonca",{"$f":"AND(E2410>=Kimutatás!B$2,E2410<=Kimutatás!B$3)","v":true}]
[2410,"Kaposvár","007","Q1","2019-02-04","KKV hitelnövekmény (db)",0,"db","2019-03-01","bonca",{"$f":"AND(E2411>=Kimutatás!B$2,E2411<=Kimutatás!B$3)","v":true}]
[2411,"Kaposvár","007","Q1","2019-02-04","KKV számlanyitás",3,"db","2019-03-01","bonca",{"$f":"AND(E2412>=Kimutatás!B$2,E2412<=Kimutatás!B$3)","v":true}]
[2412,"Kaposvár","007","Q1","2019-02-04","Betét állomány növekmény",5,"Mhuf","2019-03-01","bonca",{"$f":"AND(E2413>=Kimutatás!B$2,E2413<=Kimutatás!B$3)","v":true}]
[2413,"Kaposvár","007","Q1","2019-02-05","Betérő ügyfelek",18,"fő","2019-03-01","bonca",{"$f":"AND(E2414>=Kimutatás!B$2,E2414<=Kimutatás!B$3)","v":true}]
[2414,"Kaposvár","007","Q1","2019-02-05","Lakossági hitelnövekmény összege ",2,"Mhuf","2019-03-01","bonca",{"$f":"AND(E2415>=Kimutatás!B$2,E2415<=Kimutatás!B$3)","v":true}]
[2415,"Kaposvár","007","Q1","2019-02-05","Lakossági számlanyitás",10,"db","2019-03-01","bonca",{"$f":"AND(E2416>=Kimutatás!B$2,E2416<=Kimutatás!B$3)","v":true}]
[2416,"Kaposvár","007","Q1","2019-02-05","KKV hitelnövekmény (db)",1,"db","2019-03-01","bonca",{"$f":"AND(E2417>=Kimutatás!B$2,E2417<=Kimutatás!B$3)","v":true}]
[2417,"Kaposvár","007","Q1","2019-02-05","KKV számlanyitás",-1,"db","2019-03-01","bonca",{"$f":"AND(E2418>=Kimutatás!B$2,E2418<=Kimutatás!B$3)","v":true}]
[2418,"Kaposvár","007","Q1","2019-02-05","Betét állomány növekmény",31,"Mhuf","2019-03-01","bonca",{"$f":"AND(E2419>=Kimutatás!B$2,E2419<=Kimutatás!B$3)","v":true}]
[2419,"Kaposvár","007","Q1","2019-02-06","Betérő ügyfelek",49,"fő","2019-03-01","bonca",{"$f":"AND(E2420>=Kimutatás!B$2,E2420<=Kimutatás!B$3)","v":true}]
[2420,"Kaposvár","007","Q1","2019-02-06","Lakossági hitelnövekmény összege ",1,"Mhuf","2019-03-01","bonca",{"$f":"AND(E2421>=Kimutatás!B$2,E2421<=Kimutatás!B$3)","v":true}]
[2421,"Kaposvár","007","Q1","2019-02-06","Lakossági számlanyitás",0,"db","2019-03-01","bonca",{"$f":"AND(E2422>=Kimutatás!B$2,E2422<=Kimutatás!B$3)","v":true}]
[2422,"Kaposvár","007","Q1","2019-02-06","KKV hitelnövekmény (db)",1,"db","2019-03-01","bonca",{"$f":"AND(E2423>=Kimutatás!B$2,E2423<=Kimutatás!B$3)","v":true}]
[2423,"Kaposvár","007","Q1","2019-02-06","KKV számlanyitás",5,"db","2019-03-01","bonca",{"$f":"AND(E2424>=Kimutatás!B$2,E2424<=Kimutatás!B$3)","v":true}]
[2424,"Kaposvár","007","Q1","2019-02-06","Betét állomány növekmény",-9,"Mhuf","2019-03-01","bonca",{"$f":"AND(E2425>=Kimutatás!B$2,E2425<=Kimutatás!B$3)","v":true}]
[2425,"Kaposvár","007","Q1","2019-02-07","Betérő ügyfelek",35,"fő","2019-03-01","bonca",{"$f":"AND(E2426>=Kimutatás!B$2,E2426<=Kimutatás!B$3)","v":true}]
[2426,"Kaposvár","007","Q1","2019-02-07","Lakossági hitelnövekmény összege ",4,"Mhuf","2019-03-01","bonca",{"$f":"AND(E2427>=Kimutatás!B$2,E2427<=Kimutatás!B$3)","v":true}]
[2427,"Kaposvár","007","Q1","2019-02-07","Lakossági számlanyitás",7,"db","2019-03-01","bonca",{"$f":"AND(E2428>=Kimutatás!B$2,E2428<=Kimutatás!B$3)","v":true}]
[2428,"Kaposvár","007","Q1","2019-02-07","KKV hitelnövekmény (db)",-1,"db","2019-03-01","bonca",{"$f":"AND(E2429>=Kimutatás!B$2,E2429<=Kimutatás!B$3)","v":true}]
[2429,"Kaposvár","007","Q1","2019-02-07","KKV számlanyitás",4,"db","2019-03-01","bonca",{"$f":"AND(E2430>=Kimutatás!B$2,E2430<=Kimutatás!B$3)","v":true}]
[2430,"Kaposvár","007","Q1","2019-02-07","Betét állomány növekmény",41,"Mhuf","2019-03-01","bonca",{"$f":"AND(E2431>=Kimutatás!B$2,E2431<=Kimutatás!B$3)","v":true}]
[2431,"Kaposvár","007","Q1","2019-02-10","Betérő ügyfelek",14,"fő","2019-03-01","bonca",{"$f":"AND(E2432>=Kimutatás!B$2,E2432<=Kimutatás!B$3)","v":true}]
[2432,"Kaposvár","007","Q1","2019-02-10","Lakossági hitelnövekmény összege ",8,"Mhuf","2019-03-01","bonca",{"$f":"AND(E2433>=Kimutatás!B$2,E2433<=Kimutatás!B$3)","v":true}]
[2433,"Kaposvár","007","Q1","2019-02-10","Lakossági számlanyitás",1,"db","2019-03-01","bonca",{"$f":"AND(E2434>=Kimutatás!B$2,E2434<=Kimutatás!B$3)","v":true}]
[2434,"Kaposvár","007","Q1","2019-02-10","KKV hitelnövekmény (db)",0,"db","2019-03-01","bonca",{"$f":"AND(E2435>=Kimutatás!B$2,E2435<=Kimutatás!B$3)","v":true}]
[2435,"Kaposvár","007","Q1","2019-02-10","KKV számlanyitás",0,"db","2019-03-01","bonca",{"$f":"AND(E2436>=Kimutatás!B$2,E2436<=Kimutatás!B$3)","v":true}]
[2436,"Kaposvár","007","Q1","2019-02-10","Betét állomány növekmény",22,"Mhuf","2019-03-01","bonca",{"$f":"AND(E2437>=Kimutatás!B$2,E2437<=Kimutatás!B$3)","v":true}]
[2437,"Kaposvár","007","Q1","2019-02-11","Betérő ügyfelek",10,"fő","2019-03-01","bonca",{"$f":"AND(E2438>=Kimutatás!B$2,E2438<=Kimutatás!B$3)","v":true}]
[2438,"Kaposvár","007","Q1","2019-02-11","Lakossági hitelnövekmény összege ",27,"Mhuf","2019-03-01","bonca",{"$f":"AND(E2439>=Kimutatás!B$2,E2439<=Kimutatás!B$3)","v":true}]
[2439,"Kaposvár","007","Q1","2019-02-11","Lakossági számlanyitás",6,"db","2019-03-01","bonca",{"$f":"AND(E2440>=Kimutatás!B$2,E2440<=Kimutatás!B$3)","v":true}]
[2440,"Kaposvár","007","Q1","2019-02-11","KKV hitelnövekmény (db)",0,"db","2019-03-01","bonca",{"$f":"AND(E2441>=Kimutatás!B$2,E2441<=Kimutatás!B$3)","v":true}]
[2441,"Kaposvár","007","Q1","2019-02-11","KKV számlanyitás",1,"db","2019-03-01","bonca",{"$f":"AND(E2442>=Kimutatás!B$2,E2442<=Kimutatás!B$3)","v":true}]
[2442,"Kaposvár","007","Q1","2019-02-11","Betét állomány növekmény",18,"Mhuf","2019-03-01","bonca",{"$f":"AND(E2443>=Kimutatás!B$2,E2443<=Kimutatás!B$3)","v":true}]
[2443,"Kaposvár","007","Q1","2019-02-12","Betérő ügyfelek",6,"fő","2019-03-01","bonca",{"$f":"AND(E2444>=Kimutatás!B$2,E2444<=Kimutatás!B$3)","v":true}]
[2444,"Kaposvár","007","Q1","2019-02-12","Lakossági hitelnövekmény összege ",14,"Mhuf","2019-03-01","bonca",{"$f":"AND(E2445>=Kimutatás!B$2,E2445<=Kimutatás!B$3)","v":true}]
[2445,"Kaposvár","007","Q1","2019-02-12","Lakossági számlanyitás",3,"db","2019-03-01","bonca",{"$f":"AND(E2446>=Kimutatás!B$2,E2446<=Kimutatás!B$3)","v":true}]
[2446,"Kaposvár","007","Q1","2019-02-12","KKV hitelnövekmény (db)",-2,"db","2019-03-01","bonca",{"$f":"AND(E2447>=Kimutatás!B$2,E2447<=Kimutatás!B$3)","v":true}]
[2447,"Kaposvár","007","Q1","2019-02-12","KKV számlanyitás",-2,"db","2019-03-01","bonca",{"$f":"AND(E2448>=Kimutatás!B$2,E2448<=Kimutatás!B$3)","v":true}]
[2448,"Kaposvár","007","Q1","2019-02-12","Betét állomány növekmény",17,"Mhuf","2019-03-01","bonca",{"$f":"AND(E2449>=Kimutatás!B$2,E2449<=Kimutatás!B$3)","v":true}]
[2449,"Kaposvár","007","Q1","2019-02-13","Betérő ügyfelek",21,"fő","2019-03-01","bonca",{"$f":"AND(E2450>=Kimutatás!B$2,E2450<=Kimutatás!B$3)","v":true}]
[2450,"Kaposvár","007","Q1","2019-02-13","Lakossági hitelnövekmény összege ",33,"Mhuf","2019-03-01","bonca",{"$f":"AND(E2451>=Kimutatás!B$2,E2451<=Kimutatás!B$3)","v":true}]
[2451,"Kaposvár","007","Q1","2019-02-13","Lakossági számlanyitás",8,"db","2019-03-01","bonca",{"$f":"AND(E2452>=Kimutatás!B$2,E2452<=Kimutatás!B$3)","v":true}]
[2452,"Kaposvár","007","Q1","2019-02-13","KKV hitelnövekmény (db)",0,"db","2019-03-01","bonca",{"$f":"AND(E2453>=Kimutatás!B$2,E2453<=Kimutatás!B$3)","v":true}]
[2453,"Kaposvár","007","Q1","2019-02-13","KKV számlanyitás",4,"db","2019-03-01","bonca",{"$f":"AND(E2454>=Kimutatás!B$2,E2454<=Kimutatás!B$3)","v":true}]
[2454,"Kaposvár","007","Q1","2019-02-13","Betét állomány növekmény",29,"Mhuf","2019-03-01","bonca",{"$f":"AND(E2455>=Kimutatás!B$2,E2455<=Kimutatás!B$3)","v":true}]
[2455,"Kaposvár","007","Q1","2019-02-14","Betérő ügyfelek",34,"fő","2019-03-01","bonca",{"$f":"AND(E2456>=Kimutatás!B$2,E2456<=Kimutatás!B$3)","v":true}]
[2456,"Kaposvár","007","Q1","2019-02-14","Lakossági hitelnövekmény összege ",50,"Mhuf","2019-03-01","bonca",{"$f":"AND(E2457>=Kimutatás!B$2,E2457<=Kimutatás!B$3)","v":true}]
[2457,"Kaposvár","007","Q1","2019-02-14","Lakossági számlanyitás",5,"db","2019-03-01","bonca",{"$f":"AND(E2458>=Kimutatás!B$2,E2458<=Kimutatás!B$3)","v":true}]
[2458,"Kaposvár","007","Q1","2019-02-14","KKV hitelnövekmény (db)",-2,"db","2019-03-01","bonca",{"$f":"AND(E2459>=Kimutatás!B$2,E2459<=Kimutatás!B$3)","v":true}]
[2459,"Kaposvár","007","Q1","2019-02-14","KKV számlanyitás",1,"db","2019-03-01","bonca",{"$f":"AND(E2460>=Kimutatás!B$2,E2460<=Kimutatás!B$3)","v":true}]
[2460,"Kaposvár","007","Q1","2019-02-14","Betét állomány növekmény",43,"Mhuf","2019-03-01","bonca",{"$f":"AND(E2461>=Kimutatás!B$2,E2461<=Kimutatás!B$3)","v":true}]
[2461,"Kaposvár","007","Q1","2019-02-17","Betérő ügyfelek",35,"fő","2019-03-01","bonca",{"$f":"AND(E2462>=Kimutatás!B$2,E2462<=Kimutatás!B$3)","v":true}]
[2462,"Kaposvár","007","Q1","2019-02-17","Lakossági hitelnövekmény összege ",49,"Mhuf","2019-03-01","bonca",{"$f":"AND(E2463>=Kimutatás!B$2,E2463<=Kimutatás!B$3)","v":true}]
[2463,"Kaposvár","007","Q1","2019-02-17","Lakossági számlanyitás",9,"db","2019-03-01","bonca",{"$f":"AND(E2464>=Kimutatás!B$2,E2464<=Kimutatás!B$3)","v":true}]
[2464,"Kaposvár","007","Q1","2019-02-17","KKV hitelnövekmény (db)",2,"db","2019-03-01","bonca",{"$f":"AND(E2465>=Kimutatás!B$2,E2465<=Kimutatás!B$3)","v":true}]
[2465,"Kaposvár","007","Q1","2019-02-17","KKV számlanyitás",-2,"db","2019-03-01","bonca",{"$f":"AND(E2466>=Kimutatás!B$2,E2466<=Kimutatás!B$3)","v":true}]
[2466,"Kaposvár","007","Q1","2019-02-17","Betét állomány növekmény",-5,"Mhuf","2019-03-01","bonca",{"$f":"AND(E2467>=Kimutatás!B$2,E2467<=Kimutatás!B$3)","v":true}]
[2467,"Kaposvár","007","Q1","2019-02-18","Betérő ügyfelek",49,"fő","2019-03-01","bonca",{"$f":"AND(E2468>=Kimutatás!B$2,E2468<=Kimutatás!B$3)","v":true}]
[2468,"Kaposvár","007","Q1","2019-02-18","Lakossági hitelnövekmény összege ",1,"Mhuf","2019-03-01","bonca",{"$f":"AND(E2469>=Kimutatás!B$2,E2469<=Kimutatás!B$3)","v":true}]
[2469,"Kaposvár","007","Q1","2019-02-18","Lakossági számlanyitás",2,"db","2019-03-01","bonca",{"$f":"AND(E2470>=Kimutatás!B$2,E2470<=Kimutatás!B$3)","v":true}]
[2470,"Kaposvár","007","Q1","2019-02-18","KKV hitelnövekmény (db)",1,"db","2019-03-01","bonca",{"$f":"AND(E2471>=Kimutatás!B$2,E2471<=Kimutatás!B$3)","v":true}]
[2471,"Kaposvár","007","Q1","2019-02-18","KKV számlanyitás",4,"db","2019-03-01","bonca",{"$f":"AND(E2472>=Kimutatás!B$2,E2472<=Kimutatás!B$3)","v":true}]
[2472,"Kaposvár","007","Q1","2019-02-18","Betét állomány növekmény",41,"Mhuf","2019-03-01","bonca",{"$f":"AND(E2473>=Kimutatás!B$2,E2473<=Kimutatás!B$3)","v":true}]
[2473,"Kaposvár","007","Q1","2019-02-19","Betérő ügyfelek",41,"fő","2019-03-01","bonca",{"$f":"AND(E2474>=Kimutatás!B$2,E2474<=Kimutatás!B$3)","v":true}]
[2474,"Kaposvár","007","Q1","2019-02-19","Lakossági hitelnövekmény összege ",46,"Mhuf","2019-03-01","bonca",{"$f":"AND(E2475>=Kimutatás!B$2,E2475<=Kimutatás!B$3)","v":true}]
[2475,"Kaposvár","007","Q1","2019-02-19","Lakossági számlanyitás",10,"db","2019-03-01","bonca",{"$f":"AND(E2476>=Kimutatás!B$2,E2476<=Kimutatás!B$3)","v":true}]
[2476,"Kaposvár","007","Q1","2019-02-19","KKV hitelnövekmény (db)",-2,"db","2019-03-01","bonca",{"$f":"AND(E2477>=Kimutatás!B$2,E2477<=Kimutatás!B$3)","v":true}]
[2477,"Kaposvár","007","Q1","2019-02-19","KKV számlanyitás",-2,"db","2019-03-01","bonca",{"$f":"AND(E2478>=Kimutatás!B$2,E2478<=Kimutatás!B$3)","v":true}]
[2478,"Kaposvár","007","Q1","2019-02-19","Betét állomány növekmény",39,"Mhuf","2019-03-01","bonca",{"$f":"AND(E2479>=Kimutatás!B$2,E2479<=Kimutatás!B$3)","v":true}]
[2479,"Kaposvár","007","Q1","2019-02-20","Betérő ügyfelek",34,"fő","2019-03-01","bonca",{"$f":"AND(E2480>=Kimutatás!B$2,E2480<=Kimutatás!B$3)","v":true}]
[2480,"Kaposvár","007","Q1","2019-02-20","Lakossági hitelnövekmény összege ",-3,"Mhuf","2019-03-01","bonca",{"$f":"AND(E2481>=Kimutatás!B$2,E2481<=Kimutatás!B$3)","v":true}]
[2481,"Kaposvár","007","Q1","2019-02-20","Lakossági számlanyitás",4,"db","2019-03-01","bonca",{"$f":"AND(E2482>=Kimutatás!B$2,E2482<=Kimutatás!B$3)","v":true}]
[2482,"Kaposvár","007","Q1","2019-02-20","KKV hitelnövekmény (db)",1,"db","2019-03-01","bonca",{"$f":"AND(E2483>=Kimutatás!B$2,E2483<=Kimutatás!B$3)","v":true}]
[2483,"Kaposvár","007","Q1","2019-02-20","KKV számlanyitás",-5,"db","2019-03-01","bonca",{"$f":"AND(E2484>=Kimutatás!B$2,E2484<=Kimutatás!B$3)","v":true}]
[2484,"Kaposvár","007","Q1","2019-02-20","Betét állomány növekmény",33,"Mhuf","2019-03-01","bonca",{"$f":"AND(E2485>=Kimutatás!B$2,E2485<=Kimutatás!B$3)","v":true}]
[2485,"Kaposvár","007","Q1","2019-02-21","Betérő ügyfelek",25,"fő","2019-03-01","bonca",{"$f":"AND(E2486>=Kimutatás!B$2,E2486<=Kimutatás!B$3)","v":true}]
[2486,"Kaposvár","007","Q1","2019-02-21","Lakossági hitelnövekmény összege ",9,"Mhuf","2019-03-01","bonca",{"$f":"AND(E2487>=Kimutatás!B$2,E2487<=Kimutatás!B$3)","v":true}]
[2487,"Kaposvár","007","Q1","2019-02-21","Lakossági számlanyitás",9,"db","2019-03-01","bonca",{"$f":"AND(E2488>=Kimutatás!B$2,E2488<=Kimutatás!B$3)","v":true}]
[2488,"Kaposvár","007","Q1","2019-02-21","KKV hitelnövekmény (db)",-1,"db","2019-03-01","bonca",{"$f":"AND(E2489>=Kimutatás!B$2,E2489<=Kimutatás!B$3)","v":true}]
[2489,"Kaposvár","007","Q1","2019-02-21","KKV számlanyitás",2,"db","2019-03-01","bonca",{"$f":"AND(E2490>=Kimutatás!B$2,E2490<=Kimutatás!B$3)","v":true}]
[2490,"Kaposvár","007","Q1","2019-02-21","Betét állomány növekmény",2,"Mhuf","2019-03-01","bonca",{"$f":"AND(E2491>=Kimutatás!B$2,E2491<=Kimutatás!B$3)","v":true}]
[2491,"Kaposvár","007","Q1","2019-02-24","Betérő ügyfelek",8,"fő","2019-03-01","bonca",{"$f":"AND(E2492>=Kimutatás!B$2,E2492<=Kimutatás!B$3)","v":true}]
[2492,"Kaposvár","007","Q1","2019-02-24","Lakossági hitelnövekmény összege ",-9,"Mhuf","2019-03-01","bonca",{"$f":"AND(E2493>=Kimutatás!B$2,E2493<=Kimutatás!B$3)","v":true}]
[2493,"Kaposvár","007","Q1","2019-02-24","Lakossági számlanyitás",-2,"db","2019-03-01","bonca",{"$f":"AND(E2494>=Kimutatás!B$2,E2494<=Kimutatás!B$3)","v":true}]
[2494,"Kaposvár","007","Q1","2019-02-24","KKV hitelnövekmény (db)",-1,"db","2019-03-01","bonca",{"$f":"AND(E2495>=Kimutatás!B$2,E2495<=Kimutatás!B$3)","v":true}]
[2495,"Kaposvár","007","Q1","2019-02-24","KKV számlanyitás",-5,"db","2019-03-01","bonca",{"$f":"AND(E2496>=Kimutatás!B$2,E2496<=Kimutatás!B$3)","v":true}]
[2496,"Kaposvár","007","Q1","2019-02-24","Betét állomány növekmény",49,"Mhuf","2019-03-01","bonca",{"$f":"AND(E2497>=Kimutatás!B$2,E2497<=Kimutatás!B$3)","v":true}]
[2497,"Kaposvár","007","Q1","2019-02-25","Betérő ügyfelek",33,"fő","2019-03-01","bonca",{"$f":"AND(E2498>=Kimutatás!B$2,E2498<=Kimutatás!B$3)","v":true}]
[2498,"Kaposvár","007","Q1","2019-02-25","Lakossági hitelnövekmény összege ",38,"Mhuf","2019-03-01","bonca",{"$f":"AND(E2499>=Kimutatás!B$2,E2499<=Kimutatás!B$3)","v":true}]
[2499,"Kaposvár","007","Q1","2019-02-25","Lakossági számlanyitás",-1,"db","2019-03-01","bonca",{"$f":"AND(E2500>=Kimutatás!B$2,E2500<=Kimutatás!B$3)","v":true}]
[2500,"Kaposvár","007","Q1","2019-02-25","KKV hitelnövekmény (db)",1,"db","2019-03-01","bonca",{"$f":"AND(E2501>=Kimutatás!B$2,E2501<=Kimutatás!B$3)","v":true}]
[2501,"Kaposvár","007","Q1","2019-02-25","KKV számlanyitás",-1,"db","2019-03-01","bonca",{"$f":"AND(E2502>=Kimutatás!B$2,E2502<=Kimutatás!B$3)","v":true}]
[2502,"Kaposvár","007","Q1","2019-02-25","Betét állomány növekmény",-19,"Mhuf","2019-03-01","bonca",{"$f":"AND(E2503>=Kimutatás!B$2,E2503<=Kimutatás!B$3)","v":true}]
[2503,"Kaposvár","007","Q1","2019-02-26","Betérő ügyfelek",15,"fő","2019-03-01","bonca",{"$f":"AND(E2504>=Kimutatás!B$2,E2504<=Kimutatás!B$3)","v":true}]
[2504,"Kaposvár","007","Q1","2019-02-26","Lakossági hitelnövekmény összege ",22,"Mhuf","2019-03-01","bonca",{"$f":"AND(E2505>=Kimutatás!B$2,E2505<=Kimutatás!B$3)","v":true}]
[2505,"Kaposvár","007","Q1","2019-02-26","Lakossági számlanyitás",1,"db","2019-03-01","bonca",{"$f":"AND(E2506>=Kimutatás!B$2,E2506<=Kimutatás!B$3)","v":true}]
[2506,"Kaposvár","007","Q1","2019-02-26","KKV hitelnövekmény (db)",0,"db","2019-03-01","bonca",{"$f":"AND(E2507>=Kimutatás!B$2,E2507<=Kimutatás!B$3)","v":true}]
[2507,"Kaposvár","007","Q1","2019-02-26","KKV számlanyitás",-1,"db","2019-03-01","bonca",{"$f":"AND(E2508>=Kimutatás!B$2,E2508<=Kimutatás!B$3)","v":true}]
[2508,"Kaposvár","007","Q1","2019-02-26","Betét állomány növekmény",26,"Mhuf","2019-03-01","bonca",{"$f":"AND(E2509>=Kimutatás!B$2,E2509<=Kimutatás!B$3)","v":true}]
[2509,"Kaposvár","007","Q1","2019-02-27","Betérő ügyfelek",1,"fő","2019-03-01","bonca",{"$f":"AND(E2510>=Kimutatás!B$2,E2510<=Kimutatás!B$3)","v":true}]
[2510,"Kaposvár","007","Q1","2019-02-27","Lakossági hitelnövekmény összege ",-5,"Mhuf","2019-03-01","bonca",{"$f":"AND(E2511>=Kimutatás!B$2,E2511<=Kimutatás!B$3)","v":true}]
[2511,"Kaposvár","007","Q1","2019-02-27","Lakossági számlanyitás",0,"db","2019-03-01","bonca",{"$f":"AND(E2512>=Kimutatás!B$2,E2512<=Kimutatás!B$3)","v":true}]
[2512,"Kaposvár","007","Q1","2019-02-27","KKV hitelnövekmény (db)",1,"db","2019-03-01","bonca",{"$f":"AND(E2513>=Kimutatás!B$2,E2513<=Kimutatás!B$3)","v":true}]
[2513,"Kaposvár","007","Q1","2019-02-27","KKV számlanyitás",-1,"db","2019-03-01","bonca",{"$f":"AND(E2514>=Kimutatás!B$2,E2514<=Kimutatás!B$3)","v":true}]
[2514,"Kaposvár","007","Q1","2019-02-27","Betét állomány növekmény",42,"Mhuf","2019-03-01","bonca",{"$f":"AND(E2515>=Kimutatás!B$2,E2515<=Kimutatás!B$3)","v":true}]
[2515,"Kaposvár","007","Q1","2019-02-28","Betérő ügyfelek",1,"fő","2019-03-01","bonca",{"$f":"AND(E2516>=Kimutatás!B$2,E2516<=Kimutatás!B$3)","v":true}]
[2516,"Kaposvár","007","Q1","2019-02-28","Lakossági hitelnövekmény összege ",8,"Mhuf","2019-03-01","bonca",{"$f":"AND(E2517>=Kimutatás!B$2,E2517<=Kimutatás!B$3)","v":true}]
[2517,"Kaposvár","007","Q1","2019-02-28","Lakossági számlanyitás",1,"db","2019-03-01","bonca",{"$f":"AND(E2518>=Kimutatás!B$2,E2518<=Kimutatás!B$3)","v":true}]
[2518,"Kaposvár","007","Q1","2019-02-28","KKV hitelnövekmény (db)",-1,"db","2019-03-01","bonca",{"$f":"AND(E2519>=Kimutatás!B$2,E2519<=Kimutatás!B$3)","v":true}]
[2519,"Kaposvár","007","Q1","2019-02-28","KKV számlanyitás",-3,"db","2019-03-01","bonca",{"$f":"AND(E2520>=Kimutatás!B$2,E2520<=Kimutatás!B$3)","v":true}]
[2520,"Kaposvár","007","Q1","2019-02-28","Betét állomány növekmény",9,"Mhuf","2019-03-01","bonca",{"$f":"AND(E2521>=Kimutatás!B$2,E2521<=Kimutatás!B$3)","v":true}]
[2521,"Kaposvár","007","Q1","2019-03-03","Betérő ügyfelek",29,"fő","2019-04-01","kiss132",{"$f":"AND(E2522>=Kimutatás!B$2,E2522<=Kimutatás!B$3)","v":true}]
[2522,"Kaposvár","007","Q1","2019-03-03","Lakossági hitelnövekmény összege ",49,"Mhuf","2019-04-01","kiss132",{"$f":"AND(E2523>=Kimutatás!B$2,E2523<=Kimutatás!B$3)","v":true}]
[2523,"Kaposvár","007","Q1","2019-03-03","Lakossági számlanyitás",-1,"db","2019-04-01","kiss132",{"$f":"AND(E2524>=Kimutatás!B$2,E2524<=Kimutatás!B$3)","v":true}]
[2524,"Kaposvár","007","Q1","2019-03-03","KKV hitelnövekmény (db)",2,"db","2019-04-01","kiss132",{"$f":"AND(E2525>=Kimutatás!B$2,E2525<=Kimutatás!B$3)","v":true}]
[2525,"Kaposvár","007","Q1","2019-03-03","KKV számlanyitás",4,"db","2019-04-01","kiss132",{"$f":"AND(E2526>=Kimutatás!B$2,E2526<=Kimutatás!B$3)","v":true}]
[2526,"Kaposvár","007","Q1","2019-03-03","Betét állomány növekmény",27,"Mhuf","2019-04-01","kiss132",{"$f":"AND(E2527>=Kimutatás!B$2,E2527<=Kimutatás!B$3)","v":true}]
[2527,"Kaposvár","007","Q1","2019-03-04","Betérő ügyfelek",44,"fő","2019-04-01","kiss132",{"$f":"AND(E2528>=Kimutatás!B$2,E2528<=Kimutatás!B$3)","v":true}]
[2528,"Kaposvár","007","Q1","2019-03-04","Lakossági hitelnövekmény összege ",30,"Mhuf","2019-04-01","kiss132",{"$f":"AND(E2529>=Kimutatás!B$2,E2529<=Kimutatás!B$3)","v":true}]
[2529,"Kaposvár","007","Q1","2019-03-04","Lakossági számlanyitás",10,"db","2019-04-01","kiss132",{"$f":"AND(E2530>=Kimutatás!B$2,E2530<=Kimutatás!B$3)","v":true}]
[2530,"Kaposvár","007","Q1","2019-03-04","KKV hitelnövekmény (db)",2,"db","2019-04-01","kiss132",{"$f":"AND(E2531>=Kimutatás!B$2,E2531<=Kimutatás!B$3)","v":true}]
[2531,"Kaposvár","007","Q1","2019-03-04","KKV számlanyitás",-5,"db","2019-04-01","kiss132",{"$f":"AND(E2532>=Kimutatás!B$2,E2532<=Kimutatás!B$3)","v":true}]
[2532,"Kaposvár","007","Q1","2019-03-04","Betét állomány növekmény",12,"Mhuf","2019-04-01","kiss132",{"$f":"AND(E2533>=Kimutatás!B$2,E2533<=Kimutatás!B$3)","v":true}]
[2533,"Kaposvár","007","Q1","2019-03-05","Betérő ügyfelek",43,"fő","2019-04-01","kiss132",{"$f":"AND(E2534>=Kimutatás!B$2,E2534<=Kimutatás!B$3)","v":true}]
[2534,"Kaposvár","007","Q1","2019-03-05","Lakossági hitelnövekmény összege ",33,"Mhuf","2019-04-01","kiss132",{"$f":"AND(E2535>=Kimutatás!B$2,E2535<=Kimutatás!B$3)","v":true}]
[2535,"Kaposvár","007","Q1","2019-03-05","Lakossági számlanyitás",6,"db","2019-04-01","kiss132",{"$f":"AND(E2536>=Kimutatás!B$2,E2536<=Kimutatás!B$3)","v":true}]
[2536,"Kaposvár","007","Q1","2019-03-05","KKV hitelnövekmény (db)",0,"db","2019-04-01","kiss132",{"$f":"AND(E2537>=Kimutatás!B$2,E2537<=Kimutatás!B$3)","v":true}]
[2537,"Kaposvár","007","Q1","2019-03-05","KKV számlanyitás",1,"db","2019-04-01","kiss132",{"$f":"AND(E2538>=Kimutatás!B$2,E2538<=Kimutatás!B$3)","v":true}]
[2538,"Kaposvár","007","Q1","2019-03-05","Betét állomány növekmény",16,"Mhuf","2019-04-01","kiss132",{"$f":"AND(E2539>=Kimutatás!B$2,E2539<=Kimutatás!B$3)","v":true}]
[2539,"Kaposvár","007","Q1","2019-03-06","Betérő ügyfelek",10,"fő","2019-04-01","kiss132",{"$f":"AND(E2540>=Kimutatás!B$2,E2540<=Kimutatás!B$3)","v":true}]
[2540,"Kaposvár","007","Q1","2019-03-06","Lakossági hitelnövekmény összege ",35,"Mhuf","2019-04-01","kiss132",{"$f":"AND(E2541>=Kimutatás!B$2,E2541<=Kimutatás!B$3)","v":true}]
[2541,"Kaposvár","007","Q1","2019-03-06","Lakossági számlanyitás",-3,"db","2019-04-01","kiss132",{"$f":"AND(E2542>=Kimutatás!B$2,E2542<=Kimutatás!B$3)","v":true}]
[2542,"Kaposvár","007","Q1","2019-03-06","KKV hitelnövekmény (db)",-1,"db","2019-04-01","kiss132",{"$f":"AND(E2543>=Kimutatás!B$2,E2543<=Kimutatás!B$3)","v":true}]
[2543,"Kaposvár","007","Q1","2019-03-06","KKV számlanyitás",3,"db","2019-04-01","kiss132",{"$f":"AND(E2544>=Kimutatás!B$2,E2544<=Kimutatás!B$3)","v":true}]
[2544,"Kaposvár","007","Q1","2019-03-06","Betét állomány növekmény",31,"Mhuf","2019-04-01","kiss132",{"$f":"AND(E2545>=Kimutatás!B$2,E2545<=Kimutatás!B$3)","v":true}]
[2545,"Kaposvár","007","Q1","2019-03-07","Betérő ügyfelek",33,"fő","2019-04-01","kiss132",{"$f":"AND(E2546>=Kimutatás!B$2,E2546<=Kimutatás!B$3)","v":true}]
[2546,"Kaposvár","007","Q1","2019-03-07","Lakossági hitelnövekmény összege ",8,"Mhuf","2019-04-01","kiss132",{"$f":"AND(E2547>=Kimutatás!B$2,E2547<=Kimutatás!B$3)","v":true}]
[2547,"Kaposvár","007","Q1","2019-03-07","Lakossági számlanyitás",4,"db","2019-04-01","kiss132",{"$f":"AND(E2548>=Kimutatás!B$2,E2548<=Kimutatás!B$3)","v":true}]
[2548,"Kaposvár","007","Q1","2019-03-07","KKV hitelnövekmény (db)",2,"db","2019-04-01","kiss132",{"$f":"AND(E2549>=Kimutatás!B$2,E2549<=Kimutatás!B$3)","v":true}]
[2549,"Kaposvár","007","Q1","2019-03-07","KKV számlanyitás",5,"db","2019-04-01","kiss132",{"$f":"AND(E2550>=Kimutatás!B$2,E2550<=Kimutatás!B$3)","v":true}]
[2550,"Kaposvár","007","Q1","2019-03-07","Betét állomány növekmény",14,"Mhuf","2019-04-01","kiss132",{"$f":"AND(E2551>=Kimutatás!B$2,E2551<=Kimutatás!B$3)","v":true}]
[2551,"Kaposvár","007","Q1","2019-03-10","Betérő ügyfelek",1,"fő","2019-04-01","kiss132",{"$f":"AND(E2552>=Kimutatás!B$2,E2552<=Kimutatás!B$3)","v":true}]
[2552,"Kaposvár","007","Q1","2019-03-10","Lakossági hitelnövekmény összege ",-10,"Mhuf","2019-04-01","kiss132",{"$f":"AND(E2553>=Kimutatás!B$2,E2553<=Kimutatás!B$3)","v":true}]
[2553,"Kaposvár","007","Q1","2019-03-10","Lakossági számlanyitás",9,"db","2019-04-01","kiss132",{"$f":"AND(E2554>=Kimutatás!B$2,E2554<=Kimutatás!B$3)","v":true}]
[2554,"Kaposvár","007","Q1","2019-03-10","KKV hitelnövekmény (db)",0,"db","2019-04-01","kiss132",{"$f":"AND(E2555>=Kimutatás!B$2,E2555<=Kimutatás!B$3)","v":true}]
[2555,"Kaposvár","007","Q1","2019-03-10","KKV számlanyitás",0,"db","2019-04-01","kiss132",{"$f":"AND(E2556>=Kimutatás!B$2,E2556<=Kimutatás!B$3)","v":true}]
[2556,"Kaposvár","007","Q1","2019-03-10","Betét állomány növekmény",35,"Mhuf","2019-04-01","kiss132",{"$f":"AND(E2557>=Kimutatás!B$2,E2557<=Kimutatás!B$3)","v":true}]
[2557,"Kaposvár","007","Q1","2019-03-11","Betérő ügyfelek",5,"fő","2019-04-01","kiss132",{"$f":"AND(E2558>=Kimutatás!B$2,E2558<=Kimutatás!B$3)","v":false}]
[2558,"Kaposvár","007","Q1","2019-03-11","Lakossági hitelnövekmény összege ",27,"Mhuf","2019-04-01","kiss132",{"$f":"AND(E2559>=Kimutatás!B$2,E2559<=Kimutatás!B$3)","v":false}]
[2559,"Kaposvár","007","Q1","2019-03-11","Lakossági számlanyitás",3,"db","2019-04-01","kiss132",{"$f":"AND(E2560>=Kimutatás!B$2,E2560<=Kimutatás!B$3)","v":false}]
[2560,"Kaposvár","007","Q1","2019-03-11","KKV hitelnövekmény (db)",-1,"db","2019-04-01","kiss132",{"$f":"AND(E2561>=Kimutatás!B$2,E2561<=Kimutatás!B$3)","v":false}]
[2561,"Kaposvár","007","Q1","2019-03-11","KKV számlanyitás",0,"db","2019-04-01","kiss132",{"$f":"AND(E2562>=Kimutatás!B$2,E2562<=Kimutatás!B$3)","v":false}]
[2562,"Kaposvár","007","Q1","2019-03-11","Betét állomány növekmény",-4,"Mhuf","2019-04-01","kiss132",{"$f":"AND(E2563>=Kimutatás!B$2,E2563<=Kimutatás!B$3)","v":false}]
[2563,"Kaposvár","007","Q1","2019-03-12","Betérő ügyfelek",12,"fő","2019-04-01","kiss132",{"$f":"AND(E2564>=Kimutatás!B$2,E2564<=Kimutatás!B$3)","v":false}]
[2564,"Kaposvár","007","Q1","2019-03-12","Lakossági hitelnövekmény összege ",18,"Mhuf","2019-04-01","kiss132",{"$f":"AND(E2565>=Kimutatás!B$2,E2565<=Kimutatás!B$3)","v":false}]
[2565,"Kaposvár","007","Q1","2019-03-12","Lakossági számlanyitás",-1,"db","2019-04-01","kiss132",{"$f":"AND(E2566>=Kimutatás!B$2,E2566<=Kimutatás!B$3)","v":false}]
[2566,"Kaposvár","007","Q1","2019-03-12","KKV hitelnövekmény (db)",0,"db","2019-04-01","kiss132",{"$f":"AND(E2567>=Kimutatás!B$2,E2567<=Kimutatás!B$3)","v":false}]
[2567,"Kaposvár","007","Q1","2019-03-12","KKV számlanyitás",-4,"db","2019-04-01","kiss132",{"$f":"AND(E2568>=Kimutatás!B$2,E2568<=Kimutatás!B$3)","v":false}]
[2568,"Kaposvár","007","Q1","2019-03-12","Betét állomány növekmény",3,"Mhuf","2019-04-01","kiss132",{"$f":"AND(E2569>=Kimutatás!B$2,E2569<=Kimutatás!B$3)","v":false}]
[2569,"Kaposvár","007","Q1","2019-03-13","Betérő ügyfelek",37,"fő","2019-04-01","kiss132",{"$f":"AND(E2570>=Kimutatás!B$2,E2570<=Kimutatás!B$3)","v":false}]
[2570,"Kaposvár","007","Q1","2019-03-13","Lakossági hitelnövekmény összege ",28,"Mhuf","2019-04-01","kiss132",{"$f":"AND(E2571>=Kimutatás!B$2,E2571<=Kimutatás!B$3)","v":false}]
[2571,"Kaposvár","007","Q1","2019-03-13","Lakossági számlanyitás",6,"db","2019-04-01","kiss132",{"$f":"AND(E2572>=Kimutatás!B$2,E2572<=Kimutatás!B$3)","v":false}]
[2572,"Kaposvár","007","Q1","2019-03-13","KKV hitelnövekmény (db)",0,"db","2019-04-01","kiss132",{"$f":"AND(E2573>=Kimutatás!B$2,E2573<=Kimutatás!B$3)","v":false}]
[2573,"Kaposvár","007","Q1","2019-03-13","KKV számlanyitás",1,"db","2019-04-01","kiss132",{"$f":"AND(E2574>=Kimutatás!B$2,E2574<=Kimutatás!B$3)","v":false}]
[2574,"Kaposvár","007","Q1","2019-03-13","Betét állomány növekmény",-8,"Mhuf","2019-04-01","kiss132",{"$f":"AND(E2575>=Kimutatás!B$2,E2575<=Kimutatás!B$3)","v":false}]
[2575,"Kaposvár","007","Q1","2019-03-14","Betérő ügyfelek",26,"fő","2019-04-01","kiss132",{"$f":"AND(E2576>=Kimutatás!B$2,E2576<=Kimutatás!B$3)","v":false}]
[2576,"Kaposvár","007","Q1","2019-03-14","Lakossági hitelnövekmény összege ",36,"Mhuf","2019-04-01","kiss132",{"$f":"AND(E2577>=Kimutatás!B$2,E2577<=Kimutatás!B$3)","v":false}]
[2577,"Kaposvár","007","Q1","2019-03-14","Lakossági számlanyitás",4,"db","2019-04-01","kiss132",{"$f":"AND(E2578>=Kimutatás!B$2,E2578<=Kimutatás!B$3)","v":false}]
[2578,"Kaposvár","007","Q1","2019-03-14","KKV hitelnövekmény (db)",2,"db","2019-04-01","kiss132",{"$f":"AND(E2579>=Kimutatás!B$2,E2579<=Kimutatás!B$3)","v":false}]
[2579,"Kaposvár","007","Q1","2019-03-14","KKV számlanyitás",-4,"db","2019-04-01","kiss132",{"$f":"AND(E2580>=Kimutatás!B$2,E2580<=Kimutatás!B$3)","v":false}]
[2580,"Kaposvár","007","Q1","2019-03-14","Betét állomány növekmény",6,"Mhuf","2019-04-01","kiss132",{"$f":"AND(E2581>=Kimutatás!B$2,E2581<=Kimutatás!B$3)","v":false}]
[2581,"Kaposvár","007","Q1","2019-03-17","Betérő ügyfelek",7,"fő","2019-04-01","kiss132",{"$f":"AND(E2582>=Kimutatás!B$2,E2582<=Kimutatás!B$3)","v":false}]
[2582,"Kaposvár","007","Q1","2019-03-17","Lakossági hitelnövekmény összege ",8,"Mhuf","2019-04-01","kiss132",{"$f":"AND(E2583>=Kimutatás!B$2,E2583<=Kimutatás!B$3)","v":false}]
[2583,"Kaposvár","007","Q1","2019-03-17","Lakossági számlanyitás",10,"db","2019-04-01","kiss132",{"$f":"AND(E2584>=Kimutatás!B$2,E2584<=Kimutatás!B$3)","v":false}]
[2584,"Kaposvár","007","Q1","2019-03-17","KKV hitelnövekmény (db)",1,"db","2019-04-01","kiss132",{"$f":"AND(E2585>=Kimutatás!B$2,E2585<=Kimutatás!B$3)","v":false}]
[2585,"Kaposvár","007","Q1","2019-03-17","KKV számlanyitás",-1,"db","2019-04-01","kiss132",{"$f":"AND(E2586>=Kimutatás!B$2,E2586<=Kimutatás!B$3)","v":false}]
[2586,"Kaposvár","007","Q1","2019-03-17","Betét állomány növekmény",15,"Mhuf","2019-04-01","kiss132",{"$f":"AND(E2587>=Kimutatás!B$2,E2587<=Kimutatás!B$3)","v":false}]
[2587,"Kaposvár","007","Q1","2019-03-18","Betérő ügyfelek",14,"fő","2019-04-01","kiss132",{"$f":"AND(E2588>=Kimutatás!B$2,E2588<=Kimutatás!B$3)","v":false}]
[2588,"Kaposvár","007","Q1","2019-03-18","Lakossági hitelnövekmény összege ",19,"Mhuf","2019-04-01","kiss132",{"$f":"AND(E2589>=Kimutatás!B$2,E2589<=Kimutatás!B$3)","v":false}]
[2589,"Kaposvár","007","Q1","2019-03-18","Lakossági számlanyitás",-2,"db","2019-04-01","kiss132",{"$f":"AND(E2590>=Kimutatás!B$2,E2590<=Kimutatás!B$3)","v":false}]
[2590,"Kaposvár","007","Q1","2019-03-18","KKV hitelnövekmény (db)",-1,"db","2019-04-01","kiss132",{"$f":"AND(E2591>=Kimutatás!B$2,E2591<=Kimutatás!B$3)","v":false}]
[2591,"Kaposvár","007","Q1","2019-03-18","KKV számlanyitás",-2,"db","2019-04-01","kiss132",{"$f":"AND(E2592>=Kimutatás!B$2,E2592<=Kimutatás!B$3)","v":false}]
[2592,"Kaposvár","007","Q1","2019-03-18","Betét állomány növekmény",33,"Mhuf","2019-04-01","kiss132",{"$f":"AND(E2593>=Kimutatás!B$2,E2593<=Kimutatás!B$3)","v":false}]
[2593,"Kaposvár","007","Q1","2019-03-19","Betérő ügyfelek",11,"fő","2019-04-01","kiss132",{"$f":"AND(E2594>=Kimutatás!B$2,E2594<=Kimutatás!B$3)","v":false}]
[2594,"Kaposvár","007","Q1","2019-03-19","Lakossági hitelnövekmény összege ",20,"Mhuf","2019-04-01","kiss132",{"$f":"AND(E2595>=Kimutatás!B$2,E2595<=Kimutatás!B$3)","v":false}]
[2595,"Kaposvár","007","Q1","2019-03-19","Lakossági számlanyitás",6,"db","2019-04-01","kiss132",{"$f":"AND(E2596>=Kimutatás!B$2,E2596<=Kimutatás!B$3)","v":false}]
[2596,"Kaposvár","007","Q1","2019-03-19","KKV hitelnövekmény (db)",-1,"db","2019-04-01","kiss132",{"$f":"AND(E2597>=Kimutatás!B$2,E2597<=Kimutatás!B$3)","v":false}]
[2597,"Kaposvár","007","Q1","2019-03-19","KKV számlanyitás",3,"db","2019-04-01","kiss132",{"$f":"AND(E2598>=Kimutatás!B$2,E2598<=Kimutatás!B$3)","v":false}]
[2598,"Kaposvár","007","Q1","2019-03-19","Betét állomány növekmény",40,"Mhuf","2019-04-01","kiss132",{"$f":"AND(E2599>=Kimutatás!B$2,E2599<=Kimutatás!B$3)","v":false}]
[2599,"Kaposvár","007","Q1","2019-03-20","Betérő ügyfelek",12,"fő","2019-04-01","kiss132",{"$f":"AND(E2600>=Kimutatás!B$2,E2600<=Kimutatás!B$3)","v":false}]
[2600,"Kaposvár","007","Q1","2019-03-20","Lakossági hitelnövekmény összege ",19,"Mhuf","2019-04-01","kiss132",{"$f":"AND(E2601>=Kimutatás!B$2,E2601<=Kimutatás!B$3)","v":false}]
[2601,"Kaposvár","007","Q1","2019-03-20","Lakossági számlanyitás",10,"db","2019-04-01","kiss132",{"$f":"AND(E2602>=Kimutatás!B$2,E2602<=Kimutatás!B$3)","v":false}]
[2602,"Kaposvár","007","Q1","2019-03-20","KKV hitelnövekmény (db)",2,"db","2019-04-01","kiss132",{"$f":"AND(E2603>=Kimutatás!B$2,E2603<=Kimutatás!B$3)","v":false}]
[2603,"Kaposvár","007","Q1","2019-03-20","KKV számlanyitás",0,"db","2019-04-01","kiss132",{"$f":"AND(E2604>=Kimutatás!B$2,E2604<=Kimutatás!B$3)","v":false}]
[2604,"Kaposvár","007","Q1","2019-03-20","Betét állomány növekmény",43,"Mhuf","2019-04-01","kiss132",{"$f":"AND(E2605>=Kimutatás!B$2,E2605<=Kimutatás!B$3)","v":false}]
[2605,"Kaposvár","007","Q1","2019-03-21","Betérő ügyfelek",35,"fő","2019-04-01","kiss132",{"$f":"AND(E2606>=Kimutatás!B$2,E2606<=Kimutatás!B$3)","v":false}]
[2606,"Kaposvár","007","Q1","2019-03-21","Lakossági hitelnövekmény összege ",33,"Mhuf","2019-04-01","kiss132",{"$f":"AND(E2607>=Kimutatás!B$2,E2607<=Kimutatás!B$3)","v":false}]
[2607,"Kaposvár","007","Q1","2019-03-21","Lakossági számlanyitás",-1,"db","2019-04-01","kiss132",{"$f":"AND(E2608>=Kimutatás!B$2,E2608<=Kimutatás!B$3)","v":false}]
[2608,"Kaposvár","007","Q1","2019-03-21","KKV hitelnövekmény (db)",-1,"db","2019-04-01","kiss132",{"$f":"AND(E2609>=Kimutatás!B$2,E2609<=Kimutatás!B$3)","v":false}]
[2609,"Kaposvár","007","Q1","2019-03-21","KKV számlanyitás",3,"db","2019-04-01","kiss132",{"$f":"AND(E2610>=Kimutatás!B$2,E2610<=Kimutatás!B$3)","v":false}]
[2610,"Kaposvár","007","Q1","2019-03-21","Betét állomány növekmény",21,"Mhuf","2019-04-01","kiss132",{"$f":"AND(E2611>=Kimutatás!B$2,E2611<=Kimutatás!B$3)","v":false}]
[2611,"Kaposvár","007","Q1","2019-03-24","Betérő ügyfelek",45,"fő","2019-04-01","kiss132",{"$f":"AND(E2612>=Kimutatás!B$2,E2612<=Kimutatás!B$3)","v":false}]
[2612,"Kaposvár","007","Q1","2019-03-24","Lakossági hitelnövekmény összege ",21,"Mhuf","2019-04-01","kiss132",{"$f":"AND(E2613>=Kimutatás!B$2,E2613<=Kimutatás!B$3)","v":false}]
[2613,"Kaposvár","007","Q1","2019-03-24","Lakossági számlanyitás",3,"db","2019-04-01","kiss132",{"$f":"AND(E2614>=Kimutatás!B$2,E2614<=Kimutatás!B$3)","v":false}]
[2614,"Kaposvár","007","Q1","2019-03-24","KKV hitelnövekmény (db)",0,"db","2019-04-01","kiss132",{"$f":"AND(E2615>=Kimutatás!B$2,E2615<=Kimutatás!B$3)","v":false}]
[2615,"Kaposvár","007","Q1","2019-03-24","KKV számlanyitás",0,"db","2019-04-01","kiss132",{"$f":"AND(E2616>=Kimutatás!B$2,E2616<=Kimutatás!B$3)","v":false}]
[2616,"Kaposvár","007","Q1","2019-03-24","Betét állomány növekmény",11,"Mhuf","2019-04-01","kiss132",{"$f":"AND(E2617>=Kimutatás!B$2,E2617<=Kimutatás!B$3)","v":false}]
[2617,"Kaposvár","007","Q1","2019-03-25","Betérő ügyfelek",2,"fő","2019-04-01","kiss132",{"$f":"AND(E2618>=Kimutatás!B$2,E2618<=Kimutatás!B$3)","v":false}]
[2618,"Kaposvár","007","Q1","2019-03-25","Lakossági hitelnövekmény összege ",-3,"Mhuf","2019-04-01","kiss132",{"$f":"AND(E2619>=Kimutatás!B$2,E2619<=Kimutatás!B$3)","v":false}]
[2619,"Kaposvár","007","Q1","2019-03-25","Lakossági számlanyitás",2,"db","2019-04-01","kiss132",{"$f":"AND(E2620>=Kimutatás!B$2,E2620<=Kimutatás!B$3)","v":false}]
[2620,"Kaposvár","007","Q1","2019-03-25","KKV hitelnövekmény (db)",1,"db","2019-04-01","kiss132",{"$f":"AND(E2621>=Kimutatás!B$2,E2621<=Kimutatás!B$3)","v":false}]
[2621,"Kaposvár","007","Q1","2019-03-25","KKV számlanyitás",-5,"db","2019-04-01","kiss132",{"$f":"AND(E2622>=Kimutatás!B$2,E2622<=Kimutatás!B$3)","v":false}]
[2622,"Kaposvár","007","Q1","2019-03-25","Betét állomány növekmény",-19,"Mhuf","2019-04-01","kiss132",{"$f":"AND(E2623>=Kimutatás!B$2,E2623<=Kimutatás!B$3)","v":false}]
[2623,"Kaposvár","007","Q1","2019-03-26","Betérő ügyfelek",35,"fő","2019-04-01","kiss132",{"$f":"AND(E2624>=Kimutatás!B$2,E2624<=Kimutatás!B$3)","v":false}]
[2624,"Kaposvár","007","Q1","2019-03-26","Lakossági hitelnövekmény összege ",38,"Mhuf","2019-04-01","kiss132",{"$f":"AND(E2625>=Kimutatás!B$2,E2625<=Kimutatás!B$3)","v":false}]
[2625,"Kaposvár","007","Q1","2019-03-26","Lakossági számlanyitás",1,"db","2019-04-01","kiss132",{"$f":"AND(E2626>=Kimutatás!B$2,E2626<=Kimutatás!B$3)","v":false}]
[2626,"Kaposvár","007","Q1","2019-03-26","KKV hitelnövekmény (db)",0,"db","2019-04-01","kiss132",{"$f":"AND(E2627>=Kimutatás!B$2,E2627<=Kimutatás!B$3)","v":false}]
[2627,"Kaposvár","007","Q1","2019-03-26","KKV számlanyitás",-1,"db","2019-04-01","kiss132",{"$f":"AND(E2628>=Kimutatás!B$2,E2628<=Kimutatás!B$3)","v":false}]
[2628,"Kaposvár","007","Q1","2019-03-26","Betét állomány növekmény",-13,"Mhuf","2019-04-01","kiss132",{"$f":"AND(E2629>=Kimutatás!B$2,E2629<=Kimutatás!B$3)","v":false}]
[2629,"Kaposvár","007","Q1","2019-03-27","Betérő ügyfelek",1,"fő","2019-04-01","kiss132",{"$f":"AND(E2630>=Kimutatás!B$2,E2630<=Kimutatás!B$3)","v":false}]
[2630,"Kaposvár","007","Q1","2019-03-27","Lakossági hitelnövekmény összege ",20,"Mhuf","2019-04-01","kiss132",{"$f":"AND(E2631>=Kimutatás!B$2,E2631<=Kimutatás!B$3)","v":false}]
[2631,"Kaposvár","007","Q1","2019-03-27","Lakossági számlanyitás",-2,"db","2019-04-01","kiss132",{"$f":"AND(E2632>=Kimutatás!B$2,E2632<=Kimutatás!B$3)","v":false}]
[2632,"Kaposvár","007","Q1","2019-03-27","KKV hitelnövekmény (db)",-2,"db","2019-04-01","kiss132",{"$f":"AND(E2633>=Kimutatás!B$2,E2633<=Kimutatás!B$3)","v":false}]
[2633,"Kaposvár","007","Q1","2019-03-27","KKV számlanyitás",-5,"db","2019-04-01","kiss132",{"$f":"AND(E2634>=Kimutatás!B$2,E2634<=Kimutatás!B$3)","v":false}]
[2634,"Kaposvár","007","Q1","2019-03-27","Betét állomány növekmény",20,"Mhuf","2019-04-01","kiss132",{"$f":"AND(E2635>=Kimutatás!B$2,E2635<=Kimutatás!B$3)","v":false}]
[2635,"Kaposvár","007","Q1","2019-03-28","Betérő ügyfelek",44,"fő","2019-04-01","kiss132",{"$f":"AND(E2636>=Kimutatás!B$2,E2636<=Kimutatás!B$3)","v":false}]
[2636,"Kaposvár","007","Q1","2019-03-28","Lakossági hitelnövekmény összege ",43,"Mhuf","2019-04-01","kiss132",{"$f":"AND(E2637>=Kimutatás!B$2,E2637<=Kimutatás!B$3)","v":false}]
[2637,"Kaposvár","007","Q1","2019-03-28","Lakossági számlanyitás",-5,"db","2019-04-01","kiss132",{"$f":"AND(E2638>=Kimutatás!B$2,E2638<=Kimutatás!B$3)","v":false}]
[2638,"Kaposvár","007","Q1","2019-03-28","KKV hitelnövekmény (db)",2,"db","2019-04-01","kiss132",{"$f":"AND(E2639>=Kimutatás!B$2,E2639<=Kimutatás!B$3)","v":false}]
[2639,"Kaposvár","007","Q1","2019-03-28","KKV számlanyitás",-1,"db","2019-04-01","kiss132",{"$f":"AND(E2640>=Kimutatás!B$2,E2640<=Kimutatás!B$3)","v":false}]
[2640,"Kaposvár","007","Q1","2019-03-28","Betét állomány növekmény",44,"Mhuf","2019-04-01","kiss132",{"$f":"AND(E2641>=Kimutatás!B$2,E2641<=Kimutatás!B$3)","v":false}]
[2641,"Kaposvár","007","Q1","2019-03-31","Betérő ügyfelek",22,"fő","2019-04-01","kiss132",{"$f":"AND(E2642>=Kimutatás!B$2,E2642<=Kimutatás!B$3)","v":false}]
[2642,"Kaposvár","007","Q1","2019-03-31","Lakossági hitelnövekmény összege ",35,"Mhuf","2019-04-01","kiss132",{"$f":"AND(E2643>=Kimutatás!B$2,E2643<=Kimutatás!B$3)","v":false}]
[2643,"Kaposvár","007","Q1","2019-03-31","Lakossági számlanyitás",-3,"db","2019-04-01","kiss132",{"$f":"AND(E2644>=Kimutatás!B$2,E2644<=Kimutatás!B$3)","v":false}]
[2644,"Kaposvár","007","Q1","2019-03-31","KKV hitelnövekmény (db)",2,"db","2019-04-01","kiss132",{"$f":"AND(E2645>=Kimutatás!B$2,E2645<=Kimutatás!B$3)","v":false}]
[2645,"Kaposvár","007","Q1","2019-03-31","KKV számlanyitás",-2,"db","2019-04-01","kiss132",{"$f":"AND(E2646>=Kimutatás!B$2,E2646<=Kimutatás!B$3)","v":false}]
[2646,"Kaposvár","007","Q1","2019-03-31","Betét állomány növekmény",-4,"Mhuf","2019-04-01","kiss132",{"$f":"AND(E2647>=Kimutatás!B$2,E2647<=Kimutatás!B$3)","v":false}]
[2647,"Kecskemét","008","Q1","2019-01-02","Betérő ügyfelek",22,"fő","2019-02-01","kalmanm",{"$f":"AND(E2648>=Kimutatás!B$2,E2648<=Kimutatás!B$3)","v":false}]
[2648,"Kecskemét","008","Q1","2019-01-02","Lakossági hitelnövekmény összege ",7,"Mhuf","2019-02-01","kalmanm",{"$f":"AND(E2649>=Kimutatás!B$2,E2649<=Kimutatás!B$3)","v":false}]
[2649,"Kecskemét","008","Q1","2019-01-02","Lakossági számlanyitás",-3,"db","2019-02-01","kalmanm",{"$f":"AND(E2650>=Kimutatás!B$2,E2650<=Kimutatás!B$3)","v":false}]
[2650,"Kecskemét","008","Q1","2019-01-02","KKV hitelnövekmény (db)",2,"db","2019-02-01","kalmanm",{"$f":"AND(E2651>=Kimutatás!B$2,E2651<=Kimutatás!B$3)","v":false}]
[2651,"Kecskemét","008","Q1","2019-01-02","KKV számlanyitás",5,"db","2019-02-01","kalmanm",{"$f":"AND(E2652>=Kimutatás!B$2,E2652<=Kimutatás!B$3)","v":false}]
[2652,"Kecskemét","008","Q1","2019-01-02","Betét állomány növekmény",30,"Mhuf","2019-02-01","kalmanm",{"$f":"AND(E2653>=Kimutatás!B$2,E2653<=Kimutatás!B$3)","v":false}]
[2653,"Kecskemét","008","Q1","2019-01-03","Betérő ügyfelek",8,"fő","2019-02-01","kalmanm",{"$f":"AND(E2654>=Kimutatás!B$2,E2654<=Kimutatás!B$3)","v":false}]
[2654,"Kecskemét","008","Q1","2019-01-03","Lakossági hitelnövekmény összege ",38,"Mhuf","2019-02-01","kalmanm",{"$f":"AND(E2655>=Kimutatás!B$2,E2655<=Kimutatás!B$3)","v":false}]
[2655,"Kecskemét","008","Q1","2019-01-03","Lakossági számlanyitás",8,"db","2019-02-01","kalmanm",{"$f":"AND(E2656>=Kimutatás!B$2,E2656<=Kimutatás!B$3)","v":false}]
[2656,"Kecskemét","008","Q1","2019-01-03","KKV hitelnövekmény (db)",-1,"db","2019-02-01","kalmanm",{"$f":"AND(E2657>=Kimutatás!B$2,E2657<=Kimutatás!B$3)","v":false}]
[2657,"Kecskemét","008","Q1","2019-01-03","KKV számlanyitás",5,"db","2019-02-01","kalmanm",{"$f":"AND(E2658>=Kimutatás!B$2,E2658<=Kimutatás!B$3)","v":false}]
[2658,"Kecskemét","008","Q1","2019-01-03","Betét állomány növekmény",34,"Mhuf","2019-02-01","kalmanm",{"$f":"AND(E2659>=Kimutatás!B$2,E2659<=Kimutatás!B$3)","v":false}]
[2659,"Kecskemét","008","Q1","2019-01-06","Betérő ügyfelek",17,"fő","2019-02-01","kalmanm",{"$f":"AND(E2660>=Kimutatás!B$2,E2660<=Kimutatás!B$3)","v":false}]
[2660,"Kecskemét","008","Q1","2019-01-06","Lakossági hitelnövekmény összege ",-10,"Mhuf","2019-02-01","kalmanm",{"$f":"AND(E2661>=Kimutatás!B$2,E2661<=Kimutatás!B$3)","v":false}]
[2661,"Kecskemét","008","Q1","2019-01-06","Lakossági számlanyitás",-5,"db","2019-02-01","kalmanm",{"$f":"AND(E2662>=Kimutatás!B$2,E2662<=Kimutatás!B$3)","v":false}]
[2662,"Kecskemét","008","Q1","2019-01-06","KKV hitelnövekmény (db)",-2,"db","2019-02-01","kalmanm",{"$f":"AND(E2663>=Kimutatás!B$2,E2663<=Kimutatás!B$3)","v":false}]
[2663,"Kecskemét","008","Q1","2019-01-06","KKV számlanyitás",-2,"db","2019-02-01","kalmanm",{"$f":"AND(E2664>=Kimutatás!B$2,E2664<=Kimutatás!B$3)","v":false}]
[2664,"Kecskemét","008","Q1","2019-01-06","Betét állomány növekmény",-15,"Mhuf","2019-02-01","kalmanm",{"$f":"AND(E2665>=Kimutatás!B$2,E2665<=Kimutatás!B$3)","v":false}]
[2665,"Kecskemét","008","Q1","2019-01-07","Betérő ügyfelek",44,"fő","2019-02-01","kalmanm",{"$f":"AND(E2666>=Kimutatás!B$2,E2666<=Kimutatás!B$3)","v":false}]
[2666,"Kecskemét","008","Q1","2019-01-07","Lakossági hitelnövekmény összege ",27,"Mhuf","2019-02-01","kalmanm",{"$f":"AND(E2667>=Kimutatás!B$2,E2667<=Kimutatás!B$3)","v":false}]
[2667,"Kecskemét","008","Q1","2019-01-07","Lakossági számlanyitás",7,"db","2019-02-01","kalmanm",{"$f":"AND(E2668>=Kimutatás!B$2,E2668<=Kimutatás!B$3)","v":false}]
[2668,"Kecskemét","008","Q1","2019-01-07","KKV hitelnövekmény (db)",-2,"db","2019-02-01","kalmanm",{"$f":"AND(E2669>=Kimutatás!B$2,E2669<=Kimutatás!B$3)","v":false}]
[2669,"Kecskemét","008","Q1","2019-01-07","KKV számlanyitás",-1,"db","2019-02-01","kalmanm",{"$f":"AND(E2670>=Kimutatás!B$2,E2670<=Kimutatás!B$3)","v":false}]
[2670,"Kecskemét","008","Q1","2019-01-07","Betét állomány növekmény",7,"Mhuf","2019-02-01","kalmanm",{"$f":"AND(E2671>=Kimutatás!B$2,E2671<=Kimutatás!B$3)","v":false}]
[2671,"Kecskemét","008","Q1","2019-01-08","Betérő ügyfelek",22,"fő","2019-02-01","kalmanm",{"$f":"AND(E2672>=Kimutatás!B$2,E2672<=Kimutatás!B$3)","v":false}]
[2672,"Kecskemét","008","Q1","2019-01-08","Lakossági hitelnövekmény összege ",24,"Mhuf","2019-02-01","kalmanm",{"$f":"AND(E2673>=Kimutatás!B$2,E2673<=Kimutatás!B$3)","v":false}]
[2673,"Kecskemét","008","Q1","2019-01-08","Lakossági számlanyitás",-1,"db","2019-02-01","kalmanm",{"$f":"AND(E2674>=Kimutatás!B$2,E2674<=Kimutatás!B$3)","v":false}]
[2674,"Kecskemét","008","Q1","2019-01-08","KKV hitelnövekmény (db)",-2,"db","2019-02-01","kalmanm",{"$f":"AND(E2675>=Kimutatás!B$2,E2675<=Kimutatás!B$3)","v":false}]
[2675,"Kecskemét","008","Q1","2019-01-08","KKV számlanyitás",3,"db","2019-02-01","kalmanm",{"$f":"AND(E2676>=Kimutatás!B$2,E2676<=Kimutatás!B$3)","v":false}]
[2676,"Kecskemét","008","Q1","2019-01-08","Betét állomány növekmény",13,"Mhuf","2019-02-01","kalmanm",{"$f":"AND(E2677>=Kimutatás!B$2,E2677<=Kimutatás!B$3)","v":false}]
[2677,"Kecskemét","008","Q1","2019-01-09","Betérő ügyfelek",35,"fő","2019-02-01","kalmanm",{"$f":"AND(E2678>=Kimutatás!B$2,E2678<=Kimutatás!B$3)","v":false}]
[2678,"Kecskemét","008","Q1","2019-01-09","Lakossági hitelnövekmény összege ",34,"Mhuf","2019-02-01","kalmanm",{"$f":"AND(E2679>=Kimutatás!B$2,E2679<=Kimutatás!B$3)","v":false}]
[2679,"Kecskemét","008","Q1","2019-01-09","Lakossági számlanyitás",9,"db","2019-02-01","kalmanm",{"$f":"AND(E2680>=Kimutatás!B$2,E2680<=Kimutatás!B$3)","v":false}]
[2680,"Kecskemét","008","Q1","2019-01-09","KKV hitelnövekmény (db)",1,"db","2019-02-01","kalmanm",{"$f":"AND(E2681>=Kimutatás!B$2,E2681<=Kimutatás!B$3)","v":false}]
[2681,"Kecskemét","008","Q1","2019-01-09","KKV számlanyitás",-2,"db","2019-02-01","kalmanm",{"$f":"AND(E2682>=Kimutatás!B$2,E2682<=Kimutatás!B$3)","v":false}]
[2682,"Kecskemét","008","Q1","2019-01-09","Betét állomány növekmény",33,"Mhuf","2019-02-01","kalmanm",{"$f":"AND(E2683>=Kimutatás!B$2,E2683<=Kimutatás!B$3)","v":false}]
[2683,"Kecskemét","008","Q1","2019-01-10","Betérő ügyfelek",37,"fő","2019-02-01","kalmanm",{"$f":"AND(E2684>=Kimutatás!B$2,E2684<=Kimutatás!B$3)","v":true}]
[2684,"Kecskemét","008","Q1","2019-01-10","Lakossági hitelnövekmény összege ",10,"Mhuf","2019-02-01","kalmanm",{"$f":"AND(E2685>=Kimutatás!B$2,E2685<=Kimutatás!B$3)","v":true}]
[2685,"Kecskemét","008","Q1","2019-01-10","Lakossági számlanyitás",4,"db","2019-02-01","kalmanm",{"$f":"AND(E2686>=Kimutatás!B$2,E2686<=Kimutatás!B$3)","v":true}]
[2686,"Kecskemét","008","Q1","2019-01-10","KKV hitelnövekmény (db)",2,"db","2019-02-01","kalmanm",{"$f":"AND(E2687>=Kimutatás!B$2,E2687<=Kimutatás!B$3)","v":true}]
[2687,"Kecskemét","008","Q1","2019-01-10","KKV számlanyitás",3,"db","2019-02-01","kalmanm",{"$f":"AND(E2688>=Kimutatás!B$2,E2688<=Kimutatás!B$3)","v":true}]
[2688,"Kecskemét","008","Q1","2019-01-10","Betét állomány növekmény",32,"Mhuf","2019-02-01","kalmanm",{"$f":"AND(E2689>=Kimutatás!B$2,E2689<=Kimutatás!B$3)","v":true}]
[2689,"Kecskemét","008","Q1","2019-01-13","Betérő ügyfelek",18,"fő","2019-02-01","kalmanm",{"$f":"AND(E2690>=Kimutatás!B$2,E2690<=Kimutatás!B$3)","v":true}]
[2690,"Kecskemét","008","Q1","2019-01-13","Lakossági hitelnövekmény összege ",33,"Mhuf","2019-02-01","kalmanm",{"$f":"AND(E2691>=Kimutatás!B$2,E2691<=Kimutatás!B$3)","v":true}]
[2691,"Kecskemét","008","Q1","2019-01-13","Lakossági számlanyitás",6,"db","2019-02-01","kalmanm",{"$f":"AND(E2692>=Kimutatás!B$2,E2692<=Kimutatás!B$3)","v":true}]
[2692,"Kecskemét","008","Q1","2019-01-13","KKV hitelnövekmény (db)",1,"db","2019-02-01","kalmanm",{"$f":"AND(E2693>=Kimutatás!B$2,E2693<=Kimutatás!B$3)","v":true}]
[2693,"Kecskemét","008","Q1","2019-01-13","KKV számlanyitás",5,"db","2019-02-01","kalmanm",{"$f":"AND(E2694>=Kimutatás!B$2,E2694<=Kimutatás!B$3)","v":true}]
[2694,"Kecskemét","008","Q1","2019-01-13","Betét állomány növekmény",3,"Mhuf","2019-02-01","kalmanm",{"$f":"AND(E2695>=Kimutatás!B$2,E2695<=Kimutatás!B$3)","v":true}]
[2695,"Kecskemét","008","Q1","2019-01-14","Betérő ügyfelek",24,"fő","2019-02-01","kalmanm",{"$f":"AND(E2696>=Kimutatás!B$2,E2696<=Kimutatás!B$3)","v":true}]
[2696,"Kecskemét","008","Q1","2019-01-14","Lakossági hitelnövekmény összege ",15,"Mhuf","2019-02-01","kalmanm",{"$f":"AND(E2697>=Kimutatás!B$2,E2697<=Kimutatás!B$3)","v":true}]
[2697,"Kecskemét","008","Q1","2019-01-14","Lakossági számlanyitás",-1,"db","2019-02-01","kalmanm",{"$f":"AND(E2698>=Kimutatás!B$2,E2698<=Kimutatás!B$3)","v":true}]
[2698,"Kecskemét","008","Q1","2019-01-14","KKV hitelnövekmény (db)",2,"db","2019-02-01","kalmanm",{"$f":"AND(E2699>=Kimutatás!B$2,E2699<=Kimutatás!B$3)","v":true}]
[2699,"Kecskemét","008","Q1","2019-01-14","KKV számlanyitás",-4,"db","2019-02-01","kalmanm",{"$f":"AND(E2700>=Kimutatás!B$2,E2700<=Kimutatás!B$3)","v":true}]
[2700,"Kecskemét","008","Q1","2019-01-14","Betét állomány növekmény",20,"Mhuf","2019-02-01","kalmanm",{"$f":"AND(E2701>=Kimutatás!B$2,E2701<=Kimutatás!B$3)","v":true}]
[2701,"Kecskemét","008","Q1","2019-01-15","Betérő ügyfelek",45,"fő","2019-02-01","kalmanm",{"$f":"AND(E2702>=Kimutatás!B$2,E2702<=Kimutatás!B$3)","v":true}]
[2702,"Kecskemét","008","Q1","2019-01-15","Lakossági hitelnövekmény összege ",26,"Mhuf","2019-02-01","kalmanm",{"$f":"AND(E2703>=Kimutatás!B$2,E2703<=Kimutatás!B$3)","v":true}]
[2703,"Kecskemét","008","Q1","2019-01-15","Lakossági számlanyitás",-2,"db","2019-02-01","kalmanm",{"$f":"AND(E2704>=Kimutatás!B$2,E2704<=Kimutatás!B$3)","v":true}]
[2704,"Kecskemét","008","Q1","2019-01-15","KKV hitelnövekmény (db)",-1,"db","2019-02-01","kalmanm",{"$f":"AND(E2705>=Kimutatás!B$2,E2705<=Kimutatás!B$3)","v":true}]
[2705,"Kecskemét","008","Q1","2019-01-15","KKV számlanyitás",2,"db","2019-02-01","kalmanm",{"$f":"AND(E2706>=Kimutatás!B$2,E2706<=Kimutatás!B$3)","v":true}]
[2706,"Kecskemét","008","Q1","2019-01-15","Betét állomány növekmény",36,"Mhuf","2019-02-01","kalmanm",{"$f":"AND(E2707>=Kimutatás!B$2,E2707<=Kimutatás!B$3)","v":true}]
[2707,"Kecskemét","008","Q1","2019-01-16","Betérő ügyfelek",20,"fő","2019-02-01","kalmanm",{"$f":"AND(E2708>=Kimutatás!B$2,E2708<=Kimutatás!B$3)","v":true}]
[2708,"Kecskemét","008","Q1","2019-01-16","Lakossági hitelnövekmény összege ",22,"Mhuf","2019-02-01","kalmanm",{"$f":"AND(E2709>=Kimutatás!B$2,E2709<=Kimutatás!B$3)","v":true}]
[2709,"Kecskemét","008","Q1","2019-01-16","Lakossági számlanyitás",3,"db","2019-02-01","kalmanm",{"$f":"AND(E2710>=Kimutatás!B$2,E2710<=Kimutatás!B$3)","v":true}]
[2710,"Kecskemét","008","Q1","2019-01-16","KKV hitelnövekmény (db)",0,"db","2019-02-01","kalmanm",{"$f":"AND(E2711>=Kimutatás!B$2,E2711<=Kimutatás!B$3)","v":true}]
[2711,"Kecskemét","008","Q1","2019-01-16","KKV számlanyitás",-2,"db","2019-02-01","kalmanm",{"$f":"AND(E2712>=Kimutatás!B$2,E2712<=Kimutatás!B$3)","v":true}]
[2712,"Kecskemét","008","Q1","2019-01-16","Betét állomány növekmény",28,"Mhuf","2019-02-01","kalmanm",{"$f":"AND(E2713>=Kimutatás!B$2,E2713<=Kimutatás!B$3)","v":true}]
[2713,"Kecskemét","008","Q1","2019-01-17","Betérő ügyfelek",35,"fő","2019-02-01","kalmanm",{"$f":"AND(E2714>=Kimutatás!B$2,E2714<=Kimutatás!B$3)","v":true}]
[2714,"Kecskemét","008","Q1","2019-01-17","Lakossági hitelnövekmény összege ",13,"Mhuf","2019-02-01","kalmanm",{"$f":"AND(E2715>=Kimutatás!B$2,E2715<=Kimutatás!B$3)","v":true}]
[2715,"Kecskemét","008","Q1","2019-01-17","Lakossági számlanyitás",5,"db","2019-02-01","kalmanm",{"$f":"AND(E2716>=Kimutatás!B$2,E2716<=Kimutatás!B$3)","v":true}]
[2716,"Kecskemét","008","Q1","2019-01-17","KKV hitelnövekmény (db)",2,"db","2019-02-01","kalmanm",{"$f":"AND(E2717>=Kimutatás!B$2,E2717<=Kimutatás!B$3)","v":true}]
[2717,"Kecskemét","008","Q1","2019-01-17","KKV számlanyitás",4,"db","2019-02-01","kalmanm",{"$f":"AND(E2718>=Kimutatás!B$2,E2718<=Kimutatás!B$3)","v":true}]
[2718,"Kecskemét","008","Q1","2019-01-17","Betét állomány növekmény",33,"Mhuf","2019-02-01","kalmanm",{"$f":"AND(E2719>=Kimutatás!B$2,E2719<=Kimutatás!B$3)","v":true}]
[2719,"Kecskemét","008","Q1","2019-01-20","Betérő ügyfelek",3,"fő","2019-02-01","kalmanm",{"$f":"AND(E2720>=Kimutatás!B$2,E2720<=Kimutatás!B$3)","v":true}]
[2720,"Kecskemét","008","Q1","2019-01-20","Lakossági hitelnövekmény összege ",49,"Mhuf","2019-02-01","kalmanm",{"$f":"AND(E2721>=Kimutatás!B$2,E2721<=Kimutatás!B$3)","v":true}]
[2721,"Kecskemét","008","Q1","2019-01-20","Lakossági számlanyitás",-5,"db","2019-02-01","kalmanm",{"$f":"AND(E2722>=Kimutatás!B$2,E2722<=Kimutatás!B$3)","v":true}]
[2722,"Kecskemét","008","Q1","2019-01-20","KKV hitelnövekmény (db)",1,"db","2019-02-01","kalmanm",{"$f":"AND(E2723>=Kimutatás!B$2,E2723<=Kimutatás!B$3)","v":true}]
[2723,"Kecskemét","008","Q1","2019-01-20","KKV számlanyitás",1,"db","2019-02-01","kalmanm",{"$f":"AND(E2724>=Kimutatás!B$2,E2724<=Kimutatás!B$3)","v":true}]
[2724,"Kecskemét","008","Q1","2019-01-20","Betét állomány növekmény",-11,"Mhuf","2019-02-01","kalmanm",{"$f":"AND(E2725>=Kimutatás!B$2,E2725<=Kimutatás!B$3)","v":true}]
[2725,"Kecskemét","008","Q1","2019-01-21","Betérő ügyfelek",8,"fő","2019-02-01","kalmanm",{"$f":"AND(E2726>=Kimutatás!B$2,E2726<=Kimutatás!B$3)","v":true}]
[2726,"Kecskemét","008","Q1","2019-01-21","Lakossági hitelnövekmény összege ",20,"Mhuf","2019-02-01","kalmanm",{"$f":"AND(E2727>=Kimutatás!B$2,E2727<=Kimutatás!B$3)","v":true}]
[2727,"Kecskemét","008","Q1","2019-01-21","Lakossági számlanyitás",5,"db","2019-02-01","kalmanm",{"$f":"AND(E2728>=Kimutatás!B$2,E2728<=Kimutatás!B$3)","v":true}]
[2728,"Kecskemét","008","Q1","2019-01-21","KKV hitelnövekmény (db)",2,"db","2019-02-01","kalmanm",{"$f":"AND(E2729>=Kimutatás!B$2,E2729<=Kimutatás!B$3)","v":true}]
[2729,"Kecskemét","008","Q1","2019-01-21","KKV számlanyitás",2,"db","2019-02-01","kalmanm",{"$f":"AND(E2730>=Kimutatás!B$2,E2730<=Kimutatás!B$3)","v":true}]
[2730,"Kecskemét","008","Q1","2019-01-21","Betét állomány növekmény",-6,"Mhuf","2019-02-01","kalmanm",{"$f":"AND(E2731>=Kimutatás!B$2,E2731<=Kimutatás!B$3)","v":true}]
[2731,"Kecskemét","008","Q1","2019-01-22","Betérő ügyfelek",11,"fő","2019-02-01","kalmanm",{"$f":"AND(E2732>=Kimutatás!B$2,E2732<=Kimutatás!B$3)","v":true}]
[2732,"Kecskemét","008","Q1","2019-01-22","Lakossági hitelnövekmény összege ",12,"Mhuf","2019-02-01","kalmanm",{"$f":"AND(E2733>=Kimutatás!B$2,E2733<=Kimutatás!B$3)","v":true}]
[2733,"Kecskemét","008","Q1","2019-01-22","Lakossági számlanyitás",1,"db","2019-02-01","kalmanm",{"$f":"AND(E2734>=Kimutatás!B$2,E2734<=Kimutatás!B$3)","v":true}]
[2734,"Kecskemét","008","Q1","2019-01-22","KKV hitelnövekmény (db)",0,"db","2019-02-01","kalmanm",{"$f":"AND(E2735>=Kimutatás!B$2,E2735<=Kimutatás!B$3)","v":true}]
[2735,"Kecskemét","008","Q1","2019-01-22","KKV számlanyitás",-4,"db","2019-02-01","kalmanm",{"$f":"AND(E2736>=Kimutatás!B$2,E2736<=Kimutatás!B$3)","v":true}]
[2736,"Kecskemét","008","Q1","2019-01-22","Betét állomány növekmény",41,"Mhuf","2019-02-01","kalmanm",{"$f":"AND(E2737>=Kimutatás!B$2,E2737<=Kimutatás!B$3)","v":true}]
[2737,"Kecskemét","008","Q1","2019-01-23","Betérő ügyfelek",26,"fő","2019-02-01","kalmanm",{"$f":"AND(E2738>=Kimutatás!B$2,E2738<=Kimutatás!B$3)","v":true}]
[2738,"Kecskemét","008","Q1","2019-01-23","Lakossági hitelnövekmény összege ",28,"Mhuf","2019-02-01","kalmanm",{"$f":"AND(E2739>=Kimutatás!B$2,E2739<=Kimutatás!B$3)","v":true}]
[2739,"Kecskemét","008","Q1","2019-01-23","Lakossági számlanyitás",2,"db","2019-02-01","kalmanm",{"$f":"AND(E2740>=Kimutatás!B$2,E2740<=Kimutatás!B$3)","v":true}]
[2740,"Kecskemét","008","Q1","2019-01-23","KKV hitelnövekmény (db)",1,"db","2019-02-01","kalmanm",{"$f":"AND(E2741>=Kimutatás!B$2,E2741<=Kimutatás!B$3)","v":true}]
[2741,"Kecskemét","008","Q1","2019-01-23","KKV számlanyitás",3,"db","2019-02-01","kalmanm",{"$f":"AND(E2742>=Kimutatás!B$2,E2742<=Kimutatás!B$3)","v":true}]
[2742,"Kecskemét","008","Q1","2019-01-23","Betét állomány növekmény",-7,"Mhuf","2019-02-01","kalmanm",{"$f":"AND(E2743>=Kimutatás!B$2,E2743<=Kimutatás!B$3)","v":true}]
[2743,"Kecskemét","008","Q1","2019-01-24","Betérő ügyfelek",16,"fő","2019-02-01","kalmanm",{"$f":"AND(E2744>=Kimutatás!B$2,E2744<=Kimutatás!B$3)","v":true}]
[2744,"Kecskemét","008","Q1","2019-01-24","Lakossági hitelnövekmény összege ",27,"Mhuf","2019-02-01","kalmanm",{"$f":"AND(E2745>=Kimutatás!B$2,E2745<=Kimutatás!B$3)","v":true}]
[2745,"Kecskemét","008","Q1","2019-01-24","Lakossági számlanyitás",6,"db","2019-02-01","kalmanm",{"$f":"AND(E2746>=Kimutatás!B$2,E2746<=Kimutatás!B$3)","v":true}]
[2746,"Kecskemét","008","Q1","2019-01-24","KKV hitelnövekmény (db)",1,"db","2019-02-01","kalmanm",{"$f":"AND(E2747>=Kimutatás!B$2,E2747<=Kimutatás!B$3)","v":true}]
[2747,"Kecskemét","008","Q1","2019-01-24","KKV számlanyitás",-2,"db","2019-02-01","kalmanm",{"$f":"AND(E2748>=Kimutatás!B$2,E2748<=Kimutatás!B$3)","v":true}]
[2748,"Kecskemét","008","Q1","2019-01-24","Betét állomány növekmény",36,"Mhuf","2019-02-01","kalmanm",{"$f":"AND(E2749>=Kimutatás!B$2,E2749<=Kimutatás!B$3)","v":true}]
[2749,"Kecskemét","008","Q1","2019-01-27","Betérő ügyfelek",40,"fő","2019-02-01","kalmanm",{"$f":"AND(E2750>=Kimutatás!B$2,E2750<=Kimutatás!B$3)","v":true}]
[2750,"Kecskemét","008","Q1","2019-01-27","Lakossági hitelnövekmény összege ",16,"Mhuf","2019-02-01","kalmanm",{"$f":"AND(E2751>=Kimutatás!B$2,E2751<=Kimutatás!B$3)","v":true}]
[2751,"Kecskemét","008","Q1","2019-01-27","Lakossági számlanyitás",6,"db","2019-02-01","kalmanm",{"$f":"AND(E2752>=Kimutatás!B$2,E2752<=Kimutatás!B$3)","v":true}]
[2752,"Kecskemét","008","Q1","2019-01-27","KKV hitelnövekmény (db)",-1,"db","2019-02-01","kalmanm",{"$f":"AND(E2753>=Kimutatás!B$2,E2753<=Kimutatás!B$3)","v":true}]
[2753,"Kecskemét","008","Q1","2019-01-27","KKV számlanyitás",0,"db","2019-02-01","kalmanm",{"$f":"AND(E2754>=Kimutatás!B$2,E2754<=Kimutatás!B$3)","v":true}]
[2754,"Kecskemét","008","Q1","2019-01-27","Betét állomány növekmény",39,"Mhuf","2019-02-01","kalmanm",{"$f":"AND(E2755>=Kimutatás!B$2,E2755<=Kimutatás!B$3)","v":true}]
[2755,"Kecskemét","008","Q1","2019-01-28","Betérő ügyfelek",2,"fő","2019-02-01","kalmanm",{"$f":"AND(E2756>=Kimutatás!B$2,E2756<=Kimutatás!B$3)","v":true}]
[2756,"Kecskemét","008","Q1","2019-01-28","Lakossági hitelnövekmény összege ",31,"Mhuf","2019-02-01","kalmanm",{"$f":"AND(E2757>=Kimutatás!B$2,E2757<=Kimutatás!B$3)","v":true}]
[2757,"Kecskemét","008","Q1","2019-01-28","Lakossági számlanyitás",9,"db","2019-02-01","kalmanm",{"$f":"AND(E2758>=Kimutatás!B$2,E2758<=Kimutatás!B$3)","v":true}]
[2758,"Kecskemét","008","Q1","2019-01-28","KKV hitelnövekmény (db)",0,"db","2019-02-01","kalmanm",{"$f":"AND(E2759>=Kimutatás!B$2,E2759<=Kimutatás!B$3)","v":true}]
[2759,"Kecskemét","008","Q1","2019-01-28","KKV számlanyitás",1,"db","2019-02-01","kalmanm",{"$f":"AND(E2760>=Kimutatás!B$2,E2760<=Kimutatás!B$3)","v":true}]
[2760,"Kecskemét","008","Q1","2019-01-28","Betét állomány növekmény",-14,"Mhuf","2019-02-01","kalmanm",{"$f":"AND(E2761>=Kimutatás!B$2,E2761<=Kimutatás!B$3)","v":true}]
[2761,"Kecskemét","008","Q1","2019-01-29","Betérő ügyfelek",13,"fő","2019-02-01","kalmanm",{"$f":"AND(E2762>=Kimutatás!B$2,E2762<=Kimutatás!B$3)","v":true}]
[2762,"Kecskemét","008","Q1","2019-01-29","Lakossági hitelnövekmény összege ",-3,"Mhuf","2019-02-01","kalmanm",{"$f":"AND(E2763>=Kimutatás!B$2,E2763<=Kimutatás!B$3)","v":true}]
[2763,"Kecskemét","008","Q1","2019-01-29","Lakossági számlanyitás",1,"db","2019-02-01","kalmanm",{"$f":"AND(E2764>=Kimutatás!B$2,E2764<=Kimutatás!B$3)","v":true}]
[2764,"Kecskemét","008","Q1","2019-01-29","KKV hitelnövekmény (db)",1,"db","2019-02-01","kalmanm",{"$f":"AND(E2765>=Kimutatás!B$2,E2765<=Kimutatás!B$3)","v":true}]
[2765,"Kecskemét","008","Q1","2019-01-29","KKV számlanyitás",5,"db","2019-02-01","kalmanm",{"$f":"AND(E2766>=Kimutatás!B$2,E2766<=Kimutatás!B$3)","v":true}]
[2766,"Kecskemét","008","Q1","2019-01-29","Betét állomány növekmény",-7,"Mhuf","2019-02-01","kalmanm",{"$f":"AND(E2767>=Kimutatás!B$2,E2767<=Kimutatás!B$3)","v":true}]
[2767,"Kecskemét","008","Q1","2019-01-30","Betérő ügyfelek",45,"fő","2019-02-01","kalmanm",{"$f":"AND(E2768>=Kimutatás!B$2,E2768<=Kimutatás!B$3)","v":true}]
[2768,"Kecskemét","008","Q1","2019-01-30","Lakossági hitelnövekmény összege ",2,"Mhuf","2019-02-01","kalmanm",{"$f":"AND(E2769>=Kimutatás!B$2,E2769<=Kimutatás!B$3)","v":true}]
[2769,"Kecskemét","008","Q1","2019-01-30","Lakossági számlanyitás",1,"db","2019-02-01","kalmanm",{"$f":"AND(E2770>=Kimutatás!B$2,E2770<=Kimutatás!B$3)","v":true}]
[2770,"Kecskemét","008","Q1","2019-01-30","KKV hitelnövekmény (db)",2,"db","2019-02-01","kalmanm",{"$f":"AND(E2771>=Kimutatás!B$2,E2771<=Kimutatás!B$3)","v":true}]
[2771,"Kecskemét","008","Q1","2019-01-30","KKV számlanyitás",0,"db","2019-02-01","kalmanm",{"$f":"AND(E2772>=Kimutatás!B$2,E2772<=Kimutatás!B$3)","v":true}]
[2772,"Kecskemét","008","Q1","2019-01-30","Betét állomány növekmény",46,"Mhuf","2019-02-01","kalmanm",{"$f":"AND(E2773>=Kimutatás!B$2,E2773<=Kimutatás!B$3)","v":true}]
[2773,"Kecskemét","008","Q1","2019-01-31","Betérő ügyfelek",39,"fő","2019-02-01","kalmanm",{"$f":"AND(E2774>=Kimutatás!B$2,E2774<=Kimutatás!B$3)","v":true}]
[2774,"Kecskemét","008","Q1","2019-01-31","Lakossági hitelnövekmény összege ",-7,"Mhuf","2019-02-01","kalmanm",{"$f":"AND(E2775>=Kimutatás!B$2,E2775<=Kimutatás!B$3)","v":true}]
[2775,"Kecskemét","008","Q1","2019-01-31","Lakossági számlanyitás",6,"db","2019-02-01","kalmanm",{"$f":"AND(E2776>=Kimutatás!B$2,E2776<=Kimutatás!B$3)","v":true}]
[2776,"Kecskemét","008","Q1","2019-01-31","KKV hitelnövekmény (db)",0,"db","2019-02-01","kalmanm",{"$f":"AND(E2777>=Kimutatás!B$2,E2777<=Kimutatás!B$3)","v":true}]
[2777,"Kecskemét","008","Q1","2019-01-31","KKV számlanyitás",-3,"db","2019-02-01","kalmanm",{"$f":"AND(E2778>=Kimutatás!B$2,E2778<=Kimutatás!B$3)","v":true}]
[2778,"Kecskemét","008","Q1","2019-01-31","Betét állomány növekmény",39,"Mhuf","2019-02-01","kalmanm",{"$f":"AND(E2779>=Kimutatás!B$2,E2779<=Kimutatás!B$3)","v":true}]
[2779,"Kecskemét","008","Q1","2019-02-03","Betérő ügyfelek",21,"fő","2019-03-01","noszty",{"$f":"AND(E2780>=Kimutatás!B$2,E2780<=Kimutatás!B$3)","v":true}]
[2780,"Kecskemét","008","Q1","2019-02-03","Lakossági hitelnövekmény összege ",40,"Mhuf","2019-03-01","noszty",{"$f":"AND(E2781>=Kimutatás!B$2,E2781<=Kimutatás!B$3)","v":true}]
[2781,"Kecskemét","008","Q1","2019-02-03","Lakossági számlanyitás",7,"db","2019-03-01","noszty",{"$f":"AND(E2782>=Kimutatás!B$2,E2782<=Kimutatás!B$3)","v":true}]
[2782,"Kecskemét","008","Q1","2019-02-03","KKV hitelnövekmény (db)",1,"db","2019-03-01","noszty",{"$f":"AND(E2783>=Kimutatás!B$2,E2783<=Kimutatás!B$3)","v":true}]
[2783,"Kecskemét","008","Q1","2019-02-03","KKV számlanyitás",4,"db","2019-03-01","noszty",{"$f":"AND(E2784>=Kimutatás!B$2,E2784<=Kimutatás!B$3)","v":true}]
[2784,"Kecskemét","008","Q1","2019-02-03","Betét állomány növekmény",43,"Mhuf","2019-03-01","noszty",{"$f":"AND(E2785>=Kimutatás!B$2,E2785<=Kimutatás!B$3)","v":true}]
[2785,"Kecskemét","008","Q1","2019-02-04","Betérő ügyfelek",7,"fő","2019-03-01","noszty",{"$f":"AND(E2786>=Kimutatás!B$2,E2786<=Kimutatás!B$3)","v":true}]
[2786,"Kecskemét","008","Q1","2019-02-04","Lakossági hitelnövekmény összege ",-9,"Mhuf","2019-03-01","noszty",{"$f":"AND(E2787>=Kimutatás!B$2,E2787<=Kimutatás!B$3)","v":true}]
[2787,"Kecskemét","008","Q1","2019-02-04","Lakossági számlanyitás",1,"db","2019-03-01","noszty",{"$f":"AND(E2788>=Kimutatás!B$2,E2788<=Kimutatás!B$3)","v":true}]
[2788,"Kecskemét","008","Q1","2019-02-04","KKV hitelnövekmény (db)",2,"db","2019-03-01","noszty",{"$f":"AND(E2789>=Kimutatás!B$2,E2789<=Kimutatás!B$3)","v":true}]
[2789,"Kecskemét","008","Q1","2019-02-04","KKV számlanyitás",-5,"db","2019-03-01","noszty",{"$f":"AND(E2790>=Kimutatás!B$2,E2790<=Kimutatás!B$3)","v":true}]
[2790,"Kecskemét","008","Q1","2019-02-04","Betét állomány növekmény",44,"Mhuf","2019-03-01","noszty",{"$f":"AND(E2791>=Kimutatás!B$2,E2791<=Kimutatás!B$3)","v":true}]
[2791,"Kecskemét","008","Q1","2019-02-05","Betérő ügyfelek",4,"fő","2019-03-01","noszty",{"$f":"AND(E2792>=Kimutatás!B$2,E2792<=Kimutatás!B$3)","v":true}]
[2792,"Kecskemét","008","Q1","2019-02-05","Lakossági hitelnövekmény összege ",30,"Mhuf","2019-03-01","noszty",{"$f":"AND(E2793>=Kimutatás!B$2,E2793<=Kimutatás!B$3)","v":true}]
[2793,"Kecskemét","008","Q1","2019-02-05","Lakossági számlanyitás",10,"db","2019-03-01","noszty",{"$f":"AND(E2794>=Kimutatás!B$2,E2794<=Kimutatás!B$3)","v":true}]
[2794,"Kecskemét","008","Q1","2019-02-05","KKV hitelnövekmény (db)",1,"db","2019-03-01","noszty",{"$f":"AND(E2795>=Kimutatás!B$2,E2795<=Kimutatás!B$3)","v":true}]
[2795,"Kecskemét","008","Q1","2019-02-05","KKV számlanyitás",-4,"db","2019-03-01","noszty",{"$f":"AND(E2796>=Kimutatás!B$2,E2796<=Kimutatás!B$3)","v":true}]
[2796,"Kecskemét","008","Q1","2019-02-05","Betét állomány növekmény",14,"Mhuf","2019-03-01","noszty",{"$f":"AND(E2797>=Kimutatás!B$2,E2797<=Kimutatás!B$3)","v":true}]
[2797,"Kecskemét","008","Q1","2019-02-06","Betérő ügyfelek",20,"fő","2019-03-01","noszty",{"$f":"AND(E2798>=Kimutatás!B$2,E2798<=Kimutatás!B$3)","v":true}]
[2798,"Kecskemét","008","Q1","2019-02-06","Lakossági hitelnövekmény összege ",4,"Mhuf","2019-03-01","noszty",{"$f":"AND(E2799>=Kimutatás!B$2,E2799<=Kimutatás!B$3)","v":true}]
[2799,"Kecskemét","008","Q1","2019-02-06","Lakossági számlanyitás",-5,"db","2019-03-01","noszty",{"$f":"AND(E2800>=Kimutatás!B$2,E2800<=Kimutatás!B$3)","v":true}]
[2800,"Kecskemét","008","Q1","2019-02-06","KKV hitelnövekmény (db)",0,"db","2019-03-01","noszty",{"$f":"AND(E2801>=Kimutatás!B$2,E2801<=Kimutatás!B$3)","v":true}]
[2801,"Kecskemét","008","Q1","2019-02-06","KKV számlanyitás",5,"db","2019-03-01","noszty",{"$f":"AND(E2802>=Kimutatás!B$2,E2802<=Kimutatás!B$3)","v":true}]
[2802,"Kecskemét","008","Q1","2019-02-06","Betét állomány növekmény",22,"Mhuf","2019-03-01","noszty",{"$f":"AND(E2803>=Kimutatás!B$2,E2803<=Kimutatás!B$3)","v":true}]
[2803,"Kecskemét","008","Q1","2019-02-07","Betérő ügyfelek",6,"fő","2019-03-01","noszty",{"$f":"AND(E2804>=Kimutatás!B$2,E2804<=Kimutatás!B$3)","v":true}]
[2804,"Kecskemét","008","Q1","2019-02-07","Lakossági hitelnövekmény összege ",9,"Mhuf","2019-03-01","noszty",{"$f":"AND(E2805>=Kimutatás!B$2,E2805<=Kimutatás!B$3)","v":true}]
[2805,"Kecskemét","008","Q1","2019-02-07","Lakossági számlanyitás",4,"db","2019-03-01","noszty",{"$f":"AND(E2806>=Kimutatás!B$2,E2806<=Kimutatás!B$3)","v":true}]
[2806,"Kecskemét","008","Q1","2019-02-07","KKV hitelnövekmény (db)",-2,"db","2019-03-01","noszty",{"$f":"AND(E2807>=Kimutatás!B$2,E2807<=Kimutatás!B$3)","v":true}]
[2807,"Kecskemét","008","Q1","2019-02-07","KKV számlanyitás",5,"db","2019-03-01","noszty",{"$f":"AND(E2808>=Kimutatás!B$2,E2808<=Kimutatás!B$3)","v":true}]
[2808,"Kecskemét","008","Q1","2019-02-07","Betét állomány növekmény",38,"Mhuf","2019-03-01","noszty",{"$f":"AND(E2809>=Kimutatás!B$2,E2809<=Kimutatás!B$3)","v":true}]
[2809,"Kecskemét","008","Q1","2019-02-10","Betérő ügyfelek",20,"fő","2019-03-01","noszty",{"$f":"AND(E2810>=Kimutatás!B$2,E2810<=Kimutatás!B$3)","v":true}]
[2810,"Kecskemét","008","Q1","2019-02-10","Lakossági hitelnövekmény összege ",46,"Mhuf","2019-03-01","noszty",{"$f":"AND(E2811>=Kimutatás!B$2,E2811<=Kimutatás!B$3)","v":true}]
[2811,"Kecskemét","008","Q1","2019-02-10","Lakossági számlanyitás",1,"db","2019-03-01","noszty",{"$f":"AND(E2812>=Kimutatás!B$2,E2812<=Kimutatás!B$3)","v":true}]
[2812,"Kecskemét","008","Q1","2019-02-10","KKV hitelnövekmény (db)",-2,"db","2019-03-01","noszty",{"$f":"AND(E2813>=Kimutatás!B$2,E2813<=Kimutatás!B$3)","v":true}]
[2813,"Kecskemét","008","Q1","2019-02-10","KKV számlanyitás",5,"db","2019-03-01","noszty",{"$f":"AND(E2814>=Kimutatás!B$2,E2814<=Kimutatás!B$3)","v":true}]
[2814,"Kecskemét","008","Q1","2019-02-10","Betét állomány növekmény",38,"Mhuf","2019-03-01","noszty",{"$f":"AND(E2815>=Kimutatás!B$2,E2815<=Kimutatás!B$3)","v":true}]
[2815,"Kecskemét","008","Q1","2019-02-11","Betérő ügyfelek",26,"fő","2019-03-01","noszty",{"$f":"AND(E2816>=Kimutatás!B$2,E2816<=Kimutatás!B$3)","v":true}]
[2816,"Kecskemét","008","Q1","2019-02-11","Lakossági hitelnövekmény összege ",37,"Mhuf","2019-03-01","noszty",{"$f":"AND(E2817>=Kimutatás!B$2,E2817<=Kimutatás!B$3)","v":true}]
[2817,"Kecskemét","008","Q1","2019-02-11","Lakossági számlanyitás",8,"db","2019-03-01","noszty",{"$f":"AND(E2818>=Kimutatás!B$2,E2818<=Kimutatás!B$3)","v":true}]
[2818,"Kecskemét","008","Q1","2019-02-11","KKV hitelnövekmény (db)",2,"db","2019-03-01","noszty",{"$f":"AND(E2819>=Kimutatás!B$2,E2819<=Kimutatás!B$3)","v":true}]
[2819,"Kecskemét","008","Q1","2019-02-11","KKV számlanyitás",-1,"db","2019-03-01","noszty",{"$f":"AND(E2820>=Kimutatás!B$2,E2820<=Kimutatás!B$3)","v":true}]
[2820,"Kecskemét","008","Q1","2019-02-11","Betét állomány növekmény",-14,"Mhuf","2019-03-01","noszty",{"$f":"AND(E2821>=Kimutatás!B$2,E2821<=Kimutatás!B$3)","v":true}]
[2821,"Kecskemét","008","Q1","2019-02-12","Betérő ügyfelek",3,"fő","2019-03-01","noszty",{"$f":"AND(E2822>=Kimutatás!B$2,E2822<=Kimutatás!B$3)","v":true}]
[2822,"Kecskemét","008","Q1","2019-02-12","Lakossági hitelnövekmény összege ",27,"Mhuf","2019-03-01","noszty",{"$f":"AND(E2823>=Kimutatás!B$2,E2823<=Kimutatás!B$3)","v":true}]
[2823,"Kecskemét","008","Q1","2019-02-12","Lakossági számlanyitás",7,"db","2019-03-01","noszty",{"$f":"AND(E2824>=Kimutatás!B$2,E2824<=Kimutatás!B$3)","v":true}]
[2824,"Kecskemét","008","Q1","2019-02-12","KKV hitelnövekmény (db)",-2,"db","2019-03-01","noszty",{"$f":"AND(E2825>=Kimutatás!B$2,E2825<=Kimutatás!B$3)","v":true}]
[2825,"Kecskemét","008","Q1","2019-02-12","KKV számlanyitás",1,"db","2019-03-01","noszty",{"$f":"AND(E2826>=Kimutatás!B$2,E2826<=Kimutatás!B$3)","v":true}]
[2826,"Kecskemét","008","Q1","2019-02-12","Betét állomány növekmény",-15,"Mhuf","2019-03-01","noszty",{"$f":"AND(E2827>=Kimutatás!B$2,E2827<=Kimutatás!B$3)","v":true}]
[2827,"Kecskemét","008","Q1","2019-02-13","Betérő ügyfelek",9,"fő","2019-03-01","noszty",{"$f":"AND(E2828>=Kimutatás!B$2,E2828<=Kimutatás!B$3)","v":true}]
[2828,"Kecskemét","008","Q1","2019-02-13","Lakossági hitelnövekmény összege ",31,"Mhuf","2019-03-01","noszty",{"$f":"AND(E2829>=Kimutatás!B$2,E2829<=Kimutatás!B$3)","v":true}]
[2829,"Kecskemét","008","Q1","2019-02-13","Lakossági számlanyitás",4,"db","2019-03-01","noszty",{"$f":"AND(E2830>=Kimutatás!B$2,E2830<=Kimutatás!B$3)","v":true}]
[2830,"Kecskemét","008","Q1","2019-02-13","KKV hitelnövekmény (db)",2,"db","2019-03-01","noszty",{"$f":"AND(E2831>=Kimutatás!B$2,E2831<=Kimutatás!B$3)","v":true}]
[2831,"Kecskemét","008","Q1","2019-02-13","KKV számlanyitás",-4,"db","2019-03-01","noszty",{"$f":"AND(E2832>=Kimutatás!B$2,E2832<=Kimutatás!B$3)","v":true}]
[2832,"Kecskemét","008","Q1","2019-02-13","Betét állomány növekmény",2,"Mhuf","2019-03-01","noszty",{"$f":"AND(E2833>=Kimutatás!B$2,E2833<=Kimutatás!B$3)","v":true}]
[2833,"Kecskemét","008","Q1","2019-02-14","Betérő ügyfelek",17,"fő","2019-03-01","noszty",{"$f":"AND(E2834>=Kimutatás!B$2,E2834<=Kimutatás!B$3)","v":true}]
[2834,"Kecskemét","008","Q1","2019-02-14","Lakossági hitelnövekmény összege ",13,"Mhuf","2019-03-01","noszty",{"$f":"AND(E2835>=Kimutatás!B$2,E2835<=Kimutatás!B$3)","v":true}]
[2835,"Kecskemét","008","Q1","2019-02-14","Lakossági számlanyitás",0,"db","2019-03-01","noszty",{"$f":"AND(E2836>=Kimutatás!B$2,E2836<=Kimutatás!B$3)","v":true}]
[2836,"Kecskemét","008","Q1","2019-02-14","KKV hitelnövekmény (db)",0,"db","2019-03-01","noszty",{"$f":"AND(E2837>=Kimutatás!B$2,E2837<=Kimutatás!B$3)","v":true}]
[2837,"Kecskemét","008","Q1","2019-02-14","KKV számlanyitás",-4,"db","2019-03-01","noszty",{"$f":"AND(E2838>=Kimutatás!B$2,E2838<=Kimutatás!B$3)","v":true}]
[2838,"Kecskemét","008","Q1","2019-02-14","Betét állomány növekmény",31,"Mhuf","2019-03-01","noszty",{"$f":"AND(E2839>=Kimutatás!B$2,E2839<=Kimutatás!B$3)","v":true}]
[2839,"Kecskemét","008","Q1","2019-02-17","Betérő ügyfelek",17,"fő","2019-03-01","noszty",{"$f":"AND(E2840>=Kimutatás!B$2,E2840<=Kimutatás!B$3)","v":true}]
[2840,"Kecskemét","008","Q1","2019-02-17","Lakossági hitelnövekmény összege ",36,"Mhuf","2019-03-01","noszty",{"$f":"AND(E2841>=Kimutatás!B$2,E2841<=Kimutatás!B$3)","v":true}]
[2841,"Kecskemét","008","Q1","2019-02-17","Lakossági számlanyitás",-1,"db","2019-03-01","noszty",{"$f":"AND(E2842>=Kimutatás!B$2,E2842<=Kimutatás!B$3)","v":true}]
[2842,"Kecskemét","008","Q1","2019-02-17","KKV hitelnövekmény (db)",0,"db","2019-03-01","noszty",{"$f":"AND(E2843>=Kimutatás!B$2,E2843<=Kimutatás!B$3)","v":true}]
[2843,"Kecskemét","008","Q1","2019-02-17","KKV számlanyitás",2,"db","2019-03-01","noszty",{"$f":"AND(E2844>=Kimutatás!B$2,E2844<=Kimutatás!B$3)","v":true}]
[2844,"Kecskemét","008","Q1","2019-02-17","Betét állomány növekmény",43,"Mhuf","2019-03-01","noszty",{"$f":"AND(E2845>=Kimutatás!B$2,E2845<=Kimutatás!B$3)","v":true}]
[2845,"Kecskemét","008","Q1","2019-02-18","Betérő ügyfelek",3,"fő","2019-03-01","noszty",{"$f":"AND(E2846>=Kimutatás!B$2,E2846<=Kimutatás!B$3)","v":true}]
[2846,"Kecskemét","008","Q1","2019-02-18","Lakossági hitelnövekmény összege ",20,"Mhuf","2019-03-01","noszty",{"$f":"AND(E2847>=Kimutatás!B$2,E2847<=Kimutatás!B$3)","v":true}]
[2847,"Kecskemét","008","Q1","2019-02-18","Lakossági számlanyitás",2,"db","2019-03-01","noszty",{"$f":"AND(E2848>=Kimutatás!B$2,E2848<=Kimutatás!B$3)","v":true}]
[2848,"Kecskemét","008","Q1","2019-02-18","KKV hitelnövekmény (db)",-2,"db","2019-03-01","noszty",{"$f":"AND(E2849>=Kimutatás!B$2,E2849<=Kimutatás!B$3)","v":true}]
[2849,"Kecskemét","008","Q1","2019-02-18","KKV számlanyitás",-5,"db","2019-03-01","noszty",{"$f":"AND(E2850>=Kimutatás!B$2,E2850<=Kimutatás!B$3)","v":true}]
[2850,"Kecskemét","008","Q1","2019-02-18","Betét állomány növekmény",28,"Mhuf","2019-03-01","noszty",{"$f":"AND(E2851>=Kimutatás!B$2,E2851<=Kimutatás!B$3)","v":true}]
[2851,"Kecskemét","008","Q1","2019-02-19","Betérő ügyfelek",34,"fő","2019-03-01","noszty",{"$f":"AND(E2852>=Kimutatás!B$2,E2852<=Kimutatás!B$3)","v":true}]
[2852,"Kecskemét","008","Q1","2019-02-19","Lakossági hitelnövekmény összege ",7,"Mhuf","2019-03-01","noszty",{"$f":"AND(E2853>=Kimutatás!B$2,E2853<=Kimutatás!B$3)","v":true}]
[2853,"Kecskemét","008","Q1","2019-02-19","Lakossági számlanyitás",3,"db","2019-03-01","noszty",{"$f":"AND(E2854>=Kimutatás!B$2,E2854<=Kimutatás!B$3)","v":true}]
[2854,"Kecskemét","008","Q1","2019-02-19","KKV hitelnövekmény (db)",0,"db","2019-03-01","noszty",{"$f":"AND(E2855>=Kimutatás!B$2,E2855<=Kimutatás!B$3)","v":true}]
[2855,"Kecskemét","008","Q1","2019-02-19","KKV számlanyitás",3,"db","2019-03-01","noszty",{"$f":"AND(E2856>=Kimutatás!B$2,E2856<=Kimutatás!B$3)","v":true}]
[2856,"Kecskemét","008","Q1","2019-02-19","Betét állomány növekmény",13,"Mhuf","2019-03-01","noszty",{"$f":"AND(E2857>=Kimutatás!B$2,E2857<=Kimutatás!B$3)","v":true}]
[2857,"Kecskemét","008","Q1","2019-02-20","Betérő ügyfelek",17,"fő","2019-03-01","noszty",{"$f":"AND(E2858>=Kimutatás!B$2,E2858<=Kimutatás!B$3)","v":true}]
[2858,"Kecskemét","008","Q1","2019-02-20","Lakossági hitelnövekmény összege ",23,"Mhuf","2019-03-01","noszty",{"$f":"AND(E2859>=Kimutatás!B$2,E2859<=Kimutatás!B$3)","v":true}]
[2859,"Kecskemét","008","Q1","2019-02-20","Lakossági számlanyitás",3,"db","2019-03-01","noszty",{"$f":"AND(E2860>=Kimutatás!B$2,E2860<=Kimutatás!B$3)","v":true}]
[2860,"Kecskemét","008","Q1","2019-02-20","KKV hitelnövekmény (db)",-2,"db","2019-03-01","noszty",{"$f":"AND(E2861>=Kimutatás!B$2,E2861<=Kimutatás!B$3)","v":true}]
[2861,"Kecskemét","008","Q1","2019-02-20","KKV számlanyitás",-2,"db","2019-03-01","noszty",{"$f":"AND(E2862>=Kimutatás!B$2,E2862<=Kimutatás!B$3)","v":true}]
[2862,"Kecskemét","008","Q1","2019-02-20","Betét állomány növekmény",7,"Mhuf","2019-03-01","noszty",{"$f":"AND(E2863>=Kimutatás!B$2,E2863<=Kimutatás!B$3)","v":true}]
[2863,"Kecskemét","008","Q1","2019-02-21","Betérő ügyfelek",9,"fő","2019-03-01","noszty",{"$f":"AND(E2864>=Kimutatás!B$2,E2864<=Kimutatás!B$3)","v":true}]
[2864,"Kecskemét","008","Q1","2019-02-21","Lakossági hitelnövekmény összege ",20,"Mhuf","2019-03-01","noszty",{"$f":"AND(E2865>=Kimutatás!B$2,E2865<=Kimutatás!B$3)","v":true}]
[2865,"Kecskemét","008","Q1","2019-02-21","Lakossági számlanyitás",4,"db","2019-03-01","noszty",{"$f":"AND(E2866>=Kimutatás!B$2,E2866<=Kimutatás!B$3)","v":true}]
[2866,"Kecskemét","008","Q1","2019-02-21","KKV hitelnövekmény (db)",1,"db","2019-03-01","noszty",{"$f":"AND(E2867>=Kimutatás!B$2,E2867<=Kimutatás!B$3)","v":true}]
[2867,"Kecskemét","008","Q1","2019-02-21","KKV számlanyitás",-5,"db","2019-03-01","noszty",{"$f":"AND(E2868>=Kimutatás!B$2,E2868<=Kimutatás!B$3)","v":true}]
[2868,"Kecskemét","008","Q1","2019-02-21","Betét állomány növekmény",-18,"Mhuf","2019-03-01","noszty",{"$f":"AND(E2869>=Kimutatás!B$2,E2869<=Kimutatás!B$3)","v":true}]
[2869,"Kecskemét","008","Q1","2019-02-24","Betérő ügyfelek",8,"fő","2019-03-01","noszty",{"$f":"AND(E2870>=Kimutatás!B$2,E2870<=Kimutatás!B$3)","v":true}]
[2870,"Kecskemét","008","Q1","2019-02-24","Lakossági hitelnövekmény összege ",41,"Mhuf","2019-03-01","noszty",{"$f":"AND(E2871>=Kimutatás!B$2,E2871<=Kimutatás!B$3)","v":true}]
[2871,"Kecskemét","008","Q1","2019-02-24","Lakossági számlanyitás",7,"db","2019-03-01","noszty",{"$f":"AND(E2872>=Kimutatás!B$2,E2872<=Kimutatás!B$3)","v":true}]
[2872,"Kecskemét","008","Q1","2019-02-24","KKV hitelnövekmény (db)",-1,"db","2019-03-01","noszty",{"$f":"AND(E2873>=Kimutatás!B$2,E2873<=Kimutatás!B$3)","v":true}]
[2873,"Kecskemét","008","Q1","2019-02-24","KKV számlanyitás",5,"db","2019-03-01","noszty",{"$f":"AND(E2874>=Kimutatás!B$2,E2874<=Kimutatás!B$3)","v":true}]
[2874,"Kecskemét","008","Q1","2019-02-24","Betét állomány növekmény",24,"Mhuf","2019-03-01","noszty",{"$f":"AND(E2875>=Kimutatás!B$2,E2875<=Kimutatás!B$3)","v":true}]
[2875,"Kecskemét","008","Q1","2019-02-25","Betérő ügyfelek",46,"fő","2019-03-01","noszty",{"$f":"AND(E2876>=Kimutatás!B$2,E2876<=Kimutatás!B$3)","v":true}]
[2876,"Kecskemét","008","Q1","2019-02-25","Lakossági hitelnövekmény összege ",37,"Mhuf","2019-03-01","noszty",{"$f":"AND(E2877>=Kimutatás!B$2,E2877<=Kimutatás!B$3)","v":true}]
[2877,"Kecskemét","008","Q1","2019-02-25","Lakossági számlanyitás",-4,"db","2019-03-01","noszty",{"$f":"AND(E2878>=Kimutatás!B$2,E2878<=Kimutatás!B$3)","v":true}]
[2878,"Kecskemét","008","Q1","2019-02-25","KKV hitelnövekmény (db)",-1,"db","2019-03-01","noszty",{"$f":"AND(E2879>=Kimutatás!B$2,E2879<=Kimutatás!B$3)","v":true}]
[2879,"Kecskemét","008","Q1","2019-02-25","KKV számlanyitás",-1,"db","2019-03-01","noszty",{"$f":"AND(E2880>=Kimutatás!B$2,E2880<=Kimutatás!B$3)","v":true}]
[2880,"Kecskemét","008","Q1","2019-02-25","Betét állomány növekmény",-18,"Mhuf","2019-03-01","noszty",{"$f":"AND(E2881>=Kimutatás!B$2,E2881<=Kimutatás!B$3)","v":true}]
[2881,"Kecskemét","008","Q1","2019-02-26","Betérő ügyfelek",18,"fő","2019-03-01","noszty",{"$f":"AND(E2882>=Kimutatás!B$2,E2882<=Kimutatás!B$3)","v":true}]
[2882,"Kecskemét","008","Q1","2019-02-26","Lakossági hitelnövekmény összege ",5,"Mhuf","2019-03-01","noszty",{"$f":"AND(E2883>=Kimutatás!B$2,E2883<=Kimutatás!B$3)","v":true}]
[2883,"Kecskemét","008","Q1","2019-02-26","Lakossági számlanyitás",-3,"db","2019-03-01","noszty",{"$f":"AND(E2884>=Kimutatás!B$2,E2884<=Kimutatás!B$3)","v":true}]
[2884,"Kecskemét","008","Q1","2019-02-26","KKV hitelnövekmény (db)",-1,"db","2019-03-01","noszty",{"$f":"AND(E2885>=Kimutatás!B$2,E2885<=Kimutatás!B$3)","v":true}]
[2885,"Kecskemét","008","Q1","2019-02-26","KKV számlanyitás",5,"db","2019-03-01","noszty",{"$f":"AND(E2886>=Kimutatás!B$2,E2886<=Kimutatás!B$3)","v":true}]
[2886,"Kecskemét","008","Q1","2019-02-26","Betét állomány növekmény",10,"Mhuf","2019-03-01","noszty",{"$f":"AND(E2887>=Kimutatás!B$2,E2887<=Kimutatás!B$3)","v":true}]
[2887,"Kecskemét","008","Q1","2019-02-27","Betérő ügyfelek",38,"fő","2019-03-01","noszty",{"$f":"AND(E2888>=Kimutatás!B$2,E2888<=Kimutatás!B$3)","v":true}]
[2888,"Kecskemét","008","Q1","2019-02-27","Lakossági hitelnövekmény összege ",-1,"Mhuf","2019-03-01","noszty",{"$f":"AND(E2889>=Kimutatás!B$2,E2889<=Kimutatás!B$3)","v":true}]
[2889,"Kecskemét","008","Q1","2019-02-27","Lakossági számlanyitás",7,"db","2019-03-01","noszty",{"$f":"AND(E2890>=Kimutatás!B$2,E2890<=Kimutatás!B$3)","v":true}]
[2890,"Kecskemét","008","Q1","2019-02-27","KKV hitelnövekmény (db)",-2,"db","2019-03-01","noszty",{"$f":"AND(E2891>=Kimutatás!B$2,E2891<=Kimutatás!B$3)","v":true}]
[2891,"Kecskemét","008","Q1","2019-02-27","KKV számlanyitás",1,"db","2019-03-01","noszty",{"$f":"AND(E2892>=Kimutatás!B$2,E2892<=Kimutatás!B$3)","v":true}]
[2892,"Kecskemét","008","Q1","2019-02-27","Betét állomány növekmény",39,"Mhuf","2019-03-01","noszty",{"$f":"AND(E2893>=Kimutatás!B$2,E2893<=Kimutatás!B$3)","v":true}]
[2893,"Kecskemét","008","Q1","2019-02-28","Betérő ügyfelek",7,"fő","2019-03-01","noszty",{"$f":"AND(E2894>=Kimutatás!B$2,E2894<=Kimutatás!B$3)","v":true}]
[2894,"Kecskemét","008","Q1","2019-02-28","Lakossági hitelnövekmény összege ",3,"Mhuf","2019-03-01","noszty",{"$f":"AND(E2895>=Kimutatás!B$2,E2895<=Kimutatás!B$3)","v":true}]
[2895,"Kecskemét","008","Q1","2019-02-28","Lakossági számlanyitás",1,"db","2019-03-01","noszty",{"$f":"AND(E2896>=Kimutatás!B$2,E2896<=Kimutatás!B$3)","v":true}]
[2896,"Kecskemét","008","Q1","2019-02-28","KKV hitelnövekmény (db)",-2,"db","2019-03-01","noszty",{"$f":"AND(E2897>=Kimutatás!B$2,E2897<=Kimutatás!B$3)","v":true}]
[2897,"Kecskemét","008","Q1","2019-02-28","KKV számlanyitás",1,"db","2019-03-01","noszty",{"$f":"AND(E2898>=Kimutatás!B$2,E2898<=Kimutatás!B$3)","v":true}]
[2898,"Kecskemét","008","Q1","2019-02-28","Betét állomány növekmény",41,"Mhuf","2019-03-01","noszty",{"$f":"AND(E2899>=Kimutatás!B$2,E2899<=Kimutatás!B$3)","v":true}]
[2899,"Kecskemét","008","Q1","2019-03-03","Betérő ügyfelek",48,"fő","2019-04-01","marito",{"$f":"AND(E2900>=Kimutatás!B$2,E2900<=Kimutatás!B$3)","v":true}]
[2900,"Kecskemét","008","Q1","2019-03-03","Lakossági hitelnövekmény összege ",6,"Mhuf","2019-04-01","marito",{"$f":"AND(E2901>=Kimutatás!B$2,E2901<=Kimutatás!B$3)","v":true}]
[2901,"Kecskemét","008","Q1","2019-03-03","Lakossági számlanyitás",1,"db","2019-04-01","marito",{"$f":"AND(E2902>=Kimutatás!B$2,E2902<=Kimutatás!B$3)","v":true}]
[2902,"Kecskemét","008","Q1","2019-03-03","KKV hitelnövekmény (db)",2,"db","2019-04-01","marito",{"$f":"AND(E2903>=Kimutatás!B$2,E2903<=Kimutatás!B$3)","v":true}]
[2903,"Kecskemét","008","Q1","2019-03-03","KKV számlanyitás",3,"db","2019-04-01","marito",{"$f":"AND(E2904>=Kimutatás!B$2,E2904<=Kimutatás!B$3)","v":true}]
[2904,"Kecskemét","008","Q1","2019-03-03","Betét állomány növekmény",48,"Mhuf","2019-04-01","marito",{"$f":"AND(E2905>=Kimutatás!B$2,E2905<=Kimutatás!B$3)","v":true}]
[2905,"Kecskemét","008","Q1","2019-03-04","Betérő ügyfelek",32,"fő","2019-04-01","marito",{"$f":"AND(E2906>=Kimutatás!B$2,E2906<=Kimutatás!B$3)","v":true}]
[2906,"Kecskemét","008","Q1","2019-03-04","Lakossági hitelnövekmény összege ",23,"Mhuf","2019-04-01","marito",{"$f":"AND(E2907>=Kimutatás!B$2,E2907<=Kimutatás!B$3)","v":true}]
[2907,"Kecskemét","008","Q1","2019-03-04","Lakossági számlanyitás",-3,"db","2019-04-01","marito",{"$f":"AND(E2908>=Kimutatás!B$2,E2908<=Kimutatás!B$3)","v":true}]
[2908,"Kecskemét","008","Q1","2019-03-04","KKV hitelnövekmény (db)",1,"db","2019-04-01","marito",{"$f":"AND(E2909>=Kimutatás!B$2,E2909<=Kimutatás!B$3)","v":true}]
[2909,"Kecskemét","008","Q1","2019-03-04","KKV számlanyitás",2,"db","2019-04-01","marito",{"$f":"AND(E2910>=Kimutatás!B$2,E2910<=Kimutatás!B$3)","v":true}]
[2910,"Kecskemét","008","Q1","2019-03-04","Betét állomány növekmény",0,"Mhuf","2019-04-01","marito",{"$f":"AND(E2911>=Kimutatás!B$2,E2911<=Kimutatás!B$3)","v":true}]
[2911,"Kecskemét","008","Q1","2019-03-05","Betérő ügyfelek",28,"fő","2019-04-01","marito",{"$f":"AND(E2912>=Kimutatás!B$2,E2912<=Kimutatás!B$3)","v":true}]
[2912,"Kecskemét","008","Q1","2019-03-05","Lakossági hitelnövekmény összege ",35,"Mhuf","2019-04-01","marito",{"$f":"AND(E2913>=Kimutatás!B$2,E2913<=Kimutatás!B$3)","v":true}]
[2913,"Kecskemét","008","Q1","2019-03-05","Lakossági számlanyitás",-1,"db","2019-04-01","marito",{"$f":"AND(E2914>=Kimutatás!B$2,E2914<=Kimutatás!B$3)","v":true}]
[2914,"Kecskemét","008","Q1","2019-03-05","KKV hitelnövekmény (db)",-1,"db","2019-04-01","marito",{"$f":"AND(E2915>=Kimutatás!B$2,E2915<=Kimutatás!B$3)","v":true}]
[2915,"Kecskemét","008","Q1","2019-03-05","KKV számlanyitás",5,"db","2019-04-01","marito",{"$f":"AND(E2916>=Kimutatás!B$2,E2916<=Kimutatás!B$3)","v":true}]
[2916,"Kecskemét","008","Q1","2019-03-05","Betét állomány növekmény",-19,"Mhuf","2019-04-01","marito",{"$f":"AND(E2917>=Kimutatás!B$2,E2917<=Kimutatás!B$3)","v":true}]
[2917,"Kecskemét","008","Q1","2019-03-06","Betérő ügyfelek",35,"fő","2019-04-01","marito",{"$f":"AND(E2918>=Kimutatás!B$2,E2918<=Kimutatás!B$3)","v":true}]
[2918,"Kecskemét","008","Q1","2019-03-06","Lakossági hitelnövekmény összege ",17,"Mhuf","2019-04-01","marito",{"$f":"AND(E2919>=Kimutatás!B$2,E2919<=Kimutatás!B$3)","v":true}]
[2919,"Kecskemét","008","Q1","2019-03-06","Lakossági számlanyitás",10,"db","2019-04-01","marito",{"$f":"AND(E2920>=Kimutatás!B$2,E2920<=Kimutatás!B$3)","v":true}]
[2920,"Kecskemét","008","Q1","2019-03-06","KKV hitelnövekmény (db)",1,"db","2019-04-01","marito",{"$f":"AND(E2921>=Kimutatás!B$2,E2921<=Kimutatás!B$3)","v":true}]
[2921,"Kecskemét","008","Q1","2019-03-06","KKV számlanyitás",3,"db","2019-04-01","marito",{"$f":"AND(E2922>=Kimutatás!B$2,E2922<=Kimutatás!B$3)","v":true}]
[2922,"Kecskemét","008","Q1","2019-03-06","Betét állomány növekmény",49,"Mhuf","2019-04-01","marito",{"$f":"AND(E2923>=Kimutatás!B$2,E2923<=Kimutatás!B$3)","v":true}]
[2923,"Kecskemét","008","Q1","2019-03-07","Betérő ügyfelek",40,"fő","2019-04-01","marito",{"$f":"AND(E2924>=Kimutatás!B$2,E2924<=Kimutatás!B$3)","v":true}]
[2924,"Kecskemét","008","Q1","2019-03-07","Lakossági hitelnövekmény összege ",27,"Mhuf","2019-04-01","marito",{"$f":"AND(E2925>=Kimutatás!B$2,E2925<=Kimutatás!B$3)","v":true}]
[2925,"Kecskemét","008","Q1","2019-03-07","Lakossági számlanyitás",10,"db","2019-04-01","marito",{"$f":"AND(E2926>=Kimutatás!B$2,E2926<=Kimutatás!B$3)","v":true}]
[2926,"Kecskemét","008","Q1","2019-03-07","KKV hitelnövekmény (db)",2,"db","2019-04-01","marito",{"$f":"AND(E2927>=Kimutatás!B$2,E2927<=Kimutatás!B$3)","v":true}]
[2927,"Kecskemét","008","Q1","2019-03-07","KKV számlanyitás",-1,"db","2019-04-01","marito",{"$f":"AND(E2928>=Kimutatás!B$2,E2928<=Kimutatás!B$3)","v":true}]
[2928,"Kecskemét","008","Q1","2019-03-07","Betét állomány növekmény",23,"Mhuf","2019-04-01","marito",{"$f":"AND(E2929>=Kimutatás!B$2,E2929<=Kimutatás!B$3)","v":true}]
[2929,"Kecskemét","008","Q1","2019-03-10","Betérő ügyfelek",44,"fő","2019-04-01","marito",{"$f":"AND(E2930>=Kimutatás!B$2,E2930<=Kimutatás!B$3)","v":true}]
[2930,"Kecskemét","008","Q1","2019-03-10","Lakossági hitelnövekmény összege ",-8,"Mhuf","2019-04-01","marito",{"$f":"AND(E2931>=Kimutatás!B$2,E2931<=Kimutatás!B$3)","v":true}]
[2931,"Kecskemét","008","Q1","2019-03-10","Lakossági számlanyitás",-4,"db","2019-04-01","marito",{"$f":"AND(E2932>=Kimutatás!B$2,E2932<=Kimutatás!B$3)","v":true}]
[2932,"Kecskemét","008","Q1","2019-03-10","KKV hitelnövekmény (db)",-1,"db","2019-04-01","marito",{"$f":"AND(E2933>=Kimutatás!B$2,E2933<=Kimutatás!B$3)","v":true}]
[2933,"Kecskemét","008","Q1","2019-03-10","KKV számlanyitás",-2,"db","2019-04-01","marito",{"$f":"AND(E2934>=Kimutatás!B$2,E2934<=Kimutatás!B$3)","v":true}]
[2934,"Kecskemét","008","Q1","2019-03-10","Betét állomány növekmény",32,"Mhuf","2019-04-01","marito",{"$f":"AND(E2935>=Kimutatás!B$2,E2935<=Kimutatás!B$3)","v":true}]
[2935,"Kecskemét","008","Q1","2019-03-11","Betérő ügyfelek",47,"fő","2019-04-01","marito",{"$f":"AND(E2936>=Kimutatás!B$2,E2936<=Kimutatás!B$3)","v":false}]
[2936,"Kecskemét","008","Q1","2019-03-11","Lakossági hitelnövekmény összege ",-3,"Mhuf","2019-04-01","marito",{"$f":"AND(E2937>=Kimutatás!B$2,E2937<=Kimutatás!B$3)","v":false}]
[2937,"Kecskemét","008","Q1","2019-03-11","Lakossági számlanyitás",-5,"db","2019-04-01","marito",{"$f":"AND(E2938>=Kimutatás!B$2,E2938<=Kimutatás!B$3)","v":false}]
[2938,"Kecskemét","008","Q1","2019-03-11","KKV hitelnövekmény (db)",0,"db","2019-04-01","marito",{"$f":"AND(E2939>=Kimutatás!B$2,E2939<=Kimutatás!B$3)","v":false}]
[2939,"Kecskemét","008","Q1","2019-03-11","KKV számlanyitás",0,"db","2019-04-01","marito",{"$f":"AND(E2940>=Kimutatás!B$2,E2940<=Kimutatás!B$3)","v":false}]
[2940,"Kecskemét","008","Q1","2019-03-11","Betét állomány növekmény",-1,"Mhuf","2019-04-01","marito",{"$f":"AND(E2941>=Kimutatás!B$2,E2941<=Kimutatás!B$3)","v":false}]
[2941,"Kecskemét","008","Q1","2019-03-12","Betérő ügyfelek",2,"fő","2019-04-01","marito",{"$f":"AND(E2942>=Kimutatás!B$2,E2942<=Kimutatás!B$3)","v":false}]
[2942,"Kecskemét","008","Q1","2019-03-12","Lakossági hitelnövekmény összege ",5,"Mhuf","2019-04-01","marito",{"$f":"AND(E2943>=Kimutatás!B$2,E2943<=Kimutatás!B$3)","v":false}]
[2943,"Kecskemét","008","Q1","2019-03-12","Lakossági számlanyitás",-4,"db","2019-04-01","marito",{"$f":"AND(E2944>=Kimutatás!B$2,E2944<=Kimutatás!B$3)","v":false}]
[2944,"Kecskemét","008","Q1","2019-03-12","KKV hitelnövekmény (db)",0,"db","2019-04-01","marito",{"$f":"AND(E2945>=Kimutatás!B$2,E2945<=Kimutatás!B$3)","v":false}]
[2945,"Kecskemét","008","Q1","2019-03-12","KKV számlanyitás",-4,"db","2019-04-01","marito",{"$f":"AND(E2946>=Kimutatás!B$2,E2946<=Kimutatás!B$3)","v":false}]
[2946,"Kecskemét","008","Q1","2019-03-12","Betét állomány növekmény",50,"Mhuf","2019-04-01","marito",{"$f":"AND(E2947>=Kimutatás!B$2,E2947<=Kimutatás!B$3)","v":false}]
[2947,"Kecskemét","008","Q1","2019-03-13","Betérő ügyfelek",9,"fő","2019-04-01","marito",{"$f":"AND(E2948>=Kimutatás!B$2,E2948<=Kimutatás!B$3)","v":false}]
[2948,"Kecskemét","008","Q1","2019-03-13","Lakossági hitelnövekmény összege ",36,"Mhuf","2019-04-01","marito",{"$f":"AND(E2949>=Kimutatás!B$2,E2949<=Kimutatás!B$3)","v":false}]
[2949,"Kecskemét","008","Q1","2019-03-13","Lakossági számlanyitás",-4,"db","2019-04-01","marito",{"$f":"AND(E2950>=Kimutatás!B$2,E2950<=Kimutatás!B$3)","v":false}]
[2950,"Kecskemét","008","Q1","2019-03-13","KKV hitelnövekmény (db)",2,"db","2019-04-01","marito",{"$f":"AND(E2951>=Kimutatás!B$2,E2951<=Kimutatás!B$3)","v":false}]
[2951,"Kecskemét","008","Q1","2019-03-13","KKV számlanyitás",-5,"db","2019-04-01","marito",{"$f":"AND(E2952>=Kimutatás!B$2,E2952<=Kimutatás!B$3)","v":false}]
[2952,"Kecskemét","008","Q1","2019-03-13","Betét állomány növekmény",27,"Mhuf","2019-04-01","marito",{"$f":"AND(E2953>=Kimutatás!B$2,E2953<=Kimutatás!B$3)","v":false}]
[2953,"Kecskemét","008","Q1","2019-03-14","Betérő ügyfelek",27,"fő","2019-04-01","marito",{"$f":"AND(E2954>=Kimutatás!B$2,E2954<=Kimutatás!B$3)","v":false}]
[2954,"Kecskemét","008","Q1","2019-03-14","Lakossági hitelnövekmény összege ",35,"Mhuf","2019-04-01","marito",{"$f":"AND(E2955>=Kimutatás!B$2,E2955<=Kimutatás!B$3)","v":false}]
[2955,"Kecskemét","008","Q1","2019-03-14","Lakossági számlanyitás",6,"db","2019-04-01","marito",{"$f":"AND(E2956>=Kimutatás!B$2,E2956<=Kimutatás!B$3)","v":false}]
[2956,"Kecskemét","008","Q1","2019-03-14","KKV hitelnövekmény (db)",-1,"db","2019-04-01","marito",{"$f":"AND(E2957>=Kimutatás!B$2,E2957<=Kimutatás!B$3)","v":false}]
[2957,"Kecskemét","008","Q1","2019-03-14","KKV számlanyitás",-2,"db","2019-04-01","marito",{"$f":"AND(E2958>=Kimutatás!B$2,E2958<=Kimutatás!B$3)","v":false}]
[2958,"Kecskemét","008","Q1","2019-03-14","Betét állomány növekmény",-7,"Mhuf","2019-04-01","marito",{"$f":"AND(E2959>=Kimutatás!B$2,E2959<=Kimutatás!B$3)","v":false}]
[2959,"Kecskemét","008","Q1","2019-03-17","Betérő ügyfelek",13,"fő","2019-04-01","marito",{"$f":"AND(E2960>=Kimutatás!B$2,E2960<=Kimutatás!B$3)","v":false}]
[2960,"Kecskemét","008","Q1","2019-03-17","Lakossági hitelnövekmény összege ",-10,"Mhuf","2019-04-01","marito",{"$f":"AND(E2961>=Kimutatás!B$2,E2961<=Kimutatás!B$3)","v":false}]
[2961,"Kecskemét","008","Q1","2019-03-17","Lakossági számlanyitás",7,"db","2019-04-01","marito",{"$f":"AND(E2962>=Kimutatás!B$2,E2962<=Kimutatás!B$3)","v":false}]
[2962,"Kecskemét","008","Q1","2019-03-17","KKV hitelnövekmény (db)",1,"db","2019-04-01","marito",{"$f":"AND(E2963>=Kimutatás!B$2,E2963<=Kimutatás!B$3)","v":false}]
[2963,"Kecskemét","008","Q1","2019-03-17","KKV számlanyitás",5,"db","2019-04-01","marito",{"$f":"AND(E2964>=Kimutatás!B$2,E2964<=Kimutatás!B$3)","v":false}]
[2964,"Kecskemét","008","Q1","2019-03-17","Betét állomány növekmény",-13,"Mhuf","2019-04-01","marito",{"$f":"AND(E2965>=Kimutatás!B$2,E2965<=Kimutatás!B$3)","v":false}]
[2965,"Kecskemét","008","Q1","2019-03-18","Betérő ügyfelek",23,"fő","2019-04-01","marito",{"$f":"AND(E2966>=Kimutatás!B$2,E2966<=Kimutatás!B$3)","v":false}]
[2966,"Kecskemét","008","Q1","2019-03-18","Lakossági hitelnövekmény összege ",27,"Mhuf","2019-04-01","marito",{"$f":"AND(E2967>=Kimutatás!B$2,E2967<=Kimutatás!B$3)","v":false}]
[2967,"Kecskemét","008","Q1","2019-03-18","Lakossági számlanyitás",3,"db","2019-04-01","marito",{"$f":"AND(E2968>=Kimutatás!B$2,E2968<=Kimutatás!B$3)","v":false}]
[2968,"Kecskemét","008","Q1","2019-03-18","KKV hitelnövekmény (db)",1,"db","2019-04-01","marito",{"$f":"AND(E2969>=Kimutatás!B$2,E2969<=Kimutatás!B$3)","v":false}]
[2969,"Kecskemét","008","Q1","2019-03-18","KKV számlanyitás",-4,"db","2019-04-01","marito",{"$f":"AND(E2970>=Kimutatás!B$2,E2970<=Kimutatás!B$3)","v":false}]
[2970,"Kecskemét","008","Q1","2019-03-18","Betét állomány növekmény",-17,"Mhuf","2019-04-01","marito",{"$f":"AND(E2971>=Kimutatás!B$2,E2971<=Kimutatás!B$3)","v":false}]
[2971,"Kecskemét","008","Q1","2019-03-19","Betérő ügyfelek",12,"fő","2019-04-01","marito",{"$f":"AND(E2972>=Kimutatás!B$2,E2972<=Kimutatás!B$3)","v":false}]
[2972,"Kecskemét","008","Q1","2019-03-19","Lakossági hitelnövekmény összege ",24,"Mhuf","2019-04-01","marito",{"$f":"AND(E2973>=Kimutatás!B$2,E2973<=Kimutatás!B$3)","v":false}]
[2973,"Kecskemét","008","Q1","2019-03-19","Lakossági számlanyitás",7,"db","2019-04-01","marito",{"$f":"AND(E2974>=Kimutatás!B$2,E2974<=Kimutatás!B$3)","v":false}]
[2974,"Kecskemét","008","Q1","2019-03-19","KKV hitelnövekmény (db)",2,"db","2019-04-01","marito",{"$f":"AND(E2975>=Kimutatás!B$2,E2975<=Kimutatás!B$3)","v":false}]
[2975,"Kecskemét","008","Q1","2019-03-19","KKV számlanyitás",1,"db","2019-04-01","marito",{"$f":"AND(E2976>=Kimutatás!B$2,E2976<=Kimutatás!B$3)","v":false}]
[2976,"Kecskemét","008","Q1","2019-03-19","Betét állomány növekmény",11,"Mhuf","2019-04-01","marito",{"$f":"AND(E2977>=Kimutatás!B$2,E2977<=Kimutatás!B$3)","v":false}]
[2977,"Kecskemét","008","Q1","2019-03-20","Betérő ügyfelek",6,"fő","2019-04-01","marito",{"$f":"AND(E2978>=Kimutatás!B$2,E2978<=Kimutatás!B$3)","v":false}]
[2978,"Kecskemét","008","Q1","2019-03-20","Lakossági hitelnövekmény összege ",37,"Mhuf","2019-04-01","marito",{"$f":"AND(E2979>=Kimutatás!B$2,E2979<=Kimutatás!B$3)","v":false}]
[2979,"Kecskemét","008","Q1","2019-03-20","Lakossági számlanyitás",2,"db","2019-04-01","marito",{"$f":"AND(E2980>=Kimutatás!B$2,E2980<=Kimutatás!B$3)","v":false}]
[2980,"Kecskemét","008","Q1","2019-03-20","KKV hitelnövekmény (db)",2,"db","2019-04-01","marito",{"$f":"AND(E2981>=Kimutatás!B$2,E2981<=Kimutatás!B$3)","v":false}]
[2981,"Kecskemét","008","Q1","2019-03-20","KKV számlanyitás",-5,"db","2019-04-01","marito",{"$f":"AND(E2982>=Kimutatás!B$2,E2982<=Kimutatás!B$3)","v":false}]
[2982,"Kecskemét","008","Q1","2019-03-20","Betét állomány növekmény",32,"Mhuf","2019-04-01","marito",{"$f":"AND(E2983>=Kimutatás!B$2,E2983<=Kimutatás!B$3)","v":false}]
[2983,"Kecskemét","008","Q1","2019-03-21","Betérő ügyfelek",33,"fő","2019-04-01","marito",{"$f":"AND(E2984>=Kimutatás!B$2,E2984<=Kimutatás!B$3)","v":false}]
[2984,"Kecskemét","008","Q1","2019-03-21","Lakossági hitelnövekmény összege ",27,"Mhuf","2019-04-01","marito",{"$f":"AND(E2985>=Kimutatás!B$2,E2985<=Kimutatás!B$3)","v":false}]
[2985,"Kecskemét","008","Q1","2019-03-21","Lakossági számlanyitás",9,"db","2019-04-01","marito",{"$f":"AND(E2986>=Kimutatás!B$2,E2986<=Kimutatás!B$3)","v":false}]
[2986,"Kecskemét","008","Q1","2019-03-21","KKV hitelnövekmény (db)",-2,"db","2019-04-01","marito",{"$f":"AND(E2987>=Kimutatás!B$2,E2987<=Kimutatás!B$3)","v":false}]
[2987,"Kecskemét","008","Q1","2019-03-21","KKV számlanyitás",3,"db","2019-04-01","marito",{"$f":"AND(E2988>=Kimutatás!B$2,E2988<=Kimutatás!B$3)","v":false}]
[2988,"Kecskemét","008","Q1","2019-03-21","Betét állomány növekmény",5,"Mhuf","2019-04-01","marito",{"$f":"AND(E2989>=Kimutatás!B$2,E2989<=Kimutatás!B$3)","v":false}]
[2989,"Kecskemét","008","Q1","2019-03-24","Betérő ügyfelek",39,"fő","2019-04-01","marito",{"$f":"AND(E2990>=Kimutatás!B$2,E2990<=Kimutatás!B$3)","v":false}]
[2990,"Kecskemét","008","Q1","2019-03-24","Lakossági hitelnövekmény összege ",-5,"Mhuf","2019-04-01","marito",{"$f":"AND(E2991>=Kimutatás!B$2,E2991<=Kimutatás!B$3)","v":false}]
[2991,"Kecskemét","008","Q1","2019-03-24","Lakossági számlanyitás",4,"db","2019-04-01","marito",{"$f":"AND(E2992>=Kimutatás!B$2,E2992<=Kimutatás!B$3)","v":false}]
[2992,"Kecskemét","008","Q1","2019-03-24","KKV hitelnövekmény (db)",-2,"db","2019-04-01","marito",{"$f":"AND(E2993>=Kimutatás!B$2,E2993<=Kimutatás!B$3)","v":false}]
[2993,"Kecskemét","008","Q1","2019-03-24","KKV számlanyitás",-1,"db","2019-04-01","marito",{"$f":"AND(E2994>=Kimutatás!B$2,E2994<=Kimutatás!B$3)","v":false}]
[2994,"Kecskemét","008","Q1","2019-03-24","Betét állomány növekmény",29,"Mhuf","2019-04-01","marito",{"$f":"AND(E2995>=Kimutatás!B$2,E2995<=Kimutatás!B$3)","v":false}]
[2995,"Kecskemét","008","Q1","2019-03-25","Betérő ügyfelek",2,"fő","2019-04-01","marito",{"$f":"AND(E2996>=Kimutatás!B$2,E2996<=Kimutatás!B$3)","v":false}]
[2996,"Kecskemét","008","Q1","2019-03-25","Lakossági hitelnövekmény összege ",-9,"Mhuf","2019-04-01","marito",{"$f":"AND(E2997>=Kimutatás!B$2,E2997<=Kimutatás!B$3)","v":false}]
[2997,"Kecskemét","008","Q1","2019-03-25","Lakossági számlanyitás",6,"db","2019-04-01","marito",{"$f":"AND(E2998>=Kimutatás!B$2,E2998<=Kimutatás!B$3)","v":false}]
[2998,"Kecskemét","008","Q1","2019-03-25","KKV hitelnövekmény (db)",-2,"db","2019-04-01","marito",{"$f":"AND(E2999>=Kimutatás!B$2,E2999<=Kimutatás!B$3)","v":false}]
[2999,"Kecskemét","008","Q1","2019-03-25","KKV számlanyitás",-4,"db","2019-04-01","marito",{"$f":"AND(E3000>=Kimutatás!B$2,E3000<=Kimutatás!B$3)","v":false}]
[3000,"Kecskemét","008","Q1","2019-03-25","Betét állomány növekmény",24,"Mhuf","2019-04-01","marito",{"$f":"AND(E3001>=Kimutatás!B$2,E3001<=Kimutatás!B$3)","v":false}]
[3001,"Kecskemét","008","Q1","2019-03-26","Betérő ügyfelek",14,"fő","2019-04-01","marito",{"$f":"AND(E3002>=Kimutatás!B$2,E3002<=Kimutatás!B$3)","v":false}]
[3002,"Kecskemét","008","Q1","2019-03-26","Lakossági hitelnövekmény összege ",5,"Mhuf","2019-04-01","marito",{"$f":"AND(E3003>=Kimutatás!B$2,E3003<=Kimutatás!B$3)","v":false}]
[3003,"Kecskemét","008","Q1","2019-03-26","Lakossági számlanyitás",-3,"db","2019-04-01","marito",{"$f":"AND(E3004>=Kimutatás!B$2,E3004<=Kimutatás!B$3)","v":false}]
[3004,"Kecskemét","008","Q1","2019-03-26","KKV hitelnövekmény (db)",-1,"db","2019-04-01","marito",{"$f":"AND(E3005>=Kimutatás!B$2,E3005<=Kimutatás!B$3)","v":false}]
[3005,"Kecskemét","008","Q1","2019-03-26","KKV számlanyitás",5,"db","2019-04-01","marito",{"$f":"AND(E3006>=Kimutatás!B$2,E3006<=Kimutatás!B$3)","v":false}]
[3006,"Kecskemét","008","Q1","2019-03-26","Betét állomány növekmény",-19,"Mhuf","2019-04-01","marito",{"$f":"AND(E3007>=Kimutatás!B$2,E3007<=Kimutatás!B$3)","v":false}]
[3007,"Kecskemét","008","Q1","2019-03-27","Betérő ügyfelek",45,"fő","2019-04-01","marito",{"$f":"AND(E3008>=Kimutatás!B$2,E3008<=Kimutatás!B$3)","v":false}]
[3008,"Kecskemét","008","Q1","2019-03-27","Lakossági hitelnövekmény összege ",30,"Mhuf","2019-04-01","marito",{"$f":"AND(E3009>=Kimutatás!B$2,E3009<=Kimutatás!B$3)","v":false}]
[3009,"Kecskemét","008","Q1","2019-03-27","Lakossági számlanyitás",3,"db","2019-04-01","marito",{"$f":"AND(E3010>=Kimutatás!B$2,E3010<=Kimutatás!B$3)","v":false}]
[3010,"Kecskemét","008","Q1","2019-03-27","KKV hitelnövekmény (db)",0,"db","2019-04-01","marito",{"$f":"AND(E3011>=Kimutatás!B$2,E3011<=Kimutatás!B$3)","v":false}]
[3011,"Kecskemét","008","Q1","2019-03-27","KKV számlanyitás",-2,"db","2019-04-01","marito",{"$f":"AND(E3012>=Kimutatás!B$2,E3012<=Kimutatás!B$3)","v":false}]
[3012,"Kecskemét","008","Q1","2019-03-27","Betét állomány növekmény",25,"Mhuf","2019-04-01","marito",{"$f":"AND(E3013>=Kimutatás!B$2,E3013<=Kimutatás!B$3)","v":false}]
[3013,"Kecskemét","008","Q1","2019-03-28","Betérő ügyfelek",27,"fő","2019-04-01","marito",{"$f":"AND(E3014>=Kimutatás!B$2,E3014<=Kimutatás!B$3)","v":false}]
[3014,"Kecskemét","008","Q1","2019-03-28","Lakossági hitelnövekmény összege ",-1,"Mhuf","2019-04-01","marito",{"$f":"AND(E3015>=Kimutatás!B$2,E3015<=Kimutatás!B$3)","v":false}]
[3015,"Kecskemét","008","Q1","2019-03-28","Lakossági számlanyitás",0,"db","2019-04-01","marito",{"$f":"AND(E3016>=Kimutatás!B$2,E3016<=Kimutatás!B$3)","v":false}]
[3016,"Kecskemét","008","Q1","2019-03-28","KKV hitelnövekmény (db)",2,"db","2019-04-01","marito",{"$f":"AND(E3017>=Kimutatás!B$2,E3017<=Kimutatás!B$3)","v":false}]
[3017,"Kecskemét","008","Q1","2019-03-28","KKV számlanyitás",1,"db","2019-04-01","marito",{"$f":"AND(E3018>=Kimutatás!B$2,E3018<=Kimutatás!B$3)","v":false}]
[3018,"Kecskemét","008","Q1","2019-03-28","Betét állomány növekmény",47,"Mhuf","2019-04-01","marito",{"$f":"AND(E3019>=Kimutatás!B$2,E3019<=Kimutatás!B$3)","v":false}]
[3019,"Kecskemét","008","Q1","2019-03-31","Betérő ügyfelek",21,"fő","2019-04-01","marito",{"$f":"AND(E3020>=Kimutatás!B$2,E3020<=Kimutatás!B$3)","v":false}]
[3020,"Kecskemét","008","Q1","2019-03-31","Lakossági hitelnövekmény összege ",39,"Mhuf","2019-04-01","marito",{"$f":"AND(E3021>=Kimutatás!B$2,E3021<=Kimutatás!B$3)","v":false}]
[3021,"Kecskemét","008","Q1","2019-03-31","Lakossági számlanyitás",2,"db","2019-04-01","marito",{"$f":"AND(E3022>=Kimutatás!B$2,E3022<=Kimutatás!B$3)","v":false}]
[3022,"Kecskemét","008","Q1","2019-03-31","KKV hitelnövekmény (db)",2,"db","2019-04-01","marito",{"$f":"AND(E3023>=Kimutatás!B$2,E3023<=Kimutatás!B$3)","v":false}]
[3023,"Kecskemét","008","Q1","2019-03-31","KKV számlanyitás",3,"db","2019-04-01","marito",{"$f":"AND(E3024>=Kimutatás!B$2,E3024<=Kimutatás!B$3)","v":false}]
[3024,"Kecskemét","008","Q1","2019-03-31","Betét állomány növekmény",47,"Mhuf","2019-04-01","marito",{"$f":"AND(E3025>=Kimutatás!B$2,E3025<=Kimutatás!B$3)","v":false}]
[3025,"Miskolc","009","Q1","2019-01-02","Betérő ügyfelek",35,"fő","2019-02-01","edda99",{"$f":"AND(E3026>=Kimutatás!B$2,E3026<=Kimutatás!B$3)","v":false}]
[3026,"Miskolc","009","Q1","2019-01-02","Lakossági hitelnövekmény összege ",3,"Mhuf","2019-02-01","edda99",{"$f":"AND(E3027>=Kimutatás!B$2,E3027<=Kimutatás!B$3)","v":false}]
[3027,"Miskolc","009","Q1","2019-01-02","Lakossági számlanyitás",0,"db","2019-02-01","edda99",{"$f":"AND(E3028>=Kimutatás!B$2,E3028<=Kimutatás!B$3)","v":false}]
[3028,"Miskolc","009","Q1","2019-01-02","KKV hitelnövekmény (db)",2,"db","2019-02-01","edda99",{"$f":"AND(E3029>=Kimutatás!B$2,E3029<=Kimutatás!B$3)","v":false}]
[3029,"Miskolc","009","Q1","2019-01-02","KKV számlanyitás",-3,"db","2019-02-01","edda99",{"$f":"AND(E3030>=Kimutatás!B$2,E3030<=Kimutatás!B$3)","v":false}]
[3030,"Miskolc","009","Q1","2019-01-02","Betét állomány növekmény",20,"Mhuf","2019-02-01","edda99",{"$f":"AND(E3031>=Kimutatás!B$2,E3031<=Kimutatás!B$3)","v":false}]
[3031,"Miskolc","009","Q1","2019-01-03","Betérő ügyfelek",47,"fő","2019-02-01","edda99",{"$f":"AND(E3032>=Kimutatás!B$2,E3032<=Kimutatás!B$3)","v":false}]
[3032,"Miskolc","009","Q1","2019-01-03","Lakossági hitelnövekmény összege ",48,"Mhuf","2019-02-01","edda99",{"$f":"AND(E3033>=Kimutatás!B$2,E3033<=Kimutatás!B$3)","v":false}]
[3033,"Miskolc","009","Q1","2019-01-03","Lakossági számlanyitás",10,"db","2019-02-01","edda99",{"$f":"AND(E3034>=Kimutatás!B$2,E3034<=Kimutatás!B$3)","v":false}]
[3034,"Miskolc","009","Q1","2019-01-03","KKV hitelnövekmény (db)",0,"db","2019-02-01","edda99",{"$f":"AND(E3035>=Kimutatás!B$2,E3035<=Kimutatás!B$3)","v":false}]
[3035,"Miskolc","009","Q1","2019-01-03","KKV számlanyitás",-3,"db","2019-02-01","edda99",{"$f":"AND(E3036>=Kimutatás!B$2,E3036<=Kimutatás!B$3)","v":false}]
[3036,"Miskolc","009","Q1","2019-01-03","Betét állomány növekmény",-4,"Mhuf","2019-02-01","edda99",{"$f":"AND(E3037>=Kimutatás!B$2,E3037<=Kimutatás!B$3)","v":false}]
[3037,"Miskolc","009","Q1","2019-01-06","Betérő ügyfelek",45,"fő","2019-02-01","edda99",{"$f":"AND(E3038>=Kimutatás!B$2,E3038<=Kimutatás!B$3)","v":false}]
[3038,"Miskolc","009","Q1","2019-01-06","Lakossági hitelnövekmény összege ",9,"Mhuf","2019-02-01","edda99",{"$f":"AND(E3039>=Kimutatás!B$2,E3039<=Kimutatás!B$3)","v":false}]
[3039,"Miskolc","009","Q1","2019-01-06","Lakossági számlanyitás",2,"db","2019-02-01","edda99",{"$f":"AND(E3040>=Kimutatás!B$2,E3040<=Kimutatás!B$3)","v":false}]
[3040,"Miskolc","009","Q1","2019-01-06","KKV hitelnövekmény (db)",-2,"db","2019-02-01","edda99",{"$f":"AND(E3041>=Kimutatás!B$2,E3041<=Kimutatás!B$3)","v":false}]
[3041,"Miskolc","009","Q1","2019-01-06","KKV számlanyitás",3,"db","2019-02-01","edda99",{"$f":"AND(E3042>=Kimutatás!B$2,E3042<=Kimutatás!B$3)","v":false}]
[3042,"Miskolc","009","Q1","2019-01-06","Betét állomány növekmény",34,"Mhuf","2019-02-01","edda99",{"$f":"AND(E3043>=Kimutatás!B$2,E3043<=Kimutatás!B$3)","v":false}]
[3043,"Miskolc","009","Q1","2019-01-07","Betérő ügyfelek",42,"fő","2019-02-01","edda99",{"$f":"AND(E3044>=Kimutatás!B$2,E3044<=Kimutatás!B$3)","v":false}]
[3044,"Miskolc","009","Q1","2019-01-07","Lakossági hitelnövekmény összege ",40,"Mhuf","2019-02-01","edda99",{"$f":"AND(E3045>=Kimutatás!B$2,E3045<=Kimutatás!B$3)","v":false}]
[3045,"Miskolc","009","Q1","2019-01-07","Lakossági számlanyitás",3,"db","2019-02-01","edda99",{"$f":"AND(E3046>=Kimutatás!B$2,E3046<=Kimutatás!B$3)","v":false}]
[3046,"Miskolc","009","Q1","2019-01-07","KKV hitelnövekmény (db)",1,"db","2019-02-01","edda99",{"$f":"AND(E3047>=Kimutatás!B$2,E3047<=Kimutatás!B$3)","v":false}]
[3047,"Miskolc","009","Q1","2019-01-07","KKV számlanyitás",5,"db","2019-02-01","edda99",{"$f":"AND(E3048>=Kimutatás!B$2,E3048<=Kimutatás!B$3)","v":false}]
[3048,"Miskolc","009","Q1","2019-01-07","Betét állomány növekmény",32,"Mhuf","2019-02-01","edda99",{"$f":"AND(E3049>=Kimutatás!B$2,E3049<=Kimutatás!B$3)","v":false}]
[3049,"Miskolc","009","Q1","2019-01-08","Betérő ügyfelek",3,"fő","2019-02-01","edda99",{"$f":"AND(E3050>=Kimutatás!B$2,E3050<=Kimutatás!B$3)","v":false}]
[3050,"Miskolc","009","Q1","2019-01-08","Lakossági hitelnövekmény összege ",41,"Mhuf","2019-02-01","edda99",{"$f":"AND(E3051>=Kimutatás!B$2,E3051<=Kimutatás!B$3)","v":false}]
[3051,"Miskolc","009","Q1","2019-01-08","Lakossági számlanyitás",5,"db","2019-02-01","edda99",{"$f":"AND(E3052>=Kimutatás!B$2,E3052<=Kimutatás!B$3)","v":false}]
[3052,"Miskolc","009","Q1","2019-01-08","KKV hitelnövekmény (db)",2,"db","2019-02-01","edda99",{"$f":"AND(E3053>=Kimutatás!B$2,E3053<=Kimutatás!B$3)","v":false}]
[3053,"Miskolc","009","Q1","2019-01-08","KKV számlanyitás",2,"db","2019-02-01","edda99",{"$f":"AND(E3054>=Kimutatás!B$2,E3054<=Kimutatás!B$3)","v":false}]
[3054,"Miskolc","009","Q1","2019-01-08","Betét állomány növekmény",22,"Mhuf","2019-02-01","edda99",{"$f":"AND(E3055>=Kimutatás!B$2,E3055<=Kimutatás!B$3)","v":false}]
[3055,"Miskolc","009","Q1","2019-01-09","Betérő ügyfelek",6,"fő","2019-02-01","edda99",{"$f":"AND(E3056>=Kimutatás!B$2,E3056<=Kimutatás!B$3)","v":false}]
[3056,"Miskolc","009","Q1","2019-01-09","Lakossági hitelnövekmény összege ",5,"Mhuf","2019-02-01","edda99",{"$f":"AND(E3057>=Kimutatás!B$2,E3057<=Kimutatás!B$3)","v":false}]
[3057,"Miskolc","009","Q1","2019-01-09","Lakossági számlanyitás",-2,"db","2019-02-01","edda99",{"$f":"AND(E3058>=Kimutatás!B$2,E3058<=Kimutatás!B$3)","v":false}]
[3058,"Miskolc","009","Q1","2019-01-09","KKV hitelnövekmény (db)",0,"db","2019-02-01","edda99",{"$f":"AND(E3059>=Kimutatás!B$2,E3059<=Kimutatás!B$3)","v":false}]
[3059,"Miskolc","009","Q1","2019-01-09","KKV számlanyitás",0,"db","2019-02-01","edda99",{"$f":"AND(E3060>=Kimutatás!B$2,E3060<=Kimutatás!B$3)","v":false}]
[3060,"Miskolc","009","Q1","2019-01-09","Betét állomány növekmény",31,"Mhuf","2019-02-01","edda99",{"$f":"AND(E3061>=Kimutatás!B$2,E3061<=Kimutatás!B$3)","v":false}]
[3061,"Miskolc","009","Q1","2019-01-10","Betérő ügyfelek",35,"fő","2019-02-01","edda99",{"$f":"AND(E3062>=Kimutatás!B$2,E3062<=Kimutatás!B$3)","v":true}]
[3062,"Miskolc","009","Q1","2019-01-10","Lakossági hitelnövekmény összege ",36,"Mhuf","2019-02-01","edda99",{"$f":"AND(E3063>=Kimutatás!B$2,E3063<=Kimutatás!B$3)","v":true}]
[3063,"Miskolc","009","Q1","2019-01-10","Lakossági számlanyitás",-1,"db","2019-02-01","edda99",{"$f":"AND(E3064>=Kimutatás!B$2,E3064<=Kimutatás!B$3)","v":true}]
[3064,"Miskolc","009","Q1","2019-01-10","KKV hitelnövekmény (db)",1,"db","2019-02-01","edda99",{"$f":"AND(E3065>=Kimutatás!B$2,E3065<=Kimutatás!B$3)","v":true}]
[3065,"Miskolc","009","Q1","2019-01-10","KKV számlanyitás",-2,"db","2019-02-01","edda99",{"$f":"AND(E3066>=Kimutatás!B$2,E3066<=Kimutatás!B$3)","v":true}]
[3066,"Miskolc","009","Q1","2019-01-10","Betét állomány növekmény",-6,"Mhuf","2019-02-01","edda99",{"$f":"AND(E3067>=Kimutatás!B$2,E3067<=Kimutatás!B$3)","v":true}]
[3067,"Miskolc","009","Q1","2019-01-13","Betérő ügyfelek",13,"fő","2019-02-01","edda99",{"$f":"AND(E3068>=Kimutatás!B$2,E3068<=Kimutatás!B$3)","v":true}]
[3068,"Miskolc","009","Q1","2019-01-13","Lakossági hitelnövekmény összege ",23,"Mhuf","2019-02-01","edda99",{"$f":"AND(E3069>=Kimutatás!B$2,E3069<=Kimutatás!B$3)","v":true}]
[3069,"Miskolc","009","Q1","2019-01-13","Lakossági számlanyitás",2,"db","2019-02-01","edda99",{"$f":"AND(E3070>=Kimutatás!B$2,E3070<=Kimutatás!B$3)","v":true}]
[3070,"Miskolc","009","Q1","2019-01-13","KKV hitelnövekmény (db)",0,"db","2019-02-01","edda99",{"$f":"AND(E3071>=Kimutatás!B$2,E3071<=Kimutatás!B$3)","v":true}]
[3071,"Miskolc","009","Q1","2019-01-13","KKV számlanyitás",4,"db","2019-02-01","edda99",{"$f":"AND(E3072>=Kimutatás!B$2,E3072<=Kimutatás!B$3)","v":true}]
[3072,"Miskolc","009","Q1","2019-01-13","Betét állomány növekmény",36,"Mhuf","2019-02-01","edda99",{"$f":"AND(E3073>=Kimutatás!B$2,E3073<=Kimutatás!B$3)","v":true}]
[3073,"Miskolc","009","Q1","2019-01-14","Betérő ügyfelek",14,"fő","2019-02-01","edda99",{"$f":"AND(E3074>=Kimutatás!B$2,E3074<=Kimutatás!B$3)","v":true}]
[3074,"Miskolc","009","Q1","2019-01-14","Lakossági hitelnövekmény összege ",50,"Mhuf","2019-02-01","edda99",{"$f":"AND(E3075>=Kimutatás!B$2,E3075<=Kimutatás!B$3)","v":true}]
[3075,"Miskolc","009","Q1","2019-01-14","Lakossági számlanyitás",6,"db","2019-02-01","edda99",{"$f":"AND(E3076>=Kimutatás!B$2,E3076<=Kimutatás!B$3)","v":true}]
[3076,"Miskolc","009","Q1","2019-01-14","KKV hitelnövekmény (db)",0,"db","2019-02-01","edda99",{"$f":"AND(E3077>=Kimutatás!B$2,E3077<=Kimutatás!B$3)","v":true}]
[3077,"Miskolc","009","Q1","2019-01-14","KKV számlanyitás",3,"db","2019-02-01","edda99",{"$f":"AND(E3078>=Kimutatás!B$2,E3078<=Kimutatás!B$3)","v":true}]
[3078,"Miskolc","009","Q1","2019-01-14","Betét állomány növekmény",-4,"Mhuf","2019-02-01","edda99",{"$f":"AND(E3079>=Kimutatás!B$2,E3079<=Kimutatás!B$3)","v":true}]
[3079,"Miskolc","009","Q1","2019-01-15","Betérő ügyfelek",13,"fő","2019-02-01","edda99",{"$f":"AND(E3080>=Kimutatás!B$2,E3080<=Kimutatás!B$3)","v":true}]
[3080,"Miskolc","009","Q1","2019-01-15","Lakossági hitelnövekmény összege ",-1,"Mhuf","2019-02-01","edda99",{"$f":"AND(E3081>=Kimutatás!B$2,E3081<=Kimutatás!B$3)","v":true}]
[3081,"Miskolc","009","Q1","2019-01-15","Lakossági számlanyitás",5,"db","2019-02-01","edda99",{"$f":"AND(E3082>=Kimutatás!B$2,E3082<=Kimutatás!B$3)","v":true}]
[3082,"Miskolc","009","Q1","2019-01-15","KKV hitelnövekmény (db)",-2,"db","2019-02-01","edda99",{"$f":"AND(E3083>=Kimutatás!B$2,E3083<=Kimutatás!B$3)","v":true}]
[3083,"Miskolc","009","Q1","2019-01-15","KKV számlanyitás",-1,"db","2019-02-01","edda99",{"$f":"AND(E3084>=Kimutatás!B$2,E3084<=Kimutatás!B$3)","v":true}]
[3084,"Miskolc","009","Q1","2019-01-15","Betét állomány növekmény",9,"Mhuf","2019-02-01","edda99",{"$f":"AND(E3085>=Kimutatás!B$2,E3085<=Kimutatás!B$3)","v":true}]
[3085,"Miskolc","009","Q1","2019-01-16","Betérő ügyfelek",3,"fő","2019-02-01","edda99",{"$f":"AND(E3086>=Kimutatás!B$2,E3086<=Kimutatás!B$3)","v":true}]
[3086,"Miskolc","009","Q1","2019-01-16","Lakossági hitelnövekmény összege ",42,"Mhuf","2019-02-01","edda99",{"$f":"AND(E3087>=Kimutatás!B$2,E3087<=Kimutatás!B$3)","v":true}]
[3087,"Miskolc","009","Q1","2019-01-16","Lakossági számlanyitás",-4,"db","2019-02-01","edda99",{"$f":"AND(E3088>=Kimutatás!B$2,E3088<=Kimutatás!B$3)","v":true}]
[3088,"Miskolc","009","Q1","2019-01-16","KKV hitelnövekmény (db)",0,"db","2019-02-01","edda99",{"$f":"AND(E3089>=Kimutatás!B$2,E3089<=Kimutatás!B$3)","v":true}]
[3089,"Miskolc","009","Q1","2019-01-16","KKV számlanyitás",2,"db","2019-02-01","edda99",{"$f":"AND(E3090>=Kimutatás!B$2,E3090<=Kimutatás!B$3)","v":true}]
[3090,"Miskolc","009","Q1","2019-01-16","Betét állomány növekmény",-6,"Mhuf","2019-02-01","edda99",{"$f":"AND(E3091>=Kimutatás!B$2,E3091<=Kimutatás!B$3)","v":true}]
[3091,"Miskolc","009","Q1","2019-01-17","Betérő ügyfelek",19,"fő","2019-02-01","edda99",{"$f":"AND(E3092>=Kimutatás!B$2,E3092<=Kimutatás!B$3)","v":true}]
[3092,"Miskolc","009","Q1","2019-01-17","Lakossági hitelnövekmény összege ",-8,"Mhuf","2019-02-01","edda99",{"$f":"AND(E3093>=Kimutatás!B$2,E3093<=Kimutatás!B$3)","v":true}]
[3093,"Miskolc","009","Q1","2019-01-17","Lakossági számlanyitás",0,"db","2019-02-01","edda99",{"$f":"AND(E3094>=Kimutatás!B$2,E3094<=Kimutatás!B$3)","v":true}]
[3094,"Miskolc","009","Q1","2019-01-17","KKV hitelnövekmény (db)",-2,"db","2019-02-01","edda99",{"$f":"AND(E3095>=Kimutatás!B$2,E3095<=Kimutatás!B$3)","v":true}]
[3095,"Miskolc","009","Q1","2019-01-17","KKV számlanyitás",0,"db","2019-02-01","edda99",{"$f":"AND(E3096>=Kimutatás!B$2,E3096<=Kimutatás!B$3)","v":true}]
[3096,"Miskolc","009","Q1","2019-01-17","Betét állomány növekmény",17,"Mhuf","2019-02-01","edda99",{"$f":"AND(E3097>=Kimutatás!B$2,E3097<=Kimutatás!B$3)","v":true}]
[3097,"Miskolc","009","Q1","2019-01-20","Betérő ügyfelek",27,"fő","2019-02-01","edda99",{"$f":"AND(E3098>=Kimutatás!B$2,E3098<=Kimutatás!B$3)","v":true}]
[3098,"Miskolc","009","Q1","2019-01-20","Lakossági hitelnövekmény összege ",-9,"Mhuf","2019-02-01","edda99",{"$f":"AND(E3099>=Kimutatás!B$2,E3099<=Kimutatás!B$3)","v":true}]
[3099,"Miskolc","009","Q1","2019-01-20","Lakossági számlanyitás",0,"db","2019-02-01","edda99",{"$f":"AND(E3100>=Kimutatás!B$2,E3100<=Kimutatás!B$3)","v":true}]
[3100,"Miskolc","009","Q1","2019-01-20","KKV hitelnövekmény (db)",-1,"db","2019-02-01","edda99",{"$f":"AND(E3101>=Kimutatás!B$2,E3101<=Kimutatás!B$3)","v":true}]
[3101,"Miskolc","009","Q1","2019-01-20","KKV számlanyitás",-2,"db","2019-02-01","edda99",{"$f":"AND(E3102>=Kimutatás!B$2,E3102<=Kimutatás!B$3)","v":true}]
[3102,"Miskolc","009","Q1","2019-01-20","Betét állomány növekmény",4,"Mhuf","2019-02-01","edda99",{"$f":"AND(E3103>=Kimutatás!B$2,E3103<=Kimutatás!B$3)","v":true}]
[3103,"Miskolc","009","Q1","2019-01-21","Betérő ügyfelek",4,"fő","2019-02-01","edda99",{"$f":"AND(E3104>=Kimutatás!B$2,E3104<=Kimutatás!B$3)","v":true}]
[3104,"Miskolc","009","Q1","2019-01-21","Lakossági hitelnövekmény összege ",-9,"Mhuf","2019-02-01","edda99",{"$f":"AND(E3105>=Kimutatás!B$2,E3105<=Kimutatás!B$3)","v":true}]
[3105,"Miskolc","009","Q1","2019-01-21","Lakossági számlanyitás",-4,"db","2019-02-01","edda99",{"$f":"AND(E3106>=Kimutatás!B$2,E3106<=Kimutatás!B$3)","v":true}]
[3106,"Miskolc","009","Q1","2019-01-21","KKV hitelnövekmény (db)",2,"db","2019-02-01","edda99",{"$f":"AND(E3107>=Kimutatás!B$2,E3107<=Kimutatás!B$3)","v":true}]
[3107,"Miskolc","009","Q1","2019-01-21","KKV számlanyitás",0,"db","2019-02-01","edda99",{"$f":"AND(E3108>=Kimutatás!B$2,E3108<=Kimutatás!B$3)","v":true}]
[3108,"Miskolc","009","Q1","2019-01-21","Betét állomány növekmény",-2,"Mhuf","2019-02-01","edda99",{"$f":"AND(E3109>=Kimutatás!B$2,E3109<=Kimutatás!B$3)","v":true}]
[3109,"Miskolc","009","Q1","2019-01-22","Betérő ügyfelek",13,"fő","2019-02-01","edda99",{"$f":"AND(E3110>=Kimutatás!B$2,E3110<=Kimutatás!B$3)","v":true}]
[3110,"Miskolc","009","Q1","2019-01-22","Lakossági hitelnövekmény összege ",27,"Mhuf","2019-02-01","edda99",{"$f":"AND(E3111>=Kimutatás!B$2,E3111<=Kimutatás!B$3)","v":true}]
[3111,"Miskolc","009","Q1","2019-01-22","Lakossági számlanyitás",-4,"db","2019-02-01","edda99",{"$f":"AND(E3112>=Kimutatás!B$2,E3112<=Kimutatás!B$3)","v":true}]
[3112,"Miskolc","009","Q1","2019-01-22","KKV hitelnövekmény (db)",1,"db","2019-02-01","edda99",{"$f":"AND(E3113>=Kimutatás!B$2,E3113<=Kimutatás!B$3)","v":true}]
[3113,"Miskolc","009","Q1","2019-01-22","KKV számlanyitás",-4,"db","2019-02-01","edda99",{"$f":"AND(E3114>=Kimutatás!B$2,E3114<=Kimutatás!B$3)","v":true}]
[3114,"Miskolc","009","Q1","2019-01-22","Betét állomány növekmény",1,"Mhuf","2019-02-01","edda99",{"$f":"AND(E3115>=Kimutatás!B$2,E3115<=Kimutatás!B$3)","v":true}]
[3115,"Miskolc","009","Q1","2019-01-23","Betérő ügyfelek",9,"fő","2019-02-01","edda99",{"$f":"AND(E3116>=Kimutatás!B$2,E3116<=Kimutatás!B$3)","v":true}]
[3116,"Miskolc","009","Q1","2019-01-23","Lakossági hitelnövekmény összege ",-8,"Mhuf","2019-02-01","edda99",{"$f":"AND(E3117>=Kimutatás!B$2,E3117<=Kimutatás!B$3)","v":true}]
[3117,"Miskolc","009","Q1","2019-01-23","Lakossági számlanyitás",1,"db","2019-02-01","edda99",{"$f":"AND(E3118>=Kimutatás!B$2,E3118<=Kimutatás!B$3)","v":true}]
[3118,"Miskolc","009","Q1","2019-01-23","KKV hitelnövekmény (db)",2,"db","2019-02-01","edda99",{"$f":"AND(E3119>=Kimutatás!B$2,E3119<=Kimutatás!B$3)","v":true}]
[3119,"Miskolc","009","Q1","2019-01-23","KKV számlanyitás",4,"db","2019-02-01","edda99",{"$f":"AND(E3120>=Kimutatás!B$2,E3120<=Kimutatás!B$3)","v":true}]
[3120,"Miskolc","009","Q1","2019-01-23","Betét állomány növekmény",-18,"Mhuf","2019-02-01","edda99",{"$f":"AND(E3121>=Kimutatás!B$2,E3121<=Kimutatás!B$3)","v":true}]
[3121,"Miskolc","009","Q1","2019-01-24","Betérő ügyfelek",46,"fő","2019-02-01","edda99",{"$f":"AND(E3122>=Kimutatás!B$2,E3122<=Kimutatás!B$3)","v":true}]
[3122,"Miskolc","009","Q1","2019-01-24","Lakossági hitelnövekmény összege ",4,"Mhuf","2019-02-01","edda99",{"$f":"AND(E3123>=Kimutatás!B$2,E3123<=Kimutatás!B$3)","v":true}]
[3123,"Miskolc","009","Q1","2019-01-24","Lakossági számlanyitás",9,"db","2019-02-01","edda99",{"$f":"AND(E3124>=Kimutatás!B$2,E3124<=Kimutatás!B$3)","v":true}]
[3124,"Miskolc","009","Q1","2019-01-24","KKV hitelnövekmény (db)",-1,"db","2019-02-01","edda99",{"$f":"AND(E3125>=Kimutatás!B$2,E3125<=Kimutatás!B$3)","v":true}]
[3125,"Miskolc","009","Q1","2019-01-24","KKV számlanyitás",-3,"db","2019-02-01","edda99",{"$f":"AND(E3126>=Kimutatás!B$2,E3126<=Kimutatás!B$3)","v":true}]
[3126,"Miskolc","009","Q1","2019-01-24","Betét állomány növekmény",9,"Mhuf","2019-02-01","edda99",{"$f":"AND(E3127>=Kimutatás!B$2,E3127<=Kimutatás!B$3)","v":true}]
[3127,"Miskolc","009","Q1","2019-01-27","Betérő ügyfelek",26,"fő","2019-02-01","edda99",{"$f":"AND(E3128>=Kimutatás!B$2,E3128<=Kimutatás!B$3)","v":true}]
[3128,"Miskolc","009","Q1","2019-01-27","Lakossági hitelnövekmény összege ",7,"Mhuf","2019-02-01","edda99",{"$f":"AND(E3129>=Kimutatás!B$2,E3129<=Kimutatás!B$3)","v":true}]
[3129,"Miskolc","009","Q1","2019-01-27","Lakossági számlanyitás",-3,"db","2019-02-01","edda99",{"$f":"AND(E3130>=Kimutatás!B$2,E3130<=Kimutatás!B$3)","v":true}]
[3130,"Miskolc","009","Q1","2019-01-27","KKV hitelnövekmény (db)",-2,"db","2019-02-01","edda99",{"$f":"AND(E3131>=Kimutatás!B$2,E3131<=Kimutatás!B$3)","v":true}]
[3131,"Miskolc","009","Q1","2019-01-27","KKV számlanyitás",3,"db","2019-02-01","edda99",{"$f":"AND(E3132>=Kimutatás!B$2,E3132<=Kimutatás!B$3)","v":true}]
[3132,"Miskolc","009","Q1","2019-01-27","Betét állomány növekmény",-13,"Mhuf","2019-02-01","edda99",{"$f":"AND(E3133>=Kimutatás!B$2,E3133<=Kimutatás!B$3)","v":true}]
[3133,"Miskolc","009","Q1","2019-01-28","Betérő ügyfelek",33,"fő","2019-02-01","edda99",{"$f":"AND(E3134>=Kimutatás!B$2,E3134<=Kimutatás!B$3)","v":true}]
[3134,"Miskolc","009","Q1","2019-01-28","Lakossági hitelnövekmény összege ",39,"Mhuf","2019-02-01","edda99",{"$f":"AND(E3135>=Kimutatás!B$2,E3135<=Kimutatás!B$3)","v":true}]
[3135,"Miskolc","009","Q1","2019-01-28","Lakossági számlanyitás",5,"db","2019-02-01","edda99",{"$f":"AND(E3136>=Kimutatás!B$2,E3136<=Kimutatás!B$3)","v":true}]
[3136,"Miskolc","009","Q1","2019-01-28","KKV hitelnövekmény (db)",2,"db","2019-02-01","edda99",{"$f":"AND(E3137>=Kimutatás!B$2,E3137<=Kimutatás!B$3)","v":true}]
[3137,"Miskolc","009","Q1","2019-01-28","KKV számlanyitás",4,"db","2019-02-01","edda99",{"$f":"AND(E3138>=Kimutatás!B$2,E3138<=Kimutatás!B$3)","v":true}]
[3138,"Miskolc","009","Q1","2019-01-28","Betét állomány növekmény",12,"Mhuf","2019-02-01","edda99",{"$f":"AND(E3139>=Kimutatás!B$2,E3139<=Kimutatás!B$3)","v":true}]
[3139,"Miskolc","009","Q1","2019-01-29","Betérő ügyfelek",29,"fő","2019-02-01","edda99",{"$f":"AND(E3140>=Kimutatás!B$2,E3140<=Kimutatás!B$3)","v":true}]
[3140,"Miskolc","009","Q1","2019-01-29","Lakossági hitelnövekmény összege ",38,"Mhuf","2019-02-01","edda99",{"$f":"AND(E3141>=Kimutatás!B$2,E3141<=Kimutatás!B$3)","v":true}]
[3141,"Miskolc","009","Q1","2019-01-29","Lakossági számlanyitás",8,"db","2019-02-01","edda99",{"$f":"AND(E3142>=Kimutatás!B$2,E3142<=Kimutatás!B$3)","v":true}]
[3142,"Miskolc","009","Q1","2019-01-29","KKV hitelnövekmény (db)",0,"db","2019-02-01","edda99",{"$f":"AND(E3143>=Kimutatás!B$2,E3143<=Kimutatás!B$3)","v":true}]
[3143,"Miskolc","009","Q1","2019-01-29","KKV számlanyitás",5,"db","2019-02-01","edda99",{"$f":"AND(E3144>=Kimutatás!B$2,E3144<=Kimutatás!B$3)","v":true}]
[3144,"Miskolc","009","Q1","2019-01-29","Betét állomány növekmény",-5,"Mhuf","2019-02-01","edda99",{"$f":"AND(E3145>=Kimutatás!B$2,E3145<=Kimutatás!B$3)","v":true}]
[3145,"Miskolc","009","Q1","2019-01-30","Betérő ügyfelek",31,"fő","2019-02-01","edda99",{"$f":"AND(E3146>=Kimutatás!B$2,E3146<=Kimutatás!B$3)","v":true}]
[3146,"Miskolc","009","Q1","2019-01-30","Lakossági hitelnövekmény összege ",31,"Mhuf","2019-02-01","edda99",{"$f":"AND(E3147>=Kimutatás!B$2,E3147<=Kimutatás!B$3)","v":true}]
[3147,"Miskolc","009","Q1","2019-01-30","Lakossági számlanyitás",5,"db","2019-02-01","edda99",{"$f":"AND(E3148>=Kimutatás!B$2,E3148<=Kimutatás!B$3)","v":true}]
[3148,"Miskolc","009","Q1","2019-01-30","KKV hitelnövekmény (db)",-1,"db","2019-02-01","edda99",{"$f":"AND(E3149>=Kimutatás!B$2,E3149<=Kimutatás!B$3)","v":true}]
[3149,"Miskolc","009","Q1","2019-01-30","KKV számlanyitás",4,"db","2019-02-01","edda99",{"$f":"AND(E3150>=Kimutatás!B$2,E3150<=Kimutatás!B$3)","v":true}]
[3150,"Miskolc","009","Q1","2019-01-30","Betét állomány növekmény",23,"Mhuf","2019-02-01","edda99",{"$f":"AND(E3151>=Kimutatás!B$2,E3151<=Kimutatás!B$3)","v":true}]
[3151,"Miskolc","009","Q1","2019-01-31","Betérő ügyfelek",6,"fő","2019-02-01","edda99",{"$f":"AND(E3152>=Kimutatás!B$2,E3152<=Kimutatás!B$3)","v":true}]
[3152,"Miskolc","009","Q1","2019-01-31","Lakossági hitelnövekmény összege ",15,"Mhuf","2019-02-01","edda99",{"$f":"AND(E3153>=Kimutatás!B$2,E3153<=Kimutatás!B$3)","v":true}]
[3153,"Miskolc","009","Q1","2019-01-31","Lakossági számlanyitás",-2,"db","2019-02-01","edda99",{"$f":"AND(E3154>=Kimutatás!B$2,E3154<=Kimutatás!B$3)","v":true}]
[3154,"Miskolc","009","Q1","2019-01-31","KKV hitelnövekmény (db)",-2,"db","2019-02-01","edda99",{"$f":"AND(E3155>=Kimutatás!B$2,E3155<=Kimutatás!B$3)","v":true}]
[3155,"Miskolc","009","Q1","2019-01-31","KKV számlanyitás",2,"db","2019-02-01","edda99",{"$f":"AND(E3156>=Kimutatás!B$2,E3156<=Kimutatás!B$3)","v":true}]
[3156,"Miskolc","009","Q1","2019-01-31","Betét állomány növekmény",-16,"Mhuf","2019-02-01","edda99",{"$f":"AND(E3157>=Kimutatás!B$2,E3157<=Kimutatás!B$3)","v":true}]
[3157,"Miskolc","009","Q1","2019-02-03","Betérő ügyfelek",41,"fő","2019-03-01","kolyok",{"$f":"AND(E3158>=Kimutatás!B$2,E3158<=Kimutatás!B$3)","v":true}]
[3158,"Miskolc","009","Q1","2019-02-03","Lakossági hitelnövekmény összege ",-7,"Mhuf","2019-03-01","kolyok",{"$f":"AND(E3159>=Kimutatás!B$2,E3159<=Kimutatás!B$3)","v":true}]
[3159,"Miskolc","009","Q1","2019-02-03","Lakossági számlanyitás",-5,"db","2019-03-01","kolyok",{"$f":"AND(E3160>=Kimutatás!B$2,E3160<=Kimutatás!B$3)","v":true}]
[3160,"Miskolc","009","Q1","2019-02-03","KKV hitelnövekmény (db)",-2,"db","2019-03-01","kolyok",{"$f":"AND(E3161>=Kimutatás!B$2,E3161<=Kimutatás!B$3)","v":true}]
[3161,"Miskolc","009","Q1","2019-02-03","KKV számlanyitás",5,"db","2019-03-01","kolyok",{"$f":"AND(E3162>=Kimutatás!B$2,E3162<=Kimutatás!B$3)","v":true}]
[3162,"Miskolc","009","Q1","2019-02-03","Betét állomány növekmény",24,"Mhuf","2019-03-01","kolyok",{"$f":"AND(E3163>=Kimutatás!B$2,E3163<=Kimutatás!B$3)","v":true}]
[3163,"Miskolc","009","Q1","2019-02-04","Betérő ügyfelek",24,"fő","2019-03-01","kolyok",{"$f":"AND(E3164>=Kimutatás!B$2,E3164<=Kimutatás!B$3)","v":true}]
[3164,"Miskolc","009","Q1","2019-02-04","Lakossági hitelnövekmény összege ",7,"Mhuf","2019-03-01","kolyok",{"$f":"AND(E3165>=Kimutatás!B$2,E3165<=Kimutatás!B$3)","v":true}]
[3165,"Miskolc","009","Q1","2019-02-04","Lakossági számlanyitás",-4,"db","2019-03-01","kolyok",{"$f":"AND(E3166>=Kimutatás!B$2,E3166<=Kimutatás!B$3)","v":true}]
[3166,"Miskolc","009","Q1","2019-02-04","KKV hitelnövekmény (db)",0,"db","2019-03-01","kolyok",{"$f":"AND(E3167>=Kimutatás!B$2,E3167<=Kimutatás!B$3)","v":true}]
[3167,"Miskolc","009","Q1","2019-02-04","KKV számlanyitás",1,"db","2019-03-01","kolyok",{"$f":"AND(E3168>=Kimutatás!B$2,E3168<=Kimutatás!B$3)","v":true}]
[3168,"Miskolc","009","Q1","2019-02-04","Betét állomány növekmény",25,"Mhuf","2019-03-01","kolyok",{"$f":"AND(E3169>=Kimutatás!B$2,E3169<=Kimutatás!B$3)","v":true}]
[3169,"Miskolc","009","Q1","2019-02-05","Betérő ügyfelek",22,"fő","2019-03-01","kolyok",{"$f":"AND(E3170>=Kimutatás!B$2,E3170<=Kimutatás!B$3)","v":true}]
[3170,"Miskolc","009","Q1","2019-02-05","Lakossági hitelnövekmény összege ",31,"Mhuf","2019-03-01","kolyok",{"$f":"AND(E3171>=Kimutatás!B$2,E3171<=Kimutatás!B$3)","v":true}]
[3171,"Miskolc","009","Q1","2019-02-05","Lakossági számlanyitás",10,"db","2019-03-01","kolyok",{"$f":"AND(E3172>=Kimutatás!B$2,E3172<=Kimutatás!B$3)","v":true}]
[3172,"Miskolc","009","Q1","2019-02-05","KKV hitelnövekmény (db)",0,"db","2019-03-01","kolyok",{"$f":"AND(E3173>=Kimutatás!B$2,E3173<=Kimutatás!B$3)","v":true}]
[3173,"Miskolc","009","Q1","2019-02-05","KKV számlanyitás",1,"db","2019-03-01","kolyok",{"$f":"AND(E3174>=Kimutatás!B$2,E3174<=Kimutatás!B$3)","v":true}]
[3174,"Miskolc","009","Q1","2019-02-05","Betét állomány növekmény",-18,"Mhuf","2019-03-01","kolyok",{"$f":"AND(E3175>=Kimutatás!B$2,E3175<=Kimutatás!B$3)","v":true}]
[3175,"Miskolc","009","Q1","2019-02-06","Betérő ügyfelek",29,"fő","2019-03-01","kolyok",{"$f":"AND(E3176>=Kimutatás!B$2,E3176<=Kimutatás!B$3)","v":true}]
[3176,"Miskolc","009","Q1","2019-02-06","Lakossági hitelnövekmény összege ",8,"Mhuf","2019-03-01","kolyok",{"$f":"AND(E3177>=Kimutatás!B$2,E3177<=Kimutatás!B$3)","v":true}]
[3177,"Miskolc","009","Q1","2019-02-06","Lakossági számlanyitás",6,"db","2019-03-01","kolyok",{"$f":"AND(E3178>=Kimutatás!B$2,E3178<=Kimutatás!B$3)","v":true}]
[3178,"Miskolc","009","Q1","2019-02-06","KKV hitelnövekmény (db)",-1,"db","2019-03-01","kolyok",{"$f":"AND(E3179>=Kimutatás!B$2,E3179<=Kimutatás!B$3)","v":true}]
[3179,"Miskolc","009","Q1","2019-02-06","KKV számlanyitás",0,"db","2019-03-01","kolyok",{"$f":"AND(E3180>=Kimutatás!B$2,E3180<=Kimutatás!B$3)","v":true}]
[3180,"Miskolc","009","Q1","2019-02-06","Betét állomány növekmény",8,"Mhuf","2019-03-01","kolyok",{"$f":"AND(E3181>=Kimutatás!B$2,E3181<=Kimutatás!B$3)","v":true}]
[3181,"Miskolc","009","Q1","2019-02-07","Betérő ügyfelek",10,"fő","2019-03-01","kolyok",{"$f":"AND(E3182>=Kimutatás!B$2,E3182<=Kimutatás!B$3)","v":true}]
[3182,"Miskolc","009","Q1","2019-02-07","Lakossági hitelnövekmény összege ",21,"Mhuf","2019-03-01","kolyok",{"$f":"AND(E3183>=Kimutatás!B$2,E3183<=Kimutatás!B$3)","v":true}]
[3183,"Miskolc","009","Q1","2019-02-07","Lakossági számlanyitás",9,"db","2019-03-01","kolyok",{"$f":"AND(E3184>=Kimutatás!B$2,E3184<=Kimutatás!B$3)","v":true}]
[3184,"Miskolc","009","Q1","2019-02-07","KKV hitelnövekmény (db)",-2,"db","2019-03-01","kolyok",{"$f":"AND(E3185>=Kimutatás!B$2,E3185<=Kimutatás!B$3)","v":true}]
[3185,"Miskolc","009","Q1","2019-02-07","KKV számlanyitás",1,"db","2019-03-01","kolyok",{"$f":"AND(E3186>=Kimutatás!B$2,E3186<=Kimutatás!B$3)","v":true}]
[3186,"Miskolc","009","Q1","2019-02-07","Betét állomány növekmény",-18,"Mhuf","2019-03-01","kolyok",{"$f":"AND(E3187>=Kimutatás!B$2,E3187<=Kimutatás!B$3)","v":true}]
[3187,"Miskolc","009","Q1","2019-02-10","Betérő ügyfelek",3,"fő","2019-03-01","kolyok",{"$f":"AND(E3188>=Kimutatás!B$2,E3188<=Kimutatás!B$3)","v":true}]
[3188,"Miskolc","009","Q1","2019-02-10","Lakossági hitelnövekmény összege ",16,"Mhuf","2019-03-01","kolyok",{"$f":"AND(E3189>=Kimutatás!B$2,E3189<=Kimutatás!B$3)","v":true}]
[3189,"Miskolc","009","Q1","2019-02-10","Lakossági számlanyitás",6,"db","2019-03-01","kolyok",{"$f":"AND(E3190>=Kimutatás!B$2,E3190<=Kimutatás!B$3)","v":true}]
[3190,"Miskolc","009","Q1","2019-02-10","KKV hitelnövekmény (db)",0,"db","2019-03-01","kolyok",{"$f":"AND(E3191>=Kimutatás!B$2,E3191<=Kimutatás!B$3)","v":true}]
[3191,"Miskolc","009","Q1","2019-02-10","KKV számlanyitás",-5,"db","2019-03-01","kolyok",{"$f":"AND(E3192>=Kimutatás!B$2,E3192<=Kimutatás!B$3)","v":true}]
[3192,"Miskolc","009","Q1","2019-02-10","Betét állomány növekmény",9,"Mhuf","2019-03-01","kolyok",{"$f":"AND(E3193>=Kimutatás!B$2,E3193<=Kimutatás!B$3)","v":true}]
[3193,"Miskolc","009","Q1","2019-02-11","Betérő ügyfelek",9,"fő","2019-03-01","kolyok",{"$f":"AND(E3194>=Kimutatás!B$2,E3194<=Kimutatás!B$3)","v":true}]
[3194,"Miskolc","009","Q1","2019-02-11","Lakossági hitelnövekmény összege ",-7,"Mhuf","2019-03-01","kolyok",{"$f":"AND(E3195>=Kimutatás!B$2,E3195<=Kimutatás!B$3)","v":true}]
[3195,"Miskolc","009","Q1","2019-02-11","Lakossági számlanyitás",8,"db","2019-03-01","kolyok",{"$f":"AND(E3196>=Kimutatás!B$2,E3196<=Kimutatás!B$3)","v":true}]
[3196,"Miskolc","009","Q1","2019-02-11","KKV hitelnövekmény (db)",-1,"db","2019-03-01","kolyok",{"$f":"AND(E3197>=Kimutatás!B$2,E3197<=Kimutatás!B$3)","v":true}]
[3197,"Miskolc","009","Q1","2019-02-11","KKV számlanyitás",-5,"db","2019-03-01","kolyok",{"$f":"AND(E3198>=Kimutatás!B$2,E3198<=Kimutatás!B$3)","v":true}]
[3198,"Miskolc","009","Q1","2019-02-11","Betét állomány növekmény",16,"Mhuf","2019-03-01","kolyok",{"$f":"AND(E3199>=Kimutatás!B$2,E3199<=Kimutatás!B$3)","v":true}]
[3199,"Miskolc","009","Q1","2019-02-12","Betérő ügyfelek",11,"fő","2019-03-01","kolyok",{"$f":"AND(E3200>=Kimutatás!B$2,E3200<=Kimutatás!B$3)","v":true}]
[3200,"Miskolc","009","Q1","2019-02-12","Lakossági hitelnövekmény összege ",47,"Mhuf","2019-03-01","kolyok",{"$f":"AND(E3201>=Kimutatás!B$2,E3201<=Kimutatás!B$3)","v":true}]
[3201,"Miskolc","009","Q1","2019-02-12","Lakossági számlanyitás",7,"db","2019-03-01","kolyok",{"$f":"AND(E3202>=Kimutatás!B$2,E3202<=Kimutatás!B$3)","v":true}]
[3202,"Miskolc","009","Q1","2019-02-12","KKV hitelnövekmény (db)",-2,"db","2019-03-01","kolyok",{"$f":"AND(E3203>=Kimutatás!B$2,E3203<=Kimutatás!B$3)","v":true}]
[3203,"Miskolc","009","Q1","2019-02-12","KKV számlanyitás",3,"db","2019-03-01","kolyok",{"$f":"AND(E3204>=Kimutatás!B$2,E3204<=Kimutatás!B$3)","v":true}]
[3204,"Miskolc","009","Q1","2019-02-12","Betét állomány növekmény",22,"Mhuf","2019-03-01","kolyok",{"$f":"AND(E3205>=Kimutatás!B$2,E3205<=Kimutatás!B$3)","v":true}]
[3205,"Miskolc","009","Q1","2019-02-13","Betérő ügyfelek",32,"fő","2019-03-01","kolyok",{"$f":"AND(E3206>=Kimutatás!B$2,E3206<=Kimutatás!B$3)","v":true}]
[3206,"Miskolc","009","Q1","2019-02-13","Lakossági hitelnövekmény összege ",29,"Mhuf","2019-03-01","kolyok",{"$f":"AND(E3207>=Kimutatás!B$2,E3207<=Kimutatás!B$3)","v":true}]
[3207,"Miskolc","009","Q1","2019-02-13","Lakossági számlanyitás",2,"db","2019-03-01","kolyok",{"$f":"AND(E3208>=Kimutatás!B$2,E3208<=Kimutatás!B$3)","v":true}]
[3208,"Miskolc","009","Q1","2019-02-13","KKV hitelnövekmény (db)",0,"db","2019-03-01","kolyok",{"$f":"AND(E3209>=Kimutatás!B$2,E3209<=Kimutatás!B$3)","v":true}]
[3209,"Miskolc","009","Q1","2019-02-13","KKV számlanyitás",-5,"db","2019-03-01","kolyok",{"$f":"AND(E3210>=Kimutatás!B$2,E3210<=Kimutatás!B$3)","v":true}]
[3210,"Miskolc","009","Q1","2019-02-13","Betét állomány növekmény",34,"Mhuf","2019-03-01","kolyok",{"$f":"AND(E3211>=Kimutatás!B$2,E3211<=Kimutatás!B$3)","v":true}]
[3211,"Miskolc","009","Q1","2019-02-14","Betérő ügyfelek",49,"fő","2019-03-01","kolyok",{"$f":"AND(E3212>=Kimutatás!B$2,E3212<=Kimutatás!B$3)","v":true}]
[3212,"Miskolc","009","Q1","2019-02-14","Lakossági hitelnövekmény összege ",43,"Mhuf","2019-03-01","kolyok",{"$f":"AND(E3213>=Kimutatás!B$2,E3213<=Kimutatás!B$3)","v":true}]
[3213,"Miskolc","009","Q1","2019-02-14","Lakossági számlanyitás",0,"db","2019-03-01","kolyok",{"$f":"AND(E3214>=Kimutatás!B$2,E3214<=Kimutatás!B$3)","v":true}]
[3214,"Miskolc","009","Q1","2019-02-14","KKV hitelnövekmény (db)",-2,"db","2019-03-01","kolyok",{"$f":"AND(E3215>=Kimutatás!B$2,E3215<=Kimutatás!B$3)","v":true}]
[3215,"Miskolc","009","Q1","2019-02-14","KKV számlanyitás",-1,"db","2019-03-01","kolyok",{"$f":"AND(E3216>=Kimutatás!B$2,E3216<=Kimutatás!B$3)","v":true}]
[3216,"Miskolc","009","Q1","2019-02-14","Betét állomány növekmény",35,"Mhuf","2019-03-01","kolyok",{"$f":"AND(E3217>=Kimutatás!B$2,E3217<=Kimutatás!B$3)","v":true}]
[3217,"Miskolc","009","Q1","2019-02-17","Betérő ügyfelek",31,"fő","2019-03-01","kolyok",{"$f":"AND(E3218>=Kimutatás!B$2,E3218<=Kimutatás!B$3)","v":true}]
[3218,"Miskolc","009","Q1","2019-02-17","Lakossági hitelnövekmény összege ",26,"Mhuf","2019-03-01","kolyok",{"$f":"AND(E3219>=Kimutatás!B$2,E3219<=Kimutatás!B$3)","v":true}]
[3219,"Miskolc","009","Q1","2019-02-17","Lakossági számlanyitás",9,"db","2019-03-01","kolyok",{"$f":"AND(E3220>=Kimutatás!B$2,E3220<=Kimutatás!B$3)","v":true}]
[3220,"Miskolc","009","Q1","2019-02-17","KKV hitelnövekmény (db)",2,"db","2019-03-01","kolyok",{"$f":"AND(E3221>=Kimutatás!B$2,E3221<=Kimutatás!B$3)","v":true}]
[3221,"Miskolc","009","Q1","2019-02-17","KKV számlanyitás",4,"db","2019-03-01","kolyok",{"$f":"AND(E3222>=Kimutatás!B$2,E3222<=Kimutatás!B$3)","v":true}]
[3222,"Miskolc","009","Q1","2019-02-17","Betét állomány növekmény",36,"Mhuf","2019-03-01","kolyok",{"$f":"AND(E3223>=Kimutatás!B$2,E3223<=Kimutatás!B$3)","v":true}]
[3223,"Miskolc","009","Q1","2019-02-18","Betérő ügyfelek",49,"fő","2019-03-01","kolyok",{"$f":"AND(E3224>=Kimutatás!B$2,E3224<=Kimutatás!B$3)","v":true}]
[3224,"Miskolc","009","Q1","2019-02-18","Lakossági hitelnövekmény összege ",16,"Mhuf","2019-03-01","kolyok",{"$f":"AND(E3225>=Kimutatás!B$2,E3225<=Kimutatás!B$3)","v":true}]
[3225,"Miskolc","009","Q1","2019-02-18","Lakossági számlanyitás",8,"db","2019-03-01","kolyok",{"$f":"AND(E3226>=Kimutatás!B$2,E3226<=Kimutatás!B$3)","v":true}]
[3226,"Miskolc","009","Q1","2019-02-18","KKV hitelnövekmény (db)",1,"db","2019-03-01","kolyok",{"$f":"AND(E3227>=Kimutatás!B$2,E3227<=Kimutatás!B$3)","v":true}]
[3227,"Miskolc","009","Q1","2019-02-18","KKV számlanyitás",4,"db","2019-03-01","kolyok",{"$f":"AND(E3228>=Kimutatás!B$2,E3228<=Kimutatás!B$3)","v":true}]
[3228,"Miskolc","009","Q1","2019-02-18","Betét állomány növekmény",41,"Mhuf","2019-03-01","kolyok",{"$f":"AND(E3229>=Kimutatás!B$2,E3229<=Kimutatás!B$3)","v":true}]
[3229,"Miskolc","009","Q1","2019-02-19","Betérő ügyfelek",22,"fő","2019-03-01","kolyok",{"$f":"AND(E3230>=Kimutatás!B$2,E3230<=Kimutatás!B$3)","v":true}]
[3230,"Miskolc","009","Q1","2019-02-19","Lakossági hitelnövekmény összege ",16,"Mhuf","2019-03-01","kolyok",{"$f":"AND(E3231>=Kimutatás!B$2,E3231<=Kimutatás!B$3)","v":true}]
[3231,"Miskolc","009","Q1","2019-02-19","Lakossági számlanyitás",5,"db","2019-03-01","kolyok",{"$f":"AND(E3232>=Kimutatás!B$2,E3232<=Kimutatás!B$3)","v":true}]
[3232,"Miskolc","009","Q1","2019-02-19","KKV hitelnövekmény (db)",-2,"db","2019-03-01","kolyok",{"$f":"AND(E3233>=Kimutatás!B$2,E3233<=Kimutatás!B$3)","v":true}]
[3233,"Miskolc","009","Q1","2019-02-19","KKV számlanyitás",-4,"db","2019-03-01","kolyok",{"$f":"AND(E3234>=Kimutatás!B$2,E3234<=Kimutatás!B$3)","v":true}]
[3234,"Miskolc","009","Q1","2019-02-19","Betét állomány növekmény",-20,"Mhuf","2019-03-01","kolyok",{"$f":"AND(E3235>=Kimutatás!B$2,E3235<=Kimutatás!B$3)","v":true}]
[3235,"Miskolc","009","Q1","2019-02-20","Betérő ügyfelek",35,"fő","2019-03-01","kolyok",{"$f":"AND(E3236>=Kimutatás!B$2,E3236<=Kimutatás!B$3)","v":true}]
[3236,"Miskolc","009","Q1","2019-02-20","Lakossági hitelnövekmény összege ",30,"Mhuf","2019-03-01","kolyok",{"$f":"AND(E3237>=Kimutatás!B$2,E3237<=Kimutatás!B$3)","v":true}]
[3237,"Miskolc","009","Q1","2019-02-20","Lakossági számlanyitás",-3,"db","2019-03-01","kolyok",{"$f":"AND(E3238>=Kimutatás!B$2,E3238<=Kimutatás!B$3)","v":true}]
[3238,"Miskolc","009","Q1","2019-02-20","KKV hitelnövekmény (db)",0,"db","2019-03-01","kolyok",{"$f":"AND(E3239>=Kimutatás!B$2,E3239<=Kimutatás!B$3)","v":true}]
[3239,"Miskolc","009","Q1","2019-02-20","KKV számlanyitás",1,"db","2019-03-01","kolyok",{"$f":"AND(E3240>=Kimutatás!B$2,E3240<=Kimutatás!B$3)","v":true}]
[3240,"Miskolc","009","Q1","2019-02-20","Betét állomány növekmény",38,"Mhuf","2019-03-01","kolyok",{"$f":"AND(E3241>=Kimutatás!B$2,E3241<=Kimutatás!B$3)","v":true}]
[3241,"Miskolc","009","Q1","2019-02-21","Betérő ügyfelek",24,"fő","2019-03-01","kolyok",{"$f":"AND(E3242>=Kimutatás!B$2,E3242<=Kimutatás!B$3)","v":true}]
[3242,"Miskolc","009","Q1","2019-02-21","Lakossági hitelnövekmény összege ",6,"Mhuf","2019-03-01","kolyok",{"$f":"AND(E3243>=Kimutatás!B$2,E3243<=Kimutatás!B$3)","v":true}]
[3243,"Miskolc","009","Q1","2019-02-21","Lakossági számlanyitás",8,"db","2019-03-01","kolyok",{"$f":"AND(E3244>=Kimutatás!B$2,E3244<=Kimutatás!B$3)","v":true}]
[3244,"Miskolc","009","Q1","2019-02-21","KKV hitelnövekmény (db)",0,"db","2019-03-01","kolyok",{"$f":"AND(E3245>=Kimutatás!B$2,E3245<=Kimutatás!B$3)","v":true}]
[3245,"Miskolc","009","Q1","2019-02-21","KKV számlanyitás",0,"db","2019-03-01","kolyok",{"$f":"AND(E3246>=Kimutatás!B$2,E3246<=Kimutatás!B$3)","v":true}]
[3246,"Miskolc","009","Q1","2019-02-21","Betét állomány növekmény",24,"Mhuf","2019-03-01","kolyok",{"$f":"AND(E3247>=Kimutatás!B$2,E3247<=Kimutatás!B$3)","v":true}]
[3247,"Miskolc","009","Q1","2019-02-24","Betérő ügyfelek",1,"fő","2019-03-01","kolyok",{"$f":"AND(E3248>=Kimutatás!B$2,E3248<=Kimutatás!B$3)","v":true}]
[3248,"Miskolc","009","Q1","2019-02-24","Lakossági hitelnövekmény összege ",16,"Mhuf","2019-03-01","kolyok",{"$f":"AND(E3249>=Kimutatás!B$2,E3249<=Kimutatás!B$3)","v":true}]
[3249,"Miskolc","009","Q1","2019-02-24","Lakossági számlanyitás",7,"db","2019-03-01","kolyok",{"$f":"AND(E3250>=Kimutatás!B$2,E3250<=Kimutatás!B$3)","v":true}]
[3250,"Miskolc","009","Q1","2019-02-24","KKV hitelnövekmény (db)",0,"db","2019-03-01","kolyok",{"$f":"AND(E3251>=Kimutatás!B$2,E3251<=Kimutatás!B$3)","v":true}]
[3251,"Miskolc","009","Q1","2019-02-24","KKV számlanyitás",3,"db","2019-03-01","kolyok",{"$f":"AND(E3252>=Kimutatás!B$2,E3252<=Kimutatás!B$3)","v":true}]
[3252,"Miskolc","009","Q1","2019-02-24","Betét állomány növekmény",37,"Mhuf","2019-03-01","kolyok",{"$f":"AND(E3253>=Kimutatás!B$2,E3253<=Kimutatás!B$3)","v":true}]
[3253,"Miskolc","009","Q1","2019-02-25","Betérő ügyfelek",12,"fő","2019-03-01","kolyok",{"$f":"AND(E3254>=Kimutatás!B$2,E3254<=Kimutatás!B$3)","v":true}]
[3254,"Miskolc","009","Q1","2019-02-25","Lakossági hitelnövekmény összege ",10,"Mhuf","2019-03-01","kolyok",{"$f":"AND(E3255>=Kimutatás!B$2,E3255<=Kimutatás!B$3)","v":true}]
[3255,"Miskolc","009","Q1","2019-02-25","Lakossági számlanyitás",3,"db","2019-03-01","kolyok",{"$f":"AND(E3256>=Kimutatás!B$2,E3256<=Kimutatás!B$3)","v":true}]
[3256,"Miskolc","009","Q1","2019-02-25","KKV hitelnövekmény (db)",-2,"db","2019-03-01","kolyok",{"$f":"AND(E3257>=Kimutatás!B$2,E3257<=Kimutatás!B$3)","v":true}]
[3257,"Miskolc","009","Q1","2019-02-25","KKV számlanyitás",1,"db","2019-03-01","kolyok",{"$f":"AND(E3258>=Kimutatás!B$2,E3258<=Kimutatás!B$3)","v":true}]
[3258,"Miskolc","009","Q1","2019-02-25","Betét állomány növekmény",42,"Mhuf","2019-03-01","kolyok",{"$f":"AND(E3259>=Kimutatás!B$2,E3259<=Kimutatás!B$3)","v":true}]
[3259,"Miskolc","009","Q1","2019-02-26","Betérő ügyfelek",16,"fő","2019-03-01","kolyok",{"$f":"AND(E3260>=Kimutatás!B$2,E3260<=Kimutatás!B$3)","v":true}]
[3260,"Miskolc","009","Q1","2019-02-26","Lakossági hitelnövekmény összege ",11,"Mhuf","2019-03-01","kolyok",{"$f":"AND(E3261>=Kimutatás!B$2,E3261<=Kimutatás!B$3)","v":true}]
[3261,"Miskolc","009","Q1","2019-02-26","Lakossági számlanyitás",-4,"db","2019-03-01","kolyok",{"$f":"AND(E3262>=Kimutatás!B$2,E3262<=Kimutatás!B$3)","v":true}]
[3262,"Miskolc","009","Q1","2019-02-26","KKV hitelnövekmény (db)",-2,"db","2019-03-01","kolyok",{"$f":"AND(E3263>=Kimutatás!B$2,E3263<=Kimutatás!B$3)","v":true}]
[3263,"Miskolc","009","Q1","2019-02-26","KKV számlanyitás",4,"db","2019-03-01","kolyok",{"$f":"AND(E3264>=Kimutatás!B$2,E3264<=Kimutatás!B$3)","v":true}]
[3264,"Miskolc","009","Q1","2019-02-26","Betét állomány növekmény",40,"Mhuf","2019-03-01","kolyok",{"$f":"AND(E3265>=Kimutatás!B$2,E3265<=Kimutatás!B$3)","v":true}]
[3265,"Miskolc","009","Q1","2019-02-27","Betérő ügyfelek",24,"fő","2019-03-01","kolyok",{"$f":"AND(E3266>=Kimutatás!B$2,E3266<=Kimutatás!B$3)","v":true}]
[3266,"Miskolc","009","Q1","2019-02-27","Lakossági hitelnövekmény összege ",15,"Mhuf","2019-03-01","kolyok",{"$f":"AND(E3267>=Kimutatás!B$2,E3267<=Kimutatás!B$3)","v":true}]
[3267,"Miskolc","009","Q1","2019-02-27","Lakossági számlanyitás",7,"db","2019-03-01","kolyok",{"$f":"AND(E3268>=Kimutatás!B$2,E3268<=Kimutatás!B$3)","v":true}]
[3268,"Miskolc","009","Q1","2019-02-27","KKV hitelnövekmény (db)",1,"db","2019-03-01","kolyok",{"$f":"AND(E3269>=Kimutatás!B$2,E3269<=Kimutatás!B$3)","v":true}]
[3269,"Miskolc","009","Q1","2019-02-27","KKV számlanyitás",0,"db","2019-03-01","kolyok",{"$f":"AND(E3270>=Kimutatás!B$2,E3270<=Kimutatás!B$3)","v":true}]
[3270,"Miskolc","009","Q1","2019-02-27","Betét állomány növekmény",46,"Mhuf","2019-03-01","kolyok",{"$f":"AND(E3271>=Kimutatás!B$2,E3271<=Kimutatás!B$3)","v":true}]
[3271,"Miskolc","009","Q1","2019-02-28","Betérő ügyfelek",3,"fő","2019-03-01","kolyok",{"$f":"AND(E3272>=Kimutatás!B$2,E3272<=Kimutatás!B$3)","v":true}]
[3272,"Miskolc","009","Q1","2019-02-28","Lakossági hitelnövekmény összege ",9,"Mhuf","2019-03-01","kolyok",{"$f":"AND(E3273>=Kimutatás!B$2,E3273<=Kimutatás!B$3)","v":true}]
[3273,"Miskolc","009","Q1","2019-02-28","Lakossági számlanyitás",-2,"db","2019-03-01","kolyok",{"$f":"AND(E3274>=Kimutatás!B$2,E3274<=Kimutatás!B$3)","v":true}]
[3274,"Miskolc","009","Q1","2019-02-28","KKV hitelnövekmény (db)",0,"db","2019-03-01","kolyok",{"$f":"AND(E3275>=Kimutatás!B$2,E3275<=Kimutatás!B$3)","v":true}]
[3275,"Miskolc","009","Q1","2019-02-28","KKV számlanyitás",-1,"db","2019-03-01","kolyok",{"$f":"AND(E3276>=Kimutatás!B$2,E3276<=Kimutatás!B$3)","v":true}]
[3276,"Miskolc","009","Q1","2019-02-28","Betét állomány növekmény",-14,"Mhuf","2019-03-01","kolyok",{"$f":"AND(E3277>=Kimutatás!B$2,E3277<=Kimutatás!B$3)","v":true}]
[3277,"Miskolc","009","Q1","2019-03-03","Betérő ügyfelek",14,"fő","2019-04-01","diosg2",{"$f":"AND(E3278>=Kimutatás!B$2,E3278<=Kimutatás!B$3)","v":true}]
[3278,"Miskolc","009","Q1","2019-03-03","Lakossági hitelnövekmény összege ",21,"Mhuf","2019-04-01","diosg2",{"$f":"AND(E3279>=Kimutatás!B$2,E3279<=Kimutatás!B$3)","v":true}]
[3279,"Miskolc","009","Q1","2019-03-03","Lakossági számlanyitás",-3,"db","2019-04-01","diosg2",{"$f":"AND(E3280>=Kimutatás!B$2,E3280<=Kimutatás!B$3)","v":true}]
[3280,"Miskolc","009","Q1","2019-03-03","KKV hitelnövekmény (db)",0,"db","2019-04-01","diosg2",{"$f":"AND(E3281>=Kimutatás!B$2,E3281<=Kimutatás!B$3)","v":true}]
[3281,"Miskolc","009","Q1","2019-03-03","KKV számlanyitás",0,"db","2019-04-01","diosg2",{"$f":"AND(E3282>=Kimutatás!B$2,E3282<=Kimutatás!B$3)","v":true}]
[3282,"Miskolc","009","Q1","2019-03-03","Betét állomány növekmény",29,"Mhuf","2019-04-01","diosg2",{"$f":"AND(E3283>=Kimutatás!B$2,E3283<=Kimutatás!B$3)","v":true}]
[3283,"Miskolc","009","Q1","2019-03-04","Betérő ügyfelek",4,"fő","2019-04-01","diosg2",{"$f":"AND(E3284>=Kimutatás!B$2,E3284<=Kimutatás!B$3)","v":true}]
[3284,"Miskolc","009","Q1","2019-03-04","Lakossági hitelnövekmény összege ",30,"Mhuf","2019-04-01","diosg2",{"$f":"AND(E3285>=Kimutatás!B$2,E3285<=Kimutatás!B$3)","v":true}]
[3285,"Miskolc","009","Q1","2019-03-04","Lakossági számlanyitás",5,"db","2019-04-01","diosg2",{"$f":"AND(E3286>=Kimutatás!B$2,E3286<=Kimutatás!B$3)","v":true}]
[3286,"Miskolc","009","Q1","2019-03-04","KKV hitelnövekmény (db)",1,"db","2019-04-01","diosg2",{"$f":"AND(E3287>=Kimutatás!B$2,E3287<=Kimutatás!B$3)","v":true}]
[3287,"Miskolc","009","Q1","2019-03-04","KKV számlanyitás",-2,"db","2019-04-01","diosg2",{"$f":"AND(E3288>=Kimutatás!B$2,E3288<=Kimutatás!B$3)","v":true}]
[3288,"Miskolc","009","Q1","2019-03-04","Betét állomány növekmény",41,"Mhuf","2019-04-01","diosg2",{"$f":"AND(E3289>=Kimutatás!B$2,E3289<=Kimutatás!B$3)","v":true}]
[3289,"Miskolc","009","Q1","2019-03-05","Betérő ügyfelek",31,"fő","2019-04-01","diosg2",{"$f":"AND(E3290>=Kimutatás!B$2,E3290<=Kimutatás!B$3)","v":true}]
[3290,"Miskolc","009","Q1","2019-03-05","Lakossági hitelnövekmény összege ",23,"Mhuf","2019-04-01","diosg2",{"$f":"AND(E3291>=Kimutatás!B$2,E3291<=Kimutatás!B$3)","v":true}]
[3291,"Miskolc","009","Q1","2019-03-05","Lakossági számlanyitás",4,"db","2019-04-01","diosg2",{"$f":"AND(E3292>=Kimutatás!B$2,E3292<=Kimutatás!B$3)","v":true}]
[3292,"Miskolc","009","Q1","2019-03-05","KKV hitelnövekmény (db)",-1,"db","2019-04-01","diosg2",{"$f":"AND(E3293>=Kimutatás!B$2,E3293<=Kimutatás!B$3)","v":true}]
[3293,"Miskolc","009","Q1","2019-03-05","KKV számlanyitás",0,"db","2019-04-01","diosg2",{"$f":"AND(E3294>=Kimutatás!B$2,E3294<=Kimutatás!B$3)","v":true}]
[3294,"Miskolc","009","Q1","2019-03-05","Betét állomány növekmény",15,"Mhuf","2019-04-01","diosg2",{"$f":"AND(E3295>=Kimutatás!B$2,E3295<=Kimutatás!B$3)","v":true}]
[3295,"Miskolc","009","Q1","2019-03-06","Betérő ügyfelek",42,"fő","2019-04-01","diosg2",{"$f":"AND(E3296>=Kimutatás!B$2,E3296<=Kimutatás!B$3)","v":true}]
[3296,"Miskolc","009","Q1","2019-03-06","Lakossági hitelnövekmény összege ",46,"Mhuf","2019-04-01","diosg2",{"$f":"AND(E3297>=Kimutatás!B$2,E3297<=Kimutatás!B$3)","v":true}]
[3297,"Miskolc","009","Q1","2019-03-06","Lakossági számlanyitás",-3,"db","2019-04-01","diosg2",{"$f":"AND(E3298>=Kimutatás!B$2,E3298<=Kimutatás!B$3)","v":true}]
[3298,"Miskolc","009","Q1","2019-03-06","KKV hitelnövekmény (db)",0,"db","2019-04-01","diosg2",{"$f":"AND(E3299>=Kimutatás!B$2,E3299<=Kimutatás!B$3)","v":true}]
[3299,"Miskolc","009","Q1","2019-03-06","KKV számlanyitás",2,"db","2019-04-01","diosg2",{"$f":"AND(E3300>=Kimutatás!B$2,E3300<=Kimutatás!B$3)","v":true}]
[3300,"Miskolc","009","Q1","2019-03-06","Betét állomány növekmény",11,"Mhuf","2019-04-01","diosg2",{"$f":"AND(E3301>=Kimutatás!B$2,E3301<=Kimutatás!B$3)","v":true}]
[3301,"Miskolc","009","Q1","2019-03-07","Betérő ügyfelek",25,"fő","2019-04-01","diosg2",{"$f":"AND(E3302>=Kimutatás!B$2,E3302<=Kimutatás!B$3)","v":true}]
[3302,"Miskolc","009","Q1","2019-03-07","Lakossági hitelnövekmény összege ",15,"Mhuf","2019-04-01","diosg2",{"$f":"AND(E3303>=Kimutatás!B$2,E3303<=Kimutatás!B$3)","v":true}]
[3303,"Miskolc","009","Q1","2019-03-07","Lakossági számlanyitás",-2,"db","2019-04-01","diosg2",{"$f":"AND(E3304>=Kimutatás!B$2,E3304<=Kimutatás!B$3)","v":true}]
[3304,"Miskolc","009","Q1","2019-03-07","KKV hitelnövekmény (db)",-2,"db","2019-04-01","diosg2",{"$f":"AND(E3305>=Kimutatás!B$2,E3305<=Kimutatás!B$3)","v":true}]
[3305,"Miskolc","009","Q1","2019-03-07","KKV számlanyitás",-1,"db","2019-04-01","diosg2",{"$f":"AND(E3306>=Kimutatás!B$2,E3306<=Kimutatás!B$3)","v":true}]
[3306,"Miskolc","009","Q1","2019-03-07","Betét állomány növekmény",15,"Mhuf","2019-04-01","diosg2",{"$f":"AND(E3307>=Kimutatás!B$2,E3307<=Kimutatás!B$3)","v":true}]
[3307,"Miskolc","009","Q1","2019-03-10","Betérő ügyfelek",48,"fő","2019-04-01","diosg2",{"$f":"AND(E3308>=Kimutatás!B$2,E3308<=Kimutatás!B$3)","v":true}]
[3308,"Miskolc","009","Q1","2019-03-10","Lakossági hitelnövekmény összege ",44,"Mhuf","2019-04-01","diosg2",{"$f":"AND(E3309>=Kimutatás!B$2,E3309<=Kimutatás!B$3)","v":true}]
[3309,"Miskolc","009","Q1","2019-03-10","Lakossági számlanyitás",9,"db","2019-04-01","diosg2",{"$f":"AND(E3310>=Kimutatás!B$2,E3310<=Kimutatás!B$3)","v":true}]
[3310,"Miskolc","009","Q1","2019-03-10","KKV hitelnövekmény (db)",-2,"db","2019-04-01","diosg2",{"$f":"AND(E3311>=Kimutatás!B$2,E3311<=Kimutatás!B$3)","v":true}]
[3311,"Miskolc","009","Q1","2019-03-10","KKV számlanyitás",2,"db","2019-04-01","diosg2",{"$f":"AND(E3312>=Kimutatás!B$2,E3312<=Kimutatás!B$3)","v":true}]
[3312,"Miskolc","009","Q1","2019-03-10","Betét állomány növekmény",28,"Mhuf","2019-04-01","diosg2",{"$f":"AND(E3313>=Kimutatás!B$2,E3313<=Kimutatás!B$3)","v":true}]
[3313,"Miskolc","009","Q1","2019-03-11","Betérő ügyfelek",9,"fő","2019-04-01","diosg2",{"$f":"AND(E3314>=Kimutatás!B$2,E3314<=Kimutatás!B$3)","v":false}]
[3314,"Miskolc","009","Q1","2019-03-11","Lakossági hitelnövekmény összege ",17,"Mhuf","2019-04-01","diosg2",{"$f":"AND(E3315>=Kimutatás!B$2,E3315<=Kimutatás!B$3)","v":false}]
[3315,"Miskolc","009","Q1","2019-03-11","Lakossági számlanyitás",2,"db","2019-04-01","diosg2",{"$f":"AND(E3316>=Kimutatás!B$2,E3316<=Kimutatás!B$3)","v":false}]
[3316,"Miskolc","009","Q1","2019-03-11","KKV hitelnövekmény (db)",-1,"db","2019-04-01","diosg2",{"$f":"AND(E3317>=Kimutatás!B$2,E3317<=Kimutatás!B$3)","v":false}]
[3317,"Miskolc","009","Q1","2019-03-11","KKV számlanyitás",0,"db","2019-04-01","diosg2",{"$f":"AND(E3318>=Kimutatás!B$2,E3318<=Kimutatás!B$3)","v":false}]
[3318,"Miskolc","009","Q1","2019-03-11","Betét állomány növekmény",15,"Mhuf","2019-04-01","diosg2",{"$f":"AND(E3319>=Kimutatás!B$2,E3319<=Kimutatás!B$3)","v":false}]
[3319,"Miskolc","009","Q1","2019-03-12","Betérő ügyfelek",13,"fő","2019-04-01","diosg2",{"$f":"AND(E3320>=Kimutatás!B$2,E3320<=Kimutatás!B$3)","v":false}]
[3320,"Miskolc","009","Q1","2019-03-12","Lakossági hitelnövekmény összege ",-4,"Mhuf","2019-04-01","diosg2",{"$f":"AND(E3321>=Kimutatás!B$2,E3321<=Kimutatás!B$3)","v":false}]
[3321,"Miskolc","009","Q1","2019-03-12","Lakossági számlanyitás",6,"db","2019-04-01","diosg2",{"$f":"AND(E3322>=Kimutatás!B$2,E3322<=Kimutatás!B$3)","v":false}]
[3322,"Miskolc","009","Q1","2019-03-12","KKV hitelnövekmény (db)",-1,"db","2019-04-01","diosg2",{"$f":"AND(E3323>=Kimutatás!B$2,E3323<=Kimutatás!B$3)","v":false}]
[3323,"Miskolc","009","Q1","2019-03-12","KKV számlanyitás",-5,"db","2019-04-01","diosg2",{"$f":"AND(E3324>=Kimutatás!B$2,E3324<=Kimutatás!B$3)","v":false}]
[3324,"Miskolc","009","Q1","2019-03-12","Betét állomány növekmény",34,"Mhuf","2019-04-01","diosg2",{"$f":"AND(E3325>=Kimutatás!B$2,E3325<=Kimutatás!B$3)","v":false}]
[3325,"Miskolc","009","Q1","2019-03-13","Betérő ügyfelek",41,"fő","2019-04-01","diosg2",{"$f":"AND(E3326>=Kimutatás!B$2,E3326<=Kimutatás!B$3)","v":false}]
[3326,"Miskolc","009","Q1","2019-03-13","Lakossági hitelnövekmény összege ",26,"Mhuf","2019-04-01","diosg2",{"$f":"AND(E3327>=Kimutatás!B$2,E3327<=Kimutatás!B$3)","v":false}]
[3327,"Miskolc","009","Q1","2019-03-13","Lakossági számlanyitás",-2,"db","2019-04-01","diosg2",{"$f":"AND(E3328>=Kimutatás!B$2,E3328<=Kimutatás!B$3)","v":false}]
[3328,"Miskolc","009","Q1","2019-03-13","KKV hitelnövekmény (db)",-1,"db","2019-04-01","diosg2",{"$f":"AND(E3329>=Kimutatás!B$2,E3329<=Kimutatás!B$3)","v":false}]
[3329,"Miskolc","009","Q1","2019-03-13","KKV számlanyitás",0,"db","2019-04-01","diosg2",{"$f":"AND(E3330>=Kimutatás!B$2,E3330<=Kimutatás!B$3)","v":false}]
[3330,"Miskolc","009","Q1","2019-03-13","Betét állomány növekmény",24,"Mhuf","2019-04-01","diosg2",{"$f":"AND(E3331>=Kimutatás!B$2,E3331<=Kimutatás!B$3)","v":false}]
[3331,"Miskolc","009","Q1","2019-03-14","Betérő ügyfelek",17,"fő","2019-04-01","diosg2",{"$f":"AND(E3332>=Kimutatás!B$2,E3332<=Kimutatás!B$3)","v":false}]
[3332,"Miskolc","009","Q1","2019-03-14","Lakossági hitelnövekmény összege ",19,"Mhuf","2019-04-01","diosg2",{"$f":"AND(E3333>=Kimutatás!B$2,E3333<=Kimutatás!B$3)","v":false}]
[3333,"Miskolc","009","Q1","2019-03-14","Lakossági számlanyitás",5,"db","2019-04-01","diosg2",{"$f":"AND(E3334>=Kimutatás!B$2,E3334<=Kimutatás!B$3)","v":false}]
[3334,"Miskolc","009","Q1","2019-03-14","KKV hitelnövekmény (db)",1,"db","2019-04-01","diosg2",{"$f":"AND(E3335>=Kimutatás!B$2,E3335<=Kimutatás!B$3)","v":false}]
[3335,"Miskolc","009","Q1","2019-03-14","KKV számlanyitás",2,"db","2019-04-01","diosg2",{"$f":"AND(E3336>=Kimutatás!B$2,E3336<=Kimutatás!B$3)","v":false}]
[3336,"Miskolc","009","Q1","2019-03-14","Betét állomány növekmény",14,"Mhuf","2019-04-01","diosg2",{"$f":"AND(E3337>=Kimutatás!B$2,E3337<=Kimutatás!B$3)","v":false}]
[3337,"Miskolc","009","Q1","2019-03-17","Betérő ügyfelek",23,"fő","2019-04-01","diosg2",{"$f":"AND(E3338>=Kimutatás!B$2,E3338<=Kimutatás!B$3)","v":false}]
[3338,"Miskolc","009","Q1","2019-03-17","Lakossági hitelnövekmény összege ",-9,"Mhuf","2019-04-01","diosg2",{"$f":"AND(E3339>=Kimutatás!B$2,E3339<=Kimutatás!B$3)","v":false}]
[3339,"Miskolc","009","Q1","2019-03-17","Lakossági számlanyitás",8,"db","2019-04-01","diosg2",{"$f":"AND(E3340>=Kimutatás!B$2,E3340<=Kimutatás!B$3)","v":false}]
[3340,"Miskolc","009","Q1","2019-03-17","KKV hitelnövekmény (db)",1,"db","2019-04-01","diosg2",{"$f":"AND(E3341>=Kimutatás!B$2,E3341<=Kimutatás!B$3)","v":false}]
[3341,"Miskolc","009","Q1","2019-03-17","KKV számlanyitás",2,"db","2019-04-01","diosg2",{"$f":"AND(E3342>=Kimutatás!B$2,E3342<=Kimutatás!B$3)","v":false}]
[3342,"Miskolc","009","Q1","2019-03-17","Betét állomány növekmény",19,"Mhuf","2019-04-01","diosg2",{"$f":"AND(E3343>=Kimutatás!B$2,E3343<=Kimutatás!B$3)","v":false}]
[3343,"Miskolc","009","Q1","2019-03-18","Betérő ügyfelek",8,"fő","2019-04-01","diosg2",{"$f":"AND(E3344>=Kimutatás!B$2,E3344<=Kimutatás!B$3)","v":false}]
[3344,"Miskolc","009","Q1","2019-03-18","Lakossági hitelnövekmény összege ",27,"Mhuf","2019-04-01","diosg2",{"$f":"AND(E3345>=Kimutatás!B$2,E3345<=Kimutatás!B$3)","v":false}]
[3345,"Miskolc","009","Q1","2019-03-18","Lakossági számlanyitás",5,"db","2019-04-01","diosg2",{"$f":"AND(E3346>=Kimutatás!B$2,E3346<=Kimutatás!B$3)","v":false}]
[3346,"Miskolc","009","Q1","2019-03-18","KKV hitelnövekmény (db)",1,"db","2019-04-01","diosg2",{"$f":"AND(E3347>=Kimutatás!B$2,E3347<=Kimutatás!B$3)","v":false}]
[3347,"Miskolc","009","Q1","2019-03-18","KKV számlanyitás",-5,"db","2019-04-01","diosg2",{"$f":"AND(E3348>=Kimutatás!B$2,E3348<=Kimutatás!B$3)","v":false}]
[3348,"Miskolc","009","Q1","2019-03-18","Betét állomány növekmény",-17,"Mhuf","2019-04-01","diosg2",{"$f":"AND(E3349>=Kimutatás!B$2,E3349<=Kimutatás!B$3)","v":false}]
[3349,"Miskolc","009","Q1","2019-03-19","Betérő ügyfelek",5,"fő","2019-04-01","diosg2",{"$f":"AND(E3350>=Kimutatás!B$2,E3350<=Kimutatás!B$3)","v":false}]
[3350,"Miskolc","009","Q1","2019-03-19","Lakossági hitelnövekmény összege ",36,"Mhuf","2019-04-01","diosg2",{"$f":"AND(E3351>=Kimutatás!B$2,E3351<=Kimutatás!B$3)","v":false}]
[3351,"Miskolc","009","Q1","2019-03-19","Lakossági számlanyitás",3,"db","2019-04-01","diosg2",{"$f":"AND(E3352>=Kimutatás!B$2,E3352<=Kimutatás!B$3)","v":false}]
[3352,"Miskolc","009","Q1","2019-03-19","KKV hitelnövekmény (db)",-2,"db","2019-04-01","diosg2",{"$f":"AND(E3353>=Kimutatás!B$2,E3353<=Kimutatás!B$3)","v":false}]
[3353,"Miskolc","009","Q1","2019-03-19","KKV számlanyitás",-1,"db","2019-04-01","diosg2",{"$f":"AND(E3354>=Kimutatás!B$2,E3354<=Kimutatás!B$3)","v":false}]
[3354,"Miskolc","009","Q1","2019-03-19","Betét állomány növekmény",10,"Mhuf","2019-04-01","diosg2",{"$f":"AND(E3355>=Kimutatás!B$2,E3355<=Kimutatás!B$3)","v":false}]
[3355,"Miskolc","009","Q1","2019-03-20","Betérő ügyfelek",34,"fő","2019-04-01","diosg2",{"$f":"AND(E3356>=Kimutatás!B$2,E3356<=Kimutatás!B$3)","v":false}]
[3356,"Miskolc","009","Q1","2019-03-20","Lakossági hitelnövekmény összege ",31,"Mhuf","2019-04-01","diosg2",{"$f":"AND(E3357>=Kimutatás!B$2,E3357<=Kimutatás!B$3)","v":false}]
[3357,"Miskolc","009","Q1","2019-03-20","Lakossági számlanyitás",9,"db","2019-04-01","diosg2",{"$f":"AND(E3358>=Kimutatás!B$2,E3358<=Kimutatás!B$3)","v":false}]
[3358,"Miskolc","009","Q1","2019-03-20","KKV hitelnövekmény (db)",-1,"db","2019-04-01","diosg2",{"$f":"AND(E3359>=Kimutatás!B$2,E3359<=Kimutatás!B$3)","v":false}]
[3359,"Miskolc","009","Q1","2019-03-20","KKV számlanyitás",-3,"db","2019-04-01","diosg2",{"$f":"AND(E3360>=Kimutatás!B$2,E3360<=Kimutatás!B$3)","v":false}]
[3360,"Miskolc","009","Q1","2019-03-20","Betét állomány növekmény",27,"Mhuf","2019-04-01","diosg2",{"$f":"AND(E3361>=Kimutatás!B$2,E3361<=Kimutatás!B$3)","v":false}]
[3361,"Miskolc","009","Q1","2019-03-21","Betérő ügyfelek",16,"fő","2019-04-01","diosg2",{"$f":"AND(E3362>=Kimutatás!B$2,E3362<=Kimutatás!B$3)","v":false}]
[3362,"Miskolc","009","Q1","2019-03-21","Lakossági hitelnövekmény összege ",13,"Mhuf","2019-04-01","diosg2",{"$f":"AND(E3363>=Kimutatás!B$2,E3363<=Kimutatás!B$3)","v":false}]
[3363,"Miskolc","009","Q1","2019-03-21","Lakossági számlanyitás",-2,"db","2019-04-01","diosg2",{"$f":"AND(E3364>=Kimutatás!B$2,E3364<=Kimutatás!B$3)","v":false}]
[3364,"Miskolc","009","Q1","2019-03-21","KKV hitelnövekmény (db)",2,"db","2019-04-01","diosg2",{"$f":"AND(E3365>=Kimutatás!B$2,E3365<=Kimutatás!B$3)","v":false}]
[3365,"Miskolc","009","Q1","2019-03-21","KKV számlanyitás",-1,"db","2019-04-01","diosg2",{"$f":"AND(E3366>=Kimutatás!B$2,E3366<=Kimutatás!B$3)","v":false}]
[3366,"Miskolc","009","Q1","2019-03-21","Betét állomány növekmény",-13,"Mhuf","2019-04-01","diosg2",{"$f":"AND(E3367>=Kimutatás!B$2,E3367<=Kimutatás!B$3)","v":false}]
[3367,"Miskolc","009","Q1","2019-03-24","Betérő ügyfelek",27,"fő","2019-04-01","diosg2",{"$f":"AND(E3368>=Kimutatás!B$2,E3368<=Kimutatás!B$3)","v":false}]
[3368,"Miskolc","009","Q1","2019-03-24","Lakossági hitelnövekmény összege ",31,"Mhuf","2019-04-01","diosg2",{"$f":"AND(E3369>=Kimutatás!B$2,E3369<=Kimutatás!B$3)","v":false}]
[3369,"Miskolc","009","Q1","2019-03-24","Lakossági számlanyitás",6,"db","2019-04-01","diosg2",{"$f":"AND(E3370>=Kimutatás!B$2,E3370<=Kimutatás!B$3)","v":false}]
[3370,"Miskolc","009","Q1","2019-03-24","KKV hitelnövekmény (db)",1,"db","2019-04-01","diosg2",{"$f":"AND(E3371>=Kimutatás!B$2,E3371<=Kimutatás!B$3)","v":false}]
[3371,"Miskolc","009","Q1","2019-03-24","KKV számlanyitás",-1,"db","2019-04-01","diosg2",{"$f":"AND(E3372>=Kimutatás!B$2,E3372<=Kimutatás!B$3)","v":false}]
[3372,"Miskolc","009","Q1","2019-03-24","Betét állomány növekmény",47,"Mhuf","2019-04-01","diosg2",{"$f":"AND(E3373>=Kimutatás!B$2,E3373<=Kimutatás!B$3)","v":false}]
[3373,"Miskolc","009","Q1","2019-03-25","Betérő ügyfelek",42,"fő","2019-04-01","diosg2",{"$f":"AND(E3374>=Kimutatás!B$2,E3374<=Kimutatás!B$3)","v":false}]
[3374,"Miskolc","009","Q1","2019-03-25","Lakossági hitelnövekmény összege ",11,"Mhuf","2019-04-01","diosg2",{"$f":"AND(E3375>=Kimutatás!B$2,E3375<=Kimutatás!B$3)","v":false}]
[3375,"Miskolc","009","Q1","2019-03-25","Lakossági számlanyitás",8,"db","2019-04-01","diosg2",{"$f":"AND(E3376>=Kimutatás!B$2,E3376<=Kimutatás!B$3)","v":false}]
[3376,"Miskolc","009","Q1","2019-03-25","KKV hitelnövekmény (db)",-1,"db","2019-04-01","diosg2",{"$f":"AND(E3377>=Kimutatás!B$2,E3377<=Kimutatás!B$3)","v":false}]
[3377,"Miskolc","009","Q1","2019-03-25","KKV számlanyitás",-2,"db","2019-04-01","diosg2",{"$f":"AND(E3378>=Kimutatás!B$2,E3378<=Kimutatás!B$3)","v":false}]
[3378,"Miskolc","009","Q1","2019-03-25","Betét állomány növekmény",-4,"Mhuf","2019-04-01","diosg2",{"$f":"AND(E3379>=Kimutatás!B$2,E3379<=Kimutatás!B$3)","v":false}]
[3379,"Miskolc","009","Q1","2019-03-26","Betérő ügyfelek",21,"fő","2019-04-01","diosg2",{"$f":"AND(E3380>=Kimutatás!B$2,E3380<=Kimutatás!B$3)","v":false}]
[3380,"Miskolc","009","Q1","2019-03-26","Lakossági hitelnövekmény összege ",45,"Mhuf","2019-04-01","diosg2",{"$f":"AND(E3381>=Kimutatás!B$2,E3381<=Kimutatás!B$3)","v":false}]
[3381,"Miskolc","009","Q1","2019-03-26","Lakossági számlanyitás",2,"db","2019-04-01","diosg2",{"$f":"AND(E3382>=Kimutatás!B$2,E3382<=Kimutatás!B$3)","v":false}]
[3382,"Miskolc","009","Q1","2019-03-26","KKV hitelnövekmény (db)",2,"db","2019-04-01","diosg2",{"$f":"AND(E3383>=Kimutatás!B$2,E3383<=Kimutatás!B$3)","v":false}]
[3383,"Miskolc","009","Q1","2019-03-26","KKV számlanyitás",-1,"db","2019-04-01","diosg2",{"$f":"AND(E3384>=Kimutatás!B$2,E3384<=Kimutatás!B$3)","v":false}]
[3384,"Miskolc","009","Q1","2019-03-26","Betét állomány növekmény",27,"Mhuf","2019-04-01","diosg2",{"$f":"AND(E3385>=Kimutatás!B$2,E3385<=Kimutatás!B$3)","v":false}]
[3385,"Miskolc","009","Q1","2019-03-27","Betérő ügyfelek",31,"fő","2019-04-01","diosg2",{"$f":"AND(E3386>=Kimutatás!B$2,E3386<=Kimutatás!B$3)","v":false}]
[3386,"Miskolc","009","Q1","2019-03-27","Lakossági hitelnövekmény összege ",46,"Mhuf","2019-04-01","diosg2",{"$f":"AND(E3387>=Kimutatás!B$2,E3387<=Kimutatás!B$3)","v":false}]
[3387,"Miskolc","009","Q1","2019-03-27","Lakossági számlanyitás",10,"db","2019-04-01","diosg2",{"$f":"AND(E3388>=Kimutatás!B$2,E3388<=Kimutatás!B$3)","v":false}]
[3388,"Miskolc","009","Q1","2019-03-27","KKV hitelnövekmény (db)",-1,"db","2019-04-01","diosg2",{"$f":"AND(E3389>=Kimutatás!B$2,E3389<=Kimutatás!B$3)","v":false}]
[3389,"Miskolc","009","Q1","2019-03-27","KKV számlanyitás",-5,"db","2019-04-01","diosg2",{"$f":"AND(E3390>=Kimutatás!B$2,E3390<=Kimutatás!B$3)","v":false}]
[3390,"Miskolc","009","Q1","2019-03-27","Betét állomány növekmény",43,"Mhuf","2019-04-01","diosg2",{"$f":"AND(E3391>=Kimutatás!B$2,E3391<=Kimutatás!B$3)","v":false}]
[3391,"Miskolc","009","Q1","2019-03-28","Betérő ügyfelek",45,"fő","2019-04-01","diosg2",{"$f":"AND(E3392>=Kimutatás!B$2,E3392<=Kimutatás!B$3)","v":false}]
[3392,"Miskolc","009","Q1","2019-03-28","Lakossági hitelnövekmény összege ",6,"Mhuf","2019-04-01","diosg2",{"$f":"AND(E3393>=Kimutatás!B$2,E3393<=Kimutatás!B$3)","v":false}]
[3393,"Miskolc","009","Q1","2019-03-28","Lakossági számlanyitás",-4,"db","2019-04-01","diosg2",{"$f":"AND(E3394>=Kimutatás!B$2,E3394<=Kimutatás!B$3)","v":false}]
[3394,"Miskolc","009","Q1","2019-03-28","KKV hitelnövekmény (db)",-1,"db","2019-04-01","diosg2",{"$f":"AND(E3395>=Kimutatás!B$2,E3395<=Kimutatás!B$3)","v":false}]
[3395,"Miskolc","009","Q1","2019-03-28","KKV számlanyitás",4,"db","2019-04-01","diosg2",{"$f":"AND(E3396>=Kimutatás!B$2,E3396<=Kimutatás!B$3)","v":false}]
[3396,"Miskolc","009","Q1","2019-03-28","Betét állomány növekmény",26,"Mhuf","2019-04-01","diosg2",{"$f":"AND(E3397>=Kimutatás!B$2,E3397<=Kimutatás!B$3)","v":false}]
[3397,"Miskolc","009","Q1","2019-03-31","Betérő ügyfelek",34,"fő","2019-04-01","diosg2",{"$f":"AND(E3398>=Kimutatás!B$2,E3398<=Kimutatás!B$3)","v":false}]
[3398,"Miskolc","009","Q1","2019-03-31","Lakossági hitelnövekmény összege ",-5,"Mhuf","2019-04-01","diosg2",{"$f":"AND(E3399>=Kimutatás!B$2,E3399<=Kimutatás!B$3)","v":false}]
[3399,"Miskolc","009","Q1","2019-03-31","Lakossági számlanyitás",7,"db","2019-04-01","diosg2",{"$f":"AND(E3400>=Kimutatás!B$2,E3400<=Kimutatás!B$3)","v":false}]
[3400,"Miskolc","009","Q1","2019-03-31","KKV hitelnövekmény (db)",0,"db","2019-04-01","diosg2",{"$f":"AND(E3401>=Kimutatás!B$2,E3401<=Kimutatás!B$3)","v":false}]
[3401,"Miskolc","009","Q1","2019-03-31","KKV számlanyitás",3,"db","2019-04-01","diosg2",{"$f":"AND(E3402>=Kimutatás!B$2,E3402<=Kimutatás!B$3)","v":false}]
[3402,"Miskolc","009","Q1","2019-03-31","Betét állomány növekmény",40,"Mhuf","2019-04-01","diosg2",{"$f":"AND(E3403>=Kimutatás!B$2,E3403<=Kimutatás!B$3)","v":false}]
[3403,"Nyíregyháza","010","Q1","2019-01-02","Betérő ügyfelek",44,"fő","2019-02-01","edda99",{"$f":"AND(E3404>=Kimutatás!B$2,E3404<=Kimutatás!B$3)","v":false}]
[3404,"Nyíregyháza","010","Q1","2019-01-02","Lakossági hitelnövekmény összege ",32,"Mhuf","2019-02-01","edda99",{"$f":"AND(E3405>=Kimutatás!B$2,E3405<=Kimutatás!B$3)","v":false}]
[3405,"Nyíregyháza","010","Q1","2019-01-02","Lakossági számlanyitás",10,"db","2019-02-01","edda99",{"$f":"AND(E3406>=Kimutatás!B$2,E3406<=Kimutatás!B$3)","v":false}]
[3406,"Nyíregyháza","010","Q1","2019-01-02","KKV hitelnövekmény (db)",1,"db","2019-02-01","edda99",{"$f":"AND(E3407>=Kimutatás!B$2,E3407<=Kimutatás!B$3)","v":false}]
[3407,"Nyíregyháza","010","Q1","2019-01-02","KKV számlanyitás",-1,"db","2019-02-01","edda99",{"$f":"AND(E3408>=Kimutatás!B$2,E3408<=Kimutatás!B$3)","v":false}]
[3408,"Nyíregyháza","010","Q1","2019-01-02","Betét állomány növekmény",28,"Mhuf","2019-02-01","edda99",{"$f":"AND(E3409>=Kimutatás!B$2,E3409<=Kimutatás!B$3)","v":false}]
[3409,"Nyíregyháza","010","Q1","2019-01-03","Betérő ügyfelek",19,"fő","2019-02-01","edda99",{"$f":"AND(E3410>=Kimutatás!B$2,E3410<=Kimutatás!B$3)","v":false}]
[3410,"Nyíregyháza","010","Q1","2019-01-03","Lakossági hitelnövekmény összege ",30,"Mhuf","2019-02-01","edda99",{"$f":"AND(E3411>=Kimutatás!B$2,E3411<=Kimutatás!B$3)","v":false}]
[3411,"Nyíregyháza","010","Q1","2019-01-03","Lakossági számlanyitás",7,"db","2019-02-01","edda99",{"$f":"AND(E3412>=Kimutatás!B$2,E3412<=Kimutatás!B$3)","v":false}]
[3412,"Nyíregyháza","010","Q1","2019-01-03","KKV hitelnövekmény (db)",2,"db","2019-02-01","edda99",{"$f":"AND(E3413>=Kimutatás!B$2,E3413<=Kimutatás!B$3)","v":false}]
[3413,"Nyíregyháza","010","Q1","2019-01-03","KKV számlanyitás",-1,"db","2019-02-01","edda99",{"$f":"AND(E3414>=Kimutatás!B$2,E3414<=Kimutatás!B$3)","v":false}]
[3414,"Nyíregyháza","010","Q1","2019-01-03","Betét állomány növekmény",40,"Mhuf","2019-02-01","edda99",{"$f":"AND(E3415>=Kimutatás!B$2,E3415<=Kimutatás!B$3)","v":false}]
[3415,"Nyíregyháza","010","Q1","2019-01-06","Betérő ügyfelek",26,"fő","2019-02-01","edda99",{"$f":"AND(E3416>=Kimutatás!B$2,E3416<=Kimutatás!B$3)","v":false}]
[3416,"Nyíregyháza","010","Q1","2019-01-06","Lakossági hitelnövekmény összege ",27,"Mhuf","2019-02-01","edda99",{"$f":"AND(E3417>=Kimutatás!B$2,E3417<=Kimutatás!B$3)","v":false}]
[3417,"Nyíregyháza","010","Q1","2019-01-06","Lakossági számlanyitás",1,"db","2019-02-01","edda99",{"$f":"AND(E3418>=Kimutatás!B$2,E3418<=Kimutatás!B$3)","v":false}]
[3418,"Nyíregyháza","010","Q1","2019-01-06","KKV hitelnövekmény (db)",-2,"db","2019-02-01","edda99",{"$f":"AND(E3419>=Kimutatás!B$2,E3419<=Kimutatás!B$3)","v":false}]
[3419,"Nyíregyháza","010","Q1","2019-01-06","KKV számlanyitás",0,"db","2019-02-01","edda99",{"$f":"AND(E3420>=Kimutatás!B$2,E3420<=Kimutatás!B$3)","v":false}]
[3420,"Nyíregyháza","010","Q1","2019-01-06","Betét állomány növekmény",43,"Mhuf","2019-02-01","edda99",{"$f":"AND(E3421>=Kimutatás!B$2,E3421<=Kimutatás!B$3)","v":false}]
[3421,"Nyíregyháza","010","Q1","2019-01-07","Betérő ügyfelek",32,"fő","2019-02-01","edda99",{"$f":"AND(E3422>=Kimutatás!B$2,E3422<=Kimutatás!B$3)","v":false}]
[3422,"Nyíregyháza","010","Q1","2019-01-07","Lakossági hitelnövekmény összege ",37,"Mhuf","2019-02-01","edda99",{"$f":"AND(E3423>=Kimutatás!B$2,E3423<=Kimutatás!B$3)","v":false}]
[3423,"Nyíregyháza","010","Q1","2019-01-07","Lakossági számlanyitás",3,"db","2019-02-01","edda99",{"$f":"AND(E3424>=Kimutatás!B$2,E3424<=Kimutatás!B$3)","v":false}]
[3424,"Nyíregyháza","010","Q1","2019-01-07","KKV hitelnövekmény (db)",-1,"db","2019-02-01","edda99",{"$f":"AND(E3425>=Kimutatás!B$2,E3425<=Kimutatás!B$3)","v":false}]
[3425,"Nyíregyháza","010","Q1","2019-01-07","KKV számlanyitás",4,"db","2019-02-01","edda99",{"$f":"AND(E3426>=Kimutatás!B$2,E3426<=Kimutatás!B$3)","v":false}]
[3426,"Nyíregyháza","010","Q1","2019-01-07","Betét állomány növekmény",-13,"Mhuf","2019-02-01","edda99",{"$f":"AND(E3427>=Kimutatás!B$2,E3427<=Kimutatás!B$3)","v":false}]
[3427,"Nyíregyháza","010","Q1","2019-01-08","Betérő ügyfelek",34,"fő","2019-02-01","edda99",{"$f":"AND(E3428>=Kimutatás!B$2,E3428<=Kimutatás!B$3)","v":false}]
[3428,"Nyíregyháza","010","Q1","2019-01-08","Lakossági hitelnövekmény összege ",27,"Mhuf","2019-02-01","edda99",{"$f":"AND(E3429>=Kimutatás!B$2,E3429<=Kimutatás!B$3)","v":false}]
[3429,"Nyíregyháza","010","Q1","2019-01-08","Lakossági számlanyitás",8,"db","2019-02-01","edda99",{"$f":"AND(E3430>=Kimutatás!B$2,E3430<=Kimutatás!B$3)","v":false}]
[3430,"Nyíregyháza","010","Q1","2019-01-08","KKV hitelnövekmény (db)",-2,"db","2019-02-01","edda99",{"$f":"AND(E3431>=Kimutatás!B$2,E3431<=Kimutatás!B$3)","v":false}]
[3431,"Nyíregyháza","010","Q1","2019-01-08","KKV számlanyitás",3,"db","2019-02-01","edda99",{"$f":"AND(E3432>=Kimutatás!B$2,E3432<=Kimutatás!B$3)","v":false}]
[3432,"Nyíregyháza","010","Q1","2019-01-08","Betét állomány növekmény",-12,"Mhuf","2019-02-01","edda99",{"$f":"AND(E3433>=Kimutatás!B$2,E3433<=Kimutatás!B$3)","v":false}]
[3433,"Nyíregyháza","010","Q1","2019-01-09","Betérő ügyfelek",14,"fő","2019-02-01","edda99",{"$f":"AND(E3434>=Kimutatás!B$2,E3434<=Kimutatás!B$3)","v":false}]
[3434,"Nyíregyháza","010","Q1","2019-01-09","Lakossági hitelnövekmény összege ",-4,"Mhuf","2019-02-01","edda99",{"$f":"AND(E3435>=Kimutatás!B$2,E3435<=Kimutatás!B$3)","v":false}]
[3435,"Nyíregyháza","010","Q1","2019-01-09","Lakossági számlanyitás",1,"db","2019-02-01","edda99",{"$f":"AND(E3436>=Kimutatás!B$2,E3436<=Kimutatás!B$3)","v":false}]
[3436,"Nyíregyháza","010","Q1","2019-01-09","KKV hitelnövekmény (db)",1,"db","2019-02-01","edda99",{"$f":"AND(E3437>=Kimutatás!B$2,E3437<=Kimutatás!B$3)","v":false}]
[3437,"Nyíregyháza","010","Q1","2019-01-09","KKV számlanyitás",2,"db","2019-02-01","edda99",{"$f":"AND(E3438>=Kimutatás!B$2,E3438<=Kimutatás!B$3)","v":false}]
[3438,"Nyíregyháza","010","Q1","2019-01-09","Betét állomány növekmény",-3,"Mhuf","2019-02-01","edda99",{"$f":"AND(E3439>=Kimutatás!B$2,E3439<=Kimutatás!B$3)","v":false}]
[3439,"Nyíregyháza","010","Q1","2019-01-10","Betérő ügyfelek",33,"fő","2019-02-01","edda99",{"$f":"AND(E3440>=Kimutatás!B$2,E3440<=Kimutatás!B$3)","v":true}]
[3440,"Nyíregyháza","010","Q1","2019-01-10","Lakossági hitelnövekmény összege ",22,"Mhuf","2019-02-01","edda99",{"$f":"AND(E3441>=Kimutatás!B$2,E3441<=Kimutatás!B$3)","v":true}]
[3441,"Nyíregyháza","010","Q1","2019-01-10","Lakossági számlanyitás",8,"db","2019-02-01","edda99",{"$f":"AND(E3442>=Kimutatás!B$2,E3442<=Kimutatás!B$3)","v":true}]
[3442,"Nyíregyháza","010","Q1","2019-01-10","KKV hitelnövekmény (db)",-2,"db","2019-02-01","edda99",{"$f":"AND(E3443>=Kimutatás!B$2,E3443<=Kimutatás!B$3)","v":true}]
[3443,"Nyíregyháza","010","Q1","2019-01-10","KKV számlanyitás",0,"db","2019-02-01","edda99",{"$f":"AND(E3444>=Kimutatás!B$2,E3444<=Kimutatás!B$3)","v":true}]
[3444,"Nyíregyháza","010","Q1","2019-01-10","Betét állomány növekmény",25,"Mhuf","2019-02-01","edda99",{"$f":"AND(E3445>=Kimutatás!B$2,E3445<=Kimutatás!B$3)","v":true}]
[3445,"Nyíregyháza","010","Q1","2019-01-13","Betérő ügyfelek",4,"fő","2019-02-01","edda99",{"$f":"AND(E3446>=Kimutatás!B$2,E3446<=Kimutatás!B$3)","v":true}]
[3446,"Nyíregyháza","010","Q1","2019-01-13","Lakossági hitelnövekmény összege ",6,"Mhuf","2019-02-01","edda99",{"$f":"AND(E3447>=Kimutatás!B$2,E3447<=Kimutatás!B$3)","v":true}]
[3447,"Nyíregyháza","010","Q1","2019-01-13","Lakossági számlanyitás",1,"db","2019-02-01","edda99",{"$f":"AND(E3448>=Kimutatás!B$2,E3448<=Kimutatás!B$3)","v":true}]
[3448,"Nyíregyháza","010","Q1","2019-01-13","KKV hitelnövekmény (db)",2,"db","2019-02-01","edda99",{"$f":"AND(E3449>=Kimutatás!B$2,E3449<=Kimutatás!B$3)","v":true}]
[3449,"Nyíregyháza","010","Q1","2019-01-13","KKV számlanyitás",-5,"db","2019-02-01","edda99",{"$f":"AND(E3450>=Kimutatás!B$2,E3450<=Kimutatás!B$3)","v":true}]
[3450,"Nyíregyháza","010","Q1","2019-01-13","Betét állomány növekmény",45,"Mhuf","2019-02-01","edda99",{"$f":"AND(E3451>=Kimutatás!B$2,E3451<=Kimutatás!B$3)","v":true}]
[3451,"Nyíregyháza","010","Q1","2019-01-14","Betérő ügyfelek",18,"fő","2019-02-01","edda99",{"$f":"AND(E3452>=Kimutatás!B$2,E3452<=Kimutatás!B$3)","v":true}]
[3452,"Nyíregyháza","010","Q1","2019-01-14","Lakossági hitelnövekmény összege ",28,"Mhuf","2019-02-01","edda99",{"$f":"AND(E3453>=Kimutatás!B$2,E3453<=Kimutatás!B$3)","v":true}]
[3453,"Nyíregyháza","010","Q1","2019-01-14","Lakossági számlanyitás",5,"db","2019-02-01","edda99",{"$f":"AND(E3454>=Kimutatás!B$2,E3454<=Kimutatás!B$3)","v":true}]
[3454,"Nyíregyháza","010","Q1","2019-01-14","KKV hitelnövekmény (db)",0,"db","2019-02-01","edda99",{"$f":"AND(E3455>=Kimutatás!B$2,E3455<=Kimutatás!B$3)","v":true}]
[3455,"Nyíregyháza","010","Q1","2019-01-14","KKV számlanyitás",-1,"db","2019-02-01","edda99",{"$f":"AND(E3456>=Kimutatás!B$2,E3456<=Kimutatás!B$3)","v":true}]
[3456,"Nyíregyháza","010","Q1","2019-01-14","Betét állomány növekmény",-2,"Mhuf","2019-02-01","edda99",{"$f":"AND(E3457>=Kimutatás!B$2,E3457<=Kimutatás!B$3)","v":true}]
[3457,"Nyíregyháza","010","Q1","2019-01-15","Betérő ügyfelek",30,"fő","2019-02-01","edda99",{"$f":"AND(E3458>=Kimutatás!B$2,E3458<=Kimutatás!B$3)","v":true}]
[3458,"Nyíregyháza","010","Q1","2019-01-15","Lakossági hitelnövekmény összege ",7,"Mhuf","2019-02-01","edda99",{"$f":"AND(E3459>=Kimutatás!B$2,E3459<=Kimutatás!B$3)","v":true}]
[3459,"Nyíregyháza","010","Q1","2019-01-15","Lakossági számlanyitás",8,"db","2019-02-01","edda99",{"$f":"AND(E3460>=Kimutatás!B$2,E3460<=Kimutatás!B$3)","v":true}]
[3460,"Nyíregyháza","010","Q1","2019-01-15","KKV hitelnövekmény (db)",-1,"db","2019-02-01","edda99",{"$f":"AND(E3461>=Kimutatás!B$2,E3461<=Kimutatás!B$3)","v":true}]
[3461,"Nyíregyháza","010","Q1","2019-01-15","KKV számlanyitás",-2,"db","2019-02-01","edda99",{"$f":"AND(E3462>=Kimutatás!B$2,E3462<=Kimutatás!B$3)","v":true}]
[3462,"Nyíregyháza","010","Q1","2019-01-15","Betét állomány növekmény",-17,"Mhuf","2019-02-01","edda99",{"$f":"AND(E3463>=Kimutatás!B$2,E3463<=Kimutatás!B$3)","v":true}]
[3463,"Nyíregyháza","010","Q1","2019-01-16","Betérő ügyfelek",15,"fő","2019-02-01","edda99",{"$f":"AND(E3464>=Kimutatás!B$2,E3464<=Kimutatás!B$3)","v":true}]
[3464,"Nyíregyháza","010","Q1","2019-01-16","Lakossági hitelnövekmény összege ",2,"Mhuf","2019-02-01","edda99",{"$f":"AND(E3465>=Kimutatás!B$2,E3465<=Kimutatás!B$3)","v":true}]
[3465,"Nyíregyháza","010","Q1","2019-01-16","Lakossági számlanyitás",3,"db","2019-02-01","edda99",{"$f":"AND(E3466>=Kimutatás!B$2,E3466<=Kimutatás!B$3)","v":true}]
[3466,"Nyíregyháza","010","Q1","2019-01-16","KKV hitelnövekmény (db)",-1,"db","2019-02-01","edda99",{"$f":"AND(E3467>=Kimutatás!B$2,E3467<=Kimutatás!B$3)","v":true}]
[3467,"Nyíregyháza","010","Q1","2019-01-16","KKV számlanyitás",2,"db","2019-02-01","edda99",{"$f":"AND(E3468>=Kimutatás!B$2,E3468<=Kimutatás!B$3)","v":true}]
[3468,"Nyíregyháza","010","Q1","2019-01-16","Betét állomány növekmény",40,"Mhuf","2019-02-01","edda99",{"$f":"AND(E3469>=Kimutatás!B$2,E3469<=Kimutatás!B$3)","v":true}]
[3469,"Nyíregyháza","010","Q1","2019-01-17","Betérő ügyfelek",50,"fő","2019-02-01","edda99",{"$f":"AND(E3470>=Kimutatás!B$2,E3470<=Kimutatás!B$3)","v":true}]
[3470,"Nyíregyháza","010","Q1","2019-01-17","Lakossági hitelnövekmény összege ",-5,"Mhuf","2019-02-01","edda99",{"$f":"AND(E3471>=Kimutatás!B$2,E3471<=Kimutatás!B$3)","v":true}]
[3471,"Nyíregyháza","010","Q1","2019-01-17","Lakossági számlanyitás",-4,"db","2019-02-01","edda99",{"$f":"AND(E3472>=Kimutatás!B$2,E3472<=Kimutatás!B$3)","v":true}]
[3472,"Nyíregyháza","010","Q1","2019-01-17","KKV hitelnövekmény (db)",-1,"db","2019-02-01","edda99",{"$f":"AND(E3473>=Kimutatás!B$2,E3473<=Kimutatás!B$3)","v":true}]
[3473,"Nyíregyháza","010","Q1","2019-01-17","KKV számlanyitás",3,"db","2019-02-01","edda99",{"$f":"AND(E3474>=Kimutatás!B$2,E3474<=Kimutatás!B$3)","v":true}]
[3474,"Nyíregyháza","010","Q1","2019-01-17","Betét állomány növekmény",-10,"Mhuf","2019-02-01","edda99",{"$f":"AND(E3475>=Kimutatás!B$2,E3475<=Kimutatás!B$3)","v":true}]
[3475,"Nyíregyháza","010","Q1","2019-01-20","Betérő ügyfelek",46,"fő","2019-02-01","edda99",{"$f":"AND(E3476>=Kimutatás!B$2,E3476<=Kimutatás!B$3)","v":true}]
[3476,"Nyíregyháza","010","Q1","2019-01-20","Lakossági hitelnövekmény összege ",35,"Mhuf","2019-02-01","edda99",{"$f":"AND(E3477>=Kimutatás!B$2,E3477<=Kimutatás!B$3)","v":true}]
[3477,"Nyíregyháza","010","Q1","2019-01-20","Lakossági számlanyitás",-5,"db","2019-02-01","edda99",{"$f":"AND(E3478>=Kimutatás!B$2,E3478<=Kimutatás!B$3)","v":true}]
[3478,"Nyíregyháza","010","Q1","2019-01-20","KKV hitelnövekmény (db)",-2,"db","2019-02-01","edda99",{"$f":"AND(E3479>=Kimutatás!B$2,E3479<=Kimutatás!B$3)","v":true}]
[3479,"Nyíregyháza","010","Q1","2019-01-20","KKV számlanyitás",-4,"db","2019-02-01","edda99",{"$f":"AND(E3480>=Kimutatás!B$2,E3480<=Kimutatás!B$3)","v":true}]
[3480,"Nyíregyháza","010","Q1","2019-01-20","Betét állomány növekmény",45,"Mhuf","2019-02-01","edda99",{"$f":"AND(E3481>=Kimutatás!B$2,E3481<=Kimutatás!B$3)","v":true}]
[3481,"Nyíregyháza","010","Q1","2019-01-21","Betérő ügyfelek",33,"fő","2019-02-01","edda99",{"$f":"AND(E3482>=Kimutatás!B$2,E3482<=Kimutatás!B$3)","v":true}]
[3482,"Nyíregyháza","010","Q1","2019-01-21","Lakossági hitelnövekmény összege ",33,"Mhuf","2019-02-01","edda99",{"$f":"AND(E3483>=Kimutatás!B$2,E3483<=Kimutatás!B$3)","v":true}]
[3483,"Nyíregyháza","010","Q1","2019-01-21","Lakossági számlanyitás",-5,"db","2019-02-01","edda99",{"$f":"AND(E3484>=Kimutatás!B$2,E3484<=Kimutatás!B$3)","v":true}]
[3484,"Nyíregyháza","010","Q1","2019-01-21","KKV hitelnövekmény (db)",1,"db","2019-02-01","edda99",{"$f":"AND(E3485>=Kimutatás!B$2,E3485<=Kimutatás!B$3)","v":true}]
[3485,"Nyíregyháza","010","Q1","2019-01-21","KKV számlanyitás",5,"db","2019-02-01","edda99",{"$f":"AND(E3486>=Kimutatás!B$2,E3486<=Kimutatás!B$3)","v":true}]
[3486,"Nyíregyháza","010","Q1","2019-01-21","Betét állomány növekmény",48,"Mhuf","2019-02-01","edda99",{"$f":"AND(E3487>=Kimutatás!B$2,E3487<=Kimutatás!B$3)","v":true}]
[3487,"Nyíregyháza","010","Q1","2019-01-22","Betérő ügyfelek",21,"fő","2019-02-01","edda99",{"$f":"AND(E3488>=Kimutatás!B$2,E3488<=Kimutatás!B$3)","v":true}]
[3488,"Nyíregyháza","010","Q1","2019-01-22","Lakossági hitelnövekmény összege ",18,"Mhuf","2019-02-01","edda99",{"$f":"AND(E3489>=Kimutatás!B$2,E3489<=Kimutatás!B$3)","v":true}]
[3489,"Nyíregyháza","010","Q1","2019-01-22","Lakossági számlanyitás",7,"db","2019-02-01","edda99",{"$f":"AND(E3490>=Kimutatás!B$2,E3490<=Kimutatás!B$3)","v":true}]
[3490,"Nyíregyháza","010","Q1","2019-01-22","KKV hitelnövekmény (db)",-1,"db","2019-02-01","edda99",{"$f":"AND(E3491>=Kimutatás!B$2,E3491<=Kimutatás!B$3)","v":true}]
[3491,"Nyíregyháza","010","Q1","2019-01-22","KKV számlanyitás",0,"db","2019-02-01","edda99",{"$f":"AND(E3492>=Kimutatás!B$2,E3492<=Kimutatás!B$3)","v":true}]
[3492,"Nyíregyháza","010","Q1","2019-01-22","Betét állomány növekmény",-15,"Mhuf","2019-02-01","edda99",{"$f":"AND(E3493>=Kimutatás!B$2,E3493<=Kimutatás!B$3)","v":true}]
[3493,"Nyíregyháza","010","Q1","2019-01-23","Betérő ügyfelek",29,"fő","2019-02-01","edda99",{"$f":"AND(E3494>=Kimutatás!B$2,E3494<=Kimutatás!B$3)","v":true}]
[3494,"Nyíregyháza","010","Q1","2019-01-23","Lakossági hitelnövekmény összege ",33,"Mhuf","2019-02-01","edda99",{"$f":"AND(E3495>=Kimutatás!B$2,E3495<=Kimutatás!B$3)","v":true}]
[3495,"Nyíregyháza","010","Q1","2019-01-23","Lakossági számlanyitás",4,"db","2019-02-01","edda99",{"$f":"AND(E3496>=Kimutatás!B$2,E3496<=Kimutatás!B$3)","v":true}]
[3496,"Nyíregyháza","010","Q1","2019-01-23","KKV hitelnövekmény (db)",2,"db","2019-02-01","edda99",{"$f":"AND(E3497>=Kimutatás!B$2,E3497<=Kimutatás!B$3)","v":true}]
[3497,"Nyíregyháza","010","Q1","2019-01-23","KKV számlanyitás",5,"db","2019-02-01","edda99",{"$f":"AND(E3498>=Kimutatás!B$2,E3498<=Kimutatás!B$3)","v":true}]
[3498,"Nyíregyháza","010","Q1","2019-01-23","Betét állomány növekmény",-16,"Mhuf","2019-02-01","edda99",{"$f":"AND(E3499>=Kimutatás!B$2,E3499<=Kimutatás!B$3)","v":true}]
[3499,"Nyíregyháza","010","Q1","2019-01-24","Betérő ügyfelek",15,"fő","2019-02-01","edda99",{"$f":"AND(E3500>=Kimutatás!B$2,E3500<=Kimutatás!B$3)","v":true}]
[3500,"Nyíregyháza","010","Q1","2019-01-24","Lakossági hitelnövekmény összege ",-2,"Mhuf","2019-02-01","edda99",{"$f":"AND(E3501>=Kimutatás!B$2,E3501<=Kimutatás!B$3)","v":true}]
[3501,"Nyíregyháza","010","Q1","2019-01-24","Lakossági számlanyitás",6,"db","2019-02-01","edda99",{"$f":"AND(E3502>=Kimutatás!B$2,E3502<=Kimutatás!B$3)","v":true}]
[3502,"Nyíregyháza","010","Q1","2019-01-24","KKV hitelnövekmény (db)",-2,"db","2019-02-01","edda99",{"$f":"AND(E3503>=Kimutatás!B$2,E3503<=Kimutatás!B$3)","v":true}]
[3503,"Nyíregyháza","010","Q1","2019-01-24","KKV számlanyitás",-2,"db","2019-02-01","edda99",{"$f":"AND(E3504>=Kimutatás!B$2,E3504<=Kimutatás!B$3)","v":true}]
[3504,"Nyíregyháza","010","Q1","2019-01-24","Betét állomány növekmény",45,"Mhuf","2019-02-01","edda99",{"$f":"AND(E3505>=Kimutatás!B$2,E3505<=Kimutatás!B$3)","v":true}]
[3505,"Nyíregyháza","010","Q1","2019-01-27","Betérő ügyfelek",12,"fő","2019-02-01","edda99",{"$f":"AND(E3506>=Kimutatás!B$2,E3506<=Kimutatás!B$3)","v":true}]
[3506,"Nyíregyháza","010","Q1","2019-01-27","Lakossági hitelnövekmény összege ",34,"Mhuf","2019-02-01","edda99",{"$f":"AND(E3507>=Kimutatás!B$2,E3507<=Kimutatás!B$3)","v":true}]
[3507,"Nyíregyháza","010","Q1","2019-01-27","Lakossági számlanyitás",0,"db","2019-02-01","edda99",{"$f":"AND(E3508>=Kimutatás!B$2,E3508<=Kimutatás!B$3)","v":true}]
[3508,"Nyíregyháza","010","Q1","2019-01-27","KKV hitelnövekmény (db)",2,"db","2019-02-01","edda99",{"$f":"AND(E3509>=Kimutatás!B$2,E3509<=Kimutatás!B$3)","v":true}]
[3509,"Nyíregyháza","010","Q1","2019-01-27","KKV számlanyitás",2,"db","2019-02-01","edda99",{"$f":"AND(E3510>=Kimutatás!B$2,E3510<=Kimutatás!B$3)","v":true}]
[3510,"Nyíregyháza","010","Q1","2019-01-27","Betét állomány növekmény",-8,"Mhuf","2019-02-01","edda99",{"$f":"AND(E3511>=Kimutatás!B$2,E3511<=Kimutatás!B$3)","v":true}]
[3511,"Nyíregyháza","010","Q1","2019-01-28","Betérő ügyfelek",34,"fő","2019-02-01","edda99",{"$f":"AND(E3512>=Kimutatás!B$2,E3512<=Kimutatás!B$3)","v":true}]
[3512,"Nyíregyháza","010","Q1","2019-01-28","Lakossági hitelnövekmény összege ",-9,"Mhuf","2019-02-01","edda99",{"$f":"AND(E3513>=Kimutatás!B$2,E3513<=Kimutatás!B$3)","v":true}]
[3513,"Nyíregyháza","010","Q1","2019-01-28","Lakossági számlanyitás",8,"db","2019-02-01","edda99",{"$f":"AND(E3514>=Kimutatás!B$2,E3514<=Kimutatás!B$3)","v":true}]
[3514,"Nyíregyháza","010","Q1","2019-01-28","KKV hitelnövekmény (db)",-1,"db","2019-02-01","edda99",{"$f":"AND(E3515>=Kimutatás!B$2,E3515<=Kimutatás!B$3)","v":true}]
[3515,"Nyíregyháza","010","Q1","2019-01-28","KKV számlanyitás",-1,"db","2019-02-01","edda99",{"$f":"AND(E3516>=Kimutatás!B$2,E3516<=Kimutatás!B$3)","v":true}]
[3516,"Nyíregyháza","010","Q1","2019-01-28","Betét állomány növekmény",44,"Mhuf","2019-02-01","edda99",{"$f":"AND(E3517>=Kimutatás!B$2,E3517<=Kimutatás!B$3)","v":true}]
[3517,"Nyíregyháza","010","Q1","2019-01-29","Betérő ügyfelek",9,"fő","2019-02-01","edda99",{"$f":"AND(E3518>=Kimutatás!B$2,E3518<=Kimutatás!B$3)","v":true}]
[3518,"Nyíregyháza","010","Q1","2019-01-29","Lakossági hitelnövekmény összege ",-4,"Mhuf","2019-02-01","edda99",{"$f":"AND(E3519>=Kimutatás!B$2,E3519<=Kimutatás!B$3)","v":true}]
[3519,"Nyíregyháza","010","Q1","2019-01-29","Lakossági számlanyitás",-3,"db","2019-02-01","edda99",{"$f":"AND(E3520>=Kimutatás!B$2,E3520<=Kimutatás!B$3)","v":true}]
[3520,"Nyíregyháza","010","Q1","2019-01-29","KKV hitelnövekmény (db)",1,"db","2019-02-01","edda99",{"$f":"AND(E3521>=Kimutatás!B$2,E3521<=Kimutatás!B$3)","v":true}]
[3521,"Nyíregyháza","010","Q1","2019-01-29","KKV számlanyitás",3,"db","2019-02-01","edda99",{"$f":"AND(E3522>=Kimutatás!B$2,E3522<=Kimutatás!B$3)","v":true}]
[3522,"Nyíregyháza","010","Q1","2019-01-29","Betét állomány növekmény",15,"Mhuf","2019-02-01","edda99",{"$f":"AND(E3523>=Kimutatás!B$2,E3523<=Kimutatás!B$3)","v":true}]
[3523,"Nyíregyháza","010","Q1","2019-01-30","Betérő ügyfelek",30,"fő","2019-02-01","edda99",{"$f":"AND(E3524>=Kimutatás!B$2,E3524<=Kimutatás!B$3)","v":true}]
[3524,"Nyíregyháza","010","Q1","2019-01-30","Lakossági hitelnövekmény összege ",11,"Mhuf","2019-02-01","edda99",{"$f":"AND(E3525>=Kimutatás!B$2,E3525<=Kimutatás!B$3)","v":true}]
[3525,"Nyíregyháza","010","Q1","2019-01-30","Lakossági számlanyitás",9,"db","2019-02-01","edda99",{"$f":"AND(E3526>=Kimutatás!B$2,E3526<=Kimutatás!B$3)","v":true}]
[3526,"Nyíregyháza","010","Q1","2019-01-30","KKV hitelnövekmény (db)",1,"db","2019-02-01","edda99",{"$f":"AND(E3527>=Kimutatás!B$2,E3527<=Kimutatás!B$3)","v":true}]
[3527,"Nyíregyháza","010","Q1","2019-01-30","KKV számlanyitás",-3,"db","2019-02-01","edda99",{"$f":"AND(E3528>=Kimutatás!B$2,E3528<=Kimutatás!B$3)","v":true}]
[3528,"Nyíregyháza","010","Q1","2019-01-30","Betét állomány növekmény",34,"Mhuf","2019-02-01","edda99",{"$f":"AND(E3529>=Kimutatás!B$2,E3529<=Kimutatás!B$3)","v":true}]
[3529,"Nyíregyháza","010","Q1","2019-01-31","Betérő ügyfelek",48,"fő","2019-02-01","edda99",{"$f":"AND(E3530>=Kimutatás!B$2,E3530<=Kimutatás!B$3)","v":true}]
[3530,"Nyíregyháza","010","Q1","2019-01-31","Lakossági hitelnövekmény összege ",38,"Mhuf","2019-02-01","edda99",{"$f":"AND(E3531>=Kimutatás!B$2,E3531<=Kimutatás!B$3)","v":true}]
[3531,"Nyíregyháza","010","Q1","2019-01-31","Lakossági számlanyitás",-2,"db","2019-02-01","edda99",{"$f":"AND(E3532>=Kimutatás!B$2,E3532<=Kimutatás!B$3)","v":true}]
[3532,"Nyíregyháza","010","Q1","2019-01-31","KKV hitelnövekmény (db)",2,"db","2019-02-01","edda99",{"$f":"AND(E3533>=Kimutatás!B$2,E3533<=Kimutatás!B$3)","v":true}]
[3533,"Nyíregyháza","010","Q1","2019-01-31","KKV számlanyitás",5,"db","2019-02-01","edda99",{"$f":"AND(E3534>=Kimutatás!B$2,E3534<=Kimutatás!B$3)","v":true}]
[3534,"Nyíregyháza","010","Q1","2019-01-31","Betét állomány növekmény",33,"Mhuf","2019-02-01","edda99",{"$f":"AND(E3535>=Kimutatás!B$2,E3535<=Kimutatás!B$3)","v":true}]
[3535,"Nyíregyháza","010","Q1","2019-02-03","Betérő ügyfelek",1,"fő","2019-03-01","kolyok",{"$f":"AND(E3536>=Kimutatás!B$2,E3536<=Kimutatás!B$3)","v":true}]
[3536,"Nyíregyháza","010","Q1","2019-02-03","Lakossági hitelnövekmény összege ",50,"Mhuf","2019-03-01","kolyok",{"$f":"AND(E3537>=Kimutatás!B$2,E3537<=Kimutatás!B$3)","v":true}]
[3537,"Nyíregyháza","010","Q1","2019-02-03","Lakossági számlanyitás",-3,"db","2019-03-01","kolyok",{"$f":"AND(E3538>=Kimutatás!B$2,E3538<=Kimutatás!B$3)","v":true}]
[3538,"Nyíregyháza","010","Q1","2019-02-03","KKV hitelnövekmény (db)",2,"db","2019-03-01","kolyok",{"$f":"AND(E3539>=Kimutatás!B$2,E3539<=Kimutatás!B$3)","v":true}]
[3539,"Nyíregyháza","010","Q1","2019-02-03","KKV számlanyitás",1,"db","2019-03-01","kolyok",{"$f":"AND(E3540>=Kimutatás!B$2,E3540<=Kimutatás!B$3)","v":true}]
[3540,"Nyíregyháza","010","Q1","2019-02-03","Betét állomány növekmény",-11,"Mhuf","2019-03-01","kolyok",{"$f":"AND(E3541>=Kimutatás!B$2,E3541<=Kimutatás!B$3)","v":true}]
[3541,"Nyíregyháza","010","Q1","2019-02-04","Betérő ügyfelek",30,"fő","2019-03-01","kolyok",{"$f":"AND(E3542>=Kimutatás!B$2,E3542<=Kimutatás!B$3)","v":true}]
[3542,"Nyíregyháza","010","Q1","2019-02-04","Lakossági hitelnövekmény összege ",41,"Mhuf","2019-03-01","kolyok",{"$f":"AND(E3543>=Kimutatás!B$2,E3543<=Kimutatás!B$3)","v":true}]
[3543,"Nyíregyháza","010","Q1","2019-02-04","Lakossági számlanyitás",-5,"db","2019-03-01","kolyok",{"$f":"AND(E3544>=Kimutatás!B$2,E3544<=Kimutatás!B$3)","v":true}]
[3544,"Nyíregyháza","010","Q1","2019-02-04","KKV hitelnövekmény (db)",1,"db","2019-03-01","kolyok",{"$f":"AND(E3545>=Kimutatás!B$2,E3545<=Kimutatás!B$3)","v":true}]
[3545,"Nyíregyháza","010","Q1","2019-02-04","KKV számlanyitás",-2,"db","2019-03-01","kolyok",{"$f":"AND(E3546>=Kimutatás!B$2,E3546<=Kimutatás!B$3)","v":true}]
[3546,"Nyíregyháza","010","Q1","2019-02-04","Betét állomány növekmény",12,"Mhuf","2019-03-01","kolyok",{"$f":"AND(E3547>=Kimutatás!B$2,E3547<=Kimutatás!B$3)","v":true}]
[3547,"Nyíregyháza","010","Q1","2019-02-05","Betérő ügyfelek",19,"fő","2019-03-01","kolyok",{"$f":"AND(E3548>=Kimutatás!B$2,E3548<=Kimutatás!B$3)","v":true}]
[3548,"Nyíregyháza","010","Q1","2019-02-05","Lakossági hitelnövekmény összege ",10,"Mhuf","2019-03-01","kolyok",{"$f":"AND(E3549>=Kimutatás!B$2,E3549<=Kimutatás!B$3)","v":true}]
[3549,"Nyíregyháza","010","Q1","2019-02-05","Lakossági számlanyitás",-2,"db","2019-03-01","kolyok",{"$f":"AND(E3550>=Kimutatás!B$2,E3550<=Kimutatás!B$3)","v":true}]
[3550,"Nyíregyháza","010","Q1","2019-02-05","KKV hitelnövekmény (db)",1,"db","2019-03-01","kolyok",{"$f":"AND(E3551>=Kimutatás!B$2,E3551<=Kimutatás!B$3)","v":true}]
[3551,"Nyíregyháza","010","Q1","2019-02-05","KKV számlanyitás",-4,"db","2019-03-01","kolyok",{"$f":"AND(E3552>=Kimutatás!B$2,E3552<=Kimutatás!B$3)","v":true}]
[3552,"Nyíregyháza","010","Q1","2019-02-05","Betét állomány növekmény",33,"Mhuf","2019-03-01","kolyok",{"$f":"AND(E3553>=Kimutatás!B$2,E3553<=Kimutatás!B$3)","v":true}]
[3553,"Nyíregyháza","010","Q1","2019-02-06","Betérő ügyfelek",42,"fő","2019-03-01","kolyok",{"$f":"AND(E3554>=Kimutatás!B$2,E3554<=Kimutatás!B$3)","v":true}]
[3554,"Nyíregyháza","010","Q1","2019-02-06","Lakossági hitelnövekmény összege ",10,"Mhuf","2019-03-01","kolyok",{"$f":"AND(E3555>=Kimutatás!B$2,E3555<=Kimutatás!B$3)","v":true}]
[3555,"Nyíregyháza","010","Q1","2019-02-06","Lakossági számlanyitás",2,"db","2019-03-01","kolyok",{"$f":"AND(E3556>=Kimutatás!B$2,E3556<=Kimutatás!B$3)","v":true}]
[3556,"Nyíregyháza","010","Q1","2019-02-06","KKV hitelnövekmény (db)",-1,"db","2019-03-01","kolyok",{"$f":"AND(E3557>=Kimutatás!B$2,E3557<=Kimutatás!B$3)","v":true}]
[3557,"Nyíregyháza","010","Q1","2019-02-06","KKV számlanyitás",-5,"db","2019-03-01","kolyok",{"$f":"AND(E3558>=Kimutatás!B$2,E3558<=Kimutatás!B$3)","v":true}]
[3558,"Nyíregyháza","010","Q1","2019-02-06","Betét állomány növekmény",15,"Mhuf","2019-03-01","kolyok",{"$f":"AND(E3559>=Kimutatás!B$2,E3559<=Kimutatás!B$3)","v":true}]
[3559,"Nyíregyháza","010","Q1","2019-02-07","Betérő ügyfelek",31,"fő","2019-03-01","kolyok",{"$f":"AND(E3560>=Kimutatás!B$2,E3560<=Kimutatás!B$3)","v":true}]
[3560,"Nyíregyháza","010","Q1","2019-02-07","Lakossági hitelnövekmény összege ",33,"Mhuf","2019-03-01","kolyok",{"$f":"AND(E3561>=Kimutatás!B$2,E3561<=Kimutatás!B$3)","v":true}]
[3561,"Nyíregyháza","010","Q1","2019-02-07","Lakossági számlanyitás",1,"db","2019-03-01","kolyok",{"$f":"AND(E3562>=Kimutatás!B$2,E3562<=Kimutatás!B$3)","v":true}]
[3562,"Nyíregyháza","010","Q1","2019-02-07","KKV hitelnövekmény (db)",1,"db","2019-03-01","kolyok",{"$f":"AND(E3563>=Kimutatás!B$2,E3563<=Kimutatás!B$3)","v":true}]
[3563,"Nyíregyháza","010","Q1","2019-02-07","KKV számlanyitás",-3,"db","2019-03-01","kolyok",{"$f":"AND(E3564>=Kimutatás!B$2,E3564<=Kimutatás!B$3)","v":true}]
[3564,"Nyíregyháza","010","Q1","2019-02-07","Betét állomány növekmény",34,"Mhuf","2019-03-01","kolyok",{"$f":"AND(E3565>=Kimutatás!B$2,E3565<=Kimutatás!B$3)","v":true}]
[3565,"Nyíregyháza","010","Q1","2019-02-10","Betérő ügyfelek",6,"fő","2019-03-01","kolyok",{"$f":"AND(E3566>=Kimutatás!B$2,E3566<=Kimutatás!B$3)","v":true}]
[3566,"Nyíregyháza","010","Q1","2019-02-10","Lakossági hitelnövekmény összege ",7,"Mhuf","2019-03-01","kolyok",{"$f":"AND(E3567>=Kimutatás!B$2,E3567<=Kimutatás!B$3)","v":true}]
[3567,"Nyíregyháza","010","Q1","2019-02-10","Lakossági számlanyitás",-2,"db","2019-03-01","kolyok",{"$f":"AND(E3568>=Kimutatás!B$2,E3568<=Kimutatás!B$3)","v":true}]
[3568,"Nyíregyháza","010","Q1","2019-02-10","KKV hitelnövekmény (db)",-1,"db","2019-03-01","kolyok",{"$f":"AND(E3569>=Kimutatás!B$2,E3569<=Kimutatás!B$3)","v":true}]
[3569,"Nyíregyháza","010","Q1","2019-02-10","KKV számlanyitás",4,"db","2019-03-01","kolyok",{"$f":"AND(E3570>=Kimutatás!B$2,E3570<=Kimutatás!B$3)","v":true}]
[3570,"Nyíregyháza","010","Q1","2019-02-10","Betét állomány növekmény",21,"Mhuf","2019-03-01","kolyok",{"$f":"AND(E3571>=Kimutatás!B$2,E3571<=Kimutatás!B$3)","v":true}]
[3571,"Nyíregyháza","010","Q1","2019-02-11","Betérő ügyfelek",20,"fő","2019-03-01","kolyok",{"$f":"AND(E3572>=Kimutatás!B$2,E3572<=Kimutatás!B$3)","v":true}]
[3572,"Nyíregyháza","010","Q1","2019-02-11","Lakossági hitelnövekmény összege ",48,"Mhuf","2019-03-01","kolyok",{"$f":"AND(E3573>=Kimutatás!B$2,E3573<=Kimutatás!B$3)","v":true}]
[3573,"Nyíregyháza","010","Q1","2019-02-11","Lakossági számlanyitás",9,"db","2019-03-01","kolyok",{"$f":"AND(E3574>=Kimutatás!B$2,E3574<=Kimutatás!B$3)","v":true}]
[3574,"Nyíregyháza","010","Q1","2019-02-11","KKV hitelnövekmény (db)",-2,"db","2019-03-01","kolyok",{"$f":"AND(E3575>=Kimutatás!B$2,E3575<=Kimutatás!B$3)","v":true}]
[3575,"Nyíregyháza","010","Q1","2019-02-11","KKV számlanyitás",-2,"db","2019-03-01","kolyok",{"$f":"AND(E3576>=Kimutatás!B$2,E3576<=Kimutatás!B$3)","v":true}]
[3576,"Nyíregyháza","010","Q1","2019-02-11","Betét állomány növekmény",32,"Mhuf","2019-03-01","kolyok",{"$f":"AND(E3577>=Kimutatás!B$2,E3577<=Kimutatás!B$3)","v":true}]
[3577,"Nyíregyháza","010","Q1","2019-02-12","Betérő ügyfelek",32,"fő","2019-03-01","kolyok",{"$f":"AND(E3578>=Kimutatás!B$2,E3578<=Kimutatás!B$3)","v":true}]
[3578,"Nyíregyháza","010","Q1","2019-02-12","Lakossági hitelnövekmény összege ",23,"Mhuf","2019-03-01","kolyok",{"$f":"AND(E3579>=Kimutatás!B$2,E3579<=Kimutatás!B$3)","v":true}]
[3579,"Nyíregyháza","010","Q1","2019-02-12","Lakossági számlanyitás",8,"db","2019-03-01","kolyok",{"$f":"AND(E3580>=Kimutatás!B$2,E3580<=Kimutatás!B$3)","v":true}]
[3580,"Nyíregyháza","010","Q1","2019-02-12","KKV hitelnövekmény (db)",1,"db","2019-03-01","kolyok",{"$f":"AND(E3581>=Kimutatás!B$2,E3581<=Kimutatás!B$3)","v":true}]
[3581,"Nyíregyháza","010","Q1","2019-02-12","KKV számlanyitás",1,"db","2019-03-01","kolyok",{"$f":"AND(E3582>=Kimutatás!B$2,E3582<=Kimutatás!B$3)","v":true}]
[3582,"Nyíregyháza","010","Q1","2019-02-12","Betét állomány növekmény",33,"Mhuf","2019-03-01","kolyok",{"$f":"AND(E3583>=Kimutatás!B$2,E3583<=Kimutatás!B$3)","v":true}]
[3583,"Nyíregyháza","010","Q1","2019-02-13","Betérő ügyfelek",24,"fő","2019-03-01","kolyok",{"$f":"AND(E3584>=Kimutatás!B$2,E3584<=Kimutatás!B$3)","v":true}]
[3584,"Nyíregyháza","010","Q1","2019-02-13","Lakossági hitelnövekmény összege ",12,"Mhuf","2019-03-01","kolyok",{"$f":"AND(E3585>=Kimutatás!B$2,E3585<=Kimutatás!B$3)","v":true}]
[3585,"Nyíregyháza","010","Q1","2019-02-13","Lakossági számlanyitás",10,"db","2019-03-01","kolyok",{"$f":"AND(E3586>=Kimutatás!B$2,E3586<=Kimutatás!B$3)","v":true}]
[3586,"Nyíregyháza","010","Q1","2019-02-13","KKV hitelnövekmény (db)",-1,"db","2019-03-01","kolyok",{"$f":"AND(E3587>=Kimutatás!B$2,E3587<=Kimutatás!B$3)","v":true}]
[3587,"Nyíregyháza","010","Q1","2019-02-13","KKV számlanyitás",5,"db","2019-03-01","kolyok",{"$f":"AND(E3588>=Kimutatás!B$2,E3588<=Kimutatás!B$3)","v":true}]
[3588,"Nyíregyháza","010","Q1","2019-02-13","Betét állomány növekmény",27,"Mhuf","2019-03-01","kolyok",{"$f":"AND(E3589>=Kimutatás!B$2,E3589<=Kimutatás!B$3)","v":true}]
[3589,"Nyíregyháza","010","Q1","2019-02-14","Betérő ügyfelek",37,"fő","2019-03-01","kolyok",{"$f":"AND(E3590>=Kimutatás!B$2,E3590<=Kimutatás!B$3)","v":true}]
[3590,"Nyíregyháza","010","Q1","2019-02-14","Lakossági hitelnövekmény összege ",34,"Mhuf","2019-03-01","kolyok",{"$f":"AND(E3591>=Kimutatás!B$2,E3591<=Kimutatás!B$3)","v":true}]
[3591,"Nyíregyháza","010","Q1","2019-02-14","Lakossági számlanyitás",4,"db","2019-03-01","kolyok",{"$f":"AND(E3592>=Kimutatás!B$2,E3592<=Kimutatás!B$3)","v":true}]
[3592,"Nyíregyháza","010","Q1","2019-02-14","KKV hitelnövekmény (db)",0,"db","2019-03-01","kolyok",{"$f":"AND(E3593>=Kimutatás!B$2,E3593<=Kimutatás!B$3)","v":true}]
[3593,"Nyíregyháza","010","Q1","2019-02-14","KKV számlanyitás",5,"db","2019-03-01","kolyok",{"$f":"AND(E3594>=Kimutatás!B$2,E3594<=Kimutatás!B$3)","v":true}]
[3594,"Nyíregyháza","010","Q1","2019-02-14","Betét állomány növekmény",31,"Mhuf","2019-03-01","kolyok",{"$f":"AND(E3595>=Kimutatás!B$2,E3595<=Kimutatás!B$3)","v":true}]
[3595,"Nyíregyháza","010","Q1","2019-02-17","Betérő ügyfelek",34,"fő","2019-03-01","kolyok",{"$f":"AND(E3596>=Kimutatás!B$2,E3596<=Kimutatás!B$3)","v":true}]
[3596,"Nyíregyháza","010","Q1","2019-02-17","Lakossági hitelnövekmény összege ",43,"Mhuf","2019-03-01","kolyok",{"$f":"AND(E3597>=Kimutatás!B$2,E3597<=Kimutatás!B$3)","v":true}]
[3597,"Nyíregyháza","010","Q1","2019-02-17","Lakossági számlanyitás",1,"db","2019-03-01","kolyok",{"$f":"AND(E3598>=Kimutatás!B$2,E3598<=Kimutatás!B$3)","v":true}]
[3598,"Nyíregyháza","010","Q1","2019-02-17","KKV hitelnövekmény (db)",-1,"db","2019-03-01","kolyok",{"$f":"AND(E3599>=Kimutatás!B$2,E3599<=Kimutatás!B$3)","v":true}]
[3599,"Nyíregyháza","010","Q1","2019-02-17","KKV számlanyitás",5,"db","2019-03-01","kolyok",{"$f":"AND(E3600>=Kimutatás!B$2,E3600<=Kimutatás!B$3)","v":true}]
[3600,"Nyíregyháza","010","Q1","2019-02-17","Betét állomány növekmény",-8,"Mhuf","2019-03-01","kolyok",{"$f":"AND(E3601>=Kimutatás!B$2,E3601<=Kimutatás!B$3)","v":true}]
[3601,"Nyíregyháza","010","Q1","2019-02-18","Betérő ügyfelek",32,"fő","2019-03-01","kolyok",{"$f":"AND(E3602>=Kimutatás!B$2,E3602<=Kimutatás!B$3)","v":true}]
[3602,"Nyíregyháza","010","Q1","2019-02-18","Lakossági hitelnövekmény összege ",27,"Mhuf","2019-03-01","kolyok",{"$f":"AND(E3603>=Kimutatás!B$2,E3603<=Kimutatás!B$3)","v":true}]
[3603,"Nyíregyháza","010","Q1","2019-02-18","Lakossági számlanyitás",7,"db","2019-03-01","kolyok",{"$f":"AND(E3604>=Kimutatás!B$2,E3604<=Kimutatás!B$3)","v":true}]
[3604,"Nyíregyháza","010","Q1","2019-02-18","KKV hitelnövekmény (db)",2,"db","2019-03-01","kolyok",{"$f":"AND(E3605>=Kimutatás!B$2,E3605<=Kimutatás!B$3)","v":true}]
[3605,"Nyíregyháza","010","Q1","2019-02-18","KKV számlanyitás",3,"db","2019-03-01","kolyok",{"$f":"AND(E3606>=Kimutatás!B$2,E3606<=Kimutatás!B$3)","v":true}]
[3606,"Nyíregyháza","010","Q1","2019-02-18","Betét állomány növekmény",20,"Mhuf","2019-03-01","kolyok",{"$f":"AND(E3607>=Kimutatás!B$2,E3607<=Kimutatás!B$3)","v":true}]
[3607,"Nyíregyháza","010","Q1","2019-02-19","Betérő ügyfelek",18,"fő","2019-03-01","kolyok",{"$f":"AND(E3608>=Kimutatás!B$2,E3608<=Kimutatás!B$3)","v":true}]
[3608,"Nyíregyháza","010","Q1","2019-02-19","Lakossági hitelnövekmény összege ",5,"Mhuf","2019-03-01","kolyok",{"$f":"AND(E3609>=Kimutatás!B$2,E3609<=Kimutatás!B$3)","v":true}]
[3609,"Nyíregyháza","010","Q1","2019-02-19","Lakossági számlanyitás",9,"db","2019-03-01","kolyok",{"$f":"AND(E3610>=Kimutatás!B$2,E3610<=Kimutatás!B$3)","v":true}]
[3610,"Nyíregyháza","010","Q1","2019-02-19","KKV hitelnövekmény (db)",1,"db","2019-03-01","kolyok",{"$f":"AND(E3611>=Kimutatás!B$2,E3611<=Kimutatás!B$3)","v":true}]
[3611,"Nyíregyháza","010","Q1","2019-02-19","KKV számlanyitás",-5,"db","2019-03-01","kolyok",{"$f":"AND(E3612>=Kimutatás!B$2,E3612<=Kimutatás!B$3)","v":true}]
[3612,"Nyíregyháza","010","Q1","2019-02-19","Betét állomány növekmény",25,"Mhuf","2019-03-01","kolyok",{"$f":"AND(E3613>=Kimutatás!B$2,E3613<=Kimutatás!B$3)","v":true}]
[3613,"Nyíregyháza","010","Q1","2019-02-20","Betérő ügyfelek",18,"fő","2019-03-01","kolyok",{"$f":"AND(E3614>=Kimutatás!B$2,E3614<=Kimutatás!B$3)","v":true}]
[3614,"Nyíregyháza","010","Q1","2019-02-20","Lakossági hitelnövekmény összege ",31,"Mhuf","2019-03-01","kolyok",{"$f":"AND(E3615>=Kimutatás!B$2,E3615<=Kimutatás!B$3)","v":true}]
[3615,"Nyíregyháza","010","Q1","2019-02-20","Lakossági számlanyitás",4,"db","2019-03-01","kolyok",{"$f":"AND(E3616>=Kimutatás!B$2,E3616<=Kimutatás!B$3)","v":true}]
[3616,"Nyíregyháza","010","Q1","2019-02-20","KKV hitelnövekmény (db)",2,"db","2019-03-01","kolyok",{"$f":"AND(E3617>=Kimutatás!B$2,E3617<=Kimutatás!B$3)","v":true}]
[3617,"Nyíregyháza","010","Q1","2019-02-20","KKV számlanyitás",1,"db","2019-03-01","kolyok",{"$f":"AND(E3618>=Kimutatás!B$2,E3618<=Kimutatás!B$3)","v":true}]
[3618,"Nyíregyháza","010","Q1","2019-02-20","Betét állomány növekmény",-15,"Mhuf","2019-03-01","kolyok",{"$f":"AND(E3619>=Kimutatás!B$2,E3619<=Kimutatás!B$3)","v":true}]
[3619,"Nyíregyháza","010","Q1","2019-02-21","Betérő ügyfelek",3,"fő","2019-03-01","kolyok",{"$f":"AND(E3620>=Kimutatás!B$2,E3620<=Kimutatás!B$3)","v":true}]
[3620,"Nyíregyháza","010","Q1","2019-02-21","Lakossági hitelnövekmény összege ",10,"Mhuf","2019-03-01","kolyok",{"$f":"AND(E3621>=Kimutatás!B$2,E3621<=Kimutatás!B$3)","v":true}]
[3621,"Nyíregyháza","010","Q1","2019-02-21","Lakossági számlanyitás",-3,"db","2019-03-01","kolyok",{"$f":"AND(E3622>=Kimutatás!B$2,E3622<=Kimutatás!B$3)","v":true}]
[3622,"Nyíregyháza","010","Q1","2019-02-21","KKV hitelnövekmény (db)",2,"db","2019-03-01","kolyok",{"$f":"AND(E3623>=Kimutatás!B$2,E3623<=Kimutatás!B$3)","v":true}]
[3623,"Nyíregyháza","010","Q1","2019-02-21","KKV számlanyitás",4,"db","2019-03-01","kolyok",{"$f":"AND(E3624>=Kimutatás!B$2,E3624<=Kimutatás!B$3)","v":true}]
[3624,"Nyíregyháza","010","Q1","2019-02-21","Betét állomány növekmény",2,"Mhuf","2019-03-01","kolyok",{"$f":"AND(E3625>=Kimutatás!B$2,E3625<=Kimutatás!B$3)","v":true}]
[3625,"Nyíregyháza","010","Q1","2019-02-24","Betérő ügyfelek",49,"fő","2019-03-01","kolyok",{"$f":"AND(E3626>=Kimutatás!B$2,E3626<=Kimutatás!B$3)","v":true}]
[3626,"Nyíregyháza","010","Q1","2019-02-24","Lakossági hitelnövekmény összege ",-6,"Mhuf","2019-03-01","kolyok",{"$f":"AND(E3627>=Kimutatás!B$2,E3627<=Kimutatás!B$3)","v":true}]
[3627,"Nyíregyháza","010","Q1","2019-02-24","Lakossági számlanyitás",0,"db","2019-03-01","kolyok",{"$f":"AND(E3628>=Kimutatás!B$2,E3628<=Kimutatás!B$3)","v":true}]
[3628,"Nyíregyháza","010","Q1","2019-02-24","KKV hitelnövekmény (db)",-2,"db","2019-03-01","kolyok",{"$f":"AND(E3629>=Kimutatás!B$2,E3629<=Kimutatás!B$3)","v":true}]
[3629,"Nyíregyháza","010","Q1","2019-02-24","KKV számlanyitás",3,"db","2019-03-01","kolyok",{"$f":"AND(E3630>=Kimutatás!B$2,E3630<=Kimutatás!B$3)","v":true}]
[3630,"Nyíregyháza","010","Q1","2019-02-24","Betét állomány növekmény",10,"Mhuf","2019-03-01","kolyok",{"$f":"AND(E3631>=Kimutatás!B$2,E3631<=Kimutatás!B$3)","v":true}]
[3631,"Nyíregyháza","010","Q1","2019-02-25","Betérő ügyfelek",24,"fő","2019-03-01","kolyok",{"$f":"AND(E3632>=Kimutatás!B$2,E3632<=Kimutatás!B$3)","v":true}]
[3632,"Nyíregyháza","010","Q1","2019-02-25","Lakossági hitelnövekmény összege ",39,"Mhuf","2019-03-01","kolyok",{"$f":"AND(E3633>=Kimutatás!B$2,E3633<=Kimutatás!B$3)","v":true}]
[3633,"Nyíregyháza","010","Q1","2019-02-25","Lakossági számlanyitás",7,"db","2019-03-01","kolyok",{"$f":"AND(E3634>=Kimutatás!B$2,E3634<=Kimutatás!B$3)","v":true}]
[3634,"Nyíregyháza","010","Q1","2019-02-25","KKV hitelnövekmény (db)",1,"db","2019-03-01","kolyok",{"$f":"AND(E3635>=Kimutatás!B$2,E3635<=Kimutatás!B$3)","v":true}]
[3635,"Nyíregyháza","010","Q1","2019-02-25","KKV számlanyitás",-5,"db","2019-03-01","kolyok",{"$f":"AND(E3636>=Kimutatás!B$2,E3636<=Kimutatás!B$3)","v":true}]
[3636,"Nyíregyháza","010","Q1","2019-02-25","Betét állomány növekmény",21,"Mhuf","2019-03-01","kolyok",{"$f":"AND(E3637>=Kimutatás!B$2,E3637<=Kimutatás!B$3)","v":true}]
[3637,"Nyíregyháza","010","Q1","2019-02-26","Betérő ügyfelek",20,"fő","2019-03-01","kolyok",{"$f":"AND(E3638>=Kimutatás!B$2,E3638<=Kimutatás!B$3)","v":true}]
[3638,"Nyíregyháza","010","Q1","2019-02-26","Lakossági hitelnövekmény összege ",-5,"Mhuf","2019-03-01","kolyok",{"$f":"AND(E3639>=Kimutatás!B$2,E3639<=Kimutatás!B$3)","v":true}]
[3639,"Nyíregyháza","010","Q1","2019-02-26","Lakossági számlanyitás",6,"db","2019-03-01","kolyok",{"$f":"AND(E3640>=Kimutatás!B$2,E3640<=Kimutatás!B$3)","v":true}]
[3640,"Nyíregyháza","010","Q1","2019-02-26","KKV hitelnövekmény (db)",-1,"db","2019-03-01","kolyok",{"$f":"AND(E3641>=Kimutatás!B$2,E3641<=Kimutatás!B$3)","v":true}]
[3641,"Nyíregyháza","010","Q1","2019-02-26","KKV számlanyitás",-5,"db","2019-03-01","kolyok",{"$f":"AND(E3642>=Kimutatás!B$2,E3642<=Kimutatás!B$3)","v":true}]
[3642,"Nyíregyháza","010","Q1","2019-02-26","Betét állomány növekmény",42,"Mhuf","2019-03-01","kolyok",{"$f":"AND(E3643>=Kimutatás!B$2,E3643<=Kimutatás!B$3)","v":true}]
[3643,"Nyíregyháza","010","Q1","2019-02-27","Betérő ügyfelek",49,"fő","2019-03-01","kolyok",{"$f":"AND(E3644>=Kimutatás!B$2,E3644<=Kimutatás!B$3)","v":true}]
[3644,"Nyíregyháza","010","Q1","2019-02-27","Lakossági hitelnövekmény összege ",37,"Mhuf","2019-03-01","kolyok",{"$f":"AND(E3645>=Kimutatás!B$2,E3645<=Kimutatás!B$3)","v":true}]
[3645,"Nyíregyháza","010","Q1","2019-02-27","Lakossági számlanyitás",5,"db","2019-03-01","kolyok",{"$f":"AND(E3646>=Kimutatás!B$2,E3646<=Kimutatás!B$3)","v":true}]
[3646,"Nyíregyháza","010","Q1","2019-02-27","KKV hitelnövekmény (db)",2,"db","2019-03-01","kolyok",{"$f":"AND(E3647>=Kimutatás!B$2,E3647<=Kimutatás!B$3)","v":true}]
[3647,"Nyíregyháza","010","Q1","2019-02-27","KKV számlanyitás",2,"db","2019-03-01","kolyok",{"$f":"AND(E3648>=Kimutatás!B$2,E3648<=Kimutatás!B$3)","v":true}]
[3648,"Nyíregyháza","010","Q1","2019-02-27","Betét állomány növekmény",16,"Mhuf","2019-03-01","kolyok",{"$f":"AND(E3649>=Kimutatás!B$2,E3649<=Kimutatás!B$3)","v":true}]
[3649,"Nyíregyháza","010","Q1","2019-02-28","Betérő ügyfelek",13,"fő","2019-03-01","kolyok",{"$f":"AND(E3650>=Kimutatás!B$2,E3650<=Kimutatás!B$3)","v":true}]
[3650,"Nyíregyháza","010","Q1","2019-02-28","Lakossági hitelnövekmény összege ",32,"Mhuf","2019-03-01","kolyok",{"$f":"AND(E3651>=Kimutatás!B$2,E3651<=Kimutatás!B$3)","v":true}]
[3651,"Nyíregyháza","010","Q1","2019-02-28","Lakossági számlanyitás",8,"db","2019-03-01","kolyok",{"$f":"AND(E3652>=Kimutatás!B$2,E3652<=Kimutatás!B$3)","v":true}]
[3652,"Nyíregyháza","010","Q1","2019-02-28","KKV hitelnövekmény (db)",-2,"db","2019-03-01","kolyok",{"$f":"AND(E3653>=Kimutatás!B$2,E3653<=Kimutatás!B$3)","v":true}]
[3653,"Nyíregyháza","010","Q1","2019-02-28","KKV számlanyitás",-2,"db","2019-03-01","kolyok",{"$f":"AND(E3654>=Kimutatás!B$2,E3654<=Kimutatás!B$3)","v":true}]
[3654,"Nyíregyháza","010","Q1","2019-02-28","Betét állomány növekmény",-9,"Mhuf","2019-03-01","kolyok",{"$f":"AND(E3655>=Kimutatás!B$2,E3655<=Kimutatás!B$3)","v":true}]
[3655,"Nyíregyháza","010","Q1","2019-03-03","Betérő ügyfelek",1,"fő","2019-04-01","diosg2",{"$f":"AND(E3656>=Kimutatás!B$2,E3656<=Kimutatás!B$3)","v":true}]
[3656,"Nyíregyháza","010","Q1","2019-03-03","Lakossági hitelnövekmény összege ",45,"Mhuf","2019-04-01","diosg2",{"$f":"AND(E3657>=Kimutatás!B$2,E3657<=Kimutatás!B$3)","v":true}]
[3657,"Nyíregyháza","010","Q1","2019-03-03","Lakossági számlanyitás",10,"db","2019-04-01","diosg2",{"$f":"AND(E3658>=Kimutatás!B$2,E3658<=Kimutatás!B$3)","v":true}]
[3658,"Nyíregyháza","010","Q1","2019-03-03","KKV hitelnövekmény (db)",1,"db","2019-04-01","diosg2",{"$f":"AND(E3659>=Kimutatás!B$2,E3659<=Kimutatás!B$3)","v":true}]
[3659,"Nyíregyháza","010","Q1","2019-03-03","KKV számlanyitás",2,"db","2019-04-01","diosg2",{"$f":"AND(E3660>=Kimutatás!B$2,E3660<=Kimutatás!B$3)","v":true}]
[3660,"Nyíregyháza","010","Q1","2019-03-03","Betét állomány növekmény",31,"Mhuf","2019-04-01","diosg2",{"$f":"AND(E3661>=Kimutatás!B$2,E3661<=Kimutatás!B$3)","v":true}]
[3661,"Nyíregyháza","010","Q1","2019-03-04","Betérő ügyfelek",49,"fő","2019-04-01","diosg2",{"$f":"AND(E3662>=Kimutatás!B$2,E3662<=Kimutatás!B$3)","v":true}]
[3662,"Nyíregyháza","010","Q1","2019-03-04","Lakossági hitelnövekmény összege ",23,"Mhuf","2019-04-01","diosg2",{"$f":"AND(E3663>=Kimutatás!B$2,E3663<=Kimutatás!B$3)","v":true}]
[3663,"Nyíregyháza","010","Q1","2019-03-04","Lakossági számlanyitás",10,"db","2019-04-01","diosg2",{"$f":"AND(E3664>=Kimutatás!B$2,E3664<=Kimutatás!B$3)","v":true}]
[3664,"Nyíregyháza","010","Q1","2019-03-04","KKV hitelnövekmény (db)",-1,"db","2019-04-01","diosg2",{"$f":"AND(E3665>=Kimutatás!B$2,E3665<=Kimutatás!B$3)","v":true}]
[3665,"Nyíregyháza","010","Q1","2019-03-04","KKV számlanyitás",-1,"db","2019-04-01","diosg2",{"$f":"AND(E3666>=Kimutatás!B$2,E3666<=Kimutatás!B$3)","v":true}]
[3666,"Nyíregyháza","010","Q1","2019-03-04","Betét állomány növekmény",14,"Mhuf","2019-04-01","diosg2",{"$f":"AND(E3667>=Kimutatás!B$2,E3667<=Kimutatás!B$3)","v":true}]
[3667,"Nyíregyháza","010","Q1","2019-03-05","Betérő ügyfelek",8,"fő","2019-04-01","diosg2",{"$f":"AND(E3668>=Kimutatás!B$2,E3668<=Kimutatás!B$3)","v":true}]
[3668,"Nyíregyháza","010","Q1","2019-03-05","Lakossági hitelnövekmény összege ",13,"Mhuf","2019-04-01","diosg2",{"$f":"AND(E3669>=Kimutatás!B$2,E3669<=Kimutatás!B$3)","v":true}]
[3669,"Nyíregyháza","010","Q1","2019-03-05","Lakossági számlanyitás",6,"db","2019-04-01","diosg2",{"$f":"AND(E3670>=Kimutatás!B$2,E3670<=Kimutatás!B$3)","v":true}]
[3670,"Nyíregyháza","010","Q1","2019-03-05","KKV hitelnövekmény (db)",0,"db","2019-04-01","diosg2",{"$f":"AND(E3671>=Kimutatás!B$2,E3671<=Kimutatás!B$3)","v":true}]
[3671,"Nyíregyháza","010","Q1","2019-03-05","KKV számlanyitás",1,"db","2019-04-01","diosg2",{"$f":"AND(E3672>=Kimutatás!B$2,E3672<=Kimutatás!B$3)","v":true}]
[3672,"Nyíregyháza","010","Q1","2019-03-05","Betét állomány növekmény",-12,"Mhuf","2019-04-01","diosg2",{"$f":"AND(E3673>=Kimutatás!B$2,E3673<=Kimutatás!B$3)","v":true}]
[3673,"Nyíregyháza","010","Q1","2019-03-06","Betérő ügyfelek",33,"fő","2019-04-01","diosg2",{"$f":"AND(E3674>=Kimutatás!B$2,E3674<=Kimutatás!B$3)","v":true}]
[3674,"Nyíregyháza","010","Q1","2019-03-06","Lakossági hitelnövekmény összege ",-2,"Mhuf","2019-04-01","diosg2",{"$f":"AND(E3675>=Kimutatás!B$2,E3675<=Kimutatás!B$3)","v":true}]
[3675,"Nyíregyháza","010","Q1","2019-03-06","Lakossági számlanyitás",3,"db","2019-04-01","diosg2",{"$f":"AND(E3676>=Kimutatás!B$2,E3676<=Kimutatás!B$3)","v":true}]
[3676,"Nyíregyháza","010","Q1","2019-03-06","KKV hitelnövekmény (db)",0,"db","2019-04-01","diosg2",{"$f":"AND(E3677>=Kimutatás!B$2,E3677<=Kimutatás!B$3)","v":true}]
[3677,"Nyíregyháza","010","Q1","2019-03-06","KKV számlanyitás",5,"db","2019-04-01","diosg2",{"$f":"AND(E3678>=Kimutatás!B$2,E3678<=Kimutatás!B$3)","v":true}]
[3678,"Nyíregyháza","010","Q1","2019-03-06","Betét állomány növekmény",33,"Mhuf","2019-04-01","diosg2",{"$f":"AND(E3679>=Kimutatás!B$2,E3679<=Kimutatás!B$3)","v":true}]
[3679,"Nyíregyháza","010","Q1","2019-03-07","Betérő ügyfelek",19,"fő","2019-04-01","diosg2",{"$f":"AND(E3680>=Kimutatás!B$2,E3680<=Kimutatás!B$3)","v":true}]
[3680,"Nyíregyháza","010","Q1","2019-03-07","Lakossági hitelnövekmény összege ",32,"Mhuf","2019-04-01","diosg2",{"$f":"AND(E3681>=Kimutatás!B$2,E3681<=Kimutatás!B$3)","v":true}]
[3681,"Nyíregyháza","010","Q1","2019-03-07","Lakossági számlanyitás",10,"db","2019-04-01","diosg2",{"$f":"AND(E3682>=Kimutatás!B$2,E3682<=Kimutatás!B$3)","v":true}]
[3682,"Nyíregyháza","010","Q1","2019-03-07","KKV hitelnövekmény (db)",-1,"db","2019-04-01","diosg2",{"$f":"AND(E3683>=Kimutatás!B$2,E3683<=Kimutatás!B$3)","v":true}]
[3683,"Nyíregyháza","010","Q1","2019-03-07","KKV számlanyitás",2,"db","2019-04-01","diosg2",{"$f":"AND(E3684>=Kimutatás!B$2,E3684<=Kimutatás!B$3)","v":true}]
[3684,"Nyíregyháza","010","Q1","2019-03-07","Betét állomány növekmény",34,"Mhuf","2019-04-01","diosg2",{"$f":"AND(E3685>=Kimutatás!B$2,E3685<=Kimutatás!B$3)","v":true}]
[3685,"Nyíregyháza","010","Q1","2019-03-10","Betérő ügyfelek",49,"fő","2019-04-01","diosg2",{"$f":"AND(E3686>=Kimutatás!B$2,E3686<=Kimutatás!B$3)","v":true}]
[3686,"Nyíregyháza","010","Q1","2019-03-10","Lakossági hitelnövekmény összege ",7,"Mhuf","2019-04-01","diosg2",{"$f":"AND(E3687>=Kimutatás!B$2,E3687<=Kimutatás!B$3)","v":true}]
[3687,"Nyíregyháza","010","Q1","2019-03-10","Lakossági számlanyitás",8,"db","2019-04-01","diosg2",{"$f":"AND(E3688>=Kimutatás!B$2,E3688<=Kimutatás!B$3)","v":true}]
[3688,"Nyíregyháza","010","Q1","2019-03-10","KKV hitelnövekmény (db)",-2,"db","2019-04-01","diosg2",{"$f":"AND(E3689>=Kimutatás!B$2,E3689<=Kimutatás!B$3)","v":true}]
[3689,"Nyíregyháza","010","Q1","2019-03-10","KKV számlanyitás",5,"db","2019-04-01","diosg2",{"$f":"AND(E3690>=Kimutatás!B$2,E3690<=Kimutatás!B$3)","v":true}]
[3690,"Nyíregyháza","010","Q1","2019-03-10","Betét állomány növekmény",46,"Mhuf","2019-04-01","diosg2",{"$f":"AND(E3691>=Kimutatás!B$2,E3691<=Kimutatás!B$3)","v":true}]
[3691,"Nyíregyháza","010","Q1","2019-03-11","Betérő ügyfelek",47,"fő","2019-04-01","diosg2",{"$f":"AND(E3692>=Kimutatás!B$2,E3692<=Kimutatás!B$3)","v":false}]
[3692,"Nyíregyháza","010","Q1","2019-03-11","Lakossági hitelnövekmény összege ",24,"Mhuf","2019-04-01","diosg2",{"$f":"AND(E3693>=Kimutatás!B$2,E3693<=Kimutatás!B$3)","v":false}]
[3693,"Nyíregyháza","010","Q1","2019-03-11","Lakossági számlanyitás",2,"db","2019-04-01","diosg2",{"$f":"AND(E3694>=Kimutatás!B$2,E3694<=Kimutatás!B$3)","v":false}]
[3694,"Nyíregyháza","010","Q1","2019-03-11","KKV hitelnövekmény (db)",-2,"db","2019-04-01","diosg2",{"$f":"AND(E3695>=Kimutatás!B$2,E3695<=Kimutatás!B$3)","v":false}]
[3695,"Nyíregyháza","010","Q1","2019-03-11","KKV számlanyitás",-1,"db","2019-04-01","diosg2",{"$f":"AND(E3696>=Kimutatás!B$2,E3696<=Kimutatás!B$3)","v":false}]
[3696,"Nyíregyháza","010","Q1","2019-03-11","Betét állomány növekmény",20,"Mhuf","2019-04-01","diosg2",{"$f":"AND(E3697>=Kimutatás!B$2,E3697<=Kimutatás!B$3)","v":false}]
[3697,"Nyíregyháza","010","Q1","2019-03-12","Betérő ügyfelek",24,"fő","2019-04-01","diosg2",{"$f":"AND(E3698>=Kimutatás!B$2,E3698<=Kimutatás!B$3)","v":false}]
[3698,"Nyíregyháza","010","Q1","2019-03-12","Lakossági hitelnövekmény összege ",12,"Mhuf","2019-04-01","diosg2",{"$f":"AND(E3699>=Kimutatás!B$2,E3699<=Kimutatás!B$3)","v":false}]
[3699,"Nyíregyháza","010","Q1","2019-03-12","Lakossági számlanyitás",10,"db","2019-04-01","diosg2",{"$f":"AND(E3700>=Kimutatás!B$2,E3700<=Kimutatás!B$3)","v":false}]
[3700,"Nyíregyháza","010","Q1","2019-03-12","KKV hitelnövekmény (db)",-2,"db","2019-04-01","diosg2",{"$f":"AND(E3701>=Kimutatás!B$2,E3701<=Kimutatás!B$3)","v":false}]
[3701,"Nyíregyháza","010","Q1","2019-03-12","KKV számlanyitás",-2,"db","2019-04-01","diosg2",{"$f":"AND(E3702>=Kimutatás!B$2,E3702<=Kimutatás!B$3)","v":false}]
[3702,"Nyíregyháza","010","Q1","2019-03-12","Betét állomány növekmény",6,"Mhuf","2019-04-01","diosg2",{"$f":"AND(E3703>=Kimutatás!B$2,E3703<=Kimutatás!B$3)","v":false}]
[3703,"Nyíregyháza","010","Q1","2019-03-13","Betérő ügyfelek",17,"fő","2019-04-01","diosg2",{"$f":"AND(E3704>=Kimutatás!B$2,E3704<=Kimutatás!B$3)","v":false}]
[3704,"Nyíregyháza","010","Q1","2019-03-13","Lakossági hitelnövekmény összege ",49,"Mhuf","2019-04-01","diosg2",{"$f":"AND(E3705>=Kimutatás!B$2,E3705<=Kimutatás!B$3)","v":false}]
[3705,"Nyíregyháza","010","Q1","2019-03-13","Lakossági számlanyitás",4,"db","2019-04-01","diosg2",{"$f":"AND(E3706>=Kimutatás!B$2,E3706<=Kimutatás!B$3)","v":false}]
[3706,"Nyíregyháza","010","Q1","2019-03-13","KKV hitelnövekmény (db)",1,"db","2019-04-01","diosg2",{"$f":"AND(E3707>=Kimutatás!B$2,E3707<=Kimutatás!B$3)","v":false}]
[3707,"Nyíregyháza","010","Q1","2019-03-13","KKV számlanyitás",-4,"db","2019-04-01","diosg2",{"$f":"AND(E3708>=Kimutatás!B$2,E3708<=Kimutatás!B$3)","v":false}]
[3708,"Nyíregyháza","010","Q1","2019-03-13","Betét állomány növekmény",3,"Mhuf","2019-04-01","diosg2",{"$f":"AND(E3709>=Kimutatás!B$2,E3709<=Kimutatás!B$3)","v":false}]
[3709,"Nyíregyháza","010","Q1","2019-03-14","Betérő ügyfelek",12,"fő","2019-04-01","diosg2",{"$f":"AND(E3710>=Kimutatás!B$2,E3710<=Kimutatás!B$3)","v":false}]
[3710,"Nyíregyháza","010","Q1","2019-03-14","Lakossági hitelnövekmény összege ",31,"Mhuf","2019-04-01","diosg2",{"$f":"AND(E3711>=Kimutatás!B$2,E3711<=Kimutatás!B$3)","v":false}]
[3711,"Nyíregyháza","010","Q1","2019-03-14","Lakossági számlanyitás",10,"db","2019-04-01","diosg2",{"$f":"AND(E3712>=Kimutatás!B$2,E3712<=Kimutatás!B$3)","v":false}]
[3712,"Nyíregyháza","010","Q1","2019-03-14","KKV hitelnövekmény (db)",-1,"db","2019-04-01","diosg2",{"$f":"AND(E3713>=Kimutatás!B$2,E3713<=Kimutatás!B$3)","v":false}]
[3713,"Nyíregyháza","010","Q1","2019-03-14","KKV számlanyitás",-2,"db","2019-04-01","diosg2",{"$f":"AND(E3714>=Kimutatás!B$2,E3714<=Kimutatás!B$3)","v":false}]
[3714,"Nyíregyháza","010","Q1","2019-03-14","Betét állomány növekmény",0,"Mhuf","2019-04-01","diosg2",{"$f":"AND(E3715>=Kimutatás!B$2,E3715<=Kimutatás!B$3)","v":false}]
[3715,"Nyíregyháza","010","Q1","2019-03-17","Betérő ügyfelek",3,"fő","2019-04-01","diosg2",{"$f":"AND(E3716>=Kimutatás!B$2,E3716<=Kimutatás!B$3)","v":false}]
[3716,"Nyíregyháza","010","Q1","2019-03-17","Lakossági hitelnövekmény összege ",47,"Mhuf","2019-04-01","diosg2",{"$f":"AND(E3717>=Kimutatás!B$2,E3717<=Kimutatás!B$3)","v":false}]
[3717,"Nyíregyháza","010","Q1","2019-03-17","Lakossági számlanyitás",4,"db","2019-04-01","diosg2",{"$f":"AND(E3718>=Kimutatás!B$2,E3718<=Kimutatás!B$3)","v":false}]
[3718,"Nyíregyháza","010","Q1","2019-03-17","KKV hitelnövekmény (db)",2,"db","2019-04-01","diosg2",{"$f":"AND(E3719>=Kimutatás!B$2,E3719<=Kimutatás!B$3)","v":false}]
[3719,"Nyíregyháza","010","Q1","2019-03-17","KKV számlanyitás",-5,"db","2019-04-01","diosg2",{"$f":"AND(E3720>=Kimutatás!B$2,E3720<=Kimutatás!B$3)","v":false}]
[3720,"Nyíregyháza","010","Q1","2019-03-17","Betét állomány növekmény",29,"Mhuf","2019-04-01","diosg2",{"$f":"AND(E3721>=Kimutatás!B$2,E3721<=Kimutatás!B$3)","v":false}]
[3721,"Nyíregyháza","010","Q1","2019-03-18","Betérő ügyfelek",4,"fő","2019-04-01","diosg2",{"$f":"AND(E3722>=Kimutatás!B$2,E3722<=Kimutatás!B$3)","v":false}]
[3722,"Nyíregyháza","010","Q1","2019-03-18","Lakossági hitelnövekmény összege ",-5,"Mhuf","2019-04-01","diosg2",{"$f":"AND(E3723>=Kimutatás!B$2,E3723<=Kimutatás!B$3)","v":false}]
[3723,"Nyíregyháza","010","Q1","2019-03-18","Lakossági számlanyitás",4,"db","2019-04-01","diosg2",{"$f":"AND(E3724>=Kimutatás!B$2,E3724<=Kimutatás!B$3)","v":false}]
[3724,"Nyíregyháza","010","Q1","2019-03-18","KKV hitelnövekmény (db)",-2,"db","2019-04-01","diosg2",{"$f":"AND(E3725>=Kimutatás!B$2,E3725<=Kimutatás!B$3)","v":false}]
[3725,"Nyíregyháza","010","Q1","2019-03-18","KKV számlanyitás",5,"db","2019-04-01","diosg2",{"$f":"AND(E3726>=Kimutatás!B$2,E3726<=Kimutatás!B$3)","v":false}]
[3726,"Nyíregyháza","010","Q1","2019-03-18","Betét állomány növekmény",-13,"Mhuf","2019-04-01","diosg2",{"$f":"AND(E3727>=Kimutatás!B$2,E3727<=Kimutatás!B$3)","v":false}]
[3727,"Nyíregyháza","010","Q1","2019-03-19","Betérő ügyfelek",43,"fő","2019-04-01","diosg2",{"$f":"AND(E3728>=Kimutatás!B$2,E3728<=Kimutatás!B$3)","v":false}]
[3728,"Nyíregyháza","010","Q1","2019-03-19","Lakossági hitelnövekmény összege ",40,"Mhuf","2019-04-01","diosg2",{"$f":"AND(E3729>=Kimutatás!B$2,E3729<=Kimutatás!B$3)","v":false}]
[3729,"Nyíregyháza","010","Q1","2019-03-19","Lakossági számlanyitás",-4,"db","2019-04-01","diosg2",{"$f":"AND(E3730>=Kimutatás!B$2,E3730<=Kimutatás!B$3)","v":false}]
[3730,"Nyíregyháza","010","Q1","2019-03-19","KKV hitelnövekmény (db)",-2,"db","2019-04-01","diosg2",{"$f":"AND(E3731>=Kimutatás!B$2,E3731<=Kimutatás!B$3)","v":false}]
[3731,"Nyíregyháza","010","Q1","2019-03-19","KKV számlanyitás",5,"db","2019-04-01","diosg2",{"$f":"AND(E3732>=Kimutatás!B$2,E3732<=Kimutatás!B$3)","v":false}]
[3732,"Nyíregyháza","010","Q1","2019-03-19","Betét állomány növekmény",38,"Mhuf","2019-04-01","diosg2",{"$f":"AND(E3733>=Kimutatás!B$2,E3733<=Kimutatás!B$3)","v":false}]
[3733,"Nyíregyháza","010","Q1","2019-03-20","Betérő ügyfelek",11,"fő","2019-04-01","diosg2",{"$f":"AND(E3734>=Kimutatás!B$2,E3734<=Kimutatás!B$3)","v":false}]
[3734,"Nyíregyháza","010","Q1","2019-03-20","Lakossági hitelnövekmény összege ",-4,"Mhuf","2019-04-01","diosg2",{"$f":"AND(E3735>=Kimutatás!B$2,E3735<=Kimutatás!B$3)","v":false}]
[3735,"Nyíregyháza","010","Q1","2019-03-20","Lakossági számlanyitás",2,"db","2019-04-01","diosg2",{"$f":"AND(E3736>=Kimutatás!B$2,E3736<=Kimutatás!B$3)","v":false}]
[3736,"Nyíregyháza","010","Q1","2019-03-20","KKV hitelnövekmény (db)",-2,"db","2019-04-01","diosg2",{"$f":"AND(E3737>=Kimutatás!B$2,E3737<=Kimutatás!B$3)","v":false}]
[3737,"Nyíregyháza","010","Q1","2019-03-20","KKV számlanyitás",-2,"db","2019-04-01","diosg2",{"$f":"AND(E3738>=Kimutatás!B$2,E3738<=Kimutatás!B$3)","v":false}]
[3738,"Nyíregyháza","010","Q1","2019-03-20","Betét állomány növekmény",24,"Mhuf","2019-04-01","diosg2",{"$f":"AND(E3739>=Kimutatás!B$2,E3739<=Kimutatás!B$3)","v":false}]
[3739,"Nyíregyháza","010","Q1","2019-03-21","Betérő ügyfelek",49,"fő","2019-04-01","diosg2",{"$f":"AND(E3740>=Kimutatás!B$2,E3740<=Kimutatás!B$3)","v":false}]
[3740,"Nyíregyháza","010","Q1","2019-03-21","Lakossági hitelnövekmény összege ",33,"Mhuf","2019-04-01","diosg2",{"$f":"AND(E3741>=Kimutatás!B$2,E3741<=Kimutatás!B$3)","v":false}]
[3741,"Nyíregyháza","010","Q1","2019-03-21","Lakossági számlanyitás",-1,"db","2019-04-01","diosg2",{"$f":"AND(E3742>=Kimutatás!B$2,E3742<=Kimutatás!B$3)","v":false}]
[3742,"Nyíregyháza","010","Q1","2019-03-21","KKV hitelnövekmény (db)",-2,"db","2019-04-01","diosg2",{"$f":"AND(E3743>=Kimutatás!B$2,E3743<=Kimutatás!B$3)","v":false}]
[3743,"Nyíregyháza","010","Q1","2019-03-21","KKV számlanyitás",0,"db","2019-04-01","diosg2",{"$f":"AND(E3744>=Kimutatás!B$2,E3744<=Kimutatás!B$3)","v":false}]
[3744,"Nyíregyháza","010","Q1","2019-03-21","Betét állomány növekmény",30,"Mhuf","2019-04-01","diosg2",{"$f":"AND(E3745>=Kimutatás!B$2,E3745<=Kimutatás!B$3)","v":false}]
[3745,"Nyíregyháza","010","Q1","2019-03-24","Betérő ügyfelek",8,"fő","2019-04-01","diosg2",{"$f":"AND(E3746>=Kimutatás!B$2,E3746<=Kimutatás!B$3)","v":false}]
[3746,"Nyíregyháza","010","Q1","2019-03-24","Lakossági hitelnövekmény összege ",45,"Mhuf","2019-04-01","diosg2",{"$f":"AND(E3747>=Kimutatás!B$2,E3747<=Kimutatás!B$3)","v":false}]
[3747,"Nyíregyháza","010","Q1","2019-03-24","Lakossági számlanyitás",0,"db","2019-04-01","diosg2",{"$f":"AND(E3748>=Kimutatás!B$2,E3748<=Kimutatás!B$3)","v":false}]
[3748,"Nyíregyháza","010","Q1","2019-03-24","KKV hitelnövekmény (db)",1,"db","2019-04-01","diosg2",{"$f":"AND(E3749>=Kimutatás!B$2,E3749<=Kimutatás!B$3)","v":false}]
[3749,"Nyíregyháza","010","Q1","2019-03-24","KKV számlanyitás",4,"db","2019-04-01","diosg2",{"$f":"AND(E3750>=Kimutatás!B$2,E3750<=Kimutatás!B$3)","v":false}]
[3750,"Nyíregyháza","010","Q1","2019-03-24","Betét állomány növekmény",-9,"Mhuf","2019-04-01","diosg2",{"$f":"AND(E3751>=Kimutatás!B$2,E3751<=Kimutatás!B$3)","v":false}]
[3751,"Nyíregyháza","010","Q1","2019-03-25","Betérő ügyfelek",9,"fő","2019-04-01","diosg2",{"$f":"AND(E3752>=Kimutatás!B$2,E3752<=Kimutatás!B$3)","v":false}]
[3752,"Nyíregyháza","010","Q1","2019-03-25","Lakossági hitelnövekmény összege ",38,"Mhuf","2019-04-01","diosg2",{"$f":"AND(E3753>=Kimutatás!B$2,E3753<=Kimutatás!B$3)","v":false}]
[3753,"Nyíregyháza","010","Q1","2019-03-25","Lakossági számlanyitás",8,"db","2019-04-01","diosg2",{"$f":"AND(E3754>=Kimutatás!B$2,E3754<=Kimutatás!B$3)","v":false}]
[3754,"Nyíregyháza","010","Q1","2019-03-25","KKV hitelnövekmény (db)",-1,"db","2019-04-01","diosg2",{"$f":"AND(E3755>=Kimutatás!B$2,E3755<=Kimutatás!B$3)","v":false}]
[3755,"Nyíregyháza","010","Q1","2019-03-25","KKV számlanyitás",0,"db","2019-04-01","diosg2",{"$f":"AND(E3756>=Kimutatás!B$2,E3756<=Kimutatás!B$3)","v":false}]
[3756,"Nyíregyháza","010","Q1","2019-03-25","Betét állomány növekmény",-5,"Mhuf","2019-04-01","diosg2",{"$f":"AND(E3757>=Kimutatás!B$2,E3757<=Kimutatás!B$3)","v":false}]
[3757,"Nyíregyháza","010","Q1","2019-03-26","Betérő ügyfelek",29,"fő","2019-04-01","diosg2",{"$f":"AND(E3758>=Kimutatás!B$2,E3758<=Kimutatás!B$3)","v":false}]
[3758,"Nyíregyháza","010","Q1","2019-03-26","Lakossági hitelnövekmény összege ",31,"Mhuf","2019-04-01","diosg2",{"$f":"AND(E3759>=Kimutatás!B$2,E3759<=Kimutatás!B$3)","v":false}]
[3759,"Nyíregyháza","010","Q1","2019-03-26","Lakossági számlanyitás",-5,"db","2019-04-01","diosg2",{"$f":"AND(E3760>=Kimutatás!B$2,E3760<=Kimutatás!B$3)","v":false}]
[3760,"Nyíregyháza","010","Q1","2019-03-26","KKV hitelnövekmény (db)",2,"db","2019-04-01","diosg2",{"$f":"AND(E3761>=Kimutatás!B$2,E3761<=Kimutatás!B$3)","v":false}]
[3761,"Nyíregyháza","010","Q1","2019-03-26","KKV számlanyitás",-5,"db","2019-04-01","diosg2",{"$f":"AND(E3762>=Kimutatás!B$2,E3762<=Kimutatás!B$3)","v":false}]
[3762,"Nyíregyháza","010","Q1","2019-03-26","Betét állomány növekmény",44,"Mhuf","2019-04-01","diosg2",{"$f":"AND(E3763>=Kimutatás!B$2,E3763<=Kimutatás!B$3)","v":false}]
[3763,"Nyíregyháza","010","Q1","2019-03-27","Betérő ügyfelek",37,"fő","2019-04-01","diosg2",{"$f":"AND(E3764>=Kimutatás!B$2,E3764<=Kimutatás!B$3)","v":false}]
[3764,"Nyíregyháza","010","Q1","2019-03-27","Lakossági hitelnövekmény összege ",27,"Mhuf","2019-04-01","diosg2",{"$f":"AND(E3765>=Kimutatás!B$2,E3765<=Kimutatás!B$3)","v":false}]
[3765,"Nyíregyháza","010","Q1","2019-03-27","Lakossági számlanyitás",10,"db","2019-04-01","diosg2",{"$f":"AND(E3766>=Kimutatás!B$2,E3766<=Kimutatás!B$3)","v":false}]
[3766,"Nyíregyháza","010","Q1","2019-03-27","KKV hitelnövekmény (db)",2,"db","2019-04-01","diosg2",{"$f":"AND(E3767>=Kimutatás!B$2,E3767<=Kimutatás!B$3)","v":false}]
[3767,"Nyíregyháza","010","Q1","2019-03-27","KKV számlanyitás",0,"db","2019-04-01","diosg2",{"$f":"AND(E3768>=Kimutatás!B$2,E3768<=Kimutatás!B$3)","v":false}]
[3768,"Nyíregyháza","010","Q1","2019-03-27","Betét állomány növekmény",29,"Mhuf","2019-04-01","diosg2",{"$f":"AND(E3769>=Kimutatás!B$2,E3769<=Kimutatás!B$3)","v":false}]
[3769,"Nyíregyháza","010","Q1","2019-03-28","Betérő ügyfelek",32,"fő","2019-04-01","diosg2",{"$f":"AND(E3770>=Kimutatás!B$2,E3770<=Kimutatás!B$3)","v":false}]
[3770,"Nyíregyháza","010","Q1","2019-03-28","Lakossági hitelnövekmény összege ",-10,"Mhuf","2019-04-01","diosg2",{"$f":"AND(E3771>=Kimutatás!B$2,E3771<=Kimutatás!B$3)","v":false}]
[3771,"Nyíregyháza","010","Q1","2019-03-28","Lakossági számlanyitás",-4,"db","2019-04-01","diosg2",{"$f":"AND(E3772>=Kimutatás!B$2,E3772<=Kimutatás!B$3)","v":false}]
[3772,"Nyíregyháza","010","Q1","2019-03-28","KKV hitelnövekmény (db)",-1,"db","2019-04-01","diosg2",{"$f":"AND(E3773>=Kimutatás!B$2,E3773<=Kimutatás!B$3)","v":false}]
[3773,"Nyíregyháza","010","Q1","2019-03-28","KKV számlanyitás",3,"db","2019-04-01","diosg2",{"$f":"AND(E3774>=Kimutatás!B$2,E3774<=Kimutatás!B$3)","v":false}]
[3774,"Nyíregyháza","010","Q1","2019-03-28","Betét állomány növekmény",15,"Mhuf","2019-04-01","diosg2",{"$f":"AND(E3775>=Kimutatás!B$2,E3775<=Kimutatás!B$3)","v":false}]
[3775,"Nyíregyháza","010","Q1","2019-03-31","Betérő ügyfelek",32,"fő","2019-04-01","diosg2",{"$f":"AND(E3776>=Kimutatás!B$2,E3776<=Kimutatás!B$3)","v":false}]
[3776,"Nyíregyháza","010","Q1","2019-03-31","Lakossági hitelnövekmény összege ",21,"Mhuf","2019-04-01","diosg2",{"$f":"AND(E3777>=Kimutatás!B$2,E3777<=Kimutatás!B$3)","v":false}]
[3777,"Nyíregyháza","010","Q1","2019-03-31","Lakossági számlanyitás",4,"db","2019-04-01","diosg2",{"$f":"AND(E3778>=Kimutatás!B$2,E3778<=Kimutatás!B$3)","v":false}]
[3778,"Nyíregyháza","010","Q1","2019-03-31","KKV hitelnövekmény (db)",0,"db","2019-04-01","diosg2",{"$f":"AND(E3779>=Kimutatás!B$2,E3779<=Kimutatás!B$3)","v":false}]
[3779,"Nyíregyháza","010","Q1","2019-03-31","KKV számlanyitás",-4,"db","2019-04-01","diosg2",{"$f":"AND(E3780>=Kimutatás!B$2,E3780<=Kimutatás!B$3)","v":false}]
[3780,"Nyíregyháza","010","Q1","2019-03-31","Betét állomány növekmény",35,"Mhuf","2019-04-01","diosg2",{"$f":"AND(E3781>=Kimutatás!B$2,E3781<=Kimutatás!B$3)","v":false}]
[3781,"Pécs","011","Q1","2019-01-02","Betérő ügyfelek",15,"fő","2019-02-01","mecseki",{"$f":"AND(E3782>=Kimutatás!B$2,E3782<=Kimutatás!B$3)","v":false}]
[3782,"Pécs","011","Q1","2019-01-02","Lakossági hitelnövekmény összege ",41,"Mhuf","2019-02-01","mecseki",{"$f":"AND(E3783>=Kimutatás!B$2,E3783<=Kimutatás!B$3)","v":false}]
[3783,"Pécs","011","Q1","2019-01-02","Lakossági számlanyitás",-2,"db","2019-02-01","mecseki",{"$f":"AND(E3784>=Kimutatás!B$2,E3784<=Kimutatás!B$3)","v":false}]
[3784,"Pécs","011","Q1","2019-01-02","KKV hitelnövekmény (db)",-1,"db","2019-02-01","mecseki",{"$f":"AND(E3785>=Kimutatás!B$2,E3785<=Kimutatás!B$3)","v":false}]
[3785,"Pécs","011","Q1","2019-01-02","KKV számlanyitás",-4,"db","2019-02-01","mecseki",{"$f":"AND(E3786>=Kimutatás!B$2,E3786<=Kimutatás!B$3)","v":false}]
[3786,"Pécs","011","Q1","2019-01-02","Betét állomány növekmény",14,"Mhuf","2019-02-01","mecseki",{"$f":"AND(E3787>=Kimutatás!B$2,E3787<=Kimutatás!B$3)","v":false}]
[3787,"Pécs","011","Q1","2019-01-03","Betérő ügyfelek",20,"fő","2019-02-01","mecseki",{"$f":"AND(E3788>=Kimutatás!B$2,E3788<=Kimutatás!B$3)","v":false}]
[3788,"Pécs","011","Q1","2019-01-03","Lakossági hitelnövekmény összege ",40,"Mhuf","2019-02-01","mecseki",{"$f":"AND(E3789>=Kimutatás!B$2,E3789<=Kimutatás!B$3)","v":false}]
[3789,"Pécs","011","Q1","2019-01-03","Lakossági számlanyitás",0,"db","2019-02-01","mecseki",{"$f":"AND(E3790>=Kimutatás!B$2,E3790<=Kimutatás!B$3)","v":false}]
[3790,"Pécs","011","Q1","2019-01-03","KKV hitelnövekmény (db)",-2,"db","2019-02-01","mecseki",{"$f":"AND(E3791>=Kimutatás!B$2,E3791<=Kimutatás!B$3)","v":false}]
[3791,"Pécs","011","Q1","2019-01-03","KKV számlanyitás",4,"db","2019-02-01","mecseki",{"$f":"AND(E3792>=Kimutatás!B$2,E3792<=Kimutatás!B$3)","v":false}]
[3792,"Pécs","011","Q1","2019-01-03","Betét állomány növekmény",36,"Mhuf","2019-02-01","mecseki",{"$f":"AND(E3793>=Kimutatás!B$2,E3793<=Kimutatás!B$3)","v":false}]
[3793,"Pécs","011","Q1","2019-01-06","Betérő ügyfelek",21,"fő","2019-02-01","mecseki",{"$f":"AND(E3794>=Kimutatás!B$2,E3794<=Kimutatás!B$3)","v":false}]
[3794,"Pécs","011","Q1","2019-01-06","Lakossági hitelnövekmény összege ",1,"Mhuf","2019-02-01","mecseki",{"$f":"AND(E3795>=Kimutatás!B$2,E3795<=Kimutatás!B$3)","v":false}]
[3795,"Pécs","011","Q1","2019-01-06","Lakossági számlanyitás",7,"db","2019-02-01","mecseki",{"$f":"AND(E3796>=Kimutatás!B$2,E3796<=Kimutatás!B$3)","v":false}]
[3796,"Pécs","011","Q1","2019-01-06","KKV hitelnövekmény (db)",2,"db","2019-02-01","mecseki",{"$f":"AND(E3797>=Kimutatás!B$2,E3797<=Kimutatás!B$3)","v":false}]
[3797,"Pécs","011","Q1","2019-01-06","KKV számlanyitás",2,"db","2019-02-01","mecseki",{"$f":"AND(E3798>=Kimutatás!B$2,E3798<=Kimutatás!B$3)","v":false}]
[3798,"Pécs","011","Q1","2019-01-06","Betét állomány növekmény",36,"Mhuf","2019-02-01","mecseki",{"$f":"AND(E3799>=Kimutatás!B$2,E3799<=Kimutatás!B$3)","v":false}]
[3799,"Pécs","011","Q1","2019-01-07","Betérő ügyfelek",6,"fő","2019-02-01","mecseki",{"$f":"AND(E3800>=Kimutatás!B$2,E3800<=Kimutatás!B$3)","v":false}]
[3800,"Pécs","011","Q1","2019-01-07","Lakossági hitelnövekmény összege ",25,"Mhuf","2019-02-01","mecseki",{"$f":"AND(E3801>=Kimutatás!B$2,E3801<=Kimutatás!B$3)","v":false}]
[3801,"Pécs","011","Q1","2019-01-07","Lakossági számlanyitás",5,"db","2019-02-01","mecseki",{"$f":"AND(E3802>=Kimutatás!B$2,E3802<=Kimutatás!B$3)","v":false}]
[3802,"Pécs","011","Q1","2019-01-07","KKV hitelnövekmény (db)",-1,"db","2019-02-01","mecseki",{"$f":"AND(E3803>=Kimutatás!B$2,E3803<=Kimutatás!B$3)","v":false}]
[3803,"Pécs","011","Q1","2019-01-07","KKV számlanyitás",3,"db","2019-02-01","mecseki",{"$f":"AND(E3804>=Kimutatás!B$2,E3804<=Kimutatás!B$3)","v":false}]
[3804,"Pécs","011","Q1","2019-01-07","Betét állomány növekmény",5,"Mhuf","2019-02-01","mecseki",{"$f":"AND(E3805>=Kimutatás!B$2,E3805<=Kimutatás!B$3)","v":false}]
[3805,"Pécs","011","Q1","2019-01-08","Betérő ügyfelek",9,"fő","2019-02-01","mecseki",{"$f":"AND(E3806>=Kimutatás!B$2,E3806<=Kimutatás!B$3)","v":false}]
[3806,"Pécs","011","Q1","2019-01-08","Lakossági hitelnövekmény összege ",7,"Mhuf","2019-02-01","mecseki",{"$f":"AND(E3807>=Kimutatás!B$2,E3807<=Kimutatás!B$3)","v":false}]
[3807,"Pécs","011","Q1","2019-01-08","Lakossági számlanyitás",2,"db","2019-02-01","mecseki",{"$f":"AND(E3808>=Kimutatás!B$2,E3808<=Kimutatás!B$3)","v":false}]
[3808,"Pécs","011","Q1","2019-01-08","KKV hitelnövekmény (db)",1,"db","2019-02-01","mecseki",{"$f":"AND(E3809>=Kimutatás!B$2,E3809<=Kimutatás!B$3)","v":false}]
[3809,"Pécs","011","Q1","2019-01-08","KKV számlanyitás",1,"db","2019-02-01","mecseki",{"$f":"AND(E3810>=Kimutatás!B$2,E3810<=Kimutatás!B$3)","v":false}]
[3810,"Pécs","011","Q1","2019-01-08","Betét állomány növekmény",3,"Mhuf","2019-02-01","mecseki",{"$f":"AND(E3811>=Kimutatás!B$2,E3811<=Kimutatás!B$3)","v":false}]
[3811,"Pécs","011","Q1","2019-01-09","Betérő ügyfelek",17,"fő","2019-02-01","mecseki",{"$f":"AND(E3812>=Kimutatás!B$2,E3812<=Kimutatás!B$3)","v":false}]
[3812,"Pécs","011","Q1","2019-01-09","Lakossági hitelnövekmény összege ",9,"Mhuf","2019-02-01","mecseki",{"$f":"AND(E3813>=Kimutatás!B$2,E3813<=Kimutatás!B$3)","v":false}]
[3813,"Pécs","011","Q1","2019-01-09","Lakossági számlanyitás",-3,"db","2019-02-01","mecseki",{"$f":"AND(E3814>=Kimutatás!B$2,E3814<=Kimutatás!B$3)","v":false}]
[3814,"Pécs","011","Q1","2019-01-09","KKV hitelnövekmény (db)",2,"db","2019-02-01","mecseki",{"$f":"AND(E3815>=Kimutatás!B$2,E3815<=Kimutatás!B$3)","v":false}]
[3815,"Pécs","011","Q1","2019-01-09","KKV számlanyitás",4,"db","2019-02-01","mecseki",{"$f":"AND(E3816>=Kimutatás!B$2,E3816<=Kimutatás!B$3)","v":false}]
[3816,"Pécs","011","Q1","2019-01-09","Betét állomány növekmény",-20,"Mhuf","2019-02-01","mecseki",{"$f":"AND(E3817>=Kimutatás!B$2,E3817<=Kimutatás!B$3)","v":false}]
[3817,"Pécs","011","Q1","2019-01-10","Betérő ügyfelek",23,"fő","2019-02-01","mecseki",{"$f":"AND(E3818>=Kimutatás!B$2,E3818<=Kimutatás!B$3)","v":true}]
[3818,"Pécs","011","Q1","2019-01-10","Lakossági hitelnövekmény összege ",40,"Mhuf","2019-02-01","mecseki",{"$f":"AND(E3819>=Kimutatás!B$2,E3819<=Kimutatás!B$3)","v":true}]
[3819,"Pécs","011","Q1","2019-01-10","Lakossági számlanyitás",3,"db","2019-02-01","mecseki",{"$f":"AND(E3820>=Kimutatás!B$2,E3820<=Kimutatás!B$3)","v":true}]
[3820,"Pécs","011","Q1","2019-01-10","KKV hitelnövekmény (db)",-2,"db","2019-02-01","mecseki",{"$f":"AND(E3821>=Kimutatás!B$2,E3821<=Kimutatás!B$3)","v":true}]
[3821,"Pécs","011","Q1","2019-01-10","KKV számlanyitás",1,"db","2019-02-01","mecseki",{"$f":"AND(E3822>=Kimutatás!B$2,E3822<=Kimutatás!B$3)","v":true}]
[3822,"Pécs","011","Q1","2019-01-10","Betét állomány növekmény",11,"Mhuf","2019-02-01","mecseki",{"$f":"AND(E3823>=Kimutatás!B$2,E3823<=Kimutatás!B$3)","v":true}]
[3823,"Pécs","011","Q1","2019-01-13","Betérő ügyfelek",32,"fő","2019-02-01","mecseki",{"$f":"AND(E3824>=Kimutatás!B$2,E3824<=Kimutatás!B$3)","v":true}]
[3824,"Pécs","011","Q1","2019-01-13","Lakossági hitelnövekmény összege ",19,"Mhuf","2019-02-01","mecseki",{"$f":"AND(E3825>=Kimutatás!B$2,E3825<=Kimutatás!B$3)","v":true}]
[3825,"Pécs","011","Q1","2019-01-13","Lakossági számlanyitás",-3,"db","2019-02-01","mecseki",{"$f":"AND(E3826>=Kimutatás!B$2,E3826<=Kimutatás!B$3)","v":true}]
[3826,"Pécs","011","Q1","2019-01-13","KKV hitelnövekmény (db)",-2,"db","2019-02-01","mecseki",{"$f":"AND(E3827>=Kimutatás!B$2,E3827<=Kimutatás!B$3)","v":true}]
[3827,"Pécs","011","Q1","2019-01-13","KKV számlanyitás",1,"db","2019-02-01","mecseki",{"$f":"AND(E3828>=Kimutatás!B$2,E3828<=Kimutatás!B$3)","v":true}]
[3828,"Pécs","011","Q1","2019-01-13","Betét állomány növekmény",15,"Mhuf","2019-02-01","mecseki",{"$f":"AND(E3829>=Kimutatás!B$2,E3829<=Kimutatás!B$3)","v":true}]
[3829,"Pécs","011","Q1","2019-01-14","Betérő ügyfelek",34,"fő","2019-02-01","mecseki",{"$f":"AND(E3830>=Kimutatás!B$2,E3830<=Kimutatás!B$3)","v":true}]
[3830,"Pécs","011","Q1","2019-01-14","Lakossági hitelnövekmény összege ",22,"Mhuf","2019-02-01","mecseki",{"$f":"AND(E3831>=Kimutatás!B$2,E3831<=Kimutatás!B$3)","v":true}]
[3831,"Pécs","011","Q1","2019-01-14","Lakossági számlanyitás",9,"db","2019-02-01","mecseki",{"$f":"AND(E3832>=Kimutatás!B$2,E3832<=Kimutatás!B$3)","v":true}]
[3832,"Pécs","011","Q1","2019-01-14","KKV hitelnövekmény (db)",-2,"db","2019-02-01","mecseki",{"$f":"AND(E3833>=Kimutatás!B$2,E3833<=Kimutatás!B$3)","v":true}]
[3833,"Pécs","011","Q1","2019-01-14","KKV számlanyitás",2,"db","2019-02-01","mecseki",{"$f":"AND(E3834>=Kimutatás!B$2,E3834<=Kimutatás!B$3)","v":true}]
[3834,"Pécs","011","Q1","2019-01-14","Betét állomány növekmény",26,"Mhuf","2019-02-01","mecseki",{"$f":"AND(E3835>=Kimutatás!B$2,E3835<=Kimutatás!B$3)","v":true}]
[3835,"Pécs","011","Q1","2019-01-15","Betérő ügyfelek",20,"fő","2019-02-01","mecseki",{"$f":"AND(E3836>=Kimutatás!B$2,E3836<=Kimutatás!B$3)","v":true}]
[3836,"Pécs","011","Q1","2019-01-15","Lakossági hitelnövekmény összege ",24,"Mhuf","2019-02-01","mecseki",{"$f":"AND(E3837>=Kimutatás!B$2,E3837<=Kimutatás!B$3)","v":true}]
[3837,"Pécs","011","Q1","2019-01-15","Lakossági számlanyitás",-1,"db","2019-02-01","mecseki",{"$f":"AND(E3838>=Kimutatás!B$2,E3838<=Kimutatás!B$3)","v":true}]
[3838,"Pécs","011","Q1","2019-01-15","KKV hitelnövekmény (db)",2,"db","2019-02-01","mecseki",{"$f":"AND(E3839>=Kimutatás!B$2,E3839<=Kimutatás!B$3)","v":true}]
[3839,"Pécs","011","Q1","2019-01-15","KKV számlanyitás",-4,"db","2019-02-01","mecseki",{"$f":"AND(E3840>=Kimutatás!B$2,E3840<=Kimutatás!B$3)","v":true}]
[3840,"Pécs","011","Q1","2019-01-15","Betét állomány növekmény",6,"Mhuf","2019-02-01","mecseki",{"$f":"AND(E3841>=Kimutatás!B$2,E3841<=Kimutatás!B$3)","v":true}]
[3841,"Pécs","011","Q1","2019-01-16","Betérő ügyfelek",11,"fő","2019-02-01","mecseki",{"$f":"AND(E3842>=Kimutatás!B$2,E3842<=Kimutatás!B$3)","v":true}]
[3842,"Pécs","011","Q1","2019-01-16","Lakossági hitelnövekmény összege ",25,"Mhuf","2019-02-01","mecseki",{"$f":"AND(E3843>=Kimutatás!B$2,E3843<=Kimutatás!B$3)","v":true}]
[3843,"Pécs","011","Q1","2019-01-16","Lakossági számlanyitás",0,"db","2019-02-01","mecseki",{"$f":"AND(E3844>=Kimutatás!B$2,E3844<=Kimutatás!B$3)","v":true}]
[3844,"Pécs","011","Q1","2019-01-16","KKV hitelnövekmény (db)",-2,"db","2019-02-01","mecseki",{"$f":"AND(E3845>=Kimutatás!B$2,E3845<=Kimutatás!B$3)","v":true}]
[3845,"Pécs","011","Q1","2019-01-16","KKV számlanyitás",3,"db","2019-02-01","mecseki",{"$f":"AND(E3846>=Kimutatás!B$2,E3846<=Kimutatás!B$3)","v":true}]
[3846,"Pécs","011","Q1","2019-01-16","Betét állomány növekmény",-5,"Mhuf","2019-02-01","mecseki",{"$f":"AND(E3847>=Kimutatás!B$2,E3847<=Kimutatás!B$3)","v":true}]
[3847,"Pécs","011","Q1","2019-01-17","Betérő ügyfelek",26,"fő","2019-02-01","mecseki",{"$f":"AND(E3848>=Kimutatás!B$2,E3848<=Kimutatás!B$3)","v":true}]
[3848,"Pécs","011","Q1","2019-01-17","Lakossági hitelnövekmény összege ",8,"Mhuf","2019-02-01","mecseki",{"$f":"AND(E3849>=Kimutatás!B$2,E3849<=Kimutatás!B$3)","v":true}]
[3849,"Pécs","011","Q1","2019-01-17","Lakossági számlanyitás",-5,"db","2019-02-01","mecseki",{"$f":"AND(E3850>=Kimutatás!B$2,E3850<=Kimutatás!B$3)","v":true}]
[3850,"Pécs","011","Q1","2019-01-17","KKV hitelnövekmény (db)",2,"db","2019-02-01","mecseki",{"$f":"AND(E3851>=Kimutatás!B$2,E3851<=Kimutatás!B$3)","v":true}]
[3851,"Pécs","011","Q1","2019-01-17","KKV számlanyitás",4,"db","2019-02-01","mecseki",{"$f":"AND(E3852>=Kimutatás!B$2,E3852<=Kimutatás!B$3)","v":true}]
[3852,"Pécs","011","Q1","2019-01-17","Betét állomány növekmény",-15,"Mhuf","2019-02-01","mecseki",{"$f":"AND(E3853>=Kimutatás!B$2,E3853<=Kimutatás!B$3)","v":true}]
[3853,"Pécs","011","Q1","2019-01-20","Betérő ügyfelek",42,"fő","2019-02-01","mecseki",{"$f":"AND(E3854>=Kimutatás!B$2,E3854<=Kimutatás!B$3)","v":true}]
[3854,"Pécs","011","Q1","2019-01-20","Lakossági hitelnövekmény összege ",41,"Mhuf","2019-02-01","mecseki",{"$f":"AND(E3855>=Kimutatás!B$2,E3855<=Kimutatás!B$3)","v":true}]
[3855,"Pécs","011","Q1","2019-01-20","Lakossági számlanyitás",8,"db","2019-02-01","mecseki",{"$f":"AND(E3856>=Kimutatás!B$2,E3856<=Kimutatás!B$3)","v":true}]
[3856,"Pécs","011","Q1","2019-01-20","KKV hitelnövekmény (db)",-1,"db","2019-02-01","mecseki",{"$f":"AND(E3857>=Kimutatás!B$2,E3857<=Kimutatás!B$3)","v":true}]
[3857,"Pécs","011","Q1","2019-01-20","KKV számlanyitás",2,"db","2019-02-01","mecseki",{"$f":"AND(E3858>=Kimutatás!B$2,E3858<=Kimutatás!B$3)","v":true}]
[3858,"Pécs","011","Q1","2019-01-20","Betét állomány növekmény",40,"Mhuf","2019-02-01","mecseki",{"$f":"AND(E3859>=Kimutatás!B$2,E3859<=Kimutatás!B$3)","v":true}]
[3859,"Pécs","011","Q1","2019-01-21","Betérő ügyfelek",31,"fő","2019-02-01","mecseki",{"$f":"AND(E3860>=Kimutatás!B$2,E3860<=Kimutatás!B$3)","v":true}]
[3860,"Pécs","011","Q1","2019-01-21","Lakossági hitelnövekmény összege ",50,"Mhuf","2019-02-01","mecseki",{"$f":"AND(E3861>=Kimutatás!B$2,E3861<=Kimutatás!B$3)","v":true}]
[3861,"Pécs","011","Q1","2019-01-21","Lakossági számlanyitás",0,"db","2019-02-01","mecseki",{"$f":"AND(E3862>=Kimutatás!B$2,E3862<=Kimutatás!B$3)","v":true}]
[3862,"Pécs","011","Q1","2019-01-21","KKV hitelnövekmény (db)",-1,"db","2019-02-01","mecseki",{"$f":"AND(E3863>=Kimutatás!B$2,E3863<=Kimutatás!B$3)","v":true}]
[3863,"Pécs","011","Q1","2019-01-21","KKV számlanyitás",3,"db","2019-02-01","mecseki",{"$f":"AND(E3864>=Kimutatás!B$2,E3864<=Kimutatás!B$3)","v":true}]
[3864,"Pécs","011","Q1","2019-01-21","Betét állomány növekmény",-1,"Mhuf","2019-02-01","mecseki",{"$f":"AND(E3865>=Kimutatás!B$2,E3865<=Kimutatás!B$3)","v":true}]
[3865,"Pécs","011","Q1","2019-01-22","Betérő ügyfelek",34,"fő","2019-02-01","mecseki",{"$f":"AND(E3866>=Kimutatás!B$2,E3866<=Kimutatás!B$3)","v":true}]
[3866,"Pécs","011","Q1","2019-01-22","Lakossági hitelnövekmény összege ",-2,"Mhuf","2019-02-01","mecseki",{"$f":"AND(E3867>=Kimutatás!B$2,E3867<=Kimutatás!B$3)","v":true}]
[3867,"Pécs","011","Q1","2019-01-22","Lakossági számlanyitás",0,"db","2019-02-01","mecseki",{"$f":"AND(E3868>=Kimutatás!B$2,E3868<=Kimutatás!B$3)","v":true}]
[3868,"Pécs","011","Q1","2019-01-22","KKV hitelnövekmény (db)",0,"db","2019-02-01","mecseki",{"$f":"AND(E3869>=Kimutatás!B$2,E3869<=Kimutatás!B$3)","v":true}]
[3869,"Pécs","011","Q1","2019-01-22","KKV számlanyitás",1,"db","2019-02-01","mecseki",{"$f":"AND(E3870>=Kimutatás!B$2,E3870<=Kimutatás!B$3)","v":true}]
[3870,"Pécs","011","Q1","2019-01-22","Betét állomány növekmény",8,"Mhuf","2019-02-01","mecseki",{"$f":"AND(E3871>=Kimutatás!B$2,E3871<=Kimutatás!B$3)","v":true}]
[3871,"Pécs","011","Q1","2019-01-23","Betérő ügyfelek",17,"fő","2019-02-01","mecseki",{"$f":"AND(E3872>=Kimutatás!B$2,E3872<=Kimutatás!B$3)","v":true}]
[3872,"Pécs","011","Q1","2019-01-23","Lakossági hitelnövekmény összege ",48,"Mhuf","2019-02-01","mecseki",{"$f":"AND(E3873>=Kimutatás!B$2,E3873<=Kimutatás!B$3)","v":true}]
[3873,"Pécs","011","Q1","2019-01-23","Lakossági számlanyitás",-4,"db","2019-02-01","mecseki",{"$f":"AND(E3874>=Kimutatás!B$2,E3874<=Kimutatás!B$3)","v":true}]
[3874,"Pécs","011","Q1","2019-01-23","KKV hitelnövekmény (db)",1,"db","2019-02-01","mecseki",{"$f":"AND(E3875>=Kimutatás!B$2,E3875<=Kimutatás!B$3)","v":true}]
[3875,"Pécs","011","Q1","2019-01-23","KKV számlanyitás",-3,"db","2019-02-01","mecseki",{"$f":"AND(E3876>=Kimutatás!B$2,E3876<=Kimutatás!B$3)","v":true}]
[3876,"Pécs","011","Q1","2019-01-23","Betét állomány növekmény",27,"Mhuf","2019-02-01","mecseki",{"$f":"AND(E3877>=Kimutatás!B$2,E3877<=Kimutatás!B$3)","v":true}]
[3877,"Pécs","011","Q1","2019-01-24","Betérő ügyfelek",5,"fő","2019-02-01","mecseki",{"$f":"AND(E3878>=Kimutatás!B$2,E3878<=Kimutatás!B$3)","v":true}]
[3878,"Pécs","011","Q1","2019-01-24","Lakossági hitelnövekmény összege ",15,"Mhuf","2019-02-01","mecseki",{"$f":"AND(E3879>=Kimutatás!B$2,E3879<=Kimutatás!B$3)","v":true}]
[3879,"Pécs","011","Q1","2019-01-24","Lakossági számlanyitás",3,"db","2019-02-01","mecseki",{"$f":"AND(E3880>=Kimutatás!B$2,E3880<=Kimutatás!B$3)","v":true}]
[3880,"Pécs","011","Q1","2019-01-24","KKV hitelnövekmény (db)",1,"db","2019-02-01","mecseki",{"$f":"AND(E3881>=Kimutatás!B$2,E3881<=Kimutatás!B$3)","v":true}]
[3881,"Pécs","011","Q1","2019-01-24","KKV számlanyitás",5,"db","2019-02-01","mecseki",{"$f":"AND(E3882>=Kimutatás!B$2,E3882<=Kimutatás!B$3)","v":true}]
[3882,"Pécs","011","Q1","2019-01-24","Betét állomány növekmény",35,"Mhuf","2019-02-01","mecseki",{"$f":"AND(E3883>=Kimutatás!B$2,E3883<=Kimutatás!B$3)","v":true}]
[3883,"Pécs","011","Q1","2019-01-27","Betérő ügyfelek",15,"fő","2019-02-01","mecseki",{"$f":"AND(E3884>=Kimutatás!B$2,E3884<=Kimutatás!B$3)","v":true}]
[3884,"Pécs","011","Q1","2019-01-27","Lakossági hitelnövekmény összege ",-3,"Mhuf","2019-02-01","mecseki",{"$f":"AND(E3885>=Kimutatás!B$2,E3885<=Kimutatás!B$3)","v":true}]
[3885,"Pécs","011","Q1","2019-01-27","Lakossági számlanyitás",-2,"db","2019-02-01","mecseki",{"$f":"AND(E3886>=Kimutatás!B$2,E3886<=Kimutatás!B$3)","v":true}]
[3886,"Pécs","011","Q1","2019-01-27","KKV hitelnövekmény (db)",-1,"db","2019-02-01","mecseki",{"$f":"AND(E3887>=Kimutatás!B$2,E3887<=Kimutatás!B$3)","v":true}]
[3887,"Pécs","011","Q1","2019-01-27","KKV számlanyitás",-4,"db","2019-02-01","mecseki",{"$f":"AND(E3888>=Kimutatás!B$2,E3888<=Kimutatás!B$3)","v":true}]
[3888,"Pécs","011","Q1","2019-01-27","Betét állomány növekmény",21,"Mhuf","2019-02-01","mecseki",{"$f":"AND(E3889>=Kimutatás!B$2,E3889<=Kimutatás!B$3)","v":true}]
[3889,"Pécs","011","Q1","2019-01-28","Betérő ügyfelek",42,"fő","2019-02-01","mecseki",{"$f":"AND(E3890>=Kimutatás!B$2,E3890<=Kimutatás!B$3)","v":true}]
[3890,"Pécs","011","Q1","2019-01-28","Lakossági hitelnövekmény összege ",33,"Mhuf","2019-02-01","mecseki",{"$f":"AND(E3891>=Kimutatás!B$2,E3891<=Kimutatás!B$3)","v":true}]
[3891,"Pécs","011","Q1","2019-01-28","Lakossági számlanyitás",8,"db","2019-02-01","mecseki",{"$f":"AND(E3892>=Kimutatás!B$2,E3892<=Kimutatás!B$3)","v":true}]
[3892,"Pécs","011","Q1","2019-01-28","KKV hitelnövekmény (db)",-1,"db","2019-02-01","mecseki",{"$f":"AND(E3893>=Kimutatás!B$2,E3893<=Kimutatás!B$3)","v":true}]
[3893,"Pécs","011","Q1","2019-01-28","KKV számlanyitás",1,"db","2019-02-01","mecseki",{"$f":"AND(E3894>=Kimutatás!B$2,E3894<=Kimutatás!B$3)","v":true}]
[3894,"Pécs","011","Q1","2019-01-28","Betét állomány növekmény",1,"Mhuf","2019-02-01","mecseki",{"$f":"AND(E3895>=Kimutatás!B$2,E3895<=Kimutatás!B$3)","v":true}]
[3895,"Pécs","011","Q1","2019-01-29","Betérő ügyfelek",41,"fő","2019-02-01","mecseki",{"$f":"AND(E3896>=Kimutatás!B$2,E3896<=Kimutatás!B$3)","v":true}]
[3896,"Pécs","011","Q1","2019-01-29","Lakossági hitelnövekmény összege ",45,"Mhuf","2019-02-01","mecseki",{"$f":"AND(E3897>=Kimutatás!B$2,E3897<=Kimutatás!B$3)","v":true}]
[3897,"Pécs","011","Q1","2019-01-29","Lakossági számlanyitás",4,"db","2019-02-01","mecseki",{"$f":"AND(E3898>=Kimutatás!B$2,E3898<=Kimutatás!B$3)","v":true}]
[3898,"Pécs","011","Q1","2019-01-29","KKV hitelnövekmény (db)",-1,"db","2019-02-01","mecseki",{"$f":"AND(E3899>=Kimutatás!B$2,E3899<=Kimutatás!B$3)","v":true}]
[3899,"Pécs","011","Q1","2019-01-29","KKV számlanyitás",5,"db","2019-02-01","mecseki",{"$f":"AND(E3900>=Kimutatás!B$2,E3900<=Kimutatás!B$3)","v":true}]
[3900,"Pécs","011","Q1","2019-01-29","Betét állomány növekmény",7,"Mhuf","2019-02-01","mecseki",{"$f":"AND(E3901>=Kimutatás!B$2,E3901<=Kimutatás!B$3)","v":true}]
[3901,"Pécs","011","Q1","2019-01-30","Betérő ügyfelek",1,"fő","2019-02-01","mecseki",{"$f":"AND(E3902>=Kimutatás!B$2,E3902<=Kimutatás!B$3)","v":true}]
[3902,"Pécs","011","Q1","2019-01-30","Lakossági hitelnövekmény összege ",-5,"Mhuf","2019-02-01","mecseki",{"$f":"AND(E3903>=Kimutatás!B$2,E3903<=Kimutatás!B$3)","v":true}]
[3903,"Pécs","011","Q1","2019-01-30","Lakossági számlanyitás",7,"db","2019-02-01","mecseki",{"$f":"AND(E3904>=Kimutatás!B$2,E3904<=Kimutatás!B$3)","v":true}]
[3904,"Pécs","011","Q1","2019-01-30","KKV hitelnövekmény (db)",1,"db","2019-02-01","mecseki",{"$f":"AND(E3905>=Kimutatás!B$2,E3905<=Kimutatás!B$3)","v":true}]
[3905,"Pécs","011","Q1","2019-01-30","KKV számlanyitás",5,"db","2019-02-01","mecseki",{"$f":"AND(E3906>=Kimutatás!B$2,E3906<=Kimutatás!B$3)","v":true}]
[3906,"Pécs","011","Q1","2019-01-30","Betét állomány növekmény",1,"Mhuf","2019-02-01","mecseki",{"$f":"AND(E3907>=Kimutatás!B$2,E3907<=Kimutatás!B$3)","v":true}]
[3907,"Pécs","011","Q1","2019-01-31","Betérő ügyfelek",46,"fő","2019-02-01","mecseki",{"$f":"AND(E3908>=Kimutatás!B$2,E3908<=Kimutatás!B$3)","v":true}]
[3908,"Pécs","011","Q1","2019-01-31","Lakossági hitelnövekmény összege ",-9,"Mhuf","2019-02-01","mecseki",{"$f":"AND(E3909>=Kimutatás!B$2,E3909<=Kimutatás!B$3)","v":true}]
[3909,"Pécs","011","Q1","2019-01-31","Lakossági számlanyitás",7,"db","2019-02-01","mecseki",{"$f":"AND(E3910>=Kimutatás!B$2,E3910<=Kimutatás!B$3)","v":true}]
[3910,"Pécs","011","Q1","2019-01-31","KKV hitelnövekmény (db)",-1,"db","2019-02-01","mecseki",{"$f":"AND(E3911>=Kimutatás!B$2,E3911<=Kimutatás!B$3)","v":true}]
[3911,"Pécs","011","Q1","2019-01-31","KKV számlanyitás",-1,"db","2019-02-01","mecseki",{"$f":"AND(E3912>=Kimutatás!B$2,E3912<=Kimutatás!B$3)","v":true}]
[3912,"Pécs","011","Q1","2019-01-31","Betét állomány növekmény",16,"Mhuf","2019-02-01","mecseki",{"$f":"AND(E3913>=Kimutatás!B$2,E3913<=Kimutatás!B$3)","v":true}]
[3913,"Pécs","011","Q1","2019-02-03","Betérő ügyfelek",31,"fő","2019-03-01","komlos",{"$f":"AND(E3914>=Kimutatás!B$2,E3914<=Kimutatás!B$3)","v":true}]
[3914,"Pécs","011","Q1","2019-02-03","Lakossági hitelnövekmény összege ",31,"Mhuf","2019-03-01","komlos",{"$f":"AND(E3915>=Kimutatás!B$2,E3915<=Kimutatás!B$3)","v":true}]
[3915,"Pécs","011","Q1","2019-02-03","Lakossági számlanyitás",7,"db","2019-03-01","komlos",{"$f":"AND(E3916>=Kimutatás!B$2,E3916<=Kimutatás!B$3)","v":true}]
[3916,"Pécs","011","Q1","2019-02-03","KKV hitelnövekmény (db)",1,"db","2019-03-01","komlos",{"$f":"AND(E3917>=Kimutatás!B$2,E3917<=Kimutatás!B$3)","v":true}]
[3917,"Pécs","011","Q1","2019-02-03","KKV számlanyitás",4,"db","2019-03-01","komlos",{"$f":"AND(E3918>=Kimutatás!B$2,E3918<=Kimutatás!B$3)","v":true}]
[3918,"Pécs","011","Q1","2019-02-03","Betét állomány növekmény",20,"Mhuf","2019-03-01","komlos",{"$f":"AND(E3919>=Kimutatás!B$2,E3919<=Kimutatás!B$3)","v":true}]
[3919,"Pécs","011","Q1","2019-02-04","Betérő ügyfelek",37,"fő","2019-03-01","komlos",{"$f":"AND(E3920>=Kimutatás!B$2,E3920<=Kimutatás!B$3)","v":true}]
[3920,"Pécs","011","Q1","2019-02-04","Lakossági hitelnövekmény összege ",16,"Mhuf","2019-03-01","komlos",{"$f":"AND(E3921>=Kimutatás!B$2,E3921<=Kimutatás!B$3)","v":true}]
[3921,"Pécs","011","Q1","2019-02-04","Lakossági számlanyitás",-2,"db","2019-03-01","komlos",{"$f":"AND(E3922>=Kimutatás!B$2,E3922<=Kimutatás!B$3)","v":true}]
[3922,"Pécs","011","Q1","2019-02-04","KKV hitelnövekmény (db)",0,"db","2019-03-01","komlos",{"$f":"AND(E3923>=Kimutatás!B$2,E3923<=Kimutatás!B$3)","v":true}]
[3923,"Pécs","011","Q1","2019-02-04","KKV számlanyitás",-2,"db","2019-03-01","komlos",{"$f":"AND(E3924>=Kimutatás!B$2,E3924<=Kimutatás!B$3)","v":true}]
[3924,"Pécs","011","Q1","2019-02-04","Betét állomány növekmény",43,"Mhuf","2019-03-01","komlos",{"$f":"AND(E3925>=Kimutatás!B$2,E3925<=Kimutatás!B$3)","v":true}]
[3925,"Pécs","011","Q1","2019-02-05","Betérő ügyfelek",20,"fő","2019-03-01","komlos",{"$f":"AND(E3926>=Kimutatás!B$2,E3926<=Kimutatás!B$3)","v":true}]
[3926,"Pécs","011","Q1","2019-02-05","Lakossági hitelnövekmény összege ",50,"Mhuf","2019-03-01","komlos",{"$f":"AND(E3927>=Kimutatás!B$2,E3927<=Kimutatás!B$3)","v":true}]
[3927,"Pécs","011","Q1","2019-02-05","Lakossági számlanyitás",3,"db","2019-03-01","komlos",{"$f":"AND(E3928>=Kimutatás!B$2,E3928<=Kimutatás!B$3)","v":true}]
[3928,"Pécs","011","Q1","2019-02-05","KKV hitelnövekmény (db)",0,"db","2019-03-01","komlos",{"$f":"AND(E3929>=Kimutatás!B$2,E3929<=Kimutatás!B$3)","v":true}]
[3929,"Pécs","011","Q1","2019-02-05","KKV számlanyitás",2,"db","2019-03-01","komlos",{"$f":"AND(E3930>=Kimutatás!B$2,E3930<=Kimutatás!B$3)","v":true}]
[3930,"Pécs","011","Q1","2019-02-05","Betét állomány növekmény",25,"Mhuf","2019-03-01","komlos",{"$f":"AND(E3931>=Kimutatás!B$2,E3931<=Kimutatás!B$3)","v":true}]
[3931,"Pécs","011","Q1","2019-02-06","Betérő ügyfelek",36,"fő","2019-03-01","komlos",{"$f":"AND(E3932>=Kimutatás!B$2,E3932<=Kimutatás!B$3)","v":true}]
[3932,"Pécs","011","Q1","2019-02-06","Lakossági hitelnövekmény összege ",17,"Mhuf","2019-03-01","komlos",{"$f":"AND(E3933>=Kimutatás!B$2,E3933<=Kimutatás!B$3)","v":true}]
[3933,"Pécs","011","Q1","2019-02-06","Lakossági számlanyitás",-5,"db","2019-03-01","komlos",{"$f":"AND(E3934>=Kimutatás!B$2,E3934<=Kimutatás!B$3)","v":true}]
[3934,"Pécs","011","Q1","2019-02-06","KKV hitelnövekmény (db)",-1,"db","2019-03-01","komlos",{"$f":"AND(E3935>=Kimutatás!B$2,E3935<=Kimutatás!B$3)","v":true}]
[3935,"Pécs","011","Q1","2019-02-06","KKV számlanyitás",5,"db","2019-03-01","komlos",{"$f":"AND(E3936>=Kimutatás!B$2,E3936<=Kimutatás!B$3)","v":true}]
[3936,"Pécs","011","Q1","2019-02-06","Betét állomány növekmény",-13,"Mhuf","2019-03-01","komlos",{"$f":"AND(E3937>=Kimutatás!B$2,E3937<=Kimutatás!B$3)","v":true}]
[3937,"Pécs","011","Q1","2019-02-07","Betérő ügyfelek",42,"fő","2019-03-01","komlos",{"$f":"AND(E3938>=Kimutatás!B$2,E3938<=Kimutatás!B$3)","v":true}]
[3938,"Pécs","011","Q1","2019-02-07","Lakossági hitelnövekmény összege ",7,"Mhuf","2019-03-01","komlos",{"$f":"AND(E3939>=Kimutatás!B$2,E3939<=Kimutatás!B$3)","v":true}]
[3939,"Pécs","011","Q1","2019-02-07","Lakossági számlanyitás",7,"db","2019-03-01","komlos",{"$f":"AND(E3940>=Kimutatás!B$2,E3940<=Kimutatás!B$3)","v":true}]
[3940,"Pécs","011","Q1","2019-02-07","KKV hitelnövekmény (db)",0,"db","2019-03-01","komlos",{"$f":"AND(E3941>=Kimutatás!B$2,E3941<=Kimutatás!B$3)","v":true}]
[3941,"Pécs","011","Q1","2019-02-07","KKV számlanyitás",-2,"db","2019-03-01","komlos",{"$f":"AND(E3942>=Kimutatás!B$2,E3942<=Kimutatás!B$3)","v":true}]
[3942,"Pécs","011","Q1","2019-02-07","Betét állomány növekmény",13,"Mhuf","2019-03-01","komlos",{"$f":"AND(E3943>=Kimutatás!B$2,E3943<=Kimutatás!B$3)","v":true}]
[3943,"Pécs","011","Q1","2019-02-10","Betérő ügyfelek",8,"fő","2019-03-01","komlos",{"$f":"AND(E3944>=Kimutatás!B$2,E3944<=Kimutatás!B$3)","v":true}]
[3944,"Pécs","011","Q1","2019-02-10","Lakossági hitelnövekmény összege ",-1,"Mhuf","2019-03-01","komlos",{"$f":"AND(E3945>=Kimutatás!B$2,E3945<=Kimutatás!B$3)","v":true}]
[3945,"Pécs","011","Q1","2019-02-10","Lakossági számlanyitás",7,"db","2019-03-01","komlos",{"$f":"AND(E3946>=Kimutatás!B$2,E3946<=Kimutatás!B$3)","v":true}]
[3946,"Pécs","011","Q1","2019-02-10","KKV hitelnövekmény (db)",1,"db","2019-03-01","komlos",{"$f":"AND(E3947>=Kimutatás!B$2,E3947<=Kimutatás!B$3)","v":true}]
[3947,"Pécs","011","Q1","2019-02-10","KKV számlanyitás",-3,"db","2019-03-01","komlos",{"$f":"AND(E3948>=Kimutatás!B$2,E3948<=Kimutatás!B$3)","v":true}]
[3948,"Pécs","011","Q1","2019-02-10","Betét állomány növekmény",-8,"Mhuf","2019-03-01","komlos",{"$f":"AND(E3949>=Kimutatás!B$2,E3949<=Kimutatás!B$3)","v":true}]
[3949,"Pécs","011","Q1","2019-02-11","Betérő ügyfelek",14,"fő","2019-03-01","komlos",{"$f":"AND(E3950>=Kimutatás!B$2,E3950<=Kimutatás!B$3)","v":true}]
[3950,"Pécs","011","Q1","2019-02-11","Lakossági hitelnövekmény összege ",23,"Mhuf","2019-03-01","komlos",{"$f":"AND(E3951>=Kimutatás!B$2,E3951<=Kimutatás!B$3)","v":true}]
[3951,"Pécs","011","Q1","2019-02-11","Lakossági számlanyitás",-1,"db","2019-03-01","komlos",{"$f":"AND(E3952>=Kimutatás!B$2,E3952<=Kimutatás!B$3)","v":true}]
[3952,"Pécs","011","Q1","2019-02-11","KKV hitelnövekmény (db)",-2,"db","2019-03-01","komlos",{"$f":"AND(E3953>=Kimutatás!B$2,E3953<=Kimutatás!B$3)","v":true}]
[3953,"Pécs","011","Q1","2019-02-11","KKV számlanyitás",3,"db","2019-03-01","komlos",{"$f":"AND(E3954>=Kimutatás!B$2,E3954<=Kimutatás!B$3)","v":true}]
[3954,"Pécs","011","Q1","2019-02-11","Betét állomány növekmény",23,"Mhuf","2019-03-01","komlos",{"$f":"AND(E3955>=Kimutatás!B$2,E3955<=Kimutatás!B$3)","v":true}]
[3955,"Pécs","011","Q1","2019-02-12","Betérő ügyfelek",15,"fő","2019-03-01","komlos",{"$f":"AND(E3956>=Kimutatás!B$2,E3956<=Kimutatás!B$3)","v":true}]
[3956,"Pécs","011","Q1","2019-02-12","Lakossági hitelnövekmény összege ",39,"Mhuf","2019-03-01","komlos",{"$f":"AND(E3957>=Kimutatás!B$2,E3957<=Kimutatás!B$3)","v":true}]
[3957,"Pécs","011","Q1","2019-02-12","Lakossági számlanyitás",7,"db","2019-03-01","komlos",{"$f":"AND(E3958>=Kimutatás!B$2,E3958<=Kimutatás!B$3)","v":true}]
[3958,"Pécs","011","Q1","2019-02-12","KKV hitelnövekmény (db)",1,"db","2019-03-01","komlos",{"$f":"AND(E3959>=Kimutatás!B$2,E3959<=Kimutatás!B$3)","v":true}]
[3959,"Pécs","011","Q1","2019-02-12","KKV számlanyitás",-4,"db","2019-03-01","komlos",{"$f":"AND(E3960>=Kimutatás!B$2,E3960<=Kimutatás!B$3)","v":true}]
[3960,"Pécs","011","Q1","2019-02-12","Betét állomány növekmény",-5,"Mhuf","2019-03-01","komlos",{"$f":"AND(E3961>=Kimutatás!B$2,E3961<=Kimutatás!B$3)","v":true}]
[3961,"Pécs","011","Q1","2019-02-13","Betérő ügyfelek",26,"fő","2019-03-01","komlos",{"$f":"AND(E3962>=Kimutatás!B$2,E3962<=Kimutatás!B$3)","v":true}]
[3962,"Pécs","011","Q1","2019-02-13","Lakossági hitelnövekmény összege ",6,"Mhuf","2019-03-01","komlos",{"$f":"AND(E3963>=Kimutatás!B$2,E3963<=Kimutatás!B$3)","v":true}]
[3963,"Pécs","011","Q1","2019-02-13","Lakossági számlanyitás",3,"db","2019-03-01","komlos",{"$f":"AND(E3964>=Kimutatás!B$2,E3964<=Kimutatás!B$3)","v":true}]
[3964,"Pécs","011","Q1","2019-02-13","KKV hitelnövekmény (db)",0,"db","2019-03-01","komlos",{"$f":"AND(E3965>=Kimutatás!B$2,E3965<=Kimutatás!B$3)","v":true}]
[3965,"Pécs","011","Q1","2019-02-13","KKV számlanyitás",0,"db","2019-03-01","komlos",{"$f":"AND(E3966>=Kimutatás!B$2,E3966<=Kimutatás!B$3)","v":true}]
[3966,"Pécs","011","Q1","2019-02-13","Betét állomány növekmény",-20,"Mhuf","2019-03-01","komlos",{"$f":"AND(E3967>=Kimutatás!B$2,E3967<=Kimutatás!B$3)","v":true}]
[3967,"Pécs","011","Q1","2019-02-14","Betérő ügyfelek",44,"fő","2019-03-01","komlos",{"$f":"AND(E3968>=Kimutatás!B$2,E3968<=Kimutatás!B$3)","v":true}]
[3968,"Pécs","011","Q1","2019-02-14","Lakossági hitelnövekmény összege ",32,"Mhuf","2019-03-01","komlos",{"$f":"AND(E3969>=Kimutatás!B$2,E3969<=Kimutatás!B$3)","v":true}]
[3969,"Pécs","011","Q1","2019-02-14","Lakossági számlanyitás",8,"db","2019-03-01","komlos",{"$f":"AND(E3970>=Kimutatás!B$2,E3970<=Kimutatás!B$3)","v":true}]
[3970,"Pécs","011","Q1","2019-02-14","KKV hitelnövekmény (db)",-2,"db","2019-03-01","komlos",{"$f":"AND(E3971>=Kimutatás!B$2,E3971<=Kimutatás!B$3)","v":true}]
[3971,"Pécs","011","Q1","2019-02-14","KKV számlanyitás",-5,"db","2019-03-01","komlos",{"$f":"AND(E3972>=Kimutatás!B$2,E3972<=Kimutatás!B$3)","v":true}]
[3972,"Pécs","011","Q1","2019-02-14","Betét állomány növekmény",25,"Mhuf","2019-03-01","komlos",{"$f":"AND(E3973>=Kimutatás!B$2,E3973<=Kimutatás!B$3)","v":true}]
[3973,"Pécs","011","Q1","2019-02-17","Betérő ügyfelek",34,"fő","2019-03-01","komlos",{"$f":"AND(E3974>=Kimutatás!B$2,E3974<=Kimutatás!B$3)","v":true}]
[3974,"Pécs","011","Q1","2019-02-17","Lakossági hitelnövekmény összege ",15,"Mhuf","2019-03-01","komlos",{"$f":"AND(E3975>=Kimutatás!B$2,E3975<=Kimutatás!B$3)","v":true}]
[3975,"Pécs","011","Q1","2019-02-17","Lakossági számlanyitás",0,"db","2019-03-01","komlos",{"$f":"AND(E3976>=Kimutatás!B$2,E3976<=Kimutatás!B$3)","v":true}]
[3976,"Pécs","011","Q1","2019-02-17","KKV hitelnövekmény (db)",0,"db","2019-03-01","komlos",{"$f":"AND(E3977>=Kimutatás!B$2,E3977<=Kimutatás!B$3)","v":true}]
[3977,"Pécs","011","Q1","2019-02-17","KKV számlanyitás",1,"db","2019-03-01","komlos",{"$f":"AND(E3978>=Kimutatás!B$2,E3978<=Kimutatás!B$3)","v":true}]
[3978,"Pécs","011","Q1","2019-02-17","Betét állomány növekmény",9,"Mhuf","2019-03-01","komlos",{"$f":"AND(E3979>=Kimutatás!B$2,E3979<=Kimutatás!B$3)","v":true}]
[3979,"Pécs","011","Q1","2019-02-18","Betérő ügyfelek",32,"fő","2019-03-01","komlos",{"$f":"AND(E3980>=Kimutatás!B$2,E3980<=Kimutatás!B$3)","v":true}]
[3980,"Pécs","011","Q1","2019-02-18","Lakossági hitelnövekmény összege ",27,"Mhuf","2019-03-01","komlos",{"$f":"AND(E3981>=Kimutatás!B$2,E3981<=Kimutatás!B$3)","v":true}]
[3981,"Pécs","011","Q1","2019-02-18","Lakossági számlanyitás",-2,"db","2019-03-01","komlos",{"$f":"AND(E3982>=Kimutatás!B$2,E3982<=Kimutatás!B$3)","v":true}]
[3982,"Pécs","011","Q1","2019-02-18","KKV hitelnövekmény (db)",2,"db","2019-03-01","komlos",{"$f":"AND(E3983>=Kimutatás!B$2,E3983<=Kimutatás!B$3)","v":true}]
[3983,"Pécs","011","Q1","2019-02-18","KKV számlanyitás",-4,"db","2019-03-01","komlos",{"$f":"AND(E3984>=Kimutatás!B$2,E3984<=Kimutatás!B$3)","v":true}]
[3984,"Pécs","011","Q1","2019-02-18","Betét állomány növekmény",43,"Mhuf","2019-03-01","komlos",{"$f":"AND(E3985>=Kimutatás!B$2,E3985<=Kimutatás!B$3)","v":true}]
[3985,"Pécs","011","Q1","2019-02-19","Betérő ügyfelek",35,"fő","2019-03-01","komlos",{"$f":"AND(E3986>=Kimutatás!B$2,E3986<=Kimutatás!B$3)","v":true}]
[3986,"Pécs","011","Q1","2019-02-19","Lakossági hitelnövekmény összege ",2,"Mhuf","2019-03-01","komlos",{"$f":"AND(E3987>=Kimutatás!B$2,E3987<=Kimutatás!B$3)","v":true}]
[3987,"Pécs","011","Q1","2019-02-19","Lakossági számlanyitás",9,"db","2019-03-01","komlos",{"$f":"AND(E3988>=Kimutatás!B$2,E3988<=Kimutatás!B$3)","v":true}]
[3988,"Pécs","011","Q1","2019-02-19","KKV hitelnövekmény (db)",-1,"db","2019-03-01","komlos",{"$f":"AND(E3989>=Kimutatás!B$2,E3989<=Kimutatás!B$3)","v":true}]
[3989,"Pécs","011","Q1","2019-02-19","KKV számlanyitás",-1,"db","2019-03-01","komlos",{"$f":"AND(E3990>=Kimutatás!B$2,E3990<=Kimutatás!B$3)","v":true}]
[3990,"Pécs","011","Q1","2019-02-19","Betét állomány növekmény",-17,"Mhuf","2019-03-01","komlos",{"$f":"AND(E3991>=Kimutatás!B$2,E3991<=Kimutatás!B$3)","v":true}]
[3991,"Pécs","011","Q1","2019-02-20","Betérő ügyfelek",48,"fő","2019-03-01","komlos",{"$f":"AND(E3992>=Kimutatás!B$2,E3992<=Kimutatás!B$3)","v":true}]
[3992,"Pécs","011","Q1","2019-02-20","Lakossági hitelnövekmény összege ",29,"Mhuf","2019-03-01","komlos",{"$f":"AND(E3993>=Kimutatás!B$2,E3993<=Kimutatás!B$3)","v":true}]
[3993,"Pécs","011","Q1","2019-02-20","Lakossági számlanyitás",8,"db","2019-03-01","komlos",{"$f":"AND(E3994>=Kimutatás!B$2,E3994<=Kimutatás!B$3)","v":true}]
[3994,"Pécs","011","Q1","2019-02-20","KKV hitelnövekmény (db)",-2,"db","2019-03-01","komlos",{"$f":"AND(E3995>=Kimutatás!B$2,E3995<=Kimutatás!B$3)","v":true}]
[3995,"Pécs","011","Q1","2019-02-20","KKV számlanyitás",-4,"db","2019-03-01","komlos",{"$f":"AND(E3996>=Kimutatás!B$2,E3996<=Kimutatás!B$3)","v":true}]
[3996,"Pécs","011","Q1","2019-02-20","Betét állomány növekmény",-20,"Mhuf","2019-03-01","komlos",{"$f":"AND(E3997>=Kimutatás!B$2,E3997<=Kimutatás!B$3)","v":true}]
[3997,"Pécs","011","Q1","2019-02-21","Betérő ügyfelek",18,"fő","2019-03-01","komlos",{"$f":"AND(E3998>=Kimutatás!B$2,E3998<=Kimutatás!B$3)","v":true}]
[3998,"Pécs","011","Q1","2019-02-21","Lakossági hitelnövekmény összege ",24,"Mhuf","2019-03-01","komlos",{"$f":"AND(E3999>=Kimutatás!B$2,E3999<=Kimutatás!B$3)","v":true}]
[3999,"Pécs","011","Q1","2019-02-21","Lakossági számlanyitás",-3,"db","2019-03-01","komlos",{"$f":"AND(E4000>=Kimutatás!B$2,E4000<=Kimutatás!B$3)","v":true}]
[4000,"Pécs","011","Q1","2019-02-21","KKV hitelnövekmény (db)",1,"db","2019-03-01","komlos",{"$f":"AND(E4001>=Kimutatás!B$2,E4001<=Kimutatás!B$3)","v":true}]
[4001,"Pécs","011","Q1","2019-02-21","KKV számlanyitás",-4,"db","2019-03-01","komlos",{"$f":"AND(E4002>=Kimutatás!B$2,E4002<=Kimutatás!B$3)","v":true}]
[4002,"Pécs","011","Q1","2019-02-21","Betét állomány növekmény",-13,"Mhuf","2019-03-01","komlos",{"$f":"AND(E4003>=Kimutatás!B$2,E4003<=Kimutatás!B$3)","v":true}]
[4003,"Pécs","011","Q1","2019-02-24","Betérő ügyfelek",42,"fő","2019-03-01","komlos",{"$f":"AND(E4004>=Kimutatás!B$2,E4004<=Kimutatás!B$3)","v":true}]
[4004,"Pécs","011","Q1","2019-02-24","Lakossági hitelnövekmény összege ",-7,"Mhuf","2019-03-01","komlos",{"$f":"AND(E4005>=Kimutatás!B$2,E4005<=Kimutatás!B$3)","v":true}]
[4005,"Pécs","011","Q1","2019-02-24","Lakossági számlanyitás",9,"db","2019-03-01","komlos",{"$f":"AND(E4006>=Kimutatás!B$2,E4006<=Kimutatás!B$3)","v":true}]
[4006,"Pécs","011","Q1","2019-02-24","KKV hitelnövekmény (db)",1,"db","2019-03-01","komlos",{"$f":"AND(E4007>=Kimutatás!B$2,E4007<=Kimutatás!B$3)","v":true}]
[4007,"Pécs","011","Q1","2019-02-24","KKV számlanyitás",-2,"db","2019-03-01","komlos",{"$f":"AND(E4008>=Kimutatás!B$2,E4008<=Kimutatás!B$3)","v":true}]
[4008,"Pécs","011","Q1","2019-02-24","Betét állomány növekmény",14,"Mhuf","2019-03-01","komlos",{"$f":"AND(E4009>=Kimutatás!B$2,E4009<=Kimutatás!B$3)","v":true}]
[4009,"Pécs","011","Q1","2019-02-25","Betérő ügyfelek",43,"fő","2019-03-01","komlos",{"$f":"AND(E4010>=Kimutatás!B$2,E4010<=Kimutatás!B$3)","v":true}]
[4010,"Pécs","011","Q1","2019-02-25","Lakossági hitelnövekmény összege ",16,"Mhuf","2019-03-01","komlos",{"$f":"AND(E4011>=Kimutatás!B$2,E4011<=Kimutatás!B$3)","v":true}]
[4011,"Pécs","011","Q1","2019-02-25","Lakossági számlanyitás",2,"db","2019-03-01","komlos",{"$f":"AND(E4012>=Kimutatás!B$2,E4012<=Kimutatás!B$3)","v":true}]
[4012,"Pécs","011","Q1","2019-02-25","KKV hitelnövekmény (db)",-2,"db","2019-03-01","komlos",{"$f":"AND(E4013>=Kimutatás!B$2,E4013<=Kimutatás!B$3)","v":true}]
[4013,"Pécs","011","Q1","2019-02-25","KKV számlanyitás",2,"db","2019-03-01","komlos",{"$f":"AND(E4014>=Kimutatás!B$2,E4014<=Kimutatás!B$3)","v":true}]
[4014,"Pécs","011","Q1","2019-02-25","Betét állomány növekmény",5,"Mhuf","2019-03-01","komlos",{"$f":"AND(E4015>=Kimutatás!B$2,E4015<=Kimutatás!B$3)","v":true}]
[4015,"Pécs","011","Q1","2019-02-26","Betérő ügyfelek",43,"fő","2019-03-01","komlos",{"$f":"AND(E4016>=Kimutatás!B$2,E4016<=Kimutatás!B$3)","v":true}]
[4016,"Pécs","011","Q1","2019-02-26","Lakossági hitelnövekmény összege ",20,"Mhuf","2019-03-01","komlos",{"$f":"AND(E4017>=Kimutatás!B$2,E4017<=Kimutatás!B$3)","v":true}]
[4017,"Pécs","011","Q1","2019-02-26","Lakossági számlanyitás",8,"db","2019-03-01","komlos",{"$f":"AND(E4018>=Kimutatás!B$2,E4018<=Kimutatás!B$3)","v":true}]
[4018,"Pécs","011","Q1","2019-02-26","KKV hitelnövekmény (db)",2,"db","2019-03-01","komlos",{"$f":"AND(E4019>=Kimutatás!B$2,E4019<=Kimutatás!B$3)","v":true}]
[4019,"Pécs","011","Q1","2019-02-26","KKV számlanyitás",0,"db","2019-03-01","komlos",{"$f":"AND(E4020>=Kimutatás!B$2,E4020<=Kimutatás!B$3)","v":true}]
[4020,"Pécs","011","Q1","2019-02-26","Betét állomány növekmény",-15,"Mhuf","2019-03-01","komlos",{"$f":"AND(E4021>=Kimutatás!B$2,E4021<=Kimutatás!B$3)","v":true}]
[4021,"Pécs","011","Q1","2019-02-27","Betérő ügyfelek",42,"fő","2019-03-01","komlos",{"$f":"AND(E4022>=Kimutatás!B$2,E4022<=Kimutatás!B$3)","v":true}]
[4022,"Pécs","011","Q1","2019-02-27","Lakossági hitelnövekmény összege ",-6,"Mhuf","2019-03-01","komlos",{"$f":"AND(E4023>=Kimutatás!B$2,E4023<=Kimutatás!B$3)","v":true}]
[4023,"Pécs","011","Q1","2019-02-27","Lakossági számlanyitás",9,"db","2019-03-01","komlos",{"$f":"AND(E4024>=Kimutatás!B$2,E4024<=Kimutatás!B$3)","v":true}]
[4024,"Pécs","011","Q1","2019-02-27","KKV hitelnövekmény (db)",1,"db","2019-03-01","komlos",{"$f":"AND(E4025>=Kimutatás!B$2,E4025<=Kimutatás!B$3)","v":true}]
[4025,"Pécs","011","Q1","2019-02-27","KKV számlanyitás",4,"db","2019-03-01","komlos",{"$f":"AND(E4026>=Kimutatás!B$2,E4026<=Kimutatás!B$3)","v":true}]
[4026,"Pécs","011","Q1","2019-02-27","Betét állomány növekmény",-5,"Mhuf","2019-03-01","komlos",{"$f":"AND(E4027>=Kimutatás!B$2,E4027<=Kimutatás!B$3)","v":true}]
[4027,"Pécs","011","Q1","2019-02-28","Betérő ügyfelek",49,"fő","2019-03-01","komlos",{"$f":"AND(E4028>=Kimutatás!B$2,E4028<=Kimutatás!B$3)","v":true}]
[4028,"Pécs","011","Q1","2019-02-28","Lakossági hitelnövekmény összege ",37,"Mhuf","2019-03-01","komlos",{"$f":"AND(E4029>=Kimutatás!B$2,E4029<=Kimutatás!B$3)","v":true}]
[4029,"Pécs","011","Q1","2019-02-28","Lakossági számlanyitás",0,"db","2019-03-01","komlos",{"$f":"AND(E4030>=Kimutatás!B$2,E4030<=Kimutatás!B$3)","v":true}]
[4030,"Pécs","011","Q1","2019-02-28","KKV hitelnövekmény (db)",0,"db","2019-03-01","komlos",{"$f":"AND(E4031>=Kimutatás!B$2,E4031<=Kimutatás!B$3)","v":true}]
[4031,"Pécs","011","Q1","2019-02-28","KKV számlanyitás",5,"db","2019-03-01","komlos",{"$f":"AND(E4032>=Kimutatás!B$2,E4032<=Kimutatás!B$3)","v":true}]
[4032,"Pécs","011","Q1","2019-02-28","Betét állomány növekmény",26,"Mhuf","2019-03-01","komlos",{"$f":"AND(E4033>=Kimutatás!B$2,E4033<=Kimutatás!B$3)","v":true}]
[4033,"Pécs","011","Q1","2019-03-03","Betérő ügyfelek",50,"fő","2019-04-01","orfuto2",{"$f":"AND(E4034>=Kimutatás!B$2,E4034<=Kimutatás!B$3)","v":true}]
[4034,"Pécs","011","Q1","2019-03-03","Lakossági hitelnövekmény összege ",25,"Mhuf","2019-04-01","orfuto2",{"$f":"AND(E4035>=Kimutatás!B$2,E4035<=Kimutatás!B$3)","v":true}]
[4035,"Pécs","011","Q1","2019-03-03","Lakossági számlanyitás",9,"db","2019-04-01","orfuto2",{"$f":"AND(E4036>=Kimutatás!B$2,E4036<=Kimutatás!B$3)","v":true}]
[4036,"Pécs","011","Q1","2019-03-03","KKV hitelnövekmény (db)",1,"db","2019-04-01","orfuto2",{"$f":"AND(E4037>=Kimutatás!B$2,E4037<=Kimutatás!B$3)","v":true}]
[4037,"Pécs","011","Q1","2019-03-03","KKV számlanyitás",-1,"db","2019-04-01","orfuto2",{"$f":"AND(E4038>=Kimutatás!B$2,E4038<=Kimutatás!B$3)","v":true}]
[4038,"Pécs","011","Q1","2019-03-03","Betét állomány növekmény",-20,"Mhuf","2019-04-01","orfuto2",{"$f":"AND(E4039>=Kimutatás!B$2,E4039<=Kimutatás!B$3)","v":true}]
[4039,"Pécs","011","Q1","2019-03-04","Betérő ügyfelek",24,"fő","2019-04-01","orfuto2",{"$f":"AND(E4040>=Kimutatás!B$2,E4040<=Kimutatás!B$3)","v":true}]
[4040,"Pécs","011","Q1","2019-03-04","Lakossági hitelnövekmény összege ",11,"Mhuf","2019-04-01","orfuto2",{"$f":"AND(E4041>=Kimutatás!B$2,E4041<=Kimutatás!B$3)","v":true}]
[4041,"Pécs","011","Q1","2019-03-04","Lakossági számlanyitás",-5,"db","2019-04-01","orfuto2",{"$f":"AND(E4042>=Kimutatás!B$2,E4042<=Kimutatás!B$3)","v":true}]
[4042,"Pécs","011","Q1","2019-03-04","KKV hitelnövekmény (db)",-2,"db","2019-04-01","orfuto2",{"$f":"AND(E4043>=Kimutatás!B$2,E4043<=Kimutatás!B$3)","v":true}]
[4043,"Pécs","011","Q1","2019-03-04","KKV számlanyitás",1,"db","2019-04-01","orfuto2",{"$f":"AND(E4044>=Kimutatás!B$2,E4044<=Kimutatás!B$3)","v":true}]
[4044,"Pécs","011","Q1","2019-03-04","Betét állomány növekmény",47,"Mhuf","2019-04-01","orfuto2",{"$f":"AND(E4045>=Kimutatás!B$2,E4045<=Kimutatás!B$3)","v":true}]
[4045,"Pécs","011","Q1","2019-03-05","Betérő ügyfelek",23,"fő","2019-04-01","orfuto2",{"$f":"AND(E4046>=Kimutatás!B$2,E4046<=Kimutatás!B$3)","v":true}]
[4046,"Pécs","011","Q1","2019-03-05","Lakossági hitelnövekmény összege ",48,"Mhuf","2019-04-01","orfuto2",{"$f":"AND(E4047>=Kimutatás!B$2,E4047<=Kimutatás!B$3)","v":true}]
[4047,"Pécs","011","Q1","2019-03-05","Lakossági számlanyitás",0,"db","2019-04-01","orfuto2",{"$f":"AND(E4048>=Kimutatás!B$2,E4048<=Kimutatás!B$3)","v":true}]
[4048,"Pécs","011","Q1","2019-03-05","KKV hitelnövekmény (db)",-1,"db","2019-04-01","orfuto2",{"$f":"AND(E4049>=Kimutatás!B$2,E4049<=Kimutatás!B$3)","v":true}]
[4049,"Pécs","011","Q1","2019-03-05","KKV számlanyitás",-5,"db","2019-04-01","orfuto2",{"$f":"AND(E4050>=Kimutatás!B$2,E4050<=Kimutatás!B$3)","v":true}]
[4050,"Pécs","011","Q1","2019-03-05","Betét állomány növekmény",25,"Mhuf","2019-04-01","orfuto2",{"$f":"AND(E4051>=Kimutatás!B$2,E4051<=Kimutatás!B$3)","v":true}]
[4051,"Pécs","011","Q1","2019-03-06","Betérő ügyfelek",40,"fő","2019-04-01","orfuto2",{"$f":"AND(E4052>=Kimutatás!B$2,E4052<=Kimutatás!B$3)","v":true}]
[4052,"Pécs","011","Q1","2019-03-06","Lakossági hitelnövekmény összege ",-6,"Mhuf","2019-04-01","orfuto2",{"$f":"AND(E4053>=Kimutatás!B$2,E4053<=Kimutatás!B$3)","v":true}]
[4053,"Pécs","011","Q1","2019-03-06","Lakossági számlanyitás",1,"db","2019-04-01","orfuto2",{"$f":"AND(E4054>=Kimutatás!B$2,E4054<=Kimutatás!B$3)","v":true}]
[4054,"Pécs","011","Q1","2019-03-06","KKV hitelnövekmény (db)",2,"db","2019-04-01","orfuto2",{"$f":"AND(E4055>=Kimutatás!B$2,E4055<=Kimutatás!B$3)","v":true}]
[4055,"Pécs","011","Q1","2019-03-06","KKV számlanyitás",3,"db","2019-04-01","orfuto2",{"$f":"AND(E4056>=Kimutatás!B$2,E4056<=Kimutatás!B$3)","v":true}]
[4056,"Pécs","011","Q1","2019-03-06","Betét állomány növekmény",22,"Mhuf","2019-04-01","orfuto2",{"$f":"AND(E4057>=Kimutatás!B$2,E4057<=Kimutatás!B$3)","v":true}]
[4057,"Pécs","011","Q1","2019-03-07","Betérő ügyfelek",29,"fő","2019-04-01","orfuto2",{"$f":"AND(E4058>=Kimutatás!B$2,E4058<=Kimutatás!B$3)","v":true}]
[4058,"Pécs","011","Q1","2019-03-07","Lakossági hitelnövekmény összege ",37,"Mhuf","2019-04-01","orfuto2",{"$f":"AND(E4059>=Kimutatás!B$2,E4059<=Kimutatás!B$3)","v":true}]
[4059,"Pécs","011","Q1","2019-03-07","Lakossági számlanyitás",-1,"db","2019-04-01","orfuto2",{"$f":"AND(E4060>=Kimutatás!B$2,E4060<=Kimutatás!B$3)","v":true}]
[4060,"Pécs","011","Q1","2019-03-07","KKV hitelnövekmény (db)",-2,"db","2019-04-01","orfuto2",{"$f":"AND(E4061>=Kimutatás!B$2,E4061<=Kimutatás!B$3)","v":true}]
[4061,"Pécs","011","Q1","2019-03-07","KKV számlanyitás",3,"db","2019-04-01","orfuto2",{"$f":"AND(E4062>=Kimutatás!B$2,E4062<=Kimutatás!B$3)","v":true}]
[4062,"Pécs","011","Q1","2019-03-07","Betét állomány növekmény",10,"Mhuf","2019-04-01","orfuto2",{"$f":"AND(E4063>=Kimutatás!B$2,E4063<=Kimutatás!B$3)","v":true}]
[4063,"Pécs","011","Q1","2019-03-10","Betérő ügyfelek",35,"fő","2019-04-01","orfuto2",{"$f":"AND(E4064>=Kimutatás!B$2,E4064<=Kimutatás!B$3)","v":true}]
[4064,"Pécs","011","Q1","2019-03-10","Lakossági hitelnövekmény összege ",37,"Mhuf","2019-04-01","orfuto2",{"$f":"AND(E4065>=Kimutatás!B$2,E4065<=Kimutatás!B$3)","v":true}]
[4065,"Pécs","011","Q1","2019-03-10","Lakossági számlanyitás",-3,"db","2019-04-01","orfuto2",{"$f":"AND(E4066>=Kimutatás!B$2,E4066<=Kimutatás!B$3)","v":true}]
[4066,"Pécs","011","Q1","2019-03-10","KKV hitelnövekmény (db)",1,"db","2019-04-01","orfuto2",{"$f":"AND(E4067>=Kimutatás!B$2,E4067<=Kimutatás!B$3)","v":true}]
[4067,"Pécs","011","Q1","2019-03-10","KKV számlanyitás",0,"db","2019-04-01","orfuto2",{"$f":"AND(E4068>=Kimutatás!B$2,E4068<=Kimutatás!B$3)","v":true}]
[4068,"Pécs","011","Q1","2019-03-10","Betét állomány növekmény",24,"Mhuf","2019-04-01","orfuto2",{"$f":"AND(E4069>=Kimutatás!B$2,E4069<=Kimutatás!B$3)","v":true}]
[4069,"Pécs","011","Q1","2019-03-11","Betérő ügyfelek",30,"fő","2019-04-01","orfuto2",{"$f":"AND(E4070>=Kimutatás!B$2,E4070<=Kimutatás!B$3)","v":false}]
[4070,"Pécs","011","Q1","2019-03-11","Lakossági hitelnövekmény összege ",44,"Mhuf","2019-04-01","orfuto2",{"$f":"AND(E4071>=Kimutatás!B$2,E4071<=Kimutatás!B$3)","v":false}]
[4071,"Pécs","011","Q1","2019-03-11","Lakossági számlanyitás",-5,"db","2019-04-01","orfuto2",{"$f":"AND(E4072>=Kimutatás!B$2,E4072<=Kimutatás!B$3)","v":false}]
[4072,"Pécs","011","Q1","2019-03-11","KKV hitelnövekmény (db)",-2,"db","2019-04-01","orfuto2",{"$f":"AND(E4073>=Kimutatás!B$2,E4073<=Kimutatás!B$3)","v":false}]
[4073,"Pécs","011","Q1","2019-03-11","KKV számlanyitás",-4,"db","2019-04-01","orfuto2",{"$f":"AND(E4074>=Kimutatás!B$2,E4074<=Kimutatás!B$3)","v":false}]
[4074,"Pécs","011","Q1","2019-03-11","Betét állomány növekmény",33,"Mhuf","2019-04-01","orfuto2",{"$f":"AND(E4075>=Kimutatás!B$2,E4075<=Kimutatás!B$3)","v":false}]
[4075,"Pécs","011","Q1","2019-03-12","Betérő ügyfelek",14,"fő","2019-04-01","orfuto2",{"$f":"AND(E4076>=Kimutatás!B$2,E4076<=Kimutatás!B$3)","v":false}]
[4076,"Pécs","011","Q1","2019-03-12","Lakossági hitelnövekmény összege ",19,"Mhuf","2019-04-01","orfuto2",{"$f":"AND(E4077>=Kimutatás!B$2,E4077<=Kimutatás!B$3)","v":false}]
[4077,"Pécs","011","Q1","2019-03-12","Lakossági számlanyitás",7,"db","2019-04-01","orfuto2",{"$f":"AND(E4078>=Kimutatás!B$2,E4078<=Kimutatás!B$3)","v":false}]
[4078,"Pécs","011","Q1","2019-03-12","KKV hitelnövekmény (db)",0,"db","2019-04-01","orfuto2",{"$f":"AND(E4079>=Kimutatás!B$2,E4079<=Kimutatás!B$3)","v":false}]
[4079,"Pécs","011","Q1","2019-03-12","KKV számlanyitás",-2,"db","2019-04-01","orfuto2",{"$f":"AND(E4080>=Kimutatás!B$2,E4080<=Kimutatás!B$3)","v":false}]
[4080,"Pécs","011","Q1","2019-03-12","Betét állomány növekmény",1,"Mhuf","2019-04-01","orfuto2",{"$f":"AND(E4081>=Kimutatás!B$2,E4081<=Kimutatás!B$3)","v":false}]
[4081,"Pécs","011","Q1","2019-03-13","Betérő ügyfelek",50,"fő","2019-04-01","orfuto2",{"$f":"AND(E4082>=Kimutatás!B$2,E4082<=Kimutatás!B$3)","v":false}]
[4082,"Pécs","011","Q1","2019-03-13","Lakossági hitelnövekmény összege ",33,"Mhuf","2019-04-01","orfuto2",{"$f":"AND(E4083>=Kimutatás!B$2,E4083<=Kimutatás!B$3)","v":false}]
[4083,"Pécs","011","Q1","2019-03-13","Lakossági számlanyitás",-1,"db","2019-04-01","orfuto2",{"$f":"AND(E4084>=Kimutatás!B$2,E4084<=Kimutatás!B$3)","v":false}]
[4084,"Pécs","011","Q1","2019-03-13","KKV hitelnövekmény (db)",2,"db","2019-04-01","orfuto2",{"$f":"AND(E4085>=Kimutatás!B$2,E4085<=Kimutatás!B$3)","v":false}]
[4085,"Pécs","011","Q1","2019-03-13","KKV számlanyitás",-4,"db","2019-04-01","orfuto2",{"$f":"AND(E4086>=Kimutatás!B$2,E4086<=Kimutatás!B$3)","v":false}]
[4086,"Pécs","011","Q1","2019-03-13","Betét állomány növekmény",-3,"Mhuf","2019-04-01","orfuto2",{"$f":"AND(E4087>=Kimutatás!B$2,E4087<=Kimutatás!B$3)","v":false}]
[4087,"Pécs","011","Q1","2019-03-14","Betérő ügyfelek",20,"fő","2019-04-01","orfuto2",{"$f":"AND(E4088>=Kimutatás!B$2,E4088<=Kimutatás!B$3)","v":false}]
[4088,"Pécs","011","Q1","2019-03-14","Lakossági hitelnövekmény összege ",26,"Mhuf","2019-04-01","orfuto2",{"$f":"AND(E4089>=Kimutatás!B$2,E4089<=Kimutatás!B$3)","v":false}]
[4089,"Pécs","011","Q1","2019-03-14","Lakossági számlanyitás",9,"db","2019-04-01","orfuto2",{"$f":"AND(E4090>=Kimutatás!B$2,E4090<=Kimutatás!B$3)","v":false}]
[4090,"Pécs","011","Q1","2019-03-14","KKV hitelnövekmény (db)",2,"db","2019-04-01","orfuto2",{"$f":"AND(E4091>=Kimutatás!B$2,E4091<=Kimutatás!B$3)","v":false}]
[4091,"Pécs","011","Q1","2019-03-14","KKV számlanyitás",5,"db","2019-04-01","orfuto2",{"$f":"AND(E4092>=Kimutatás!B$2,E4092<=Kimutatás!B$3)","v":false}]
[4092,"Pécs","011","Q1","2019-03-14","Betét állomány növekmény",32,"Mhuf","2019-04-01","orfuto2",{"$f":"AND(E4093>=Kimutatás!B$2,E4093<=Kimutatás!B$3)","v":false}]
[4093,"Pécs","011","Q1","2019-03-17","Betérő ügyfelek",38,"fő","2019-04-01","orfuto2",{"$f":"AND(E4094>=Kimutatás!B$2,E4094<=Kimutatás!B$3)","v":false}]
[4094,"Pécs","011","Q1","2019-03-17","Lakossági hitelnövekmény összege ",29,"Mhuf","2019-04-01","orfuto2",{"$f":"AND(E4095>=Kimutatás!B$2,E4095<=Kimutatás!B$3)","v":false}]
[4095,"Pécs","011","Q1","2019-03-17","Lakossági számlanyitás",7,"db","2019-04-01","orfuto2",{"$f":"AND(E4096>=Kimutatás!B$2,E4096<=Kimutatás!B$3)","v":false}]
[4096,"Pécs","011","Q1","2019-03-17","KKV hitelnövekmény (db)",-2,"db","2019-04-01","orfuto2",{"$f":"AND(E4097>=Kimutatás!B$2,E4097<=Kimutatás!B$3)","v":false}]
[4097,"Pécs","011","Q1","2019-03-17","KKV számlanyitás",3,"db","2019-04-01","orfuto2",{"$f":"AND(E4098>=Kimutatás!B$2,E4098<=Kimutatás!B$3)","v":false}]
[4098,"Pécs","011","Q1","2019-03-17","Betét állomány növekmény",3,"Mhuf","2019-04-01","orfuto2",{"$f":"AND(E4099>=Kimutatás!B$2,E4099<=Kimutatás!B$3)","v":false}]
[4099,"Pécs","011","Q1","2019-03-18","Betérő ügyfelek",40,"fő","2019-04-01","orfuto2",{"$f":"AND(E4100>=Kimutatás!B$2,E4100<=Kimutatás!B$3)","v":false}]
[4100,"Pécs","011","Q1","2019-03-18","Lakossági hitelnövekmény összege ",40,"Mhuf","2019-04-01","orfuto2",{"$f":"AND(E4101>=Kimutatás!B$2,E4101<=Kimutatás!B$3)","v":false}]
[4101,"Pécs","011","Q1","2019-03-18","Lakossági számlanyitás",-5,"db","2019-04-01","orfuto2",{"$f":"AND(E4102>=Kimutatás!B$2,E4102<=Kimutatás!B$3)","v":false}]
[4102,"Pécs","011","Q1","2019-03-18","KKV hitelnövekmény (db)",1,"db","2019-04-01","orfuto2",{"$f":"AND(E4103>=Kimutatás!B$2,E4103<=Kimutatás!B$3)","v":false}]
[4103,"Pécs","011","Q1","2019-03-18","KKV számlanyitás",4,"db","2019-04-01","orfuto2",{"$f":"AND(E4104>=Kimutatás!B$2,E4104<=Kimutatás!B$3)","v":false}]
[4104,"Pécs","011","Q1","2019-03-18","Betét állomány növekmény",12,"Mhuf","2019-04-01","orfuto2",{"$f":"AND(E4105>=Kimutatás!B$2,E4105<=Kimutatás!B$3)","v":false}]
[4105,"Pécs","011","Q1","2019-03-19","Betérő ügyfelek",43,"fő","2019-04-01","orfuto2",{"$f":"AND(E4106>=Kimutatás!B$2,E4106<=Kimutatás!B$3)","v":false}]
[4106,"Pécs","011","Q1","2019-03-19","Lakossági hitelnövekmény összege ",12,"Mhuf","2019-04-01","orfuto2",{"$f":"AND(E4107>=Kimutatás!B$2,E4107<=Kimutatás!B$3)","v":false}]
[4107,"Pécs","011","Q1","2019-03-19","Lakossági számlanyitás",5,"db","2019-04-01","orfuto2",{"$f":"AND(E4108>=Kimutatás!B$2,E4108<=Kimutatás!B$3)","v":false}]
[4108,"Pécs","011","Q1","2019-03-19","KKV hitelnövekmény (db)",0,"db","2019-04-01","orfuto2",{"$f":"AND(E4109>=Kimutatás!B$2,E4109<=Kimutatás!B$3)","v":false}]
[4109,"Pécs","011","Q1","2019-03-19","KKV számlanyitás",5,"db","2019-04-01","orfuto2",{"$f":"AND(E4110>=Kimutatás!B$2,E4110<=Kimutatás!B$3)","v":false}]
[4110,"Pécs","011","Q1","2019-03-19","Betét állomány növekmény",-9,"Mhuf","2019-04-01","orfuto2",{"$f":"AND(E4111>=Kimutatás!B$2,E4111<=Kimutatás!B$3)","v":false}]
[4111,"Pécs","011","Q1","2019-03-20","Betérő ügyfelek",3,"fő","2019-04-01","orfuto2",{"$f":"AND(E4112>=Kimutatás!B$2,E4112<=Kimutatás!B$3)","v":false}]
[4112,"Pécs","011","Q1","2019-03-20","Lakossági hitelnövekmény összege ",41,"Mhuf","2019-04-01","orfuto2",{"$f":"AND(E4113>=Kimutatás!B$2,E4113<=Kimutatás!B$3)","v":false}]
[4113,"Pécs","011","Q1","2019-03-20","Lakossági számlanyitás",7,"db","2019-04-01","orfuto2",{"$f":"AND(E4114>=Kimutatás!B$2,E4114<=Kimutatás!B$3)","v":false}]
[4114,"Pécs","011","Q1","2019-03-20","KKV hitelnövekmény (db)",2,"db","2019-04-01","orfuto2",{"$f":"AND(E4115>=Kimutatás!B$2,E4115<=Kimutatás!B$3)","v":false}]
[4115,"Pécs","011","Q1","2019-03-20","KKV számlanyitás",-1,"db","2019-04-01","orfuto2",{"$f":"AND(E4116>=Kimutatás!B$2,E4116<=Kimutatás!B$3)","v":false}]
[4116,"Pécs","011","Q1","2019-03-20","Betét állomány növekmény",12,"Mhuf","2019-04-01","orfuto2",{"$f":"AND(E4117>=Kimutatás!B$2,E4117<=Kimutatás!B$3)","v":false}]
[4117,"Pécs","011","Q1","2019-03-21","Betérő ügyfelek",47,"fő","2019-04-01","orfuto2",{"$f":"AND(E4118>=Kimutatás!B$2,E4118<=Kimutatás!B$3)","v":false}]
[4118,"Pécs","011","Q1","2019-03-21","Lakossági hitelnövekmény összege ",3,"Mhuf","2019-04-01","orfuto2",{"$f":"AND(E4119>=Kimutatás!B$2,E4119<=Kimutatás!B$3)","v":false}]
[4119,"Pécs","011","Q1","2019-03-21","Lakossági számlanyitás",9,"db","2019-04-01","orfuto2",{"$f":"AND(E4120>=Kimutatás!B$2,E4120<=Kimutatás!B$3)","v":false}]
[4120,"Pécs","011","Q1","2019-03-21","KKV hitelnövekmény (db)",2,"db","2019-04-01","orfuto2",{"$f":"AND(E4121>=Kimutatás!B$2,E4121<=Kimutatás!B$3)","v":false}]
[4121,"Pécs","011","Q1","2019-03-21","KKV számlanyitás",-3,"db","2019-04-01","orfuto2",{"$f":"AND(E4122>=Kimutatás!B$2,E4122<=Kimutatás!B$3)","v":false}]
[4122,"Pécs","011","Q1","2019-03-21","Betét állomány növekmény",-3,"Mhuf","2019-04-01","orfuto2",{"$f":"AND(E4123>=Kimutatás!B$2,E4123<=Kimutatás!B$3)","v":false}]
[4123,"Pécs","011","Q1","2019-03-24","Betérő ügyfelek",20,"fő","2019-04-01","orfuto2",{"$f":"AND(E4124>=Kimutatás!B$2,E4124<=Kimutatás!B$3)","v":false}]
[4124,"Pécs","011","Q1","2019-03-24","Lakossági hitelnövekmény összege ",33,"Mhuf","2019-04-01","orfuto2",{"$f":"AND(E4125>=Kimutatás!B$2,E4125<=Kimutatás!B$3)","v":false}]
[4125,"Pécs","011","Q1","2019-03-24","Lakossági számlanyitás",3,"db","2019-04-01","orfuto2",{"$f":"AND(E4126>=Kimutatás!B$2,E4126<=Kimutatás!B$3)","v":false}]
[4126,"Pécs","011","Q1","2019-03-24","KKV hitelnövekmény (db)",1,"db","2019-04-01","orfuto2",{"$f":"AND(E4127>=Kimutatás!B$2,E4127<=Kimutatás!B$3)","v":false}]
[4127,"Pécs","011","Q1","2019-03-24","KKV számlanyitás",3,"db","2019-04-01","orfuto2",{"$f":"AND(E4128>=Kimutatás!B$2,E4128<=Kimutatás!B$3)","v":false}]
[4128,"Pécs","011","Q1","2019-03-24","Betét állomány növekmény",18,"Mhuf","2019-04-01","orfuto2",{"$f":"AND(E4129>=Kimutatás!B$2,E4129<=Kimutatás!B$3)","v":false}]
[4129,"Pécs","011","Q1","2019-03-25","Betérő ügyfelek",27,"fő","2019-04-01","orfuto2",{"$f":"AND(E4130>=Kimutatás!B$2,E4130<=Kimutatás!B$3)","v":false}]
[4130,"Pécs","011","Q1","2019-03-25","Lakossági hitelnövekmény összege ",-4,"Mhuf","2019-04-01","orfuto2",{"$f":"AND(E4131>=Kimutatás!B$2,E4131<=Kimutatás!B$3)","v":false}]
[4131,"Pécs","011","Q1","2019-03-25","Lakossági számlanyitás",2,"db","2019-04-01","orfuto2",{"$f":"AND(E4132>=Kimutatás!B$2,E4132<=Kimutatás!B$3)","v":false}]
[4132,"Pécs","011","Q1","2019-03-25","KKV hitelnövekmény (db)",1,"db","2019-04-01","orfuto2",{"$f":"AND(E4133>=Kimutatás!B$2,E4133<=Kimutatás!B$3)","v":false}]
[4133,"Pécs","011","Q1","2019-03-25","KKV számlanyitás",1,"db","2019-04-01","orfuto2",{"$f":"AND(E4134>=Kimutatás!B$2,E4134<=Kimutatás!B$3)","v":false}]
[4134,"Pécs","011","Q1","2019-03-25","Betét állomány növekmény",27,"Mhuf","2019-04-01","orfuto2",{"$f":"AND(E4135>=Kimutatás!B$2,E4135<=Kimutatás!B$3)","v":false}]
[4135,"Pécs","011","Q1","2019-03-26","Betérő ügyfelek",9,"fő","2019-04-01","orfuto2",{"$f":"AND(E4136>=Kimutatás!B$2,E4136<=Kimutatás!B$3)","v":false}]
[4136,"Pécs","011","Q1","2019-03-26","Lakossági hitelnövekmény összege ",34,"Mhuf","2019-04-01","orfuto2",{"$f":"AND(E4137>=Kimutatás!B$2,E4137<=Kimutatás!B$3)","v":false}]
[4137,"Pécs","011","Q1","2019-03-26","Lakossági számlanyitás",7,"db","2019-04-01","orfuto2",{"$f":"AND(E4138>=Kimutatás!B$2,E4138<=Kimutatás!B$3)","v":false}]
[4138,"Pécs","011","Q1","2019-03-26","KKV hitelnövekmény (db)",0,"db","2019-04-01","orfuto2",{"$f":"AND(E4139>=Kimutatás!B$2,E4139<=Kimutatás!B$3)","v":false}]
[4139,"Pécs","011","Q1","2019-03-26","KKV számlanyitás",-2,"db","2019-04-01","orfuto2",{"$f":"AND(E4140>=Kimutatás!B$2,E4140<=Kimutatás!B$3)","v":false}]
[4140,"Pécs","011","Q1","2019-03-26","Betét állomány növekmény",-17,"Mhuf","2019-04-01","orfuto2",{"$f":"AND(E4141>=Kimutatás!B$2,E4141<=Kimutatás!B$3)","v":false}]
[4141,"Pécs","011","Q1","2019-03-27","Betérő ügyfelek",2,"fő","2019-04-01","orfuto2",{"$f":"AND(E4142>=Kimutatás!B$2,E4142<=Kimutatás!B$3)","v":false}]
[4142,"Pécs","011","Q1","2019-03-27","Lakossági hitelnövekmény összege ",12,"Mhuf","2019-04-01","orfuto2",{"$f":"AND(E4143>=Kimutatás!B$2,E4143<=Kimutatás!B$3)","v":false}]
[4143,"Pécs","011","Q1","2019-03-27","Lakossági számlanyitás",2,"db","2019-04-01","orfuto2",{"$f":"AND(E4144>=Kimutatás!B$2,E4144<=Kimutatás!B$3)","v":false}]
[4144,"Pécs","011","Q1","2019-03-27","KKV hitelnövekmény (db)",0,"db","2019-04-01","orfuto2",{"$f":"AND(E4145>=Kimutatás!B$2,E4145<=Kimutatás!B$3)","v":false}]
[4145,"Pécs","011","Q1","2019-03-27","KKV számlanyitás",-5,"db","2019-04-01","orfuto2",{"$f":"AND(E4146>=Kimutatás!B$2,E4146<=Kimutatás!B$3)","v":false}]
[4146,"Pécs","011","Q1","2019-03-27","Betét állomány növekmény",11,"Mhuf","2019-04-01","orfuto2",{"$f":"AND(E4147>=Kimutatás!B$2,E4147<=Kimutatás!B$3)","v":false}]
[4147,"Pécs","011","Q1","2019-03-28","Betérő ügyfelek",39,"fő","2019-04-01","orfuto2",{"$f":"AND(E4148>=Kimutatás!B$2,E4148<=Kimutatás!B$3)","v":false}]
[4148,"Pécs","011","Q1","2019-03-28","Lakossági hitelnövekmény összege ",0,"Mhuf","2019-04-01","orfuto2",{"$f":"AND(E4149>=Kimutatás!B$2,E4149<=Kimutatás!B$3)","v":false}]
[4149,"Pécs","011","Q1","2019-03-28","Lakossági számlanyitás",-1,"db","2019-04-01","orfuto2",{"$f":"AND(E4150>=Kimutatás!B$2,E4150<=Kimutatás!B$3)","v":false}]
[4150,"Pécs","011","Q1","2019-03-28","KKV hitelnövekmény (db)",2,"db","2019-04-01","orfuto2",{"$f":"AND(E4151>=Kimutatás!B$2,E4151<=Kimutatás!B$3)","v":false}]
[4151,"Pécs","011","Q1","2019-03-28","KKV számlanyitás",3,"db","2019-04-01","orfuto2",{"$f":"AND(E4152>=Kimutatás!B$2,E4152<=Kimutatás!B$3)","v":false}]
[4152,"Pécs","011","Q1","2019-03-28","Betét állomány növekmény",17,"Mhuf","2019-04-01","orfuto2",{"$f":"AND(E4153>=Kimutatás!B$2,E4153<=Kimutatás!B$3)","v":false}]
[4153,"Pécs","011","Q1","2019-03-31","Betérő ügyfelek",36,"fő","2019-04-01","orfuto2",{"$f":"AND(E4154>=Kimutatás!B$2,E4154<=Kimutatás!B$3)","v":false}]
[4154,"Pécs","011","Q1","2019-03-31","Lakossági hitelnövekmény összege ",26,"Mhuf","2019-04-01","orfuto2",{"$f":"AND(E4155>=Kimutatás!B$2,E4155<=Kimutatás!B$3)","v":false}]
[4155,"Pécs","011","Q1","2019-03-31","Lakossági számlanyitás",2,"db","2019-04-01","orfuto2",{"$f":"AND(E4156>=Kimutatás!B$2,E4156<=Kimutatás!B$3)","v":false}]
[4156,"Pécs","011","Q1","2019-03-31","KKV hitelnövekmény (db)",-1,"db","2019-04-01","orfuto2",{"$f":"AND(E4157>=Kimutatás!B$2,E4157<=Kimutatás!B$3)","v":false}]
[4157,"Pécs","011","Q1","2019-03-31","KKV számlanyitás",-5,"db","2019-04-01","orfuto2",{"$f":"AND(E4158>=Kimutatás!B$2,E4158<=Kimutatás!B$3)","v":false}]
[4158,"Pécs","011","Q1","2019-03-31","Betét állomány növekmény",2,"Mhuf","2019-04-01","orfuto2",{"$f":"AND(E4159>=Kimutatás!B$2,E4159<=Kimutatás!B$3)","v":false}]
[4159,"Salgótarján","012","Q1","2019-01-02","Betérő ügyfelek",4,"fő","2019-02-01","pasztoi",{"$f":"AND(E4160>=Kimutatás!B$2,E4160<=Kimutatás!B$3)","v":false}]
[4160,"Salgótarján","012","Q1","2019-01-02","Lakossági hitelnövekmény összege ",35,"Mhuf","2019-02-01","pasztoi",{"$f":"AND(E4161>=Kimutatás!B$2,E4161<=Kimutatás!B$3)","v":false}]
[4161,"Salgótarján","012","Q1","2019-01-02","Lakossági számlanyitás",1,"db","2019-02-01","pasztoi",{"$f":"AND(E4162>=Kimutatás!B$2,E4162<=Kimutatás!B$3)","v":false}]
[4162,"Salgótarján","012","Q1","2019-01-02","KKV hitelnövekmény (db)",0,"db","2019-02-01","pasztoi",{"$f":"AND(E4163>=Kimutatás!B$2,E4163<=Kimutatás!B$3)","v":false}]
[4163,"Salgótarján","012","Q1","2019-01-02","KKV számlanyitás",-1,"db","2019-02-01","pasztoi",{"$f":"AND(E4164>=Kimutatás!B$2,E4164<=Kimutatás!B$3)","v":false}]
[4164,"Salgótarján","012","Q1","2019-01-02","Betét állomány növekmény",34,"Mhuf","2019-02-01","pasztoi",{"$f":"AND(E4165>=Kimutatás!B$2,E4165<=Kimutatás!B$3)","v":false}]
[4165,"Salgótarján","012","Q1","2019-01-03","Betérő ügyfelek",23,"fő","2019-02-01","pasztoi",{"$f":"AND(E4166>=Kimutatás!B$2,E4166<=Kimutatás!B$3)","v":false}]
[4166,"Salgótarján","012","Q1","2019-01-03","Lakossági hitelnövekmény összege ",18,"Mhuf","2019-02-01","pasztoi",{"$f":"AND(E4167>=Kimutatás!B$2,E4167<=Kimutatás!B$3)","v":false}]
[4167,"Salgótarján","012","Q1","2019-01-03","Lakossági számlanyitás",5,"db","2019-02-01","pasztoi",{"$f":"AND(E4168>=Kimutatás!B$2,E4168<=Kimutatás!B$3)","v":false}]
[4168,"Salgótarján","012","Q1","2019-01-03","KKV hitelnövekmény (db)",0,"db","2019-02-01","pasztoi",{"$f":"AND(E4169>=Kimutatás!B$2,E4169<=Kimutatás!B$3)","v":false}]
[4169,"Salgótarján","012","Q1","2019-01-03","KKV számlanyitás",-2,"db","2019-02-01","pasztoi",{"$f":"AND(E4170>=Kimutatás!B$2,E4170<=Kimutatás!B$3)","v":false}]
[4170,"Salgótarján","012","Q1","2019-01-03","Betét állomány növekmény",10,"Mhuf","2019-02-01","pasztoi",{"$f":"AND(E4171>=Kimutatás!B$2,E4171<=Kimutatás!B$3)","v":false}]
[4171,"Salgótarján","012","Q1","2019-01-06","Betérő ügyfelek",27,"fő","2019-02-01","pasztoi",{"$f":"AND(E4172>=Kimutatás!B$2,E4172<=Kimutatás!B$3)","v":false}]
[4172,"Salgótarján","012","Q1","2019-01-06","Lakossági hitelnövekmény összege ",-5,"Mhuf","2019-02-01","pasztoi",{"$f":"AND(E4173>=Kimutatás!B$2,E4173<=Kimutatás!B$3)","v":false}]
[4173,"Salgótarján","012","Q1","2019-01-06","Lakossági számlanyitás",-5,"db","2019-02-01","pasztoi",{"$f":"AND(E4174>=Kimutatás!B$2,E4174<=Kimutatás!B$3)","v":false}]
[4174,"Salgótarján","012","Q1","2019-01-06","KKV hitelnövekmény (db)",0,"db","2019-02-01","pasztoi",{"$f":"AND(E4175>=Kimutatás!B$2,E4175<=Kimutatás!B$3)","v":false}]
[4175,"Salgótarján","012","Q1","2019-01-06","KKV számlanyitás",-2,"db","2019-02-01","pasztoi",{"$f":"AND(E4176>=Kimutatás!B$2,E4176<=Kimutatás!B$3)","v":false}]
[4176,"Salgótarján","012","Q1","2019-01-06","Betét állomány növekmény",-15,"Mhuf","2019-02-01","pasztoi",{"$f":"AND(E4177>=Kimutatás!B$2,E4177<=Kimutatás!B$3)","v":false}]
[4177,"Salgótarján","012","Q1","2019-01-07","Betérő ügyfelek",6,"fő","2019-02-01","pasztoi",{"$f":"AND(E4178>=Kimutatás!B$2,E4178<=Kimutatás!B$3)","v":false}]
[4178,"Salgótarján","012","Q1","2019-01-07","Lakossági hitelnövekmény összege ",18,"Mhuf","2019-02-01","pasztoi",{"$f":"AND(E4179>=Kimutatás!B$2,E4179<=Kimutatás!B$3)","v":false}]
[4179,"Salgótarján","012","Q1","2019-01-07","Lakossági számlanyitás",-3,"db","2019-02-01","pasztoi",{"$f":"AND(E4180>=Kimutatás!B$2,E4180<=Kimutatás!B$3)","v":false}]
[4180,"Salgótarján","012","Q1","2019-01-07","KKV hitelnövekmény (db)",-1,"db","2019-02-01","pasztoi",{"$f":"AND(E4181>=Kimutatás!B$2,E4181<=Kimutatás!B$3)","v":false}]
[4181,"Salgótarján","012","Q1","2019-01-07","KKV számlanyitás",3,"db","2019-02-01","pasztoi",{"$f":"AND(E4182>=Kimutatás!B$2,E4182<=Kimutatás!B$3)","v":false}]
[4182,"Salgótarján","012","Q1","2019-01-07","Betét állomány növekmény",45,"Mhuf","2019-02-01","pasztoi",{"$f":"AND(E4183>=Kimutatás!B$2,E4183<=Kimutatás!B$3)","v":false}]
[4183,"Salgótarján","012","Q1","2019-01-08","Betérő ügyfelek",41,"fő","2019-02-01","pasztoi",{"$f":"AND(E4184>=Kimutatás!B$2,E4184<=Kimutatás!B$3)","v":false}]
[4184,"Salgótarján","012","Q1","2019-01-08","Lakossági hitelnövekmény összege ",41,"Mhuf","2019-02-01","pasztoi",{"$f":"AND(E4185>=Kimutatás!B$2,E4185<=Kimutatás!B$3)","v":false}]
[4185,"Salgótarján","012","Q1","2019-01-08","Lakossági számlanyitás",-4,"db","2019-02-01","pasztoi",{"$f":"AND(E4186>=Kimutatás!B$2,E4186<=Kimutatás!B$3)","v":false}]
[4186,"Salgótarján","012","Q1","2019-01-08","KKV hitelnövekmény (db)",-1,"db","2019-02-01","pasztoi",{"$f":"AND(E4187>=Kimutatás!B$2,E4187<=Kimutatás!B$3)","v":false}]
[4187,"Salgótarján","012","Q1","2019-01-08","KKV számlanyitás",-3,"db","2019-02-01","pasztoi",{"$f":"AND(E4188>=Kimutatás!B$2,E4188<=Kimutatás!B$3)","v":false}]
[4188,"Salgótarján","012","Q1","2019-01-08","Betét állomány növekmény",43,"Mhuf","2019-02-01","pasztoi",{"$f":"AND(E4189>=Kimutatás!B$2,E4189<=Kimutatás!B$3)","v":false}]
[4189,"Salgótarján","012","Q1","2019-01-09","Betérő ügyfelek",22,"fő","2019-02-01","pasztoi",{"$f":"AND(E4190>=Kimutatás!B$2,E4190<=Kimutatás!B$3)","v":false}]
[4190,"Salgótarján","012","Q1","2019-01-09","Lakossági hitelnövekmény összege ",48,"Mhuf","2019-02-01","pasztoi",{"$f":"AND(E4191>=Kimutatás!B$2,E4191<=Kimutatás!B$3)","v":false}]
[4191,"Salgótarján","012","Q1","2019-01-09","Lakossági számlanyitás",10,"db","2019-02-01","pasztoi",{"$f":"AND(E4192>=Kimutatás!B$2,E4192<=Kimutatás!B$3)","v":false}]
[4192,"Salgótarján","012","Q1","2019-01-09","KKV hitelnövekmény (db)",1,"db","2019-02-01","pasztoi",{"$f":"AND(E4193>=Kimutatás!B$2,E4193<=Kimutatás!B$3)","v":false}]
[4193,"Salgótarján","012","Q1","2019-01-09","KKV számlanyitás",-3,"db","2019-02-01","pasztoi",{"$f":"AND(E4194>=Kimutatás!B$2,E4194<=Kimutatás!B$3)","v":false}]
[4194,"Salgótarján","012","Q1","2019-01-09","Betét állomány növekmény",30,"Mhuf","2019-02-01","pasztoi",{"$f":"AND(E4195>=Kimutatás!B$2,E4195<=Kimutatás!B$3)","v":false}]
[4195,"Salgótarján","012","Q1","2019-01-10","Betérő ügyfelek",38,"fő","2019-02-01","pasztoi",{"$f":"AND(E4196>=Kimutatás!B$2,E4196<=Kimutatás!B$3)","v":true}]
[4196,"Salgótarján","012","Q1","2019-01-10","Lakossági hitelnövekmény összege ",45,"Mhuf","2019-02-01","pasztoi",{"$f":"AND(E4197>=Kimutatás!B$2,E4197<=Kimutatás!B$3)","v":true}]
[4197,"Salgótarján","012","Q1","2019-01-10","Lakossági számlanyitás",8,"db","2019-02-01","pasztoi",{"$f":"AND(E4198>=Kimutatás!B$2,E4198<=Kimutatás!B$3)","v":true}]
[4198,"Salgótarján","012","Q1","2019-01-10","KKV hitelnövekmény (db)",2,"db","2019-02-01","pasztoi",{"$f":"AND(E4199>=Kimutatás!B$2,E4199<=Kimutatás!B$3)","v":true}]
[4199,"Salgótarján","012","Q1","2019-01-10","KKV számlanyitás",-5,"db","2019-02-01","pasztoi",{"$f":"AND(E4200>=Kimutatás!B$2,E4200<=Kimutatás!B$3)","v":true}]
[4200,"Salgótarján","012","Q1","2019-01-10","Betét állomány növekmény",-15,"Mhuf","2019-02-01","pasztoi",{"$f":"AND(E4201>=Kimutatás!B$2,E4201<=Kimutatás!B$3)","v":true}]
[4201,"Salgótarján","012","Q1","2019-01-13","Betérő ügyfelek",3,"fő","2019-02-01","pasztoi",{"$f":"AND(E4202>=Kimutatás!B$2,E4202<=Kimutatás!B$3)","v":true}]
[4202,"Salgótarján","012","Q1","2019-01-13","Lakossági hitelnövekmény összege ",27,"Mhuf","2019-02-01","pasztoi",{"$f":"AND(E4203>=Kimutatás!B$2,E4203<=Kimutatás!B$3)","v":true}]
[4203,"Salgótarján","012","Q1","2019-01-13","Lakossági számlanyitás",10,"db","2019-02-01","pasztoi",{"$f":"AND(E4204>=Kimutatás!B$2,E4204<=Kimutatás!B$3)","v":true}]
[4204,"Salgótarján","012","Q1","2019-01-13","KKV hitelnövekmény (db)",-1,"db","2019-02-01","pasztoi",{"$f":"AND(E4205>=Kimutatás!B$2,E4205<=Kimutatás!B$3)","v":true}]
[4205,"Salgótarján","012","Q1","2019-01-13","KKV számlanyitás",4,"db","2019-02-01","pasztoi",{"$f":"AND(E4206>=Kimutatás!B$2,E4206<=Kimutatás!B$3)","v":true}]
[4206,"Salgótarján","012","Q1","2019-01-13","Betét állomány növekmény",-10,"Mhuf","2019-02-01","pasztoi",{"$f":"AND(E4207>=Kimutatás!B$2,E4207<=Kimutatás!B$3)","v":true}]
[4207,"Salgótarján","012","Q1","2019-01-14","Betérő ügyfelek",47,"fő","2019-02-01","pasztoi",{"$f":"AND(E4208>=Kimutatás!B$2,E4208<=Kimutatás!B$3)","v":true}]
[4208,"Salgótarján","012","Q1","2019-01-14","Lakossági hitelnövekmény összege ",13,"Mhuf","2019-02-01","pasztoi",{"$f":"AND(E4209>=Kimutatás!B$2,E4209<=Kimutatás!B$3)","v":true}]
[4209,"Salgótarján","012","Q1","2019-01-14","Lakossági számlanyitás",10,"db","2019-02-01","pasztoi",{"$f":"AND(E4210>=Kimutatás!B$2,E4210<=Kimutatás!B$3)","v":true}]
[4210,"Salgótarján","012","Q1","2019-01-14","KKV hitelnövekmény (db)",0,"db","2019-02-01","pasztoi",{"$f":"AND(E4211>=Kimutatás!B$2,E4211<=Kimutatás!B$3)","v":true}]
[4211,"Salgótarján","012","Q1","2019-01-14","KKV számlanyitás",-2,"db","2019-02-01","pasztoi",{"$f":"AND(E4212>=Kimutatás!B$2,E4212<=Kimutatás!B$3)","v":true}]
[4212,"Salgótarján","012","Q1","2019-01-14","Betét állomány növekmény",-6,"Mhuf","2019-02-01","pasztoi",{"$f":"AND(E4213>=Kimutatás!B$2,E4213<=Kimutatás!B$3)","v":true}]
[4213,"Salgótarján","012","Q1","2019-01-15","Betérő ügyfelek",17,"fő","2019-02-01","pasztoi",{"$f":"AND(E4214>=Kimutatás!B$2,E4214<=Kimutatás!B$3)","v":true}]
[4214,"Salgótarján","012","Q1","2019-01-15","Lakossági hitelnövekmény összege ",36,"Mhuf","2019-02-01","pasztoi",{"$f":"AND(E4215>=Kimutatás!B$2,E4215<=Kimutatás!B$3)","v":true}]
[4215,"Salgótarján","012","Q1","2019-01-15","Lakossági számlanyitás",0,"db","2019-02-01","pasztoi",{"$f":"AND(E4216>=Kimutatás!B$2,E4216<=Kimutatás!B$3)","v":true}]
[4216,"Salgótarján","012","Q1","2019-01-15","KKV hitelnövekmény (db)",2,"db","2019-02-01","pasztoi",{"$f":"AND(E4217>=Kimutatás!B$2,E4217<=Kimutatás!B$3)","v":true}]
[4217,"Salgótarján","012","Q1","2019-01-15","KKV számlanyitás",-2,"db","2019-02-01","pasztoi",{"$f":"AND(E4218>=Kimutatás!B$2,E4218<=Kimutatás!B$3)","v":true}]
[4218,"Salgótarján","012","Q1","2019-01-15","Betét állomány növekmény",13,"Mhuf","2019-02-01","pasztoi",{"$f":"AND(E4219>=Kimutatás!B$2,E4219<=Kimutatás!B$3)","v":true}]
[4219,"Salgótarján","012","Q1","2019-01-16","Betérő ügyfelek",37,"fő","2019-02-01","pasztoi",{"$f":"AND(E4220>=Kimutatás!B$2,E4220<=Kimutatás!B$3)","v":true}]
[4220,"Salgótarján","012","Q1","2019-01-16","Lakossági hitelnövekmény összege ",43,"Mhuf","2019-02-01","pasztoi",{"$f":"AND(E4221>=Kimutatás!B$2,E4221<=Kimutatás!B$3)","v":true}]
[4221,"Salgótarján","012","Q1","2019-01-16","Lakossági számlanyitás",-5,"db","2019-02-01","pasztoi",{"$f":"AND(E4222>=Kimutatás!B$2,E4222<=Kimutatás!B$3)","v":true}]
[4222,"Salgótarján","012","Q1","2019-01-16","KKV hitelnövekmény (db)",-2,"db","2019-02-01","pasztoi",{"$f":"AND(E4223>=Kimutatás!B$2,E4223<=Kimutatás!B$3)","v":true}]
[4223,"Salgótarján","012","Q1","2019-01-16","KKV számlanyitás",0,"db","2019-02-01","pasztoi",{"$f":"AND(E4224>=Kimutatás!B$2,E4224<=Kimutatás!B$3)","v":true}]
[4224,"Salgótarján","012","Q1","2019-01-16","Betét állomány növekmény",8,"Mhuf","2019-02-01","pasztoi",{"$f":"AND(E4225>=Kimutatás!B$2,E4225<=Kimutatás!B$3)","v":true}]
[4225,"Salgótarján","012","Q1","2019-01-17","Betérő ügyfelek",14,"fő","2019-02-01","pasztoi",{"$f":"AND(E4226>=Kimutatás!B$2,E4226<=Kimutatás!B$3)","v":true}]
[4226,"Salgótarján","012","Q1","2019-01-17","Lakossági hitelnövekmény összege ",30,"Mhuf","2019-02-01","pasztoi",{"$f":"AND(E4227>=Kimutatás!B$2,E4227<=Kimutatás!B$3)","v":true}]
[4227,"Salgótarján","012","Q1","2019-01-17","Lakossági számlanyitás",2,"db","2019-02-01","pasztoi",{"$f":"AND(E4228>=Kimutatás!B$2,E4228<=Kimutatás!B$3)","v":true}]
[4228,"Salgótarján","012","Q1","2019-01-17","KKV hitelnövekmény (db)",1,"db","2019-02-01","pasztoi",{"$f":"AND(E4229>=Kimutatás!B$2,E4229<=Kimutatás!B$3)","v":true}]
[4229,"Salgótarján","012","Q1","2019-01-17","KKV számlanyitás",-5,"db","2019-02-01","pasztoi",{"$f":"AND(E4230>=Kimutatás!B$2,E4230<=Kimutatás!B$3)","v":true}]
[4230,"Salgótarján","012","Q1","2019-01-17","Betét állomány növekmény",-9,"Mhuf","2019-02-01","pasztoi",{"$f":"AND(E4231>=Kimutatás!B$2,E4231<=Kimutatás!B$3)","v":true}]
[4231,"Salgótarján","012","Q1","2019-01-20","Betérő ügyfelek",41,"fő","2019-02-01","pasztoi",{"$f":"AND(E4232>=Kimutatás!B$2,E4232<=Kimutatás!B$3)","v":true}]
[4232,"Salgótarján","012","Q1","2019-01-20","Lakossági hitelnövekmény összege ",-8,"Mhuf","2019-02-01","pasztoi",{"$f":"AND(E4233>=Kimutatás!B$2,E4233<=Kimutatás!B$3)","v":true}]
[4233,"Salgótarján","012","Q1","2019-01-20","Lakossági számlanyitás",-2,"db","2019-02-01","pasztoi",{"$f":"AND(E4234>=Kimutatás!B$2,E4234<=Kimutatás!B$3)","v":true}]
[4234,"Salgótarján","012","Q1","2019-01-20","KKV hitelnövekmény (db)",2,"db","2019-02-01","pasztoi",{"$f":"AND(E4235>=Kimutatás!B$2,E4235<=Kimutatás!B$3)","v":true}]
[4235,"Salgótarján","012","Q1","2019-01-20","KKV számlanyitás",-5,"db","2019-02-01","pasztoi",{"$f":"AND(E4236>=Kimutatás!B$2,E4236<=Kimutatás!B$3)","v":true}]
[4236,"Salgótarján","012","Q1","2019-01-20","Betét állomány növekmény",25,"Mhuf","2019-02-01","pasztoi",{"$f":"AND(E4237>=Kimutatás!B$2,E4237<=Kimutatás!B$3)","v":true}]
[4237,"Salgótarján","012","Q1","2019-01-21","Betérő ügyfelek",40,"fő","2019-02-01","pasztoi",{"$f":"AND(E4238>=Kimutatás!B$2,E4238<=Kimutatás!B$3)","v":true}]
[4238,"Salgótarján","012","Q1","2019-01-21","Lakossági hitelnövekmény összege ",-8,"Mhuf","2019-02-01","pasztoi",{"$f":"AND(E4239>=Kimutatás!B$2,E4239<=Kimutatás!B$3)","v":true}]
[4239,"Salgótarján","012","Q1","2019-01-21","Lakossági számlanyitás",0,"db","2019-02-01","pasztoi",{"$f":"AND(E4240>=Kimutatás!B$2,E4240<=Kimutatás!B$3)","v":true}]
[4240,"Salgótarján","012","Q1","2019-01-21","KKV hitelnövekmény (db)",-1,"db","2019-02-01","pasztoi",{"$f":"AND(E4241>=Kimutatás!B$2,E4241<=Kimutatás!B$3)","v":true}]
[4241,"Salgótarján","012","Q1","2019-01-21","KKV számlanyitás",2,"db","2019-02-01","pasztoi",{"$f":"AND(E4242>=Kimutatás!B$2,E4242<=Kimutatás!B$3)","v":true}]
[4242,"Salgótarján","012","Q1","2019-01-21","Betét állomány növekmény",-11,"Mhuf","2019-02-01","pasztoi",{"$f":"AND(E4243>=Kimutatás!B$2,E4243<=Kimutatás!B$3)","v":true}]
[4243,"Salgótarján","012","Q1","2019-01-22","Betérő ügyfelek",42,"fő","2019-02-01","pasztoi",{"$f":"AND(E4244>=Kimutatás!B$2,E4244<=Kimutatás!B$3)","v":true}]
[4244,"Salgótarján","012","Q1","2019-01-22","Lakossági hitelnövekmény összege ",0,"Mhuf","2019-02-01","pasztoi",{"$f":"AND(E4245>=Kimutatás!B$2,E4245<=Kimutatás!B$3)","v":true}]
[4245,"Salgótarján","012","Q1","2019-01-22","Lakossági számlanyitás",-5,"db","2019-02-01","pasztoi",{"$f":"AND(E4246>=Kimutatás!B$2,E4246<=Kimutatás!B$3)","v":true}]
[4246,"Salgótarján","012","Q1","2019-01-22","KKV hitelnövekmény (db)",2,"db","2019-02-01","pasztoi",{"$f":"AND(E4247>=Kimutatás!B$2,E4247<=Kimutatás!B$3)","v":true}]
[4247,"Salgótarján","012","Q1","2019-01-22","KKV számlanyitás",1,"db","2019-02-01","pasztoi",{"$f":"AND(E4248>=Kimutatás!B$2,E4248<=Kimutatás!B$3)","v":true}]
[4248,"Salgótarján","012","Q1","2019-01-22","Betét állomány növekmény",50,"Mhuf","2019-02-01","pasztoi",{"$f":"AND(E4249>=Kimutatás!B$2,E4249<=Kimutatás!B$3)","v":true}]
[4249,"Salgótarján","012","Q1","2019-01-23","Betérő ügyfelek",37,"fő","2019-02-01","pasztoi",{"$f":"AND(E4250>=Kimutatás!B$2,E4250<=Kimutatás!B$3)","v":true}]
[4250,"Salgótarján","012","Q1","2019-01-23","Lakossági hitelnövekmény összege ",25,"Mhuf","2019-02-01","pasztoi",{"$f":"AND(E4251>=Kimutatás!B$2,E4251<=Kimutatás!B$3)","v":true}]
[4251,"Salgótarján","012","Q1","2019-01-23","Lakossági számlanyitás",4,"db","2019-02-01","pasztoi",{"$f":"AND(E4252>=Kimutatás!B$2,E4252<=Kimutatás!B$3)","v":true}]
[4252,"Salgótarján","012","Q1","2019-01-23","KKV hitelnövekmény (db)",0,"db","2019-02-01","pasztoi",{"$f":"AND(E4253>=Kimutatás!B$2,E4253<=Kimutatás!B$3)","v":true}]
[4253,"Salgótarján","012","Q1","2019-01-23","KKV számlanyitás",5,"db","2019-02-01","pasztoi",{"$f":"AND(E4254>=Kimutatás!B$2,E4254<=Kimutatás!B$3)","v":true}]
[4254,"Salgótarján","012","Q1","2019-01-23","Betét állomány növekmény",18,"Mhuf","2019-02-01","pasztoi",{"$f":"AND(E4255>=Kimutatás!B$2,E4255<=Kimutatás!B$3)","v":true}]
[4255,"Salgótarján","012","Q1","2019-01-24","Betérő ügyfelek",29,"fő","2019-02-01","pasztoi",{"$f":"AND(E4256>=Kimutatás!B$2,E4256<=Kimutatás!B$3)","v":true}]
[4256,"Salgótarján","012","Q1","2019-01-24","Lakossági hitelnövekmény összege ",30,"Mhuf","2019-02-01","pasztoi",{"$f":"AND(E4257>=Kimutatás!B$2,E4257<=Kimutatás!B$3)","v":true}]
[4257,"Salgótarján","012","Q1","2019-01-24","Lakossági számlanyitás",-3,"db","2019-02-01","pasztoi",{"$f":"AND(E4258>=Kimutatás!B$2,E4258<=Kimutatás!B$3)","v":true}]
[4258,"Salgótarján","012","Q1","2019-01-24","KKV hitelnövekmény (db)",1,"db","2019-02-01","pasztoi",{"$f":"AND(E4259>=Kimutatás!B$2,E4259<=Kimutatás!B$3)","v":true}]
[4259,"Salgótarján","012","Q1","2019-01-24","KKV számlanyitás",1,"db","2019-02-01","pasztoi",{"$f":"AND(E4260>=Kimutatás!B$2,E4260<=Kimutatás!B$3)","v":true}]
[4260,"Salgótarján","012","Q1","2019-01-24","Betét állomány növekmény",34,"Mhuf","2019-02-01","pasztoi",{"$f":"AND(E4261>=Kimutatás!B$2,E4261<=Kimutatás!B$3)","v":true}]
[4261,"Salgótarján","012","Q1","2019-01-27","Betérő ügyfelek",8,"fő","2019-02-01","pasztoi",{"$f":"AND(E4262>=Kimutatás!B$2,E4262<=Kimutatás!B$3)","v":true}]
[4262,"Salgótarján","012","Q1","2019-01-27","Lakossági hitelnövekmény összege ",4,"Mhuf","2019-02-01","pasztoi",{"$f":"AND(E4263>=Kimutatás!B$2,E4263<=Kimutatás!B$3)","v":true}]
[4263,"Salgótarján","012","Q1","2019-01-27","Lakossági számlanyitás",10,"db","2019-02-01","pasztoi",{"$f":"AND(E4264>=Kimutatás!B$2,E4264<=Kimutatás!B$3)","v":true}]
[4264,"Salgótarján","012","Q1","2019-01-27","KKV hitelnövekmény (db)",-1,"db","2019-02-01","pasztoi",{"$f":"AND(E4265>=Kimutatás!B$2,E4265<=Kimutatás!B$3)","v":true}]
[4265,"Salgótarján","012","Q1","2019-01-27","KKV számlanyitás",-2,"db","2019-02-01","pasztoi",{"$f":"AND(E4266>=Kimutatás!B$2,E4266<=Kimutatás!B$3)","v":true}]
[4266,"Salgótarján","012","Q1","2019-01-27","Betét állomány növekmény",37,"Mhuf","2019-02-01","pasztoi",{"$f":"AND(E4267>=Kimutatás!B$2,E4267<=Kimutatás!B$3)","v":true}]
[4267,"Salgótarján","012","Q1","2019-01-28","Betérő ügyfelek",50,"fő","2019-02-01","pasztoi",{"$f":"AND(E4268>=Kimutatás!B$2,E4268<=Kimutatás!B$3)","v":true}]
[4268,"Salgótarján","012","Q1","2019-01-28","Lakossági hitelnövekmény összege ",35,"Mhuf","2019-02-01","pasztoi",{"$f":"AND(E4269>=Kimutatás!B$2,E4269<=Kimutatás!B$3)","v":true}]
[4269,"Salgótarján","012","Q1","2019-01-28","Lakossági számlanyitás",-4,"db","2019-02-01","pasztoi",{"$f":"AND(E4270>=Kimutatás!B$2,E4270<=Kimutatás!B$3)","v":true}]
[4270,"Salgótarján","012","Q1","2019-01-28","KKV hitelnövekmény (db)",1,"db","2019-02-01","pasztoi",{"$f":"AND(E4271>=Kimutatás!B$2,E4271<=Kimutatás!B$3)","v":true}]
[4271,"Salgótarján","012","Q1","2019-01-28","KKV számlanyitás",2,"db","2019-02-01","pasztoi",{"$f":"AND(E4272>=Kimutatás!B$2,E4272<=Kimutatás!B$3)","v":true}]
[4272,"Salgótarján","012","Q1","2019-01-28","Betét állomány növekmény",10,"Mhuf","2019-02-01","pasztoi",{"$f":"AND(E4273>=Kimutatás!B$2,E4273<=Kimutatás!B$3)","v":true}]
[4273,"Salgótarján","012","Q1","2019-01-29","Betérő ügyfelek",45,"fő","2019-02-01","pasztoi",{"$f":"AND(E4274>=Kimutatás!B$2,E4274<=Kimutatás!B$3)","v":true}]
[4274,"Salgótarján","012","Q1","2019-01-29","Lakossági hitelnövekmény összege ",42,"Mhuf","2019-02-01","pasztoi",{"$f":"AND(E4275>=Kimutatás!B$2,E4275<=Kimutatás!B$3)","v":true}]
[4275,"Salgótarján","012","Q1","2019-01-29","Lakossági számlanyitás",1,"db","2019-02-01","pasztoi",{"$f":"AND(E4276>=Kimutatás!B$2,E4276<=Kimutatás!B$3)","v":true}]
[4276,"Salgótarján","012","Q1","2019-01-29","KKV hitelnövekmény (db)",0,"db","2019-02-01","pasztoi",{"$f":"AND(E4277>=Kimutatás!B$2,E4277<=Kimutatás!B$3)","v":true}]
[4277,"Salgótarján","012","Q1","2019-01-29","KKV számlanyitás",4,"db","2019-02-01","pasztoi",{"$f":"AND(E4278>=Kimutatás!B$2,E4278<=Kimutatás!B$3)","v":true}]
[4278,"Salgótarján","012","Q1","2019-01-29","Betét állomány növekmény",-14,"Mhuf","2019-02-01","pasztoi",{"$f":"AND(E4279>=Kimutatás!B$2,E4279<=Kimutatás!B$3)","v":true}]
[4279,"Salgótarján","012","Q1","2019-01-30","Betérő ügyfelek",12,"fő","2019-02-01","pasztoi",{"$f":"AND(E4280>=Kimutatás!B$2,E4280<=Kimutatás!B$3)","v":true}]
[4280,"Salgótarján","012","Q1","2019-01-30","Lakossági hitelnövekmény összege ",29,"Mhuf","2019-02-01","pasztoi",{"$f":"AND(E4281>=Kimutatás!B$2,E4281<=Kimutatás!B$3)","v":true}]
[4281,"Salgótarján","012","Q1","2019-01-30","Lakossági számlanyitás",0,"db","2019-02-01","pasztoi",{"$f":"AND(E4282>=Kimutatás!B$2,E4282<=Kimutatás!B$3)","v":true}]
[4282,"Salgótarján","012","Q1","2019-01-30","KKV hitelnövekmény (db)",-1,"db","2019-02-01","pasztoi",{"$f":"AND(E4283>=Kimutatás!B$2,E4283<=Kimutatás!B$3)","v":true}]
[4283,"Salgótarján","012","Q1","2019-01-30","KKV számlanyitás",-4,"db","2019-02-01","pasztoi",{"$f":"AND(E4284>=Kimutatás!B$2,E4284<=Kimutatás!B$3)","v":true}]
[4284,"Salgótarján","012","Q1","2019-01-30","Betét állomány növekmény",5,"Mhuf","2019-02-01","pasztoi",{"$f":"AND(E4285>=Kimutatás!B$2,E4285<=Kimutatás!B$3)","v":true}]
[4285,"Salgótarján","012","Q1","2019-01-31","Betérő ügyfelek",50,"fő","2019-02-01","pasztoi",{"$f":"AND(E4286>=Kimutatás!B$2,E4286<=Kimutatás!B$3)","v":true}]
[4286,"Salgótarján","012","Q1","2019-01-31","Lakossági hitelnövekmény összege ",20,"Mhuf","2019-02-01","pasztoi",{"$f":"AND(E4287>=Kimutatás!B$2,E4287<=Kimutatás!B$3)","v":true}]
[4287,"Salgótarján","012","Q1","2019-01-31","Lakossági számlanyitás",1,"db","2019-02-01","pasztoi",{"$f":"AND(E4288>=Kimutatás!B$2,E4288<=Kimutatás!B$3)","v":true}]
[4288,"Salgótarján","012","Q1","2019-01-31","KKV hitelnövekmény (db)",-2,"db","2019-02-01","pasztoi",{"$f":"AND(E4289>=Kimutatás!B$2,E4289<=Kimutatás!B$3)","v":true}]
[4289,"Salgótarján","012","Q1","2019-01-31","KKV számlanyitás",4,"db","2019-02-01","pasztoi",{"$f":"AND(E4290>=Kimutatás!B$2,E4290<=Kimutatás!B$3)","v":true}]
[4290,"Salgótarján","012","Q1","2019-01-31","Betét állomány növekmény",-17,"Mhuf","2019-02-01","pasztoi",{"$f":"AND(E4291>=Kimutatás!B$2,E4291<=Kimutatás!B$3)","v":true}]
[4291,"Salgótarján","012","Q1","2019-02-03","Betérő ügyfelek",3,"fő","2019-03-01","ludvig3",{"$f":"AND(E4292>=Kimutatás!B$2,E4292<=Kimutatás!B$3)","v":true}]
[4292,"Salgótarján","012","Q1","2019-02-03","Lakossági hitelnövekmény összege ",30,"Mhuf","2019-03-01","ludvig3",{"$f":"AND(E4293>=Kimutatás!B$2,E4293<=Kimutatás!B$3)","v":true}]
[4293,"Salgótarján","012","Q1","2019-02-03","Lakossági számlanyitás",6,"db","2019-03-01","ludvig3",{"$f":"AND(E4294>=Kimutatás!B$2,E4294<=Kimutatás!B$3)","v":true}]
[4294,"Salgótarján","012","Q1","2019-02-03","KKV hitelnövekmény (db)",-2,"db","2019-03-01","ludvig3",{"$f":"AND(E4295>=Kimutatás!B$2,E4295<=Kimutatás!B$3)","v":true}]
[4295,"Salgótarján","012","Q1","2019-02-03","KKV számlanyitás",5,"db","2019-03-01","ludvig3",{"$f":"AND(E4296>=Kimutatás!B$2,E4296<=Kimutatás!B$3)","v":true}]
[4296,"Salgótarján","012","Q1","2019-02-03","Betét állomány növekmény",31,"Mhuf","2019-03-01","ludvig3",{"$f":"AND(E4297>=Kimutatás!B$2,E4297<=Kimutatás!B$3)","v":true}]
[4297,"Salgótarján","012","Q1","2019-02-04","Betérő ügyfelek",35,"fő","2019-03-01","ludvig3",{"$f":"AND(E4298>=Kimutatás!B$2,E4298<=Kimutatás!B$3)","v":true}]
[4298,"Salgótarján","012","Q1","2019-02-04","Lakossági hitelnövekmény összege ",34,"Mhuf","2019-03-01","ludvig3",{"$f":"AND(E4299>=Kimutatás!B$2,E4299<=Kimutatás!B$3)","v":true}]
[4299,"Salgótarján","012","Q1","2019-02-04","Lakossági számlanyitás",0,"db","2019-03-01","ludvig3",{"$f":"AND(E4300>=Kimutatás!B$2,E4300<=Kimutatás!B$3)","v":true}]
[4300,"Salgótarján","012","Q1","2019-02-04","KKV hitelnövekmény (db)",-2,"db","2019-03-01","ludvig3",{"$f":"AND(E4301>=Kimutatás!B$2,E4301<=Kimutatás!B$3)","v":true}]
[4301,"Salgótarján","012","Q1","2019-02-04","KKV számlanyitás",1,"db","2019-03-01","ludvig3",{"$f":"AND(E4302>=Kimutatás!B$2,E4302<=Kimutatás!B$3)","v":true}]
[4302,"Salgótarján","012","Q1","2019-02-04","Betét állomány növekmény",38,"Mhuf","2019-03-01","ludvig3",{"$f":"AND(E4303>=Kimutatás!B$2,E4303<=Kimutatás!B$3)","v":true}]
[4303,"Salgótarján","012","Q1","2019-02-05","Betérő ügyfelek",50,"fő","2019-03-01","ludvig3",{"$f":"AND(E4304>=Kimutatás!B$2,E4304<=Kimutatás!B$3)","v":true}]
[4304,"Salgótarján","012","Q1","2019-02-05","Lakossági hitelnövekmény összege ",-9,"Mhuf","2019-03-01","ludvig3",{"$f":"AND(E4305>=Kimutatás!B$2,E4305<=Kimutatás!B$3)","v":true}]
[4305,"Salgótarján","012","Q1","2019-02-05","Lakossági számlanyitás",6,"db","2019-03-01","ludvig3",{"$f":"AND(E4306>=Kimutatás!B$2,E4306<=Kimutatás!B$3)","v":true}]
[4306,"Salgótarján","012","Q1","2019-02-05","KKV hitelnövekmény (db)",2,"db","2019-03-01","ludvig3",{"$f":"AND(E4307>=Kimutatás!B$2,E4307<=Kimutatás!B$3)","v":true}]
[4307,"Salgótarján","012","Q1","2019-02-05","KKV számlanyitás",-3,"db","2019-03-01","ludvig3",{"$f":"AND(E4308>=Kimutatás!B$2,E4308<=Kimutatás!B$3)","v":true}]
[4308,"Salgótarján","012","Q1","2019-02-05","Betét állomány növekmény",-4,"Mhuf","2019-03-01","ludvig3",{"$f":"AND(E4309>=Kimutatás!B$2,E4309<=Kimutatás!B$3)","v":true}]
[4309,"Salgótarján","012","Q1","2019-02-06","Betérő ügyfelek",16,"fő","2019-03-01","ludvig3",{"$f":"AND(E4310>=Kimutatás!B$2,E4310<=Kimutatás!B$3)","v":true}]
[4310,"Salgótarján","012","Q1","2019-02-06","Lakossági hitelnövekmény összege ",30,"Mhuf","2019-03-01","ludvig3",{"$f":"AND(E4311>=Kimutatás!B$2,E4311<=Kimutatás!B$3)","v":true}]
[4311,"Salgótarján","012","Q1","2019-02-06","Lakossági számlanyitás",0,"db","2019-03-01","ludvig3",{"$f":"AND(E4312>=Kimutatás!B$2,E4312<=Kimutatás!B$3)","v":true}]
[4312,"Salgótarján","012","Q1","2019-02-06","KKV hitelnövekmény (db)",-2,"db","2019-03-01","ludvig3",{"$f":"AND(E4313>=Kimutatás!B$2,E4313<=Kimutatás!B$3)","v":true}]
[4313,"Salgótarján","012","Q1","2019-02-06","KKV számlanyitás",-3,"db","2019-03-01","ludvig3",{"$f":"AND(E4314>=Kimutatás!B$2,E4314<=Kimutatás!B$3)","v":true}]
[4314,"Salgótarján","012","Q1","2019-02-06","Betét állomány növekmény",32,"Mhuf","2019-03-01","ludvig3",{"$f":"AND(E4315>=Kimutatás!B$2,E4315<=Kimutatás!B$3)","v":true}]
[4315,"Salgótarján","012","Q1","2019-02-07","Betérő ügyfelek",3,"fő","2019-03-01","ludvig3",{"$f":"AND(E4316>=Kimutatás!B$2,E4316<=Kimutatás!B$3)","v":true}]
[4316,"Salgótarján","012","Q1","2019-02-07","Lakossági hitelnövekmény összege ",-2,"Mhuf","2019-03-01","ludvig3",{"$f":"AND(E4317>=Kimutatás!B$2,E4317<=Kimutatás!B$3)","v":true}]
[4317,"Salgótarján","012","Q1","2019-02-07","Lakossági számlanyitás",-4,"db","2019-03-01","ludvig3",{"$f":"AND(E4318>=Kimutatás!B$2,E4318<=Kimutatás!B$3)","v":true}]
[4318,"Salgótarján","012","Q1","2019-02-07","KKV hitelnövekmény (db)",0,"db","2019-03-01","ludvig3",{"$f":"AND(E4319>=Kimutatás!B$2,E4319<=Kimutatás!B$3)","v":true}]
[4319,"Salgótarján","012","Q1","2019-02-07","KKV számlanyitás",-5,"db","2019-03-01","ludvig3",{"$f":"AND(E4320>=Kimutatás!B$2,E4320<=Kimutatás!B$3)","v":true}]
[4320,"Salgótarján","012","Q1","2019-02-07","Betét állomány növekmény",-11,"Mhuf","2019-03-01","ludvig3",{"$f":"AND(E4321>=Kimutatás!B$2,E4321<=Kimutatás!B$3)","v":true}]
[4321,"Salgótarján","012","Q1","2019-02-10","Betérő ügyfelek",1,"fő","2019-03-01","ludvig3",{"$f":"AND(E4322>=Kimutatás!B$2,E4322<=Kimutatás!B$3)","v":true}]
[4322,"Salgótarján","012","Q1","2019-02-10","Lakossági hitelnövekmény összege ",38,"Mhuf","2019-03-01","ludvig3",{"$f":"AND(E4323>=Kimutatás!B$2,E4323<=Kimutatás!B$3)","v":true}]
[4323,"Salgótarján","012","Q1","2019-02-10","Lakossági számlanyitás",-2,"db","2019-03-01","ludvig3",{"$f":"AND(E4324>=Kimutatás!B$2,E4324<=Kimutatás!B$3)","v":true}]
[4324,"Salgótarján","012","Q1","2019-02-10","KKV hitelnövekmény (db)",2,"db","2019-03-01","ludvig3",{"$f":"AND(E4325>=Kimutatás!B$2,E4325<=Kimutatás!B$3)","v":true}]
[4325,"Salgótarján","012","Q1","2019-02-10","KKV számlanyitás",0,"db","2019-03-01","ludvig3",{"$f":"AND(E4326>=Kimutatás!B$2,E4326<=Kimutatás!B$3)","v":true}]
[4326,"Salgótarján","012","Q1","2019-02-10","Betét állomány növekmény",13,"Mhuf","2019-03-01","ludvig3",{"$f":"AND(E4327>=Kimutatás!B$2,E4327<=Kimutatás!B$3)","v":true}]
[4327,"Salgótarján","012","Q1","2019-02-11","Betérő ügyfelek",13,"fő","2019-03-01","ludvig3",{"$f":"AND(E4328>=Kimutatás!B$2,E4328<=Kimutatás!B$3)","v":true}]
[4328,"Salgótarján","012","Q1","2019-02-11","Lakossági hitelnövekmény összege ",49,"Mhuf","2019-03-01","ludvig3",{"$f":"AND(E4329>=Kimutatás!B$2,E4329<=Kimutatás!B$3)","v":true}]
[4329,"Salgótarján","012","Q1","2019-02-11","Lakossági számlanyitás",6,"db","2019-03-01","ludvig3",{"$f":"AND(E4330>=Kimutatás!B$2,E4330<=Kimutatás!B$3)","v":true}]
[4330,"Salgótarján","012","Q1","2019-02-11","KKV hitelnövekmény (db)",-1,"db","2019-03-01","ludvig3",{"$f":"AND(E4331>=Kimutatás!B$2,E4331<=Kimutatás!B$3)","v":true}]
[4331,"Salgótarján","012","Q1","2019-02-11","KKV számlanyitás",-5,"db","2019-03-01","ludvig3",{"$f":"AND(E4332>=Kimutatás!B$2,E4332<=Kimutatás!B$3)","v":true}]
[4332,"Salgótarján","012","Q1","2019-02-11","Betét állomány növekmény",30,"Mhuf","2019-03-01","ludvig3",{"$f":"AND(E4333>=Kimutatás!B$2,E4333<=Kimutatás!B$3)","v":true}]
[4333,"Salgótarján","012","Q1","2019-02-12","Betérő ügyfelek",20,"fő","2019-03-01","ludvig3",{"$f":"AND(E4334>=Kimutatás!B$2,E4334<=Kimutatás!B$3)","v":true}]
[4334,"Salgótarján","012","Q1","2019-02-12","Lakossági hitelnövekmény összege ",46,"Mhuf","2019-03-01","ludvig3",{"$f":"AND(E4335>=Kimutatás!B$2,E4335<=Kimutatás!B$3)","v":true}]
[4335,"Salgótarján","012","Q1","2019-02-12","Lakossági számlanyitás",-5,"db","2019-03-01","ludvig3",{"$f":"AND(E4336>=Kimutatás!B$2,E4336<=Kimutatás!B$3)","v":true}]
[4336,"Salgótarján","012","Q1","2019-02-12","KKV hitelnövekmény (db)",-2,"db","2019-03-01","ludvig3",{"$f":"AND(E4337>=Kimutatás!B$2,E4337<=Kimutatás!B$3)","v":true}]
[4337,"Salgótarján","012","Q1","2019-02-12","KKV számlanyitás",-5,"db","2019-03-01","ludvig3",{"$f":"AND(E4338>=Kimutatás!B$2,E4338<=Kimutatás!B$3)","v":true}]
[4338,"Salgótarján","012","Q1","2019-02-12","Betét állomány növekmény",-8,"Mhuf","2019-03-01","ludvig3",{"$f":"AND(E4339>=Kimutatás!B$2,E4339<=Kimutatás!B$3)","v":true}]
[4339,"Salgótarján","012","Q1","2019-02-13","Betérő ügyfelek",13,"fő","2019-03-01","ludvig3",{"$f":"AND(E4340>=Kimutatás!B$2,E4340<=Kimutatás!B$3)","v":true}]
[4340,"Salgótarján","012","Q1","2019-02-13","Lakossági hitelnövekmény összege ",28,"Mhuf","2019-03-01","ludvig3",{"$f":"AND(E4341>=Kimutatás!B$2,E4341<=Kimutatás!B$3)","v":true}]
[4341,"Salgótarján","012","Q1","2019-02-13","Lakossági számlanyitás",-4,"db","2019-03-01","ludvig3",{"$f":"AND(E4342>=Kimutatás!B$2,E4342<=Kimutatás!B$3)","v":true}]
[4342,"Salgótarján","012","Q1","2019-02-13","KKV hitelnövekmény (db)",0,"db","2019-03-01","ludvig3",{"$f":"AND(E4343>=Kimutatás!B$2,E4343<=Kimutatás!B$3)","v":true}]
[4343,"Salgótarján","012","Q1","2019-02-13","KKV számlanyitás",4,"db","2019-03-01","ludvig3",{"$f":"AND(E4344>=Kimutatás!B$2,E4344<=Kimutatás!B$3)","v":true}]
[4344,"Salgótarján","012","Q1","2019-02-13","Betét állomány növekmény",5,"Mhuf","2019-03-01","ludvig3",{"$f":"AND(E4345>=Kimutatás!B$2,E4345<=Kimutatás!B$3)","v":true}]
[4345,"Salgótarján","012","Q1","2019-02-14","Betérő ügyfelek",29,"fő","2019-03-01","ludvig3",{"$f":"AND(E4346>=Kimutatás!B$2,E4346<=Kimutatás!B$3)","v":true}]
[4346,"Salgótarján","012","Q1","2019-02-14","Lakossági hitelnövekmény összege ",3,"Mhuf","2019-03-01","ludvig3",{"$f":"AND(E4347>=Kimutatás!B$2,E4347<=Kimutatás!B$3)","v":true}]
[4347,"Salgótarján","012","Q1","2019-02-14","Lakossági számlanyitás",-2,"db","2019-03-01","ludvig3",{"$f":"AND(E4348>=Kimutatás!B$2,E4348<=Kimutatás!B$3)","v":true}]
[4348,"Salgótarján","012","Q1","2019-02-14","KKV hitelnövekmény (db)",2,"db","2019-03-01","ludvig3",{"$f":"AND(E4349>=Kimutatás!B$2,E4349<=Kimutatás!B$3)","v":true}]
[4349,"Salgótarján","012","Q1","2019-02-14","KKV számlanyitás",-2,"db","2019-03-01","ludvig3",{"$f":"AND(E4350>=Kimutatás!B$2,E4350<=Kimutatás!B$3)","v":true}]
[4350,"Salgótarján","012","Q1","2019-02-14","Betét állomány növekmény",-20,"Mhuf","2019-03-01","ludvig3",{"$f":"AND(E4351>=Kimutatás!B$2,E4351<=Kimutatás!B$3)","v":true}]
[4351,"Salgótarján","012","Q1","2019-02-17","Betérő ügyfelek",24,"fő","2019-03-01","ludvig3",{"$f":"AND(E4352>=Kimutatás!B$2,E4352<=Kimutatás!B$3)","v":true}]
[4352,"Salgótarján","012","Q1","2019-02-17","Lakossági hitelnövekmény összege ",-5,"Mhuf","2019-03-01","ludvig3",{"$f":"AND(E4353>=Kimutatás!B$2,E4353<=Kimutatás!B$3)","v":true}]
[4353,"Salgótarján","012","Q1","2019-02-17","Lakossági számlanyitás",-5,"db","2019-03-01","ludvig3",{"$f":"AND(E4354>=Kimutatás!B$2,E4354<=Kimutatás!B$3)","v":true}]
[4354,"Salgótarján","012","Q1","2019-02-17","KKV hitelnövekmény (db)",-2,"db","2019-03-01","ludvig3",{"$f":"AND(E4355>=Kimutatás!B$2,E4355<=Kimutatás!B$3)","v":true}]
[4355,"Salgótarján","012","Q1","2019-02-17","KKV számlanyitás",-4,"db","2019-03-01","ludvig3",{"$f":"AND(E4356>=Kimutatás!B$2,E4356<=Kimutatás!B$3)","v":true}]
[4356,"Salgótarján","012","Q1","2019-02-17","Betét állomány növekmény",3,"Mhuf","2019-03-01","ludvig3",{"$f":"AND(E4357>=Kimutatás!B$2,E4357<=Kimutatás!B$3)","v":true}]
[4357,"Salgótarján","012","Q1","2019-02-18","Betérő ügyfelek",11,"fő","2019-03-01","ludvig3",{"$f":"AND(E4358>=Kimutatás!B$2,E4358<=Kimutatás!B$3)","v":true}]
[4358,"Salgótarján","012","Q1","2019-02-18","Lakossági hitelnövekmény összege ",19,"Mhuf","2019-03-01","ludvig3",{"$f":"AND(E4359>=Kimutatás!B$2,E4359<=Kimutatás!B$3)","v":true}]
[4359,"Salgótarján","012","Q1","2019-02-18","Lakossági számlanyitás",0,"db","2019-03-01","ludvig3",{"$f":"AND(E4360>=Kimutatás!B$2,E4360<=Kimutatás!B$3)","v":true}]
[4360,"Salgótarján","012","Q1","2019-02-18","KKV hitelnövekmény (db)",-1,"db","2019-03-01","ludvig3",{"$f":"AND(E4361>=Kimutatás!B$2,E4361<=Kimutatás!B$3)","v":true}]
[4361,"Salgótarján","012","Q1","2019-02-18","KKV számlanyitás",1,"db","2019-03-01","ludvig3",{"$f":"AND(E4362>=Kimutatás!B$2,E4362<=Kimutatás!B$3)","v":true}]
[4362,"Salgótarján","012","Q1","2019-02-18","Betét állomány növekmény",8,"Mhuf","2019-03-01","ludvig3",{"$f":"AND(E4363>=Kimutatás!B$2,E4363<=Kimutatás!B$3)","v":true}]
[4363,"Salgótarján","012","Q1","2019-02-19","Betérő ügyfelek",26,"fő","2019-03-01","ludvig3",{"$f":"AND(E4364>=Kimutatás!B$2,E4364<=Kimutatás!B$3)","v":true}]
[4364,"Salgótarján","012","Q1","2019-02-19","Lakossági hitelnövekmény összege ",26,"Mhuf","2019-03-01","ludvig3",{"$f":"AND(E4365>=Kimutatás!B$2,E4365<=Kimutatás!B$3)","v":true}]
[4365,"Salgótarján","012","Q1","2019-02-19","Lakossági számlanyitás",-5,"db","2019-03-01","ludvig3",{"$f":"AND(E4366>=Kimutatás!B$2,E4366<=Kimutatás!B$3)","v":true}]
[4366,"Salgótarján","012","Q1","2019-02-19","KKV hitelnövekmény (db)",0,"db","2019-03-01","ludvig3",{"$f":"AND(E4367>=Kimutatás!B$2,E4367<=Kimutatás!B$3)","v":true}]
[4367,"Salgótarján","012","Q1","2019-02-19","KKV számlanyitás",-1,"db","2019-03-01","ludvig3",{"$f":"AND(E4368>=Kimutatás!B$2,E4368<=Kimutatás!B$3)","v":true}]
[4368,"Salgótarján","012","Q1","2019-02-19","Betét állomány növekmény",34,"Mhuf","2019-03-01","ludvig3",{"$f":"AND(E4369>=Kimutatás!B$2,E4369<=Kimutatás!B$3)","v":true}]
[4369,"Salgótarján","012","Q1","2019-02-20","Betérő ügyfelek",31,"fő","2019-03-01","ludvig3",{"$f":"AND(E4370>=Kimutatás!B$2,E4370<=Kimutatás!B$3)","v":true}]
[4370,"Salgótarján","012","Q1","2019-02-20","Lakossági hitelnövekmény összege ",35,"Mhuf","2019-03-01","ludvig3",{"$f":"AND(E4371>=Kimutatás!B$2,E4371<=Kimutatás!B$3)","v":true}]
[4371,"Salgótarján","012","Q1","2019-02-20","Lakossági számlanyitás",-5,"db","2019-03-01","ludvig3",{"$f":"AND(E4372>=Kimutatás!B$2,E4372<=Kimutatás!B$3)","v":true}]
[4372,"Salgótarján","012","Q1","2019-02-20","KKV hitelnövekmény (db)",2,"db","2019-03-01","ludvig3",{"$f":"AND(E4373>=Kimutatás!B$2,E4373<=Kimutatás!B$3)","v":true}]
[4373,"Salgótarján","012","Q1","2019-02-20","KKV számlanyitás",2,"db","2019-03-01","ludvig3",{"$f":"AND(E4374>=Kimutatás!B$2,E4374<=Kimutatás!B$3)","v":true}]
[4374,"Salgótarján","012","Q1","2019-02-20","Betét állomány növekmény",3,"Mhuf","2019-03-01","ludvig3",{"$f":"AND(E4375>=Kimutatás!B$2,E4375<=Kimutatás!B$3)","v":true}]
[4375,"Salgótarján","012","Q1","2019-02-21","Betérő ügyfelek",21,"fő","2019-03-01","ludvig3",{"$f":"AND(E4376>=Kimutatás!B$2,E4376<=Kimutatás!B$3)","v":true}]
[4376,"Salgótarján","012","Q1","2019-02-21","Lakossági hitelnövekmény összege ",29,"Mhuf","2019-03-01","ludvig3",{"$f":"AND(E4377>=Kimutatás!B$2,E4377<=Kimutatás!B$3)","v":true}]
[4377,"Salgótarján","012","Q1","2019-02-21","Lakossági számlanyitás",8,"db","2019-03-01","ludvig3",{"$f":"AND(E4378>=Kimutatás!B$2,E4378<=Kimutatás!B$3)","v":true}]
[4378,"Salgótarján","012","Q1","2019-02-21","KKV hitelnövekmény (db)",2,"db","2019-03-01","ludvig3",{"$f":"AND(E4379>=Kimutatás!B$2,E4379<=Kimutatás!B$3)","v":true}]
[4379,"Salgótarján","012","Q1","2019-02-21","KKV számlanyitás",0,"db","2019-03-01","ludvig3",{"$f":"AND(E4380>=Kimutatás!B$2,E4380<=Kimutatás!B$3)","v":true}]
[4380,"Salgótarján","012","Q1","2019-02-21","Betét állomány növekmény",39,"Mhuf","2019-03-01","ludvig3",{"$f":"AND(E4381>=Kimutatás!B$2,E4381<=Kimutatás!B$3)","v":true}]
[4381,"Salgótarján","012","Q1","2019-02-24","Betérő ügyfelek",14,"fő","2019-03-01","ludvig3",{"$f":"AND(E4382>=Kimutatás!B$2,E4382<=Kimutatás!B$3)","v":true}]
[4382,"Salgótarján","012","Q1","2019-02-24","Lakossági hitelnövekmény összege ",46,"Mhuf","2019-03-01","ludvig3",{"$f":"AND(E4383>=Kimutatás!B$2,E4383<=Kimutatás!B$3)","v":true}]
[4383,"Salgótarján","012","Q1","2019-02-24","Lakossági számlanyitás",-1,"db","2019-03-01","ludvig3",{"$f":"AND(E4384>=Kimutatás!B$2,E4384<=Kimutatás!B$3)","v":true}]
[4384,"Salgótarján","012","Q1","2019-02-24","KKV hitelnövekmény (db)",0,"db","2019-03-01","ludvig3",{"$f":"AND(E4385>=Kimutatás!B$2,E4385<=Kimutatás!B$3)","v":true}]
[4385,"Salgótarján","012","Q1","2019-02-24","KKV számlanyitás",-2,"db","2019-03-01","ludvig3",{"$f":"AND(E4386>=Kimutatás!B$2,E4386<=Kimutatás!B$3)","v":true}]
[4386,"Salgótarján","012","Q1","2019-02-24","Betét állomány növekmény",-6,"Mhuf","2019-03-01","ludvig3",{"$f":"AND(E4387>=Kimutatás!B$2,E4387<=Kimutatás!B$3)","v":true}]
[4387,"Salgótarján","012","Q1","2019-02-25","Betérő ügyfelek",35,"fő","2019-03-01","ludvig3",{"$f":"AND(E4388>=Kimutatás!B$2,E4388<=Kimutatás!B$3)","v":true}]
[4388,"Salgótarján","012","Q1","2019-02-25","Lakossági hitelnövekmény összege ",14,"Mhuf","2019-03-01","ludvig3",{"$f":"AND(E4389>=Kimutatás!B$2,E4389<=Kimutatás!B$3)","v":true}]
[4389,"Salgótarján","012","Q1","2019-02-25","Lakossági számlanyitás",1,"db","2019-03-01","ludvig3",{"$f":"AND(E4390>=Kimutatás!B$2,E4390<=Kimutatás!B$3)","v":true}]
[4390,"Salgótarján","012","Q1","2019-02-25","KKV hitelnövekmény (db)",1,"db","2019-03-01","ludvig3",{"$f":"AND(E4391>=Kimutatás!B$2,E4391<=Kimutatás!B$3)","v":true}]
[4391,"Salgótarján","012","Q1","2019-02-25","KKV számlanyitás",1,"db","2019-03-01","ludvig3",{"$f":"AND(E4392>=Kimutatás!B$2,E4392<=Kimutatás!B$3)","v":true}]
[4392,"Salgótarján","012","Q1","2019-02-25","Betét állomány növekmény",-1,"Mhuf","2019-03-01","ludvig3",{"$f":"AND(E4393>=Kimutatás!B$2,E4393<=Kimutatás!B$3)","v":true}]
[4393,"Salgótarján","012","Q1","2019-02-26","Betérő ügyfelek",11,"fő","2019-03-01","ludvig3",{"$f":"AND(E4394>=Kimutatás!B$2,E4394<=Kimutatás!B$3)","v":true}]
[4394,"Salgótarján","012","Q1","2019-02-26","Lakossági hitelnövekmény összege ",-6,"Mhuf","2019-03-01","ludvig3",{"$f":"AND(E4395>=Kimutatás!B$2,E4395<=Kimutatás!B$3)","v":true}]
[4395,"Salgótarján","012","Q1","2019-02-26","Lakossági számlanyitás",4,"db","2019-03-01","ludvig3",{"$f":"AND(E4396>=Kimutatás!B$2,E4396<=Kimutatás!B$3)","v":true}]
[4396,"Salgótarján","012","Q1","2019-02-26","KKV hitelnövekmény (db)",-2,"db","2019-03-01","ludvig3",{"$f":"AND(E4397>=Kimutatás!B$2,E4397<=Kimutatás!B$3)","v":true}]
[4397,"Salgótarján","012","Q1","2019-02-26","KKV számlanyitás",4,"db","2019-03-01","ludvig3",{"$f":"AND(E4398>=Kimutatás!B$2,E4398<=Kimutatás!B$3)","v":true}]
[4398,"Salgótarján","012","Q1","2019-02-26","Betét állomány növekmény",47,"Mhuf","2019-03-01","ludvig3",{"$f":"AND(E4399>=Kimutatás!B$2,E4399<=Kimutatás!B$3)","v":true}]
[4399,"Salgótarján","012","Q1","2019-02-27","Betérő ügyfelek",47,"fő","2019-03-01","ludvig3",{"$f":"AND(E4400>=Kimutatás!B$2,E4400<=Kimutatás!B$3)","v":true}]
[4400,"Salgótarján","012","Q1","2019-02-27","Lakossági hitelnövekmény összege ",44,"Mhuf","2019-03-01","ludvig3",{"$f":"AND(E4401>=Kimutatás!B$2,E4401<=Kimutatás!B$3)","v":true}]
[4401,"Salgótarján","012","Q1","2019-02-27","Lakossági számlanyitás",-3,"db","2019-03-01","ludvig3",{"$f":"AND(E4402>=Kimutatás!B$2,E4402<=Kimutatás!B$3)","v":true}]
[4402,"Salgótarján","012","Q1","2019-02-27","KKV hitelnövekmény (db)",0,"db","2019-03-01","ludvig3",{"$f":"AND(E4403>=Kimutatás!B$2,E4403<=Kimutatás!B$3)","v":true}]
[4403,"Salgótarján","012","Q1","2019-02-27","KKV számlanyitás",-5,"db","2019-03-01","ludvig3",{"$f":"AND(E4404>=Kimutatás!B$2,E4404<=Kimutatás!B$3)","v":true}]
[4404,"Salgótarján","012","Q1","2019-02-27","Betét állomány növekmény",-19,"Mhuf","2019-03-01","ludvig3",{"$f":"AND(E4405>=Kimutatás!B$2,E4405<=Kimutatás!B$3)","v":true}]
[4405,"Salgótarján","012","Q1","2019-02-28","Betérő ügyfelek",18,"fő","2019-03-01","ludvig3",{"$f":"AND(E4406>=Kimutatás!B$2,E4406<=Kimutatás!B$3)","v":true}]
[4406,"Salgótarján","012","Q1","2019-02-28","Lakossági hitelnövekmény összege ",21,"Mhuf","2019-03-01","ludvig3",{"$f":"AND(E4407>=Kimutatás!B$2,E4407<=Kimutatás!B$3)","v":true}]
[4407,"Salgótarján","012","Q1","2019-02-28","Lakossági számlanyitás",5,"db","2019-03-01","ludvig3",{"$f":"AND(E4408>=Kimutatás!B$2,E4408<=Kimutatás!B$3)","v":true}]
[4408,"Salgótarján","012","Q1","2019-02-28","KKV hitelnövekmény (db)",-2,"db","2019-03-01","ludvig3",{"$f":"AND(E4409>=Kimutatás!B$2,E4409<=Kimutatás!B$3)","v":true}]
[4409,"Salgótarján","012","Q1","2019-02-28","KKV számlanyitás",3,"db","2019-03-01","ludvig3",{"$f":"AND(E4410>=Kimutatás!B$2,E4410<=Kimutatás!B$3)","v":true}]
[4410,"Salgótarján","012","Q1","2019-02-28","Betét állomány növekmény",34,"Mhuf","2019-03-01","ludvig3",{"$f":"AND(E4411>=Kimutatás!B$2,E4411<=Kimutatás!B$3)","v":true}]
[4411,"Salgótarján","012","Q1","2019-03-03","Betérő ügyfelek",29,"fő","2019-04-01","martika",{"$f":"AND(E4412>=Kimutatás!B$2,E4412<=Kimutatás!B$3)","v":true}]
[4412,"Salgótarján","012","Q1","2019-03-03","Lakossági hitelnövekmény összege ",22,"Mhuf","2019-04-01","martika",{"$f":"AND(E4413>=Kimutatás!B$2,E4413<=Kimutatás!B$3)","v":true}]
[4413,"Salgótarján","012","Q1","2019-03-03","Lakossági számlanyitás",6,"db","2019-04-01","martika",{"$f":"AND(E4414>=Kimutatás!B$2,E4414<=Kimutatás!B$3)","v":true}]
[4414,"Salgótarján","012","Q1","2019-03-03","KKV hitelnövekmény (db)",1,"db","2019-04-01","martika",{"$f":"AND(E4415>=Kimutatás!B$2,E4415<=Kimutatás!B$3)","v":true}]
[4415,"Salgótarján","012","Q1","2019-03-03","KKV számlanyitás",5,"db","2019-04-01","martika",{"$f":"AND(E4416>=Kimutatás!B$2,E4416<=Kimutatás!B$3)","v":true}]
[4416,"Salgótarján","012","Q1","2019-03-03","Betét állomány növekmény",46,"Mhuf","2019-04-01","martika",{"$f":"AND(E4417>=Kimutatás!B$2,E4417<=Kimutatás!B$3)","v":true}]
[4417,"Salgótarján","012","Q1","2019-03-04","Betérő ügyfelek",20,"fő","2019-04-01","martika",{"$f":"AND(E4418>=Kimutatás!B$2,E4418<=Kimutatás!B$3)","v":true}]
[4418,"Salgótarján","012","Q1","2019-03-04","Lakossági hitelnövekmény összege ",47,"Mhuf","2019-04-01","martika",{"$f":"AND(E4419>=Kimutatás!B$2,E4419<=Kimutatás!B$3)","v":true}]
[4419,"Salgótarján","012","Q1","2019-03-04","Lakossági számlanyitás",-5,"db","2019-04-01","martika",{"$f":"AND(E4420>=Kimutatás!B$2,E4420<=Kimutatás!B$3)","v":true}]
[4420,"Salgótarján","012","Q1","2019-03-04","KKV hitelnövekmény (db)",0,"db","2019-04-01","martika",{"$f":"AND(E4421>=Kimutatás!B$2,E4421<=Kimutatás!B$3)","v":true}]
[4421,"Salgótarján","012","Q1","2019-03-04","KKV számlanyitás",1,"db","2019-04-01","martika",{"$f":"AND(E4422>=Kimutatás!B$2,E4422<=Kimutatás!B$3)","v":true}]
[4422,"Salgótarján","012","Q1","2019-03-04","Betét állomány növekmény",50,"Mhuf","2019-04-01","martika",{"$f":"AND(E4423>=Kimutatás!B$2,E4423<=Kimutatás!B$3)","v":true}]
[4423,"Salgótarján","012","Q1","2019-03-05","Betérő ügyfelek",19,"fő","2019-04-01","martika",{"$f":"AND(E4424>=Kimutatás!B$2,E4424<=Kimutatás!B$3)","v":true}]
[4424,"Salgótarján","012","Q1","2019-03-05","Lakossági hitelnövekmény összege ",18,"Mhuf","2019-04-01","martika",{"$f":"AND(E4425>=Kimutatás!B$2,E4425<=Kimutatás!B$3)","v":true}]
[4425,"Salgótarján","012","Q1","2019-03-05","Lakossági számlanyitás",-2,"db","2019-04-01","martika",{"$f":"AND(E4426>=Kimutatás!B$2,E4426<=Kimutatás!B$3)","v":true}]
[4426,"Salgótarján","012","Q1","2019-03-05","KKV hitelnövekmény (db)",-2,"db","2019-04-01","martika",{"$f":"AND(E4427>=Kimutatás!B$2,E4427<=Kimutatás!B$3)","v":true}]
[4427,"Salgótarján","012","Q1","2019-03-05","KKV számlanyitás",-3,"db","2019-04-01","martika",{"$f":"AND(E4428>=Kimutatás!B$2,E4428<=Kimutatás!B$3)","v":true}]
[4428,"Salgótarján","012","Q1","2019-03-05","Betét állomány növekmény",5,"Mhuf","2019-04-01","martika",{"$f":"AND(E4429>=Kimutatás!B$2,E4429<=Kimutatás!B$3)","v":true}]
[4429,"Salgótarján","012","Q1","2019-03-06","Betérő ügyfelek",32,"fő","2019-04-01","martika",{"$f":"AND(E4430>=Kimutatás!B$2,E4430<=Kimutatás!B$3)","v":true}]
[4430,"Salgótarján","012","Q1","2019-03-06","Lakossági hitelnövekmény összege ",0,"Mhuf","2019-04-01","martika",{"$f":"AND(E4431>=Kimutatás!B$2,E4431<=Kimutatás!B$3)","v":true}]
[4431,"Salgótarján","012","Q1","2019-03-06","Lakossági számlanyitás",1,"db","2019-04-01","martika",{"$f":"AND(E4432>=Kimutatás!B$2,E4432<=Kimutatás!B$3)","v":true}]
[4432,"Salgótarján","012","Q1","2019-03-06","KKV hitelnövekmény (db)",1,"db","2019-04-01","martika",{"$f":"AND(E4433>=Kimutatás!B$2,E4433<=Kimutatás!B$3)","v":true}]
[4433,"Salgótarján","012","Q1","2019-03-06","KKV számlanyitás",0,"db","2019-04-01","martika",{"$f":"AND(E4434>=Kimutatás!B$2,E4434<=Kimutatás!B$3)","v":true}]
[4434,"Salgótarján","012","Q1","2019-03-06","Betét állomány növekmény",-4,"Mhuf","2019-04-01","martika",{"$f":"AND(E4435>=Kimutatás!B$2,E4435<=Kimutatás!B$3)","v":true}]
[4435,"Salgótarján","012","Q1","2019-03-07","Betérő ügyfelek",50,"fő","2019-04-01","martika",{"$f":"AND(E4436>=Kimutatás!B$2,E4436<=Kimutatás!B$3)","v":true}]
[4436,"Salgótarján","012","Q1","2019-03-07","Lakossági hitelnövekmény összege ",-7,"Mhuf","2019-04-01","martika",{"$f":"AND(E4437>=Kimutatás!B$2,E4437<=Kimutatás!B$3)","v":true}]
[4437,"Salgótarján","012","Q1","2019-03-07","Lakossági számlanyitás",9,"db","2019-04-01","martika",{"$f":"AND(E4438>=Kimutatás!B$2,E4438<=Kimutatás!B$3)","v":true}]
[4438,"Salgótarján","012","Q1","2019-03-07","KKV hitelnövekmény (db)",-2,"db","2019-04-01","martika",{"$f":"AND(E4439>=Kimutatás!B$2,E4439<=Kimutatás!B$3)","v":true}]
[4439,"Salgótarján","012","Q1","2019-03-07","KKV számlanyitás",-3,"db","2019-04-01","martika",{"$f":"AND(E4440>=Kimutatás!B$2,E4440<=Kimutatás!B$3)","v":true}]
[4440,"Salgótarján","012","Q1","2019-03-07","Betét állomány növekmény",40,"Mhuf","2019-04-01","martika",{"$f":"AND(E4441>=Kimutatás!B$2,E4441<=Kimutatás!B$3)","v":true}]
[4441,"Salgótarján","012","Q1","2019-03-10","Betérő ügyfelek",2,"fő","2019-04-01","martika",{"$f":"AND(E4442>=Kimutatás!B$2,E4442<=Kimutatás!B$3)","v":true}]
[4442,"Salgótarján","012","Q1","2019-03-10","Lakossági hitelnövekmény összege ",1,"Mhuf","2019-04-01","martika",{"$f":"AND(E4443>=Kimutatás!B$2,E4443<=Kimutatás!B$3)","v":true}]
[4443,"Salgótarján","012","Q1","2019-03-10","Lakossági számlanyitás",-1,"db","2019-04-01","martika",{"$f":"AND(E4444>=Kimutatás!B$2,E4444<=Kimutatás!B$3)","v":true}]
[4444,"Salgótarján","012","Q1","2019-03-10","KKV hitelnövekmény (db)",1,"db","2019-04-01","martika",{"$f":"AND(E4445>=Kimutatás!B$2,E4445<=Kimutatás!B$3)","v":true}]
[4445,"Salgótarján","012","Q1","2019-03-10","KKV számlanyitás",5,"db","2019-04-01","martika",{"$f":"AND(E4446>=Kimutatás!B$2,E4446<=Kimutatás!B$3)","v":true}]
[4446,"Salgótarján","012","Q1","2019-03-10","Betét állomány növekmény",-10,"Mhuf","2019-04-01","martika",{"$f":"AND(E4447>=Kimutatás!B$2,E4447<=Kimutatás!B$3)","v":true}]
[4447,"Salgótarján","012","Q1","2019-03-11","Betérő ügyfelek",48,"fő","2019-04-01","martika",{"$f":"AND(E4448>=Kimutatás!B$2,E4448<=Kimutatás!B$3)","v":false}]
[4448,"Salgótarján","012","Q1","2019-03-11","Lakossági hitelnövekmény összege ",12,"Mhuf","2019-04-01","martika",{"$f":"AND(E4449>=Kimutatás!B$2,E4449<=Kimutatás!B$3)","v":false}]
[4449,"Salgótarján","012","Q1","2019-03-11","Lakossági számlanyitás",0,"db","2019-04-01","martika",{"$f":"AND(E4450>=Kimutatás!B$2,E4450<=Kimutatás!B$3)","v":false}]
[4450,"Salgótarján","012","Q1","2019-03-11","KKV hitelnövekmény (db)",-1,"db","2019-04-01","martika",{"$f":"AND(E4451>=Kimutatás!B$2,E4451<=Kimutatás!B$3)","v":false}]
[4451,"Salgótarján","012","Q1","2019-03-11","KKV számlanyitás",2,"db","2019-04-01","martika",{"$f":"AND(E4452>=Kimutatás!B$2,E4452<=Kimutatás!B$3)","v":false}]
[4452,"Salgótarján","012","Q1","2019-03-11","Betét állomány növekmény",17,"Mhuf","2019-04-01","martika",{"$f":"AND(E4453>=Kimutatás!B$2,E4453<=Kimutatás!B$3)","v":false}]
[4453,"Salgótarján","012","Q1","2019-03-12","Betérő ügyfelek",45,"fő","2019-04-01","martika",{"$f":"AND(E4454>=Kimutatás!B$2,E4454<=Kimutatás!B$3)","v":false}]
[4454,"Salgótarján","012","Q1","2019-03-12","Lakossági hitelnövekmény összege ",-2,"Mhuf","2019-04-01","martika",{"$f":"AND(E4455>=Kimutatás!B$2,E4455<=Kimutatás!B$3)","v":false}]
[4455,"Salgótarján","012","Q1","2019-03-12","Lakossági számlanyitás",-3,"db","2019-04-01","martika",{"$f":"AND(E4456>=Kimutatás!B$2,E4456<=Kimutatás!B$3)","v":false}]
[4456,"Salgótarján","012","Q1","2019-03-12","KKV hitelnövekmény (db)",2,"db","2019-04-01","martika",{"$f":"AND(E4457>=Kimutatás!B$2,E4457<=Kimutatás!B$3)","v":false}]
[4457,"Salgótarján","012","Q1","2019-03-12","KKV számlanyitás",1,"db","2019-04-01","martika",{"$f":"AND(E4458>=Kimutatás!B$2,E4458<=Kimutatás!B$3)","v":false}]
[4458,"Salgótarján","012","Q1","2019-03-12","Betét állomány növekmény",6,"Mhuf","2019-04-01","martika",{"$f":"AND(E4459>=Kimutatás!B$2,E4459<=Kimutatás!B$3)","v":false}]
[4459,"Salgótarján","012","Q1","2019-03-13","Betérő ügyfelek",32,"fő","2019-04-01","martika",{"$f":"AND(E4460>=Kimutatás!B$2,E4460<=Kimutatás!B$3)","v":false}]
[4460,"Salgótarján","012","Q1","2019-03-13","Lakossági hitelnövekmény összege ",13,"Mhuf","2019-04-01","martika",{"$f":"AND(E4461>=Kimutatás!B$2,E4461<=Kimutatás!B$3)","v":false}]
[4461,"Salgótarján","012","Q1","2019-03-13","Lakossági számlanyitás",1,"db","2019-04-01","martika",{"$f":"AND(E4462>=Kimutatás!B$2,E4462<=Kimutatás!B$3)","v":false}]
[4462,"Salgótarján","012","Q1","2019-03-13","KKV hitelnövekmény (db)",0,"db","2019-04-01","martika",{"$f":"AND(E4463>=Kimutatás!B$2,E4463<=Kimutatás!B$3)","v":false}]
[4463,"Salgótarján","012","Q1","2019-03-13","KKV számlanyitás",1,"db","2019-04-01","martika",{"$f":"AND(E4464>=Kimutatás!B$2,E4464<=Kimutatás!B$3)","v":false}]
[4464,"Salgótarján","012","Q1","2019-03-13","Betét állomány növekmény",-13,"Mhuf","2019-04-01","martika",{"$f":"AND(E4465>=Kimutatás!B$2,E4465<=Kimutatás!B$3)","v":false}]
[4465,"Salgótarján","012","Q1","2019-03-14","Betérő ügyfelek",10,"fő","2019-04-01","martika",{"$f":"AND(E4466>=Kimutatás!B$2,E4466<=Kimutatás!B$3)","v":false}]
[4466,"Salgótarján","012","Q1","2019-03-14","Lakossági hitelnövekmény összege ",-2,"Mhuf","2019-04-01","martika",{"$f":"AND(E4467>=Kimutatás!B$2,E4467<=Kimutatás!B$3)","v":false}]
[4467,"Salgótarján","012","Q1","2019-03-14","Lakossági számlanyitás",-4,"db","2019-04-01","martika",{"$f":"AND(E4468>=Kimutatás!B$2,E4468<=Kimutatás!B$3)","v":false}]
[4468,"Salgótarján","012","Q1","2019-03-14","KKV hitelnövekmény (db)",2,"db","2019-04-01","martika",{"$f":"AND(E4469>=Kimutatás!B$2,E4469<=Kimutatás!B$3)","v":false}]
[4469,"Salgótarján","012","Q1","2019-03-14","KKV számlanyitás",-1,"db","2019-04-01","martika",{"$f":"AND(E4470>=Kimutatás!B$2,E4470<=Kimutatás!B$3)","v":false}]
[4470,"Salgótarján","012","Q1","2019-03-14","Betét állomány növekmény",-7,"Mhuf","2019-04-01","martika",{"$f":"AND(E4471>=Kimutatás!B$2,E4471<=Kimutatás!B$3)","v":false}]
[4471,"Salgótarján","012","Q1","2019-03-17","Betérő ügyfelek",35,"fő","2019-04-01","martika",{"$f":"AND(E4472>=Kimutatás!B$2,E4472<=Kimutatás!B$3)","v":false}]
[4472,"Salgótarján","012","Q1","2019-03-17","Lakossági hitelnövekmény összege ",12,"Mhuf","2019-04-01","martika",{"$f":"AND(E4473>=Kimutatás!B$2,E4473<=Kimutatás!B$3)","v":false}]
[4473,"Salgótarján","012","Q1","2019-03-17","Lakossági számlanyitás",10,"db","2019-04-01","martika",{"$f":"AND(E4474>=Kimutatás!B$2,E4474<=Kimutatás!B$3)","v":false}]
[4474,"Salgótarján","012","Q1","2019-03-17","KKV hitelnövekmény (db)",0,"db","2019-04-01","martika",{"$f":"AND(E4475>=Kimutatás!B$2,E4475<=Kimutatás!B$3)","v":false}]
[4475,"Salgótarján","012","Q1","2019-03-17","KKV számlanyitás",0,"db","2019-04-01","martika",{"$f":"AND(E4476>=Kimutatás!B$2,E4476<=Kimutatás!B$3)","v":false}]
[4476,"Salgótarján","012","Q1","2019-03-17","Betét állomány növekmény",5,"Mhuf","2019-04-01","martika",{"$f":"AND(E4477>=Kimutatás!B$2,E4477<=Kimutatás!B$3)","v":false}]
[4477,"Salgótarján","012","Q1","2019-03-18","Betérő ügyfelek",39,"fő","2019-04-01","martika",{"$f":"AND(E4478>=Kimutatás!B$2,E4478<=Kimutatás!B$3)","v":false}]
[4478,"Salgótarján","012","Q1","2019-03-18","Lakossági hitelnövekmény összege ",21,"Mhuf","2019-04-01","martika",{"$f":"AND(E4479>=Kimutatás!B$2,E4479<=Kimutatás!B$3)","v":false}]
[4479,"Salgótarján","012","Q1","2019-03-18","Lakossági számlanyitás",-5,"db","2019-04-01","martika",{"$f":"AND(E4480>=Kimutatás!B$2,E4480<=Kimutatás!B$3)","v":false}]
[4480,"Salgótarján","012","Q1","2019-03-18","KKV hitelnövekmény (db)",0,"db","2019-04-01","martika",{"$f":"AND(E4481>=Kimutatás!B$2,E4481<=Kimutatás!B$3)","v":false}]
[4481,"Salgótarján","012","Q1","2019-03-18","KKV számlanyitás",-3,"db","2019-04-01","martika",{"$f":"AND(E4482>=Kimutatás!B$2,E4482<=Kimutatás!B$3)","v":false}]
[4482,"Salgótarján","012","Q1","2019-03-18","Betét állomány növekmény",20,"Mhuf","2019-04-01","martika",{"$f":"AND(E4483>=Kimutatás!B$2,E4483<=Kimutatás!B$3)","v":false}]
[4483,"Salgótarján","012","Q1","2019-03-19","Betérő ügyfelek",42,"fő","2019-04-01","martika",{"$f":"AND(E4484>=Kimutatás!B$2,E4484<=Kimutatás!B$3)","v":false}]
[4484,"Salgótarján","012","Q1","2019-03-19","Lakossági hitelnövekmény összege ",-6,"Mhuf","2019-04-01","martika",{"$f":"AND(E4485>=Kimutatás!B$2,E4485<=Kimutatás!B$3)","v":false}]
[4485,"Salgótarján","012","Q1","2019-03-19","Lakossági számlanyitás",-2,"db","2019-04-01","martika",{"$f":"AND(E4486>=Kimutatás!B$2,E4486<=Kimutatás!B$3)","v":false}]
[4486,"Salgótarján","012","Q1","2019-03-19","KKV hitelnövekmény (db)",1,"db","2019-04-01","martika",{"$f":"AND(E4487>=Kimutatás!B$2,E4487<=Kimutatás!B$3)","v":false}]
[4487,"Salgótarján","012","Q1","2019-03-19","KKV számlanyitás",2,"db","2019-04-01","martika",{"$f":"AND(E4488>=Kimutatás!B$2,E4488<=Kimutatás!B$3)","v":false}]
[4488,"Salgótarján","012","Q1","2019-03-19","Betét állomány növekmény",7,"Mhuf","2019-04-01","martika",{"$f":"AND(E4489>=Kimutatás!B$2,E4489<=Kimutatás!B$3)","v":false}]
[4489,"Salgótarján","012","Q1","2019-03-20","Betérő ügyfelek",16,"fő","2019-04-01","martika",{"$f":"AND(E4490>=Kimutatás!B$2,E4490<=Kimutatás!B$3)","v":false}]
[4490,"Salgótarján","012","Q1","2019-03-20","Lakossági hitelnövekmény összege ",35,"Mhuf","2019-04-01","martika",{"$f":"AND(E4491>=Kimutatás!B$2,E4491<=Kimutatás!B$3)","v":false}]
[4491,"Salgótarján","012","Q1","2019-03-20","Lakossági számlanyitás",-3,"db","2019-04-01","martika",{"$f":"AND(E4492>=Kimutatás!B$2,E4492<=Kimutatás!B$3)","v":false}]
[4492,"Salgótarján","012","Q1","2019-03-20","KKV hitelnövekmény (db)",-1,"db","2019-04-01","martika",{"$f":"AND(E4493>=Kimutatás!B$2,E4493<=Kimutatás!B$3)","v":false}]
[4493,"Salgótarján","012","Q1","2019-03-20","KKV számlanyitás",-3,"db","2019-04-01","martika",{"$f":"AND(E4494>=Kimutatás!B$2,E4494<=Kimutatás!B$3)","v":false}]
[4494,"Salgótarján","012","Q1","2019-03-20","Betét állomány növekmény",4,"Mhuf","2019-04-01","martika",{"$f":"AND(E4495>=Kimutatás!B$2,E4495<=Kimutatás!B$3)","v":false}]
[4495,"Salgótarján","012","Q1","2019-03-21","Betérő ügyfelek",15,"fő","2019-04-01","martika",{"$f":"AND(E4496>=Kimutatás!B$2,E4496<=Kimutatás!B$3)","v":false}]
[4496,"Salgótarján","012","Q1","2019-03-21","Lakossági hitelnövekmény összege ",21,"Mhuf","2019-04-01","martika",{"$f":"AND(E4497>=Kimutatás!B$2,E4497<=Kimutatás!B$3)","v":false}]
[4497,"Salgótarján","012","Q1","2019-03-21","Lakossági számlanyitás",2,"db","2019-04-01","martika",{"$f":"AND(E4498>=Kimutatás!B$2,E4498<=Kimutatás!B$3)","v":false}]
[4498,"Salgótarján","012","Q1","2019-03-21","KKV hitelnövekmény (db)",-1,"db","2019-04-01","martika",{"$f":"AND(E4499>=Kimutatás!B$2,E4499<=Kimutatás!B$3)","v":false}]
[4499,"Salgótarján","012","Q1","2019-03-21","KKV számlanyitás",3,"db","2019-04-01","martika",{"$f":"AND(E4500>=Kimutatás!B$2,E4500<=Kimutatás!B$3)","v":false}]
[4500,"Salgótarján","012","Q1","2019-03-21","Betét állomány növekmény",21,"Mhuf","2019-04-01","martika",{"$f":"AND(E4501>=Kimutatás!B$2,E4501<=Kimutatás!B$3)","v":false}]
[4501,"Salgótarján","012","Q1","2019-03-24","Betérő ügyfelek",45,"fő","2019-04-01","martika",{"$f":"AND(E4502>=Kimutatás!B$2,E4502<=Kimutatás!B$3)","v":false}]
[4502,"Salgótarján","012","Q1","2019-03-24","Lakossági hitelnövekmény összege ",7,"Mhuf","2019-04-01","martika",{"$f":"AND(E4503>=Kimutatás!B$2,E4503<=Kimutatás!B$3)","v":false}]
[4503,"Salgótarján","012","Q1","2019-03-24","Lakossági számlanyitás",2,"db","2019-04-01","martika",{"$f":"AND(E4504>=Kimutatás!B$2,E4504<=Kimutatás!B$3)","v":false}]
[4504,"Salgótarján","012","Q1","2019-03-24","KKV hitelnövekmény (db)",1,"db","2019-04-01","martika",{"$f":"AND(E4505>=Kimutatás!B$2,E4505<=Kimutatás!B$3)","v":false}]
[4505,"Salgótarján","012","Q1","2019-03-24","KKV számlanyitás",0,"db","2019-04-01","martika",{"$f":"AND(E4506>=Kimutatás!B$2,E4506<=Kimutatás!B$3)","v":false}]
[4506,"Salgótarján","012","Q1","2019-03-24","Betét állomány növekmény",-5,"Mhuf","2019-04-01","martika",{"$f":"AND(E4507>=Kimutatás!B$2,E4507<=Kimutatás!B$3)","v":false}]
[4507,"Salgótarján","012","Q1","2019-03-25","Betérő ügyfelek",20,"fő","2019-04-01","martika",{"$f":"AND(E4508>=Kimutatás!B$2,E4508<=Kimutatás!B$3)","v":false}]
[4508,"Salgótarján","012","Q1","2019-03-25","Lakossági hitelnövekmény összege ",42,"Mhuf","2019-04-01","martika",{"$f":"AND(E4509>=Kimutatás!B$2,E4509<=Kimutatás!B$3)","v":false}]
[4509,"Salgótarján","012","Q1","2019-03-25","Lakossági számlanyitás",-5,"db","2019-04-01","martika",{"$f":"AND(E4510>=Kimutatás!B$2,E4510<=Kimutatás!B$3)","v":false}]
[4510,"Salgótarján","012","Q1","2019-03-25","KKV hitelnövekmény (db)",-1,"db","2019-04-01","martika",{"$f":"AND(E4511>=Kimutatás!B$2,E4511<=Kimutatás!B$3)","v":false}]
[4511,"Salgótarján","012","Q1","2019-03-25","KKV számlanyitás",2,"db","2019-04-01","martika",{"$f":"AND(E4512>=Kimutatás!B$2,E4512<=Kimutatás!B$3)","v":false}]
[4512,"Salgótarján","012","Q1","2019-03-25","Betét állomány növekmény",7,"Mhuf","2019-04-01","martika",{"$f":"AND(E4513>=Kimutatás!B$2,E4513<=Kimutatás!B$3)","v":false}]
[4513,"Salgótarján","012","Q1","2019-03-26","Betérő ügyfelek",13,"fő","2019-04-01","martika",{"$f":"AND(E4514>=Kimutatás!B$2,E4514<=Kimutatás!B$3)","v":false}]
[4514,"Salgótarján","012","Q1","2019-03-26","Lakossági hitelnövekmény összege ",42,"Mhuf","2019-04-01","martika",{"$f":"AND(E4515>=Kimutatás!B$2,E4515<=Kimutatás!B$3)","v":false}]
[4515,"Salgótarján","012","Q1","2019-03-26","Lakossági számlanyitás",10,"db","2019-04-01","martika",{"$f":"AND(E4516>=Kimutatás!B$2,E4516<=Kimutatás!B$3)","v":false}]
[4516,"Salgótarján","012","Q1","2019-03-26","KKV hitelnövekmény (db)",1,"db","2019-04-01","martika",{"$f":"AND(E4517>=Kimutatás!B$2,E4517<=Kimutatás!B$3)","v":false}]
[4517,"Salgótarján","012","Q1","2019-03-26","KKV számlanyitás",1,"db","2019-04-01","martika",{"$f":"AND(E4518>=Kimutatás!B$2,E4518<=Kimutatás!B$3)","v":false}]
[4518,"Salgótarján","012","Q1","2019-03-26","Betét állomány növekmény",40,"Mhuf","2019-04-01","martika",{"$f":"AND(E4519>=Kimutatás!B$2,E4519<=Kimutatás!B$3)","v":false}]
[4519,"Salgótarján","012","Q1","2019-03-27","Betérő ügyfelek",30,"fő","2019-04-01","martika",{"$f":"AND(E4520>=Kimutatás!B$2,E4520<=Kimutatás!B$3)","v":false}]
[4520,"Salgótarján","012","Q1","2019-03-27","Lakossági hitelnövekmény összege ",34,"Mhuf","2019-04-01","martika",{"$f":"AND(E4521>=Kimutatás!B$2,E4521<=Kimutatás!B$3)","v":false}]
[4521,"Salgótarján","012","Q1","2019-03-27","Lakossági számlanyitás",7,"db","2019-04-01","martika",{"$f":"AND(E4522>=Kimutatás!B$2,E4522<=Kimutatás!B$3)","v":false}]
[4522,"Salgótarján","012","Q1","2019-03-27","KKV hitelnövekmény (db)",0,"db","2019-04-01","martika",{"$f":"AND(E4523>=Kimutatás!B$2,E4523<=Kimutatás!B$3)","v":false}]
[4523,"Salgótarján","012","Q1","2019-03-27","KKV számlanyitás",-5,"db","2019-04-01","martika",{"$f":"AND(E4524>=Kimutatás!B$2,E4524<=Kimutatás!B$3)","v":false}]
[4524,"Salgótarján","012","Q1","2019-03-27","Betét állomány növekmény",9,"Mhuf","2019-04-01","martika",{"$f":"AND(E4525>=Kimutatás!B$2,E4525<=Kimutatás!B$3)","v":false}]
[4525,"Salgótarján","012","Q1","2019-03-28","Betérő ügyfelek",42,"fő","2019-04-01","martika",{"$f":"AND(E4526>=Kimutatás!B$2,E4526<=Kimutatás!B$3)","v":false}]
[4526,"Salgótarján","012","Q1","2019-03-28","Lakossági hitelnövekmény összege ",-9,"Mhuf","2019-04-01","martika",{"$f":"AND(E4527>=Kimutatás!B$2,E4527<=Kimutatás!B$3)","v":false}]
[4527,"Salgótarján","012","Q1","2019-03-28","Lakossági számlanyitás",-5,"db","2019-04-01","martika",{"$f":"AND(E4528>=Kimutatás!B$2,E4528<=Kimutatás!B$3)","v":false}]
[4528,"Salgótarján","012","Q1","2019-03-28","KKV hitelnövekmény (db)",2,"db","2019-04-01","martika",{"$f":"AND(E4529>=Kimutatás!B$2,E4529<=Kimutatás!B$3)","v":false}]
[4529,"Salgótarján","012","Q1","2019-03-28","KKV számlanyitás",0,"db","2019-04-01","martika",{"$f":"AND(E4530>=Kimutatás!B$2,E4530<=Kimutatás!B$3)","v":false}]
[4530,"Salgótarján","012","Q1","2019-03-28","Betét állomány növekmény",14,"Mhuf","2019-04-01","martika",{"$f":"AND(E4531>=Kimutatás!B$2,E4531<=Kimutatás!B$3)","v":false}]
[4531,"Salgótarján","012","Q1","2019-03-31","Betérő ügyfelek",14,"fő","2019-04-01","martika",{"$f":"AND(E4532>=Kimutatás!B$2,E4532<=Kimutatás!B$3)","v":false}]
[4532,"Salgótarján","012","Q1","2019-03-31","Lakossági hitelnövekmény összege ",43,"Mhuf","2019-04-01","martika",{"$f":"AND(E4533>=Kimutatás!B$2,E4533<=Kimutatás!B$3)","v":false}]
[4533,"Salgótarján","012","Q1","2019-03-31","Lakossági számlanyitás",5,"db","2019-04-01","martika",{"$f":"AND(E4534>=Kimutatás!B$2,E4534<=Kimutatás!B$3)","v":false}]
[4534,"Salgótarján","012","Q1","2019-03-31","KKV hitelnövekmény (db)",0,"db","2019-04-01","martika",{"$f":"AND(E4535>=Kimutatás!B$2,E4535<=Kimutatás!B$3)","v":false}]
[4535,"Salgótarján","012","Q1","2019-03-31","KKV számlanyitás",-3,"db","2019-04-01","martika",{"$f":"AND(E4536>=Kimutatás!B$2,E4536<=Kimutatás!B$3)","v":false}]
[4536,"Salgótarján","012","Q1","2019-03-31","Betét állomány növekmény",-16,"Mhuf","2019-04-01","martika",{"$f":"AND(E4537>=Kimutatás!B$2,E4537<=Kimutatás!B$3)","v":false}]
[4537,"Szeged","013","Q1","2019-01-02","Betérő ügyfelek",16,"fő","2019-02-01","tiszai",{"$f":"AND(E4538>=Kimutatás!B$2,E4538<=Kimutatás!B$3)","v":false}]
[4538,"Szeged","013","Q1","2019-01-02","Lakossági hitelnövekmény összege ",46,"Mhuf","2019-02-01","tiszai",{"$f":"AND(E4539>=Kimutatás!B$2,E4539<=Kimutatás!B$3)","v":false}]
[4539,"Szeged","013","Q1","2019-01-02","Lakossági számlanyitás",-1,"db","2019-02-01","tiszai",{"$f":"AND(E4540>=Kimutatás!B$2,E4540<=Kimutatás!B$3)","v":false}]
[4540,"Szeged","013","Q1","2019-01-02","KKV hitelnövekmény (db)",0,"db","2019-02-01","tiszai",{"$f":"AND(E4541>=Kimutatás!B$2,E4541<=Kimutatás!B$3)","v":false}]
[4541,"Szeged","013","Q1","2019-01-02","KKV számlanyitás",3,"db","2019-02-01","tiszai",{"$f":"AND(E4542>=Kimutatás!B$2,E4542<=Kimutatás!B$3)","v":false}]
[4542,"Szeged","013","Q1","2019-01-02","Betét állomány növekmény",32,"Mhuf","2019-02-01","tiszai",{"$f":"AND(E4543>=Kimutatás!B$2,E4543<=Kimutatás!B$3)","v":false}]
[4543,"Szeged","013","Q1","2019-01-03","Betérő ügyfelek",9,"fő","2019-02-01","tiszai",{"$f":"AND(E4544>=Kimutatás!B$2,E4544<=Kimutatás!B$3)","v":false}]
[4544,"Szeged","013","Q1","2019-01-03","Lakossági hitelnövekmény összege ",22,"Mhuf","2019-02-01","tiszai",{"$f":"AND(E4545>=Kimutatás!B$2,E4545<=Kimutatás!B$3)","v":false}]
[4545,"Szeged","013","Q1","2019-01-03","Lakossági számlanyitás",-5,"db","2019-02-01","tiszai",{"$f":"AND(E4546>=Kimutatás!B$2,E4546<=Kimutatás!B$3)","v":false}]
[4546,"Szeged","013","Q1","2019-01-03","KKV hitelnövekmény (db)",2,"db","2019-02-01","tiszai",{"$f":"AND(E4547>=Kimutatás!B$2,E4547<=Kimutatás!B$3)","v":false}]
[4547,"Szeged","013","Q1","2019-01-03","KKV számlanyitás",3,"db","2019-02-01","tiszai",{"$f":"AND(E4548>=Kimutatás!B$2,E4548<=Kimutatás!B$3)","v":false}]
[4548,"Szeged","013","Q1","2019-01-03","Betét állomány növekmény",32,"Mhuf","2019-02-01","tiszai",{"$f":"AND(E4549>=Kimutatás!B$2,E4549<=Kimutatás!B$3)","v":false}]
[4549,"Szeged","013","Q1","2019-01-06","Betérő ügyfelek",2,"fő","2019-02-01","tiszai",{"$f":"AND(E4550>=Kimutatás!B$2,E4550<=Kimutatás!B$3)","v":false}]
[4550,"Szeged","013","Q1","2019-01-06","Lakossági hitelnövekmény összege ",11,"Mhuf","2019-02-01","tiszai",{"$f":"AND(E4551>=Kimutatás!B$2,E4551<=Kimutatás!B$3)","v":false}]
[4551,"Szeged","013","Q1","2019-01-06","Lakossági számlanyitás",4,"db","2019-02-01","tiszai",{"$f":"AND(E4552>=Kimutatás!B$2,E4552<=Kimutatás!B$3)","v":false}]
[4552,"Szeged","013","Q1","2019-01-06","KKV hitelnövekmény (db)",1,"db","2019-02-01","tiszai",{"$f":"AND(E4553>=Kimutatás!B$2,E4553<=Kimutatás!B$3)","v":false}]
[4553,"Szeged","013","Q1","2019-01-06","KKV számlanyitás",3,"db","2019-02-01","tiszai",{"$f":"AND(E4554>=Kimutatás!B$2,E4554<=Kimutatás!B$3)","v":false}]
[4554,"Szeged","013","Q1","2019-01-06","Betét állomány növekmény",45,"Mhuf","2019-02-01","tiszai",{"$f":"AND(E4555>=Kimutatás!B$2,E4555<=Kimutatás!B$3)","v":false}]
[4555,"Szeged","013","Q1","2019-01-07","Betérő ügyfelek",22,"fő","2019-02-01","tiszai",{"$f":"AND(E4556>=Kimutatás!B$2,E4556<=Kimutatás!B$3)","v":false}]
[4556,"Szeged","013","Q1","2019-01-07","Lakossági hitelnövekmény összege ",36,"Mhuf","2019-02-01","tiszai",{"$f":"AND(E4557>=Kimutatás!B$2,E4557<=Kimutatás!B$3)","v":false}]
[4557,"Szeged","013","Q1","2019-01-07","Lakossági számlanyitás",5,"db","2019-02-01","tiszai",{"$f":"AND(E4558>=Kimutatás!B$2,E4558<=Kimutatás!B$3)","v":false}]
[4558,"Szeged","013","Q1","2019-01-07","KKV hitelnövekmény (db)",0,"db","2019-02-01","tiszai",{"$f":"AND(E4559>=Kimutatás!B$2,E4559<=Kimutatás!B$3)","v":false}]
[4559,"Szeged","013","Q1","2019-01-07","KKV számlanyitás",-3,"db","2019-02-01","tiszai",{"$f":"AND(E4560>=Kimutatás!B$2,E4560<=Kimutatás!B$3)","v":false}]
[4560,"Szeged","013","Q1","2019-01-07","Betét állomány növekmény",19,"Mhuf","2019-02-01","tiszai",{"$f":"AND(E4561>=Kimutatás!B$2,E4561<=Kimutatás!B$3)","v":false}]
[4561,"Szeged","013","Q1","2019-01-08","Betérő ügyfelek",25,"fő","2019-02-01","tiszai",{"$f":"AND(E4562>=Kimutatás!B$2,E4562<=Kimutatás!B$3)","v":false}]
[4562,"Szeged","013","Q1","2019-01-08","Lakossági hitelnövekmény összege ",48,"Mhuf","2019-02-01","tiszai",{"$f":"AND(E4563>=Kimutatás!B$2,E4563<=Kimutatás!B$3)","v":false}]
[4563,"Szeged","013","Q1","2019-01-08","Lakossági számlanyitás",8,"db","2019-02-01","tiszai",{"$f":"AND(E4564>=Kimutatás!B$2,E4564<=Kimutatás!B$3)","v":false}]
[4564,"Szeged","013","Q1","2019-01-08","KKV hitelnövekmény (db)",0,"db","2019-02-01","tiszai",{"$f":"AND(E4565>=Kimutatás!B$2,E4565<=Kimutatás!B$3)","v":false}]
[4565,"Szeged","013","Q1","2019-01-08","KKV számlanyitás",0,"db","2019-02-01","tiszai",{"$f":"AND(E4566>=Kimutatás!B$2,E4566<=Kimutatás!B$3)","v":false}]
[4566,"Szeged","013","Q1","2019-01-08","Betét állomány növekmény",-12,"Mhuf","2019-02-01","tiszai",{"$f":"AND(E4567>=Kimutatás!B$2,E4567<=Kimutatás!B$3)","v":false}]
[4567,"Szeged","013","Q1","2019-01-09","Betérő ügyfelek",21,"fő","2019-02-01","tiszai",{"$f":"AND(E4568>=Kimutatás!B$2,E4568<=Kimutatás!B$3)","v":false}]
[4568,"Szeged","013","Q1","2019-01-09","Lakossági hitelnövekmény összege ",29,"Mhuf","2019-02-01","tiszai",{"$f":"AND(E4569>=Kimutatás!B$2,E4569<=Kimutatás!B$3)","v":false}]
[4569,"Szeged","013","Q1","2019-01-09","Lakossági számlanyitás",6,"db","2019-02-01","tiszai",{"$f":"AND(E4570>=Kimutatás!B$2,E4570<=Kimutatás!B$3)","v":false}]
[4570,"Szeged","013","Q1","2019-01-09","KKV hitelnövekmény (db)",1,"db","2019-02-01","tiszai",{"$f":"AND(E4571>=Kimutatás!B$2,E4571<=Kimutatás!B$3)","v":false}]
[4571,"Szeged","013","Q1","2019-01-09","KKV számlanyitás",3,"db","2019-02-01","tiszai",{"$f":"AND(E4572>=Kimutatás!B$2,E4572<=Kimutatás!B$3)","v":false}]
[4572,"Szeged","013","Q1","2019-01-09","Betét állomány növekmény",5,"Mhuf","2019-02-01","tiszai",{"$f":"AND(E4573>=Kimutatás!B$2,E4573<=Kimutatás!B$3)","v":false}]
[4573,"Szeged","013","Q1","2019-01-10","Betérő ügyfelek",27,"fő","2019-02-01","tiszai",{"$f":"AND(E4574>=Kimutatás!B$2,E4574<=Kimutatás!B$3)","v":true}]
[4574,"Szeged","013","Q1","2019-01-10","Lakossági hitelnövekmény összege ",6,"Mhuf","2019-02-01","tiszai",{"$f":"AND(E4575>=Kimutatás!B$2,E4575<=Kimutatás!B$3)","v":true}]
[4575,"Szeged","013","Q1","2019-01-10","Lakossági számlanyitás",7,"db","2019-02-01","tiszai",{"$f":"AND(E4576>=Kimutatás!B$2,E4576<=Kimutatás!B$3)","v":true}]
[4576,"Szeged","013","Q1","2019-01-10","KKV hitelnövekmény (db)",0,"db","2019-02-01","tiszai",{"$f":"AND(E4577>=Kimutatás!B$2,E4577<=Kimutatás!B$3)","v":true}]
[4577,"Szeged","013","Q1","2019-01-10","KKV számlanyitás",0,"db","2019-02-01","tiszai",{"$f":"AND(E4578>=Kimutatás!B$2,E4578<=Kimutatás!B$3)","v":true}]
[4578,"Szeged","013","Q1","2019-01-10","Betét állomány növekmény",-12,"Mhuf","2019-02-01","tiszai",{"$f":"AND(E4579>=Kimutatás!B$2,E4579<=Kimutatás!B$3)","v":true}]
[4579,"Szeged","013","Q1","2019-01-13","Betérő ügyfelek",30,"fő","2019-02-01","tiszai",{"$f":"AND(E4580>=Kimutatás!B$2,E4580<=Kimutatás!B$3)","v":true}]
[4580,"Szeged","013","Q1","2019-01-13","Lakossági hitelnövekmény összege ",-6,"Mhuf","2019-02-01","tiszai",{"$f":"AND(E4581>=Kimutatás!B$2,E4581<=Kimutatás!B$3)","v":true}]
[4581,"Szeged","013","Q1","2019-01-13","Lakossági számlanyitás",-2,"db","2019-02-01","tiszai",{"$f":"AND(E4582>=Kimutatás!B$2,E4582<=Kimutatás!B$3)","v":true}]
[4582,"Szeged","013","Q1","2019-01-13","KKV hitelnövekmény (db)",-2,"db","2019-02-01","tiszai",{"$f":"AND(E4583>=Kimutatás!B$2,E4583<=Kimutatás!B$3)","v":true}]
[4583,"Szeged","013","Q1","2019-01-13","KKV számlanyitás",-2,"db","2019-02-01","tiszai",{"$f":"AND(E4584>=Kimutatás!B$2,E4584<=Kimutatás!B$3)","v":true}]
[4584,"Szeged","013","Q1","2019-01-13","Betét állomány növekmény",44,"Mhuf","2019-02-01","tiszai",{"$f":"AND(E4585>=Kimutatás!B$2,E4585<=Kimutatás!B$3)","v":true}]
[4585,"Szeged","013","Q1","2019-01-14","Betérő ügyfelek",37,"fő","2019-02-01","tiszai",{"$f":"AND(E4586>=Kimutatás!B$2,E4586<=Kimutatás!B$3)","v":true}]
[4586,"Szeged","013","Q1","2019-01-14","Lakossági hitelnövekmény összege ",48,"Mhuf","2019-02-01","tiszai",{"$f":"AND(E4587>=Kimutatás!B$2,E4587<=Kimutatás!B$3)","v":true}]
[4587,"Szeged","013","Q1","2019-01-14","Lakossági számlanyitás",-2,"db","2019-02-01","tiszai",{"$f":"AND(E4588>=Kimutatás!B$2,E4588<=Kimutatás!B$3)","v":true}]
[4588,"Szeged","013","Q1","2019-01-14","KKV hitelnövekmény (db)",2,"db","2019-02-01","tiszai",{"$f":"AND(E4589>=Kimutatás!B$2,E4589<=Kimutatás!B$3)","v":true}]
[4589,"Szeged","013","Q1","2019-01-14","KKV számlanyitás",2,"db","2019-02-01","tiszai",{"$f":"AND(E4590>=Kimutatás!B$2,E4590<=Kimutatás!B$3)","v":true}]
[4590,"Szeged","013","Q1","2019-01-14","Betét állomány növekmény",9,"Mhuf","2019-02-01","tiszai",{"$f":"AND(E4591>=Kimutatás!B$2,E4591<=Kimutatás!B$3)","v":true}]
[4591,"Szeged","013","Q1","2019-01-15","Betérő ügyfelek",10,"fő","2019-02-01","tiszai",{"$f":"AND(E4592>=Kimutatás!B$2,E4592<=Kimutatás!B$3)","v":true}]
[4592,"Szeged","013","Q1","2019-01-15","Lakossági hitelnövekmény összege ",-3,"Mhuf","2019-02-01","tiszai",{"$f":"AND(E4593>=Kimutatás!B$2,E4593<=Kimutatás!B$3)","v":true}]
[4593,"Szeged","013","Q1","2019-01-15","Lakossági számlanyitás",8,"db","2019-02-01","tiszai",{"$f":"AND(E4594>=Kimutatás!B$2,E4594<=Kimutatás!B$3)","v":true}]
[4594,"Szeged","013","Q1","2019-01-15","KKV hitelnövekmény (db)",0,"db","2019-02-01","tiszai",{"$f":"AND(E4595>=Kimutatás!B$2,E4595<=Kimutatás!B$3)","v":true}]
[4595,"Szeged","013","Q1","2019-01-15","KKV számlanyitás",3,"db","2019-02-01","tiszai",{"$f":"AND(E4596>=Kimutatás!B$2,E4596<=Kimutatás!B$3)","v":true}]
[4596,"Szeged","013","Q1","2019-01-15","Betét állomány növekmény",46,"Mhuf","2019-02-01","tiszai",{"$f":"AND(E4597>=Kimutatás!B$2,E4597<=Kimutatás!B$3)","v":true}]
[4597,"Szeged","013","Q1","2019-01-16","Betérő ügyfelek",12,"fő","2019-02-01","tiszai",{"$f":"AND(E4598>=Kimutatás!B$2,E4598<=Kimutatás!B$3)","v":true}]
[4598,"Szeged","013","Q1","2019-01-16","Lakossági hitelnövekmény összege ",14,"Mhuf","2019-02-01","tiszai",{"$f":"AND(E4599>=Kimutatás!B$2,E4599<=Kimutatás!B$3)","v":true}]
[4599,"Szeged","013","Q1","2019-01-16","Lakossági számlanyitás",-2,"db","2019-02-01","tiszai",{"$f":"AND(E4600>=Kimutatás!B$2,E4600<=Kimutatás!B$3)","v":true}]
[4600,"Szeged","013","Q1","2019-01-16","KKV hitelnövekmény (db)",-1,"db","2019-02-01","tiszai",{"$f":"AND(E4601>=Kimutatás!B$2,E4601<=Kimutatás!B$3)","v":true}]
[4601,"Szeged","013","Q1","2019-01-16","KKV számlanyitás",3,"db","2019-02-01","tiszai",{"$f":"AND(E4602>=Kimutatás!B$2,E4602<=Kimutatás!B$3)","v":true}]
[4602,"Szeged","013","Q1","2019-01-16","Betét állomány növekmény",22,"Mhuf","2019-02-01","tiszai",{"$f":"AND(E4603>=Kimutatás!B$2,E4603<=Kimutatás!B$3)","v":true}]
[4603,"Szeged","013","Q1","2019-01-17","Betérő ügyfelek",44,"fő","2019-02-01","tiszai",{"$f":"AND(E4604>=Kimutatás!B$2,E4604<=Kimutatás!B$3)","v":true}]
[4604,"Szeged","013","Q1","2019-01-17","Lakossági hitelnövekmény összege ",14,"Mhuf","2019-02-01","tiszai",{"$f":"AND(E4605>=Kimutatás!B$2,E4605<=Kimutatás!B$3)","v":true}]
[4605,"Szeged","013","Q1","2019-01-17","Lakossági számlanyitás",6,"db","2019-02-01","tiszai",{"$f":"AND(E4606>=Kimutatás!B$2,E4606<=Kimutatás!B$3)","v":true}]
[4606,"Szeged","013","Q1","2019-01-17","KKV hitelnövekmény (db)",-2,"db","2019-02-01","tiszai",{"$f":"AND(E4607>=Kimutatás!B$2,E4607<=Kimutatás!B$3)","v":true}]
[4607,"Szeged","013","Q1","2019-01-17","KKV számlanyitás",0,"db","2019-02-01","tiszai",{"$f":"AND(E4608>=Kimutatás!B$2,E4608<=Kimutatás!B$3)","v":true}]
[4608,"Szeged","013","Q1","2019-01-17","Betét állomány növekmény",11,"Mhuf","2019-02-01","tiszai",{"$f":"AND(E4609>=Kimutatás!B$2,E4609<=Kimutatás!B$3)","v":true}]
[4609,"Szeged","013","Q1","2019-01-20","Betérő ügyfelek",25,"fő","2019-02-01","tiszai",{"$f":"AND(E4610>=Kimutatás!B$2,E4610<=Kimutatás!B$3)","v":true}]
[4610,"Szeged","013","Q1","2019-01-20","Lakossági hitelnövekmény összege ",35,"Mhuf","2019-02-01","tiszai",{"$f":"AND(E4611>=Kimutatás!B$2,E4611<=Kimutatás!B$3)","v":true}]
[4611,"Szeged","013","Q1","2019-01-20","Lakossági számlanyitás",7,"db","2019-02-01","tiszai",{"$f":"AND(E4612>=Kimutatás!B$2,E4612<=Kimutatás!B$3)","v":true}]
[4612,"Szeged","013","Q1","2019-01-20","KKV hitelnövekmény (db)",0,"db","2019-02-01","tiszai",{"$f":"AND(E4613>=Kimutatás!B$2,E4613<=Kimutatás!B$3)","v":true}]
[4613,"Szeged","013","Q1","2019-01-20","KKV számlanyitás",-4,"db","2019-02-01","tiszai",{"$f":"AND(E4614>=Kimutatás!B$2,E4614<=Kimutatás!B$3)","v":true}]
[4614,"Szeged","013","Q1","2019-01-20","Betét állomány növekmény",3,"Mhuf","2019-02-01","tiszai",{"$f":"AND(E4615>=Kimutatás!B$2,E4615<=Kimutatás!B$3)","v":true}]
[4615,"Szeged","013","Q1","2019-01-21","Betérő ügyfelek",43,"fő","2019-02-01","tiszai",{"$f":"AND(E4616>=Kimutatás!B$2,E4616<=Kimutatás!B$3)","v":true}]
[4616,"Szeged","013","Q1","2019-01-21","Lakossági hitelnövekmény összege ",2,"Mhuf","2019-02-01","tiszai",{"$f":"AND(E4617>=Kimutatás!B$2,E4617<=Kimutatás!B$3)","v":true}]
[4617,"Szeged","013","Q1","2019-01-21","Lakossági számlanyitás",10,"db","2019-02-01","tiszai",{"$f":"AND(E4618>=Kimutatás!B$2,E4618<=Kimutatás!B$3)","v":true}]
[4618,"Szeged","013","Q1","2019-01-21","KKV hitelnövekmény (db)",1,"db","2019-02-01","tiszai",{"$f":"AND(E4619>=Kimutatás!B$2,E4619<=Kimutatás!B$3)","v":true}]
[4619,"Szeged","013","Q1","2019-01-21","KKV számlanyitás",-5,"db","2019-02-01","tiszai",{"$f":"AND(E4620>=Kimutatás!B$2,E4620<=Kimutatás!B$3)","v":true}]
[4620,"Szeged","013","Q1","2019-01-21","Betét állomány növekmény",18,"Mhuf","2019-02-01","tiszai",{"$f":"AND(E4621>=Kimutatás!B$2,E4621<=Kimutatás!B$3)","v":true}]
[4621,"Szeged","013","Q1","2019-01-22","Betérő ügyfelek",5,"fő","2019-02-01","tiszai",{"$f":"AND(E4622>=Kimutatás!B$2,E4622<=Kimutatás!B$3)","v":true}]
[4622,"Szeged","013","Q1","2019-01-22","Lakossági hitelnövekmény összege ",31,"Mhuf","2019-02-01","tiszai",{"$f":"AND(E4623>=Kimutatás!B$2,E4623<=Kimutatás!B$3)","v":true}]
[4623,"Szeged","013","Q1","2019-01-22","Lakossági számlanyitás",2,"db","2019-02-01","tiszai",{"$f":"AND(E4624>=Kimutatás!B$2,E4624<=Kimutatás!B$3)","v":true}]
[4624,"Szeged","013","Q1","2019-01-22","KKV hitelnövekmény (db)",2,"db","2019-02-01","tiszai",{"$f":"AND(E4625>=Kimutatás!B$2,E4625<=Kimutatás!B$3)","v":true}]
[4625,"Szeged","013","Q1","2019-01-22","KKV számlanyitás",-5,"db","2019-02-01","tiszai",{"$f":"AND(E4626>=Kimutatás!B$2,E4626<=Kimutatás!B$3)","v":true}]
[4626,"Szeged","013","Q1","2019-01-22","Betét állomány növekmény",-14,"Mhuf","2019-02-01","tiszai",{"$f":"AND(E4627>=Kimutatás!B$2,E4627<=Kimutatás!B$3)","v":true}]
[4627,"Szeged","013","Q1","2019-01-23","Betérő ügyfelek",19,"fő","2019-02-01","tiszai",{"$f":"AND(E4628>=Kimutatás!B$2,E4628<=Kimutatás!B$3)","v":true}]
[4628,"Szeged","013","Q1","2019-01-23","Lakossági hitelnövekmény összege ",2,"Mhuf","2019-02-01","tiszai",{"$f":"AND(E4629>=Kimutatás!B$2,E4629<=Kimutatás!B$3)","v":true}]
[4629,"Szeged","013","Q1","2019-01-23","Lakossági számlanyitás",6,"db","2019-02-01","tiszai",{"$f":"AND(E4630>=Kimutatás!B$2,E4630<=Kimutatás!B$3)","v":true}]
[4630,"Szeged","013","Q1","2019-01-23","KKV hitelnövekmény (db)",-1,"db","2019-02-01","tiszai",{"$f":"AND(E4631>=Kimutatás!B$2,E4631<=Kimutatás!B$3)","v":true}]
[4631,"Szeged","013","Q1","2019-01-23","KKV számlanyitás",-2,"db","2019-02-01","tiszai",{"$f":"AND(E4632>=Kimutatás!B$2,E4632<=Kimutatás!B$3)","v":true}]
[4632,"Szeged","013","Q1","2019-01-23","Betét állomány növekmény",-17,"Mhuf","2019-02-01","tiszai",{"$f":"AND(E4633>=Kimutatás!B$2,E4633<=Kimutatás!B$3)","v":true}]
[4633,"Szeged","013","Q1","2019-01-24","Betérő ügyfelek",49,"fő","2019-02-01","tiszai",{"$f":"AND(E4634>=Kimutatás!B$2,E4634<=Kimutatás!B$3)","v":true}]
[4634,"Szeged","013","Q1","2019-01-24","Lakossági hitelnövekmény összege ",17,"Mhuf","2019-02-01","tiszai",{"$f":"AND(E4635>=Kimutatás!B$2,E4635<=Kimutatás!B$3)","v":true}]
[4635,"Szeged","013","Q1","2019-01-24","Lakossági számlanyitás",8,"db","2019-02-01","tiszai",{"$f":"AND(E4636>=Kimutatás!B$2,E4636<=Kimutatás!B$3)","v":true}]
[4636,"Szeged","013","Q1","2019-01-24","KKV hitelnövekmény (db)",0,"db","2019-02-01","tiszai",{"$f":"AND(E4637>=Kimutatás!B$2,E4637<=Kimutatás!B$3)","v":true}]
[4637,"Szeged","013","Q1","2019-01-24","KKV számlanyitás",-5,"db","2019-02-01","tiszai",{"$f":"AND(E4638>=Kimutatás!B$2,E4638<=Kimutatás!B$3)","v":true}]
[4638,"Szeged","013","Q1","2019-01-24","Betét állomány növekmény",8,"Mhuf","2019-02-01","tiszai",{"$f":"AND(E4639>=Kimutatás!B$2,E4639<=Kimutatás!B$3)","v":true}]
[4639,"Szeged","013","Q1","2019-01-27","Betérő ügyfelek",5,"fő","2019-02-01","tiszai",{"$f":"AND(E4640>=Kimutatás!B$2,E4640<=Kimutatás!B$3)","v":true}]
[4640,"Szeged","013","Q1","2019-01-27","Lakossági hitelnövekmény összege ",39,"Mhuf","2019-02-01","tiszai",{"$f":"AND(E4641>=Kimutatás!B$2,E4641<=Kimutatás!B$3)","v":true}]
[4641,"Szeged","013","Q1","2019-01-27","Lakossági számlanyitás",-5,"db","2019-02-01","tiszai",{"$f":"AND(E4642>=Kimutatás!B$2,E4642<=Kimutatás!B$3)","v":true}]
[4642,"Szeged","013","Q1","2019-01-27","KKV hitelnövekmény (db)",-2,"db","2019-02-01","tiszai",{"$f":"AND(E4643>=Kimutatás!B$2,E4643<=Kimutatás!B$3)","v":true}]
[4643,"Szeged","013","Q1","2019-01-27","KKV számlanyitás",-4,"db","2019-02-01","tiszai",{"$f":"AND(E4644>=Kimutatás!B$2,E4644<=Kimutatás!B$3)","v":true}]
[4644,"Szeged","013","Q1","2019-01-27","Betét állomány növekmény",13,"Mhuf","2019-02-01","tiszai",{"$f":"AND(E4645>=Kimutatás!B$2,E4645<=Kimutatás!B$3)","v":true}]
[4645,"Szeged","013","Q1","2019-01-28","Betérő ügyfelek",18,"fő","2019-02-01","tiszai",{"$f":"AND(E4646>=Kimutatás!B$2,E4646<=Kimutatás!B$3)","v":true}]
[4646,"Szeged","013","Q1","2019-01-28","Lakossági hitelnövekmény összege ",22,"Mhuf","2019-02-01","tiszai",{"$f":"AND(E4647>=Kimutatás!B$2,E4647<=Kimutatás!B$3)","v":true}]
[4647,"Szeged","013","Q1","2019-01-28","Lakossági számlanyitás",-3,"db","2019-02-01","tiszai",{"$f":"AND(E4648>=Kimutatás!B$2,E4648<=Kimutatás!B$3)","v":true}]
[4648,"Szeged","013","Q1","2019-01-28","KKV hitelnövekmény (db)",0,"db","2019-02-01","tiszai",{"$f":"AND(E4649>=Kimutatás!B$2,E4649<=Kimutatás!B$3)","v":true}]
[4649,"Szeged","013","Q1","2019-01-28","KKV számlanyitás",-5,"db","2019-02-01","tiszai",{"$f":"AND(E4650>=Kimutatás!B$2,E4650<=Kimutatás!B$3)","v":true}]
[4650,"Szeged","013","Q1","2019-01-28","Betét állomány növekmény",6,"Mhuf","2019-02-01","tiszai",{"$f":"AND(E4651>=Kimutatás!B$2,E4651<=Kimutatás!B$3)","v":true}]
[4651,"Szeged","013","Q1","2019-01-29","Betérő ügyfelek",24,"fő","2019-02-01","tiszai",{"$f":"AND(E4652>=Kimutatás!B$2,E4652<=Kimutatás!B$3)","v":true}]
[4652,"Szeged","013","Q1","2019-01-29","Lakossági hitelnövekmény összege ",-6,"Mhuf","2019-02-01","tiszai",{"$f":"AND(E4653>=Kimutatás!B$2,E4653<=Kimutatás!B$3)","v":true}]
[4653,"Szeged","013","Q1","2019-01-29","Lakossági számlanyitás",5,"db","2019-02-01","tiszai",{"$f":"AND(E4654>=Kimutatás!B$2,E4654<=Kimutatás!B$3)","v":true}]
[4654,"Szeged","013","Q1","2019-01-29","KKV hitelnövekmény (db)",1,"db","2019-02-01","tiszai",{"$f":"AND(E4655>=Kimutatás!B$2,E4655<=Kimutatás!B$3)","v":true}]
[4655,"Szeged","013","Q1","2019-01-29","KKV számlanyitás",-5,"db","2019-02-01","tiszai",{"$f":"AND(E4656>=Kimutatás!B$2,E4656<=Kimutatás!B$3)","v":true}]
[4656,"Szeged","013","Q1","2019-01-29","Betét állomány növekmény",15,"Mhuf","2019-02-01","tiszai",{"$f":"AND(E4657>=Kimutatás!B$2,E4657<=Kimutatás!B$3)","v":true}]
[4657,"Szeged","013","Q1","2019-01-30","Betérő ügyfelek",41,"fő","2019-02-01","tiszai",{"$f":"AND(E4658>=Kimutatás!B$2,E4658<=Kimutatás!B$3)","v":true}]
[4658,"Szeged","013","Q1","2019-01-30","Lakossági hitelnövekmény összege ",-6,"Mhuf","2019-02-01","tiszai",{"$f":"AND(E4659>=Kimutatás!B$2,E4659<=Kimutatás!B$3)","v":true}]
[4659,"Szeged","013","Q1","2019-01-30","Lakossági számlanyitás",9,"db","2019-02-01","tiszai",{"$f":"AND(E4660>=Kimutatás!B$2,E4660<=Kimutatás!B$3)","v":true}]
[4660,"Szeged","013","Q1","2019-01-30","KKV hitelnövekmény (db)",-2,"db","2019-02-01","tiszai",{"$f":"AND(E4661>=Kimutatás!B$2,E4661<=Kimutatás!B$3)","v":true}]
[4661,"Szeged","013","Q1","2019-01-30","KKV számlanyitás",0,"db","2019-02-01","tiszai",{"$f":"AND(E4662>=Kimutatás!B$2,E4662<=Kimutatás!B$3)","v":true}]
[4662,"Szeged","013","Q1","2019-01-30","Betét állomány növekmény",19,"Mhuf","2019-02-01","tiszai",{"$f":"AND(E4663>=Kimutatás!B$2,E4663<=Kimutatás!B$3)","v":true}]
[4663,"Szeged","013","Q1","2019-01-31","Betérő ügyfelek",3,"fő","2019-02-01","tiszai",{"$f":"AND(E4664>=Kimutatás!B$2,E4664<=Kimutatás!B$3)","v":true}]
[4664,"Szeged","013","Q1","2019-01-31","Lakossági hitelnövekmény összege ",9,"Mhuf","2019-02-01","tiszai",{"$f":"AND(E4665>=Kimutatás!B$2,E4665<=Kimutatás!B$3)","v":true}]
[4665,"Szeged","013","Q1","2019-01-31","Lakossági számlanyitás",0,"db","2019-02-01","tiszai",{"$f":"AND(E4666>=Kimutatás!B$2,E4666<=Kimutatás!B$3)","v":true}]
[4666,"Szeged","013","Q1","2019-01-31","KKV hitelnövekmény (db)",2,"db","2019-02-01","tiszai",{"$f":"AND(E4667>=Kimutatás!B$2,E4667<=Kimutatás!B$3)","v":true}]
[4667,"Szeged","013","Q1","2019-01-31","KKV számlanyitás",-3,"db","2019-02-01","tiszai",{"$f":"AND(E4668>=Kimutatás!B$2,E4668<=Kimutatás!B$3)","v":true}]
[4668,"Szeged","013","Q1","2019-01-31","Betét állomány növekmény",27,"Mhuf","2019-02-01","tiszai",{"$f":"AND(E4669>=Kimutatás!B$2,E4669<=Kimutatás!B$3)","v":true}]
[4669,"Szeged","013","Q1","2019-02-03","Betérő ügyfelek",31,"fő","2019-03-01","todor2",{"$f":"AND(E4670>=Kimutatás!B$2,E4670<=Kimutatás!B$3)","v":true}]
[4670,"Szeged","013","Q1","2019-02-03","Lakossági hitelnövekmény összege ",46,"Mhuf","2019-03-01","todor2",{"$f":"AND(E4671>=Kimutatás!B$2,E4671<=Kimutatás!B$3)","v":true}]
[4671,"Szeged","013","Q1","2019-02-03","Lakossági számlanyitás",9,"db","2019-03-01","todor2",{"$f":"AND(E4672>=Kimutatás!B$2,E4672<=Kimutatás!B$3)","v":true}]
[4672,"Szeged","013","Q1","2019-02-03","KKV hitelnövekmény (db)",0,"db","2019-03-01","todor2",{"$f":"AND(E4673>=Kimutatás!B$2,E4673<=Kimutatás!B$3)","v":true}]
[4673,"Szeged","013","Q1","2019-02-03","KKV számlanyitás",-4,"db","2019-03-01","todor2",{"$f":"AND(E4674>=Kimutatás!B$2,E4674<=Kimutatás!B$3)","v":true}]
[4674,"Szeged","013","Q1","2019-02-03","Betét állomány növekmény",1,"Mhuf","2019-03-01","todor2",{"$f":"AND(E4675>=Kimutatás!B$2,E4675<=Kimutatás!B$3)","v":true}]
[4675,"Szeged","013","Q1","2019-02-04","Betérő ügyfelek",33,"fő","2019-03-01","todor2",{"$f":"AND(E4676>=Kimutatás!B$2,E4676<=Kimutatás!B$3)","v":true}]
[4676,"Szeged","013","Q1","2019-02-04","Lakossági hitelnövekmény összege ",11,"Mhuf","2019-03-01","todor2",{"$f":"AND(E4677>=Kimutatás!B$2,E4677<=Kimutatás!B$3)","v":true}]
[4677,"Szeged","013","Q1","2019-02-04","Lakossági számlanyitás",3,"db","2019-03-01","todor2",{"$f":"AND(E4678>=Kimutatás!B$2,E4678<=Kimutatás!B$3)","v":true}]
[4678,"Szeged","013","Q1","2019-02-04","KKV hitelnövekmény (db)",1,"db","2019-03-01","todor2",{"$f":"AND(E4679>=Kimutatás!B$2,E4679<=Kimutatás!B$3)","v":true}]
[4679,"Szeged","013","Q1","2019-02-04","KKV számlanyitás",1,"db","2019-03-01","todor2",{"$f":"AND(E4680>=Kimutatás!B$2,E4680<=Kimutatás!B$3)","v":true}]
[4680,"Szeged","013","Q1","2019-02-04","Betét állomány növekmény",48,"Mhuf","2019-03-01","todor2",{"$f":"AND(E4681>=Kimutatás!B$2,E4681<=Kimutatás!B$3)","v":true}]
[4681,"Szeged","013","Q1","2019-02-05","Betérő ügyfelek",27,"fő","2019-03-01","todor2",{"$f":"AND(E4682>=Kimutatás!B$2,E4682<=Kimutatás!B$3)","v":true}]
[4682,"Szeged","013","Q1","2019-02-05","Lakossági hitelnövekmény összege ",16,"Mhuf","2019-03-01","todor2",{"$f":"AND(E4683>=Kimutatás!B$2,E4683<=Kimutatás!B$3)","v":true}]
[4683,"Szeged","013","Q1","2019-02-05","Lakossági számlanyitás",7,"db","2019-03-01","todor2",{"$f":"AND(E4684>=Kimutatás!B$2,E4684<=Kimutatás!B$3)","v":true}]
[4684,"Szeged","013","Q1","2019-02-05","KKV hitelnövekmény (db)",1,"db","2019-03-01","todor2",{"$f":"AND(E4685>=Kimutatás!B$2,E4685<=Kimutatás!B$3)","v":true}]
[4685,"Szeged","013","Q1","2019-02-05","KKV számlanyitás",3,"db","2019-03-01","todor2",{"$f":"AND(E4686>=Kimutatás!B$2,E4686<=Kimutatás!B$3)","v":true}]
[4686,"Szeged","013","Q1","2019-02-05","Betét állomány növekmény",-10,"Mhuf","2019-03-01","todor2",{"$f":"AND(E4687>=Kimutatás!B$2,E4687<=Kimutatás!B$3)","v":true}]
[4687,"Szeged","013","Q1","2019-02-06","Betérő ügyfelek",37,"fő","2019-03-01","todor2",{"$f":"AND(E4688>=Kimutatás!B$2,E4688<=Kimutatás!B$3)","v":true}]
[4688,"Szeged","013","Q1","2019-02-06","Lakossági hitelnövekmény összege ",29,"Mhuf","2019-03-01","todor2",{"$f":"AND(E4689>=Kimutatás!B$2,E4689<=Kimutatás!B$3)","v":true}]
[4689,"Szeged","013","Q1","2019-02-06","Lakossági számlanyitás",4,"db","2019-03-01","todor2",{"$f":"AND(E4690>=Kimutatás!B$2,E4690<=Kimutatás!B$3)","v":true}]
[4690,"Szeged","013","Q1","2019-02-06","KKV hitelnövekmény (db)",0,"db","2019-03-01","todor2",{"$f":"AND(E4691>=Kimutatás!B$2,E4691<=Kimutatás!B$3)","v":true}]
[4691,"Szeged","013","Q1","2019-02-06","KKV számlanyitás",4,"db","2019-03-01","todor2",{"$f":"AND(E4692>=Kimutatás!B$2,E4692<=Kimutatás!B$3)","v":true}]
[4692,"Szeged","013","Q1","2019-02-06","Betét állomány növekmény",22,"Mhuf","2019-03-01","todor2",{"$f":"AND(E4693>=Kimutatás!B$2,E4693<=Kimutatás!B$3)","v":true}]
[4693,"Szeged","013","Q1","2019-02-07","Betérő ügyfelek",27,"fő","2019-03-01","todor2",{"$f":"AND(E4694>=Kimutatás!B$2,E4694<=Kimutatás!B$3)","v":true}]
[4694,"Szeged","013","Q1","2019-02-07","Lakossági hitelnövekmény összege ",43,"Mhuf","2019-03-01","todor2",{"$f":"AND(E4695>=Kimutatás!B$2,E4695<=Kimutatás!B$3)","v":true}]
[4695,"Szeged","013","Q1","2019-02-07","Lakossági számlanyitás",-1,"db","2019-03-01","todor2",{"$f":"AND(E4696>=Kimutatás!B$2,E4696<=Kimutatás!B$3)","v":true}]
[4696,"Szeged","013","Q1","2019-02-07","KKV hitelnövekmény (db)",0,"db","2019-03-01","todor2",{"$f":"AND(E4697>=Kimutatás!B$2,E4697<=Kimutatás!B$3)","v":true}]
[4697,"Szeged","013","Q1","2019-02-07","KKV számlanyitás",-3,"db","2019-03-01","todor2",{"$f":"AND(E4698>=Kimutatás!B$2,E4698<=Kimutatás!B$3)","v":true}]
[4698,"Szeged","013","Q1","2019-02-07","Betét állomány növekmény",11,"Mhuf","2019-03-01","todor2",{"$f":"AND(E4699>=Kimutatás!B$2,E4699<=Kimutatás!B$3)","v":true}]
[4699,"Szeged","013","Q1","2019-02-10","Betérő ügyfelek",25,"fő","2019-03-01","todor2",{"$f":"AND(E4700>=Kimutatás!B$2,E4700<=Kimutatás!B$3)","v":true}]
[4700,"Szeged","013","Q1","2019-02-10","Lakossági hitelnövekmény összege ",31,"Mhuf","2019-03-01","todor2",{"$f":"AND(E4701>=Kimutatás!B$2,E4701<=Kimutatás!B$3)","v":true}]
[4701,"Szeged","013","Q1","2019-02-10","Lakossági számlanyitás",-2,"db","2019-03-01","todor2",{"$f":"AND(E4702>=Kimutatás!B$2,E4702<=Kimutatás!B$3)","v":true}]
[4702,"Szeged","013","Q1","2019-02-10","KKV hitelnövekmény (db)",1,"db","2019-03-01","todor2",{"$f":"AND(E4703>=Kimutatás!B$2,E4703<=Kimutatás!B$3)","v":true}]
[4703,"Szeged","013","Q1","2019-02-10","KKV számlanyitás",0,"db","2019-03-01","todor2",{"$f":"AND(E4704>=Kimutatás!B$2,E4704<=Kimutatás!B$3)","v":true}]
[4704,"Szeged","013","Q1","2019-02-10","Betét állomány növekmény",1,"Mhuf","2019-03-01","todor2",{"$f":"AND(E4705>=Kimutatás!B$2,E4705<=Kimutatás!B$3)","v":true}]
[4705,"Szeged","013","Q1","2019-02-11","Betérő ügyfelek",20,"fő","2019-03-01","todor2",{"$f":"AND(E4706>=Kimutatás!B$2,E4706<=Kimutatás!B$3)","v":true}]
[4706,"Szeged","013","Q1","2019-02-11","Lakossági hitelnövekmény összege ",20,"Mhuf","2019-03-01","todor2",{"$f":"AND(E4707>=Kimutatás!B$2,E4707<=Kimutatás!B$3)","v":true}]
[4707,"Szeged","013","Q1","2019-02-11","Lakossági számlanyitás",9,"db","2019-03-01","todor2",{"$f":"AND(E4708>=Kimutatás!B$2,E4708<=Kimutatás!B$3)","v":true}]
[4708,"Szeged","013","Q1","2019-02-11","KKV hitelnövekmény (db)",0,"db","2019-03-01","todor2",{"$f":"AND(E4709>=Kimutatás!B$2,E4709<=Kimutatás!B$3)","v":true}]
[4709,"Szeged","013","Q1","2019-02-11","KKV számlanyitás",5,"db","2019-03-01","todor2",{"$f":"AND(E4710>=Kimutatás!B$2,E4710<=Kimutatás!B$3)","v":true}]
[4710,"Szeged","013","Q1","2019-02-11","Betét állomány növekmény",42,"Mhuf","2019-03-01","todor2",{"$f":"AND(E4711>=Kimutatás!B$2,E4711<=Kimutatás!B$3)","v":true}]
[4711,"Szeged","013","Q1","2019-02-12","Betérő ügyfelek",5,"fő","2019-03-01","todor2",{"$f":"AND(E4712>=Kimutatás!B$2,E4712<=Kimutatás!B$3)","v":true}]
[4712,"Szeged","013","Q1","2019-02-12","Lakossági hitelnövekmény összege ",41,"Mhuf","2019-03-01","todor2",{"$f":"AND(E4713>=Kimutatás!B$2,E4713<=Kimutatás!B$3)","v":true}]
[4713,"Szeged","013","Q1","2019-02-12","Lakossági számlanyitás",-3,"db","2019-03-01","todor2",{"$f":"AND(E4714>=Kimutatás!B$2,E4714<=Kimutatás!B$3)","v":true}]
[4714,"Szeged","013","Q1","2019-02-12","KKV hitelnövekmény (db)",2,"db","2019-03-01","todor2",{"$f":"AND(E4715>=Kimutatás!B$2,E4715<=Kimutatás!B$3)","v":true}]
[4715,"Szeged","013","Q1","2019-02-12","KKV számlanyitás",3,"db","2019-03-01","todor2",{"$f":"AND(E4716>=Kimutatás!B$2,E4716<=Kimutatás!B$3)","v":true}]
[4716,"Szeged","013","Q1","2019-02-12","Betét állomány növekmény",-4,"Mhuf","2019-03-01","todor2",{"$f":"AND(E4717>=Kimutatás!B$2,E4717<=Kimutatás!B$3)","v":true}]
[4717,"Szeged","013","Q1","2019-02-13","Betérő ügyfelek",42,"fő","2019-03-01","todor2",{"$f":"AND(E4718>=Kimutatás!B$2,E4718<=Kimutatás!B$3)","v":true}]
[4718,"Szeged","013","Q1","2019-02-13","Lakossági hitelnövekmény összege ",5,"Mhuf","2019-03-01","todor2",{"$f":"AND(E4719>=Kimutatás!B$2,E4719<=Kimutatás!B$3)","v":true}]
[4719,"Szeged","013","Q1","2019-02-13","Lakossági számlanyitás",5,"db","2019-03-01","todor2",{"$f":"AND(E4720>=Kimutatás!B$2,E4720<=Kimutatás!B$3)","v":true}]
[4720,"Szeged","013","Q1","2019-02-13","KKV hitelnövekmény (db)",-2,"db","2019-03-01","todor2",{"$f":"AND(E4721>=Kimutatás!B$2,E4721<=Kimutatás!B$3)","v":true}]
[4721,"Szeged","013","Q1","2019-02-13","KKV számlanyitás",0,"db","2019-03-01","todor2",{"$f":"AND(E4722>=Kimutatás!B$2,E4722<=Kimutatás!B$3)","v":true}]
[4722,"Szeged","013","Q1","2019-02-13","Betét állomány növekmény",-14,"Mhuf","2019-03-01","todor2",{"$f":"AND(E4723>=Kimutatás!B$2,E4723<=Kimutatás!B$3)","v":true}]
[4723,"Szeged","013","Q1","2019-02-14","Betérő ügyfelek",22,"fő","2019-03-01","todor2",{"$f":"AND(E4724>=Kimutatás!B$2,E4724<=Kimutatás!B$3)","v":true}]
[4724,"Szeged","013","Q1","2019-02-14","Lakossági hitelnövekmény összege ",15,"Mhuf","2019-03-01","todor2",{"$f":"AND(E4725>=Kimutatás!B$2,E4725<=Kimutatás!B$3)","v":true}]
[4725,"Szeged","013","Q1","2019-02-14","Lakossági számlanyitás",3,"db","2019-03-01","todor2",{"$f":"AND(E4726>=Kimutatás!B$2,E4726<=Kimutatás!B$3)","v":true}]
[4726,"Szeged","013","Q1","2019-02-14","KKV hitelnövekmény (db)",2,"db","2019-03-01","todor2",{"$f":"AND(E4727>=Kimutatás!B$2,E4727<=Kimutatás!B$3)","v":true}]
[4727,"Szeged","013","Q1","2019-02-14","KKV számlanyitás",-4,"db","2019-03-01","todor2",{"$f":"AND(E4728>=Kimutatás!B$2,E4728<=Kimutatás!B$3)","v":true}]
[4728,"Szeged","013","Q1","2019-02-14","Betét állomány növekmény",30,"Mhuf","2019-03-01","todor2",{"$f":"AND(E4729>=Kimutatás!B$2,E4729<=Kimutatás!B$3)","v":true}]
[4729,"Szeged","013","Q1","2019-02-17","Betérő ügyfelek",47,"fő","2019-03-01","todor2",{"$f":"AND(E4730>=Kimutatás!B$2,E4730<=Kimutatás!B$3)","v":true}]
[4730,"Szeged","013","Q1","2019-02-17","Lakossági hitelnövekmény összege ",20,"Mhuf","2019-03-01","todor2",{"$f":"AND(E4731>=Kimutatás!B$2,E4731<=Kimutatás!B$3)","v":true}]
[4731,"Szeged","013","Q1","2019-02-17","Lakossági számlanyitás",2,"db","2019-03-01","todor2",{"$f":"AND(E4732>=Kimutatás!B$2,E4732<=Kimutatás!B$3)","v":true}]
[4732,"Szeged","013","Q1","2019-02-17","KKV hitelnövekmény (db)",-2,"db","2019-03-01","todor2",{"$f":"AND(E4733>=Kimutatás!B$2,E4733<=Kimutatás!B$3)","v":true}]
[4733,"Szeged","013","Q1","2019-02-17","KKV számlanyitás",-3,"db","2019-03-01","todor2",{"$f":"AND(E4734>=Kimutatás!B$2,E4734<=Kimutatás!B$3)","v":true}]
[4734,"Szeged","013","Q1","2019-02-17","Betét állomány növekmény",44,"Mhuf","2019-03-01","todor2",{"$f":"AND(E4735>=Kimutatás!B$2,E4735<=Kimutatás!B$3)","v":true}]
[4735,"Szeged","013","Q1","2019-02-18","Betérő ügyfelek",45,"fő","2019-03-01","todor2",{"$f":"AND(E4736>=Kimutatás!B$2,E4736<=Kimutatás!B$3)","v":true}]
[4736,"Szeged","013","Q1","2019-02-18","Lakossági hitelnövekmény összege ",39,"Mhuf","2019-03-01","todor2",{"$f":"AND(E4737>=Kimutatás!B$2,E4737<=Kimutatás!B$3)","v":true}]
[4737,"Szeged","013","Q1","2019-02-18","Lakossági számlanyitás",-1,"db","2019-03-01","todor2",{"$f":"AND(E4738>=Kimutatás!B$2,E4738<=Kimutatás!B$3)","v":true}]
[4738,"Szeged","013","Q1","2019-02-18","KKV hitelnövekmény (db)",-2,"db","2019-03-01","todor2",{"$f":"AND(E4739>=Kimutatás!B$2,E4739<=Kimutatás!B$3)","v":true}]
[4739,"Szeged","013","Q1","2019-02-18","KKV számlanyitás",5,"db","2019-03-01","todor2",{"$f":"AND(E4740>=Kimutatás!B$2,E4740<=Kimutatás!B$3)","v":true}]
[4740,"Szeged","013","Q1","2019-02-18","Betét állomány növekmény",16,"Mhuf","2019-03-01","todor2",{"$f":"AND(E4741>=Kimutatás!B$2,E4741<=Kimutatás!B$3)","v":true}]
[4741,"Szeged","013","Q1","2019-02-19","Betérő ügyfelek",19,"fő","2019-03-01","todor2",{"$f":"AND(E4742>=Kimutatás!B$2,E4742<=Kimutatás!B$3)","v":true}]
[4742,"Szeged","013","Q1","2019-02-19","Lakossági hitelnövekmény összege ",32,"Mhuf","2019-03-01","todor2",{"$f":"AND(E4743>=Kimutatás!B$2,E4743<=Kimutatás!B$3)","v":true}]
[4743,"Szeged","013","Q1","2019-02-19","Lakossági számlanyitás",-1,"db","2019-03-01","todor2",{"$f":"AND(E4744>=Kimutatás!B$2,E4744<=Kimutatás!B$3)","v":true}]
[4744,"Szeged","013","Q1","2019-02-19","KKV hitelnövekmény (db)",-1,"db","2019-03-01","todor2",{"$f":"AND(E4745>=Kimutatás!B$2,E4745<=Kimutatás!B$3)","v":true}]
[4745,"Szeged","013","Q1","2019-02-19","KKV számlanyitás",1,"db","2019-03-01","todor2",{"$f":"AND(E4746>=Kimutatás!B$2,E4746<=Kimutatás!B$3)","v":true}]
[4746,"Szeged","013","Q1","2019-02-19","Betét állomány növekmény",32,"Mhuf","2019-03-01","todor2",{"$f":"AND(E4747>=Kimutatás!B$2,E4747<=Kimutatás!B$3)","v":true}]
[4747,"Szeged","013","Q1","2019-02-20","Betérő ügyfelek",26,"fő","2019-03-01","todor2",{"$f":"AND(E4748>=Kimutatás!B$2,E4748<=Kimutatás!B$3)","v":true}]
[4748,"Szeged","013","Q1","2019-02-20","Lakossági hitelnövekmény összege ",41,"Mhuf","2019-03-01","todor2",{"$f":"AND(E4749>=Kimutatás!B$2,E4749<=Kimutatás!B$3)","v":true}]
[4749,"Szeged","013","Q1","2019-02-20","Lakossági számlanyitás",-3,"db","2019-03-01","todor2",{"$f":"AND(E4750>=Kimutatás!B$2,E4750<=Kimutatás!B$3)","v":true}]
[4750,"Szeged","013","Q1","2019-02-20","KKV hitelnövekmény (db)",-2,"db","2019-03-01","todor2",{"$f":"AND(E4751>=Kimutatás!B$2,E4751<=Kimutatás!B$3)","v":true}]
[4751,"Szeged","013","Q1","2019-02-20","KKV számlanyitás",1,"db","2019-03-01","todor2",{"$f":"AND(E4752>=Kimutatás!B$2,E4752<=Kimutatás!B$3)","v":true}]
[4752,"Szeged","013","Q1","2019-02-20","Betét állomány növekmény",43,"Mhuf","2019-03-01","todor2",{"$f":"AND(E4753>=Kimutatás!B$2,E4753<=Kimutatás!B$3)","v":true}]
[4753,"Szeged","013","Q1","2019-02-21","Betérő ügyfelek",24,"fő","2019-03-01","todor2",{"$f":"AND(E4754>=Kimutatás!B$2,E4754<=Kimutatás!B$3)","v":true}]
[4754,"Szeged","013","Q1","2019-02-21","Lakossági hitelnövekmény összege ",-9,"Mhuf","2019-03-01","todor2",{"$f":"AND(E4755>=Kimutatás!B$2,E4755<=Kimutatás!B$3)","v":true}]
[4755,"Szeged","013","Q1","2019-02-21","Lakossági számlanyitás",5,"db","2019-03-01","todor2",{"$f":"AND(E4756>=Kimutatás!B$2,E4756<=Kimutatás!B$3)","v":true}]
[4756,"Szeged","013","Q1","2019-02-21","KKV hitelnövekmény (db)",0,"db","2019-03-01","todor2",{"$f":"AND(E4757>=Kimutatás!B$2,E4757<=Kimutatás!B$3)","v":true}]
[4757,"Szeged","013","Q1","2019-02-21","KKV számlanyitás",0,"db","2019-03-01","todor2",{"$f":"AND(E4758>=Kimutatás!B$2,E4758<=Kimutatás!B$3)","v":true}]
[4758,"Szeged","013","Q1","2019-02-21","Betét állomány növekmény",-4,"Mhuf","2019-03-01","todor2",{"$f":"AND(E4759>=Kimutatás!B$2,E4759<=Kimutatás!B$3)","v":true}]
[4759,"Szeged","013","Q1","2019-02-24","Betérő ügyfelek",45,"fő","2019-03-01","todor2",{"$f":"AND(E4760>=Kimutatás!B$2,E4760<=Kimutatás!B$3)","v":true}]
[4760,"Szeged","013","Q1","2019-02-24","Lakossági hitelnövekmény összege ",-2,"Mhuf","2019-03-01","todor2",{"$f":"AND(E4761>=Kimutatás!B$2,E4761<=Kimutatás!B$3)","v":true}]
[4761,"Szeged","013","Q1","2019-02-24","Lakossági számlanyitás",7,"db","2019-03-01","todor2",{"$f":"AND(E4762>=Kimutatás!B$2,E4762<=Kimutatás!B$3)","v":true}]
[4762,"Szeged","013","Q1","2019-02-24","KKV hitelnövekmény (db)",0,"db","2019-03-01","todor2",{"$f":"AND(E4763>=Kimutatás!B$2,E4763<=Kimutatás!B$3)","v":true}]
[4763,"Szeged","013","Q1","2019-02-24","KKV számlanyitás",2,"db","2019-03-01","todor2",{"$f":"AND(E4764>=Kimutatás!B$2,E4764<=Kimutatás!B$3)","v":true}]
[4764,"Szeged","013","Q1","2019-02-24","Betét állomány növekmény",30,"Mhuf","2019-03-01","todor2",{"$f":"AND(E4765>=Kimutatás!B$2,E4765<=Kimutatás!B$3)","v":true}]
[4765,"Szeged","013","Q1","2019-02-25","Betérő ügyfelek",43,"fő","2019-03-01","todor2",{"$f":"AND(E4766>=Kimutatás!B$2,E4766<=Kimutatás!B$3)","v":true}]
[4766,"Szeged","013","Q1","2019-02-25","Lakossági hitelnövekmény összege ",21,"Mhuf","2019-03-01","todor2",{"$f":"AND(E4767>=Kimutatás!B$2,E4767<=Kimutatás!B$3)","v":true}]
[4767,"Szeged","013","Q1","2019-02-25","Lakossági számlanyitás",5,"db","2019-03-01","todor2",{"$f":"AND(E4768>=Kimutatás!B$2,E4768<=Kimutatás!B$3)","v":true}]
[4768,"Szeged","013","Q1","2019-02-25","KKV hitelnövekmény (db)",0,"db","2019-03-01","todor2",{"$f":"AND(E4769>=Kimutatás!B$2,E4769<=Kimutatás!B$3)","v":true}]
[4769,"Szeged","013","Q1","2019-02-25","KKV számlanyitás",3,"db","2019-03-01","todor2",{"$f":"AND(E4770>=Kimutatás!B$2,E4770<=Kimutatás!B$3)","v":true}]
[4770,"Szeged","013","Q1","2019-02-25","Betét állomány növekmény",11,"Mhuf","2019-03-01","todor2",{"$f":"AND(E4771>=Kimutatás!B$2,E4771<=Kimutatás!B$3)","v":true}]
[4771,"Szeged","013","Q1","2019-02-26","Betérő ügyfelek",37,"fő","2019-03-01","todor2",{"$f":"AND(E4772>=Kimutatás!B$2,E4772<=Kimutatás!B$3)","v":true}]
[4772,"Szeged","013","Q1","2019-02-26","Lakossági hitelnövekmény összege ",39,"Mhuf","2019-03-01","todor2",{"$f":"AND(E4773>=Kimutatás!B$2,E4773<=Kimutatás!B$3)","v":true}]
[4773,"Szeged","013","Q1","2019-02-26","Lakossági számlanyitás",-3,"db","2019-03-01","todor2",{"$f":"AND(E4774>=Kimutatás!B$2,E4774<=Kimutatás!B$3)","v":true}]
[4774,"Szeged","013","Q1","2019-02-26","KKV hitelnövekmény (db)",1,"db","2019-03-01","todor2",{"$f":"AND(E4775>=Kimutatás!B$2,E4775<=Kimutatás!B$3)","v":true}]
[4775,"Szeged","013","Q1","2019-02-26","KKV számlanyitás",3,"db","2019-03-01","todor2",{"$f":"AND(E4776>=Kimutatás!B$2,E4776<=Kimutatás!B$3)","v":true}]
[4776,"Szeged","013","Q1","2019-02-26","Betét állomány növekmény",39,"Mhuf","2019-03-01","todor2",{"$f":"AND(E4777>=Kimutatás!B$2,E4777<=Kimutatás!B$3)","v":true}]
[4777,"Szeged","013","Q1","2019-02-27","Betérő ügyfelek",2,"fő","2019-03-01","todor2",{"$f":"AND(E4778>=Kimutatás!B$2,E4778<=Kimutatás!B$3)","v":true}]
[4778,"Szeged","013","Q1","2019-02-27","Lakossági hitelnövekmény összege ",33,"Mhuf","2019-03-01","todor2",{"$f":"AND(E4779>=Kimutatás!B$2,E4779<=Kimutatás!B$3)","v":true}]
[4779,"Szeged","013","Q1","2019-02-27","Lakossági számlanyitás",-3,"db","2019-03-01","todor2",{"$f":"AND(E4780>=Kimutatás!B$2,E4780<=Kimutatás!B$3)","v":true}]
[4780,"Szeged","013","Q1","2019-02-27","KKV hitelnövekmény (db)",2,"db","2019-03-01","todor2",{"$f":"AND(E4781>=Kimutatás!B$2,E4781<=Kimutatás!B$3)","v":true}]
[4781,"Szeged","013","Q1","2019-02-27","KKV számlanyitás",-1,"db","2019-03-01","todor2",{"$f":"AND(E4782>=Kimutatás!B$2,E4782<=Kimutatás!B$3)","v":true}]
[4782,"Szeged","013","Q1","2019-02-27","Betét állomány növekmény",-20,"Mhuf","2019-03-01","todor2",{"$f":"AND(E4783>=Kimutatás!B$2,E4783<=Kimutatás!B$3)","v":true}]
[4783,"Szeged","013","Q1","2019-02-28","Betérő ügyfelek",7,"fő","2019-03-01","todor2",{"$f":"AND(E4784>=Kimutatás!B$2,E4784<=Kimutatás!B$3)","v":true}]
[4784,"Szeged","013","Q1","2019-02-28","Lakossági hitelnövekmény összege ",19,"Mhuf","2019-03-01","todor2",{"$f":"AND(E4785>=Kimutatás!B$2,E4785<=Kimutatás!B$3)","v":true}]
[4785,"Szeged","013","Q1","2019-02-28","Lakossági számlanyitás",-5,"db","2019-03-01","todor2",{"$f":"AND(E4786>=Kimutatás!B$2,E4786<=Kimutatás!B$3)","v":true}]
[4786,"Szeged","013","Q1","2019-02-28","KKV hitelnövekmény (db)",-2,"db","2019-03-01","todor2",{"$f":"AND(E4787>=Kimutatás!B$2,E4787<=Kimutatás!B$3)","v":true}]
[4787,"Szeged","013","Q1","2019-02-28","KKV számlanyitás",-2,"db","2019-03-01","todor2",{"$f":"AND(E4788>=Kimutatás!B$2,E4788<=Kimutatás!B$3)","v":true}]
[4788,"Szeged","013","Q1","2019-02-28","Betét állomány növekmény",39,"Mhuf","2019-03-01","todor2",{"$f":"AND(E4789>=Kimutatás!B$2,E4789<=Kimutatás!B$3)","v":true}]
[4789,"Szeged","013","Q1","2019-03-03","Betérő ügyfelek",9,"fő","2019-04-01","tolnayk",{"$f":"AND(E4790>=Kimutatás!B$2,E4790<=Kimutatás!B$3)","v":true}]
[4790,"Szeged","013","Q1","2019-03-03","Lakossági hitelnövekmény összege ",29,"Mhuf","2019-04-01","tolnayk",{"$f":"AND(E4791>=Kimutatás!B$2,E4791<=Kimutatás!B$3)","v":true}]
[4791,"Szeged","013","Q1","2019-03-03","Lakossági számlanyitás",-2,"db","2019-04-01","tolnayk",{"$f":"AND(E4792>=Kimutatás!B$2,E4792<=Kimutatás!B$3)","v":true}]
[4792,"Szeged","013","Q1","2019-03-03","KKV hitelnövekmény (db)",-1,"db","2019-04-01","tolnayk",{"$f":"AND(E4793>=Kimutatás!B$2,E4793<=Kimutatás!B$3)","v":true}]
[4793,"Szeged","013","Q1","2019-03-03","KKV számlanyitás",-5,"db","2019-04-01","tolnayk",{"$f":"AND(E4794>=Kimutatás!B$2,E4794<=Kimutatás!B$3)","v":true}]
[4794,"Szeged","013","Q1","2019-03-03","Betét állomány növekmény",-11,"Mhuf","2019-04-01","tolnayk",{"$f":"AND(E4795>=Kimutatás!B$2,E4795<=Kimutatás!B$3)","v":true}]
[4795,"Szeged","013","Q1","2019-03-04","Betérő ügyfelek",41,"fő","2019-04-01","tolnayk",{"$f":"AND(E4796>=Kimutatás!B$2,E4796<=Kimutatás!B$3)","v":true}]
[4796,"Szeged","013","Q1","2019-03-04","Lakossági hitelnövekmény összege ",49,"Mhuf","2019-04-01","tolnayk",{"$f":"AND(E4797>=Kimutatás!B$2,E4797<=Kimutatás!B$3)","v":true}]
[4797,"Szeged","013","Q1","2019-03-04","Lakossági számlanyitás",8,"db","2019-04-01","tolnayk",{"$f":"AND(E4798>=Kimutatás!B$2,E4798<=Kimutatás!B$3)","v":true}]
[4798,"Szeged","013","Q1","2019-03-04","KKV hitelnövekmény (db)",2,"db","2019-04-01","tolnayk",{"$f":"AND(E4799>=Kimutatás!B$2,E4799<=Kimutatás!B$3)","v":true}]
[4799,"Szeged","013","Q1","2019-03-04","KKV számlanyitás",-3,"db","2019-04-01","tolnayk",{"$f":"AND(E4800>=Kimutatás!B$2,E4800<=Kimutatás!B$3)","v":true}]
[4800,"Szeged","013","Q1","2019-03-04","Betét állomány növekmény",16,"Mhuf","2019-04-01","tolnayk",{"$f":"AND(E4801>=Kimutatás!B$2,E4801<=Kimutatás!B$3)","v":true}]
[4801,"Szeged","013","Q1","2019-03-05","Betérő ügyfelek",29,"fő","2019-04-01","tolnayk",{"$f":"AND(E4802>=Kimutatás!B$2,E4802<=Kimutatás!B$3)","v":true}]
[4802,"Szeged","013","Q1","2019-03-05","Lakossági hitelnövekmény összege ",-10,"Mhuf","2019-04-01","tolnayk",{"$f":"AND(E4803>=Kimutatás!B$2,E4803<=Kimutatás!B$3)","v":true}]
[4803,"Szeged","013","Q1","2019-03-05","Lakossági számlanyitás",5,"db","2019-04-01","tolnayk",{"$f":"AND(E4804>=Kimutatás!B$2,E4804<=Kimutatás!B$3)","v":true}]
[4804,"Szeged","013","Q1","2019-03-05","KKV hitelnövekmény (db)",-2,"db","2019-04-01","tolnayk",{"$f":"AND(E4805>=Kimutatás!B$2,E4805<=Kimutatás!B$3)","v":true}]
[4805,"Szeged","013","Q1","2019-03-05","KKV számlanyitás",-2,"db","2019-04-01","tolnayk",{"$f":"AND(E4806>=Kimutatás!B$2,E4806<=Kimutatás!B$3)","v":true}]
[4806,"Szeged","013","Q1","2019-03-05","Betét állomány növekmény",-3,"Mhuf","2019-04-01","tolnayk",{"$f":"AND(E4807>=Kimutatás!B$2,E4807<=Kimutatás!B$3)","v":true}]
[4807,"Szeged","013","Q1","2019-03-06","Betérő ügyfelek",21,"fő","2019-04-01","tolnayk",{"$f":"AND(E4808>=Kimutatás!B$2,E4808<=Kimutatás!B$3)","v":true}]
[4808,"Szeged","013","Q1","2019-03-06","Lakossági hitelnövekmény összege ",1,"Mhuf","2019-04-01","tolnayk",{"$f":"AND(E4809>=Kimutatás!B$2,E4809<=Kimutatás!B$3)","v":true}]
[4809,"Szeged","013","Q1","2019-03-06","Lakossági számlanyitás",1,"db","2019-04-01","tolnayk",{"$f":"AND(E4810>=Kimutatás!B$2,E4810<=Kimutatás!B$3)","v":true}]
[4810,"Szeged","013","Q1","2019-03-06","KKV hitelnövekmény (db)",2,"db","2019-04-01","tolnayk",{"$f":"AND(E4811>=Kimutatás!B$2,E4811<=Kimutatás!B$3)","v":true}]
[4811,"Szeged","013","Q1","2019-03-06","KKV számlanyitás",3,"db","2019-04-01","tolnayk",{"$f":"AND(E4812>=Kimutatás!B$2,E4812<=Kimutatás!B$3)","v":true}]
[4812,"Szeged","013","Q1","2019-03-06","Betét állomány növekmény",33,"Mhuf","2019-04-01","tolnayk",{"$f":"AND(E4813>=Kimutatás!B$2,E4813<=Kimutatás!B$3)","v":true}]
[4813,"Szeged","013","Q1","2019-03-07","Betérő ügyfelek",39,"fő","2019-04-01","tolnayk",{"$f":"AND(E4814>=Kimutatás!B$2,E4814<=Kimutatás!B$3)","v":true}]
[4814,"Szeged","013","Q1","2019-03-07","Lakossági hitelnövekmény összege ",19,"Mhuf","2019-04-01","tolnayk",{"$f":"AND(E4815>=Kimutatás!B$2,E4815<=Kimutatás!B$3)","v":true}]
[4815,"Szeged","013","Q1","2019-03-07","Lakossági számlanyitás",-2,"db","2019-04-01","tolnayk",{"$f":"AND(E4816>=Kimutatás!B$2,E4816<=Kimutatás!B$3)","v":true}]
[4816,"Szeged","013","Q1","2019-03-07","KKV hitelnövekmény (db)",-1,"db","2019-04-01","tolnayk",{"$f":"AND(E4817>=Kimutatás!B$2,E4817<=Kimutatás!B$3)","v":true}]
[4817,"Szeged","013","Q1","2019-03-07","KKV számlanyitás",-3,"db","2019-04-01","tolnayk",{"$f":"AND(E4818>=Kimutatás!B$2,E4818<=Kimutatás!B$3)","v":true}]
[4818,"Szeged","013","Q1","2019-03-07","Betét állomány növekmény",23,"Mhuf","2019-04-01","tolnayk",{"$f":"AND(E4819>=Kimutatás!B$2,E4819<=Kimutatás!B$3)","v":true}]
[4819,"Szeged","013","Q1","2019-03-10","Betérő ügyfelek",28,"fő","2019-04-01","tolnayk",{"$f":"AND(E4820>=Kimutatás!B$2,E4820<=Kimutatás!B$3)","v":true}]
[4820,"Szeged","013","Q1","2019-03-10","Lakossági hitelnövekmény összege ",28,"Mhuf","2019-04-01","tolnayk",{"$f":"AND(E4821>=Kimutatás!B$2,E4821<=Kimutatás!B$3)","v":true}]
[4821,"Szeged","013","Q1","2019-03-10","Lakossági számlanyitás",5,"db","2019-04-01","tolnayk",{"$f":"AND(E4822>=Kimutatás!B$2,E4822<=Kimutatás!B$3)","v":true}]
[4822,"Szeged","013","Q1","2019-03-10","KKV hitelnövekmény (db)",-1,"db","2019-04-01","tolnayk",{"$f":"AND(E4823>=Kimutatás!B$2,E4823<=Kimutatás!B$3)","v":true}]
[4823,"Szeged","013","Q1","2019-03-10","KKV számlanyitás",-5,"db","2019-04-01","tolnayk",{"$f":"AND(E4824>=Kimutatás!B$2,E4824<=Kimutatás!B$3)","v":true}]
[4824,"Szeged","013","Q1","2019-03-10","Betét állomány növekmény",24,"Mhuf","2019-04-01","tolnayk",{"$f":"AND(E4825>=Kimutatás!B$2,E4825<=Kimutatás!B$3)","v":true}]
[4825,"Szeged","013","Q1","2019-03-11","Betérő ügyfelek",16,"fő","2019-04-01","tolnayk",{"$f":"AND(E4826>=Kimutatás!B$2,E4826<=Kimutatás!B$3)","v":false}]
[4826,"Szeged","013","Q1","2019-03-11","Lakossági hitelnövekmény összege ",-2,"Mhuf","2019-04-01","tolnayk",{"$f":"AND(E4827>=Kimutatás!B$2,E4827<=Kimutatás!B$3)","v":false}]
[4827,"Szeged","013","Q1","2019-03-11","Lakossági számlanyitás",-3,"db","2019-04-01","tolnayk",{"$f":"AND(E4828>=Kimutatás!B$2,E4828<=Kimutatás!B$3)","v":false}]
[4828,"Szeged","013","Q1","2019-03-11","KKV hitelnövekmény (db)",1,"db","2019-04-01","tolnayk",{"$f":"AND(E4829>=Kimutatás!B$2,E4829<=Kimutatás!B$3)","v":false}]
[4829,"Szeged","013","Q1","2019-03-11","KKV számlanyitás",5,"db","2019-04-01","tolnayk",{"$f":"AND(E4830>=Kimutatás!B$2,E4830<=Kimutatás!B$3)","v":false}]
[4830,"Szeged","013","Q1","2019-03-11","Betét állomány növekmény",20,"Mhuf","2019-04-01","tolnayk",{"$f":"AND(E4831>=Kimutatás!B$2,E4831<=Kimutatás!B$3)","v":false}]
[4831,"Szeged","013","Q1","2019-03-12","Betérő ügyfelek",44,"fő","2019-04-01","tolnayk",{"$f":"AND(E4832>=Kimutatás!B$2,E4832<=Kimutatás!B$3)","v":false}]
[4832,"Szeged","013","Q1","2019-03-12","Lakossági hitelnövekmény összege ",-5,"Mhuf","2019-04-01","tolnayk",{"$f":"AND(E4833>=Kimutatás!B$2,E4833<=Kimutatás!B$3)","v":false}]
[4833,"Szeged","013","Q1","2019-03-12","Lakossági számlanyitás",-4,"db","2019-04-01","tolnayk",{"$f":"AND(E4834>=Kimutatás!B$2,E4834<=Kimutatás!B$3)","v":false}]
[4834,"Szeged","013","Q1","2019-03-12","KKV hitelnövekmény (db)",-2,"db","2019-04-01","tolnayk",{"$f":"AND(E4835>=Kimutatás!B$2,E4835<=Kimutatás!B$3)","v":false}]
[4835,"Szeged","013","Q1","2019-03-12","KKV számlanyitás",3,"db","2019-04-01","tolnayk",{"$f":"AND(E4836>=Kimutatás!B$2,E4836<=Kimutatás!B$3)","v":false}]
[4836,"Szeged","013","Q1","2019-03-12","Betét állomány növekmény",31,"Mhuf","2019-04-01","tolnayk",{"$f":"AND(E4837>=Kimutatás!B$2,E4837<=Kimutatás!B$3)","v":false}]
[4837,"Szeged","013","Q1","2019-03-13","Betérő ügyfelek",33,"fő","2019-04-01","tolnayk",{"$f":"AND(E4838>=Kimutatás!B$2,E4838<=Kimutatás!B$3)","v":false}]
[4838,"Szeged","013","Q1","2019-03-13","Lakossági hitelnövekmény összege ",14,"Mhuf","2019-04-01","tolnayk",{"$f":"AND(E4839>=Kimutatás!B$2,E4839<=Kimutatás!B$3)","v":false}]
[4839,"Szeged","013","Q1","2019-03-13","Lakossági számlanyitás",-5,"db","2019-04-01","tolnayk",{"$f":"AND(E4840>=Kimutatás!B$2,E4840<=Kimutatás!B$3)","v":false}]
[4840,"Szeged","013","Q1","2019-03-13","KKV hitelnövekmény (db)",-2,"db","2019-04-01","tolnayk",{"$f":"AND(E4841>=Kimutatás!B$2,E4841<=Kimutatás!B$3)","v":false}]
[4841,"Szeged","013","Q1","2019-03-13","KKV számlanyitás",3,"db","2019-04-01","tolnayk",{"$f":"AND(E4842>=Kimutatás!B$2,E4842<=Kimutatás!B$3)","v":false}]
[4842,"Szeged","013","Q1","2019-03-13","Betét állomány növekmény",-6,"Mhuf","2019-04-01","tolnayk",{"$f":"AND(E4843>=Kimutatás!B$2,E4843<=Kimutatás!B$3)","v":false}]
[4843,"Szeged","013","Q1","2019-03-14","Betérő ügyfelek",46,"fő","2019-04-01","tolnayk",{"$f":"AND(E4844>=Kimutatás!B$2,E4844<=Kimutatás!B$3)","v":false}]
[4844,"Szeged","013","Q1","2019-03-14","Lakossági hitelnövekmény összege ",50,"Mhuf","2019-04-01","tolnayk",{"$f":"AND(E4845>=Kimutatás!B$2,E4845<=Kimutatás!B$3)","v":false}]
[4845,"Szeged","013","Q1","2019-03-14","Lakossági számlanyitás",7,"db","2019-04-01","tolnayk",{"$f":"AND(E4846>=Kimutatás!B$2,E4846<=Kimutatás!B$3)","v":false}]
[4846,"Szeged","013","Q1","2019-03-14","KKV hitelnövekmény (db)",-2,"db","2019-04-01","tolnayk",{"$f":"AND(E4847>=Kimutatás!B$2,E4847<=Kimutatás!B$3)","v":false}]
[4847,"Szeged","013","Q1","2019-03-14","KKV számlanyitás",4,"db","2019-04-01","tolnayk",{"$f":"AND(E4848>=Kimutatás!B$2,E4848<=Kimutatás!B$3)","v":false}]
[4848,"Szeged","013","Q1","2019-03-14","Betét állomány növekmény",20,"Mhuf","2019-04-01","tolnayk",{"$f":"AND(E4849>=Kimutatás!B$2,E4849<=Kimutatás!B$3)","v":false}]
[4849,"Szeged","013","Q1","2019-03-17","Betérő ügyfelek",6,"fő","2019-04-01","tolnayk",{"$f":"AND(E4850>=Kimutatás!B$2,E4850<=Kimutatás!B$3)","v":false}]
[4850,"Szeged","013","Q1","2019-03-17","Lakossági hitelnövekmény összege ",26,"Mhuf","2019-04-01","tolnayk",{"$f":"AND(E4851>=Kimutatás!B$2,E4851<=Kimutatás!B$3)","v":false}]
[4851,"Szeged","013","Q1","2019-03-17","Lakossági számlanyitás",0,"db","2019-04-01","tolnayk",{"$f":"AND(E4852>=Kimutatás!B$2,E4852<=Kimutatás!B$3)","v":false}]
[4852,"Szeged","013","Q1","2019-03-17","KKV hitelnövekmény (db)",-2,"db","2019-04-01","tolnayk",{"$f":"AND(E4853>=Kimutatás!B$2,E4853<=Kimutatás!B$3)","v":false}]
[4853,"Szeged","013","Q1","2019-03-17","KKV számlanyitás",0,"db","2019-04-01","tolnayk",{"$f":"AND(E4854>=Kimutatás!B$2,E4854<=Kimutatás!B$3)","v":false}]
[4854,"Szeged","013","Q1","2019-03-17","Betét állomány növekmény",47,"Mhuf","2019-04-01","tolnayk",{"$f":"AND(E4855>=Kimutatás!B$2,E4855<=Kimutatás!B$3)","v":false}]
[4855,"Szeged","013","Q1","2019-03-18","Betérő ügyfelek",47,"fő","2019-04-01","tolnayk",{"$f":"AND(E4856>=Kimutatás!B$2,E4856<=Kimutatás!B$3)","v":false}]
[4856,"Szeged","013","Q1","2019-03-18","Lakossági hitelnövekmény összege ",48,"Mhuf","2019-04-01","tolnayk",{"$f":"AND(E4857>=Kimutatás!B$2,E4857<=Kimutatás!B$3)","v":false}]
[4857,"Szeged","013","Q1","2019-03-18","Lakossági számlanyitás",1,"db","2019-04-01","tolnayk",{"$f":"AND(E4858>=Kimutatás!B$2,E4858<=Kimutatás!B$3)","v":false}]
[4858,"Szeged","013","Q1","2019-03-18","KKV hitelnövekmény (db)",0,"db","2019-04-01","tolnayk",{"$f":"AND(E4859>=Kimutatás!B$2,E4859<=Kimutatás!B$3)","v":false}]
[4859,"Szeged","013","Q1","2019-03-18","KKV számlanyitás",-5,"db","2019-04-01","tolnayk",{"$f":"AND(E4860>=Kimutatás!B$2,E4860<=Kimutatás!B$3)","v":false}]
[4860,"Szeged","013","Q1","2019-03-18","Betét állomány növekmény",33,"Mhuf","2019-04-01","tolnayk",{"$f":"AND(E4861>=Kimutatás!B$2,E4861<=Kimutatás!B$3)","v":false}]
[4861,"Szeged","013","Q1","2019-03-19","Betérő ügyfelek",16,"fő","2019-04-01","tolnayk",{"$f":"AND(E4862>=Kimutatás!B$2,E4862<=Kimutatás!B$3)","v":false}]
[4862,"Szeged","013","Q1","2019-03-19","Lakossági hitelnövekmény összege ",14,"Mhuf","2019-04-01","tolnayk",{"$f":"AND(E4863>=Kimutatás!B$2,E4863<=Kimutatás!B$3)","v":false}]
[4863,"Szeged","013","Q1","2019-03-19","Lakossági számlanyitás",10,"db","2019-04-01","tolnayk",{"$f":"AND(E4864>=Kimutatás!B$2,E4864<=Kimutatás!B$3)","v":false}]
[4864,"Szeged","013","Q1","2019-03-19","KKV hitelnövekmény (db)",-2,"db","2019-04-01","tolnayk",{"$f":"AND(E4865>=Kimutatás!B$2,E4865<=Kimutatás!B$3)","v":false}]
[4865,"Szeged","013","Q1","2019-03-19","KKV számlanyitás",4,"db","2019-04-01","tolnayk",{"$f":"AND(E4866>=Kimutatás!B$2,E4866<=Kimutatás!B$3)","v":false}]
[4866,"Szeged","013","Q1","2019-03-19","Betét állomány növekmény",3,"Mhuf","2019-04-01","tolnayk",{"$f":"AND(E4867>=Kimutatás!B$2,E4867<=Kimutatás!B$3)","v":false}]
[4867,"Szeged","013","Q1","2019-03-20","Betérő ügyfelek",31,"fő","2019-04-01","tolnayk",{"$f":"AND(E4868>=Kimutatás!B$2,E4868<=Kimutatás!B$3)","v":false}]
[4868,"Szeged","013","Q1","2019-03-20","Lakossági hitelnövekmény összege ",2,"Mhuf","2019-04-01","tolnayk",{"$f":"AND(E4869>=Kimutatás!B$2,E4869<=Kimutatás!B$3)","v":false}]
[4869,"Szeged","013","Q1","2019-03-20","Lakossági számlanyitás",8,"db","2019-04-01","tolnayk",{"$f":"AND(E4870>=Kimutatás!B$2,E4870<=Kimutatás!B$3)","v":false}]
[4870,"Szeged","013","Q1","2019-03-20","KKV hitelnövekmény (db)",-1,"db","2019-04-01","tolnayk",{"$f":"AND(E4871>=Kimutatás!B$2,E4871<=Kimutatás!B$3)","v":false}]
[4871,"Szeged","013","Q1","2019-03-20","KKV számlanyitás",3,"db","2019-04-01","tolnayk",{"$f":"AND(E4872>=Kimutatás!B$2,E4872<=Kimutatás!B$3)","v":false}]
[4872,"Szeged","013","Q1","2019-03-20","Betét állomány növekmény",8,"Mhuf","2019-04-01","tolnayk",{"$f":"AND(E4873>=Kimutatás!B$2,E4873<=Kimutatás!B$3)","v":false}]
[4873,"Szeged","013","Q1","2019-03-21","Betérő ügyfelek",46,"fő","2019-04-01","tolnayk",{"$f":"AND(E4874>=Kimutatás!B$2,E4874<=Kimutatás!B$3)","v":false}]
[4874,"Szeged","013","Q1","2019-03-21","Lakossági hitelnövekmény összege ",30,"Mhuf","2019-04-01","tolnayk",{"$f":"AND(E4875>=Kimutatás!B$2,E4875<=Kimutatás!B$3)","v":false}]
[4875,"Szeged","013","Q1","2019-03-21","Lakossági számlanyitás",5,"db","2019-04-01","tolnayk",{"$f":"AND(E4876>=Kimutatás!B$2,E4876<=Kimutatás!B$3)","v":false}]
[4876,"Szeged","013","Q1","2019-03-21","KKV hitelnövekmény (db)",-2,"db","2019-04-01","tolnayk",{"$f":"AND(E4877>=Kimutatás!B$2,E4877<=Kimutatás!B$3)","v":false}]
[4877,"Szeged","013","Q1","2019-03-21","KKV számlanyitás",4,"db","2019-04-01","tolnayk",{"$f":"AND(E4878>=Kimutatás!B$2,E4878<=Kimutatás!B$3)","v":false}]
[4878,"Szeged","013","Q1","2019-03-21","Betét állomány növekmény",49,"Mhuf","2019-04-01","tolnayk",{"$f":"AND(E4879>=Kimutatás!B$2,E4879<=Kimutatás!B$3)","v":false}]
[4879,"Szeged","013","Q1","2019-03-24","Betérő ügyfelek",42,"fő","2019-04-01","tolnayk",{"$f":"AND(E4880>=Kimutatás!B$2,E4880<=Kimutatás!B$3)","v":false}]
[4880,"Szeged","013","Q1","2019-03-24","Lakossági hitelnövekmény összege ",22,"Mhuf","2019-04-01","tolnayk",{"$f":"AND(E4881>=Kimutatás!B$2,E4881<=Kimutatás!B$3)","v":false}]
[4881,"Szeged","013","Q1","2019-03-24","Lakossági számlanyitás",1,"db","2019-04-01","tolnayk",{"$f":"AND(E4882>=Kimutatás!B$2,E4882<=Kimutatás!B$3)","v":false}]
[4882,"Szeged","013","Q1","2019-03-24","KKV hitelnövekmény (db)",0,"db","2019-04-01","tolnayk",{"$f":"AND(E4883>=Kimutatás!B$2,E4883<=Kimutatás!B$3)","v":false}]
[4883,"Szeged","013","Q1","2019-03-24","KKV számlanyitás",2,"db","2019-04-01","tolnayk",{"$f":"AND(E4884>=Kimutatás!B$2,E4884<=Kimutatás!B$3)","v":false}]
[4884,"Szeged","013","Q1","2019-03-24","Betét állomány növekmény",-8,"Mhuf","2019-04-01","tolnayk",{"$f":"AND(E4885>=Kimutatás!B$2,E4885<=Kimutatás!B$3)","v":false}]
[4885,"Szeged","013","Q1","2019-03-25","Betérő ügyfelek",46,"fő","2019-04-01","tolnayk",{"$f":"AND(E4886>=Kimutatás!B$2,E4886<=Kimutatás!B$3)","v":false}]
[4886,"Szeged","013","Q1","2019-03-25","Lakossági hitelnövekmény összege ",49,"Mhuf","2019-04-01","tolnayk",{"$f":"AND(E4887>=Kimutatás!B$2,E4887<=Kimutatás!B$3)","v":false}]
[4887,"Szeged","013","Q1","2019-03-25","Lakossági számlanyitás",1,"db","2019-04-01","tolnayk",{"$f":"AND(E4888>=Kimutatás!B$2,E4888<=Kimutatás!B$3)","v":false}]
[4888,"Szeged","013","Q1","2019-03-25","KKV hitelnövekmény (db)",2,"db","2019-04-01","tolnayk",{"$f":"AND(E4889>=Kimutatás!B$2,E4889<=Kimutatás!B$3)","v":false}]
[4889,"Szeged","013","Q1","2019-03-25","KKV számlanyitás",1,"db","2019-04-01","tolnayk",{"$f":"AND(E4890>=Kimutatás!B$2,E4890<=Kimutatás!B$3)","v":false}]
[4890,"Szeged","013","Q1","2019-03-25","Betét állomány növekmény",-17,"Mhuf","2019-04-01","tolnayk",{"$f":"AND(E4891>=Kimutatás!B$2,E4891<=Kimutatás!B$3)","v":false}]
[4891,"Szeged","013","Q1","2019-03-26","Betérő ügyfelek",48,"fő","2019-04-01","tolnayk",{"$f":"AND(E4892>=Kimutatás!B$2,E4892<=Kimutatás!B$3)","v":false}]
[4892,"Szeged","013","Q1","2019-03-26","Lakossági hitelnövekmény összege ",19,"Mhuf","2019-04-01","tolnayk",{"$f":"AND(E4893>=Kimutatás!B$2,E4893<=Kimutatás!B$3)","v":false}]
[4893,"Szeged","013","Q1","2019-03-26","Lakossági számlanyitás",-1,"db","2019-04-01","tolnayk",{"$f":"AND(E4894>=Kimutatás!B$2,E4894<=Kimutatás!B$3)","v":false}]
[4894,"Szeged","013","Q1","2019-03-26","KKV hitelnövekmény (db)",-2,"db","2019-04-01","tolnayk",{"$f":"AND(E4895>=Kimutatás!B$2,E4895<=Kimutatás!B$3)","v":false}]
[4895,"Szeged","013","Q1","2019-03-26","KKV számlanyitás",3,"db","2019-04-01","tolnayk",{"$f":"AND(E4896>=Kimutatás!B$2,E4896<=Kimutatás!B$3)","v":false}]
[4896,"Szeged","013","Q1","2019-03-26","Betét állomány növekmény",-11,"Mhuf","2019-04-01","tolnayk",{"$f":"AND(E4897>=Kimutatás!B$2,E4897<=Kimutatás!B$3)","v":false}]
[4897,"Szeged","013","Q1","2019-03-27","Betérő ügyfelek",12,"fő","2019-04-01","tolnayk",{"$f":"AND(E4898>=Kimutatás!B$2,E4898<=Kimutatás!B$3)","v":false}]
[4898,"Szeged","013","Q1","2019-03-27","Lakossági hitelnövekmény összege ",-1,"Mhuf","2019-04-01","tolnayk",{"$f":"AND(E4899>=Kimutatás!B$2,E4899<=Kimutatás!B$3)","v":false}]
[4899,"Szeged","013","Q1","2019-03-27","Lakossági számlanyitás",4,"db","2019-04-01","tolnayk",{"$f":"AND(E4900>=Kimutatás!B$2,E4900<=Kimutatás!B$3)","v":false}]
[4900,"Szeged","013","Q1","2019-03-27","KKV hitelnövekmény (db)",0,"db","2019-04-01","tolnayk",{"$f":"AND(E4901>=Kimutatás!B$2,E4901<=Kimutatás!B$3)","v":false}]
[4901,"Szeged","013","Q1","2019-03-27","KKV számlanyitás",5,"db","2019-04-01","tolnayk",{"$f":"AND(E4902>=Kimutatás!B$2,E4902<=Kimutatás!B$3)","v":false}]
[4902,"Szeged","013","Q1","2019-03-27","Betét állomány növekmény",-19,"Mhuf","2019-04-01","tolnayk",{"$f":"AND(E4903>=Kimutatás!B$2,E4903<=Kimutatás!B$3)","v":false}]
[4903,"Szeged","013","Q1","2019-03-28","Betérő ügyfelek",41,"fő","2019-04-01","tolnayk",{"$f":"AND(E4904>=Kimutatás!B$2,E4904<=Kimutatás!B$3)","v":false}]
[4904,"Szeged","013","Q1","2019-03-28","Lakossági hitelnövekmény összege ",50,"Mhuf","2019-04-01","tolnayk",{"$f":"AND(E4905>=Kimutatás!B$2,E4905<=Kimutatás!B$3)","v":false}]
[4905,"Szeged","013","Q1","2019-03-28","Lakossági számlanyitás",7,"db","2019-04-01","tolnayk",{"$f":"AND(E4906>=Kimutatás!B$2,E4906<=Kimutatás!B$3)","v":false}]
[4906,"Szeged","013","Q1","2019-03-28","KKV hitelnövekmény (db)",2,"db","2019-04-01","tolnayk",{"$f":"AND(E4907>=Kimutatás!B$2,E4907<=Kimutatás!B$3)","v":false}]
[4907,"Szeged","013","Q1","2019-03-28","KKV számlanyitás",3,"db","2019-04-01","tolnayk",{"$f":"AND(E4908>=Kimutatás!B$2,E4908<=Kimutatás!B$3)","v":false}]
[4908,"Szeged","013","Q1","2019-03-28","Betét állomány növekmény",37,"Mhuf","2019-04-01","tolnayk",{"$f":"AND(E4909>=Kimutatás!B$2,E4909<=Kimutatás!B$3)","v":false}]
[4909,"Szeged","013","Q1","2019-03-31","Betérő ügyfelek",38,"fő","2019-04-01","tolnayk",{"$f":"AND(E4910>=Kimutatás!B$2,E4910<=Kimutatás!B$3)","v":false}]
[4910,"Szeged","013","Q1","2019-03-31","Lakossági hitelnövekmény összege ",-3,"Mhuf","2019-04-01","tolnayk",{"$f":"AND(E4911>=Kimutatás!B$2,E4911<=Kimutatás!B$3)","v":false}]
[4911,"Szeged","013","Q1","2019-03-31","Lakossági számlanyitás",-2,"db","2019-04-01","tolnayk",{"$f":"AND(E4912>=Kimutatás!B$2,E4912<=Kimutatás!B$3)","v":false}]
[4912,"Szeged","013","Q1","2019-03-31","KKV hitelnövekmény (db)",1,"db","2019-04-01","tolnayk",{"$f":"AND(E4913>=Kimutatás!B$2,E4913<=Kimutatás!B$3)","v":false}]
[4913,"Szeged","013","Q1","2019-03-31","KKV számlanyitás",4,"db","2019-04-01","tolnayk",{"$f":"AND(E4914>=Kimutatás!B$2,E4914<=Kimutatás!B$3)","v":false}]
[4914,"Szeged","013","Q1","2019-03-31","Betét állomány növekmény",35,"Mhuf","2019-04-01","tolnayk",{"$f":"AND(E4915>=Kimutatás!B$2,E4915<=Kimutatás!B$3)","v":false}]
[4915,"Szekszárd","014","Q1","2019-01-02","Betérő ügyfelek",39,"fő","2019-02-01","viragb",{"$f":"AND(E4916>=Kimutatás!B$2,E4916<=Kimutatás!B$3)","v":false}]
[4916,"Szekszárd","014","Q1","2019-01-02","Lakossági hitelnövekmény összege ",11,"Mhuf","2019-02-01","viragb",{"$f":"AND(E4917>=Kimutatás!B$2,E4917<=Kimutatás!B$3)","v":false}]
[4917,"Szekszárd","014","Q1","2019-01-02","Lakossági számlanyitás",-1,"db","2019-02-01","viragb",{"$f":"AND(E4918>=Kimutatás!B$2,E4918<=Kimutatás!B$3)","v":false}]
[4918,"Szekszárd","014","Q1","2019-01-02","KKV hitelnövekmény (db)",-1,"db","2019-02-01","viragb",{"$f":"AND(E4919>=Kimutatás!B$2,E4919<=Kimutatás!B$3)","v":false}]
[4919,"Szekszárd","014","Q1","2019-01-02","KKV számlanyitás",3,"db","2019-02-01","viragb",{"$f":"AND(E4920>=Kimutatás!B$2,E4920<=Kimutatás!B$3)","v":false}]
[4920,"Szekszárd","014","Q1","2019-01-02","Betét állomány növekmény",32,"Mhuf","2019-02-01","viragb",{"$f":"AND(E4921>=Kimutatás!B$2,E4921<=Kimutatás!B$3)","v":false}]
[4921,"Szekszárd","014","Q1","2019-01-03","Betérő ügyfelek",4,"fő","2019-02-01","viragb",{"$f":"AND(E4922>=Kimutatás!B$2,E4922<=Kimutatás!B$3)","v":false}]
[4922,"Szekszárd","014","Q1","2019-01-03","Lakossági hitelnövekmény összege ",25,"Mhuf","2019-02-01","viragb",{"$f":"AND(E4923>=Kimutatás!B$2,E4923<=Kimutatás!B$3)","v":false}]
[4923,"Szekszárd","014","Q1","2019-01-03","Lakossági számlanyitás",2,"db","2019-02-01","viragb",{"$f":"AND(E4924>=Kimutatás!B$2,E4924<=Kimutatás!B$3)","v":false}]
[4924,"Szekszárd","014","Q1","2019-01-03","KKV hitelnövekmény (db)",-1,"db","2019-02-01","viragb",{"$f":"AND(E4925>=Kimutatás!B$2,E4925<=Kimutatás!B$3)","v":false}]
[4925,"Szekszárd","014","Q1","2019-01-03","KKV számlanyitás",3,"db","2019-02-01","viragb",{"$f":"AND(E4926>=Kimutatás!B$2,E4926<=Kimutatás!B$3)","v":false}]
[4926,"Szekszárd","014","Q1","2019-01-03","Betét állomány növekmény",6,"Mhuf","2019-02-01","viragb",{"$f":"AND(E4927>=Kimutatás!B$2,E4927<=Kimutatás!B$3)","v":false}]
[4927,"Szekszárd","014","Q1","2019-01-06","Betérő ügyfelek",1,"fő","2019-02-01","viragb",{"$f":"AND(E4928>=Kimutatás!B$2,E4928<=Kimutatás!B$3)","v":false}]
[4928,"Szekszárd","014","Q1","2019-01-06","Lakossági hitelnövekmény összege ",11,"Mhuf","2019-02-01","viragb",{"$f":"AND(E4929>=Kimutatás!B$2,E4929<=Kimutatás!B$3)","v":false}]
[4929,"Szekszárd","014","Q1","2019-01-06","Lakossági számlanyitás",-4,"db","2019-02-01","viragb",{"$f":"AND(E4930>=Kimutatás!B$2,E4930<=Kimutatás!B$3)","v":false}]
[4930,"Szekszárd","014","Q1","2019-01-06","KKV hitelnövekmény (db)",1,"db","2019-02-01","viragb",{"$f":"AND(E4931>=Kimutatás!B$2,E4931<=Kimutatás!B$3)","v":false}]
[4931,"Szekszárd","014","Q1","2019-01-06","KKV számlanyitás",3,"db","2019-02-01","viragb",{"$f":"AND(E4932>=Kimutatás!B$2,E4932<=Kimutatás!B$3)","v":false}]
[4932,"Szekszárd","014","Q1","2019-01-06","Betét állomány növekmény",9,"Mhuf","2019-02-01","viragb",{"$f":"AND(E4933>=Kimutatás!B$2,E4933<=Kimutatás!B$3)","v":false}]
[4933,"Szekszárd","014","Q1","2019-01-07","Betérő ügyfelek",3,"fő","2019-02-01","viragb",{"$f":"AND(E4934>=Kimutatás!B$2,E4934<=Kimutatás!B$3)","v":false}]
[4934,"Szekszárd","014","Q1","2019-01-07","Lakossági hitelnövekmény összege ",-1,"Mhuf","2019-02-01","viragb",{"$f":"AND(E4935>=Kimutatás!B$2,E4935<=Kimutatás!B$3)","v":false}]
[4935,"Szekszárd","014","Q1","2019-01-07","Lakossági számlanyitás",-3,"db","2019-02-01","viragb",{"$f":"AND(E4936>=Kimutatás!B$2,E4936<=Kimutatás!B$3)","v":false}]
[4936,"Szekszárd","014","Q1","2019-01-07","KKV hitelnövekmény (db)",0,"db","2019-02-01","viragb",{"$f":"AND(E4937>=Kimutatás!B$2,E4937<=Kimutatás!B$3)","v":false}]
[4937,"Szekszárd","014","Q1","2019-01-07","KKV számlanyitás",4,"db","2019-02-01","viragb",{"$f":"AND(E4938>=Kimutatás!B$2,E4938<=Kimutatás!B$3)","v":false}]
[4938,"Szekszárd","014","Q1","2019-01-07","Betét állomány növekmény",13,"Mhuf","2019-02-01","viragb",{"$f":"AND(E4939>=Kimutatás!B$2,E4939<=Kimutatás!B$3)","v":false}]
[4939,"Szekszárd","014","Q1","2019-01-08","Betérő ügyfelek",5,"fő","2019-02-01","viragb",{"$f":"AND(E4940>=Kimutatás!B$2,E4940<=Kimutatás!B$3)","v":false}]
[4940,"Szekszárd","014","Q1","2019-01-08","Lakossági hitelnövekmény összege ",3,"Mhuf","2019-02-01","viragb",{"$f":"AND(E4941>=Kimutatás!B$2,E4941<=Kimutatás!B$3)","v":false}]
[4941,"Szekszárd","014","Q1","2019-01-08","Lakossági számlanyitás",6,"db","2019-02-01","viragb",{"$f":"AND(E4942>=Kimutatás!B$2,E4942<=Kimutatás!B$3)","v":false}]
[4942,"Szekszárd","014","Q1","2019-01-08","KKV hitelnövekmény (db)",0,"db","2019-02-01","viragb",{"$f":"AND(E4943>=Kimutatás!B$2,E4943<=Kimutatás!B$3)","v":false}]
[4943,"Szekszárd","014","Q1","2019-01-08","KKV számlanyitás",-2,"db","2019-02-01","viragb",{"$f":"AND(E4944>=Kimutatás!B$2,E4944<=Kimutatás!B$3)","v":false}]
[4944,"Szekszárd","014","Q1","2019-01-08","Betét állomány növekmény",28,"Mhuf","2019-02-01","viragb",{"$f":"AND(E4945>=Kimutatás!B$2,E4945<=Kimutatás!B$3)","v":false}]
[4945,"Szekszárd","014","Q1","2019-01-09","Betérő ügyfelek",5,"fő","2019-02-01","viragb",{"$f":"AND(E4946>=Kimutatás!B$2,E4946<=Kimutatás!B$3)","v":false}]
[4946,"Szekszárd","014","Q1","2019-01-09","Lakossági hitelnövekmény összege ",24,"Mhuf","2019-02-01","viragb",{"$f":"AND(E4947>=Kimutatás!B$2,E4947<=Kimutatás!B$3)","v":false}]
[4947,"Szekszárd","014","Q1","2019-01-09","Lakossági számlanyitás",10,"db","2019-02-01","viragb",{"$f":"AND(E4948>=Kimutatás!B$2,E4948<=Kimutatás!B$3)","v":false}]
[4948,"Szekszárd","014","Q1","2019-01-09","KKV hitelnövekmény (db)",0,"db","2019-02-01","viragb",{"$f":"AND(E4949>=Kimutatás!B$2,E4949<=Kimutatás!B$3)","v":false}]
[4949,"Szekszárd","014","Q1","2019-01-09","KKV számlanyitás",-1,"db","2019-02-01","viragb",{"$f":"AND(E4950>=Kimutatás!B$2,E4950<=Kimutatás!B$3)","v":false}]
[4950,"Szekszárd","014","Q1","2019-01-09","Betét állomány növekmény",-13,"Mhuf","2019-02-01","viragb",{"$f":"AND(E4951>=Kimutatás!B$2,E4951<=Kimutatás!B$3)","v":false}]
[4951,"Szekszárd","014","Q1","2019-01-10","Betérő ügyfelek",31,"fő","2019-02-01","viragb",{"$f":"AND(E4952>=Kimutatás!B$2,E4952<=Kimutatás!B$3)","v":true}]
[4952,"Szekszárd","014","Q1","2019-01-10","Lakossági hitelnövekmény összege ",23,"Mhuf","2019-02-01","viragb",{"$f":"AND(E4953>=Kimutatás!B$2,E4953<=Kimutatás!B$3)","v":true}]
[4953,"Szekszárd","014","Q1","2019-01-10","Lakossági számlanyitás",1,"db","2019-02-01","viragb",{"$f":"AND(E4954>=Kimutatás!B$2,E4954<=Kimutatás!B$3)","v":true}]
[4954,"Szekszárd","014","Q1","2019-01-10","KKV hitelnövekmény (db)",1,"db","2019-02-01","viragb",{"$f":"AND(E4955>=Kimutatás!B$2,E4955<=Kimutatás!B$3)","v":true}]
[4955,"Szekszárd","014","Q1","2019-01-10","KKV számlanyitás",-5,"db","2019-02-01","viragb",{"$f":"AND(E4956>=Kimutatás!B$2,E4956<=Kimutatás!B$3)","v":true}]
[4956,"Szekszárd","014","Q1","2019-01-10","Betét állomány növekmény",33,"Mhuf","2019-02-01","viragb",{"$f":"AND(E4957>=Kimutatás!B$2,E4957<=Kimutatás!B$3)","v":true}]
[4957,"Szekszárd","014","Q1","2019-01-13","Betérő ügyfelek",50,"fő","2019-02-01","viragb",{"$f":"AND(E4958>=Kimutatás!B$2,E4958<=Kimutatás!B$3)","v":true}]
[4958,"Szekszárd","014","Q1","2019-01-13","Lakossági hitelnövekmény összege ",11,"Mhuf","2019-02-01","viragb",{"$f":"AND(E4959>=Kimutatás!B$2,E4959<=Kimutatás!B$3)","v":true}]
[4959,"Szekszárd","014","Q1","2019-01-13","Lakossági számlanyitás",8,"db","2019-02-01","viragb",{"$f":"AND(E4960>=Kimutatás!B$2,E4960<=Kimutatás!B$3)","v":true}]
[4960,"Szekszárd","014","Q1","2019-01-13","KKV hitelnövekmény (db)",-2,"db","2019-02-01","viragb",{"$f":"AND(E4961>=Kimutatás!B$2,E4961<=Kimutatás!B$3)","v":true}]
[4961,"Szekszárd","014","Q1","2019-01-13","KKV számlanyitás",1,"db","2019-02-01","viragb",{"$f":"AND(E4962>=Kimutatás!B$2,E4962<=Kimutatás!B$3)","v":true}]
[4962,"Szekszárd","014","Q1","2019-01-13","Betét állomány növekmény",6,"Mhuf","2019-02-01","viragb",{"$f":"AND(E4963>=Kimutatás!B$2,E4963<=Kimutatás!B$3)","v":true}]
[4963,"Szekszárd","014","Q1","2019-01-14","Betérő ügyfelek",33,"fő","2019-02-01","viragb",{"$f":"AND(E4964>=Kimutatás!B$2,E4964<=Kimutatás!B$3)","v":true}]
[4964,"Szekszárd","014","Q1","2019-01-14","Lakossági hitelnövekmény összege ",49,"Mhuf","2019-02-01","viragb",{"$f":"AND(E4965>=Kimutatás!B$2,E4965<=Kimutatás!B$3)","v":true}]
[4965,"Szekszárd","014","Q1","2019-01-14","Lakossági számlanyitás",-4,"db","2019-02-01","viragb",{"$f":"AND(E4966>=Kimutatás!B$2,E4966<=Kimutatás!B$3)","v":true}]
[4966,"Szekszárd","014","Q1","2019-01-14","KKV hitelnövekmény (db)",1,"db","2019-02-01","viragb",{"$f":"AND(E4967>=Kimutatás!B$2,E4967<=Kimutatás!B$3)","v":true}]
[4967,"Szekszárd","014","Q1","2019-01-14","KKV számlanyitás",1,"db","2019-02-01","viragb",{"$f":"AND(E4968>=Kimutatás!B$2,E4968<=Kimutatás!B$3)","v":true}]
[4968,"Szekszárd","014","Q1","2019-01-14","Betét állomány növekmény",21,"Mhuf","2019-02-01","viragb",{"$f":"AND(E4969>=Kimutatás!B$2,E4969<=Kimutatás!B$3)","v":true}]
[4969,"Szekszárd","014","Q1","2019-01-15","Betérő ügyfelek",6,"fő","2019-02-01","viragb",{"$f":"AND(E4970>=Kimutatás!B$2,E4970<=Kimutatás!B$3)","v":true}]
[4970,"Szekszárd","014","Q1","2019-01-15","Lakossági hitelnövekmény összege ",44,"Mhuf","2019-02-01","viragb",{"$f":"AND(E4971>=Kimutatás!B$2,E4971<=Kimutatás!B$3)","v":true}]
[4971,"Szekszárd","014","Q1","2019-01-15","Lakossági számlanyitás",9,"db","2019-02-01","viragb",{"$f":"AND(E4972>=Kimutatás!B$2,E4972<=Kimutatás!B$3)","v":true}]
[4972,"Szekszárd","014","Q1","2019-01-15","KKV hitelnövekmény (db)",0,"db","2019-02-01","viragb",{"$f":"AND(E4973>=Kimutatás!B$2,E4973<=Kimutatás!B$3)","v":true}]
[4973,"Szekszárd","014","Q1","2019-01-15","KKV számlanyitás",1,"db","2019-02-01","viragb",{"$f":"AND(E4974>=Kimutatás!B$2,E4974<=Kimutatás!B$3)","v":true}]
[4974,"Szekszárd","014","Q1","2019-01-15","Betét állomány növekmény",18,"Mhuf","2019-02-01","viragb",{"$f":"AND(E4975>=Kimutatás!B$2,E4975<=Kimutatás!B$3)","v":true}]
[4975,"Szekszárd","014","Q1","2019-01-16","Betérő ügyfelek",31,"fő","2019-02-01","viragb",{"$f":"AND(E4976>=Kimutatás!B$2,E4976<=Kimutatás!B$3)","v":true}]
[4976,"Szekszárd","014","Q1","2019-01-16","Lakossági hitelnövekmény összege ",8,"Mhuf","2019-02-01","viragb",{"$f":"AND(E4977>=Kimutatás!B$2,E4977<=Kimutatás!B$3)","v":true}]
[4977,"Szekszárd","014","Q1","2019-01-16","Lakossági számlanyitás",6,"db","2019-02-01","viragb",{"$f":"AND(E4978>=Kimutatás!B$2,E4978<=Kimutatás!B$3)","v":true}]
[4978,"Szekszárd","014","Q1","2019-01-16","KKV hitelnövekmény (db)",-1,"db","2019-02-01","viragb",{"$f":"AND(E4979>=Kimutatás!B$2,E4979<=Kimutatás!B$3)","v":true}]
[4979,"Szekszárd","014","Q1","2019-01-16","KKV számlanyitás",3,"db","2019-02-01","viragb",{"$f":"AND(E4980>=Kimutatás!B$2,E4980<=Kimutatás!B$3)","v":true}]
[4980,"Szekszárd","014","Q1","2019-01-16","Betét állomány növekmény",37,"Mhuf","2019-02-01","viragb",{"$f":"AND(E4981>=Kimutatás!B$2,E4981<=Kimutatás!B$3)","v":true}]
[4981,"Szekszárd","014","Q1","2019-01-17","Betérő ügyfelek",10,"fő","2019-02-01","viragb",{"$f":"AND(E4982>=Kimutatás!B$2,E4982<=Kimutatás!B$3)","v":true}]
[4982,"Szekszárd","014","Q1","2019-01-17","Lakossági hitelnövekmény összege ",8,"Mhuf","2019-02-01","viragb",{"$f":"AND(E4983>=Kimutatás!B$2,E4983<=Kimutatás!B$3)","v":true}]
[4983,"Szekszárd","014","Q1","2019-01-17","Lakossági számlanyitás",8,"db","2019-02-01","viragb",{"$f":"AND(E4984>=Kimutatás!B$2,E4984<=Kimutatás!B$3)","v":true}]
[4984,"Szekszárd","014","Q1","2019-01-17","KKV hitelnövekmény (db)",-2,"db","2019-02-01","viragb",{"$f":"AND(E4985>=Kimutatás!B$2,E4985<=Kimutatás!B$3)","v":true}]
[4985,"Szekszárd","014","Q1","2019-01-17","KKV számlanyitás",-4,"db","2019-02-01","viragb",{"$f":"AND(E4986>=Kimutatás!B$2,E4986<=Kimutatás!B$3)","v":true}]
[4986,"Szekszárd","014","Q1","2019-01-17","Betét állomány növekmény",16,"Mhuf","2019-02-01","viragb",{"$f":"AND(E4987>=Kimutatás!B$2,E4987<=Kimutatás!B$3)","v":true}]
[4987,"Szekszárd","014","Q1","2019-01-20","Betérő ügyfelek",29,"fő","2019-02-01","viragb",{"$f":"AND(E4988>=Kimutatás!B$2,E4988<=Kimutatás!B$3)","v":true}]
[4988,"Szekszárd","014","Q1","2019-01-20","Lakossági hitelnövekmény összege ",50,"Mhuf","2019-02-01","viragb",{"$f":"AND(E4989>=Kimutatás!B$2,E4989<=Kimutatás!B$3)","v":true}]
[4989,"Szekszárd","014","Q1","2019-01-20","Lakossági számlanyitás",7,"db","2019-02-01","viragb",{"$f":"AND(E4990>=Kimutatás!B$2,E4990<=Kimutatás!B$3)","v":true}]
[4990,"Szekszárd","014","Q1","2019-01-20","KKV hitelnövekmény (db)",1,"db","2019-02-01","viragb",{"$f":"AND(E4991>=Kimutatás!B$2,E4991<=Kimutatás!B$3)","v":true}]
[4991,"Szekszárd","014","Q1","2019-01-20","KKV számlanyitás",1,"db","2019-02-01","viragb",{"$f":"AND(E4992>=Kimutatás!B$2,E4992<=Kimutatás!B$3)","v":true}]
[4992,"Szekszárd","014","Q1","2019-01-20","Betét állomány növekmény",14,"Mhuf","2019-02-01","viragb",{"$f":"AND(E4993>=Kimutatás!B$2,E4993<=Kimutatás!B$3)","v":true}]
[4993,"Szekszárd","014","Q1","2019-01-21","Betérő ügyfelek",25,"fő","2019-02-01","viragb",{"$f":"AND(E4994>=Kimutatás!B$2,E4994<=Kimutatás!B$3)","v":true}]
[4994,"Szekszárd","014","Q1","2019-01-21","Lakossági hitelnövekmény összege ",-2,"Mhuf","2019-02-01","viragb",{"$f":"AND(E4995>=Kimutatás!B$2,E4995<=Kimutatás!B$3)","v":true}]
[4995,"Szekszárd","014","Q1","2019-01-21","Lakossági számlanyitás",0,"db","2019-02-01","viragb",{"$f":"AND(E4996>=Kimutatás!B$2,E4996<=Kimutatás!B$3)","v":true}]
[4996,"Szekszárd","014","Q1","2019-01-21","KKV hitelnövekmény (db)",1,"db","2019-02-01","viragb",{"$f":"AND(E4997>=Kimutatás!B$2,E4997<=Kimutatás!B$3)","v":true}]
[4997,"Szekszárd","014","Q1","2019-01-21","KKV számlanyitás",1,"db","2019-02-01","viragb",{"$f":"AND(E4998>=Kimutatás!B$2,E4998<=Kimutatás!B$3)","v":true}]
[4998,"Szekszárd","014","Q1","2019-01-21","Betét állomány növekmény",44,"Mhuf","2019-02-01","viragb",{"$f":"AND(E4999>=Kimutatás!B$2,E4999<=Kimutatás!B$3)","v":true}]
[4999,"Szekszárd","014","Q1","2019-01-22","Betérő ügyfelek",38,"fő","2019-02-01","viragb",{"$f":"AND(E5000>=Kimutatás!B$2,E5000<=Kimutatás!B$3)","v":true}]
[5000,"Szekszárd","014","Q1","2019-01-22","Lakossági hitelnövekmény összege ",45,"Mhuf","2019-02-01","viragb",{"$f":"AND(E5001>=Kimutatás!B$2,E5001<=Kimutatás!B$3)","v":true}]
[5001,"Szekszárd","014","Q1","2019-01-22","Lakossági számlanyitás",5,"db","2019-02-01","viragb",{"$f":"AND(E5002>=Kimutatás!B$2,E5002<=Kimutatás!B$3)","v":true}]
[5002,"Szekszárd","014","Q1","2019-01-22","KKV hitelnövekmény (db)",2,"db","2019-02-01","viragb",{"$f":"AND(E5003>=Kimutatás!B$2,E5003<=Kimutatás!B$3)","v":true}]
[5003,"Szekszárd","014","Q1","2019-01-22","KKV számlanyitás",1,"db","2019-02-01","viragb",{"$f":"AND(E5004>=Kimutatás!B$2,E5004<=Kimutatás!B$3)","v":true}]
[5004,"Szekszárd","014","Q1","2019-01-22","Betét állomány növekmény",37,"Mhuf","2019-02-01","viragb",{"$f":"AND(E5005>=Kimutatás!B$2,E5005<=Kimutatás!B$3)","v":true}]
[5005,"Szekszárd","014","Q1","2019-01-23","Betérő ügyfelek",37,"fő","2019-02-01","viragb",{"$f":"AND(E5006>=Kimutatás!B$2,E5006<=Kimutatás!B$3)","v":true}]
[5006,"Szekszárd","014","Q1","2019-01-23","Lakossági hitelnövekmény összege ",25,"Mhuf","2019-02-01","viragb",{"$f":"AND(E5007>=Kimutatás!B$2,E5007<=Kimutatás!B$3)","v":true}]
[5007,"Szekszárd","014","Q1","2019-01-23","Lakossági számlanyitás",-1,"db","2019-02-01","viragb",{"$f":"AND(E5008>=Kimutatás!B$2,E5008<=Kimutatás!B$3)","v":true}]
[5008,"Szekszárd","014","Q1","2019-01-23","KKV hitelnövekmény (db)",-2,"db","2019-02-01","viragb",{"$f":"AND(E5009>=Kimutatás!B$2,E5009<=Kimutatás!B$3)","v":true}]
[5009,"Szekszárd","014","Q1","2019-01-23","KKV számlanyitás",-2,"db","2019-02-01","viragb",{"$f":"AND(E5010>=Kimutatás!B$2,E5010<=Kimutatás!B$3)","v":true}]
[5010,"Szekszárd","014","Q1","2019-01-23","Betét állomány növekmény",34,"Mhuf","2019-02-01","viragb",{"$f":"AND(E5011>=Kimutatás!B$2,E5011<=Kimutatás!B$3)","v":true}]
[5011,"Szekszárd","014","Q1","2019-01-24","Betérő ügyfelek",27,"fő","2019-02-01","viragb",{"$f":"AND(E5012>=Kimutatás!B$2,E5012<=Kimutatás!B$3)","v":true}]
[5012,"Szekszárd","014","Q1","2019-01-24","Lakossági hitelnövekmény összege ",5,"Mhuf","2019-02-01","viragb",{"$f":"AND(E5013>=Kimutatás!B$2,E5013<=Kimutatás!B$3)","v":true}]
[5013,"Szekszárd","014","Q1","2019-01-24","Lakossági számlanyitás",10,"db","2019-02-01","viragb",{"$f":"AND(E5014>=Kimutatás!B$2,E5014<=Kimutatás!B$3)","v":true}]
[5014,"Szekszárd","014","Q1","2019-01-24","KKV hitelnövekmény (db)",-2,"db","2019-02-01","viragb",{"$f":"AND(E5015>=Kimutatás!B$2,E5015<=Kimutatás!B$3)","v":true}]
[5015,"Szekszárd","014","Q1","2019-01-24","KKV számlanyitás",4,"db","2019-02-01","viragb",{"$f":"AND(E5016>=Kimutatás!B$2,E5016<=Kimutatás!B$3)","v":true}]
[5016,"Szekszárd","014","Q1","2019-01-24","Betét állomány növekmény",-10,"Mhuf","2019-02-01","viragb",{"$f":"AND(E5017>=Kimutatás!B$2,E5017<=Kimutatás!B$3)","v":true}]
[5017,"Szekszárd","014","Q1","2019-01-27","Betérő ügyfelek",46,"fő","2019-02-01","viragb",{"$f":"AND(E5018>=Kimutatás!B$2,E5018<=Kimutatás!B$3)","v":true}]
[5018,"Szekszárd","014","Q1","2019-01-27","Lakossági hitelnövekmény összege ",26,"Mhuf","2019-02-01","viragb",{"$f":"AND(E5019>=Kimutatás!B$2,E5019<=Kimutatás!B$3)","v":true}]
[5019,"Szekszárd","014","Q1","2019-01-27","Lakossági számlanyitás",5,"db","2019-02-01","viragb",{"$f":"AND(E5020>=Kimutatás!B$2,E5020<=Kimutatás!B$3)","v":true}]
[5020,"Szekszárd","014","Q1","2019-01-27","KKV hitelnövekmény (db)",0,"db","2019-02-01","viragb",{"$f":"AND(E5021>=Kimutatás!B$2,E5021<=Kimutatás!B$3)","v":true}]
[5021,"Szekszárd","014","Q1","2019-01-27","KKV számlanyitás",-5,"db","2019-02-01","viragb",{"$f":"AND(E5022>=Kimutatás!B$2,E5022<=Kimutatás!B$3)","v":true}]
[5022,"Szekszárd","014","Q1","2019-01-27","Betét állomány növekmény",9,"Mhuf","2019-02-01","viragb",{"$f":"AND(E5023>=Kimutatás!B$2,E5023<=Kimutatás!B$3)","v":true}]
[5023,"Szekszárd","014","Q1","2019-01-28","Betérő ügyfelek",23,"fő","2019-02-01","viragb",{"$f":"AND(E5024>=Kimutatás!B$2,E5024<=Kimutatás!B$3)","v":true}]
[5024,"Szekszárd","014","Q1","2019-01-28","Lakossági hitelnövekmény összege ",46,"Mhuf","2019-02-01","viragb",{"$f":"AND(E5025>=Kimutatás!B$2,E5025<=Kimutatás!B$3)","v":true}]
[5025,"Szekszárd","014","Q1","2019-01-28","Lakossági számlanyitás",-3,"db","2019-02-01","viragb",{"$f":"AND(E5026>=Kimutatás!B$2,E5026<=Kimutatás!B$3)","v":true}]
[5026,"Szekszárd","014","Q1","2019-01-28","KKV hitelnövekmény (db)",-1,"db","2019-02-01","viragb",{"$f":"AND(E5027>=Kimutatás!B$2,E5027<=Kimutatás!B$3)","v":true}]
[5027,"Szekszárd","014","Q1","2019-01-28","KKV számlanyitás",1,"db","2019-02-01","viragb",{"$f":"AND(E5028>=Kimutatás!B$2,E5028<=Kimutatás!B$3)","v":true}]
[5028,"Szekszárd","014","Q1","2019-01-28","Betét állomány növekmény",-1,"Mhuf","2019-02-01","viragb",{"$f":"AND(E5029>=Kimutatás!B$2,E5029<=Kimutatás!B$3)","v":true}]
[5029,"Szekszárd","014","Q1","2019-01-29","Betérő ügyfelek",32,"fő","2019-02-01","viragb",{"$f":"AND(E5030>=Kimutatás!B$2,E5030<=Kimutatás!B$3)","v":true}]
[5030,"Szekszárd","014","Q1","2019-01-29","Lakossági hitelnövekmény összege ",25,"Mhuf","2019-02-01","viragb",{"$f":"AND(E5031>=Kimutatás!B$2,E5031<=Kimutatás!B$3)","v":true}]
[5031,"Szekszárd","014","Q1","2019-01-29","Lakossági számlanyitás",0,"db","2019-02-01","viragb",{"$f":"AND(E5032>=Kimutatás!B$2,E5032<=Kimutatás!B$3)","v":true}]
[5032,"Szekszárd","014","Q1","2019-01-29","KKV hitelnövekmény (db)",-1,"db","2019-02-01","viragb",{"$f":"AND(E5033>=Kimutatás!B$2,E5033<=Kimutatás!B$3)","v":true}]
[5033,"Szekszárd","014","Q1","2019-01-29","KKV számlanyitás",5,"db","2019-02-01","viragb",{"$f":"AND(E5034>=Kimutatás!B$2,E5034<=Kimutatás!B$3)","v":true}]
[5034,"Szekszárd","014","Q1","2019-01-29","Betét állomány növekmény",-2,"Mhuf","2019-02-01","viragb",{"$f":"AND(E5035>=Kimutatás!B$2,E5035<=Kimutatás!B$3)","v":true}]
[5035,"Szekszárd","014","Q1","2019-01-30","Betérő ügyfelek",2,"fő","2019-02-01","viragb",{"$f":"AND(E5036>=Kimutatás!B$2,E5036<=Kimutatás!B$3)","v":true}]
[5036,"Szekszárd","014","Q1","2019-01-30","Lakossági hitelnövekmény összege ",49,"Mhuf","2019-02-01","viragb",{"$f":"AND(E5037>=Kimutatás!B$2,E5037<=Kimutatás!B$3)","v":true}]
[5037,"Szekszárd","014","Q1","2019-01-30","Lakossági számlanyitás",-3,"db","2019-02-01","viragb",{"$f":"AND(E5038>=Kimutatás!B$2,E5038<=Kimutatás!B$3)","v":true}]
[5038,"Szekszárd","014","Q1","2019-01-30","KKV hitelnövekmény (db)",0,"db","2019-02-01","viragb",{"$f":"AND(E5039>=Kimutatás!B$2,E5039<=Kimutatás!B$3)","v":true}]
[5039,"Szekszárd","014","Q1","2019-01-30","KKV számlanyitás",2,"db","2019-02-01","viragb",{"$f":"AND(E5040>=Kimutatás!B$2,E5040<=Kimutatás!B$3)","v":true}]
[5040,"Szekszárd","014","Q1","2019-01-30","Betét állomány növekmény",8,"Mhuf","2019-02-01","viragb",{"$f":"AND(E5041>=Kimutatás!B$2,E5041<=Kimutatás!B$3)","v":true}]
[5041,"Szekszárd","014","Q1","2019-01-31","Betérő ügyfelek",9,"fő","2019-02-01","viragb",{"$f":"AND(E5042>=Kimutatás!B$2,E5042<=Kimutatás!B$3)","v":true}]
[5042,"Szekszárd","014","Q1","2019-01-31","Lakossági hitelnövekmény összege ",28,"Mhuf","2019-02-01","viragb",{"$f":"AND(E5043>=Kimutatás!B$2,E5043<=Kimutatás!B$3)","v":true}]
[5043,"Szekszárd","014","Q1","2019-01-31","Lakossági számlanyitás",-5,"db","2019-02-01","viragb",{"$f":"AND(E5044>=Kimutatás!B$2,E5044<=Kimutatás!B$3)","v":true}]
[5044,"Szekszárd","014","Q1","2019-01-31","KKV hitelnövekmény (db)",2,"db","2019-02-01","viragb",{"$f":"AND(E5045>=Kimutatás!B$2,E5045<=Kimutatás!B$3)","v":true}]
[5045,"Szekszárd","014","Q1","2019-01-31","KKV számlanyitás",-3,"db","2019-02-01","viragb",{"$f":"AND(E5046>=Kimutatás!B$2,E5046<=Kimutatás!B$3)","v":true}]
[5046,"Szekszárd","014","Q1","2019-01-31","Betét állomány növekmény",30,"Mhuf","2019-02-01","viragb",{"$f":"AND(E5047>=Kimutatás!B$2,E5047<=Kimutatás!B$3)","v":true}]
[5047,"Szekszárd","014","Q1","2019-02-03","Betérő ügyfelek",38,"fő","2019-03-01","zotya",{"$f":"AND(E5048>=Kimutatás!B$2,E5048<=Kimutatás!B$3)","v":true}]
[5048,"Szekszárd","014","Q1","2019-02-03","Lakossági hitelnövekmény összege ",5,"Mhuf","2019-03-01","zotya",{"$f":"AND(E5049>=Kimutatás!B$2,E5049<=Kimutatás!B$3)","v":true}]
[5049,"Szekszárd","014","Q1","2019-02-03","Lakossági számlanyitás",6,"db","2019-03-01","zotya",{"$f":"AND(E5050>=Kimutatás!B$2,E5050<=Kimutatás!B$3)","v":true}]
[5050,"Szekszárd","014","Q1","2019-02-03","KKV hitelnövekmény (db)",0,"db","2019-03-01","zotya",{"$f":"AND(E5051>=Kimutatás!B$2,E5051<=Kimutatás!B$3)","v":true}]
[5051,"Szekszárd","014","Q1","2019-02-03","KKV számlanyitás",-5,"db","2019-03-01","zotya",{"$f":"AND(E5052>=Kimutatás!B$2,E5052<=Kimutatás!B$3)","v":true}]
[5052,"Szekszárd","014","Q1","2019-02-03","Betét állomány növekmény",-2,"Mhuf","2019-03-01","zotya",{"$f":"AND(E5053>=Kimutatás!B$2,E5053<=Kimutatás!B$3)","v":true}]
[5053,"Szekszárd","014","Q1","2019-02-04","Betérő ügyfelek",47,"fő","2019-03-01","zotya",{"$f":"AND(E5054>=Kimutatás!B$2,E5054<=Kimutatás!B$3)","v":true}]
[5054,"Szekszárd","014","Q1","2019-02-04","Lakossági hitelnövekmény összege ",39,"Mhuf","2019-03-01","zotya",{"$f":"AND(E5055>=Kimutatás!B$2,E5055<=Kimutatás!B$3)","v":true}]
[5055,"Szekszárd","014","Q1","2019-02-04","Lakossági számlanyitás",-4,"db","2019-03-01","zotya",{"$f":"AND(E5056>=Kimutatás!B$2,E5056<=Kimutatás!B$3)","v":true}]
[5056,"Szekszárd","014","Q1","2019-02-04","KKV hitelnövekmény (db)",2,"db","2019-03-01","zotya",{"$f":"AND(E5057>=Kimutatás!B$2,E5057<=Kimutatás!B$3)","v":true}]
[5057,"Szekszárd","014","Q1","2019-02-04","KKV számlanyitás",0,"db","2019-03-01","zotya",{"$f":"AND(E5058>=Kimutatás!B$2,E5058<=Kimutatás!B$3)","v":true}]
[5058,"Szekszárd","014","Q1","2019-02-04","Betét állomány növekmény",50,"Mhuf","2019-03-01","zotya",{"$f":"AND(E5059>=Kimutatás!B$2,E5059<=Kimutatás!B$3)","v":true}]
[5059,"Szekszárd","014","Q1","2019-02-05","Betérő ügyfelek",17,"fő","2019-03-01","zotya",{"$f":"AND(E5060>=Kimutatás!B$2,E5060<=Kimutatás!B$3)","v":true}]
[5060,"Szekszárd","014","Q1","2019-02-05","Lakossági hitelnövekmény összege ",39,"Mhuf","2019-03-01","zotya",{"$f":"AND(E5061>=Kimutatás!B$2,E5061<=Kimutatás!B$3)","v":true}]
[5061,"Szekszárd","014","Q1","2019-02-05","Lakossági számlanyitás",0,"db","2019-03-01","zotya",{"$f":"AND(E5062>=Kimutatás!B$2,E5062<=Kimutatás!B$3)","v":true}]
[5062,"Szekszárd","014","Q1","2019-02-05","KKV hitelnövekmény (db)",2,"db","2019-03-01","zotya",{"$f":"AND(E5063>=Kimutatás!B$2,E5063<=Kimutatás!B$3)","v":true}]
[5063,"Szekszárd","014","Q1","2019-02-05","KKV számlanyitás",-3,"db","2019-03-01","zotya",{"$f":"AND(E5064>=Kimutatás!B$2,E5064<=Kimutatás!B$3)","v":true}]
[5064,"Szekszárd","014","Q1","2019-02-05","Betét állomány növekmény",21,"Mhuf","2019-03-01","zotya",{"$f":"AND(E5065>=Kimutatás!B$2,E5065<=Kimutatás!B$3)","v":true}]
[5065,"Szekszárd","014","Q1","2019-02-06","Betérő ügyfelek",1,"fő","2019-03-01","zotya",{"$f":"AND(E5066>=Kimutatás!B$2,E5066<=Kimutatás!B$3)","v":true}]
[5066,"Szekszárd","014","Q1","2019-02-06","Lakossági hitelnövekmény összege ",17,"Mhuf","2019-03-01","zotya",{"$f":"AND(E5067>=Kimutatás!B$2,E5067<=Kimutatás!B$3)","v":true}]
[5067,"Szekszárd","014","Q1","2019-02-06","Lakossági számlanyitás",8,"db","2019-03-01","zotya",{"$f":"AND(E5068>=Kimutatás!B$2,E5068<=Kimutatás!B$3)","v":true}]
[5068,"Szekszárd","014","Q1","2019-02-06","KKV hitelnövekmény (db)",2,"db","2019-03-01","zotya",{"$f":"AND(E5069>=Kimutatás!B$2,E5069<=Kimutatás!B$3)","v":true}]
[5069,"Szekszárd","014","Q1","2019-02-06","KKV számlanyitás",1,"db","2019-03-01","zotya",{"$f":"AND(E5070>=Kimutatás!B$2,E5070<=Kimutatás!B$3)","v":true}]
[5070,"Szekszárd","014","Q1","2019-02-06","Betét állomány növekmény",-6,"Mhuf","2019-03-01","zotya",{"$f":"AND(E5071>=Kimutatás!B$2,E5071<=Kimutatás!B$3)","v":true}]
[5071,"Szekszárd","014","Q1","2019-02-07","Betérő ügyfelek",32,"fő","2019-03-01","zotya",{"$f":"AND(E5072>=Kimutatás!B$2,E5072<=Kimutatás!B$3)","v":true}]
[5072,"Szekszárd","014","Q1","2019-02-07","Lakossági hitelnövekmény összege ",39,"Mhuf","2019-03-01","zotya",{"$f":"AND(E5073>=Kimutatás!B$2,E5073<=Kimutatás!B$3)","v":true}]
[5073,"Szekszárd","014","Q1","2019-02-07","Lakossági számlanyitás",4,"db","2019-03-01","zotya",{"$f":"AND(E5074>=Kimutatás!B$2,E5074<=Kimutatás!B$3)","v":true}]
[5074,"Szekszárd","014","Q1","2019-02-07","KKV hitelnövekmény (db)",-2,"db","2019-03-01","zotya",{"$f":"AND(E5075>=Kimutatás!B$2,E5075<=Kimutatás!B$3)","v":true}]
[5075,"Szekszárd","014","Q1","2019-02-07","KKV számlanyitás",-1,"db","2019-03-01","zotya",{"$f":"AND(E5076>=Kimutatás!B$2,E5076<=Kimutatás!B$3)","v":true}]
[5076,"Szekszárd","014","Q1","2019-02-07","Betét állomány növekmény",24,"Mhuf","2019-03-01","zotya",{"$f":"AND(E5077>=Kimutatás!B$2,E5077<=Kimutatás!B$3)","v":true}]
[5077,"Szekszárd","014","Q1","2019-02-10","Betérő ügyfelek",12,"fő","2019-03-01","zotya",{"$f":"AND(E5078>=Kimutatás!B$2,E5078<=Kimutatás!B$3)","v":true}]
[5078,"Szekszárd","014","Q1","2019-02-10","Lakossági hitelnövekmény összege ",-7,"Mhuf","2019-03-01","zotya",{"$f":"AND(E5079>=Kimutatás!B$2,E5079<=Kimutatás!B$3)","v":true}]
[5079,"Szekszárd","014","Q1","2019-02-10","Lakossági számlanyitás",2,"db","2019-03-01","zotya",{"$f":"AND(E5080>=Kimutatás!B$2,E5080<=Kimutatás!B$3)","v":true}]
[5080,"Szekszárd","014","Q1","2019-02-10","KKV hitelnövekmény (db)",2,"db","2019-03-01","zotya",{"$f":"AND(E5081>=Kimutatás!B$2,E5081<=Kimutatás!B$3)","v":true}]
[5081,"Szekszárd","014","Q1","2019-02-10","KKV számlanyitás",5,"db","2019-03-01","zotya",{"$f":"AND(E5082>=Kimutatás!B$2,E5082<=Kimutatás!B$3)","v":true}]
[5082,"Szekszárd","014","Q1","2019-02-10","Betét állomány növekmény",-9,"Mhuf","2019-03-01","zotya",{"$f":"AND(E5083>=Kimutatás!B$2,E5083<=Kimutatás!B$3)","v":true}]
[5083,"Szekszárd","014","Q1","2019-02-11","Betérő ügyfelek",16,"fő","2019-03-01","zotya",{"$f":"AND(E5084>=Kimutatás!B$2,E5084<=Kimutatás!B$3)","v":true}]
[5084,"Szekszárd","014","Q1","2019-02-11","Lakossági hitelnövekmény összege ",26,"Mhuf","2019-03-01","zotya",{"$f":"AND(E5085>=Kimutatás!B$2,E5085<=Kimutatás!B$3)","v":true}]
[5085,"Szekszárd","014","Q1","2019-02-11","Lakossági számlanyitás",10,"db","2019-03-01","zotya",{"$f":"AND(E5086>=Kimutatás!B$2,E5086<=Kimutatás!B$3)","v":true}]
[5086,"Szekszárd","014","Q1","2019-02-11","KKV hitelnövekmény (db)",-1,"db","2019-03-01","zotya",{"$f":"AND(E5087>=Kimutatás!B$2,E5087<=Kimutatás!B$3)","v":true}]
[5087,"Szekszárd","014","Q1","2019-02-11","KKV számlanyitás",3,"db","2019-03-01","zotya",{"$f":"AND(E5088>=Kimutatás!B$2,E5088<=Kimutatás!B$3)","v":true}]
[5088,"Szekszárd","014","Q1","2019-02-11","Betét állomány növekmény",37,"Mhuf","2019-03-01","zotya",{"$f":"AND(E5089>=Kimutatás!B$2,E5089<=Kimutatás!B$3)","v":true}]
[5089,"Szekszárd","014","Q1","2019-02-12","Betérő ügyfelek",38,"fő","2019-03-01","zotya",{"$f":"AND(E5090>=Kimutatás!B$2,E5090<=Kimutatás!B$3)","v":true}]
[5090,"Szekszárd","014","Q1","2019-02-12","Lakossági hitelnövekmény összege ",48,"Mhuf","2019-03-01","zotya",{"$f":"AND(E5091>=Kimutatás!B$2,E5091<=Kimutatás!B$3)","v":true}]
[5091,"Szekszárd","014","Q1","2019-02-12","Lakossági számlanyitás",-3,"db","2019-03-01","zotya",{"$f":"AND(E5092>=Kimutatás!B$2,E5092<=Kimutatás!B$3)","v":true}]
[5092,"Szekszárd","014","Q1","2019-02-12","KKV hitelnövekmény (db)",2,"db","2019-03-01","zotya",{"$f":"AND(E5093>=Kimutatás!B$2,E5093<=Kimutatás!B$3)","v":true}]
[5093,"Szekszárd","014","Q1","2019-02-12","KKV számlanyitás",3,"db","2019-03-01","zotya",{"$f":"AND(E5094>=Kimutatás!B$2,E5094<=Kimutatás!B$3)","v":true}]
[5094,"Szekszárd","014","Q1","2019-02-12","Betét állomány növekmény",6,"Mhuf","2019-03-01","zotya",{"$f":"AND(E5095>=Kimutatás!B$2,E5095<=Kimutatás!B$3)","v":true}]
[5095,"Szekszárd","014","Q1","2019-02-13","Betérő ügyfelek",14,"fő","2019-03-01","zotya",{"$f":"AND(E5096>=Kimutatás!B$2,E5096<=Kimutatás!B$3)","v":true}]
[5096,"Szekszárd","014","Q1","2019-02-13","Lakossági hitelnövekmény összege ",6,"Mhuf","2019-03-01","zotya",{"$f":"AND(E5097>=Kimutatás!B$2,E5097<=Kimutatás!B$3)","v":true}]
[5097,"Szekszárd","014","Q1","2019-02-13","Lakossági számlanyitás",4,"db","2019-03-01","zotya",{"$f":"AND(E5098>=Kimutatás!B$2,E5098<=Kimutatás!B$3)","v":true}]
[5098,"Szekszárd","014","Q1","2019-02-13","KKV hitelnövekmény (db)",-1,"db","2019-03-01","zotya",{"$f":"AND(E5099>=Kimutatás!B$2,E5099<=Kimutatás!B$3)","v":true}]
[5099,"Szekszárd","014","Q1","2019-02-13","KKV számlanyitás",4,"db","2019-03-01","zotya",{"$f":"AND(E5100>=Kimutatás!B$2,E5100<=Kimutatás!B$3)","v":true}]
[5100,"Szekszárd","014","Q1","2019-02-13","Betét állomány növekmény",-17,"Mhuf","2019-03-01","zotya",{"$f":"AND(E5101>=Kimutatás!B$2,E5101<=Kimutatás!B$3)","v":true}]
[5101,"Szekszárd","014","Q1","2019-02-14","Betérő ügyfelek",47,"fő","2019-03-01","zotya",{"$f":"AND(E5102>=Kimutatás!B$2,E5102<=Kimutatás!B$3)","v":true}]
[5102,"Szekszárd","014","Q1","2019-02-14","Lakossági hitelnövekmény összege ",38,"Mhuf","2019-03-01","zotya",{"$f":"AND(E5103>=Kimutatás!B$2,E5103<=Kimutatás!B$3)","v":true}]
[5103,"Szekszárd","014","Q1","2019-02-14","Lakossági számlanyitás",0,"db","2019-03-01","zotya",{"$f":"AND(E5104>=Kimutatás!B$2,E5104<=Kimutatás!B$3)","v":true}]
[5104,"Szekszárd","014","Q1","2019-02-14","KKV hitelnövekmény (db)",1,"db","2019-03-01","zotya",{"$f":"AND(E5105>=Kimutatás!B$2,E5105<=Kimutatás!B$3)","v":true}]
[5105,"Szekszárd","014","Q1","2019-02-14","KKV számlanyitás",-2,"db","2019-03-01","zotya",{"$f":"AND(E5106>=Kimutatás!B$2,E5106<=Kimutatás!B$3)","v":true}]
[5106,"Szekszárd","014","Q1","2019-02-14","Betét állomány növekmény",6,"Mhuf","2019-03-01","zotya",{"$f":"AND(E5107>=Kimutatás!B$2,E5107<=Kimutatás!B$3)","v":true}]
[5107,"Szekszárd","014","Q1","2019-02-17","Betérő ügyfelek",15,"fő","2019-03-01","zotya",{"$f":"AND(E5108>=Kimutatás!B$2,E5108<=Kimutatás!B$3)","v":true}]
[5108,"Szekszárd","014","Q1","2019-02-17","Lakossági hitelnövekmény összege ",14,"Mhuf","2019-03-01","zotya",{"$f":"AND(E5109>=Kimutatás!B$2,E5109<=Kimutatás!B$3)","v":true}]
[5109,"Szekszárd","014","Q1","2019-02-17","Lakossági számlanyitás",7,"db","2019-03-01","zotya",{"$f":"AND(E5110>=Kimutatás!B$2,E5110<=Kimutatás!B$3)","v":true}]
[5110,"Szekszárd","014","Q1","2019-02-17","KKV hitelnövekmény (db)",-2,"db","2019-03-01","zotya",{"$f":"AND(E5111>=Kimutatás!B$2,E5111<=Kimutatás!B$3)","v":true}]
[5111,"Szekszárd","014","Q1","2019-02-17","KKV számlanyitás",3,"db","2019-03-01","zotya",{"$f":"AND(E5112>=Kimutatás!B$2,E5112<=Kimutatás!B$3)","v":true}]
[5112,"Szekszárd","014","Q1","2019-02-17","Betét állomány növekmény",-18,"Mhuf","2019-03-01","zotya",{"$f":"AND(E5113>=Kimutatás!B$2,E5113<=Kimutatás!B$3)","v":true}]
[5113,"Szekszárd","014","Q1","2019-02-18","Betérő ügyfelek",29,"fő","2019-03-01","zotya",{"$f":"AND(E5114>=Kimutatás!B$2,E5114<=Kimutatás!B$3)","v":true}]
[5114,"Szekszárd","014","Q1","2019-02-18","Lakossági hitelnövekmény összege ",35,"Mhuf","2019-03-01","zotya",{"$f":"AND(E5115>=Kimutatás!B$2,E5115<=Kimutatás!B$3)","v":true}]
[5115,"Szekszárd","014","Q1","2019-02-18","Lakossági számlanyitás",-3,"db","2019-03-01","zotya",{"$f":"AND(E5116>=Kimutatás!B$2,E5116<=Kimutatás!B$3)","v":true}]
[5116,"Szekszárd","014","Q1","2019-02-18","KKV hitelnövekmény (db)",-2,"db","2019-03-01","zotya",{"$f":"AND(E5117>=Kimutatás!B$2,E5117<=Kimutatás!B$3)","v":true}]
[5117,"Szekszárd","014","Q1","2019-02-18","KKV számlanyitás",4,"db","2019-03-01","zotya",{"$f":"AND(E5118>=Kimutatás!B$2,E5118<=Kimutatás!B$3)","v":true}]
[5118,"Szekszárd","014","Q1","2019-02-18","Betét állomány növekmény",1,"Mhuf","2019-03-01","zotya",{"$f":"AND(E5119>=Kimutatás!B$2,E5119<=Kimutatás!B$3)","v":true}]
[5119,"Szekszárd","014","Q1","2019-02-19","Betérő ügyfelek",31,"fő","2019-03-01","zotya",{"$f":"AND(E5120>=Kimutatás!B$2,E5120<=Kimutatás!B$3)","v":true}]
[5120,"Szekszárd","014","Q1","2019-02-19","Lakossági hitelnövekmény összege ",45,"Mhuf","2019-03-01","zotya",{"$f":"AND(E5121>=Kimutatás!B$2,E5121<=Kimutatás!B$3)","v":true}]
[5121,"Szekszárd","014","Q1","2019-02-19","Lakossági számlanyitás",0,"db","2019-03-01","zotya",{"$f":"AND(E5122>=Kimutatás!B$2,E5122<=Kimutatás!B$3)","v":true}]
[5122,"Szekszárd","014","Q1","2019-02-19","KKV hitelnövekmény (db)",-2,"db","2019-03-01","zotya",{"$f":"AND(E5123>=Kimutatás!B$2,E5123<=Kimutatás!B$3)","v":true}]
[5123,"Szekszárd","014","Q1","2019-02-19","KKV számlanyitás",1,"db","2019-03-01","zotya",{"$f":"AND(E5124>=Kimutatás!B$2,E5124<=Kimutatás!B$3)","v":true}]
[5124,"Szekszárd","014","Q1","2019-02-19","Betét állomány növekmény",-11,"Mhuf","2019-03-01","zotya",{"$f":"AND(E5125>=Kimutatás!B$2,E5125<=Kimutatás!B$3)","v":true}]
[5125,"Szekszárd","014","Q1","2019-02-20","Betérő ügyfelek",33,"fő","2019-03-01","zotya",{"$f":"AND(E5126>=Kimutatás!B$2,E5126<=Kimutatás!B$3)","v":true}]
[5126,"Szekszárd","014","Q1","2019-02-20","Lakossági hitelnövekmény összege ",-8,"Mhuf","2019-03-01","zotya",{"$f":"AND(E5127>=Kimutatás!B$2,E5127<=Kimutatás!B$3)","v":true}]
[5127,"Szekszárd","014","Q1","2019-02-20","Lakossági számlanyitás",-4,"db","2019-03-01","zotya",{"$f":"AND(E5128>=Kimutatás!B$2,E5128<=Kimutatás!B$3)","v":true}]
[5128,"Szekszárd","014","Q1","2019-02-20","KKV hitelnövekmény (db)",-1,"db","2019-03-01","zotya",{"$f":"AND(E5129>=Kimutatás!B$2,E5129<=Kimutatás!B$3)","v":true}]
[5129,"Szekszárd","014","Q1","2019-02-20","KKV számlanyitás",-5,"db","2019-03-01","zotya",{"$f":"AND(E5130>=Kimutatás!B$2,E5130<=Kimutatás!B$3)","v":true}]
[5130,"Szekszárd","014","Q1","2019-02-20","Betét állomány növekmény",-20,"Mhuf","2019-03-01","zotya",{"$f":"AND(E5131>=Kimutatás!B$2,E5131<=Kimutatás!B$3)","v":true}]
[5131,"Szekszárd","014","Q1","2019-02-21","Betérő ügyfelek",36,"fő","2019-03-01","zotya",{"$f":"AND(E5132>=Kimutatás!B$2,E5132<=Kimutatás!B$3)","v":true}]
[5132,"Szekszárd","014","Q1","2019-02-21","Lakossági hitelnövekmény összege ",11,"Mhuf","2019-03-01","zotya",{"$f":"AND(E5133>=Kimutatás!B$2,E5133<=Kimutatás!B$3)","v":true}]
[5133,"Szekszárd","014","Q1","2019-02-21","Lakossági számlanyitás",-5,"db","2019-03-01","zotya",{"$f":"AND(E5134>=Kimutatás!B$2,E5134<=Kimutatás!B$3)","v":true}]
[5134,"Szekszárd","014","Q1","2019-02-21","KKV hitelnövekmény (db)",-1,"db","2019-03-01","zotya",{"$f":"AND(E5135>=Kimutatás!B$2,E5135<=Kimutatás!B$3)","v":true}]
[5135,"Szekszárd","014","Q1","2019-02-21","KKV számlanyitás",1,"db","2019-03-01","zotya",{"$f":"AND(E5136>=Kimutatás!B$2,E5136<=Kimutatás!B$3)","v":true}]
[5136,"Szekszárd","014","Q1","2019-02-21","Betét állomány növekmény",8,"Mhuf","2019-03-01","zotya",{"$f":"AND(E5137>=Kimutatás!B$2,E5137<=Kimutatás!B$3)","v":true}]
[5137,"Szekszárd","014","Q1","2019-02-24","Betérő ügyfelek",43,"fő","2019-03-01","zotya",{"$f":"AND(E5138>=Kimutatás!B$2,E5138<=Kimutatás!B$3)","v":true}]
[5138,"Szekszárd","014","Q1","2019-02-24","Lakossági hitelnövekmény összege ",32,"Mhuf","2019-03-01","zotya",{"$f":"AND(E5139>=Kimutatás!B$2,E5139<=Kimutatás!B$3)","v":true}]
[5139,"Szekszárd","014","Q1","2019-02-24","Lakossági számlanyitás",5,"db","2019-03-01","zotya",{"$f":"AND(E5140>=Kimutatás!B$2,E5140<=Kimutatás!B$3)","v":true}]
[5140,"Szekszárd","014","Q1","2019-02-24","KKV hitelnövekmény (db)",0,"db","2019-03-01","zotya",{"$f":"AND(E5141>=Kimutatás!B$2,E5141<=Kimutatás!B$3)","v":true}]
[5141,"Szekszárd","014","Q1","2019-02-24","KKV számlanyitás",-3,"db","2019-03-01","zotya",{"$f":"AND(E5142>=Kimutatás!B$2,E5142<=Kimutatás!B$3)","v":true}]
[5142,"Szekszárd","014","Q1","2019-02-24","Betét állomány növekmény",37,"Mhuf","2019-03-01","zotya",{"$f":"AND(E5143>=Kimutatás!B$2,E5143<=Kimutatás!B$3)","v":true}]
[5143,"Szekszárd","014","Q1","2019-02-25","Betérő ügyfelek",45,"fő","2019-03-01","zotya",{"$f":"AND(E5144>=Kimutatás!B$2,E5144<=Kimutatás!B$3)","v":true}]
[5144,"Szekszárd","014","Q1","2019-02-25","Lakossági hitelnövekmény összege ",-5,"Mhuf","2019-03-01","zotya",{"$f":"AND(E5145>=Kimutatás!B$2,E5145<=Kimutatás!B$3)","v":true}]
[5145,"Szekszárd","014","Q1","2019-02-25","Lakossági számlanyitás",0,"db","2019-03-01","zotya",{"$f":"AND(E5146>=Kimutatás!B$2,E5146<=Kimutatás!B$3)","v":true}]
[5146,"Szekszárd","014","Q1","2019-02-25","KKV hitelnövekmény (db)",2,"db","2019-03-01","zotya",{"$f":"AND(E5147>=Kimutatás!B$2,E5147<=Kimutatás!B$3)","v":true}]
[5147,"Szekszárd","014","Q1","2019-02-25","KKV számlanyitás",-4,"db","2019-03-01","zotya",{"$f":"AND(E5148>=Kimutatás!B$2,E5148<=Kimutatás!B$3)","v":true}]
[5148,"Szekszárd","014","Q1","2019-02-25","Betét állomány növekmény",-14,"Mhuf","2019-03-01","zotya",{"$f":"AND(E5149>=Kimutatás!B$2,E5149<=Kimutatás!B$3)","v":true}]
[5149,"Szekszárd","014","Q1","2019-02-26","Betérő ügyfelek",28,"fő","2019-03-01","zotya",{"$f":"AND(E5150>=Kimutatás!B$2,E5150<=Kimutatás!B$3)","v":true}]
[5150,"Szekszárd","014","Q1","2019-02-26","Lakossági hitelnövekmény összege ",34,"Mhuf","2019-03-01","zotya",{"$f":"AND(E5151>=Kimutatás!B$2,E5151<=Kimutatás!B$3)","v":true}]
[5151,"Szekszárd","014","Q1","2019-02-26","Lakossági számlanyitás",1,"db","2019-03-01","zotya",{"$f":"AND(E5152>=Kimutatás!B$2,E5152<=Kimutatás!B$3)","v":true}]
[5152,"Szekszárd","014","Q1","2019-02-26","KKV hitelnövekmény (db)",2,"db","2019-03-01","zotya",{"$f":"AND(E5153>=Kimutatás!B$2,E5153<=Kimutatás!B$3)","v":true}]
[5153,"Szekszárd","014","Q1","2019-02-26","KKV számlanyitás",-3,"db","2019-03-01","zotya",{"$f":"AND(E5154>=Kimutatás!B$2,E5154<=Kimutatás!B$3)","v":true}]
[5154,"Szekszárd","014","Q1","2019-02-26","Betét állomány növekmény",3,"Mhuf","2019-03-01","zotya",{"$f":"AND(E5155>=Kimutatás!B$2,E5155<=Kimutatás!B$3)","v":true}]
[5155,"Szekszárd","014","Q1","2019-02-27","Betérő ügyfelek",22,"fő","2019-03-01","zotya",{"$f":"AND(E5156>=Kimutatás!B$2,E5156<=Kimutatás!B$3)","v":true}]
[5156,"Szekszárd","014","Q1","2019-02-27","Lakossági hitelnövekmény összege ",16,"Mhuf","2019-03-01","zotya",{"$f":"AND(E5157>=Kimutatás!B$2,E5157<=Kimutatás!B$3)","v":true}]
[5157,"Szekszárd","014","Q1","2019-02-27","Lakossági számlanyitás",2,"db","2019-03-01","zotya",{"$f":"AND(E5158>=Kimutatás!B$2,E5158<=Kimutatás!B$3)","v":true}]
[5158,"Szekszárd","014","Q1","2019-02-27","KKV hitelnövekmény (db)",-1,"db","2019-03-01","zotya",{"$f":"AND(E5159>=Kimutatás!B$2,E5159<=Kimutatás!B$3)","v":true}]
[5159,"Szekszárd","014","Q1","2019-02-27","KKV számlanyitás",-3,"db","2019-03-01","zotya",{"$f":"AND(E5160>=Kimutatás!B$2,E5160<=Kimutatás!B$3)","v":true}]
[5160,"Szekszárd","014","Q1","2019-02-27","Betét állomány növekmény",15,"Mhuf","2019-03-01","zotya",{"$f":"AND(E5161>=Kimutatás!B$2,E5161<=Kimutatás!B$3)","v":true}]
[5161,"Szekszárd","014","Q1","2019-02-28","Betérő ügyfelek",20,"fő","2019-03-01","zotya",{"$f":"AND(E5162>=Kimutatás!B$2,E5162<=Kimutatás!B$3)","v":true}]
[5162,"Szekszárd","014","Q1","2019-02-28","Lakossági hitelnövekmény összege ",28,"Mhuf","2019-03-01","zotya",{"$f":"AND(E5163>=Kimutatás!B$2,E5163<=Kimutatás!B$3)","v":true}]
[5163,"Szekszárd","014","Q1","2019-02-28","Lakossági számlanyitás",3,"db","2019-03-01","zotya",{"$f":"AND(E5164>=Kimutatás!B$2,E5164<=Kimutatás!B$3)","v":true}]
[5164,"Szekszárd","014","Q1","2019-02-28","KKV hitelnövekmény (db)",1,"db","2019-03-01","zotya",{"$f":"AND(E5165>=Kimutatás!B$2,E5165<=Kimutatás!B$3)","v":true}]
[5165,"Szekszárd","014","Q1","2019-02-28","KKV számlanyitás",2,"db","2019-03-01","zotya",{"$f":"AND(E5166>=Kimutatás!B$2,E5166<=Kimutatás!B$3)","v":true}]
[5166,"Szekszárd","014","Q1","2019-02-28","Betét állomány növekmény",-16,"Mhuf","2019-03-01","zotya",{"$f":"AND(E5167>=Kimutatás!B$2,E5167<=Kimutatás!B$3)","v":true}]
[5167,"Szekszárd","014","Q1","2019-03-03","Betérő ügyfelek",33,"fő","2019-04-01","anyabe",{"$f":"AND(E5168>=Kimutatás!B$2,E5168<=Kimutatás!B$3)","v":true}]
[5168,"Szekszárd","014","Q1","2019-03-03","Lakossági hitelnövekmény összege ",43,"Mhuf","2019-04-01","anyabe",{"$f":"AND(E5169>=Kimutatás!B$2,E5169<=Kimutatás!B$3)","v":true}]
[5169,"Szekszárd","014","Q1","2019-03-03","Lakossági számlanyitás",3,"db","2019-04-01","anyabe",{"$f":"AND(E5170>=Kimutatás!B$2,E5170<=Kimutatás!B$3)","v":true}]
[5170,"Szekszárd","014","Q1","2019-03-03","KKV hitelnövekmény (db)",2,"db","2019-04-01","anyabe",{"$f":"AND(E5171>=Kimutatás!B$2,E5171<=Kimutatás!B$3)","v":true}]
[5171,"Szekszárd","014","Q1","2019-03-03","KKV számlanyitás",1,"db","2019-04-01","anyabe",{"$f":"AND(E5172>=Kimutatás!B$2,E5172<=Kimutatás!B$3)","v":true}]
[5172,"Szekszárd","014","Q1","2019-03-03","Betét állomány növekmény",33,"Mhuf","2019-04-01","anyabe",{"$f":"AND(E5173>=Kimutatás!B$2,E5173<=Kimutatás!B$3)","v":true}]
[5173,"Szekszárd","014","Q1","2019-03-04","Betérő ügyfelek",28,"fő","2019-04-01","anyabe",{"$f":"AND(E5174>=Kimutatás!B$2,E5174<=Kimutatás!B$3)","v":true}]
[5174,"Szekszárd","014","Q1","2019-03-04","Lakossági hitelnövekmény összege ",14,"Mhuf","2019-04-01","anyabe",{"$f":"AND(E5175>=Kimutatás!B$2,E5175<=Kimutatás!B$3)","v":true}]
[5175,"Szekszárd","014","Q1","2019-03-04","Lakossági számlanyitás",4,"db","2019-04-01","anyabe",{"$f":"AND(E5176>=Kimutatás!B$2,E5176<=Kimutatás!B$3)","v":true}]
[5176,"Szekszárd","014","Q1","2019-03-04","KKV hitelnövekmény (db)",0,"db","2019-04-01","anyabe",{"$f":"AND(E5177>=Kimutatás!B$2,E5177<=Kimutatás!B$3)","v":true}]
[5177,"Szekszárd","014","Q1","2019-03-04","KKV számlanyitás",-5,"db","2019-04-01","anyabe",{"$f":"AND(E5178>=Kimutatás!B$2,E5178<=Kimutatás!B$3)","v":true}]
[5178,"Szekszárd","014","Q1","2019-03-04","Betét állomány növekmény",35,"Mhuf","2019-04-01","anyabe",{"$f":"AND(E5179>=Kimutatás!B$2,E5179<=Kimutatás!B$3)","v":true}]
[5179,"Szekszárd","014","Q1","2019-03-05","Betérő ügyfelek",31,"fő","2019-04-01","anyabe",{"$f":"AND(E5180>=Kimutatás!B$2,E5180<=Kimutatás!B$3)","v":true}]
[5180,"Szekszárd","014","Q1","2019-03-05","Lakossági hitelnövekmény összege ",34,"Mhuf","2019-04-01","anyabe",{"$f":"AND(E5181>=Kimutatás!B$2,E5181<=Kimutatás!B$3)","v":true}]
[5181,"Szekszárd","014","Q1","2019-03-05","Lakossági számlanyitás",6,"db","2019-04-01","anyabe",{"$f":"AND(E5182>=Kimutatás!B$2,E5182<=Kimutatás!B$3)","v":true}]
[5182,"Szekszárd","014","Q1","2019-03-05","KKV hitelnövekmény (db)",2,"db","2019-04-01","anyabe",{"$f":"AND(E5183>=Kimutatás!B$2,E5183<=Kimutatás!B$3)","v":true}]
[5183,"Szekszárd","014","Q1","2019-03-05","KKV számlanyitás",-5,"db","2019-04-01","anyabe",{"$f":"AND(E5184>=Kimutatás!B$2,E5184<=Kimutatás!B$3)","v":true}]
[5184,"Szekszárd","014","Q1","2019-03-05","Betét állomány növekmény",-15,"Mhuf","2019-04-01","anyabe",{"$f":"AND(E5185>=Kimutatás!B$2,E5185<=Kimutatás!B$3)","v":true}]
[5185,"Szekszárd","014","Q1","2019-03-06","Betérő ügyfelek",46,"fő","2019-04-01","anyabe",{"$f":"AND(E5186>=Kimutatás!B$2,E5186<=Kimutatás!B$3)","v":true}]
[5186,"Szekszárd","014","Q1","2019-03-06","Lakossági hitelnövekmény összege ",3,"Mhuf","2019-04-01","anyabe",{"$f":"AND(E5187>=Kimutatás!B$2,E5187<=Kimutatás!B$3)","v":true}]
[5187,"Szekszárd","014","Q1","2019-03-06","Lakossági számlanyitás",6,"db","2019-04-01","anyabe",{"$f":"AND(E5188>=Kimutatás!B$2,E5188<=Kimutatás!B$3)","v":true}]
[5188,"Szekszárd","014","Q1","2019-03-06","KKV hitelnövekmény (db)",-1,"db","2019-04-01","anyabe",{"$f":"AND(E5189>=Kimutatás!B$2,E5189<=Kimutatás!B$3)","v":true}]
[5189,"Szekszárd","014","Q1","2019-03-06","KKV számlanyitás",4,"db","2019-04-01","anyabe",{"$f":"AND(E5190>=Kimutatás!B$2,E5190<=Kimutatás!B$3)","v":true}]
[5190,"Szekszárd","014","Q1","2019-03-06","Betét állomány növekmény",1,"Mhuf","2019-04-01","anyabe",{"$f":"AND(E5191>=Kimutatás!B$2,E5191<=Kimutatás!B$3)","v":true}]
[5191,"Szekszárd","014","Q1","2019-03-07","Betérő ügyfelek",30,"fő","2019-04-01","anyabe",{"$f":"AND(E5192>=Kimutatás!B$2,E5192<=Kimutatás!B$3)","v":true}]
[5192,"Szekszárd","014","Q1","2019-03-07","Lakossági hitelnövekmény összege ",19,"Mhuf","2019-04-01","anyabe",{"$f":"AND(E5193>=Kimutatás!B$2,E5193<=Kimutatás!B$3)","v":true}]
[5193,"Szekszárd","014","Q1","2019-03-07","Lakossági számlanyitás",4,"db","2019-04-01","anyabe",{"$f":"AND(E5194>=Kimutatás!B$2,E5194<=Kimutatás!B$3)","v":true}]
[5194,"Szekszárd","014","Q1","2019-03-07","KKV hitelnövekmény (db)",-1,"db","2019-04-01","anyabe",{"$f":"AND(E5195>=Kimutatás!B$2,E5195<=Kimutatás!B$3)","v":true}]
[5195,"Szekszárd","014","Q1","2019-03-07","KKV számlanyitás",-4,"db","2019-04-01","anyabe",{"$f":"AND(E5196>=Kimutatás!B$2,E5196<=Kimutatás!B$3)","v":true}]
[5196,"Szekszárd","014","Q1","2019-03-07","Betét állomány növekmény",-4,"Mhuf","2019-04-01","anyabe",{"$f":"AND(E5197>=Kimutatás!B$2,E5197<=Kimutatás!B$3)","v":true}]
[5197,"Szekszárd","014","Q1","2019-03-10","Betérő ügyfelek",1,"fő","2019-04-01","anyabe",{"$f":"AND(E5198>=Kimutatás!B$2,E5198<=Kimutatás!B$3)","v":true}]
[5198,"Szekszárd","014","Q1","2019-03-10","Lakossági hitelnövekmény összege ",29,"Mhuf","2019-04-01","anyabe",{"$f":"AND(E5199>=Kimutatás!B$2,E5199<=Kimutatás!B$3)","v":true}]
[5199,"Szekszárd","014","Q1","2019-03-10","Lakossági számlanyitás",-4,"db","2019-04-01","anyabe",{"$f":"AND(E5200>=Kimutatás!B$2,E5200<=Kimutatás!B$3)","v":true}]
[5200,"Szekszárd","014","Q1","2019-03-10","KKV hitelnövekmény (db)",2,"db","2019-04-01","anyabe",{"$f":"AND(E5201>=Kimutatás!B$2,E5201<=Kimutatás!B$3)","v":true}]
[5201,"Szekszárd","014","Q1","2019-03-10","KKV számlanyitás",-4,"db","2019-04-01","anyabe",{"$f":"AND(E5202>=Kimutatás!B$2,E5202<=Kimutatás!B$3)","v":true}]
[5202,"Szekszárd","014","Q1","2019-03-10","Betét állomány növekmény",7,"Mhuf","2019-04-01","anyabe",{"$f":"AND(E5203>=Kimutatás!B$2,E5203<=Kimutatás!B$3)","v":true}]
[5203,"Szekszárd","014","Q1","2019-03-11","Betérő ügyfelek",32,"fő","2019-04-01","anyabe",{"$f":"AND(E5204>=Kimutatás!B$2,E5204<=Kimutatás!B$3)","v":false}]
[5204,"Szekszárd","014","Q1","2019-03-11","Lakossági hitelnövekmény összege ",-10,"Mhuf","2019-04-01","anyabe",{"$f":"AND(E5205>=Kimutatás!B$2,E5205<=Kimutatás!B$3)","v":false}]
[5205,"Szekszárd","014","Q1","2019-03-11","Lakossági számlanyitás",-2,"db","2019-04-01","anyabe",{"$f":"AND(E5206>=Kimutatás!B$2,E5206<=Kimutatás!B$3)","v":false}]
[5206,"Szekszárd","014","Q1","2019-03-11","KKV hitelnövekmény (db)",0,"db","2019-04-01","anyabe",{"$f":"AND(E5207>=Kimutatás!B$2,E5207<=Kimutatás!B$3)","v":false}]
[5207,"Szekszárd","014","Q1","2019-03-11","KKV számlanyitás",-5,"db","2019-04-01","anyabe",{"$f":"AND(E5208>=Kimutatás!B$2,E5208<=Kimutatás!B$3)","v":false}]
[5208,"Szekszárd","014","Q1","2019-03-11","Betét állomány növekmény",13,"Mhuf","2019-04-01","anyabe",{"$f":"AND(E5209>=Kimutatás!B$2,E5209<=Kimutatás!B$3)","v":false}]
[5209,"Szekszárd","014","Q1","2019-03-12","Betérő ügyfelek",39,"fő","2019-04-01","anyabe",{"$f":"AND(E5210>=Kimutatás!B$2,E5210<=Kimutatás!B$3)","v":false}]
[5210,"Szekszárd","014","Q1","2019-03-12","Lakossági hitelnövekmény összege ",46,"Mhuf","2019-04-01","anyabe",{"$f":"AND(E5211>=Kimutatás!B$2,E5211<=Kimutatás!B$3)","v":false}]
[5211,"Szekszárd","014","Q1","2019-03-12","Lakossági számlanyitás",8,"db","2019-04-01","anyabe",{"$f":"AND(E5212>=Kimutatás!B$2,E5212<=Kimutatás!B$3)","v":false}]
[5212,"Szekszárd","014","Q1","2019-03-12","KKV hitelnövekmény (db)",-1,"db","2019-04-01","anyabe",{"$f":"AND(E5213>=Kimutatás!B$2,E5213<=Kimutatás!B$3)","v":false}]
[5213,"Szekszárd","014","Q1","2019-03-12","KKV számlanyitás",4,"db","2019-04-01","anyabe",{"$f":"AND(E5214>=Kimutatás!B$2,E5214<=Kimutatás!B$3)","v":false}]
[5214,"Szekszárd","014","Q1","2019-03-12","Betét állomány növekmény",11,"Mhuf","2019-04-01","anyabe",{"$f":"AND(E5215>=Kimutatás!B$2,E5215<=Kimutatás!B$3)","v":false}]
[5215,"Szekszárd","014","Q1","2019-03-13","Betérő ügyfelek",46,"fő","2019-04-01","anyabe",{"$f":"AND(E5216>=Kimutatás!B$2,E5216<=Kimutatás!B$3)","v":false}]
[5216,"Szekszárd","014","Q1","2019-03-13","Lakossági hitelnövekmény összege ",4,"Mhuf","2019-04-01","anyabe",{"$f":"AND(E5217>=Kimutatás!B$2,E5217<=Kimutatás!B$3)","v":false}]
[5217,"Szekszárd","014","Q1","2019-03-13","Lakossági számlanyitás",8,"db","2019-04-01","anyabe",{"$f":"AND(E5218>=Kimutatás!B$2,E5218<=Kimutatás!B$3)","v":false}]
[5218,"Szekszárd","014","Q1","2019-03-13","KKV hitelnövekmény (db)",-2,"db","2019-04-01","anyabe",{"$f":"AND(E5219>=Kimutatás!B$2,E5219<=Kimutatás!B$3)","v":false}]
[5219,"Szekszárd","014","Q1","2019-03-13","KKV számlanyitás",4,"db","2019-04-01","anyabe",{"$f":"AND(E5220>=Kimutatás!B$2,E5220<=Kimutatás!B$3)","v":false}]
[5220,"Szekszárd","014","Q1","2019-03-13","Betét állomány növekmény",46,"Mhuf","2019-04-01","anyabe",{"$f":"AND(E5221>=Kimutatás!B$2,E5221<=Kimutatás!B$3)","v":false}]
[5221,"Szekszárd","014","Q1","2019-03-14","Betérő ügyfelek",50,"fő","2019-04-01","anyabe",{"$f":"AND(E5222>=Kimutatás!B$2,E5222<=Kimutatás!B$3)","v":false}]
[5222,"Szekszárd","014","Q1","2019-03-14","Lakossági hitelnövekmény összege ",46,"Mhuf","2019-04-01","anyabe",{"$f":"AND(E5223>=Kimutatás!B$2,E5223<=Kimutatás!B$3)","v":false}]
[5223,"Szekszárd","014","Q1","2019-03-14","Lakossági számlanyitás",10,"db","2019-04-01","anyabe",{"$f":"AND(E5224>=Kimutatás!B$2,E5224<=Kimutatás!B$3)","v":false}]
[5224,"Szekszárd","014","Q1","2019-03-14","KKV hitelnövekmény (db)",0,"db","2019-04-01","anyabe",{"$f":"AND(E5225>=Kimutatás!B$2,E5225<=Kimutatás!B$3)","v":false}]
[5225,"Szekszárd","014","Q1","2019-03-14","KKV számlanyitás",5,"db","2019-04-01","anyabe",{"$f":"AND(E5226>=Kimutatás!B$2,E5226<=Kimutatás!B$3)","v":false}]
[5226,"Szekszárd","014","Q1","2019-03-14","Betét állomány növekmény",11,"Mhuf","2019-04-01","anyabe",{"$f":"AND(E5227>=Kimutatás!B$2,E5227<=Kimutatás!B$3)","v":false}]
[5227,"Szekszárd","014","Q1","2019-03-17","Betérő ügyfelek",20,"fő","2019-04-01","anyabe",{"$f":"AND(E5228>=Kimutatás!B$2,E5228<=Kimutatás!B$3)","v":false}]
[5228,"Szekszárd","014","Q1","2019-03-17","Lakossági hitelnövekmény összege ",33,"Mhuf","2019-04-01","anyabe",{"$f":"AND(E5229>=Kimutatás!B$2,E5229<=Kimutatás!B$3)","v":false}]
[5229,"Szekszárd","014","Q1","2019-03-17","Lakossági számlanyitás",5,"db","2019-04-01","anyabe",{"$f":"AND(E5230>=Kimutatás!B$2,E5230<=Kimutatás!B$3)","v":false}]
[5230,"Szekszárd","014","Q1","2019-03-17","KKV hitelnövekmény (db)",-2,"db","2019-04-01","anyabe",{"$f":"AND(E5231>=Kimutatás!B$2,E5231<=Kimutatás!B$3)","v":false}]
[5231,"Szekszárd","014","Q1","2019-03-17","KKV számlanyitás",1,"db","2019-04-01","anyabe",{"$f":"AND(E5232>=Kimutatás!B$2,E5232<=Kimutatás!B$3)","v":false}]
[5232,"Szekszárd","014","Q1","2019-03-17","Betét állomány növekmény",44,"Mhuf","2019-04-01","anyabe",{"$f":"AND(E5233>=Kimutatás!B$2,E5233<=Kimutatás!B$3)","v":false}]
[5233,"Szekszárd","014","Q1","2019-03-18","Betérő ügyfelek",21,"fő","2019-04-01","anyabe",{"$f":"AND(E5234>=Kimutatás!B$2,E5234<=Kimutatás!B$3)","v":false}]
[5234,"Szekszárd","014","Q1","2019-03-18","Lakossági hitelnövekmény összege ",19,"Mhuf","2019-04-01","anyabe",{"$f":"AND(E5235>=Kimutatás!B$2,E5235<=Kimutatás!B$3)","v":false}]
[5235,"Szekszárd","014","Q1","2019-03-18","Lakossági számlanyitás",-1,"db","2019-04-01","anyabe",{"$f":"AND(E5236>=Kimutatás!B$2,E5236<=Kimutatás!B$3)","v":false}]
[5236,"Szekszárd","014","Q1","2019-03-18","KKV hitelnövekmény (db)",-1,"db","2019-04-01","anyabe",{"$f":"AND(E5237>=Kimutatás!B$2,E5237<=Kimutatás!B$3)","v":false}]
[5237,"Szekszárd","014","Q1","2019-03-18","KKV számlanyitás",3,"db","2019-04-01","anyabe",{"$f":"AND(E5238>=Kimutatás!B$2,E5238<=Kimutatás!B$3)","v":false}]
[5238,"Szekszárd","014","Q1","2019-03-18","Betét állomány növekmény",33,"Mhuf","2019-04-01","anyabe",{"$f":"AND(E5239>=Kimutatás!B$2,E5239<=Kimutatás!B$3)","v":false}]
[5239,"Szekszárd","014","Q1","2019-03-19","Betérő ügyfelek",29,"fő","2019-04-01","anyabe",{"$f":"AND(E5240>=Kimutatás!B$2,E5240<=Kimutatás!B$3)","v":false}]
[5240,"Szekszárd","014","Q1","2019-03-19","Lakossági hitelnövekmény összege ",35,"Mhuf","2019-04-01","anyabe",{"$f":"AND(E5241>=Kimutatás!B$2,E5241<=Kimutatás!B$3)","v":false}]
[5241,"Szekszárd","014","Q1","2019-03-19","Lakossági számlanyitás",8,"db","2019-04-01","anyabe",{"$f":"AND(E5242>=Kimutatás!B$2,E5242<=Kimutatás!B$3)","v":false}]
[5242,"Szekszárd","014","Q1","2019-03-19","KKV hitelnövekmény (db)",1,"db","2019-04-01","anyabe",{"$f":"AND(E5243>=Kimutatás!B$2,E5243<=Kimutatás!B$3)","v":false}]
[5243,"Szekszárd","014","Q1","2019-03-19","KKV számlanyitás",4,"db","2019-04-01","anyabe",{"$f":"AND(E5244>=Kimutatás!B$2,E5244<=Kimutatás!B$3)","v":false}]
[5244,"Szekszárd","014","Q1","2019-03-19","Betét állomány növekmény",15,"Mhuf","2019-04-01","anyabe",{"$f":"AND(E5245>=Kimutatás!B$2,E5245<=Kimutatás!B$3)","v":false}]
[5245,"Szekszárd","014","Q1","2019-03-20","Betérő ügyfelek",46,"fő","2019-04-01","anyabe",{"$f":"AND(E5246>=Kimutatás!B$2,E5246<=Kimutatás!B$3)","v":false}]
[5246,"Szekszárd","014","Q1","2019-03-20","Lakossági hitelnövekmény összege ",40,"Mhuf","2019-04-01","anyabe",{"$f":"AND(E5247>=Kimutatás!B$2,E5247<=Kimutatás!B$3)","v":false}]
[5247,"Szekszárd","014","Q1","2019-03-20","Lakossági számlanyitás",7,"db","2019-04-01","anyabe",{"$f":"AND(E5248>=Kimutatás!B$2,E5248<=Kimutatás!B$3)","v":false}]
[5248,"Szekszárd","014","Q1","2019-03-20","KKV hitelnövekmény (db)",1,"db","2019-04-01","anyabe",{"$f":"AND(E5249>=Kimutatás!B$2,E5249<=Kimutatás!B$3)","v":false}]
[5249,"Szekszárd","014","Q1","2019-03-20","KKV számlanyitás",0,"db","2019-04-01","anyabe",{"$f":"AND(E5250>=Kimutatás!B$2,E5250<=Kimutatás!B$3)","v":false}]
[5250,"Szekszárd","014","Q1","2019-03-20","Betét állomány növekmény",18,"Mhuf","2019-04-01","anyabe",{"$f":"AND(E5251>=Kimutatás!B$2,E5251<=Kimutatás!B$3)","v":false}]
[5251,"Szekszárd","014","Q1","2019-03-21","Betérő ügyfelek",29,"fő","2019-04-01","anyabe",{"$f":"AND(E5252>=Kimutatás!B$2,E5252<=Kimutatás!B$3)","v":false}]
[5252,"Szekszárd","014","Q1","2019-03-21","Lakossági hitelnövekmény összege ",33,"Mhuf","2019-04-01","anyabe",{"$f":"AND(E5253>=Kimutatás!B$2,E5253<=Kimutatás!B$3)","v":false}]
[5253,"Szekszárd","014","Q1","2019-03-21","Lakossági számlanyitás",2,"db","2019-04-01","anyabe",{"$f":"AND(E5254>=Kimutatás!B$2,E5254<=Kimutatás!B$3)","v":false}]
[5254,"Szekszárd","014","Q1","2019-03-21","KKV hitelnövekmény (db)",0,"db","2019-04-01","anyabe",{"$f":"AND(E5255>=Kimutatás!B$2,E5255<=Kimutatás!B$3)","v":false}]
[5255,"Szekszárd","014","Q1","2019-03-21","KKV számlanyitás",2,"db","2019-04-01","anyabe",{"$f":"AND(E5256>=Kimutatás!B$2,E5256<=Kimutatás!B$3)","v":false}]
[5256,"Szekszárd","014","Q1","2019-03-21","Betét állomány növekmény",31,"Mhuf","2019-04-01","anyabe",{"$f":"AND(E5257>=Kimutatás!B$2,E5257<=Kimutatás!B$3)","v":false}]
[5257,"Szekszárd","014","Q1","2019-03-24","Betérő ügyfelek",36,"fő","2019-04-01","anyabe",{"$f":"AND(E5258>=Kimutatás!B$2,E5258<=Kimutatás!B$3)","v":false}]
[5258,"Szekszárd","014","Q1","2019-03-24","Lakossági hitelnövekmény összege ",17,"Mhuf","2019-04-01","anyabe",{"$f":"AND(E5259>=Kimutatás!B$2,E5259<=Kimutatás!B$3)","v":false}]
[5259,"Szekszárd","014","Q1","2019-03-24","Lakossági számlanyitás",6,"db","2019-04-01","anyabe",{"$f":"AND(E5260>=Kimutatás!B$2,E5260<=Kimutatás!B$3)","v":false}]
[5260,"Szekszárd","014","Q1","2019-03-24","KKV hitelnövekmény (db)",2,"db","2019-04-01","anyabe",{"$f":"AND(E5261>=Kimutatás!B$2,E5261<=Kimutatás!B$3)","v":false}]
[5261,"Szekszárd","014","Q1","2019-03-24","KKV számlanyitás",-3,"db","2019-04-01","anyabe",{"$f":"AND(E5262>=Kimutatás!B$2,E5262<=Kimutatás!B$3)","v":false}]
[5262,"Szekszárd","014","Q1","2019-03-24","Betét állomány növekmény",-16,"Mhuf","2019-04-01","anyabe",{"$f":"AND(E5263>=Kimutatás!B$2,E5263<=Kimutatás!B$3)","v":false}]
[5263,"Szekszárd","014","Q1","2019-03-25","Betérő ügyfelek",49,"fő","2019-04-01","anyabe",{"$f":"AND(E5264>=Kimutatás!B$2,E5264<=Kimutatás!B$3)","v":false}]
[5264,"Szekszárd","014","Q1","2019-03-25","Lakossági hitelnövekmény összege ",23,"Mhuf","2019-04-01","anyabe",{"$f":"AND(E5265>=Kimutatás!B$2,E5265<=Kimutatás!B$3)","v":false}]
[5265,"Szekszárd","014","Q1","2019-03-25","Lakossági számlanyitás",10,"db","2019-04-01","anyabe",{"$f":"AND(E5266>=Kimutatás!B$2,E5266<=Kimutatás!B$3)","v":false}]
[5266,"Szekszárd","014","Q1","2019-03-25","KKV hitelnövekmény (db)",2,"db","2019-04-01","anyabe",{"$f":"AND(E5267>=Kimutatás!B$2,E5267<=Kimutatás!B$3)","v":false}]
[5267,"Szekszárd","014","Q1","2019-03-25","KKV számlanyitás",3,"db","2019-04-01","anyabe",{"$f":"AND(E5268>=Kimutatás!B$2,E5268<=Kimutatás!B$3)","v":false}]
[5268,"Szekszárd","014","Q1","2019-03-25","Betét állomány növekmény",16,"Mhuf","2019-04-01","anyabe",{"$f":"AND(E5269>=Kimutatás!B$2,E5269<=Kimutatás!B$3)","v":false}]
[5269,"Szekszárd","014","Q1","2019-03-26","Betérő ügyfelek",41,"fő","2019-04-01","anyabe",{"$f":"AND(E5270>=Kimutatás!B$2,E5270<=Kimutatás!B$3)","v":false}]
[5270,"Szekszárd","014","Q1","2019-03-26","Lakossági hitelnövekmény összege ",24,"Mhuf","2019-04-01","anyabe",{"$f":"AND(E5271>=Kimutatás!B$2,E5271<=Kimutatás!B$3)","v":false}]
[5271,"Szekszárd","014","Q1","2019-03-26","Lakossági számlanyitás",10,"db","2019-04-01","anyabe",{"$f":"AND(E5272>=Kimutatás!B$2,E5272<=Kimutatás!B$3)","v":false}]
[5272,"Szekszárd","014","Q1","2019-03-26","KKV hitelnövekmény (db)",1,"db","2019-04-01","anyabe",{"$f":"AND(E5273>=Kimutatás!B$2,E5273<=Kimutatás!B$3)","v":false}]
[5273,"Szekszárd","014","Q1","2019-03-26","KKV számlanyitás",0,"db","2019-04-01","anyabe",{"$f":"AND(E5274>=Kimutatás!B$2,E5274<=Kimutatás!B$3)","v":false}]
[5274,"Szekszárd","014","Q1","2019-03-26","Betét állomány növekmény",30,"Mhuf","2019-04-01","anyabe",{"$f":"AND(E5275>=Kimutatás!B$2,E5275<=Kimutatás!B$3)","v":false}]
[5275,"Szekszárd","014","Q1","2019-03-27","Betérő ügyfelek",2,"fő","2019-04-01","anyabe",{"$f":"AND(E5276>=Kimutatás!B$2,E5276<=Kimutatás!B$3)","v":false}]
[5276,"Szekszárd","014","Q1","2019-03-27","Lakossági hitelnövekmény összege ",18,"Mhuf","2019-04-01","anyabe",{"$f":"AND(E5277>=Kimutatás!B$2,E5277<=Kimutatás!B$3)","v":false}]
[5277,"Szekszárd","014","Q1","2019-03-27","Lakossági számlanyitás",-3,"db","2019-04-01","anyabe",{"$f":"AND(E5278>=Kimutatás!B$2,E5278<=Kimutatás!B$3)","v":false}]
[5278,"Szekszárd","014","Q1","2019-03-27","KKV hitelnövekmény (db)",-2,"db","2019-04-01","anyabe",{"$f":"AND(E5279>=Kimutatás!B$2,E5279<=Kimutatás!B$3)","v":false}]
[5279,"Szekszárd","014","Q1","2019-03-27","KKV számlanyitás",3,"db","2019-04-01","anyabe",{"$f":"AND(E5280>=Kimutatás!B$2,E5280<=Kimutatás!B$3)","v":false}]
[5280,"Szekszárd","014","Q1","2019-03-27","Betét állomány növekmény",-12,"Mhuf","2019-04-01","anyabe",{"$f":"AND(E5281>=Kimutatás!B$2,E5281<=Kimutatás!B$3)","v":false}]
[5281,"Szekszárd","014","Q1","2019-03-28","Betérő ügyfelek",45,"fő","2019-04-01","anyabe",{"$f":"AND(E5282>=Kimutatás!B$2,E5282<=Kimutatás!B$3)","v":false}]
[5282,"Szekszárd","014","Q1","2019-03-28","Lakossági hitelnövekmény összege ",-2,"Mhuf","2019-04-01","anyabe",{"$f":"AND(E5283>=Kimutatás!B$2,E5283<=Kimutatás!B$3)","v":false}]
[5283,"Szekszárd","014","Q1","2019-03-28","Lakossági számlanyitás",3,"db","2019-04-01","anyabe",{"$f":"AND(E5284>=Kimutatás!B$2,E5284<=Kimutatás!B$3)","v":false}]
[5284,"Szekszárd","014","Q1","2019-03-28","KKV hitelnövekmény (db)",1,"db","2019-04-01","anyabe",{"$f":"AND(E5285>=Kimutatás!B$2,E5285<=Kimutatás!B$3)","v":false}]
[5285,"Szekszárd","014","Q1","2019-03-28","KKV számlanyitás",-2,"db","2019-04-01","anyabe",{"$f":"AND(E5286>=Kimutatás!B$2,E5286<=Kimutatás!B$3)","v":false}]
[5286,"Szekszárd","014","Q1","2019-03-28","Betét állomány növekmény",27,"Mhuf","2019-04-01","anyabe",{"$f":"AND(E5287>=Kimutatás!B$2,E5287<=Kimutatás!B$3)","v":false}]
[5287,"Szekszárd","014","Q1","2019-03-31","Betérő ügyfelek",50,"fő","2019-04-01","anyabe",{"$f":"AND(E5288>=Kimutatás!B$2,E5288<=Kimutatás!B$3)","v":false}]
[5288,"Szekszárd","014","Q1","2019-03-31","Lakossági hitelnövekmény összege ",-10,"Mhuf","2019-04-01","anyabe",{"$f":"AND(E5289>=Kimutatás!B$2,E5289<=Kimutatás!B$3)","v":false}]
[5289,"Szekszárd","014","Q1","2019-03-31","Lakossági számlanyitás",9,"db","2019-04-01","anyabe",{"$f":"AND(E5290>=Kimutatás!B$2,E5290<=Kimutatás!B$3)","v":false}]
[5290,"Szekszárd","014","Q1","2019-03-31","KKV hitelnövekmény (db)",1,"db","2019-04-01","anyabe",{"$f":"AND(E5291>=Kimutatás!B$2,E5291<=Kimutatás!B$3)","v":false}]
[5291,"Szekszárd","014","Q1","2019-03-31","KKV számlanyitás",1,"db","2019-04-01","anyabe",{"$f":"AND(E5292>=Kimutatás!B$2,E5292<=Kimutatás!B$3)","v":false}]
[5292,"Szekszárd","014","Q1","2019-03-31","Betét állomány növekmény",12,"Mhuf","2019-04-01","anyabe",{"$f":"AND(E5293>=Kimutatás!B$2,E5293<=Kimutatás!B$3)","v":false}]
[5293,"Székesfehérvár","015","Q1","2019-01-02","Betérő ügyfelek",27,"fő","2019-02-01","matyas9",{"$f":"AND(E5294>=Kimutatás!B$2,E5294<=Kimutatás!B$3)","v":false}]
[5294,"Székesfehérvár","015","Q1","2019-01-02","Lakossági hitelnövekmény összege ",-5,"Mhuf","2019-02-01","matyas9",{"$f":"AND(E5295>=Kimutatás!B$2,E5295<=Kimutatás!B$3)","v":false}]
[5295,"Székesfehérvár","015","Q1","2019-01-02","Lakossági számlanyitás",0,"db","2019-02-01","matyas9",{"$f":"AND(E5296>=Kimutatás!B$2,E5296<=Kimutatás!B$3)","v":false}]
[5296,"Székesfehérvár","015","Q1","2019-01-02","KKV hitelnövekmény (db)",2,"db","2019-02-01","matyas9",{"$f":"AND(E5297>=Kimutatás!B$2,E5297<=Kimutatás!B$3)","v":false}]
[5297,"Székesfehérvár","015","Q1","2019-01-02","KKV számlanyitás",1,"db","2019-02-01","matyas9",{"$f":"AND(E5298>=Kimutatás!B$2,E5298<=Kimutatás!B$3)","v":false}]
[5298,"Székesfehérvár","015","Q1","2019-01-02","Betét állomány növekmény",-10,"Mhuf","2019-02-01","matyas9",{"$f":"AND(E5299>=Kimutatás!B$2,E5299<=Kimutatás!B$3)","v":false}]
[5299,"Székesfehérvár","015","Q1","2019-01-03","Betérő ügyfelek",30,"fő","2019-02-01","matyas9",{"$f":"AND(E5300>=Kimutatás!B$2,E5300<=Kimutatás!B$3)","v":false}]
[5300,"Székesfehérvár","015","Q1","2019-01-03","Lakossági hitelnövekmény összege ",13,"Mhuf","2019-02-01","matyas9",{"$f":"AND(E5301>=Kimutatás!B$2,E5301<=Kimutatás!B$3)","v":false}]
[5301,"Székesfehérvár","015","Q1","2019-01-03","Lakossági számlanyitás",8,"db","2019-02-01","matyas9",{"$f":"AND(E5302>=Kimutatás!B$2,E5302<=Kimutatás!B$3)","v":false}]
[5302,"Székesfehérvár","015","Q1","2019-01-03","KKV hitelnövekmény (db)",1,"db","2019-02-01","matyas9",{"$f":"AND(E5303>=Kimutatás!B$2,E5303<=Kimutatás!B$3)","v":false}]
[5303,"Székesfehérvár","015","Q1","2019-01-03","KKV számlanyitás",4,"db","2019-02-01","matyas9",{"$f":"AND(E5304>=Kimutatás!B$2,E5304<=Kimutatás!B$3)","v":false}]
[5304,"Székesfehérvár","015","Q1","2019-01-03","Betét állomány növekmény",14,"Mhuf","2019-02-01","matyas9",{"$f":"AND(E5305>=Kimutatás!B$2,E5305<=Kimutatás!B$3)","v":false}]
[5305,"Székesfehérvár","015","Q1","2019-01-06","Betérő ügyfelek",24,"fő","2019-02-01","matyas9",{"$f":"AND(E5306>=Kimutatás!B$2,E5306<=Kimutatás!B$3)","v":false}]
[5306,"Székesfehérvár","015","Q1","2019-01-06","Lakossági hitelnövekmény összege ",2,"Mhuf","2019-02-01","matyas9",{"$f":"AND(E5307>=Kimutatás!B$2,E5307<=Kimutatás!B$3)","v":false}]
[5307,"Székesfehérvár","015","Q1","2019-01-06","Lakossági számlanyitás",2,"db","2019-02-01","matyas9",{"$f":"AND(E5308>=Kimutatás!B$2,E5308<=Kimutatás!B$3)","v":false}]
[5308,"Székesfehérvár","015","Q1","2019-01-06","KKV hitelnövekmény (db)",1,"db","2019-02-01","matyas9",{"$f":"AND(E5309>=Kimutatás!B$2,E5309<=Kimutatás!B$3)","v":false}]
[5309,"Székesfehérvár","015","Q1","2019-01-06","KKV számlanyitás",1,"db","2019-02-01","matyas9",{"$f":"AND(E5310>=Kimutatás!B$2,E5310<=Kimutatás!B$3)","v":false}]
[5310,"Székesfehérvár","015","Q1","2019-01-06","Betét állomány növekmény",50,"Mhuf","2019-02-01","matyas9",{"$f":"AND(E5311>=Kimutatás!B$2,E5311<=Kimutatás!B$3)","v":false}]
[5311,"Székesfehérvár","015","Q1","2019-01-07","Betérő ügyfelek",34,"fő","2019-02-01","matyas9",{"$f":"AND(E5312>=Kimutatás!B$2,E5312<=Kimutatás!B$3)","v":false}]
[5312,"Székesfehérvár","015","Q1","2019-01-07","Lakossági hitelnövekmény összege ",49,"Mhuf","2019-02-01","matyas9",{"$f":"AND(E5313>=Kimutatás!B$2,E5313<=Kimutatás!B$3)","v":false}]
[5313,"Székesfehérvár","015","Q1","2019-01-07","Lakossági számlanyitás",2,"db","2019-02-01","matyas9",{"$f":"AND(E5314>=Kimutatás!B$2,E5314<=Kimutatás!B$3)","v":false}]
[5314,"Székesfehérvár","015","Q1","2019-01-07","KKV hitelnövekmény (db)",-2,"db","2019-02-01","matyas9",{"$f":"AND(E5315>=Kimutatás!B$2,E5315<=Kimutatás!B$3)","v":false}]
[5315,"Székesfehérvár","015","Q1","2019-01-07","KKV számlanyitás",-4,"db","2019-02-01","matyas9",{"$f":"AND(E5316>=Kimutatás!B$2,E5316<=Kimutatás!B$3)","v":false}]
[5316,"Székesfehérvár","015","Q1","2019-01-07","Betét állomány növekmény",9,"Mhuf","2019-02-01","matyas9",{"$f":"AND(E5317>=Kimutatás!B$2,E5317<=Kimutatás!B$3)","v":false}]
[5317,"Székesfehérvár","015","Q1","2019-01-08","Betérő ügyfelek",5,"fő","2019-02-01","matyas9",{"$f":"AND(E5318>=Kimutatás!B$2,E5318<=Kimutatás!B$3)","v":false}]
[5318,"Székesfehérvár","015","Q1","2019-01-08","Lakossági hitelnövekmény összege ",-6,"Mhuf","2019-02-01","matyas9",{"$f":"AND(E5319>=Kimutatás!B$2,E5319<=Kimutatás!B$3)","v":false}]
[5319,"Székesfehérvár","015","Q1","2019-01-08","Lakossági számlanyitás",4,"db","2019-02-01","matyas9",{"$f":"AND(E5320>=Kimutatás!B$2,E5320<=Kimutatás!B$3)","v":false}]
[5320,"Székesfehérvár","015","Q1","2019-01-08","KKV hitelnövekmény (db)",2,"db","2019-02-01","matyas9",{"$f":"AND(E5321>=Kimutatás!B$2,E5321<=Kimutatás!B$3)","v":false}]
[5321,"Székesfehérvár","015","Q1","2019-01-08","KKV számlanyitás",2,"db","2019-02-01","matyas9",{"$f":"AND(E5322>=Kimutatás!B$2,E5322<=Kimutatás!B$3)","v":false}]
[5322,"Székesfehérvár","015","Q1","2019-01-08","Betét állomány növekmény",21,"Mhuf","2019-02-01","matyas9",{"$f":"AND(E5323>=Kimutatás!B$2,E5323<=Kimutatás!B$3)","v":false}]
[5323,"Székesfehérvár","015","Q1","2019-01-09","Betérő ügyfelek",15,"fő","2019-02-01","matyas9",{"$f":"AND(E5324>=Kimutatás!B$2,E5324<=Kimutatás!B$3)","v":false}]
[5324,"Székesfehérvár","015","Q1","2019-01-09","Lakossági hitelnövekmény összege ",18,"Mhuf","2019-02-01","matyas9",{"$f":"AND(E5325>=Kimutatás!B$2,E5325<=Kimutatás!B$3)","v":false}]
[5325,"Székesfehérvár","015","Q1","2019-01-09","Lakossági számlanyitás",-4,"db","2019-02-01","matyas9",{"$f":"AND(E5326>=Kimutatás!B$2,E5326<=Kimutatás!B$3)","v":false}]
[5326,"Székesfehérvár","015","Q1","2019-01-09","KKV hitelnövekmény (db)",1,"db","2019-02-01","matyas9",{"$f":"AND(E5327>=Kimutatás!B$2,E5327<=Kimutatás!B$3)","v":false}]
[5327,"Székesfehérvár","015","Q1","2019-01-09","KKV számlanyitás",-3,"db","2019-02-01","matyas9",{"$f":"AND(E5328>=Kimutatás!B$2,E5328<=Kimutatás!B$3)","v":false}]
[5328,"Székesfehérvár","015","Q1","2019-01-09","Betét állomány növekmény",24,"Mhuf","2019-02-01","matyas9",{"$f":"AND(E5329>=Kimutatás!B$2,E5329<=Kimutatás!B$3)","v":false}]
[5329,"Székesfehérvár","015","Q1","2019-01-10","Betérő ügyfelek",4,"fő","2019-02-01","matyas9",{"$f":"AND(E5330>=Kimutatás!B$2,E5330<=Kimutatás!B$3)","v":true}]
[5330,"Székesfehérvár","015","Q1","2019-01-10","Lakossági hitelnövekmény összege ",-1,"Mhuf","2019-02-01","matyas9",{"$f":"AND(E5331>=Kimutatás!B$2,E5331<=Kimutatás!B$3)","v":true}]
[5331,"Székesfehérvár","015","Q1","2019-01-10","Lakossági számlanyitás",4,"db","2019-02-01","matyas9",{"$f":"AND(E5332>=Kimutatás!B$2,E5332<=Kimutatás!B$3)","v":true}]
[5332,"Székesfehérvár","015","Q1","2019-01-10","KKV hitelnövekmény (db)",2,"db","2019-02-01","matyas9",{"$f":"AND(E5333>=Kimutatás!B$2,E5333<=Kimutatás!B$3)","v":true}]
[5333,"Székesfehérvár","015","Q1","2019-01-10","KKV számlanyitás",0,"db","2019-02-01","matyas9",{"$f":"AND(E5334>=Kimutatás!B$2,E5334<=Kimutatás!B$3)","v":true}]
[5334,"Székesfehérvár","015","Q1","2019-01-10","Betét állomány növekmény",35,"Mhuf","2019-02-01","matyas9",{"$f":"AND(E5335>=Kimutatás!B$2,E5335<=Kimutatás!B$3)","v":true}]
[5335,"Székesfehérvár","015","Q1","2019-01-13","Betérő ügyfelek",3,"fő","2019-02-01","matyas9",{"$f":"AND(E5336>=Kimutatás!B$2,E5336<=Kimutatás!B$3)","v":true}]
[5336,"Székesfehérvár","015","Q1","2019-01-13","Lakossági hitelnövekmény összege ",15,"Mhuf","2019-02-01","matyas9",{"$f":"AND(E5337>=Kimutatás!B$2,E5337<=Kimutatás!B$3)","v":true}]
[5337,"Székesfehérvár","015","Q1","2019-01-13","Lakossági számlanyitás",10,"db","2019-02-01","matyas9",{"$f":"AND(E5338>=Kimutatás!B$2,E5338<=Kimutatás!B$3)","v":true}]
[5338,"Székesfehérvár","015","Q1","2019-01-13","KKV hitelnövekmény (db)",2,"db","2019-02-01","matyas9",{"$f":"AND(E5339>=Kimutatás!B$2,E5339<=Kimutatás!B$3)","v":true}]
[5339,"Székesfehérvár","015","Q1","2019-01-13","KKV számlanyitás",3,"db","2019-02-01","matyas9",{"$f":"AND(E5340>=Kimutatás!B$2,E5340<=Kimutatás!B$3)","v":true}]
[5340,"Székesfehérvár","015","Q1","2019-01-13","Betét állomány növekmény",31,"Mhuf","2019-02-01","matyas9",{"$f":"AND(E5341>=Kimutatás!B$2,E5341<=Kimutatás!B$3)","v":true}]
[5341,"Székesfehérvár","015","Q1","2019-01-14","Betérő ügyfelek",8,"fő","2019-02-01","matyas9",{"$f":"AND(E5342>=Kimutatás!B$2,E5342<=Kimutatás!B$3)","v":true}]
[5342,"Székesfehérvár","015","Q1","2019-01-14","Lakossági hitelnövekmény összege ",2,"Mhuf","2019-02-01","matyas9",{"$f":"AND(E5343>=Kimutatás!B$2,E5343<=Kimutatás!B$3)","v":true}]
[5343,"Székesfehérvár","015","Q1","2019-01-14","Lakossági számlanyitás",7,"db","2019-02-01","matyas9",{"$f":"AND(E5344>=Kimutatás!B$2,E5344<=Kimutatás!B$3)","v":true}]
[5344,"Székesfehérvár","015","Q1","2019-01-14","KKV hitelnövekmény (db)",-1,"db","2019-02-01","matyas9",{"$f":"AND(E5345>=Kimutatás!B$2,E5345<=Kimutatás!B$3)","v":true}]
[5345,"Székesfehérvár","015","Q1","2019-01-14","KKV számlanyitás",5,"db","2019-02-01","matyas9",{"$f":"AND(E5346>=Kimutatás!B$2,E5346<=Kimutatás!B$3)","v":true}]
[5346,"Székesfehérvár","015","Q1","2019-01-14","Betét állomány növekmény",5,"Mhuf","2019-02-01","matyas9",{"$f":"AND(E5347>=Kimutatás!B$2,E5347<=Kimutatás!B$3)","v":true}]
[5347,"Székesfehérvár","015","Q1","2019-01-15","Betérő ügyfelek",9,"fő","2019-02-01","matyas9",{"$f":"AND(E5348>=Kimutatás!B$2,E5348<=Kimutatás!B$3)","v":true}]
[5348,"Székesfehérvár","015","Q1","2019-01-15","Lakossági hitelnövekmény összege ",29,"Mhuf","2019-02-01","matyas9",{"$f":"AND(E5349>=Kimutatás!B$2,E5349<=Kimutatás!B$3)","v":true}]
[5349,"Székesfehérvár","015","Q1","2019-01-15","Lakossági számlanyitás",5,"db","2019-02-01","matyas9",{"$f":"AND(E5350>=Kimutatás!B$2,E5350<=Kimutatás!B$3)","v":true}]
[5350,"Székesfehérvár","015","Q1","2019-01-15","KKV hitelnövekmény (db)",1,"db","2019-02-01","matyas9",{"$f":"AND(E5351>=Kimutatás!B$2,E5351<=Kimutatás!B$3)","v":true}]
[5351,"Székesfehérvár","015","Q1","2019-01-15","KKV számlanyitás",-3,"db","2019-02-01","matyas9",{"$f":"AND(E5352>=Kimutatás!B$2,E5352<=Kimutatás!B$3)","v":true}]
[5352,"Székesfehérvár","015","Q1","2019-01-15","Betét állomány növekmény",29,"Mhuf","2019-02-01","matyas9",{"$f":"AND(E5353>=Kimutatás!B$2,E5353<=Kimutatás!B$3)","v":true}]
[5353,"Székesfehérvár","015","Q1","2019-01-16","Betérő ügyfelek",22,"fő","2019-02-01","matyas9",{"$f":"AND(E5354>=Kimutatás!B$2,E5354<=Kimutatás!B$3)","v":true}]
[5354,"Székesfehérvár","015","Q1","2019-01-16","Lakossági hitelnövekmény összege ",40,"Mhuf","2019-02-01","matyas9",{"$f":"AND(E5355>=Kimutatás!B$2,E5355<=Kimutatás!B$3)","v":true}]
[5355,"Székesfehérvár","015","Q1","2019-01-16","Lakossági számlanyitás",5,"db","2019-02-01","matyas9",{"$f":"AND(E5356>=Kimutatás!B$2,E5356<=Kimutatás!B$3)","v":true}]
[5356,"Székesfehérvár","015","Q1","2019-01-16","KKV hitelnövekmény (db)",1,"db","2019-02-01","matyas9",{"$f":"AND(E5357>=Kimutatás!B$2,E5357<=Kimutatás!B$3)","v":true}]
[5357,"Székesfehérvár","015","Q1","2019-01-16","KKV számlanyitás",-3,"db","2019-02-01","matyas9",{"$f":"AND(E5358>=Kimutatás!B$2,E5358<=Kimutatás!B$3)","v":true}]
[5358,"Székesfehérvár","015","Q1","2019-01-16","Betét állomány növekmény",13,"Mhuf","2019-02-01","matyas9",{"$f":"AND(E5359>=Kimutatás!B$2,E5359<=Kimutatás!B$3)","v":true}]
[5359,"Székesfehérvár","015","Q1","2019-01-17","Betérő ügyfelek",15,"fő","2019-02-01","matyas9",{"$f":"AND(E5360>=Kimutatás!B$2,E5360<=Kimutatás!B$3)","v":true}]
[5360,"Székesfehérvár","015","Q1","2019-01-17","Lakossági hitelnövekmény összege ",6,"Mhuf","2019-02-01","matyas9",{"$f":"AND(E5361>=Kimutatás!B$2,E5361<=Kimutatás!B$3)","v":true}]
[5361,"Székesfehérvár","015","Q1","2019-01-17","Lakossági számlanyitás",-1,"db","2019-02-01","matyas9",{"$f":"AND(E5362>=Kimutatás!B$2,E5362<=Kimutatás!B$3)","v":true}]
[5362,"Székesfehérvár","015","Q1","2019-01-17","KKV hitelnövekmény (db)",1,"db","2019-02-01","matyas9",{"$f":"AND(E5363>=Kimutatás!B$2,E5363<=Kimutatás!B$3)","v":true}]
[5363,"Székesfehérvár","015","Q1","2019-01-17","KKV számlanyitás",4,"db","2019-02-01","matyas9",{"$f":"AND(E5364>=Kimutatás!B$2,E5364<=Kimutatás!B$3)","v":true}]
[5364,"Székesfehérvár","015","Q1","2019-01-17","Betét állomány növekmény",-5,"Mhuf","2019-02-01","matyas9",{"$f":"AND(E5365>=Kimutatás!B$2,E5365<=Kimutatás!B$3)","v":true}]
[5365,"Székesfehérvár","015","Q1","2019-01-20","Betérő ügyfelek",27,"fő","2019-02-01","matyas9",{"$f":"AND(E5366>=Kimutatás!B$2,E5366<=Kimutatás!B$3)","v":true}]
[5366,"Székesfehérvár","015","Q1","2019-01-20","Lakossági hitelnövekmény összege ",50,"Mhuf","2019-02-01","matyas9",{"$f":"AND(E5367>=Kimutatás!B$2,E5367<=Kimutatás!B$3)","v":true}]
[5367,"Székesfehérvár","015","Q1","2019-01-20","Lakossági számlanyitás",5,"db","2019-02-01","matyas9",{"$f":"AND(E5368>=Kimutatás!B$2,E5368<=Kimutatás!B$3)","v":true}]
[5368,"Székesfehérvár","015","Q1","2019-01-20","KKV hitelnövekmény (db)",2,"db","2019-02-01","matyas9",{"$f":"AND(E5369>=Kimutatás!B$2,E5369<=Kimutatás!B$3)","v":true}]
[5369,"Székesfehérvár","015","Q1","2019-01-20","KKV számlanyitás",-3,"db","2019-02-01","matyas9",{"$f":"AND(E5370>=Kimutatás!B$2,E5370<=Kimutatás!B$3)","v":true}]
[5370,"Székesfehérvár","015","Q1","2019-01-20","Betét állomány növekmény",1,"Mhuf","2019-02-01","matyas9",{"$f":"AND(E5371>=Kimutatás!B$2,E5371<=Kimutatás!B$3)","v":true}]
[5371,"Székesfehérvár","015","Q1","2019-01-21","Betérő ügyfelek",31,"fő","2019-02-01","matyas9",{"$f":"AND(E5372>=Kimutatás!B$2,E5372<=Kimutatás!B$3)","v":true}]
[5372,"Székesfehérvár","015","Q1","2019-01-21","Lakossági hitelnövekmény összege ",-10,"Mhuf","2019-02-01","matyas9",{"$f":"AND(E5373>=Kimutatás!B$2,E5373<=Kimutatás!B$3)","v":true}]
[5373,"Székesfehérvár","015","Q1","2019-01-21","Lakossági számlanyitás",5,"db","2019-02-01","matyas9",{"$f":"AND(E5374>=Kimutatás!B$2,E5374<=Kimutatás!B$3)","v":true}]
[5374,"Székesfehérvár","015","Q1","2019-01-21","KKV hitelnövekmény (db)",1,"db","2019-02-01","matyas9",{"$f":"AND(E5375>=Kimutatás!B$2,E5375<=Kimutatás!B$3)","v":true}]
[5375,"Székesfehérvár","015","Q1","2019-01-21","KKV számlanyitás",0,"db","2019-02-01","matyas9",{"$f":"AND(E5376>=Kimutatás!B$2,E5376<=Kimutatás!B$3)","v":true}]
[5376,"Székesfehérvár","015","Q1","2019-01-21","Betét állomány növekmény",25,"Mhuf","2019-02-01","matyas9",{"$f":"AND(E5377>=Kimutatás!B$2,E5377<=Kimutatás!B$3)","v":true}]
[5377,"Székesfehérvár","015","Q1","2019-01-22","Betérő ügyfelek",28,"fő","2019-02-01","matyas9",{"$f":"AND(E5378>=Kimutatás!B$2,E5378<=Kimutatás!B$3)","v":true}]
[5378,"Székesfehérvár","015","Q1","2019-01-22","Lakossági hitelnövekmény összege ",21,"Mhuf","2019-02-01","matyas9",{"$f":"AND(E5379>=Kimutatás!B$2,E5379<=Kimutatás!B$3)","v":true}]
[5379,"Székesfehérvár","015","Q1","2019-01-22","Lakossági számlanyitás",9,"db","2019-02-01","matyas9",{"$f":"AND(E5380>=Kimutatás!B$2,E5380<=Kimutatás!B$3)","v":true}]
[5380,"Székesfehérvár","015","Q1","2019-01-22","KKV hitelnövekmény (db)",2,"db","2019-02-01","matyas9",{"$f":"AND(E5381>=Kimutatás!B$2,E5381<=Kimutatás!B$3)","v":true}]
[5381,"Székesfehérvár","015","Q1","2019-01-22","KKV számlanyitás",-1,"db","2019-02-01","matyas9",{"$f":"AND(E5382>=Kimutatás!B$2,E5382<=Kimutatás!B$3)","v":true}]
[5382,"Székesfehérvár","015","Q1","2019-01-22","Betét állomány növekmény",3,"Mhuf","2019-02-01","matyas9",{"$f":"AND(E5383>=Kimutatás!B$2,E5383<=Kimutatás!B$3)","v":true}]
[5383,"Székesfehérvár","015","Q1","2019-01-23","Betérő ügyfelek",23,"fő","2019-02-01","matyas9",{"$f":"AND(E5384>=Kimutatás!B$2,E5384<=Kimutatás!B$3)","v":true}]
[5384,"Székesfehérvár","015","Q1","2019-01-23","Lakossági hitelnövekmény összege ",25,"Mhuf","2019-02-01","matyas9",{"$f":"AND(E5385>=Kimutatás!B$2,E5385<=Kimutatás!B$3)","v":true}]
[5385,"Székesfehérvár","015","Q1","2019-01-23","Lakossági számlanyitás",-4,"db","2019-02-01","matyas9",{"$f":"AND(E5386>=Kimutatás!B$2,E5386<=Kimutatás!B$3)","v":true}]
[5386,"Székesfehérvár","015","Q1","2019-01-23","KKV hitelnövekmény (db)",2,"db","2019-02-01","matyas9",{"$f":"AND(E5387>=Kimutatás!B$2,E5387<=Kimutatás!B$3)","v":true}]
[5387,"Székesfehérvár","015","Q1","2019-01-23","KKV számlanyitás",2,"db","2019-02-01","matyas9",{"$f":"AND(E5388>=Kimutatás!B$2,E5388<=Kimutatás!B$3)","v":true}]
[5388,"Székesfehérvár","015","Q1","2019-01-23","Betét állomány növekmény",9,"Mhuf","2019-02-01","matyas9",{"$f":"AND(E5389>=Kimutatás!B$2,E5389<=Kimutatás!B$3)","v":true}]
[5389,"Székesfehérvár","015","Q1","2019-01-24","Betérő ügyfelek",13,"fő","2019-02-01","matyas9",{"$f":"AND(E5390>=Kimutatás!B$2,E5390<=Kimutatás!B$3)","v":true}]
[5390,"Székesfehérvár","015","Q1","2019-01-24","Lakossági hitelnövekmény összege ",-9,"Mhuf","2019-02-01","matyas9",{"$f":"AND(E5391>=Kimutatás!B$2,E5391<=Kimutatás!B$3)","v":true}]
[5391,"Székesfehérvár","015","Q1","2019-01-24","Lakossági számlanyitás",2,"db","2019-02-01","matyas9",{"$f":"AND(E5392>=Kimutatás!B$2,E5392<=Kimutatás!B$3)","v":true}]
[5392,"Székesfehérvár","015","Q1","2019-01-24","KKV hitelnövekmény (db)",-1,"db","2019-02-01","matyas9",{"$f":"AND(E5393>=Kimutatás!B$2,E5393<=Kimutatás!B$3)","v":true}]
[5393,"Székesfehérvár","015","Q1","2019-01-24","KKV számlanyitás",-4,"db","2019-02-01","matyas9",{"$f":"AND(E5394>=Kimutatás!B$2,E5394<=Kimutatás!B$3)","v":true}]
[5394,"Székesfehérvár","015","Q1","2019-01-24","Betét állomány növekmény",-16,"Mhuf","2019-02-01","matyas9",{"$f":"AND(E5395>=Kimutatás!B$2,E5395<=Kimutatás!B$3)","v":true}]
[5395,"Székesfehérvár","015","Q1","2019-01-27","Betérő ügyfelek",28,"fő","2019-02-01","matyas9",{"$f":"AND(E5396>=Kimutatás!B$2,E5396<=Kimutatás!B$3)","v":true}]
[5396,"Székesfehérvár","015","Q1","2019-01-27","Lakossági hitelnövekmény összege ",15,"Mhuf","2019-02-01","matyas9",{"$f":"AND(E5397>=Kimutatás!B$2,E5397<=Kimutatás!B$3)","v":true}]
[5397,"Székesfehérvár","015","Q1","2019-01-27","Lakossági számlanyitás",-1,"db","2019-02-01","matyas9",{"$f":"AND(E5398>=Kimutatás!B$2,E5398<=Kimutatás!B$3)","v":true}]
[5398,"Székesfehérvár","015","Q1","2019-01-27","KKV hitelnövekmény (db)",0,"db","2019-02-01","matyas9",{"$f":"AND(E5399>=Kimutatás!B$2,E5399<=Kimutatás!B$3)","v":true}]
[5399,"Székesfehérvár","015","Q1","2019-01-27","KKV számlanyitás",5,"db","2019-02-01","matyas9",{"$f":"AND(E5400>=Kimutatás!B$2,E5400<=Kimutatás!B$3)","v":true}]
[5400,"Székesfehérvár","015","Q1","2019-01-27","Betét állomány növekmény",42,"Mhuf","2019-02-01","matyas9",{"$f":"AND(E5401>=Kimutatás!B$2,E5401<=Kimutatás!B$3)","v":true}]
[5401,"Székesfehérvár","015","Q1","2019-01-28","Betérő ügyfelek",48,"fő","2019-02-01","matyas9",{"$f":"AND(E5402>=Kimutatás!B$2,E5402<=Kimutatás!B$3)","v":true}]
[5402,"Székesfehérvár","015","Q1","2019-01-28","Lakossági hitelnövekmény összege ",5,"Mhuf","2019-02-01","matyas9",{"$f":"AND(E5403>=Kimutatás!B$2,E5403<=Kimutatás!B$3)","v":true}]
[5403,"Székesfehérvár","015","Q1","2019-01-28","Lakossági számlanyitás",9,"db","2019-02-01","matyas9",{"$f":"AND(E5404>=Kimutatás!B$2,E5404<=Kimutatás!B$3)","v":true}]
[5404,"Székesfehérvár","015","Q1","2019-01-28","KKV hitelnövekmény (db)",2,"db","2019-02-01","matyas9",{"$f":"AND(E5405>=Kimutatás!B$2,E5405<=Kimutatás!B$3)","v":true}]
[5405,"Székesfehérvár","015","Q1","2019-01-28","KKV számlanyitás",0,"db","2019-02-01","matyas9",{"$f":"AND(E5406>=Kimutatás!B$2,E5406<=Kimutatás!B$3)","v":true}]
[5406,"Székesfehérvár","015","Q1","2019-01-28","Betét állomány növekmény",4,"Mhuf","2019-02-01","matyas9",{"$f":"AND(E5407>=Kimutatás!B$2,E5407<=Kimutatás!B$3)","v":true}]
[5407,"Székesfehérvár","015","Q1","2019-01-29","Betérő ügyfelek",12,"fő","2019-02-01","matyas9",{"$f":"AND(E5408>=Kimutatás!B$2,E5408<=Kimutatás!B$3)","v":true}]
[5408,"Székesfehérvár","015","Q1","2019-01-29","Lakossági hitelnövekmény összege ",40,"Mhuf","2019-02-01","matyas9",{"$f":"AND(E5409>=Kimutatás!B$2,E5409<=Kimutatás!B$3)","v":true}]
[5409,"Székesfehérvár","015","Q1","2019-01-29","Lakossági számlanyitás",1,"db","2019-02-01","matyas9",{"$f":"AND(E5410>=Kimutatás!B$2,E5410<=Kimutatás!B$3)","v":true}]
[5410,"Székesfehérvár","015","Q1","2019-01-29","KKV hitelnövekmény (db)",0,"db","2019-02-01","matyas9",{"$f":"AND(E5411>=Kimutatás!B$2,E5411<=Kimutatás!B$3)","v":true}]
[5411,"Székesfehérvár","015","Q1","2019-01-29","KKV számlanyitás",-2,"db","2019-02-01","matyas9",{"$f":"AND(E5412>=Kimutatás!B$2,E5412<=Kimutatás!B$3)","v":true}]
[5412,"Székesfehérvár","015","Q1","2019-01-29","Betét állomány növekmény",10,"Mhuf","2019-02-01","matyas9",{"$f":"AND(E5413>=Kimutatás!B$2,E5413<=Kimutatás!B$3)","v":true}]
[5413,"Székesfehérvár","015","Q1","2019-01-30","Betérő ügyfelek",20,"fő","2019-02-01","matyas9",{"$f":"AND(E5414>=Kimutatás!B$2,E5414<=Kimutatás!B$3)","v":true}]
[5414,"Székesfehérvár","015","Q1","2019-01-30","Lakossági hitelnövekmény összege ",4,"Mhuf","2019-02-01","matyas9",{"$f":"AND(E5415>=Kimutatás!B$2,E5415<=Kimutatás!B$3)","v":true}]
[5415,"Székesfehérvár","015","Q1","2019-01-30","Lakossági számlanyitás",7,"db","2019-02-01","matyas9",{"$f":"AND(E5416>=Kimutatás!B$2,E5416<=Kimutatás!B$3)","v":true}]
[5416,"Székesfehérvár","015","Q1","2019-01-30","KKV hitelnövekmény (db)",2,"db","2019-02-01","matyas9",{"$f":"AND(E5417>=Kimutatás!B$2,E5417<=Kimutatás!B$3)","v":true}]
[5417,"Székesfehérvár","015","Q1","2019-01-30","KKV számlanyitás",-3,"db","2019-02-01","matyas9",{"$f":"AND(E5418>=Kimutatás!B$2,E5418<=Kimutatás!B$3)","v":true}]
[5418,"Székesfehérvár","015","Q1","2019-01-30","Betét állomány növekmény",46,"Mhuf","2019-02-01","matyas9",{"$f":"AND(E5419>=Kimutatás!B$2,E5419<=Kimutatás!B$3)","v":true}]
[5419,"Székesfehérvár","015","Q1","2019-01-31","Betérő ügyfelek",36,"fő","2019-02-01","matyas9",{"$f":"AND(E5420>=Kimutatás!B$2,E5420<=Kimutatás!B$3)","v":true}]
[5420,"Székesfehérvár","015","Q1","2019-01-31","Lakossági hitelnövekmény összege ",30,"Mhuf","2019-02-01","matyas9",{"$f":"AND(E5421>=Kimutatás!B$2,E5421<=Kimutatás!B$3)","v":true}]
[5421,"Székesfehérvár","015","Q1","2019-01-31","Lakossági számlanyitás",9,"db","2019-02-01","matyas9",{"$f":"AND(E5422>=Kimutatás!B$2,E5422<=Kimutatás!B$3)","v":true}]
[5422,"Székesfehérvár","015","Q1","2019-01-31","KKV hitelnövekmény (db)",-2,"db","2019-02-01","matyas9",{"$f":"AND(E5423>=Kimutatás!B$2,E5423<=Kimutatás!B$3)","v":true}]
[5423,"Székesfehérvár","015","Q1","2019-01-31","KKV számlanyitás",5,"db","2019-02-01","matyas9",{"$f":"AND(E5424>=Kimutatás!B$2,E5424<=Kimutatás!B$3)","v":true}]
[5424,"Székesfehérvár","015","Q1","2019-01-31","Betét állomány növekmény",-6,"Mhuf","2019-02-01","matyas9",{"$f":"AND(E5425>=Kimutatás!B$2,E5425<=Kimutatás!B$3)","v":true}]
[5425,"Székesfehérvár","015","Q1","2019-02-03","Betérő ügyfelek",37,"fő","2019-03-01","bubor12",{"$f":"AND(E5426>=Kimutatás!B$2,E5426<=Kimutatás!B$3)","v":true}]
[5426,"Székesfehérvár","015","Q1","2019-02-03","Lakossági hitelnövekmény összege ",10,"Mhuf","2019-03-01","bubor12",{"$f":"AND(E5427>=Kimutatás!B$2,E5427<=Kimutatás!B$3)","v":true}]
[5427,"Székesfehérvár","015","Q1","2019-02-03","Lakossági számlanyitás",-5,"db","2019-03-01","bubor12",{"$f":"AND(E5428>=Kimutatás!B$2,E5428<=Kimutatás!B$3)","v":true}]
[5428,"Székesfehérvár","015","Q1","2019-02-03","KKV hitelnövekmény (db)",0,"db","2019-03-01","bubor12",{"$f":"AND(E5429>=Kimutatás!B$2,E5429<=Kimutatás!B$3)","v":true}]
[5429,"Székesfehérvár","015","Q1","2019-02-03","KKV számlanyitás",-5,"db","2019-03-01","bubor12",{"$f":"AND(E5430>=Kimutatás!B$2,E5430<=Kimutatás!B$3)","v":true}]
[5430,"Székesfehérvár","015","Q1","2019-02-03","Betét állomány növekmény",-1,"Mhuf","2019-03-01","bubor12",{"$f":"AND(E5431>=Kimutatás!B$2,E5431<=Kimutatás!B$3)","v":true}]
[5431,"Székesfehérvár","015","Q1","2019-02-04","Betérő ügyfelek",19,"fő","2019-03-01","bubor12",{"$f":"AND(E5432>=Kimutatás!B$2,E5432<=Kimutatás!B$3)","v":true}]
[5432,"Székesfehérvár","015","Q1","2019-02-04","Lakossági hitelnövekmény összege ",13,"Mhuf","2019-03-01","bubor12",{"$f":"AND(E5433>=Kimutatás!B$2,E5433<=Kimutatás!B$3)","v":true}]
[5433,"Székesfehérvár","015","Q1","2019-02-04","Lakossági számlanyitás",0,"db","2019-03-01","bubor12",{"$f":"AND(E5434>=Kimutatás!B$2,E5434<=Kimutatás!B$3)","v":true}]
[5434,"Székesfehérvár","015","Q1","2019-02-04","KKV hitelnövekmény (db)",0,"db","2019-03-01","bubor12",{"$f":"AND(E5435>=Kimutatás!B$2,E5435<=Kimutatás!B$3)","v":true}]
[5435,"Székesfehérvár","015","Q1","2019-02-04","KKV számlanyitás",3,"db","2019-03-01","bubor12",{"$f":"AND(E5436>=Kimutatás!B$2,E5436<=Kimutatás!B$3)","v":true}]
[5436,"Székesfehérvár","015","Q1","2019-02-04","Betét állomány növekmény",-14,"Mhuf","2019-03-01","bubor12",{"$f":"AND(E5437>=Kimutatás!B$2,E5437<=Kimutatás!B$3)","v":true}]
[5437,"Székesfehérvár","015","Q1","2019-02-05","Betérő ügyfelek",45,"fő","2019-03-01","bubor12",{"$f":"AND(E5438>=Kimutatás!B$2,E5438<=Kimutatás!B$3)","v":true}]
[5438,"Székesfehérvár","015","Q1","2019-02-05","Lakossági hitelnövekmény összege ",13,"Mhuf","2019-03-01","bubor12",{"$f":"AND(E5439>=Kimutatás!B$2,E5439<=Kimutatás!B$3)","v":true}]
[5439,"Székesfehérvár","015","Q1","2019-02-05","Lakossági számlanyitás",-4,"db","2019-03-01","bubor12",{"$f":"AND(E5440>=Kimutatás!B$2,E5440<=Kimutatás!B$3)","v":true}]
[5440,"Székesfehérvár","015","Q1","2019-02-05","KKV hitelnövekmény (db)",-2,"db","2019-03-01","bubor12",{"$f":"AND(E5441>=Kimutatás!B$2,E5441<=Kimutatás!B$3)","v":true}]
[5441,"Székesfehérvár","015","Q1","2019-02-05","KKV számlanyitás",-2,"db","2019-03-01","bubor12",{"$f":"AND(E5442>=Kimutatás!B$2,E5442<=Kimutatás!B$3)","v":true}]
[5442,"Székesfehérvár","015","Q1","2019-02-05","Betét állomány növekmény",-1,"Mhuf","2019-03-01","bubor12",{"$f":"AND(E5443>=Kimutatás!B$2,E5443<=Kimutatás!B$3)","v":true}]
[5443,"Székesfehérvár","015","Q1","2019-02-06","Betérő ügyfelek",19,"fő","2019-03-01","bubor12",{"$f":"AND(E5444>=Kimutatás!B$2,E5444<=Kimutatás!B$3)","v":true}]
[5444,"Székesfehérvár","015","Q1","2019-02-06","Lakossági hitelnövekmény összege ",33,"Mhuf","2019-03-01","bubor12",{"$f":"AND(E5445>=Kimutatás!B$2,E5445<=Kimutatás!B$3)","v":true}]
[5445,"Székesfehérvár","015","Q1","2019-02-06","Lakossági számlanyitás",4,"db","2019-03-01","bubor12",{"$f":"AND(E5446>=Kimutatás!B$2,E5446<=Kimutatás!B$3)","v":true}]
[5446,"Székesfehérvár","015","Q1","2019-02-06","KKV hitelnövekmény (db)",0,"db","2019-03-01","bubor12",{"$f":"AND(E5447>=Kimutatás!B$2,E5447<=Kimutatás!B$3)","v":true}]
[5447,"Székesfehérvár","015","Q1","2019-02-06","KKV számlanyitás",5,"db","2019-03-01","bubor12",{"$f":"AND(E5448>=Kimutatás!B$2,E5448<=Kimutatás!B$3)","v":true}]
[5448,"Székesfehérvár","015","Q1","2019-02-06","Betét állomány növekmény",34,"Mhuf","2019-03-01","bubor12",{"$f":"AND(E5449>=Kimutatás!B$2,E5449<=Kimutatás!B$3)","v":true}]
[5449,"Székesfehérvár","015","Q1","2019-02-07","Betérő ügyfelek",15,"fő","2019-03-01","bubor12",{"$f":"AND(E5450>=Kimutatás!B$2,E5450<=Kimutatás!B$3)","v":true}]
[5450,"Székesfehérvár","015","Q1","2019-02-07","Lakossági hitelnövekmény összege ",41,"Mhuf","2019-03-01","bubor12",{"$f":"AND(E5451>=Kimutatás!B$2,E5451<=Kimutatás!B$3)","v":true}]
[5451,"Székesfehérvár","015","Q1","2019-02-07","Lakossági számlanyitás",10,"db","2019-03-01","bubor12",{"$f":"AND(E5452>=Kimutatás!B$2,E5452<=Kimutatás!B$3)","v":true}]
[5452,"Székesfehérvár","015","Q1","2019-02-07","KKV hitelnövekmény (db)",1,"db","2019-03-01","bubor12",{"$f":"AND(E5453>=Kimutatás!B$2,E5453<=Kimutatás!B$3)","v":true}]
[5453,"Székesfehérvár","015","Q1","2019-02-07","KKV számlanyitás",0,"db","2019-03-01","bubor12",{"$f":"AND(E5454>=Kimutatás!B$2,E5454<=Kimutatás!B$3)","v":true}]
[5454,"Székesfehérvár","015","Q1","2019-02-07","Betét állomány növekmény",46,"Mhuf","2019-03-01","bubor12",{"$f":"AND(E5455>=Kimutatás!B$2,E5455<=Kimutatás!B$3)","v":true}]
[5455,"Székesfehérvár","015","Q1","2019-02-10","Betérő ügyfelek",33,"fő","2019-03-01","bubor12",{"$f":"AND(E5456>=Kimutatás!B$2,E5456<=Kimutatás!B$3)","v":true}]
[5456,"Székesfehérvár","015","Q1","2019-02-10","Lakossági hitelnövekmény összege ",15,"Mhuf","2019-03-01","bubor12",{"$f":"AND(E5457>=Kimutatás!B$2,E5457<=Kimutatás!B$3)","v":true}]
[5457,"Székesfehérvár","015","Q1","2019-02-10","Lakossági számlanyitás",9,"db","2019-03-01","bubor12",{"$f":"AND(E5458>=Kimutatás!B$2,E5458<=Kimutatás!B$3)","v":true}]
[5458,"Székesfehérvár","015","Q1","2019-02-10","KKV hitelnövekmény (db)",1,"db","2019-03-01","bubor12",{"$f":"AND(E5459>=Kimutatás!B$2,E5459<=Kimutatás!B$3)","v":true}]
[5459,"Székesfehérvár","015","Q1","2019-02-10","KKV számlanyitás",3,"db","2019-03-01","bubor12",{"$f":"AND(E5460>=Kimutatás!B$2,E5460<=Kimutatás!B$3)","v":true}]
[5460,"Székesfehérvár","015","Q1","2019-02-10","Betét állomány növekmény",-6,"Mhuf","2019-03-01","bubor12",{"$f":"AND(E5461>=Kimutatás!B$2,E5461<=Kimutatás!B$3)","v":true}]
[5461,"Székesfehérvár","015","Q1","2019-02-11","Betérő ügyfelek",13,"fő","2019-03-01","bubor12",{"$f":"AND(E5462>=Kimutatás!B$2,E5462<=Kimutatás!B$3)","v":true}]
[5462,"Székesfehérvár","015","Q1","2019-02-11","Lakossági hitelnövekmény összege ",29,"Mhuf","2019-03-01","bubor12",{"$f":"AND(E5463>=Kimutatás!B$2,E5463<=Kimutatás!B$3)","v":true}]
[5463,"Székesfehérvár","015","Q1","2019-02-11","Lakossági számlanyitás",3,"db","2019-03-01","bubor12",{"$f":"AND(E5464>=Kimutatás!B$2,E5464<=Kimutatás!B$3)","v":true}]
[5464,"Székesfehérvár","015","Q1","2019-02-11","KKV hitelnövekmény (db)",-1,"db","2019-03-01","bubor12",{"$f":"AND(E5465>=Kimutatás!B$2,E5465<=Kimutatás!B$3)","v":true}]
[5465,"Székesfehérvár","015","Q1","2019-02-11","KKV számlanyitás",3,"db","2019-03-01","bubor12",{"$f":"AND(E5466>=Kimutatás!B$2,E5466<=Kimutatás!B$3)","v":true}]
[5466,"Székesfehérvár","015","Q1","2019-02-11","Betét állomány növekmény",-15,"Mhuf","2019-03-01","bubor12",{"$f":"AND(E5467>=Kimutatás!B$2,E5467<=Kimutatás!B$3)","v":true}]
[5467,"Székesfehérvár","015","Q1","2019-02-12","Betérő ügyfelek",39,"fő","2019-03-01","bubor12",{"$f":"AND(E5468>=Kimutatás!B$2,E5468<=Kimutatás!B$3)","v":true}]
[5468,"Székesfehérvár","015","Q1","2019-02-12","Lakossági hitelnövekmény összege ",44,"Mhuf","2019-03-01","bubor12",{"$f":"AND(E5469>=Kimutatás!B$2,E5469<=Kimutatás!B$3)","v":true}]
[5469,"Székesfehérvár","015","Q1","2019-02-12","Lakossági számlanyitás",1,"db","2019-03-01","bubor12",{"$f":"AND(E5470>=Kimutatás!B$2,E5470<=Kimutatás!B$3)","v":true}]
[5470,"Székesfehérvár","015","Q1","2019-02-12","KKV hitelnövekmény (db)",2,"db","2019-03-01","bubor12",{"$f":"AND(E5471>=Kimutatás!B$2,E5471<=Kimutatás!B$3)","v":true}]
[5471,"Székesfehérvár","015","Q1","2019-02-12","KKV számlanyitás",4,"db","2019-03-01","bubor12",{"$f":"AND(E5472>=Kimutatás!B$2,E5472<=Kimutatás!B$3)","v":true}]
[5472,"Székesfehérvár","015","Q1","2019-02-12","Betét állomány növekmény",-12,"Mhuf","2019-03-01","bubor12",{"$f":"AND(E5473>=Kimutatás!B$2,E5473<=Kimutatás!B$3)","v":true}]
[5473,"Székesfehérvár","015","Q1","2019-02-13","Betérő ügyfelek",30,"fő","2019-03-01","bubor12",{"$f":"AND(E5474>=Kimutatás!B$2,E5474<=Kimutatás!B$3)","v":true}]
[5474,"Székesfehérvár","015","Q1","2019-02-13","Lakossági hitelnövekmény összege ",50,"Mhuf","2019-03-01","bubor12",{"$f":"AND(E5475>=Kimutatás!B$2,E5475<=Kimutatás!B$3)","v":true}]
[5475,"Székesfehérvár","015","Q1","2019-02-13","Lakossági számlanyitás",9,"db","2019-03-01","bubor12",{"$f":"AND(E5476>=Kimutatás!B$2,E5476<=Kimutatás!B$3)","v":true}]
[5476,"Székesfehérvár","015","Q1","2019-02-13","KKV hitelnövekmény (db)",-2,"db","2019-03-01","bubor12",{"$f":"AND(E5477>=Kimutatás!B$2,E5477<=Kimutatás!B$3)","v":true}]
[5477,"Székesfehérvár","015","Q1","2019-02-13","KKV számlanyitás",-2,"db","2019-03-01","bubor12",{"$f":"AND(E5478>=Kimutatás!B$2,E5478<=Kimutatás!B$3)","v":true}]
[5478,"Székesfehérvár","015","Q1","2019-02-13","Betét állomány növekmény",34,"Mhuf","2019-03-01","bubor12",{"$f":"AND(E5479>=Kimutatás!B$2,E5479<=Kimutatás!B$3)","v":true}]
[5479,"Székesfehérvár","015","Q1","2019-02-14","Betérő ügyfelek",24,"fő","2019-03-01","bubor12",{"$f":"AND(E5480>=Kimutatás!B$2,E5480<=Kimutatás!B$3)","v":true}]
[5480,"Székesfehérvár","015","Q1","2019-02-14","Lakossági hitelnövekmény összege ",43,"Mhuf","2019-03-01","bubor12",{"$f":"AND(E5481>=Kimutatás!B$2,E5481<=Kimutatás!B$3)","v":true}]
[5481,"Székesfehérvár","015","Q1","2019-02-14","Lakossági számlanyitás",-4,"db","2019-03-01","bubor12",{"$f":"AND(E5482>=Kimutatás!B$2,E5482<=Kimutatás!B$3)","v":true}]
[5482,"Székesfehérvár","015","Q1","2019-02-14","KKV hitelnövekmény (db)",-1,"db","2019-03-01","bubor12",{"$f":"AND(E5483>=Kimutatás!B$2,E5483<=Kimutatás!B$3)","v":true}]
[5483,"Székesfehérvár","015","Q1","2019-02-14","KKV számlanyitás",-2,"db","2019-03-01","bubor12",{"$f":"AND(E5484>=Kimutatás!B$2,E5484<=Kimutatás!B$3)","v":true}]
[5484,"Székesfehérvár","015","Q1","2019-02-14","Betét állomány növekmény",20,"Mhuf","2019-03-01","bubor12",{"$f":"AND(E5485>=Kimutatás!B$2,E5485<=Kimutatás!B$3)","v":true}]
[5485,"Székesfehérvár","015","Q1","2019-02-17","Betérő ügyfelek",44,"fő","2019-03-01","bubor12",{"$f":"AND(E5486>=Kimutatás!B$2,E5486<=Kimutatás!B$3)","v":true}]
[5486,"Székesfehérvár","015","Q1","2019-02-17","Lakossági hitelnövekmény összege ",20,"Mhuf","2019-03-01","bubor12",{"$f":"AND(E5487>=Kimutatás!B$2,E5487<=Kimutatás!B$3)","v":true}]
[5487,"Székesfehérvár","015","Q1","2019-02-17","Lakossági számlanyitás",-3,"db","2019-03-01","bubor12",{"$f":"AND(E5488>=Kimutatás!B$2,E5488<=Kimutatás!B$3)","v":true}]
[5488,"Székesfehérvár","015","Q1","2019-02-17","KKV hitelnövekmény (db)",-2,"db","2019-03-01","bubor12",{"$f":"AND(E5489>=Kimutatás!B$2,E5489<=Kimutatás!B$3)","v":true}]
[5489,"Székesfehérvár","015","Q1","2019-02-17","KKV számlanyitás",-4,"db","2019-03-01","bubor12",{"$f":"AND(E5490>=Kimutatás!B$2,E5490<=Kimutatás!B$3)","v":true}]
[5490,"Székesfehérvár","015","Q1","2019-02-17","Betét állomány növekmény",-1,"Mhuf","2019-03-01","bubor12",{"$f":"AND(E5491>=Kimutatás!B$2,E5491<=Kimutatás!B$3)","v":true}]
[5491,"Székesfehérvár","015","Q1","2019-02-18","Betérő ügyfelek",13,"fő","2019-03-01","bubor12",{"$f":"AND(E5492>=Kimutatás!B$2,E5492<=Kimutatás!B$3)","v":true}]
[5492,"Székesfehérvár","015","Q1","2019-02-18","Lakossági hitelnövekmény összege ",21,"Mhuf","2019-03-01","bubor12",{"$f":"AND(E5493>=Kimutatás!B$2,E5493<=Kimutatás!B$3)","v":true}]
[5493,"Székesfehérvár","015","Q1","2019-02-18","Lakossági számlanyitás",-1,"db","2019-03-01","bubor12",{"$f":"AND(E5494>=Kimutatás!B$2,E5494<=Kimutatás!B$3)","v":true}]
[5494,"Székesfehérvár","015","Q1","2019-02-18","KKV hitelnövekmény (db)",0,"db","2019-03-01","bubor12",{"$f":"AND(E5495>=Kimutatás!B$2,E5495<=Kimutatás!B$3)","v":true}]
[5495,"Székesfehérvár","015","Q1","2019-02-18","KKV számlanyitás",-5,"db","2019-03-01","bubor12",{"$f":"AND(E5496>=Kimutatás!B$2,E5496<=Kimutatás!B$3)","v":true}]
[5496,"Székesfehérvár","015","Q1","2019-02-18","Betét állomány növekmény",30,"Mhuf","2019-03-01","bubor12",{"$f":"AND(E5497>=Kimutatás!B$2,E5497<=Kimutatás!B$3)","v":true}]
[5497,"Székesfehérvár","015","Q1","2019-02-19","Betérő ügyfelek",27,"fő","2019-03-01","bubor12",{"$f":"AND(E5498>=Kimutatás!B$2,E5498<=Kimutatás!B$3)","v":true}]
[5498,"Székesfehérvár","015","Q1","2019-02-19","Lakossági hitelnövekmény összege ",4,"Mhuf","2019-03-01","bubor12",{"$f":"AND(E5499>=Kimutatás!B$2,E5499<=Kimutatás!B$3)","v":true}]
[5499,"Székesfehérvár","015","Q1","2019-02-19","Lakossági számlanyitás",1,"db","2019-03-01","bubor12",{"$f":"AND(E5500>=Kimutatás!B$2,E5500<=Kimutatás!B$3)","v":true}]
[5500,"Székesfehérvár","015","Q1","2019-02-19","KKV hitelnövekmény (db)",1,"db","2019-03-01","bubor12",{"$f":"AND(E5501>=Kimutatás!B$2,E5501<=Kimutatás!B$3)","v":true}]
[5501,"Székesfehérvár","015","Q1","2019-02-19","KKV számlanyitás",-1,"db","2019-03-01","bubor12",{"$f":"AND(E5502>=Kimutatás!B$2,E5502<=Kimutatás!B$3)","v":true}]
[5502,"Székesfehérvár","015","Q1","2019-02-19","Betét állomány növekmény",47,"Mhuf","2019-03-01","bubor12",{"$f":"AND(E5503>=Kimutatás!B$2,E5503<=Kimutatás!B$3)","v":true}]
[5503,"Székesfehérvár","015","Q1","2019-02-20","Betérő ügyfelek",14,"fő","2019-03-01","bubor12",{"$f":"AND(E5504>=Kimutatás!B$2,E5504<=Kimutatás!B$3)","v":true}]
[5504,"Székesfehérvár","015","Q1","2019-02-20","Lakossági hitelnövekmény összege ",15,"Mhuf","2019-03-01","bubor12",{"$f":"AND(E5505>=Kimutatás!B$2,E5505<=Kimutatás!B$3)","v":true}]
[5505,"Székesfehérvár","015","Q1","2019-02-20","Lakossági számlanyitás",-3,"db","2019-03-01","bubor12",{"$f":"AND(E5506>=Kimutatás!B$2,E5506<=Kimutatás!B$3)","v":true}]
[5506,"Székesfehérvár","015","Q1","2019-02-20","KKV hitelnövekmény (db)",1,"db","2019-03-01","bubor12",{"$f":"AND(E5507>=Kimutatás!B$2,E5507<=Kimutatás!B$3)","v":true}]
[5507,"Székesfehérvár","015","Q1","2019-02-20","KKV számlanyitás",-2,"db","2019-03-01","bubor12",{"$f":"AND(E5508>=Kimutatás!B$2,E5508<=Kimutatás!B$3)","v":true}]
[5508,"Székesfehérvár","015","Q1","2019-02-20","Betét állomány növekmény",17,"Mhuf","2019-03-01","bubor12",{"$f":"AND(E5509>=Kimutatás!B$2,E5509<=Kimutatás!B$3)","v":true}]
[5509,"Székesfehérvár","015","Q1","2019-02-21","Betérő ügyfelek",27,"fő","2019-03-01","bubor12",{"$f":"AND(E5510>=Kimutatás!B$2,E5510<=Kimutatás!B$3)","v":true}]
[5510,"Székesfehérvár","015","Q1","2019-02-21","Lakossági hitelnövekmény összege ",22,"Mhuf","2019-03-01","bubor12",{"$f":"AND(E5511>=Kimutatás!B$2,E5511<=Kimutatás!B$3)","v":true}]
[5511,"Székesfehérvár","015","Q1","2019-02-21","Lakossági számlanyitás",1,"db","2019-03-01","bubor12",{"$f":"AND(E5512>=Kimutatás!B$2,E5512<=Kimutatás!B$3)","v":true}]
[5512,"Székesfehérvár","015","Q1","2019-02-21","KKV hitelnövekmény (db)",0,"db","2019-03-01","bubor12",{"$f":"AND(E5513>=Kimutatás!B$2,E5513<=Kimutatás!B$3)","v":true}]
[5513,"Székesfehérvár","015","Q1","2019-02-21","KKV számlanyitás",3,"db","2019-03-01","bubor12",{"$f":"AND(E5514>=Kimutatás!B$2,E5514<=Kimutatás!B$3)","v":true}]
[5514,"Székesfehérvár","015","Q1","2019-02-21","Betét állomány növekmény",34,"Mhuf","2019-03-01","bubor12",{"$f":"AND(E5515>=Kimutatás!B$2,E5515<=Kimutatás!B$3)","v":true}]
[5515,"Székesfehérvár","015","Q1","2019-02-24","Betérő ügyfelek",36,"fő","2019-03-01","bubor12",{"$f":"AND(E5516>=Kimutatás!B$2,E5516<=Kimutatás!B$3)","v":true}]
[5516,"Székesfehérvár","015","Q1","2019-02-24","Lakossági hitelnövekmény összege ",40,"Mhuf","2019-03-01","bubor12",{"$f":"AND(E5517>=Kimutatás!B$2,E5517<=Kimutatás!B$3)","v":true}]
[5517,"Székesfehérvár","015","Q1","2019-02-24","Lakossági számlanyitás",6,"db","2019-03-01","bubor12",{"$f":"AND(E5518>=Kimutatás!B$2,E5518<=Kimutatás!B$3)","v":true}]
[5518,"Székesfehérvár","015","Q1","2019-02-24","KKV hitelnövekmény (db)",0,"db","2019-03-01","bubor12",{"$f":"AND(E5519>=Kimutatás!B$2,E5519<=Kimutatás!B$3)","v":true}]
[5519,"Székesfehérvár","015","Q1","2019-02-24","KKV számlanyitás",0,"db","2019-03-01","bubor12",{"$f":"AND(E5520>=Kimutatás!B$2,E5520<=Kimutatás!B$3)","v":true}]
[5520,"Székesfehérvár","015","Q1","2019-02-24","Betét állomány növekmény",34,"Mhuf","2019-03-01","bubor12",{"$f":"AND(E5521>=Kimutatás!B$2,E5521<=Kimutatás!B$3)","v":true}]
[5521,"Székesfehérvár","015","Q1","2019-02-25","Betérő ügyfelek",42,"fő","2019-03-01","bubor12",{"$f":"AND(E5522>=Kimutatás!B$2,E5522<=Kimutatás!B$3)","v":true}]
[5522,"Székesfehérvár","015","Q1","2019-02-25","Lakossági hitelnövekmény összege ",26,"Mhuf","2019-03-01","bubor12",{"$f":"AND(E5523>=Kimutatás!B$2,E5523<=Kimutatás!B$3)","v":true}]
[5523,"Székesfehérvár","015","Q1","2019-02-25","Lakossági számlanyitás",4,"db","2019-03-01","bubor12",{"$f":"AND(E5524>=Kimutatás!B$2,E5524<=Kimutatás!B$3)","v":true}]
[5524,"Székesfehérvár","015","Q1","2019-02-25","KKV hitelnövekmény (db)",1,"db","2019-03-01","bubor12",{"$f":"AND(E5525>=Kimutatás!B$2,E5525<=Kimutatás!B$3)","v":true}]
[5525,"Székesfehérvár","015","Q1","2019-02-25","KKV számlanyitás",-3,"db","2019-03-01","bubor12",{"$f":"AND(E5526>=Kimutatás!B$2,E5526<=Kimutatás!B$3)","v":true}]
[5526,"Székesfehérvár","015","Q1","2019-02-25","Betét állomány növekmény",22,"Mhuf","2019-03-01","bubor12",{"$f":"AND(E5527>=Kimutatás!B$2,E5527<=Kimutatás!B$3)","v":true}]
[5527,"Székesfehérvár","015","Q1","2019-02-26","Betérő ügyfelek",8,"fő","2019-03-01","bubor12",{"$f":"AND(E5528>=Kimutatás!B$2,E5528<=Kimutatás!B$3)","v":true}]
[5528,"Székesfehérvár","015","Q1","2019-02-26","Lakossági hitelnövekmény összege ",1,"Mhuf","2019-03-01","bubor12",{"$f":"AND(E5529>=Kimutatás!B$2,E5529<=Kimutatás!B$3)","v":true}]
[5529,"Székesfehérvár","015","Q1","2019-02-26","Lakossági számlanyitás",1,"db","2019-03-01","bubor12",{"$f":"AND(E5530>=Kimutatás!B$2,E5530<=Kimutatás!B$3)","v":true}]
[5530,"Székesfehérvár","015","Q1","2019-02-26","KKV hitelnövekmény (db)",2,"db","2019-03-01","bubor12",{"$f":"AND(E5531>=Kimutatás!B$2,E5531<=Kimutatás!B$3)","v":true}]
[5531,"Székesfehérvár","015","Q1","2019-02-26","KKV számlanyitás",-2,"db","2019-03-01","bubor12",{"$f":"AND(E5532>=Kimutatás!B$2,E5532<=Kimutatás!B$3)","v":true}]
[5532,"Székesfehérvár","015","Q1","2019-02-26","Betét állomány növekmény",0,"Mhuf","2019-03-01","bubor12",{"$f":"AND(E5533>=Kimutatás!B$2,E5533<=Kimutatás!B$3)","v":true}]
[5533,"Székesfehérvár","015","Q1","2019-02-27","Betérő ügyfelek",13,"fő","2019-03-01","bubor12",{"$f":"AND(E5534>=Kimutatás!B$2,E5534<=Kimutatás!B$3)","v":true}]
[5534,"Székesfehérvár","015","Q1","2019-02-27","Lakossági hitelnövekmény összege ",10,"Mhuf","2019-03-01","bubor12",{"$f":"AND(E5535>=Kimutatás!B$2,E5535<=Kimutatás!B$3)","v":true}]
[5535,"Székesfehérvár","015","Q1","2019-02-27","Lakossági számlanyitás",-3,"db","2019-03-01","bubor12",{"$f":"AND(E5536>=Kimutatás!B$2,E5536<=Kimutatás!B$3)","v":true}]
[5536,"Székesfehérvár","015","Q1","2019-02-27","KKV hitelnövekmény (db)",-1,"db","2019-03-01","bubor12",{"$f":"AND(E5537>=Kimutatás!B$2,E5537<=Kimutatás!B$3)","v":true}]
[5537,"Székesfehérvár","015","Q1","2019-02-27","KKV számlanyitás",-1,"db","2019-03-01","bubor12",{"$f":"AND(E5538>=Kimutatás!B$2,E5538<=Kimutatás!B$3)","v":true}]
[5538,"Székesfehérvár","015","Q1","2019-02-27","Betét állomány növekmény",0,"Mhuf","2019-03-01","bubor12",{"$f":"AND(E5539>=Kimutatás!B$2,E5539<=Kimutatás!B$3)","v":true}]
[5539,"Székesfehérvár","015","Q1","2019-02-28","Betérő ügyfelek",49,"fő","2019-03-01","bubor12",{"$f":"AND(E5540>=Kimutatás!B$2,E5540<=Kimutatás!B$3)","v":true}]
[5540,"Székesfehérvár","015","Q1","2019-02-28","Lakossági hitelnövekmény összege ",41,"Mhuf","2019-03-01","bubor12",{"$f":"AND(E5541>=Kimutatás!B$2,E5541<=Kimutatás!B$3)","v":true}]
[5541,"Székesfehérvár","015","Q1","2019-02-28","Lakossági számlanyitás",-5,"db","2019-03-01","bubor12",{"$f":"AND(E5542>=Kimutatás!B$2,E5542<=Kimutatás!B$3)","v":true}]
[5542,"Székesfehérvár","015","Q1","2019-02-28","KKV hitelnövekmény (db)",2,"db","2019-03-01","bubor12",{"$f":"AND(E5543>=Kimutatás!B$2,E5543<=Kimutatás!B$3)","v":true}]
[5543,"Székesfehérvár","015","Q1","2019-02-28","KKV számlanyitás",-3,"db","2019-03-01","bubor12",{"$f":"AND(E5544>=Kimutatás!B$2,E5544<=Kimutatás!B$3)","v":true}]
[5544,"Székesfehérvár","015","Q1","2019-02-28","Betét állomány növekmény",11,"Mhuf","2019-03-01","bubor12",{"$f":"AND(E5545>=Kimutatás!B$2,E5545<=Kimutatás!B$3)","v":true}]
[5545,"Székesfehérvár","015","Q1","2019-03-03","Betérő ügyfelek",33,"fő","2019-04-01","hunyor",{"$f":"AND(E5546>=Kimutatás!B$2,E5546<=Kimutatás!B$3)","v":true}]
[5546,"Székesfehérvár","015","Q1","2019-03-03","Lakossági hitelnövekmény összege ",2,"Mhuf","2019-04-01","hunyor",{"$f":"AND(E5547>=Kimutatás!B$2,E5547<=Kimutatás!B$3)","v":true}]
[5547,"Székesfehérvár","015","Q1","2019-03-03","Lakossági számlanyitás",8,"db","2019-04-01","hunyor",{"$f":"AND(E5548>=Kimutatás!B$2,E5548<=Kimutatás!B$3)","v":true}]
[5548,"Székesfehérvár","015","Q1","2019-03-03","KKV hitelnövekmény (db)",-1,"db","2019-04-01","hunyor",{"$f":"AND(E5549>=Kimutatás!B$2,E5549<=Kimutatás!B$3)","v":true}]
[5549,"Székesfehérvár","015","Q1","2019-03-03","KKV számlanyitás",1,"db","2019-04-01","hunyor",{"$f":"AND(E5550>=Kimutatás!B$2,E5550<=Kimutatás!B$3)","v":true}]
[5550,"Székesfehérvár","015","Q1","2019-03-03","Betét állomány növekmény",6,"Mhuf","2019-04-01","hunyor",{"$f":"AND(E5551>=Kimutatás!B$2,E5551<=Kimutatás!B$3)","v":true}]
[5551,"Székesfehérvár","015","Q1","2019-03-04","Betérő ügyfelek",23,"fő","2019-04-01","hunyor",{"$f":"AND(E5552>=Kimutatás!B$2,E5552<=Kimutatás!B$3)","v":true}]
[5552,"Székesfehérvár","015","Q1","2019-03-04","Lakossági hitelnövekmény összege ",-2,"Mhuf","2019-04-01","hunyor",{"$f":"AND(E5553>=Kimutatás!B$2,E5553<=Kimutatás!B$3)","v":true}]
[5553,"Székesfehérvár","015","Q1","2019-03-04","Lakossági számlanyitás",7,"db","2019-04-01","hunyor",{"$f":"AND(E5554>=Kimutatás!B$2,E5554<=Kimutatás!B$3)","v":true}]
[5554,"Székesfehérvár","015","Q1","2019-03-04","KKV hitelnövekmény (db)",-1,"db","2019-04-01","hunyor",{"$f":"AND(E5555>=Kimutatás!B$2,E5555<=Kimutatás!B$3)","v":true}]
[5555,"Székesfehérvár","015","Q1","2019-03-04","KKV számlanyitás",0,"db","2019-04-01","hunyor",{"$f":"AND(E5556>=Kimutatás!B$2,E5556<=Kimutatás!B$3)","v":true}]
[5556,"Székesfehérvár","015","Q1","2019-03-04","Betét állomány növekmény",22,"Mhuf","2019-04-01","hunyor",{"$f":"AND(E5557>=Kimutatás!B$2,E5557<=Kimutatás!B$3)","v":true}]
[5557,"Székesfehérvár","015","Q1","2019-03-05","Betérő ügyfelek",12,"fő","2019-04-01","hunyor",{"$f":"AND(E5558>=Kimutatás!B$2,E5558<=Kimutatás!B$3)","v":true}]
[5558,"Székesfehérvár","015","Q1","2019-03-05","Lakossági hitelnövekmény összege ",5,"Mhuf","2019-04-01","hunyor",{"$f":"AND(E5559>=Kimutatás!B$2,E5559<=Kimutatás!B$3)","v":true}]
[5559,"Székesfehérvár","015","Q1","2019-03-05","Lakossági számlanyitás",1,"db","2019-04-01","hunyor",{"$f":"AND(E5560>=Kimutatás!B$2,E5560<=Kimutatás!B$3)","v":true}]
[5560,"Székesfehérvár","015","Q1","2019-03-05","KKV hitelnövekmény (db)",-2,"db","2019-04-01","hunyor",{"$f":"AND(E5561>=Kimutatás!B$2,E5561<=Kimutatás!B$3)","v":true}]
[5561,"Székesfehérvár","015","Q1","2019-03-05","KKV számlanyitás",4,"db","2019-04-01","hunyor",{"$f":"AND(E5562>=Kimutatás!B$2,E5562<=Kimutatás!B$3)","v":true}]
[5562,"Székesfehérvár","015","Q1","2019-03-05","Betét állomány növekmény",2,"Mhuf","2019-04-01","hunyor",{"$f":"AND(E5563>=Kimutatás!B$2,E5563<=Kimutatás!B$3)","v":true}]
[5563,"Székesfehérvár","015","Q1","2019-03-06","Betérő ügyfelek",29,"fő","2019-04-01","hunyor",{"$f":"AND(E5564>=Kimutatás!B$2,E5564<=Kimutatás!B$3)","v":true}]
[5564,"Székesfehérvár","015","Q1","2019-03-06","Lakossági hitelnövekmény összege ",5,"Mhuf","2019-04-01","hunyor",{"$f":"AND(E5565>=Kimutatás!B$2,E5565<=Kimutatás!B$3)","v":true}]
[5565,"Székesfehérvár","015","Q1","2019-03-06","Lakossági számlanyitás",-3,"db","2019-04-01","hunyor",{"$f":"AND(E5566>=Kimutatás!B$2,E5566<=Kimutatás!B$3)","v":true}]
[5566,"Székesfehérvár","015","Q1","2019-03-06","KKV hitelnövekmény (db)",2,"db","2019-04-01","hunyor",{"$f":"AND(E5567>=Kimutatás!B$2,E5567<=Kimutatás!B$3)","v":true}]
[5567,"Székesfehérvár","015","Q1","2019-03-06","KKV számlanyitás",3,"db","2019-04-01","hunyor",{"$f":"AND(E5568>=Kimutatás!B$2,E5568<=Kimutatás!B$3)","v":true}]
[5568,"Székesfehérvár","015","Q1","2019-03-06","Betét állomány növekmény",14,"Mhuf","2019-04-01","hunyor",{"$f":"AND(E5569>=Kimutatás!B$2,E5569<=Kimutatás!B$3)","v":true}]
[5569,"Székesfehérvár","015","Q1","2019-03-07","Betérő ügyfelek",8,"fő","2019-04-01","hunyor",{"$f":"AND(E5570>=Kimutatás!B$2,E5570<=Kimutatás!B$3)","v":true}]
[5570,"Székesfehérvár","015","Q1","2019-03-07","Lakossági hitelnövekmény összege ",1,"Mhuf","2019-04-01","hunyor",{"$f":"AND(E5571>=Kimutatás!B$2,E5571<=Kimutatás!B$3)","v":true}]
[5571,"Székesfehérvár","015","Q1","2019-03-07","Lakossági számlanyitás",-3,"db","2019-04-01","hunyor",{"$f":"AND(E5572>=Kimutatás!B$2,E5572<=Kimutatás!B$3)","v":true}]
[5572,"Székesfehérvár","015","Q1","2019-03-07","KKV hitelnövekmény (db)",-1,"db","2019-04-01","hunyor",{"$f":"AND(E5573>=Kimutatás!B$2,E5573<=Kimutatás!B$3)","v":true}]
[5573,"Székesfehérvár","015","Q1","2019-03-07","KKV számlanyitás",3,"db","2019-04-01","hunyor",{"$f":"AND(E5574>=Kimutatás!B$2,E5574<=Kimutatás!B$3)","v":true}]
[5574,"Székesfehérvár","015","Q1","2019-03-07","Betét állomány növekmény",26,"Mhuf","2019-04-01","hunyor",{"$f":"AND(E5575>=Kimutatás!B$2,E5575<=Kimutatás!B$3)","v":true}]
[5575,"Székesfehérvár","015","Q1","2019-03-10","Betérő ügyfelek",4,"fő","2019-04-01","hunyor",{"$f":"AND(E5576>=Kimutatás!B$2,E5576<=Kimutatás!B$3)","v":true}]
[5576,"Székesfehérvár","015","Q1","2019-03-10","Lakossági hitelnövekmény összege ",49,"Mhuf","2019-04-01","hunyor",{"$f":"AND(E5577>=Kimutatás!B$2,E5577<=Kimutatás!B$3)","v":true}]
[5577,"Székesfehérvár","015","Q1","2019-03-10","Lakossági számlanyitás",4,"db","2019-04-01","hunyor",{"$f":"AND(E5578>=Kimutatás!B$2,E5578<=Kimutatás!B$3)","v":true}]
[5578,"Székesfehérvár","015","Q1","2019-03-10","KKV hitelnövekmény (db)",0,"db","2019-04-01","hunyor",{"$f":"AND(E5579>=Kimutatás!B$2,E5579<=Kimutatás!B$3)","v":true}]
[5579,"Székesfehérvár","015","Q1","2019-03-10","KKV számlanyitás",1,"db","2019-04-01","hunyor",{"$f":"AND(E5580>=Kimutatás!B$2,E5580<=Kimutatás!B$3)","v":true}]
[5580,"Székesfehérvár","015","Q1","2019-03-10","Betét állomány növekmény",46,"Mhuf","2019-04-01","hunyor",{"$f":"AND(E5581>=Kimutatás!B$2,E5581<=Kimutatás!B$3)","v":true}]
[5581,"Székesfehérvár","015","Q1","2019-03-11","Betérő ügyfelek",9,"fő","2019-04-01","hunyor",{"$f":"AND(E5582>=Kimutatás!B$2,E5582<=Kimutatás!B$3)","v":false}]
[5582,"Székesfehérvár","015","Q1","2019-03-11","Lakossági hitelnövekmény összege ",15,"Mhuf","2019-04-01","hunyor",{"$f":"AND(E5583>=Kimutatás!B$2,E5583<=Kimutatás!B$3)","v":false}]
[5583,"Székesfehérvár","015","Q1","2019-03-11","Lakossági számlanyitás",10,"db","2019-04-01","hunyor",{"$f":"AND(E5584>=Kimutatás!B$2,E5584<=Kimutatás!B$3)","v":false}]
[5584,"Székesfehérvár","015","Q1","2019-03-11","KKV hitelnövekmény (db)",1,"db","2019-04-01","hunyor",{"$f":"AND(E5585>=Kimutatás!B$2,E5585<=Kimutatás!B$3)","v":false}]
[5585,"Székesfehérvár","015","Q1","2019-03-11","KKV számlanyitás",-3,"db","2019-04-01","hunyor",{"$f":"AND(E5586>=Kimutatás!B$2,E5586<=Kimutatás!B$3)","v":false}]
[5586,"Székesfehérvár","015","Q1","2019-03-11","Betét állomány növekmény",34,"Mhuf","2019-04-01","hunyor",{"$f":"AND(E5587>=Kimutatás!B$2,E5587<=Kimutatás!B$3)","v":false}]
[5587,"Székesfehérvár","015","Q1","2019-03-12","Betérő ügyfelek",39,"fő","2019-04-01","hunyor",{"$f":"AND(E5588>=Kimutatás!B$2,E5588<=Kimutatás!B$3)","v":false}]
[5588,"Székesfehérvár","015","Q1","2019-03-12","Lakossági hitelnövekmény összege ",41,"Mhuf","2019-04-01","hunyor",{"$f":"AND(E5589>=Kimutatás!B$2,E5589<=Kimutatás!B$3)","v":false}]
[5589,"Székesfehérvár","015","Q1","2019-03-12","Lakossági számlanyitás",7,"db","2019-04-01","hunyor",{"$f":"AND(E5590>=Kimutatás!B$2,E5590<=Kimutatás!B$3)","v":false}]
[5590,"Székesfehérvár","015","Q1","2019-03-12","KKV hitelnövekmény (db)",0,"db","2019-04-01","hunyor",{"$f":"AND(E5591>=Kimutatás!B$2,E5591<=Kimutatás!B$3)","v":false}]
[5591,"Székesfehérvár","015","Q1","2019-03-12","KKV számlanyitás",3,"db","2019-04-01","hunyor",{"$f":"AND(E5592>=Kimutatás!B$2,E5592<=Kimutatás!B$3)","v":false}]
[5592,"Székesfehérvár","015","Q1","2019-03-12","Betét állomány növekmény",17,"Mhuf","2019-04-01","hunyor",{"$f":"AND(E5593>=Kimutatás!B$2,E5593<=Kimutatás!B$3)","v":false}]
[5593,"Székesfehérvár","015","Q1","2019-03-13","Betérő ügyfelek",43,"fő","2019-04-01","hunyor",{"$f":"AND(E5594>=Kimutatás!B$2,E5594<=Kimutatás!B$3)","v":false}]
[5594,"Székesfehérvár","015","Q1","2019-03-13","Lakossági hitelnövekmény összege ",5,"Mhuf","2019-04-01","hunyor",{"$f":"AND(E5595>=Kimutatás!B$2,E5595<=Kimutatás!B$3)","v":false}]
[5595,"Székesfehérvár","015","Q1","2019-03-13","Lakossági számlanyitás",2,"db","2019-04-01","hunyor",{"$f":"AND(E5596>=Kimutatás!B$2,E5596<=Kimutatás!B$3)","v":false}]
[5596,"Székesfehérvár","015","Q1","2019-03-13","KKV hitelnövekmény (db)",2,"db","2019-04-01","hunyor",{"$f":"AND(E5597>=Kimutatás!B$2,E5597<=Kimutatás!B$3)","v":false}]
[5597,"Székesfehérvár","015","Q1","2019-03-13","KKV számlanyitás",3,"db","2019-04-01","hunyor",{"$f":"AND(E5598>=Kimutatás!B$2,E5598<=Kimutatás!B$3)","v":false}]
[5598,"Székesfehérvár","015","Q1","2019-03-13","Betét állomány növekmény",17,"Mhuf","2019-04-01","hunyor",{"$f":"AND(E5599>=Kimutatás!B$2,E5599<=Kimutatás!B$3)","v":false}]
[5599,"Székesfehérvár","015","Q1","2019-03-14","Betérő ügyfelek",40,"fő","2019-04-01","hunyor",{"$f":"AND(E5600>=Kimutatás!B$2,E5600<=Kimutatás!B$3)","v":false}]
[5600,"Székesfehérvár","015","Q1","2019-03-14","Lakossági hitelnövekmény összege ",12,"Mhuf","2019-04-01","hunyor",{"$f":"AND(E5601>=Kimutatás!B$2,E5601<=Kimutatás!B$3)","v":false}]
[5601,"Székesfehérvár","015","Q1","2019-03-14","Lakossági számlanyitás",8,"db","2019-04-01","hunyor",{"$f":"AND(E5602>=Kimutatás!B$2,E5602<=Kimutatás!B$3)","v":false}]
[5602,"Székesfehérvár","015","Q1","2019-03-14","KKV hitelnövekmény (db)",-2,"db","2019-04-01","hunyor",{"$f":"AND(E5603>=Kimutatás!B$2,E5603<=Kimutatás!B$3)","v":false}]
[5603,"Székesfehérvár","015","Q1","2019-03-14","KKV számlanyitás",5,"db","2019-04-01","hunyor",{"$f":"AND(E5604>=Kimutatás!B$2,E5604<=Kimutatás!B$3)","v":false}]
[5604,"Székesfehérvár","015","Q1","2019-03-14","Betét állomány növekmény",-19,"Mhuf","2019-04-01","hunyor",{"$f":"AND(E5605>=Kimutatás!B$2,E5605<=Kimutatás!B$3)","v":false}]
[5605,"Székesfehérvár","015","Q1","2019-03-17","Betérő ügyfelek",37,"fő","2019-04-01","hunyor",{"$f":"AND(E5606>=Kimutatás!B$2,E5606<=Kimutatás!B$3)","v":false}]
[5606,"Székesfehérvár","015","Q1","2019-03-17","Lakossági hitelnövekmény összege ",46,"Mhuf","2019-04-01","hunyor",{"$f":"AND(E5607>=Kimutatás!B$2,E5607<=Kimutatás!B$3)","v":false}]
[5607,"Székesfehérvár","015","Q1","2019-03-17","Lakossági számlanyitás",8,"db","2019-04-01","hunyor",{"$f":"AND(E5608>=Kimutatás!B$2,E5608<=Kimutatás!B$3)","v":false}]
[5608,"Székesfehérvár","015","Q1","2019-03-17","KKV hitelnövekmény (db)",-1,"db","2019-04-01","hunyor",{"$f":"AND(E5609>=Kimutatás!B$2,E5609<=Kimutatás!B$3)","v":false}]
[5609,"Székesfehérvár","015","Q1","2019-03-17","KKV számlanyitás",-1,"db","2019-04-01","hunyor",{"$f":"AND(E5610>=Kimutatás!B$2,E5610<=Kimutatás!B$3)","v":false}]
[5610,"Székesfehérvár","015","Q1","2019-03-17","Betét állomány növekmény",21,"Mhuf","2019-04-01","hunyor",{"$f":"AND(E5611>=Kimutatás!B$2,E5611<=Kimutatás!B$3)","v":false}]
[5611,"Székesfehérvár","015","Q1","2019-03-18","Betérő ügyfelek",8,"fő","2019-04-01","hunyor",{"$f":"AND(E5612>=Kimutatás!B$2,E5612<=Kimutatás!B$3)","v":false}]
[5612,"Székesfehérvár","015","Q1","2019-03-18","Lakossági hitelnövekmény összege ",-2,"Mhuf","2019-04-01","hunyor",{"$f":"AND(E5613>=Kimutatás!B$2,E5613<=Kimutatás!B$3)","v":false}]
[5613,"Székesfehérvár","015","Q1","2019-03-18","Lakossági számlanyitás",-5,"db","2019-04-01","hunyor",{"$f":"AND(E5614>=Kimutatás!B$2,E5614<=Kimutatás!B$3)","v":false}]
[5614,"Székesfehérvár","015","Q1","2019-03-18","KKV hitelnövekmény (db)",2,"db","2019-04-01","hunyor",{"$f":"AND(E5615>=Kimutatás!B$2,E5615<=Kimutatás!B$3)","v":false}]
[5615,"Székesfehérvár","015","Q1","2019-03-18","KKV számlanyitás",-5,"db","2019-04-01","hunyor",{"$f":"AND(E5616>=Kimutatás!B$2,E5616<=Kimutatás!B$3)","v":false}]
[5616,"Székesfehérvár","015","Q1","2019-03-18","Betét állomány növekmény",43,"Mhuf","2019-04-01","hunyor",{"$f":"AND(E5617>=Kimutatás!B$2,E5617<=Kimutatás!B$3)","v":false}]
[5617,"Székesfehérvár","015","Q1","2019-03-19","Betérő ügyfelek",47,"fő","2019-04-01","hunyor",{"$f":"AND(E5618>=Kimutatás!B$2,E5618<=Kimutatás!B$3)","v":false}]
[5618,"Székesfehérvár","015","Q1","2019-03-19","Lakossági hitelnövekmény összege ",11,"Mhuf","2019-04-01","hunyor",{"$f":"AND(E5619>=Kimutatás!B$2,E5619<=Kimutatás!B$3)","v":false}]
[5619,"Székesfehérvár","015","Q1","2019-03-19","Lakossági számlanyitás",4,"db","2019-04-01","hunyor",{"$f":"AND(E5620>=Kimutatás!B$2,E5620<=Kimutatás!B$3)","v":false}]
[5620,"Székesfehérvár","015","Q1","2019-03-19","KKV hitelnövekmény (db)",2,"db","2019-04-01","hunyor",{"$f":"AND(E5621>=Kimutatás!B$2,E5621<=Kimutatás!B$3)","v":false}]
[5621,"Székesfehérvár","015","Q1","2019-03-19","KKV számlanyitás",3,"db","2019-04-01","hunyor",{"$f":"AND(E5622>=Kimutatás!B$2,E5622<=Kimutatás!B$3)","v":false}]
[5622,"Székesfehérvár","015","Q1","2019-03-19","Betét állomány növekmény",3,"Mhuf","2019-04-01","hunyor",{"$f":"AND(E5623>=Kimutatás!B$2,E5623<=Kimutatás!B$3)","v":false}]
[5623,"Székesfehérvár","015","Q1","2019-03-20","Betérő ügyfelek",28,"fő","2019-04-01","hunyor",{"$f":"AND(E5624>=Kimutatás!B$2,E5624<=Kimutatás!B$3)","v":false}]
[5624,"Székesfehérvár","015","Q1","2019-03-20","Lakossági hitelnövekmény összege ",42,"Mhuf","2019-04-01","hunyor",{"$f":"AND(E5625>=Kimutatás!B$2,E5625<=Kimutatás!B$3)","v":false}]
[5625,"Székesfehérvár","015","Q1","2019-03-20","Lakossági számlanyitás",6,"db","2019-04-01","hunyor",{"$f":"AND(E5626>=Kimutatás!B$2,E5626<=Kimutatás!B$3)","v":false}]
[5626,"Székesfehérvár","015","Q1","2019-03-20","KKV hitelnövekmény (db)",-2,"db","2019-04-01","hunyor",{"$f":"AND(E5627>=Kimutatás!B$2,E5627<=Kimutatás!B$3)","v":false}]
[5627,"Székesfehérvár","015","Q1","2019-03-20","KKV számlanyitás",3,"db","2019-04-01","hunyor",{"$f":"AND(E5628>=Kimutatás!B$2,E5628<=Kimutatás!B$3)","v":false}]
[5628,"Székesfehérvár","015","Q1","2019-03-20","Betét állomány növekmény",33,"Mhuf","2019-04-01","hunyor",{"$f":"AND(E5629>=Kimutatás!B$2,E5629<=Kimutatás!B$3)","v":false}]
[5629,"Székesfehérvár","015","Q1","2019-03-21","Betérő ügyfelek",40,"fő","2019-04-01","hunyor",{"$f":"AND(E5630>=Kimutatás!B$2,E5630<=Kimutatás!B$3)","v":false}]
[5630,"Székesfehérvár","015","Q1","2019-03-21","Lakossági hitelnövekmény összege ",-1,"Mhuf","2019-04-01","hunyor",{"$f":"AND(E5631>=Kimutatás!B$2,E5631<=Kimutatás!B$3)","v":false}]
[5631,"Székesfehérvár","015","Q1","2019-03-21","Lakossági számlanyitás",-2,"db","2019-04-01","hunyor",{"$f":"AND(E5632>=Kimutatás!B$2,E5632<=Kimutatás!B$3)","v":false}]
[5632,"Székesfehérvár","015","Q1","2019-03-21","KKV hitelnövekmény (db)",0,"db","2019-04-01","hunyor",{"$f":"AND(E5633>=Kimutatás!B$2,E5633<=Kimutatás!B$3)","v":false}]
[5633,"Székesfehérvár","015","Q1","2019-03-21","KKV számlanyitás",0,"db","2019-04-01","hunyor",{"$f":"AND(E5634>=Kimutatás!B$2,E5634<=Kimutatás!B$3)","v":false}]
[5634,"Székesfehérvár","015","Q1","2019-03-21","Betét állomány növekmény",-14,"Mhuf","2019-04-01","hunyor",{"$f":"AND(E5635>=Kimutatás!B$2,E5635<=Kimutatás!B$3)","v":false}]
[5635,"Székesfehérvár","015","Q1","2019-03-24","Betérő ügyfelek",14,"fő","2019-04-01","hunyor",{"$f":"AND(E5636>=Kimutatás!B$2,E5636<=Kimutatás!B$3)","v":false}]
[5636,"Székesfehérvár","015","Q1","2019-03-24","Lakossági hitelnövekmény összege ",29,"Mhuf","2019-04-01","hunyor",{"$f":"AND(E5637>=Kimutatás!B$2,E5637<=Kimutatás!B$3)","v":false}]
[5637,"Székesfehérvár","015","Q1","2019-03-24","Lakossági számlanyitás",-3,"db","2019-04-01","hunyor",{"$f":"AND(E5638>=Kimutatás!B$2,E5638<=Kimutatás!B$3)","v":false}]
[5638,"Székesfehérvár","015","Q1","2019-03-24","KKV hitelnövekmény (db)",2,"db","2019-04-01","hunyor",{"$f":"AND(E5639>=Kimutatás!B$2,E5639<=Kimutatás!B$3)","v":false}]
[5639,"Székesfehérvár","015","Q1","2019-03-24","KKV számlanyitás",-1,"db","2019-04-01","hunyor",{"$f":"AND(E5640>=Kimutatás!B$2,E5640<=Kimutatás!B$3)","v":false}]
[5640,"Székesfehérvár","015","Q1","2019-03-24","Betét állomány növekmény",16,"Mhuf","2019-04-01","hunyor",{"$f":"AND(E5641>=Kimutatás!B$2,E5641<=Kimutatás!B$3)","v":false}]
[5641,"Székesfehérvár","015","Q1","2019-03-25","Betérő ügyfelek",29,"fő","2019-04-01","hunyor",{"$f":"AND(E5642>=Kimutatás!B$2,E5642<=Kimutatás!B$3)","v":false}]
[5642,"Székesfehérvár","015","Q1","2019-03-25","Lakossági hitelnövekmény összege ",30,"Mhuf","2019-04-01","hunyor",{"$f":"AND(E5643>=Kimutatás!B$2,E5643<=Kimutatás!B$3)","v":false}]
[5643,"Székesfehérvár","015","Q1","2019-03-25","Lakossági számlanyitás",6,"db","2019-04-01","hunyor",{"$f":"AND(E5644>=Kimutatás!B$2,E5644<=Kimutatás!B$3)","v":false}]
[5644,"Székesfehérvár","015","Q1","2019-03-25","KKV hitelnövekmény (db)",-2,"db","2019-04-01","hunyor",{"$f":"AND(E5645>=Kimutatás!B$2,E5645<=Kimutatás!B$3)","v":false}]
[5645,"Székesfehérvár","015","Q1","2019-03-25","KKV számlanyitás",0,"db","2019-04-01","hunyor",{"$f":"AND(E5646>=Kimutatás!B$2,E5646<=Kimutatás!B$3)","v":false}]
[5646,"Székesfehérvár","015","Q1","2019-03-25","Betét állomány növekmény",26,"Mhuf","2019-04-01","hunyor",{"$f":"AND(E5647>=Kimutatás!B$2,E5647<=Kimutatás!B$3)","v":false}]
[5647,"Székesfehérvár","015","Q1","2019-03-26","Betérő ügyfelek",37,"fő","2019-04-01","hunyor",{"$f":"AND(E5648>=Kimutatás!B$2,E5648<=Kimutatás!B$3)","v":false}]
[5648,"Székesfehérvár","015","Q1","2019-03-26","Lakossági hitelnövekmény összege ",44,"Mhuf","2019-04-01","hunyor",{"$f":"AND(E5649>=Kimutatás!B$2,E5649<=Kimutatás!B$3)","v":false}]
[5649,"Székesfehérvár","015","Q1","2019-03-26","Lakossági számlanyitás",0,"db","2019-04-01","hunyor",{"$f":"AND(E5650>=Kimutatás!B$2,E5650<=Kimutatás!B$3)","v":false}]
[5650,"Székesfehérvár","015","Q1","2019-03-26","KKV hitelnövekmény (db)",-2,"db","2019-04-01","hunyor",{"$f":"AND(E5651>=Kimutatás!B$2,E5651<=Kimutatás!B$3)","v":false}]
[5651,"Székesfehérvár","015","Q1","2019-03-26","KKV számlanyitás",4,"db","2019-04-01","hunyor",{"$f":"AND(E5652>=Kimutatás!B$2,E5652<=Kimutatás!B$3)","v":false}]
[5652,"Székesfehérvár","015","Q1","2019-03-26","Betét állomány növekmény",22,"Mhuf","2019-04-01","hunyor",{"$f":"AND(E5653>=Kimutatás!B$2,E5653<=Kimutatás!B$3)","v":false}]
[5653,"Székesfehérvár","015","Q1","2019-03-27","Betérő ügyfelek",33,"fő","2019-04-01","hunyor",{"$f":"AND(E5654>=Kimutatás!B$2,E5654<=Kimutatás!B$3)","v":false}]
[5654,"Székesfehérvár","015","Q1","2019-03-27","Lakossági hitelnövekmény összege ",31,"Mhuf","2019-04-01","hunyor",{"$f":"AND(E5655>=Kimutatás!B$2,E5655<=Kimutatás!B$3)","v":false}]
[5655,"Székesfehérvár","015","Q1","2019-03-27","Lakossági számlanyitás",6,"db","2019-04-01","hunyor",{"$f":"AND(E5656>=Kimutatás!B$2,E5656<=Kimutatás!B$3)","v":false}]
[5656,"Székesfehérvár","015","Q1","2019-03-27","KKV hitelnövekmény (db)",-1,"db","2019-04-01","hunyor",{"$f":"AND(E5657>=Kimutatás!B$2,E5657<=Kimutatás!B$3)","v":false}]
[5657,"Székesfehérvár","015","Q1","2019-03-27","KKV számlanyitás",0,"db","2019-04-01","hunyor",{"$f":"AND(E5658>=Kimutatás!B$2,E5658<=Kimutatás!B$3)","v":false}]
[5658,"Székesfehérvár","015","Q1","2019-03-27","Betét állomány növekmény",-9,"Mhuf","2019-04-01","hunyor",{"$f":"AND(E5659>=Kimutatás!B$2,E5659<=Kimutatás!B$3)","v":false}]
[5659,"Székesfehérvár","015","Q1","2019-03-28","Betérő ügyfelek",20,"fő","2019-04-01","hunyor",{"$f":"AND(E5660>=Kimutatás!B$2,E5660<=Kimutatás!B$3)","v":false}]
[5660,"Székesfehérvár","015","Q1","2019-03-28","Lakossági hitelnövekmény összege ",29,"Mhuf","2019-04-01","hunyor",{"$f":"AND(E5661>=Kimutatás!B$2,E5661<=Kimutatás!B$3)","v":false}]
[5661,"Székesfehérvár","015","Q1","2019-03-28","Lakossági számlanyitás",9,"db","2019-04-01","hunyor",{"$f":"AND(E5662>=Kimutatás!B$2,E5662<=Kimutatás!B$3)","v":false}]
[5662,"Székesfehérvár","015","Q1","2019-03-28","KKV hitelnövekmény (db)",-1,"db","2019-04-01","hunyor",{"$f":"AND(E5663>=Kimutatás!B$2,E5663<=Kimutatás!B$3)","v":false}]
[5663,"Székesfehérvár","015","Q1","2019-03-28","KKV számlanyitás",0,"db","2019-04-01","hunyor",{"$f":"AND(E5664>=Kimutatás!B$2,E5664<=Kimutatás!B$3)","v":false}]
[5664,"Székesfehérvár","015","Q1","2019-03-28","Betét állomány növekmény",45,"Mhuf","2019-04-01","hunyor",{"$f":"AND(E5665>=Kimutatás!B$2,E5665<=Kimutatás!B$3)","v":false}]
[5665,"Székesfehérvár","015","Q1","2019-03-31","Betérő ügyfelek",45,"fő","2019-04-01","hunyor",{"$f":"AND(E5666>=Kimutatás!B$2,E5666<=Kimutatás!B$3)","v":false}]
[5666,"Székesfehérvár","015","Q1","2019-03-31","Lakossági hitelnövekmény összege ",25,"Mhuf","2019-04-01","hunyor",{"$f":"AND(E5667>=Kimutatás!B$2,E5667<=Kimutatás!B$3)","v":false}]
[5667,"Székesfehérvár","015","Q1","2019-03-31","Lakossági számlanyitás",-1,"db","2019-04-01","hunyor",{"$f":"AND(E5668>=Kimutatás!B$2,E5668<=Kimutatás!B$3)","v":false}]
[5668,"Székesfehérvár","015","Q1","2019-03-31","KKV hitelnövekmény (db)",1,"db","2019-04-01","hunyor",{"$f":"AND(E5669>=Kimutatás!B$2,E5669<=Kimutatás!B$3)","v":false}]
[5669,"Székesfehérvár","015","Q1","2019-03-31","KKV számlanyitás",-5,"db","2019-04-01","hunyor",{"$f":"AND(E5670>=Kimutatás!B$2,E5670<=Kimutatás!B$3)","v":false}]
[5670,"Székesfehérvár","015","Q1","2019-03-31","Betét állomány növekmény",14,"Mhuf","2019-04-01","hunyor",{"$f":"AND(E5671>=Kimutatás!B$2,E5671<=Kimutatás!B$3)","v":false}]
[5671,"Szolnok","016","Q1","2019-01-02","Betérő ügyfelek",37,"fő","2019-02-01","lovass",{"$f":"AND(E5672>=Kimutatás!B$2,E5672<=Kimutatás!B$3)","v":false}]
[5672,"Szolnok","016","Q1","2019-01-02","Lakossági hitelnövekmény összege ",20,"Mhuf","2019-02-01","lovass",{"$f":"AND(E5673>=Kimutatás!B$2,E5673<=Kimutatás!B$3)","v":false}]
[5673,"Szolnok","016","Q1","2019-01-02","Lakossági számlanyitás",9,"db","2019-02-01","lovass",{"$f":"AND(E5674>=Kimutatás!B$2,E5674<=Kimutatás!B$3)","v":false}]
[5674,"Szolnok","016","Q1","2019-01-02","KKV hitelnövekmény (db)",2,"db","2019-02-01","lovass",{"$f":"AND(E5675>=Kimutatás!B$2,E5675<=Kimutatás!B$3)","v":false}]
[5675,"Szolnok","016","Q1","2019-01-02","KKV számlanyitás",1,"db","2019-02-01","lovass",{"$f":"AND(E5676>=Kimutatás!B$2,E5676<=Kimutatás!B$3)","v":false}]
[5676,"Szolnok","016","Q1","2019-01-02","Betét állomány növekmény",-11,"Mhuf","2019-02-01","lovass",{"$f":"AND(E5677>=Kimutatás!B$2,E5677<=Kimutatás!B$3)","v":false}]
[5677,"Szolnok","016","Q1","2019-01-03","Betérő ügyfelek",36,"fő","2019-02-01","lovass",{"$f":"AND(E5678>=Kimutatás!B$2,E5678<=Kimutatás!B$3)","v":false}]
[5678,"Szolnok","016","Q1","2019-01-03","Lakossági hitelnövekmény összege ",11,"Mhuf","2019-02-01","lovass",{"$f":"AND(E5679>=Kimutatás!B$2,E5679<=Kimutatás!B$3)","v":false}]
[5679,"Szolnok","016","Q1","2019-01-03","Lakossági számlanyitás",6,"db","2019-02-01","lovass",{"$f":"AND(E5680>=Kimutatás!B$2,E5680<=Kimutatás!B$3)","v":false}]
[5680,"Szolnok","016","Q1","2019-01-03","KKV hitelnövekmény (db)",0,"db","2019-02-01","lovass",{"$f":"AND(E5681>=Kimutatás!B$2,E5681<=Kimutatás!B$3)","v":false}]
[5681,"Szolnok","016","Q1","2019-01-03","KKV számlanyitás",3,"db","2019-02-01","lovass",{"$f":"AND(E5682>=Kimutatás!B$2,E5682<=Kimutatás!B$3)","v":false}]
[5682,"Szolnok","016","Q1","2019-01-03","Betét állomány növekmény",-18,"Mhuf","2019-02-01","lovass",{"$f":"AND(E5683>=Kimutatás!B$2,E5683<=Kimutatás!B$3)","v":false}]
[5683,"Szolnok","016","Q1","2019-01-06","Betérő ügyfelek",1,"fő","2019-02-01","lovass",{"$f":"AND(E5684>=Kimutatás!B$2,E5684<=Kimutatás!B$3)","v":false}]
[5684,"Szolnok","016","Q1","2019-01-06","Lakossági hitelnövekmény összege ",23,"Mhuf","2019-02-01","lovass",{"$f":"AND(E5685>=Kimutatás!B$2,E5685<=Kimutatás!B$3)","v":false}]
[5685,"Szolnok","016","Q1","2019-01-06","Lakossági számlanyitás",0,"db","2019-02-01","lovass",{"$f":"AND(E5686>=Kimutatás!B$2,E5686<=Kimutatás!B$3)","v":false}]
[5686,"Szolnok","016","Q1","2019-01-06","KKV hitelnövekmény (db)",-2,"db","2019-02-01","lovass",{"$f":"AND(E5687>=Kimutatás!B$2,E5687<=Kimutatás!B$3)","v":false}]
[5687,"Szolnok","016","Q1","2019-01-06","KKV számlanyitás",-3,"db","2019-02-01","lovass",{"$f":"AND(E5688>=Kimutatás!B$2,E5688<=Kimutatás!B$3)","v":false}]
[5688,"Szolnok","016","Q1","2019-01-06","Betét állomány növekmény",39,"Mhuf","2019-02-01","lovass",{"$f":"AND(E5689>=Kimutatás!B$2,E5689<=Kimutatás!B$3)","v":false}]
[5689,"Szolnok","016","Q1","2019-01-07","Betérő ügyfelek",20,"fő","2019-02-01","lovass",{"$f":"AND(E5690>=Kimutatás!B$2,E5690<=Kimutatás!B$3)","v":false}]
[5690,"Szolnok","016","Q1","2019-01-07","Lakossági hitelnövekmény összege ",15,"Mhuf","2019-02-01","lovass",{"$f":"AND(E5691>=Kimutatás!B$2,E5691<=Kimutatás!B$3)","v":false}]
[5691,"Szolnok","016","Q1","2019-01-07","Lakossági számlanyitás",2,"db","2019-02-01","lovass",{"$f":"AND(E5692>=Kimutatás!B$2,E5692<=Kimutatás!B$3)","v":false}]
[5692,"Szolnok","016","Q1","2019-01-07","KKV hitelnövekmény (db)",-2,"db","2019-02-01","lovass",{"$f":"AND(E5693>=Kimutatás!B$2,E5693<=Kimutatás!B$3)","v":false}]
[5693,"Szolnok","016","Q1","2019-01-07","KKV számlanyitás",3,"db","2019-02-01","lovass",{"$f":"AND(E5694>=Kimutatás!B$2,E5694<=Kimutatás!B$3)","v":false}]
[5694,"Szolnok","016","Q1","2019-01-07","Betét állomány növekmény",30,"Mhuf","2019-02-01","lovass",{"$f":"AND(E5695>=Kimutatás!B$2,E5695<=Kimutatás!B$3)","v":false}]
[5695,"Szolnok","016","Q1","2019-01-08","Betérő ügyfelek",21,"fő","2019-02-01","lovass",{"$f":"AND(E5696>=Kimutatás!B$2,E5696<=Kimutatás!B$3)","v":false}]
[5696,"Szolnok","016","Q1","2019-01-08","Lakossági hitelnövekmény összege ",-2,"Mhuf","2019-02-01","lovass",{"$f":"AND(E5697>=Kimutatás!B$2,E5697<=Kimutatás!B$3)","v":false}]
[5697,"Szolnok","016","Q1","2019-01-08","Lakossági számlanyitás",9,"db","2019-02-01","lovass",{"$f":"AND(E5698>=Kimutatás!B$2,E5698<=Kimutatás!B$3)","v":false}]
[5698,"Szolnok","016","Q1","2019-01-08","KKV hitelnövekmény (db)",1,"db","2019-02-01","lovass",{"$f":"AND(E5699>=Kimutatás!B$2,E5699<=Kimutatás!B$3)","v":false}]
[5699,"Szolnok","016","Q1","2019-01-08","KKV számlanyitás",0,"db","2019-02-01","lovass",{"$f":"AND(E5700>=Kimutatás!B$2,E5700<=Kimutatás!B$3)","v":false}]
[5700,"Szolnok","016","Q1","2019-01-08","Betét állomány növekmény",26,"Mhuf","2019-02-01","lovass",{"$f":"AND(E5701>=Kimutatás!B$2,E5701<=Kimutatás!B$3)","v":false}]
[5701,"Szolnok","016","Q1","2019-01-09","Betérő ügyfelek",30,"fő","2019-02-01","lovass",{"$f":"AND(E5702>=Kimutatás!B$2,E5702<=Kimutatás!B$3)","v":false}]
[5702,"Szolnok","016","Q1","2019-01-09","Lakossági hitelnövekmény összege ",48,"Mhuf","2019-02-01","lovass",{"$f":"AND(E5703>=Kimutatás!B$2,E5703<=Kimutatás!B$3)","v":false}]
[5703,"Szolnok","016","Q1","2019-01-09","Lakossági számlanyitás",-2,"db","2019-02-01","lovass",{"$f":"AND(E5704>=Kimutatás!B$2,E5704<=Kimutatás!B$3)","v":false}]
[5704,"Szolnok","016","Q1","2019-01-09","KKV hitelnövekmény (db)",-1,"db","2019-02-01","lovass",{"$f":"AND(E5705>=Kimutatás!B$2,E5705<=Kimutatás!B$3)","v":false}]
[5705,"Szolnok","016","Q1","2019-01-09","KKV számlanyitás",2,"db","2019-02-01","lovass",{"$f":"AND(E5706>=Kimutatás!B$2,E5706<=Kimutatás!B$3)","v":false}]
[5706,"Szolnok","016","Q1","2019-01-09","Betét állomány növekmény",-1,"Mhuf","2019-02-01","lovass",{"$f":"AND(E5707>=Kimutatás!B$2,E5707<=Kimutatás!B$3)","v":false}]
[5707,"Szolnok","016","Q1","2019-01-10","Betérő ügyfelek",24,"fő","2019-02-01","lovass",{"$f":"AND(E5708>=Kimutatás!B$2,E5708<=Kimutatás!B$3)","v":true}]
[5708,"Szolnok","016","Q1","2019-01-10","Lakossági hitelnövekmény összege ",9,"Mhuf","2019-02-01","lovass",{"$f":"AND(E5709>=Kimutatás!B$2,E5709<=Kimutatás!B$3)","v":true}]
[5709,"Szolnok","016","Q1","2019-01-10","Lakossági számlanyitás",7,"db","2019-02-01","lovass",{"$f":"AND(E5710>=Kimutatás!B$2,E5710<=Kimutatás!B$3)","v":true}]
[5710,"Szolnok","016","Q1","2019-01-10","KKV hitelnövekmény (db)",1,"db","2019-02-01","lovass",{"$f":"AND(E5711>=Kimutatás!B$2,E5711<=Kimutatás!B$3)","v":true}]
[5711,"Szolnok","016","Q1","2019-01-10","KKV számlanyitás",-4,"db","2019-02-01","lovass",{"$f":"AND(E5712>=Kimutatás!B$2,E5712<=Kimutatás!B$3)","v":true}]
[5712,"Szolnok","016","Q1","2019-01-10","Betét állomány növekmény",17,"Mhuf","2019-02-01","lovass",{"$f":"AND(E5713>=Kimutatás!B$2,E5713<=Kimutatás!B$3)","v":true}]
[5713,"Szolnok","016","Q1","2019-01-13","Betérő ügyfelek",38,"fő","2019-02-01","lovass",{"$f":"AND(E5714>=Kimutatás!B$2,E5714<=Kimutatás!B$3)","v":true}]
[5714,"Szolnok","016","Q1","2019-01-13","Lakossági hitelnövekmény összege ",21,"Mhuf","2019-02-01","lovass",{"$f":"AND(E5715>=Kimutatás!B$2,E5715<=Kimutatás!B$3)","v":true}]
[5715,"Szolnok","016","Q1","2019-01-13","Lakossági számlanyitás",5,"db","2019-02-01","lovass",{"$f":"AND(E5716>=Kimutatás!B$2,E5716<=Kimutatás!B$3)","v":true}]
[5716,"Szolnok","016","Q1","2019-01-13","KKV hitelnövekmény (db)",2,"db","2019-02-01","lovass",{"$f":"AND(E5717>=Kimutatás!B$2,E5717<=Kimutatás!B$3)","v":true}]
[5717,"Szolnok","016","Q1","2019-01-13","KKV számlanyitás",2,"db","2019-02-01","lovass",{"$f":"AND(E5718>=Kimutatás!B$2,E5718<=Kimutatás!B$3)","v":true}]
[5718,"Szolnok","016","Q1","2019-01-13","Betét állomány növekmény",45,"Mhuf","2019-02-01","lovass",{"$f":"AND(E5719>=Kimutatás!B$2,E5719<=Kimutatás!B$3)","v":true}]
[5719,"Szolnok","016","Q1","2019-01-14","Betérő ügyfelek",37,"fő","2019-02-01","lovass",{"$f":"AND(E5720>=Kimutatás!B$2,E5720<=Kimutatás!B$3)","v":true}]
[5720,"Szolnok","016","Q1","2019-01-14","Lakossági hitelnövekmény összege ",22,"Mhuf","2019-02-01","lovass",{"$f":"AND(E5721>=Kimutatás!B$2,E5721<=Kimutatás!B$3)","v":true}]
[5721,"Szolnok","016","Q1","2019-01-14","Lakossági számlanyitás",-5,"db","2019-02-01","lovass",{"$f":"AND(E5722>=Kimutatás!B$2,E5722<=Kimutatás!B$3)","v":true}]
[5722,"Szolnok","016","Q1","2019-01-14","KKV hitelnövekmény (db)",2,"db","2019-02-01","lovass",{"$f":"AND(E5723>=Kimutatás!B$2,E5723<=Kimutatás!B$3)","v":true}]
[5723,"Szolnok","016","Q1","2019-01-14","KKV számlanyitás",-3,"db","2019-02-01","lovass",{"$f":"AND(E5724>=Kimutatás!B$2,E5724<=Kimutatás!B$3)","v":true}]
[5724,"Szolnok","016","Q1","2019-01-14","Betét állomány növekmény",-11,"Mhuf","2019-02-01","lovass",{"$f":"AND(E5725>=Kimutatás!B$2,E5725<=Kimutatás!B$3)","v":true}]
[5725,"Szolnok","016","Q1","2019-01-15","Betérő ügyfelek",18,"fő","2019-02-01","lovass",{"$f":"AND(E5726>=Kimutatás!B$2,E5726<=Kimutatás!B$3)","v":true}]
[5726,"Szolnok","016","Q1","2019-01-15","Lakossági hitelnövekmény összege ",22,"Mhuf","2019-02-01","lovass",{"$f":"AND(E5727>=Kimutatás!B$2,E5727<=Kimutatás!B$3)","v":true}]
[5727,"Szolnok","016","Q1","2019-01-15","Lakossági számlanyitás",-2,"db","2019-02-01","lovass",{"$f":"AND(E5728>=Kimutatás!B$2,E5728<=Kimutatás!B$3)","v":true}]
[5728,"Szolnok","016","Q1","2019-01-15","KKV hitelnövekmény (db)",1,"db","2019-02-01","lovass",{"$f":"AND(E5729>=Kimutatás!B$2,E5729<=Kimutatás!B$3)","v":true}]
[5729,"Szolnok","016","Q1","2019-01-15","KKV számlanyitás",5,"db","2019-02-01","lovass",{"$f":"AND(E5730>=Kimutatás!B$2,E5730<=Kimutatás!B$3)","v":true}]
[5730,"Szolnok","016","Q1","2019-01-15","Betét állomány növekmény",36,"Mhuf","2019-02-01","lovass",{"$f":"AND(E5731>=Kimutatás!B$2,E5731<=Kimutatás!B$3)","v":true}]
[5731,"Szolnok","016","Q1","2019-01-16","Betérő ügyfelek",22,"fő","2019-02-01","lovass",{"$f":"AND(E5732>=Kimutatás!B$2,E5732<=Kimutatás!B$3)","v":true}]
[5732,"Szolnok","016","Q1","2019-01-16","Lakossági hitelnövekmény összege ",41,"Mhuf","2019-02-01","lovass",{"$f":"AND(E5733>=Kimutatás!B$2,E5733<=Kimutatás!B$3)","v":true}]
[5733,"Szolnok","016","Q1","2019-01-16","Lakossági számlanyitás",0,"db","2019-02-01","lovass",{"$f":"AND(E5734>=Kimutatás!B$2,E5734<=Kimutatás!B$3)","v":true}]
[5734,"Szolnok","016","Q1","2019-01-16","KKV hitelnövekmény (db)",1,"db","2019-02-01","lovass",{"$f":"AND(E5735>=Kimutatás!B$2,E5735<=Kimutatás!B$3)","v":true}]
[5735,"Szolnok","016","Q1","2019-01-16","KKV számlanyitás",-3,"db","2019-02-01","lovass",{"$f":"AND(E5736>=Kimutatás!B$2,E5736<=Kimutatás!B$3)","v":true}]
[5736,"Szolnok","016","Q1","2019-01-16","Betét állomány növekmény",13,"Mhuf","2019-02-01","lovass",{"$f":"AND(E5737>=Kimutatás!B$2,E5737<=Kimutatás!B$3)","v":true}]
[5737,"Szolnok","016","Q1","2019-01-17","Betérő ügyfelek",9,"fő","2019-02-01","lovass",{"$f":"AND(E5738>=Kimutatás!B$2,E5738<=Kimutatás!B$3)","v":true}]
[5738,"Szolnok","016","Q1","2019-01-17","Lakossági hitelnövekmény összege ",12,"Mhuf","2019-02-01","lovass",{"$f":"AND(E5739>=Kimutatás!B$2,E5739<=Kimutatás!B$3)","v":true}]
[5739,"Szolnok","016","Q1","2019-01-17","Lakossági számlanyitás",1,"db","2019-02-01","lovass",{"$f":"AND(E5740>=Kimutatás!B$2,E5740<=Kimutatás!B$3)","v":true}]
[5740,"Szolnok","016","Q1","2019-01-17","KKV hitelnövekmény (db)",-2,"db","2019-02-01","lovass",{"$f":"AND(E5741>=Kimutatás!B$2,E5741<=Kimutatás!B$3)","v":true}]
[5741,"Szolnok","016","Q1","2019-01-17","KKV számlanyitás",3,"db","2019-02-01","lovass",{"$f":"AND(E5742>=Kimutatás!B$2,E5742<=Kimutatás!B$3)","v":true}]
[5742,"Szolnok","016","Q1","2019-01-17","Betét állomány növekmény",23,"Mhuf","2019-02-01","lovass",{"$f":"AND(E5743>=Kimutatás!B$2,E5743<=Kimutatás!B$3)","v":true}]
[5743,"Szolnok","016","Q1","2019-01-20","Betérő ügyfelek",29,"fő","2019-02-01","lovass",{"$f":"AND(E5744>=Kimutatás!B$2,E5744<=Kimutatás!B$3)","v":true}]
[5744,"Szolnok","016","Q1","2019-01-20","Lakossági hitelnövekmény összege ",23,"Mhuf","2019-02-01","lovass",{"$f":"AND(E5745>=Kimutatás!B$2,E5745<=Kimutatás!B$3)","v":true}]
[5745,"Szolnok","016","Q1","2019-01-20","Lakossági számlanyitás",10,"db","2019-02-01","lovass",{"$f":"AND(E5746>=Kimutatás!B$2,E5746<=Kimutatás!B$3)","v":true}]
[5746,"Szolnok","016","Q1","2019-01-20","KKV hitelnövekmény (db)",-1,"db","2019-02-01","lovass",{"$f":"AND(E5747>=Kimutatás!B$2,E5747<=Kimutatás!B$3)","v":true}]
[5747,"Szolnok","016","Q1","2019-01-20","KKV számlanyitás",2,"db","2019-02-01","lovass",{"$f":"AND(E5748>=Kimutatás!B$2,E5748<=Kimutatás!B$3)","v":true}]
[5748,"Szolnok","016","Q1","2019-01-20","Betét állomány növekmény",-9,"Mhuf","2019-02-01","lovass",{"$f":"AND(E5749>=Kimutatás!B$2,E5749<=Kimutatás!B$3)","v":true}]
[5749,"Szolnok","016","Q1","2019-01-21","Betérő ügyfelek",31,"fő","2019-02-01","lovass",{"$f":"AND(E5750>=Kimutatás!B$2,E5750<=Kimutatás!B$3)","v":true}]
[5750,"Szolnok","016","Q1","2019-01-21","Lakossági hitelnövekmény összege ",39,"Mhuf","2019-02-01","lovass",{"$f":"AND(E5751>=Kimutatás!B$2,E5751<=Kimutatás!B$3)","v":true}]
[5751,"Szolnok","016","Q1","2019-01-21","Lakossági számlanyitás",-3,"db","2019-02-01","lovass",{"$f":"AND(E5752>=Kimutatás!B$2,E5752<=Kimutatás!B$3)","v":true}]
[5752,"Szolnok","016","Q1","2019-01-21","KKV hitelnövekmény (db)",2,"db","2019-02-01","lovass",{"$f":"AND(E5753>=Kimutatás!B$2,E5753<=Kimutatás!B$3)","v":true}]
[5753,"Szolnok","016","Q1","2019-01-21","KKV számlanyitás",3,"db","2019-02-01","lovass",{"$f":"AND(E5754>=Kimutatás!B$2,E5754<=Kimutatás!B$3)","v":true}]
[5754,"Szolnok","016","Q1","2019-01-21","Betét állomány növekmény",-4,"Mhuf","2019-02-01","lovass",{"$f":"AND(E5755>=Kimutatás!B$2,E5755<=Kimutatás!B$3)","v":true}]
[5755,"Szolnok","016","Q1","2019-01-22","Betérő ügyfelek",4,"fő","2019-02-01","lovass",{"$f":"AND(E5756>=Kimutatás!B$2,E5756<=Kimutatás!B$3)","v":true}]
[5756,"Szolnok","016","Q1","2019-01-22","Lakossági hitelnövekmény összege ",35,"Mhuf","2019-02-01","lovass",{"$f":"AND(E5757>=Kimutatás!B$2,E5757<=Kimutatás!B$3)","v":true}]
[5757,"Szolnok","016","Q1","2019-01-22","Lakossági számlanyitás",7,"db","2019-02-01","lovass",{"$f":"AND(E5758>=Kimutatás!B$2,E5758<=Kimutatás!B$3)","v":true}]
[5758,"Szolnok","016","Q1","2019-01-22","KKV hitelnövekmény (db)",1,"db","2019-02-01","lovass",{"$f":"AND(E5759>=Kimutatás!B$2,E5759<=Kimutatás!B$3)","v":true}]
[5759,"Szolnok","016","Q1","2019-01-22","KKV számlanyitás",-3,"db","2019-02-01","lovass",{"$f":"AND(E5760>=Kimutatás!B$2,E5760<=Kimutatás!B$3)","v":true}]
[5760,"Szolnok","016","Q1","2019-01-22","Betét állomány növekmény",4,"Mhuf","2019-02-01","lovass",{"$f":"AND(E5761>=Kimutatás!B$2,E5761<=Kimutatás!B$3)","v":true}]
[5761,"Szolnok","016","Q1","2019-01-23","Betérő ügyfelek",45,"fő","2019-02-01","lovass",{"$f":"AND(E5762>=Kimutatás!B$2,E5762<=Kimutatás!B$3)","v":true}]
[5762,"Szolnok","016","Q1","2019-01-23","Lakossági hitelnövekmény összege ",9,"Mhuf","2019-02-01","lovass",{"$f":"AND(E5763>=Kimutatás!B$2,E5763<=Kimutatás!B$3)","v":true}]
[5763,"Szolnok","016","Q1","2019-01-23","Lakossági számlanyitás",0,"db","2019-02-01","lovass",{"$f":"AND(E5764>=Kimutatás!B$2,E5764<=Kimutatás!B$3)","v":true}]
[5764,"Szolnok","016","Q1","2019-01-23","KKV hitelnövekmény (db)",-1,"db","2019-02-01","lovass",{"$f":"AND(E5765>=Kimutatás!B$2,E5765<=Kimutatás!B$3)","v":true}]
[5765,"Szolnok","016","Q1","2019-01-23","KKV számlanyitás",-1,"db","2019-02-01","lovass",{"$f":"AND(E5766>=Kimutatás!B$2,E5766<=Kimutatás!B$3)","v":true}]
[5766,"Szolnok","016","Q1","2019-01-23","Betét állomány növekmény",8,"Mhuf","2019-02-01","lovass",{"$f":"AND(E5767>=Kimutatás!B$2,E5767<=Kimutatás!B$3)","v":true}]
[5767,"Szolnok","016","Q1","2019-01-24","Betérő ügyfelek",46,"fő","2019-02-01","lovass",{"$f":"AND(E5768>=Kimutatás!B$2,E5768<=Kimutatás!B$3)","v":true}]
[5768,"Szolnok","016","Q1","2019-01-24","Lakossági hitelnövekmény összege ",36,"Mhuf","2019-02-01","lovass",{"$f":"AND(E5769>=Kimutatás!B$2,E5769<=Kimutatás!B$3)","v":true}]
[5769,"Szolnok","016","Q1","2019-01-24","Lakossági számlanyitás",-5,"db","2019-02-01","lovass",{"$f":"AND(E5770>=Kimutatás!B$2,E5770<=Kimutatás!B$3)","v":true}]
[5770,"Szolnok","016","Q1","2019-01-24","KKV hitelnövekmény (db)",1,"db","2019-02-01","lovass",{"$f":"AND(E5771>=Kimutatás!B$2,E5771<=Kimutatás!B$3)","v":true}]
[5771,"Szolnok","016","Q1","2019-01-24","KKV számlanyitás",-4,"db","2019-02-01","lovass",{"$f":"AND(E5772>=Kimutatás!B$2,E5772<=Kimutatás!B$3)","v":true}]
[5772,"Szolnok","016","Q1","2019-01-24","Betét állomány növekmény",17,"Mhuf","2019-02-01","lovass",{"$f":"AND(E5773>=Kimutatás!B$2,E5773<=Kimutatás!B$3)","v":true}]
[5773,"Szolnok","016","Q1","2019-01-27","Betérő ügyfelek",36,"fő","2019-02-01","lovass",{"$f":"AND(E5774>=Kimutatás!B$2,E5774<=Kimutatás!B$3)","v":true}]
[5774,"Szolnok","016","Q1","2019-01-27","Lakossági hitelnövekmény összege ",48,"Mhuf","2019-02-01","lovass",{"$f":"AND(E5775>=Kimutatás!B$2,E5775<=Kimutatás!B$3)","v":true}]
[5775,"Szolnok","016","Q1","2019-01-27","Lakossági számlanyitás",7,"db","2019-02-01","lovass",{"$f":"AND(E5776>=Kimutatás!B$2,E5776<=Kimutatás!B$3)","v":true}]
[5776,"Szolnok","016","Q1","2019-01-27","KKV hitelnövekmény (db)",-2,"db","2019-02-01","lovass",{"$f":"AND(E5777>=Kimutatás!B$2,E5777<=Kimutatás!B$3)","v":true}]
[5777,"Szolnok","016","Q1","2019-01-27","KKV számlanyitás",-1,"db","2019-02-01","lovass",{"$f":"AND(E5778>=Kimutatás!B$2,E5778<=Kimutatás!B$3)","v":true}]
[5778,"Szolnok","016","Q1","2019-01-27","Betét állomány növekmény",38,"Mhuf","2019-02-01","lovass",{"$f":"AND(E5779>=Kimutatás!B$2,E5779<=Kimutatás!B$3)","v":true}]
[5779,"Szolnok","016","Q1","2019-01-28","Betérő ügyfelek",41,"fő","2019-02-01","lovass",{"$f":"AND(E5780>=Kimutatás!B$2,E5780<=Kimutatás!B$3)","v":true}]
[5780,"Szolnok","016","Q1","2019-01-28","Lakossági hitelnövekmény összege ",9,"Mhuf","2019-02-01","lovass",{"$f":"AND(E5781>=Kimutatás!B$2,E5781<=Kimutatás!B$3)","v":true}]
[5781,"Szolnok","016","Q1","2019-01-28","Lakossági számlanyitás",8,"db","2019-02-01","lovass",{"$f":"AND(E5782>=Kimutatás!B$2,E5782<=Kimutatás!B$3)","v":true}]
[5782,"Szolnok","016","Q1","2019-01-28","KKV hitelnövekmény (db)",-1,"db","2019-02-01","lovass",{"$f":"AND(E5783>=Kimutatás!B$2,E5783<=Kimutatás!B$3)","v":true}]
[5783,"Szolnok","016","Q1","2019-01-28","KKV számlanyitás",2,"db","2019-02-01","lovass",{"$f":"AND(E5784>=Kimutatás!B$2,E5784<=Kimutatás!B$3)","v":true}]
[5784,"Szolnok","016","Q1","2019-01-28","Betét állomány növekmény",-10,"Mhuf","2019-02-01","lovass",{"$f":"AND(E5785>=Kimutatás!B$2,E5785<=Kimutatás!B$3)","v":true}]
[5785,"Szolnok","016","Q1","2019-01-29","Betérő ügyfelek",5,"fő","2019-02-01","lovass",{"$f":"AND(E5786>=Kimutatás!B$2,E5786<=Kimutatás!B$3)","v":true}]
[5786,"Szolnok","016","Q1","2019-01-29","Lakossági hitelnövekmény összege ",5,"Mhuf","2019-02-01","lovass",{"$f":"AND(E5787>=Kimutatás!B$2,E5787<=Kimutatás!B$3)","v":true}]
[5787,"Szolnok","016","Q1","2019-01-29","Lakossági számlanyitás",0,"db","2019-02-01","lovass",{"$f":"AND(E5788>=Kimutatás!B$2,E5788<=Kimutatás!B$3)","v":true}]
[5788,"Szolnok","016","Q1","2019-01-29","KKV hitelnövekmény (db)",-2,"db","2019-02-01","lovass",{"$f":"AND(E5789>=Kimutatás!B$2,E5789<=Kimutatás!B$3)","v":true}]
[5789,"Szolnok","016","Q1","2019-01-29","KKV számlanyitás",3,"db","2019-02-01","lovass",{"$f":"AND(E5790>=Kimutatás!B$2,E5790<=Kimutatás!B$3)","v":true}]
[5790,"Szolnok","016","Q1","2019-01-29","Betét állomány növekmény",-4,"Mhuf","2019-02-01","lovass",{"$f":"AND(E5791>=Kimutatás!B$2,E5791<=Kimutatás!B$3)","v":true}]
[5791,"Szolnok","016","Q1","2019-01-30","Betérő ügyfelek",31,"fő","2019-02-01","lovass",{"$f":"AND(E5792>=Kimutatás!B$2,E5792<=Kimutatás!B$3)","v":true}]
[5792,"Szolnok","016","Q1","2019-01-30","Lakossági hitelnövekmény összege ",21,"Mhuf","2019-02-01","lovass",{"$f":"AND(E5793>=Kimutatás!B$2,E5793<=Kimutatás!B$3)","v":true}]
[5793,"Szolnok","016","Q1","2019-01-30","Lakossági számlanyitás",-1,"db","2019-02-01","lovass",{"$f":"AND(E5794>=Kimutatás!B$2,E5794<=Kimutatás!B$3)","v":true}]
[5794,"Szolnok","016","Q1","2019-01-30","KKV hitelnövekmény (db)",-2,"db","2019-02-01","lovass",{"$f":"AND(E5795>=Kimutatás!B$2,E5795<=Kimutatás!B$3)","v":true}]
[5795,"Szolnok","016","Q1","2019-01-30","KKV számlanyitás",4,"db","2019-02-01","lovass",{"$f":"AND(E5796>=Kimutatás!B$2,E5796<=Kimutatás!B$3)","v":true}]
[5796,"Szolnok","016","Q1","2019-01-30","Betét állomány növekmény",14,"Mhuf","2019-02-01","lovass",{"$f":"AND(E5797>=Kimutatás!B$2,E5797<=Kimutatás!B$3)","v":true}]
[5797,"Szolnok","016","Q1","2019-01-31","Betérő ügyfelek",16,"fő","2019-02-01","lovass",{"$f":"AND(E5798>=Kimutatás!B$2,E5798<=Kimutatás!B$3)","v":true}]
[5798,"Szolnok","016","Q1","2019-01-31","Lakossági hitelnövekmény összege ",48,"Mhuf","2019-02-01","lovass",{"$f":"AND(E5799>=Kimutatás!B$2,E5799<=Kimutatás!B$3)","v":true}]
[5799,"Szolnok","016","Q1","2019-01-31","Lakossági számlanyitás",10,"db","2019-02-01","lovass",{"$f":"AND(E5800>=Kimutatás!B$2,E5800<=Kimutatás!B$3)","v":true}]
[5800,"Szolnok","016","Q1","2019-01-31","KKV hitelnövekmény (db)",1,"db","2019-02-01","lovass",{"$f":"AND(E5801>=Kimutatás!B$2,E5801<=Kimutatás!B$3)","v":true}]
[5801,"Szolnok","016","Q1","2019-01-31","KKV számlanyitás",-1,"db","2019-02-01","lovass",{"$f":"AND(E5802>=Kimutatás!B$2,E5802<=Kimutatás!B$3)","v":true}]
[5802,"Szolnok","016","Q1","2019-01-31","Betét állomány növekmény",44,"Mhuf","2019-02-01","lovass",{"$f":"AND(E5803>=Kimutatás!B$2,E5803<=Kimutatás!B$3)","v":true}]
[5803,"Szolnok","016","Q1","2019-02-03","Betérő ügyfelek",1,"fő","2019-03-01","kormos3",{"$f":"AND(E5804>=Kimutatás!B$2,E5804<=Kimutatás!B$3)","v":true}]
[5804,"Szolnok","016","Q1","2019-02-03","Lakossági hitelnövekmény összege ",8,"Mhuf","2019-03-01","kormos3",{"$f":"AND(E5805>=Kimutatás!B$2,E5805<=Kimutatás!B$3)","v":true}]
[5805,"Szolnok","016","Q1","2019-02-03","Lakossági számlanyitás",7,"db","2019-03-01","kormos3",{"$f":"AND(E5806>=Kimutatás!B$2,E5806<=Kimutatás!B$3)","v":true}]
[5806,"Szolnok","016","Q1","2019-02-03","KKV hitelnövekmény (db)",1,"db","2019-03-01","kormos3",{"$f":"AND(E5807>=Kimutatás!B$2,E5807<=Kimutatás!B$3)","v":true}]
[5807,"Szolnok","016","Q1","2019-02-03","KKV számlanyitás",-5,"db","2019-03-01","kormos3",{"$f":"AND(E5808>=Kimutatás!B$2,E5808<=Kimutatás!B$3)","v":true}]
[5808,"Szolnok","016","Q1","2019-02-03","Betét állomány növekmény",39,"Mhuf","2019-03-01","kormos3",{"$f":"AND(E5809>=Kimutatás!B$2,E5809<=Kimutatás!B$3)","v":true}]
[5809,"Szolnok","016","Q1","2019-02-04","Betérő ügyfelek",31,"fő","2019-03-01","kormos3",{"$f":"AND(E5810>=Kimutatás!B$2,E5810<=Kimutatás!B$3)","v":true}]
[5810,"Szolnok","016","Q1","2019-02-04","Lakossági hitelnövekmény összege ",6,"Mhuf","2019-03-01","kormos3",{"$f":"AND(E5811>=Kimutatás!B$2,E5811<=Kimutatás!B$3)","v":true}]
[5811,"Szolnok","016","Q1","2019-02-04","Lakossági számlanyitás",-3,"db","2019-03-01","kormos3",{"$f":"AND(E5812>=Kimutatás!B$2,E5812<=Kimutatás!B$3)","v":true}]
[5812,"Szolnok","016","Q1","2019-02-04","KKV hitelnövekmény (db)",1,"db","2019-03-01","kormos3",{"$f":"AND(E5813>=Kimutatás!B$2,E5813<=Kimutatás!B$3)","v":true}]
[5813,"Szolnok","016","Q1","2019-02-04","KKV számlanyitás",2,"db","2019-03-01","kormos3",{"$f":"AND(E5814>=Kimutatás!B$2,E5814<=Kimutatás!B$3)","v":true}]
[5814,"Szolnok","016","Q1","2019-02-04","Betét állomány növekmény",7,"Mhuf","2019-03-01","kormos3",{"$f":"AND(E5815>=Kimutatás!B$2,E5815<=Kimutatás!B$3)","v":true}]
[5815,"Szolnok","016","Q1","2019-02-05","Betérő ügyfelek",46,"fő","2019-03-01","kormos3",{"$f":"AND(E5816>=Kimutatás!B$2,E5816<=Kimutatás!B$3)","v":true}]
[5816,"Szolnok","016","Q1","2019-02-05","Lakossági hitelnövekmény összege ",1,"Mhuf","2019-03-01","kormos3",{"$f":"AND(E5817>=Kimutatás!B$2,E5817<=Kimutatás!B$3)","v":true}]
[5817,"Szolnok","016","Q1","2019-02-05","Lakossági számlanyitás",8,"db","2019-03-01","kormos3",{"$f":"AND(E5818>=Kimutatás!B$2,E5818<=Kimutatás!B$3)","v":true}]
[5818,"Szolnok","016","Q1","2019-02-05","KKV hitelnövekmény (db)",2,"db","2019-03-01","kormos3",{"$f":"AND(E5819>=Kimutatás!B$2,E5819<=Kimutatás!B$3)","v":true}]
[5819,"Szolnok","016","Q1","2019-02-05","KKV számlanyitás",0,"db","2019-03-01","kormos3",{"$f":"AND(E5820>=Kimutatás!B$2,E5820<=Kimutatás!B$3)","v":true}]
[5820,"Szolnok","016","Q1","2019-02-05","Betét állomány növekmény",49,"Mhuf","2019-03-01","kormos3",{"$f":"AND(E5821>=Kimutatás!B$2,E5821<=Kimutatás!B$3)","v":true}]
[5821,"Szolnok","016","Q1","2019-02-06","Betérő ügyfelek",37,"fő","2019-03-01","kormos3",{"$f":"AND(E5822>=Kimutatás!B$2,E5822<=Kimutatás!B$3)","v":true}]
[5822,"Szolnok","016","Q1","2019-02-06","Lakossági hitelnövekmény összege ",18,"Mhuf","2019-03-01","kormos3",{"$f":"AND(E5823>=Kimutatás!B$2,E5823<=Kimutatás!B$3)","v":true}]
[5823,"Szolnok","016","Q1","2019-02-06","Lakossági számlanyitás",6,"db","2019-03-01","kormos3",{"$f":"AND(E5824>=Kimutatás!B$2,E5824<=Kimutatás!B$3)","v":true}]
[5824,"Szolnok","016","Q1","2019-02-06","KKV hitelnövekmény (db)",1,"db","2019-03-01","kormos3",{"$f":"AND(E5825>=Kimutatás!B$2,E5825<=Kimutatás!B$3)","v":true}]
[5825,"Szolnok","016","Q1","2019-02-06","KKV számlanyitás",5,"db","2019-03-01","kormos3",{"$f":"AND(E5826>=Kimutatás!B$2,E5826<=Kimutatás!B$3)","v":true}]
[5826,"Szolnok","016","Q1","2019-02-06","Betét állomány növekmény",-8,"Mhuf","2019-03-01","kormos3",{"$f":"AND(E5827>=Kimutatás!B$2,E5827<=Kimutatás!B$3)","v":true}]
[5827,"Szolnok","016","Q1","2019-02-07","Betérő ügyfelek",38,"fő","2019-03-01","kormos3",{"$f":"AND(E5828>=Kimutatás!B$2,E5828<=Kimutatás!B$3)","v":true}]
[5828,"Szolnok","016","Q1","2019-02-07","Lakossági hitelnövekmény összege ",15,"Mhuf","2019-03-01","kormos3",{"$f":"AND(E5829>=Kimutatás!B$2,E5829<=Kimutatás!B$3)","v":true}]
[5829,"Szolnok","016","Q1","2019-02-07","Lakossági számlanyitás",-2,"db","2019-03-01","kormos3",{"$f":"AND(E5830>=Kimutatás!B$2,E5830<=Kimutatás!B$3)","v":true}]
[5830,"Szolnok","016","Q1","2019-02-07","KKV hitelnövekmény (db)",-1,"db","2019-03-01","kormos3",{"$f":"AND(E5831>=Kimutatás!B$2,E5831<=Kimutatás!B$3)","v":true}]
[5831,"Szolnok","016","Q1","2019-02-07","KKV számlanyitás",-2,"db","2019-03-01","kormos3",{"$f":"AND(E5832>=Kimutatás!B$2,E5832<=Kimutatás!B$3)","v":true}]
[5832,"Szolnok","016","Q1","2019-02-07","Betét állomány növekmény",-8,"Mhuf","2019-03-01","kormos3",{"$f":"AND(E5833>=Kimutatás!B$2,E5833<=Kimutatás!B$3)","v":true}]
[5833,"Szolnok","016","Q1","2019-02-10","Betérő ügyfelek",25,"fő","2019-03-01","kormos3",{"$f":"AND(E5834>=Kimutatás!B$2,E5834<=Kimutatás!B$3)","v":true}]
[5834,"Szolnok","016","Q1","2019-02-10","Lakossági hitelnövekmény összege ",2,"Mhuf","2019-03-01","kormos3",{"$f":"AND(E5835>=Kimutatás!B$2,E5835<=Kimutatás!B$3)","v":true}]
[5835,"Szolnok","016","Q1","2019-02-10","Lakossági számlanyitás",1,"db","2019-03-01","kormos3",{"$f":"AND(E5836>=Kimutatás!B$2,E5836<=Kimutatás!B$3)","v":true}]
[5836,"Szolnok","016","Q1","2019-02-10","KKV hitelnövekmény (db)",0,"db","2019-03-01","kormos3",{"$f":"AND(E5837>=Kimutatás!B$2,E5837<=Kimutatás!B$3)","v":true}]
[5837,"Szolnok","016","Q1","2019-02-10","KKV számlanyitás",-5,"db","2019-03-01","kormos3",{"$f":"AND(E5838>=Kimutatás!B$2,E5838<=Kimutatás!B$3)","v":true}]
[5838,"Szolnok","016","Q1","2019-02-10","Betét állomány növekmény",7,"Mhuf","2019-03-01","kormos3",{"$f":"AND(E5839>=Kimutatás!B$2,E5839<=Kimutatás!B$3)","v":true}]
[5839,"Szolnok","016","Q1","2019-02-11","Betérő ügyfelek",37,"fő","2019-03-01","kormos3",{"$f":"AND(E5840>=Kimutatás!B$2,E5840<=Kimutatás!B$3)","v":true}]
[5840,"Szolnok","016","Q1","2019-02-11","Lakossági hitelnövekmény összege ",7,"Mhuf","2019-03-01","kormos3",{"$f":"AND(E5841>=Kimutatás!B$2,E5841<=Kimutatás!B$3)","v":true}]
[5841,"Szolnok","016","Q1","2019-02-11","Lakossági számlanyitás",5,"db","2019-03-01","kormos3",{"$f":"AND(E5842>=Kimutatás!B$2,E5842<=Kimutatás!B$3)","v":true}]
[5842,"Szolnok","016","Q1","2019-02-11","KKV hitelnövekmény (db)",1,"db","2019-03-01","kormos3",{"$f":"AND(E5843>=Kimutatás!B$2,E5843<=Kimutatás!B$3)","v":true}]
[5843,"Szolnok","016","Q1","2019-02-11","KKV számlanyitás",3,"db","2019-03-01","kormos3",{"$f":"AND(E5844>=Kimutatás!B$2,E5844<=Kimutatás!B$3)","v":true}]
[5844,"Szolnok","016","Q1","2019-02-11","Betét állomány növekmény",0,"Mhuf","2019-03-01","kormos3",{"$f":"AND(E5845>=Kimutatás!B$2,E5845<=Kimutatás!B$3)","v":true}]
[5845,"Szolnok","016","Q1","2019-02-12","Betérő ügyfelek",12,"fő","2019-03-01","kormos3",{"$f":"AND(E5846>=Kimutatás!B$2,E5846<=Kimutatás!B$3)","v":true}]
[5846,"Szolnok","016","Q1","2019-02-12","Lakossági hitelnövekmény összege ",3,"Mhuf","2019-03-01","kormos3",{"$f":"AND(E5847>=Kimutatás!B$2,E5847<=Kimutatás!B$3)","v":true}]
[5847,"Szolnok","016","Q1","2019-02-12","Lakossági számlanyitás",5,"db","2019-03-01","kormos3",{"$f":"AND(E5848>=Kimutatás!B$2,E5848<=Kimutatás!B$3)","v":true}]
[5848,"Szolnok","016","Q1","2019-02-12","KKV hitelnövekmény (db)",0,"db","2019-03-01","kormos3",{"$f":"AND(E5849>=Kimutatás!B$2,E5849<=Kimutatás!B$3)","v":true}]
[5849,"Szolnok","016","Q1","2019-02-12","KKV számlanyitás",-3,"db","2019-03-01","kormos3",{"$f":"AND(E5850>=Kimutatás!B$2,E5850<=Kimutatás!B$3)","v":true}]
[5850,"Szolnok","016","Q1","2019-02-12","Betét állomány növekmény",29,"Mhuf","2019-03-01","kormos3",{"$f":"AND(E5851>=Kimutatás!B$2,E5851<=Kimutatás!B$3)","v":true}]
[5851,"Szolnok","016","Q1","2019-02-13","Betérő ügyfelek",1,"fő","2019-03-01","kormos3",{"$f":"AND(E5852>=Kimutatás!B$2,E5852<=Kimutatás!B$3)","v":true}]
[5852,"Szolnok","016","Q1","2019-02-13","Lakossági hitelnövekmény összege ",-6,"Mhuf","2019-03-01","kormos3",{"$f":"AND(E5853>=Kimutatás!B$2,E5853<=Kimutatás!B$3)","v":true}]
[5853,"Szolnok","016","Q1","2019-02-13","Lakossági számlanyitás",7,"db","2019-03-01","kormos3",{"$f":"AND(E5854>=Kimutatás!B$2,E5854<=Kimutatás!B$3)","v":true}]
[5854,"Szolnok","016","Q1","2019-02-13","KKV hitelnövekmény (db)",0,"db","2019-03-01","kormos3",{"$f":"AND(E5855>=Kimutatás!B$2,E5855<=Kimutatás!B$3)","v":true}]
[5855,"Szolnok","016","Q1","2019-02-13","KKV számlanyitás",-4,"db","2019-03-01","kormos3",{"$f":"AND(E5856>=Kimutatás!B$2,E5856<=Kimutatás!B$3)","v":true}]
[5856,"Szolnok","016","Q1","2019-02-13","Betét állomány növekmény",50,"Mhuf","2019-03-01","kormos3",{"$f":"AND(E5857>=Kimutatás!B$2,E5857<=Kimutatás!B$3)","v":true}]
[5857,"Szolnok","016","Q1","2019-02-14","Betérő ügyfelek",40,"fő","2019-03-01","kormos3",{"$f":"AND(E5858>=Kimutatás!B$2,E5858<=Kimutatás!B$3)","v":true}]
[5858,"Szolnok","016","Q1","2019-02-14","Lakossági hitelnövekmény összege ",47,"Mhuf","2019-03-01","kormos3",{"$f":"AND(E5859>=Kimutatás!B$2,E5859<=Kimutatás!B$3)","v":true}]
[5859,"Szolnok","016","Q1","2019-02-14","Lakossági számlanyitás",0,"db","2019-03-01","kormos3",{"$f":"AND(E5860>=Kimutatás!B$2,E5860<=Kimutatás!B$3)","v":true}]
[5860,"Szolnok","016","Q1","2019-02-14","KKV hitelnövekmény (db)",0,"db","2019-03-01","kormos3",{"$f":"AND(E5861>=Kimutatás!B$2,E5861<=Kimutatás!B$3)","v":true}]
[5861,"Szolnok","016","Q1","2019-02-14","KKV számlanyitás",2,"db","2019-03-01","kormos3",{"$f":"AND(E5862>=Kimutatás!B$2,E5862<=Kimutatás!B$3)","v":true}]
[5862,"Szolnok","016","Q1","2019-02-14","Betét állomány növekmény",21,"Mhuf","2019-03-01","kormos3",{"$f":"AND(E5863>=Kimutatás!B$2,E5863<=Kimutatás!B$3)","v":true}]
[5863,"Szolnok","016","Q1","2019-02-17","Betérő ügyfelek",43,"fő","2019-03-01","kormos3",{"$f":"AND(E5864>=Kimutatás!B$2,E5864<=Kimutatás!B$3)","v":true}]
[5864,"Szolnok","016","Q1","2019-02-17","Lakossági hitelnövekmény összege ",9,"Mhuf","2019-03-01","kormos3",{"$f":"AND(E5865>=Kimutatás!B$2,E5865<=Kimutatás!B$3)","v":true}]
[5865,"Szolnok","016","Q1","2019-02-17","Lakossági számlanyitás",2,"db","2019-03-01","kormos3",{"$f":"AND(E5866>=Kimutatás!B$2,E5866<=Kimutatás!B$3)","v":true}]
[5866,"Szolnok","016","Q1","2019-02-17","KKV hitelnövekmény (db)",0,"db","2019-03-01","kormos3",{"$f":"AND(E5867>=Kimutatás!B$2,E5867<=Kimutatás!B$3)","v":true}]
[5867,"Szolnok","016","Q1","2019-02-17","KKV számlanyitás",-5,"db","2019-03-01","kormos3",{"$f":"AND(E5868>=Kimutatás!B$2,E5868<=Kimutatás!B$3)","v":true}]
[5868,"Szolnok","016","Q1","2019-02-17","Betét állomány növekmény",36,"Mhuf","2019-03-01","kormos3",{"$f":"AND(E5869>=Kimutatás!B$2,E5869<=Kimutatás!B$3)","v":true}]
[5869,"Szolnok","016","Q1","2019-02-18","Betérő ügyfelek",7,"fő","2019-03-01","kormos3",{"$f":"AND(E5870>=Kimutatás!B$2,E5870<=Kimutatás!B$3)","v":true}]
[5870,"Szolnok","016","Q1","2019-02-18","Lakossági hitelnövekmény összege ",47,"Mhuf","2019-03-01","kormos3",{"$f":"AND(E5871>=Kimutatás!B$2,E5871<=Kimutatás!B$3)","v":true}]
[5871,"Szolnok","016","Q1","2019-02-18","Lakossági számlanyitás",-5,"db","2019-03-01","kormos3",{"$f":"AND(E5872>=Kimutatás!B$2,E5872<=Kimutatás!B$3)","v":true}]
[5872,"Szolnok","016","Q1","2019-02-18","KKV hitelnövekmény (db)",-1,"db","2019-03-01","kormos3",{"$f":"AND(E5873>=Kimutatás!B$2,E5873<=Kimutatás!B$3)","v":true}]
[5873,"Szolnok","016","Q1","2019-02-18","KKV számlanyitás",4,"db","2019-03-01","kormos3",{"$f":"AND(E5874>=Kimutatás!B$2,E5874<=Kimutatás!B$3)","v":true}]
[5874,"Szolnok","016","Q1","2019-02-18","Betét állomány növekmény",35,"Mhuf","2019-03-01","kormos3",{"$f":"AND(E5875>=Kimutatás!B$2,E5875<=Kimutatás!B$3)","v":true}]
[5875,"Szolnok","016","Q1","2019-02-19","Betérő ügyfelek",40,"fő","2019-03-01","kormos3",{"$f":"AND(E5876>=Kimutatás!B$2,E5876<=Kimutatás!B$3)","v":true}]
[5876,"Szolnok","016","Q1","2019-02-19","Lakossági hitelnövekmény összege ",23,"Mhuf","2019-03-01","kormos3",{"$f":"AND(E5877>=Kimutatás!B$2,E5877<=Kimutatás!B$3)","v":true}]
[5877,"Szolnok","016","Q1","2019-02-19","Lakossági számlanyitás",0,"db","2019-03-01","kormos3",{"$f":"AND(E5878>=Kimutatás!B$2,E5878<=Kimutatás!B$3)","v":true}]
[5878,"Szolnok","016","Q1","2019-02-19","KKV hitelnövekmény (db)",0,"db","2019-03-01","kormos3",{"$f":"AND(E5879>=Kimutatás!B$2,E5879<=Kimutatás!B$3)","v":true}]
[5879,"Szolnok","016","Q1","2019-02-19","KKV számlanyitás",-3,"db","2019-03-01","kormos3",{"$f":"AND(E5880>=Kimutatás!B$2,E5880<=Kimutatás!B$3)","v":true}]
[5880,"Szolnok","016","Q1","2019-02-19","Betét állomány növekmény",31,"Mhuf","2019-03-01","kormos3",{"$f":"AND(E5881>=Kimutatás!B$2,E5881<=Kimutatás!B$3)","v":true}]
[5881,"Szolnok","016","Q1","2019-02-20","Betérő ügyfelek",45,"fő","2019-03-01","kormos3",{"$f":"AND(E5882>=Kimutatás!B$2,E5882<=Kimutatás!B$3)","v":true}]
[5882,"Szolnok","016","Q1","2019-02-20","Lakossági hitelnövekmény összege ",43,"Mhuf","2019-03-01","kormos3",{"$f":"AND(E5883>=Kimutatás!B$2,E5883<=Kimutatás!B$3)","v":true}]
[5883,"Szolnok","016","Q1","2019-02-20","Lakossági számlanyitás",2,"db","2019-03-01","kormos3",{"$f":"AND(E5884>=Kimutatás!B$2,E5884<=Kimutatás!B$3)","v":true}]
[5884,"Szolnok","016","Q1","2019-02-20","KKV hitelnövekmény (db)",-1,"db","2019-03-01","kormos3",{"$f":"AND(E5885>=Kimutatás!B$2,E5885<=Kimutatás!B$3)","v":true}]
[5885,"Szolnok","016","Q1","2019-02-20","KKV számlanyitás",5,"db","2019-03-01","kormos3",{"$f":"AND(E5886>=Kimutatás!B$2,E5886<=Kimutatás!B$3)","v":true}]
[5886,"Szolnok","016","Q1","2019-02-20","Betét állomány növekmény",34,"Mhuf","2019-03-01","kormos3",{"$f":"AND(E5887>=Kimutatás!B$2,E5887<=Kimutatás!B$3)","v":true}]
[5887,"Szolnok","016","Q1","2019-02-21","Betérő ügyfelek",14,"fő","2019-03-01","kormos3",{"$f":"AND(E5888>=Kimutatás!B$2,E5888<=Kimutatás!B$3)","v":true}]
[5888,"Szolnok","016","Q1","2019-02-21","Lakossági hitelnövekmény összege ",10,"Mhuf","2019-03-01","kormos3",{"$f":"AND(E5889>=Kimutatás!B$2,E5889<=Kimutatás!B$3)","v":true}]
[5889,"Szolnok","016","Q1","2019-02-21","Lakossági számlanyitás",0,"db","2019-03-01","kormos3",{"$f":"AND(E5890>=Kimutatás!B$2,E5890<=Kimutatás!B$3)","v":true}]
[5890,"Szolnok","016","Q1","2019-02-21","KKV hitelnövekmény (db)",-2,"db","2019-03-01","kormos3",{"$f":"AND(E5891>=Kimutatás!B$2,E5891<=Kimutatás!B$3)","v":true}]
[5891,"Szolnok","016","Q1","2019-02-21","KKV számlanyitás",3,"db","2019-03-01","kormos3",{"$f":"AND(E5892>=Kimutatás!B$2,E5892<=Kimutatás!B$3)","v":true}]
[5892,"Szolnok","016","Q1","2019-02-21","Betét állomány növekmény",27,"Mhuf","2019-03-01","kormos3",{"$f":"AND(E5893>=Kimutatás!B$2,E5893<=Kimutatás!B$3)","v":true}]
[5893,"Szolnok","016","Q1","2019-02-24","Betérő ügyfelek",42,"fő","2019-03-01","kormos3",{"$f":"AND(E5894>=Kimutatás!B$2,E5894<=Kimutatás!B$3)","v":true}]
[5894,"Szolnok","016","Q1","2019-02-24","Lakossági hitelnövekmény összege ",25,"Mhuf","2019-03-01","kormos3",{"$f":"AND(E5895>=Kimutatás!B$2,E5895<=Kimutatás!B$3)","v":true}]
[5895,"Szolnok","016","Q1","2019-02-24","Lakossági számlanyitás",-5,"db","2019-03-01","kormos3",{"$f":"AND(E5896>=Kimutatás!B$2,E5896<=Kimutatás!B$3)","v":true}]
[5896,"Szolnok","016","Q1","2019-02-24","KKV hitelnövekmény (db)",2,"db","2019-03-01","kormos3",{"$f":"AND(E5897>=Kimutatás!B$2,E5897<=Kimutatás!B$3)","v":true}]
[5897,"Szolnok","016","Q1","2019-02-24","KKV számlanyitás",5,"db","2019-03-01","kormos3",{"$f":"AND(E5898>=Kimutatás!B$2,E5898<=Kimutatás!B$3)","v":true}]
[5898,"Szolnok","016","Q1","2019-02-24","Betét állomány növekmény",33,"Mhuf","2019-03-01","kormos3",{"$f":"AND(E5899>=Kimutatás!B$2,E5899<=Kimutatás!B$3)","v":true}]
[5899,"Szolnok","016","Q1","2019-02-25","Betérő ügyfelek",17,"fő","2019-03-01","kormos3",{"$f":"AND(E5900>=Kimutatás!B$2,E5900<=Kimutatás!B$3)","v":true}]
[5900,"Szolnok","016","Q1","2019-02-25","Lakossági hitelnövekmény összege ",42,"Mhuf","2019-03-01","kormos3",{"$f":"AND(E5901>=Kimutatás!B$2,E5901<=Kimutatás!B$3)","v":true}]
[5901,"Szolnok","016","Q1","2019-02-25","Lakossági számlanyitás",-1,"db","2019-03-01","kormos3",{"$f":"AND(E5902>=Kimutatás!B$2,E5902<=Kimutatás!B$3)","v":true}]
[5902,"Szolnok","016","Q1","2019-02-25","KKV hitelnövekmény (db)",-2,"db","2019-03-01","kormos3",{"$f":"AND(E5903>=Kimutatás!B$2,E5903<=Kimutatás!B$3)","v":true}]
[5903,"Szolnok","016","Q1","2019-02-25","KKV számlanyitás",-5,"db","2019-03-01","kormos3",{"$f":"AND(E5904>=Kimutatás!B$2,E5904<=Kimutatás!B$3)","v":true}]
[5904,"Szolnok","016","Q1","2019-02-25","Betét állomány növekmény",3,"Mhuf","2019-03-01","kormos3",{"$f":"AND(E5905>=Kimutatás!B$2,E5905<=Kimutatás!B$3)","v":true}]
[5905,"Szolnok","016","Q1","2019-02-26","Betérő ügyfelek",22,"fő","2019-03-01","kormos3",{"$f":"AND(E5906>=Kimutatás!B$2,E5906<=Kimutatás!B$3)","v":true}]
[5906,"Szolnok","016","Q1","2019-02-26","Lakossági hitelnövekmény összege ",25,"Mhuf","2019-03-01","kormos3",{"$f":"AND(E5907>=Kimutatás!B$2,E5907<=Kimutatás!B$3)","v":true}]
[5907,"Szolnok","016","Q1","2019-02-26","Lakossági számlanyitás",-3,"db","2019-03-01","kormos3",{"$f":"AND(E5908>=Kimutatás!B$2,E5908<=Kimutatás!B$3)","v":true}]
[5908,"Szolnok","016","Q1","2019-02-26","KKV hitelnövekmény (db)",-2,"db","2019-03-01","kormos3",{"$f":"AND(E5909>=Kimutatás!B$2,E5909<=Kimutatás!B$3)","v":true}]
[5909,"Szolnok","016","Q1","2019-02-26","KKV számlanyitás",4,"db","2019-03-01","kormos3",{"$f":"AND(E5910>=Kimutatás!B$2,E5910<=Kimutatás!B$3)","v":true}]
[5910,"Szolnok","016","Q1","2019-02-26","Betét állomány növekmény",13,"Mhuf","2019-03-01","kormos3",{"$f":"AND(E5911>=Kimutatás!B$2,E5911<=Kimutatás!B$3)","v":true}]
[5911,"Szolnok","016","Q1","2019-02-27","Betérő ügyfelek",45,"fő","2019-03-01","kormos3",{"$f":"AND(E5912>=Kimutatás!B$2,E5912<=Kimutatás!B$3)","v":true}]
[5912,"Szolnok","016","Q1","2019-02-27","Lakossági hitelnövekmény összege ",-6,"Mhuf","2019-03-01","kormos3",{"$f":"AND(E5913>=Kimutatás!B$2,E5913<=Kimutatás!B$3)","v":true}]
[5913,"Szolnok","016","Q1","2019-02-27","Lakossági számlanyitás",4,"db","2019-03-01","kormos3",{"$f":"AND(E5914>=Kimutatás!B$2,E5914<=Kimutatás!B$3)","v":true}]
[5914,"Szolnok","016","Q1","2019-02-27","KKV hitelnövekmény (db)",1,"db","2019-03-01","kormos3",{"$f":"AND(E5915>=Kimutatás!B$2,E5915<=Kimutatás!B$3)","v":true}]
[5915,"Szolnok","016","Q1","2019-02-27","KKV számlanyitás",-3,"db","2019-03-01","kormos3",{"$f":"AND(E5916>=Kimutatás!B$2,E5916<=Kimutatás!B$3)","v":true}]
[5916,"Szolnok","016","Q1","2019-02-27","Betét állomány növekmény",37,"Mhuf","2019-03-01","kormos3",{"$f":"AND(E5917>=Kimutatás!B$2,E5917<=Kimutatás!B$3)","v":true}]
[5917,"Szolnok","016","Q1","2019-02-28","Betérő ügyfelek",10,"fő","2019-03-01","kormos3",{"$f":"AND(E5918>=Kimutatás!B$2,E5918<=Kimutatás!B$3)","v":true}]
[5918,"Szolnok","016","Q1","2019-02-28","Lakossági hitelnövekmény összege ",22,"Mhuf","2019-03-01","kormos3",{"$f":"AND(E5919>=Kimutatás!B$2,E5919<=Kimutatás!B$3)","v":true}]
[5919,"Szolnok","016","Q1","2019-02-28","Lakossági számlanyitás",8,"db","2019-03-01","kormos3",{"$f":"AND(E5920>=Kimutatás!B$2,E5920<=Kimutatás!B$3)","v":true}]
[5920,"Szolnok","016","Q1","2019-02-28","KKV hitelnövekmény (db)",2,"db","2019-03-01","kormos3",{"$f":"AND(E5921>=Kimutatás!B$2,E5921<=Kimutatás!B$3)","v":true}]
[5921,"Szolnok","016","Q1","2019-02-28","KKV számlanyitás",3,"db","2019-03-01","kormos3",{"$f":"AND(E5922>=Kimutatás!B$2,E5922<=Kimutatás!B$3)","v":true}]
[5922,"Szolnok","016","Q1","2019-02-28","Betét állomány növekmény",24,"Mhuf","2019-03-01","kormos3",{"$f":"AND(E5923>=Kimutatás!B$2,E5923<=Kimutatás!B$3)","v":true}]
[5923,"Szolnok","016","Q1","2019-03-03","Betérő ügyfelek",5,"fő","2019-04-01","pálpapp",{"$f":"AND(E5924>=Kimutatás!B$2,E5924<=Kimutatás!B$3)","v":true}]
[5924,"Szolnok","016","Q1","2019-03-03","Lakossági hitelnövekmény összege ",14,"Mhuf","2019-04-01","pálpapp",{"$f":"AND(E5925>=Kimutatás!B$2,E5925<=Kimutatás!B$3)","v":true}]
[5925,"Szolnok","016","Q1","2019-03-03","Lakossági számlanyitás",1,"db","2019-04-01","pálpapp",{"$f":"AND(E5926>=Kimutatás!B$2,E5926<=Kimutatás!B$3)","v":true}]
[5926,"Szolnok","016","Q1","2019-03-03","KKV hitelnövekmény (db)",-2,"db","2019-04-01","pálpapp",{"$f":"AND(E5927>=Kimutatás!B$2,E5927<=Kimutatás!B$3)","v":true}]
[5927,"Szolnok","016","Q1","2019-03-03","KKV számlanyitás",4,"db","2019-04-01","pálpapp",{"$f":"AND(E5928>=Kimutatás!B$2,E5928<=Kimutatás!B$3)","v":true}]
[5928,"Szolnok","016","Q1","2019-03-03","Betét állomány növekmény",13,"Mhuf","2019-04-01","pálpapp",{"$f":"AND(E5929>=Kimutatás!B$2,E5929<=Kimutatás!B$3)","v":true}]
[5929,"Szolnok","016","Q1","2019-03-04","Betérő ügyfelek",28,"fő","2019-04-01","pálpapp",{"$f":"AND(E5930>=Kimutatás!B$2,E5930<=Kimutatás!B$3)","v":true}]
[5930,"Szolnok","016","Q1","2019-03-04","Lakossági hitelnövekmény összege ",16,"Mhuf","2019-04-01","pálpapp",{"$f":"AND(E5931>=Kimutatás!B$2,E5931<=Kimutatás!B$3)","v":true}]
[5931,"Szolnok","016","Q1","2019-03-04","Lakossági számlanyitás",0,"db","2019-04-01","pálpapp",{"$f":"AND(E5932>=Kimutatás!B$2,E5932<=Kimutatás!B$3)","v":true}]
[5932,"Szolnok","016","Q1","2019-03-04","KKV hitelnövekmény (db)",-1,"db","2019-04-01","pálpapp",{"$f":"AND(E5933>=Kimutatás!B$2,E5933<=Kimutatás!B$3)","v":true}]
[5933,"Szolnok","016","Q1","2019-03-04","KKV számlanyitás",2,"db","2019-04-01","pálpapp",{"$f":"AND(E5934>=Kimutatás!B$2,E5934<=Kimutatás!B$3)","v":true}]
[5934,"Szolnok","016","Q1","2019-03-04","Betét állomány növekmény",-5,"Mhuf","2019-04-01","pálpapp",{"$f":"AND(E5935>=Kimutatás!B$2,E5935<=Kimutatás!B$3)","v":true}]
[5935,"Szolnok","016","Q1","2019-03-05","Betérő ügyfelek",50,"fő","2019-04-01","pálpapp",{"$f":"AND(E5936>=Kimutatás!B$2,E5936<=Kimutatás!B$3)","v":true}]
[5936,"Szolnok","016","Q1","2019-03-05","Lakossági hitelnövekmény összege ",11,"Mhuf","2019-04-01","pálpapp",{"$f":"AND(E5937>=Kimutatás!B$2,E5937<=Kimutatás!B$3)","v":true}]
[5937,"Szolnok","016","Q1","2019-03-05","Lakossági számlanyitás",4,"db","2019-04-01","pálpapp",{"$f":"AND(E5938>=Kimutatás!B$2,E5938<=Kimutatás!B$3)","v":true}]
[5938,"Szolnok","016","Q1","2019-03-05","KKV hitelnövekmény (db)",0,"db","2019-04-01","pálpapp",{"$f":"AND(E5939>=Kimutatás!B$2,E5939<=Kimutatás!B$3)","v":true}]
[5939,"Szolnok","016","Q1","2019-03-05","KKV számlanyitás",2,"db","2019-04-01","pálpapp",{"$f":"AND(E5940>=Kimutatás!B$2,E5940<=Kimutatás!B$3)","v":true}]
[5940,"Szolnok","016","Q1","2019-03-05","Betét állomány növekmény",36,"Mhuf","2019-04-01","pálpapp",{"$f":"AND(E5941>=Kimutatás!B$2,E5941<=Kimutatás!B$3)","v":true}]
[5941,"Szolnok","016","Q1","2019-03-06","Betérő ügyfelek",12,"fő","2019-04-01","pálpapp",{"$f":"AND(E5942>=Kimutatás!B$2,E5942<=Kimutatás!B$3)","v":true}]
[5942,"Szolnok","016","Q1","2019-03-06","Lakossági hitelnövekmény összege ",-10,"Mhuf","2019-04-01","pálpapp",{"$f":"AND(E5943>=Kimutatás!B$2,E5943<=Kimutatás!B$3)","v":true}]
[5943,"Szolnok","016","Q1","2019-03-06","Lakossági számlanyitás",7,"db","2019-04-01","pálpapp",{"$f":"AND(E5944>=Kimutatás!B$2,E5944<=Kimutatás!B$3)","v":true}]
[5944,"Szolnok","016","Q1","2019-03-06","KKV hitelnövekmény (db)",-1,"db","2019-04-01","pálpapp",{"$f":"AND(E5945>=Kimutatás!B$2,E5945<=Kimutatás!B$3)","v":true}]
[5945,"Szolnok","016","Q1","2019-03-06","KKV számlanyitás",2,"db","2019-04-01","pálpapp",{"$f":"AND(E5946>=Kimutatás!B$2,E5946<=Kimutatás!B$3)","v":true}]
[5946,"Szolnok","016","Q1","2019-03-06","Betét állomány növekmény",22,"Mhuf","2019-04-01","pálpapp",{"$f":"AND(E5947>=Kimutatás!B$2,E5947<=Kimutatás!B$3)","v":true}]
[5947,"Szolnok","016","Q1","2019-03-07","Betérő ügyfelek",43,"fő","2019-04-01","pálpapp",{"$f":"AND(E5948>=Kimutatás!B$2,E5948<=Kimutatás!B$3)","v":true}]
[5948,"Szolnok","016","Q1","2019-03-07","Lakossági hitelnövekmény összege ",33,"Mhuf","2019-04-01","pálpapp",{"$f":"AND(E5949>=Kimutatás!B$2,E5949<=Kimutatás!B$3)","v":true}]
[5949,"Szolnok","016","Q1","2019-03-07","Lakossági számlanyitás",6,"db","2019-04-01","pálpapp",{"$f":"AND(E5950>=Kimutatás!B$2,E5950<=Kimutatás!B$3)","v":true}]
[5950,"Szolnok","016","Q1","2019-03-07","KKV hitelnövekmény (db)",-2,"db","2019-04-01","pálpapp",{"$f":"AND(E5951>=Kimutatás!B$2,E5951<=Kimutatás!B$3)","v":true}]
[5951,"Szolnok","016","Q1","2019-03-07","KKV számlanyitás",-1,"db","2019-04-01","pálpapp",{"$f":"AND(E5952>=Kimutatás!B$2,E5952<=Kimutatás!B$3)","v":true}]
[5952,"Szolnok","016","Q1","2019-03-07","Betét állomány növekmény",14,"Mhuf","2019-04-01","pálpapp",{"$f":"AND(E5953>=Kimutatás!B$2,E5953<=Kimutatás!B$3)","v":true}]
[5953,"Szolnok","016","Q1","2019-03-10","Betérő ügyfelek",3,"fő","2019-04-01","pálpapp",{"$f":"AND(E5954>=Kimutatás!B$2,E5954<=Kimutatás!B$3)","v":true}]
[5954,"Szolnok","016","Q1","2019-03-10","Lakossági hitelnövekmény összege ",48,"Mhuf","2019-04-01","pálpapp",{"$f":"AND(E5955>=Kimutatás!B$2,E5955<=Kimutatás!B$3)","v":true}]
[5955,"Szolnok","016","Q1","2019-03-10","Lakossági számlanyitás",1,"db","2019-04-01","pálpapp",{"$f":"AND(E5956>=Kimutatás!B$2,E5956<=Kimutatás!B$3)","v":true}]
[5956,"Szolnok","016","Q1","2019-03-10","KKV hitelnövekmény (db)",2,"db","2019-04-01","pálpapp",{"$f":"AND(E5957>=Kimutatás!B$2,E5957<=Kimutatás!B$3)","v":true}]
[5957,"Szolnok","016","Q1","2019-03-10","KKV számlanyitás",-1,"db","2019-04-01","pálpapp",{"$f":"AND(E5958>=Kimutatás!B$2,E5958<=Kimutatás!B$3)","v":true}]
[5958,"Szolnok","016","Q1","2019-03-10","Betét állomány növekmény",44,"Mhuf","2019-04-01","pálpapp",{"$f":"AND(E5959>=Kimutatás!B$2,E5959<=Kimutatás!B$3)","v":true}]
[5959,"Szolnok","016","Q1","2019-03-11","Betérő ügyfelek",24,"fő","2019-04-01","pálpapp",{"$f":"AND(E5960>=Kimutatás!B$2,E5960<=Kimutatás!B$3)","v":false}]
[5960,"Szolnok","016","Q1","2019-03-11","Lakossági hitelnövekmény összege ",18,"Mhuf","2019-04-01","pálpapp",{"$f":"AND(E5961>=Kimutatás!B$2,E5961<=Kimutatás!B$3)","v":false}]
[5961,"Szolnok","016","Q1","2019-03-11","Lakossági számlanyitás",-4,"db","2019-04-01","pálpapp",{"$f":"AND(E5962>=Kimutatás!B$2,E5962<=Kimutatás!B$3)","v":false}]
[5962,"Szolnok","016","Q1","2019-03-11","KKV hitelnövekmény (db)",2,"db","2019-04-01","pálpapp",{"$f":"AND(E5963>=Kimutatás!B$2,E5963<=Kimutatás!B$3)","v":false}]
[5963,"Szolnok","016","Q1","2019-03-11","KKV számlanyitás",-4,"db","2019-04-01","pálpapp",{"$f":"AND(E5964>=Kimutatás!B$2,E5964<=Kimutatás!B$3)","v":false}]
[5964,"Szolnok","016","Q1","2019-03-11","Betét állomány növekmény",36,"Mhuf","2019-04-01","pálpapp",{"$f":"AND(E5965>=Kimutatás!B$2,E5965<=Kimutatás!B$3)","v":false}]
[5965,"Szolnok","016","Q1","2019-03-12","Betérő ügyfelek",19,"fő","2019-04-01","pálpapp",{"$f":"AND(E5966>=Kimutatás!B$2,E5966<=Kimutatás!B$3)","v":false}]
[5966,"Szolnok","016","Q1","2019-03-12","Lakossági hitelnövekmény összege ",38,"Mhuf","2019-04-01","pálpapp",{"$f":"AND(E5967>=Kimutatás!B$2,E5967<=Kimutatás!B$3)","v":false}]
[5967,"Szolnok","016","Q1","2019-03-12","Lakossági számlanyitás",7,"db","2019-04-01","pálpapp",{"$f":"AND(E5968>=Kimutatás!B$2,E5968<=Kimutatás!B$3)","v":false}]
[5968,"Szolnok","016","Q1","2019-03-12","KKV hitelnövekmény (db)",0,"db","2019-04-01","pálpapp",{"$f":"AND(E5969>=Kimutatás!B$2,E5969<=Kimutatás!B$3)","v":false}]
[5969,"Szolnok","016","Q1","2019-03-12","KKV számlanyitás",4,"db","2019-04-01","pálpapp",{"$f":"AND(E5970>=Kimutatás!B$2,E5970<=Kimutatás!B$3)","v":false}]
[5970,"Szolnok","016","Q1","2019-03-12","Betét állomány növekmény",-13,"Mhuf","2019-04-01","pálpapp",{"$f":"AND(E5971>=Kimutatás!B$2,E5971<=Kimutatás!B$3)","v":false}]
[5971,"Szolnok","016","Q1","2019-03-13","Betérő ügyfelek",44,"fő","2019-04-01","pálpapp",{"$f":"AND(E5972>=Kimutatás!B$2,E5972<=Kimutatás!B$3)","v":false}]
[5972,"Szolnok","016","Q1","2019-03-13","Lakossági hitelnövekmény összege ",-8,"Mhuf","2019-04-01","pálpapp",{"$f":"AND(E5973>=Kimutatás!B$2,E5973<=Kimutatás!B$3)","v":false}]
[5973,"Szolnok","016","Q1","2019-03-13","Lakossági számlanyitás",2,"db","2019-04-01","pálpapp",{"$f":"AND(E5974>=Kimutatás!B$2,E5974<=Kimutatás!B$3)","v":false}]
[5974,"Szolnok","016","Q1","2019-03-13","KKV hitelnövekmény (db)",-2,"db","2019-04-01","pálpapp",{"$f":"AND(E5975>=Kimutatás!B$2,E5975<=Kimutatás!B$3)","v":false}]
[5975,"Szolnok","016","Q1","2019-03-13","KKV számlanyitás",5,"db","2019-04-01","pálpapp",{"$f":"AND(E5976>=Kimutatás!B$2,E5976<=Kimutatás!B$3)","v":false}]
[5976,"Szolnok","016","Q1","2019-03-13","Betét állomány növekmény",-11,"Mhuf","2019-04-01","pálpapp",{"$f":"AND(E5977>=Kimutatás!B$2,E5977<=Kimutatás!B$3)","v":false}]
[5977,"Szolnok","016","Q1","2019-03-14","Betérő ügyfelek",30,"fő","2019-04-01","pálpapp",{"$f":"AND(E5978>=Kimutatás!B$2,E5978<=Kimutatás!B$3)","v":false}]
[5978,"Szolnok","016","Q1","2019-03-14","Lakossági hitelnövekmény összege ",41,"Mhuf","2019-04-01","pálpapp",{"$f":"AND(E5979>=Kimutatás!B$2,E5979<=Kimutatás!B$3)","v":false}]
[5979,"Szolnok","016","Q1","2019-03-14","Lakossági számlanyitás",7,"db","2019-04-01","pálpapp",{"$f":"AND(E5980>=Kimutatás!B$2,E5980<=Kimutatás!B$3)","v":false}]
[5980,"Szolnok","016","Q1","2019-03-14","KKV hitelnövekmény (db)",-1,"db","2019-04-01","pálpapp",{"$f":"AND(E5981>=Kimutatás!B$2,E5981<=Kimutatás!B$3)","v":false}]
[5981,"Szolnok","016","Q1","2019-03-14","KKV számlanyitás",3,"db","2019-04-01","pálpapp",{"$f":"AND(E5982>=Kimutatás!B$2,E5982<=Kimutatás!B$3)","v":false}]
[5982,"Szolnok","016","Q1","2019-03-14","Betét állomány növekmény",50,"Mhuf","2019-04-01","pálpapp",{"$f":"AND(E5983>=Kimutatás!B$2,E5983<=Kimutatás!B$3)","v":false}]
[5983,"Szolnok","016","Q1","2019-03-17","Betérő ügyfelek",14,"fő","2019-04-01","pálpapp",{"$f":"AND(E5984>=Kimutatás!B$2,E5984<=Kimutatás!B$3)","v":false}]
[5984,"Szolnok","016","Q1","2019-03-17","Lakossági hitelnövekmény összege ",12,"Mhuf","2019-04-01","pálpapp",{"$f":"AND(E5985>=Kimutatás!B$2,E5985<=Kimutatás!B$3)","v":false}]
[5985,"Szolnok","016","Q1","2019-03-17","Lakossági számlanyitás",9,"db","2019-04-01","pálpapp",{"$f":"AND(E5986>=Kimutatás!B$2,E5986<=Kimutatás!B$3)","v":false}]
[5986,"Szolnok","016","Q1","2019-03-17","KKV hitelnövekmény (db)",2,"db","2019-04-01","pálpapp",{"$f":"AND(E5987>=Kimutatás!B$2,E5987<=Kimutatás!B$3)","v":false}]
[5987,"Szolnok","016","Q1","2019-03-17","KKV számlanyitás",-4,"db","2019-04-01","pálpapp",{"$f":"AND(E5988>=Kimutatás!B$2,E5988<=Kimutatás!B$3)","v":false}]
[5988,"Szolnok","016","Q1","2019-03-17","Betét állomány növekmény",-5,"Mhuf","2019-04-01","pálpapp",{"$f":"AND(E5989>=Kimutatás!B$2,E5989<=Kimutatás!B$3)","v":false}]
[5989,"Szolnok","016","Q1","2019-03-18","Betérő ügyfelek",8,"fő","2019-04-01","pálpapp",{"$f":"AND(E5990>=Kimutatás!B$2,E5990<=Kimutatás!B$3)","v":false}]
[5990,"Szolnok","016","Q1","2019-03-18","Lakossági hitelnövekmény összege ",22,"Mhuf","2019-04-01","pálpapp",{"$f":"AND(E5991>=Kimutatás!B$2,E5991<=Kimutatás!B$3)","v":false}]
[5991,"Szolnok","016","Q1","2019-03-18","Lakossági számlanyitás",-2,"db","2019-04-01","pálpapp",{"$f":"AND(E5992>=Kimutatás!B$2,E5992<=Kimutatás!B$3)","v":false}]
[5992,"Szolnok","016","Q1","2019-03-18","KKV hitelnövekmény (db)",2,"db","2019-04-01","pálpapp",{"$f":"AND(E5993>=Kimutatás!B$2,E5993<=Kimutatás!B$3)","v":false}]
[5993,"Szolnok","016","Q1","2019-03-18","KKV számlanyitás",-5,"db","2019-04-01","pálpapp",{"$f":"AND(E5994>=Kimutatás!B$2,E5994<=Kimutatás!B$3)","v":false}]
[5994,"Szolnok","016","Q1","2019-03-18","Betét állomány növekmény",43,"Mhuf","2019-04-01","pálpapp",{"$f":"AND(E5995>=Kimutatás!B$2,E5995<=Kimutatás!B$3)","v":false}]
[5995,"Szolnok","016","Q1","2019-03-19","Betérő ügyfelek",41,"fő","2019-04-01","pálpapp",{"$f":"AND(E5996>=Kimutatás!B$2,E5996<=Kimutatás!B$3)","v":false}]
[5996,"Szolnok","016","Q1","2019-03-19","Lakossági hitelnövekmény összege ",9,"Mhuf","2019-04-01","pálpapp",{"$f":"AND(E5997>=Kimutatás!B$2,E5997<=Kimutatás!B$3)","v":false}]
[5997,"Szolnok","016","Q1","2019-03-19","Lakossági számlanyitás",2,"db","2019-04-01","pálpapp",{"$f":"AND(E5998>=Kimutatás!B$2,E5998<=Kimutatás!B$3)","v":false}]
[5998,"Szolnok","016","Q1","2019-03-19","KKV hitelnövekmény (db)",0,"db","2019-04-01","pálpapp",{"$f":"AND(E5999>=Kimutatás!B$2,E5999<=Kimutatás!B$3)","v":false}]
[5999,"Szolnok","016","Q1","2019-03-19","KKV számlanyitás",-1,"db","2019-04-01","pálpapp",{"$f":"AND(E6000>=Kimutatás!B$2,E6000<=Kimutatás!B$3)","v":false}]
[6000,"Szolnok","016","Q1","2019-03-19","Betét állomány növekmény",-11,"Mhuf","2019-04-01","pálpapp",{"$f":"AND(E6001>=Kimutatás!B$2,E6001<=Kimutatás!B$3)","v":false}]
[6001,"Szolnok","016","Q1","2019-03-20","Betérő ügyfelek",32,"fő","2019-04-01","pálpapp",{"$f":"AND(E6002>=Kimutatás!B$2,E6002<=Kimutatás!B$3)","v":false}]
[6002,"Szolnok","016","Q1","2019-03-20","Lakossági hitelnövekmény összege ",44,"Mhuf","2019-04-01","pálpapp",{"$f":"AND(E6003>=Kimutatás!B$2,E6003<=Kimutatás!B$3)","v":false}]
[6003,"Szolnok","016","Q1","2019-03-20","Lakossági számlanyitás",-4,"db","2019-04-01","pálpapp",{"$f":"AND(E6004>=Kimutatás!B$2,E6004<=Kimutatás!B$3)","v":false}]
[6004,"Szolnok","016","Q1","2019-03-20","KKV hitelnövekmény (db)",2,"db","2019-04-01","pálpapp",{"$f":"AND(E6005>=Kimutatás!B$2,E6005<=Kimutatás!B$3)","v":false}]
[6005,"Szolnok","016","Q1","2019-03-20","KKV számlanyitás",-3,"db","2019-04-01","pálpapp",{"$f":"AND(E6006>=Kimutatás!B$2,E6006<=Kimutatás!B$3)","v":false}]
[6006,"Szolnok","016","Q1","2019-03-20","Betét állomány növekmény",48,"Mhuf","2019-04-01","pálpapp",{"$f":"AND(E6007>=Kimutatás!B$2,E6007<=Kimutatás!B$3)","v":false}]
[6007,"Szolnok","016","Q1","2019-03-21","Betérő ügyfelek",4,"fő","2019-04-01","pálpapp",{"$f":"AND(E6008>=Kimutatás!B$2,E6008<=Kimutatás!B$3)","v":false}]
[6008,"Szolnok","016","Q1","2019-03-21","Lakossági hitelnövekmény összege ",2,"Mhuf","2019-04-01","pálpapp",{"$f":"AND(E6009>=Kimutatás!B$2,E6009<=Kimutatás!B$3)","v":false}]
[6009,"Szolnok","016","Q1","2019-03-21","Lakossági számlanyitás",5,"db","2019-04-01","pálpapp",{"$f":"AND(E6010>=Kimutatás!B$2,E6010<=Kimutatás!B$3)","v":false}]
[6010,"Szolnok","016","Q1","2019-03-21","KKV hitelnövekmény (db)",-2,"db","2019-04-01","pálpapp",{"$f":"AND(E6011>=Kimutatás!B$2,E6011<=Kimutatás!B$3)","v":false}]
[6011,"Szolnok","016","Q1","2019-03-21","KKV számlanyitás",-1,"db","2019-04-01","pálpapp",{"$f":"AND(E6012>=Kimutatás!B$2,E6012<=Kimutatás!B$3)","v":false}]
[6012,"Szolnok","016","Q1","2019-03-21","Betét állomány növekmény",-16,"Mhuf","2019-04-01","pálpapp",{"$f":"AND(E6013>=Kimutatás!B$2,E6013<=Kimutatás!B$3)","v":false}]
[6013,"Szolnok","016","Q1","2019-03-24","Betérő ügyfelek",34,"fő","2019-04-01","pálpapp",{"$f":"AND(E6014>=Kimutatás!B$2,E6014<=Kimutatás!B$3)","v":false}]
[6014,"Szolnok","016","Q1","2019-03-24","Lakossági hitelnövekmény összege ",29,"Mhuf","2019-04-01","pálpapp",{"$f":"AND(E6015>=Kimutatás!B$2,E6015<=Kimutatás!B$3)","v":false}]
[6015,"Szolnok","016","Q1","2019-03-24","Lakossági számlanyitás",-2,"db","2019-04-01","pálpapp",{"$f":"AND(E6016>=Kimutatás!B$2,E6016<=Kimutatás!B$3)","v":false}]
[6016,"Szolnok","016","Q1","2019-03-24","KKV hitelnövekmény (db)",-2,"db","2019-04-01","pálpapp",{"$f":"AND(E6017>=Kimutatás!B$2,E6017<=Kimutatás!B$3)","v":false}]
[6017,"Szolnok","016","Q1","2019-03-24","KKV számlanyitás",4,"db","2019-04-01","pálpapp",{"$f":"AND(E6018>=Kimutatás!B$2,E6018<=Kimutatás!B$3)","v":false}]
[6018,"Szolnok","016","Q1","2019-03-24","Betét állomány növekmény",38,"Mhuf","2019-04-01","pálpapp",{"$f":"AND(E6019>=Kimutatás!B$2,E6019<=Kimutatás!B$3)","v":false}]
[6019,"Szolnok","016","Q1","2019-03-25","Betérő ügyfelek",48,"fő","2019-04-01","pálpapp",{"$f":"AND(E6020>=Kimutatás!B$2,E6020<=Kimutatás!B$3)","v":false}]
[6020,"Szolnok","016","Q1","2019-03-25","Lakossági hitelnövekmény összege ",34,"Mhuf","2019-04-01","pálpapp",{"$f":"AND(E6021>=Kimutatás!B$2,E6021<=Kimutatás!B$3)","v":false}]
[6021,"Szolnok","016","Q1","2019-03-25","Lakossági számlanyitás",9,"db","2019-04-01","pálpapp",{"$f":"AND(E6022>=Kimutatás!B$2,E6022<=Kimutatás!B$3)","v":false}]
[6022,"Szolnok","016","Q1","2019-03-25","KKV hitelnövekmény (db)",1,"db","2019-04-01","pálpapp",{"$f":"AND(E6023>=Kimutatás!B$2,E6023<=Kimutatás!B$3)","v":false}]
[6023,"Szolnok","016","Q1","2019-03-25","KKV számlanyitás",3,"db","2019-04-01","pálpapp",{"$f":"AND(E6024>=Kimutatás!B$2,E6024<=Kimutatás!B$3)","v":false}]
[6024,"Szolnok","016","Q1","2019-03-25","Betét állomány növekmény",-1,"Mhuf","2019-04-01","pálpapp",{"$f":"AND(E6025>=Kimutatás!B$2,E6025<=Kimutatás!B$3)","v":false}]
[6025,"Szolnok","016","Q1","2019-03-26","Betérő ügyfelek",27,"fő","2019-04-01","pálpapp",{"$f":"AND(E6026>=Kimutatás!B$2,E6026<=Kimutatás!B$3)","v":false}]
[6026,"Szolnok","016","Q1","2019-03-26","Lakossági hitelnövekmény összege ",3,"Mhuf","2019-04-01","pálpapp",{"$f":"AND(E6027>=Kimutatás!B$2,E6027<=Kimutatás!B$3)","v":false}]
[6027,"Szolnok","016","Q1","2019-03-26","Lakossági számlanyitás",-3,"db","2019-04-01","pálpapp",{"$f":"AND(E6028>=Kimutatás!B$2,E6028<=Kimutatás!B$3)","v":false}]
[6028,"Szolnok","016","Q1","2019-03-26","KKV hitelnövekmény (db)",2,"db","2019-04-01","pálpapp",{"$f":"AND(E6029>=Kimutatás!B$2,E6029<=Kimutatás!B$3)","v":false}]
[6029,"Szolnok","016","Q1","2019-03-26","KKV számlanyitás",3,"db","2019-04-01","pálpapp",{"$f":"AND(E6030>=Kimutatás!B$2,E6030<=Kimutatás!B$3)","v":false}]
[6030,"Szolnok","016","Q1","2019-03-26","Betét állomány növekmény",35,"Mhuf","2019-04-01","pálpapp",{"$f":"AND(E6031>=Kimutatás!B$2,E6031<=Kimutatás!B$3)","v":false}]
[6031,"Szolnok","016","Q1","2019-03-27","Betérő ügyfelek",44,"fő","2019-04-01","pálpapp",{"$f":"AND(E6032>=Kimutatás!B$2,E6032<=Kimutatás!B$3)","v":false}]
[6032,"Szolnok","016","Q1","2019-03-27","Lakossági hitelnövekmény összege ",22,"Mhuf","2019-04-01","pálpapp",{"$f":"AND(E6033>=Kimutatás!B$2,E6033<=Kimutatás!B$3)","v":false}]
[6033,"Szolnok","016","Q1","2019-03-27","Lakossági számlanyitás",10,"db","2019-04-01","pálpapp",{"$f":"AND(E6034>=Kimutatás!B$2,E6034<=Kimutatás!B$3)","v":false}]
[6034,"Szolnok","016","Q1","2019-03-27","KKV hitelnövekmény (db)",-2,"db","2019-04-01","pálpapp",{"$f":"AND(E6035>=Kimutatás!B$2,E6035<=Kimutatás!B$3)","v":false}]
[6035,"Szolnok","016","Q1","2019-03-27","KKV számlanyitás",-2,"db","2019-04-01","pálpapp",{"$f":"AND(E6036>=Kimutatás!B$2,E6036<=Kimutatás!B$3)","v":false}]
[6036,"Szolnok","016","Q1","2019-03-27","Betét állomány növekmény",44,"Mhuf","2019-04-01","pálpapp",{"$f":"AND(E6037>=Kimutatás!B$2,E6037<=Kimutatás!B$3)","v":false}]
[6037,"Szolnok","016","Q1","2019-03-28","Betérő ügyfelek",42,"fő","2019-04-01","pálpapp",{"$f":"AND(E6038>=Kimutatás!B$2,E6038<=Kimutatás!B$3)","v":false}]
[6038,"Szolnok","016","Q1","2019-03-28","Lakossági hitelnövekmény összege ",10,"Mhuf","2019-04-01","pálpapp",{"$f":"AND(E6039>=Kimutatás!B$2,E6039<=Kimutatás!B$3)","v":false}]
[6039,"Szolnok","016","Q1","2019-03-28","Lakossági számlanyitás",3,"db","2019-04-01","pálpapp",{"$f":"AND(E6040>=Kimutatás!B$2,E6040<=Kimutatás!B$3)","v":false}]
[6040,"Szolnok","016","Q1","2019-03-28","KKV hitelnövekmény (db)",1,"db","2019-04-01","pálpapp",{"$f":"AND(E6041>=Kimutatás!B$2,E6041<=Kimutatás!B$3)","v":false}]
[6041,"Szolnok","016","Q1","2019-03-28","KKV számlanyitás",-1,"db","2019-04-01","pálpapp",{"$f":"AND(E6042>=Kimutatás!B$2,E6042<=Kimutatás!B$3)","v":false}]
[6042,"Szolnok","016","Q1","2019-03-28","Betét állomány növekmény",16,"Mhuf","2019-04-01","pálpapp",{"$f":"AND(E6043>=Kimutatás!B$2,E6043<=Kimutatás!B$3)","v":false}]
[6043,"Szolnok","016","Q1","2019-03-31","Betérő ügyfelek",22,"fő","2019-04-01","pálpapp",{"$f":"AND(E6044>=Kimutatás!B$2,E6044<=Kimutatás!B$3)","v":false}]
[6044,"Szolnok","016","Q1","2019-03-31","Lakossági hitelnövekmény összege ",49,"Mhuf","2019-04-01","pálpapp",{"$f":"AND(E6045>=Kimutatás!B$2,E6045<=Kimutatás!B$3)","v":false}]
[6045,"Szolnok","016","Q1","2019-03-31","Lakossági számlanyitás",-5,"db","2019-04-01","pálpapp",{"$f":"AND(E6046>=Kimutatás!B$2,E6046<=Kimutatás!B$3)","v":false}]
[6046,"Szolnok","016","Q1","2019-03-31","KKV hitelnövekmény (db)",-2,"db","2019-04-01","pálpapp",{"$f":"AND(E6047>=Kimutatás!B$2,E6047<=Kimutatás!B$3)","v":false}]
[6047,"Szolnok","016","Q1","2019-03-31","KKV számlanyitás",5,"db","2019-04-01","pálpapp",{"$f":"AND(E6048>=Kimutatás!B$2,E6048<=Kimutatás!B$3)","v":false}]
[6048,"Szolnok","016","Q1","2019-03-31","Betét állomány növekmény",22,"Mhuf","2019-04-01","pálpapp",{"$f":"AND(E6049>=Kimutatás!B$2,E6049<=Kimutatás!B$3)","v":false}]
[6049,"Szombathely","017","Q1","2019-01-02","Betérő ügyfelek",41,"fő","2019-02-01","litkey",{"$f":"AND(E6050>=Kimutatás!B$2,E6050<=Kimutatás!B$3)","v":false}]
[6050,"Szombathely","017","Q1","2019-01-02","Lakossági hitelnövekmény összege ",13,"Mhuf","2019-02-01","litkey",{"$f":"AND(E6051>=Kimutatás!B$2,E6051<=Kimutatás!B$3)","v":false}]
[6051,"Szombathely","017","Q1","2019-01-02","Lakossági számlanyitás",4,"db","2019-02-01","litkey",{"$f":"AND(E6052>=Kimutatás!B$2,E6052<=Kimutatás!B$3)","v":false}]
[6052,"Szombathely","017","Q1","2019-01-02","KKV hitelnövekmény (db)",-2,"db","2019-02-01","litkey",{"$f":"AND(E6053>=Kimutatás!B$2,E6053<=Kimutatás!B$3)","v":false}]
[6053,"Szombathely","017","Q1","2019-01-02","KKV számlanyitás",-4,"db","2019-02-01","litkey",{"$f":"AND(E6054>=Kimutatás!B$2,E6054<=Kimutatás!B$3)","v":false}]
[6054,"Szombathely","017","Q1","2019-01-02","Betét állomány növekmény",-13,"Mhuf","2019-02-01","litkey",{"$f":"AND(E6055>=Kimutatás!B$2,E6055<=Kimutatás!B$3)","v":false}]
[6055,"Szombathely","017","Q1","2019-01-03","Betérő ügyfelek",13,"fő","2019-02-01","litkey",{"$f":"AND(E6056>=Kimutatás!B$2,E6056<=Kimutatás!B$3)","v":false}]
[6056,"Szombathely","017","Q1","2019-01-03","Lakossági hitelnövekmény összege ",6,"Mhuf","2019-02-01","litkey",{"$f":"AND(E6057>=Kimutatás!B$2,E6057<=Kimutatás!B$3)","v":false}]
[6057,"Szombathely","017","Q1","2019-01-03","Lakossági számlanyitás",4,"db","2019-02-01","litkey",{"$f":"AND(E6058>=Kimutatás!B$2,E6058<=Kimutatás!B$3)","v":false}]
[6058,"Szombathely","017","Q1","2019-01-03","KKV hitelnövekmény (db)",2,"db","2019-02-01","litkey",{"$f":"AND(E6059>=Kimutatás!B$2,E6059<=Kimutatás!B$3)","v":false}]
[6059,"Szombathely","017","Q1","2019-01-03","KKV számlanyitás",-2,"db","2019-02-01","litkey",{"$f":"AND(E6060>=Kimutatás!B$2,E6060<=Kimutatás!B$3)","v":false}]
[6060,"Szombathely","017","Q1","2019-01-03","Betét állomány növekmény",2,"Mhuf","2019-02-01","litkey",{"$f":"AND(E6061>=Kimutatás!B$2,E6061<=Kimutatás!B$3)","v":false}]
[6061,"Szombathely","017","Q1","2019-01-06","Betérő ügyfelek",21,"fő","2019-02-01","litkey",{"$f":"AND(E6062>=Kimutatás!B$2,E6062<=Kimutatás!B$3)","v":false}]
[6062,"Szombathely","017","Q1","2019-01-06","Lakossági hitelnövekmény összege ",25,"Mhuf","2019-02-01","litkey",{"$f":"AND(E6063>=Kimutatás!B$2,E6063<=Kimutatás!B$3)","v":false}]
[6063,"Szombathely","017","Q1","2019-01-06","Lakossági számlanyitás",7,"db","2019-02-01","litkey",{"$f":"AND(E6064>=Kimutatás!B$2,E6064<=Kimutatás!B$3)","v":false}]
[6064,"Szombathely","017","Q1","2019-01-06","KKV hitelnövekmény (db)",0,"db","2019-02-01","litkey",{"$f":"AND(E6065>=Kimutatás!B$2,E6065<=Kimutatás!B$3)","v":false}]
[6065,"Szombathely","017","Q1","2019-01-06","KKV számlanyitás",5,"db","2019-02-01","litkey",{"$f":"AND(E6066>=Kimutatás!B$2,E6066<=Kimutatás!B$3)","v":false}]
[6066,"Szombathely","017","Q1","2019-01-06","Betét állomány növekmény",38,"Mhuf","2019-02-01","litkey",{"$f":"AND(E6067>=Kimutatás!B$2,E6067<=Kimutatás!B$3)","v":false}]
[6067,"Szombathely","017","Q1","2019-01-07","Betérő ügyfelek",47,"fő","2019-02-01","litkey",{"$f":"AND(E6068>=Kimutatás!B$2,E6068<=Kimutatás!B$3)","v":false}]
[6068,"Szombathely","017","Q1","2019-01-07","Lakossági hitelnövekmény összege ",0,"Mhuf","2019-02-01","litkey",{"$f":"AND(E6069>=Kimutatás!B$2,E6069<=Kimutatás!B$3)","v":false}]
[6069,"Szombathely","017","Q1","2019-01-07","Lakossági számlanyitás",6,"db","2019-02-01","litkey",{"$f":"AND(E6070>=Kimutatás!B$2,E6070<=Kimutatás!B$3)","v":false}]
[6070,"Szombathely","017","Q1","2019-01-07","KKV hitelnövekmény (db)",-1,"db","2019-02-01","litkey",{"$f":"AND(E6071>=Kimutatás!B$2,E6071<=Kimutatás!B$3)","v":false}]
[6071,"Szombathely","017","Q1","2019-01-07","KKV számlanyitás",3,"db","2019-02-01","litkey",{"$f":"AND(E6072>=Kimutatás!B$2,E6072<=Kimutatás!B$3)","v":false}]
[6072,"Szombathely","017","Q1","2019-01-07","Betét állomány növekmény",12,"Mhuf","2019-02-01","litkey",{"$f":"AND(E6073>=Kimutatás!B$2,E6073<=Kimutatás!B$3)","v":false}]
[6073,"Szombathely","017","Q1","2019-01-08","Betérő ügyfelek",21,"fő","2019-02-01","litkey",{"$f":"AND(E6074>=Kimutatás!B$2,E6074<=Kimutatás!B$3)","v":false}]
[6074,"Szombathely","017","Q1","2019-01-08","Lakossági hitelnövekmény összege ",22,"Mhuf","2019-02-01","litkey",{"$f":"AND(E6075>=Kimutatás!B$2,E6075<=Kimutatás!B$3)","v":false}]
[6075,"Szombathely","017","Q1","2019-01-08","Lakossági számlanyitás",7,"db","2019-02-01","litkey",{"$f":"AND(E6076>=Kimutatás!B$2,E6076<=Kimutatás!B$3)","v":false}]
[6076,"Szombathely","017","Q1","2019-01-08","KKV hitelnövekmény (db)",-1,"db","2019-02-01","litkey",{"$f":"AND(E6077>=Kimutatás!B$2,E6077<=Kimutatás!B$3)","v":false}]
[6077,"Szombathely","017","Q1","2019-01-08","KKV számlanyitás",2,"db","2019-02-01","litkey",{"$f":"AND(E6078>=Kimutatás!B$2,E6078<=Kimutatás!B$3)","v":false}]
[6078,"Szombathely","017","Q1","2019-01-08","Betét állomány növekmény",3,"Mhuf","2019-02-01","litkey",{"$f":"AND(E6079>=Kimutatás!B$2,E6079<=Kimutatás!B$3)","v":false}]
[6079,"Szombathely","017","Q1","2019-01-09","Betérő ügyfelek",18,"fő","2019-02-01","litkey",{"$f":"AND(E6080>=Kimutatás!B$2,E6080<=Kimutatás!B$3)","v":false}]
[6080,"Szombathely","017","Q1","2019-01-09","Lakossági hitelnövekmény összege ",-10,"Mhuf","2019-02-01","litkey",{"$f":"AND(E6081>=Kimutatás!B$2,E6081<=Kimutatás!B$3)","v":false}]
[6081,"Szombathely","017","Q1","2019-01-09","Lakossági számlanyitás",6,"db","2019-02-01","litkey",{"$f":"AND(E6082>=Kimutatás!B$2,E6082<=Kimutatás!B$3)","v":false}]
[6082,"Szombathely","017","Q1","2019-01-09","KKV hitelnövekmény (db)",1,"db","2019-02-01","litkey",{"$f":"AND(E6083>=Kimutatás!B$2,E6083<=Kimutatás!B$3)","v":false}]
[6083,"Szombathely","017","Q1","2019-01-09","KKV számlanyitás",-1,"db","2019-02-01","litkey",{"$f":"AND(E6084>=Kimutatás!B$2,E6084<=Kimutatás!B$3)","v":false}]
[6084,"Szombathely","017","Q1","2019-01-09","Betét állomány növekmény",18,"Mhuf","2019-02-01","litkey",{"$f":"AND(E6085>=Kimutatás!B$2,E6085<=Kimutatás!B$3)","v":false}]
[6085,"Szombathely","017","Q1","2019-01-10","Betérő ügyfelek",42,"fő","2019-02-01","litkey",{"$f":"AND(E6086>=Kimutatás!B$2,E6086<=Kimutatás!B$3)","v":true}]
[6086,"Szombathely","017","Q1","2019-01-10","Lakossági hitelnövekmény összege ",-9,"Mhuf","2019-02-01","litkey",{"$f":"AND(E6087>=Kimutatás!B$2,E6087<=Kimutatás!B$3)","v":true}]
[6087,"Szombathely","017","Q1","2019-01-10","Lakossági számlanyitás",4,"db","2019-02-01","litkey",{"$f":"AND(E6088>=Kimutatás!B$2,E6088<=Kimutatás!B$3)","v":true}]
[6088,"Szombathely","017","Q1","2019-01-10","KKV hitelnövekmény (db)",1,"db","2019-02-01","litkey",{"$f":"AND(E6089>=Kimutatás!B$2,E6089<=Kimutatás!B$3)","v":true}]
[6089,"Szombathely","017","Q1","2019-01-10","KKV számlanyitás",-3,"db","2019-02-01","litkey",{"$f":"AND(E6090>=Kimutatás!B$2,E6090<=Kimutatás!B$3)","v":true}]
[6090,"Szombathely","017","Q1","2019-01-10","Betét állomány növekmény",-15,"Mhuf","2019-02-01","litkey",{"$f":"AND(E6091>=Kimutatás!B$2,E6091<=Kimutatás!B$3)","v":true}]
[6091,"Szombathely","017","Q1","2019-01-13","Betérő ügyfelek",4,"fő","2019-02-01","litkey",{"$f":"AND(E6092>=Kimutatás!B$2,E6092<=Kimutatás!B$3)","v":true}]
[6092,"Szombathely","017","Q1","2019-01-13","Lakossági hitelnövekmény összege ",32,"Mhuf","2019-02-01","litkey",{"$f":"AND(E6093>=Kimutatás!B$2,E6093<=Kimutatás!B$3)","v":true}]
[6093,"Szombathely","017","Q1","2019-01-13","Lakossági számlanyitás",0,"db","2019-02-01","litkey",{"$f":"AND(E6094>=Kimutatás!B$2,E6094<=Kimutatás!B$3)","v":true}]
[6094,"Szombathely","017","Q1","2019-01-13","KKV hitelnövekmény (db)",2,"db","2019-02-01","litkey",{"$f":"AND(E6095>=Kimutatás!B$2,E6095<=Kimutatás!B$3)","v":true}]
[6095,"Szombathely","017","Q1","2019-01-13","KKV számlanyitás",1,"db","2019-02-01","litkey",{"$f":"AND(E6096>=Kimutatás!B$2,E6096<=Kimutatás!B$3)","v":true}]
[6096,"Szombathely","017","Q1","2019-01-13","Betét állomány növekmény",-4,"Mhuf","2019-02-01","litkey",{"$f":"AND(E6097>=Kimutatás!B$2,E6097<=Kimutatás!B$3)","v":true}]
[6097,"Szombathely","017","Q1","2019-01-14","Betérő ügyfelek",8,"fő","2019-02-01","litkey",{"$f":"AND(E6098>=Kimutatás!B$2,E6098<=Kimutatás!B$3)","v":true}]
[6098,"Szombathely","017","Q1","2019-01-14","Lakossági hitelnövekmény összege ",12,"Mhuf","2019-02-01","litkey",{"$f":"AND(E6099>=Kimutatás!B$2,E6099<=Kimutatás!B$3)","v":true}]
[6099,"Szombathely","017","Q1","2019-01-14","Lakossági számlanyitás",9,"db","2019-02-01","litkey",{"$f":"AND(E6100>=Kimutatás!B$2,E6100<=Kimutatás!B$3)","v":true}]
[6100,"Szombathely","017","Q1","2019-01-14","KKV hitelnövekmény (db)",2,"db","2019-02-01","litkey",{"$f":"AND(E6101>=Kimutatás!B$2,E6101<=Kimutatás!B$3)","v":true}]
[6101,"Szombathely","017","Q1","2019-01-14","KKV számlanyitás",4,"db","2019-02-01","litkey",{"$f":"AND(E6102>=Kimutatás!B$2,E6102<=Kimutatás!B$3)","v":true}]
[6102,"Szombathely","017","Q1","2019-01-14","Betét állomány növekmény",47,"Mhuf","2019-02-01","litkey",{"$f":"AND(E6103>=Kimutatás!B$2,E6103<=Kimutatás!B$3)","v":true}]
[6103,"Szombathely","017","Q1","2019-01-15","Betérő ügyfelek",15,"fő","2019-02-01","litkey",{"$f":"AND(E6104>=Kimutatás!B$2,E6104<=Kimutatás!B$3)","v":true}]
[6104,"Szombathely","017","Q1","2019-01-15","Lakossági hitelnövekmény összege ",-5,"Mhuf","2019-02-01","litkey",{"$f":"AND(E6105>=Kimutatás!B$2,E6105<=Kimutatás!B$3)","v":true}]
[6105,"Szombathely","017","Q1","2019-01-15","Lakossági számlanyitás",1,"db","2019-02-01","litkey",{"$f":"AND(E6106>=Kimutatás!B$2,E6106<=Kimutatás!B$3)","v":true}]
[6106,"Szombathely","017","Q1","2019-01-15","KKV hitelnövekmény (db)",0,"db","2019-02-01","litkey",{"$f":"AND(E6107>=Kimutatás!B$2,E6107<=Kimutatás!B$3)","v":true}]
[6107,"Szombathely","017","Q1","2019-01-15","KKV számlanyitás",4,"db","2019-02-01","litkey",{"$f":"AND(E6108>=Kimutatás!B$2,E6108<=Kimutatás!B$3)","v":true}]
[6108,"Szombathely","017","Q1","2019-01-15","Betét állomány növekmény",8,"Mhuf","2019-02-01","litkey",{"$f":"AND(E6109>=Kimutatás!B$2,E6109<=Kimutatás!B$3)","v":true}]
[6109,"Szombathely","017","Q1","2019-01-16","Betérő ügyfelek",20,"fő","2019-02-01","litkey",{"$f":"AND(E6110>=Kimutatás!B$2,E6110<=Kimutatás!B$3)","v":true}]
[6110,"Szombathely","017","Q1","2019-01-16","Lakossági hitelnövekmény összege ",49,"Mhuf","2019-02-01","litkey",{"$f":"AND(E6111>=Kimutatás!B$2,E6111<=Kimutatás!B$3)","v":true}]
[6111,"Szombathely","017","Q1","2019-01-16","Lakossági számlanyitás",9,"db","2019-02-01","litkey",{"$f":"AND(E6112>=Kimutatás!B$2,E6112<=Kimutatás!B$3)","v":true}]
[6112,"Szombathely","017","Q1","2019-01-16","KKV hitelnövekmény (db)",2,"db","2019-02-01","litkey",{"$f":"AND(E6113>=Kimutatás!B$2,E6113<=Kimutatás!B$3)","v":true}]
[6113,"Szombathely","017","Q1","2019-01-16","KKV számlanyitás",4,"db","2019-02-01","litkey",{"$f":"AND(E6114>=Kimutatás!B$2,E6114<=Kimutatás!B$3)","v":true}]
[6114,"Szombathely","017","Q1","2019-01-16","Betét állomány növekmény",-7,"Mhuf","2019-02-01","litkey",{"$f":"AND(E6115>=Kimutatás!B$2,E6115<=Kimutatás!B$3)","v":true}]
[6115,"Szombathely","017","Q1","2019-01-17","Betérő ügyfelek",29,"fő","2019-02-01","litkey",{"$f":"AND(E6116>=Kimutatás!B$2,E6116<=Kimutatás!B$3)","v":true}]
[6116,"Szombathely","017","Q1","2019-01-17","Lakossági hitelnövekmény összege ",43,"Mhuf","2019-02-01","litkey",{"$f":"AND(E6117>=Kimutatás!B$2,E6117<=Kimutatás!B$3)","v":true}]
[6117,"Szombathely","017","Q1","2019-01-17","Lakossági számlanyitás",0,"db","2019-02-01","litkey",{"$f":"AND(E6118>=Kimutatás!B$2,E6118<=Kimutatás!B$3)","v":true}]
[6118,"Szombathely","017","Q1","2019-01-17","KKV hitelnövekmény (db)",-1,"db","2019-02-01","litkey",{"$f":"AND(E6119>=Kimutatás!B$2,E6119<=Kimutatás!B$3)","v":true}]
[6119,"Szombathely","017","Q1","2019-01-17","KKV számlanyitás",4,"db","2019-02-01","litkey",{"$f":"AND(E6120>=Kimutatás!B$2,E6120<=Kimutatás!B$3)","v":true}]
[6120,"Szombathely","017","Q1","2019-01-17","Betét állomány növekmény",6,"Mhuf","2019-02-01","litkey",{"$f":"AND(E6121>=Kimutatás!B$2,E6121<=Kimutatás!B$3)","v":true}]
[6121,"Szombathely","017","Q1","2019-01-20","Betérő ügyfelek",36,"fő","2019-02-01","litkey",{"$f":"AND(E6122>=Kimutatás!B$2,E6122<=Kimutatás!B$3)","v":true}]
[6122,"Szombathely","017","Q1","2019-01-20","Lakossági hitelnövekmény összege ",-9,"Mhuf","2019-02-01","litkey",{"$f":"AND(E6123>=Kimutatás!B$2,E6123<=Kimutatás!B$3)","v":true}]
[6123,"Szombathely","017","Q1","2019-01-20","Lakossági számlanyitás",-2,"db","2019-02-01","litkey",{"$f":"AND(E6124>=Kimutatás!B$2,E6124<=Kimutatás!B$3)","v":true}]
[6124,"Szombathely","017","Q1","2019-01-20","KKV hitelnövekmény (db)",-2,"db","2019-02-01","litkey",{"$f":"AND(E6125>=Kimutatás!B$2,E6125<=Kimutatás!B$3)","v":true}]
[6125,"Szombathely","017","Q1","2019-01-20","KKV számlanyitás",1,"db","2019-02-01","litkey",{"$f":"AND(E6126>=Kimutatás!B$2,E6126<=Kimutatás!B$3)","v":true}]
[6126,"Szombathely","017","Q1","2019-01-20","Betét állomány növekmény",-20,"Mhuf","2019-02-01","litkey",{"$f":"AND(E6127>=Kimutatás!B$2,E6127<=Kimutatás!B$3)","v":true}]
[6127,"Szombathely","017","Q1","2019-01-21","Betérő ügyfelek",40,"fő","2019-02-01","litkey",{"$f":"AND(E6128>=Kimutatás!B$2,E6128<=Kimutatás!B$3)","v":true}]
[6128,"Szombathely","017","Q1","2019-01-21","Lakossági hitelnövekmény összege ",21,"Mhuf","2019-02-01","litkey",{"$f":"AND(E6129>=Kimutatás!B$2,E6129<=Kimutatás!B$3)","v":true}]
[6129,"Szombathely","017","Q1","2019-01-21","Lakossági számlanyitás",6,"db","2019-02-01","litkey",{"$f":"AND(E6130>=Kimutatás!B$2,E6130<=Kimutatás!B$3)","v":true}]
[6130,"Szombathely","017","Q1","2019-01-21","KKV hitelnövekmény (db)",2,"db","2019-02-01","litkey",{"$f":"AND(E6131>=Kimutatás!B$2,E6131<=Kimutatás!B$3)","v":true}]
[6131,"Szombathely","017","Q1","2019-01-21","KKV számlanyitás",2,"db","2019-02-01","litkey",{"$f":"AND(E6132>=Kimutatás!B$2,E6132<=Kimutatás!B$3)","v":true}]
[6132,"Szombathely","017","Q1","2019-01-21","Betét állomány növekmény",24,"Mhuf","2019-02-01","litkey",{"$f":"AND(E6133>=Kimutatás!B$2,E6133<=Kimutatás!B$3)","v":true}]
[6133,"Szombathely","017","Q1","2019-01-22","Betérő ügyfelek",3,"fő","2019-02-01","litkey",{"$f":"AND(E6134>=Kimutatás!B$2,E6134<=Kimutatás!B$3)","v":true}]
[6134,"Szombathely","017","Q1","2019-01-22","Lakossági hitelnövekmény összege ",1,"Mhuf","2019-02-01","litkey",{"$f":"AND(E6135>=Kimutatás!B$2,E6135<=Kimutatás!B$3)","v":true}]
[6135,"Szombathely","017","Q1","2019-01-22","Lakossági számlanyitás",6,"db","2019-02-01","litkey",{"$f":"AND(E6136>=Kimutatás!B$2,E6136<=Kimutatás!B$3)","v":true}]
[6136,"Szombathely","017","Q1","2019-01-22","KKV hitelnövekmény (db)",-1,"db","2019-02-01","litkey",{"$f":"AND(E6137>=Kimutatás!B$2,E6137<=Kimutatás!B$3)","v":true}]
[6137,"Szombathely","017","Q1","2019-01-22","KKV számlanyitás",-1,"db","2019-02-01","litkey",{"$f":"AND(E6138>=Kimutatás!B$2,E6138<=Kimutatás!B$3)","v":true}]
[6138,"Szombathely","017","Q1","2019-01-22","Betét állomány növekmény",24,"Mhuf","2019-02-01","litkey",{"$f":"AND(E6139>=Kimutatás!B$2,E6139<=Kimutatás!B$3)","v":true}]
[6139,"Szombathely","017","Q1","2019-01-23","Betérő ügyfelek",5,"fő","2019-02-01","litkey",{"$f":"AND(E6140>=Kimutatás!B$2,E6140<=Kimutatás!B$3)","v":true}]
[6140,"Szombathely","017","Q1","2019-01-23","Lakossági hitelnövekmény összege ",39,"Mhuf","2019-02-01","litkey",{"$f":"AND(E6141>=Kimutatás!B$2,E6141<=Kimutatás!B$3)","v":true}]
[6141,"Szombathely","017","Q1","2019-01-23","Lakossági számlanyitás",4,"db","2019-02-01","litkey",{"$f":"AND(E6142>=Kimutatás!B$2,E6142<=Kimutatás!B$3)","v":true}]
[6142,"Szombathely","017","Q1","2019-01-23","KKV hitelnövekmény (db)",1,"db","2019-02-01","litkey",{"$f":"AND(E6143>=Kimutatás!B$2,E6143<=Kimutatás!B$3)","v":true}]
[6143,"Szombathely","017","Q1","2019-01-23","KKV számlanyitás",-1,"db","2019-02-01","litkey",{"$f":"AND(E6144>=Kimutatás!B$2,E6144<=Kimutatás!B$3)","v":true}]
[6144,"Szombathely","017","Q1","2019-01-23","Betét állomány növekmény",42,"Mhuf","2019-02-01","litkey",{"$f":"AND(E6145>=Kimutatás!B$2,E6145<=Kimutatás!B$3)","v":true}]
[6145,"Szombathely","017","Q1","2019-01-24","Betérő ügyfelek",13,"fő","2019-02-01","litkey",{"$f":"AND(E6146>=Kimutatás!B$2,E6146<=Kimutatás!B$3)","v":true}]
[6146,"Szombathely","017","Q1","2019-01-24","Lakossági hitelnövekmény összege ",-1,"Mhuf","2019-02-01","litkey",{"$f":"AND(E6147>=Kimutatás!B$2,E6147<=Kimutatás!B$3)","v":true}]
[6147,"Szombathely","017","Q1","2019-01-24","Lakossági számlanyitás",-2,"db","2019-02-01","litkey",{"$f":"AND(E6148>=Kimutatás!B$2,E6148<=Kimutatás!B$3)","v":true}]
[6148,"Szombathely","017","Q1","2019-01-24","KKV hitelnövekmény (db)",2,"db","2019-02-01","litkey",{"$f":"AND(E6149>=Kimutatás!B$2,E6149<=Kimutatás!B$3)","v":true}]
[6149,"Szombathely","017","Q1","2019-01-24","KKV számlanyitás",0,"db","2019-02-01","litkey",{"$f":"AND(E6150>=Kimutatás!B$2,E6150<=Kimutatás!B$3)","v":true}]
[6150,"Szombathely","017","Q1","2019-01-24","Betét állomány növekmény",49,"Mhuf","2019-02-01","litkey",{"$f":"AND(E6151>=Kimutatás!B$2,E6151<=Kimutatás!B$3)","v":true}]
[6151,"Szombathely","017","Q1","2019-01-27","Betérő ügyfelek",19,"fő","2019-02-01","litkey",{"$f":"AND(E6152>=Kimutatás!B$2,E6152<=Kimutatás!B$3)","v":true}]
[6152,"Szombathely","017","Q1","2019-01-27","Lakossági hitelnövekmény összege ",-7,"Mhuf","2019-02-01","litkey",{"$f":"AND(E6153>=Kimutatás!B$2,E6153<=Kimutatás!B$3)","v":true}]
[6153,"Szombathely","017","Q1","2019-01-27","Lakossági számlanyitás",-2,"db","2019-02-01","litkey",{"$f":"AND(E6154>=Kimutatás!B$2,E6154<=Kimutatás!B$3)","v":true}]
[6154,"Szombathely","017","Q1","2019-01-27","KKV hitelnövekmény (db)",2,"db","2019-02-01","litkey",{"$f":"AND(E6155>=Kimutatás!B$2,E6155<=Kimutatás!B$3)","v":true}]
[6155,"Szombathely","017","Q1","2019-01-27","KKV számlanyitás",-3,"db","2019-02-01","litkey",{"$f":"AND(E6156>=Kimutatás!B$2,E6156<=Kimutatás!B$3)","v":true}]
[6156,"Szombathely","017","Q1","2019-01-27","Betét állomány növekmény",28,"Mhuf","2019-02-01","litkey",{"$f":"AND(E6157>=Kimutatás!B$2,E6157<=Kimutatás!B$3)","v":true}]
[6157,"Szombathely","017","Q1","2019-01-28","Betérő ügyfelek",17,"fő","2019-02-01","litkey",{"$f":"AND(E6158>=Kimutatás!B$2,E6158<=Kimutatás!B$3)","v":true}]
[6158,"Szombathely","017","Q1","2019-01-28","Lakossági hitelnövekmény összege ",21,"Mhuf","2019-02-01","litkey",{"$f":"AND(E6159>=Kimutatás!B$2,E6159<=Kimutatás!B$3)","v":true}]
[6159,"Szombathely","017","Q1","2019-01-28","Lakossági számlanyitás",-5,"db","2019-02-01","litkey",{"$f":"AND(E6160>=Kimutatás!B$2,E6160<=Kimutatás!B$3)","v":true}]
[6160,"Szombathely","017","Q1","2019-01-28","KKV hitelnövekmény (db)",0,"db","2019-02-01","litkey",{"$f":"AND(E6161>=Kimutatás!B$2,E6161<=Kimutatás!B$3)","v":true}]
[6161,"Szombathely","017","Q1","2019-01-28","KKV számlanyitás",0,"db","2019-02-01","litkey",{"$f":"AND(E6162>=Kimutatás!B$2,E6162<=Kimutatás!B$3)","v":true}]
[6162,"Szombathely","017","Q1","2019-01-28","Betét állomány növekmény",30,"Mhuf","2019-02-01","litkey",{"$f":"AND(E6163>=Kimutatás!B$2,E6163<=Kimutatás!B$3)","v":true}]
[6163,"Szombathely","017","Q1","2019-01-29","Betérő ügyfelek",9,"fő","2019-02-01","litkey",{"$f":"AND(E6164>=Kimutatás!B$2,E6164<=Kimutatás!B$3)","v":true}]
[6164,"Szombathely","017","Q1","2019-01-29","Lakossági hitelnövekmény összege ",39,"Mhuf","2019-02-01","litkey",{"$f":"AND(E6165>=Kimutatás!B$2,E6165<=Kimutatás!B$3)","v":true}]
[6165,"Szombathely","017","Q1","2019-01-29","Lakossági számlanyitás",-5,"db","2019-02-01","litkey",{"$f":"AND(E6166>=Kimutatás!B$2,E6166<=Kimutatás!B$3)","v":true}]
[6166,"Szombathely","017","Q1","2019-01-29","KKV hitelnövekmény (db)",0,"db","2019-02-01","litkey",{"$f":"AND(E6167>=Kimutatás!B$2,E6167<=Kimutatás!B$3)","v":true}]
[6167,"Szombathely","017","Q1","2019-01-29","KKV számlanyitás",-1,"db","2019-02-01","litkey",{"$f":"AND(E6168>=Kimutatás!B$2,E6168<=Kimutatás!B$3)","v":true}]
[6168,"Szombathely","017","Q1","2019-01-29","Betét állomány növekmény",-7,"Mhuf","2019-02-01","litkey",{"$f":"AND(E6169>=Kimutatás!B$2,E6169<=Kimutatás!B$3)","v":true}]
[6169,"Szombathely","017","Q1","2019-01-30","Betérő ügyfelek",16,"fő","2019-02-01","litkey",{"$f":"AND(E6170>=Kimutatás!B$2,E6170<=Kimutatás!B$3)","v":true}]
[6170,"Szombathely","017","Q1","2019-01-30","Lakossági hitelnövekmény összege ",-4,"Mhuf","2019-02-01","litkey",{"$f":"AND(E6171>=Kimutatás!B$2,E6171<=Kimutatás!B$3)","v":true}]
[6171,"Szombathely","017","Q1","2019-01-30","Lakossági számlanyitás",4,"db","2019-02-01","litkey",{"$f":"AND(E6172>=Kimutatás!B$2,E6172<=Kimutatás!B$3)","v":true}]
[6172,"Szombathely","017","Q1","2019-01-30","KKV hitelnövekmény (db)",-2,"db","2019-02-01","litkey",{"$f":"AND(E6173>=Kimutatás!B$2,E6173<=Kimutatás!B$3)","v":true}]
[6173,"Szombathely","017","Q1","2019-01-30","KKV számlanyitás",0,"db","2019-02-01","litkey",{"$f":"AND(E6174>=Kimutatás!B$2,E6174<=Kimutatás!B$3)","v":true}]
[6174,"Szombathely","017","Q1","2019-01-30","Betét állomány növekmény",4,"Mhuf","2019-02-01","litkey",{"$f":"AND(E6175>=Kimutatás!B$2,E6175<=Kimutatás!B$3)","v":true}]
[6175,"Szombathely","017","Q1","2019-01-31","Betérő ügyfelek",45,"fő","2019-02-01","litkey",{"$f":"AND(E6176>=Kimutatás!B$2,E6176<=Kimutatás!B$3)","v":true}]
[6176,"Szombathely","017","Q1","2019-01-31","Lakossági hitelnövekmény összege ",43,"Mhuf","2019-02-01","litkey",{"$f":"AND(E6177>=Kimutatás!B$2,E6177<=Kimutatás!B$3)","v":true}]
[6177,"Szombathely","017","Q1","2019-01-31","Lakossági számlanyitás",2,"db","2019-02-01","litkey",{"$f":"AND(E6178>=Kimutatás!B$2,E6178<=Kimutatás!B$3)","v":true}]
[6178,"Szombathely","017","Q1","2019-01-31","KKV hitelnövekmény (db)",1,"db","2019-02-01","litkey",{"$f":"AND(E6179>=Kimutatás!B$2,E6179<=Kimutatás!B$3)","v":true}]
[6179,"Szombathely","017","Q1","2019-01-31","KKV számlanyitás",-2,"db","2019-02-01","litkey",{"$f":"AND(E6180>=Kimutatás!B$2,E6180<=Kimutatás!B$3)","v":true}]
[6180,"Szombathely","017","Q1","2019-01-31","Betét állomány növekmény",32,"Mhuf","2019-02-01","litkey",{"$f":"AND(E6181>=Kimutatás!B$2,E6181<=Kimutatás!B$3)","v":true}]
[6181,"Szombathely","017","Q1","2019-02-03","Betérő ügyfelek",24,"fő","2019-03-01","irdatl1",{"$f":"AND(E6182>=Kimutatás!B$2,E6182<=Kimutatás!B$3)","v":true}]
[6182,"Szombathely","017","Q1","2019-02-03","Lakossági hitelnövekmény összege ",15,"Mhuf","2019-03-01","irdatl1",{"$f":"AND(E6183>=Kimutatás!B$2,E6183<=Kimutatás!B$3)","v":true}]
[6183,"Szombathely","017","Q1","2019-02-03","Lakossági számlanyitás",-2,"db","2019-03-01","irdatl1",{"$f":"AND(E6184>=Kimutatás!B$2,E6184<=Kimutatás!B$3)","v":true}]
[6184,"Szombathely","017","Q1","2019-02-03","KKV hitelnövekmény (db)",-1,"db","2019-03-01","irdatl1",{"$f":"AND(E6185>=Kimutatás!B$2,E6185<=Kimutatás!B$3)","v":true}]
[6185,"Szombathely","017","Q1","2019-02-03","KKV számlanyitás",-1,"db","2019-03-01","irdatl1",{"$f":"AND(E6186>=Kimutatás!B$2,E6186<=Kimutatás!B$3)","v":true}]
[6186,"Szombathely","017","Q1","2019-02-03","Betét állomány növekmény",22,"Mhuf","2019-03-01","irdatl1",{"$f":"AND(E6187>=Kimutatás!B$2,E6187<=Kimutatás!B$3)","v":true}]
[6187,"Szombathely","017","Q1","2019-02-04","Betérő ügyfelek",15,"fő","2019-03-01","irdatl1",{"$f":"AND(E6188>=Kimutatás!B$2,E6188<=Kimutatás!B$3)","v":true}]
[6188,"Szombathely","017","Q1","2019-02-04","Lakossági hitelnövekmény összege ",10,"Mhuf","2019-03-01","irdatl1",{"$f":"AND(E6189>=Kimutatás!B$2,E6189<=Kimutatás!B$3)","v":true}]
[6189,"Szombathely","017","Q1","2019-02-04","Lakossági számlanyitás",0,"db","2019-03-01","irdatl1",{"$f":"AND(E6190>=Kimutatás!B$2,E6190<=Kimutatás!B$3)","v":true}]
[6190,"Szombathely","017","Q1","2019-02-04","KKV hitelnövekmény (db)",2,"db","2019-03-01","irdatl1",{"$f":"AND(E6191>=Kimutatás!B$2,E6191<=Kimutatás!B$3)","v":true}]
[6191,"Szombathely","017","Q1","2019-02-04","KKV számlanyitás",-3,"db","2019-03-01","irdatl1",{"$f":"AND(E6192>=Kimutatás!B$2,E6192<=Kimutatás!B$3)","v":true}]
[6192,"Szombathely","017","Q1","2019-02-04","Betét állomány növekmény",15,"Mhuf","2019-03-01","irdatl1",{"$f":"AND(E6193>=Kimutatás!B$2,E6193<=Kimutatás!B$3)","v":true}]
[6193,"Szombathely","017","Q1","2019-02-05","Betérő ügyfelek",10,"fő","2019-03-01","irdatl1",{"$f":"AND(E6194>=Kimutatás!B$2,E6194<=Kimutatás!B$3)","v":true}]
[6194,"Szombathely","017","Q1","2019-02-05","Lakossági hitelnövekmény összege ",22,"Mhuf","2019-03-01","irdatl1",{"$f":"AND(E6195>=Kimutatás!B$2,E6195<=Kimutatás!B$3)","v":true}]
[6195,"Szombathely","017","Q1","2019-02-05","Lakossági számlanyitás",-2,"db","2019-03-01","irdatl1",{"$f":"AND(E6196>=Kimutatás!B$2,E6196<=Kimutatás!B$3)","v":true}]
[6196,"Szombathely","017","Q1","2019-02-05","KKV hitelnövekmény (db)",1,"db","2019-03-01","irdatl1",{"$f":"AND(E6197>=Kimutatás!B$2,E6197<=Kimutatás!B$3)","v":true}]
[6197,"Szombathely","017","Q1","2019-02-05","KKV számlanyitás",5,"db","2019-03-01","irdatl1",{"$f":"AND(E6198>=Kimutatás!B$2,E6198<=Kimutatás!B$3)","v":true}]
[6198,"Szombathely","017","Q1","2019-02-05","Betét állomány növekmény",-15,"Mhuf","2019-03-01","irdatl1",{"$f":"AND(E6199>=Kimutatás!B$2,E6199<=Kimutatás!B$3)","v":true}]
[6199,"Szombathely","017","Q1","2019-02-06","Betérő ügyfelek",39,"fő","2019-03-01","irdatl1",{"$f":"AND(E6200>=Kimutatás!B$2,E6200<=Kimutatás!B$3)","v":true}]
[6200,"Szombathely","017","Q1","2019-02-06","Lakossági hitelnövekmény összege ",-4,"Mhuf","2019-03-01","irdatl1",{"$f":"AND(E6201>=Kimutatás!B$2,E6201<=Kimutatás!B$3)","v":true}]
[6201,"Szombathely","017","Q1","2019-02-06","Lakossági számlanyitás",1,"db","2019-03-01","irdatl1",{"$f":"AND(E6202>=Kimutatás!B$2,E6202<=Kimutatás!B$3)","v":true}]
[6202,"Szombathely","017","Q1","2019-02-06","KKV hitelnövekmény (db)",-2,"db","2019-03-01","irdatl1",{"$f":"AND(E6203>=Kimutatás!B$2,E6203<=Kimutatás!B$3)","v":true}]
[6203,"Szombathely","017","Q1","2019-02-06","KKV számlanyitás",5,"db","2019-03-01","irdatl1",{"$f":"AND(E6204>=Kimutatás!B$2,E6204<=Kimutatás!B$3)","v":true}]
[6204,"Szombathely","017","Q1","2019-02-06","Betét állomány növekmény",35,"Mhuf","2019-03-01","irdatl1",{"$f":"AND(E6205>=Kimutatás!B$2,E6205<=Kimutatás!B$3)","v":true}]
[6205,"Szombathely","017","Q1","2019-02-07","Betérő ügyfelek",31,"fő","2019-03-01","irdatl1",{"$f":"AND(E6206>=Kimutatás!B$2,E6206<=Kimutatás!B$3)","v":true}]
[6206,"Szombathely","017","Q1","2019-02-07","Lakossági hitelnövekmény összege ",25,"Mhuf","2019-03-01","irdatl1",{"$f":"AND(E6207>=Kimutatás!B$2,E6207<=Kimutatás!B$3)","v":true}]
[6207,"Szombathely","017","Q1","2019-02-07","Lakossági számlanyitás",-3,"db","2019-03-01","irdatl1",{"$f":"AND(E6208>=Kimutatás!B$2,E6208<=Kimutatás!B$3)","v":true}]
[6208,"Szombathely","017","Q1","2019-02-07","KKV hitelnövekmény (db)",2,"db","2019-03-01","irdatl1",{"$f":"AND(E6209>=Kimutatás!B$2,E6209<=Kimutatás!B$3)","v":true}]
[6209,"Szombathely","017","Q1","2019-02-07","KKV számlanyitás",4,"db","2019-03-01","irdatl1",{"$f":"AND(E6210>=Kimutatás!B$2,E6210<=Kimutatás!B$3)","v":true}]
[6210,"Szombathely","017","Q1","2019-02-07","Betét állomány növekmény",44,"Mhuf","2019-03-01","irdatl1",{"$f":"AND(E6211>=Kimutatás!B$2,E6211<=Kimutatás!B$3)","v":true}]
[6211,"Szombathely","017","Q1","2019-02-10","Betérő ügyfelek",34,"fő","2019-03-01","irdatl1",{"$f":"AND(E6212>=Kimutatás!B$2,E6212<=Kimutatás!B$3)","v":true}]
[6212,"Szombathely","017","Q1","2019-02-10","Lakossági hitelnövekmény összege ",12,"Mhuf","2019-03-01","irdatl1",{"$f":"AND(E6213>=Kimutatás!B$2,E6213<=Kimutatás!B$3)","v":true}]
[6213,"Szombathely","017","Q1","2019-02-10","Lakossági számlanyitás",7,"db","2019-03-01","irdatl1",{"$f":"AND(E6214>=Kimutatás!B$2,E6214<=Kimutatás!B$3)","v":true}]
[6214,"Szombathely","017","Q1","2019-02-10","KKV hitelnövekmény (db)",2,"db","2019-03-01","irdatl1",{"$f":"AND(E6215>=Kimutatás!B$2,E6215<=Kimutatás!B$3)","v":true}]
[6215,"Szombathely","017","Q1","2019-02-10","KKV számlanyitás",4,"db","2019-03-01","irdatl1",{"$f":"AND(E6216>=Kimutatás!B$2,E6216<=Kimutatás!B$3)","v":true}]
[6216,"Szombathely","017","Q1","2019-02-10","Betét állomány növekmény",22,"Mhuf","2019-03-01","irdatl1",{"$f":"AND(E6217>=Kimutatás!B$2,E6217<=Kimutatás!B$3)","v":true}]
[6217,"Szombathely","017","Q1","2019-02-11","Betérő ügyfelek",43,"fő","2019-03-01","irdatl1",{"$f":"AND(E6218>=Kimutatás!B$2,E6218<=Kimutatás!B$3)","v":true}]
[6218,"Szombathely","017","Q1","2019-02-11","Lakossági hitelnövekmény összege ",21,"Mhuf","2019-03-01","irdatl1",{"$f":"AND(E6219>=Kimutatás!B$2,E6219<=Kimutatás!B$3)","v":true}]
[6219,"Szombathely","017","Q1","2019-02-11","Lakossági számlanyitás",9,"db","2019-03-01","irdatl1",{"$f":"AND(E6220>=Kimutatás!B$2,E6220<=Kimutatás!B$3)","v":true}]
[6220,"Szombathely","017","Q1","2019-02-11","KKV hitelnövekmény (db)",-2,"db","2019-03-01","irdatl1",{"$f":"AND(E6221>=Kimutatás!B$2,E6221<=Kimutatás!B$3)","v":true}]
[6221,"Szombathely","017","Q1","2019-02-11","KKV számlanyitás",3,"db","2019-03-01","irdatl1",{"$f":"AND(E6222>=Kimutatás!B$2,E6222<=Kimutatás!B$3)","v":true}]
[6222,"Szombathely","017","Q1","2019-02-11","Betét állomány növekmény",18,"Mhuf","2019-03-01","irdatl1",{"$f":"AND(E6223>=Kimutatás!B$2,E6223<=Kimutatás!B$3)","v":true}]
[6223,"Szombathely","017","Q1","2019-02-12","Betérő ügyfelek",33,"fő","2019-03-01","irdatl1",{"$f":"AND(E6224>=Kimutatás!B$2,E6224<=Kimutatás!B$3)","v":true}]
[6224,"Szombathely","017","Q1","2019-02-12","Lakossági hitelnövekmény összege ",28,"Mhuf","2019-03-01","irdatl1",{"$f":"AND(E6225>=Kimutatás!B$2,E6225<=Kimutatás!B$3)","v":true}]
[6225,"Szombathely","017","Q1","2019-02-12","Lakossági számlanyitás",1,"db","2019-03-01","irdatl1",{"$f":"AND(E6226>=Kimutatás!B$2,E6226<=Kimutatás!B$3)","v":true}]
[6226,"Szombathely","017","Q1","2019-02-12","KKV hitelnövekmény (db)",-2,"db","2019-03-01","irdatl1",{"$f":"AND(E6227>=Kimutatás!B$2,E6227<=Kimutatás!B$3)","v":true}]
[6227,"Szombathely","017","Q1","2019-02-12","KKV számlanyitás",-5,"db","2019-03-01","irdatl1",{"$f":"AND(E6228>=Kimutatás!B$2,E6228<=Kimutatás!B$3)","v":true}]
[6228,"Szombathely","017","Q1","2019-02-12","Betét állomány növekmény",4,"Mhuf","2019-03-01","irdatl1",{"$f":"AND(E6229>=Kimutatás!B$2,E6229<=Kimutatás!B$3)","v":true}]
[6229,"Szombathely","017","Q1","2019-02-13","Betérő ügyfelek",6,"fő","2019-03-01","irdatl1",{"$f":"AND(E6230>=Kimutatás!B$2,E6230<=Kimutatás!B$3)","v":true}]
[6230,"Szombathely","017","Q1","2019-02-13","Lakossági hitelnövekmény összege ",34,"Mhuf","2019-03-01","irdatl1",{"$f":"AND(E6231>=Kimutatás!B$2,E6231<=Kimutatás!B$3)","v":true}]
[6231,"Szombathely","017","Q1","2019-02-13","Lakossági számlanyitás",0,"db","2019-03-01","irdatl1",{"$f":"AND(E6232>=Kimutatás!B$2,E6232<=Kimutatás!B$3)","v":true}]
[6232,"Szombathely","017","Q1","2019-02-13","KKV hitelnövekmény (db)",0,"db","2019-03-01","irdatl1",{"$f":"AND(E6233>=Kimutatás!B$2,E6233<=Kimutatás!B$3)","v":true}]
[6233,"Szombathely","017","Q1","2019-02-13","KKV számlanyitás",3,"db","2019-03-01","irdatl1",{"$f":"AND(E6234>=Kimutatás!B$2,E6234<=Kimutatás!B$3)","v":true}]
[6234,"Szombathely","017","Q1","2019-02-13","Betét állomány növekmény",-17,"Mhuf","2019-03-01","irdatl1",{"$f":"AND(E6235>=Kimutatás!B$2,E6235<=Kimutatás!B$3)","v":true}]
[6235,"Szombathely","017","Q1","2019-02-14","Betérő ügyfelek",9,"fő","2019-03-01","irdatl1",{"$f":"AND(E6236>=Kimutatás!B$2,E6236<=Kimutatás!B$3)","v":true}]
[6236,"Szombathely","017","Q1","2019-02-14","Lakossági hitelnövekmény összege ",35,"Mhuf","2019-03-01","irdatl1",{"$f":"AND(E6237>=Kimutatás!B$2,E6237<=Kimutatás!B$3)","v":true}]
[6237,"Szombathely","017","Q1","2019-02-14","Lakossági számlanyitás",1,"db","2019-03-01","irdatl1",{"$f":"AND(E6238>=Kimutatás!B$2,E6238<=Kimutatás!B$3)","v":true}]
[6238,"Szombathely","017","Q1","2019-02-14","KKV hitelnövekmény (db)",1,"db","2019-03-01","irdatl1",{"$f":"AND(E6239>=Kimutatás!B$2,E6239<=Kimutatás!B$3)","v":true}]
[6239,"Szombathely","017","Q1","2019-02-14","KKV számlanyitás",-2,"db","2019-03-01","irdatl1",{"$f":"AND(E6240>=Kimutatás!B$2,E6240<=Kimutatás!B$3)","v":true}]
[6240,"Szombathely","017","Q1","2019-02-14","Betét állomány növekmény",5,"Mhuf","2019-03-01","irdatl1",{"$f":"AND(E6241>=Kimutatás!B$2,E6241<=Kimutatás!B$3)","v":true}]
[6241,"Szombathely","017","Q1","2019-02-17","Betérő ügyfelek",11,"fő","2019-03-01","irdatl1",{"$f":"AND(E6242>=Kimutatás!B$2,E6242<=Kimutatás!B$3)","v":true}]
[6242,"Szombathely","017","Q1","2019-02-17","Lakossági hitelnövekmény összege ",-8,"Mhuf","2019-03-01","irdatl1",{"$f":"AND(E6243>=Kimutatás!B$2,E6243<=Kimutatás!B$3)","v":true}]
[6243,"Szombathely","017","Q1","2019-02-17","Lakossági számlanyitás",-4,"db","2019-03-01","irdatl1",{"$f":"AND(E6244>=Kimutatás!B$2,E6244<=Kimutatás!B$3)","v":true}]
[6244,"Szombathely","017","Q1","2019-02-17","KKV hitelnövekmény (db)",-2,"db","2019-03-01","irdatl1",{"$f":"AND(E6245>=Kimutatás!B$2,E6245<=Kimutatás!B$3)","v":true}]
[6245,"Szombathely","017","Q1","2019-02-17","KKV számlanyitás",-1,"db","2019-03-01","irdatl1",{"$f":"AND(E6246>=Kimutatás!B$2,E6246<=Kimutatás!B$3)","v":true}]
[6246,"Szombathely","017","Q1","2019-02-17","Betét állomány növekmény",8,"Mhuf","2019-03-01","irdatl1",{"$f":"AND(E6247>=Kimutatás!B$2,E6247<=Kimutatás!B$3)","v":true}]
[6247,"Szombathely","017","Q1","2019-02-18","Betérő ügyfelek",48,"fő","2019-03-01","irdatl1",{"$f":"AND(E6248>=Kimutatás!B$2,E6248<=Kimutatás!B$3)","v":true}]
[6248,"Szombathely","017","Q1","2019-02-18","Lakossági hitelnövekmény összege ",0,"Mhuf","2019-03-01","irdatl1",{"$f":"AND(E6249>=Kimutatás!B$2,E6249<=Kimutatás!B$3)","v":true}]
[6249,"Szombathely","017","Q1","2019-02-18","Lakossági számlanyitás",2,"db","2019-03-01","irdatl1",{"$f":"AND(E6250>=Kimutatás!B$2,E6250<=Kimutatás!B$3)","v":true}]
[6250,"Szombathely","017","Q1","2019-02-18","KKV hitelnövekmény (db)",-1,"db","2019-03-01","irdatl1",{"$f":"AND(E6251>=Kimutatás!B$2,E6251<=Kimutatás!B$3)","v":true}]
[6251,"Szombathely","017","Q1","2019-02-18","KKV számlanyitás",2,"db","2019-03-01","irdatl1",{"$f":"AND(E6252>=Kimutatás!B$2,E6252<=Kimutatás!B$3)","v":true}]
[6252,"Szombathely","017","Q1","2019-02-18","Betét állomány növekmény",29,"Mhuf","2019-03-01","irdatl1",{"$f":"AND(E6253>=Kimutatás!B$2,E6253<=Kimutatás!B$3)","v":true}]
[6253,"Szombathely","017","Q1","2019-02-19","Betérő ügyfelek",29,"fő","2019-03-01","irdatl1",{"$f":"AND(E6254>=Kimutatás!B$2,E6254<=Kimutatás!B$3)","v":true}]
[6254,"Szombathely","017","Q1","2019-02-19","Lakossági hitelnövekmény összege ",37,"Mhuf","2019-03-01","irdatl1",{"$f":"AND(E6255>=Kimutatás!B$2,E6255<=Kimutatás!B$3)","v":true}]
[6255,"Szombathely","017","Q1","2019-02-19","Lakossági számlanyitás",8,"db","2019-03-01","irdatl1",{"$f":"AND(E6256>=Kimutatás!B$2,E6256<=Kimutatás!B$3)","v":true}]
[6256,"Szombathely","017","Q1","2019-02-19","KKV hitelnövekmény (db)",1,"db","2019-03-01","irdatl1",{"$f":"AND(E6257>=Kimutatás!B$2,E6257<=Kimutatás!B$3)","v":true}]
[6257,"Szombathely","017","Q1","2019-02-19","KKV számlanyitás",-2,"db","2019-03-01","irdatl1",{"$f":"AND(E6258>=Kimutatás!B$2,E6258<=Kimutatás!B$3)","v":true}]
[6258,"Szombathely","017","Q1","2019-02-19","Betét állomány növekmény",18,"Mhuf","2019-03-01","irdatl1",{"$f":"AND(E6259>=Kimutatás!B$2,E6259<=Kimutatás!B$3)","v":true}]
[6259,"Szombathely","017","Q1","2019-02-20","Betérő ügyfelek",27,"fő","2019-03-01","irdatl1",{"$f":"AND(E6260>=Kimutatás!B$2,E6260<=Kimutatás!B$3)","v":true}]
[6260,"Szombathely","017","Q1","2019-02-20","Lakossági hitelnövekmény összege ",-3,"Mhuf","2019-03-01","irdatl1",{"$f":"AND(E6261>=Kimutatás!B$2,E6261<=Kimutatás!B$3)","v":true}]
[6261,"Szombathely","017","Q1","2019-02-20","Lakossági számlanyitás",-2,"db","2019-03-01","irdatl1",{"$f":"AND(E6262>=Kimutatás!B$2,E6262<=Kimutatás!B$3)","v":true}]
[6262,"Szombathely","017","Q1","2019-02-20","KKV hitelnövekmény (db)",-2,"db","2019-03-01","irdatl1",{"$f":"AND(E6263>=Kimutatás!B$2,E6263<=Kimutatás!B$3)","v":true}]
[6263,"Szombathely","017","Q1","2019-02-20","KKV számlanyitás",1,"db","2019-03-01","irdatl1",{"$f":"AND(E6264>=Kimutatás!B$2,E6264<=Kimutatás!B$3)","v":true}]
[6264,"Szombathely","017","Q1","2019-02-20","Betét állomány növekmény",-7,"Mhuf","2019-03-01","irdatl1",{"$f":"AND(E6265>=Kimutatás!B$2,E6265<=Kimutatás!B$3)","v":true}]
[6265,"Szombathely","017","Q1","2019-02-21","Betérő ügyfelek",8,"fő","2019-03-01","irdatl1",{"$f":"AND(E6266>=Kimutatás!B$2,E6266<=Kimutatás!B$3)","v":true}]
[6266,"Szombathely","017","Q1","2019-02-21","Lakossági hitelnövekmény összege ",20,"Mhuf","2019-03-01","irdatl1",{"$f":"AND(E6267>=Kimutatás!B$2,E6267<=Kimutatás!B$3)","v":true}]
[6267,"Szombathely","017","Q1","2019-02-21","Lakossági számlanyitás",-5,"db","2019-03-01","irdatl1",{"$f":"AND(E6268>=Kimutatás!B$2,E6268<=Kimutatás!B$3)","v":true}]
[6268,"Szombathely","017","Q1","2019-02-21","KKV hitelnövekmény (db)",0,"db","2019-03-01","irdatl1",{"$f":"AND(E6269>=Kimutatás!B$2,E6269<=Kimutatás!B$3)","v":true}]
[6269,"Szombathely","017","Q1","2019-02-21","KKV számlanyitás",2,"db","2019-03-01","irdatl1",{"$f":"AND(E6270>=Kimutatás!B$2,E6270<=Kimutatás!B$3)","v":true}]
[6270,"Szombathely","017","Q1","2019-02-21","Betét állomány növekmény",7,"Mhuf","2019-03-01","irdatl1",{"$f":"AND(E6271>=Kimutatás!B$2,E6271<=Kimutatás!B$3)","v":true}]
[6271,"Szombathely","017","Q1","2019-02-24","Betérő ügyfelek",49,"fő","2019-03-01","irdatl1",{"$f":"AND(E6272>=Kimutatás!B$2,E6272<=Kimutatás!B$3)","v":true}]
[6272,"Szombathely","017","Q1","2019-02-24","Lakossági hitelnövekmény összege ",23,"Mhuf","2019-03-01","irdatl1",{"$f":"AND(E6273>=Kimutatás!B$2,E6273<=Kimutatás!B$3)","v":true}]
[6273,"Szombathely","017","Q1","2019-02-24","Lakossági számlanyitás",2,"db","2019-03-01","irdatl1",{"$f":"AND(E6274>=Kimutatás!B$2,E6274<=Kimutatás!B$3)","v":true}]
[6274,"Szombathely","017","Q1","2019-02-24","KKV hitelnövekmény (db)",-1,"db","2019-03-01","irdatl1",{"$f":"AND(E6275>=Kimutatás!B$2,E6275<=Kimutatás!B$3)","v":true}]
[6275,"Szombathely","017","Q1","2019-02-24","KKV számlanyitás",5,"db","2019-03-01","irdatl1",{"$f":"AND(E6276>=Kimutatás!B$2,E6276<=Kimutatás!B$3)","v":true}]
[6276,"Szombathely","017","Q1","2019-02-24","Betét állomány növekmény",22,"Mhuf","2019-03-01","irdatl1",{"$f":"AND(E6277>=Kimutatás!B$2,E6277<=Kimutatás!B$3)","v":true}]
[6277,"Szombathely","017","Q1","2019-02-25","Betérő ügyfelek",5,"fő","2019-03-01","irdatl1",{"$f":"AND(E6278>=Kimutatás!B$2,E6278<=Kimutatás!B$3)","v":true}]
[6278,"Szombathely","017","Q1","2019-02-25","Lakossági hitelnövekmény összege ",46,"Mhuf","2019-03-01","irdatl1",{"$f":"AND(E6279>=Kimutatás!B$2,E6279<=Kimutatás!B$3)","v":true}]
[6279,"Szombathely","017","Q1","2019-02-25","Lakossági számlanyitás",6,"db","2019-03-01","irdatl1",{"$f":"AND(E6280>=Kimutatás!B$2,E6280<=Kimutatás!B$3)","v":true}]
[6280,"Szombathely","017","Q1","2019-02-25","KKV hitelnövekmény (db)",2,"db","2019-03-01","irdatl1",{"$f":"AND(E6281>=Kimutatás!B$2,E6281<=Kimutatás!B$3)","v":true}]
[6281,"Szombathely","017","Q1","2019-02-25","KKV számlanyitás",-1,"db","2019-03-01","irdatl1",{"$f":"AND(E6282>=Kimutatás!B$2,E6282<=Kimutatás!B$3)","v":true}]
[6282,"Szombathely","017","Q1","2019-02-25","Betét állomány növekmény",34,"Mhuf","2019-03-01","irdatl1",{"$f":"AND(E6283>=Kimutatás!B$2,E6283<=Kimutatás!B$3)","v":true}]
[6283,"Szombathely","017","Q1","2019-02-26","Betérő ügyfelek",43,"fő","2019-03-01","irdatl1",{"$f":"AND(E6284>=Kimutatás!B$2,E6284<=Kimutatás!B$3)","v":true}]
[6284,"Szombathely","017","Q1","2019-02-26","Lakossági hitelnövekmény összege ",-9,"Mhuf","2019-03-01","irdatl1",{"$f":"AND(E6285>=Kimutatás!B$2,E6285<=Kimutatás!B$3)","v":true}]
[6285,"Szombathely","017","Q1","2019-02-26","Lakossági számlanyitás",8,"db","2019-03-01","irdatl1",{"$f":"AND(E6286>=Kimutatás!B$2,E6286<=Kimutatás!B$3)","v":true}]
[6286,"Szombathely","017","Q1","2019-02-26","KKV hitelnövekmény (db)",2,"db","2019-03-01","irdatl1",{"$f":"AND(E6287>=Kimutatás!B$2,E6287<=Kimutatás!B$3)","v":true}]
[6287,"Szombathely","017","Q1","2019-02-26","KKV számlanyitás",-3,"db","2019-03-01","irdatl1",{"$f":"AND(E6288>=Kimutatás!B$2,E6288<=Kimutatás!B$3)","v":true}]
[6288,"Szombathely","017","Q1","2019-02-26","Betét állomány növekmény",12,"Mhuf","2019-03-01","irdatl1",{"$f":"AND(E6289>=Kimutatás!B$2,E6289<=Kimutatás!B$3)","v":true}]
[6289,"Szombathely","017","Q1","2019-02-27","Betérő ügyfelek",1,"fő","2019-03-01","irdatl1",{"$f":"AND(E6290>=Kimutatás!B$2,E6290<=Kimutatás!B$3)","v":true}]
[6290,"Szombathely","017","Q1","2019-02-27","Lakossági hitelnövekmény összege ",32,"Mhuf","2019-03-01","irdatl1",{"$f":"AND(E6291>=Kimutatás!B$2,E6291<=Kimutatás!B$3)","v":true}]
[6291,"Szombathely","017","Q1","2019-02-27","Lakossági számlanyitás",-5,"db","2019-03-01","irdatl1",{"$f":"AND(E6292>=Kimutatás!B$2,E6292<=Kimutatás!B$3)","v":true}]
[6292,"Szombathely","017","Q1","2019-02-27","KKV hitelnövekmény (db)",-1,"db","2019-03-01","irdatl1",{"$f":"AND(E6293>=Kimutatás!B$2,E6293<=Kimutatás!B$3)","v":true}]
[6293,"Szombathely","017","Q1","2019-02-27","KKV számlanyitás",0,"db","2019-03-01","irdatl1",{"$f":"AND(E6294>=Kimutatás!B$2,E6294<=Kimutatás!B$3)","v":true}]
[6294,"Szombathely","017","Q1","2019-02-27","Betét állomány növekmény",-20,"Mhuf","2019-03-01","irdatl1",{"$f":"AND(E6295>=Kimutatás!B$2,E6295<=Kimutatás!B$3)","v":true}]
[6295,"Szombathely","017","Q1","2019-02-28","Betérő ügyfelek",34,"fő","2019-03-01","irdatl1",{"$f":"AND(E6296>=Kimutatás!B$2,E6296<=Kimutatás!B$3)","v":true}]
[6296,"Szombathely","017","Q1","2019-02-28","Lakossági hitelnövekmény összege ",47,"Mhuf","2019-03-01","irdatl1",{"$f":"AND(E6297>=Kimutatás!B$2,E6297<=Kimutatás!B$3)","v":true}]
[6297,"Szombathely","017","Q1","2019-02-28","Lakossági számlanyitás",4,"db","2019-03-01","irdatl1",{"$f":"AND(E6298>=Kimutatás!B$2,E6298<=Kimutatás!B$3)","v":true}]
[6298,"Szombathely","017","Q1","2019-02-28","KKV hitelnövekmény (db)",2,"db","2019-03-01","irdatl1",{"$f":"AND(E6299>=Kimutatás!B$2,E6299<=Kimutatás!B$3)","v":true}]
[6299,"Szombathely","017","Q1","2019-02-28","KKV számlanyitás",0,"db","2019-03-01","irdatl1",{"$f":"AND(E6300>=Kimutatás!B$2,E6300<=Kimutatás!B$3)","v":true}]
[6300,"Szombathely","017","Q1","2019-02-28","Betét állomány növekmény",-16,"Mhuf","2019-03-01","irdatl1",{"$f":"AND(E6301>=Kimutatás!B$2,E6301<=Kimutatás!B$3)","v":true}]
[6301,"Szombathely","017","Q1","2019-03-03","Betérő ügyfelek",2,"fő","2019-04-01","gmonos",{"$f":"AND(E6302>=Kimutatás!B$2,E6302<=Kimutatás!B$3)","v":true}]
[6302,"Szombathely","017","Q1","2019-03-03","Lakossági hitelnövekmény összege ",32,"Mhuf","2019-04-01","gmonos",{"$f":"AND(E6303>=Kimutatás!B$2,E6303<=Kimutatás!B$3)","v":true}]
[6303,"Szombathely","017","Q1","2019-03-03","Lakossági számlanyitás",-2,"db","2019-04-01","gmonos",{"$f":"AND(E6304>=Kimutatás!B$2,E6304<=Kimutatás!B$3)","v":true}]
[6304,"Szombathely","017","Q1","2019-03-03","KKV hitelnövekmény (db)",1,"db","2019-04-01","gmonos",{"$f":"AND(E6305>=Kimutatás!B$2,E6305<=Kimutatás!B$3)","v":true}]
[6305,"Szombathely","017","Q1","2019-03-03","KKV számlanyitás",-5,"db","2019-04-01","gmonos",{"$f":"AND(E6306>=Kimutatás!B$2,E6306<=Kimutatás!B$3)","v":true}]
[6306,"Szombathely","017","Q1","2019-03-03","Betét állomány növekmény",27,"Mhuf","2019-04-01","gmonos",{"$f":"AND(E6307>=Kimutatás!B$2,E6307<=Kimutatás!B$3)","v":true}]
[6307,"Szombathely","017","Q1","2019-03-04","Betérő ügyfelek",1,"fő","2019-04-01","gmonos",{"$f":"AND(E6308>=Kimutatás!B$2,E6308<=Kimutatás!B$3)","v":true}]
[6308,"Szombathely","017","Q1","2019-03-04","Lakossági hitelnövekmény összege ",-10,"Mhuf","2019-04-01","gmonos",{"$f":"AND(E6309>=Kimutatás!B$2,E6309<=Kimutatás!B$3)","v":true}]
[6309,"Szombathely","017","Q1","2019-03-04","Lakossági számlanyitás",5,"db","2019-04-01","gmonos",{"$f":"AND(E6310>=Kimutatás!B$2,E6310<=Kimutatás!B$3)","v":true}]
[6310,"Szombathely","017","Q1","2019-03-04","KKV hitelnövekmény (db)",-2,"db","2019-04-01","gmonos",{"$f":"AND(E6311>=Kimutatás!B$2,E6311<=Kimutatás!B$3)","v":true}]
[6311,"Szombathely","017","Q1","2019-03-04","KKV számlanyitás",-5,"db","2019-04-01","gmonos",{"$f":"AND(E6312>=Kimutatás!B$2,E6312<=Kimutatás!B$3)","v":true}]
[6312,"Szombathely","017","Q1","2019-03-04","Betét állomány növekmény",39,"Mhuf","2019-04-01","gmonos",{"$f":"AND(E6313>=Kimutatás!B$2,E6313<=Kimutatás!B$3)","v":true}]
[6313,"Szombathely","017","Q1","2019-03-05","Betérő ügyfelek",25,"fő","2019-04-01","gmonos",{"$f":"AND(E6314>=Kimutatás!B$2,E6314<=Kimutatás!B$3)","v":true}]
[6314,"Szombathely","017","Q1","2019-03-05","Lakossági hitelnövekmény összege ",37,"Mhuf","2019-04-01","gmonos",{"$f":"AND(E6315>=Kimutatás!B$2,E6315<=Kimutatás!B$3)","v":true}]
[6315,"Szombathely","017","Q1","2019-03-05","Lakossági számlanyitás",-2,"db","2019-04-01","gmonos",{"$f":"AND(E6316>=Kimutatás!B$2,E6316<=Kimutatás!B$3)","v":true}]
[6316,"Szombathely","017","Q1","2019-03-05","KKV hitelnövekmény (db)",-1,"db","2019-04-01","gmonos",{"$f":"AND(E6317>=Kimutatás!B$2,E6317<=Kimutatás!B$3)","v":true}]
[6317,"Szombathely","017","Q1","2019-03-05","KKV számlanyitás",0,"db","2019-04-01","gmonos",{"$f":"AND(E6318>=Kimutatás!B$2,E6318<=Kimutatás!B$3)","v":true}]
[6318,"Szombathely","017","Q1","2019-03-05","Betét állomány növekmény",-2,"Mhuf","2019-04-01","gmonos",{"$f":"AND(E6319>=Kimutatás!B$2,E6319<=Kimutatás!B$3)","v":true}]
[6319,"Szombathely","017","Q1","2019-03-06","Betérő ügyfelek",21,"fő","2019-04-01","gmonos",{"$f":"AND(E6320>=Kimutatás!B$2,E6320<=Kimutatás!B$3)","v":true}]
[6320,"Szombathely","017","Q1","2019-03-06","Lakossági hitelnövekmény összege ",10,"Mhuf","2019-04-01","gmonos",{"$f":"AND(E6321>=Kimutatás!B$2,E6321<=Kimutatás!B$3)","v":true}]
[6321,"Szombathely","017","Q1","2019-03-06","Lakossági számlanyitás",9,"db","2019-04-01","gmonos",{"$f":"AND(E6322>=Kimutatás!B$2,E6322<=Kimutatás!B$3)","v":true}]
[6322,"Szombathely","017","Q1","2019-03-06","KKV hitelnövekmény (db)",0,"db","2019-04-01","gmonos",{"$f":"AND(E6323>=Kimutatás!B$2,E6323<=Kimutatás!B$3)","v":true}]
[6323,"Szombathely","017","Q1","2019-03-06","KKV számlanyitás",2,"db","2019-04-01","gmonos",{"$f":"AND(E6324>=Kimutatás!B$2,E6324<=Kimutatás!B$3)","v":true}]
[6324,"Szombathely","017","Q1","2019-03-06","Betét állomány növekmény",-4,"Mhuf","2019-04-01","gmonos",{"$f":"AND(E6325>=Kimutatás!B$2,E6325<=Kimutatás!B$3)","v":true}]
[6325,"Szombathely","017","Q1","2019-03-07","Betérő ügyfelek",30,"fő","2019-04-01","gmonos",{"$f":"AND(E6326>=Kimutatás!B$2,E6326<=Kimutatás!B$3)","v":true}]
[6326,"Szombathely","017","Q1","2019-03-07","Lakossági hitelnövekmény összege ",8,"Mhuf","2019-04-01","gmonos",{"$f":"AND(E6327>=Kimutatás!B$2,E6327<=Kimutatás!B$3)","v":true}]
[6327,"Szombathely","017","Q1","2019-03-07","Lakossági számlanyitás",-2,"db","2019-04-01","gmonos",{"$f":"AND(E6328>=Kimutatás!B$2,E6328<=Kimutatás!B$3)","v":true}]
[6328,"Szombathely","017","Q1","2019-03-07","KKV hitelnövekmény (db)",2,"db","2019-04-01","gmonos",{"$f":"AND(E6329>=Kimutatás!B$2,E6329<=Kimutatás!B$3)","v":true}]
[6329,"Szombathely","017","Q1","2019-03-07","KKV számlanyitás",-4,"db","2019-04-01","gmonos",{"$f":"AND(E6330>=Kimutatás!B$2,E6330<=Kimutatás!B$3)","v":true}]
[6330,"Szombathely","017","Q1","2019-03-07","Betét állomány növekmény",44,"Mhuf","2019-04-01","gmonos",{"$f":"AND(E6331>=Kimutatás!B$2,E6331<=Kimutatás!B$3)","v":true}]
[6331,"Szombathely","017","Q1","2019-03-10","Betérő ügyfelek",18,"fő","2019-04-01","gmonos",{"$f":"AND(E6332>=Kimutatás!B$2,E6332<=Kimutatás!B$3)","v":true}]
[6332,"Szombathely","017","Q1","2019-03-10","Lakossági hitelnövekmény összege ",-5,"Mhuf","2019-04-01","gmonos",{"$f":"AND(E6333>=Kimutatás!B$2,E6333<=Kimutatás!B$3)","v":true}]
[6333,"Szombathely","017","Q1","2019-03-10","Lakossági számlanyitás",7,"db","2019-04-01","gmonos",{"$f":"AND(E6334>=Kimutatás!B$2,E6334<=Kimutatás!B$3)","v":true}]
[6334,"Szombathely","017","Q1","2019-03-10","KKV hitelnövekmény (db)",-2,"db","2019-04-01","gmonos",{"$f":"AND(E6335>=Kimutatás!B$2,E6335<=Kimutatás!B$3)","v":true}]
[6335,"Szombathely","017","Q1","2019-03-10","KKV számlanyitás",1,"db","2019-04-01","gmonos",{"$f":"AND(E6336>=Kimutatás!B$2,E6336<=Kimutatás!B$3)","v":true}]
[6336,"Szombathely","017","Q1","2019-03-10","Betét állomány növekmény",23,"Mhuf","2019-04-01","gmonos",{"$f":"AND(E6337>=Kimutatás!B$2,E6337<=Kimutatás!B$3)","v":true}]
[6337,"Szombathely","017","Q1","2019-03-11","Betérő ügyfelek",16,"fő","2019-04-01","gmonos",{"$f":"AND(E6338>=Kimutatás!B$2,E6338<=Kimutatás!B$3)","v":false}]
[6338,"Szombathely","017","Q1","2019-03-11","Lakossági hitelnövekmény összege ",14,"Mhuf","2019-04-01","gmonos",{"$f":"AND(E6339>=Kimutatás!B$2,E6339<=Kimutatás!B$3)","v":false}]
[6339,"Szombathely","017","Q1","2019-03-11","Lakossági számlanyitás",5,"db","2019-04-01","gmonos",{"$f":"AND(E6340>=Kimutatás!B$2,E6340<=Kimutatás!B$3)","v":false}]
[6340,"Szombathely","017","Q1","2019-03-11","KKV hitelnövekmény (db)",-1,"db","2019-04-01","gmonos",{"$f":"AND(E6341>=Kimutatás!B$2,E6341<=Kimutatás!B$3)","v":false}]
[6341,"Szombathely","017","Q1","2019-03-11","KKV számlanyitás",0,"db","2019-04-01","gmonos",{"$f":"AND(E6342>=Kimutatás!B$2,E6342<=Kimutatás!B$3)","v":false}]
[6342,"Szombathely","017","Q1","2019-03-11","Betét állomány növekmény",43,"Mhuf","2019-04-01","gmonos",{"$f":"AND(E6343>=Kimutatás!B$2,E6343<=Kimutatás!B$3)","v":false}]
[6343,"Szombathely","017","Q1","2019-03-12","Betérő ügyfelek",3,"fő","2019-04-01","gmonos",{"$f":"AND(E6344>=Kimutatás!B$2,E6344<=Kimutatás!B$3)","v":false}]
[6344,"Szombathely","017","Q1","2019-03-12","Lakossági hitelnövekmény összege ",50,"Mhuf","2019-04-01","gmonos",{"$f":"AND(E6345>=Kimutatás!B$2,E6345<=Kimutatás!B$3)","v":false}]
[6345,"Szombathely","017","Q1","2019-03-12","Lakossági számlanyitás",0,"db","2019-04-01","gmonos",{"$f":"AND(E6346>=Kimutatás!B$2,E6346<=Kimutatás!B$3)","v":false}]
[6346,"Szombathely","017","Q1","2019-03-12","KKV hitelnövekmény (db)",-1,"db","2019-04-01","gmonos",{"$f":"AND(E6347>=Kimutatás!B$2,E6347<=Kimutatás!B$3)","v":false}]
[6347,"Szombathely","017","Q1","2019-03-12","KKV számlanyitás",1,"db","2019-04-01","gmonos",{"$f":"AND(E6348>=Kimutatás!B$2,E6348<=Kimutatás!B$3)","v":false}]
[6348,"Szombathely","017","Q1","2019-03-12","Betét állomány növekmény",8,"Mhuf","2019-04-01","gmonos",{"$f":"AND(E6349>=Kimutatás!B$2,E6349<=Kimutatás!B$3)","v":false}]
[6349,"Szombathely","017","Q1","2019-03-13","Betérő ügyfelek",26,"fő","2019-04-01","gmonos",{"$f":"AND(E6350>=Kimutatás!B$2,E6350<=Kimutatás!B$3)","v":false}]
[6350,"Szombathely","017","Q1","2019-03-13","Lakossági hitelnövekmény összege ",26,"Mhuf","2019-04-01","gmonos",{"$f":"AND(E6351>=Kimutatás!B$2,E6351<=Kimutatás!B$3)","v":false}]
[6351,"Szombathely","017","Q1","2019-03-13","Lakossági számlanyitás",-4,"db","2019-04-01","gmonos",{"$f":"AND(E6352>=Kimutatás!B$2,E6352<=Kimutatás!B$3)","v":false}]
[6352,"Szombathely","017","Q1","2019-03-13","KKV hitelnövekmény (db)",0,"db","2019-04-01","gmonos",{"$f":"AND(E6353>=Kimutatás!B$2,E6353<=Kimutatás!B$3)","v":false}]
[6353,"Szombathely","017","Q1","2019-03-13","KKV számlanyitás",2,"db","2019-04-01","gmonos",{"$f":"AND(E6354>=Kimutatás!B$2,E6354<=Kimutatás!B$3)","v":false}]
[6354,"Szombathely","017","Q1","2019-03-13","Betét állomány növekmény",-8,"Mhuf","2019-04-01","gmonos",{"$f":"AND(E6355>=Kimutatás!B$2,E6355<=Kimutatás!B$3)","v":false}]
[6355,"Szombathely","017","Q1","2019-03-14","Betérő ügyfelek",18,"fő","2019-04-01","gmonos",{"$f":"AND(E6356>=Kimutatás!B$2,E6356<=Kimutatás!B$3)","v":false}]
[6356,"Szombathely","017","Q1","2019-03-14","Lakossági hitelnövekmény összege ",50,"Mhuf","2019-04-01","gmonos",{"$f":"AND(E6357>=Kimutatás!B$2,E6357<=Kimutatás!B$3)","v":false}]
[6357,"Szombathely","017","Q1","2019-03-14","Lakossági számlanyitás",6,"db","2019-04-01","gmonos",{"$f":"AND(E6358>=Kimutatás!B$2,E6358<=Kimutatás!B$3)","v":false}]
[6358,"Szombathely","017","Q1","2019-03-14","KKV hitelnövekmény (db)",-2,"db","2019-04-01","gmonos",{"$f":"AND(E6359>=Kimutatás!B$2,E6359<=Kimutatás!B$3)","v":false}]
[6359,"Szombathely","017","Q1","2019-03-14","KKV számlanyitás",4,"db","2019-04-01","gmonos",{"$f":"AND(E6360>=Kimutatás!B$2,E6360<=Kimutatás!B$3)","v":false}]
[6360,"Szombathely","017","Q1","2019-03-14","Betét állomány növekmény",38,"Mhuf","2019-04-01","gmonos",{"$f":"AND(E6361>=Kimutatás!B$2,E6361<=Kimutatás!B$3)","v":false}]
[6361,"Szombathely","017","Q1","2019-03-17","Betérő ügyfelek",46,"fő","2019-04-01","gmonos",{"$f":"AND(E6362>=Kimutatás!B$2,E6362<=Kimutatás!B$3)","v":false}]
[6362,"Szombathely","017","Q1","2019-03-17","Lakossági hitelnövekmény összege ",15,"Mhuf","2019-04-01","gmonos",{"$f":"AND(E6363>=Kimutatás!B$2,E6363<=Kimutatás!B$3)","v":false}]
[6363,"Szombathely","017","Q1","2019-03-17","Lakossági számlanyitás",0,"db","2019-04-01","gmonos",{"$f":"AND(E6364>=Kimutatás!B$2,E6364<=Kimutatás!B$3)","v":false}]
[6364,"Szombathely","017","Q1","2019-03-17","KKV hitelnövekmény (db)",-2,"db","2019-04-01","gmonos",{"$f":"AND(E6365>=Kimutatás!B$2,E6365<=Kimutatás!B$3)","v":false}]
[6365,"Szombathely","017","Q1","2019-03-17","KKV számlanyitás",-5,"db","2019-04-01","gmonos",{"$f":"AND(E6366>=Kimutatás!B$2,E6366<=Kimutatás!B$3)","v":false}]
[6366,"Szombathely","017","Q1","2019-03-17","Betét állomány növekmény",13,"Mhuf","2019-04-01","gmonos",{"$f":"AND(E6367>=Kimutatás!B$2,E6367<=Kimutatás!B$3)","v":false}]
[6367,"Szombathely","017","Q1","2019-03-18","Betérő ügyfelek",16,"fő","2019-04-01","gmonos",{"$f":"AND(E6368>=Kimutatás!B$2,E6368<=Kimutatás!B$3)","v":false}]
[6368,"Szombathely","017","Q1","2019-03-18","Lakossági hitelnövekmény összege ",25,"Mhuf","2019-04-01","gmonos",{"$f":"AND(E6369>=Kimutatás!B$2,E6369<=Kimutatás!B$3)","v":false}]
[6369,"Szombathely","017","Q1","2019-03-18","Lakossági számlanyitás",3,"db","2019-04-01","gmonos",{"$f":"AND(E6370>=Kimutatás!B$2,E6370<=Kimutatás!B$3)","v":false}]
[6370,"Szombathely","017","Q1","2019-03-18","KKV hitelnövekmény (db)",-1,"db","2019-04-01","gmonos",{"$f":"AND(E6371>=Kimutatás!B$2,E6371<=Kimutatás!B$3)","v":false}]
[6371,"Szombathely","017","Q1","2019-03-18","KKV számlanyitás",-2,"db","2019-04-01","gmonos",{"$f":"AND(E6372>=Kimutatás!B$2,E6372<=Kimutatás!B$3)","v":false}]
[6372,"Szombathely","017","Q1","2019-03-18","Betét állomány növekmény",14,"Mhuf","2019-04-01","gmonos",{"$f":"AND(E6373>=Kimutatás!B$2,E6373<=Kimutatás!B$3)","v":false}]
[6373,"Szombathely","017","Q1","2019-03-19","Betérő ügyfelek",35,"fő","2019-04-01","gmonos",{"$f":"AND(E6374>=Kimutatás!B$2,E6374<=Kimutatás!B$3)","v":false}]
[6374,"Szombathely","017","Q1","2019-03-19","Lakossági hitelnövekmény összege ",-6,"Mhuf","2019-04-01","gmonos",{"$f":"AND(E6375>=Kimutatás!B$2,E6375<=Kimutatás!B$3)","v":false}]
[6375,"Szombathely","017","Q1","2019-03-19","Lakossági számlanyitás",-5,"db","2019-04-01","gmonos",{"$f":"AND(E6376>=Kimutatás!B$2,E6376<=Kimutatás!B$3)","v":false}]
[6376,"Szombathely","017","Q1","2019-03-19","KKV hitelnövekmény (db)",1,"db","2019-04-01","gmonos",{"$f":"AND(E6377>=Kimutatás!B$2,E6377<=Kimutatás!B$3)","v":false}]
[6377,"Szombathely","017","Q1","2019-03-19","KKV számlanyitás",2,"db","2019-04-01","gmonos",{"$f":"AND(E6378>=Kimutatás!B$2,E6378<=Kimutatás!B$3)","v":false}]
[6378,"Szombathely","017","Q1","2019-03-19","Betét állomány növekmény",35,"Mhuf","2019-04-01","gmonos",{"$f":"AND(E6379>=Kimutatás!B$2,E6379<=Kimutatás!B$3)","v":false}]
[6379,"Szombathely","017","Q1","2019-03-20","Betérő ügyfelek",3,"fő","2019-04-01","gmonos",{"$f":"AND(E6380>=Kimutatás!B$2,E6380<=Kimutatás!B$3)","v":false}]
[6380,"Szombathely","017","Q1","2019-03-20","Lakossági hitelnövekmény összege ",35,"Mhuf","2019-04-01","gmonos",{"$f":"AND(E6381>=Kimutatás!B$2,E6381<=Kimutatás!B$3)","v":false}]
[6381,"Szombathely","017","Q1","2019-03-20","Lakossági számlanyitás",4,"db","2019-04-01","gmonos",{"$f":"AND(E6382>=Kimutatás!B$2,E6382<=Kimutatás!B$3)","v":false}]
[6382,"Szombathely","017","Q1","2019-03-20","KKV hitelnövekmény (db)",0,"db","2019-04-01","gmonos",{"$f":"AND(E6383>=Kimutatás!B$2,E6383<=Kimutatás!B$3)","v":false}]
[6383,"Szombathely","017","Q1","2019-03-20","KKV számlanyitás",3,"db","2019-04-01","gmonos",{"$f":"AND(E6384>=Kimutatás!B$2,E6384<=Kimutatás!B$3)","v":false}]
[6384,"Szombathely","017","Q1","2019-03-20","Betét állomány növekmény",-19,"Mhuf","2019-04-01","gmonos",{"$f":"AND(E6385>=Kimutatás!B$2,E6385<=Kimutatás!B$3)","v":false}]
[6385,"Szombathely","017","Q1","2019-03-21","Betérő ügyfelek",48,"fő","2019-04-01","gmonos",{"$f":"AND(E6386>=Kimutatás!B$2,E6386<=Kimutatás!B$3)","v":false}]
[6386,"Szombathely","017","Q1","2019-03-21","Lakossági hitelnövekmény összege ",1,"Mhuf","2019-04-01","gmonos",{"$f":"AND(E6387>=Kimutatás!B$2,E6387<=Kimutatás!B$3)","v":false}]
[6387,"Szombathely","017","Q1","2019-03-21","Lakossági számlanyitás",10,"db","2019-04-01","gmonos",{"$f":"AND(E6388>=Kimutatás!B$2,E6388<=Kimutatás!B$3)","v":false}]
[6388,"Szombathely","017","Q1","2019-03-21","KKV hitelnövekmény (db)",-2,"db","2019-04-01","gmonos",{"$f":"AND(E6389>=Kimutatás!B$2,E6389<=Kimutatás!B$3)","v":false}]
[6389,"Szombathely","017","Q1","2019-03-21","KKV számlanyitás",-3,"db","2019-04-01","gmonos",{"$f":"AND(E6390>=Kimutatás!B$2,E6390<=Kimutatás!B$3)","v":false}]
[6390,"Szombathely","017","Q1","2019-03-21","Betét állomány növekmény",49,"Mhuf","2019-04-01","gmonos",{"$f":"AND(E6391>=Kimutatás!B$2,E6391<=Kimutatás!B$3)","v":false}]
[6391,"Szombathely","017","Q1","2019-03-24","Betérő ügyfelek",35,"fő","2019-04-01","gmonos",{"$f":"AND(E6392>=Kimutatás!B$2,E6392<=Kimutatás!B$3)","v":false}]
[6392,"Szombathely","017","Q1","2019-03-24","Lakossági hitelnövekmény összege ",-1,"Mhuf","2019-04-01","gmonos",{"$f":"AND(E6393>=Kimutatás!B$2,E6393<=Kimutatás!B$3)","v":false}]
[6393,"Szombathely","017","Q1","2019-03-24","Lakossági számlanyitás",8,"db","2019-04-01","gmonos",{"$f":"AND(E6394>=Kimutatás!B$2,E6394<=Kimutatás!B$3)","v":false}]
[6394,"Szombathely","017","Q1","2019-03-24","KKV hitelnövekmény (db)",-2,"db","2019-04-01","gmonos",{"$f":"AND(E6395>=Kimutatás!B$2,E6395<=Kimutatás!B$3)","v":false}]
[6395,"Szombathely","017","Q1","2019-03-24","KKV számlanyitás",-3,"db","2019-04-01","gmonos",{"$f":"AND(E6396>=Kimutatás!B$2,E6396<=Kimutatás!B$3)","v":false}]
[6396,"Szombathely","017","Q1","2019-03-24","Betét állomány növekmény",22,"Mhuf","2019-04-01","gmonos",{"$f":"AND(E6397>=Kimutatás!B$2,E6397<=Kimutatás!B$3)","v":false}]
[6397,"Szombathely","017","Q1","2019-03-25","Betérő ügyfelek",28,"fő","2019-04-01","gmonos",{"$f":"AND(E6398>=Kimutatás!B$2,E6398<=Kimutatás!B$3)","v":false}]
[6398,"Szombathely","017","Q1","2019-03-25","Lakossági hitelnövekmény összege ",39,"Mhuf","2019-04-01","gmonos",{"$f":"AND(E6399>=Kimutatás!B$2,E6399<=Kimutatás!B$3)","v":false}]
[6399,"Szombathely","017","Q1","2019-03-25","Lakossági számlanyitás",7,"db","2019-04-01","gmonos",{"$f":"AND(E6400>=Kimutatás!B$2,E6400<=Kimutatás!B$3)","v":false}]
[6400,"Szombathely","017","Q1","2019-03-25","KKV hitelnövekmény (db)",2,"db","2019-04-01","gmonos",{"$f":"AND(E6401>=Kimutatás!B$2,E6401<=Kimutatás!B$3)","v":false}]
[6401,"Szombathely","017","Q1","2019-03-25","KKV számlanyitás",2,"db","2019-04-01","gmonos",{"$f":"AND(E6402>=Kimutatás!B$2,E6402<=Kimutatás!B$3)","v":false}]
[6402,"Szombathely","017","Q1","2019-03-25","Betét állomány növekmény",15,"Mhuf","2019-04-01","gmonos",{"$f":"AND(E6403>=Kimutatás!B$2,E6403<=Kimutatás!B$3)","v":false}]
[6403,"Szombathely","017","Q1","2019-03-26","Betérő ügyfelek",33,"fő","2019-04-01","gmonos",{"$f":"AND(E6404>=Kimutatás!B$2,E6404<=Kimutatás!B$3)","v":false}]
[6404,"Szombathely","017","Q1","2019-03-26","Lakossági hitelnövekmény összege ",3,"Mhuf","2019-04-01","gmonos",{"$f":"AND(E6405>=Kimutatás!B$2,E6405<=Kimutatás!B$3)","v":false}]
[6405,"Szombathely","017","Q1","2019-03-26","Lakossági számlanyitás",6,"db","2019-04-01","gmonos",{"$f":"AND(E6406>=Kimutatás!B$2,E6406<=Kimutatás!B$3)","v":false}]
[6406,"Szombathely","017","Q1","2019-03-26","KKV hitelnövekmény (db)",0,"db","2019-04-01","gmonos",{"$f":"AND(E6407>=Kimutatás!B$2,E6407<=Kimutatás!B$3)","v":false}]
[6407,"Szombathely","017","Q1","2019-03-26","KKV számlanyitás",-3,"db","2019-04-01","gmonos",{"$f":"AND(E6408>=Kimutatás!B$2,E6408<=Kimutatás!B$3)","v":false}]
[6408,"Szombathely","017","Q1","2019-03-26","Betét állomány növekmény",-14,"Mhuf","2019-04-01","gmonos",{"$f":"AND(E6409>=Kimutatás!B$2,E6409<=Kimutatás!B$3)","v":false}]
[6409,"Szombathely","017","Q1","2019-03-27","Betérő ügyfelek",44,"fő","2019-04-01","gmonos",{"$f":"AND(E6410>=Kimutatás!B$2,E6410<=Kimutatás!B$3)","v":false}]
[6410,"Szombathely","017","Q1","2019-03-27","Lakossági hitelnövekmény összege ",49,"Mhuf","2019-04-01","gmonos",{"$f":"AND(E6411>=Kimutatás!B$2,E6411<=Kimutatás!B$3)","v":false}]
[6411,"Szombathely","017","Q1","2019-03-27","Lakossági számlanyitás",7,"db","2019-04-01","gmonos",{"$f":"AND(E6412>=Kimutatás!B$2,E6412<=Kimutatás!B$3)","v":false}]
[6412,"Szombathely","017","Q1","2019-03-27","KKV hitelnövekmény (db)",2,"db","2019-04-01","gmonos",{"$f":"AND(E6413>=Kimutatás!B$2,E6413<=Kimutatás!B$3)","v":false}]
[6413,"Szombathely","017","Q1","2019-03-27","KKV számlanyitás",-4,"db","2019-04-01","gmonos",{"$f":"AND(E6414>=Kimutatás!B$2,E6414<=Kimutatás!B$3)","v":false}]
[6414,"Szombathely","017","Q1","2019-03-27","Betét állomány növekmény",-4,"Mhuf","2019-04-01","gmonos",{"$f":"AND(E6415>=Kimutatás!B$2,E6415<=Kimutatás!B$3)","v":false}]
[6415,"Szombathely","017","Q1","2019-03-28","Betérő ügyfelek",19,"fő","2019-04-01","gmonos",{"$f":"AND(E6416>=Kimutatás!B$2,E6416<=Kimutatás!B$3)","v":false}]
[6416,"Szombathely","017","Q1","2019-03-28","Lakossági hitelnövekmény összege ",26,"Mhuf","2019-04-01","gmonos",{"$f":"AND(E6417>=Kimutatás!B$2,E6417<=Kimutatás!B$3)","v":false}]
[6417,"Szombathely","017","Q1","2019-03-28","Lakossági számlanyitás",5,"db","2019-04-01","gmonos",{"$f":"AND(E6418>=Kimutatás!B$2,E6418<=Kimutatás!B$3)","v":false}]
[6418,"Szombathely","017","Q1","2019-03-28","KKV hitelnövekmény (db)",1,"db","2019-04-01","gmonos",{"$f":"AND(E6419>=Kimutatás!B$2,E6419<=Kimutatás!B$3)","v":false}]
[6419,"Szombathely","017","Q1","2019-03-28","KKV számlanyitás",-3,"db","2019-04-01","gmonos",{"$f":"AND(E6420>=Kimutatás!B$2,E6420<=Kimutatás!B$3)","v":false}]
[6420,"Szombathely","017","Q1","2019-03-28","Betét állomány növekmény",41,"Mhuf","2019-04-01","gmonos",{"$f":"AND(E6421>=Kimutatás!B$2,E6421<=Kimutatás!B$3)","v":false}]
[6421,"Szombathely","017","Q1","2019-03-31","Betérő ügyfelek",13,"fő","2019-04-01","gmonos",{"$f":"AND(E6422>=Kimutatás!B$2,E6422<=Kimutatás!B$3)","v":false}]
[6422,"Szombathely","017","Q1","2019-03-31","Lakossági hitelnövekmény összege ",33,"Mhuf","2019-04-01","gmonos",{"$f":"AND(E6423>=Kimutatás!B$2,E6423<=Kimutatás!B$3)","v":false}]
[6423,"Szombathely","017","Q1","2019-03-31","Lakossági számlanyitás",0,"db","2019-04-01","gmonos",{"$f":"AND(E6424>=Kimutatás!B$2,E6424<=Kimutatás!B$3)","v":false}]
[6424,"Szombathely","017","Q1","2019-03-31","KKV hitelnövekmény (db)",-2,"db","2019-04-01","gmonos",{"$f":"AND(E6425>=Kimutatás!B$2,E6425<=Kimutatás!B$3)","v":false}]
[6425,"Szombathely","017","Q1","2019-03-31","KKV számlanyitás",-4,"db","2019-04-01","gmonos",{"$f":"AND(E6426>=Kimutatás!B$2,E6426<=Kimutatás!B$3)","v":false}]
[6426,"Szombathely","017","Q1","2019-03-31","Betét állomány növekmény",11,"Mhuf","2019-04-01","gmonos",{"$f":"AND(E6427>=Kimutatás!B$2,E6427<=Kimutatás!B$3)","v":false}]
[6427,"Tatabánya","018","Q1","2019-01-02","Betérő ügyfelek",39,"fő","2019-02-01","fenyesf",{"$f":"AND(E6428>=Kimutatás!B$2,E6428<=Kimutatás!B$3)","v":false}]
[6428,"Tatabánya","018","Q1","2019-01-02","Lakossági hitelnövekmény összege ",49,"Mhuf","2019-02-01","fenyesf",{"$f":"AND(E6429>=Kimutatás!B$2,E6429<=Kimutatás!B$3)","v":false}]
[6429,"Tatabánya","018","Q1","2019-01-02","Lakossági számlanyitás",4,"db","2019-02-01","fenyesf",{"$f":"AND(E6430>=Kimutatás!B$2,E6430<=Kimutatás!B$3)","v":false}]
[6430,"Tatabánya","018","Q1","2019-01-02","KKV hitelnövekmény (db)",0,"db","2019-02-01","fenyesf",{"$f":"AND(E6431>=Kimutatás!B$2,E6431<=Kimutatás!B$3)","v":false}]
[6431,"Tatabánya","018","Q1","2019-01-02","KKV számlanyitás",-4,"db","2019-02-01","fenyesf",{"$f":"AND(E6432>=Kimutatás!B$2,E6432<=Kimutatás!B$3)","v":false}]
[6432,"Tatabánya","018","Q1","2019-01-02","Betét állomány növekmény",23,"Mhuf","2019-02-01","fenyesf",{"$f":"AND(E6433>=Kimutatás!B$2,E6433<=Kimutatás!B$3)","v":false}]
[6433,"Tatabánya","018","Q1","2019-01-03","Betérő ügyfelek",2,"fő","2019-02-01","fenyesf",{"$f":"AND(E6434>=Kimutatás!B$2,E6434<=Kimutatás!B$3)","v":false}]
[6434,"Tatabánya","018","Q1","2019-01-03","Lakossági hitelnövekmény összege ",-5,"Mhuf","2019-02-01","fenyesf",{"$f":"AND(E6435>=Kimutatás!B$2,E6435<=Kimutatás!B$3)","v":false}]
[6435,"Tatabánya","018","Q1","2019-01-03","Lakossági számlanyitás",8,"db","2019-02-01","fenyesf",{"$f":"AND(E6436>=Kimutatás!B$2,E6436<=Kimutatás!B$3)","v":false}]
[6436,"Tatabánya","018","Q1","2019-01-03","KKV hitelnövekmény (db)",-1,"db","2019-02-01","fenyesf",{"$f":"AND(E6437>=Kimutatás!B$2,E6437<=Kimutatás!B$3)","v":false}]
[6437,"Tatabánya","018","Q1","2019-01-03","KKV számlanyitás",4,"db","2019-02-01","fenyesf",{"$f":"AND(E6438>=Kimutatás!B$2,E6438<=Kimutatás!B$3)","v":false}]
[6438,"Tatabánya","018","Q1","2019-01-03","Betét állomány növekmény",-12,"Mhuf","2019-02-01","fenyesf",{"$f":"AND(E6439>=Kimutatás!B$2,E6439<=Kimutatás!B$3)","v":false}]
[6439,"Tatabánya","018","Q1","2019-01-06","Betérő ügyfelek",40,"fő","2019-02-01","fenyesf",{"$f":"AND(E6440>=Kimutatás!B$2,E6440<=Kimutatás!B$3)","v":false}]
[6440,"Tatabánya","018","Q1","2019-01-06","Lakossági hitelnövekmény összege ",35,"Mhuf","2019-02-01","fenyesf",{"$f":"AND(E6441>=Kimutatás!B$2,E6441<=Kimutatás!B$3)","v":false}]
[6441,"Tatabánya","018","Q1","2019-01-06","Lakossági számlanyitás",-5,"db","2019-02-01","fenyesf",{"$f":"AND(E6442>=Kimutatás!B$2,E6442<=Kimutatás!B$3)","v":false}]
[6442,"Tatabánya","018","Q1","2019-01-06","KKV hitelnövekmény (db)",0,"db","2019-02-01","fenyesf",{"$f":"AND(E6443>=Kimutatás!B$2,E6443<=Kimutatás!B$3)","v":false}]
[6443,"Tatabánya","018","Q1","2019-01-06","KKV számlanyitás",0,"db","2019-02-01","fenyesf",{"$f":"AND(E6444>=Kimutatás!B$2,E6444<=Kimutatás!B$3)","v":false}]
[6444,"Tatabánya","018","Q1","2019-01-06","Betét állomány növekmény",-14,"Mhuf","2019-02-01","fenyesf",{"$f":"AND(E6445>=Kimutatás!B$2,E6445<=Kimutatás!B$3)","v":false}]
[6445,"Tatabánya","018","Q1","2019-01-07","Betérő ügyfelek",48,"fő","2019-02-01","fenyesf",{"$f":"AND(E6446>=Kimutatás!B$2,E6446<=Kimutatás!B$3)","v":false}]
[6446,"Tatabánya","018","Q1","2019-01-07","Lakossági hitelnövekmény összege ",10,"Mhuf","2019-02-01","fenyesf",{"$f":"AND(E6447>=Kimutatás!B$2,E6447<=Kimutatás!B$3)","v":false}]
[6447,"Tatabánya","018","Q1","2019-01-07","Lakossági számlanyitás",-2,"db","2019-02-01","fenyesf",{"$f":"AND(E6448>=Kimutatás!B$2,E6448<=Kimutatás!B$3)","v":false}]
[6448,"Tatabánya","018","Q1","2019-01-07","KKV hitelnövekmény (db)",1,"db","2019-02-01","fenyesf",{"$f":"AND(E6449>=Kimutatás!B$2,E6449<=Kimutatás!B$3)","v":false}]
[6449,"Tatabánya","018","Q1","2019-01-07","KKV számlanyitás",0,"db","2019-02-01","fenyesf",{"$f":"AND(E6450>=Kimutatás!B$2,E6450<=Kimutatás!B$3)","v":false}]
[6450,"Tatabánya","018","Q1","2019-01-07","Betét állomány növekmény",31,"Mhuf","2019-02-01","fenyesf",{"$f":"AND(E6451>=Kimutatás!B$2,E6451<=Kimutatás!B$3)","v":false}]
[6451,"Tatabánya","018","Q1","2019-01-08","Betérő ügyfelek",16,"fő","2019-02-01","fenyesf",{"$f":"AND(E6452>=Kimutatás!B$2,E6452<=Kimutatás!B$3)","v":false}]
[6452,"Tatabánya","018","Q1","2019-01-08","Lakossági hitelnövekmény összege ",32,"Mhuf","2019-02-01","fenyesf",{"$f":"AND(E6453>=Kimutatás!B$2,E6453<=Kimutatás!B$3)","v":false}]
[6453,"Tatabánya","018","Q1","2019-01-08","Lakossági számlanyitás",3,"db","2019-02-01","fenyesf",{"$f":"AND(E6454>=Kimutatás!B$2,E6454<=Kimutatás!B$3)","v":false}]
[6454,"Tatabánya","018","Q1","2019-01-08","KKV hitelnövekmény (db)",-1,"db","2019-02-01","fenyesf",{"$f":"AND(E6455>=Kimutatás!B$2,E6455<=Kimutatás!B$3)","v":false}]
[6455,"Tatabánya","018","Q1","2019-01-08","KKV számlanyitás",-1,"db","2019-02-01","fenyesf",{"$f":"AND(E6456>=Kimutatás!B$2,E6456<=Kimutatás!B$3)","v":false}]
[6456,"Tatabánya","018","Q1","2019-01-08","Betét állomány növekmény",31,"Mhuf","2019-02-01","fenyesf",{"$f":"AND(E6457>=Kimutatás!B$2,E6457<=Kimutatás!B$3)","v":false}]
[6457,"Tatabánya","018","Q1","2019-01-09","Betérő ügyfelek",34,"fő","2019-02-01","fenyesf",{"$f":"AND(E6458>=Kimutatás!B$2,E6458<=Kimutatás!B$3)","v":false}]
[6458,"Tatabánya","018","Q1","2019-01-09","Lakossági hitelnövekmény összege ",1,"Mhuf","2019-02-01","fenyesf",{"$f":"AND(E6459>=Kimutatás!B$2,E6459<=Kimutatás!B$3)","v":false}]
[6459,"Tatabánya","018","Q1","2019-01-09","Lakossági számlanyitás",10,"db","2019-02-01","fenyesf",{"$f":"AND(E6460>=Kimutatás!B$2,E6460<=Kimutatás!B$3)","v":false}]
[6460,"Tatabánya","018","Q1","2019-01-09","KKV hitelnövekmény (db)",-2,"db","2019-02-01","fenyesf",{"$f":"AND(E6461>=Kimutatás!B$2,E6461<=Kimutatás!B$3)","v":false}]
[6461,"Tatabánya","018","Q1","2019-01-09","KKV számlanyitás",-2,"db","2019-02-01","fenyesf",{"$f":"AND(E6462>=Kimutatás!B$2,E6462<=Kimutatás!B$3)","v":false}]
[6462,"Tatabánya","018","Q1","2019-01-09","Betét állomány növekmény",-8,"Mhuf","2019-02-01","fenyesf",{"$f":"AND(E6463>=Kimutatás!B$2,E6463<=Kimutatás!B$3)","v":false}]
[6463,"Tatabánya","018","Q1","2019-01-10","Betérő ügyfelek",29,"fő","2019-02-01","fenyesf",{"$f":"AND(E6464>=Kimutatás!B$2,E6464<=Kimutatás!B$3)","v":true}]
[6464,"Tatabánya","018","Q1","2019-01-10","Lakossági hitelnövekmény összege ",6,"Mhuf","2019-02-01","fenyesf",{"$f":"AND(E6465>=Kimutatás!B$2,E6465<=Kimutatás!B$3)","v":true}]
[6465,"Tatabánya","018","Q1","2019-01-10","Lakossági számlanyitás",1,"db","2019-02-01","fenyesf",{"$f":"AND(E6466>=Kimutatás!B$2,E6466<=Kimutatás!B$3)","v":true}]
[6466,"Tatabánya","018","Q1","2019-01-10","KKV hitelnövekmény (db)",-1,"db","2019-02-01","fenyesf",{"$f":"AND(E6467>=Kimutatás!B$2,E6467<=Kimutatás!B$3)","v":true}]
[6467,"Tatabánya","018","Q1","2019-01-10","KKV számlanyitás",3,"db","2019-02-01","fenyesf",{"$f":"AND(E6468>=Kimutatás!B$2,E6468<=Kimutatás!B$3)","v":true}]
[6468,"Tatabánya","018","Q1","2019-01-10","Betét állomány növekmény",-15,"Mhuf","2019-02-01","fenyesf",{"$f":"AND(E6469>=Kimutatás!B$2,E6469<=Kimutatás!B$3)","v":true}]
[6469,"Tatabánya","018","Q1","2019-01-13","Betérő ügyfelek",26,"fő","2019-02-01","fenyesf",{"$f":"AND(E6470>=Kimutatás!B$2,E6470<=Kimutatás!B$3)","v":true}]
[6470,"Tatabánya","018","Q1","2019-01-13","Lakossági hitelnövekmény összege ",21,"Mhuf","2019-02-01","fenyesf",{"$f":"AND(E6471>=Kimutatás!B$2,E6471<=Kimutatás!B$3)","v":true}]
[6471,"Tatabánya","018","Q1","2019-01-13","Lakossági számlanyitás",-1,"db","2019-02-01","fenyesf",{"$f":"AND(E6472>=Kimutatás!B$2,E6472<=Kimutatás!B$3)","v":true}]
[6472,"Tatabánya","018","Q1","2019-01-13","KKV hitelnövekmény (db)",-2,"db","2019-02-01","fenyesf",{"$f":"AND(E6473>=Kimutatás!B$2,E6473<=Kimutatás!B$3)","v":true}]
[6473,"Tatabánya","018","Q1","2019-01-13","KKV számlanyitás",4,"db","2019-02-01","fenyesf",{"$f":"AND(E6474>=Kimutatás!B$2,E6474<=Kimutatás!B$3)","v":true}]
[6474,"Tatabánya","018","Q1","2019-01-13","Betét állomány növekmény",35,"Mhuf","2019-02-01","fenyesf",{"$f":"AND(E6475>=Kimutatás!B$2,E6475<=Kimutatás!B$3)","v":true}]
[6475,"Tatabánya","018","Q1","2019-01-14","Betérő ügyfelek",19,"fő","2019-02-01","fenyesf",{"$f":"AND(E6476>=Kimutatás!B$2,E6476<=Kimutatás!B$3)","v":true}]
[6476,"Tatabánya","018","Q1","2019-01-14","Lakossági hitelnövekmény összege ",30,"Mhuf","2019-02-01","fenyesf",{"$f":"AND(E6477>=Kimutatás!B$2,E6477<=Kimutatás!B$3)","v":true}]
[6477,"Tatabánya","018","Q1","2019-01-14","Lakossági számlanyitás",0,"db","2019-02-01","fenyesf",{"$f":"AND(E6478>=Kimutatás!B$2,E6478<=Kimutatás!B$3)","v":true}]
[6478,"Tatabánya","018","Q1","2019-01-14","KKV hitelnövekmény (db)",-2,"db","2019-02-01","fenyesf",{"$f":"AND(E6479>=Kimutatás!B$2,E6479<=Kimutatás!B$3)","v":true}]
[6479,"Tatabánya","018","Q1","2019-01-14","KKV számlanyitás",2,"db","2019-02-01","fenyesf",{"$f":"AND(E6480>=Kimutatás!B$2,E6480<=Kimutatás!B$3)","v":true}]
[6480,"Tatabánya","018","Q1","2019-01-14","Betét állomány növekmény",37,"Mhuf","2019-02-01","fenyesf",{"$f":"AND(E6481>=Kimutatás!B$2,E6481<=Kimutatás!B$3)","v":true}]
[6481,"Tatabánya","018","Q1","2019-01-15","Betérő ügyfelek",8,"fő","2019-02-01","fenyesf",{"$f":"AND(E6482>=Kimutatás!B$2,E6482<=Kimutatás!B$3)","v":true}]
[6482,"Tatabánya","018","Q1","2019-01-15","Lakossági hitelnövekmény összege ",21,"Mhuf","2019-02-01","fenyesf",{"$f":"AND(E6483>=Kimutatás!B$2,E6483<=Kimutatás!B$3)","v":true}]
[6483,"Tatabánya","018","Q1","2019-01-15","Lakossági számlanyitás",-1,"db","2019-02-01","fenyesf",{"$f":"AND(E6484>=Kimutatás!B$2,E6484<=Kimutatás!B$3)","v":true}]
[6484,"Tatabánya","018","Q1","2019-01-15","KKV hitelnövekmény (db)",1,"db","2019-02-01","fenyesf",{"$f":"AND(E6485>=Kimutatás!B$2,E6485<=Kimutatás!B$3)","v":true}]
[6485,"Tatabánya","018","Q1","2019-01-15","KKV számlanyitás",-1,"db","2019-02-01","fenyesf",{"$f":"AND(E6486>=Kimutatás!B$2,E6486<=Kimutatás!B$3)","v":true}]
[6486,"Tatabánya","018","Q1","2019-01-15","Betét állomány növekmény",-4,"Mhuf","2019-02-01","fenyesf",{"$f":"AND(E6487>=Kimutatás!B$2,E6487<=Kimutatás!B$3)","v":true}]
[6487,"Tatabánya","018","Q1","2019-01-16","Betérő ügyfelek",37,"fő","2019-02-01","fenyesf",{"$f":"AND(E6488>=Kimutatás!B$2,E6488<=Kimutatás!B$3)","v":true}]
[6488,"Tatabánya","018","Q1","2019-01-16","Lakossági hitelnövekmény összege ",27,"Mhuf","2019-02-01","fenyesf",{"$f":"AND(E6489>=Kimutatás!B$2,E6489<=Kimutatás!B$3)","v":true}]
[6489,"Tatabánya","018","Q1","2019-01-16","Lakossági számlanyitás",7,"db","2019-02-01","fenyesf",{"$f":"AND(E6490>=Kimutatás!B$2,E6490<=Kimutatás!B$3)","v":true}]
[6490,"Tatabánya","018","Q1","2019-01-16","KKV hitelnövekmény (db)",2,"db","2019-02-01","fenyesf",{"$f":"AND(E6491>=Kimutatás!B$2,E6491<=Kimutatás!B$3)","v":true}]
[6491,"Tatabánya","018","Q1","2019-01-16","KKV számlanyitás",-5,"db","2019-02-01","fenyesf",{"$f":"AND(E6492>=Kimutatás!B$2,E6492<=Kimutatás!B$3)","v":true}]
[6492,"Tatabánya","018","Q1","2019-01-16","Betét állomány növekmény",34,"Mhuf","2019-02-01","fenyesf",{"$f":"AND(E6493>=Kimutatás!B$2,E6493<=Kimutatás!B$3)","v":true}]
[6493,"Tatabánya","018","Q1","2019-01-17","Betérő ügyfelek",34,"fő","2019-02-01","fenyesf",{"$f":"AND(E6494>=Kimutatás!B$2,E6494<=Kimutatás!B$3)","v":true}]
[6494,"Tatabánya","018","Q1","2019-01-17","Lakossági hitelnövekmény összege ",25,"Mhuf","2019-02-01","fenyesf",{"$f":"AND(E6495>=Kimutatás!B$2,E6495<=Kimutatás!B$3)","v":true}]
[6495,"Tatabánya","018","Q1","2019-01-17","Lakossági számlanyitás",7,"db","2019-02-01","fenyesf",{"$f":"AND(E6496>=Kimutatás!B$2,E6496<=Kimutatás!B$3)","v":true}]
[6496,"Tatabánya","018","Q1","2019-01-17","KKV hitelnövekmény (db)",-2,"db","2019-02-01","fenyesf",{"$f":"AND(E6497>=Kimutatás!B$2,E6497<=Kimutatás!B$3)","v":true}]
[6497,"Tatabánya","018","Q1","2019-01-17","KKV számlanyitás",4,"db","2019-02-01","fenyesf",{"$f":"AND(E6498>=Kimutatás!B$2,E6498<=Kimutatás!B$3)","v":true}]
[6498,"Tatabánya","018","Q1","2019-01-17","Betét állomány növekmény",-13,"Mhuf","2019-02-01","fenyesf",{"$f":"AND(E6499>=Kimutatás!B$2,E6499<=Kimutatás!B$3)","v":true}]
[6499,"Tatabánya","018","Q1","2019-01-20","Betérő ügyfelek",40,"fő","2019-02-01","fenyesf",{"$f":"AND(E6500>=Kimutatás!B$2,E6500<=Kimutatás!B$3)","v":true}]
[6500,"Tatabánya","018","Q1","2019-01-20","Lakossági hitelnövekmény összege ",45,"Mhuf","2019-02-01","fenyesf",{"$f":"AND(E6501>=Kimutatás!B$2,E6501<=Kimutatás!B$3)","v":true}]
[6501,"Tatabánya","018","Q1","2019-01-20","Lakossági számlanyitás",9,"db","2019-02-01","fenyesf",{"$f":"AND(E6502>=Kimutatás!B$2,E6502<=Kimutatás!B$3)","v":true}]
[6502,"Tatabánya","018","Q1","2019-01-20","KKV hitelnövekmény (db)",-1,"db","2019-02-01","fenyesf",{"$f":"AND(E6503>=Kimutatás!B$2,E6503<=Kimutatás!B$3)","v":true}]
[6503,"Tatabánya","018","Q1","2019-01-20","KKV számlanyitás",-2,"db","2019-02-01","fenyesf",{"$f":"AND(E6504>=Kimutatás!B$2,E6504<=Kimutatás!B$3)","v":true}]
[6504,"Tatabánya","018","Q1","2019-01-20","Betét állomány növekmény",-15,"Mhuf","2019-02-01","fenyesf",{"$f":"AND(E6505>=Kimutatás!B$2,E6505<=Kimutatás!B$3)","v":true}]
[6505,"Tatabánya","018","Q1","2019-01-21","Betérő ügyfelek",14,"fő","2019-02-01","fenyesf",{"$f":"AND(E6506>=Kimutatás!B$2,E6506<=Kimutatás!B$3)","v":true}]
[6506,"Tatabánya","018","Q1","2019-01-21","Lakossági hitelnövekmény összege ",39,"Mhuf","2019-02-01","fenyesf",{"$f":"AND(E6507>=Kimutatás!B$2,E6507<=Kimutatás!B$3)","v":true}]
[6507,"Tatabánya","018","Q1","2019-01-21","Lakossági számlanyitás",4,"db","2019-02-01","fenyesf",{"$f":"AND(E6508>=Kimutatás!B$2,E6508<=Kimutatás!B$3)","v":true}]
[6508,"Tatabánya","018","Q1","2019-01-21","KKV hitelnövekmény (db)",0,"db","2019-02-01","fenyesf",{"$f":"AND(E6509>=Kimutatás!B$2,E6509<=Kimutatás!B$3)","v":true}]
[6509,"Tatabánya","018","Q1","2019-01-21","KKV számlanyitás",5,"db","2019-02-01","fenyesf",{"$f":"AND(E6510>=Kimutatás!B$2,E6510<=Kimutatás!B$3)","v":true}]
[6510,"Tatabánya","018","Q1","2019-01-21","Betét állomány növekmény",27,"Mhuf","2019-02-01","fenyesf",{"$f":"AND(E6511>=Kimutatás!B$2,E6511<=Kimutatás!B$3)","v":true}]
[6511,"Tatabánya","018","Q1","2019-01-22","Betérő ügyfelek",23,"fő","2019-02-01","fenyesf",{"$f":"AND(E6512>=Kimutatás!B$2,E6512<=Kimutatás!B$3)","v":true}]
[6512,"Tatabánya","018","Q1","2019-01-22","Lakossági hitelnövekmény összege ",43,"Mhuf","2019-02-01","fenyesf",{"$f":"AND(E6513>=Kimutatás!B$2,E6513<=Kimutatás!B$3)","v":true}]
[6513,"Tatabánya","018","Q1","2019-01-22","Lakossági számlanyitás",-3,"db","2019-02-01","fenyesf",{"$f":"AND(E6514>=Kimutatás!B$2,E6514<=Kimutatás!B$3)","v":true}]
[6514,"Tatabánya","018","Q1","2019-01-22","KKV hitelnövekmény (db)",-2,"db","2019-02-01","fenyesf",{"$f":"AND(E6515>=Kimutatás!B$2,E6515<=Kimutatás!B$3)","v":true}]
[6515,"Tatabánya","018","Q1","2019-01-22","KKV számlanyitás",-2,"db","2019-02-01","fenyesf",{"$f":"AND(E6516>=Kimutatás!B$2,E6516<=Kimutatás!B$3)","v":true}]
[6516,"Tatabánya","018","Q1","2019-01-22","Betét állomány növekmény",-13,"Mhuf","2019-02-01","fenyesf",{"$f":"AND(E6517>=Kimutatás!B$2,E6517<=Kimutatás!B$3)","v":true}]
[6517,"Tatabánya","018","Q1","2019-01-23","Betérő ügyfelek",8,"fő","2019-02-01","fenyesf",{"$f":"AND(E6518>=Kimutatás!B$2,E6518<=Kimutatás!B$3)","v":true}]
[6518,"Tatabánya","018","Q1","2019-01-23","Lakossági hitelnövekmény összege ",33,"Mhuf","2019-02-01","fenyesf",{"$f":"AND(E6519>=Kimutatás!B$2,E6519<=Kimutatás!B$3)","v":true}]
[6519,"Tatabánya","018","Q1","2019-01-23","Lakossági számlanyitás",9,"db","2019-02-01","fenyesf",{"$f":"AND(E6520>=Kimutatás!B$2,E6520<=Kimutatás!B$3)","v":true}]
[6520,"Tatabánya","018","Q1","2019-01-23","KKV hitelnövekmény (db)",-1,"db","2019-02-01","fenyesf",{"$f":"AND(E6521>=Kimutatás!B$2,E6521<=Kimutatás!B$3)","v":true}]
[6521,"Tatabánya","018","Q1","2019-01-23","KKV számlanyitás",-3,"db","2019-02-01","fenyesf",{"$f":"AND(E6522>=Kimutatás!B$2,E6522<=Kimutatás!B$3)","v":true}]
[6522,"Tatabánya","018","Q1","2019-01-23","Betét állomány növekmény",49,"Mhuf","2019-02-01","fenyesf",{"$f":"AND(E6523>=Kimutatás!B$2,E6523<=Kimutatás!B$3)","v":true}]
[6523,"Tatabánya","018","Q1","2019-01-24","Betérő ügyfelek",6,"fő","2019-02-01","fenyesf",{"$f":"AND(E6524>=Kimutatás!B$2,E6524<=Kimutatás!B$3)","v":true}]
[6524,"Tatabánya","018","Q1","2019-01-24","Lakossági hitelnövekmény összege ",13,"Mhuf","2019-02-01","fenyesf",{"$f":"AND(E6525>=Kimutatás!B$2,E6525<=Kimutatás!B$3)","v":true}]
[6525,"Tatabánya","018","Q1","2019-01-24","Lakossági számlanyitás",-2,"db","2019-02-01","fenyesf",{"$f":"AND(E6526>=Kimutatás!B$2,E6526<=Kimutatás!B$3)","v":true}]
[6526,"Tatabánya","018","Q1","2019-01-24","KKV hitelnövekmény (db)",1,"db","2019-02-01","fenyesf",{"$f":"AND(E6527>=Kimutatás!B$2,E6527<=Kimutatás!B$3)","v":true}]
[6527,"Tatabánya","018","Q1","2019-01-24","KKV számlanyitás",1,"db","2019-02-01","fenyesf",{"$f":"AND(E6528>=Kimutatás!B$2,E6528<=Kimutatás!B$3)","v":true}]
[6528,"Tatabánya","018","Q1","2019-01-24","Betét állomány növekmény",29,"Mhuf","2019-02-01","fenyesf",{"$f":"AND(E6529>=Kimutatás!B$2,E6529<=Kimutatás!B$3)","v":true}]
[6529,"Tatabánya","018","Q1","2019-01-27","Betérő ügyfelek",6,"fő","2019-02-01","fenyesf",{"$f":"AND(E6530>=Kimutatás!B$2,E6530<=Kimutatás!B$3)","v":true}]
[6530,"Tatabánya","018","Q1","2019-01-27","Lakossági hitelnövekmény összege ",13,"Mhuf","2019-02-01","fenyesf",{"$f":"AND(E6531>=Kimutatás!B$2,E6531<=Kimutatás!B$3)","v":true}]
[6531,"Tatabánya","018","Q1","2019-01-27","Lakossági számlanyitás",7,"db","2019-02-01","fenyesf",{"$f":"AND(E6532>=Kimutatás!B$2,E6532<=Kimutatás!B$3)","v":true}]
[6532,"Tatabánya","018","Q1","2019-01-27","KKV hitelnövekmény (db)",-1,"db","2019-02-01","fenyesf",{"$f":"AND(E6533>=Kimutatás!B$2,E6533<=Kimutatás!B$3)","v":true}]
[6533,"Tatabánya","018","Q1","2019-01-27","KKV számlanyitás",2,"db","2019-02-01","fenyesf",{"$f":"AND(E6534>=Kimutatás!B$2,E6534<=Kimutatás!B$3)","v":true}]
[6534,"Tatabánya","018","Q1","2019-01-27","Betét állomány növekmény",-16,"Mhuf","2019-02-01","fenyesf",{"$f":"AND(E6535>=Kimutatás!B$2,E6535<=Kimutatás!B$3)","v":true}]
[6535,"Tatabánya","018","Q1","2019-01-28","Betérő ügyfelek",33,"fő","2019-02-01","fenyesf",{"$f":"AND(E6536>=Kimutatás!B$2,E6536<=Kimutatás!B$3)","v":true}]
[6536,"Tatabánya","018","Q1","2019-01-28","Lakossági hitelnövekmény összege ",6,"Mhuf","2019-02-01","fenyesf",{"$f":"AND(E6537>=Kimutatás!B$2,E6537<=Kimutatás!B$3)","v":true}]
[6537,"Tatabánya","018","Q1","2019-01-28","Lakossági számlanyitás",7,"db","2019-02-01","fenyesf",{"$f":"AND(E6538>=Kimutatás!B$2,E6538<=Kimutatás!B$3)","v":true}]
[6538,"Tatabánya","018","Q1","2019-01-28","KKV hitelnövekmény (db)",1,"db","2019-02-01","fenyesf",{"$f":"AND(E6539>=Kimutatás!B$2,E6539<=Kimutatás!B$3)","v":true}]
[6539,"Tatabánya","018","Q1","2019-01-28","KKV számlanyitás",1,"db","2019-02-01","fenyesf",{"$f":"AND(E6540>=Kimutatás!B$2,E6540<=Kimutatás!B$3)","v":true}]
[6540,"Tatabánya","018","Q1","2019-01-28","Betét állomány növekmény",27,"Mhuf","2019-02-01","fenyesf",{"$f":"AND(E6541>=Kimutatás!B$2,E6541<=Kimutatás!B$3)","v":true}]
[6541,"Tatabánya","018","Q1","2019-01-29","Betérő ügyfelek",23,"fő","2019-02-01","fenyesf",{"$f":"AND(E6542>=Kimutatás!B$2,E6542<=Kimutatás!B$3)","v":true}]
[6542,"Tatabánya","018","Q1","2019-01-29","Lakossági hitelnövekmény összege ",32,"Mhuf","2019-02-01","fenyesf",{"$f":"AND(E6543>=Kimutatás!B$2,E6543<=Kimutatás!B$3)","v":true}]
[6543,"Tatabánya","018","Q1","2019-01-29","Lakossági számlanyitás",-1,"db","2019-02-01","fenyesf",{"$f":"AND(E6544>=Kimutatás!B$2,E6544<=Kimutatás!B$3)","v":true}]
[6544,"Tatabánya","018","Q1","2019-01-29","KKV hitelnövekmény (db)",2,"db","2019-02-01","fenyesf",{"$f":"AND(E6545>=Kimutatás!B$2,E6545<=Kimutatás!B$3)","v":true}]
[6545,"Tatabánya","018","Q1","2019-01-29","KKV számlanyitás",-1,"db","2019-02-01","fenyesf",{"$f":"AND(E6546>=Kimutatás!B$2,E6546<=Kimutatás!B$3)","v":true}]
[6546,"Tatabánya","018","Q1","2019-01-29","Betét állomány növekmény",37,"Mhuf","2019-02-01","fenyesf",{"$f":"AND(E6547>=Kimutatás!B$2,E6547<=Kimutatás!B$3)","v":true}]
[6547,"Tatabánya","018","Q1","2019-01-30","Betérő ügyfelek",18,"fő","2019-02-01","fenyesf",{"$f":"AND(E6548>=Kimutatás!B$2,E6548<=Kimutatás!B$3)","v":true}]
[6548,"Tatabánya","018","Q1","2019-01-30","Lakossági hitelnövekmény összege ",30,"Mhuf","2019-02-01","fenyesf",{"$f":"AND(E6549>=Kimutatás!B$2,E6549<=Kimutatás!B$3)","v":true}]
[6549,"Tatabánya","018","Q1","2019-01-30","Lakossági számlanyitás",7,"db","2019-02-01","fenyesf",{"$f":"AND(E6550>=Kimutatás!B$2,E6550<=Kimutatás!B$3)","v":true}]
[6550,"Tatabánya","018","Q1","2019-01-30","KKV hitelnövekmény (db)",-2,"db","2019-02-01","fenyesf",{"$f":"AND(E6551>=Kimutatás!B$2,E6551<=Kimutatás!B$3)","v":true}]
[6551,"Tatabánya","018","Q1","2019-01-30","KKV számlanyitás",0,"db","2019-02-01","fenyesf",{"$f":"AND(E6552>=Kimutatás!B$2,E6552<=Kimutatás!B$3)","v":true}]
[6552,"Tatabánya","018","Q1","2019-01-30","Betét állomány növekmény",32,"Mhuf","2019-02-01","fenyesf",{"$f":"AND(E6553>=Kimutatás!B$2,E6553<=Kimutatás!B$3)","v":true}]
[6553,"Tatabánya","018","Q1","2019-01-31","Betérő ügyfelek",1,"fő","2019-02-01","fenyesf",{"$f":"AND(E6554>=Kimutatás!B$2,E6554<=Kimutatás!B$3)","v":true}]
[6554,"Tatabánya","018","Q1","2019-01-31","Lakossági hitelnövekmény összege ",5,"Mhuf","2019-02-01","fenyesf",{"$f":"AND(E6555>=Kimutatás!B$2,E6555<=Kimutatás!B$3)","v":true}]
[6555,"Tatabánya","018","Q1","2019-01-31","Lakossági számlanyitás",0,"db","2019-02-01","fenyesf",{"$f":"AND(E6556>=Kimutatás!B$2,E6556<=Kimutatás!B$3)","v":true}]
[6556,"Tatabánya","018","Q1","2019-01-31","KKV hitelnövekmény (db)",1,"db","2019-02-01","fenyesf",{"$f":"AND(E6557>=Kimutatás!B$2,E6557<=Kimutatás!B$3)","v":true}]
[6557,"Tatabánya","018","Q1","2019-01-31","KKV számlanyitás",1,"db","2019-02-01","fenyesf",{"$f":"AND(E6558>=Kimutatás!B$2,E6558<=Kimutatás!B$3)","v":true}]
[6558,"Tatabánya","018","Q1","2019-01-31","Betét állomány növekmény",1,"Mhuf","2019-02-01","fenyesf",{"$f":"AND(E6559>=Kimutatás!B$2,E6559<=Kimutatás!B$3)","v":true}]
[6559,"Tatabánya","018","Q1","2019-02-03","Betérő ügyfelek",8,"fő","2019-03-01","hatvani",{"$f":"AND(E6560>=Kimutatás!B$2,E6560<=Kimutatás!B$3)","v":true}]
[6560,"Tatabánya","018","Q1","2019-02-03","Lakossági hitelnövekmény összege ",35,"Mhuf","2019-03-01","hatvani",{"$f":"AND(E6561>=Kimutatás!B$2,E6561<=Kimutatás!B$3)","v":true}]
[6561,"Tatabánya","018","Q1","2019-02-03","Lakossági számlanyitás",-2,"db","2019-03-01","hatvani",{"$f":"AND(E6562>=Kimutatás!B$2,E6562<=Kimutatás!B$3)","v":true}]
[6562,"Tatabánya","018","Q1","2019-02-03","KKV hitelnövekmény (db)",2,"db","2019-03-01","hatvani",{"$f":"AND(E6563>=Kimutatás!B$2,E6563<=Kimutatás!B$3)","v":true}]
[6563,"Tatabánya","018","Q1","2019-02-03","KKV számlanyitás",-1,"db","2019-03-01","hatvani",{"$f":"AND(E6564>=Kimutatás!B$2,E6564<=Kimutatás!B$3)","v":true}]
[6564,"Tatabánya","018","Q1","2019-02-03","Betét állomány növekmény",43,"Mhuf","2019-03-01","hatvani",{"$f":"AND(E6565>=Kimutatás!B$2,E6565<=Kimutatás!B$3)","v":true}]
[6565,"Tatabánya","018","Q1","2019-02-04","Betérő ügyfelek",14,"fő","2019-03-01","hatvani",{"$f":"AND(E6566>=Kimutatás!B$2,E6566<=Kimutatás!B$3)","v":true}]
[6566,"Tatabánya","018","Q1","2019-02-04","Lakossági hitelnövekmény összege ",14,"Mhuf","2019-03-01","hatvani",{"$f":"AND(E6567>=Kimutatás!B$2,E6567<=Kimutatás!B$3)","v":true}]
[6567,"Tatabánya","018","Q1","2019-02-04","Lakossági számlanyitás",7,"db","2019-03-01","hatvani",{"$f":"AND(E6568>=Kimutatás!B$2,E6568<=Kimutatás!B$3)","v":true}]
[6568,"Tatabánya","018","Q1","2019-02-04","KKV hitelnövekmény (db)",0,"db","2019-03-01","hatvani",{"$f":"AND(E6569>=Kimutatás!B$2,E6569<=Kimutatás!B$3)","v":true}]
[6569,"Tatabánya","018","Q1","2019-02-04","KKV számlanyitás",3,"db","2019-03-01","hatvani",{"$f":"AND(E6570>=Kimutatás!B$2,E6570<=Kimutatás!B$3)","v":true}]
[6570,"Tatabánya","018","Q1","2019-02-04","Betét állomány növekmény",-1,"Mhuf","2019-03-01","hatvani",{"$f":"AND(E6571>=Kimutatás!B$2,E6571<=Kimutatás!B$3)","v":true}]
[6571,"Tatabánya","018","Q1","2019-02-05","Betérő ügyfelek",12,"fő","2019-03-01","hatvani",{"$f":"AND(E6572>=Kimutatás!B$2,E6572<=Kimutatás!B$3)","v":true}]
[6572,"Tatabánya","018","Q1","2019-02-05","Lakossági hitelnövekmény összege ",36,"Mhuf","2019-03-01","hatvani",{"$f":"AND(E6573>=Kimutatás!B$2,E6573<=Kimutatás!B$3)","v":true}]
[6573,"Tatabánya","018","Q1","2019-02-05","Lakossági számlanyitás",-2,"db","2019-03-01","hatvani",{"$f":"AND(E6574>=Kimutatás!B$2,E6574<=Kimutatás!B$3)","v":true}]
[6574,"Tatabánya","018","Q1","2019-02-05","KKV hitelnövekmény (db)",-1,"db","2019-03-01","hatvani",{"$f":"AND(E6575>=Kimutatás!B$2,E6575<=Kimutatás!B$3)","v":true}]
[6575,"Tatabánya","018","Q1","2019-02-05","KKV számlanyitás",2,"db","2019-03-01","hatvani",{"$f":"AND(E6576>=Kimutatás!B$2,E6576<=Kimutatás!B$3)","v":true}]
[6576,"Tatabánya","018","Q1","2019-02-05","Betét állomány növekmény",35,"Mhuf","2019-03-01","hatvani",{"$f":"AND(E6577>=Kimutatás!B$2,E6577<=Kimutatás!B$3)","v":true}]
[6577,"Tatabánya","018","Q1","2019-02-06","Betérő ügyfelek",37,"fő","2019-03-01","hatvani",{"$f":"AND(E6578>=Kimutatás!B$2,E6578<=Kimutatás!B$3)","v":true}]
[6578,"Tatabánya","018","Q1","2019-02-06","Lakossági hitelnövekmény összege ",14,"Mhuf","2019-03-01","hatvani",{"$f":"AND(E6579>=Kimutatás!B$2,E6579<=Kimutatás!B$3)","v":true}]
[6579,"Tatabánya","018","Q1","2019-02-06","Lakossági számlanyitás",5,"db","2019-03-01","hatvani",{"$f":"AND(E6580>=Kimutatás!B$2,E6580<=Kimutatás!B$3)","v":true}]
[6580,"Tatabánya","018","Q1","2019-02-06","KKV hitelnövekmény (db)",-2,"db","2019-03-01","hatvani",{"$f":"AND(E6581>=Kimutatás!B$2,E6581<=Kimutatás!B$3)","v":true}]
[6581,"Tatabánya","018","Q1","2019-02-06","KKV számlanyitás",4,"db","2019-03-01","hatvani",{"$f":"AND(E6582>=Kimutatás!B$2,E6582<=Kimutatás!B$3)","v":true}]
[6582,"Tatabánya","018","Q1","2019-02-06","Betét állomány növekmény",-2,"Mhuf","2019-03-01","hatvani",{"$f":"AND(E6583>=Kimutatás!B$2,E6583<=Kimutatás!B$3)","v":true}]
[6583,"Tatabánya","018","Q1","2019-02-07","Betérő ügyfelek",37,"fő","2019-03-01","hatvani",{"$f":"AND(E6584>=Kimutatás!B$2,E6584<=Kimutatás!B$3)","v":true}]
[6584,"Tatabánya","018","Q1","2019-02-07","Lakossági hitelnövekmény összege ",12,"Mhuf","2019-03-01","hatvani",{"$f":"AND(E6585>=Kimutatás!B$2,E6585<=Kimutatás!B$3)","v":true}]
[6585,"Tatabánya","018","Q1","2019-02-07","Lakossági számlanyitás",6,"db","2019-03-01","hatvani",{"$f":"AND(E6586>=Kimutatás!B$2,E6586<=Kimutatás!B$3)","v":true}]
[6586,"Tatabánya","018","Q1","2019-02-07","KKV hitelnövekmény (db)",1,"db","2019-03-01","hatvani",{"$f":"AND(E6587>=Kimutatás!B$2,E6587<=Kimutatás!B$3)","v":true}]
[6587,"Tatabánya","018","Q1","2019-02-07","KKV számlanyitás",1,"db","2019-03-01","hatvani",{"$f":"AND(E6588>=Kimutatás!B$2,E6588<=Kimutatás!B$3)","v":true}]
[6588,"Tatabánya","018","Q1","2019-02-07","Betét állomány növekmény",-6,"Mhuf","2019-03-01","hatvani",{"$f":"AND(E6589>=Kimutatás!B$2,E6589<=Kimutatás!B$3)","v":true}]
[6589,"Tatabánya","018","Q1","2019-02-10","Betérő ügyfelek",4,"fő","2019-03-01","hatvani",{"$f":"AND(E6590>=Kimutatás!B$2,E6590<=Kimutatás!B$3)","v":true}]
[6590,"Tatabánya","018","Q1","2019-02-10","Lakossági hitelnövekmény összege ",25,"Mhuf","2019-03-01","hatvani",{"$f":"AND(E6591>=Kimutatás!B$2,E6591<=Kimutatás!B$3)","v":true}]
[6591,"Tatabánya","018","Q1","2019-02-10","Lakossági számlanyitás",3,"db","2019-03-01","hatvani",{"$f":"AND(E6592>=Kimutatás!B$2,E6592<=Kimutatás!B$3)","v":true}]
[6592,"Tatabánya","018","Q1","2019-02-10","KKV hitelnövekmény (db)",0,"db","2019-03-01","hatvani",{"$f":"AND(E6593>=Kimutatás!B$2,E6593<=Kimutatás!B$3)","v":true}]
[6593,"Tatabánya","018","Q1","2019-02-10","KKV számlanyitás",-5,"db","2019-03-01","hatvani",{"$f":"AND(E6594>=Kimutatás!B$2,E6594<=Kimutatás!B$3)","v":true}]
[6594,"Tatabánya","018","Q1","2019-02-10","Betét állomány növekmény",32,"Mhuf","2019-03-01","hatvani",{"$f":"AND(E6595>=Kimutatás!B$2,E6595<=Kimutatás!B$3)","v":true}]
[6595,"Tatabánya","018","Q1","2019-02-11","Betérő ügyfelek",16,"fő","2019-03-01","hatvani",{"$f":"AND(E6596>=Kimutatás!B$2,E6596<=Kimutatás!B$3)","v":true}]
[6596,"Tatabánya","018","Q1","2019-02-11","Lakossági hitelnövekmény összege ",11,"Mhuf","2019-03-01","hatvani",{"$f":"AND(E6597>=Kimutatás!B$2,E6597<=Kimutatás!B$3)","v":true}]
[6597,"Tatabánya","018","Q1","2019-02-11","Lakossági számlanyitás",10,"db","2019-03-01","hatvani",{"$f":"AND(E6598>=Kimutatás!B$2,E6598<=Kimutatás!B$3)","v":true}]
[6598,"Tatabánya","018","Q1","2019-02-11","KKV hitelnövekmény (db)",1,"db","2019-03-01","hatvani",{"$f":"AND(E6599>=Kimutatás!B$2,E6599<=Kimutatás!B$3)","v":true}]
[6599,"Tatabánya","018","Q1","2019-02-11","KKV számlanyitás",1,"db","2019-03-01","hatvani",{"$f":"AND(E6600>=Kimutatás!B$2,E6600<=Kimutatás!B$3)","v":true}]
[6600,"Tatabánya","018","Q1","2019-02-11","Betét állomány növekmény",28,"Mhuf","2019-03-01","hatvani",{"$f":"AND(E6601>=Kimutatás!B$2,E6601<=Kimutatás!B$3)","v":true}]
[6601,"Tatabánya","018","Q1","2019-02-12","Betérő ügyfelek",4,"fő","2019-03-01","hatvani",{"$f":"AND(E6602>=Kimutatás!B$2,E6602<=Kimutatás!B$3)","v":true}]
[6602,"Tatabánya","018","Q1","2019-02-12","Lakossági hitelnövekmény összege ",24,"Mhuf","2019-03-01","hatvani",{"$f":"AND(E6603>=Kimutatás!B$2,E6603<=Kimutatás!B$3)","v":true}]
[6603,"Tatabánya","018","Q1","2019-02-12","Lakossági számlanyitás",-2,"db","2019-03-01","hatvani",{"$f":"AND(E6604>=Kimutatás!B$2,E6604<=Kimutatás!B$3)","v":true}]
[6604,"Tatabánya","018","Q1","2019-02-12","KKV hitelnövekmény (db)",2,"db","2019-03-01","hatvani",{"$f":"AND(E6605>=Kimutatás!B$2,E6605<=Kimutatás!B$3)","v":true}]
[6605,"Tatabánya","018","Q1","2019-02-12","KKV számlanyitás",-2,"db","2019-03-01","hatvani",{"$f":"AND(E6606>=Kimutatás!B$2,E6606<=Kimutatás!B$3)","v":true}]
[6606,"Tatabánya","018","Q1","2019-02-12","Betét állomány növekmény",-7,"Mhuf","2019-03-01","hatvani",{"$f":"AND(E6607>=Kimutatás!B$2,E6607<=Kimutatás!B$3)","v":true}]
[6607,"Tatabánya","018","Q1","2019-02-13","Betérő ügyfelek",40,"fő","2019-03-01","hatvani",{"$f":"AND(E6608>=Kimutatás!B$2,E6608<=Kimutatás!B$3)","v":true}]
[6608,"Tatabánya","018","Q1","2019-02-13","Lakossági hitelnövekmény összege ",16,"Mhuf","2019-03-01","hatvani",{"$f":"AND(E6609>=Kimutatás!B$2,E6609<=Kimutatás!B$3)","v":true}]
[6609,"Tatabánya","018","Q1","2019-02-13","Lakossági számlanyitás",-5,"db","2019-03-01","hatvani",{"$f":"AND(E6610>=Kimutatás!B$2,E6610<=Kimutatás!B$3)","v":true}]
[6610,"Tatabánya","018","Q1","2019-02-13","KKV hitelnövekmény (db)",2,"db","2019-03-01","hatvani",{"$f":"AND(E6611>=Kimutatás!B$2,E6611<=Kimutatás!B$3)","v":true}]
[6611,"Tatabánya","018","Q1","2019-02-13","KKV számlanyitás",4,"db","2019-03-01","hatvani",{"$f":"AND(E6612>=Kimutatás!B$2,E6612<=Kimutatás!B$3)","v":true}]
[6612,"Tatabánya","018","Q1","2019-02-13","Betét állomány növekmény",31,"Mhuf","2019-03-01","hatvani",{"$f":"AND(E6613>=Kimutatás!B$2,E6613<=Kimutatás!B$3)","v":true}]
[6613,"Tatabánya","018","Q1","2019-02-14","Betérő ügyfelek",50,"fő","2019-03-01","hatvani",{"$f":"AND(E6614>=Kimutatás!B$2,E6614<=Kimutatás!B$3)","v":true}]
[6614,"Tatabánya","018","Q1","2019-02-14","Lakossági hitelnövekmény összege ",-8,"Mhuf","2019-03-01","hatvani",{"$f":"AND(E6615>=Kimutatás!B$2,E6615<=Kimutatás!B$3)","v":true}]
[6615,"Tatabánya","018","Q1","2019-02-14","Lakossági számlanyitás",-3,"db","2019-03-01","hatvani",{"$f":"AND(E6616>=Kimutatás!B$2,E6616<=Kimutatás!B$3)","v":true}]
[6616,"Tatabánya","018","Q1","2019-02-14","KKV hitelnövekmény (db)",2,"db","2019-03-01","hatvani",{"$f":"AND(E6617>=Kimutatás!B$2,E6617<=Kimutatás!B$3)","v":true}]
[6617,"Tatabánya","018","Q1","2019-02-14","KKV számlanyitás",-1,"db","2019-03-01","hatvani",{"$f":"AND(E6618>=Kimutatás!B$2,E6618<=Kimutatás!B$3)","v":true}]
[6618,"Tatabánya","018","Q1","2019-02-14","Betét állomány növekmény",36,"Mhuf","2019-03-01","hatvani",{"$f":"AND(E6619>=Kimutatás!B$2,E6619<=Kimutatás!B$3)","v":true}]
[6619,"Tatabánya","018","Q1","2019-02-17","Betérő ügyfelek",6,"fő","2019-03-01","hatvani",{"$f":"AND(E6620>=Kimutatás!B$2,E6620<=Kimutatás!B$3)","v":true}]
[6620,"Tatabánya","018","Q1","2019-02-17","Lakossági hitelnövekmény összege ",11,"Mhuf","2019-03-01","hatvani",{"$f":"AND(E6621>=Kimutatás!B$2,E6621<=Kimutatás!B$3)","v":true}]
[6621,"Tatabánya","018","Q1","2019-02-17","Lakossági számlanyitás",-4,"db","2019-03-01","hatvani",{"$f":"AND(E6622>=Kimutatás!B$2,E6622<=Kimutatás!B$3)","v":true}]
[6622,"Tatabánya","018","Q1","2019-02-17","KKV hitelnövekmény (db)",0,"db","2019-03-01","hatvani",{"$f":"AND(E6623>=Kimutatás!B$2,E6623<=Kimutatás!B$3)","v":true}]
[6623,"Tatabánya","018","Q1","2019-02-17","KKV számlanyitás",-2,"db","2019-03-01","hatvani",{"$f":"AND(E6624>=Kimutatás!B$2,E6624<=Kimutatás!B$3)","v":true}]
[6624,"Tatabánya","018","Q1","2019-02-17","Betét állomány növekmény",28,"Mhuf","2019-03-01","hatvani",{"$f":"AND(E6625>=Kimutatás!B$2,E6625<=Kimutatás!B$3)","v":true}]
[6625,"Tatabánya","018","Q1","2019-02-18","Betérő ügyfelek",25,"fő","2019-03-01","hatvani",{"$f":"AND(E6626>=Kimutatás!B$2,E6626<=Kimutatás!B$3)","v":true}]
[6626,"Tatabánya","018","Q1","2019-02-18","Lakossági hitelnövekmény összege ",22,"Mhuf","2019-03-01","hatvani",{"$f":"AND(E6627>=Kimutatás!B$2,E6627<=Kimutatás!B$3)","v":true}]
[6627,"Tatabánya","018","Q1","2019-02-18","Lakossági számlanyitás",6,"db","2019-03-01","hatvani",{"$f":"AND(E6628>=Kimutatás!B$2,E6628<=Kimutatás!B$3)","v":true}]
[6628,"Tatabánya","018","Q1","2019-02-18","KKV hitelnövekmény (db)",-2,"db","2019-03-01","hatvani",{"$f":"AND(E6629>=Kimutatás!B$2,E6629<=Kimutatás!B$3)","v":true}]
[6629,"Tatabánya","018","Q1","2019-02-18","KKV számlanyitás",4,"db","2019-03-01","hatvani",{"$f":"AND(E6630>=Kimutatás!B$2,E6630<=Kimutatás!B$3)","v":true}]
[6630,"Tatabánya","018","Q1","2019-02-18","Betét állomány növekmény",5,"Mhuf","2019-03-01","hatvani",{"$f":"AND(E6631>=Kimutatás!B$2,E6631<=Kimutatás!B$3)","v":true}]
[6631,"Tatabánya","018","Q1","2019-02-19","Betérő ügyfelek",23,"fő","2019-03-01","hatvani",{"$f":"AND(E6632>=Kimutatás!B$2,E6632<=Kimutatás!B$3)","v":true}]
[6632,"Tatabánya","018","Q1","2019-02-19","Lakossági hitelnövekmény összege ",21,"Mhuf","2019-03-01","hatvani",{"$f":"AND(E6633>=Kimutatás!B$2,E6633<=Kimutatás!B$3)","v":true}]
[6633,"Tatabánya","018","Q1","2019-02-19","Lakossági számlanyitás",5,"db","2019-03-01","hatvani",{"$f":"AND(E6634>=Kimutatás!B$2,E6634<=Kimutatás!B$3)","v":true}]
[6634,"Tatabánya","018","Q1","2019-02-19","KKV hitelnövekmény (db)",1,"db","2019-03-01","hatvani",{"$f":"AND(E6635>=Kimutatás!B$2,E6635<=Kimutatás!B$3)","v":true}]
[6635,"Tatabánya","018","Q1","2019-02-19","KKV számlanyitás",4,"db","2019-03-01","hatvani",{"$f":"AND(E6636>=Kimutatás!B$2,E6636<=Kimutatás!B$3)","v":true}]
[6636,"Tatabánya","018","Q1","2019-02-19","Betét állomány növekmény",33,"Mhuf","2019-03-01","hatvani",{"$f":"AND(E6637>=Kimutatás!B$2,E6637<=Kimutatás!B$3)","v":true}]
[6637,"Tatabánya","018","Q1","2019-02-20","Betérő ügyfelek",27,"fő","2019-03-01","hatvani",{"$f":"AND(E6638>=Kimutatás!B$2,E6638<=Kimutatás!B$3)","v":true}]
[6638,"Tatabánya","018","Q1","2019-02-20","Lakossági hitelnövekmény összege ",24,"Mhuf","2019-03-01","hatvani",{"$f":"AND(E6639>=Kimutatás!B$2,E6639<=Kimutatás!B$3)","v":true}]
[6639,"Tatabánya","018","Q1","2019-02-20","Lakossági számlanyitás",-4,"db","2019-03-01","hatvani",{"$f":"AND(E6640>=Kimutatás!B$2,E6640<=Kimutatás!B$3)","v":true}]
[6640,"Tatabánya","018","Q1","2019-02-20","KKV hitelnövekmény (db)",-1,"db","2019-03-01","hatvani",{"$f":"AND(E6641>=Kimutatás!B$2,E6641<=Kimutatás!B$3)","v":true}]
[6641,"Tatabánya","018","Q1","2019-02-20","KKV számlanyitás",-5,"db","2019-03-01","hatvani",{"$f":"AND(E6642>=Kimutatás!B$2,E6642<=Kimutatás!B$3)","v":true}]
[6642,"Tatabánya","018","Q1","2019-02-20","Betét állomány növekmény",35,"Mhuf","2019-03-01","hatvani",{"$f":"AND(E6643>=Kimutatás!B$2,E6643<=Kimutatás!B$3)","v":true}]
[6643,"Tatabánya","018","Q1","2019-02-21","Betérő ügyfelek",35,"fő","2019-03-01","hatvani",{"$f":"AND(E6644>=Kimutatás!B$2,E6644<=Kimutatás!B$3)","v":true}]
[6644,"Tatabánya","018","Q1","2019-02-21","Lakossági hitelnövekmény összege ",-7,"Mhuf","2019-03-01","hatvani",{"$f":"AND(E6645>=Kimutatás!B$2,E6645<=Kimutatás!B$3)","v":true}]
[6645,"Tatabánya","018","Q1","2019-02-21","Lakossági számlanyitás",-1,"db","2019-03-01","hatvani",{"$f":"AND(E6646>=Kimutatás!B$2,E6646<=Kimutatás!B$3)","v":true}]
[6646,"Tatabánya","018","Q1","2019-02-21","KKV hitelnövekmény (db)",2,"db","2019-03-01","hatvani",{"$f":"AND(E6647>=Kimutatás!B$2,E6647<=Kimutatás!B$3)","v":true}]
[6647,"Tatabánya","018","Q1","2019-02-21","KKV számlanyitás",1,"db","2019-03-01","hatvani",{"$f":"AND(E6648>=Kimutatás!B$2,E6648<=Kimutatás!B$3)","v":true}]
[6648,"Tatabánya","018","Q1","2019-02-21","Betét állomány növekmény",-11,"Mhuf","2019-03-01","hatvani",{"$f":"AND(E6649>=Kimutatás!B$2,E6649<=Kimutatás!B$3)","v":true}]
[6649,"Tatabánya","018","Q1","2019-02-24","Betérő ügyfelek",14,"fő","2019-03-01","hatvani",{"$f":"AND(E6650>=Kimutatás!B$2,E6650<=Kimutatás!B$3)","v":true}]
[6650,"Tatabánya","018","Q1","2019-02-24","Lakossági hitelnövekmény összege ",9,"Mhuf","2019-03-01","hatvani",{"$f":"AND(E6651>=Kimutatás!B$2,E6651<=Kimutatás!B$3)","v":true}]
[6651,"Tatabánya","018","Q1","2019-02-24","Lakossági számlanyitás",2,"db","2019-03-01","hatvani",{"$f":"AND(E6652>=Kimutatás!B$2,E6652<=Kimutatás!B$3)","v":true}]
[6652,"Tatabánya","018","Q1","2019-02-24","KKV hitelnövekmény (db)",-2,"db","2019-03-01","hatvani",{"$f":"AND(E6653>=Kimutatás!B$2,E6653<=Kimutatás!B$3)","v":true}]
[6653,"Tatabánya","018","Q1","2019-02-24","KKV számlanyitás",-1,"db","2019-03-01","hatvani",{"$f":"AND(E6654>=Kimutatás!B$2,E6654<=Kimutatás!B$3)","v":true}]
[6654,"Tatabánya","018","Q1","2019-02-24","Betét állomány növekmény",10,"Mhuf","2019-03-01","hatvani",{"$f":"AND(E6655>=Kimutatás!B$2,E6655<=Kimutatás!B$3)","v":true}]
[6655,"Tatabánya","018","Q1","2019-02-25","Betérő ügyfelek",46,"fő","2019-03-01","hatvani",{"$f":"AND(E6656>=Kimutatás!B$2,E6656<=Kimutatás!B$3)","v":true}]
[6656,"Tatabánya","018","Q1","2019-02-25","Lakossági hitelnövekmény összege ",47,"Mhuf","2019-03-01","hatvani",{"$f":"AND(E6657>=Kimutatás!B$2,E6657<=Kimutatás!B$3)","v":true}]
[6657,"Tatabánya","018","Q1","2019-02-25","Lakossági számlanyitás",9,"db","2019-03-01","hatvani",{"$f":"AND(E6658>=Kimutatás!B$2,E6658<=Kimutatás!B$3)","v":true}]
[6658,"Tatabánya","018","Q1","2019-02-25","KKV hitelnövekmény (db)",0,"db","2019-03-01","hatvani",{"$f":"AND(E6659>=Kimutatás!B$2,E6659<=Kimutatás!B$3)","v":true}]
[6659,"Tatabánya","018","Q1","2019-02-25","KKV számlanyitás",4,"db","2019-03-01","hatvani",{"$f":"AND(E6660>=Kimutatás!B$2,E6660<=Kimutatás!B$3)","v":true}]
[6660,"Tatabánya","018","Q1","2019-02-25","Betét állomány növekmény",37,"Mhuf","2019-03-01","hatvani",{"$f":"AND(E6661>=Kimutatás!B$2,E6661<=Kimutatás!B$3)","v":true}]
[6661,"Tatabánya","018","Q1","2019-02-26","Betérő ügyfelek",20,"fő","2019-03-01","hatvani",{"$f":"AND(E6662>=Kimutatás!B$2,E6662<=Kimutatás!B$3)","v":true}]
[6662,"Tatabánya","018","Q1","2019-02-26","Lakossági hitelnövekmény összege ",44,"Mhuf","2019-03-01","hatvani",{"$f":"AND(E6663>=Kimutatás!B$2,E6663<=Kimutatás!B$3)","v":true}]
[6663,"Tatabánya","018","Q1","2019-02-26","Lakossági számlanyitás",3,"db","2019-03-01","hatvani",{"$f":"AND(E6664>=Kimutatás!B$2,E6664<=Kimutatás!B$3)","v":true}]
[6664,"Tatabánya","018","Q1","2019-02-26","KKV hitelnövekmény (db)",1,"db","2019-03-01","hatvani",{"$f":"AND(E6665>=Kimutatás!B$2,E6665<=Kimutatás!B$3)","v":true}]
[6665,"Tatabánya","018","Q1","2019-02-26","KKV számlanyitás",1,"db","2019-03-01","hatvani",{"$f":"AND(E6666>=Kimutatás!B$2,E6666<=Kimutatás!B$3)","v":true}]
[6666,"Tatabánya","018","Q1","2019-02-26","Betét állomány növekmény",-9,"Mhuf","2019-03-01","hatvani",{"$f":"AND(E6667>=Kimutatás!B$2,E6667<=Kimutatás!B$3)","v":true}]
[6667,"Tatabánya","018","Q1","2019-02-27","Betérő ügyfelek",12,"fő","2019-03-01","hatvani",{"$f":"AND(E6668>=Kimutatás!B$2,E6668<=Kimutatás!B$3)","v":true}]
[6668,"Tatabánya","018","Q1","2019-02-27","Lakossági hitelnövekmény összege ",4,"Mhuf","2019-03-01","hatvani",{"$f":"AND(E6669>=Kimutatás!B$2,E6669<=Kimutatás!B$3)","v":true}]
[6669,"Tatabánya","018","Q1","2019-02-27","Lakossági számlanyitás",-4,"db","2019-03-01","hatvani",{"$f":"AND(E6670>=Kimutatás!B$2,E6670<=Kimutatás!B$3)","v":true}]
[6670,"Tatabánya","018","Q1","2019-02-27","KKV hitelnövekmény (db)",2,"db","2019-03-01","hatvani",{"$f":"AND(E6671>=Kimutatás!B$2,E6671<=Kimutatás!B$3)","v":true}]
[6671,"Tatabánya","018","Q1","2019-02-27","KKV számlanyitás",-2,"db","2019-03-01","hatvani",{"$f":"AND(E6672>=Kimutatás!B$2,E6672<=Kimutatás!B$3)","v":true}]
[6672,"Tatabánya","018","Q1","2019-02-27","Betét állomány növekmény",44,"Mhuf","2019-03-01","hatvani",{"$f":"AND(E6673>=Kimutatás!B$2,E6673<=Kimutatás!B$3)","v":true}]
[6673,"Tatabánya","018","Q1","2019-02-28","Betérő ügyfelek",22,"fő","2019-03-01","hatvani",{"$f":"AND(E6674>=Kimutatás!B$2,E6674<=Kimutatás!B$3)","v":true}]
[6674,"Tatabánya","018","Q1","2019-02-28","Lakossági hitelnövekmény összege ",-8,"Mhuf","2019-03-01","hatvani",{"$f":"AND(E6675>=Kimutatás!B$2,E6675<=Kimutatás!B$3)","v":true}]
[6675,"Tatabánya","018","Q1","2019-02-28","Lakossági számlanyitás",3,"db","2019-03-01","hatvani",{"$f":"AND(E6676>=Kimutatás!B$2,E6676<=Kimutatás!B$3)","v":true}]
[6676,"Tatabánya","018","Q1","2019-02-28","KKV hitelnövekmény (db)",0,"db","2019-03-01","hatvani",{"$f":"AND(E6677>=Kimutatás!B$2,E6677<=Kimutatás!B$3)","v":true}]
[6677,"Tatabánya","018","Q1","2019-02-28","KKV számlanyitás",-5,"db","2019-03-01","hatvani",{"$f":"AND(E6678>=Kimutatás!B$2,E6678<=Kimutatás!B$3)","v":true}]
[6678,"Tatabánya","018","Q1","2019-02-28","Betét állomány növekmény",5,"Mhuf","2019-03-01","hatvani",{"$f":"AND(E6679>=Kimutatás!B$2,E6679<=Kimutatás!B$3)","v":true}]
[6679,"Tatabánya","018","Q1","2019-03-03","Betérő ügyfelek",39,"fő","2019-04-01","evahorg",{"$f":"AND(E6680>=Kimutatás!B$2,E6680<=Kimutatás!B$3)","v":true}]
[6680,"Tatabánya","018","Q1","2019-03-03","Lakossági hitelnövekmény összege ",36,"Mhuf","2019-04-01","evahorg",{"$f":"AND(E6681>=Kimutatás!B$2,E6681<=Kimutatás!B$3)","v":true}]
[6681,"Tatabánya","018","Q1","2019-03-03","Lakossági számlanyitás",-3,"db","2019-04-01","evahorg",{"$f":"AND(E6682>=Kimutatás!B$2,E6682<=Kimutatás!B$3)","v":true}]
[6682,"Tatabánya","018","Q1","2019-03-03","KKV hitelnövekmény (db)",2,"db","2019-04-01","evahorg",{"$f":"AND(E6683>=Kimutatás!B$2,E6683<=Kimutatás!B$3)","v":true}]
[6683,"Tatabánya","018","Q1","2019-03-03","KKV számlanyitás",-1,"db","2019-04-01","evahorg",{"$f":"AND(E6684>=Kimutatás!B$2,E6684<=Kimutatás!B$3)","v":true}]
[6684,"Tatabánya","018","Q1","2019-03-03","Betét állomány növekmény",4,"Mhuf","2019-04-01","evahorg",{"$f":"AND(E6685>=Kimutatás!B$2,E6685<=Kimutatás!B$3)","v":true}]
[6685,"Tatabánya","018","Q1","2019-03-04","Betérő ügyfelek",38,"fő","2019-04-01","evahorg",{"$f":"AND(E6686>=Kimutatás!B$2,E6686<=Kimutatás!B$3)","v":true}]
[6686,"Tatabánya","018","Q1","2019-03-04","Lakossági hitelnövekmény összege ",21,"Mhuf","2019-04-01","evahorg",{"$f":"AND(E6687>=Kimutatás!B$2,E6687<=Kimutatás!B$3)","v":true}]
[6687,"Tatabánya","018","Q1","2019-03-04","Lakossági számlanyitás",8,"db","2019-04-01","evahorg",{"$f":"AND(E6688>=Kimutatás!B$2,E6688<=Kimutatás!B$3)","v":true}]
[6688,"Tatabánya","018","Q1","2019-03-04","KKV hitelnövekmény (db)",-1,"db","2019-04-01","evahorg",{"$f":"AND(E6689>=Kimutatás!B$2,E6689<=Kimutatás!B$3)","v":true}]
[6689,"Tatabánya","018","Q1","2019-03-04","KKV számlanyitás",-5,"db","2019-04-01","evahorg",{"$f":"AND(E6690>=Kimutatás!B$2,E6690<=Kimutatás!B$3)","v":true}]
[6690,"Tatabánya","018","Q1","2019-03-04","Betét állomány növekmény",23,"Mhuf","2019-04-01","evahorg",{"$f":"AND(E6691>=Kimutatás!B$2,E6691<=Kimutatás!B$3)","v":true}]
[6691,"Tatabánya","018","Q1","2019-03-05","Betérő ügyfelek",45,"fő","2019-04-01","evahorg",{"$f":"AND(E6692>=Kimutatás!B$2,E6692<=Kimutatás!B$3)","v":true}]
[6692,"Tatabánya","018","Q1","2019-03-05","Lakossági hitelnövekmény összege ",42,"Mhuf","2019-04-01","evahorg",{"$f":"AND(E6693>=Kimutatás!B$2,E6693<=Kimutatás!B$3)","v":true}]
[6693,"Tatabánya","018","Q1","2019-03-05","Lakossági számlanyitás",-3,"db","2019-04-01","evahorg",{"$f":"AND(E6694>=Kimutatás!B$2,E6694<=Kimutatás!B$3)","v":true}]
[6694,"Tatabánya","018","Q1","2019-03-05","KKV hitelnövekmény (db)",-2,"db","2019-04-01","evahorg",{"$f":"AND(E6695>=Kimutatás!B$2,E6695<=Kimutatás!B$3)","v":true}]
[6695,"Tatabánya","018","Q1","2019-03-05","KKV számlanyitás",5,"db","2019-04-01","evahorg",{"$f":"AND(E6696>=Kimutatás!B$2,E6696<=Kimutatás!B$3)","v":true}]
[6696,"Tatabánya","018","Q1","2019-03-05","Betét állomány növekmény",-17,"Mhuf","2019-04-01","evahorg",{"$f":"AND(E6697>=Kimutatás!B$2,E6697<=Kimutatás!B$3)","v":true}]
[6697,"Tatabánya","018","Q1","2019-03-06","Betérő ügyfelek",40,"fő","2019-04-01","evahorg",{"$f":"AND(E6698>=Kimutatás!B$2,E6698<=Kimutatás!B$3)","v":true}]
[6698,"Tatabánya","018","Q1","2019-03-06","Lakossági hitelnövekmény összege ",7,"Mhuf","2019-04-01","evahorg",{"$f":"AND(E6699>=Kimutatás!B$2,E6699<=Kimutatás!B$3)","v":true}]
[6699,"Tatabánya","018","Q1","2019-03-06","Lakossági számlanyitás",9,"db","2019-04-01","evahorg",{"$f":"AND(E6700>=Kimutatás!B$2,E6700<=Kimutatás!B$3)","v":true}]
[6700,"Tatabánya","018","Q1","2019-03-06","KKV hitelnövekmény (db)",1,"db","2019-04-01","evahorg",{"$f":"AND(E6701>=Kimutatás!B$2,E6701<=Kimutatás!B$3)","v":true}]
[6701,"Tatabánya","018","Q1","2019-03-06","KKV számlanyitás",0,"db","2019-04-01","evahorg",{"$f":"AND(E6702>=Kimutatás!B$2,E6702<=Kimutatás!B$3)","v":true}]
[6702,"Tatabánya","018","Q1","2019-03-06","Betét állomány növekmény",26,"Mhuf","2019-04-01","evahorg",{"$f":"AND(E6703>=Kimutatás!B$2,E6703<=Kimutatás!B$3)","v":true}]
[6703,"Tatabánya","018","Q1","2019-03-07","Betérő ügyfelek",39,"fő","2019-04-01","evahorg",{"$f":"AND(E6704>=Kimutatás!B$2,E6704<=Kimutatás!B$3)","v":true}]
[6704,"Tatabánya","018","Q1","2019-03-07","Lakossági hitelnövekmény összege ",-10,"Mhuf","2019-04-01","evahorg",{"$f":"AND(E6705>=Kimutatás!B$2,E6705<=Kimutatás!B$3)","v":true}]
[6705,"Tatabánya","018","Q1","2019-03-07","Lakossági számlanyitás",10,"db","2019-04-01","evahorg",{"$f":"AND(E6706>=Kimutatás!B$2,E6706<=Kimutatás!B$3)","v":true}]
[6706,"Tatabánya","018","Q1","2019-03-07","KKV hitelnövekmény (db)",1,"db","2019-04-01","evahorg",{"$f":"AND(E6707>=Kimutatás!B$2,E6707<=Kimutatás!B$3)","v":true}]
[6707,"Tatabánya","018","Q1","2019-03-07","KKV számlanyitás",5,"db","2019-04-01","evahorg",{"$f":"AND(E6708>=Kimutatás!B$2,E6708<=Kimutatás!B$3)","v":true}]
[6708,"Tatabánya","018","Q1","2019-03-07","Betét állomány növekmény",12,"Mhuf","2019-04-01","evahorg",{"$f":"AND(E6709>=Kimutatás!B$2,E6709<=Kimutatás!B$3)","v":true}]
[6709,"Tatabánya","018","Q1","2019-03-10","Betérő ügyfelek",27,"fő","2019-04-01","evahorg",{"$f":"AND(E6710>=Kimutatás!B$2,E6710<=Kimutatás!B$3)","v":true}]
[6710,"Tatabánya","018","Q1","2019-03-10","Lakossági hitelnövekmény összege ",18,"Mhuf","2019-04-01","evahorg",{"$f":"AND(E6711>=Kimutatás!B$2,E6711<=Kimutatás!B$3)","v":true}]
[6711,"Tatabánya","018","Q1","2019-03-10","Lakossági számlanyitás",1,"db","2019-04-01","evahorg",{"$f":"AND(E6712>=Kimutatás!B$2,E6712<=Kimutatás!B$3)","v":true}]
[6712,"Tatabánya","018","Q1","2019-03-10","KKV hitelnövekmény (db)",2,"db","2019-04-01","evahorg",{"$f":"AND(E6713>=Kimutatás!B$2,E6713<=Kimutatás!B$3)","v":true}]
[6713,"Tatabánya","018","Q1","2019-03-10","KKV számlanyitás",1,"db","2019-04-01","evahorg",{"$f":"AND(E6714>=Kimutatás!B$2,E6714<=Kimutatás!B$3)","v":true}]
[6714,"Tatabánya","018","Q1","2019-03-10","Betét állomány növekmény",41,"Mhuf","2019-04-01","evahorg",{"$f":"AND(E6715>=Kimutatás!B$2,E6715<=Kimutatás!B$3)","v":true}]
[6715,"Tatabánya","018","Q1","2019-03-11","Betérő ügyfelek",39,"fő","2019-04-01","evahorg",{"$f":"AND(E6716>=Kimutatás!B$2,E6716<=Kimutatás!B$3)","v":false}]
[6716,"Tatabánya","018","Q1","2019-03-11","Lakossági hitelnövekmény összege ",44,"Mhuf","2019-04-01","evahorg",{"$f":"AND(E6717>=Kimutatás!B$2,E6717<=Kimutatás!B$3)","v":false}]
[6717,"Tatabánya","018","Q1","2019-03-11","Lakossági számlanyitás",5,"db","2019-04-01","evahorg",{"$f":"AND(E6718>=Kimutatás!B$2,E6718<=Kimutatás!B$3)","v":false}]
[6718,"Tatabánya","018","Q1","2019-03-11","KKV hitelnövekmény (db)",1,"db","2019-04-01","evahorg",{"$f":"AND(E6719>=Kimutatás!B$2,E6719<=Kimutatás!B$3)","v":false}]
[6719,"Tatabánya","018","Q1","2019-03-11","KKV számlanyitás",-2,"db","2019-04-01","evahorg",{"$f":"AND(E6720>=Kimutatás!B$2,E6720<=Kimutatás!B$3)","v":false}]
[6720,"Tatabánya","018","Q1","2019-03-11","Betét állomány növekmény",-18,"Mhuf","2019-04-01","evahorg",{"$f":"AND(E6721>=Kimutatás!B$2,E6721<=Kimutatás!B$3)","v":false}]
[6721,"Tatabánya","018","Q1","2019-03-12","Betérő ügyfelek",25,"fő","2019-04-01","evahorg",{"$f":"AND(E6722>=Kimutatás!B$2,E6722<=Kimutatás!B$3)","v":false}]
[6722,"Tatabánya","018","Q1","2019-03-12","Lakossági hitelnövekmény összege ",7,"Mhuf","2019-04-01","evahorg",{"$f":"AND(E6723>=Kimutatás!B$2,E6723<=Kimutatás!B$3)","v":false}]
[6723,"Tatabánya","018","Q1","2019-03-12","Lakossági számlanyitás",5,"db","2019-04-01","evahorg",{"$f":"AND(E6724>=Kimutatás!B$2,E6724<=Kimutatás!B$3)","v":false}]
[6724,"Tatabánya","018","Q1","2019-03-12","KKV hitelnövekmény (db)",-1,"db","2019-04-01","evahorg",{"$f":"AND(E6725>=Kimutatás!B$2,E6725<=Kimutatás!B$3)","v":false}]
[6725,"Tatabánya","018","Q1","2019-03-12","KKV számlanyitás",-4,"db","2019-04-01","evahorg",{"$f":"AND(E6726>=Kimutatás!B$2,E6726<=Kimutatás!B$3)","v":false}]
[6726,"Tatabánya","018","Q1","2019-03-12","Betét állomány növekmény",20,"Mhuf","2019-04-01","evahorg",{"$f":"AND(E6727>=Kimutatás!B$2,E6727<=Kimutatás!B$3)","v":false}]
[6727,"Tatabánya","018","Q1","2019-03-13","Betérő ügyfelek",47,"fő","2019-04-01","evahorg",{"$f":"AND(E6728>=Kimutatás!B$2,E6728<=Kimutatás!B$3)","v":false}]
[6728,"Tatabánya","018","Q1","2019-03-13","Lakossági hitelnövekmény összege ",32,"Mhuf","2019-04-01","evahorg",{"$f":"AND(E6729>=Kimutatás!B$2,E6729<=Kimutatás!B$3)","v":false}]
[6729,"Tatabánya","018","Q1","2019-03-13","Lakossági számlanyitás",1,"db","2019-04-01","evahorg",{"$f":"AND(E6730>=Kimutatás!B$2,E6730<=Kimutatás!B$3)","v":false}]
[6730,"Tatabánya","018","Q1","2019-03-13","KKV hitelnövekmény (db)",-2,"db","2019-04-01","evahorg",{"$f":"AND(E6731>=Kimutatás!B$2,E6731<=Kimutatás!B$3)","v":false}]
[6731,"Tatabánya","018","Q1","2019-03-13","KKV számlanyitás",3,"db","2019-04-01","evahorg",{"$f":"AND(E6732>=Kimutatás!B$2,E6732<=Kimutatás!B$3)","v":false}]
[6732,"Tatabánya","018","Q1","2019-03-13","Betét állomány növekmény",-17,"Mhuf","2019-04-01","evahorg",{"$f":"AND(E6733>=Kimutatás!B$2,E6733<=Kimutatás!B$3)","v":false}]
[6733,"Tatabánya","018","Q1","2019-03-14","Betérő ügyfelek",17,"fő","2019-04-01","evahorg",{"$f":"AND(E6734>=Kimutatás!B$2,E6734<=Kimutatás!B$3)","v":false}]
[6734,"Tatabánya","018","Q1","2019-03-14","Lakossági hitelnövekmény összege ",41,"Mhuf","2019-04-01","evahorg",{"$f":"AND(E6735>=Kimutatás!B$2,E6735<=Kimutatás!B$3)","v":false}]
[6735,"Tatabánya","018","Q1","2019-03-14","Lakossági számlanyitás",-2,"db","2019-04-01","evahorg",{"$f":"AND(E6736>=Kimutatás!B$2,E6736<=Kimutatás!B$3)","v":false}]
[6736,"Tatabánya","018","Q1","2019-03-14","KKV hitelnövekmény (db)",-1,"db","2019-04-01","evahorg",{"$f":"AND(E6737>=Kimutatás!B$2,E6737<=Kimutatás!B$3)","v":false}]
[6737,"Tatabánya","018","Q1","2019-03-14","KKV számlanyitás",5,"db","2019-04-01","evahorg",{"$f":"AND(E6738>=Kimutatás!B$2,E6738<=Kimutatás!B$3)","v":false}]
[6738,"Tatabánya","018","Q1","2019-03-14","Betét állomány növekmény",45,"Mhuf","2019-04-01","evahorg",{"$f":"AND(E6739>=Kimutatás!B$2,E6739<=Kimutatás!B$3)","v":false}]
[6739,"Tatabánya","018","Q1","2019-03-17","Betérő ügyfelek",11,"fő","2019-04-01","evahorg",{"$f":"AND(E6740>=Kimutatás!B$2,E6740<=Kimutatás!B$3)","v":false}]
[6740,"Tatabánya","018","Q1","2019-03-17","Lakossági hitelnövekmény összege ",23,"Mhuf","2019-04-01","evahorg",{"$f":"AND(E6741>=Kimutatás!B$2,E6741<=Kimutatás!B$3)","v":false}]
[6741,"Tatabánya","018","Q1","2019-03-17","Lakossági számlanyitás",7,"db","2019-04-01","evahorg",{"$f":"AND(E6742>=Kimutatás!B$2,E6742<=Kimutatás!B$3)","v":false}]
[6742,"Tatabánya","018","Q1","2019-03-17","KKV hitelnövekmény (db)",-2,"db","2019-04-01","evahorg",{"$f":"AND(E6743>=Kimutatás!B$2,E6743<=Kimutatás!B$3)","v":false}]
[6743,"Tatabánya","018","Q1","2019-03-17","KKV számlanyitás",-3,"db","2019-04-01","evahorg",{"$f":"AND(E6744>=Kimutatás!B$2,E6744<=Kimutatás!B$3)","v":false}]
[6744,"Tatabánya","018","Q1","2019-03-17","Betét állomány növekmény",15,"Mhuf","2019-04-01","evahorg",{"$f":"AND(E6745>=Kimutatás!B$2,E6745<=Kimutatás!B$3)","v":false}]
[6745,"Tatabánya","018","Q1","2019-03-18","Betérő ügyfelek",49,"fő","2019-04-01","evahorg",{"$f":"AND(E6746>=Kimutatás!B$2,E6746<=Kimutatás!B$3)","v":false}]
[6746,"Tatabánya","018","Q1","2019-03-18","Lakossági hitelnövekmény összege ",12,"Mhuf","2019-04-01","evahorg",{"$f":"AND(E6747>=Kimutatás!B$2,E6747<=Kimutatás!B$3)","v":false}]
[6747,"Tatabánya","018","Q1","2019-03-18","Lakossági számlanyitás",0,"db","2019-04-01","evahorg",{"$f":"AND(E6748>=Kimutatás!B$2,E6748<=Kimutatás!B$3)","v":false}]
[6748,"Tatabánya","018","Q1","2019-03-18","KKV hitelnövekmény (db)",-2,"db","2019-04-01","evahorg",{"$f":"AND(E6749>=Kimutatás!B$2,E6749<=Kimutatás!B$3)","v":false}]
[6749,"Tatabánya","018","Q1","2019-03-18","KKV számlanyitás",-3,"db","2019-04-01","evahorg",{"$f":"AND(E6750>=Kimutatás!B$2,E6750<=Kimutatás!B$3)","v":false}]
[6750,"Tatabánya","018","Q1","2019-03-18","Betét állomány növekmény",-18,"Mhuf","2019-04-01","evahorg",{"$f":"AND(E6751>=Kimutatás!B$2,E6751<=Kimutatás!B$3)","v":false}]
[6751,"Tatabánya","018","Q1","2019-03-19","Betérő ügyfelek",27,"fő","2019-04-01","evahorg",{"$f":"AND(E6752>=Kimutatás!B$2,E6752<=Kimutatás!B$3)","v":false}]
[6752,"Tatabánya","018","Q1","2019-03-19","Lakossági hitelnövekmény összege ",24,"Mhuf","2019-04-01","evahorg",{"$f":"AND(E6753>=Kimutatás!B$2,E6753<=Kimutatás!B$3)","v":false}]
[6753,"Tatabánya","018","Q1","2019-03-19","Lakossági számlanyitás",2,"db","2019-04-01","evahorg",{"$f":"AND(E6754>=Kimutatás!B$2,E6754<=Kimutatás!B$3)","v":false}]
[6754,"Tatabánya","018","Q1","2019-03-19","KKV hitelnövekmény (db)",-1,"db","2019-04-01","evahorg",{"$f":"AND(E6755>=Kimutatás!B$2,E6755<=Kimutatás!B$3)","v":false}]
[6755,"Tatabánya","018","Q1","2019-03-19","KKV számlanyitás",-2,"db","2019-04-01","evahorg",{"$f":"AND(E6756>=Kimutatás!B$2,E6756<=Kimutatás!B$3)","v":false}]
[6756,"Tatabánya","018","Q1","2019-03-19","Betét állomány növekmény",12,"Mhuf","2019-04-01","evahorg",{"$f":"AND(E6757>=Kimutatás!B$2,E6757<=Kimutatás!B$3)","v":false}]
[6757,"Tatabánya","018","Q1","2019-03-20","Betérő ügyfelek",18,"fő","2019-04-01","evahorg",{"$f":"AND(E6758>=Kimutatás!B$2,E6758<=Kimutatás!B$3)","v":false}]
[6758,"Tatabánya","018","Q1","2019-03-20","Lakossági hitelnövekmény összege ",39,"Mhuf","2019-04-01","evahorg",{"$f":"AND(E6759>=Kimutatás!B$2,E6759<=Kimutatás!B$3)","v":false}]
[6759,"Tatabánya","018","Q1","2019-03-20","Lakossági számlanyitás",-2,"db","2019-04-01","evahorg",{"$f":"AND(E6760>=Kimutatás!B$2,E6760<=Kimutatás!B$3)","v":false}]
[6760,"Tatabánya","018","Q1","2019-03-20","KKV hitelnövekmény (db)",2,"db","2019-04-01","evahorg",{"$f":"AND(E6761>=Kimutatás!B$2,E6761<=Kimutatás!B$3)","v":false}]
[6761,"Tatabánya","018","Q1","2019-03-20","KKV számlanyitás",-3,"db","2019-04-01","evahorg",{"$f":"AND(E6762>=Kimutatás!B$2,E6762<=Kimutatás!B$3)","v":false}]
[6762,"Tatabánya","018","Q1","2019-03-20","Betét állomány növekmény",45,"Mhuf","2019-04-01","evahorg",{"$f":"AND(E6763>=Kimutatás!B$2,E6763<=Kimutatás!B$3)","v":false}]
[6763,"Tatabánya","018","Q1","2019-03-21","Betérő ügyfelek",22,"fő","2019-04-01","evahorg",{"$f":"AND(E6764>=Kimutatás!B$2,E6764<=Kimutatás!B$3)","v":false}]
[6764,"Tatabánya","018","Q1","2019-03-21","Lakossági hitelnövekmény összege ",28,"Mhuf","2019-04-01","evahorg",{"$f":"AND(E6765>=Kimutatás!B$2,E6765<=Kimutatás!B$3)","v":false}]
[6765,"Tatabánya","018","Q1","2019-03-21","Lakossági számlanyitás",5,"db","2019-04-01","evahorg",{"$f":"AND(E6766>=Kimutatás!B$2,E6766<=Kimutatás!B$3)","v":false}]
[6766,"Tatabánya","018","Q1","2019-03-21","KKV hitelnövekmény (db)",-2,"db","2019-04-01","evahorg",{"$f":"AND(E6767>=Kimutatás!B$2,E6767<=Kimutatás!B$3)","v":false}]
[6767,"Tatabánya","018","Q1","2019-03-21","KKV számlanyitás",4,"db","2019-04-01","evahorg",{"$f":"AND(E6768>=Kimutatás!B$2,E6768<=Kimutatás!B$3)","v":false}]
[6768,"Tatabánya","018","Q1","2019-03-21","Betét állomány növekmény",50,"Mhuf","2019-04-01","evahorg",{"$f":"AND(E6769>=Kimutatás!B$2,E6769<=Kimutatás!B$3)","v":false}]
[6769,"Tatabánya","018","Q1","2019-03-24","Betérő ügyfelek",16,"fő","2019-04-01","evahorg",{"$f":"AND(E6770>=Kimutatás!B$2,E6770<=Kimutatás!B$3)","v":false}]
[6770,"Tatabánya","018","Q1","2019-03-24","Lakossági hitelnövekmény összege ",16,"Mhuf","2019-04-01","evahorg",{"$f":"AND(E6771>=Kimutatás!B$2,E6771<=Kimutatás!B$3)","v":false}]
[6771,"Tatabánya","018","Q1","2019-03-24","Lakossági számlanyitás",5,"db","2019-04-01","evahorg",{"$f":"AND(E6772>=Kimutatás!B$2,E6772<=Kimutatás!B$3)","v":false}]
[6772,"Tatabánya","018","Q1","2019-03-24","KKV hitelnövekmény (db)",2,"db","2019-04-01","evahorg",{"$f":"AND(E6773>=Kimutatás!B$2,E6773<=Kimutatás!B$3)","v":false}]
[6773,"Tatabánya","018","Q1","2019-03-24","KKV számlanyitás",3,"db","2019-04-01","evahorg",{"$f":"AND(E6774>=Kimutatás!B$2,E6774<=Kimutatás!B$3)","v":false}]
[6774,"Tatabánya","018","Q1","2019-03-24","Betét állomány növekmény",50,"Mhuf","2019-04-01","evahorg",{"$f":"AND(E6775>=Kimutatás!B$2,E6775<=Kimutatás!B$3)","v":false}]
[6775,"Tatabánya","018","Q1","2019-03-25","Betérő ügyfelek",39,"fő","2019-04-01","evahorg",{"$f":"AND(E6776>=Kimutatás!B$2,E6776<=Kimutatás!B$3)","v":false}]
[6776,"Tatabánya","018","Q1","2019-03-25","Lakossági hitelnövekmény összege ",31,"Mhuf","2019-04-01","evahorg",{"$f":"AND(E6777>=Kimutatás!B$2,E6777<=Kimutatás!B$3)","v":false}]
[6777,"Tatabánya","018","Q1","2019-03-25","Lakossági számlanyitás",4,"db","2019-04-01","evahorg",{"$f":"AND(E6778>=Kimutatás!B$2,E6778<=Kimutatás!B$3)","v":false}]
[6778,"Tatabánya","018","Q1","2019-03-25","KKV hitelnövekmény (db)",0,"db","2019-04-01","evahorg",{"$f":"AND(E6779>=Kimutatás!B$2,E6779<=Kimutatás!B$3)","v":false}]
[6779,"Tatabánya","018","Q1","2019-03-25","KKV számlanyitás",-2,"db","2019-04-01","evahorg",{"$f":"AND(E6780>=Kimutatás!B$2,E6780<=Kimutatás!B$3)","v":false}]
[6780,"Tatabánya","018","Q1","2019-03-25","Betét állomány növekmény",17,"Mhuf","2019-04-01","evahorg",{"$f":"AND(E6781>=Kimutatás!B$2,E6781<=Kimutatás!B$3)","v":false}]
[6781,"Tatabánya","018","Q1","2019-03-26","Betérő ügyfelek",36,"fő","2019-04-01","evahorg",{"$f":"AND(E6782>=Kimutatás!B$2,E6782<=Kimutatás!B$3)","v":false}]
[6782,"Tatabánya","018","Q1","2019-03-26","Lakossági hitelnövekmény összege ",2,"Mhuf","2019-04-01","evahorg",{"$f":"AND(E6783>=Kimutatás!B$2,E6783<=Kimutatás!B$3)","v":false}]
[6783,"Tatabánya","018","Q1","2019-03-26","Lakossági számlanyitás",0,"db","2019-04-01","evahorg",{"$f":"AND(E6784>=Kimutatás!B$2,E6784<=Kimutatás!B$3)","v":false}]
[6784,"Tatabánya","018","Q1","2019-03-26","KKV hitelnövekmény (db)",0,"db","2019-04-01","evahorg",{"$f":"AND(E6785>=Kimutatás!B$2,E6785<=Kimutatás!B$3)","v":false}]
[6785,"Tatabánya","018","Q1","2019-03-26","KKV számlanyitás",-2,"db","2019-04-01","evahorg",{"$f":"AND(E6786>=Kimutatás!B$2,E6786<=Kimutatás!B$3)","v":false}]
[6786,"Tatabánya","018","Q1","2019-03-26","Betét állomány növekmény",18,"Mhuf","2019-04-01","evahorg",{"$f":"AND(E6787>=Kimutatás!B$2,E6787<=Kimutatás!B$3)","v":false}]
[6787,"Tatabánya","018","Q1","2019-03-27","Betérő ügyfelek",45,"fő","2019-04-01","evahorg",{"$f":"AND(E6788>=Kimutatás!B$2,E6788<=Kimutatás!B$3)","v":false}]
[6788,"Tatabánya","018","Q1","2019-03-27","Lakossági hitelnövekmény összege ",1,"Mhuf","2019-04-01","evahorg",{"$f":"AND(E6789>=Kimutatás!B$2,E6789<=Kimutatás!B$3)","v":false}]
[6789,"Tatabánya","018","Q1","2019-03-27","Lakossági számlanyitás",0,"db","2019-04-01","evahorg",{"$f":"AND(E6790>=Kimutatás!B$2,E6790<=Kimutatás!B$3)","v":false}]
[6790,"Tatabánya","018","Q1","2019-03-27","KKV hitelnövekmény (db)",0,"db","2019-04-01","evahorg",{"$f":"AND(E6791>=Kimutatás!B$2,E6791<=Kimutatás!B$3)","v":false}]
[6791,"Tatabánya","018","Q1","2019-03-27","KKV számlanyitás",-4,"db","2019-04-01","evahorg",{"$f":"AND(E6792>=Kimutatás!B$2,E6792<=Kimutatás!B$3)","v":false}]
[6792,"Tatabánya","018","Q1","2019-03-27","Betét állomány növekmény",-17,"Mhuf","2019-04-01","evahorg",{"$f":"AND(E6793>=Kimutatás!B$2,E6793<=Kimutatás!B$3)","v":false}]
[6793,"Tatabánya","018","Q1","2019-03-28","Betérő ügyfelek",47,"fő","2019-04-01","evahorg",{"$f":"AND(E6794>=Kimutatás!B$2,E6794<=Kimutatás!B$3)","v":false}]
[6794,"Tatabánya","018","Q1","2019-03-28","Lakossági hitelnövekmény összege ",40,"Mhuf","2019-04-01","evahorg",{"$f":"AND(E6795>=Kimutatás!B$2,E6795<=Kimutatás!B$3)","v":false}]
[6795,"Tatabánya","018","Q1","2019-03-28","Lakossági számlanyitás",6,"db","2019-04-01","evahorg",{"$f":"AND(E6796>=Kimutatás!B$2,E6796<=Kimutatás!B$3)","v":false}]
[6796,"Tatabánya","018","Q1","2019-03-28","KKV hitelnövekmény (db)",-2,"db","2019-04-01","evahorg",{"$f":"AND(E6797>=Kimutatás!B$2,E6797<=Kimutatás!B$3)","v":false}]
[6797,"Tatabánya","018","Q1","2019-03-28","KKV számlanyitás",-4,"db","2019-04-01","evahorg",{"$f":"AND(E6798>=Kimutatás!B$2,E6798<=Kimutatás!B$3)","v":false}]
[6798,"Tatabánya","018","Q1","2019-03-28","Betét állomány növekmény",-1,"Mhuf","2019-04-01","evahorg",{"$f":"AND(E6799>=Kimutatás!B$2,E6799<=Kimutatás!B$3)","v":false}]
[6799,"Tatabánya","018","Q1","2019-03-31","Betérő ügyfelek",24,"fő","2019-04-01","evahorg",{"$f":"AND(E6800>=Kimutatás!B$2,E6800<=Kimutatás!B$3)","v":false}]
[6800,"Tatabánya","018","Q1","2019-03-31","Lakossági hitelnövekmény összege ",3,"Mhuf","2019-04-01","evahorg",{"$f":"AND(E6801>=Kimutatás!B$2,E6801<=Kimutatás!B$3)","v":false}]
[6801,"Tatabánya","018","Q1","2019-03-31","Lakossági számlanyitás",1,"db","2019-04-01","evahorg",{"$f":"AND(E6802>=Kimutatás!B$2,E6802<=Kimutatás!B$3)","v":false}]
[6802,"Tatabánya","018","Q1","2019-03-31","KKV hitelnövekmény (db)",-1,"db","2019-04-01","evahorg",{"$f":"AND(E6803>=Kimutatás!B$2,E6803<=Kimutatás!B$3)","v":false}]
[6803,"Tatabánya","018","Q1","2019-03-31","KKV számlanyitás",-3,"db","2019-04-01","evahorg",{"$f":"AND(E6804>=Kimutatás!B$2,E6804<=Kimutatás!B$3)","v":false}]
[6804,"Tatabánya","018","Q1","2019-03-31","Betét állomány növekmény",7,"Mhuf","2019-04-01","evahorg",{"$f":"AND(E6805>=Kimutatás!B$2,E6805<=Kimutatás!B$3)","v":false}]
[6805,"Veszprém","019","Q1","2019-01-02","Betérő ügyfelek",47,"fő","2019-02-01","gizella2",{"$f":"AND(E6806>=Kimutatás!B$2,E6806<=Kimutatás!B$3)","v":false}]
[6806,"Veszprém","019","Q1","2019-01-02","Lakossági hitelnövekmény összege ",8,"Mhuf","2019-02-01","gizella2",{"$f":"AND(E6807>=Kimutatás!B$2,E6807<=Kimutatás!B$3)","v":false}]
[6807,"Veszprém","019","Q1","2019-01-02","Lakossági számlanyitás",3,"db","2019-02-01","gizella2",{"$f":"AND(E6808>=Kimutatás!B$2,E6808<=Kimutatás!B$3)","v":false}]
[6808,"Veszprém","019","Q1","2019-01-02","KKV hitelnövekmény (db)",2,"db","2019-02-01","gizella2",{"$f":"AND(E6809>=Kimutatás!B$2,E6809<=Kimutatás!B$3)","v":false}]
[6809,"Veszprém","019","Q1","2019-01-02","KKV számlanyitás",-3,"db","2019-02-01","gizella2",{"$f":"AND(E6810>=Kimutatás!B$2,E6810<=Kimutatás!B$3)","v":false}]
[6810,"Veszprém","019","Q1","2019-01-02","Betét állomány növekmény",-14,"Mhuf","2019-02-01","gizella2",{"$f":"AND(E6811>=Kimutatás!B$2,E6811<=Kimutatás!B$3)","v":false}]
[6811,"Veszprém","019","Q1","2019-01-03","Betérő ügyfelek",24,"fő","2019-02-01","gizella2",{"$f":"AND(E6812>=Kimutatás!B$2,E6812<=Kimutatás!B$3)","v":false}]
[6812,"Veszprém","019","Q1","2019-01-03","Lakossági hitelnövekmény összege ",0,"Mhuf","2019-02-01","gizella2",{"$f":"AND(E6813>=Kimutatás!B$2,E6813<=Kimutatás!B$3)","v":false}]
[6813,"Veszprém","019","Q1","2019-01-03","Lakossági számlanyitás",2,"db","2019-02-01","gizella2",{"$f":"AND(E6814>=Kimutatás!B$2,E6814<=Kimutatás!B$3)","v":false}]
[6814,"Veszprém","019","Q1","2019-01-03","KKV hitelnövekmény (db)",1,"db","2019-02-01","gizella2",{"$f":"AND(E6815>=Kimutatás!B$2,E6815<=Kimutatás!B$3)","v":false}]
[6815,"Veszprém","019","Q1","2019-01-03","KKV számlanyitás",-2,"db","2019-02-01","gizella2",{"$f":"AND(E6816>=Kimutatás!B$2,E6816<=Kimutatás!B$3)","v":false}]
[6816,"Veszprém","019","Q1","2019-01-03","Betét állomány növekmény",28,"Mhuf","2019-02-01","gizella2",{"$f":"AND(E6817>=Kimutatás!B$2,E6817<=Kimutatás!B$3)","v":false}]
[6817,"Veszprém","019","Q1","2019-01-06","Betérő ügyfelek",20,"fő","2019-02-01","gizella2",{"$f":"AND(E6818>=Kimutatás!B$2,E6818<=Kimutatás!B$3)","v":false}]
[6818,"Veszprém","019","Q1","2019-01-06","Lakossági hitelnövekmény összege ",4,"Mhuf","2019-02-01","gizella2",{"$f":"AND(E6819>=Kimutatás!B$2,E6819<=Kimutatás!B$3)","v":false}]
[6819,"Veszprém","019","Q1","2019-01-06","Lakossági számlanyitás",-2,"db","2019-02-01","gizella2",{"$f":"AND(E6820>=Kimutatás!B$2,E6820<=Kimutatás!B$3)","v":false}]
[6820,"Veszprém","019","Q1","2019-01-06","KKV hitelnövekmény (db)",1,"db","2019-02-01","gizella2",{"$f":"AND(E6821>=Kimutatás!B$2,E6821<=Kimutatás!B$3)","v":false}]
[6821,"Veszprém","019","Q1","2019-01-06","KKV számlanyitás",0,"db","2019-02-01","gizella2",{"$f":"AND(E6822>=Kimutatás!B$2,E6822<=Kimutatás!B$3)","v":false}]
[6822,"Veszprém","019","Q1","2019-01-06","Betét állomány növekmény",19,"Mhuf","2019-02-01","gizella2",{"$f":"AND(E6823>=Kimutatás!B$2,E6823<=Kimutatás!B$3)","v":false}]
[6823,"Veszprém","019","Q1","2019-01-07","Betérő ügyfelek",6,"fő","2019-02-01","gizella2",{"$f":"AND(E6824>=Kimutatás!B$2,E6824<=Kimutatás!B$3)","v":false}]
[6824,"Veszprém","019","Q1","2019-01-07","Lakossági hitelnövekmény összege ",-4,"Mhuf","2019-02-01","gizella2",{"$f":"AND(E6825>=Kimutatás!B$2,E6825<=Kimutatás!B$3)","v":false}]
[6825,"Veszprém","019","Q1","2019-01-07","Lakossági számlanyitás",0,"db","2019-02-01","gizella2",{"$f":"AND(E6826>=Kimutatás!B$2,E6826<=Kimutatás!B$3)","v":false}]
[6826,"Veszprém","019","Q1","2019-01-07","KKV hitelnövekmény (db)",-2,"db","2019-02-01","gizella2",{"$f":"AND(E6827>=Kimutatás!B$2,E6827<=Kimutatás!B$3)","v":false}]
[6827,"Veszprém","019","Q1","2019-01-07","KKV számlanyitás",2,"db","2019-02-01","gizella2",{"$f":"AND(E6828>=Kimutatás!B$2,E6828<=Kimutatás!B$3)","v":false}]
[6828,"Veszprém","019","Q1","2019-01-07","Betét állomány növekmény",48,"Mhuf","2019-02-01","gizella2",{"$f":"AND(E6829>=Kimutatás!B$2,E6829<=Kimutatás!B$3)","v":false}]
[6829,"Veszprém","019","Q1","2019-01-08","Betérő ügyfelek",39,"fő","2019-02-01","gizella2",{"$f":"AND(E6830>=Kimutatás!B$2,E6830<=Kimutatás!B$3)","v":false}]
[6830,"Veszprém","019","Q1","2019-01-08","Lakossági hitelnövekmény összege ",17,"Mhuf","2019-02-01","gizella2",{"$f":"AND(E6831>=Kimutatás!B$2,E6831<=Kimutatás!B$3)","v":false}]
[6831,"Veszprém","019","Q1","2019-01-08","Lakossági számlanyitás",0,"db","2019-02-01","gizella2",{"$f":"AND(E6832>=Kimutatás!B$2,E6832<=Kimutatás!B$3)","v":false}]
[6832,"Veszprém","019","Q1","2019-01-08","KKV hitelnövekmény (db)",-2,"db","2019-02-01","gizella2",{"$f":"AND(E6833>=Kimutatás!B$2,E6833<=Kimutatás!B$3)","v":false}]
[6833,"Veszprém","019","Q1","2019-01-08","KKV számlanyitás",-5,"db","2019-02-01","gizella2",{"$f":"AND(E6834>=Kimutatás!B$2,E6834<=Kimutatás!B$3)","v":false}]
[6834,"Veszprém","019","Q1","2019-01-08","Betét állomány növekmény",8,"Mhuf","2019-02-01","gizella2",{"$f":"AND(E6835>=Kimutatás!B$2,E6835<=Kimutatás!B$3)","v":false}]
[6835,"Veszprém","019","Q1","2019-01-09","Betérő ügyfelek",10,"fő","2019-02-01","gizella2",{"$f":"AND(E6836>=Kimutatás!B$2,E6836<=Kimutatás!B$3)","v":false}]
[6836,"Veszprém","019","Q1","2019-01-09","Lakossági hitelnövekmény összege ",50,"Mhuf","2019-02-01","gizella2",{"$f":"AND(E6837>=Kimutatás!B$2,E6837<=Kimutatás!B$3)","v":false}]
[6837,"Veszprém","019","Q1","2019-01-09","Lakossági számlanyitás",2,"db","2019-02-01","gizella2",{"$f":"AND(E6838>=Kimutatás!B$2,E6838<=Kimutatás!B$3)","v":false}]
[6838,"Veszprém","019","Q1","2019-01-09","KKV hitelnövekmény (db)",1,"db","2019-02-01","gizella2",{"$f":"AND(E6839>=Kimutatás!B$2,E6839<=Kimutatás!B$3)","v":false}]
[6839,"Veszprém","019","Q1","2019-01-09","KKV számlanyitás",3,"db","2019-02-01","gizella2",{"$f":"AND(E6840>=Kimutatás!B$2,E6840<=Kimutatás!B$3)","v":false}]
[6840,"Veszprém","019","Q1","2019-01-09","Betét állomány növekmény",-4,"Mhuf","2019-02-01","gizella2",{"$f":"AND(E6841>=Kimutatás!B$2,E6841<=Kimutatás!B$3)","v":false}]
[6841,"Veszprém","019","Q1","2019-01-10","Betérő ügyfelek",27,"fő","2019-02-01","gizella2",{"$f":"AND(E6842>=Kimutatás!B$2,E6842<=Kimutatás!B$3)","v":true}]
[6842,"Veszprém","019","Q1","2019-01-10","Lakossági hitelnövekmény összege ",30,"Mhuf","2019-02-01","gizella2",{"$f":"AND(E6843>=Kimutatás!B$2,E6843<=Kimutatás!B$3)","v":true}]
[6843,"Veszprém","019","Q1","2019-01-10","Lakossági számlanyitás",2,"db","2019-02-01","gizella2",{"$f":"AND(E6844>=Kimutatás!B$2,E6844<=Kimutatás!B$3)","v":true}]
[6844,"Veszprém","019","Q1","2019-01-10","KKV hitelnövekmény (db)",-2,"db","2019-02-01","gizella2",{"$f":"AND(E6845>=Kimutatás!B$2,E6845<=Kimutatás!B$3)","v":true}]
[6845,"Veszprém","019","Q1","2019-01-10","KKV számlanyitás",-3,"db","2019-02-01","gizella2",{"$f":"AND(E6846>=Kimutatás!B$2,E6846<=Kimutatás!B$3)","v":true}]
[6846,"Veszprém","019","Q1","2019-01-10","Betét állomány növekmény",-12,"Mhuf","2019-02-01","gizella2",{"$f":"AND(E6847>=Kimutatás!B$2,E6847<=Kimutatás!B$3)","v":true}]
[6847,"Veszprém","019","Q1","2019-01-13","Betérő ügyfelek",27,"fő","2019-02-01","gizella2",{"$f":"AND(E6848>=Kimutatás!B$2,E6848<=Kimutatás!B$3)","v":true}]
[6848,"Veszprém","019","Q1","2019-01-13","Lakossági hitelnövekmény összege ",5,"Mhuf","2019-02-01","gizella2",{"$f":"AND(E6849>=Kimutatás!B$2,E6849<=Kimutatás!B$3)","v":true}]
[6849,"Veszprém","019","Q1","2019-01-13","Lakossági számlanyitás",3,"db","2019-02-01","gizella2",{"$f":"AND(E6850>=Kimutatás!B$2,E6850<=Kimutatás!B$3)","v":true}]
[6850,"Veszprém","019","Q1","2019-01-13","KKV hitelnövekmény (db)",1,"db","2019-02-01","gizella2",{"$f":"AND(E6851>=Kimutatás!B$2,E6851<=Kimutatás!B$3)","v":true}]
[6851,"Veszprém","019","Q1","2019-01-13","KKV számlanyitás",-1,"db","2019-02-01","gizella2",{"$f":"AND(E6852>=Kimutatás!B$2,E6852<=Kimutatás!B$3)","v":true}]
[6852,"Veszprém","019","Q1","2019-01-13","Betét állomány növekmény",43,"Mhuf","2019-02-01","gizella2",{"$f":"AND(E6853>=Kimutatás!B$2,E6853<=Kimutatás!B$3)","v":true}]
[6853,"Veszprém","019","Q1","2019-01-14","Betérő ügyfelek",23,"fő","2019-02-01","gizella2",{"$f":"AND(E6854>=Kimutatás!B$2,E6854<=Kimutatás!B$3)","v":true}]
[6854,"Veszprém","019","Q1","2019-01-14","Lakossági hitelnövekmény összege ",29,"Mhuf","2019-02-01","gizella2",{"$f":"AND(E6855>=Kimutatás!B$2,E6855<=Kimutatás!B$3)","v":true}]
[6855,"Veszprém","019","Q1","2019-01-14","Lakossági számlanyitás",2,"db","2019-02-01","gizella2",{"$f":"AND(E6856>=Kimutatás!B$2,E6856<=Kimutatás!B$3)","v":true}]
[6856,"Veszprém","019","Q1","2019-01-14","KKV hitelnövekmény (db)",-1,"db","2019-02-01","gizella2",{"$f":"AND(E6857>=Kimutatás!B$2,E6857<=Kimutatás!B$3)","v":true}]
[6857,"Veszprém","019","Q1","2019-01-14","KKV számlanyitás",-1,"db","2019-02-01","gizella2",{"$f":"AND(E6858>=Kimutatás!B$2,E6858<=Kimutatás!B$3)","v":true}]
[6858,"Veszprém","019","Q1","2019-01-14","Betét állomány növekmény",6,"Mhuf","2019-02-01","gizella2",{"$f":"AND(E6859>=Kimutatás!B$2,E6859<=Kimutatás!B$3)","v":true}]
[6859,"Veszprém","019","Q1","2019-01-15","Betérő ügyfelek",8,"fő","2019-02-01","gizella2",{"$f":"AND(E6860>=Kimutatás!B$2,E6860<=Kimutatás!B$3)","v":true}]
[6860,"Veszprém","019","Q1","2019-01-15","Lakossági hitelnövekmény összege ",11,"Mhuf","2019-02-01","gizella2",{"$f":"AND(E6861>=Kimutatás!B$2,E6861<=Kimutatás!B$3)","v":true}]
[6861,"Veszprém","019","Q1","2019-01-15","Lakossági számlanyitás",9,"db","2019-02-01","gizella2",{"$f":"AND(E6862>=Kimutatás!B$2,E6862<=Kimutatás!B$3)","v":true}]
[6862,"Veszprém","019","Q1","2019-01-15","KKV hitelnövekmény (db)",0,"db","2019-02-01","gizella2",{"$f":"AND(E6863>=Kimutatás!B$2,E6863<=Kimutatás!B$3)","v":true}]
[6863,"Veszprém","019","Q1","2019-01-15","KKV számlanyitás",2,"db","2019-02-01","gizella2",{"$f":"AND(E6864>=Kimutatás!B$2,E6864<=Kimutatás!B$3)","v":true}]
[6864,"Veszprém","019","Q1","2019-01-15","Betét állomány növekmény",25,"Mhuf","2019-02-01","gizella2",{"$f":"AND(E6865>=Kimutatás!B$2,E6865<=Kimutatás!B$3)","v":true}]
[6865,"Veszprém","019","Q1","2019-01-16","Betérő ügyfelek",43,"fő","2019-02-01","gizella2",{"$f":"AND(E6866>=Kimutatás!B$2,E6866<=Kimutatás!B$3)","v":true}]
[6866,"Veszprém","019","Q1","2019-01-16","Lakossági hitelnövekmény összege ",45,"Mhuf","2019-02-01","gizella2",{"$f":"AND(E6867>=Kimutatás!B$2,E6867<=Kimutatás!B$3)","v":true}]
[6867,"Veszprém","019","Q1","2019-01-16","Lakossági számlanyitás",8,"db","2019-02-01","gizella2",{"$f":"AND(E6868>=Kimutatás!B$2,E6868<=Kimutatás!B$3)","v":true}]
[6868,"Veszprém","019","Q1","2019-01-16","KKV hitelnövekmény (db)",-1,"db","2019-02-01","gizella2",{"$f":"AND(E6869>=Kimutatás!B$2,E6869<=Kimutatás!B$3)","v":true}]
[6869,"Veszprém","019","Q1","2019-01-16","KKV számlanyitás",5,"db","2019-02-01","gizella2",{"$f":"AND(E6870>=Kimutatás!B$2,E6870<=Kimutatás!B$3)","v":true}]
[6870,"Veszprém","019","Q1","2019-01-16","Betét állomány növekmény",8,"Mhuf","2019-02-01","gizella2",{"$f":"AND(E6871>=Kimutatás!B$2,E6871<=Kimutatás!B$3)","v":true}]
[6871,"Veszprém","019","Q1","2019-01-17","Betérő ügyfelek",40,"fő","2019-02-01","gizella2",{"$f":"AND(E6872>=Kimutatás!B$2,E6872<=Kimutatás!B$3)","v":true}]
[6872,"Veszprém","019","Q1","2019-01-17","Lakossági hitelnövekmény összege ",34,"Mhuf","2019-02-01","gizella2",{"$f":"AND(E6873>=Kimutatás!B$2,E6873<=Kimutatás!B$3)","v":true}]
[6873,"Veszprém","019","Q1","2019-01-17","Lakossági számlanyitás",1,"db","2019-02-01","gizella2",{"$f":"AND(E6874>=Kimutatás!B$2,E6874<=Kimutatás!B$3)","v":true}]
[6874,"Veszprém","019","Q1","2019-01-17","KKV hitelnövekmény (db)",2,"db","2019-02-01","gizella2",{"$f":"AND(E6875>=Kimutatás!B$2,E6875<=Kimutatás!B$3)","v":true}]
[6875,"Veszprém","019","Q1","2019-01-17","KKV számlanyitás",-5,"db","2019-02-01","gizella2",{"$f":"AND(E6876>=Kimutatás!B$2,E6876<=Kimutatás!B$3)","v":true}]
[6876,"Veszprém","019","Q1","2019-01-17","Betét állomány növekmény",28,"Mhuf","2019-02-01","gizella2",{"$f":"AND(E6877>=Kimutatás!B$2,E6877<=Kimutatás!B$3)","v":true}]
[6877,"Veszprém","019","Q1","2019-01-20","Betérő ügyfelek",37,"fő","2019-02-01","gizella2",{"$f":"AND(E6878>=Kimutatás!B$2,E6878<=Kimutatás!B$3)","v":true}]
[6878,"Veszprém","019","Q1","2019-01-20","Lakossági hitelnövekmény összege ",26,"Mhuf","2019-02-01","gizella2",{"$f":"AND(E6879>=Kimutatás!B$2,E6879<=Kimutatás!B$3)","v":true}]
[6879,"Veszprém","019","Q1","2019-01-20","Lakossági számlanyitás",7,"db","2019-02-01","gizella2",{"$f":"AND(E6880>=Kimutatás!B$2,E6880<=Kimutatás!B$3)","v":true}]
[6880,"Veszprém","019","Q1","2019-01-20","KKV hitelnövekmény (db)",-1,"db","2019-02-01","gizella2",{"$f":"AND(E6881>=Kimutatás!B$2,E6881<=Kimutatás!B$3)","v":true}]
[6881,"Veszprém","019","Q1","2019-01-20","KKV számlanyitás",-5,"db","2019-02-01","gizella2",{"$f":"AND(E6882>=Kimutatás!B$2,E6882<=Kimutatás!B$3)","v":true}]
[6882,"Veszprém","019","Q1","2019-01-20","Betét állomány növekmény",18,"Mhuf","2019-02-01","gizella2",{"$f":"AND(E6883>=Kimutatás!B$2,E6883<=Kimutatás!B$3)","v":true}]
[6883,"Veszprém","019","Q1","2019-01-21","Betérő ügyfelek",43,"fő","2019-02-01","gizella2",{"$f":"AND(E6884>=Kimutatás!B$2,E6884<=Kimutatás!B$3)","v":true}]
[6884,"Veszprém","019","Q1","2019-01-21","Lakossági hitelnövekmény összege ",34,"Mhuf","2019-02-01","gizella2",{"$f":"AND(E6885>=Kimutatás!B$2,E6885<=Kimutatás!B$3)","v":true}]
[6885,"Veszprém","019","Q1","2019-01-21","Lakossági számlanyitás",-5,"db","2019-02-01","gizella2",{"$f":"AND(E6886>=Kimutatás!B$2,E6886<=Kimutatás!B$3)","v":true}]
[6886,"Veszprém","019","Q1","2019-01-21","KKV hitelnövekmény (db)",2,"db","2019-02-01","gizella2",{"$f":"AND(E6887>=Kimutatás!B$2,E6887<=Kimutatás!B$3)","v":true}]
[6887,"Veszprém","019","Q1","2019-01-21","KKV számlanyitás",0,"db","2019-02-01","gizella2",{"$f":"AND(E6888>=Kimutatás!B$2,E6888<=Kimutatás!B$3)","v":true}]
[6888,"Veszprém","019","Q1","2019-01-21","Betét állomány növekmény",-3,"Mhuf","2019-02-01","gizella2",{"$f":"AND(E6889>=Kimutatás!B$2,E6889<=Kimutatás!B$3)","v":true}]
[6889,"Veszprém","019","Q1","2019-01-22","Betérő ügyfelek",3,"fő","2019-02-01","gizella2",{"$f":"AND(E6890>=Kimutatás!B$2,E6890<=Kimutatás!B$3)","v":true}]
[6890,"Veszprém","019","Q1","2019-01-22","Lakossági hitelnövekmény összege ",48,"Mhuf","2019-02-01","gizella2",{"$f":"AND(E6891>=Kimutatás!B$2,E6891<=Kimutatás!B$3)","v":true}]
[6891,"Veszprém","019","Q1","2019-01-22","Lakossági számlanyitás",10,"db","2019-02-01","gizella2",{"$f":"AND(E6892>=Kimutatás!B$2,E6892<=Kimutatás!B$3)","v":true}]
[6892,"Veszprém","019","Q1","2019-01-22","KKV hitelnövekmény (db)",-1,"db","2019-02-01","gizella2",{"$f":"AND(E6893>=Kimutatás!B$2,E6893<=Kimutatás!B$3)","v":true}]
[6893,"Veszprém","019","Q1","2019-01-22","KKV számlanyitás",3,"db","2019-02-01","gizella2",{"$f":"AND(E6894>=Kimutatás!B$2,E6894<=Kimutatás!B$3)","v":true}]
[6894,"Veszprém","019","Q1","2019-01-22","Betét állomány növekmény",13,"Mhuf","2019-02-01","gizella2",{"$f":"AND(E6895>=Kimutatás!B$2,E6895<=Kimutatás!B$3)","v":true}]
[6895,"Veszprém","019","Q1","2019-01-23","Betérő ügyfelek",22,"fő","2019-02-01","gizella2",{"$f":"AND(E6896>=Kimutatás!B$2,E6896<=Kimutatás!B$3)","v":true}]
[6896,"Veszprém","019","Q1","2019-01-23","Lakossági hitelnövekmény összege ",29,"Mhuf","2019-02-01","gizella2",{"$f":"AND(E6897>=Kimutatás!B$2,E6897<=Kimutatás!B$3)","v":true}]
[6897,"Veszprém","019","Q1","2019-01-23","Lakossági számlanyitás",10,"db","2019-02-01","gizella2",{"$f":"AND(E6898>=Kimutatás!B$2,E6898<=Kimutatás!B$3)","v":true}]
[6898,"Veszprém","019","Q1","2019-01-23","KKV hitelnövekmény (db)",0,"db","2019-02-01","gizella2",{"$f":"AND(E6899>=Kimutatás!B$2,E6899<=Kimutatás!B$3)","v":true}]
[6899,"Veszprém","019","Q1","2019-01-23","KKV számlanyitás",5,"db","2019-02-01","gizella2",{"$f":"AND(E6900>=Kimutatás!B$2,E6900<=Kimutatás!B$3)","v":true}]
[6900,"Veszprém","019","Q1","2019-01-23","Betét állomány növekmény",-19,"Mhuf","2019-02-01","gizella2",{"$f":"AND(E6901>=Kimutatás!B$2,E6901<=Kimutatás!B$3)","v":true}]
[6901,"Veszprém","019","Q1","2019-01-24","Betérő ügyfelek",10,"fő","2019-02-01","gizella2",{"$f":"AND(E6902>=Kimutatás!B$2,E6902<=Kimutatás!B$3)","v":true}]
[6902,"Veszprém","019","Q1","2019-01-24","Lakossági hitelnövekmény összege ",-4,"Mhuf","2019-02-01","gizella2",{"$f":"AND(E6903>=Kimutatás!B$2,E6903<=Kimutatás!B$3)","v":true}]
[6903,"Veszprém","019","Q1","2019-01-24","Lakossági számlanyitás",5,"db","2019-02-01","gizella2",{"$f":"AND(E6904>=Kimutatás!B$2,E6904<=Kimutatás!B$3)","v":true}]
[6904,"Veszprém","019","Q1","2019-01-24","KKV hitelnövekmény (db)",0,"db","2019-02-01","gizella2",{"$f":"AND(E6905>=Kimutatás!B$2,E6905<=Kimutatás!B$3)","v":true}]
[6905,"Veszprém","019","Q1","2019-01-24","KKV számlanyitás",-3,"db","2019-02-01","gizella2",{"$f":"AND(E6906>=Kimutatás!B$2,E6906<=Kimutatás!B$3)","v":true}]
[6906,"Veszprém","019","Q1","2019-01-24","Betét állomány növekmény",29,"Mhuf","2019-02-01","gizella2",{"$f":"AND(E6907>=Kimutatás!B$2,E6907<=Kimutatás!B$3)","v":true}]
[6907,"Veszprém","019","Q1","2019-01-27","Betérő ügyfelek",33,"fő","2019-02-01","gizella2",{"$f":"AND(E6908>=Kimutatás!B$2,E6908<=Kimutatás!B$3)","v":true}]
[6908,"Veszprém","019","Q1","2019-01-27","Lakossági hitelnövekmény összege ",16,"Mhuf","2019-02-01","gizella2",{"$f":"AND(E6909>=Kimutatás!B$2,E6909<=Kimutatás!B$3)","v":true}]
[6909,"Veszprém","019","Q1","2019-01-27","Lakossági számlanyitás",3,"db","2019-02-01","gizella2",{"$f":"AND(E6910>=Kimutatás!B$2,E6910<=Kimutatás!B$3)","v":true}]
[6910,"Veszprém","019","Q1","2019-01-27","KKV hitelnövekmény (db)",0,"db","2019-02-01","gizella2",{"$f":"AND(E6911>=Kimutatás!B$2,E6911<=Kimutatás!B$3)","v":true}]
[6911,"Veszprém","019","Q1","2019-01-27","KKV számlanyitás",1,"db","2019-02-01","gizella2",{"$f":"AND(E6912>=Kimutatás!B$2,E6912<=Kimutatás!B$3)","v":true}]
[6912,"Veszprém","019","Q1","2019-01-27","Betét állomány növekmény",14,"Mhuf","2019-02-01","gizella2",{"$f":"AND(E6913>=Kimutatás!B$2,E6913<=Kimutatás!B$3)","v":true}]
[6913,"Veszprém","019","Q1","2019-01-28","Betérő ügyfelek",9,"fő","2019-02-01","gizella2",{"$f":"AND(E6914>=Kimutatás!B$2,E6914<=Kimutatás!B$3)","v":true}]
[6914,"Veszprém","019","Q1","2019-01-28","Lakossági hitelnövekmény összege ",11,"Mhuf","2019-02-01","gizella2",{"$f":"AND(E6915>=Kimutatás!B$2,E6915<=Kimutatás!B$3)","v":true}]
[6915,"Veszprém","019","Q1","2019-01-28","Lakossági számlanyitás",10,"db","2019-02-01","gizella2",{"$f":"AND(E6916>=Kimutatás!B$2,E6916<=Kimutatás!B$3)","v":true}]
[6916,"Veszprém","019","Q1","2019-01-28","KKV hitelnövekmény (db)",-1,"db","2019-02-01","gizella2",{"$f":"AND(E6917>=Kimutatás!B$2,E6917<=Kimutatás!B$3)","v":true}]
[6917,"Veszprém","019","Q1","2019-01-28","KKV számlanyitás",-2,"db","2019-02-01","gizella2",{"$f":"AND(E6918>=Kimutatás!B$2,E6918<=Kimutatás!B$3)","v":true}]
[6918,"Veszprém","019","Q1","2019-01-28","Betét állomány növekmény",-15,"Mhuf","2019-02-01","gizella2",{"$f":"AND(E6919>=Kimutatás!B$2,E6919<=Kimutatás!B$3)","v":true}]
[6919,"Veszprém","019","Q1","2019-01-29","Betérő ügyfelek",22,"fő","2019-02-01","gizella2",{"$f":"AND(E6920>=Kimutatás!B$2,E6920<=Kimutatás!B$3)","v":true}]
[6920,"Veszprém","019","Q1","2019-01-29","Lakossági hitelnövekmény összege ",42,"Mhuf","2019-02-01","gizella2",{"$f":"AND(E6921>=Kimutatás!B$2,E6921<=Kimutatás!B$3)","v":true}]
[6921,"Veszprém","019","Q1","2019-01-29","Lakossági számlanyitás",-1,"db","2019-02-01","gizella2",{"$f":"AND(E6922>=Kimutatás!B$2,E6922<=Kimutatás!B$3)","v":true}]
[6922,"Veszprém","019","Q1","2019-01-29","KKV hitelnövekmény (db)",0,"db","2019-02-01","gizella2",{"$f":"AND(E6923>=Kimutatás!B$2,E6923<=Kimutatás!B$3)","v":true}]
[6923,"Veszprém","019","Q1","2019-01-29","KKV számlanyitás",-1,"db","2019-02-01","gizella2",{"$f":"AND(E6924>=Kimutatás!B$2,E6924<=Kimutatás!B$3)","v":true}]
[6924,"Veszprém","019","Q1","2019-01-29","Betét állomány növekmény",18,"Mhuf","2019-02-01","gizella2",{"$f":"AND(E6925>=Kimutatás!B$2,E6925<=Kimutatás!B$3)","v":true}]
[6925,"Veszprém","019","Q1","2019-01-30","Betérő ügyfelek",32,"fő","2019-02-01","gizella2",{"$f":"AND(E6926>=Kimutatás!B$2,E6926<=Kimutatás!B$3)","v":true}]
[6926,"Veszprém","019","Q1","2019-01-30","Lakossági hitelnövekmény összege ",41,"Mhuf","2019-02-01","gizella2",{"$f":"AND(E6927>=Kimutatás!B$2,E6927<=Kimutatás!B$3)","v":true}]
[6927,"Veszprém","019","Q1","2019-01-30","Lakossági számlanyitás",4,"db","2019-02-01","gizella2",{"$f":"AND(E6928>=Kimutatás!B$2,E6928<=Kimutatás!B$3)","v":true}]
[6928,"Veszprém","019","Q1","2019-01-30","KKV hitelnövekmény (db)",-1,"db","2019-02-01","gizella2",{"$f":"AND(E6929>=Kimutatás!B$2,E6929<=Kimutatás!B$3)","v":true}]
[6929,"Veszprém","019","Q1","2019-01-30","KKV számlanyitás",-3,"db","2019-02-01","gizella2",{"$f":"AND(E6930>=Kimutatás!B$2,E6930<=Kimutatás!B$3)","v":true}]
[6930,"Veszprém","019","Q1","2019-01-30","Betét állomány növekmény",17,"Mhuf","2019-02-01","gizella2",{"$f":"AND(E6931>=Kimutatás!B$2,E6931<=Kimutatás!B$3)","v":true}]
[6931,"Veszprém","019","Q1","2019-01-31","Betérő ügyfelek",29,"fő","2019-02-01","gizella2",{"$f":"AND(E6932>=Kimutatás!B$2,E6932<=Kimutatás!B$3)","v":true}]
[6932,"Veszprém","019","Q1","2019-01-31","Lakossági hitelnövekmény összege ",35,"Mhuf","2019-02-01","gizella2",{"$f":"AND(E6933>=Kimutatás!B$2,E6933<=Kimutatás!B$3)","v":true}]
[6933,"Veszprém","019","Q1","2019-01-31","Lakossági számlanyitás",6,"db","2019-02-01","gizella2",{"$f":"AND(E6934>=Kimutatás!B$2,E6934<=Kimutatás!B$3)","v":true}]
[6934,"Veszprém","019","Q1","2019-01-31","KKV hitelnövekmény (db)",-2,"db","2019-02-01","gizella2",{"$f":"AND(E6935>=Kimutatás!B$2,E6935<=Kimutatás!B$3)","v":true}]
[6935,"Veszprém","019","Q1","2019-01-31","KKV számlanyitás",4,"db","2019-02-01","gizella2",{"$f":"AND(E6936>=Kimutatás!B$2,E6936<=Kimutatás!B$3)","v":true}]
[6936,"Veszprém","019","Q1","2019-01-31","Betét állomány növekmény",39,"Mhuf","2019-02-01","gizella2",{"$f":"AND(E6937>=Kimutatás!B$2,E6937<=Kimutatás!B$3)","v":true}]
[6937,"Veszprém","019","Q1","2019-02-03","Betérő ügyfelek",8,"fő","2019-03-01","jonas191",{"$f":"AND(E6938>=Kimutatás!B$2,E6938<=Kimutatás!B$3)","v":true}]
[6938,"Veszprém","019","Q1","2019-02-03","Lakossági hitelnövekmény összege ",15,"Mhuf","2019-03-01","jonas191",{"$f":"AND(E6939>=Kimutatás!B$2,E6939<=Kimutatás!B$3)","v":true}]
[6939,"Veszprém","019","Q1","2019-02-03","Lakossági számlanyitás",5,"db","2019-03-01","jonas191",{"$f":"AND(E6940>=Kimutatás!B$2,E6940<=Kimutatás!B$3)","v":true}]
[6940,"Veszprém","019","Q1","2019-02-03","KKV hitelnövekmény (db)",-1,"db","2019-03-01","jonas191",{"$f":"AND(E6941>=Kimutatás!B$2,E6941<=Kimutatás!B$3)","v":true}]
[6941,"Veszprém","019","Q1","2019-02-03","KKV számlanyitás",0,"db","2019-03-01","jonas191",{"$f":"AND(E6942>=Kimutatás!B$2,E6942<=Kimutatás!B$3)","v":true}]
[6942,"Veszprém","019","Q1","2019-02-03","Betét állomány növekmény",13,"Mhuf","2019-03-01","jonas191",{"$f":"AND(E6943>=Kimutatás!B$2,E6943<=Kimutatás!B$3)","v":true}]
[6943,"Veszprém","019","Q1","2019-02-04","Betérő ügyfelek",19,"fő","2019-03-01","jonas191",{"$f":"AND(E6944>=Kimutatás!B$2,E6944<=Kimutatás!B$3)","v":true}]
[6944,"Veszprém","019","Q1","2019-02-04","Lakossági hitelnövekmény összege ",1,"Mhuf","2019-03-01","jonas191",{"$f":"AND(E6945>=Kimutatás!B$2,E6945<=Kimutatás!B$3)","v":true}]
[6945,"Veszprém","019","Q1","2019-02-04","Lakossági számlanyitás",5,"db","2019-03-01","jonas191",{"$f":"AND(E6946>=Kimutatás!B$2,E6946<=Kimutatás!B$3)","v":true}]
[6946,"Veszprém","019","Q1","2019-02-04","KKV hitelnövekmény (db)",2,"db","2019-03-01","jonas191",{"$f":"AND(E6947>=Kimutatás!B$2,E6947<=Kimutatás!B$3)","v":true}]
[6947,"Veszprém","019","Q1","2019-02-04","KKV számlanyitás",-3,"db","2019-03-01","jonas191",{"$f":"AND(E6948>=Kimutatás!B$2,E6948<=Kimutatás!B$3)","v":true}]
[6948,"Veszprém","019","Q1","2019-02-04","Betét állomány növekmény",-20,"Mhuf","2019-03-01","jonas191",{"$f":"AND(E6949>=Kimutatás!B$2,E6949<=Kimutatás!B$3)","v":true}]
[6949,"Veszprém","019","Q1","2019-02-05","Betérő ügyfelek",6,"fő","2019-03-01","jonas191",{"$f":"AND(E6950>=Kimutatás!B$2,E6950<=Kimutatás!B$3)","v":true}]
[6950,"Veszprém","019","Q1","2019-02-05","Lakossági hitelnövekmény összege ",1,"Mhuf","2019-03-01","jonas191",{"$f":"AND(E6951>=Kimutatás!B$2,E6951<=Kimutatás!B$3)","v":true}]
[6951,"Veszprém","019","Q1","2019-02-05","Lakossági számlanyitás",1,"db","2019-03-01","jonas191",{"$f":"AND(E6952>=Kimutatás!B$2,E6952<=Kimutatás!B$3)","v":true}]
[6952,"Veszprém","019","Q1","2019-02-05","KKV hitelnövekmény (db)",1,"db","2019-03-01","jonas191",{"$f":"AND(E6953>=Kimutatás!B$2,E6953<=Kimutatás!B$3)","v":true}]
[6953,"Veszprém","019","Q1","2019-02-05","KKV számlanyitás",-1,"db","2019-03-01","jonas191",{"$f":"AND(E6954>=Kimutatás!B$2,E6954<=Kimutatás!B$3)","v":true}]
[6954,"Veszprém","019","Q1","2019-02-05","Betét állomány növekmény",15,"Mhuf","2019-03-01","jonas191",{"$f":"AND(E6955>=Kimutatás!B$2,E6955<=Kimutatás!B$3)","v":true}]
[6955,"Veszprém","019","Q1","2019-02-06","Betérő ügyfelek",37,"fő","2019-03-01","jonas191",{"$f":"AND(E6956>=Kimutatás!B$2,E6956<=Kimutatás!B$3)","v":true}]
[6956,"Veszprém","019","Q1","2019-02-06","Lakossági hitelnövekmény összege ",9,"Mhuf","2019-03-01","jonas191",{"$f":"AND(E6957>=Kimutatás!B$2,E6957<=Kimutatás!B$3)","v":true}]
[6957,"Veszprém","019","Q1","2019-02-06","Lakossági számlanyitás",2,"db","2019-03-01","jonas191",{"$f":"AND(E6958>=Kimutatás!B$2,E6958<=Kimutatás!B$3)","v":true}]
[6958,"Veszprém","019","Q1","2019-02-06","KKV hitelnövekmény (db)",1,"db","2019-03-01","jonas191",{"$f":"AND(E6959>=Kimutatás!B$2,E6959<=Kimutatás!B$3)","v":true}]
[6959,"Veszprém","019","Q1","2019-02-06","KKV számlanyitás",-1,"db","2019-03-01","jonas191",{"$f":"AND(E6960>=Kimutatás!B$2,E6960<=Kimutatás!B$3)","v":true}]
[6960,"Veszprém","019","Q1","2019-02-06","Betét állomány növekmény",28,"Mhuf","2019-03-01","jonas191",{"$f":"AND(E6961>=Kimutatás!B$2,E6961<=Kimutatás!B$3)","v":true}]
[6961,"Veszprém","019","Q1","2019-02-07","Betérő ügyfelek",37,"fő","2019-03-01","jonas191",{"$f":"AND(E6962>=Kimutatás!B$2,E6962<=Kimutatás!B$3)","v":true}]
[6962,"Veszprém","019","Q1","2019-02-07","Lakossági hitelnövekmény összege ",29,"Mhuf","2019-03-01","jonas191",{"$f":"AND(E6963>=Kimutatás!B$2,E6963<=Kimutatás!B$3)","v":true}]
[6963,"Veszprém","019","Q1","2019-02-07","Lakossági számlanyitás",-3,"db","2019-03-01","jonas191",{"$f":"AND(E6964>=Kimutatás!B$2,E6964<=Kimutatás!B$3)","v":true}]
[6964,"Veszprém","019","Q1","2019-02-07","KKV hitelnövekmény (db)",1,"db","2019-03-01","jonas191",{"$f":"AND(E6965>=Kimutatás!B$2,E6965<=Kimutatás!B$3)","v":true}]
[6965,"Veszprém","019","Q1","2019-02-07","KKV számlanyitás",4,"db","2019-03-01","jonas191",{"$f":"AND(E6966>=Kimutatás!B$2,E6966<=Kimutatás!B$3)","v":true}]
[6966,"Veszprém","019","Q1","2019-02-07","Betét állomány növekmény",-8,"Mhuf","2019-03-01","jonas191",{"$f":"AND(E6967>=Kimutatás!B$2,E6967<=Kimutatás!B$3)","v":true}]
[6967,"Veszprém","019","Q1","2019-02-10","Betérő ügyfelek",14,"fő","2019-03-01","jonas191",{"$f":"AND(E6968>=Kimutatás!B$2,E6968<=Kimutatás!B$3)","v":true}]
[6968,"Veszprém","019","Q1","2019-02-10","Lakossági hitelnövekmény összege ",1,"Mhuf","2019-03-01","jonas191",{"$f":"AND(E6969>=Kimutatás!B$2,E6969<=Kimutatás!B$3)","v":true}]
[6969,"Veszprém","019","Q1","2019-02-10","Lakossági számlanyitás",9,"db","2019-03-01","jonas191",{"$f":"AND(E6970>=Kimutatás!B$2,E6970<=Kimutatás!B$3)","v":true}]
[6970,"Veszprém","019","Q1","2019-02-10","KKV hitelnövekmény (db)",0,"db","2019-03-01","jonas191",{"$f":"AND(E6971>=Kimutatás!B$2,E6971<=Kimutatás!B$3)","v":true}]
[6971,"Veszprém","019","Q1","2019-02-10","KKV számlanyitás",-4,"db","2019-03-01","jonas191",{"$f":"AND(E6972>=Kimutatás!B$2,E6972<=Kimutatás!B$3)","v":true}]
[6972,"Veszprém","019","Q1","2019-02-10","Betét állomány növekmény",33,"Mhuf","2019-03-01","jonas191",{"$f":"AND(E6973>=Kimutatás!B$2,E6973<=Kimutatás!B$3)","v":true}]
[6973,"Veszprém","019","Q1","2019-02-11","Betérő ügyfelek",11,"fő","2019-03-01","jonas191",{"$f":"AND(E6974>=Kimutatás!B$2,E6974<=Kimutatás!B$3)","v":true}]
[6974,"Veszprém","019","Q1","2019-02-11","Lakossági hitelnövekmény összege ",14,"Mhuf","2019-03-01","jonas191",{"$f":"AND(E6975>=Kimutatás!B$2,E6975<=Kimutatás!B$3)","v":true}]
[6975,"Veszprém","019","Q1","2019-02-11","Lakossági számlanyitás",6,"db","2019-03-01","jonas191",{"$f":"AND(E6976>=Kimutatás!B$2,E6976<=Kimutatás!B$3)","v":true}]
[6976,"Veszprém","019","Q1","2019-02-11","KKV hitelnövekmény (db)",-2,"db","2019-03-01","jonas191",{"$f":"AND(E6977>=Kimutatás!B$2,E6977<=Kimutatás!B$3)","v":true}]
[6977,"Veszprém","019","Q1","2019-02-11","KKV számlanyitás",1,"db","2019-03-01","jonas191",{"$f":"AND(E6978>=Kimutatás!B$2,E6978<=Kimutatás!B$3)","v":true}]
[6978,"Veszprém","019","Q1","2019-02-11","Betét állomány növekmény",24,"Mhuf","2019-03-01","jonas191",{"$f":"AND(E6979>=Kimutatás!B$2,E6979<=Kimutatás!B$3)","v":true}]
[6979,"Veszprém","019","Q1","2019-02-12","Betérő ügyfelek",10,"fő","2019-03-01","jonas191",{"$f":"AND(E6980>=Kimutatás!B$2,E6980<=Kimutatás!B$3)","v":true}]
[6980,"Veszprém","019","Q1","2019-02-12","Lakossági hitelnövekmény összege ",20,"Mhuf","2019-03-01","jonas191",{"$f":"AND(E6981>=Kimutatás!B$2,E6981<=Kimutatás!B$3)","v":true}]
[6981,"Veszprém","019","Q1","2019-02-12","Lakossági számlanyitás",-4,"db","2019-03-01","jonas191",{"$f":"AND(E6982>=Kimutatás!B$2,E6982<=Kimutatás!B$3)","v":true}]
[6982,"Veszprém","019","Q1","2019-02-12","KKV hitelnövekmény (db)",-2,"db","2019-03-01","jonas191",{"$f":"AND(E6983>=Kimutatás!B$2,E6983<=Kimutatás!B$3)","v":true}]
[6983,"Veszprém","019","Q1","2019-02-12","KKV számlanyitás",2,"db","2019-03-01","jonas191",{"$f":"AND(E6984>=Kimutatás!B$2,E6984<=Kimutatás!B$3)","v":true}]
[6984,"Veszprém","019","Q1","2019-02-12","Betét állomány növekmény",31,"Mhuf","2019-03-01","jonas191",{"$f":"AND(E6985>=Kimutatás!B$2,E6985<=Kimutatás!B$3)","v":true}]
[6985,"Veszprém","019","Q1","2019-02-13","Betérő ügyfelek",22,"fő","2019-03-01","jonas191",{"$f":"AND(E6986>=Kimutatás!B$2,E6986<=Kimutatás!B$3)","v":true}]
[6986,"Veszprém","019","Q1","2019-02-13","Lakossági hitelnövekmény összege ",10,"Mhuf","2019-03-01","jonas191",{"$f":"AND(E6987>=Kimutatás!B$2,E6987<=Kimutatás!B$3)","v":true}]
[6987,"Veszprém","019","Q1","2019-02-13","Lakossági számlanyitás",-3,"db","2019-03-01","jonas191",{"$f":"AND(E6988>=Kimutatás!B$2,E6988<=Kimutatás!B$3)","v":true}]
[6988,"Veszprém","019","Q1","2019-02-13","KKV hitelnövekmény (db)",1,"db","2019-03-01","jonas191",{"$f":"AND(E6989>=Kimutatás!B$2,E6989<=Kimutatás!B$3)","v":true}]
[6989,"Veszprém","019","Q1","2019-02-13","KKV számlanyitás",-4,"db","2019-03-01","jonas191",{"$f":"AND(E6990>=Kimutatás!B$2,E6990<=Kimutatás!B$3)","v":true}]
[6990,"Veszprém","019","Q1","2019-02-13","Betét állomány növekmény",-2,"Mhuf","2019-03-01","jonas191",{"$f":"AND(E6991>=Kimutatás!B$2,E6991<=Kimutatás!B$3)","v":true}]
[6991,"Veszprém","019","Q1","2019-02-14","Betérő ügyfelek",17,"fő","2019-03-01","jonas191",{"$f":"AND(E6992>=Kimutatás!B$2,E6992<=Kimutatás!B$3)","v":true}]
[6992,"Veszprém","019","Q1","2019-02-14","Lakossági hitelnövekmény összege ",32,"Mhuf","2019-03-01","jonas191",{"$f":"AND(E6993>=Kimutatás!B$2,E6993<=Kimutatás!B$3)","v":true}]
[6993,"Veszprém","019","Q1","2019-02-14","Lakossági számlanyitás",2,"db","2019-03-01","jonas191",{"$f":"AND(E6994>=Kimutatás!B$2,E6994<=Kimutatás!B$3)","v":true}]
[6994,"Veszprém","019","Q1","2019-02-14","KKV hitelnövekmény (db)",1,"db","2019-03-01","jonas191",{"$f":"AND(E6995>=Kimutatás!B$2,E6995<=Kimutatás!B$3)","v":true}]
[6995,"Veszprém","019","Q1","2019-02-14","KKV számlanyitás",-2,"db","2019-03-01","jonas191",{"$f":"AND(E6996>=Kimutatás!B$2,E6996<=Kimutatás!B$3)","v":true}]
[6996,"Veszprém","019","Q1","2019-02-14","Betét állomány növekmény",13,"Mhuf","2019-03-01","jonas191",{"$f":"AND(E6997>=Kimutatás!B$2,E6997<=Kimutatás!B$3)","v":true}]
[6997,"Veszprém","019","Q1","2019-02-17","Betérő ügyfelek",45,"fő","2019-03-01","jonas191",{"$f":"AND(E6998>=Kimutatás!B$2,E6998<=Kimutatás!B$3)","v":true}]
[6998,"Veszprém","019","Q1","2019-02-17","Lakossági hitelnövekmény összege ",-9,"Mhuf","2019-03-01","jonas191",{"$f":"AND(E6999>=Kimutatás!B$2,E6999<=Kimutatás!B$3)","v":true}]
[6999,"Veszprém","019","Q1","2019-02-17","Lakossági számlanyitás",2,"db","2019-03-01","jonas191",{"$f":"AND(E7000>=Kimutatás!B$2,E7000<=Kimutatás!B$3)","v":true}]
[7000,"Veszprém","019","Q1","2019-02-17","KKV hitelnövekmény (db)",0,"db","2019-03-01","jonas191",{"$f":"AND(E7001>=Kimutatás!B$2,E7001<=Kimutatás!B$3)","v":true}]
[7001,"Veszprém","019","Q1","2019-02-17","KKV számlanyitás",5,"db","2019-03-01","jonas191",{"$f":"AND(E7002>=Kimutatás!B$2,E7002<=Kimutatás!B$3)","v":true}]
[7002,"Veszprém","019","Q1","2019-02-17","Betét állomány növekmény",50,"Mhuf","2019-03-01","jonas191",{"$f":"AND(E7003>=Kimutatás!B$2,E7003<=Kimutatás!B$3)","v":true}]
[7003,"Veszprém","019","Q1","2019-02-18","Betérő ügyfelek",13,"fő","2019-03-01","jonas191",{"$f":"AND(E7004>=Kimutatás!B$2,E7004<=Kimutatás!B$3)","v":true}]
[7004,"Veszprém","019","Q1","2019-02-18","Lakossági hitelnövekmény összege ",46,"Mhuf","2019-03-01","jonas191",{"$f":"AND(E7005>=Kimutatás!B$2,E7005<=Kimutatás!B$3)","v":true}]
[7005,"Veszprém","019","Q1","2019-02-18","Lakossági számlanyitás",1,"db","2019-03-01","jonas191",{"$f":"AND(E7006>=Kimutatás!B$2,E7006<=Kimutatás!B$3)","v":true}]
[7006,"Veszprém","019","Q1","2019-02-18","KKV hitelnövekmény (db)",-1,"db","2019-03-01","jonas191",{"$f":"AND(E7007>=Kimutatás!B$2,E7007<=Kimutatás!B$3)","v":true}]
[7007,"Veszprém","019","Q1","2019-02-18","KKV számlanyitás",-5,"db","2019-03-01","jonas191",{"$f":"AND(E7008>=Kimutatás!B$2,E7008<=Kimutatás!B$3)","v":true}]
[7008,"Veszprém","019","Q1","2019-02-18","Betét állomány növekmény",3,"Mhuf","2019-03-01","jonas191",{"$f":"AND(E7009>=Kimutatás!B$2,E7009<=Kimutatás!B$3)","v":true}]
[7009,"Veszprém","019","Q1","2019-02-19","Betérő ügyfelek",19,"fő","2019-03-01","jonas191",{"$f":"AND(E7010>=Kimutatás!B$2,E7010<=Kimutatás!B$3)","v":true}]
[7010,"Veszprém","019","Q1","2019-02-19","Lakossági hitelnövekmény összege ",-9,"Mhuf","2019-03-01","jonas191",{"$f":"AND(E7011>=Kimutatás!B$2,E7011<=Kimutatás!B$3)","v":true}]
[7011,"Veszprém","019","Q1","2019-02-19","Lakossági számlanyitás",-1,"db","2019-03-01","jonas191",{"$f":"AND(E7012>=Kimutatás!B$2,E7012<=Kimutatás!B$3)","v":true}]
[7012,"Veszprém","019","Q1","2019-02-19","KKV hitelnövekmény (db)",-2,"db","2019-03-01","jonas191",{"$f":"AND(E7013>=Kimutatás!B$2,E7013<=Kimutatás!B$3)","v":true}]
[7013,"Veszprém","019","Q1","2019-02-19","KKV számlanyitás",5,"db","2019-03-01","jonas191",{"$f":"AND(E7014>=Kimutatás!B$2,E7014<=Kimutatás!B$3)","v":true}]
[7014,"Veszprém","019","Q1","2019-02-19","Betét állomány növekmény",21,"Mhuf","2019-03-01","jonas191",{"$f":"AND(E7015>=Kimutatás!B$2,E7015<=Kimutatás!B$3)","v":true}]
[7015,"Veszprém","019","Q1","2019-02-20","Betérő ügyfelek",13,"fő","2019-03-01","jonas191",{"$f":"AND(E7016>=Kimutatás!B$2,E7016<=Kimutatás!B$3)","v":true}]
[7016,"Veszprém","019","Q1","2019-02-20","Lakossági hitelnövekmény összege ",-1,"Mhuf","2019-03-01","jonas191",{"$f":"AND(E7017>=Kimutatás!B$2,E7017<=Kimutatás!B$3)","v":true}]
[7017,"Veszprém","019","Q1","2019-02-20","Lakossági számlanyitás",3,"db","2019-03-01","jonas191",{"$f":"AND(E7018>=Kimutatás!B$2,E7018<=Kimutatás!B$3)","v":true}]
[7018,"Veszprém","019","Q1","2019-02-20","KKV hitelnövekmény (db)",2,"db","2019-03-01","jonas191",{"$f":"AND(E7019>=Kimutatás!B$2,E7019<=Kimutatás!B$3)","v":true}]
[7019,"Veszprém","019","Q1","2019-02-20","KKV számlanyitás",-4,"db","2019-03-01","jonas191",{"$f":"AND(E7020>=Kimutatás!B$2,E7020<=Kimutatás!B$3)","v":true}]
[7020,"Veszprém","019","Q1","2019-02-20","Betét állomány növekmény",36,"Mhuf","2019-03-01","jonas191",{"$f":"AND(E7021>=Kimutatás!B$2,E7021<=Kimutatás!B$3)","v":true}]
[7021,"Veszprém","019","Q1","2019-02-21","Betérő ügyfelek",17,"fő","2019-03-01","jonas191",{"$f":"AND(E7022>=Kimutatás!B$2,E7022<=Kimutatás!B$3)","v":true}]
[7022,"Veszprém","019","Q1","2019-02-21","Lakossági hitelnövekmény összege ",20,"Mhuf","2019-03-01","jonas191",{"$f":"AND(E7023>=Kimutatás!B$2,E7023<=Kimutatás!B$3)","v":true}]
[7023,"Veszprém","019","Q1","2019-02-21","Lakossági számlanyitás",-5,"db","2019-03-01","jonas191",{"$f":"AND(E7024>=Kimutatás!B$2,E7024<=Kimutatás!B$3)","v":true}]
[7024,"Veszprém","019","Q1","2019-02-21","KKV hitelnövekmény (db)",-2,"db","2019-03-01","jonas191",{"$f":"AND(E7025>=Kimutatás!B$2,E7025<=Kimutatás!B$3)","v":true}]
[7025,"Veszprém","019","Q1","2019-02-21","KKV számlanyitás",-3,"db","2019-03-01","jonas191",{"$f":"AND(E7026>=Kimutatás!B$2,E7026<=Kimutatás!B$3)","v":true}]
[7026,"Veszprém","019","Q1","2019-02-21","Betét állomány növekmény",50,"Mhuf","2019-03-01","jonas191",{"$f":"AND(E7027>=Kimutatás!B$2,E7027<=Kimutatás!B$3)","v":true}]
[7027,"Veszprém","019","Q1","2019-02-24","Betérő ügyfelek",11,"fő","2019-03-01","jonas191",{"$f":"AND(E7028>=Kimutatás!B$2,E7028<=Kimutatás!B$3)","v":true}]
[7028,"Veszprém","019","Q1","2019-02-24","Lakossági hitelnövekmény összege ",36,"Mhuf","2019-03-01","jonas191",{"$f":"AND(E7029>=Kimutatás!B$2,E7029<=Kimutatás!B$3)","v":true}]
[7029,"Veszprém","019","Q1","2019-02-24","Lakossági számlanyitás",6,"db","2019-03-01","jonas191",{"$f":"AND(E7030>=Kimutatás!B$2,E7030<=Kimutatás!B$3)","v":true}]
[7030,"Veszprém","019","Q1","2019-02-24","KKV hitelnövekmény (db)",-1,"db","2019-03-01","jonas191",{"$f":"AND(E7031>=Kimutatás!B$2,E7031<=Kimutatás!B$3)","v":true}]
[7031,"Veszprém","019","Q1","2019-02-24","KKV számlanyitás",-1,"db","2019-03-01","jonas191",{"$f":"AND(E7032>=Kimutatás!B$2,E7032<=Kimutatás!B$3)","v":true}]
[7032,"Veszprém","019","Q1","2019-02-24","Betét állomány növekmény",-17,"Mhuf","2019-03-01","jonas191",{"$f":"AND(E7033>=Kimutatás!B$2,E7033<=Kimutatás!B$3)","v":true}]
[7033,"Veszprém","019","Q1","2019-02-25","Betérő ügyfelek",10,"fő","2019-03-01","jonas191",{"$f":"AND(E7034>=Kimutatás!B$2,E7034<=Kimutatás!B$3)","v":true}]
[7034,"Veszprém","019","Q1","2019-02-25","Lakossági hitelnövekmény összege ",44,"Mhuf","2019-03-01","jonas191",{"$f":"AND(E7035>=Kimutatás!B$2,E7035<=Kimutatás!B$3)","v":true}]
[7035,"Veszprém","019","Q1","2019-02-25","Lakossági számlanyitás",9,"db","2019-03-01","jonas191",{"$f":"AND(E7036>=Kimutatás!B$2,E7036<=Kimutatás!B$3)","v":true}]
[7036,"Veszprém","019","Q1","2019-02-25","KKV hitelnövekmény (db)",0,"db","2019-03-01","jonas191",{"$f":"AND(E7037>=Kimutatás!B$2,E7037<=Kimutatás!B$3)","v":true}]
[7037,"Veszprém","019","Q1","2019-02-25","KKV számlanyitás",1,"db","2019-03-01","jonas191",{"$f":"AND(E7038>=Kimutatás!B$2,E7038<=Kimutatás!B$3)","v":true}]
[7038,"Veszprém","019","Q1","2019-02-25","Betét állomány növekmény",43,"Mhuf","2019-03-01","jonas191",{"$f":"AND(E7039>=Kimutatás!B$2,E7039<=Kimutatás!B$3)","v":true}]
[7039,"Veszprém","019","Q1","2019-02-26","Betérő ügyfelek",20,"fő","2019-03-01","jonas191",{"$f":"AND(E7040>=Kimutatás!B$2,E7040<=Kimutatás!B$3)","v":true}]
[7040,"Veszprém","019","Q1","2019-02-26","Lakossági hitelnövekmény összege ",39,"Mhuf","2019-03-01","jonas191",{"$f":"AND(E7041>=Kimutatás!B$2,E7041<=Kimutatás!B$3)","v":true}]
[7041,"Veszprém","019","Q1","2019-02-26","Lakossági számlanyitás",-4,"db","2019-03-01","jonas191",{"$f":"AND(E7042>=Kimutatás!B$2,E7042<=Kimutatás!B$3)","v":true}]
[7042,"Veszprém","019","Q1","2019-02-26","KKV hitelnövekmény (db)",0,"db","2019-03-01","jonas191",{"$f":"AND(E7043>=Kimutatás!B$2,E7043<=Kimutatás!B$3)","v":true}]
[7043,"Veszprém","019","Q1","2019-02-26","KKV számlanyitás",1,"db","2019-03-01","jonas191",{"$f":"AND(E7044>=Kimutatás!B$2,E7044<=Kimutatás!B$3)","v":true}]
[7044,"Veszprém","019","Q1","2019-02-26","Betét állomány növekmény",26,"Mhuf","2019-03-01","jonas191",{"$f":"AND(E7045>=Kimutatás!B$2,E7045<=Kimutatás!B$3)","v":true}]
[7045,"Veszprém","019","Q1","2019-02-27","Betérő ügyfelek",10,"fő","2019-03-01","jonas191",{"$f":"AND(E7046>=Kimutatás!B$2,E7046<=Kimutatás!B$3)","v":true}]
[7046,"Veszprém","019","Q1","2019-02-27","Lakossági hitelnövekmény összege ",7,"Mhuf","2019-03-01","jonas191",{"$f":"AND(E7047>=Kimutatás!B$2,E7047<=Kimutatás!B$3)","v":true}]
[7047,"Veszprém","019","Q1","2019-02-27","Lakossági számlanyitás",-2,"db","2019-03-01","jonas191",{"$f":"AND(E7048>=Kimutatás!B$2,E7048<=Kimutatás!B$3)","v":true}]
[7048,"Veszprém","019","Q1","2019-02-27","KKV hitelnövekmény (db)",1,"db","2019-03-01","jonas191",{"$f":"AND(E7049>=Kimutatás!B$2,E7049<=Kimutatás!B$3)","v":true}]
[7049,"Veszprém","019","Q1","2019-02-27","KKV számlanyitás",0,"db","2019-03-01","jonas191",{"$f":"AND(E7050>=Kimutatás!B$2,E7050<=Kimutatás!B$3)","v":true}]
[7050,"Veszprém","019","Q1","2019-02-27","Betét állomány növekmény",24,"Mhuf","2019-03-01","jonas191",{"$f":"AND(E7051>=Kimutatás!B$2,E7051<=Kimutatás!B$3)","v":true}]
[7051,"Veszprém","019","Q1","2019-02-28","Betérő ügyfelek",2,"fő","2019-03-01","jonas191",{"$f":"AND(E7052>=Kimutatás!B$2,E7052<=Kimutatás!B$3)","v":true}]
[7052,"Veszprém","019","Q1","2019-02-28","Lakossági hitelnövekmény összege ",34,"Mhuf","2019-03-01","jonas191",{"$f":"AND(E7053>=Kimutatás!B$2,E7053<=Kimutatás!B$3)","v":true}]
[7053,"Veszprém","019","Q1","2019-02-28","Lakossági számlanyitás",-1,"db","2019-03-01","jonas191",{"$f":"AND(E7054>=Kimutatás!B$2,E7054<=Kimutatás!B$3)","v":true}]
[7054,"Veszprém","019","Q1","2019-02-28","KKV hitelnövekmény (db)",0,"db","2019-03-01","jonas191",{"$f":"AND(E7055>=Kimutatás!B$2,E7055<=Kimutatás!B$3)","v":true}]
[7055,"Veszprém","019","Q1","2019-02-28","KKV számlanyitás",5,"db","2019-03-01","jonas191",{"$f":"AND(E7056>=Kimutatás!B$2,E7056<=Kimutatás!B$3)","v":true}]
[7056,"Veszprém","019","Q1","2019-02-28","Betét állomány növekmény",43,"Mhuf","2019-03-01","jonas191",{"$f":"AND(E7057>=Kimutatás!B$2,E7057<=Kimutatás!B$3)","v":true}]
[7057,"Veszprém","019","Q1","2019-03-03","Betérő ügyfelek",26,"fő","2019-04-01","szaffi7",{"$f":"AND(E7058>=Kimutatás!B$2,E7058<=Kimutatás!B$3)","v":true}]
[7058,"Veszprém","019","Q1","2019-03-03","Lakossági hitelnövekmény összege ",4,"Mhuf","2019-04-01","szaffi7",{"$f":"AND(E7059>=Kimutatás!B$2,E7059<=Kimutatás!B$3)","v":true}]
[7059,"Veszprém","019","Q1","2019-03-03","Lakossági számlanyitás",3,"db","2019-04-01","szaffi7",{"$f":"AND(E7060>=Kimutatás!B$2,E7060<=Kimutatás!B$3)","v":true}]
[7060,"Veszprém","019","Q1","2019-03-03","KKV hitelnövekmény (db)",2,"db","2019-04-01","szaffi7",{"$f":"AND(E7061>=Kimutatás!B$2,E7061<=Kimutatás!B$3)","v":true}]
[7061,"Veszprém","019","Q1","2019-03-03","KKV számlanyitás",-5,"db","2019-04-01","szaffi7",{"$f":"AND(E7062>=Kimutatás!B$2,E7062<=Kimutatás!B$3)","v":true}]
[7062,"Veszprém","019","Q1","2019-03-03","Betét állomány növekmény",0,"Mhuf","2019-04-01","szaffi7",{"$f":"AND(E7063>=Kimutatás!B$2,E7063<=Kimutatás!B$3)","v":true}]
[7063,"Veszprém","019","Q1","2019-03-04","Betérő ügyfelek",2,"fő","2019-04-01","szaffi7",{"$f":"AND(E7064>=Kimutatás!B$2,E7064<=Kimutatás!B$3)","v":true}]
[7064,"Veszprém","019","Q1","2019-03-04","Lakossági hitelnövekmény összege ",29,"Mhuf","2019-04-01","szaffi7",{"$f":"AND(E7065>=Kimutatás!B$2,E7065<=Kimutatás!B$3)","v":true}]
[7065,"Veszprém","019","Q1","2019-03-04","Lakossági számlanyitás",-2,"db","2019-04-01","szaffi7",{"$f":"AND(E7066>=Kimutatás!B$2,E7066<=Kimutatás!B$3)","v":true}]
[7066,"Veszprém","019","Q1","2019-03-04","KKV hitelnövekmény (db)",2,"db","2019-04-01","szaffi7",{"$f":"AND(E7067>=Kimutatás!B$2,E7067<=Kimutatás!B$3)","v":true}]
[7067,"Veszprém","019","Q1","2019-03-04","KKV számlanyitás",-2,"db","2019-04-01","szaffi7",{"$f":"AND(E7068>=Kimutatás!B$2,E7068<=Kimutatás!B$3)","v":true}]
[7068,"Veszprém","019","Q1","2019-03-04","Betét állomány növekmény",-11,"Mhuf","2019-04-01","szaffi7",{"$f":"AND(E7069>=Kimutatás!B$2,E7069<=Kimutatás!B$3)","v":true}]
[7069,"Veszprém","019","Q1","2019-03-05","Betérő ügyfelek",14,"fő","2019-04-01","szaffi7",{"$f":"AND(E7070>=Kimutatás!B$2,E7070<=Kimutatás!B$3)","v":true}]
[7070,"Veszprém","019","Q1","2019-03-05","Lakossági hitelnövekmény összege ",3,"Mhuf","2019-04-01","szaffi7",{"$f":"AND(E7071>=Kimutatás!B$2,E7071<=Kimutatás!B$3)","v":true}]
[7071,"Veszprém","019","Q1","2019-03-05","Lakossági számlanyitás",1,"db","2019-04-01","szaffi7",{"$f":"AND(E7072>=Kimutatás!B$2,E7072<=Kimutatás!B$3)","v":true}]
[7072,"Veszprém","019","Q1","2019-03-05","KKV hitelnövekmény (db)",-2,"db","2019-04-01","szaffi7",{"$f":"AND(E7073>=Kimutatás!B$2,E7073<=Kimutatás!B$3)","v":true}]
[7073,"Veszprém","019","Q1","2019-03-05","KKV számlanyitás",-2,"db","2019-04-01","szaffi7",{"$f":"AND(E7074>=Kimutatás!B$2,E7074<=Kimutatás!B$3)","v":true}]
[7074,"Veszprém","019","Q1","2019-03-05","Betét állomány növekmény",-11,"Mhuf","2019-04-01","szaffi7",{"$f":"AND(E7075>=Kimutatás!B$2,E7075<=Kimutatás!B$3)","v":true}]
[7075,"Veszprém","019","Q1","2019-03-06","Betérő ügyfelek",18,"fő","2019-04-01","szaffi7",{"$f":"AND(E7076>=Kimutatás!B$2,E7076<=Kimutatás!B$3)","v":true}]
[7076,"Veszprém","019","Q1","2019-03-06","Lakossági hitelnövekmény összege ",12,"Mhuf","2019-04-01","szaffi7",{"$f":"AND(E7077>=Kimutatás!B$2,E7077<=Kimutatás!B$3)","v":true}]
[7077,"Veszprém","019","Q1","2019-03-06","Lakossági számlanyitás",9,"db","2019-04-01","szaffi7",{"$f":"AND(E7078>=Kimutatás!B$2,E7078<=Kimutatás!B$3)","v":true}]
[7078,"Veszprém","019","Q1","2019-03-06","KKV hitelnövekmény (db)",-1,"db","2019-04-01","szaffi7",{"$f":"AND(E7079>=Kimutatás!B$2,E7079<=Kimutatás!B$3)","v":true}]
[7079,"Veszprém","019","Q1","2019-03-06","KKV számlanyitás",0,"db","2019-04-01","szaffi7",{"$f":"AND(E7080>=Kimutatás!B$2,E7080<=Kimutatás!B$3)","v":true}]
[7080,"Veszprém","019","Q1","2019-03-06","Betét állomány növekmény",45,"Mhuf","2019-04-01","szaffi7",{"$f":"AND(E7081>=Kimutatás!B$2,E7081<=Kimutatás!B$3)","v":true}]
[7081,"Veszprém","019","Q1","2019-03-07","Betérő ügyfelek",12,"fő","2019-04-01","szaffi7",{"$f":"AND(E7082>=Kimutatás!B$2,E7082<=Kimutatás!B$3)","v":true}]
[7082,"Veszprém","019","Q1","2019-03-07","Lakossági hitelnövekmény összege ",27,"Mhuf","2019-04-01","szaffi7",{"$f":"AND(E7083>=Kimutatás!B$2,E7083<=Kimutatás!B$3)","v":true}]
[7083,"Veszprém","019","Q1","2019-03-07","Lakossági számlanyitás",-5,"db","2019-04-01","szaffi7",{"$f":"AND(E7084>=Kimutatás!B$2,E7084<=Kimutatás!B$3)","v":true}]
[7084,"Veszprém","019","Q1","2019-03-07","KKV hitelnövekmény (db)",-2,"db","2019-04-01","szaffi7",{"$f":"AND(E7085>=Kimutatás!B$2,E7085<=Kimutatás!B$3)","v":true}]
[7085,"Veszprém","019","Q1","2019-03-07","KKV számlanyitás",-5,"db","2019-04-01","szaffi7",{"$f":"AND(E7086>=Kimutatás!B$2,E7086<=Kimutatás!B$3)","v":true}]
[7086,"Veszprém","019","Q1","2019-03-07","Betét állomány növekmény",5,"Mhuf","2019-04-01","szaffi7",{"$f":"AND(E7087>=Kimutatás!B$2,E7087<=Kimutatás!B$3)","v":true}]
[7087,"Veszprém","019","Q1","2019-03-10","Betérő ügyfelek",5,"fő","2019-04-01","szaffi7",{"$f":"AND(E7088>=Kimutatás!B$2,E7088<=Kimutatás!B$3)","v":true}]
[7088,"Veszprém","019","Q1","2019-03-10","Lakossági hitelnövekmény összege ",50,"Mhuf","2019-04-01","szaffi7",{"$f":"AND(E7089>=Kimutatás!B$2,E7089<=Kimutatás!B$3)","v":true}]
[7089,"Veszprém","019","Q1","2019-03-10","Lakossági számlanyitás",-4,"db","2019-04-01","szaffi7",{"$f":"AND(E7090>=Kimutatás!B$2,E7090<=Kimutatás!B$3)","v":true}]
[7090,"Veszprém","019","Q1","2019-03-10","KKV hitelnövekmény (db)",-1,"db","2019-04-01","szaffi7",{"$f":"AND(E7091>=Kimutatás!B$2,E7091<=Kimutatás!B$3)","v":true}]
[7091,"Veszprém","019","Q1","2019-03-10","KKV számlanyitás",0,"db","2019-04-01","szaffi7",{"$f":"AND(E7092>=Kimutatás!B$2,E7092<=Kimutatás!B$3)","v":true}]
[7092,"Veszprém","019","Q1","2019-03-10","Betét állomány növekmény",0,"Mhuf","2019-04-01","szaffi7",{"$f":"AND(E7093>=Kimutatás!B$2,E7093<=Kimutatás!B$3)","v":true}]
[7093,"Veszprém","019","Q1","2019-03-11","Betérő ügyfelek",38,"fő","2019-04-01","szaffi7",{"$f":"AND(E7094>=Kimutatás!B$2,E7094<=Kimutatás!B$3)","v":false}]
[7094,"Veszprém","019","Q1","2019-03-11","Lakossági hitelnövekmény összege ",-3,"Mhuf","2019-04-01","szaffi7",{"$f":"AND(E7095>=Kimutatás!B$2,E7095<=Kimutatás!B$3)","v":false}]
[7095,"Veszprém","019","Q1","2019-03-11","Lakossági számlanyitás",10,"db","2019-04-01","szaffi7",{"$f":"AND(E7096>=Kimutatás!B$2,E7096<=Kimutatás!B$3)","v":false}]
[7096,"Veszprém","019","Q1","2019-03-11","KKV hitelnövekmény (db)",-1,"db","2019-04-01","szaffi7",{"$f":"AND(E7097>=Kimutatás!B$2,E7097<=Kimutatás!B$3)","v":false}]
[7097,"Veszprém","019","Q1","2019-03-11","KKV számlanyitás",-2,"db","2019-04-01","szaffi7",{"$f":"AND(E7098>=Kimutatás!B$2,E7098<=Kimutatás!B$3)","v":false}]
[7098,"Veszprém","019","Q1","2019-03-11","Betét állomány növekmény",50,"Mhuf","2019-04-01","szaffi7",{"$f":"AND(E7099>=Kimutatás!B$2,E7099<=Kimutatás!B$3)","v":false}]
[7099,"Veszprém","019","Q1","2019-03-12","Betérő ügyfelek",21,"fő","2019-04-01","szaffi7",{"$f":"AND(E7100>=Kimutatás!B$2,E7100<=Kimutatás!B$3)","v":false}]
[7100,"Veszprém","019","Q1","2019-03-12","Lakossági hitelnövekmény összege ",10,"Mhuf","2019-04-01","szaffi7",{"$f":"AND(E7101>=Kimutatás!B$2,E7101<=Kimutatás!B$3)","v":false}]
[7101,"Veszprém","019","Q1","2019-03-12","Lakossági számlanyitás",6,"db","2019-04-01","szaffi7",{"$f":"AND(E7102>=Kimutatás!B$2,E7102<=Kimutatás!B$3)","v":false}]
[7102,"Veszprém","019","Q1","2019-03-12","KKV hitelnövekmény (db)",1,"db","2019-04-01","szaffi7",{"$f":"AND(E7103>=Kimutatás!B$2,E7103<=Kimutatás!B$3)","v":false}]
[7103,"Veszprém","019","Q1","2019-03-12","KKV számlanyitás",3,"db","2019-04-01","szaffi7",{"$f":"AND(E7104>=Kimutatás!B$2,E7104<=Kimutatás!B$3)","v":false}]
[7104,"Veszprém","019","Q1","2019-03-12","Betét állomány növekmény",37,"Mhuf","2019-04-01","szaffi7",{"$f":"AND(E7105>=Kimutatás!B$2,E7105<=Kimutatás!B$3)","v":false}]
[7105,"Veszprém","019","Q1","2019-03-13","Betérő ügyfelek",31,"fő","2019-04-01","szaffi7",{"$f":"AND(E7106>=Kimutatás!B$2,E7106<=Kimutatás!B$3)","v":false}]
[7106,"Veszprém","019","Q1","2019-03-13","Lakossági hitelnövekmény összege ",10,"Mhuf","2019-04-01","szaffi7",{"$f":"AND(E7107>=Kimutatás!B$2,E7107<=Kimutatás!B$3)","v":false}]
[7107,"Veszprém","019","Q1","2019-03-13","Lakossági számlanyitás",-1,"db","2019-04-01","szaffi7",{"$f":"AND(E7108>=Kimutatás!B$2,E7108<=Kimutatás!B$3)","v":false}]
[7108,"Veszprém","019","Q1","2019-03-13","KKV hitelnövekmény (db)",0,"db","2019-04-01","szaffi7",{"$f":"AND(E7109>=Kimutatás!B$2,E7109<=Kimutatás!B$3)","v":false}]
[7109,"Veszprém","019","Q1","2019-03-13","KKV számlanyitás",3,"db","2019-04-01","szaffi7",{"$f":"AND(E7110>=Kimutatás!B$2,E7110<=Kimutatás!B$3)","v":false}]
[7110,"Veszprém","019","Q1","2019-03-13","Betét állomány növekmény",-17,"Mhuf","2019-04-01","szaffi7",{"$f":"AND(E7111>=Kimutatás!B$2,E7111<=Kimutatás!B$3)","v":false}]
[7111,"Veszprém","019","Q1","2019-03-14","Betérő ügyfelek",13,"fő","2019-04-01","szaffi7",{"$f":"AND(E7112>=Kimutatás!B$2,E7112<=Kimutatás!B$3)","v":false}]
[7112,"Veszprém","019","Q1","2019-03-14","Lakossági hitelnövekmény összege ",23,"Mhuf","2019-04-01","szaffi7",{"$f":"AND(E7113>=Kimutatás!B$2,E7113<=Kimutatás!B$3)","v":false}]
[7113,"Veszprém","019","Q1","2019-03-14","Lakossági számlanyitás",-1,"db","2019-04-01","szaffi7",{"$f":"AND(E7114>=Kimutatás!B$2,E7114<=Kimutatás!B$3)","v":false}]
[7114,"Veszprém","019","Q1","2019-03-14","KKV hitelnövekmény (db)",1,"db","2019-04-01","szaffi7",{"$f":"AND(E7115>=Kimutatás!B$2,E7115<=Kimutatás!B$3)","v":false}]
[7115,"Veszprém","019","Q1","2019-03-14","KKV számlanyitás",-2,"db","2019-04-01","szaffi7",{"$f":"AND(E7116>=Kimutatás!B$2,E7116<=Kimutatás!B$3)","v":false}]
[7116,"Veszprém","019","Q1","2019-03-14","Betét állomány növekmény",14,"Mhuf","2019-04-01","szaffi7",{"$f":"AND(E7117>=Kimutatás!B$2,E7117<=Kimutatás!B$3)","v":false}]
[7117,"Veszprém","019","Q1","2019-03-17","Betérő ügyfelek",19,"fő","2019-04-01","szaffi7",{"$f":"AND(E7118>=Kimutatás!B$2,E7118<=Kimutatás!B$3)","v":false}]
[7118,"Veszprém","019","Q1","2019-03-17","Lakossági hitelnövekmény összege ",-10,"Mhuf","2019-04-01","szaffi7",{"$f":"AND(E7119>=Kimutatás!B$2,E7119<=Kimutatás!B$3)","v":false}]
[7119,"Veszprém","019","Q1","2019-03-17","Lakossági számlanyitás",-1,"db","2019-04-01","szaffi7",{"$f":"AND(E7120>=Kimutatás!B$2,E7120<=Kimutatás!B$3)","v":false}]
[7120,"Veszprém","019","Q1","2019-03-17","KKV hitelnövekmény (db)",1,"db","2019-04-01","szaffi7",{"$f":"AND(E7121>=Kimutatás!B$2,E7121<=Kimutatás!B$3)","v":false}]
[7121,"Veszprém","019","Q1","2019-03-17","KKV számlanyitás",1,"db","2019-04-01","szaffi7",{"$f":"AND(E7122>=Kimutatás!B$2,E7122<=Kimutatás!B$3)","v":false}]
[7122,"Veszprém","019","Q1","2019-03-17","Betét állomány növekmény",24,"Mhuf","2019-04-01","szaffi7",{"$f":"AND(E7123>=Kimutatás!B$2,E7123<=Kimutatás!B$3)","v":false}]
[7123,"Veszprém","019","Q1","2019-03-18","Betérő ügyfelek",26,"fő","2019-04-01","szaffi7",{"$f":"AND(E7124>=Kimutatás!B$2,E7124<=Kimutatás!B$3)","v":false}]
[7124,"Veszprém","019","Q1","2019-03-18","Lakossági hitelnövekmény összege ",-6,"Mhuf","2019-04-01","szaffi7",{"$f":"AND(E7125>=Kimutatás!B$2,E7125<=Kimutatás!B$3)","v":false}]
[7125,"Veszprém","019","Q1","2019-03-18","Lakossági számlanyitás",-2,"db","2019-04-01","szaffi7",{"$f":"AND(E7126>=Kimutatás!B$2,E7126<=Kimutatás!B$3)","v":false}]
[7126,"Veszprém","019","Q1","2019-03-18","KKV hitelnövekmény (db)",-1,"db","2019-04-01","szaffi7",{"$f":"AND(E7127>=Kimutatás!B$2,E7127<=Kimutatás!B$3)","v":false}]
[7127,"Veszprém","019","Q1","2019-03-18","KKV számlanyitás",-5,"db","2019-04-01","szaffi7",{"$f":"AND(E7128>=Kimutatás!B$2,E7128<=Kimutatás!B$3)","v":false}]
[7128,"Veszprém","019","Q1","2019-03-18","Betét állomány növekmény",42,"Mhuf","2019-04-01","szaffi7",{"$f":"AND(E7129>=Kimutatás!B$2,E7129<=Kimutatás!B$3)","v":false}]
[7129,"Veszprém","019","Q1","2019-03-19","Betérő ügyfelek",15,"fő","2019-04-01","szaffi7",{"$f":"AND(E7130>=Kimutatás!B$2,E7130<=Kimutatás!B$3)","v":false}]
[7130,"Veszprém","019","Q1","2019-03-19","Lakossági hitelnövekmény összege ",25,"Mhuf","2019-04-01","szaffi7",{"$f":"AND(E7131>=Kimutatás!B$2,E7131<=Kimutatás!B$3)","v":false}]
[7131,"Veszprém","019","Q1","2019-03-19","Lakossági számlanyitás",-2,"db","2019-04-01","szaffi7",{"$f":"AND(E7132>=Kimutatás!B$2,E7132<=Kimutatás!B$3)","v":false}]
[7132,"Veszprém","019","Q1","2019-03-19","KKV hitelnövekmény (db)",2,"db","2019-04-01","szaffi7",{"$f":"AND(E7133>=Kimutatás!B$2,E7133<=Kimutatás!B$3)","v":false}]
[7133,"Veszprém","019","Q1","2019-03-19","KKV számlanyitás",3,"db","2019-04-01","szaffi7",{"$f":"AND(E7134>=Kimutatás!B$2,E7134<=Kimutatás!B$3)","v":false}]
[7134,"Veszprém","019","Q1","2019-03-19","Betét állomány növekmény",44,"Mhuf","2019-04-01","szaffi7",{"$f":"AND(E7135>=Kimutatás!B$2,E7135<=Kimutatás!B$3)","v":false}]
[7135,"Veszprém","019","Q1","2019-03-20","Betérő ügyfelek",8,"fő","2019-04-01","szaffi7",{"$f":"AND(E7136>=Kimutatás!B$2,E7136<=Kimutatás!B$3)","v":false}]
[7136,"Veszprém","019","Q1","2019-03-20","Lakossági hitelnövekmény összege ",45,"Mhuf","2019-04-01","szaffi7",{"$f":"AND(E7137>=Kimutatás!B$2,E7137<=Kimutatás!B$3)","v":false}]
[7137,"Veszprém","019","Q1","2019-03-20","Lakossági számlanyitás",4,"db","2019-04-01","szaffi7",{"$f":"AND(E7138>=Kimutatás!B$2,E7138<=Kimutatás!B$3)","v":false}]
[7138,"Veszprém","019","Q1","2019-03-20","KKV hitelnövekmény (db)",0,"db","2019-04-01","szaffi7",{"$f":"AND(E7139>=Kimutatás!B$2,E7139<=Kimutatás!B$3)","v":false}]
[7139,"Veszprém","019","Q1","2019-03-20","KKV számlanyitás",-1,"db","2019-04-01","szaffi7",{"$f":"AND(E7140>=Kimutatás!B$2,E7140<=Kimutatás!B$3)","v":false}]
[7140,"Veszprém","019","Q1","2019-03-20","Betét állomány növekmény",43,"Mhuf","2019-04-01","szaffi7",{"$f":"AND(E7141>=Kimutatás!B$2,E7141<=Kimutatás!B$3)","v":false}]
[7141,"Veszprém","019","Q1","2019-03-21","Betérő ügyfelek",15,"fő","2019-04-01","szaffi7",{"$f":"AND(E7142>=Kimutatás!B$2,E7142<=Kimutatás!B$3)","v":false}]
[7142,"Veszprém","019","Q1","2019-03-21","Lakossági hitelnövekmény összege ",20,"Mhuf","2019-04-01","szaffi7",{"$f":"AND(E7143>=Kimutatás!B$2,E7143<=Kimutatás!B$3)","v":false}]
[7143,"Veszprém","019","Q1","2019-03-21","Lakossági számlanyitás",-5,"db","2019-04-01","szaffi7",{"$f":"AND(E7144>=Kimutatás!B$2,E7144<=Kimutatás!B$3)","v":false}]
[7144,"Veszprém","019","Q1","2019-03-21","KKV hitelnövekmény (db)",1,"db","2019-04-01","szaffi7",{"$f":"AND(E7145>=Kimutatás!B$2,E7145<=Kimutatás!B$3)","v":false}]
[7145,"Veszprém","019","Q1","2019-03-21","KKV számlanyitás",-3,"db","2019-04-01","szaffi7",{"$f":"AND(E7146>=Kimutatás!B$2,E7146<=Kimutatás!B$3)","v":false}]
[7146,"Veszprém","019","Q1","2019-03-21","Betét állomány növekmény",11,"Mhuf","2019-04-01","szaffi7",{"$f":"AND(E7147>=Kimutatás!B$2,E7147<=Kimutatás!B$3)","v":false}]
[7147,"Veszprém","019","Q1","2019-03-24","Betérő ügyfelek",5,"fő","2019-04-01","szaffi7",{"$f":"AND(E7148>=Kimutatás!B$2,E7148<=Kimutatás!B$3)","v":false}]
[7148,"Veszprém","019","Q1","2019-03-24","Lakossági hitelnövekmény összege ",-10,"Mhuf","2019-04-01","szaffi7",{"$f":"AND(E7149>=Kimutatás!B$2,E7149<=Kimutatás!B$3)","v":false}]
[7149,"Veszprém","019","Q1","2019-03-24","Lakossági számlanyitás",-1,"db","2019-04-01","szaffi7",{"$f":"AND(E7150>=Kimutatás!B$2,E7150<=Kimutatás!B$3)","v":false}]
[7150,"Veszprém","019","Q1","2019-03-24","KKV hitelnövekmény (db)",-2,"db","2019-04-01","szaffi7",{"$f":"AND(E7151>=Kimutatás!B$2,E7151<=Kimutatás!B$3)","v":false}]
[7151,"Veszprém","019","Q1","2019-03-24","KKV számlanyitás",-1,"db","2019-04-01","szaffi7",{"$f":"AND(E7152>=Kimutatás!B$2,E7152<=Kimutatás!B$3)","v":false}]
[7152,"Veszprém","019","Q1","2019-03-24","Betét állomány növekmény",27,"Mhuf","2019-04-01","szaffi7",{"$f":"AND(E7153>=Kimutatás!B$2,E7153<=Kimutatás!B$3)","v":false}]
[7153,"Veszprém","019","Q1","2019-03-25","Betérő ügyfelek",43,"fő","2019-04-01","szaffi7",{"$f":"AND(E7154>=Kimutatás!B$2,E7154<=Kimutatás!B$3)","v":false}]
[7154,"Veszprém","019","Q1","2019-03-25","Lakossági hitelnövekmény összege ",33,"Mhuf","2019-04-01","szaffi7",{"$f":"AND(E7155>=Kimutatás!B$2,E7155<=Kimutatás!B$3)","v":false}]
[7155,"Veszprém","019","Q1","2019-03-25","Lakossági számlanyitás",10,"db","2019-04-01","szaffi7",{"$f":"AND(E7156>=Kimutatás!B$2,E7156<=Kimutatás!B$3)","v":false}]
[7156,"Veszprém","019","Q1","2019-03-25","KKV hitelnövekmény (db)",0,"db","2019-04-01","szaffi7",{"$f":"AND(E7157>=Kimutatás!B$2,E7157<=Kimutatás!B$3)","v":false}]
[7157,"Veszprém","019","Q1","2019-03-25","KKV számlanyitás",-4,"db","2019-04-01","szaffi7",{"$f":"AND(E7158>=Kimutatás!B$2,E7158<=Kimutatás!B$3)","v":false}]
[7158,"Veszprém","019","Q1","2019-03-25","Betét állomány növekmény",19,"Mhuf","2019-04-01","szaffi7",{"$f":"AND(E7159>=Kimutatás!B$2,E7159<=Kimutatás!B$3)","v":false}]
[7159,"Veszprém","019","Q1","2019-03-26","Betérő ügyfelek",41,"fő","2019-04-01","szaffi7",{"$f":"AND(E7160>=Kimutatás!B$2,E7160<=Kimutatás!B$3)","v":false}]
[7160,"Veszprém","019","Q1","2019-03-26","Lakossági hitelnövekmény összege ",44,"Mhuf","2019-04-01","szaffi7",{"$f":"AND(E7161>=Kimutatás!B$2,E7161<=Kimutatás!B$3)","v":false}]
[7161,"Veszprém","019","Q1","2019-03-26","Lakossági számlanyitás",10,"db","2019-04-01","szaffi7",{"$f":"AND(E7162>=Kimutatás!B$2,E7162<=Kimutatás!B$3)","v":false}]
[7162,"Veszprém","019","Q1","2019-03-26","KKV hitelnövekmény (db)",-2,"db","2019-04-01","szaffi7",{"$f":"AND(E7163>=Kimutatás!B$2,E7163<=Kimutatás!B$3)","v":false}]
[7163,"Veszprém","019","Q1","2019-03-26","KKV számlanyitás",1,"db","2019-04-01","szaffi7",{"$f":"AND(E7164>=Kimutatás!B$2,E7164<=Kimutatás!B$3)","v":false}]
[7164,"Veszprém","019","Q1","2019-03-26","Betét állomány növekmény",1,"Mhuf","2019-04-01","szaffi7",{"$f":"AND(E7165>=Kimutatás!B$2,E7165<=Kimutatás!B$3)","v":false}]
[7165,"Veszprém","019","Q1","2019-03-27","Betérő ügyfelek",10,"fő","2019-04-01","szaffi7",{"$f":"AND(E7166>=Kimutatás!B$2,E7166<=Kimutatás!B$3)","v":false}]
[7166,"Veszprém","019","Q1","2019-03-27","Lakossági hitelnövekmény összege ",12,"Mhuf","2019-04-01","szaffi7",{"$f":"AND(E7167>=Kimutatás!B$2,E7167<=Kimutatás!B$3)","v":false}]
[7167,"Veszprém","019","Q1","2019-03-27","Lakossági számlanyitás",6,"db","2019-04-01","szaffi7",{"$f":"AND(E7168>=Kimutatás!B$2,E7168<=Kimutatás!B$3)","v":false}]
[7168,"Veszprém","019","Q1","2019-03-27","KKV hitelnövekmény (db)",1,"db","2019-04-01","szaffi7",{"$f":"AND(E7169>=Kimutatás!B$2,E7169<=Kimutatás!B$3)","v":false}]
[7169,"Veszprém","019","Q1","2019-03-27","KKV számlanyitás",5,"db","2019-04-01","szaffi7",{"$f":"AND(E7170>=Kimutatás!B$2,E7170<=Kimutatás!B$3)","v":false}]
[7170,"Veszprém","019","Q1","2019-03-27","Betét állomány növekmény",31,"Mhuf","2019-04-01","szaffi7",{"$f":"AND(E7171>=Kimutatás!B$2,E7171<=Kimutatás!B$3)","v":false}]
[7171,"Veszprém","019","Q1","2019-03-28","Betérő ügyfelek",28,"fő","2019-04-01","szaffi7",{"$f":"AND(E7172>=Kimutatás!B$2,E7172<=Kimutatás!B$3)","v":false}]
[7172,"Veszprém","019","Q1","2019-03-28","Lakossági hitelnövekmény összege ",46,"Mhuf","2019-04-01","szaffi7",{"$f":"AND(E7173>=Kimutatás!B$2,E7173<=Kimutatás!B$3)","v":false}]
[7173,"Veszprém","019","Q1","2019-03-28","Lakossági számlanyitás",7,"db","2019-04-01","szaffi7",{"$f":"AND(E7174>=Kimutatás!B$2,E7174<=Kimutatás!B$3)","v":false}]
[7174,"Veszprém","019","Q1","2019-03-28","KKV hitelnövekmény (db)",2,"db","2019-04-01","szaffi7",{"$f":"AND(E7175>=Kimutatás!B$2,E7175<=Kimutatás!B$3)","v":false}]
[7175,"Veszprém","019","Q1","2019-03-28","KKV számlanyitás",5,"db","2019-04-01","szaffi7",{"$f":"AND(E7176>=Kimutatás!B$2,E7176<=Kimutatás!B$3)","v":false}]
[7176,"Veszprém","019","Q1","2019-03-28","Betét állomány növekmény",-9,"Mhuf","2019-04-01","szaffi7",{"$f":"AND(E7177>=Kimutatás!B$2,E7177<=Kimutatás!B$3)","v":false}]
[7177,"Veszprém","019","Q1","2019-03-31","Betérő ügyfelek",10,"fő","2019-04-01","szaffi7",{"$f":"AND(E7178>=Kimutatás!B$2,E7178<=Kimutatás!B$3)","v":false}]
[7178,"Veszprém","019","Q1","2019-03-31","Lakossági hitelnövekmény összege ",31,"Mhuf","2019-04-01","szaffi7",{"$f":"AND(E7179>=Kimutatás!B$2,E7179<=Kimutatás!B$3)","v":false}]
[7179,"Veszprém","019","Q1","2019-03-31","Lakossági számlanyitás",1,"db","2019-04-01","szaffi7",{"$f":"AND(E7180>=Kimutatás!B$2,E7180<=Kimutatás!B$3)","v":false}]
[7180,"Veszprém","019","Q1","2019-03-31","KKV hitelnövekmény (db)",2,"db","2019-04-01","szaffi7",{"$f":"AND(E7181>=Kimutatás!B$2,E7181<=Kimutatás!B$3)","v":false}]
[7181,"Veszprém","019","Q1","2019-03-31","KKV számlanyitás",4,"db","2019-04-01","szaffi7",{"$f":"AND(E7182>=Kimutatás!B$2,E7182<=Kimutatás!B$3)","v":false}]
[7182,"Veszprém","019","Q1","2019-03-31","Betét állomány növekmény",6,"Mhuf","2019-04-01","szaffi7",{"$f":"AND(E7183>=Kimutatás!B$2,E7183<=Kimutatás!B$3)","v":false}]
[7183,"Zalaegerszeg","020","Q1","2019-01-02","Betérő ügyfelek",25,"fő","2019-02-01","lovo20",{"$f":"AND(E7184>=Kimutatás!B$2,E7184<=Kimutatás!B$3)","v":false}]
[7184,"Zalaegerszeg","020","Q1","2019-01-02","Lakossági hitelnövekmény összege ",7,"Mhuf","2019-02-01","lovo20",{"$f":"AND(E7185>=Kimutatás!B$2,E7185<=Kimutatás!B$3)","v":false}]
[7185,"Zalaegerszeg","020","Q1","2019-01-02","Lakossági számlanyitás",-5,"db","2019-02-01","lovo20",{"$f":"AND(E7186>=Kimutatás!B$2,E7186<=Kimutatás!B$3)","v":false}]
[7186,"Zalaegerszeg","020","Q1","2019-01-02","KKV hitelnövekmény (db)",0,"db","2019-02-01","lovo20",{"$f":"AND(E7187>=Kimutatás!B$2,E7187<=Kimutatás!B$3)","v":false}]
[7187,"Zalaegerszeg","020","Q1","2019-01-02","KKV számlanyitás",4,"db","2019-02-01","lovo20",{"$f":"AND(E7188>=Kimutatás!B$2,E7188<=Kimutatás!B$3)","v":false}]
[7188,"Zalaegerszeg","020","Q1","2019-01-02","Betét állomány növekmény",29,"Mhuf","2019-02-01","lovo20",{"$f":"AND(E7189>=Kimutatás!B$2,E7189<=Kimutatás!B$3)","v":false}]
[7189,"Zalaegerszeg","020","Q1","2019-01-03","Betérő ügyfelek",26,"fő","2019-02-01","lovo20",{"$f":"AND(E7190>=Kimutatás!B$2,E7190<=Kimutatás!B$3)","v":false}]
[7190,"Zalaegerszeg","020","Q1","2019-01-03","Lakossági hitelnövekmény összege ",48,"Mhuf","2019-02-01","lovo20",{"$f":"AND(E7191>=Kimutatás!B$2,E7191<=Kimutatás!B$3)","v":false}]
[7191,"Zalaegerszeg","020","Q1","2019-01-03","Lakossági számlanyitás",-1,"db","2019-02-01","lovo20",{"$f":"AND(E7192>=Kimutatás!B$2,E7192<=Kimutatás!B$3)","v":false}]
[7192,"Zalaegerszeg","020","Q1","2019-01-03","KKV hitelnövekmény (db)",2,"db","2019-02-01","lovo20",{"$f":"AND(E7193>=Kimutatás!B$2,E7193<=Kimutatás!B$3)","v":false}]
[7193,"Zalaegerszeg","020","Q1","2019-01-03","KKV számlanyitás",-2,"db","2019-02-01","lovo20",{"$f":"AND(E7194>=Kimutatás!B$2,E7194<=Kimutatás!B$3)","v":false}]
[7194,"Zalaegerszeg","020","Q1","2019-01-03","Betét állomány növekmény",-6,"Mhuf","2019-02-01","lovo20",{"$f":"AND(E7195>=Kimutatás!B$2,E7195<=Kimutatás!B$3)","v":false}]
[7195,"Zalaegerszeg","020","Q1","2019-01-06","Betérő ügyfelek",16,"fő","2019-02-01","lovo20",{"$f":"AND(E7196>=Kimutatás!B$2,E7196<=Kimutatás!B$3)","v":false}]
[7196,"Zalaegerszeg","020","Q1","2019-01-06","Lakossági hitelnövekmény összege ",34,"Mhuf","2019-02-01","lovo20",{"$f":"AND(E7197>=Kimutatás!B$2,E7197<=Kimutatás!B$3)","v":false}]
[7197,"Zalaegerszeg","020","Q1","2019-01-06","Lakossági számlanyitás",-4,"db","2019-02-01","lovo20",{"$f":"AND(E7198>=Kimutatás!B$2,E7198<=Kimutatás!B$3)","v":false}]
[7198,"Zalaegerszeg","020","Q1","2019-01-06","KKV hitelnövekmény (db)",-2,"db","2019-02-01","lovo20",{"$f":"AND(E7199>=Kimutatás!B$2,E7199<=Kimutatás!B$3)","v":false}]
[7199,"Zalaegerszeg","020","Q1","2019-01-06","KKV számlanyitás",1,"db","2019-02-01","lovo20",{"$f":"AND(E7200>=Kimutatás!B$2,E7200<=Kimutatás!B$3)","v":false}]
[7200,"Zalaegerszeg","020","Q1","2019-01-06","Betét állomány növekmény",37,"Mhuf","2019-02-01","lovo20",{"$f":"AND(E7201>=Kimutatás!B$2,E7201<=Kimutatás!B$3)","v":false}]
[7201,"Zalaegerszeg","020","Q1","2019-01-07","Betérő ügyfelek",28,"fő","2019-02-01","lovo20",{"$f":"AND(E7202>=Kimutatás!B$2,E7202<=Kimutatás!B$3)","v":false}]
[7202,"Zalaegerszeg","020","Q1","2019-01-07","Lakossági hitelnövekmény összege ",22,"Mhuf","2019-02-01","lovo20",{"$f":"AND(E7203>=Kimutatás!B$2,E7203<=Kimutatás!B$3)","v":false}]
[7203,"Zalaegerszeg","020","Q1","2019-01-07","Lakossági számlanyitás",-2,"db","2019-02-01","lovo20",{"$f":"AND(E7204>=Kimutatás!B$2,E7204<=Kimutatás!B$3)","v":false}]
[7204,"Zalaegerszeg","020","Q1","2019-01-07","KKV hitelnövekmény (db)",1,"db","2019-02-01","lovo20",{"$f":"AND(E7205>=Kimutatás!B$2,E7205<=Kimutatás!B$3)","v":false}]
[7205,"Zalaegerszeg","020","Q1","2019-01-07","KKV számlanyitás",1,"db","2019-02-01","lovo20",{"$f":"AND(E7206>=Kimutatás!B$2,E7206<=Kimutatás!B$3)","v":false}]
[7206,"Zalaegerszeg","020","Q1","2019-01-07","Betét állomány növekmény",45,"Mhuf","2019-02-01","lovo20",{"$f":"AND(E7207>=Kimutatás!B$2,E7207<=Kimutatás!B$3)","v":false}]
[7207,"Zalaegerszeg","020","Q1","2019-01-08","Betérő ügyfelek",49,"fő","2019-02-01","lovo20",{"$f":"AND(E7208>=Kimutatás!B$2,E7208<=Kimutatás!B$3)","v":false}]
[7208,"Zalaegerszeg","020","Q1","2019-01-08","Lakossági hitelnövekmény összege ",18,"Mhuf","2019-02-01","lovo20",{"$f":"AND(E7209>=Kimutatás!B$2,E7209<=Kimutatás!B$3)","v":false}]
[7209,"Zalaegerszeg","020","Q1","2019-01-08","Lakossági számlanyitás",7,"db","2019-02-01","lovo20",{"$f":"AND(E7210>=Kimutatás!B$2,E7210<=Kimutatás!B$3)","v":false}]
[7210,"Zalaegerszeg","020","Q1","2019-01-08","KKV hitelnövekmény (db)",-2,"db","2019-02-01","lovo20",{"$f":"AND(E7211>=Kimutatás!B$2,E7211<=Kimutatás!B$3)","v":false}]
[7211,"Zalaegerszeg","020","Q1","2019-01-08","KKV számlanyitás",0,"db","2019-02-01","lovo20",{"$f":"AND(E7212>=Kimutatás!B$2,E7212<=Kimutatás!B$3)","v":false}]
[7212,"Zalaegerszeg","020","Q1","2019-01-08","Betét állomány növekmény",-16,"Mhuf","2019-02-01","lovo20",{"$f":"AND(E7213>=Kimutatás!B$2,E7213<=Kimutatás!B$3)","v":false}]
[7213,"Zalaegerszeg","020","Q1","2019-01-09","Betérő ügyfelek",3,"fő","2019-02-01","lovo20",{"$f":"AND(E7214>=Kimutatás!B$2,E7214<=Kimutatás!B$3)","v":false}]
[7214,"Zalaegerszeg","020","Q1","2019-01-09","Lakossági hitelnövekmény összege ",43,"Mhuf","2019-02-01","lovo20",{"$f":"AND(E7215>=Kimutatás!B$2,E7215<=Kimutatás!B$3)","v":false}]
[7215,"Zalaegerszeg","020","Q1","2019-01-09","Lakossági számlanyitás",4,"db","2019-02-01","lovo20",{"$f":"AND(E7216>=Kimutatás!B$2,E7216<=Kimutatás!B$3)","v":false}]
[7216,"Zalaegerszeg","020","Q1","2019-01-09","KKV hitelnövekmény (db)",1,"db","2019-02-01","lovo20",{"$f":"AND(E7217>=Kimutatás!B$2,E7217<=Kimutatás!B$3)","v":false}]
[7217,"Zalaegerszeg","020","Q1","2019-01-09","KKV számlanyitás",5,"db","2019-02-01","lovo20",{"$f":"AND(E7218>=Kimutatás!B$2,E7218<=Kimutatás!B$3)","v":false}]
[7218,"Zalaegerszeg","020","Q1","2019-01-09","Betét állomány növekmény",-11,"Mhuf","2019-02-01","lovo20",{"$f":"AND(E7219>=Kimutatás!B$2,E7219<=Kimutatás!B$3)","v":false}]
[7219,"Zalaegerszeg","020","Q1","2019-01-10","Betérő ügyfelek",5,"fő","2019-02-01","lovo20",{"$f":"AND(E7220>=Kimutatás!B$2,E7220<=Kimutatás!B$3)","v":true}]
[7220,"Zalaegerszeg","020","Q1","2019-01-10","Lakossági hitelnövekmény összege ",17,"Mhuf","2019-02-01","lovo20",{"$f":"AND(E7221>=Kimutatás!B$2,E7221<=Kimutatás!B$3)","v":true}]
[7221,"Zalaegerszeg","020","Q1","2019-01-10","Lakossági számlanyitás",-3,"db","2019-02-01","lovo20",{"$f":"AND(E7222>=Kimutatás!B$2,E7222<=Kimutatás!B$3)","v":true}]
[7222,"Zalaegerszeg","020","Q1","2019-01-10","KKV hitelnövekmény (db)",1,"db","2019-02-01","lovo20",{"$f":"AND(E7223>=Kimutatás!B$2,E7223<=Kimutatás!B$3)","v":true}]
[7223,"Zalaegerszeg","020","Q1","2019-01-10","KKV számlanyitás",-2,"db","2019-02-01","lovo20",{"$f":"AND(E7224>=Kimutatás!B$2,E7224<=Kimutatás!B$3)","v":true}]
[7224,"Zalaegerszeg","020","Q1","2019-01-10","Betét állomány növekmény",-14,"Mhuf","2019-02-01","lovo20",{"$f":"AND(E7225>=Kimutatás!B$2,E7225<=Kimutatás!B$3)","v":true}]
[7225,"Zalaegerszeg","020","Q1","2019-01-13","Betérő ügyfelek",40,"fő","2019-02-01","lovo20",{"$f":"AND(E7226>=Kimutatás!B$2,E7226<=Kimutatás!B$3)","v":true}]
[7226,"Zalaegerszeg","020","Q1","2019-01-13","Lakossági hitelnövekmény összege ",-5,"Mhuf","2019-02-01","lovo20",{"$f":"AND(E7227>=Kimutatás!B$2,E7227<=Kimutatás!B$3)","v":true}]
[7227,"Zalaegerszeg","020","Q1","2019-01-13","Lakossági számlanyitás",-5,"db","2019-02-01","lovo20",{"$f":"AND(E7228>=Kimutatás!B$2,E7228<=Kimutatás!B$3)","v":true}]
[7228,"Zalaegerszeg","020","Q1","2019-01-13","KKV hitelnövekmény (db)",-2,"db","2019-02-01","lovo20",{"$f":"AND(E7229>=Kimutatás!B$2,E7229<=Kimutatás!B$3)","v":true}]
[7229,"Zalaegerszeg","020","Q1","2019-01-13","KKV számlanyitás",5,"db","2019-02-01","lovo20",{"$f":"AND(E7230>=Kimutatás!B$2,E7230<=Kimutatás!B$3)","v":true}]
[7230,"Zalaegerszeg","020","Q1","2019-01-13","Betét állomány növekmény",45,"Mhuf","2019-02-01","lovo20",{"$f":"AND(E7231>=Kimutatás!B$2,E7231<=Kimutatás!B$3)","v":true}]
[7231,"Zalaegerszeg","020","Q1","2019-01-14","Betérő ügyfelek",26,"fő","2019-02-01","lovo20",{"$f":"AND(E7232>=Kimutatás!B$2,E7232<=Kimutatás!B$3)","v":true}]
[7232,"Zalaegerszeg","020","Q1","2019-01-14","Lakossági hitelnövekmény összege ",26,"Mhuf","2019-02-01","lovo20",{"$f":"AND(E7233>=Kimutatás!B$2,E7233<=Kimutatás!B$3)","v":true}]
[7233,"Zalaegerszeg","020","Q1","2019-01-14","Lakossági számlanyitás",1,"db","2019-02-01","lovo20",{"$f":"AND(E7234>=Kimutatás!B$2,E7234<=Kimutatás!B$3)","v":true}]
[7234,"Zalaegerszeg","020","Q1","2019-01-14","KKV hitelnövekmény (db)",1,"db","2019-02-01","lovo20",{"$f":"AND(E7235>=Kimutatás!B$2,E7235<=Kimutatás!B$3)","v":true}]
[7235,"Zalaegerszeg","020","Q1","2019-01-14","KKV számlanyitás",-5,"db","2019-02-01","lovo20",{"$f":"AND(E7236>=Kimutatás!B$2,E7236<=Kimutatás!B$3)","v":true}]
[7236,"Zalaegerszeg","020","Q1","2019-01-14","Betét állomány növekmény",46,"Mhuf","2019-02-01","lovo20",{"$f":"AND(E7237>=Kimutatás!B$2,E7237<=Kimutatás!B$3)","v":true}]
[7237,"Zalaegerszeg","020","Q1","2019-01-15","Betérő ügyfelek",18,"fő","2019-02-01","lovo20",{"$f":"AND(E7238>=Kimutatás!B$2,E7238<=Kimutatás!B$3)","v":true}]
[7238,"Zalaegerszeg","020","Q1","2019-01-15","Lakossági hitelnövekmény összege ",41,"Mhuf","2019-02-01","lovo20",{"$f":"AND(E7239>=Kimutatás!B$2,E7239<=Kimutatás!B$3)","v":true}]
[7239,"Zalaegerszeg","020","Q1","2019-01-15","Lakossági számlanyitás",10,"db","2019-02-01","lovo20",{"$f":"AND(E7240>=Kimutatás!B$2,E7240<=Kimutatás!B$3)","v":true}]
[7240,"Zalaegerszeg","020","Q1","2019-01-15","KKV hitelnövekmény (db)",-1,"db","2019-02-01","lovo20",{"$f":"AND(E7241>=Kimutatás!B$2,E7241<=Kimutatás!B$3)","v":true}]
[7241,"Zalaegerszeg","020","Q1","2019-01-15","KKV számlanyitás",-5,"db","2019-02-01","lovo20",{"$f":"AND(E7242>=Kimutatás!B$2,E7242<=Kimutatás!B$3)","v":true}]
[7242,"Zalaegerszeg","020","Q1","2019-01-15","Betét állomány növekmény",44,"Mhuf","2019-02-01","lovo20",{"$f":"AND(E7243>=Kimutatás!B$2,E7243<=Kimutatás!B$3)","v":true}]
[7243,"Zalaegerszeg","020","Q1","2019-01-16","Betérő ügyfelek",26,"fő","2019-02-01","lovo20",{"$f":"AND(E7244>=Kimutatás!B$2,E7244<=Kimutatás!B$3)","v":true}]
[7244,"Zalaegerszeg","020","Q1","2019-01-16","Lakossági hitelnövekmény összege ",27,"Mhuf","2019-02-01","lovo20",{"$f":"AND(E7245>=Kimutatás!B$2,E7245<=Kimutatás!B$3)","v":true}]
[7245,"Zalaegerszeg","020","Q1","2019-01-16","Lakossági számlanyitás",7,"db","2019-02-01","lovo20",{"$f":"AND(E7246>=Kimutatás!B$2,E7246<=Kimutatás!B$3)","v":true}]
[7246,"Zalaegerszeg","020","Q1","2019-01-16","KKV hitelnövekmény (db)",2,"db","2019-02-01","lovo20",{"$f":"AND(E7247>=Kimutatás!B$2,E7247<=Kimutatás!B$3)","v":true}]
[7247,"Zalaegerszeg","020","Q1","2019-01-16","KKV számlanyitás",-4,"db","2019-02-01","lovo20",{"$f":"AND(E7248>=Kimutatás!B$2,E7248<=Kimutatás!B$3)","v":true}]
[7248,"Zalaegerszeg","020","Q1","2019-01-16","Betét állomány növekmény",40,"Mhuf","2019-02-01","lovo20",{"$f":"AND(E7249>=Kimutatás!B$2,E7249<=Kimutatás!B$3)","v":true}]
[7249,"Zalaegerszeg","020","Q1","2019-01-17","Betérő ügyfelek",43,"fő","2019-02-01","lovo20",{"$f":"AND(E7250>=Kimutatás!B$2,E7250<=Kimutatás!B$3)","v":true}]
[7250,"Zalaegerszeg","020","Q1","2019-01-17","Lakossági hitelnövekmény összege ",36,"Mhuf","2019-02-01","lovo20",{"$f":"AND(E7251>=Kimutatás!B$2,E7251<=Kimutatás!B$3)","v":true}]
[7251,"Zalaegerszeg","020","Q1","2019-01-17","Lakossági számlanyitás",2,"db","2019-02-01","lovo20",{"$f":"AND(E7252>=Kimutatás!B$2,E7252<=Kimutatás!B$3)","v":true}]
[7252,"Zalaegerszeg","020","Q1","2019-01-17","KKV hitelnövekmény (db)",-1,"db","2019-02-01","lovo20",{"$f":"AND(E7253>=Kimutatás!B$2,E7253<=Kimutatás!B$3)","v":true}]
[7253,"Zalaegerszeg","020","Q1","2019-01-17","KKV számlanyitás",-5,"db","2019-02-01","lovo20",{"$f":"AND(E7254>=Kimutatás!B$2,E7254<=Kimutatás!B$3)","v":true}]
[7254,"Zalaegerszeg","020","Q1","2019-01-17","Betét állomány növekmény",14,"Mhuf","2019-02-01","lovo20",{"$f":"AND(E7255>=Kimutatás!B$2,E7255<=Kimutatás!B$3)","v":true}]
[7255,"Zalaegerszeg","020","Q1","2019-01-20","Betérő ügyfelek",41,"fő","2019-02-01","lovo20",{"$f":"AND(E7256>=Kimutatás!B$2,E7256<=Kimutatás!B$3)","v":true}]
[7256,"Zalaegerszeg","020","Q1","2019-01-20","Lakossági hitelnövekmény összege ",44,"Mhuf","2019-02-01","lovo20",{"$f":"AND(E7257>=Kimutatás!B$2,E7257<=Kimutatás!B$3)","v":true}]
[7257,"Zalaegerszeg","020","Q1","2019-01-20","Lakossági számlanyitás",7,"db","2019-02-01","lovo20",{"$f":"AND(E7258>=Kimutatás!B$2,E7258<=Kimutatás!B$3)","v":true}]
[7258,"Zalaegerszeg","020","Q1","2019-01-20","KKV hitelnövekmény (db)",-1,"db","2019-02-01","lovo20",{"$f":"AND(E7259>=Kimutatás!B$2,E7259<=Kimutatás!B$3)","v":true}]
[7259,"Zalaegerszeg","020","Q1","2019-01-20","KKV számlanyitás",3,"db","2019-02-01","lovo20",{"$f":"AND(E7260>=Kimutatás!B$2,E7260<=Kimutatás!B$3)","v":true}]
[7260,"Zalaegerszeg","020","Q1","2019-01-20","Betét állomány növekmény",49,"Mhuf","2019-02-01","lovo20",{"$f":"AND(E7261>=Kimutatás!B$2,E7261<=Kimutatás!B$3)","v":true}]
[7261,"Zalaegerszeg","020","Q1","2019-01-21","Betérő ügyfelek",6,"fő","2019-02-01","lovo20",{"$f":"AND(E7262>=Kimutatás!B$2,E7262<=Kimutatás!B$3)","v":true}]
[7262,"Zalaegerszeg","020","Q1","2019-01-21","Lakossági hitelnövekmény összege ",42,"Mhuf","2019-02-01","lovo20",{"$f":"AND(E7263>=Kimutatás!B$2,E7263<=Kimutatás!B$3)","v":true}]
[7263,"Zalaegerszeg","020","Q1","2019-01-21","Lakossági számlanyitás",4,"db","2019-02-01","lovo20",{"$f":"AND(E7264>=Kimutatás!B$2,E7264<=Kimutatás!B$3)","v":true}]
[7264,"Zalaegerszeg","020","Q1","2019-01-21","KKV hitelnövekmény (db)",1,"db","2019-02-01","lovo20",{"$f":"AND(E7265>=Kimutatás!B$2,E7265<=Kimutatás!B$3)","v":true}]
[7265,"Zalaegerszeg","020","Q1","2019-01-21","KKV számlanyitás",3,"db","2019-02-01","lovo20",{"$f":"AND(E7266>=Kimutatás!B$2,E7266<=Kimutatás!B$3)","v":true}]
[7266,"Zalaegerszeg","020","Q1","2019-01-21","Betét állomány növekmény",-2,"Mhuf","2019-02-01","lovo20",{"$f":"AND(E7267>=Kimutatás!B$2,E7267<=Kimutatás!B$3)","v":true}]
[7267,"Zalaegerszeg","020","Q1","2019-01-22","Betérő ügyfelek",18,"fő","2019-02-01","lovo20",{"$f":"AND(E7268>=Kimutatás!B$2,E7268<=Kimutatás!B$3)","v":true}]
[7268,"Zalaegerszeg","020","Q1","2019-01-22","Lakossági hitelnövekmény összege ",48,"Mhuf","2019-02-01","lovo20",{"$f":"AND(E7269>=Kimutatás!B$2,E7269<=Kimutatás!B$3)","v":true}]
[7269,"Zalaegerszeg","020","Q1","2019-01-22","Lakossági számlanyitás",7,"db","2019-02-01","lovo20",{"$f":"AND(E7270>=Kimutatás!B$2,E7270<=Kimutatás!B$3)","v":true}]
[7270,"Zalaegerszeg","020","Q1","2019-01-22","KKV hitelnövekmény (db)",2,"db","2019-02-01","lovo20",{"$f":"AND(E7271>=Kimutatás!B$2,E7271<=Kimutatás!B$3)","v":true}]
[7271,"Zalaegerszeg","020","Q1","2019-01-22","KKV számlanyitás",5,"db","2019-02-01","lovo20",{"$f":"AND(E7272>=Kimutatás!B$2,E7272<=Kimutatás!B$3)","v":true}]
[7272,"Zalaegerszeg","020","Q1","2019-01-22","Betét állomány növekmény",19,"Mhuf","2019-02-01","lovo20",{"$f":"AND(E7273>=Kimutatás!B$2,E7273<=Kimutatás!B$3)","v":true}]
[7273,"Zalaegerszeg","020","Q1","2019-01-23","Betérő ügyfelek",42,"fő","2019-02-01","lovo20",{"$f":"AND(E7274>=Kimutatás!B$2,E7274<=Kimutatás!B$3)","v":true}]
[7274,"Zalaegerszeg","020","Q1","2019-01-23","Lakossági hitelnövekmény összege ",-8,"Mhuf","2019-02-01","lovo20",{"$f":"AND(E7275>=Kimutatás!B$2,E7275<=Kimutatás!B$3)","v":true}]
[7275,"Zalaegerszeg","020","Q1","2019-01-23","Lakossági számlanyitás",1,"db","2019-02-01","lovo20",{"$f":"AND(E7276>=Kimutatás!B$2,E7276<=Kimutatás!B$3)","v":true}]
[7276,"Zalaegerszeg","020","Q1","2019-01-23","KKV hitelnövekmény (db)",2,"db","2019-02-01","lovo20",{"$f":"AND(E7277>=Kimutatás!B$2,E7277<=Kimutatás!B$3)","v":true}]
[7277,"Zalaegerszeg","020","Q1","2019-01-23","KKV számlanyitás",-1,"db","2019-02-01","lovo20",{"$f":"AND(E7278>=Kimutatás!B$2,E7278<=Kimutatás!B$3)","v":true}]
[7278,"Zalaegerszeg","020","Q1","2019-01-23","Betét állomány növekmény",-10,"Mhuf","2019-02-01","lovo20",{"$f":"AND(E7279>=Kimutatás!B$2,E7279<=Kimutatás!B$3)","v":true}]
[7279,"Zalaegerszeg","020","Q1","2019-01-24","Betérő ügyfelek",28,"fő","2019-02-01","lovo20",{"$f":"AND(E7280>=Kimutatás!B$2,E7280<=Kimutatás!B$3)","v":true}]
[7280,"Zalaegerszeg","020","Q1","2019-01-24","Lakossági hitelnövekmény összege ",-5,"Mhuf","2019-02-01","lovo20",{"$f":"AND(E7281>=Kimutatás!B$2,E7281<=Kimutatás!B$3)","v":true}]
[7281,"Zalaegerszeg","020","Q1","2019-01-24","Lakossági számlanyitás",4,"db","2019-02-01","lovo20",{"$f":"AND(E7282>=Kimutatás!B$2,E7282<=Kimutatás!B$3)","v":true}]
[7282,"Zalaegerszeg","020","Q1","2019-01-24","KKV hitelnövekmény (db)",-1,"db","2019-02-01","lovo20",{"$f":"AND(E7283>=Kimutatás!B$2,E7283<=Kimutatás!B$3)","v":true}]
[7283,"Zalaegerszeg","020","Q1","2019-01-24","KKV számlanyitás",1,"db","2019-02-01","lovo20",{"$f":"AND(E7284>=Kimutatás!B$2,E7284<=Kimutatás!B$3)","v":true}]
[7284,"Zalaegerszeg","020","Q1","2019-01-24","Betét állomány növekmény",39,"Mhuf","2019-02-01","lovo20",{"$f":"AND(E7285>=Kimutatás!B$2,E7285<=Kimutatás!B$3)","v":true}]
[7285,"Zalaegerszeg","020","Q1","2019-01-27","Betérő ügyfelek",37,"fő","2019-02-01","lovo20",{"$f":"AND(E7286>=Kimutatás!B$2,E7286<=Kimutatás!B$3)","v":true}]
[7286,"Zalaegerszeg","020","Q1","2019-01-27","Lakossági hitelnövekmény összege ",20,"Mhuf","2019-02-01","lovo20",{"$f":"AND(E7287>=Kimutatás!B$2,E7287<=Kimutatás!B$3)","v":true}]
[7287,"Zalaegerszeg","020","Q1","2019-01-27","Lakossági számlanyitás",7,"db","2019-02-01","lovo20",{"$f":"AND(E7288>=Kimutatás!B$2,E7288<=Kimutatás!B$3)","v":true}]
[7288,"Zalaegerszeg","020","Q1","2019-01-27","KKV hitelnövekmény (db)",1,"db","2019-02-01","lovo20",{"$f":"AND(E7289>=Kimutatás!B$2,E7289<=Kimutatás!B$3)","v":true}]
[7289,"Zalaegerszeg","020","Q1","2019-01-27","KKV számlanyitás",-1,"db","2019-02-01","lovo20",{"$f":"AND(E7290>=Kimutatás!B$2,E7290<=Kimutatás!B$3)","v":true}]
[7290,"Zalaegerszeg","020","Q1","2019-01-27","Betét állomány növekmény",13,"Mhuf","2019-02-01","lovo20",{"$f":"AND(E7291>=Kimutatás!B$2,E7291<=Kimutatás!B$3)","v":true}]
[7291,"Zalaegerszeg","020","Q1","2019-01-28","Betérő ügyfelek",41,"fő","2019-02-01","lovo20",{"$f":"AND(E7292>=Kimutatás!B$2,E7292<=Kimutatás!B$3)","v":true}]
[7292,"Zalaegerszeg","020","Q1","2019-01-28","Lakossági hitelnövekmény összege ",34,"Mhuf","2019-02-01","lovo20",{"$f":"AND(E7293>=Kimutatás!B$2,E7293<=Kimutatás!B$3)","v":true}]
[7293,"Zalaegerszeg","020","Q1","2019-01-28","Lakossági számlanyitás",5,"db","2019-02-01","lovo20",{"$f":"AND(E7294>=Kimutatás!B$2,E7294<=Kimutatás!B$3)","v":true}]
[7294,"Zalaegerszeg","020","Q1","2019-01-28","KKV hitelnövekmény (db)",0,"db","2019-02-01","lovo20",{"$f":"AND(E7295>=Kimutatás!B$2,E7295<=Kimutatás!B$3)","v":true}]
[7295,"Zalaegerszeg","020","Q1","2019-01-28","KKV számlanyitás",5,"db","2019-02-01","lovo20",{"$f":"AND(E7296>=Kimutatás!B$2,E7296<=Kimutatás!B$3)","v":true}]
[7296,"Zalaegerszeg","020","Q1","2019-01-28","Betét állomány növekmény",-12,"Mhuf","2019-02-01","lovo20",{"$f":"AND(E7297>=Kimutatás!B$2,E7297<=Kimutatás!B$3)","v":true}]
[7297,"Zalaegerszeg","020","Q1","2019-01-29","Betérő ügyfelek",29,"fő","2019-02-01","lovo20",{"$f":"AND(E7298>=Kimutatás!B$2,E7298<=Kimutatás!B$3)","v":true}]
[7298,"Zalaegerszeg","020","Q1","2019-01-29","Lakossági hitelnövekmény összege ",20,"Mhuf","2019-02-01","lovo20",{"$f":"AND(E7299>=Kimutatás!B$2,E7299<=Kimutatás!B$3)","v":true}]
[7299,"Zalaegerszeg","020","Q1","2019-01-29","Lakossági számlanyitás",6,"db","2019-02-01","lovo20",{"$f":"AND(E7300>=Kimutatás!B$2,E7300<=Kimutatás!B$3)","v":true}]
[7300,"Zalaegerszeg","020","Q1","2019-01-29","KKV hitelnövekmény (db)",-2,"db","2019-02-01","lovo20",{"$f":"AND(E7301>=Kimutatás!B$2,E7301<=Kimutatás!B$3)","v":true}]
[7301,"Zalaegerszeg","020","Q1","2019-01-29","KKV számlanyitás",-1,"db","2019-02-01","lovo20",{"$f":"AND(E7302>=Kimutatás!B$2,E7302<=Kimutatás!B$3)","v":true}]
[7302,"Zalaegerszeg","020","Q1","2019-01-29","Betét állomány növekmény",30,"Mhuf","2019-02-01","lovo20",{"$f":"AND(E7303>=Kimutatás!B$2,E7303<=Kimutatás!B$3)","v":true}]
[7303,"Zalaegerszeg","020","Q1","2019-01-30","Betérő ügyfelek",20,"fő","2019-02-01","lovo20",{"$f":"AND(E7304>=Kimutatás!B$2,E7304<=Kimutatás!B$3)","v":true}]
[7304,"Zalaegerszeg","020","Q1","2019-01-30","Lakossági hitelnövekmény összege ",19,"Mhuf","2019-02-01","lovo20",{"$f":"AND(E7305>=Kimutatás!B$2,E7305<=Kimutatás!B$3)","v":true}]
[7305,"Zalaegerszeg","020","Q1","2019-01-30","Lakossági számlanyitás",-3,"db","2019-02-01","lovo20",{"$f":"AND(E7306>=Kimutatás!B$2,E7306<=Kimutatás!B$3)","v":true}]
[7306,"Zalaegerszeg","020","Q1","2019-01-30","KKV hitelnövekmény (db)",0,"db","2019-02-01","lovo20",{"$f":"AND(E7307>=Kimutatás!B$2,E7307<=Kimutatás!B$3)","v":true}]
[7307,"Zalaegerszeg","020","Q1","2019-01-30","KKV számlanyitás",-2,"db","2019-02-01","lovo20",{"$f":"AND(E7308>=Kimutatás!B$2,E7308<=Kimutatás!B$3)","v":true}]
[7308,"Zalaegerszeg","020","Q1","2019-01-30","Betét állomány növekmény",13,"Mhuf","2019-02-01","lovo20",{"$f":"AND(E7309>=Kimutatás!B$2,E7309<=Kimutatás!B$3)","v":true}]
[7309,"Zalaegerszeg","020","Q1","2019-01-31","Betérő ügyfelek",31,"fő","2019-02-01","lovo20",{"$f":"AND(E7310>=Kimutatás!B$2,E7310<=Kimutatás!B$3)","v":true}]
[7310,"Zalaegerszeg","020","Q1","2019-01-31","Lakossági hitelnövekmény összege ",8,"Mhuf","2019-02-01","lovo20",{"$f":"AND(E7311>=Kimutatás!B$2,E7311<=Kimutatás!B$3)","v":true}]
[7311,"Zalaegerszeg","020","Q1","2019-01-31","Lakossági számlanyitás",6,"db","2019-02-01","lovo20",{"$f":"AND(E7312>=Kimutatás!B$2,E7312<=Kimutatás!B$3)","v":true}]
[7312,"Zalaegerszeg","020","Q1","2019-01-31","KKV hitelnövekmény (db)",2,"db","2019-02-01","lovo20",{"$f":"AND(E7313>=Kimutatás!B$2,E7313<=Kimutatás!B$3)","v":true}]
[7313,"Zalaegerszeg","020","Q1","2019-01-31","KKV számlanyitás",1,"db","2019-02-01","lovo20",{"$f":"AND(E7314>=Kimutatás!B$2,E7314<=Kimutatás!B$3)","v":true}]
[7314,"Zalaegerszeg","020","Q1","2019-01-31","Betét állomány növekmény",33,"Mhuf","2019-02-01","lovo20",{"$f":"AND(E7315>=Kimutatás!B$2,E7315<=Kimutatás!B$3)","v":true}]
[7315,"Zalaegerszeg","020","Q1","2019-02-03","Betérő ügyfelek",27,"fő","2019-03-01","berces2",{"$f":"AND(E7316>=Kimutatás!B$2,E7316<=Kimutatás!B$3)","v":true}]
[7316,"Zalaegerszeg","020","Q1","2019-02-03","Lakossági hitelnövekmény összege ",38,"Mhuf","2019-03-01","berces2",{"$f":"AND(E7317>=Kimutatás!B$2,E7317<=Kimutatás!B$3)","v":true}]
[7317,"Zalaegerszeg","020","Q1","2019-02-03","Lakossági számlanyitás",8,"db","2019-03-01","berces2",{"$f":"AND(E7318>=Kimutatás!B$2,E7318<=Kimutatás!B$3)","v":true}]
[7318,"Zalaegerszeg","020","Q1","2019-02-03","KKV hitelnövekmény (db)",2,"db","2019-03-01","berces2",{"$f":"AND(E7319>=Kimutatás!B$2,E7319<=Kimutatás!B$3)","v":true}]
[7319,"Zalaegerszeg","020","Q1","2019-02-03","KKV számlanyitás",2,"db","2019-03-01","berces2",{"$f":"AND(E7320>=Kimutatás!B$2,E7320<=Kimutatás!B$3)","v":true}]
[7320,"Zalaegerszeg","020","Q1","2019-02-03","Betét állomány növekmény",20,"Mhuf","2019-03-01","berces2",{"$f":"AND(E7321>=Kimutatás!B$2,E7321<=Kimutatás!B$3)","v":true}]
[7321,"Zalaegerszeg","020","Q1","2019-02-04","Betérő ügyfelek",11,"fő","2019-03-01","berces2",{"$f":"AND(E7322>=Kimutatás!B$2,E7322<=Kimutatás!B$3)","v":true}]
[7322,"Zalaegerszeg","020","Q1","2019-02-04","Lakossági hitelnövekmény összege ",3,"Mhuf","2019-03-01","berces2",{"$f":"AND(E7323>=Kimutatás!B$2,E7323<=Kimutatás!B$3)","v":true}]
[7323,"Zalaegerszeg","020","Q1","2019-02-04","Lakossági számlanyitás",-1,"db","2019-03-01","berces2",{"$f":"AND(E7324>=Kimutatás!B$2,E7324<=Kimutatás!B$3)","v":true}]
[7324,"Zalaegerszeg","020","Q1","2019-02-04","KKV hitelnövekmény (db)",-1,"db","2019-03-01","berces2",{"$f":"AND(E7325>=Kimutatás!B$2,E7325<=Kimutatás!B$3)","v":true}]
[7325,"Zalaegerszeg","020","Q1","2019-02-04","KKV számlanyitás",-3,"db","2019-03-01","berces2",{"$f":"AND(E7326>=Kimutatás!B$2,E7326<=Kimutatás!B$3)","v":true}]
[7326,"Zalaegerszeg","020","Q1","2019-02-04","Betét állomány növekmény",45,"Mhuf","2019-03-01","berces2",{"$f":"AND(E7327>=Kimutatás!B$2,E7327<=Kimutatás!B$3)","v":true}]
[7327,"Zalaegerszeg","020","Q1","2019-02-05","Betérő ügyfelek",22,"fő","2019-03-01","berces2",{"$f":"AND(E7328>=Kimutatás!B$2,E7328<=Kimutatás!B$3)","v":true}]
[7328,"Zalaegerszeg","020","Q1","2019-02-05","Lakossági hitelnövekmény összege ",36,"Mhuf","2019-03-01","berces2",{"$f":"AND(E7329>=Kimutatás!B$2,E7329<=Kimutatás!B$3)","v":true}]
[7329,"Zalaegerszeg","020","Q1","2019-02-05","Lakossági számlanyitás",-2,"db","2019-03-01","berces2",{"$f":"AND(E7330>=Kimutatás!B$2,E7330<=Kimutatás!B$3)","v":true}]
[7330,"Zalaegerszeg","020","Q1","2019-02-05","KKV hitelnövekmény (db)",2,"db","2019-03-01","berces2",{"$f":"AND(E7331>=Kimutatás!B$2,E7331<=Kimutatás!B$3)","v":true}]
[7331,"Zalaegerszeg","020","Q1","2019-02-05","KKV számlanyitás",0,"db","2019-03-01","berces2",{"$f":"AND(E7332>=Kimutatás!B$2,E7332<=Kimutatás!B$3)","v":true}]
[7332,"Zalaegerszeg","020","Q1","2019-02-05","Betét állomány növekmény",8,"Mhuf","2019-03-01","berces2",{"$f":"AND(E7333>=Kimutatás!B$2,E7333<=Kimutatás!B$3)","v":true}]
[7333,"Zalaegerszeg","020","Q1","2019-02-06","Betérő ügyfelek",37,"fő","2019-03-01","berces2",{"$f":"AND(E7334>=Kimutatás!B$2,E7334<=Kimutatás!B$3)","v":true}]
[7334,"Zalaegerszeg","020","Q1","2019-02-06","Lakossági hitelnövekmény összege ",-5,"Mhuf","2019-03-01","berces2",{"$f":"AND(E7335>=Kimutatás!B$2,E7335<=Kimutatás!B$3)","v":true}]
[7335,"Zalaegerszeg","020","Q1","2019-02-06","Lakossági számlanyitás",6,"db","2019-03-01","berces2",{"$f":"AND(E7336>=Kimutatás!B$2,E7336<=Kimutatás!B$3)","v":true}]
[7336,"Zalaegerszeg","020","Q1","2019-02-06","KKV hitelnövekmény (db)",1,"db","2019-03-01","berces2",{"$f":"AND(E7337>=Kimutatás!B$2,E7337<=Kimutatás!B$3)","v":true}]
[7337,"Zalaegerszeg","020","Q1","2019-02-06","KKV számlanyitás",1,"db","2019-03-01","berces2",{"$f":"AND(E7338>=Kimutatás!B$2,E7338<=Kimutatás!B$3)","v":true}]
[7338,"Zalaegerszeg","020","Q1","2019-02-06","Betét állomány növekmény",-10,"Mhuf","2019-03-01","berces2",{"$f":"AND(E7339>=Kimutatás!B$2,E7339<=Kimutatás!B$3)","v":true}]
[7339,"Zalaegerszeg","020","Q1","2019-02-07","Betérő ügyfelek",8,"fő","2019-03-01","berces2",{"$f":"AND(E7340>=Kimutatás!B$2,E7340<=Kimutatás!B$3)","v":true}]
[7340,"Zalaegerszeg","020","Q1","2019-02-07","Lakossági hitelnövekmény összege ",49,"Mhuf","2019-03-01","berces2",{"$f":"AND(E7341>=Kimutatás!B$2,E7341<=Kimutatás!B$3)","v":true}]
[7341,"Zalaegerszeg","020","Q1","2019-02-07","Lakossági számlanyitás",-2,"db","2019-03-01","berces2",{"$f":"AND(E7342>=Kimutatás!B$2,E7342<=Kimutatás!B$3)","v":true}]
[7342,"Zalaegerszeg","020","Q1","2019-02-07","KKV hitelnövekmény (db)",0,"db","2019-03-01","berces2",{"$f":"AND(E7343>=Kimutatás!B$2,E7343<=Kimutatás!B$3)","v":true}]
[7343,"Zalaegerszeg","020","Q1","2019-02-07","KKV számlanyitás",1,"db","2019-03-01","berces2",{"$f":"AND(E7344>=Kimutatás!B$2,E7344<=Kimutatás!B$3)","v":true}]
[7344,"Zalaegerszeg","020","Q1","2019-02-07","Betét állomány növekmény",43,"Mhuf","2019-03-01","berces2",{"$f":"AND(E7345>=Kimutatás!B$2,E7345<=Kimutatás!B$3)","v":true}]
[7345,"Zalaegerszeg","020","Q1","2019-02-10","Betérő ügyfelek",4,"fő","2019-03-01","berces2",{"$f":"AND(E7346>=Kimutatás!B$2,E7346<=Kimutatás!B$3)","v":true}]
[7346,"Zalaegerszeg","020","Q1","2019-02-10","Lakossági hitelnövekmény összege ",20,"Mhuf","2019-03-01","berces2",{"$f":"AND(E7347>=Kimutatás!B$2,E7347<=Kimutatás!B$3)","v":true}]
[7347,"Zalaegerszeg","020","Q1","2019-02-10","Lakossági számlanyitás",0,"db","2019-03-01","berces2",{"$f":"AND(E7348>=Kimutatás!B$2,E7348<=Kimutatás!B$3)","v":true}]
[7348,"Zalaegerszeg","020","Q1","2019-02-10","KKV hitelnövekmény (db)",-2,"db","2019-03-01","berces2",{"$f":"AND(E7349>=Kimutatás!B$2,E7349<=Kimutatás!B$3)","v":true}]
[7349,"Zalaegerszeg","020","Q1","2019-02-10","KKV számlanyitás",-2,"db","2019-03-01","berces2",{"$f":"AND(E7350>=Kimutatás!B$2,E7350<=Kimutatás!B$3)","v":true}]
[7350,"Zalaegerszeg","020","Q1","2019-02-10","Betét állomány növekmény",19,"Mhuf","2019-03-01","berces2",{"$f":"AND(E7351>=Kimutatás!B$2,E7351<=Kimutatás!B$3)","v":true}]
[7351,"Zalaegerszeg","020","Q1","2019-02-11","Betérő ügyfelek",29,"fő","2019-03-01","berces2",{"$f":"AND(E7352>=Kimutatás!B$2,E7352<=Kimutatás!B$3)","v":true}]
[7352,"Zalaegerszeg","020","Q1","2019-02-11","Lakossági hitelnövekmény összege ",48,"Mhuf","2019-03-01","berces2",{"$f":"AND(E7353>=Kimutatás!B$2,E7353<=Kimutatás!B$3)","v":true}]
[7353,"Zalaegerszeg","020","Q1","2019-02-11","Lakossági számlanyitás",4,"db","2019-03-01","berces2",{"$f":"AND(E7354>=Kimutatás!B$2,E7354<=Kimutatás!B$3)","v":true}]
[7354,"Zalaegerszeg","020","Q1","2019-02-11","KKV hitelnövekmény (db)",2,"db","2019-03-01","berces2",{"$f":"AND(E7355>=Kimutatás!B$2,E7355<=Kimutatás!B$3)","v":true}]
[7355,"Zalaegerszeg","020","Q1","2019-02-11","KKV számlanyitás",0,"db","2019-03-01","berces2",{"$f":"AND(E7356>=Kimutatás!B$2,E7356<=Kimutatás!B$3)","v":true}]
[7356,"Zalaegerszeg","020","Q1","2019-02-11","Betét állomány növekmény",0,"Mhuf","2019-03-01","berces2",{"$f":"AND(E7357>=Kimutatás!B$2,E7357<=Kimutatás!B$3)","v":true}]
[7357,"Zalaegerszeg","020","Q1","2019-02-12","Betérő ügyfelek",34,"fő","2019-03-01","berces2",{"$f":"AND(E7358>=Kimutatás!B$2,E7358<=Kimutatás!B$3)","v":true}]
[7358,"Zalaegerszeg","020","Q1","2019-02-12","Lakossági hitelnövekmény összege ",-9,"Mhuf","2019-03-01","berces2",{"$f":"AND(E7359>=Kimutatás!B$2,E7359<=Kimutatás!B$3)","v":true}]
[7359,"Zalaegerszeg","020","Q1","2019-02-12","Lakossági számlanyitás",6,"db","2019-03-01","berces2",{"$f":"AND(E7360>=Kimutatás!B$2,E7360<=Kimutatás!B$3)","v":true}]
[7360,"Zalaegerszeg","020","Q1","2019-02-12","KKV hitelnövekmény (db)",2,"db","2019-03-01","berces2",{"$f":"AND(E7361>=Kimutatás!B$2,E7361<=Kimutatás!B$3)","v":true}]
[7361,"Zalaegerszeg","020","Q1","2019-02-12","KKV számlanyitás",3,"db","2019-03-01","berces2",{"$f":"AND(E7362>=Kimutatás!B$2,E7362<=Kimutatás!B$3)","v":true}]
[7362,"Zalaegerszeg","020","Q1","2019-02-12","Betét állomány növekmény",-17,"Mhuf","2019-03-01","berces2",{"$f":"AND(E7363>=Kimutatás!B$2,E7363<=Kimutatás!B$3)","v":true}]
[7363,"Zalaegerszeg","020","Q1","2019-02-13","Betérő ügyfelek",35,"fő","2019-03-01","berces2",{"$f":"AND(E7364>=Kimutatás!B$2,E7364<=Kimutatás!B$3)","v":true}]
[7364,"Zalaegerszeg","020","Q1","2019-02-13","Lakossági hitelnövekmény összege ",6,"Mhuf","2019-03-01","berces2",{"$f":"AND(E7365>=Kimutatás!B$2,E7365<=Kimutatás!B$3)","v":true}]
[7365,"Zalaegerszeg","020","Q1","2019-02-13","Lakossági számlanyitás",3,"db","2019-03-01","berces2",{"$f":"AND(E7366>=Kimutatás!B$2,E7366<=Kimutatás!B$3)","v":true}]
[7366,"Zalaegerszeg","020","Q1","2019-02-13","KKV hitelnövekmény (db)",-2,"db","2019-03-01","berces2",{"$f":"AND(E7367>=Kimutatás!B$2,E7367<=Kimutatás!B$3)","v":true}]
[7367,"Zalaegerszeg","020","Q1","2019-02-13","KKV számlanyitás",5,"db","2019-03-01","berces2",{"$f":"AND(E7368>=Kimutatás!B$2,E7368<=Kimutatás!B$3)","v":true}]
[7368,"Zalaegerszeg","020","Q1","2019-02-13","Betét állomány növekmény",-7,"Mhuf","2019-03-01","berces2",{"$f":"AND(E7369>=Kimutatás!B$2,E7369<=Kimutatás!B$3)","v":true}]
[7369,"Zalaegerszeg","020","Q1","2019-02-14","Betérő ügyfelek",2,"fő","2019-03-01","berces2",{"$f":"AND(E7370>=Kimutatás!B$2,E7370<=Kimutatás!B$3)","v":true}]
[7370,"Zalaegerszeg","020","Q1","2019-02-14","Lakossági hitelnövekmény összege ",12,"Mhuf","2019-03-01","berces2",{"$f":"AND(E7371>=Kimutatás!B$2,E7371<=Kimutatás!B$3)","v":true}]
[7371,"Zalaegerszeg","020","Q1","2019-02-14","Lakossági számlanyitás",6,"db","2019-03-01","berces2",{"$f":"AND(E7372>=Kimutatás!B$2,E7372<=Kimutatás!B$3)","v":true}]
[7372,"Zalaegerszeg","020","Q1","2019-02-14","KKV hitelnövekmény (db)",-2,"db","2019-03-01","berces2",{"$f":"AND(E7373>=Kimutatás!B$2,E7373<=Kimutatás!B$3)","v":true}]
[7373,"Zalaegerszeg","020","Q1","2019-02-14","KKV számlanyitás",-5,"db","2019-03-01","berces2",{"$f":"AND(E7374>=Kimutatás!B$2,E7374<=Kimutatás!B$3)","v":true}]
[7374,"Zalaegerszeg","020","Q1","2019-02-14","Betét állomány növekmény",-16,"Mhuf","2019-03-01","berces2",{"$f":"AND(E7375>=Kimutatás!B$2,E7375<=Kimutatás!B$3)","v":true}]
[7375,"Zalaegerszeg","020","Q1","2019-02-17","Betérő ügyfelek",50,"fő","2019-03-01","berces2",{"$f":"AND(E7376>=Kimutatás!B$2,E7376<=Kimutatás!B$3)","v":true}]
[7376,"Zalaegerszeg","020","Q1","2019-02-17","Lakossági hitelnövekmény összege ",26,"Mhuf","2019-03-01","berces2",{"$f":"AND(E7377>=Kimutatás!B$2,E7377<=Kimutatás!B$3)","v":true}]
[7377,"Zalaegerszeg","020","Q1","2019-02-17","Lakossági számlanyitás",9,"db","2019-03-01","berces2",{"$f":"AND(E7378>=Kimutatás!B$2,E7378<=Kimutatás!B$3)","v":true}]
[7378,"Zalaegerszeg","020","Q1","2019-02-17","KKV hitelnövekmény (db)",0,"db","2019-03-01","berces2",{"$f":"AND(E7379>=Kimutatás!B$2,E7379<=Kimutatás!B$3)","v":true}]
[7379,"Zalaegerszeg","020","Q1","2019-02-17","KKV számlanyitás",-3,"db","2019-03-01","berces2",{"$f":"AND(E7380>=Kimutatás!B$2,E7380<=Kimutatás!B$3)","v":true}]
[7380,"Zalaegerszeg","020","Q1","2019-02-17","Betét állomány növekmény",-12,"Mhuf","2019-03-01","berces2",{"$f":"AND(E7381>=Kimutatás!B$2,E7381<=Kimutatás!B$3)","v":true}]
[7381,"Zalaegerszeg","020","Q1","2019-02-18","Betérő ügyfelek",4,"fő","2019-03-01","berces2",{"$f":"AND(E7382>=Kimutatás!B$2,E7382<=Kimutatás!B$3)","v":true}]
[7382,"Zalaegerszeg","020","Q1","2019-02-18","Lakossági hitelnövekmény összege ",42,"Mhuf","2019-03-01","berces2",{"$f":"AND(E7383>=Kimutatás!B$2,E7383<=Kimutatás!B$3)","v":true}]
[7383,"Zalaegerszeg","020","Q1","2019-02-18","Lakossági számlanyitás",10,"db","2019-03-01","berces2",{"$f":"AND(E7384>=Kimutatás!B$2,E7384<=Kimutatás!B$3)","v":true}]
[7384,"Zalaegerszeg","020","Q1","2019-02-18","KKV hitelnövekmény (db)",0,"db","2019-03-01","berces2",{"$f":"AND(E7385>=Kimutatás!B$2,E7385<=Kimutatás!B$3)","v":true}]
[7385,"Zalaegerszeg","020","Q1","2019-02-18","KKV számlanyitás",-2,"db","2019-03-01","berces2",{"$f":"AND(E7386>=Kimutatás!B$2,E7386<=Kimutatás!B$3)","v":true}]
[7386,"Zalaegerszeg","020","Q1","2019-02-18","Betét állomány növekmény",22,"Mhuf","2019-03-01","berces2",{"$f":"AND(E7387>=Kimutatás!B$2,E7387<=Kimutatás!B$3)","v":true}]
[7387,"Zalaegerszeg","020","Q1","2019-02-19","Betérő ügyfelek",32,"fő","2019-03-01","berces2",{"$f":"AND(E7388>=Kimutatás!B$2,E7388<=Kimutatás!B$3)","v":true}]
[7388,"Zalaegerszeg","020","Q1","2019-02-19","Lakossági hitelnövekmény összege ",32,"Mhuf","2019-03-01","berces2",{"$f":"AND(E7389>=Kimutatás!B$2,E7389<=Kimutatás!B$3)","v":true}]
[7389,"Zalaegerszeg","020","Q1","2019-02-19","Lakossági számlanyitás",6,"db","2019-03-01","berces2",{"$f":"AND(E7390>=Kimutatás!B$2,E7390<=Kimutatás!B$3)","v":true}]
[7390,"Zalaegerszeg","020","Q1","2019-02-19","KKV hitelnövekmény (db)",-1,"db","2019-03-01","berces2",{"$f":"AND(E7391>=Kimutatás!B$2,E7391<=Kimutatás!B$3)","v":true}]
[7391,"Zalaegerszeg","020","Q1","2019-02-19","KKV számlanyitás",-1,"db","2019-03-01","berces2",{"$f":"AND(E7392>=Kimutatás!B$2,E7392<=Kimutatás!B$3)","v":true}]
[7392,"Zalaegerszeg","020","Q1","2019-02-19","Betét állomány növekmény",-16,"Mhuf","2019-03-01","berces2",{"$f":"AND(E7393>=Kimutatás!B$2,E7393<=Kimutatás!B$3)","v":true}]
[7393,"Zalaegerszeg","020","Q1","2019-02-20","Betérő ügyfelek",28,"fő","2019-03-01","berces2",{"$f":"AND(E7394>=Kimutatás!B$2,E7394<=Kimutatás!B$3)","v":true}]
[7394,"Zalaegerszeg","020","Q1","2019-02-20","Lakossági hitelnövekmény összege ",17,"Mhuf","2019-03-01","berces2",{"$f":"AND(E7395>=Kimutatás!B$2,E7395<=Kimutatás!B$3)","v":true}]
[7395,"Zalaegerszeg","020","Q1","2019-02-20","Lakossági számlanyitás",-5,"db","2019-03-01","berces2",{"$f":"AND(E7396>=Kimutatás!B$2,E7396<=Kimutatás!B$3)","v":true}]
[7396,"Zalaegerszeg","020","Q1","2019-02-20","KKV hitelnövekmény (db)",1,"db","2019-03-01","berces2",{"$f":"AND(E7397>=Kimutatás!B$2,E7397<=Kimutatás!B$3)","v":true}]
[7397,"Zalaegerszeg","020","Q1","2019-02-20","KKV számlanyitás",-4,"db","2019-03-01","berces2",{"$f":"AND(E7398>=Kimutatás!B$2,E7398<=Kimutatás!B$3)","v":true}]
[7398,"Zalaegerszeg","020","Q1","2019-02-20","Betét állomány növekmény",48,"Mhuf","2019-03-01","berces2",{"$f":"AND(E7399>=Kimutatás!B$2,E7399<=Kimutatás!B$3)","v":true}]
[7399,"Zalaegerszeg","020","Q1","2019-02-21","Betérő ügyfelek",17,"fő","2019-03-01","berces2",{"$f":"AND(E7400>=Kimutatás!B$2,E7400<=Kimutatás!B$3)","v":true}]
[7400,"Zalaegerszeg","020","Q1","2019-02-21","Lakossági hitelnövekmény összege ",44,"Mhuf","2019-03-01","berces2",{"$f":"AND(E7401>=Kimutatás!B$2,E7401<=Kimutatás!B$3)","v":true}]
[7401,"Zalaegerszeg","020","Q1","2019-02-21","Lakossági számlanyitás",8,"db","2019-03-01","berces2",{"$f":"AND(E7402>=Kimutatás!B$2,E7402<=Kimutatás!B$3)","v":true}]
[7402,"Zalaegerszeg","020","Q1","2019-02-21","KKV hitelnövekmény (db)",-2,"db","2019-03-01","berces2",{"$f":"AND(E7403>=Kimutatás!B$2,E7403<=Kimutatás!B$3)","v":true}]
[7403,"Zalaegerszeg","020","Q1","2019-02-21","KKV számlanyitás",4,"db","2019-03-01","berces2",{"$f":"AND(E7404>=Kimutatás!B$2,E7404<=Kimutatás!B$3)","v":true}]
[7404,"Zalaegerszeg","020","Q1","2019-02-21","Betét állomány növekmény",29,"Mhuf","2019-03-01","berces2",{"$f":"AND(E7405>=Kimutatás!B$2,E7405<=Kimutatás!B$3)","v":true}]
[7405,"Zalaegerszeg","020","Q1","2019-02-24","Betérő ügyfelek",28,"fő","2019-03-01","berces2",{"$f":"AND(E7406>=Kimutatás!B$2,E7406<=Kimutatás!B$3)","v":true}]
[7406,"Zalaegerszeg","020","Q1","2019-02-24","Lakossági hitelnövekmény összege ",45,"Mhuf","2019-03-01","berces2",{"$f":"AND(E7407>=Kimutatás!B$2,E7407<=Kimutatás!B$3)","v":true}]
[7407,"Zalaegerszeg","020","Q1","2019-02-24","Lakossági számlanyitás",7,"db","2019-03-01","berces2",{"$f":"AND(E7408>=Kimutatás!B$2,E7408<=Kimutatás!B$3)","v":true}]
[7408,"Zalaegerszeg","020","Q1","2019-02-24","KKV hitelnövekmény (db)",0,"db","2019-03-01","berces2",{"$f":"AND(E7409>=Kimutatás!B$2,E7409<=Kimutatás!B$3)","v":true}]
[7409,"Zalaegerszeg","020","Q1","2019-02-24","KKV számlanyitás",3,"db","2019-03-01","berces2",{"$f":"AND(E7410>=Kimutatás!B$2,E7410<=Kimutatás!B$3)","v":true}]
[7410,"Zalaegerszeg","020","Q1","2019-02-24","Betét állomány növekmény",0,"Mhuf","2019-03-01","berces2",{"$f":"AND(E7411>=Kimutatás!B$2,E7411<=Kimutatás!B$3)","v":true}]
[7411,"Zalaegerszeg","020","Q1","2019-02-25","Betérő ügyfelek",50,"fő","2019-03-01","berces2",{"$f":"AND(E7412>=Kimutatás!B$2,E7412<=Kimutatás!B$3)","v":true}]
[7412,"Zalaegerszeg","020","Q1","2019-02-25","Lakossági hitelnövekmény összege ",3,"Mhuf","2019-03-01","berces2",{"$f":"AND(E7413>=Kimutatás!B$2,E7413<=Kimutatás!B$3)","v":true}]
[7413,"Zalaegerszeg","020","Q1","2019-02-25","Lakossági számlanyitás",5,"db","2019-03-01","berces2",{"$f":"AND(E7414>=Kimutatás!B$2,E7414<=Kimutatás!B$3)","v":true}]
[7414,"Zalaegerszeg","020","Q1","2019-02-25","KKV hitelnövekmény (db)",2,"db","2019-03-01","berces2",{"$f":"AND(E7415>=Kimutatás!B$2,E7415<=Kimutatás!B$3)","v":true}]
[7415,"Zalaegerszeg","020","Q1","2019-02-25","KKV számlanyitás",-2,"db","2019-03-01","berces2",{"$f":"AND(E7416>=Kimutatás!B$2,E7416<=Kimutatás!B$3)","v":true}]
[7416,"Zalaegerszeg","020","Q1","2019-02-25","Betét állomány növekmény",3,"Mhuf","2019-03-01","berces2",{"$f":"AND(E7417>=Kimutatás!B$2,E7417<=Kimutatás!B$3)","v":true}]
[7417,"Zalaegerszeg","020","Q1","2019-02-26","Betérő ügyfelek",19,"fő","2019-03-01","berces2",{"$f":"AND(E7418>=Kimutatás!B$2,E7418<=Kimutatás!B$3)","v":true}]
[7418,"Zalaegerszeg","020","Q1","2019-02-26","Lakossági hitelnövekmény összege ",40,"Mhuf","2019-03-01","berces2",{"$f":"AND(E7419>=Kimutatás!B$2,E7419<=Kimutatás!B$3)","v":true}]
[7419,"Zalaegerszeg","020","Q1","2019-02-26","Lakossági számlanyitás",-1,"db","2019-03-01","berces2",{"$f":"AND(E7420>=Kimutatás!B$2,E7420<=Kimutatás!B$3)","v":true}]
[7420,"Zalaegerszeg","020","Q1","2019-02-26","KKV hitelnövekmény (db)",-1,"db","2019-03-01","berces2",{"$f":"AND(E7421>=Kimutatás!B$2,E7421<=Kimutatás!B$3)","v":true}]
[7421,"Zalaegerszeg","020","Q1","2019-02-26","KKV számlanyitás",1,"db","2019-03-01","berces2",{"$f":"AND(E7422>=Kimutatás!B$2,E7422<=Kimutatás!B$3)","v":true}]
[7422,"Zalaegerszeg","020","Q1","2019-02-26","Betét állomány növekmény",35,"Mhuf","2019-03-01","berces2",{"$f":"AND(E7423>=Kimutatás!B$2,E7423<=Kimutatás!B$3)","v":true}]
[7423,"Zalaegerszeg","020","Q1","2019-02-27","Betérő ügyfelek",22,"fő","2019-03-01","berces2",{"$f":"AND(E7424>=Kimutatás!B$2,E7424<=Kimutatás!B$3)","v":true}]
[7424,"Zalaegerszeg","020","Q1","2019-02-27","Lakossági hitelnövekmény összege ",17,"Mhuf","2019-03-01","berces2",{"$f":"AND(E7425>=Kimutatás!B$2,E7425<=Kimutatás!B$3)","v":true}]
[7425,"Zalaegerszeg","020","Q1","2019-02-27","Lakossági számlanyitás",-3,"db","2019-03-01","berces2",{"$f":"AND(E7426>=Kimutatás!B$2,E7426<=Kimutatás!B$3)","v":true}]
[7426,"Zalaegerszeg","020","Q1","2019-02-27","KKV hitelnövekmény (db)",1,"db","2019-03-01","berces2",{"$f":"AND(E7427>=Kimutatás!B$2,E7427<=Kimutatás!B$3)","v":true}]
[7427,"Zalaegerszeg","020","Q1","2019-02-27","KKV számlanyitás",5,"db","2019-03-01","berces2",{"$f":"AND(E7428>=Kimutatás!B$2,E7428<=Kimutatás!B$3)","v":true}]
[7428,"Zalaegerszeg","020","Q1","2019-02-27","Betét állomány növekmény",-14,"Mhuf","2019-03-01","berces2",{"$f":"AND(E7429>=Kimutatás!B$2,E7429<=Kimutatás!B$3)","v":true}]
[7429,"Zalaegerszeg","020","Q1","2019-02-28","Betérő ügyfelek",28,"fő","2019-03-01","berces2",{"$f":"AND(E7430>=Kimutatás!B$2,E7430<=Kimutatás!B$3)","v":true}]
[7430,"Zalaegerszeg","020","Q1","2019-02-28","Lakossági hitelnövekmény összege ",29,"Mhuf","2019-03-01","berces2",{"$f":"AND(E7431>=Kimutatás!B$2,E7431<=Kimutatás!B$3)","v":true}]
[7431,"Zalaegerszeg","020","Q1","2019-02-28","Lakossági számlanyitás",5,"db","2019-03-01","berces2",{"$f":"AND(E7432>=Kimutatás!B$2,E7432<=Kimutatás!B$3)","v":true}]
[7432,"Zalaegerszeg","020","Q1","2019-02-28","KKV hitelnövekmény (db)",-1,"db","2019-03-01","berces2",{"$f":"AND(E7433>=Kimutatás!B$2,E7433<=Kimutatás!B$3)","v":true}]
[7433,"Zalaegerszeg","020","Q1","2019-02-28","KKV számlanyitás",0,"db","2019-03-01","berces2",{"$f":"AND(E7434>=Kimutatás!B$2,E7434<=Kimutatás!B$3)","v":true}]
[7434,"Zalaegerszeg","020","Q1","2019-02-28","Betét állomány növekmény",12,"Mhuf","2019-03-01","berces2",{"$f":"AND(E7435>=Kimutatás!B$2,E7435<=Kimutatás!B$3)","v":true}]
[7435,"Zalaegerszeg","020","Q1","2019-03-03","Betérő ügyfelek",31,"fő","2019-04-01","kanisi0",{"$f":"AND(E7436>=Kimutatás!B$2,E7436<=Kimutatás!B$3)","v":true}]
[7436,"Zalaegerszeg","020","Q1","2019-03-03","Lakossági hitelnövekmény összege ",28,"Mhuf","2019-04-01","kanisi0",{"$f":"AND(E7437>=Kimutatás!B$2,E7437<=Kimutatás!B$3)","v":true}]
[7437,"Zalaegerszeg","020","Q1","2019-03-03","Lakossági számlanyitás",10,"db","2019-04-01","kanisi0",{"$f":"AND(E7438>=Kimutatás!B$2,E7438<=Kimutatás!B$3)","v":true}]
[7438,"Zalaegerszeg","020","Q1","2019-03-03","KKV hitelnövekmény (db)",-2,"db","2019-04-01","kanisi0",{"$f":"AND(E7439>=Kimutatás!B$2,E7439<=Kimutatás!B$3)","v":true}]
[7439,"Zalaegerszeg","020","Q1","2019-03-03","KKV számlanyitás",2,"db","2019-04-01","kanisi0",{"$f":"AND(E7440>=Kimutatás!B$2,E7440<=Kimutatás!B$3)","v":true}]
[7440,"Zalaegerszeg","020","Q1","2019-03-03","Betét állomány növekmény",12,"Mhuf","2019-04-01","kanisi0",{"$f":"AND(E7441>=Kimutatás!B$2,E7441<=Kimutatás!B$3)","v":true}]
[7441,"Zalaegerszeg","020","Q1","2019-03-04","Betérő ügyfelek",28,"fő","2019-04-01","kanisi0",{"$f":"AND(E7442>=Kimutatás!B$2,E7442<=Kimutatás!B$3)","v":true}]
[7442,"Zalaegerszeg","020","Q1","2019-03-04","Lakossági hitelnövekmény összege ",22,"Mhuf","2019-04-01","kanisi0",{"$f":"AND(E7443>=Kimutatás!B$2,E7443<=Kimutatás!B$3)","v":true}]
[7443,"Zalaegerszeg","020","Q1","2019-03-04","Lakossági számlanyitás",10,"db","2019-04-01","kanisi0",{"$f":"AND(E7444>=Kimutatás!B$2,E7444<=Kimutatás!B$3)","v":true}]
[7444,"Zalaegerszeg","020","Q1","2019-03-04","KKV hitelnövekmény (db)",-2,"db","2019-04-01","kanisi0",{"$f":"AND(E7445>=Kimutatás!B$2,E7445<=Kimutatás!B$3)","v":true}]
[7445,"Zalaegerszeg","020","Q1","2019-03-04","KKV számlanyitás",2,"db","2019-04-01","kanisi0",{"$f":"AND(E7446>=Kimutatás!B$2,E7446<=Kimutatás!B$3)","v":true}]
[7446,"Zalaegerszeg","020","Q1","2019-03-04","Betét állomány növekmény",-3,"Mhuf","2019-04-01","kanisi0",{"$f":"AND(E7447>=Kimutatás!B$2,E7447<=Kimutatás!B$3)","v":true}]
[7447,"Zalaegerszeg","020","Q1","2019-03-05","Betérő ügyfelek",9,"fő","2019-04-01","kanisi0",{"$f":"AND(E7448>=Kimutatás!B$2,E7448<=Kimutatás!B$3)","v":true}]
[7448,"Zalaegerszeg","020","Q1","2019-03-05","Lakossági hitelnövekmény összege ",13,"Mhuf","2019-04-01","kanisi0",{"$f":"AND(E7449>=Kimutatás!B$2,E7449<=Kimutatás!B$3)","v":true}]
[7449,"Zalaegerszeg","020","Q1","2019-03-05","Lakossági számlanyitás",1,"db","2019-04-01","kanisi0",{"$f":"AND(E7450>=Kimutatás!B$2,E7450<=Kimutatás!B$3)","v":true}]
[7450,"Zalaegerszeg","020","Q1","2019-03-05","KKV hitelnövekmény (db)",1,"db","2019-04-01","kanisi0",{"$f":"AND(E7451>=Kimutatás!B$2,E7451<=Kimutatás!B$3)","v":true}]
[7451,"Zalaegerszeg","020","Q1","2019-03-05","KKV számlanyitás",1,"db","2019-04-01","kanisi0",{"$f":"AND(E7452>=Kimutatás!B$2,E7452<=Kimutatás!B$3)","v":true}]
[7452,"Zalaegerszeg","020","Q1","2019-03-05","Betét állomány növekmény",35,"Mhuf","2019-04-01","kanisi0",{"$f":"AND(E7453>=Kimutatás!B$2,E7453<=Kimutatás!B$3)","v":true}]
[7453,"Zalaegerszeg","020","Q1","2019-03-06","Betérő ügyfelek",39,"fő","2019-04-01","kanisi0",{"$f":"AND(E7454>=Kimutatás!B$2,E7454<=Kimutatás!B$3)","v":true}]
[7454,"Zalaegerszeg","020","Q1","2019-03-06","Lakossági hitelnövekmény összege ",41,"Mhuf","2019-04-01","kanisi0",{"$f":"AND(E7455>=Kimutatás!B$2,E7455<=Kimutatás!B$3)","v":true}]
[7455,"Zalaegerszeg","020","Q1","2019-03-06","Lakossági számlanyitás",2,"db","2019-04-01","kanisi0",{"$f":"AND(E7456>=Kimutatás!B$2,E7456<=Kimutatás!B$3)","v":true}]
[7456,"Zalaegerszeg","020","Q1","2019-03-06","KKV hitelnövekmény (db)",2,"db","2019-04-01","kanisi0",{"$f":"AND(E7457>=Kimutatás!B$2,E7457<=Kimutatás!B$3)","v":true}]
[7457,"Zalaegerszeg","020","Q1","2019-03-06","KKV számlanyitás",1,"db","2019-04-01","kanisi0",{"$f":"AND(E7458>=Kimutatás!B$2,E7458<=Kimutatás!B$3)","v":true}]
[7458,"Zalaegerszeg","020","Q1","2019-03-06","Betét állomány növekmény",40,"Mhuf","2019-04-01","kanisi0",{"$f":"AND(E7459>=Kimutatás!B$2,E7459<=Kimutatás!B$3)","v":true}]
[7459,"Zalaegerszeg","020","Q1","2019-03-07","Betérő ügyfelek",37,"fő","2019-04-01","kanisi0",{"$f":"AND(E7460>=Kimutatás!B$2,E7460<=Kimutatás!B$3)","v":true}]
[7460,"Zalaegerszeg","020","Q1","2019-03-07","Lakossági hitelnövekmény összege ",37,"Mhuf","2019-04-01","kanisi0",{"$f":"AND(E7461>=Kimutatás!B$2,E7461<=Kimutatás!B$3)","v":true}]
[7461,"Zalaegerszeg","020","Q1","2019-03-07","Lakossági számlanyitás",2,"db","2019-04-01","kanisi0",{"$f":"AND(E7462>=Kimutatás!B$2,E7462<=Kimutatás!B$3)","v":true}]
[7462,"Zalaegerszeg","020","Q1","2019-03-07","KKV hitelnövekmény (db)",2,"db","2019-04-01","kanisi0",{"$f":"AND(E7463>=Kimutatás!B$2,E7463<=Kimutatás!B$3)","v":true}]
[7463,"Zalaegerszeg","020","Q1","2019-03-07","KKV számlanyitás",-1,"db","2019-04-01","kanisi0",{"$f":"AND(E7464>=Kimutatás!B$2,E7464<=Kimutatás!B$3)","v":true}]
[7464,"Zalaegerszeg","020","Q1","2019-03-07","Betét állomány növekmény",4,"Mhuf","2019-04-01","kanisi0",{"$f":"AND(E7465>=Kimutatás!B$2,E7465<=Kimutatás!B$3)","v":true}]
[7465,"Zalaegerszeg","020","Q1","2019-03-10","Betérő ügyfelek",11,"fő","2019-04-01","kanisi0",{"$f":"AND(E7466>=Kimutatás!B$2,E7466<=Kimutatás!B$3)","v":true}]
[7466,"Zalaegerszeg","020","Q1","2019-03-10","Lakossági hitelnövekmény összege ",-9,"Mhuf","2019-04-01","kanisi0",{"$f":"AND(E7467>=Kimutatás!B$2,E7467<=Kimutatás!B$3)","v":true}]
[7467,"Zalaegerszeg","020","Q1","2019-03-10","Lakossági számlanyitás",-3,"db","2019-04-01","kanisi0",{"$f":"AND(E7468>=Kimutatás!B$2,E7468<=Kimutatás!B$3)","v":true}]
[7468,"Zalaegerszeg","020","Q1","2019-03-10","KKV hitelnövekmény (db)",-2,"db","2019-04-01","kanisi0",{"$f":"AND(E7469>=Kimutatás!B$2,E7469<=Kimutatás!B$3)","v":true}]
[7469,"Zalaegerszeg","020","Q1","2019-03-10","KKV számlanyitás",0,"db","2019-04-01","kanisi0",{"$f":"AND(E7470>=Kimutatás!B$2,E7470<=Kimutatás!B$3)","v":true}]
[7470,"Zalaegerszeg","020","Q1","2019-03-10","Betét állomány növekmény",22,"Mhuf","2019-04-01","kanisi0",{"$f":"AND(E7471>=Kimutatás!B$2,E7471<=Kimutatás!B$3)","v":true}]
[7471,"Zalaegerszeg","020","Q1","2019-03-11","Betérő ügyfelek",3,"fő","2019-04-01","kanisi0",{"$f":"AND(E7472>=Kimutatás!B$2,E7472<=Kimutatás!B$3)","v":false}]
[7472,"Zalaegerszeg","020","Q1","2019-03-11","Lakossági hitelnövekmény összege ",6,"Mhuf","2019-04-01","kanisi0",{"$f":"AND(E7473>=Kimutatás!B$2,E7473<=Kimutatás!B$3)","v":false}]
[7473,"Zalaegerszeg","020","Q1","2019-03-11","Lakossági számlanyitás",6,"db","2019-04-01","kanisi0",{"$f":"AND(E7474>=Kimutatás!B$2,E7474<=Kimutatás!B$3)","v":false}]
[7474,"Zalaegerszeg","020","Q1","2019-03-11","KKV hitelnövekmény (db)",2,"db","2019-04-01","kanisi0",{"$f":"AND(E7475>=Kimutatás!B$2,E7475<=Kimutatás!B$3)","v":false}]
[7475,"Zalaegerszeg","020","Q1","2019-03-11","KKV számlanyitás",-1,"db","2019-04-01","kanisi0",{"$f":"AND(E7476>=Kimutatás!B$2,E7476<=Kimutatás!B$3)","v":false}]
[7476,"Zalaegerszeg","020","Q1","2019-03-11","Betét állomány növekmény",-2,"Mhuf","2019-04-01","kanisi0",{"$f":"AND(E7477>=Kimutatás!B$2,E7477<=Kimutatás!B$3)","v":false}]
[7477,"Zalaegerszeg","020","Q1","2019-03-12","Betérő ügyfelek",24,"fő","2019-04-01","kanisi0",{"$f":"AND(E7478>=Kimutatás!B$2,E7478<=Kimutatás!B$3)","v":false}]
[7478,"Zalaegerszeg","020","Q1","2019-03-12","Lakossági hitelnövekmény összege ",43,"Mhuf","2019-04-01","kanisi0",{"$f":"AND(E7479>=Kimutatás!B$2,E7479<=Kimutatás!B$3)","v":false}]
[7479,"Zalaegerszeg","020","Q1","2019-03-12","Lakossági számlanyitás",-2,"db","2019-04-01","kanisi0",{"$f":"AND(E7480>=Kimutatás!B$2,E7480<=Kimutatás!B$3)","v":false}]
[7480,"Zalaegerszeg","020","Q1","2019-03-12","KKV hitelnövekmény (db)",-1,"db","2019-04-01","kanisi0",{"$f":"AND(E7481>=Kimutatás!B$2,E7481<=Kimutatás!B$3)","v":false}]
[7481,"Zalaegerszeg","020","Q1","2019-03-12","KKV számlanyitás",3,"db","2019-04-01","kanisi0",{"$f":"AND(E7482>=Kimutatás!B$2,E7482<=Kimutatás!B$3)","v":false}]
[7482,"Zalaegerszeg","020","Q1","2019-03-12","Betét állomány növekmény",36,"Mhuf","2019-04-01","kanisi0",{"$f":"AND(E7483>=Kimutatás!B$2,E7483<=Kimutatás!B$3)","v":false}]
[7483,"Zalaegerszeg","020","Q1","2019-03-13","Betérő ügyfelek",33,"fő","2019-04-01","kanisi0",{"$f":"AND(E7484>=Kimutatás!B$2,E7484<=Kimutatás!B$3)","v":false}]
[7484,"Zalaegerszeg","020","Q1","2019-03-13","Lakossági hitelnövekmény összege ",48,"Mhuf","2019-04-01","kanisi0",{"$f":"AND(E7485>=Kimutatás!B$2,E7485<=Kimutatás!B$3)","v":false}]
[7485,"Zalaegerszeg","020","Q1","2019-03-13","Lakossági számlanyitás",7,"db","2019-04-01","kanisi0",{"$f":"AND(E7486>=Kimutatás!B$2,E7486<=Kimutatás!B$3)","v":false}]
[7486,"Zalaegerszeg","020","Q1","2019-03-13","KKV hitelnövekmény (db)",-1,"db","2019-04-01","kanisi0",{"$f":"AND(E7487>=Kimutatás!B$2,E7487<=Kimutatás!B$3)","v":false}]
[7487,"Zalaegerszeg","020","Q1","2019-03-13","KKV számlanyitás",5,"db","2019-04-01","kanisi0",{"$f":"AND(E7488>=Kimutatás!B$2,E7488<=Kimutatás!B$3)","v":false}]
[7488,"Zalaegerszeg","020","Q1","2019-03-13","Betét állomány növekmény",41,"Mhuf","2019-04-01","kanisi0",{"$f":"AND(E7489>=Kimutatás!B$2,E7489<=Kimutatás!B$3)","v":false}]
[7489,"Zalaegerszeg","020","Q1","2019-03-14","Betérő ügyfelek",13,"fő","2019-04-01","kanisi0",{"$f":"AND(E7490>=Kimutatás!B$2,E7490<=Kimutatás!B$3)","v":false}]
[7490,"Zalaegerszeg","020","Q1","2019-03-14","Lakossági hitelnövekmény összege ",13,"Mhuf","2019-04-01","kanisi0",{"$f":"AND(E7491>=Kimutatás!B$2,E7491<=Kimutatás!B$3)","v":false}]
[7491,"Zalaegerszeg","020","Q1","2019-03-14","Lakossági számlanyitás",1,"db","2019-04-01","kanisi0",{"$f":"AND(E7492>=Kimutatás!B$2,E7492<=Kimutatás!B$3)","v":false}]
[7492,"Zalaegerszeg","020","Q1","2019-03-14","KKV hitelnövekmény (db)",2,"db","2019-04-01","kanisi0",{"$f":"AND(E7493>=Kimutatás!B$2,E7493<=Kimutatás!B$3)","v":false}]
[7493,"Zalaegerszeg","020","Q1","2019-03-14","KKV számlanyitás",-4,"db","2019-04-01","kanisi0",{"$f":"AND(E7494>=Kimutatás!B$2,E7494<=Kimutatás!B$3)","v":false}]
[7494,"Zalaegerszeg","020","Q1","2019-03-14","Betét állomány növekmény",44,"Mhuf","2019-04-01","kanisi0",{"$f":"AND(E7495>=Kimutatás!B$2,E7495<=Kimutatás!B$3)","v":false}]
[7495,"Zalaegerszeg","020","Q1","2019-03-17","Betérő ügyfelek",50,"fő","2019-04-01","kanisi0",{"$f":"AND(E7496>=Kimutatás!B$2,E7496<=Kimutatás!B$3)","v":false}]
[7496,"Zalaegerszeg","020","Q1","2019-03-17","Lakossági hitelnövekmény összege ",42,"Mhuf","2019-04-01","kanisi0",{"$f":"AND(E7497>=Kimutatás!B$2,E7497<=Kimutatás!B$3)","v":false}]
[7497,"Zalaegerszeg","020","Q1","2019-03-17","Lakossági számlanyitás",-5,"db","2019-04-01","kanisi0",{"$f":"AND(E7498>=Kimutatás!B$2,E7498<=Kimutatás!B$3)","v":false}]
[7498,"Zalaegerszeg","020","Q1","2019-03-17","KKV hitelnövekmény (db)",-2,"db","2019-04-01","kanisi0",{"$f":"AND(E7499>=Kimutatás!B$2,E7499<=Kimutatás!B$3)","v":false}]
[7499,"Zalaegerszeg","020","Q1","2019-03-17","KKV számlanyitás",-5,"db","2019-04-01","kanisi0",{"$f":"AND(E7500>=Kimutatás!B$2,E7500<=Kimutatás!B$3)","v":false}]
[7500,"Zalaegerszeg","020","Q1","2019-03-17","Betét állomány növekmény",-4,"Mhuf","2019-04-01","kanisi0",{"$f":"AND(E7501>=Kimutatás!B$2,E7501<=Kimutatás!B$3)","v":false}]
[7501,"Zalaegerszeg","020","Q1","2019-03-18","Betérő ügyfelek",31,"fő","2019-04-01","kanisi0",{"$f":"AND(E7502>=Kimutatás!B$2,E7502<=Kimutatás!B$3)","v":false}]
[7502,"Zalaegerszeg","020","Q1","2019-03-18","Lakossági hitelnövekmény összege ",37,"Mhuf","2019-04-01","kanisi0",{"$f":"AND(E7503>=Kimutatás!B$2,E7503<=Kimutatás!B$3)","v":false}]
[7503,"Zalaegerszeg","020","Q1","2019-03-18","Lakossági számlanyitás",2,"db","2019-04-01","kanisi0",{"$f":"AND(E7504>=Kimutatás!B$2,E7504<=Kimutatás!B$3)","v":false}]
[7504,"Zalaegerszeg","020","Q1","2019-03-18","KKV hitelnövekmény (db)",2,"db","2019-04-01","kanisi0",{"$f":"AND(E7505>=Kimutatás!B$2,E7505<=Kimutatás!B$3)","v":false}]
[7505,"Zalaegerszeg","020","Q1","2019-03-18","KKV számlanyitás",2,"db","2019-04-01","kanisi0",{"$f":"AND(E7506>=Kimutatás!B$2,E7506<=Kimutatás!B$3)","v":false}]
[7506,"Zalaegerszeg","020","Q1","2019-03-18","Betét állomány növekmény",-4,"Mhuf","2019-04-01","kanisi0",{"$f":"AND(E7507>=Kimutatás!B$2,E7507<=Kimutatás!B$3)","v":false}]
[7507,"Zalaegerszeg","020","Q1","2019-03-19","Betérő ügyfelek",7,"fő","2019-04-01","kanisi0",{"$f":"AND(E7508>=Kimutatás!B$2,E7508<=Kimutatás!B$3)","v":false}]
[7508,"Zalaegerszeg","020","Q1","2019-03-19","Lakossági hitelnövekmény összege ",45,"Mhuf","2019-04-01","kanisi0",{"$f":"AND(E7509>=Kimutatás!B$2,E7509<=Kimutatás!B$3)","v":false}]
[7509,"Zalaegerszeg","020","Q1","2019-03-19","Lakossági számlanyitás",8,"db","2019-04-01","kanisi0",{"$f":"AND(E7510>=Kimutatás!B$2,E7510<=Kimutatás!B$3)","v":false}]
[7510,"Zalaegerszeg","020","Q1","2019-03-19","KKV hitelnövekmény (db)",-1,"db","2019-04-01","kanisi0",{"$f":"AND(E7511>=Kimutatás!B$2,E7511<=Kimutatás!B$3)","v":false}]
[7511,"Zalaegerszeg","020","Q1","2019-03-19","KKV számlanyitás",0,"db","2019-04-01","kanisi0",{"$f":"AND(E7512>=Kimutatás!B$2,E7512<=Kimutatás!B$3)","v":false}]
[7512,"Zalaegerszeg","020","Q1","2019-03-19","Betét állomány növekmény",48,"Mhuf","2019-04-01","kanisi0",{"$f":"AND(E7513>=Kimutatás!B$2,E7513<=Kimutatás!B$3)","v":false}]
[7513,"Zalaegerszeg","020","Q1","2019-03-20","Betérő ügyfelek",35,"fő","2019-04-01","kanisi0",{"$f":"AND(E7514>=Kimutatás!B$2,E7514<=Kimutatás!B$3)","v":false}]
[7514,"Zalaegerszeg","020","Q1","2019-03-20","Lakossági hitelnövekmény összege ",47,"Mhuf","2019-04-01","kanisi0",{"$f":"AND(E7515>=Kimutatás!B$2,E7515<=Kimutatás!B$3)","v":false}]
[7515,"Zalaegerszeg","020","Q1","2019-03-20","Lakossági számlanyitás",5,"db","2019-04-01","kanisi0",{"$f":"AND(E7516>=Kimutatás!B$2,E7516<=Kimutatás!B$3)","v":false}]
[7516,"Zalaegerszeg","020","Q1","2019-03-20","KKV hitelnövekmény (db)",-2,"db","2019-04-01","kanisi0",{"$f":"AND(E7517>=Kimutatás!B$2,E7517<=Kimutatás!B$3)","v":false}]
[7517,"Zalaegerszeg","020","Q1","2019-03-20","KKV számlanyitás",-2,"db","2019-04-01","kanisi0",{"$f":"AND(E7518>=Kimutatás!B$2,E7518<=Kimutatás!B$3)","v":false}]
[7518,"Zalaegerszeg","020","Q1","2019-03-20","Betét állomány növekmény",41,"Mhuf","2019-04-01","kanisi0",{"$f":"AND(E7519>=Kimutatás!B$2,E7519<=Kimutatás!B$3)","v":false}]
[7519,"Zalaegerszeg","020","Q1","2019-03-21","Betérő ügyfelek",49,"fő","2019-04-01","kanisi0",{"$f":"AND(E7520>=Kimutatás!B$2,E7520<=Kimutatás!B$3)","v":false}]
[7520,"Zalaegerszeg","020","Q1","2019-03-21","Lakossági hitelnövekmény összege ",41,"Mhuf","2019-04-01","kanisi0",{"$f":"AND(E7521>=Kimutatás!B$2,E7521<=Kimutatás!B$3)","v":false}]
[7521,"Zalaegerszeg","020","Q1","2019-03-21","Lakossági számlanyitás",6,"db","2019-04-01","kanisi0",{"$f":"AND(E7522>=Kimutatás!B$2,E7522<=Kimutatás!B$3)","v":false}]
[7522,"Zalaegerszeg","020","Q1","2019-03-21","KKV hitelnövekmény (db)",-2,"db","2019-04-01","kanisi0",{"$f":"AND(E7523>=Kimutatás!B$2,E7523<=Kimutatás!B$3)","v":false}]
[7523,"Zalaegerszeg","020","Q1","2019-03-21","KKV számlanyitás",-4,"db","2019-04-01","kanisi0",{"$f":"AND(E7524>=Kimutatás!B$2,E7524<=Kimutatás!B$3)","v":false}]
[7524,"Zalaegerszeg","020","Q1","2019-03-21","Betét állomány növekmény",31,"Mhuf","2019-04-01","kanisi0",{"$f":"AND(E7525>=Kimutatás!B$2,E7525<=Kimutatás!B$3)","v":false}]
[7525,"Zalaegerszeg","020","Q1","2019-03-24","Betérő ügyfelek",13,"fő","2019-04-01","kanisi0",{"$f":"AND(E7526>=Kimutatás!B$2,E7526<=Kimutatás!B$3)","v":false}]
[7526,"Zalaegerszeg","020","Q1","2019-03-24","Lakossági hitelnövekmény összege ",6,"Mhuf","2019-04-01","kanisi0",{"$f":"AND(E7527>=Kimutatás!B$2,E7527<=Kimutatás!B$3)","v":false}]
[7527,"Zalaegerszeg","020","Q1","2019-03-24","Lakossági számlanyitás",5,"db","2019-04-01","kanisi0",{"$f":"AND(E7528>=Kimutatás!B$2,E7528<=Kimutatás!B$3)","v":false}]
[7528,"Zalaegerszeg","020","Q1","2019-03-24","KKV hitelnövekmény (db)",0,"db","2019-04-01","kanisi0",{"$f":"AND(E7529>=Kimutatás!B$2,E7529<=Kimutatás!B$3)","v":false}]
[7529,"Zalaegerszeg","020","Q1","2019-03-24","KKV számlanyitás",2,"db","2019-04-01","kanisi0",{"$f":"AND(E7530>=Kimutatás!B$2,E7530<=Kimutatás!B$3)","v":false}]
[7530,"Zalaegerszeg","020","Q1","2019-03-24","Betét állomány növekmény",-19,"Mhuf","2019-04-01","kanisi0",{"$f":"AND(E7531>=Kimutatás!B$2,E7531<=Kimutatás!B$3)","v":false}]
[7531,"Zalaegerszeg","020","Q1","2019-03-25","Betérő ügyfelek",4,"fő","2019-04-01","kanisi0",{"$f":"AND(E7532>=Kimutatás!B$2,E7532<=Kimutatás!B$3)","v":false}]
[7532,"Zalaegerszeg","020","Q1","2019-03-25","Lakossági hitelnövekmény összege ",-8,"Mhuf","2019-04-01","kanisi0",{"$f":"AND(E7533>=Kimutatás!B$2,E7533<=Kimutatás!B$3)","v":false}]
[7533,"Zalaegerszeg","020","Q1","2019-03-25","Lakossági számlanyitás",6,"db","2019-04-01","kanisi0",{"$f":"AND(E7534>=Kimutatás!B$2,E7534<=Kimutatás!B$3)","v":false}]
[7534,"Zalaegerszeg","020","Q1","2019-03-25","KKV hitelnövekmény (db)",2,"db","2019-04-01","kanisi0",{"$f":"AND(E7535>=Kimutatás!B$2,E7535<=Kimutatás!B$3)","v":false}]
[7535,"Zalaegerszeg","020","Q1","2019-03-25","KKV számlanyitás",3,"db","2019-04-01","kanisi0",{"$f":"AND(E7536>=Kimutatás!B$2,E7536<=Kimutatás!B$3)","v":false}]
[7536,"Zalaegerszeg","020","Q1","2019-03-25","Betét állomány növekmény",24,"Mhuf","2019-04-01","kanisi0",{"$f":"AND(E7537>=Kimutatás!B$2,E7537<=Kimutatás!B$3)","v":false}]
[7537,"Zalaegerszeg","020","Q1","2019-03-26","Betérő ügyfelek",1,"fő","2019-04-01","kanisi0",{"$f":"AND(E7538>=Kimutatás!B$2,E7538<=Kimutatás!B$3)","v":false}]
[7538,"Zalaegerszeg","020","Q1","2019-03-26","Lakossági hitelnövekmény összege ",17,"Mhuf","2019-04-01","kanisi0",{"$f":"AND(E7539>=Kimutatás!B$2,E7539<=Kimutatás!B$3)","v":false}]
[7539,"Zalaegerszeg","020","Q1","2019-03-26","Lakossági számlanyitás",9,"db","2019-04-01","kanisi0",{"$f":"AND(E7540>=Kimutatás!B$2,E7540<=Kimutatás!B$3)","v":false}]
[7540,"Zalaegerszeg","020","Q1","2019-03-26","KKV hitelnövekmény (db)",-1,"db","2019-04-01","kanisi0",{"$f":"AND(E7541>=Kimutatás!B$2,E7541<=Kimutatás!B$3)","v":false}]
[7541,"Zalaegerszeg","020","Q1","2019-03-26","KKV számlanyitás",0,"db","2019-04-01","kanisi0",{"$f":"AND(E7542>=Kimutatás!B$2,E7542<=Kimutatás!B$3)","v":false}]
[7542,"Zalaegerszeg","020","Q1","2019-03-26","Betét állomány növekmény",23,"Mhuf","2019-04-01","kanisi0",{"$f":"AND(E7543>=Kimutatás!B$2,E7543<=Kimutatás!B$3)","v":false}]
[7543,"Zalaegerszeg","020","Q1","2019-03-27","Betérő ügyfelek",47,"fő","2019-04-01","kanisi0",{"$f":"AND(E7544>=Kimutatás!B$2,E7544<=Kimutatás!B$3)","v":false}]
[7544,"Zalaegerszeg","020","Q1","2019-03-27","Lakossági hitelnövekmény összege ",-3,"Mhuf","2019-04-01","kanisi0",{"$f":"AND(E7545>=Kimutatás!B$2,E7545<=Kimutatás!B$3)","v":false}]
[7545,"Zalaegerszeg","020","Q1","2019-03-27","Lakossági számlanyitás",5,"db","2019-04-01","kanisi0",{"$f":"AND(E7546>=Kimutatás!B$2,E7546<=Kimutatás!B$3)","v":false}]
[7546,"Zalaegerszeg","020","Q1","2019-03-27","KKV hitelnövekmény (db)",2,"db","2019-04-01","kanisi0",{"$f":"AND(E7547>=Kimutatás!B$2,E7547<=Kimutatás!B$3)","v":false}]
[7547,"Zalaegerszeg","020","Q1","2019-03-27","KKV számlanyitás",-2,"db","2019-04-01","kanisi0",{"$f":"AND(E7548>=Kimutatás!B$2,E7548<=Kimutatás!B$3)","v":false}]
[7548,"Zalaegerszeg","020","Q1","2019-03-27","Betét állomány növekmény",22,"Mhuf","2019-04-01","kanisi0",{"$f":"AND(E7549>=Kimutatás!B$2,E7549<=Kimutatás!B$3)","v":false}]
[7549,"Zalaegerszeg","020","Q1","2019-03-28","Betérő ügyfelek",42,"fő","2019-04-01","kanisi0",{"$f":"AND(E7550>=Kimutatás!B$2,E7550<=Kimutatás!B$3)","v":false}]
[7550,"Zalaegerszeg","020","Q1","2019-03-28","Lakossági hitelnövekmény összege ",2,"Mhuf","2019-04-01","kanisi0",{"$f":"AND(E7551>=Kimutatás!B$2,E7551<=Kimutatás!B$3)","v":false}]
[7551,"Zalaegerszeg","020","Q1","2019-03-28","Lakossági számlanyitás",5,"db","2019-04-01","kanisi0",{"$f":"AND(E7552>=Kimutatás!B$2,E7552<=Kimutatás!B$3)","v":false}]
[7552,"Zalaegerszeg","020","Q1","2019-03-28","KKV hitelnövekmény (db)",1,"db","2019-04-01","kanisi0",{"$f":"AND(E7553>=Kimutatás!B$2,E7553<=Kimutatás!B$3)","v":false}]
[7553,"Zalaegerszeg","020","Q1","2019-03-28","KKV számlanyitás",-3,"db","2019-04-01","kanisi0",{"$f":"AND(E7554>=Kimutatás!B$2,E7554<=Kimutatás!B$3)","v":false}]
[7554,"Zalaegerszeg","020","Q1","2019-03-28","Betét állomány növekmény",32,"Mhuf","2019-04-01","kanisi0",{"$f":"AND(E7555>=Kimutatás!B$2,E7555<=Kimutatás!B$3)","v":false}]
[7555,"Zalaegerszeg","020","Q1","2019-03-31","Betérő ügyfelek",36,"fő","2019-04-01","kanisi0",{"$f":"AND(E7556>=Kimutatás!B$2,E7556<=Kimutatás!B$3)","v":false}]
[7556,"Zalaegerszeg","020","Q1","2019-03-31","Lakossági hitelnövekmény összege ",49,"Mhuf","2019-04-01","kanisi0",{"$f":"AND(E7557>=Kimutatás!B$2,E7557<=Kimutatás!B$3)","v":false}]
[7557,"Zalaegerszeg","020","Q1","2019-03-31","Lakossági számlanyitás",7,"db","2019-04-01","kanisi0",{"$f":"AND(E7558>=Kimutatás!B$2,E7558<=Kimutatás!B$3)","v":false}]
[7558,"Zalaegerszeg","020","Q1","2019-03-31","KKV hitelnövekmény (db)",-1,"db","2019-04-01","kanisi0",{"$f":"AND(E7559>=Kimutatás!B$2,E7559<=Kimutatás!B$3)","v":false}]
[7559,"Zalaegerszeg","020","Q1","2019-03-31","KKV számlanyitás",3,"db","2019-04-01","kanisi0",{"$f":"AND(E7560>=Kimutatás!B$2,E7560<=Kimutatás!B$3)","v":false}]
[7560,"Zalaegerszeg","020","Q1","2019-03-31","Betét állomány növekmény",-13,"Mhuf","2019-04-01","kanisi0",{"$f":"AND(E7561>=Kimutatás!B$2,E7561<=Kimutatás!B$3)","v":false}]

{"sheet":"Kimutatás","index":3,"n_rows":146,"n_cols":10,"rows_kept":146,"cut":false,"hidden":false,"merged":[]}
[]
["Kezdődátum:","2019-01-10"]
["Végdátum:","2019-03-10",null,"Időtartomány ( Bankfiókok teljesítményének összahasonlítása megadott időszakra )","IGAZ"]
[]
["Napok száma:",{"$f":"SUM(IF(($A$9:$A$71>=B$2)*($A$9:$A$71<=B$3),1,0))","v":42},"Határszám",null,"Összeg / érték","Pontszám"]
[null,null,null,"Békéscsaba",2738,{"$f":"SUM(F7:F12)","v":43},null,"Attribútum","Határszám (Elvárt teljesítmény/nap)"]
[null,null,{"$f":"INDEX(I$7:I$12,MATCH(D7,H$7:H$12,0))","v":35},"Betérő ügyfelek",1051,{"$f":"MAX(MIN(ROUND(E7/B$5*20/C7,0),20),-20)","v":14},null,"Betérő ügyfelek",35]
["Munkanapok",null,{"$f":"INDEX(I$7:I$12,MATCH(D8,H$7:H$12,0))","v":25},"Betét állomány növekmény",711,{"$f":"MAX(MIN(ROUND(E8/B$5*20/C8,0),20),-20)","v":14},null,"Betét állomány növekmény",25]
["2019-01-02",null,2,"KKV hitelnövekmény (db)",-3,-1,null,"KKV hitelnövekmény (db)",2]
["2019-01-03",null,4,"KKV számlanyitás",-36,-4,null,"KKV számlanyitás",4]
["2019-01-06",null,30,"Lakossági hitelnövekmény összege ",920,15,null,"Lakossági hitelnövekmény összege ",30]
["2019-01-07",null,9,"Lakossági számlanyitás",95,5,null,"Lakossági számlanyitás",9]
["2019-01-08",null,null,"Budapest Dél",2605,{"$f":"SUM(F14:F19)","v":39}]
["2019-01-09",null,{"$f":"INDEX(I$7:I$12,MATCH(D14,H$7:H$12,0))","v":35},"Betérő ügyfelek",1051,{"$f":"MAX(MIN(ROUND(E14/B$5*20/C14,0),20),-20)","v":14}]
["2019-01-10",null,{"$f":"INDEX(I$7:I$12,MATCH(D15,H$7:H$12,0))","v":25},"Betét állomány növekmény",572,{"$f":"MAX(MIN(ROUND(E15/B$5*20/C15,0),20),-20)","v":11}]
["2019-01-13",null,2,"KKV hitelnövekmény (db)",-21,-5,null,"Kivonatos táblázat"]
["2019-01-14",null,4,"KKV számlanyitás",-12,-1,null,"Város","Fiók","Pontszám"]
["2019-01-15",null,30,"Lakossági hitelnövekmény összege ",921,15,null,"Békéscsaba","001",{"$f":"INDEX(F$6:F$145,MATCH(H18,D$6:D$145,0))","v":43}]
["2019-01-16",null,9,"Lakossági számlanyitás",94,5,null,"Budapest Dél","002",{"$f":"INDEX(F$6:F$145,MATCH(H19,D$6:D$145,0))","v":39}]
["2019-01-17",null,null,"Budapest Észak",2696,{"$f":"SUM(F21:F26)","v":51},null,"Budapest Észak","003",51]
["2019-01-20",null,{"$f":"INDEX(I$7:I$12,MATCH(D21,H$7:H$12,0))","v":35},"Betérő ügyfelek",1070,{"$f":"MAX(MIN(ROUND(E21/B$5*20/C21,0),20),-20)","v":15},null,"Debrecen","004",37]
["2019-01-21",null,{"$f":"INDEX(I$7:I$12,MATCH(D22,H$7:H$12,0))","v":25},"Betét állomány növekmény",694,{"$f":"MAX(MIN(ROUND(E22/B$5*20/C22,0),20),-20)","v":13},null,"Eger","005",48]
["2019-01-22",null,2,"KKV hitelnövekmény (db)",10,2,null,"Győr","006",53]
["2019-01-23",null,4,"KKV számlanyitás",25,3,null,"Kaposvár","007",47]
["2019-01-24",null,30,"Lakossági hitelnövekmény összege ",787,12,null,"Kecskemét","008",52]
["2019-01-27",null,9,"Lakossági számlanyitás",110,6,null,"Miskolc","009",41]
["2019-01-28",null,null,"Debrecen",2182,{"$f":"SUM(F28:F33)","v":37},null,"Nyíregyháza","010",54]
["2019-01-29",null,{"$f":"INDEX(I$7:I$12,MATCH(D28,H$7:H$12,0))","v":35},"Betérő ügyfelek",904,{"$f":"MAX(MIN(ROUND(E28/B$5*20/C28,0),20),-20)","v":12},null,"Pécs","011",45]
["2019-01-30",null,{"$f":"INDEX(I$7:I$12,MATCH(D29,H$7:H$12,0))","v":25},"Betét állomány növekmény",524,{"$f":"MAX(MIN(ROUND(E29/B$5*20/C29,0),20),-20)","v":10},null,"Salgótarján","012",39]
["2019-01-31",null,2,"KKV hitelnövekmény (db)",-2,0,null,"Szeged","013",41]
["2019-02-03",null,4,"KKV számlanyitás",-6,-1,null,"Székesfehérvár","014",48]
["2019-02-04",null,30,"Lakossági hitelnövekmény összege ",676,11,null,"Szekszárd","015",44]
["2019-02-05",null,9,"Lakossági számlanyitás",86,5,null,"Szolnok","016",51]
["2019-02-06",null,null,"Eger",2761,{"$f":"SUM(F35:F40)","v":48},null,"Szombathely","017",42]
["2019-02-07",null,{"$f":"INDEX(I$7:I$12,MATCH(D35,H$7:H$12,0))","v":35},"Betérő ügyfelek",1076,{"$f":"MAX(MIN(ROUND(E35/B$5*20/C35,0),20),-20)","v":15},null,"Tatabánya","018",49]
["2019-02-10",null,{"$f":"INDEX(I$7:I$12,MATCH(D36,H$7:H$12,0))","v":25},"Betét állomány növekmény",735,{"$f":"MAX(MIN(ROUND(E36/B$5*20/C36,0),20),-20)","v":14},null,"Veszprém","019",38]
["2019-02-11",null,2,"KKV hitelnövekmény (db)",12,3,null,"Zalaegerszeg","020",53]
["2019-02-12",null,4,"KKV számlanyitás",-14,-2]
["2019-02-13",null,30,"Lakossági hitelnövekmény összege ",877,14]
["2019-02-14",null,9,"Lakossági számlanyitás",75,4]
["2019-02-17",null,null,"Győr",2909,{"$f":"SUM(F42:F47)","v":53}]
["2019-02-18",null,{"$f":"INDEX(I$7:I$12,MATCH(D42,H$7:H$12,0))","v":35},"Betérő ügyfelek",1155,{"$f":"MAX(MIN(ROUND(E42/B$5*20/C42,0),20),-20)","v":16}]
["2019-02-19",null,{"$f":"INDEX(I$7:I$12,MATCH(D43,H$7:H$12,0))","v":25},"Betét állomány növekmény",907,{"$f":"MAX(MIN(ROUND(E43/B$5*20/C43,0),20),-20)","v":17}]
["2019-02-20",null,2,"KKV hitelnövekmény (db)",12,3]
["2019-02-21",null,4,"KKV számlanyitás",2,0]
["2019-02-24",null,30,"Lakossági hitelnövekmény összege ",711,11]
["2019-02-25",null,9,"Lakossági számlanyitás",122,6]
["2019-02-26",null,null,"Kaposvár",2729,{"$f":"SUM(F49:F54)","v":47}]
["2019-02-27",null,{"$f":"INDEX(I$7:I$12,MATCH(D49,H$7:H$12,0))","v":35},"Betérő ügyfelek",1047,{"$f":"MAX(MIN(ROUND(E49/B$5*20/C49,0),20),-20)","v":14}]
["2019-02-28",null,{"$f":"INDEX(I$7:I$12,MATCH(D50,H$7:H$12,0))","v":25},"Betét állomány növekmény",779,{"$f":"MAX(MIN(ROUND(E50/B$5*20/C50,0),20),-20)","v":15}]
["2019-03-03",null,2,"KKV hitelnövekmény (db)",-6,-1]
["2019-03-04",null,4,"KKV számlanyitás",5,1]
["2019-03-05",null,30,"Lakossági hitelnövekmény összege ",786,12]
["2019-03-06",null,9,"Lakossági számlanyitás",118,6]
["2019-03-07",null,null,"Kecskemét",2717,{"$f":"SUM(F56:F61)","v":52}]
["2019-03-10",null,{"$f":"INDEX(I$7:I$12,MATCH(D56,H$7:H$12,0))","v":35},"Betérő ügyfelek",939,{"$f":"MAX(MIN(ROUND(E56/B$5*20/C56,0),20),-20)","v":13}]
["2019-03-11",null,{"$f":"INDEX(I$7:I$12,MATCH(D57,H$7:H$12,0))","v":25},"Betét állomány növekmény",813,{"$f":"MAX(MIN(ROUND(E57/B$5*20/C57,0),20),-20)","v":15}]
["2019-03-12",null,2,"KKV hitelnövekmény (db)",9,2]
["2019-03-13",null,4,"KKV számlanyitás",27,3]
["2019-03-14",null,30,"Lakossági hitelnövekmény összege ",813,13]
["2019-03-17",null,9,"Lakossági számlanyitás",116,6]
["2019-03-18",null,null,"Miskolc",2436,{"$f":"SUM(F63:F68)","v":41}]
["2019-03-19",null,{"$f":"INDEX(I$7:I$12,MATCH(D63,H$7:H$12,0))","v":35},"Betérő ügyfelek",932,{"$f":"MAX(MIN(ROUND(E63/B$5*20/C63,0),20),-20)","v":13}]
["2019-03-20",null,{"$f":"INDEX(I$7:I$12,MATCH(D64,H$7:H$12,0))","v":25},"Betét állomány növekmény",587,{"$f":"MAX(MIN(ROUND(E64/B$5*20/C64,0),20),-20)","v":11}]
["2019-03-21",null,2,"KKV hitelnövekmény (db)",-19,-5]
["2019-03-24",null,4,"KKV számlanyitás",27,3]
["2019-03-25",null,30,"Lakossági hitelnövekmény összege ",799,13]
["2019-03-26",null,9,"Lakossági számlanyitás",110,6]
["2019-03-27",null,null,"Nyíregyháza",2894,{"$f":"SUM(F70:F75)","v":54}]
["2019-03-28",null,{"$f":"INDEX(I$7:I$12,MATCH(D70,H$7:H$12,0))","v":35},"Betérő ügyfelek",1088,{"$f":"MAX(MIN(ROUND(E70/B$5*20/C70,0),20),-20)","v":15}]
["2019-03-31",null,{"$f":"INDEX(I$7:I$12,MATCH(D71,H$7:H$12,0))","v":25},"Betét állomány növekmény",783,{"$f":"MAX(MIN(ROUND(E71/B$5*20/C71,0),20),-20)","v":15}]
[null,null,2,"KKV hitelnövekmény (db)",2,0]
[null,null,4,"KKV számlanyitás",22,3]
[null,null,30,"Lakossági hitelnövekmény összege ",846,13]
[null,null,9,"Lakossági számlanyitás",153,8]
[null,null,null,"Pécs",2709,{"$f":"SUM(F77:F82)","v":45}]
[null,null,{"$f":"INDEX(I$7:I$12,MATCH(D77,H$7:H$12,0))","v":35},"Betérő ügyfelek",1280,{"$f":"MAX(MIN(ROUND(E77/B$5*20/C77,0),20),-20)","v":17}]
[null,null,{"$f":"INDEX(I$7:I$12,MATCH(D78,H$7:H$12,0))","v":25},"Betét állomány növekmény",431,{"$f":"MAX(MIN(ROUND(E78/B$5*20/C78,0),20),-20)","v":8}]
[null,null,2,"KKV hitelnövekmény (db)",-8,-2]
[null,null,4,"KKV számlanyitás",17,2]
[null,null,30,"Lakossági hitelnövekmény összege ",880,14]
[null,null,9,"Lakossági számlanyitás",109,6]
[null,null,null,"Salgótarján",2511,{"$f":"SUM(F84:F89)","v":39}]
[null,null,{"$f":"INDEX(I$7:I$12,MATCH(D84,H$7:H$12,0))","v":35},"Betérő ügyfelek",1083,{"$f":"MAX(MIN(ROUND(E84/B$5*20/C84,0),20),-20)","v":15}]
[null,null,{"$f":"INDEX(I$7:I$12,MATCH(D85,H$7:H$12,0))","v":25},"Betét állomány növekmény",493,{"$f":"MAX(MIN(ROUND(E85/B$5*20/C85,0),20),-20)","v":9}]
[null,null,2,"KKV hitelnövekmény (db)",-3,-1]
[null,null,4,"KKV számlanyitás",-11,-1]
[null,null,30,"Lakossági hitelnövekmény összege ",914,15]
[null,null,9,"Lakossági számlanyitás",35,2]
[null,null,null,"Szeged",2653,{"$f":"SUM(F91:F96)","v":41}]
[null,null,{"$f":"INDEX(I$7:I$12,MATCH(D91,H$7:H$12,0))","v":35},"Betérő ügyfelek",1123,{"$f":"MAX(MIN(ROUND(E91/B$5*20/C91,0),20),-20)","v":15}]
[null,null,{"$f":"INDEX(I$7:I$12,MATCH(D92,H$7:H$12,0))","v":25},"Betét állomány növekmény",637,{"$f":"MAX(MIN(ROUND(E92/B$5*20/C92,0),20),-20)","v":12}]
[null,null,2,"KKV hitelnövekmény (db)",-4,-1]
[null,null,4,"KKV számlanyitás",-33,-4]
[null,null,30,"Lakossági hitelnövekmény összege ",824,13]
[null,null,9,"Lakossági számlanyitás",106,6]
[null,null,null,"Székesfehérvár",2543,{"$f":"SUM(F98:F103)","v":48}]
[null,null,{"$f":"INDEX(I$7:I$12,MATCH(D98,H$7:H$12,0))","v":35},"Betérő ügyfelek",983,{"$f":"MAX(MIN(ROUND(E98/B$5*20/C98,0),20),-20)","v":13}]
[null,null,{"$f":"INDEX(I$7:I$12,MATCH(D99,H$7:H$12,0))","v":25},"Betét állomány növekmény",621,{"$f":"MAX(MIN(ROUND(E99/B$5*20/C99,0),20),-20)","v":12}]
[null,null,2,"KKV hitelnövekmény (db)",13,3]
[null,null,4,"KKV számlanyitás",6,1]
[null,null,30,"Lakossági hitelnövekmény összege ",813,13]
[null,null,9,"Lakossági számlanyitás",107,6]
[null,null,null,"Szekszárd",2728,{"$f":"SUM(F105:F110)","v":44}]
[null,null,{"$f":"INDEX(I$7:I$12,MATCH(D105,H$7:H$12,0))","v":35},"Betérő ügyfelek",1162,{"$f":"MAX(MIN(ROUND(E105/B$5*20/C105,0),20),-20)","v":16}]
[null,null,{"$f":"INDEX(I$7:I$12,MATCH(D106,H$7:H$12,0))","v":25},"Betét állomány növekmény",446,{"$f":"MAX(MIN(ROUND(E106/B$5*20/C106,0),20),-20)","v":8}]
[null,null,2,"KKV hitelnövekmény (db)",4,1]
[null,null,4,"KKV számlanyitás",-13,-2]
[null,null,30,"Lakossági hitelnövekmény összege ",1034,16]
[null,null,9,"Lakossági számlanyitás",95,5]
[null,null,null,"Szolnok",2889,{"$f":"SUM(F112:F117)","v":51}]
[null,null,{"$f":"INDEX(I$7:I$12,MATCH(D112,H$7:H$12,0))","v":35},"Betérő ügyfelek",1126,{"$f":"MAX(MIN(ROUND(E112/B$5*20/C112,0),20),-20)","v":15}]
[null,null,{"$f":"INDEX(I$7:I$12,MATCH(D113,H$7:H$12,0))","v":25},"Betét állomány növekmény",804,{"$f":"MAX(MIN(ROUND(E113/B$5*20/C113,0),20),-20)","v":15}]
[null,null,2,"KKV hitelnövekmény (db)",-1,0]
[null,null,4,"KKV számlanyitás",13,2]
[null,null,30,"Lakossági hitelnövekmény összege ",853,14]
[null,null,9,"Lakossági számlanyitás",94,5]
[null,null,null,"Szombathely",2317,{"$f":"SUM(F119:F124)","v":42}]
[null,null,{"$f":"INDEX(I$7:I$12,MATCH(D119,H$7:H$12,0))","v":35},"Betérő ügyfelek",917,{"$f":"MAX(MIN(ROUND(E119/B$5*20/C119,0),20),-20)","v":12}]
[null,null,{"$f":"INDEX(I$7:I$12,MATCH(D120,H$7:H$12,0))","v":25},"Betét állomány növekmény",588,{"$f":"MAX(MIN(ROUND(E120/B$5*20/C120,0),20),-20)","v":11}]
[null,null,2,"KKV hitelnövekmény (db)",8,2]
[null,null,4,"KKV számlanyitás",14,2]
[null,null,30,"Lakossági hitelnövekmény összege ",720,11]
[null,null,9,"Lakossági számlanyitás",70,4]
[null,null,null,"Tatabánya",2669,{"$f":"SUM(F126:F131)","v":49}]
[null,null,{"$f":"INDEX(I$7:I$12,MATCH(D126,H$7:H$12,0))","v":35},"Betérő ügyfelek",1005,{"$f":"MAX(MIN(ROUND(E126/B$5*20/C126,0),20),-20)","v":14}]
[null,null,{"$f":"INDEX(I$7:I$12,MATCH(D127,H$7:H$12,0))","v":25},"Betét állomány növekmény",687,{"$f":"MAX(MIN(ROUND(E127/B$5*20/C127,0),20),-20)","v":13}]
[null,null,2,"KKV hitelnövekmény (db)",5,1]
[null,null,4,"KKV számlanyitás",19,2]
[null,null,30,"Lakossági hitelnövekmény összege ",849,13]
[null,null,9,"Lakossági számlanyitás",104,6]
[null,null,null,"Veszprém",2439,{"$f":"SUM(F133:F138)","v":38}]
[null,null,{"$f":"INDEX(I$7:I$12,MATCH(D133,H$7:H$12,0))","v":35},"Betérő ügyfelek",826,{"$f":"MAX(MIN(ROUND(E133/B$5*20/C133,0),20),-20)","v":11}]
[null,null,{"$f":"INDEX(I$7:I$12,MATCH(D134,H$7:H$12,0))","v":25},"Betét állomány növekmény",643,{"$f":"MAX(MIN(ROUND(E134/B$5*20/C134,0),20),-20)","v":12}]
[null,null,2,"KKV hitelnövekmény (db)",-8,-2]
[null,null,4,"KKV számlanyitás",-22,-3]
[null,null,30,"Lakossági hitelnövekmény összege ",896,14]
[null,null,9,"Lakossági számlanyitás",104,6]
[null,null,null,"Zalaegerszeg",2887,{"$f":"SUM(F140:F145)","v":53}]
[null,null,{"$f":"INDEX(I$7:I$12,MATCH(D140,H$7:H$12,0))","v":35},"Betérő ügyfelek",1093,{"$f":"MAX(MIN(ROUND(E140/B$5*20/C140,0),20),-20)","v":15}]
[null,null,{"$f":"INDEX(I$7:I$12,MATCH(D141,H$7:H$12,0))","v":25},"Betét állomány növekmény",649,{"$f":"MAX(MIN(ROUND(E141/B$5*20/C141,0),20),-20)","v":12}]
[null,null,2,"KKV hitelnövekmény (db)",4,1]
[null,null,4,"KKV számlanyitás",5,1]
[null,null,30,"Lakossági hitelnövekmény összege ",989,16]
[null,null,9,"Lakossági számlanyitás",147,8]
[null,null,null,"Végösszeg",53012]

{"sheet":"Ellenőrző pivots","index":4,"n_rows":85,"n_cols":18,"rows_kept":85,"cut":false,"hidden":false,"merged":[]}
["Ellenőrző kérdések:",null,null,null,"melyek azok/darab",{"$f":"COUNT(F3:F22)","v":20},null,"melyek azok/darab",{"$f":"COUNT(I3:I22)","v":20},null,"melyek azok/darab",{"$f":"COUNT(L3:L3)","v":1},null,"melyek azok/darab",{"$f":"COUNT(O4:O66)","v":63},null,"melyek azok/darab",{"$f":"COUNT(R3:R73)","v":71}]
["Mennyi az Adattábla munkalapon látható adatbázis egyes mezői (oszlopfejlécei) mögötti opciók száma és melyek ezek?",null,"pivot-alapon",null,"Sorcímkék","Mennyiség / Város",null,"Sorcímkék","Mennyiség / Fiók",null,"Sorcímkék","Mennyiség / Negyedév",null,"Sorcímkék","Mennyiség / Év.Hó.Nap",null,"Sorcímkék","Mennyiség / Érték"]
["Sorszám",{"$f":"SUMPRODUCT(1/COUNTIF(Adattábla!A$2:A$7561,Adattábla!A$2:A$7561))","v":7560},null,null,"Békéscsaba",378,null,"001",378,null,"Q1",7560,null,"(üres)",null,null,-20,18]
["Város",{"$f":"SUMPRODUCT(1/COUNTIF(Adattábla!B$2:B$7561,Adattábla!B$2:B$7561))","v":20.00000000000226},{"$f":"F1","v":20},null,"Budapest Dél",378,null,"002",378,null,"(üres)",null,null,"02.jan",120,null,-19,19]
["Fiók",{"$f":"SUMPRODUCT(1/COUNTIF(Adattábla!C$2:C$7561,Adattábla!C$2:C$7561))","v":20.00000000000226},{"$f":"I1","v":20},null,"Budapest Észak",378,null,"003",378,null,"Végösszeg",7560,null,"03.jan",120,null,-18,16]
["Negyedév",{"$f":"SUMPRODUCT(1/COUNTIF(Adattábla!D$2:D$7561,Adattábla!D$2:D$7561))","v":0.99999999999988465},{"$f":"L1","v":1},null,"Debrecen",378,null,"004",378,null,null,null,null,"06.jan",120,null,-17,21]
["Év.Hó.Nap",{"$f":"SUMPRODUCT(1/COUNTIF(Adattábla!E$2:E$7561,Adattábla!E$2:E$7561))","v":62.999999999997065},{"$f":"O1","v":63},null,"Eger",378,null,"005",378,null,"melyek azok/darab",{"$f":"COUNT(L9:L14)","v":6},null,"07.jan",120,null,-16,17]
["Attribútum",{"$f":"SUMPRODUCT(1/COUNTIF(Adattábla!F$2:F$7561,Adattábla!F$2:F$7561))","v":5.9999999999999796},{"$f":"L7","v":6},null,"Győr",378,null,"006",378,null,"Sorcímkék","Mennyiség / Attribútum",null,"08.jan",120,null,-15,22]
["Érték",{"$f":"SUMPRODUCT(1/COUNTIF(Adattábla!G$2:G$7561,Adattábla!G$2:G$7561))","v":71.000000000000767},{"$f":"R1","v":71},null,"Kaposvár",378,null,"007",378,null,"Betérő ügyfelek",1260,null,"09.jan",120,null,-14,15]
["M.egység",{"$f":"SUMPRODUCT(1/COUNTIF(Adattábla!H$2:H$7561,Adattábla!H$2:H$7561))","v":3.0000000000001017},{"$f":"F26","v":3},null,"Kecskemét",378,null,"008",378,null,"Betét állomány növekmény",1260,null,"10.jan",120,null,-13,17]
["Rögzítés dátuma",{"$f":"SUMPRODUCT(1/COUNTIF(Adattábla!I$2:I$7561,Adattábla!I$2:I$7561))","v":3.0000000000002398},{"$f":"I32","v":3},null,"Miskolc",378,null,"009",378,null,"KKV hitelnövekmény (db)",1260,null,"13.jan",120,null,-12,13]
["Rögzítette",{"$f":"SUMPRODUCT(1/COUNTIF(Adattábla!J$2:J$7561,Adattábla!J$2:J$7561))","v":56.999999999998288},{"$f":"L25","v":57},null,"Nyíregyháza",378,null,"010",378,null,"KKV számlanyitás",1260,null,"14.jan",120,null,-11,23]
["Időtartomány",{"$f":"SUMPRODUCT(1/COUNTIF(Adattábla!K$2:K$7561,Adattábla!K$2:K$7561))","v":1.9999999999999931},{"$f":"L18","v":2},null,"Pécs",378,null,"011",378,null,"Lakossági hitelnövekmény összege ",1260,null,"15.jan",120,null,-10,39]
[null,null,null,null,"Salgótarján",378,null,"012",378,null,"Lakossági számlanyitás",1260,null,"16.jan",120,null,-9,39]
[null,null,null,null,"Szeged",378,null,"013",378,null,"(üres)",null,null,"17.jan",120,null,-8,33]
[null,null,null,null,"Székesfehérvár",378,null,"014",378,null,"Végösszeg",7560,null,"20.jan",120,null,-7,29]
["Keletkezett-e adat korábban, mint amiről az adat ténylegesen szól? (vö. ÉÉHHNN vs. Rögzítés dátuma)","Nem","<--ide egy HA() függvény kellett volna, mely valamilyen feltételek teljesülése esetén vezet NEM-re",null,"Szekszárd",378,null,"015",378,null,null,null,null,"21.jan",120,null,-6,35]
["Racionálisak-e az egyes attribútumok max, min, átlag értékei?","Igen","<--ide egy HA() függvény kellett volna, mely valamilyen feltételek teljesülése esetén vezet IGEN-re",null,"Szolnok",378,null,"016",378,null,"melyek azok/darab",{"$f":"COUNT(L20:L21)","v":2},null,"22.jan",120,null,-5,244]
["Minden mértékegység-adat megfelel az attribútum elnevezésének?","Igen","<--ide egy HA() függvény kellett volna, mely valamilyen feltételek teljesülése esetén vezet IGEN-re",null,"Szombathely",378,null,"017",378,null,"Sorcímkék","Mennyiség / Időtartomány",null,"23.jan",120,null,-4,224]
["…",null,null,null,"Tatabánya",378,null,"018",378,null,"HAMIS",3480,null,"24.jan",120,null,-3,201]
[null,null,null,null,"Veszprém",378,null,"019",378,null,"IGAZ",4080,null,"27.jan",120,null,-2,504]
["Értelmező kérdések (pl. megjegyzések formájában is felkínálva a támogatást a szükséges pontokon):",null,null,null,"Zalaegerszeg",378,null,"020",378,null,"(üres)",null,null,"28.jan",120,null,-1,468]
["Mit jelent az időtartomány IGAZ/HAMIS tartalma?","Megjegyzésben","<--ide egy belső ugrópont (CTRL+K) kellett volna",null,"(üres)",null,null,"(üres)",null,null,"Végösszeg",7560,null,"29.jan",120,null,0,481]
["Mit jelent a határszám fogalma?","Megjegyzésben","<--ide egy belső ugrópont (CTRL+K) kellett volna",null,"Végösszeg",7560,null,"Végösszeg",7560,null,null,null,null,"30.jan",120,null,1,518]
["…",null,null,null,null,null,null,null,null,null,"melyek azok/darab",{"$f":"COUNT(L27:L83)","v":57},null,"31.jan",120,null,2,495]
[null,null,null,null,"melyek azok/darab",{"$f":"COUNT(F28:F30)","v":3},null,"Sorcímkék","Mennyiség / Rögzítés dátuma",null,"Sorcímkék","Mennyiség / Rögzítette",null,"03.febr",120,null,3,261]
["Súgó:",null,null,null,"Sorcímkék","Mennyiség / M.egység",null,"(üres)",null,null,"anyabe",126,null,"04.febr",120,null,4,240]
["Milyen sorrendben és miért éppen úgy érdemes bejárni az XLS-t a benne tárolt tudás teljes megértéséhez?","GYIK,Súgó","<--ide egy belső ugrópont (CTRL+K) kellett volna",null,"db",3780,null,"01.febr",2640,null,"berces2",120,null,"05.febr",120,null,5,260]
["…",null,null,null,"fő",1260,null,"01.márc",2400,null,"berecz2a",126,null,"06.febr",120,null,6,157]
[null,null,null,null,"Mhuf",2520,null,"01.ápr",2520,null,"bonca",120,null,"07.febr",120,null,7,152]
[null,null,null,null,"(üres)",null,null,"Végösszeg",7560,null,"bubor12",120,null,"10.febr",120,null,8,154]
[null,null,null,null,"Végösszeg",7560,null,"melyek azok/darab",{"$f":"COUNT(I28:I30)","v":3},null,"diosg2",252,null,"11.febr",120,null,9,134]
[null,null,null,null,null,null,null,null,null,null,"edda99",264,null,"12.febr",120,null,10,125]
[null,null,null,null,null,null,null,null,null,null,"edinak",126,null,"13.febr",120,null,11,61]
[null,null,null,null,null,null,null,null,null,null,"evahorg",126,null,"14.febr",120,null,12,63]
[null,null,null,null,null,null,null,null,null,null,"fenyesf",132,null,"17.febr",120,null,13,67]
[null,null,null,null,null,null,null,null,null,null,"gbors",120,null,"18.febr",120,null,14,73]
[null,null,null,null,null,null,null,null,null,null,"gizella2",132,null,"19.febr",120,null,15,63]
[null,null,null,null,null,null,null,null,null,null,"gmonos",126,null,"20.febr",120,null,16,62]
[null,null,null,null,null,null,null,null,null,null,"hatvani",120,null,"21.febr",120,null,17,57]
[null,null,null,null,null,null,null,null,null,null,"hien000",120,null,"24.febr",120,null,18,55]
[null,null,null,null,null,null,null,null,null,null,"horvath33",126,null,"25.febr",120,null,19,62]
[null,null,null,null,null,null,null,null,null,null,"hunyor",126,null,"26.febr",120,null,20,85]
[null,null,null,null,null,null,null,null,null,null,"idobo",132,null,"27.febr",120,null,21,75]
[null,null,null,null,null,null,null,null,null,null,"irdatl1",120,null,"28.febr",120,null,22,76]
[null,null,null,null,null,null,null,null,null,null,"jonas191",120,null,"03.márc",120,null,23,59]
[null,null,null,null,null,null,null,null,null,null,"jumur1",126,null,"04.márc",120,null,24,57]
[null,null,null,null,null,null,null,null,null,null,"kalmanm",132,null,"05.márc",120,null,25,56]
[null,null,null,null,null,null,null,null,null,null,"kanisi0",126,null,"06.márc",120,null,26,64]
[null,null,null,null,null,null,null,null,null,null,"kispali12",132,null,"07.márc",120,null,27,75]
[null,null,null,null,null,null,null,null,null,null,"kiss132",126,null,"10.márc",120,null,28,64]
[null,null,null,null,null,null,null,null,null,null,"kolyok",240,null,"11.márc",120,null,29,71]
[null,null,null,null,null,null,null,null,null,null,"komlos",120,null,"12.márc",120,null,30,69]
[null,null,null,null,null,null,null,null,null,null,"kormos3",120,null,"13.márc",120,null,31,75]
[null,null,null,null,null,null,null,null,null,null,"lajanagy",120,null,"14.márc",120,null,32,61]
[null,null,null,null,null,null,null,null,null,null,"lajosk",132,null,"17.márc",120,null,33,78]
[null,null,null,null,null,null,null,null,null,null,"laszlop",120,null,"18.márc",120,null,34,73]
[null,null,null,null,null,null,null,null,null,null,"litkey",132,null,"19.márc",120,null,35,73]
[null,null,null,null,null,null,null,null,null,null,"lovass",132,null,"20.márc",120,null,36,57]
[null,null,null,null,null,null,null,null,null,null,"lovo20",132,null,"21.márc",120,null,37,68]
[null,null,null,null,null,null,null,null,null,null,"ludvig3",120,null,"24.márc",120,null,38,51]
[null,null,null,null,null,null,null,null,null,null,"marito",126,null,"25.márc",120,null,39,64]
[null,null,null,null,null,null,null,null,null,null,"martika",126,null,"26.márc",120,null,40,50]
[null,null,null,null,null,null,null,null,null,null,"matyas9",132,null,"27.márc",120,null,41,62]
[null,null,null,null,null,null,null,null,null,null,"mecseki",132,null,"28.márc",120,null,42,58]
[null,null,null,null,null,null,null,null,null,null,"monoska",132,null,"31.márc",120,null,43,65]
[null,null,null,null,null,null,null,null,null,null,"moricz1b",120,null,"Végösszeg",7560,null,44,63]
[null,null,null,null,null,null,null,null,null,null,"napol01",132,null,null,null,null,45,63]
[null,null,null,null,null,null,null,null,null,null,"noszty",120,null,null,null,null,46,63]
[null,null,null,null,null,null,null,null,null,null,"orfuto2",126,null,null,null,null,47,57]
[null,null,null,null,null,null,null,null,null,null,"pálpapp",126,null,null,null,null,48,62]
[null,null,null,null,null,null,null,null,null,null,"pasztoi",132,null,null,null,null,49,65]
[null,null,null,null,null,null,null,null,null,null,"pircsi",132,null,null,null,null,50,64]
[null,null,null,null,null,null,null,null,null,null,"szaffi7",126,null,null,null,null,"(üres)"]
[null,null,null,null,null,null,null,null,null,null,"tiszai",132,null,null,null,null,"Végösszeg",7560]
[null,null,null,null,null,null,null,null,null,null,"todor2",120]
[null,null,null,null,null,null,null,null,null,null,"tolnayk",126]
[null,null,null,null,null,null,null,null,null,null,"tototo",126]
[null,null,null,null,null,null,null,null,null,null,"vica23",132]
[null,null,null,null,null,null,null,null,null,null,"vincekis",126]
[null,null,null,null,null,null,null,null,null,null,"viragb",132]
[null,null,null,null,null,null,null,null,null,null,"zotya",120]
[null,null,null,null,null,null,null,null,null,null,"zsupan2",120]
[null,null,null,null,null,null,null,null,null,null,"(üres)"]
[null,null,null,null,null,null,null,null,null,null,"Végösszeg",7560]

{"sheet":"ellenorzes_oam_darab","index":5,"n_rows":35,"n_cols":11,"rows_kept":35,"cut":false,"hidden":false,"merged":[]}
["Sorszám","Város","Fiók","Negyedév","Év.Hó.Nap","Attribútum","Érték","M.egység","Rögzítés dátuma","Rögzítette","Időtartomány"]
[235,"Békéscsaba","001","Q1","2019-02-26","Betérő ügyfelek",19,"fő","2019-03-01","moricz1b",true]
[229,"Békéscsaba","001","Q1","2019-02-25","Betérő ügyfelek",19,"fő","2019-03-01","moricz1b",true]
[223,"Békéscsaba","001","Q1","2019-02-24","Betérő ügyfelek",27,"fő","2019-03-01","moricz1b",true]
[217,"Békéscsaba","001","Q1","2019-02-21","Betérő ügyfelek",12,"fő","2019-03-01","moricz1b",true]
[211,"Békéscsaba","001","Q1","2019-02-20","Betérő ügyfelek",39,"fő","2019-03-01","moricz1b",true]
[205,"Békéscsaba","001","Q1","2019-02-19","Betérő ügyfelek",30,"fő","2019-03-01","moricz1b",true]
[199,"Békéscsaba","001","Q1","2019-02-18","Betérő ügyfelek",12,"fő","2019-03-01","moricz1b",true]
[193,"Békéscsaba","001","Q1","2019-02-17","Betérő ügyfelek",48,"fő","2019-03-01","moricz1b",true]
[187,"Békéscsaba","001","Q1","2019-02-14","Betérő ügyfelek",31,"fő","2019-03-01","moricz1b",true]
[181,"Békéscsaba","001","Q1","2019-02-13","Betérő ügyfelek",20,"fő","2019-03-01","moricz1b",true]
[175,"Békéscsaba","001","Q1","2019-02-12","Betérő ügyfelek",9,"fő","2019-03-01","moricz1b",true]
[169,"Békéscsaba","001","Q1","2019-02-11","Betérő ügyfelek",6,"fő","2019-03-01","moricz1b",true]
[163,"Békéscsaba","001","Q1","2019-02-10","Betérő ügyfelek",19,"fő","2019-03-01","moricz1b",true]
[157,"Békéscsaba","001","Q1","2019-02-07","Betérő ügyfelek",31,"fő","2019-03-01","moricz1b",true]
[151,"Békéscsaba","001","Q1","2019-02-06","Betérő ügyfelek",23,"fő","2019-03-01","moricz1b",true]
[145,"Békéscsaba","001","Q1","2019-02-05","Betérő ügyfelek",7,"fő","2019-03-01","moricz1b",true]
[139,"Békéscsaba","001","Q1","2019-02-04","Betérő ügyfelek",13,"fő","2019-03-01","moricz1b",true]
[133,"Békéscsaba","001","Q1","2019-02-03","Betérő ügyfelek",43,"fő","2019-03-01","moricz1b",true]
[127,"Békéscsaba","001","Q1","2019-01-31","Betérő ügyfelek",36,"fő","2019-02-01","kispali12",true]
[121,"Békéscsaba","001","Q1","2019-01-30","Betérő ügyfelek",15,"fő","2019-02-01","kispali12",true]
[115,"Békéscsaba","001","Q1","2019-01-29","Betérő ügyfelek",14,"fő","2019-02-01","kispali12",true]
[109,"Békéscsaba","001","Q1","2019-01-28","Betérő ügyfelek",48,"fő","2019-02-01","kispali12",true]
[103,"Békéscsaba","001","Q1","2019-01-27","Betérő ügyfelek",21,"fő","2019-02-01","kispali12",true]
[97,"Békéscsaba","001","Q1","2019-01-24","Betérő ügyfelek",27,"fő","2019-02-01","kispali12",true]
[91,"Békéscsaba","001","Q1","2019-01-23","Betérő ügyfelek",45,"fő","2019-02-01","kispali12",true]
[85,"Békéscsaba","001","Q1","2019-01-22","Betérő ügyfelek",29,"fő","2019-02-01","kispali12",true]
[79,"Békéscsaba","001","Q1","2019-01-21","Betérő ügyfelek",14,"fő","2019-02-01","kispali12",true]
[73,"Békéscsaba","001","Q1","2019-01-20","Betérő ügyfelek",14,"fő","2019-02-01","kispali12",true]
[67,"Békéscsaba","001","Q1","2019-01-17","Betérő ügyfelek",48,"fő","2019-02-01","kispali12",true]
[61,"Békéscsaba","001","Q1","2019-01-16","Betérő ügyfelek",2,"fő","2019-02-01","kispali12",true]
[55,"Békéscsaba","001","Q1","2019-01-15","Betérő ügyfelek",50,"fő","2019-02-01","kispali12",true]
[49,"Békéscsaba","001","Q1","2019-01-14","Betérő ügyfelek",4,"fő","2019-02-01","kispali12",true]
[43,"Békéscsaba","001","Q1","2019-01-13","Betérő ügyfelek",33,"fő","2019-02-01","kispali12",true]
[37,"Békéscsaba","001","Q1","2019-01-10","Betérő ügyfelek",39,"fő","2019-02-01","kispali12",true]

{"sheet":"OAM","index":6,"n_rows":298,"n_cols":18,"rows_kept":298,"cut":false,"hidden":false,"merged":[]}
["jelleg","igaz/hamis","igaz/hamis","igaz/hamis","igaz/hamis","igaz/hamis","igaz/hamis","igaz/hamis"]
["irány","+/-","+/-","+/-","+/-","+/-","+/-","nincs",null,null,null,"Miért 34 darab a 34 darab?","<--elvarratlan szálak?!"]
["mértékegység","db","mhuf","db","db","db","mhuf","mértékegység nélküli szám"]
["Időtartomány","IGAZ",null,null,null,null,null,null,null,null,"Időtartomány","IGAZ"]
["irány",0,0,0,0,0,0]
["Összeg / Érték","Oszlopcímkék",null,null,null,null,null,null,null,null,"Mennyiség / Érték","Oszlopcímkék"]
["Sorcímkék","Betérő ügyfelek","Betét állomány növekmény","KKV hitelnövekmény (db)","KKV számlanyitás","Lakossági hitelnövekmény összege ","Lakossági számlanyitás","Pontszám",null,null,"Sorcímkék","Betérő ügyfelek","Betét állomány növekmény","KKV hitelnövekmény (db)","KKV számlanyitás","Lakossági hitelnövekmény összege ","Lakossági számlanyitás","Pontszám"]
["Békéscsaba",1051,711,-3,-36,920,95,{"$f":"Kimutatás!J18","v":43},null,null,"Békéscsaba",42,42,42,42,42,42,{"$f":"Kimutatás!T18","v":0}]
["Budapest Dél",1051,572,-21,-12,921,94,{"$f":"Kimutatás!J19","v":39},null,null,"Budapest Dél",42,42,42,42,42,42,{"$f":"Kimutatás!T19","v":0}]
["Budapest Észak",1070,694,10,25,787,110,{"$f":"Kimutatás!J20","v":51},null,null,"Budapest Észak",42,42,42,42,42,42,{"$f":"Kimutatás!T20","v":0}]
["Debrecen",904,524,-2,-6,676,86,{"$f":"Kimutatás!J21","v":37},null,null,"Debrecen",42,42,42,42,42,42,{"$f":"Kimutatás!T21","v":0}]
["Eger",1076,735,12,-14,877,75,{"$f":"Kimutatás!J22","v":48},null,null,"Eger",42,42,42,42,42,42,{"$f":"Kimutatás!T22","v":0}]
["Győr",1155,907,12,2,711,122,{"$f":"Kimutatás!J23","v":53},null,null,"Győr",42,42,42,42,42,42,{"$f":"Kimutatás!T23","v":0}]
["Kaposvár",1047,779,-6,5,786,118,{"$f":"Kimutatás!J24","v":47},null,null,"Kaposvár",42,42,42,42,42,42,{"$f":"Kimutatás!T24","v":0}]
["Kecskemét",939,813,9,27,813,116,{"$f":"Kimutatás!J25","v":52},null,null,"Kecskemét",42,42,42,42,42,42,{"$f":"Kimutatás!T25","v":0}]
["Miskolc",932,587,-19,27,799,110,{"$f":"Kimutatás!J26","v":41},null,null,"Miskolc",42,42,42,42,42,42,{"$f":"Kimutatás!T26","v":0}]
["Nyíregyháza",1088,783,2,22,846,153,{"$f":"Kimutatás!J27","v":54},null,null,"Nyíregyháza",42,42,42,42,42,42,{"$f":"Kimutatás!T27","v":0}]
["Pécs",1280,431,-8,17,880,109,{"$f":"Kimutatás!J28","v":45},null,null,"Pécs",42,42,42,42,42,42,{"$f":"Kimutatás!T28","v":0}]
["Salgótarján",1083,493,-3,-11,914,35,{"$f":"Kimutatás!J29","v":39},null,null,"Salgótarján",42,42,42,42,42,42,{"$f":"Kimutatás!T29","v":0}]
["Szeged",1123,637,-4,-33,824,106,{"$f":"Kimutatás!J30","v":41},null,null,"Szeged",42,42,42,42,42,42,{"$f":"Kimutatás!T30","v":0}]
["Székesfehérvár",983,621,13,6,813,107,{"$f":"Kimutatás!J31","v":48},null,null,"Székesfehérvár",42,42,42,42,42,42,{"$f":"Kimutatás!T31","v":0}]
["Szekszárd",1162,446,4,-13,1034,95,{"$f":"Kimutatás!J32","v":44},null,null,"Szekszárd",42,42,42,42,42,42,{"$f":"Kimutatás!T32","v":0}]
["Szolnok",1126,804,-1,13,853,94,{"$f":"Kimutatás!J33","v":51},null,null,"Szolnok",42,42,42,42,42,42,{"$f":"Kimutatás!T33","v":0}]
["Szombathely",917,588,8,14,720,70,{"$f":"Kimutatás!J34","v":42},null,null,"Szombathely",42,42,42,42,42,42,{"$f":"Kimutatás!T34","v":0}]
["Tatabánya",1005,687,5,19,849,104,{"$f":"Kimutatás!J35","v":49},null,null,"Tatabánya",42,42,42,42,42,42,{"$f":"Kimutatás!T35","v":0}]
["Veszprém",826,643,-8,-22,896,104,{"$f":"Kimutatás!J36","v":38},null,null,"Veszprém",42,42,42,42,42,42,{"$f":"Kimutatás!T36","v":0}]
["Zalaegerszeg",1093,649,4,5,989,147,{"$f":"Kimutatás!J37","v":53},null,null,"Zalaegerszeg",42,42,42,42,42,42,{"$f":"Kimutatás!T37","v":0}]
["Végösszeg",20911,13104,4,35,16908,2050,null,null,null,"Végösszeg",840,840,840,840,840,840]
[]
[null,"X1","X2","X3","X4","X5","X6","Y","korreláció",{"$f":"CORREL(H32:H51,I32:I51)","v":0.75474267607837031}]
[null,{"$f":"B7","v":"Betérő ügyfelek"},{"$f":"C7","v":"Betét állomány növekmény"},"KKV hitelnövekmény (db)","KKV számlanyitás","Lakossági hitelnövekmény összege ","Lakossági számlanyitás","Pontszám","Y0",null,"Y(pontszám)-rangsor","Y0-rangsor","abszolút eltérés","objektum"]
[{"$f":"A8","v":"Békéscsaba"},{"$f":"RANK(B8,B$8:B$27,B$5)","v":11},{"$f":"RANK(C8,C$8:C$27,C$5)","v":7},13,20,4,13,{"$f":"H8*1000","v":43000},{"$f":"H265","v":9988.5},null,{"$f":"RANK(H32,H$32:H$51,0)","v":13},{"$f":"RANK(I32,I$32:I$51,0)","v":15},{"$f":"ABS(L32-K32)","v":2},{"$f":"A8","v":"Békéscsaba"}]
[{"$f":"A9","v":"Budapest Dél"},{"$f":"RANK(B9,B$8:B$27,B$5)","v":11},16,20,15,3,15,{"$f":"H9*1000","v":39000},{"$f":"H266","v":9980.5},null,{"$f":"RANK(H33,H$32:H$51,0)","v":17},{"$f":"RANK(I33,I$32:I$51,0)","v":18},{"$f":"ABS(L33-K33)","v":1},{"$f":"A9","v":"Budapest Dél"}]
["Budapest Észak",10,8,4,3,16,6,51000,10024.5,null,5,2,3,"Budapest Észak"]
["Debrecen",19,17,12,13,20,17,37000,9969.5,null,20,20,0,"Debrecen"]
["Eger",9,6,2,17,8,18,48000,9997,null,8,8,0,"Eger"]
["Győr",3,1,2,12,19,3,53000,10017.5,null,2,5,3,"Győr"]
["Kaposvár",13,5,16,10,17,4,47000,9986.5,null,10,16,6,"Kaposvár"]
["Kecskemét",16,2,5,1,13,5,52000,9997,null,4,8,4,"Kecskemét"]
["Miskolc",17,15,19,1,15,6,41000,9997,null,15,8,7,"Miskolc"]
["Nyíregyháza",7,4,10,4,11,1,54000,10021,null,1,3,2,"Nyíregyháza"]
["Pécs",1,20,17,6,7,8,45000,9997,null,11,8,3,"Pécs"]
["Salgótarján",8,18,13,14,5,20,39000,9978,null,17,19,2,"Salgótarján"]
["Szeged",5,12,15,19,12,10,41000,9989.5,null,15,14,1,"Szeged"]
["Székesfehérvár",15,13,1,9,13,9,48000,10016.5,null,8,6,2,"Székesfehérvár"]
["Szekszárd",2,19,8,16,1,13,44000,10021,null,12,3,9,"Szekszárd"]
["Szolnok",4,3,11,8,9,15,51000,9999,null,5,7,2,"Szolnok"]
["Szombathely",18,14,6,7,18,19,42000,9997,null,14,8,6,"Szombathely"]
["Tatabánya",14,9,7,5,10,11,49000,9997,null,7,8,1,"Tatabánya"]
["Veszprém",20,11,17,18,6,11,38000,9982.5,null,19,17,2,"Veszprém"]
["Zalaegerszeg",6,10,8,10,2,2,53000,10043.5,null,2,1,1,"Zalaegerszeg"]
[]
[]
[]
[]
[]
[]
[]
["Azonos�t�:",8077596,"Objektumok:",20,"Attrib�tumok:",6,"Lepcs�k:",20,"Eltol�s:",0,"Le�r�s:","COCO STD: 8077596"]
[]
["Rangsor","X(A1)","X(A2)","X(A3)","X(A4)","X(A5)","X(A6)","Y(A7)"]
["O1",12,7,13,20,2,12,44000]
["O2",15,15,18,6,5,16,42000]
["O3",11,8,6,4,8,3,53000]
["O4",16,18,13,14,20,14,35000]
["O5",4,5,2,15,10,19,49000]
["O6",6,1,2,15,19,11,52000]
["O7",8,6,18,10,16,10,45000]
["O8",20,4,2,5,11,7,50000]
["O9",18,16,20,1,17,7,39000]
["O10",9,2,7,6,14,9,51000]
["O11",1,20,17,8,13,5,43000]
["O12",10,19,9,18,4,20,38000]
["O13",3,12,13,19,15,5,45000]
["O14",13,14,1,12,12,4,51000]
["O15",2,17,9,10,1,15,47000]
["O16",5,3,9,9,8,17,50000]
["O17",14,13,2,2,18,18,47000]
["O18",17,9,9,3,6,12,47000]
["O19",19,10,16,17,7,2,42000]
["O20",7,11,7,13,3,1,52000]
[]
["L�pcs�k(1)","X(A1)","X(A2)","X(A3)","X(A4)","X(A5)","X(A6)"]
["S1","(0+17500)/(1)=17500","(0+12500)/(1)=12500","(0+38000)/(1)=38000","(0+39000)/(1)=39000","(0+5000)/(1)=5000","(0+4000)/(1)=4000"]
["S2","(0+16500)/(1)=16500","(0+12500)/(1)=12500","(0+25000)/(1)=25000","(0+12500)/(1)=12500","(0+5000)/(1)=5000","(0+4000)/(1)=4000"]
["S3","(0+16500)/(1)=16500","(0+12500)/(1)=12500","(0+22000)/(1)=22000","(0+12500)/(1)=12500","(0+5000)/(1)=5000","(0+0)/(1)=0"]
["S4","(0+12000)/(1)=12000","(0+12500)/(1)=12500","(0+22000)/(1)=22000","(0+12500)/(1)=12500","(0+5000)/(1)=5000","(0+0)/(1)=0"]
["S5","(0+12000)/(1)=12000","(0+8500)/(1)=8500","(0+22000)/(1)=22000","(0+12500)/(1)=12500","(0+5000)/(1)=5000","(0+0)/(1)=0"]
["S6","(0+11000)/(1)=11000","(0+8500)/(1)=8500","(0+22000)/(1)=22000","(0+5500)/(1)=5500","(0+5000)/(1)=5000","(0+0)/(1)=0"]
["S7","(0+11000)/(1)=11000","(0+7500)/(1)=7500","(0+22000)/(1)=22000","(0+3500)/(1)=3500","(0+5000)/(1)=5000","(0+0)/(1)=0"]
["S8","(0+11000)/(1)=11000","(0+7500)/(1)=7500","(0+22000)/(1)=22000","(0+3500)/(1)=3500","(0+0)/(1)=0","(0+0)/(1)=0"]
["S9","(0+11000)/(1)=11000","(0+7500)/(1)=7500","(0+22000)/(1)=22000","(0+3500)/(1)=3500","(0+0)/(1)=0","(0+0)/(1)=0"]
["S10","(0+11000)/(1)=11000","(0+7500)/(1)=7500","(0+22000)/(1)=22000","(0+3500)/(1)=3500","(0+0)/(1)=0","(0+0)/(1)=0"]
["S11","(0+11000)/(1)=11000","(0+6500)/(1)=6500","(0+22000)/(1)=22000","(0+3500)/(1)=3500","(0+0)/(1)=0","(0+0)/(1)=0"]
["S12","(0+9500)/(1)=9500","(0+6500)/(1)=6500","(0+22000)/(1)=22000","(0+3500)/(1)=3500","(0+0)/(1)=0","(0+0)/(1)=0"]
["S13","(0+9500)/(1)=9500","(0+0)/(1)=0","(0+22000)/(1)=22000","(0+3500)/(1)=3500","(0+0)/(1)=0","(0+0)/(1)=0"]
["S14","(0+9500)/(1)=9500","(0+0)/(1)=0","(0+22000)/(1)=22000","(0+3500)/(1)=3500","(0+0)/(1)=0","(0+0)/(1)=0"]
["S15","(0+9500)/(1)=9500","(0+0)/(1)=0","(0+22000)/(1)=22000","(0+3500)/(1)=3500","(0+0)/(1)=0","(0+0)/(1)=0"]
["S16","(0+9500)/(1)=9500","(0+0)/(1)=0","(0+22000)/(1)=22000","(0+3500)/(1)=3500","(0+0)/(1)=0","(0+0)/(1)=0"]
["S17","(0+0)/(1)=0","(0+0)/(1)=0","(0+22000)/(1)=22000","(0+3500)/(1)=3500","(0+0)/(1)=0","(0+0)/(1)=0"]
["S18","(0+0)/(1)=0","(0+0)/(1)=0","(0+22000)/(1)=22000","(0+0)/(1)=0","(0+0)/(1)=0","(0+0)/(1)=0"]
["S19","(0+0)/(1)=0","(0+0)/(1)=0","(0+0)/(1)=0","(0+0)/(1)=0","(0+0)/(1)=0","(0+0)/(1)=0"]
["S20","(0+0)/(1)=0","(0+0)/(1)=0","(0+0)/(1)=0","(0+0)/(1)=0","(0+0)/(1)=0","(0+0)/(1)=0"]
[]
["L�pcs�k(2)","X(A1)","X(A2)","X(A3)","X(A4)","X(A5)","X(A6)"]
["S1",17500,12500,38000,39000,5000,4000]
["S2",16500,12500,25000,12500,5000,4000]
["S3",16500,12500,22000,12500,5000,0]
["S4",12000,12500,22000,12500,5000,0]
["S5",12000,8500,22000,12500,5000,0]
["S6",11000,8500,22000,5500,5000,0]
["S7",11000,7500,22000,3500,5000,0]
["S8",11000,7500,22000,3500,0,0]
["S9",11000,7500,22000,3500,0,0]
["S10",11000,7500,22000,3500,0,0]
["S11",11000,6500,22000,3500,0,0]
["S12",9500,6500,22000,3500,0,0]
["S13",9500,0,22000,3500,0,0]
["S14",9500,0,22000,3500,0,0]
["S15",9500,0,22000,3500,0,0]
["S16",9500,0,22000,3500,0,0]
["S17",0,0,22000,3500,0,0]
["S18",0,0,22000,0,0,0]
["S19",0,0,0,0,0,0]
["S20",0,0,0,0,0,0]
[]
["COCO:STD","X(A1)","X(A2)","X(A3)","X(A4)","X(A5)","X(A6)","Becsl�s","T�ny+0","Delta","Delta/T�ny"]
["O1",9500,7500,22000,0,5000,0,44000,44000,0,0]
["O2",9500,0,22000,5500,5000,0,42000,42000,0,0]
["O3",11000,7500,22000,12500,0,0,53000,53000,0,0]
["O4",9500,0,22000,3500,0,0,35000,35000,0,0]
["O5",12000,8500,25000,3500,0,0,49000,49000,0,0]
["O6",11000,12500,25000,3500,0,0,52000,52000,0,0]
["O7",11000,8500,22000,3500,0,0,45000,45000,0,0]
["O8",0,12500,25000,12500,0,0,50000,50000,0,0]
["O9",0,0,0,39000,0,0,39000,39000,0,0]
["O10",11000,12500,22000,5500,0,0,51000,51000,0,0]
["O11",17500,0,22000,3500,0,0,43000,43000,0,0]
["O12",11000,0,22000,0,5000,0,38000,38000,0,0]
["O13",16500,6500,22000,0,0,0,45000,45000,0,0]
["O14",9500,0,38000,3500,0,0,51000,51000,0,0]
["O15",16500,0,22000,3500,5000,0,47000,47000,0,0]
["O16",12000,12500,22000,3500,0,0,50000,50000,0,0]
["O17",9500,0,25000,12500,0,0,47000,47000,0,0]
["O18",0,7500,22000,12500,5000,0,47000,47000,0,0]
["O19",0,7500,22000,3500,5000,4000,42000,42000,0,0]
["O20",11000,6500,22000,3500,5000,4000,52000,52000,0,0]
[]
["S1 �sszeg:",116000]
["S20 �sszeg:",0]
["Becsl�s �sszeg:",922000]
["T�ny �sszeg:",922000]
["T�ny-becsl�s elt�r�s:",0]
["T�ny n�gyzet�sszeg:"]
["Becsl�s n�gyzet�sszeg:"]
["N�gyzet�sszeg hiba:",0]
[]
["Open url"]
[]
["Maxim�lis mem�ria haszn�lat: 1.41 Mb"]
["A futtat�s id�tartama: 0.05 mp (0 p)"]
[]
[]
[]
[]
[]
[null,"X1","X2","X3","X4","X5","X6"]
[null,"Betérő ügyfelek","Betét állomány növekmény","KKV hitelnövekmény (db)","KKV számlanyitás","Lakossági hitelnövekmény összege ","Lakossági számlanyitás","Y0"]
["Békéscsaba",12,7,13,20,2,12,10000]
["Budapest Dél",15,15,18,6,5,16,10000]
["Budapest Észak",11,8,6,4,8,3,10000]
["Debrecen",16,18,13,14,20,14,10000]
["Eger",4,5,2,15,10,19,10000]
["Győr",6,1,2,15,19,11,10000]
["Kaposvár",8,6,18,10,16,10,10000]
["Kecskemét",20,4,2,5,11,7,10000]
["Miskolc",18,16,20,1,17,7,10000]
["Nyíregyháza",9,2,7,6,14,9,10000]
["Pécs",1,20,17,8,13,5,10000]
["Salgótarján",10,19,9,18,4,20,10000]
["Szeged",3,12,13,19,15,5,10000]
["Székesfehérvár",13,14,1,12,12,4,10000]
["Szekszárd",2,17,9,10,1,15,10000]
["Szolnok",5,3,9,9,8,17,10000]
["Szombathely",14,13,2,2,18,18,10000]
["Tatabánya",17,9,9,3,6,12,10000]
["Veszprém",19,10,16,17,7,2,10000]
["Zalaegerszeg",7,11,7,13,3,1,10000]
[]
[]
[]
[]
[]
[]
[]
["Azonos�t�:",8855188,"Objektumok:",20,"Attrib�tumok:",6,"Lepcs�k:",20,"Eltol�s:",0,"Le�r�s:","COCO Y0: 8855188"]
[]
["Rangsor","X(A1)","X(A2)","X(A3)","X(A4)","X(A5)","X(A6)","Y(A7)"]
["O1",12,7,13,20,2,12,10000]
["O2",15,15,18,6,5,16,10000]
["O3",11,8,6,4,8,3,10000]
["O4",16,18,13,14,20,14,10000]
["O5",4,5,2,15,10,19,10000]
["O6",6,1,2,15,19,11,10000]
["O7",8,6,18,10,16,10,10000]
["O8",20,4,2,5,11,7,10000]
["O9",18,16,20,1,17,7,10000]
["O10",9,2,7,6,14,9,10000]
["O11",1,20,17,8,13,5,10000]
["O12",10,19,9,18,4,20,10000]
["O13",3,12,13,19,15,5,10000]
["O14",13,14,1,12,12,4,10000]
["O15",2,17,9,10,1,15,10000]
["O16",5,3,9,9,8,17,10000]
["O17",14,13,2,2,18,18,10000]
["O18",17,9,9,3,6,12,10000]
["O19",19,10,16,17,7,2,10000]
["O20",7,11,7,13,3,1,10000]
[]
["L�pcs�k(1)","X(A1)","X(A2)","X(A3)","X(A4)","X(A5)","X(A6)"]
["S1","(45+9866)/(2)=4955.5","(26+9824.1)/(2)=4925","(9950+46)/(2)=4998","(58+123)/(2)=90.45","(21+44)/(2)=32.5","(19+74)/(2)=46.5"]
["S2","(32+64)/(2)=48","(25+9823.1)/(2)=4924","(9937+45)/(2)=4991","(41+84)/(2)=62.5","(20+43)/(2)=31.5","(18+73)/(2)=45.5"]
["S3","(31+63)/(2)=47","(24+9822.1)/(2)=4923","(9936+44)/(2)=4990","(31+71)/(2)=51","(19+42)/(2)=30.5","(17+57)/(2)=37"]
["S4","(22+62)/(2)=42","(23+9821.1)/(2)=4922","(9935+43)/(2)=4989","(16+70)/(2)=43","(18+41)/(2)=29.5","(16+56)/(2)=36"]
["S5","(21+61)/(2)=41","(22+9820.1)/(2)=4921","(9934+42)/(2)=4988","(15+69)/(2)=42","(17+40)/(2)=28.5","(15+55)/(2)=35"]
["S6","(19+60)/(2)=39.5","(21+9819.1)/(2)=4920","(9929+41)/(2)=4985","(14+68)/(2)=41","(16+14)/(2)=15","(14+54)/(2)=34"]
["S7","(15+59)/(2)=37","(20+9818.1)/(2)=4919","(9928+40)/(2)=4984","(13+67)/(2)=40","(15+13)/(2)=14","(13+53)/(2)=33"]
["S8","(14+58)/(2)=36","(12+9817.1)/(2)=4914.55","(9927+39)/(2)=4983","(12+66)/(2)=39","(12+12)/(2)=12","(12+52)/(2)=32"]
["S9","(13+57)/(2)=35","(11+9816.1)/(2)=4913.55","(9926+38)/(2)=4982","(11+65)/(2)=38","(11+11)/(2)=11","(11+51)/(2)=31"]
["S10","(12+56)/(2)=34","(10+9815.1)/(2)=4912.55","(9925+37)/(2)=4981","(10+64)/(2)=37","(10+10)/(2)=10","(10+50)/(2)=30"]
["S11","(11+55)/(2)=33","(9+9814.1)/(2)=4911.55","(9924+36)/(2)=4980","(9+63)/(2)=36","(9+9)/(2)=9","(9+49)/(2)=29"]
["S12","(10+54)/(2)=32","(8+9813.1)/(2)=4910.55","(9923+35)/(2)=4979","(8+62)/(2)=35","(8+8)/(2)=8","(8+48)/(2)=28"]
["S13","(9+53)/(2)=31","(7+9812.1)/(2)=4909.55","(9922+34)/(2)=4978","(7+61)/(2)=34","(7+7)/(2)=7","(7+47)/(2)=27"]
["S14","(8+52)/(2)=30","(6+9811.1)/(2)=4908.55","(9921+33)/(2)=4977","(6+60)/(2)=33","(6+6)/(2)=6","(6+46)/(2)=26"]
["S15","(7+51)/(2)=29","(5+9810.1)/(2)=4907.55","(9920+32)/(2)=4976","(5+59)/(2)=32","(5+5)/(2)=5","(5+27)/(2)=16"]
["S16","(6+50)/(2)=28","(4+9809.1)/(2)=4906.55","(9919+31)/(2)=4975","(4+58)/(2)=31","(4+4)/(2)=4","(4+26)/(2)=15"]
["S17","(5+10)/(2)=7.5","(3+9808.1)/(2)=4905.55","(9918+3)/(2)=4960.5","(3+57)/(2)=30","(3+3)/(2)=3","(3+3)/(2)=3"]
["S18","(4+9)/(2)=6.5","(2+9807.1)/(2)=4904.55","(9917+2)/(2)=4959.5","(2+56)/(2)=29","(2+2)/(2)=2","(2+2)/(2)=2"]
["S19","(3+8)/(2)=5.5","(1+9806.1)/(2)=4903.55","(9916+1)/(2)=4958.5","(1+27)/(2)=14","(1+1)/(2)=1","(1+1)/(2)=1"]
["S20","(0+0)/(2)=0","(0+0)/(2)=0","(9915+0)/(2)=4957.5","(0+0)/(2)=0","(0+0)/(2)=0","(0+0)/(2)=0"]
[]
["L�pcs�k(2)","X(A1)","X(A2)","X(A3)","X(A4)","X(A5)","X(A6)"]
["S1",4955.5,4925,4998,90.5,32.5,46.5]
["S2",48,4924,4991,62.5,31.5,45.5]
["S3",47,4923,4990,51,30.5,37]
["S4",42,4922,4989,43,29.5,36]
["S5",41,4921,4988,42,28.5,35]
["S6",39.5,4920,4985,41,15,34]
["S7",37,4919,4984,40,14,33]
["S8",36,4914.5,4983,39,12,32]
["S9",35,4913.5,4982,38,11,31]
["S10",34,4912.5,4981,37,10,30]
["S11",33,4911.5,4980,36,9,29]
["S12",32,4910.5,4979,35,8,28]
["S13",31,4909.5,4978,34,7,27]
["S14",30,4908.5,4977,33,6,26]
["S15",29,4907.5,4976,32,5,16]
["S16",28,4906.5,4975,31,4,15]
["S17",7.5,4905.5,4960.5,30,3,3]
["S18",6.5,4904.5,4959.5,29,2,2]
["S19",5.5,4903.5,4958.5,14,1,1]
["S20",0,0,4957.5,0,0,0]
[]
["COCO:Y0","X(A1)","X(A2)","X(A3)","X(A4)","X(A5)","X(A6)","Becsl�s","T�ny+0","Delta","Delta/T�ny"]
["O1",32,4919,4978,0,31.5,28,9988.5,10000,11.5,0.12]
["O2",29,4907.5,4959.5,41,28.5,15,9980.5,10000,19.5,0.2]
["O3",33,4914.5,4985,43,12,37,10024.5,10000,-24.5,-0.25]
["O4",28,4904.5,4978,33,0,26,9969.5,10000,30.5,0.31]
["O5",42,4921,4991,32,10,1,9997,10000,3,0.03]
["O6",39.5,4925,4991,32,1,29,10017.5,10000,-17.5,-0.18]
["O7",36,4920,4959.5,37,4,30,9986.5,10000,13.5,0.14000000000000001]
["O8",0,4922,4991,42,9,33,9997,10000,3,0.03]
["O9",6.5,4906.5,4957.5,90.5,3,33,9997,10000,3,0.03]
["O10",35,4924,4984,41,6,31,10021,10000,-21,-0.21]
["O11",4955.5,0,4960.5,39,7,35,9997,10000,3,0.03]
["O12",34,4903.5,4982,29,29.5,0,9978,10000,22,0.22]
["O13",47,4910.5,4978,14,5,35,9989.5,10000,10.5,0.11]
["O14",31,4908.5,4998,35,8,36,10016.5,10000,-16.5,-0.17]
["O15",48,4905.5,4982,37,32.5,16,10021,10000,-21,-0.21]
["O16",41,4923,4982,38,12,3,9999,10000,1,0.01]
["O17",30,4909.5,4991,62.5,2,2,9997,10000,3,0.03]
["O18",7.5,4913.5,4982,51,15,28,9997,10000,3,0.03]
["O19",5.5,4912.5,4975,30,14,45.5,9982.5,10000,17.5,0.18]
["O20",37,4911.5,4984,34,30.5,46.5,10043.5,10000,-43.5,-0.44]
[]
["S1 �sszeg:",15048]
["S20 �sszeg:",4957.5]
["Becsl�s �sszeg:",200000]
["T�ny �sszeg:",200000]
["T�ny-becsl�s elt�r�s:",0]
["T�ny n�gyzet�sszeg:"]
["Becsl�s n�gyzet�sszeg:"]
["N�gyzet�sszeg hiba:",0]
[]
["Open url"]
[]
["Maxim�lis mem�ria haszn�lat: 1.41 Mb"]
["A futtat�s id�tartama: 0.05 mp (0 p)"]

{"sheet":"Solver","index":7,"n_rows":144,"n_cols":15,"rows_kept":144,"cut":false,"hidden":false,"merged":[[26,10,33,14],[34,10,39,14],[40,10,45,14]]}
["Időtartomány","IGAZ","Eredmény attributumonként",null,null,null,null,null,"Korreláció",{"$f":"I1","v":"Korreláció"}]
[null,null,null,null,null,null,null,null,{"$f":"CORREL(H5:H24,I5:I24)","v":0.89814231401811473},{"$f":"CORREL(H5:H24,J5:J24)","v":0.75474267607837031}]
["Összeg / Érték","Oszlopcímkék",null,null,null,null,null,"korábban  * 1000","Solver"]
["Sorcímkék","Betérő ügyfelek","Betét állomány növekmény","KKV hitelnövekmény (db)","KKV számlanyitás","Lakossági hitelnövekmény összege ","Lakossági számlanyitás","Pontszám*25","Pontszám","online coco","sorrend_pont","sorrend_solver","sorrend_online","sorrend naiv","szórás"]
["Békéscsaba",1051,711,-3,-36,920,95,{"$f":"Kimutatás!J18*1000","v":43000},{"$f":"H100","v":999.1646203405669},{"$f":"OAM!I32","v":9988.5},{"$f":"RANK(H5,H$5:H$24,0)","v":13},{"$f":"RANK(I5,I$5:I$24,0)","v":11},{"$f":"RANK(J5,J$5:J$24,0)","v":15},{"$f":"RANK(H29,H$29:H$48,1)","v":13},{"$f":"STDEV(K5:N5)","v":1.6329931618554521}]
["Budapest Dél",1051,572,-21,-12,921,94,{"$f":"Kimutatás!J19*1000","v":39000},987.16462098725435,{"$f":"OAM!I33","v":9980.5},17,17,18,{"$f":"RANK(H30,H$29:H$48,1)","v":17},{"$f":"STDEV(K6:N6)","v":0.5}]
["Budapest Észak",1070,694,10,25,787,110,{"$f":"Kimutatás!J20*1000","v":51000},1011.1779402369363,{"$f":"OAM!I34","v":10024.5},5,5,2,5,1.5]
["Debrecen",904,524,-2,-6,676,86,{"$f":"Kimutatás!J21*1000","v":37000},969.17791627062127,{"$f":"OAM!I35","v":9969.5},20,20,20,20,0]
["Eger",1076,735,12,-14,877,75,{"$f":"Kimutatás!J22*1000","v":48000},1006.1646107205476,{"$f":"OAM!I36","v":9997},8,9,8,10,0.9574271077563381]
["Győr",1155,907,12,2,711,122,{"$f":"Kimutatás!J23*1000","v":53000},1021.1779402703714,{"$f":"OAM!I37","v":10017.5},2,2,5,3,1.4142135623730951]
["Kaposvár",1047,779,-6,5,786,118,{"$f":"Kimutatás!J24*1000","v":47000},994.17794079336602,{"$f":"OAM!I38","v":9986.5},10,13,16,12,2.5]
["Kecskemét",939,813,9,27,813,116,{"$f":"Kimutatás!J25*1000","v":52000},1016.177936771952,{"$f":"OAM!I39","v":9997},4,4,8,4,2]
["Miskolc",932,587,-19,27,799,110,{"$f":"Kimutatás!J26*1000","v":41000},989.17793746249106,{"$f":"OAM!I40","v":9997},15,15,8,14,3.3665016461206929]
["Nyíregyháza",1088,783,2,22,846,153,{"$f":"Kimutatás!J27*1000","v":54000},1021.1779368193907,{"$f":"OAM!I41","v":10021},1,3,3,1,1.1547005383792515]
["Pécs",1280,431,-8,17,880,109,{"$f":"Kimutatás!J28*1000","v":45000},1009.1646351139832,{"$f":"OAM!I42","v":9997},11,6,8,8,2.0615528128088303]
["Salgótarján",1083,493,-3,-11,914,35,{"$f":"Kimutatás!J29*1000","v":39000},991.16461082945773,{"$f":"OAM!I43","v":9978},17,14,19,16,2.0816659994661326]
["Szeged",1123,637,-4,-33,824,106,{"$f":"Kimutatás!J30*1000","v":41000},988.17792329195106,{"$f":"OAM!I44","v":9989.5},15,16,14,14,0.9574271077563381]
["Székesfehérvár",983,621,13,6,813,107,{"$f":"Kimutatás!J31*1000","v":48000},998.177936999194,{"$f":"OAM!I45","v":10016.5},8,12,6,10,2.5819888974716112]
["Szekszárd",1162,446,4,-13,1034,95,{"$f":"Kimutatás!J32*1000","v":44000},1007.1646200725133,{"$f":"OAM!I46","v":10021},12,8,3,8,3.6855573979159968]
["Szolnok",1126,804,-1,13,853,94,{"$f":"Kimutatás!J33*1000","v":51000},1008.1779367718951,{"$f":"OAM!I47","v":9999},5,7,7,6,0.9574271077563381]
["Szombathely",917,588,8,14,720,70,{"$f":"Kimutatás!J34*1000","v":42000},983.17793050927276,{"$f":"OAM!I48","v":9997},14,19,8,18,4.9916597106239795]
["Tatabánya",1005,687,5,19,849,104,{"$f":"Kimutatás!J35*1000","v":49000},1002.1779368602079,{"$f":"OAM!I49","v":9997},7,10,8,7,1.4142135623730951]
["Veszprém",826,643,-8,-22,896,104,{"$f":"Kimutatás!J36*1000","v":38000},987.16462071278238,{"$f":"OAM!I50","v":9982.5},19,18,17,19,0.9574271077563381]
["Zalaegerszeg",1093,649,4,5,989,147,{"$f":"Kimutatás!J37*1000","v":53000},1025.1646343892548,{"$f":"OAM!I51","v":10043.5},2,1,1,2,0.57735026918962573]
[]
[null,null,"Helyezések"]
[null,null,null,null,null,null,null,"naiv értékelés",{"$f":"CORREL(H5:H24,H29:H48)","v":-0.95907462079479322},"korreláció","A számos értékelési logika párhuzamos bemutatása alapján Zalaegerszeg a fiktív adatok alapján első-második helyre méltó a versenyben összevetve Nyíregyházával és/vagy Győrrel, míg Budapest-Dél, Veszprém és/vagy Salgótarján a negatív dobogó várományosai. A legambivalensebb objektum az, ahol a szórása a párhuzamos modelleredményeknek a legnagyobb: pl. Szombathely, Szekszárd, Miskolc"]
["Városok","Betérő ügyfelek","Betét állomány növekmény","KKV hitelnövekmény (db)","KKV számlanyitás","Lakossági hitelnövekmény összege ","Lakossági számlanyitás","Helyezési szám"]
["Békéscsaba",{"$f":"RANK(B5,B$5:B$24,0)","v":11},{"$f":"RANK(C5,C$5:C$24,0)","v":7},13,20,4,13,{"$f":"SUM(B29:G29)","v":68}]
["Budapest Dél",{"$f":"RANK(B6,B$5:B$24,0)","v":11},16,20,15,3,15,{"$f":"SUM(B30:G30)","v":80}]
["Budapest Észak",10,8,4,3,16,6,47]
["Debrecen",19,17,12,13,20,17,98]
["Eger",9,6,2,17,8,18,60]
["Győr",3,1,2,12,19,3,40]
["Kaposvár",13,5,16,10,17,4,65,null,null,"A feladat valós adatokkal bármikor lehetne egy szakdolgozat alapja… és/vagy macro-fejlesztési specifikációként értelmezhető demonstrációs anyag…"]
["Kecskemét",16,2,5,1,13,5,42]
["Miskolc",17,15,19,1,15,6,73]
["Nyíregyháza",7,4,10,4,11,1,37]
["Pécs",1,20,17,6,7,8,59]
["Salgótarján",8,18,13,14,5,20,78]
["Szeged",5,12,15,19,12,10,73,null,null,"Szerző: Anonim Hallgató (2020)"]
["Székesfehérvár",15,13,1,9,13,9,60]
["Szekszárd",2,19,8,16,1,13,59]
["Szolnok",4,3,11,8,9,15,50]
["Szombathely",18,14,6,7,18,19,82]
["Tatabánya",14,9,7,5,10,11,56]
["Veszprém",20,11,17,18,6,11,83]
["Zalaegerszeg",6,10,8,10,2,2,38]
[]
[null,null,"Ponttábla"]
[]
["Helyezések","Betérő ügyfelek","Betét állomány növekmény","KKV hitelnövekmény (db)","KKV számlanyitás","Lakossági hitelnövekmény összege ","Lakossági számlanyitás"]
[1,214.30919711086946,246.93609861134399,91.1615658375067,27.898908931985275,183.11343836906741,293.74542545050355]
[2,213.30919711737309,245.93609861689276,90.16156581039553,26.898908960094893,182.11343840571783,292.7454254590557]
[3,212.30919717678836,244.93609862250023,89.161565783077208,25.898908874992475,181.11343843540135,291.74542546769288]
[4,211.30919723195666,243.93609862816777,88.161565755549361,24.898908924021416,180.11343843721008,290.74542547641681]
[5,210.30919723220359,242.93609863389605,87.161565727810014,23.898908914259422,179.11343854841357,289.74542548522868]
[6,209.30919723245268,241.93609863968592,86.161565699855629,22.898908904425124,178.11343839705413,288.74542549412934]
[7,208.30919723270458,240.93609864553886,85.161565671684954,21.898908894518168,177.11343860826176,287.74542550312134]
[8,207.30919723295872,239.9360986514555,84.161565740644662,20.898908800349073,176.11343852719159,286.74542551220503]
[9,206.30919723321469,238.93609865743704,83.161565827985768,19.898908843956274,170.12674083009779,285.74542552138223]
[10,205.30919723347407,237.93609866348419,82.161565729246377,18.898908887899942,169.12674084240098,284.74542553065396]
[11,204.30919723373574,236.93609866959898,81.161565708502181,17.898908932184995,168.12674085474697,283.74542554002227]
[12,203.30919723399984,235.93609867578141,80.161565687585664,16.898908976815019,167.12674087805638,282.7454255494884]
[13,202.30919723426618,234.93609868203328,79.161565823324224,15.898894711822397,166.12674087918376,281.74542555905367]
[14,201.3091972344032,233.93609868835617,78.16156609308149,14.898894711734973,165.12674087820901,280.7454255687199]
[15,200.30919723513176,232.93609869475,77.161566333551548,13.898894761406163,164.12674087722351,279.74542557848918]
[16,199.3091971308514,231.93609864467044,76.161566333551534,12.898894641704198,163.12674422733559,278.74541586835574]
[17,{"$f":"B68","v":199.3091971308514},{"$f":"C68","v":231.93609864467044},{"$f":"D68","v":76.161566333551534},{"$f":"E68","v":12.898894641704198},{"$f":"F68","v":163.12674422733559},{"$f":"G68","v":278.74541586835574}]
[18,{"$f":"B69","v":199.3091971308514},231.93609864467044,76.161566333551534,12.898894641704198,163.12674422733559,278.74541586835574]
[19,199.3091971308514,231.93609864467044,76.161566333551534,12.898894641704198,163.12674422733559,278.74541586835574]
[20,199.3091971308514,231.93609864467044,76.161566333551534,12.898894641704198,163.12674422733559,278.74541586835574]
["visszatérési érték",2,3,4,5,6,7]
[null,null,"Segédtábla (monotonitás biztosításához)"]
[]
["Különbségek","Betérő ügyfelek","Betét állomány növekmény","KKV hitelnövekmény (db)","KKV számlanyitás","Lakossági hitelnövekmény összege ","Lakossági számlanyitás"]
["h1-h2",{"$f":"B53-B54","v":0.99999999349637392},{"$f":"C53-C54","v":0.99999999445122967},1.0000000271111702,0.99999997189038226,0.99999996334958041,0.99999999144785079]
["h2-h3",{"$f":"B54-B55","v":0.99999994058472907},0.99999999439253884,1.0000000273183218,1.0000000851024176,0.99999997031648036,0.99999999136281303]
["h3-h4",{"$f":"B55-B56","v":0.99999994483169985},0.99999999433245534,1.0000000275278467,0.99999995097105909,0.99999999819127083,0.99999999127606998]
["h4-h5",{"$f":"B56-B57","v":0.99999999975307219},0.99999999427171815,1.0000000277393468,1.0000000097619939,0.99999988879650914,0.99999999118813321]
["h5-h6",{"$f":"B57-B58","v":0.99999999975091214},0.99999999421012831,1.0000000279543855,1.0000000098342987,1.0000001513594441,0.99999999109934379]
["h6-h7",{"$f":"B58-B59","v":0.99999999974809839},0.99999999414706053,1.0000000281706747,1.0000000099069553,0.99999978879236551,0.99999999100799641]
["h7-h8",{"$f":"B59-B60","v":0.99999999974585307},0.99999999408336748,0.99999993104029272,1.0000000941690956,1.0000000810701692,0.99999999091630798]
["h8-h9",{"$f":"B60-B61","v":0.99999999974403408},0.9999999940184523,0.99999991265889321,0.99999995639279859,5.9866976970938026,0.99999999082280056]
["h9-h10",{"$f":"B61-B62","v":0.99999999974062348},0.99999999395285499,1.0000000987393918,0.99999995605633174,0.99999998769681042,0.99999999072826995]
["h10-h11",{"$f":"B62-B63","v":0.99999999973832132},0.99999999388521132,1.0000000207441957,0.99999995571494793,0.99999998765400733,0.99999999063169298]
["h11-h12",{"$f":"B63-B64","v":0.99999999973590548},0.99999999381756766,1.0000000209165165,0.99999995536997588,0.99999997669058871,0.99999999053386546]
["h12-h13",{"$f":"B64-B65","v":0.99999999973366016},{"$f":"C64-C65","v":0.99999999374813342},0.99999986426144005,1.0000142649926218,0.99999999887262447,0.99999999043473053]
["h13-h14",{"$f":"B65-B66","v":0.99999999986297894},0.99999999367710757,0.99999973024273459,1.0000000000874234,1.0000000009747509,0.99999999033377662]
["h14-h15",{"$f":"B66-B67","v":0.9999999992714379},0.99999999360616698,0.99999975952994191,0.99999995032881017,1.0000000009854944,0.9999999902307195]
["h15-h16",{"$f":"B67-B68","v":1.0000001042803603},1.0000000500795636,1.0000000000000142,1.0000001197019657,0.99999664988791892,1.0000097101334404]
["h16-h17",{"$f":"B68-B69","v":0},0,0,0,0,0]
["h17-h18",{"$f":"B69-B70","v":0},0,0,0,0,0]
["h18-h19",{"$f":"B70-B71","v":0},0,0,0,0,0]
["h19-h20",{"$f":"B71-B72","v":0},0,0,0,0,0]
[]
[null,null,"Elért pontszám táblázat alapján",null,"Célérték:",1000,null,"Teljes eltérés:",{"$f":"SUMPRODUCT(I100:I116,I100:I116)","v":3294.4721458802928}]
[]
["Városok","Betérő ügyfelek","Betét állomány növekmény","KKV hitelnövekmény (db)","KKV számlanyitás","Lakossági hitelnövekmény összege ","Lakossági számlanyitás","Összpontszám","Eltérés"]
["Békéscsaba",{"$f":"VLOOKUP(B29,$A$53:$G$72,B$73,0)","v":204.30919723373574},{"$f":"VLOOKUP(C29,$A$53:$G$72,C$73,0)","v":240.93609864553886},79.161565823324224,12.898894641704198,180.11343843721008,281.74542555905367,{"$f":"SUM(B100:G100)","v":999.1646203405669},{"$f":"H100-$F$97","v":-0.83537965943310155}]
["Budapest Dél",{"$f":"VLOOKUP(B30,$A$53:$G$72,B$73,0)","v":204.30919723373574},231.93609864467044,76.161566333551534,13.898894761406163,181.11343843540135,279.74542557848918,{"$f":"SUM(B101:G101)","v":987.16462098725435},{"$f":"H101-$F$97","v":-12.835379012745648}]
["Budapest Észak",{"$f":"VLOOKUP(B31,$A$53:$G$72,B$73,0)","v":205.30919723347407},239.9360986514555,88.161565755549361,25.898908874992475,163.12674422733559,288.74542549412934,1011.1779402369363,11.177940236936251]
["Debrecen",{"$f":"VLOOKUP(B32,$A$53:$G$72,B$73,0)","v":199.3091971308514},231.93609864467044,80.161565687585664,15.898894711822397,163.12674422733559,278.74541586835574,969.17791627062127,-30.822083729378733]
["Eger",{"$f":"VLOOKUP(B33,$A$53:$G$72,B$73,0)","v":206.30919723321469},241.93609863968592,90.16156581039553,12.898894641704198,176.11343852719159,278.74541586835574,1006.1646107205476,6.1646107205475573]
["Győr",{"$f":"VLOOKUP(B34,$A$53:$G$72,B$73,0)","v":212.30919717678836},246.93609861134399,90.16156581039553,16.898908976815019,163.12674422733559,291.74542546769288,1021.1779402703714,21.177940270371437]
["Kaposvár",{"$f":"VLOOKUP(B35,$A$53:$G$72,B$73,0)","v":202.30919723426618},242.93609863389605,76.161566333551534,18.898908887899942,163.12674422733559,290.74542547641681,994.17794079336602,-5.8220592066339805]
["Kecskemét",{"$f":"VLOOKUP(B36,$A$53:$G$72,B$73,0)","v":199.3091971308514},245.93609861689276,87.161565727810014,27.898908931985275,166.12674087918376,289.74542548522868,1016.177936771952,16.177936771951977]
["Miskolc",{"$f":"VLOOKUP(B37,$A$53:$G$72,B$73,0)","v":199.3091971308514},232.93609869475,76.161566333551534,27.898908931985275,164.12674087722351,288.74542549412934,989.17793746249106,-10.822062537508941]
["Nyíregyháza",{"$f":"VLOOKUP(B38,$A$53:$G$72,B$73,0)","v":208.30919723270458},243.93609862816777,82.161565729246377,24.898908924021416,168.12674085474697,293.74542545050355,1021.1779368193907,21.177936819390652]
["Pécs",{"$f":"VLOOKUP(B39,$A$53:$G$72,B$73,0)","v":214.30919711086946},231.93609864467044,76.161566333551534,22.898908904425124,177.11343860826176,286.74542551220503,1009.1646351139832,9.164635113983195]
["Salgótarján",{"$f":"VLOOKUP(B40,$A$53:$G$72,B$73,0)","v":207.30919723295872},231.93609864467044,79.161565823324224,14.898894711734973,179.11343854841357,278.74541586835574,991.16461082945773,-8.8353891705422711]
["Szeged",{"$f":"VLOOKUP(B41,$A$53:$G$72,B$73,0)","v":210.30919723220359},235.93609867578141,77.161566333551548,12.898894641704198,167.12674087805638,284.74542553065396,988.17792329195106,-11.82207670804894]
["Székesfehérvár",{"$f":"VLOOKUP(B42,$A$53:$G$72,B$73,0)","v":200.30919723513176},234.93609868203328,91.1615658375067,19.898908843956274,166.12674087918376,285.74542552138223,998.177936999194,-1.822063000805997]
["Szekszárd",{"$f":"VLOOKUP(B43,$A$53:$G$72,B$73,0)","v":213.30919711737309},231.93609864467044,84.161565740644662,12.898894641704198,183.11343836906741,281.74542555905367,1007.1646200725133,7.164620072513344]
["Szolnok",{"$f":"VLOOKUP(B44,$A$53:$G$72,B$73,0)","v":211.30919723195666},244.93609862250023,81.161565708502181,20.898908800349073,170.12674083009779,279.74542557848918,1008.1779367718951,8.1779367718951335]
["Szombathely",{"$f":"VLOOKUP(B45,$A$53:$G$72,B$73,0)","v":199.3091971308514},233.93609868835617,86.161565699855629,21.898908894518168,163.12674422733559,278.74541586835574,983.17793050927276,-16.822069490727245]
["Tatabánya",{"$f":"VLOOKUP(B46,$A$53:$G$72,B$73,0)","v":201.3091972344032},238.93609865743704,85.161565671684954,23.898908914259422,169.12674084240098,283.74542554002227,1002.1779368602079,2.1779368602078648]
["Veszprém",{"$f":"VLOOKUP(B47,$A$53:$G$72,B$73,0)","v":199.3091971308514},236.93609866959898,76.161566333551534,12.898894641704198,178.11343839705413,283.74542554002227,987.16462071278238,-12.83537928721762]
["Zalaegerszeg",{"$f":"VLOOKUP(B48,$A$53:$G$72,B$73,0)","v":209.30919723245268},237.93609866348419,84.161565740644662,18.898908887899942,182.11343840571783,292.7454254590557,1025.1646343892548,25.164634389254843]
[]
[]
[null,null,"Kiindulási ponttábla","<--ez mit is jelent?"]
[]
["Helyezések","Betérő ügyfelek","Betét állomány növekmény","KKV hitelnövekmény (db)","KKV számlanyitás","Lakossági hitelnövekmény összege ","Lakossági számlanyitás"]
[1,177,176,176,176,176,176]
[2,176,175,175,175,175,175]
[3,175,174,174,174,174,174]
[4,174,173,173,173,173,173]
[5,173,172,172,172,172,172]
[6,172,171,171,171,171,171]
[7,171,170,170,170,170,170]
[8,170,169,169,169,169,169]
[9,169,168,168,168,168,168]
[10,168,167,167,167,167,167]
[11,167,166,166,166,166,166]
[12,166,165,165,165,165,165]
[13,165,164,164,164,164,164]
[14,164,163,163,163,163,163]
[15,163,162,162,162,162,162]
[16,162,161,161,161,161,161]
[17,161,160,160,160,160,160]
[18,160,159,159,159,159,159]
[19,159,158,158,158,158,158]
[20,158,157,157,157,157,157]

{"sheet":"GYIK,Súgó","index":8,"n_rows":5,"n_cols":3,"rows_kept":5,"cut":false,"hidden":true,"merged":[]}
["Milyen sorrendben és miért éppen úgy érdemes bejárni az XLS-t a benne tárolt tudás teljes megértéséhez?","Az adattáblában szereplő adatokból a kimutatás tábla megismerése után értelmezhetőek a feladat céljai.","<--ez nem válasz az A1-ben feltett kérdésre: bejárási sorrend még csak vélelmezhető, de ez is csak az adattáblát előbb, mint a kimutatástábla értelmében. Ezen sorrend miértje és a többi munkalap sorrendje nem derü ki egyelőre…"]
[]
["Cél: Fióki teljesítmények összehasonlítása, mérése, különböző kimutatások készítésének egyszerű és gyors módja.",null,"<--a céloknak lehet sorrendje, pl. előbb kell mérni, mint összehasonlítani"]
["Célközönség: Aki hasznosnak véli ezt a munkát, megkönnyítheti vele saját vagy munkatársai munkáját. ",null,"<--ez nem határoz meg semmilyen olyan célcsoportot, akihez oda lehet ennek alapján fordulni direkt módon…"]
["Hasznosság: Kérdéseket tehetünk fel teljesítménnyel kapcsolatban, különböző módon vizsgálhatjuk a fiókokat. Közelebb kerülhetünk - a lehet-e valami egyforma, különböző módon? - kérdéshez. "]

{"sheet":"dokumentáció vázlata","index":9,"n_rows":51,"n_cols":1,"rows_kept":51,"cut":false,"hidden":false,"merged":[]}
["1. Bevezetés"]
["1.1. Cél"]
["1.2. Célcsoport"]
["1.3. Hasznosság"]
["1.3.1. Milyen döntési helyzetekben mit lehet jobban csinálni?"]
["1.3.1.1. Melyik objektum a legjobb?"]
["1.3.1.2. Melyik objektumról (nem) illik értékítéletet mondani?"]
["1.3.1.*. ..."]
["1.3.2. Mennyivel lehet valamit jobban csinálni?"]
["1.4. Feladatok"]
["1.4.1. Szubjektív pontozás"]
["1.4.2. Lehet-e minden másként egyforma elv érvényesítése"]
["2. Szakirodalmi háttér"]
["2.1. Pénzügyi vetület"]
["2.2. Informatikai vetület"]
["3. Adatvagyon"]
["3.1. Objektumok"]
["3.2. Attribútumok (mértékegység, irány)"]
["3.3. Források"]
["3.4. Adatvagyon ellenőrző lépései"]
["4. Módszertan"]
["4.1. Szubjektív pontozás"]
["4.1.1. Excel-megoldás lépései cella-szinten"]
["4.1.2. Macro-szinten"]
["4.2. Naiv megoldás"]
["4.3. Solver-alapú objektív megoldás"]
["4.4. Online támogatással készült objektív megoldás"]
["5. Eredmények"]
["5.1. Objektumok rangsorai és ezek eltérései"]
["5.2. Korrelációk"]
["5.3. Egyéb (ami máshová nem fért be:-)"]
["6. Következtetések"]
["6.1. Az egyes megoldási alternatívák összehasonlítása"]
["6.2. Mit kellene másként csinálni? Mi lehet a végső konklúzió?"]
["7. Jövőkép"]
["7.1. Hogyan lehet \"eladni\" a megoldást: vö. https://miau.my-x.hu/miau/256/IDK%20vs%20TDK.docx"]
["7.2. Hogyan lehet a szubjektív és objektív megoldások között a megfelelő egyensúlyt megteremteni?"]
["8. Irodalomjegyzék"]
["9. Mellékletek"]
[]
["Az ÖSSZES releváns xls-tartomány képként beemelendő és röviden értelmezendő az xls hiányosságait a doc-ban feloldva..."]
[]
["Minden saját gondolat kapcsán fontos:"]
["- mit miért hogyan?"]
["- minden nem saját gondolat kapcsán fontos: mi a forrás?"]
[]
["További ajánlások (40 pontos teszt): https://miau.my-x.hu/myx-free/index.php3?x=test1"]
[]
["A fentiektől csak a további tagolás irányába illik eltérni: kevesebb fejezet nem illik, hogy legyen ezen a szép feladat kapcsán... csak több..."]
[]
["FONTOS: nem sokat kell írni, hanem célirányosan!"]