{"text_format":"1","workbook":"xlsx","n_sheets":28,"sheets":["basics16","basics15","basics14","basics13","basics12","basics11","basics10","basics9","basics8","basics7","basics6","basics5","basics4","basics3","basics2","basics1","models1","oam_validit(y)","prepost","oam_pre_validity","pre2","pre3","check_pre1_abs","check_pre1 (^2)","archive","solver_direct","solver_inverse","2^n"],"not_rendered":{"charts":0,"images":1,"macros":1,"external_links":0,"defined_names":144,"comments":0,"pivot_tables":0},"unopened":[],"bounds":{"document_bytes":16777216,"sheet_cells":100000,"rows_first":2000,"rows_last":500,"rows_between":2000,"halvings":0,"cell_chars":16384,"cell_head_chars":4096},"cells_cut":0,"cells_raw":0,"read":"whole","date_system":"1900"}

{"sheet":"basics16","index":0,"n_rows":284,"n_cols":42,"rows_kept":284,"cut":false,"hidden":false,"merged":[]}
[{"$f":"RANDBETWEEN(10,99)","v":73},"A1","A2","A3","A4","A5","A6=Y",null,"rank",{"$f":"B1","v":"A1"},"A2","A3","A4","A5",{"$f":"G1&\"'\"","v":"A6=Y'"},"validity0","direkt","inverz","átlag","double","between1","validity1","invalid_between","valid_extrem","between2","validity2",null,{"$f":"models1!B7","v":"X(A1)"},{"$f":"models1!C7","v":"X(A2)"},{"$f":"models1!D7","v":"X(A3)"},{"$f":"models1!E7","v":"X(A4)"},{"$f":"models1!F7","v":"X(A5)"},{"$f":"AB1","v":"X(A1)"},{"$f":"AC1","v":"X(A2)"},"X(A3)","X(A4)","X(A5)",{"$f":"O1","v":"A6=Y'"},null,"direct_stddev","inverse_stddev","delta"]
["O1",31,26,30,87,97,55,null,{"$f":"A2","v":"O1"},{"$f":"RANK(B2,B$2:B$17,B$19)","v":14},{"$f":"RANK(C2,C$2:C$17,C$19)","v":15},16,5,16,{"$f":"G2*1000","v":55000},{"$f":"IF(models1!J1562*models1!Y1562<=0,\"valid\",\"invalid\")","v":"valid"},{"$f":"models1!G1562","v":40933.800000000003},{"$f":"models1!V1562","v":76426.600000000006},{"$f":"AVERAGE(Q2:R2)","v":58680.200000000004},{"$f":"models1!AO1562","v":65397.599999999999},{"$f":"IF(MAX(Q2:R2)<T2,0,IF(MIN(Q2:R2)>T2,0,1))","v":1},{"$f":"IF(P2=\"valid\",1,)","v":1},{"$f":"IF(V2=1,IF(U2=0,1,0),0)","v":0},{"$f":"IF(V2=0,IF(U2=1,1,0),0)","v":0},{"$f":"STDEV(S2:T2)","v":4749.91909194251},{"$f":"STDEV(models1!J1562,models1!Y1562)","v":45.629600589967914},null,{"$f":"J2","v":14},{"$f":"K2","v":15},16,5,16,{"$f":"RANK(AB2,AB$2:AB$17,0)","v":3},{"$f":"RANK(AC2,AC$2:AC$17,0)","v":2},1,12,1,55000,null,{"$f":"STDEV(AB2:AF2)","v":4.6583258795408451},{"$f":"STDEV(AG2:AK2)","v":4.658325879540846},{"$f":"ABS(AO2-AN2)","v":8.8817841970012523E-16}]
["O2",60,44,58,92,19,64,null,{"$f":"A3","v":"O2"},{"$f":"RANK(B3,B$2:B$17,B$19)","v":9},9,7,2,6,{"$f":"G3*1000","v":64000},{"$f":"IF(models1!J1563*models1!Y1563<=0,\"valid\",\"invalid\")","v":"invalid"},{"$f":"models1!G1563","v":56908},{"$f":"models1!V1563","v":38213.300000000003},{"$f":"AVERAGE(Q3:R3)","v":47560.65},{"$f":"models1!AO1563","v":58018.1},0,0,{"$f":"IF(V3=1,IF(U3=0,1,0),0)","v":0},{"$f":"IF(V3=0,IF(U3=1,1,0),0)","v":0},{"$f":"STDEV(S3:T3)","v":7394.5338089192592},{"$f":"STDEV(models1!J1563,models1!Y1563)","v":20.65458907845905},null,{"$f":"J3","v":9},9,7,2,6,{"$f":"RANK(AB3,AB$2:AB$17,0)","v":8},8,9,14,10,64000,null,{"$f":"STDEV(AB3:AF3)","v":2.8809720581775862},{"$f":"STDEV(AG3:AK3)","v":2.4899799195977472},{"$f":"ABS(AO3-AN3)","v":0.39099213857983894}]
["O3",64,86,38,95,26,52,null,"O3",5,2,14,1,8,52000,{"$f":"IF(models1!J1564*models1!Y1564<=0,\"valid\",\"invalid\")","v":"valid"},{"$f":"models1!G1564","v":73880.5},{"$f":"models1!V1564","v":51612.800000000003},62746.65,{"$f":"models1!AO1564","v":52928.800000000003},1,1,0,0,6942.2683116723447,{"$f":"STDEV(models1!J1564,models1!Y1564)","v":30.278312370407964},null,5,2,14,1,8,10,15,3,16,8,52000,null,5.2440442408507577,5.3197744313081561,7.5730190457398372E-2]
["O4",64,99,58,92,35,37,null,"O4",5,1,7,2,9,37000,{"$f":"IF(models1!J1565*models1!Y1565<=0,\"valid\",\"invalid\")","v":"valid"},{"$f":"models1!G1565","v":66392.600000000006},{"$f":"models1!V1565","v":32258},49325.3,{"$f":"models1!AO1565","v":45294.9},1,1,0,0,2849.9231708942621,{"$f":"STDEV(models1!J1565,models1!Y1565)","v":65.237671632270875},null,5,1,7,2,9,10,16,9,14,7,37000,null,3.3466401061363023,3.7013511046643481,0.35471099852804588]
["O5",57,70,62,64,15,53,null,"O5",10,5,6,7,2,53000,{"$f":"IF(models1!J1566*models1!Y1566<=0,\"valid\",\"invalid\")","v":"invalid"},{"$f":"models1!G1566","v":70885.399999999994},{"$f":"models1!V1566","v":55583},63234.2,{"$f":"models1!AO1566","v":53946.7},0,0,0,0,6567.2542302700604,{"$f":"STDEV(models1!J1566,models1!Y1566)","v":20.421243840667493},null,10,5,6,7,2,7,12,11,10,13,53000,null,2.9154759474226504,2.3021728866442701,0.61330306077838026]
["O6",53,39,49,58,16,13,null,"O6",13,11,11,10,5,13000,{"$f":"IF(models1!J1567*models1!Y1567<=0,\"valid\",\"invalid\")","v":"invalid"},{"$f":"models1!G1567","v":33945.1},{"$f":"models1!V1567","v":55583},44764.05,{"$f":"models1!AO1567","v":22138.5},0,0,0,0,15998.679833075286,{"$f":"STDEV(models1!J1567,models1!Y1567)","v":117.690852660689},null,13,11,11,10,5,4,6,6,7,11,13000,null,3,2.5884358211089573,0.41156417889104269]
["O7",94,33,96,10,63,50,null,"O7",1,12,1,16,10,50000,{"$f":"IF(models1!J1568*models1!Y1568<=0,\"valid\",\"invalid\")","v":"invalid"},{"$f":"models1!G1568","v":62399.1},{"$f":"models1!V1568","v":62034.6},62216.85,{"$f":"models1!AO1568","v":50893.1},0,0,0,0,8007.1004134611676,{"$f":"STDEV(models1!J1568,models1!Y1568)","v":0.51618795026618003},null,1,12,1,16,10,16,5,16,1,6,50000,null,6.7453687816160208,6.8337398253079549,8.8371043691934048E-2]
["O8",78,29,35,46,15,62,null,"O8",2,13,15,12,2,62000,{"$f":"IF(models1!J1569*models1!Y1569<=0,\"valid\",\"invalid\")","v":"valid"},{"$f":"models1!G1569","v":61899.9},{"$f":"models1!V1569","v":79900.5},70900.2,{"$f":"models1!AO1569","v":64125.3},1,1,0,0,4790.577731860737,{"$f":"STDEV(models1!J1569,models1!Y1569)","v":20.527309857845477},null,2,13,15,12,2,14,4,2,4,13,62000,null,6.3007936008093459,5.6391488719486738,0.66164472886067216]
["O9",74,66,66,60,25,93,null,"O9",4,6,5,8,7,93000,{"$f":"IF(models1!J1570*models1!Y1570<=0,\"valid\",\"invalid\")","v":"invalid"},{"$f":"models1!G1570","v":88357.1},{"$f":"models1!V1570","v":55583},71970.05,{"$f":"models1!AO1570","v":79393.2},1,0,0,1,5248.9597027649161,{"$f":"STDEV(models1!J1570,models1!Y1570)","v":24.918442969013935},null,4,6,5,8,7,13,10,12,9,9,93000,null,1.5811388300841898,1.8165902124584981,0.23545138237430829]
["O10",16,57,89,36,69,10,null,"O10",16,8,3,14,11,10000,{"$f":"IF(models1!J1571*models1!Y1571<=0,\"valid\",\"invalid\")","v":"valid"},{"$f":"models1!G1571","v":9983.9},{"$f":"models1!V1571","v":28287.8},19135.849999999999,{"$f":"models1!AO1571","v":13486.7},1,1,0,0,3994.5522729399827,{"$f":"STDEV(models1!J1571,models1!Y1571)","v":129.42882522838568},null,16,8,3,14,11,1,9,14,3,5,10000,null,5.1283525619832355,5.1768716422179137,4.8519080234678214E-2]
["O11",23,24,54,59,71,14,null,"O11",15,16,9,9,12,14000,{"$f":"IF(models1!J1572*models1!Y1572<=0,\"valid\",\"invalid\")","v":"valid"},{"$f":"models1!G1572","v":13977.4},{"$f":"models1!V1572","v":56079.3},35028.35,{"$f":"models1!AO1572","v":14250.1},1,1,0,0,14692.44147618938,{"$f":"STDEV(models1!J1572,models1!Y1572)","v":212.64822230623042},null,15,16,9,9,12,2,1,7,8,4,14000,null,3.2710854467592236,3.0495901363953815,0.22149531036384218]
["O12",78,71,81,91,15,99,null,"O12",2,4,4,4,2,99000,{"$f":"IF(models1!J1573*models1!Y1573<=0,\"valid\",\"invalid\")","v":"invalid"},{"$f":"models1!G1573","v":98840.2},{"$f":"models1!V1573","v":55583},77211.600000000006,{"$f":"models1!AO1573","v":83973.6},1,0,0,1,4781.4560543834341,{"$f":"STDEV(models1!J1573,models1!Y1573)","v":30.900566337852126},null,2,4,4,4,2,14,13,13,13,13,99000,null,1.0954451150103319,0.44721359549995793,0.64823151951037405]
["O13",61,66,54,46,11,83,null,"O13",8,6,9,12,1,83000,{"$f":"IF(models1!J1574*models1!Y1574<=0,\"valid\",\"invalid\")","v":"invalid"},{"$f":"models1!G1574","v":82866},{"$f":"models1!V1574","v":60545.7},71705.850000000006,{"$f":"models1!AO1574","v":84482.6},0,0,0,0,9034.5265665252209,{"$f":"STDEV(models1!J1574,models1!Y1574)","v":19.014101346106262},null,8,6,9,12,1,9,10,7,4,16,83000,null,4.0865633483405102,4.4384682042344297,0.35190485589391951]
["O14",56,43,95,27,81,75,null,"O14",11,10,2,15,14,75000,{"$f":"IF(models1!J1575*models1!Y1575<=0,\"valid\",\"invalid\")","v":"invalid"},{"$f":"models1!G1575","v":47423.3},{"$f":"models1!V1575","v":63523.4},55473.350000000006,{"$f":"models1!AO1575","v":76339.7},{"$f":"IF(MAX(Q15:R15)<T15,0,IF(MIN(Q15:R15)>T15,0,1))","v":0},0,0,0,14754.737583611952,{"$f":"STDEV(models1!J1575,models1!Y1575)","v":15.181582592075175},null,11,10,2,15,14,6,7,15,2,3,75000,null,5.1283525619832355,5.1283525619832337,1.7763568394002505E-15]
["O15",54,83,47,84,82,96,null,"O15",12,3,12,6,15,96000,{"$f":"IF(models1!J1576*models1!Y1576<=0,\"valid\",\"invalid\")","v":"invalid"},{"$f":"models1!G1576","v":66392.600000000006},{"$f":"models1!V1576","v":74937.8},70665.200000000012,{"$f":"models1!AO1576","v":95679},{"$f":"IF(MAX(Q16:R16)<T16,0,IF(MIN(Q16:R16)>T16,0,1))","v":0},0,0,0,17687.427603244043,{"$f":"STDEV(models1!J1576,models1!Y1576)","v":6.2932503525602748},null,12,3,12,6,15,5,14,5,11,2,96000,null,4.9295030175464944,4.9295030175464944,0]
["O16",64,27,42,57,77,70,null,"O16",{"$f":"RANK(B17,B$2:B$17,0)","v":5},14,13,11,4,70000,{"$f":"IF(models1!J1577*models1!Y1577<=0,\"valid\",\"invalid\")","v":"valid"},{"$f":"models1!G1577","v":50917.7},{"$f":"models1!V1577","v":79900.5},65409.1,{"$f":"models1!AO1577","v":65652.100000000006},{"$f":"IF(MAX(Q17:R17)<T17,0,IF(MIN(Q17:R17)>T17,0,1))","v":1},1,0,0,171.82694782833619,{"$f":"STDEV(models1!J1577,models1!Y1577)","v":29.274220741123067},null,5,14,13,11,4,10,3,4,6,12,70000,null,4.6151923036857303,3.872983346207417,0.74220895747831328]
["correlation",{"$f":"CORREL(B2:B16,$G$2:$G$16)","v":0.55001387547397718},{"$f":"CORREL(C2:C16,$G$2:$G$16)","v":0.31503911400591633},2.9267392736689272E-2,0.19584695643211736,-0.14968285606310211,0.99999999999999989,null,"O16(2)",{"$f":"MAX(J2:J16)","v":16},{"$f":"INT(QUARTILE(K2:K16,3))","v":11},{"$f":"MEDIAN(L2:L16)","v":7},{"$f":"INT(QUARTILE(M2:M16,1))","v":4},{"$f":"MIN(N2:N16)","v":1},{"$f":"O17","v":70000},"ratio","correlation","correlation",null,"correlation",null,null,null,null,null,null,null,"direct","direct","direct","direct","direct","inverse","inverse","inverse","inverse","inverse","double","max",{"$f":"MAX(AN2:AN17)","v":6.7453687816160208},{"$f":"MAX(AO2:AO17)","v":6.8337398253079549},{"$f":"MAX(AP2:AP17)","v":0.74220895747831328}]
["direction",{"$f":"IF(B18>0,0,1)","v":0},{"$f":"IF(C18>0,0,1)","v":0},0,0,1,"Y",null,null,null,null,null,null,null,null,{"$f":"COUNTIF($P$2:$P$17,\"valid\")/16","v":0.4375},{"$f":"CORREL(Q2:Q17,$O$2:$O$17)","v":0.79739246439455258},{"$f":"CORREL(R2:R17,$O$2:$O$17)","v":0.44392781632670336},null,{"$f":"CORREL(T2:T17,$O$2:$O$17)","v":0.97547818908448092},{"$f":"SUM(U2:U17)","v":9},null,{"$f":"SUM(W2:W17)","v":0},{"$f":"SUM(X2:X17)","v":2},{"$f":"SUM(Y2:Y17)","v":127666.18479958289},null,null,null,null,null,null,null,null,null,null,null,null,null,"min",{"$f":"MIN(AN2:AN17)","v":1.0954451150103319},{"$f":"MIN(AO2:AO17)","v":0.44721359549995793},{"$f":"MIN(AP2:AP17)","v":0}]
[null,null,null,null,null,null,null,null,null,null,null,null,null,null,null,null,null,null,null,null,null,null,null,null,null,null,null,null,null,null,null,null,null,null,null,null,null,null,"avg",{"$f":"AVERAGE(AN2:AN17)","v":4.0579533624966535},{"$f":"AVERAGE(AO2:AO17)","v":3.8995313410415178},{"$f":"AVERAGE(AP2:AP17)","v":0.30275796535267191}]
["antagonism!",null,null,null,null,null,null,null,"O*",null,null,null,null,null,"correlation",null,null,null,null,null,null,null,null,null,null,null,null,null,null,null,null,null,null,null,null,null,null,null,"stddev",{"$f":"STDEV(AN2:AN17)","v":1.5753990420384216},{"$f":"STDEV(AO2:AO17)","v":1.6732898757389914},{"$f":"STDEV(AP2:AP17)","v":0.25957753341060935}]
[null,null,null,null,null,null,null,null,1,null,null,null,null,null,null,null,null,null,null,null,null,null,null,null,null,null,null,null,null,null,null,null,null,null,null,null,null,null,"median",{"$f":"MEDIAN(AN2:AN17)","v":4.3508778260131198},{"$f":"MEDIAN(AO2:AO17)","v":4.1557257752209233},0.2936781191341139]
["Consistency-tasks ",null,null,null,null,null,null,null,1,null,null,null,null,null,{"$f":"CORREL($B$2:$G$2,B3:G3)","v":-5.3341420696431364E-2}]
["Y=between1",null,null,null,null,null,null,null,1,null,null,null,null,null,-0.14526774879092155]
["Y=between2",null,null,null,null,null,null,null,1,null,null,null,null,null,-0.28399385951932021]
["Y=validity1",null,null,null,null,null,null,null,1,null,null,null,null,null,-0.67020528213665587]
["Y=validity2",null,null,null,null,null,null,null,1,null,null,null,null,null,-0.31671286663564174]
["Y=validity-ratio",null,null,null,null,null,null,null,1,null,null,null,null,null,-0.45834501629749036]
["Xi=model-characteristics",null,null,null,null,null,null,null,1,null,null,null,null,null,-0.36740910299336293]
[null,null,null,null,null,null,null,null,1,null,null,null,null,null,-0.61024014787618741]
[null,null,null,null,null,null,null,null,1,null,null,null,null,null,-5.6813585120706464E-3]
[null,null,null,null,null,null,null,null,1,null,null,null,null,null,0.67025387984672746]
[null,null,null,null,null,null,null,null,1,null,null,null,null,null,-0.45798646587085834]
[null,null,null,null,null,null,null,null,1,null,null,null,null,null,-0.68420547993922975]
[null,null,null,null,null,null,null,null,1,null,null,null,null,null,-0.11350369297078572]
[null,null,null,null,null,null,null,null,1,null,null,null,null,null,0.51809160301379609]
[null,null,null,null,null,null,null,null,1,null,null,null,null,null,0.66051649768560117]
[null,null,null,null,null,null,null,null,{"$f":"I22+1","v":2},null,null,null,null,null,{"$f":"CORREL($B$3:$G$3,B2:G2)","v":-5.3341420696431364E-2}]
[null,null,null,null,null,null,null,null,{"$f":"I23+1","v":2}]
[null,null,null,null,null,null,null,null,2,null,null,null,null,null,{"$f":"CORREL($B$3:$G$3,B4:G4)","v":0.65313772346862797}]
[null,null,null,null,null,null,null,null,2,null,null,null,null,null,0.44308783909214849]
[null,null,null,null,null,null,null,null,2,null,null,null,null,null,0.68701109657230208]
[null,null,null,null,null,null,null,null,2,null,null,null,null,null,0.6059215731187656]
[null,null,null,null,null,null,null,null,2,null,null,null,null,null,-0.35693389270751863]
[null,null,null,null,null,null,null,null,2,null,null,null,null,null,0.57520538116756215]
[null,null,null,null,null,null,null,null,2,null,null,null,null,null,0.57836170469953141]
[null,null,null,null,null,null,null,null,2,null,null,null,null,null,-0.4471047091540542]
[null,null,null,null,null,null,null,null,2,null,null,null,null,null,-0.18481490165020334]
[null,null,null,null,null,null,null,null,2,null,null,null,null,null,0.85303365690549027]
[null,null,null,null,null,null,null,null,2,null,null,null,null,null,0.48628869876642578]
[null,null,null,null,null,null,null,null,2,null,null,null,null,null,-0.51955283976702016]
[null,null,null,null,null,null,null,null,2,null,null,null,null,null,-1.0066306558628487E-3]
[null,null,null,null,null,null,null,null,2,null,null,null,null,null,-0.12358060408496122]
[null,null,null,null,null,null,null,null,3,null,null,null,null,null,{"$f":"CORREL($B$4:$G$4,B2:G2)","v":-0.14526774879092155}]
[null,null,null,null,null,null,null,null,3,null,null,null,null,null,{"$f":"CORREL($B$4:$G$4,B3:G3)","v":0.65313772346862797}]
[null,null,null,null,null,null,null,null,3]
[null,null,null,null,null,null,null,null,3,null,null,null,null,null,0.89109534483220865]
[null,null,null,null,null,null,null,null,3,null,null,null,null,null,0.72887258285809708]
[null,null,null,null,null,null,null,null,3,null,null,null,null,null,0.57554007602593582]
[null,null,null,null,null,null,null,null,3,null,null,null,null,null,-0.68502355764125689]
[null,null,null,null,null,null,null,null,3,null,null,null,null,null,0.27729258874636931]
[null,null,null,null,null,null,null,null,3,null,null,null,null,null,0.3339741798462339]
[null,null,null,null,null,null,null,null,3,null,null,null,null,null,-0.38979796525993199]
[null,null,null,null,null,null,null,null,3,null,null,null,null,null,-0.30946742141037631]
[null,null,null,null,null,null,null,null,3,null,null,null,null,null,0.54437351834891845]
[null,null,null,null,null,null,null,null,3,null,null,null,null,null,0.39516113846980744]
[null,null,null,null,null,null,null,null,3,null,null,null,null,null,-0.94052199371242451]
[null,null,null,null,null,null,null,null,3,null,null,null,null,null,0.25051941593730409]
[null,null,null,null,null,null,null,null,3,null,null,null,null,null,-0.48030141409439125]
[null,null,null,null,null,null,null,null,4,null,null,null,null,null,{"$f":"CORREL($B$5:$G$5,B2:G2)","v":-0.28399385951932021}]
[null,null,null,null,null,null,null,null,4,null,null,null,null,null,{"$f":"CORREL($B$5:$G$5,B3:G3)","v":0.44308783909214849}]
[null,null,null,null,null,null,null,null,4,null,null,null,null,null,0.89109534483220865]
[null,null,null,null,null,null,null,null,4]
[null,null,null,null,null,null,null,null,4,null,null,null,null,null,0.73475101671191179]
[null,null,null,null,null,null,null,null,4,null,null,null,null,null,0.71114228153326353]
[null,null,null,null,null,null,null,null,4,null,null,null,null,null,-0.52075167746565731]
[null,null,null,null,null,null,null,null,4,null,null,null,null,null,-1.9510353776138183E-2]
[null,null,null,null,null,null,null,null,4,null,null,null,null,null,9.8073715571389566E-2]
[null,null,null,null,null,null,null,null,4,null,null,null,null,null,3.6470039146332178E-2]
[null,null,null,null,null,null,null,null,4,null,null,null,null,null,-9.8541363647232247E-2]
[null,null,null,null,null,null,null,null,4,null,null,null,null,null,0.3405001227730956]
[null,null,null,null,null,null,null,null,4,null,null,null,null,null,0.20241801852752742]
[null,null,null,null,null,null,null,null,4,null,null,null,null,null,-0.8027306854164874]
[null,null,null,null,null,null,null,null,4,null,null,null,null,null,-2.6757960884671701E-2]
[null,null,null,null,null,null,null,null,4,null,null,null,null,null,-0.75392298228653887]
[null,null,null,null,null,null,null,null,5,null,null,null,null,null,{"$f":"CORREL($B$6:$G$6,B2:G2)","v":-0.67020528213665587}]
[null,null,null,null,null,null,null,null,5,null,null,null,null,null,{"$f":"CORREL($B$6:$G$6,B3:G3)","v":0.68701109657230208}]
[null,null,null,null,null,null,null,null,5,null,null,null,null,null,0.72887258285809708]
[null,null,null,null,null,null,null,null,5,null,null,null,null,null,0.73475101671191179]
[null,null,null,null,null,null,null,null,5]
[null,null,null,null,null,null,null,null,5,null,null,null,null,null,0.64767942678545587]
[null,null,null,null,null,null,null,null,5,null,null,null,null,null,-0.19580849630958666]
[null,null,null,null,null,null,null,null,5,null,null,null,null,null,0.40778252630249046]
[null,null,null,null,null,null,null,null,5,null,null,null,null,null,0.69499110930910124]
[null,null,null,null,null,null,null,null,5,null,null,null,null,null,-0.17351499439569179]
[null,null,null,null,null,null,null,null,5,null,null,null,null,null,-0.51342203794500307]
[null,null,null,null,null,null,null,null,5,null,null,null,null,null,0.83519905899263736]
[null,null,null,null,null,null,null,null,5,null,null,null,null,null,0.74260327301463924]
[null,null,null,null,null,null,null,null,5,null,null,null,null,null,-0.46158210594915328]
[null,null,null,null,null,null,null,null,5,null,null,null,null,null,-0.19181665717003832]
[null,null,null,null,null,null,null,null,5,null,null,null,null,null,-0.74654182814678349]
[null,null,null,null,null,null,null,null,6,null,null,null,null,null,{"$f":"CORREL($B$7:$G$7,B2:G2)","v":-0.31671286663564174}]
[null,null,null,null,null,null,null,null,{"$f":"I87+1","v":6},null,null,null,null,null,{"$f":"CORREL($B$7:$G$7,B3:G3)","v":0.6059215731187656}]
[null,null,null,null,null,null,null,null,6,null,null,null,null,null,0.57554007602593582]
[null,null,null,null,null,null,null,null,6,null,null,null,null,null,0.71114228153326353]
[null,null,null,null,null,null,null,null,6,null,null,null,null,null,0.64767942678545587]
[null,null,null,null,null,null,null,null,6]
[null,null,null,null,null,null,null,null,6,null,null,null,null,null,1.9272625225133965E-2]
[null,null,null,null,null,null,null,null,6,null,null,null,null,null,0.28238975448155296]
[null,null,null,null,null,null,null,null,6,null,null,null,null,null,0.10567841941324017]
[null,null,null,null,null,null,null,null,6,null,null,null,null,null,7.6429162933016354E-2]
[null,null,null,null,null,null,null,null,6,null,null,null,null,null,0.10253155917278058]
[null,null,null,null,null,null,null,null,6,null,null,null,null,null,0.39886525612674362]
[null,null,null,null,null,null,null,null,6,null,null,null,null,null,7.6129241505526746E-2]
[null,null,null,null,null,null,null,null,6,null,null,null,null,null,-0.48510159183399559]
[null,null,null,null,null,null,null,null,6,null,null,null,null,null,-0.60000003867861362]
[null,null,null,null,null,null,null,null,6,null,null,null,null,null,-0.47593555510269769]
[null,null,null,null,null,null,null,null,7,null,null,null,null,null,{"$f":"CORREL($B$8:$G$8,B2:G2)","v":-0.45834501629749036}]
[null,null,null,null,null,null,null,null,7,null,null,null,null,null,{"$f":"CORREL($B$8:$G$8,B3:G3)","v":-0.35693389270751863}]
[null,null,null,null,null,null,null,null,7,null,null,null,null,null,-0.68502355764125689]
[null,null,null,null,null,null,null,null,7,null,null,null,null,null,-0.52075167746565731]
[null,null,null,null,null,null,null,null,7,null,null,null,null,null,-0.19580849630958666]
[null,null,null,null,null,null,null,null,7,null,null,null,null,null,1.9272625225133965E-2]
[null,null,null,null,null,null,null,null,7]
[null,null,null,null,null,null,null,null,7,null,null,null,null,null,0.22414296507241371]
[null,null,null,null,null,null,null,null,7,null,null,null,null,null,3.9913121839900458E-2]
[null,null,null,null,null,null,null,null,7,null,null,null,null,null,0.22122451284776265]
[null,null,null,null,null,null,null,null,7,null,null,null,null,null,-5.7291078820971279E-2]
[null,null,null,null,null,null,null,null,7,null,null,null,null,null,-0.16368000108429187]
[null,null,null,null,null,null,null,null,7,null,null,null,null,null,-2.719742713037963E-2]
[null,null,null,null,null,null,null,null,7,null,null,null,null,null,0.73795431251156385]
[null,null,null,null,null,null,null,null,7,null,null,null,null,null,-0.79091330843089236]
[null,null,null,null,null,null,null,null,7,null,null,null,null,null,0.13474405842683834]
[null,null,null,null,null,null,null,null,8,null,null,null,null,null,{"$f":"CORREL($B$9:$G$9,B2:G2)","v":-0.36740910299336293}]
[null,null,null,null,null,null,null,null,8,null,null,null,null,null,{"$f":"CORREL($B$9:$G$9,B3:G3)","v":0.57520538116756215}]
[null,null,null,null,null,null,null,null,8,null,null,null,null,null,0.27729258874636931]
[null,null,null,null,null,null,null,null,8,null,null,null,null,null,-1.9510353776138183E-2]
[null,null,null,null,null,null,null,null,8,null,null,null,null,null,0.40778252630249046]
[null,null,null,null,null,null,null,null,8,null,null,null,null,null,0.28238975448155296]
[null,null,null,null,null,null,null,null,8,null,null,null,null,null,0.22414296507241371]
[null,null,null,null,null,null,null,null,8]
[null,null,null,null,null,null,null,null,8,null,null,null,null,null,0.75741236465902539]
[null,null,null,null,null,null,null,null,8,null,null,null,null,null,-0.81853358696632228]
[null,null,null,null,null,null,null,null,8,null,null,null,null,null,-0.66875953888570427]
[null,null,null,null,null,null,null,null,8,null,null,null,null,null,0.67602427830137723]
[null,null,null,null,null,null,null,null,8,null,null,null,null,null,0.65074697342065602]
[null,null,null,null,null,null,null,null,8,null,null,null,null,null,-0.2069237054185479]
[null,null,null,null,null,null,null,null,8,null,null,null,null,null,-0.17567625963603353]
[null,null,null,null,null,null,null,null,8,null,null,null,null,null,0.22340906765500401]
[null,null,null,null,null,null,null,null,9,null,null,null,null,null,{"$f":"CORREL($B$10:$G$10,B2:G2)","v":-0.61024014787618741}]
[null,null,null,null,null,null,null,null,9,null,null,null,null,null,{"$f":"CORREL($B$10:$G$10,B3:G3)","v":0.57836170469953141}]
[null,null,null,null,null,null,null,null,9,null,null,null,null,null,0.3339741798462339]
[null,null,null,null,null,null,null,null,9,null,null,null,null,null,9.8073715571389566E-2]
[null,null,null,null,null,null,null,null,9,null,null,null,null,null,0.69499110930910124]
[null,null,null,null,null,null,null,null,9,null,null,null,null,null,0.10567841941324017]
[null,null,null,null,null,null,null,null,9,null,null,null,null,null,3.9913121839900458E-2]
[null,null,null,null,null,null,null,null,9,null,null,null,null,null,0.75741236465902539]
[null,null,null,null,null,null,null,null,9]
[null,null,null,null,null,null,null,null,9,null,null,null,null,null,-0.60622230046336734]
[null,null,null,null,null,null,null,null,9,null,null,null,null,null,-0.84872192114210088]
[null,null,null,null,null,null,null,null,9,null,null,null,null,null,0.90321302143603754]
[null,null,null,null,null,null,null,null,9,null,null,null,null,null,0.97708281539237773]
[null,null,null,null,null,null,null,null,9,null,null,null,null,null,-9.0246264441611934E-2]
[null,null,null,null,null,null,null,null,9,null,null,null,null,null,2.3268828337177316E-2]
[null,null,null,null,null,null,null,null,9,null,null,null,null,null,-0.20345146747497125]
[null,null,null,null,null,null,null,null,10,null,null,null,null,null,{"$f":"CORREL($B$11:$G$11,B2:G2)","v":-5.6813585120706464E-3}]
[null,null,null,null,null,null,null,null,{"$f":"I151+1","v":10},null,null,null,null,null,{"$f":"CORREL($B$11:$G$11,B3:G3)","v":-0.4471047091540542}]
[null,null,null,null,null,null,null,null,10,null,null,null,null,null,-0.38979796525993199]
[null,null,null,null,null,null,null,null,10,null,null,null,null,null,3.6470039146332178E-2]
[null,null,null,null,null,null,null,null,10,null,null,null,null,null,-0.17351499439569179]
[null,null,null,null,null,null,null,null,10,null,null,null,null,null,7.6429162933016354E-2]
[null,null,null,null,null,null,null,null,10,null,null,null,null,null,0.22122451284776265]
[null,null,null,null,null,null,null,null,10,null,null,null,null,null,-0.81853358696632228]
[null,null,null,null,null,null,null,null,10,null,null,null,null,null,-0.60622230046336734]
[null,null,null,null,null,null,null,null,10]
[null,null,null,null,null,null,null,null,10,null,null,null,null,null,0.66115333005487309]
[null,null,null,null,null,null,null,null,10,null,null,null,null,null,-0.49274633612899832]
[null,null,null,null,null,null,null,null,10,null,null,null,null,null,-0.54030218315968104]
[null,null,null,null,null,null,null,null,10,null,null,null,null,null,0.43359405192434236]
[null,null,null,null,null,null,null,null,10,null,null,null,null,null,-0.39217318050128708]
[null,null,null,null,null,null,null,null,10,null,null,null,null,null,-0.41287752077029799]
[null,null,null,null,null,null,null,null,11,null,null,null,null,null,{"$f":"CORREL($B$12:$G$12,B2:G2)","v":0.67025387984672746}]
[null,null,null,null,null,null,null,null,11,null,null,null,null,null,{"$f":"CORREL($B$12:$G$12,B3:G3)","v":-0.18481490165020334}]
[null,null,null,null,null,null,null,null,11,null,null,null,null,null,-0.30946742141037631]
[null,null,null,null,null,null,null,null,11,null,null,null,null,null,-9.8541363647232247E-2]
[null,null,null,null,null,null,null,null,11,null,null,null,null,null,-0.51342203794500307]
[null,null,null,null,null,null,null,null,11,null,null,null,null,null,0.10253155917278058]
[null,null,null,null,null,null,null,null,11,null,null,null,null,null,-5.7291078820971279E-2]
[null,null,null,null,null,null,null,null,11,null,null,null,null,null,-0.66875953888570427]
[null,null,null,null,null,null,null,null,11,null,null,null,null,null,-0.84872192114210088]
[null,null,null,null,null,null,null,null,11,null,null,null,null,null,0.66115333005487309]
[null,null,null,null,null,null,null,null,11]
[null,null,null,null,null,null,null,null,11,null,null,null,null,null,-0.59314596247770268]
[null,null,null,null,null,null,null,null,11,null,null,null,null,null,-0.89757189798073234]
[null,null,null,null,null,null,null,null,11,null,null,null,null,null,0.15119103251144247]
[null,null,null,null,null,null,null,null,11,null,null,null,null,null,-0.14094876895072114]
[null,null,null,null,null,null,null,null,11,null,null,null,null,null,0.20047149513310084]
[null,null,null,null,null,null,null,null,12,null,null,null,null,null,{"$f":"CORREL($B$13:$G$13,B2:G2)","v":-0.45798646587085834}]
[null,null,null,null,null,null,null,null,12,null,null,null,null,null,{"$f":"CORREL($B$13:$G$13,B3:G3)","v":0.85303365690549027}]
[null,null,null,null,null,null,null,null,12,null,null,null,null,null,0.54437351834891845]
[null,null,null,null,null,null,null,null,12,null,null,null,null,null,0.3405001227730956]
[null,null,null,null,null,null,null,null,12,null,null,null,null,null,0.83519905899263736]
[null,null,null,null,null,null,null,null,12,null,null,null,null,null,0.39886525612674362]
[null,null,null,null,null,null,null,null,12,null,null,null,null,null,-0.16368000108429187]
[null,null,null,null,null,null,null,null,12,null,null,null,null,null,0.67602427830137723]
[null,null,null,null,null,null,null,null,12,null,null,null,null,null,0.90321302143603754]
[null,null,null,null,null,null,null,null,12,null,null,null,null,null,-0.49274633612899832]
[null,null,null,null,null,null,null,null,12,null,null,null,null,null,-0.59314596247770268]
[null,null,null,null,null,null,null,null,12]
[null,null,null,null,null,null,null,null,12,null,null,null,null,null,0.8594510223277444]
[null,null,null,null,null,null,null,null,12,null,null,null,null,null,-0.29479200775036424]
[null,null,null,null,null,null,null,null,12,null,null,null,null,null,-1.5642975433167138E-2]
[null,null,null,null,null,null,null,null,12,null,null,null,null,null,-0.30520116053664453]
[null,null,null,null,null,null,null,null,13,null,null,null,null,null,{"$f":"CORREL($B$14:$G$14,B2:G2)","v":-0.68420547993922975}]
[null,null,null,null,null,null,null,null,13,null,null,null,null,null,{"$f":"CORREL($B$14:$G$14,B3:G3)","v":0.48628869876642578}]
[null,null,null,null,null,null,null,null,13,null,null,null,null,null,0.39516113846980744]
[null,null,null,null,null,null,null,null,13,null,null,null,null,null,0.20241801852752742]
[null,null,null,null,null,null,null,null,13,null,null,null,null,null,0.74260327301463924]
[null,null,null,null,null,null,null,null,13,null,null,null,null,null,7.6129241505526746E-2]
[null,null,null,null,null,null,null,null,13,null,null,null,null,null,-2.719742713037963E-2]
[null,null,null,null,null,null,null,null,13,null,null,null,null,null,0.65074697342065602]
[null,null,null,null,null,null,null,null,13,null,null,null,null,null,0.97708281539237773]
[null,null,null,null,null,null,null,null,13,null,null,null,null,null,-0.54030218315968104]
[null,null,null,null,null,null,null,null,13,null,null,null,null,null,-0.89757189798073234]
[null,null,null,null,null,null,null,null,13,null,null,null,null,null,0.8594510223277444]
[null,null,null,null,null,null,null,null,13]
[null,null,null,null,null,null,null,null,13,null,null,null,null,null,-0.13845110829148188]
[null,null,null,null,null,null,null,null,13,null,null,null,null,null,7.823960508462266E-2]
[null,null,null,null,null,null,null,null,13,null,null,null,null,null,-0.35194701659488564]
[null,null,null,null,null,null,null,null,14,null,null,null,null,null,{"$f":"CORREL($B$15:$G$15,B2:G2)","v":-0.11350369297078572}]
[null,null,null,null,null,null,null,null,{"$f":"I215+1","v":14},null,null,null,null,null,{"$f":"CORREL($B$15:$G$15,B3:G3)","v":-0.51955283976702016}]
[null,null,null,null,null,null,null,null,14,null,null,null,null,null,-0.94052199371242451]
[null,null,null,null,null,null,null,null,14,null,null,null,null,null,-0.8027306854164874]
[null,null,null,null,null,null,null,null,14,null,null,null,null,null,-0.46158210594915328]
[null,null,null,null,null,null,null,null,14,null,null,null,null,null,-0.48510159183399559]
[null,null,null,null,null,null,null,null,14,null,null,null,null,null,0.73795431251156385]
[null,null,null,null,null,null,null,null,14,null,null,null,null,null,-0.2069237054185479]
[null,null,null,null,null,null,null,null,14,null,null,null,null,null,-9.0246264441611934E-2]
[null,null,null,null,null,null,null,null,14,null,null,null,null,null,0.43359405192434236]
[null,null,null,null,null,null,null,null,14,null,null,null,null,null,0.15119103251144247]
[null,null,null,null,null,null,null,null,14,null,null,null,null,null,-0.29479200775036424]
[null,null,null,null,null,null,null,null,14,null,null,null,null,null,-0.13845110829148188]
[null,null,null,null,null,null,null,null,14]
[null,null,null,null,null,null,null,null,14,null,null,null,null,null,-0.34897918052633287]
[null,null,null,null,null,null,null,null,14,null,null,null,null,null,0.24707680144204464]
[null,null,null,null,null,null,null,null,15,null,null,null,null,null,{"$f":"CORREL($B$16:$G$16,B2:G2)","v":0.51809160301379609}]
[null,null,null,null,null,null,null,null,15,null,null,null,null,null,{"$f":"CORREL($B$16:$G$16,B3:G3)","v":-1.0066306558628487E-3}]
[null,null,null,null,null,null,null,null,15,null,null,null,null,null,0.25051941593730409]
[null,null,null,null,null,null,null,null,15,null,null,null,null,null,-2.6757960884671701E-2]
[null,null,null,null,null,null,null,null,15,null,null,null,null,null,-0.19181665717003832]
[null,null,null,null,null,null,null,null,15,null,null,null,null,null,-0.60000003867861362]
[null,null,null,null,null,null,null,null,15,null,null,null,null,null,-0.79091330843089236]
[null,null,null,null,null,null,null,null,15,null,null,null,null,null,-0.17567625963603353]
[null,null,null,null,null,null,null,null,15,null,null,null,null,null,2.3268828337177316E-2]
[null,null,null,null,null,null,null,null,15,null,null,null,null,null,-0.39217318050128708]
[null,null,null,null,null,null,null,null,15,null,null,null,null,null,-0.14094876895072114]
[null,null,null,null,null,null,null,null,15,null,null,null,null,null,-1.5642975433167138E-2]
[null,null,null,null,null,null,null,null,15,null,null,null,null,null,7.823960508462266E-2]
[null,null,null,null,null,null,null,null,15,null,null,null,null,null,-0.34897918052633287]
[null,null,null,null,null,null,null,null,15]
[null,null,null,null,null,null,null,null,15,null,null,null,null,null,0.24632183730734084]
[null,null,null,null,null,null,null,null,16,null,null,null,null,null,{"$f":"CORREL($B$17:$G$17,B2:G2)","v":0.66051649768560117}]
[null,null,null,null,null,null,null,null,16,null,null,null,null,null,{"$f":"CORREL($B$17:$G$17,B3:G3)","v":-0.12358060408496122}]
[null,null,null,null,null,null,null,null,16,null,null,null,null,null,-0.48030141409439125]
[null,null,null,null,null,null,null,null,16,null,null,null,null,null,-0.75392298228653887]
[null,null,null,null,null,null,null,null,16,null,null,null,null,null,-0.74654182814678349]
[null,null,null,null,null,null,null,null,16,null,null,null,null,null,-0.47593555510269769]
[null,null,null,null,null,null,null,null,16,null,null,null,null,null,0.13474405842683834]
[null,null,null,null,null,null,null,null,16,null,null,null,null,null,0.22340906765500401]
[null,null,null,null,null,null,null,null,16,null,null,null,null,null,-0.20345146747497125]
[null,null,null,null,null,null,null,null,16,null,null,null,null,null,-0.41287752077029799]
[null,null,null,null,null,null,null,null,16,null,null,null,null,null,0.20047149513310084]
[null,null,null,null,null,null,null,null,16,null,null,null,null,null,-0.30520116053664453]
[null,null,null,null,null,null,null,null,16,null,null,null,null,null,-0.35194701659488564]
[null,null,null,null,null,null,null,null,16,null,null,null,null,null,0.24707680144204464]
[null,null,null,null,null,null,null,null,16,null,null,null,null,null,0.24632183730734084]
[null,null,null,null,null,null,null,null,16]
[null,null,null,null,null,null,null,null,"max",null,null,null,null,null,{"$f":"MAX(O22:O277)","v":0.97708281539237773}]
[null,null,null,null,null,null,null,null,"min",null,null,null,null,null,{"$f":"MIN(O22:O277)","v":-0.94052199371242451}]
[null,null,null,null,null,null,null,null,"avg",null,null,null,null,null,{"$f":"AVERAGE(O22:O277)","v":1.1949564518588271E-2}]
[null,null,null,null,null,null,null,null,"stddev",null,null,null,null,null,{"$f":"STDEV(O22:O277)","v":0.49557715034216809}]
[null,null,null,null,null,null,null,null,"median",null,null,null,null,null,{"$f":"MEDIAN(O22:O277)","v":-1.757666460465266E-2}]
[null,null,null,null,null,null,null,null,"kvart_1",null,null,null,null,null,{"$f":"QUARTILE(O22:O277,1)","v":-0.39039176907027073}]
[null,null,null,null,null,null,null,null,"kvart_3",null,null,null,null,null,{"$f":"QUARTILE(O22:O277,3)","v":0.41423540770795342}]

{"sheet":"basics15","index":1,"n_rows":284,"n_cols":42,"rows_kept":284,"cut":false,"hidden":false,"merged":[]}
[{"$f":"RANDBETWEEN(10,99)","v":77},"A1","A2","A3","A4","A5","A6=Y",null,"rank",{"$f":"B1","v":"A1"},"A2","A3","A4","A5",{"$f":"G1&\"'\"","v":"A6=Y'"},"validity0","direkt","inverz","átlag","double","between1","validity1","invalid_between","valid_extrem","between2","validity2",null,{"$f":"models1!B7","v":"X(A1)"},{"$f":"models1!C7","v":"X(A2)"},{"$f":"models1!D7","v":"X(A3)"},{"$f":"models1!E7","v":"X(A4)"},{"$f":"models1!F7","v":"X(A5)"},{"$f":"AB1","v":"X(A1)"},{"$f":"AC1","v":"X(A2)"},"X(A3)","X(A4)","X(A5)",{"$f":"O1","v":"A6=Y'"},null,"direct_stddev","inverse_stddev","delta"]
["O1",87,75,18,22,59,16,null,{"$f":"A2","v":"O1"},{"$f":"RANK(B2,B$2:B$17,B$19)","v":15},{"$f":"RANK(C2,C$2:C$17,C$19)","v":7},1,12,12,{"$f":"G2*1000","v":16000},{"$f":"IF(models1!J1462*models1!Y1462<=0,\"valid\",\"invalid\")","v":"invalid"},{"$f":"models1!G1462","v":29863.200000000001},{"$f":"models1!V1462","v":16878.900000000001},{"$f":"AVERAGE(Q2:R2)","v":23371.050000000003},{"$f":"models1!AO1462","v":16089.5},{"$f":"IF(MAX(Q2:R2)<T2,0,IF(MIN(Q2:R2)>T2,0,1))","v":0},{"$f":"IF(P2=\"valid\",1,)","v":0},{"$f":"IF(V2=1,IF(U2=0,1,0),0)","v":0},{"$f":"IF(V2=0,IF(U2=1,1,0),0)","v":0},{"$f":"STDEV(S2:T2)","v":5148.8333825489008},{"$f":"STDEV(models1!J1462,models1!Y1462)","v":57.388786361100202},null,{"$f":"J2","v":15},{"$f":"K2","v":7},1,12,12,{"$f":"RANK(AB2,AB$2:AB$17,0)","v":2},{"$f":"RANK(AC2,AC$2:AC$17,0)","v":10},16,3,4,16000,null,{"$f":"STDEV(AB2:AF2)","v":5.5045435778091534},{"$f":"STDEV(AG2:AK2)","v":5.9160797830996161},{"$f":"ABS(AO2-AN2)","v":0.41153620529046275}]
["O2",26,48,93,22,34,28,null,{"$f":"A3","v":"O2"},{"$f":"RANK(B3,B$2:B$17,B$19)","v":4},10,16,12,5,{"$f":"G3*1000","v":28000},{"$f":"IF(models1!J1463*models1!Y1463<=0,\"valid\",\"invalid\")","v":"invalid"},{"$f":"models1!G1463","v":44557.8},{"$f":"models1!V1463","v":54329},{"$f":"AVERAGE(Q3:R3)","v":49443.4},{"$f":"models1!AO1463","v":35296.300000000003},0,0,{"$f":"IF(V3=1,IF(U3=0,1,0),0)","v":0},{"$f":"IF(V3=0,IF(U3=1,1,0),0)","v":0},{"$f":"STDEV(S3:T3)","v":10003.510344124155},{"$f":"STDEV(models1!J1463,models1!Y1463)","v":24.670955595598599},null,{"$f":"J3","v":4},10,16,12,5,{"$f":"RANK(AB3,AB$2:AB$17,0)","v":13},7,1,3,10,28000,null,{"$f":"STDEV(AB3:AF3)","v":4.9799598391954927},{"$f":"STDEV(AG3:AK3)","v":4.9193495504995379},{"$f":"ABS(AO3-AN3)","v":6.061028869595475E-2}]
["O3",73,38,52,45,67,90,null,"O3",13,14,9,9,13,90000,{"$f":"IF(models1!J1464*models1!Y1464<=0,\"valid\",\"invalid\")","v":"invalid"},{"$f":"models1!G1464","v":53564.2},{"$f":"models1!V1464","v":75955.100000000006},64759.65,{"$f":"models1!AO1464","v":72402.7},1,0,0,1,5404.452483947839,{"$f":"STDEV(models1!J1464,models1!Y1464)","v":17.585745648109437},null,13,14,9,9,13,4,3,7,8,3,90000,null,2.4083189157584615,2.3452078799117149,6.3111035846746599E-2]
["O4",54,44,88,50,40,66,null,"O4",10,12,14,8,7,66000,{"$f":"IF(models1!J1465*models1!Y1465<=0,\"valid\",\"invalid\")","v":"valid"},{"$f":"models1!G1465","v":45979.9},{"$f":"models1!V1465","v":68043.100000000006},57011.5,{"$f":"models1!AO1465","v":66369.2},1,1,0,0,6616.8931263093536,{"$f":"STDEV(models1!J1465,models1!Y1465)","v":23.638579695066284},null,10,12,14,8,7,7,5,2,9,9,66000,null,2.8635642126552687,2.9664793948382648,0.10291518218299611]
["O5",11,82,48,69,43,77,null,"O5",1,6,7,7,8,77000,{"$f":"IF(models1!J1466*models1!Y1466<=0,\"valid\",\"invalid\")","v":"valid"},{"$f":"models1!G1466","v":79161.2},{"$f":"models1!V1466","v":51691.6},65426.399999999994,{"$f":"models1!AO1466","v":77430.7},1,1,0,0,8488.321933397674,{"$f":"STDEV(models1!J1466,models1!Y1466)","v":25.229569952736014},null,1,6,7,7,8,16,11,9,10,8,77000,null,2.7748873851023221,3.1144823004794855,0.33959491537716335]
["O6",29,70,79,22,24,51,null,"O6",5,8,13,12,3,51000,{"$f":"IF(models1!J1467*models1!Y1467<=0,\"valid\",\"invalid\")","v":"invalid"},{"$f":"models1!G1467","v":53090.1},{"$f":"models1!V1467","v":51164.2},52127.149999999994,{"$f":"models1!AO1467","v":41229.300000000003},0,0,0,0,7705.9436353537994,{"$f":"STDEV(models1!J1467,models1!Y1467)","v":2.6728636328851492},null,5,8,13,12,3,12,9,4,3,13,51000,null,4.3243496620879309,4.5497252664309302,0.2253756043429993]
["O7",58,47,54,75,17,60,null,"O7",11,11,10,6,1,60000,{"$f":"IF(models1!J1468*models1!Y1468<=0,\"valid\",\"invalid\")","v":"invalid"},{"$f":"models1!G1468","v":60674.400000000001},{"$f":"models1!V1468","v":68043.100000000006},64358.75,{"$f":"models1!AO1468","v":60335.6},0,0,0,0,2844.7966467306596,{"$f":"STDEV(models1!J1468,models1!Y1468)","v":8.690342340782669},null,11,11,10,6,1,6,6,6,11,16,60000,null,4.3243496620879309,4.4721359549995796,0.14778629291164869]
["O8",33,16,38,99,94,33,null,"O8",6,16,4,1,16,33000,{"$f":"IF(models1!J1469*models1!Y1469<=0,\"valid\",\"invalid\")","v":"invalid"},{"$f":"models1!G1469","v":47401.9},{"$f":"models1!V1469","v":39559.9},43480.9,{"$f":"models1!AO1469","v":40726.5},1,0,0,1,1947.6549181002274,{"$f":"STDEV(models1!J1469,models1!Y1469)","v":16.800857120992383},null,6,16,4,1,16,11,1,12,16,1,33000,null,6.9856996786291923,6.8337398253079549,0.1519598533212374]
["O9",35,99,59,14,54,69,null,"O9",7,1,11,15,11,69000,{"$f":"IF(models1!J1470*models1!Y1470<=0,\"valid\",\"invalid\")","v":"valid"},{"$f":"models1!G1470","v":65414.6},{"$f":"models1!V1470","v":71735.3},68574.95,{"$f":"models1!AO1470","v":69385.899999999994},1,1,0,0,573.42824420322859,{"$f":"STDEV(models1!J1470,models1!Y1470)","v":6.4770981156687757},null,7,1,11,15,11,10,16,5,2,5,69000,null,5.2915026221291814,5.5045435778091534,0.21304095567997194]
["O10",16,23,32,93,52,48,null,"O10",3,15,3,2,10,48000,{"$f":"IF(models1!J1471*models1!Y1471<=0,\"valid\",\"invalid\")","v":"invalid"},{"$f":"models1!G1471","v":54512.2},{"$f":"models1!V1471","v":50636.7},52574.45,{"$f":"models1!AO1471","v":48268.5},0,0,0,0,3044.766444450212,{"$f":"STDEV(models1!J1471,models1!Y1471)","v":5.713422791987302},null,3,15,3,2,10,14,2,14,15,6,48000,null,5.6833088953531288,5.8480766068853773,0.16476771153224856]
["O11",14,98,44,86,18,75,null,"O11",2,2,6,4,2,75000,{"$f":"IF(models1!J1472*models1!Y1472<=0,\"valid\",\"invalid\")","v":"valid"},{"$f":"models1!G1472","v":79161.2},{"$f":"models1!V1472","v":50636.7},64898.95,{"$f":"models1!AO1472","v":75419.5},1,1,0,0,7439.1522468121348,{"$f":"STDEV(models1!J1472,models1!Y1472)","v":26.891270888524399},null,2,2,6,4,2,15,15,10,13,15,75000,null,1.7888543819998315,2.190890230020667,0.40203584802083547]
["O12",98,65,88,30,93,21,null,"O12",16,9,14,10,15,21000,{"$f":"IF(models1!J1473*models1!Y1473<=0,\"valid\",\"invalid\")","v":"valid"},{"$f":"models1!G1473","v":19434.8},{"$f":"models1!V1473","v":53801.5},36618.15,{"$f":"models1!AO1473","v":31676.2},1,1,0,0,3494.4863572848594,{"$f":"STDEV(models1!J1473,models1!Y1473)","v":115.71802474117848},null,16,9,14,10,15,1,8,2,7,2,21000,null,3.1144823004794855,3.2403703492039302,0.1258880487244447]
["O13",60,43,49,13,31,92,null,"O13",12,13,8,16,4,92000,{"$f":"IF(models1!J1474*models1!Y1474<=0,\"valid\",\"invalid\")","v":"valid"},{"$f":"models1!G1474","v":57356.3},{"$f":"models1!V1474","v":97053.7},77205,{"$f":"models1!AO1474","v":92514.6},1,1,0,0,10825.521977253573,{"$f":"STDEV(models1!J1474,models1!Y1474)","v":30.511657608199524},null,12,13,8,16,4,5,4,8,1,12,92000,null,4.669047011971502,4.1833001326703778,0.48574687930112415]
["O14",81,91,38,27,51,47,null,"O14",14,4,4,11,9,47000,{"$f":"IF(models1!J1475*models1!Y1475<=0,\"valid\",\"invalid\")","v":"invalid"},{"$f":"models1!G1475","v":36973.5},{"$f":"models1!V1475","v":33230.300000000003},35101.9,{"$f":"models1!AO1475","v":45754.5},{"$f":"IF(MAX(Q15:R15)<T15,0,IF(MIN(Q15:R15)>T15,0,1))","v":0},0,0,0,7532.5256972678553,{"$f":"STDEV(models1!J1475,models1!Y1475)","v":5.635641046056783},null,14,4,4,11,9,3,12,12,6,7,47000,null,4.3931765272977588,3.9370039370059056,0.4561725902918532]
["O15",50,91,28,90,34,41,null,"O15",9,4,2,3,5,41000,{"$f":"IF(models1!J1476*models1!Y1476<=0,\"valid\",\"invalid\")","v":"valid"},{"$f":"models1!G1476","v":62096.5},{"$f":"models1!V1476","v":29538.1},45817.3,{"$f":"models1!AO1476","v":36201.4},{"$f":"IF(MAX(Q16:R16)<T16,0,IF(MIN(Q16:R16)>T16,0,1))","v":1},1,0,0,6799.4680972116676,{"$f":"STDEV(models1!J1476,models1!Y1476)","v":56.151349494023748},null,9,4,2,3,5,8,12,15,14,10,41000,null,2.7018512172212592,2.8635642126552687,0.16171299543400952]
["O16",45,94,74,84,72,31,null,"O16",{"$f":"RANK(B17,B$2:B$17,0)","v":9},3,5,5,3,31000,{"$f":"IF(models1!J1477*models1!Y1477<=0,\"valid\",\"invalid\")","v":"invalid"},{"$f":"models1!G1477","v":58304.3},{"$f":"models1!V1477","v":32702.9},45503.600000000006,{"$f":"models1!AO1477","v":35899.699999999997},{"$f":"IF(MAX(Q17:R17)<T17,0,IF(MIN(Q17:R17)>T17,0,1))","v":1},0,0,1,6790.9828158374848,{"$f":"STDEV(models1!J1477,models1!Y1477)","v":58.399949058196967},null,9,3,5,5,3,8,14,11,12,13,31000,null,2.4494897427831779,2.3021728866442701,0.14731685613890777]
["correlation",{"$f":"CORREL(B2:B16,$G$2:$G$16)","v":-0.2712668597107698},{"$f":"CORREL(C2:C16,$G$2:$G$16)","v":2.7044133689717545E-2},-6.5825679198558487E-3,9.8823483090214239E-3,-0.4012844302500862,1,null,"O16(2)",{"$f":"MAX(J2:J16)","v":16},{"$f":"INT(QUARTILE(K2:K16,3))","v":12},{"$f":"MEDIAN(L2:L16)","v":8},{"$f":"INT(QUARTILE(M2:M16,1))","v":5},{"$f":"MIN(N2:N16)","v":1},{"$f":"O17","v":31000},"ratio","correlation","correlation",null,"correlation",null,null,null,null,null,null,null,"direct","direct","direct","direct","direct","inverse","inverse","inverse","inverse","inverse","double","max",{"$f":"MAX(AN2:AN17)","v":6.9856996786291923},{"$f":"MAX(AO2:AO17)","v":6.8337398253079549},{"$f":"MAX(AP2:AP17)","v":0.48574687930112415}]
["direction",{"$f":"IF(B18>0,0,1)","v":1},{"$f":"IF(C18>0,0,1)","v":0},1,0,1,"Y",null,null,null,null,null,null,null,null,{"$f":"COUNTIF($P$2:$P$17,\"valid\")/16","v":0.4375},{"$f":"CORREL(Q2:Q17,$O$2:$O$17)","v":0.64588742079153416},{"$f":"CORREL(R2:R17,$O$2:$O$17)","v":0.75951888717232796},null,{"$f":"CORREL(T2:T17,$O$2:$O$17)","v":0.96280778599772177},{"$f":"SUM(U2:U17)","v":10},null,{"$f":"SUM(W2:W17)","v":0},{"$f":"SUM(X2:X17)","v":3},{"$f":"SUM(Y2:Y17)","v":94660.738350833635},null,null,null,null,null,null,null,null,null,null,null,null,null,"min",{"$f":"MIN(AN2:AN17)","v":1.7888543819998315},{"$f":"MIN(AO2:AO17)","v":2.190890230020667},{"$f":"MIN(AP2:AP17)","v":6.061028869595475E-2}]
[null,null,null,null,null,null,null,null,null,null,null,null,null,null,null,null,null,null,null,null,null,null,null,null,null,null,null,null,null,null,null,null,null,null,null,null,null,null,"avg",{"$f":"AVERAGE(AN2:AN17)","v":4.0160866020350676},{"$f":"AVERAGE(AO2:AO17)","v":4.0741951180288769},{"$f":"AVERAGE(AP2:AP17)","v":0.22872320394328777}]
["antagonism!",null,null,null,null,null,null,null,"O*",null,null,null,null,null,"correlation",null,null,null,null,null,null,null,null,null,null,null,null,null,null,null,null,null,null,null,null,null,null,null,"stddev",{"$f":"STDEV(AN2:AN17)","v":1.4727926869108412},{"$f":"STDEV(AO2:AO17)","v":1.4448747637465476},{"$f":"STDEV(AP2:AP17)","v":0.14225448250678102}]
[null,null,null,null,null,null,null,null,1,null,null,null,null,null,null,null,null,null,null,null,null,null,null,null,null,null,null,null,null,null,null,null,null,null,null,null,null,null,"median",{"$f":"MEDIAN(AN2:AN17)","v":4.3243496620879309},{"$f":"MEDIAN(AO2:AO17)","v":4.0601520348381417},0.16324035348312904]
["Consistency-tasks ",null,null,null,null,null,null,null,1,null,null,null,null,null,{"$f":"CORREL($B$2:$G$2,B3:G3)","v":-0.26557894427366324}]
["Y=between1",null,null,null,null,null,null,null,1,null,null,null,null,null,-0.1082438766099996]
["Y=between2",null,null,null,null,null,null,null,1,null,null,null,null,null,-0.60886460461837921]
["Y=validity1",null,null,null,null,null,null,null,1,null,null,null,null,null,-0.47237684573444494]
["Y=validity2",null,null,null,null,null,null,null,1,null,null,null,null,null,-0.20234144451717928]
["Y=validity-ratio",null,null,null,null,null,null,null,1,null,null,null,null,null,-0.39363993627351795]
["Xi=model-characteristics",null,null,null,null,null,null,null,1,null,null,null,null,null,-0.26076129412444077]
[null,null,null,null,null,null,null,null,1,null,null,null,null,null,0.19557516191363539]
[null,null,null,null,null,null,null,null,1,null,null,null,null,null,-0.59850790628684492]
[null,null,null,null,null,null,null,null,1,null,null,null,null,null,-0.3473769872552161]
[null,null,null,null,null,null,null,null,1,null,null,null,null,null,0.61611639747490277]
[null,null,null,null,null,null,null,null,1,null,null,null,null,null,-9.0233940736167181E-2]
[null,null,null,null,null,null,null,null,1,null,null,null,null,null,0.8764674568887979]
[null,null,null,null,null,null,null,null,1,null,null,null,null,null,0.20487781231852015]
[null,null,null,null,null,null,null,null,1,null,null,null,null,null,0.1120145402334054]
[null,null,null,null,null,null,null,null,{"$f":"I22+1","v":2},null,null,null,null,null,{"$f":"CORREL($B$3:$G$3,B2:G2)","v":-0.26557894427366324}]
[null,null,null,null,null,null,null,null,{"$f":"I23+1","v":2}]
[null,null,null,null,null,null,null,null,2,null,null,null,null,null,{"$f":"CORREL($B$3:$G$3,B4:G4)","v":-0.35655450442631803}]
[null,null,null,null,null,null,null,null,2,null,null,null,null,null,0.72299146351804822]
[null,null,null,null,null,null,null,null,2,null,null,null,null,null,4.7949335141442484E-3]
[null,null,null,null,null,null,null,null,2,null,null,null,null,null,0.81710237519323559]
[null,null,null,null,null,null,null,null,2,null,null,null,null,null,-0.12224264095269183]
[null,null,null,null,null,null,null,null,2,null,null,null,null,null,-0.34891322240468808]
[null,null,null,null,null,null,null,null,2,null,null,null,null,null,0.36629479149643096]
[null,null,null,null,null,null,null,null,2,null,null,null,null,null,-0.37583482376150057]
[null,null,null,null,null,null,null,null,2,null,null,null,null,null,-5.255807996137337E-2]
[null,null,null,null,null,null,null,null,2,null,null,null,null,null,0.39104692864562401]
[null,null,null,null,null,null,null,null,2,null,null,null,null,null,1.3663261406076248E-2]
[null,null,null,null,null,null,null,null,2,null,null,null,null,null,-0.10876415009594649]
[null,null,null,null,null,null,null,null,2,null,null,null,null,null,-0.38003772328544233]
[null,null,null,null,null,null,null,null,2,null,null,null,null,null,0.31142131937998196]
[null,null,null,null,null,null,null,null,3,null,null,null,null,null,{"$f":"CORREL($B$4:$G$4,B2:G2)","v":-0.1082438766099996}]
[null,null,null,null,null,null,null,null,3,null,null,null,null,null,{"$f":"CORREL($B$4:$G$4,B3:G3)","v":-0.35655450442631803}]
[null,null,null,null,null,null,null,null,3]
[null,null,null,null,null,null,null,null,3,null,null,null,null,null,0.1487269540996394]
[null,null,null,null,null,null,null,null,3,null,null,null,null,null,-0.28795674201861299]
[null,null,null,null,null,null,null,null,3,null,null,null,null,null,-0.27402737697589385]
[null,null,null,null,null,null,null,null,3,null,null,null,null,null,-9.3995985359979772E-2]
[null,null,null,null,null,null,null,null,3,null,null,null,null,null,-9.5073528064056612E-2]
[null,null,null,null,null,null,null,null,3,null,null,null,null,null,-8.2120395289884671E-2]
[null,null,null,null,null,null,null,null,3,null,null,null,null,null,-0.1354240287969635]
[null,null,null,null,null,null,null,null,3,null,null,null,null,null,-0.43796168647572548]
[null,null,null,null,null,null,null,null,3,null,null,null,null,null,-0.11059272738630108]
[null,null,null,null,null,null,null,null,3,null,null,null,null,null,0.75913779233137124]
[null,null,null,null,null,null,null,null,3,null,null,null,null,null,-7.0124928863285016E-2]
[null,null,null,null,null,null,null,null,3,null,null,null,null,null,-0.63931512833915571]
[null,null,null,null,null,null,null,null,3,null,null,null,null,null,-0.95992961040031555]
[null,null,null,null,null,null,null,null,4,null,null,null,null,null,{"$f":"CORREL($B$5:$G$5,B2:G2)","v":-0.60886460461837921}]
[null,null,null,null,null,null,null,null,4,null,null,null,null,null,{"$f":"CORREL($B$5:$G$5,B3:G3)","v":0.72299146351804822}]
[null,null,null,null,null,null,null,null,4,null,null,null,null,null,0.1487269540996394]
[null,null,null,null,null,null,null,null,4]
[null,null,null,null,null,null,null,null,4,null,null,null,null,null,-5.6222647209970382E-2]
[null,null,null,null,null,null,null,null,4,null,null,null,null,null,0.61997586357832135]
[null,null,null,null,null,null,null,null,4,null,null,null,null,null,0.35907523214421161]
[null,null,null,null,null,null,null,null,4,null,null,null,null,null,-0.36171108738353602]
[null,null,null,null,null,null,null,null,4,null,null,null,null,null,1.6360455090083832E-2]
[null,null,null,null,null,null,null,null,4,null,null,null,null,null,-0.18700421117249991]
[null,null,null,null,null,null,null,null,4,null,null,null,null,null,-5.8692886508784348E-2]
[null,null,null,null,null,null,null,null,4,null,null,null,null,null,-4.41741090641875E-3]
[null,null,null,null,null,null,null,null,4,null,null,null,null,null,0.41686667918118331]
[null,null,null,null,null,null,null,null,4,null,null,null,null,null,-0.39953689829260408]
[null,null,null,null,null,null,null,null,4,null,null,null,null,null,-0.52837530732268356]
[null,null,null,null,null,null,null,null,4,null,null,null,null,null,-0.28178685289798677]
[null,null,null,null,null,null,null,null,5,null,null,null,null,null,{"$f":"CORREL($B$6:$G$6,B2:G2)","v":-0.47237684573444494}]
[null,null,null,null,null,null,null,null,5,null,null,null,null,null,{"$f":"CORREL($B$6:$G$6,B3:G3)","v":4.7949335141442484E-3}]
[null,null,null,null,null,null,null,null,5,null,null,null,null,null,-0.28795674201861299]
[null,null,null,null,null,null,null,null,5,null,null,null,null,null,-5.6222647209970382E-2]
[null,null,null,null,null,null,null,null,5]
[null,null,null,null,null,null,null,null,5,null,null,null,null,null,0.36688780144926891]
[null,null,null,null,null,null,null,null,5,null,null,null,null,null,0.19566201630995547]
[null,null,null,null,null,null,null,null,5,null,null,null,null,null,-6.4549639374506543E-2]
[null,null,null,null,null,null,null,null,5,null,null,null,null,null,0.46167074647237244]
[null,null,null,null,null,null,null,null,5,null,null,null,null,null,0.38664704384127829]
[null,null,null,null,null,null,null,null,5,null,null,null,null,null,0.91792044236470938]
[null,null,null,null,null,null,null,null,5,null,null,null,null,null,-0.76824791937162251]
[null,null,null,null,null,null,null,null,5,null,null,null,null,null,3.3531118965611294E-3]
[null,null,null,null,null,null,null,null,5,null,null,null,null,null,-0.17244095512700802]
[null,null,null,null,null,null,null,null,5,null,null,null,null,null,0.48802982490395153]
[null,null,null,null,null,null,null,null,5,null,null,null,null,null,0.3244141720403067]
[null,null,null,null,null,null,null,null,6,null,null,null,null,null,{"$f":"CORREL($B$7:$G$7,B2:G2)","v":-0.20234144451717928}]
[null,null,null,null,null,null,null,null,{"$f":"I87+1","v":6},null,null,null,null,null,{"$f":"CORREL($B$7:$G$7,B3:G3)","v":0.81710237519323559}]
[null,null,null,null,null,null,null,null,6,null,null,null,null,null,-0.27402737697589385]
[null,null,null,null,null,null,null,null,6,null,null,null,null,null,0.61997586357832135]
[null,null,null,null,null,null,null,null,6,null,null,null,null,null,0.36688780144926891]
[null,null,null,null,null,null,null,null,6]
[null,null,null,null,null,null,null,null,6,null,null,null,null,null,4.2572639759448014E-2]
[null,null,null,null,null,null,null,null,6,null,null,null,null,null,-0.72644029392571274]
[null,null,null,null,null,null,null,null,6,null,null,null,null,null,0.7263021929011001]
[null,null,null,null,null,null,null,null,6,null,null,null,null,null,-0.51338208095524873]
[null,null,null,null,null,null,null,null,6,null,null,null,null,null,0.34911683979814784]
[null,null,null,null,null,null,null,null,6,null,null,null,null,null,4.9350784469408077E-2]
[null,null,null,null,null,null,null,null,6,null,null,null,null,null,0.34461843379061169]
[null,null,null,null,null,null,null,null,6,null,null,null,null,null,0.18893389139154049]
[null,null,null,null,null,null,null,null,6,null,null,null,null,null,-0.11295794841906377]
[null,null,null,null,null,null,null,null,6,null,null,null,null,null,0.18777458900689675]
[null,null,null,null,null,null,null,null,7,null,null,null,null,null,{"$f":"CORREL($B$8:$G$8,B2:G2)","v":-0.39363993627351795}]
[null,null,null,null,null,null,null,null,7,null,null,null,null,null,{"$f":"CORREL($B$8:$G$8,B3:G3)","v":-0.12224264095269183}]
[null,null,null,null,null,null,null,null,7,null,null,null,null,null,-9.3995985359979772E-2]
[null,null,null,null,null,null,null,null,7,null,null,null,null,null,0.35907523214421161]
[null,null,null,null,null,null,null,null,7,null,null,null,null,null,0.19566201630995547]
[null,null,null,null,null,null,null,null,7,null,null,null,null,null,4.2572639759448014E-2]
[null,null,null,null,null,null,null,null,7]
[null,null,null,null,null,null,null,null,7,null,null,null,null,null,-0.14732753150096814]
[null,null,null,null,null,null,null,null,7,null,null,null,null,null,-0.39969892183199413]
[null,null,null,null,null,null,null,null,7,null,null,null,null,null,0.29416356330320714]
[null,null,null,null,null,null,null,null,7,null,null,null,null,null,0.48652612370284964]
[null,null,null,null,null,null,null,null,7,null,null,null,null,null,-0.58487306549202756]
[null,null,null,null,null,null,null,null,7,null,null,null,null,null,9.2311714702919614E-2]
[null,null,null,null,null,null,null,null,7,null,null,null,null,null,-0.25790192668023681]
[null,null,null,null,null,null,null,null,7,null,null,null,null,null,0.42928365741769697]
[null,null,null,null,null,null,null,null,7,null,null,null,null,null,-0.13992032892353393]
[null,null,null,null,null,null,null,null,8,null,null,null,null,null,{"$f":"CORREL($B$9:$G$9,B2:G2)","v":-0.26076129412444077}]
[null,null,null,null,null,null,null,null,8,null,null,null,null,null,{"$f":"CORREL($B$9:$G$9,B3:G3)","v":-0.34891322240468808}]
[null,null,null,null,null,null,null,null,8,null,null,null,null,null,-9.5073528064056612E-2]
[null,null,null,null,null,null,null,null,8,null,null,null,null,null,-0.36171108738353602]
[null,null,null,null,null,null,null,null,8,null,null,null,null,null,-6.4549639374506543E-2]
[null,null,null,null,null,null,null,null,8,null,null,null,null,null,-0.72644029392571274]
[null,null,null,null,null,null,null,null,8,null,null,null,null,null,-0.14732753150096814]
[null,null,null,null,null,null,null,null,8]
[null,null,null,null,null,null,null,null,8,null,null,null,null,null,-0.68319202482976871]
[null,null,null,null,null,null,null,null,8,null,null,null,null,null,0.82348071524796385]
[null,null,null,null,null,null,null,null,8,null,null,null,null,null,-0.17398715703458548]
[null,null,null,null,null,null,null,null,8,null,null,null,null,null,-9.9384429029493571E-2]
[null,null,null,null,null,null,null,null,8,null,null,null,null,null,-0.68822313079269837]
[null,null,null,null,null,null,null,null,8,null,null,null,null,null,-0.65652494378219706]
[null,null,null,null,null,null,null,null,8,null,null,null,null,null,4.1751674473245168E-2]
[null,null,null,null,null,null,null,null,8,null,null,null,null,null,0.24706643901345265]
[null,null,null,null,null,null,null,null,9,null,null,null,null,null,{"$f":"CORREL($B$10:$G$10,B2:G2)","v":0.19557516191363539}]
[null,null,null,null,null,null,null,null,9,null,null,null,null,null,{"$f":"CORREL($B$10:$G$10,B3:G3)","v":0.36629479149643096}]
[null,null,null,null,null,null,null,null,9,null,null,null,null,null,-8.2120395289884671E-2]
[null,null,null,null,null,null,null,null,9,null,null,null,null,null,1.6360455090083832E-2]
[null,null,null,null,null,null,null,null,9,null,null,null,null,null,0.46167074647237244]
[null,null,null,null,null,null,null,null,9,null,null,null,null,null,0.7263021929011001]
[null,null,null,null,null,null,null,null,9,null,null,null,null,null,-0.39969892183199413]
[null,null,null,null,null,null,null,null,9,null,null,null,null,null,-0.68319202482976871]
[null,null,null,null,null,null,null,null,9]
[null,null,null,null,null,null,null,null,9,null,null,null,null,null,-0.58802689447566292]
[null,null,null,null,null,null,null,null,9,null,null,null,null,null,0.33001835922513062]
[null,null,null,null,null,null,null,null,9,null,null,null,null,null,4.5987823175760396E-2]
[null,null,null,null,null,null,null,null,9,null,null,null,null,null,0.41194626398349948]
[null,null,null,null,null,null,null,null,9,null,null,null,null,null,0.56036667769625326]
[null,null,null,null,null,null,null,null,9,null,null,null,null,null,-8.3609838020920185E-3]
[null,null,null,null,null,null,null,null,9,null,null,null,null,null,0.12912208307512366]
[null,null,null,null,null,null,null,null,10,null,null,null,null,null,{"$f":"CORREL($B$11:$G$11,B2:G2)","v":-0.59850790628684492}]
[null,null,null,null,null,null,null,null,{"$f":"I151+1","v":10},null,null,null,null,null,{"$f":"CORREL($B$11:$G$11,B3:G3)","v":-0.37583482376150057}]
[null,null,null,null,null,null,null,null,10,null,null,null,null,null,-0.1354240287969635]
[null,null,null,null,null,null,null,null,10,null,null,null,null,null,-0.18700421117249991]
[null,null,null,null,null,null,null,null,10,null,null,null,null,null,0.38664704384127829]
[null,null,null,null,null,null,null,null,10,null,null,null,null,null,-0.51338208095524873]
[null,null,null,null,null,null,null,null,10,null,null,null,null,null,0.29416356330320714]
[null,null,null,null,null,null,null,null,10,null,null,null,null,null,0.82348071524796385]
[null,null,null,null,null,null,null,null,10,null,null,null,null,null,-0.58802689447566292]
[null,null,null,null,null,null,null,null,10]
[null,null,null,null,null,null,null,null,10,null,null,null,null,null,0.33905986426670687]
[null,null,null,null,null,null,null,null,10,null,null,null,null,null,-0.61973425468466292]
[null,null,null,null,null,null,null,null,10,null,null,null,null,null,-0.51376433514237763]
[null,null,null,null,null,null,null,null,10,null,null,null,null,null,-0.78354530535222222]
[null,null,null,null,null,null,null,null,10,null,null,null,null,null,0.30905620471520751]
[null,null,null,null,null,null,null,null,10,null,null,null,null,null,0.20873116609787351]
[null,null,null,null,null,null,null,null,11,null,null,null,null,null,{"$f":"CORREL($B$12:$G$12,B2:G2)","v":-0.3473769872552161}]
[null,null,null,null,null,null,null,null,11,null,null,null,null,null,{"$f":"CORREL($B$12:$G$12,B3:G3)","v":-5.255807996137337E-2}]
[null,null,null,null,null,null,null,null,11,null,null,null,null,null,-0.43796168647572548]
[null,null,null,null,null,null,null,null,11,null,null,null,null,null,-5.8692886508784348E-2]
[null,null,null,null,null,null,null,null,11,null,null,null,null,null,0.91792044236470938]
[null,null,null,null,null,null,null,null,11,null,null,null,null,null,0.34911683979814784]
[null,null,null,null,null,null,null,null,11,null,null,null,null,null,0.48652612370284964]
[null,null,null,null,null,null,null,null,11,null,null,null,null,null,-0.17398715703458548]
[null,null,null,null,null,null,null,null,11,null,null,null,null,null,0.33001835922513062]
[null,null,null,null,null,null,null,null,11,null,null,null,null,null,0.33905986426670687]
[null,null,null,null,null,null,null,null,11]
[null,null,null,null,null,null,null,null,11,null,null,null,null,null,-0.7744911509160638]
[null,null,null,null,null,null,null,null,11,null,null,null,null,null,-6.1191417253013719E-2]
[null,null,null,null,null,null,null,null,11,null,null,null,null,null,-4.823221099828108E-2]
[null,null,null,null,null,null,null,null,11,null,null,null,null,null,0.72676363900808261]
[null,null,null,null,null,null,null,null,11,null,null,null,null,null,0.37617645650671927]
[null,null,null,null,null,null,null,null,12,null,null,null,null,null,{"$f":"CORREL($B$13:$G$13,B2:G2)","v":0.61611639747490277}]
[null,null,null,null,null,null,null,null,12,null,null,null,null,null,{"$f":"CORREL($B$13:$G$13,B3:G3)","v":0.39104692864562401}]
[null,null,null,null,null,null,null,null,12,null,null,null,null,null,-0.11059272738630108]
[null,null,null,null,null,null,null,null,12,null,null,null,null,null,-4.41741090641875E-3]
[null,null,null,null,null,null,null,null,12,null,null,null,null,null,-0.76824791937162251]
[null,null,null,null,null,null,null,null,12,null,null,null,null,null,4.9350784469408077E-2]
[null,null,null,null,null,null,null,null,12,null,null,null,null,null,-0.58487306549202756]
[null,null,null,null,null,null,null,null,12,null,null,null,null,null,-9.9384429029493571E-2]
[null,null,null,null,null,null,null,null,12,null,null,null,null,null,4.5987823175760396E-2]
[null,null,null,null,null,null,null,null,12,null,null,null,null,null,-0.61973425468466292]
[null,null,null,null,null,null,null,null,12,null,null,null,null,null,-0.7744911509160638]
[null,null,null,null,null,null,null,null,12]
[null,null,null,null,null,null,null,null,12,null,null,null,null,null,-0.17120447342302517]
[null,null,null,null,null,null,null,null,12,null,null,null,null,null,0.40403035150767808]
[null,null,null,null,null,null,null,null,12,null,null,null,null,null,-0.42609746738832027]
[null,null,null,null,null,null,null,null,12,null,null,null,null,null,0.14158816546312564]
[null,null,null,null,null,null,null,null,13,null,null,null,null,null,{"$f":"CORREL($B$14:$G$14,B2:G2)","v":-9.0233940736167181E-2}]
[null,null,null,null,null,null,null,null,13,null,null,null,null,null,{"$f":"CORREL($B$14:$G$14,B3:G3)","v":1.3663261406076248E-2}]
[null,null,null,null,null,null,null,null,13,null,null,null,null,null,0.75913779233137124]
[null,null,null,null,null,null,null,null,13,null,null,null,null,null,0.41686667918118331]
[null,null,null,null,null,null,null,null,13,null,null,null,null,null,3.3531118965611294E-3]
[null,null,null,null,null,null,null,null,13,null,null,null,null,null,0.34461843379061169]
[null,null,null,null,null,null,null,null,13,null,null,null,null,null,9.2311714702919614E-2]
[null,null,null,null,null,null,null,null,13,null,null,null,null,null,-0.68822313079269837]
[null,null,null,null,null,null,null,null,13,null,null,null,null,null,0.41194626398349948]
[null,null,null,null,null,null,null,null,13,null,null,null,null,null,-0.51376433514237763]
[null,null,null,null,null,null,null,null,13,null,null,null,null,null,-6.1191417253013719E-2]
[null,null,null,null,null,null,null,null,13,null,null,null,null,null,-0.17120447342302517]
[null,null,null,null,null,null,null,null,13]
[null,null,null,null,null,null,null,null,13,null,null,null,null,null,0.24128553171850922]
[null,null,null,null,null,null,null,null,13,null,null,null,null,null,-0.46545801119253255]
[null,null,null,null,null,null,null,null,13,null,null,null,null,null,-0.8238193320890167]
[null,null,null,null,null,null,null,null,14,null,null,null,null,null,{"$f":"CORREL($B$15:$G$15,B2:G2)","v":0.8764674568887979}]
[null,null,null,null,null,null,null,null,{"$f":"I215+1","v":14},null,null,null,null,null,{"$f":"CORREL($B$15:$G$15,B3:G3)","v":-0.10876415009594649}]
[null,null,null,null,null,null,null,null,14,null,null,null,null,null,-7.0124928863285016E-2]
[null,null,null,null,null,null,null,null,14,null,null,null,null,null,-0.39953689829260408]
[null,null,null,null,null,null,null,null,14,null,null,null,null,null,-0.17244095512700802]
[null,null,null,null,null,null,null,null,14,null,null,null,null,null,0.18893389139154049]
[null,null,null,null,null,null,null,null,14,null,null,null,null,null,-0.25790192668023681]
[null,null,null,null,null,null,null,null,14,null,null,null,null,null,-0.65652494378219706]
[null,null,null,null,null,null,null,null,14,null,null,null,null,null,0.56036667769625326]
[null,null,null,null,null,null,null,null,14,null,null,null,null,null,-0.78354530535222222]
[null,null,null,null,null,null,null,null,14,null,null,null,null,null,-4.823221099828108E-2]
[null,null,null,null,null,null,null,null,14,null,null,null,null,null,0.40403035150767808]
[null,null,null,null,null,null,null,null,14,null,null,null,null,null,0.24128553171850922]
[null,null,null,null,null,null,null,null,14]
[null,null,null,null,null,null,null,null,14,null,null,null,null,null,0.23981955599730045]
[null,null,null,null,null,null,null,null,14,null,null,null,null,null,2.4943056431275708E-2]
[null,null,null,null,null,null,null,null,15,null,null,null,null,null,{"$f":"CORREL($B$16:$G$16,B2:G2)","v":0.20487781231852015}]
[null,null,null,null,null,null,null,null,15,null,null,null,null,null,{"$f":"CORREL($B$16:$G$16,B3:G3)","v":-0.38003772328544233}]
[null,null,null,null,null,null,null,null,15,null,null,null,null,null,-0.63931512833915571]
[null,null,null,null,null,null,null,null,15,null,null,null,null,null,-0.52837530732268356]
[null,null,null,null,null,null,null,null,15,null,null,null,null,null,0.48802982490395153]
[null,null,null,null,null,null,null,null,15,null,null,null,null,null,-0.11295794841906377]
[null,null,null,null,null,null,null,null,15,null,null,null,null,null,0.42928365741769697]
[null,null,null,null,null,null,null,null,15,null,null,null,null,null,4.1751674473245168E-2]
[null,null,null,null,null,null,null,null,15,null,null,null,null,null,-8.3609838020920185E-3]
[null,null,null,null,null,null,null,null,15,null,null,null,null,null,0.30905620471520751]
[null,null,null,null,null,null,null,null,15,null,null,null,null,null,0.72676363900808261]
[null,null,null,null,null,null,null,null,15,null,null,null,null,null,-0.42609746738832027]
[null,null,null,null,null,null,null,null,15,null,null,null,null,null,-0.46545801119253255]
[null,null,null,null,null,null,null,null,15,null,null,null,null,null,0.23981955599730045]
[null,null,null,null,null,null,null,null,15]
[null,null,null,null,null,null,null,null,15,null,null,null,null,null,0.56361884008177088]
[null,null,null,null,null,null,null,null,16,null,null,null,null,null,{"$f":"CORREL($B$17:$G$17,B2:G2)","v":0.1120145402334054}]
[null,null,null,null,null,null,null,null,16,null,null,null,null,null,{"$f":"CORREL($B$17:$G$17,B3:G3)","v":0.31142131937998196}]
[null,null,null,null,null,null,null,null,16,null,null,null,null,null,-0.95992961040031555]
[null,null,null,null,null,null,null,null,16,null,null,null,null,null,-0.28178685289798677]
[null,null,null,null,null,null,null,null,16,null,null,null,null,null,0.3244141720403067]
[null,null,null,null,null,null,null,null,16,null,null,null,null,null,0.18777458900689675]
[null,null,null,null,null,null,null,null,16,null,null,null,null,null,-0.13992032892353393]
[null,null,null,null,null,null,null,null,16,null,null,null,null,null,0.24706643901345265]
[null,null,null,null,null,null,null,null,16,null,null,null,null,null,0.12912208307512366]
[null,null,null,null,null,null,null,null,16,null,null,null,null,null,0.20873116609787351]
[null,null,null,null,null,null,null,null,16,null,null,null,null,null,0.37617645650671927]
[null,null,null,null,null,null,null,null,16,null,null,null,null,null,0.14158816546312564]
[null,null,null,null,null,null,null,null,16,null,null,null,null,null,-0.8238193320890167]
[null,null,null,null,null,null,null,null,16,null,null,null,null,null,2.4943056431275708E-2]
[null,null,null,null,null,null,null,null,16,null,null,null,null,null,0.56361884008177088]
[null,null,null,null,null,null,null,null,16]
[null,null,null,null,null,null,null,null,"max",null,null,null,null,null,{"$f":"MAX(O22:O277)","v":0.91792044236470938}]
[null,null,null,null,null,null,null,null,"min",null,null,null,null,null,{"$f":"MIN(O22:O277)","v":-0.95992961040031555}]
[null,null,null,null,null,null,null,null,"avg",null,null,null,null,null,{"$f":"AVERAGE(O22:O277)","v":-1.8143471859632391E-2}]
[null,null,null,null,null,null,null,null,"stddev",null,null,null,null,null,{"$f":"STDEV(O22:O277)","v":0.42146313112226808}]
[null,null,null,null,null,null,null,null,"median",null,null,null,null,null,{"$f":"MEDIAN(O22:O277)","v":-5.4390363585671876E-2}]
[null,null,null,null,null,null,null,null,"kvart_1",null,null,null,null,null,{"$f":"QUARTILE(O22:O277,1)","v":-0.34776104604258407}]
[null,null,null,null,null,null,null,null,"kvart_3",null,null,null,null,null,{"$f":"QUARTILE(O22:O277,3)","v":0.31466953254506314}]

{"sheet":"basics14","index":2,"n_rows":284,"n_cols":42,"rows_kept":284,"cut":false,"hidden":false,"merged":[]}
[{"$f":"RANDBETWEEN(10,99)","v":95},"A1","A2","A3","A4","A5","A6=Y",null,"rank",{"$f":"B1","v":"A1"},"A2","A3","A4","A5",{"$f":"G1&\"'\"","v":"A6=Y'"},"validity0","direkt","inverz","átlag","double","between1","validity1","invalid_between","valid_extrem","between2","validity2",null,{"$f":"models1!B7","v":"X(A1)"},{"$f":"models1!C7","v":"X(A2)"},{"$f":"models1!D7","v":"X(A3)"},{"$f":"models1!E7","v":"X(A4)"},{"$f":"models1!F7","v":"X(A5)"},{"$f":"AB1","v":"X(A1)"},{"$f":"AC1","v":"X(A2)"},"X(A3)","X(A4)","X(A5)",{"$f":"O1","v":"A6=Y'"},null,"direct_stddev","inverse_stddev","delta"]
["O1",63,22,37,78,65,39,null,{"$f":"A2","v":"O1"},{"$f":"RANK(B2,B$2:B$17,B$19)","v":11},{"$f":"RANK(C2,C$2:C$17,C$19)","v":16},3,5,8,{"$f":"G2*1000","v":39000},{"$f":"IF(models1!J1362*models1!Y1362<=0,\"valid\",\"invalid\")","v":"valid"},{"$f":"models1!G1362","v":39000},{"$f":"models1!V1362","v":55498.3},{"$f":"AVERAGE(Q2:R2)","v":47249.15},{"$f":"models1!AO1362","v":39000},{"$f":"IF(MAX(Q2:R2)<T2,0,IF(MIN(Q2:R2)>T2,0,1))","v":1},{"$f":"IF(P2=\"valid\",1,)","v":1},{"$f":"IF(V2=1,IF(U2=0,1,0),0)","v":0},{"$f":"IF(V2=0,IF(U2=1,1,0),0)","v":0},{"$f":"STDEV(S2:T2)","v":5833.0299040250093},{"$f":"STDEV(models1!J1362,models1!Y1362)","v":29.910616844190958},null,{"$f":"J2","v":11},{"$f":"K2","v":16},3,5,8,{"$f":"RANK(AB2,AB$2:AB$17,0)","v":7},{"$f":"RANK(AC2,AC$2:AC$17,0)","v":1},13,12,9,39000,null,{"$f":"STDEV(AB2:AF2)","v":5.1283525619832337},{"$f":"STDEV(AG2:AK2)","v":4.7749345545253288},{"$f":"ABS(AO2-AN2)","v":0.35341800745790497}]
["O2",25,50,85,52,18,28,null,{"$f":"A3","v":"O2"},{"$f":"RANK(B3,B$2:B$17,B$19)","v":3},12,12,8,15,{"$f":"G3*1000","v":28000},{"$f":"IF(models1!J1363*models1!Y1363<=0,\"valid\",\"invalid\")","v":"valid"},{"$f":"models1!G1363","v":28000},{"$f":"models1!V1363","v":46735.4},{"$f":"AVERAGE(Q3:R3)","v":37367.699999999997},{"$f":"models1!AO1363","v":28000},1,1,{"$f":"IF(V3=1,IF(U3=0,1,0),0)","v":0},{"$f":"IF(V3=0,IF(U3=1,1,0),0)","v":0},{"$f":"STDEV(S3:T3)","v":6623.9641941212376},{"$f":"STDEV(models1!J1363,models1!Y1363)","v":47.312514729191889},null,{"$f":"J3","v":3},12,12,8,15,{"$f":"RANK(AB3,AB$2:AB$17,0)","v":14},5,4,8,2,28000,null,{"$f":"STDEV(AB3:AF3)","v":4.636809247747852},{"$f":"STDEV(AG3:AK3)","v":4.6690470119715002},{"$f":"ABS(AO3-AN3)","v":3.2237764223648213E-2}]
["O3",69,89,85,56,30,36,null,"O3",13,3,12,7,13,36000,{"$f":"IF(models1!J1364*models1!Y1364<=0,\"valid\",\"invalid\")","v":"valid"},{"$f":"models1!G1364","v":36000},{"$f":"models1!V1364","v":43814.5},39907.25,{"$f":"models1!AO1364","v":36000},1,1,0,0,2762.8429707911378,{"$f":"STDEV(models1!J1364,models1!Y1364)","v":15.351288219559947},null,13,3,12,7,13,4,13,4,10,4,36000,null,4.4497190922573973,4.2426406871192848,0.20707840513811249]
["O4",30,42,90,16,31,51,null,"O4",4,13,15,15,11,51000,{"$f":"IF(models1!J1365*models1!Y1365<=0,\"valid\",\"invalid\")","v":"valid"},{"$f":"models1!G1365","v":48500},{"$f":"models1!V1365","v":64748},56624,{"$f":"models1!AO1365","v":51000},1,1,0,0,3976.7685373931431,{"$f":"STDEV(models1!J1365,models1!Y1365)","v":22.528422048603403},null,4,13,15,15,11,13,4,2,2,5,51000,null,4.5607017003965531,4.5497252664309302,1.0976433965622867E-2]
["O5",87,91,66,97,31,74,null,"O5",16,1,7,1,11,74000,{"$f":"IF(models1!J1366*models1!Y1366<=0,\"valid\",\"invalid\")","v":"valid"},{"$f":"models1!G1366","v":74000},{"$f":"models1!V1366","v":72050.399999999994},73025.2,{"$f":"models1!AO1366","v":74000},1,1,0,0,689.28769030064859,{"$f":"STDEV(models1!J1366,models1!Y1366)","v":1.8596908345206198},null,16,1,7,1,11,1,15,11,16,5,74000,null,6.4961527075646863,6.4652919500978454,3.0860757466840916E-2]
["O6",14,59,37,15,96,89,null,"O6",1,10,3,16,1,89000,{"$f":"IF(models1!J1367*models1!Y1367<=0,\"valid\",\"invalid\")","v":"valid"},{"$f":"models1!G1367","v":89000},{"$f":"models1!V1367","v":86655.3},87827.65,{"$f":"models1!AO1367","v":89000},1,1,0,0,828.97663492405309,{"$f":"STDEV(models1!J1367,models1!Y1367)","v":1.8596908345206198},null,1,10,3,16,1,16,7,13,1,16,89000,null,6.6105975524153644,6.5038450166036403,0.10675253581172406]
["O7",47,91,30,83,88,73,null,"O7",8,1,2,3,2,73000,{"$f":"IF(models1!J1368*models1!Y1368<=0,\"valid\",\"invalid\")","v":"valid"},{"$f":"models1!G1368","v":76000},{"$f":"models1!V1368","v":37972.5},56986.25,{"$f":"models1!AO1368","v":73000},1,1,0,0,11323.431217226076,{"$f":"STDEV(models1!J1368,models1!Y1368)","v":36.833192232007256},null,8,1,2,3,2,10,15,15,14,15,73000,null,2.7748873851023212,2.1679483388678773,0.60693904623444395]
["O8",41,61,52,86,66,68,null,"O8",6,9,6,2,7,68000,{"$f":"IF(models1!J1369*models1!Y1369<=0,\"valid\",\"invalid\")","v":"valid"},{"$f":"models1!G1369","v":68000},{"$f":"models1!V1369","v":40893.5},54446.75,{"$f":"models1!AO1369","v":68000},1,1,0,0,9583.5949821165759,{"$f":"STDEV(models1!J1369,models1!Y1369)","v":28.185276298095786},null,6,9,6,2,7,11,8,12,15,10,68000,null,2.5495097567963922,2.5884358211089546,3.8926064312562403E-2]
["O9",71,66,81,79,78,67,null,"O9",14,7,10,4,4,67000,{"$f":"IF(models1!J1370*models1!Y1370<=0,\"valid\",\"invalid\")","v":"valid"},{"$f":"models1!G1370","v":67000},{"$f":"models1!V1370","v":49169.599999999999},58084.800000000003,{"$f":"models1!AO1370","v":67000},1,1,0,0,6303.9983756343063,{"$f":"STDEV(models1!J1370,models1!Y1370)","v":18.816111447374031},null,14,7,10,4,4,3,10,8,13,13,67000,null,4.2661458015403086,4.1593268686170841,0.10681893292322453]
["O10",66,69,83,48,50,28,null,"O10",12,6,11,10,9,28000,{"$f":"IF(models1!J1371*models1!Y1371<=0,\"valid\",\"invalid\")","v":"valid"},{"$f":"models1!G1371","v":28000},{"$f":"models1!V1371","v":49169.599999999999},38584.800000000003,{"$f":"models1!AO1371","v":28000},1,1,0,0,7484.5838575033667,{"$f":"STDEV(models1!J1371,models1!Y1371)","v":53.464343725514858},null,12,6,11,10,9,5,11,7,7,8,28000,null,2.302172886644267,2.1908902300206639,0.11128265662360315]
["O11",48,89,94,52,14,17,null,"O11",9,3,16,8,16,17000,{"$f":"IF(models1!J1372*models1!Y1372<=0,\"valid\",\"invalid\")","v":"valid"},{"$f":"models1!G1372","v":16500},{"$f":"models1!V1372","v":43814.5},30157.25,{"$f":"models1!AO1372","v":17000},1,1,0,0,9303.5806967667031,{"$f":"STDEV(models1!J1372,models1!Y1372)","v":113.61084653324258},null,9,3,16,8,16,9,13,1,8,1,17000,null,5.5946402922797471,5.272570530585627,0.32206976169412016]
["O12",58,52,26,42,81,89,null,"O12",10,11,1,11,3,89000,{"$f":"IF(models1!J1373*models1!Y1373<=0,\"valid\",\"invalid\")","v":"valid"},{"$f":"models1!G1373","v":89000},{"$f":"models1!V1373","v":51116.9},70058.45,{"$f":"models1!AO1373","v":89000},1,1,0,0,13393.69845118398,{"$f":"STDEV(models1!J1373,models1!Y1373)","v":30.101535675111329},null,10,11,1,11,3,8,6,16,6,14,89000,null,4.8166378315169185,4.6904157598234297,0.12622207169348876]
["O13",41,84,76,72,71,60,null,"O13",6,5,8,6,5,60000,{"$f":"IF(models1!J1374*models1!Y1374<=0,\"valid\",\"invalid\")","v":"valid"},{"$f":"models1!G1374","v":60000},{"$f":"models1!V1374","v":39919.800000000003},49959.9,{"$f":"models1!AO1374","v":60000},1,1,0,0,7099.4227937910546,{"$f":"STDEV(models1!J1374,models1!Y1374)","v":23.666863966313745},null,6,5,8,6,5,11,12,10,11,11,60000,null,1.2247448713915889,0.70710678118654757,0.51763809020504137]
["O14",75,23,78,35,26,16,null,"O14",15,15,9,13,14,16000,{"$f":"IF(models1!J1375*models1!Y1375<=0,\"valid\",\"invalid\")","v":"valid"},{"$f":"models1!G1375","v":16000},{"$f":"models1!V1375","v":51116.9},33558.449999999997,{"$f":"models1!AO1375","v":16000},{"$f":"IF(MAX(Q15:R15)<T15,0,IF(MIN(Q15:R15)>T15,0,1))","v":1},1,0,0,12415.699062124939,{"$f":"STDEV(models1!J1375,models1!Y1375)","v":155.19579633482346},null,15,15,9,13,14,2,2,9,4,3,16000,null,2.4899799195977441,2.9154759474226504,0.42549602782490625]
["O15",22,27,87,36,41,82,null,"O15",2,14,14,12,10,82000,{"$f":"IF(models1!J1376*models1!Y1376<=0,\"valid\",\"invalid\")","v":"valid"},{"$f":"models1!G1376","v":82000},{"$f":"models1!V1376","v":53551},67775.5,{"$f":"models1!AO1376","v":82000},{"$f":"IF(MAX(Q16:R16)<T16,0,IF(MIN(Q16:R16)>T16,0,1))","v":1},1,0,0,10058.240408988046,{"$f":"STDEV(models1!J1376,models1!Y1376)","v":24.529534239361332},null,2,14,14,12,10,15,3,3,5,7,82000,null,4.9799598391954945,4.9799598391954927,1.7763568394002505E-15]
["O16",40,65,47,22,71,28,null,"O16",{"$f":"RANK(B17,B$2:B$17,0)","v":12},8,12,14,5,28000,{"$f":"IF(models1!J1377*models1!Y1377<=0,\"valid\",\"invalid\")","v":"valid"},{"$f":"models1!G1377","v":28000},{"$f":"models1!V1377","v":55985.1},41992.55,{"$f":"models1!AO1377","v":28000},{"$f":"IF(MAX(Q17:R17)<T17,0,IF(MIN(Q17:R17)>T17,0,1))","v":1},1,0,0,9894.2269910918385,{"$f":"STDEV(models1!J1377,models1!Y1377)","v":70.675322779595433},null,12,8,12,14,5,5,9,4,3,11,28000,null,3.6331804249169886,3.4351128074635331,0.19806761745345547]
["correlation",{"$f":"CORREL(B2:B16,$G$2:$G$16)","v":-0.2728552060633892},{"$f":"CORREL(C2:C16,$G$2:$G$16)","v":7.4222985745232575E-2},-0.56865234343374516,7.8180859409128015E-2,0.69868165248017788,1,null,"O16(2)",{"$f":"MAX(J2:J16)","v":16},{"$f":"INT(QUARTILE(K2:K16,3))","v":12},{"$f":"MEDIAN(L2:L16)","v":9},{"$f":"INT(QUARTILE(M2:M16,1))","v":4},{"$f":"MIN(N2:N16)","v":1},{"$f":"O17","v":28000},"ratio","correlation","correlation",null,"correlation",null,null,null,null,null,null,null,"direct","direct","direct","direct","direct","inverse","inverse","inverse","inverse","inverse","double","max",{"$f":"MAX(AN2:AN17)","v":6.6105975524153644},{"$f":"MAX(AO2:AO17)","v":6.5038450166036403},{"$f":"MAX(AP2:AP17)","v":0.60693904623444395}]
["direction",{"$f":"IF(B18>0,0,1)","v":1},{"$f":"IF(C18>0,0,1)","v":0},1,0,0,"Y",null,null,null,null,null,null,null,null,{"$f":"COUNTIF($P$2:$P$17,\"valid\")/16","v":1},{"$f":"CORREL(Q2:Q17,$O$2:$O$17)","v":0.99925654747559722},{"$f":"CORREL(R2:R17,$O$2:$O$17)","v":0.32947964955813364},null,{"$f":"CORREL(T2:T17,$O$2:$O$17)","v":1},{"$f":"SUM(U2:U17)","v":16},null,{"$f":"SUM(W2:W17)","v":0},{"$f":"SUM(X2:X17)","v":0},{"$f":"SUM(Y2:Y17)","v":117575.34676798212},null,null,null,null,null,null,null,null,null,null,null,null,null,"min",{"$f":"MIN(AN2:AN17)","v":1.2247448713915889},{"$f":"MIN(AO2:AO17)","v":0.70710678118654757},{"$f":"MIN(AP2:AP17)","v":1.7763568394002505E-15}]
[null,null,null,null,null,null,null,null,null,null,null,null,null,null,null,null,null,null,null,null,null,null,null,null,null,null,null,null,null,null,null,null,null,null,null,null,null,null,"avg",{"$f":"AVERAGE(AN2:AN17)","v":4.1571369919591783},{"$f":"AVERAGE(AO2:AO17)","v":4.0195454631900249},{"$f":"AVERAGE(AP2:AP17)","v":0.19967401081429384}]
["antagonism!",null,null,null,null,null,null,null,"O*",null,null,null,null,null,"correlation",null,null,null,null,null,null,null,null,null,null,null,null,null,null,null,null,null,null,null,null,null,null,null,"stddev",{"$f":"STDEV(AN2:AN17)","v":1.5425388699879072},{"$f":"STDEV(AO2:AO17)","v":1.5872842280569628},{"$f":"STDEV(AP2:AP17)","v":0.19060443761301171}]
[null,null,null,null,null,null,null,null,1,null,null,null,null,null,null,null,null,null,null,null,null,null,null,null,null,null,null,null,null,null,null,null,null,null,null,null,null,null,"median",{"$f":"MEDIAN(AN2:AN17)","v":4.5052103963269747},{"$f":"MEDIAN(AO2:AO17)","v":4.3961829767751075},0.11875236415854595]
["Consistency-tasks ",null,null,null,null,null,null,null,1,null,null,null,null,null,{"$f":"CORREL($B$2:$G$2,B3:G3)","v":-0.35554312804543342}]
["Y=between1",null,null,null,null,null,null,null,1,null,null,null,null,null,-0.50572923365631661]
["Y=between2",null,null,null,null,null,null,null,1,null,null,null,null,null,-0.65084620418747918]
["Y=validity1",null,null,null,null,null,null,null,1,null,null,null,null,null,-8.0405077252996102E-2]
["Y=validity2",null,null,null,null,null,null,null,1,null,null,null,null,null,-0.33670911672656234]
["Y=validity-ratio",null,null,null,null,null,null,null,1,null,null,null,null,null,9.1205487654271472E-2]
["Xi=model-characteristics",null,null,null,null,null,null,null,1,null,null,null,null,null,0.33892478274823512]
[null,null,null,null,null,null,null,null,1,null,null,null,null,null,0.54003388036120303]
[null,null,null,null,null,null,null,null,1,null,null,null,null,null,-0.29066089029264947]
[null,null,null,null,null,null,null,null,1,null,null,null,null,null,-0.50322480172562289]
[null,null,null,null,null,null,null,null,1,null,null,null,null,null,5.5725925850114814E-2]
[null,null,null,null,null,null,null,null,1,null,null,null,null,null,-0.41008478345905802]
[null,null,null,null,null,null,null,null,1,null,null,null,null,null,0.11823669827258416]
[null,null,null,null,null,null,null,null,1,null,null,null,null,null,-0.35989555614693358]
[null,null,null,null,null,null,null,null,1,null,null,null,null,null,-0.34632623567143933]
[null,null,null,null,null,null,null,null,{"$f":"I22+1","v":2},null,null,null,null,null,{"$f":"CORREL($B$3:$G$3,B2:G2)","v":-0.35554312804543342}]
[null,null,null,null,null,null,null,null,{"$f":"I23+1","v":2}]
[null,null,null,null,null,null,null,null,2,null,null,null,null,null,{"$f":"CORREL($B$3:$G$3,B4:G4)","v":0.7095169913258873}]
[null,null,null,null,null,null,null,null,2,null,null,null,null,null,0.67037285930644597]
[null,null,null,null,null,null,null,null,2,null,null,null,null,null,0.27862768836619289]
[null,null,null,null,null,null,null,null,2,null,null,null,null,null,-0.42568460368945238]
[null,null,null,null,null,null,null,null,2,null,null,null,null,null,-0.48847103072298526]
[null,null,null,null,null,null,null,null,2,null,null,null,null,null,-1.2143139756826168E-2]
[null,null,null,null,null,null,null,null,2,null,null,null,null,null,0.42473145639939786]
[null,null,null,null,null,null,null,null,2,null,null,null,null,null,0.64396560479514386]
[null,null,null,null,null,null,null,null,2,null,null,null,null,null,0.84504252347036735]
[null,null,null,null,null,null,null,null,2,null,null,null,null,null,-0.87591429141273947]
[null,null,null,null,null,null,null,null,2,null,null,null,null,null,0.54384691605148172]
[null,null,null,null,null,null,null,null,2,null,null,null,null,null,0.44715091925451123]
[null,null,null,null,null,null,null,null,2,null,null,null,null,null,0.43390399608437658]
[null,null,null,null,null,null,null,null,2,null,null,null,null,null,-0.11861636630531747]
[null,null,null,null,null,null,null,null,3,null,null,null,null,null,{"$f":"CORREL($B$4:$G$4,B2:G2)","v":-0.50572923365631661}]
[null,null,null,null,null,null,null,null,3,null,null,null,null,null,{"$f":"CORREL($B$4:$G$4,B3:G3)","v":0.7095169913258873}]
[null,null,null,null,null,null,null,null,3]
[null,null,null,null,null,null,null,null,3,null,null,null,null,null,0.41088896688686855]
[null,null,null,null,null,null,null,null,3,null,null,null,null,null,0.54152582730499244]
[null,null,null,null,null,null,null,null,3,null,null,null,null,null,-0.58406890900287711]
[null,null,null,null,null,null,null,null,3,null,null,null,null,null,-0.41184739944166154]
[null,null,null,null,null,null,null,null,3,null,null,null,null,null,-0.44042002186231605]
[null,null,null,null,null,null,null,null,3,null,null,null,null,null,-6.7844543614083305E-2]
[null,null,null,null,null,null,null,null,3,null,null,null,null,null,0.84735425521857377]
[null,null,null,null,null,null,null,null,3,null,null,null,null,null,0.96753517620979057]
[null,null,null,null,null,null,null,null,3,null,null,null,null,null,-0.80324189348123654]
[null,null,null,null,null,null,null,null,3,null,null,null,null,null,0.27493170081371615]
[null,null,null,null,null,null,null,null,3,null,null,null,null,null,0.5284339971301697]
[null,null,null,null,null,null,null,null,3,null,null,null,null,null,-0.12427130701127274]
[null,null,null,null,null,null,null,null,3,null,null,null,null,null,0.12526731299265334]
[null,null,null,null,null,null,null,null,4,null,null,null,null,null,{"$f":"CORREL($B$5:$G$5,B2:G2)","v":-0.65084620418747918}]
[null,null,null,null,null,null,null,null,4,null,null,null,null,null,{"$f":"CORREL($B$5:$G$5,B3:G3)","v":0.67037285930644597}]
[null,null,null,null,null,null,null,null,4,null,null,null,null,null,0.41088896688686855]
[null,null,null,null,null,null,null,null,4]
[null,null,null,null,null,null,null,null,4,null,null,null,null,null,-0.21535106317086644]
[null,null,null,null,null,null,null,null,4,null,null,null,null,null,0.11940982632313289]
[null,null,null,null,null,null,null,null,4,null,null,null,null,null,-0.67246259925342844]
[null,null,null,null,null,null,null,null,4,null,null,null,null,null,-0.42899535590787047]
[null,null,null,null,null,null,null,null,4,null,null,null,null,null,0.1644679182068545]
[null,null,null,null,null,null,null,null,4,null,null,null,null,null,0.47668719244562913]
[null,null,null,null,null,null,null,null,4,null,null,null,null,null,0.49283163015706349]
[null,null,null,null,null,null,null,null,4,null,null,null,null,null,-0.35868225260561071]
[null,null,null,null,null,null,null,null,4,null,null,null,null,null,0.25995153051006942]
[null,null,null,null,null,null,null,null,4,null,null,null,null,null,0.41383755685658585]
[null,null,null,null,null,null,null,null,4,null,null,null,null,null,0.7901144040104402]
[null,null,null,null,null,null,null,null,4,null,null,null,null,null,0.12321869205981378]
[null,null,null,null,null,null,null,null,5,null,null,null,null,null,{"$f":"CORREL($B$6:$G$6,B2:G2)","v":-8.0405077252996102E-2}]
[null,null,null,null,null,null,null,null,5,null,null,null,null,null,{"$f":"CORREL($B$6:$G$6,B3:G3)","v":0.27862768836619289}]
[null,null,null,null,null,null,null,null,5,null,null,null,null,null,0.54152582730499244]
[null,null,null,null,null,null,null,null,5,null,null,null,null,null,-0.21535106317086644]
[null,null,null,null,null,null,null,null,5]
[null,null,null,null,null,null,null,null,5,null,null,null,null,null,-0.69629012359058839]
[null,null,null,null,null,null,null,null,5,null,null,null,null,null,-3.1663636876375939E-2]
[null,null,null,null,null,null,null,null,5,null,null,null,null,null,9.196534793671951E-2]
[null,null,null,null,null,null,null,null,5,null,null,null,null,null,-0.36707341754287465]
[null,null,null,null,null,null,null,null,5,null,null,null,null,null,8.8581849404236329E-2]
[null,null,null,null,null,null,null,null,5,null,null,null,null,null,0.45638964238692431]
[null,null,null,null,null,null,null,null,5,null,null,null,null,null,-0.42176711958263385]
[null,null,null,null,null,null,null,null,5,null,null,null,null,null,-9.8476536616465771E-2]
[null,null,null,null,null,null,null,null,5,null,null,null,null,null,0.10485284628726342]
[null,null,null,null,null,null,null,null,5,null,null,null,null,null,-0.28981125269961455]
[null,null,null,null,null,null,null,null,5,null,null,null,null,null,-0.58848172017271216]
[null,null,null,null,null,null,null,null,6,null,null,null,null,null,{"$f":"CORREL($B$7:$G$7,B2:G2)","v":-0.33670911672656234}]
[null,null,null,null,null,null,null,null,{"$f":"I87+1","v":6},null,null,null,null,null,{"$f":"CORREL($B$7:$G$7,B3:G3)","v":-0.42568460368945238}]
[null,null,null,null,null,null,null,null,6,null,null,null,null,null,-0.58406890900287711]
[null,null,null,null,null,null,null,null,6,null,null,null,null,null,0.11940982632313289]
[null,null,null,null,null,null,null,null,6,null,null,null,null,null,-0.69629012359058839]
[null,null,null,null,null,null,null,null,6]
[null,null,null,null,null,null,null,null,6,null,null,null,null,null,0.46126455191996857]
[null,null,null,null,null,null,null,null,6,null,null,null,null,null,0.16521639487236092]
[null,null,null,null,null,null,null,null,6,null,null,null,null,null,-0.27161202194655237]
[null,null,null,null,null,null,null,null,6,null,null,null,null,null,-0.49021183288002662]
[null,null,null,null,null,null,null,null,6,null,null,null,null,null,-0.5223927938161691]
[null,null,null,null,null,null,null,null,6,null,null,null,null,null,0.75303463531516746]
[null,null,null,null,null,null,null,null,6,null,null,null,null,null,0.26159310912806488]
[null,null,null,null,null,null,null,null,6,null,null,null,null,null,-0.68305622370166974]
[null,null,null,null,null,null,null,null,6,null,null,null,null,null,0.32766047476946747]
[null,null,null,null,null,null,null,null,6,null,null,null,null,null,0.47568523488543446]
[null,null,null,null,null,null,null,null,7,null,null,null,null,null,{"$f":"CORREL($B$8:$G$8,B2:G2)","v":9.1205487654271472E-2}]
[null,null,null,null,null,null,null,null,7,null,null,null,null,null,{"$f":"CORREL($B$8:$G$8,B3:G3)","v":-0.48847103072298526}]
[null,null,null,null,null,null,null,null,7,null,null,null,null,null,-0.41184739944166154]
[null,null,null,null,null,null,null,null,7,null,null,null,null,null,-0.67246259925342844]
[null,null,null,null,null,null,null,null,7,null,null,null,null,null,-3.1663636876375939E-2]
[null,null,null,null,null,null,null,null,7,null,null,null,null,null,0.46126455191996857]
[null,null,null,null,null,null,null,null,7]
[null,null,null,null,null,null,null,null,7,null,null,null,null,null,0.66948039969672835]
[null,null,null,null,null,null,null,null,7,null,null,null,null,null,-0.33029177195866455]
[null,null,null,null,null,null,null,null,7,null,null,null,null,null,-0.55247172839445269]
[null,null,null,null,null,null,null,null,7,null,null,null,null,null,-0.37851079478411059]
[null,null,null,null,null,null,null,null,7,null,null,null,null,null,0.49575427827933505]
[null,null,null,null,null,null,null,null,7,null,null,null,null,null,0.38280571069205332]
[null,null,null,null,null,null,null,null,7,null,null,null,null,null,-0.90405808125445775]
[null,null,null,null,null,null,null,null,7,null,null,null,null,null,-0.45089930065392475]
[null,null,null,null,null,null,null,null,7,null,null,null,null,null,0.2379032136303969]
[null,null,null,null,null,null,null,null,8,null,null,null,null,null,{"$f":"CORREL($B$9:$G$9,B2:G2)","v":0.33892478274823512}]
[null,null,null,null,null,null,null,null,8,null,null,null,null,null,{"$f":"CORREL($B$9:$G$9,B3:G3)","v":-1.2143139756826168E-2}]
[null,null,null,null,null,null,null,null,8,null,null,null,null,null,-0.44042002186231605]
[null,null,null,null,null,null,null,null,8,null,null,null,null,null,-0.42899535590787047]
[null,null,null,null,null,null,null,null,8,null,null,null,null,null,9.196534793671951E-2]
[null,null,null,null,null,null,null,null,8,null,null,null,null,null,0.16521639487236092]
[null,null,null,null,null,null,null,null,8,null,null,null,null,null,0.66948039969672835]
[null,null,null,null,null,null,null,null,8]
[null,null,null,null,null,null,null,null,8,null,null,null,null,null,0.19244537375916837]
[null,null,null,null,null,null,null,null,8,null,null,null,null,null,-0.59466639062642768]
[null,null,null,null,null,null,null,null,8,null,null,null,null,null,-0.28206547966302514]
[null,null,null,null,null,null,null,null,8,null,null,null,null,null,0.1214534015151665]
[null,null,null,null,null,null,null,null,8,null,null,null,null,null,0.46201151722977674]
[null,null,null,null,null,null,null,null,8,null,null,null,null,null,-0.68133741354735999]
[null,null,null,null,null,null,null,null,8,null,null,null,null,null,2.9052904446382168E-2]
[null,null,null,null,null,null,null,null,8,null,null,null,null,null,-0.32422530679688238]
[null,null,null,null,null,null,null,null,9,null,null,null,null,null,{"$f":"CORREL($B$10:$G$10,B2:G2)","v":0.54003388036120303}]
[null,null,null,null,null,null,null,null,9,null,null,null,null,null,{"$f":"CORREL($B$10:$G$10,B3:G3)","v":0.42473145639939786}]
[null,null,null,null,null,null,null,null,9,null,null,null,null,null,-6.7844543614083305E-2]
[null,null,null,null,null,null,null,null,9,null,null,null,null,null,0.1644679182068545]
[null,null,null,null,null,null,null,null,9,null,null,null,null,null,-0.36707341754287465]
[null,null,null,null,null,null,null,null,9,null,null,null,null,null,-0.27161202194655237]
[null,null,null,null,null,null,null,null,9,null,null,null,null,null,-0.33029177195866455]
[null,null,null,null,null,null,null,null,9,null,null,null,null,null,0.19244537375916837]
[null,null,null,null,null,null,null,null,9]
[null,null,null,null,null,null,null,null,9,null,null,null,null,null,0.30160006674262163]
[null,null,null,null,null,null,null,null,9,null,null,null,null,null,9.349602731861445E-2]
[null,null,null,null,null,null,null,null,9,null,null,null,null,null,-0.4947629163151448]
[null,null,null,null,null,null,null,null,9,null,null,null,null,null,0.19530571241894271]
[null,null,null,null,null,null,null,null,9,null,null,null,null,null,0.43757316825901671]
[null,null,null,null,null,null,null,null,9,null,null,null,null,null,0.21301710880614202]
[null,null,null,null,null,null,null,null,9,null,null,null,null,null,-3.4523791478985211E-2]
[null,null,null,null,null,null,null,null,10,null,null,null,null,null,{"$f":"CORREL($B$11:$G$11,B2:G2)","v":-0.29066089029264947}]
[null,null,null,null,null,null,null,null,{"$f":"I151+1","v":10},null,null,null,null,null,{"$f":"CORREL($B$11:$G$11,B3:G3)","v":0.64396560479514386}]
[null,null,null,null,null,null,null,null,10,null,null,null,null,null,0.84735425521857377]
[null,null,null,null,null,null,null,null,10,null,null,null,null,null,0.47668719244562913]
[null,null,null,null,null,null,null,null,10,null,null,null,null,null,8.8581849404236329E-2]
[null,null,null,null,null,null,null,null,10,null,null,null,null,null,-0.49021183288002662]
[null,null,null,null,null,null,null,null,10,null,null,null,null,null,-0.55247172839445269]
[null,null,null,null,null,null,null,null,10,null,null,null,null,null,-0.59466639062642768]
[null,null,null,null,null,null,null,null,10,null,null,null,null,null,0.30160006674262163]
[null,null,null,null,null,null,null,null,10]
[null,null,null,null,null,null,null,null,10,null,null,null,null,null,0.84267345778046632]
[null,null,null,null,null,null,null,null,10,null,null,null,null,null,-0.7942404066658586]
[null,null,null,null,null,null,null,null,10,null,null,null,null,null,0.22868699828592956]
[null,null,null,null,null,null,null,null,10,null,null,null,null,null,0.73221066170556182]
[null,null,null,null,null,null,null,null,10,null,null,null,null,null,-0.11116464539948787]
[null,null,null,null,null,null,null,null,10,null,null,null,null,null,0.40290029686571227]
[null,null,null,null,null,null,null,null,11,null,null,null,null,null,{"$f":"CORREL($B$12:$G$12,B2:G2)","v":-0.50322480172562289}]
[null,null,null,null,null,null,null,null,11,null,null,null,null,null,{"$f":"CORREL($B$12:$G$12,B3:G3)","v":0.84504252347036735}]
[null,null,null,null,null,null,null,null,11,null,null,null,null,null,0.96753517620979057]
[null,null,null,null,null,null,null,null,11,null,null,null,null,null,0.49283163015706349]
[null,null,null,null,null,null,null,null,11,null,null,null,null,null,0.45638964238692431]
[null,null,null,null,null,null,null,null,11,null,null,null,null,null,-0.5223927938161691]
[null,null,null,null,null,null,null,null,11,null,null,null,null,null,-0.37851079478411059]
[null,null,null,null,null,null,null,null,11,null,null,null,null,null,-0.28206547966302514]
[null,null,null,null,null,null,null,null,11,null,null,null,null,null,9.349602731861445E-2]
[null,null,null,null,null,null,null,null,11,null,null,null,null,null,0.84267345778046632]
[null,null,null,null,null,null,null,null,11]
[null,null,null,null,null,null,null,null,11,null,null,null,null,null,-0.87247564627620888]
[null,null,null,null,null,null,null,null,11,null,null,null,null,null,0.46823327967718742]
[null,null,null,null,null,null,null,null,11,null,null,null,null,null,0.47134250661316751]
[null,null,null,null,null,null,null,null,11,null,null,null,null,null,8.0370539920470874E-3]
[null,null,null,null,null,null,null,null,11,null,null,null,null,null,0.13459543939123991]
[null,null,null,null,null,null,null,null,12,null,null,null,null,null,{"$f":"CORREL($B$13:$G$13,B2:G2)","v":5.5725925850114814E-2}]
[null,null,null,null,null,null,null,null,12,null,null,null,null,null,{"$f":"CORREL($B$13:$G$13,B3:G3)","v":-0.87591429141273947}]
[null,null,null,null,null,null,null,null,12,null,null,null,null,null,-0.80324189348123654]
[null,null,null,null,null,null,null,null,12,null,null,null,null,null,-0.35868225260561071]
[null,null,null,null,null,null,null,null,12,null,null,null,null,null,-0.42176711958263385]
[null,null,null,null,null,null,null,null,12,null,null,null,null,null,0.75303463531516746]
[null,null,null,null,null,null,null,null,12,null,null,null,null,null,0.49575427827933505]
[null,null,null,null,null,null,null,null,12,null,null,null,null,null,0.1214534015151665]
[null,null,null,null,null,null,null,null,12,null,null,null,null,null,-0.4947629163151448]
[null,null,null,null,null,null,null,null,12,null,null,null,null,null,-0.7942404066658586]
[null,null,null,null,null,null,null,null,12,null,null,null,null,null,-0.87247564627620888]
[null,null,null,null,null,null,null,null,12]
[null,null,null,null,null,null,null,null,12,null,null,null,null,null,-0.3333584268129014]
[null,null,null,null,null,null,null,null,12,null,null,null,null,null,-0.64938981931499151]
[null,null,null,null,null,null,null,null,12,null,null,null,null,null,-1.1073375238104756E-2]
[null,null,null,null,null,null,null,null,12,null,null,null,null,null,0.10981866316446484]
[null,null,null,null,null,null,null,null,13,null,null,null,null,null,{"$f":"CORREL($B$14:$G$14,B2:G2)","v":-0.41008478345905802}]
[null,null,null,null,null,null,null,null,13,null,null,null,null,null,{"$f":"CORREL($B$14:$G$14,B3:G3)","v":0.54384691605148172}]
[null,null,null,null,null,null,null,null,13,null,null,null,null,null,0.27493170081371615]
[null,null,null,null,null,null,null,null,13,null,null,null,null,null,0.25995153051006942]
[null,null,null,null,null,null,null,null,13,null,null,null,null,null,-9.8476536616465771E-2]
[null,null,null,null,null,null,null,null,13,null,null,null,null,null,0.26159310912806488]
[null,null,null,null,null,null,null,null,13,null,null,null,null,null,0.38280571069205332]
[null,null,null,null,null,null,null,null,13,null,null,null,null,null,0.46201151722977674]
[null,null,null,null,null,null,null,null,13,null,null,null,null,null,0.19530571241894271]
[null,null,null,null,null,null,null,null,13,null,null,null,null,null,0.22868699828592956]
[null,null,null,null,null,null,null,null,13,null,null,null,null,null,0.46823327967718742]
[null,null,null,null,null,null,null,null,13,null,null,null,null,null,-0.3333584268129014]
[null,null,null,null,null,null,null,null,13]
[null,null,null,null,null,null,null,null,13,null,null,null,null,null,-0.3764404422933717]
[null,null,null,null,null,null,null,null,13,null,null,null,null,null,0.16075446425060735]
[null,null,null,null,null,null,null,null,13,null,null,null,null,null,0.40284230927407294]
[null,null,null,null,null,null,null,null,14,null,null,null,null,null,{"$f":"CORREL($B$15:$G$15,B2:G2)","v":0.11823669827258416}]
[null,null,null,null,null,null,null,null,{"$f":"I215+1","v":14},null,null,null,null,null,{"$f":"CORREL($B$15:$G$15,B3:G3)","v":0.44715091925451123}]
[null,null,null,null,null,null,null,null,14,null,null,null,null,null,0.5284339971301697]
[null,null,null,null,null,null,null,null,14,null,null,null,null,null,0.41383755685658585]
[null,null,null,null,null,null,null,null,14,null,null,null,null,null,0.10485284628726342]
[null,null,null,null,null,null,null,null,14,null,null,null,null,null,-0.68305622370166974]
[null,null,null,null,null,null,null,null,14,null,null,null,null,null,-0.90405808125445775]
[null,null,null,null,null,null,null,null,14,null,null,null,null,null,-0.68133741354735999]
[null,null,null,null,null,null,null,null,14,null,null,null,null,null,0.43757316825901671]
[null,null,null,null,null,null,null,null,14,null,null,null,null,null,0.73221066170556182]
[null,null,null,null,null,null,null,null,14,null,null,null,null,null,0.47134250661316751]
[null,null,null,null,null,null,null,null,14,null,null,null,null,null,-0.64938981931499151]
[null,null,null,null,null,null,null,null,14,null,null,null,null,null,-0.3764404422933717]
[null,null,null,null,null,null,null,null,14]
[null,null,null,null,null,null,null,null,14,null,null,null,null,null,6.6436886273401344E-2]
[null,null,null,null,null,null,null,null,14,null,null,null,null,null,-0.10706177670640429]
[null,null,null,null,null,null,null,null,15,null,null,null,null,null,{"$f":"CORREL($B$16:$G$16,B2:G2)","v":-0.35989555614693358}]
[null,null,null,null,null,null,null,null,15,null,null,null,null,null,{"$f":"CORREL($B$16:$G$16,B3:G3)","v":0.43390399608437658}]
[null,null,null,null,null,null,null,null,15,null,null,null,null,null,-0.12427130701127274]
[null,null,null,null,null,null,null,null,15,null,null,null,null,null,0.7901144040104402]
[null,null,null,null,null,null,null,null,15,null,null,null,null,null,-0.28981125269961455]
[null,null,null,null,null,null,null,null,15,null,null,null,null,null,0.32766047476946747]
[null,null,null,null,null,null,null,null,15,null,null,null,null,null,-0.45089930065392475]
[null,null,null,null,null,null,null,null,15,null,null,null,null,null,2.9052904446382168E-2]
[null,null,null,null,null,null,null,null,15,null,null,null,null,null,0.21301710880614202]
[null,null,null,null,null,null,null,null,15,null,null,null,null,null,-0.11116464539948787]
[null,null,null,null,null,null,null,null,15,null,null,null,null,null,8.0370539920470874E-3]
[null,null,null,null,null,null,null,null,15,null,null,null,null,null,-1.1073375238104756E-2]
[null,null,null,null,null,null,null,null,15,null,null,null,null,null,0.16075446425060735]
[null,null,null,null,null,null,null,null,15,null,null,null,null,null,6.6436886273401344E-2]
[null,null,null,null,null,null,null,null,15]
[null,null,null,null,null,null,null,null,15,null,null,null,null,null,-0.25298201685986671]
[null,null,null,null,null,null,null,null,16,null,null,null,null,null,{"$f":"CORREL($B$17:$G$17,B2:G2)","v":-0.34632623567143933}]
[null,null,null,null,null,null,null,null,16,null,null,null,null,null,{"$f":"CORREL($B$17:$G$17,B3:G3)","v":-0.11861636630531747}]
[null,null,null,null,null,null,null,null,16,null,null,null,null,null,0.12526731299265334]
[null,null,null,null,null,null,null,null,16,null,null,null,null,null,0.12321869205981378]
[null,null,null,null,null,null,null,null,16,null,null,null,null,null,-0.58848172017271216]
[null,null,null,null,null,null,null,null,16,null,null,null,null,null,0.47568523488543446]
[null,null,null,null,null,null,null,null,16,null,null,null,null,null,0.2379032136303969]
[null,null,null,null,null,null,null,null,16,null,null,null,null,null,-0.32422530679688238]
[null,null,null,null,null,null,null,null,16,null,null,null,null,null,-3.4523791478985211E-2]
[null,null,null,null,null,null,null,null,16,null,null,null,null,null,0.40290029686571227]
[null,null,null,null,null,null,null,null,16,null,null,null,null,null,0.13459543939123991]
[null,null,null,null,null,null,null,null,16,null,null,null,null,null,0.10981866316446484]
[null,null,null,null,null,null,null,null,16,null,null,null,null,null,0.40284230927407294]
[null,null,null,null,null,null,null,null,16,null,null,null,null,null,-0.10706177670640429]
[null,null,null,null,null,null,null,null,16,null,null,null,null,null,-0.25298201685986671]
[null,null,null,null,null,null,null,null,16]
[null,null,null,null,null,null,null,null,"max",null,null,null,null,null,{"$f":"MAX(O22:O277)","v":0.96753517620979057}]
[null,null,null,null,null,null,null,null,"min",null,null,null,null,null,{"$f":"MIN(O22:O277)","v":-0.90405808125445775}]
[null,null,null,null,null,null,null,null,"avg",null,null,null,null,null,{"$f":"AVERAGE(O22:O277)","v":7.167839076425233E-3}]
[null,null,null,null,null,null,null,null,"stddev",null,null,null,null,null,{"$f":"STDEV(O22:O277)","v":0.45528273433192223}]
[null,null,null,null,null,null,null,null,"median",null,null,null,null,null,{"$f":"MEDIAN(O22:O277)","v":7.7509367838818843E-2}]
[null,null,null,null,null,null,null,null,"kvart_1",null,null,null,null,null,{"$f":"QUARTILE(O22:O277,1)","v":-0.36941517373049892}]
[null,null,null,null,null,null,null,null,"kvart_3",null,null,null,null,null,{"$f":"QUARTILE(O22:O277,3)","v":0.40489746437100133}]

{"sheet":"basics13","index":3,"n_rows":284,"n_cols":42,"rows_kept":284,"cut":false,"hidden":false,"merged":[]}
[{"$f":"RANDBETWEEN(10,99)","v":33},"A1","A2","A3","A4","A5","A6=Y",null,"rank",{"$f":"B1","v":"A1"},"A2","A3","A4","A5",{"$f":"G1&\"'\"","v":"A6=Y'"},"validity0","direkt","inverz","átlag","double","between1","validity1","invalid_between","valid_extrem","between2","validity2",null,{"$f":"models1!B7","v":"X(A1)"},{"$f":"models1!C7","v":"X(A2)"},{"$f":"models1!D7","v":"X(A3)"},{"$f":"models1!E7","v":"X(A4)"},{"$f":"models1!F7","v":"X(A5)"},{"$f":"AB1","v":"X(A1)"},{"$f":"AC1","v":"X(A2)"},"X(A3)","X(A4)","X(A5)",{"$f":"O1","v":"A6=Y'"},null,"direct_stddev","inverse_stddev","delta"]
["O1",63,57,68,37,88,46,null,{"$f":"A2","v":"O1"},{"$f":"RANK(B2,B$2:B$17,B$19)","v":10},{"$f":"RANK(C2,C$2:C$17,C$19)","v":9},4,10,2,{"$f":"G2*1000","v":46000},{"$f":"IF(models1!J1262*models1!Y1262<=0,\"valid\",\"invalid\")","v":"invalid"},{"$f":"models1!G1262","v":41503.4},{"$f":"models1!V1262","v":37162.6},{"$f":"AVERAGE(Q2:R2)","v":39333},{"$f":"models1!AO1262","v":46510.7},{"$f":"IF(MAX(Q2:R2)<T2,0,IF(MIN(Q2:R2)>T2,0,1))","v":0},{"$f":"IF(P2=\"valid\",1,)","v":0},{"$f":"IF(V2=1,IF(U2=0,1,0),0)","v":0},{"$f":"IF(V2=0,IF(U2=1,1,0),0)","v":0},{"$f":"STDEV(S2:T2)","v":5075.4003433226799},{"$f":"STDEV(models1!J1262,models1!Y1262)","v":6.6680169465891383},null,{"$f":"J2","v":10},{"$f":"K2","v":9},4,10,2,{"$f":"RANK(AB2,AB$2:AB$17,0)","v":6},{"$f":"RANK(AC2,AC$2:AC$17,0)","v":8},12,7,15,46000,null,{"$f":"STDEV(AB2:AF2)","v":3.7416573867739413},{"$f":"STDEV(AG2:AK2)","v":3.7815340802378072},{"$f":"ABS(AO2-AN2)","v":3.9876693463865909E-2}]
["O2",94,47,32,92,49,62,null,{"$f":"A3","v":"O2"},{"$f":"RANK(B3,B$2:B$17,B$19)","v":16},11,13,2,9,{"$f":"G3*1000","v":62000},{"$f":"IF(models1!J1263*models1!Y1263<=0,\"valid\",\"invalid\")","v":"valid"},{"$f":"models1!G1263","v":39428.199999999997},{"$f":"models1!V1263","v":64002.3},{"$f":"AVERAGE(Q3:R3)","v":51715.25},{"$f":"models1!AO1263","v":62688.4},1,1,{"$f":"IF(V3=1,IF(U3=0,1,0),0)","v":0},{"$f":"IF(V3=0,IF(U3=1,1,0),0)","v":0},{"$f":"STDEV(S3:T3)","v":7759.1887759771653},{"$f":"STDEV(models1!J1263,models1!Y1263)","v":28.029712806234741},null,{"$f":"J3","v":16},11,13,2,9,{"$f":"RANK(AB3,AB$2:AB$17,0)","v":1},5,4,14,8,62000,null,{"$f":"STDEV(AB3:AF3)","v":5.2630789467763055},{"$f":"STDEV(AG3:AK3)","v":4.9295030175464944},{"$f":"ABS(AO3-AN3)","v":0.33357592922981105}]
["O3",79,36,21,67,65,43,null,"O3",15,14,14,7,6,43000,{"$f":"IF(models1!J1264*models1!Y1264<=0,\"valid\",\"invalid\")","v":"valid"},{"$f":"models1!G1264","v":29571.200000000001},{"$f":"models1!V1264","v":58324.6},43947.9,{"$f":"models1!AO1264","v":43477.4},1,1,0,0,332.69374054827063,{"$f":"STDEV(models1!J1264,models1!Y1264)","v":47.284230457944439},null,15,14,14,7,6,2,3,3,10,11,43000,null,4.3243496620879291,4.3243496620879309,1.7763568394002505E-15]
["O4",17,45,56,53,57,83,null,"O4",1,13,7,9,7,83000,{"$f":"IF(models1!J1265*models1!Y1265<=0,\"valid\",\"invalid\")","v":"valid"},{"$f":"models1!G1265","v":86119.6},{"$f":"models1!V1265","v":57292.4},71706,{"$f":"models1!AO1265","v":83921.5},1,1,0,0,8637.6628855842719,{"$f":"STDEV(models1!J1265,models1!Y1265)","v":24.55781851060879},null,1,13,7,9,7,16,4,10,8,10,83000,null,4.3358966777357599,4.3358966777357599,0]
["O5",34,48,20,25,36,28,null,"O5",4,10,15,14,11,28000,{"$f":"IF(models1!J1266*models1!Y1266<=0,\"valid\",\"invalid\")","v":"invalid"},{"$f":"models1!G1266","v":34240.300000000003},{"$f":"models1!V1266","v":51098.6},42669.45,{"$f":"models1!AO1266","v":28310.9},0,0,0,0,10153.028073006077,{"$f":"STDEV(models1!J1266,models1!Y1266)","v":42.574899295242034},null,4,10,15,14,11,13,7,2,3,6,28000,null,4.3243496620879291,4.3243496620879309,1.7763568394002505E-15]
["O6",65,28,69,34,10,14,null,"O6",12,15,2,11,16,14000,{"$f":"IF(models1!J1267*models1!Y1267<=0,\"valid\",\"invalid\")","v":"invalid"},{"$f":"models1!G1267","v":14526.2},{"$f":"models1!V1267","v":61421.5},37973.85,{"$f":"models1!AO1267","v":28815.9},1,0,0,1,6475.6485467673565,{"$f":"STDEV(models1!J1267,models1!Y1267)","v":236.85955849405784},null,12,15,2,11,16,5,2,14,6,1,14000,null,5.5407580708780264,5.1283525619832337,0.41240550889479266]
["O7",53,87,65,80,23,93,null,"O7",5,5,6,5,13,93000,{"$f":"IF(models1!J1268*models1!Y1268<=0,\"valid\",\"invalid\")","v":"invalid"},{"$f":"models1!G1268","v":78337.7},{"$f":"models1!V1268","v":62453.8},70395.75,{"$f":"models1!AO1268","v":74315.5},1,0,0,1,2771.6818055559697,{"$f":"STDEV(models1!J1268,models1!Y1268)","v":12.077383822666231},null,5,5,6,5,13,12,12,11,12,4,93000,null,3.4928498393145966,3.4928498393145944,2.2204460492503131E-15]
["O8",33,89,69,87,95,58,null,"O8",3,4,2,4,1,58000,{"$f":"IF(models1!J1269*models1!Y1269<=0,\"valid\",\"invalid\")","v":"valid"},{"$f":"models1!G1269","v":78337.7},{"$f":"models1!V1269","v":29936.5},54137.1,{"$f":"models1!AO1269","v":58644},1,1,0,0,3186.859552129652,{"$f":"STDEV(models1!J1269,models1!Y1269)","v":59.015131957829254},null,3,4,2,4,1,14,13,14,13,16,58000,null,1.3038404810405295,1.2247448713915889,7.9095609648940579E-2]
["O9",58,97,48,21,72,78,null,"O9",9,2,10,16,4,78000,{"$f":"IF(models1!J1270*models1!Y1270<=0,\"valid\",\"invalid\")","v":"invalid"},{"$f":"models1!G1270","v":80931.7},{"$f":"models1!V1270","v":80519},80725.350000000006,{"$f":"models1!AO1270","v":78865.5},0,0,0,0,1315.1125469898045,{"$f":"STDEV(models1!J1270,models1!Y1270)","v":0.37476659402887008},null,9,2,10,16,4,9,15,6,1,13,78000,null,5.4954526656136347,5.5856960175075772,9.0243351893942503E-2]
["O10",31,66,49,65,52,46,null,"O10",2,8,9,8,8,46000,{"$f":"IF(models1!J1271*models1!Y1271<=0,\"valid\",\"invalid\")","v":"invalid"},{"$f":"models1!G1271","v":50841.7},{"$f":"models1!V1271","v":51098.6},50970.149999999994,{"$f":"models1!AO1271","v":46510.7},0,0,0,0,3153.3073353623472,{"$f":"STDEV(models1!J1271,models1!Y1271)","v":0.38890872965260165},null,2,8,9,8,8,15,9,8,9,9,46000,null,2.8284271247461903,2.8284271247461903,0]
["O11",67,92,54,33,29,80,null,"O11",13,3,8,12,12,80000,{"$f":"IF(models1!J1272*models1!Y1272<=0,\"valid\",\"invalid\")","v":"valid"},{"$f":"models1!G1272","v":81969.2},{"$f":"models1!V1272","v":70712.2},76340.7,{"$f":"models1!AO1272","v":80887.7},1,1,0,0,3215.2145340552315,{"$f":"STDEV(models1!J1272,models1!Y1272)","v":9.9489924112947232},null,13,3,8,12,12,4,14,9,5,5,80000,null,4.1593268686170841,4.1593268686170841,0]
["O12",56,98,68,94,20,70,null,"O12",8,1,4,1,14,70000,{"$f":"IF(models1!J1273*models1!Y1273<=0,\"valid\",\"invalid\")","v":"valid"},{"$f":"models1!G1273","v":84563.199999999997},{"$f":"models1!V1273","v":50582.400000000001},67572.800000000003,{"$f":"models1!AO1273","v":70776.7},1,1,0,0,2265.4994162435755,{"$f":"STDEV(models1!J1273,models1!Y1273)","v":34.322963158795019},null,8,1,4,1,14,10,16,12,16,2,70000,null,5.5045435778091534,5.7619441163551723,0.25740053854601896]
["O13",63,47,48,29,20,52,null,"O13",10,11,10,13,14,52000,{"$f":"IF(models1!J1274*models1!Y1274<=0,\"valid\",\"invalid\")","v":"valid"},{"$f":"models1!G1274","v":37353.1},{"$f":"models1!V1274","v":62453.8},49903.45,{"$f":"models1!AO1274","v":47521.3},1,1,0,0,1684.4344188035302,{"$f":"STDEV(models1!J1274,models1!Y1274)","v":34.132044327874652},null,10,11,10,13,14,6,5,6,4,2,52000,null,1.8165902124584981,1.6733200530681513,0.14327015939034671]
["O14",71,23,98,24,68,70,null,"O14",14,16,1,15,5,70000,{"$f":"IF(models1!J1275*models1!Y1275<=0,\"valid\",\"invalid\")","v":"invalid"},{"$f":"models1!G1275","v":72631},{"$f":"models1!V1275","v":72260.600000000006},72445.8,{"$f":"models1!AO1275","v":70776.7},{"$f":"IF(MAX(Q15:R15)<T15,0,IF(MIN(Q15:R15)>T15,0,1))","v":0},0,0,0,1180.2319284784705,{"$f":"STDEV(models1!J1275,models1!Y1275)","v":0.37476659402887008},null,14,16,1,15,5,3,1,16,2,12,70000,null,6.760177512462227,6.7601775124622288,1.7763568394002505E-15]
["O15",54,83,13,77,37,74,null,"O15",6,6,16,6,10,74000,{"$f":"IF(models1!J1276*models1!Y1276<=0,\"valid\",\"invalid\")","v":"valid"},{"$f":"models1!G1276","v":61217.5},{"$f":"models1!V1276","v":76389.8},68803.649999999994,{"$f":"models1!AO1276","v":74821.600000000006},{"$f":"IF(MAX(Q16:R16)<T16,0,IF(MIN(Q16:R16)>T16,0,1))","v":1},1,0,0,4255.3332538415916,{"$f":"STDEV(models1!J1276,models1!Y1276)","v":14.495689014324226},null,6,6,16,6,10,11,11,1,11,7,74000,null,4.3817804600413295,4.3817804600413295,0]
["O16",55,80,33,92,81,14,null,"O16",{"$f":"RANK(B17,B$2:B$17,0)","v":10},7,12,2,3,14000,{"$f":"IF(models1!J1277*models1!Y1277<=0,\"valid\",\"invalid\")","v":"invalid"},{"$f":"models1!G1277","v":39428.199999999997},{"$f":"models1!V1277","v":25291.200000000001},32359.699999999997,{"$f":"models1!AO1277","v":14155.4},{"$f":"IF(MAX(Q17:R17)<T17,0,IF(MIN(Q17:R17)>T17,0,1))","v":0},0,0,0,12872.383976754263,{"$f":"STDEV(models1!J1277,models1!Y1277)","v":71.403642764217608},null,10,7,12,2,3,6,10,5,14,14,14000,null,4.3243496620879309,4.2661458015403086,5.8203860547622277E-2]
["correlation",{"$f":"CORREL(B2:B16,$G$2:$G$16)","v":-6.5444483338455539E-2},{"$f":"CORREL(C2:C16,$G$2:$G$16)","v":0.55776734933181848},0.15875001660064322,0.26320926873069972,7.0701378271936524E-2,1,null,"O16(2)",{"$f":"MAX(J2:J16)","v":16},{"$f":"INT(QUARTILE(K2:K16,3))","v":12},{"$f":"MEDIAN(L2:L16)","v":8},{"$f":"INT(QUARTILE(M2:M16,1))","v":5},{"$f":"MIN(N2:N16)","v":1},{"$f":"O17","v":14000},"ratio","correlation","correlation",null,"correlation",null,null,null,null,null,null,null,"direct","direct","direct","direct","direct","inverse","inverse","inverse","inverse","inverse","double","max",{"$f":"MAX(AN2:AN17)","v":6.760177512462227},{"$f":"MAX(AO2:AO17)","v":6.7601775124622288},{"$f":"MAX(AP2:AP17)","v":0.41240550889479266}]
["direction",{"$f":"IF(B18>0,0,1)","v":1},{"$f":"IF(C18>0,0,1)","v":0},0,0,0,"Y",null,null,null,null,null,null,null,null,{"$f":"COUNTIF($P$2:$P$17,\"valid\")/16","v":0.5},{"$f":"CORREL(Q2:Q17,$O$2:$O$17)","v":0.84256442210433491},{"$f":"CORREL(R2:R17,$O$2:$O$17)","v":0.53873732176185507},null,{"$f":"CORREL(T2:T17,$O$2:$O$17)","v":0.96827842956310695},{"$f":"SUM(U2:U17)","v":10},null,{"$f":"SUM(W2:W17)","v":0},{"$f":"SUM(X2:X17)","v":2},{"$f":"SUM(Y2:Y17)","v":74333.681133420265},null,null,null,null,null,null,null,null,null,null,null,null,null,"min",{"$f":"MIN(AN2:AN17)","v":1.3038404810405295},{"$f":"MIN(AO2:AO17)","v":1.2247448713915889},{"$f":"MIN(AP2:AP17)","v":0}]
[null,null,null,null,null,null,null,null,null,null,null,null,null,null,null,null,null,null,null,null,null,null,null,null,null,null,null,null,null,null,null,null,null,null,null,null,null,null,"avg",{"$f":"AVERAGE(AN2:AN17)","v":4.2248393006581919},{"$f":"AVERAGE(AO2:AO17)","v":4.1848998954202115},{"$f":"AVERAGE(AP2:AP17)","v":8.8379478225959263E-2}]
["antagonism!",null,null,null,null,null,null,null,"O*",null,null,null,null,null,"correlation",null,null,null,null,null,null,null,null,null,null,null,null,null,null,null,null,null,null,null,null,null,null,null,"stddev",{"$f":"STDEV(AN2:AN17)","v":1.4050320550987176},{"$f":"STDEV(AO2:AO17)","v":1.4185862879404612},{"$f":"STDEV(AP2:AP17)","v":0.13229650625041353}]
[null,null,null,null,null,null,null,null,1,null,null,null,null,null,null,null,null,null,null,null,null,null,null,null,null,null,null,null,null,null,null,null,null,null,null,null,null,null,"median",{"$f":"MEDIAN(AN2:AN17)","v":4.32434966208793},{"$f":"MEDIAN(AO2:AO17)","v":4.3243496620879309},1.9938346731934065E-2]
["Consistency-tasks ",null,null,null,null,null,null,null,1,null,null,null,null,null,{"$f":"CORREL($B$2:$G$2,B3:G3)","v":-0.50951008215024174}]
["Y=between1",null,null,null,null,null,null,null,1,null,null,null,null,null,1.3163932941179223E-2]
["Y=between2",null,null,null,null,null,null,null,1,null,null,null,null,null,-0.19397444526288163]
["Y=validity1",null,null,null,null,null,null,null,1,null,null,null,null,null,0.21729296184967961]
["Y=validity2",null,null,null,null,null,null,null,1,null,null,null,null,null,7.4389867598418497E-4]
["Y=validity-ratio",null,null,null,null,null,null,null,1,null,null,null,null,null,-0.86807152182980207]
["Xi=model-characteristics",null,null,null,null,null,null,null,1,null,null,null,null,null,0.14429222436234709]
[null,null,null,null,null,null,null,null,1,null,null,null,null,null,0.32771258329833935]
[null,null,null,null,null,null,null,null,1,null,null,null,null,null,-0.29634335507182585]
[null,null,null,null,null,null,null,null,1,null,null,null,null,null,-0.28869106533172184]
[null,null,null,null,null,null,null,null,1,null,null,null,null,null,-0.8282075981610264]
[null,null,null,null,null,null,null,null,1,null,null,null,null,null,-0.25549643729120802]
[null,null,null,null,null,null,null,null,1,null,null,null,null,null,0.51436783868371228]
[null,null,null,null,null,null,null,null,1,null,null,null,null,null,-0.6990516453973068]
[null,null,null,null,null,null,null,null,1,null,null,null,null,null,7.4422400318887139E-2]
[null,null,null,null,null,null,null,null,{"$f":"I22+1","v":2},null,null,null,null,null,{"$f":"CORREL($B$3:$G$3,B2:G2)","v":-0.50951008215024174}]
[null,null,null,null,null,null,null,null,{"$f":"I23+1","v":2}]
[null,null,null,null,null,null,null,null,2,null,null,null,null,null,{"$f":"CORREL($B$3:$G$3,B4:G4)","v":0.83000478744536788}]
[null,null,null,null,null,null,null,null,2,null,null,null,null,null,-0.4321750670680034]
[null,null,null,null,null,null,null,null,2,null,null,null,null,null,-6.193804500756464E-2]
[null,null,null,null,null,null,null,null,2,null,null,null,null,null,0.1046509369905556]
[null,null,null,null,null,null,null,null,2,null,null,null,null,null,8.3306919340638205E-2]
[null,null,null,null,null,null,null,null,2,null,null,null,null,null,-0.42273525099489118]
[null,null,null,null,null,null,null,null,2,null,null,null,null,null,-0.47708184772670292]
[null,null,null,null,null,null,null,null,2,null,null,null,null,null,-0.24202782516162863]
[null,null,null,null,null,null,null,null,2,null,null,null,null,null,-0.14965886053256708]
[null,null,null,null,null,null,null,null,2,null,null,null,null,null,0.15876975444438671]
[null,null,null,null,null,null,null,null,2,null,null,null,null,null,0.15399381365323714]
[null,null,null,null,null,null,null,null,2,null,null,null,null,null,-0.37618012893422809]
[null,null,null,null,null,null,null,null,2,null,null,null,null,null,0.49141986487865336]
[null,null,null,null,null,null,null,null,2,null,null,null,null,null,0.26674156102620239]
[null,null,null,null,null,null,null,null,3,null,null,null,null,null,{"$f":"CORREL($B$4:$G$4,B2:G2)","v":1.3163932941179223E-2}]
[null,null,null,null,null,null,null,null,3,null,null,null,null,null,{"$f":"CORREL($B$4:$G$4,B3:G3)","v":0.83000478744536788}]
[null,null,null,null,null,null,null,null,3]
[null,null,null,null,null,null,null,null,3,null,null,null,null,null,-0.49246160740387723]
[null,null,null,null,null,null,null,null,3,null,null,null,null,null,0.14107153908837816]
[null,null,null,null,null,null,null,null,3,null,null,null,null,null,-0.10179258043981211]
[null,null,null,null,null,null,null,null,3,null,null,null,null,null,-0.4359434618925393]
[null,null,null,null,null,null,null,null,3,null,null,null,null,null,-0.22486221407556578]
[null,null,null,null,null,null,null,null,3,null,null,null,null,null,-0.29750025328669366]
[null,null,null,null,null,null,null,null,3,null,null,null,null,null,-0.31344804043326996]
[null,null,null,null,null,null,null,null,3,null,null,null,null,null,-0.40482521400584009]
[null,null,null,null,null,null,null,null,3,null,null,null,null,null,-0.33830603937094961]
[null,null,null,null,null,null,null,null,3,null,null,null,null,null,-0.15473781836548575]
[null,null,null,null,null,null,null,null,3,null,null,null,null,null,-0.25036545413852801]
[null,null,null,null,null,null,null,null,3,null,null,null,null,null,0.25146290076614919]
[null,null,null,null,null,null,null,null,3,null,null,null,null,null,0.45747402800089798]
[null,null,null,null,null,null,null,null,4,null,null,null,null,null,{"$f":"CORREL($B$5:$G$5,B2:G2)","v":-0.19397444526288163}]
[null,null,null,null,null,null,null,null,4,null,null,null,null,null,{"$f":"CORREL($B$5:$G$5,B3:G3)","v":-0.4321750670680034}]
[null,null,null,null,null,null,null,null,4,null,null,null,null,null,-0.49246160740387723]
[null,null,null,null,null,null,null,null,4]
[null,null,null,null,null,null,null,null,4,null,null,null,null,null,-0.32471678347646071]
[null,null,null,null,null,null,null,null,4,null,null,null,null,null,-0.61198935370322216]
[null,null,null,null,null,null,null,null,4,null,null,null,null,null,0.33910578176203487]
[null,null,null,null,null,null,null,null,4,null,null,null,null,null,0.37033186578640409]
[null,null,null,null,null,null,null,null,4,null,null,null,null,null,0.12244476278911041]
[null,null,null,null,null,null,null,null,4,null,null,null,null,null,0.32464628878440371]
[null,null,null,null,null,null,null,null,4,null,null,null,null,null,-2.0701596180019956E-2]
[null,null,null,null,null,null,null,null,4,null,null,null,null,null,1.904366089859506E-2]
[null,null,null,null,null,null,null,null,4,null,null,null,null,null,-0.33108129048492141]
[null,null,null,null,null,null,null,null,4,null,null,null,null,null,0.10725085629033385]
[null,null,null,null,null,null,null,null,4,null,null,null,null,null,6.6544214104634403E-2]
[null,null,null,null,null,null,null,null,4,null,null,null,null,null,-0.41524872036946242]
[null,null,null,null,null,null,null,null,5,null,null,null,null,null,{"$f":"CORREL($B$6:$G$6,B2:G2)","v":0.21729296184967961}]
[null,null,null,null,null,null,null,null,5,null,null,null,null,null,{"$f":"CORREL($B$6:$G$6,B3:G3)","v":-6.193804500756464E-2}]
[null,null,null,null,null,null,null,null,5,null,null,null,null,null,0.14107153908837816]
[null,null,null,null,null,null,null,null,5,null,null,null,null,null,-0.32471678347646071]
[null,null,null,null,null,null,null,null,5]
[null,null,null,null,null,null,null,null,5,null,null,null,null,null,-0.37783997233761141]
[null,null,null,null,null,null,null,null,5,null,null,null,null,null,-4.308921946031307E-2]
[null,null,null,null,null,null,null,null,5,null,null,null,null,null,0.23547932717628961]
[null,null,null,null,null,null,null,null,5,null,null,null,null,null,0.75775933232216952]
[null,null,null,null,null,null,null,null,5,null,null,null,null,null,0.23450849142105323]
[null,null,null,null,null,null,null,null,5,null,null,null,null,null,0.46776421722851014]
[null,null,null,null,null,null,null,null,5,null,null,null,null,null,5.2718858149288221E-2]
[null,null,null,null,null,null,null,null,5,null,null,null,null,null,1.8220791465873489E-2]
[null,null,null,null,null,null,null,null,5,null,null,null,null,null,-0.53682436267562406]
[null,null,null,null,null,null,null,null,5,null,null,null,null,null,0.48432919009300934]
[null,null,null,null,null,null,null,null,5,null,null,null,null,null,0.44712660533395304]
[null,null,null,null,null,null,null,null,6,null,null,null,null,null,{"$f":"CORREL($B$7:$G$7,B2:G2)","v":7.4389867598418497E-4}]
[null,null,null,null,null,null,null,null,{"$f":"I87+1","v":6},null,null,null,null,null,{"$f":"CORREL($B$7:$G$7,B3:G3)","v":0.1046509369905556}]
[null,null,null,null,null,null,null,null,6,null,null,null,null,null,-0.10179258043981211]
[null,null,null,null,null,null,null,null,6,null,null,null,null,null,-0.61198935370322216]
[null,null,null,null,null,null,null,null,6,null,null,null,null,null,-0.37783997233761141]
[null,null,null,null,null,null,null,null,6]
[null,null,null,null,null,null,null,null,6,null,null,null,null,null,-2.6126678856978357E-2]
[null,null,null,null,null,null,null,null,6,null,null,null,null,null,-0.57018367722309282]
[null,null,null,null,null,null,null,null,6,null,null,null,null,null,-0.41967258575100158]
[null,null,null,null,null,null,null,null,6,null,null,null,null,null,-0.43488625273928361]
[null,null,null,null,null,null,null,null,6,null,null,null,null,null,5.4277840711363962E-2]
[null,null,null,null,null,null,null,null,6,null,null,null,null,null,0.15858904437776503]
[null,null,null,null,null,null,null,null,6,null,null,null,null,null,0.57491679332789769]
[null,null,null,null,null,null,null,null,6,null,null,null,null,null,0.40768961475301468]
[null,null,null,null,null,null,null,null,6,null,null,null,null,null,-0.47901468399192859]
[null,null,null,null,null,null,null,null,6,null,null,null,null,null,-0.20464539817023772]
[null,null,null,null,null,null,null,null,7,null,null,null,null,null,{"$f":"CORREL($B$8:$G$8,B2:G2)","v":-0.86807152182980207}]
[null,null,null,null,null,null,null,null,7,null,null,null,null,null,{"$f":"CORREL($B$8:$G$8,B3:G3)","v":8.3306919340638205E-2}]
[null,null,null,null,null,null,null,null,7,null,null,null,null,null,-0.4359434618925393]
[null,null,null,null,null,null,null,null,7,null,null,null,null,null,0.33910578176203487]
[null,null,null,null,null,null,null,null,7,null,null,null,null,null,-4.308921946031307E-2]
[null,null,null,null,null,null,null,null,7,null,null,null,null,null,-2.6126678856978357E-2]
[null,null,null,null,null,null,null,null,7]
[null,null,null,null,null,null,null,null,7,null,null,null,null,null,-9.4512214805672026E-2]
[null,null,null,null,null,null,null,null,7,null,null,null,null,null,6.6340387964931802E-2]
[null,null,null,null,null,null,null,null,7,null,null,null,null,null,0.3496188035486168]
[null,null,null,null,null,null,null,null,7,null,null,null,null,null,0.63476506596116988]
[null,null,null,null,null,null,null,null,7,null,null,null,null,null,0.88610015117181973]
[null,null,null,null,null,null,null,null,7,null,null,null,null,null,0.41603180814793239]
[null,null,null,null,null,null,null,null,7,null,null,null,null,null,-0.39749347176865479]
[null,null,null,null,null,null,null,null,7,null,null,null,null,null,0.63026291601659734]
[null,null,null,null,null,null,null,null,7,null,null,null,null,null,-0.29526223258099427]
[null,null,null,null,null,null,null,null,8,null,null,null,null,null,{"$f":"CORREL($B$9:$G$9,B2:G2)","v":0.14429222436234709}]
[null,null,null,null,null,null,null,null,8,null,null,null,null,null,{"$f":"CORREL($B$9:$G$9,B3:G3)","v":-0.42273525099489118}]
[null,null,null,null,null,null,null,null,8,null,null,null,null,null,-0.22486221407556578]
[null,null,null,null,null,null,null,null,8,null,null,null,null,null,0.37033186578640409]
[null,null,null,null,null,null,null,null,8,null,null,null,null,null,0.23547932717628961]
[null,null,null,null,null,null,null,null,8,null,null,null,null,null,-0.57018367722309282]
[null,null,null,null,null,null,null,null,8,null,null,null,null,null,-9.4512214805672026E-2]
[null,null,null,null,null,null,null,null,8]
[null,null,null,null,null,null,null,null,8,null,null,null,null,null,5.9440470322526376E-2]
[null,null,null,null,null,null,null,null,8,null,null,null,null,null,0.87665902396569961]
[null,null,null,null,null,null,null,null,8,null,null,null,null,null,-0.37315155320392818]
[null,null,null,null,null,null,null,null,8,null,null,null,null,null,7.0573387413305766E-2]
[null,null,null,null,null,null,null,null,8,null,null,null,null,null,-0.85673199313143655]
[null,null,null,null,null,null,null,null,8,null,null,null,null,null,-0.47882257723708765]
[null,null,null,null,null,null,null,null,8,null,null,null,null,null,9.1242906966495341E-2]
[null,null,null,null,null,null,null,null,8,null,null,null,null,null,0.6139873130213237]
[null,null,null,null,null,null,null,null,9,null,null,null,null,null,{"$f":"CORREL($B$10:$G$10,B2:G2)","v":0.32771258329833935}]
[null,null,null,null,null,null,null,null,9,null,null,null,null,null,{"$f":"CORREL($B$10:$G$10,B3:G3)","v":-0.47708184772670292}]
[null,null,null,null,null,null,null,null,9,null,null,null,null,null,-0.29750025328669366]
[null,null,null,null,null,null,null,null,9,null,null,null,null,null,0.12244476278911041]
[null,null,null,null,null,null,null,null,9,null,null,null,null,null,0.75775933232216952]
[null,null,null,null,null,null,null,null,9,null,null,null,null,null,-0.41967258575100158]
[null,null,null,null,null,null,null,null,9,null,null,null,null,null,6.6340387964931802E-2]
[null,null,null,null,null,null,null,null,9,null,null,null,null,null,5.9440470322526376E-2]
[null,null,null,null,null,null,null,null,9]
[null,null,null,null,null,null,null,null,9,null,null,null,null,null,-6.9859636624845E-3]
[null,null,null,null,null,null,null,null,9,null,null,null,null,null,0.68884620687870279]
[null,null,null,null,null,null,null,null,9,null,null,null,null,null,-0.11104902942569521]
[null,null,null,null,null,null,null,null,9,null,null,null,null,null,0.22953425175865413]
[null,null,null,null,null,null,null,null,9,null,null,null,null,null,-3.9190868622501866E-2]
[null,null,null,null,null,null,null,null,9,null,null,null,null,null,0.22052377068229012]
[null,null,null,null,null,null,null,null,9,null,null,null,null,null,-0.18214213362697287]
[null,null,null,null,null,null,null,null,10,null,null,null,null,null,{"$f":"CORREL($B$11:$G$11,B2:G2)","v":-0.29634335507182585}]
[null,null,null,null,null,null,null,null,{"$f":"I151+1","v":10},null,null,null,null,null,{"$f":"CORREL($B$11:$G$11,B3:G3)","v":-0.24202782516162863}]
[null,null,null,null,null,null,null,null,10,null,null,null,null,null,-0.31344804043326996]
[null,null,null,null,null,null,null,null,10,null,null,null,null,null,0.32464628878440371]
[null,null,null,null,null,null,null,null,10,null,null,null,null,null,0.23450849142105323]
[null,null,null,null,null,null,null,null,10,null,null,null,null,null,-0.43488625273928361]
[null,null,null,null,null,null,null,null,10,null,null,null,null,null,0.3496188035486168]
[null,null,null,null,null,null,null,null,10,null,null,null,null,null,0.87665902396569961]
[null,null,null,null,null,null,null,null,10,null,null,null,null,null,-6.9859636624845E-3]
[null,null,null,null,null,null,null,null,10]
[null,null,null,null,null,null,null,null,10,null,null,null,null,null,-9.3782690661583332E-2]
[null,null,null,null,null,null,null,null,10,null,null,null,null,null,0.53901975011076653]
[null,null,null,null,null,null,null,null,10,null,null,null,null,null,-0.59708476970009505]
[null,null,null,null,null,null,null,null,10,null,null,null,null,null,-0.72201758102684477]
[null,null,null,null,null,null,null,null,10,null,null,null,null,null,0.4028965348263725]
[null,null,null,null,null,null,null,null,10,null,null,null,null,null,0.57639397712804974]
[null,null,null,null,null,null,null,null,11,null,null,null,null,null,{"$f":"CORREL($B$12:$G$12,B2:G2)","v":-0.28869106533172184}]
[null,null,null,null,null,null,null,null,11,null,null,null,null,null,{"$f":"CORREL($B$12:$G$12,B3:G3)","v":-0.14965886053256708}]
[null,null,null,null,null,null,null,null,11,null,null,null,null,null,-0.40482521400584009]
[null,null,null,null,null,null,null,null,11,null,null,null,null,null,-2.0701596180019956E-2]
[null,null,null,null,null,null,null,null,11,null,null,null,null,null,0.46776421722851014]
[null,null,null,null,null,null,null,null,11,null,null,null,null,null,5.4277840711363962E-2]
[null,null,null,null,null,null,null,null,11,null,null,null,null,null,0.63476506596116988]
[null,null,null,null,null,null,null,null,11,null,null,null,null,null,-0.37315155320392818]
[null,null,null,null,null,null,null,null,11,null,null,null,null,null,0.68884620687870279]
[null,null,null,null,null,null,null,null,11,null,null,null,null,null,-9.3782690661583332E-2]
[null,null,null,null,null,null,null,null,11]
[null,null,null,null,null,null,null,null,11,null,null,null,null,null,0.47402492368024896]
[null,null,null,null,null,null,null,null,11,null,null,null,null,null,0.75648566640328185]
[null,null,null,null,null,null,null,null,11,null,null,null,null,null,-0.11110559198095253]
[null,null,null,null,null,null,null,null,11,null,null,null,null,null,0.43342789975569923]
[null,null,null,null,null,null,null,null,11,null,null,null,null,null,-0.43011702601605156]
[null,null,null,null,null,null,null,null,12,null,null,null,null,null,{"$f":"CORREL($B$13:$G$13,B2:G2)","v":-0.8282075981610264}]
[null,null,null,null,null,null,null,null,12,null,null,null,null,null,{"$f":"CORREL($B$13:$G$13,B3:G3)","v":0.15876975444438671}]
[null,null,null,null,null,null,null,null,12,null,null,null,null,null,-0.33830603937094961]
[null,null,null,null,null,null,null,null,12,null,null,null,null,null,1.904366089859506E-2]
[null,null,null,null,null,null,null,null,12,null,null,null,null,null,5.2718858149288221E-2]
[null,null,null,null,null,null,null,null,12,null,null,null,null,null,0.15858904437776503]
[null,null,null,null,null,null,null,null,12,null,null,null,null,null,0.88610015117181973]
[null,null,null,null,null,null,null,null,12,null,null,null,null,null,7.0573387413305766E-2]
[null,null,null,null,null,null,null,null,12,null,null,null,null,null,-0.11104902942569521]
[null,null,null,null,null,null,null,null,12,null,null,null,null,null,0.53901975011076653]
[null,null,null,null,null,null,null,null,12,null,null,null,null,null,0.47402492368024896]
[null,null,null,null,null,null,null,null,12]
[null,null,null,null,null,null,null,null,12,null,null,null,null,null,0.28486200914884141]
[null,null,null,null,null,null,null,null,12,null,null,null,null,null,-0.60516668151928443]
[null,null,null,null,null,null,null,null,12,null,null,null,null,null,0.60265355148203514]
[null,null,null,null,null,null,null,null,12,null,null,null,null,null,8.9424810380121303E-2]
[null,null,null,null,null,null,null,null,13,null,null,null,null,null,{"$f":"CORREL($B$14:$G$14,B2:G2)","v":-0.25549643729120802}]
[null,null,null,null,null,null,null,null,13,null,null,null,null,null,{"$f":"CORREL($B$14:$G$14,B3:G3)","v":0.15399381365323714}]
[null,null,null,null,null,null,null,null,13,null,null,null,null,null,-0.15473781836548575]
[null,null,null,null,null,null,null,null,13,null,null,null,null,null,-0.33108129048492141]
[null,null,null,null,null,null,null,null,13,null,null,null,null,null,1.8220791465873489E-2]
[null,null,null,null,null,null,null,null,13,null,null,null,null,null,0.57491679332789769]
[null,null,null,null,null,null,null,null,13,null,null,null,null,null,0.41603180814793239]
[null,null,null,null,null,null,null,null,13,null,null,null,null,null,-0.85673199313143655]
[null,null,null,null,null,null,null,null,13,null,null,null,null,null,0.22953425175865413]
[null,null,null,null,null,null,null,null,13,null,null,null,null,null,-0.59708476970009505]
[null,null,null,null,null,null,null,null,13,null,null,null,null,null,0.75648566640328185]
[null,null,null,null,null,null,null,null,13,null,null,null,null,null,0.28486200914884141]
[null,null,null,null,null,null,null,null,13]
[null,null,null,null,null,null,null,null,13,null,null,null,null,null,0.28772496942996117]
[null,null,null,null,null,null,null,null,13,null,null,null,null,null,7.3333914154687929E-2]
[null,null,null,null,null,null,null,null,13,null,null,null,null,null,-0.61727244571851769]
[null,null,null,null,null,null,null,null,14,null,null,null,null,null,{"$f":"CORREL($B$15:$G$15,B2:G2)","v":0.51436783868371228}]
[null,null,null,null,null,null,null,null,{"$f":"I215+1","v":14},null,null,null,null,null,{"$f":"CORREL($B$15:$G$15,B3:G3)","v":-0.37618012893422809}]
[null,null,null,null,null,null,null,null,14,null,null,null,null,null,-0.25036545413852801]
[null,null,null,null,null,null,null,null,14,null,null,null,null,null,0.10725085629033385]
[null,null,null,null,null,null,null,null,14,null,null,null,null,null,-0.53682436267562406]
[null,null,null,null,null,null,null,null,14,null,null,null,null,null,0.40768961475301468]
[null,null,null,null,null,null,null,null,14,null,null,null,null,null,-0.39749347176865479]
[null,null,null,null,null,null,null,null,14,null,null,null,null,null,-0.47882257723708765]
[null,null,null,null,null,null,null,null,14,null,null,null,null,null,-3.9190868622501866E-2]
[null,null,null,null,null,null,null,null,14,null,null,null,null,null,-0.72201758102684477]
[null,null,null,null,null,null,null,null,14,null,null,null,null,null,-0.11110559198095253]
[null,null,null,null,null,null,null,null,14,null,null,null,null,null,-0.60516668151928443]
[null,null,null,null,null,null,null,null,14,null,null,null,null,null,0.28772496942996117]
[null,null,null,null,null,null,null,null,14]
[null,null,null,null,null,null,null,null,14,null,null,null,null,null,-0.83826443990808186]
[null,null,null,null,null,null,null,null,14,null,null,null,null,null,-0.7177044171351783]
[null,null,null,null,null,null,null,null,15,null,null,null,null,null,{"$f":"CORREL($B$16:$G$16,B2:G2)","v":-0.6990516453973068}]
[null,null,null,null,null,null,null,null,15,null,null,null,null,null,{"$f":"CORREL($B$16:$G$16,B3:G3)","v":0.49141986487865336}]
[null,null,null,null,null,null,null,null,15,null,null,null,null,null,0.25146290076614919]
[null,null,null,null,null,null,null,null,15,null,null,null,null,null,6.6544214104634403E-2]
[null,null,null,null,null,null,null,null,15,null,null,null,null,null,0.48432919009300934]
[null,null,null,null,null,null,null,null,15,null,null,null,null,null,-0.47901468399192859]
[null,null,null,null,null,null,null,null,15,null,null,null,null,null,0.63026291601659734]
[null,null,null,null,null,null,null,null,15,null,null,null,null,null,9.1242906966495341E-2]
[null,null,null,null,null,null,null,null,15,null,null,null,null,null,0.22052377068229012]
[null,null,null,null,null,null,null,null,15,null,null,null,null,null,0.4028965348263725]
[null,null,null,null,null,null,null,null,15,null,null,null,null,null,0.43342789975569923]
[null,null,null,null,null,null,null,null,15,null,null,null,null,null,0.60265355148203514]
[null,null,null,null,null,null,null,null,15,null,null,null,null,null,7.3333914154687929E-2]
[null,null,null,null,null,null,null,null,15,null,null,null,null,null,-0.83826443990808186]
[null,null,null,null,null,null,null,null,15]
[null,null,null,null,null,null,null,null,15,null,null,null,null,null,0.27642918065609989]
[null,null,null,null,null,null,null,null,16,null,null,null,null,null,{"$f":"CORREL($B$17:$G$17,B2:G2)","v":7.4422400318887139E-2}]
[null,null,null,null,null,null,null,null,16,null,null,null,null,null,{"$f":"CORREL($B$17:$G$17,B3:G3)","v":0.26674156102620239}]
[null,null,null,null,null,null,null,null,16,null,null,null,null,null,0.45747402800089798]
[null,null,null,null,null,null,null,null,16,null,null,null,null,null,-0.41524872036946242]
[null,null,null,null,null,null,null,null,16,null,null,null,null,null,0.44712660533395304]
[null,null,null,null,null,null,null,null,16,null,null,null,null,null,-0.20464539817023772]
[null,null,null,null,null,null,null,null,16,null,null,null,null,null,-0.29526223258099427]
[null,null,null,null,null,null,null,null,16,null,null,null,null,null,0.6139873130213237]
[null,null,null,null,null,null,null,null,16,null,null,null,null,null,-0.18214213362697287]
[null,null,null,null,null,null,null,null,16,null,null,null,null,null,0.57639397712804974]
[null,null,null,null,null,null,null,null,16,null,null,null,null,null,-0.43011702601605156]
[null,null,null,null,null,null,null,null,16,null,null,null,null,null,8.9424810380121303E-2]
[null,null,null,null,null,null,null,null,16,null,null,null,null,null,-0.61727244571851769]
[null,null,null,null,null,null,null,null,16,null,null,null,null,null,-0.7177044171351783]
[null,null,null,null,null,null,null,null,16,null,null,null,null,null,0.27642918065609989]
[null,null,null,null,null,null,null,null,16]
[null,null,null,null,null,null,null,null,"max",null,null,null,null,null,{"$f":"MAX(O22:O277)","v":0.88610015117181973}]
[null,null,null,null,null,null,null,null,"min",null,null,null,null,null,{"$f":"MIN(O22:O277)","v":-0.86807152182980207}]
[null,null,null,null,null,null,null,null,"avg",null,null,null,null,null,{"$f":"AVERAGE(O22:O277)","v":-1.1458508191415039E-2}]
[null,null,null,null,null,null,null,null,"stddev",null,null,null,null,null,{"$f":"STDEV(O22:O277)","v":0.41912729088413614}]
[null,null,null,null,null,null,null,null,"median",null,null,null,null,null,{"$f":"MEDIAN(O22:O277)","v":1.5692362203526357E-2}]
[null,null,null,null,null,null,null,null,"kvart_1",null,null,null,null,null,{"$f":"QUARTILE(O22:O277,1)","v":-0.34701741782919426}]
[null,null,null,null,null,null,null,null,"kvart_3",null,null,null,null,null,{"$f":"QUARTILE(O22:O277,3)","v":0.28557774921912138}]

{"sheet":"basics12","index":4,"n_rows":284,"n_cols":42,"rows_kept":284,"cut":false,"hidden":false,"merged":[]}
[{"$f":"RANDBETWEEN(10,99)","v":45},"A1","A2","A3","A4","A5","A6=Y",null,"rank",{"$f":"B1","v":"A1"},"A2","A3","A4","A5",{"$f":"G1&\"'\"","v":"A6=Y'"},"validity0","direkt","inverz","átlag","double","between1","validity1","invalid_between","valid_extrem","between2","validity2",null,{"$f":"models1!B7","v":"X(A1)"},{"$f":"models1!C7","v":"X(A2)"},{"$f":"models1!D7","v":"X(A3)"},{"$f":"models1!E7","v":"X(A4)"},{"$f":"models1!F7","v":"X(A5)"},{"$f":"AB1","v":"X(A1)"},{"$f":"AC1","v":"X(A2)"},"X(A3)","X(A4)","X(A5)",{"$f":"O1","v":"A6=Y'"},null,"direct_stddev","inverse_stddev","delta"]
["O1",76,50,44,98,32,85,null,{"$f":"A2","v":"O1"},{"$f":"RANK(B2,B$2:B$17,B$19)","v":3},{"$f":"RANK(C2,C$2:C$17,C$19)","v":9},11,15,2,{"$f":"G2*1000","v":85000},{"$f":"IF(models1!J1162*models1!Y1162<=0,\"valid\",\"invalid\")","v":"invalid"},{"$f":"models1!G1162","v":69367.8},{"$f":"models1!V1162","v":80218.8},{"$f":"AVERAGE(Q2:R2)","v":74793.3},{"$f":"models1!AO1162","v":85481.600000000006},{"$f":"IF(MAX(Q2:R2)<T2,0,IF(MIN(Q2:R2)>T2,0,1))","v":0},{"$f":"IF(P2=\"valid\",1,)","v":0},{"$f":"IF(V2=1,IF(U2=0,1,0),0)","v":0},{"$f":"IF(V2=0,IF(U2=1,1,0),0)","v":0},{"$f":"STDEV(S2:T2)","v":7557.7694093561777},{"$f":"STDEV(models1!J1162,models1!Y1162)","v":9.0226825279403489},null,{"$f":"J2","v":3},{"$f":"K2","v":9},11,15,2,{"$f":"RANK(AB2,AB$2:AB$17,0)","v":14},{"$f":"RANK(AC2,AC$2:AC$17,0)","v":7},6,1,15,85000,null,{"$f":"STDEV(AB2:AF2)","v":5.4772255750516612},{"$f":"STDEV(AG2:AK2)","v":5.8566201857385289},{"$f":"ABS(AO2-AN2)","v":0.37939461068686775}]
["O2",20,24,52,33,64,17,null,{"$f":"A3","v":"O2"},{"$f":"RANK(B3,B$2:B$17,B$19)","v":13},4,8,6,8,{"$f":"G3*1000","v":17000},{"$f":"IF(models1!J1163*models1!Y1163<=0,\"valid\",\"invalid\")","v":"invalid"},{"$f":"models1!G1163","v":33153.699999999997},{"$f":"models1!V1163","v":31379.7},{"$f":"AVERAGE(Q3:R3)","v":32266.699999999997},{"$f":"models1!AO1163","v":33187},0,0,{"$f":"IF(V3=1,IF(U3=0,1,0),0)","v":0},{"$f":"IF(V3=0,IF(U3=1,1,0),0)","v":0},{"$f":"STDEV(S3:T3)","v":650.75037072598172},{"$f":"STDEV(models1!J1163,models1!Y1163)","v":7.3751237277756854},null,{"$f":"J3","v":13},4,8,6,8,{"$f":"RANK(AB3,AB$2:AB$17,0)","v":2},13,8,10,8,17000,null,{"$f":"STDEV(AB3:AF3)","v":3.3466401061363027},{"$f":"STDEV(AG3:AK3)","v":4.0249223594996222},{"$f":"ABS(AO3-AN3)","v":0.67828225336331949}]
["O3",22,65,57,66,58,48,null,"O3",12,10,5,11,7,48000,{"$f":"IF(models1!J1164*models1!Y1164<=0,\"valid\",\"invalid\")","v":"invalid"},{"$f":"models1!G1164","v":45905.2},{"$f":"models1!V1164","v":43648.4},44776.800000000003,{"$f":"models1!AO1164","v":47266.3},0,0,0,0,1760.3423317639101,{"$f":"STDEV(models1!J1164,models1!Y1164)","v":3.330472939388641},null,12,10,5,11,7,5,6,12,5,10,48000,null,2.9154759474226504,3.2093613071762421,0.29388535975359176]
["O4",53,33,51,20,57,64,null,"O4",7,5,10,4,6,64000,{"$f":"IF(models1!J1165*models1!Y1165<=0,\"valid\",\"invalid\")","v":"valid"},{"$f":"models1!G1165","v":65287.4},{"$f":"models1!V1165","v":42468.800000000003},53878.100000000006,{"$f":"models1!AO1165","v":64362.6},1,1,0,0,7413.6610473503524,{"$f":"STDEV(models1!J1165,models1!Y1165)","v":25.208356749300417},null,7,5,10,4,6,10,11,7,12,11,64000,null,2.302172886644267,1.9235384061671315,0.37863448047713555]
["O5",65,47,21,37,44,60,null,"O5",5,7,15,7,4,60000,{"$f":"IF(models1!J1166*models1!Y1166<=0,\"valid\",\"invalid\")","v":"invalid"},{"$f":"models1!G1166","v":55086.2},{"$f":"models1!V1166","v":44356.3},49721.25,{"$f":"models1!AO1166","v":60339.9},0,0,0,0,7508.5194220465337,{"$f":"STDEV(models1!J1166,models1!Y1166)","v":12.643069247615472},null,5,7,15,7,4,12,9,2,9,13,60000,null,4.3358966777357599,4.3011626335213133,3.4734044214446591E-2]
["O6",94,21,52,58,28,51,null,"O6",1,3,8,10,1,51000,{"$f":"IF(models1!J1167*models1!Y1167<=0,\"valid\",\"invalid\")","v":"valid"},{"$f":"models1!G1167","v":69367.8},{"$f":"models1!V1167","v":27368.799999999999},48368.3,{"$f":"models1!AO1167","v":51289},1,1,0,0,2065.2467758115472,{"$f":"STDEV(models1!J1167,models1!Y1167)","v":58.237314498524057},null,1,3,8,10,1,16,14,8,6,16,51000,null,4.1593268686170841,4.6904157598234297,0.53108889120634561]
["O7",33,74,15,11,97,34,null,"O7",10,14,16,2,14,34000,{"$f":"IF(models1!J1168*models1!Y1168<=0,\"valid\",\"invalid\")","v":"valid"},{"$f":"models1!G1168","v":30603.4},{"$f":"models1!V1168","v":58984.4},44793.9,{"$f":"models1!AO1168","v":34192.6},1,1,0,0,7496.251119392964,{"$f":"STDEV(models1!J1168,models1!Y1168)","v":59.022203025641126},null,10,14,16,2,14,7,3,1,14,3,34000,null,5.5856960175075754,5.1768716422179137,0.40882437528966165]
["O8",85,49,54,91,95,16,null,"O8",2,8,7,13,13,16000,{"$f":"IF(models1!J1169*models1!Y1169<=0,\"valid\",\"invalid\")","v":"invalid"},{"$f":"models1!G1169","v":21422.400000000001},{"$f":"models1!V1169","v":35154.699999999997},28288.55,{"$f":"models1!AO1169","v":16090.7},0,0,0,0,8625.1824508963273,{"$f":"STDEV(models1!J1169,models1!Y1169)","v":60.690975029241358},null,2,8,7,13,13,15,8,10,3,4,16000,null,4.6151923036857303,4.8476798574163293,0.23248755373059904]
["O9",52,15,60,13,78,44,null,"O9",8,2,4,3,10,44000,{"$f":"IF(models1!J1170*models1!Y1170<=0,\"valid\",\"invalid\")","v":"valid"},{"$f":"models1!G1170","v":48455.5},{"$f":"models1!V1170","v":28784.400000000001},38619.949999999997,{"$f":"models1!AO1170","v":53300.3},0,1,1,0,10380.57503519192,{"$f":"STDEV(models1!J1170,models1!Y1170)","v":31.61474418685054},null,8,2,4,3,10,9,15,13,13,7,44000,null,3.4351128074635331,3.2863353450309982,0.14877746243253487]
["O10",15,84,28,55,47,26,null,"O10",16,16,14,9,5,26000,{"$f":"IF(models1!J1171*models1!Y1171<=0,\"valid\",\"invalid\")","v":"invalid"},{"$f":"models1!G1171","v":30093.4},{"$f":"models1!V1171","v":65118.8},47606.100000000006,{"$f":"models1!AO1171","v":35198.300000000003},1,0,0,1,8773.6395196064223,{"$f":"STDEV(models1!J1171,models1!Y1171)","v":95.261425561451674},null,16,16,14,9,5,1,1,3,7,12,26000,null,4.8476798574163293,4.7116875957558984,0.13599226166043099]
["O11",20,80,96,90,98,21,null,"O11",13,15,1,12,15,21000,{"$f":"IF(models1!J1172*models1!Y1172<=0,\"valid\",\"invalid\")","v":"invalid"},{"$f":"models1!G1172","v":21422.400000000001},{"$f":"models1!V1172","v":46715.6},34069,{"$f":"models1!AO1172","v":24136},1,0,0,1,7023.6916575259766,{"$f":"STDEV(models1!J1172,models1!Y1172)","v":85.171011793919646},null,13,15,1,12,15,2,2,16,4,1,21000,null,5.8480766068853773,6.2449979983983983,0.39692139151302097]
["O12",44,13,41,92,89,15,null,"O12",9,1,12,14,12,15000,{"$f":"IF(models1!J1173*models1!Y1173<=0,\"valid\",\"invalid\")","v":"invalid"},{"$f":"models1!G1173","v":15301.7},{"$f":"models1!V1173","v":51198.400000000001},33250.050000000003,{"$f":"models1!AO1173","v":15085},0,0,0,0,12844.630035592705,{"$f":"STDEV(models1!J1173,models1!Y1173)","v":169.21772380575268},null,9,1,12,14,12,8,16,5,2,5,15000,null,5.1283525619832337,5.3572380943915494,0.22888553240831566]
["O13",20,68,64,23,33,34,null,"O13",13,11,3,5,3,34000,{"$f":"IF(models1!J1174*models1!Y1174<=0,\"valid\",\"invalid\")","v":"valid"},{"$f":"models1!G1174","v":34683.9},{"$f":"models1!V1174","v":28312.5},31498.2,{"$f":"models1!AO1174","v":34192.6},1,1,0,0,1905.2285112290322,{"$f":"STDEV(models1!J1174,models1!Y1174)","v":13.2511810794359},null,13,11,3,5,3,2,5,14,11,14,34000,null,4.6904157598234297,5.4497706373754848,0.75935487755205511]
["O14",69,73,56,10,98,26,null,"O14",4,13,6,1,15,26000,{"$f":"IF(models1!J1175*models1!Y1175<=0,\"valid\",\"invalid\")","v":"valid"},{"$f":"models1!G1175","v":40804.6},{"$f":"models1!V1175","v":24537.5},32671.05,{"$f":"models1!AO1175","v":30170},{"$f":"IF(MAX(Q15:R15)<T15,0,IF(MIN(Q15:R15)>T15,0,1))","v":1},1,0,0,1768.5094150866144,{"$f":"STDEV(models1!J1175,models1!Y1175)","v":44.24367129884228},null,4,13,6,1,15,13,4,11,15,1,26000,null,5.9749476985158623,6.0166435825965294,4.1695884080667156E-2]
["O15",55,39,93,42,83,78,null,"O15",6,6,2,8,11,78000,{"$f":"IF(models1!J1176*models1!Y1176<=0,\"valid\",\"invalid\")","v":"invalid"},{"$f":"models1!G1176","v":60696.800000000003},{"$f":"models1!V1176","v":49075},54885.9,{"$f":"models1!AO1176","v":60339.9},{"$f":"IF(MAX(Q16:R16)<T16,0,IF(MIN(Q16:R16)>T16,0,1))","v":1},0,0,1,3856.5603845914302,{"$f":"STDEV(models1!J1176,models1!Y1176)","v":10.535891039679564},null,6,6,2,8,11,11,10,15,8,6,78000,null,3.2863353450309964,3.3911649915626341,0.10482964653163762]
["O16",28,69,40,99,66,91,null,"O16",{"$f":"RANK(B17,B$2:B$17,0)","v":11},5,13,1,8,91000,{"$f":"IF(models1!J1177*models1!Y1177<=0,\"valid\",\"invalid\")","v":"invalid"},{"$f":"models1!G1177","v":68347.7},{"$f":"models1!V1177","v":55209.4},61778.55,{"$f":"models1!AO1177","v":65368.3},{"$f":"IF(MAX(Q17:R17)<T17,0,IF(MIN(Q17:R17)>T17,0,1))","v":1},0,0,1,2538.3365677644088,{"$f":"STDEV(models1!J1177,models1!Y1177)","v":10.210621920333752},null,11,5,13,1,8,6,11,4,15,8,91000,null,4.7749345545253288,4.3243496620879309,0.45058489243739785]
["correlation",{"$f":"CORREL(B2:B16,$G$2:$G$16)","v":0.37773366743512199},{"$f":"CORREL(C2:C16,$G$2:$G$16)","v":-0.16645879094223934},6.2524980751863218E-2,-5.5133748771730627E-2,-0.48366213961263615,0.99999999999999989,null,"O16(2)",{"$f":"MAX(J2:J16)","v":16},{"$f":"INT(QUARTILE(K2:K16,3))","v":12},{"$f":"MEDIAN(L2:L16)","v":8},{"$f":"INT(QUARTILE(M2:M16,1))","v":4},{"$f":"MIN(N2:N16)","v":1},{"$f":"O17","v":91000},"ratio","correlation","correlation",null,"correlation",null,null,null,null,null,null,null,"direct","direct","direct","direct","direct","inverse","inverse","inverse","inverse","inverse","double","max",{"$f":"MAX(AN2:AN17)","v":5.9749476985158623},{"$f":"MAX(AO2:AO17)","v":6.2449979983983983},{"$f":"MAX(AP2:AP17)","v":0.75935487755205511}]
["direction",{"$f":"IF(B18>0,0,1)","v":0},{"$f":"IF(C18>0,0,1)","v":1},0,1,1,"Y",null,null,null,null,null,null,null,null,{"$f":"COUNTIF($P$2:$P$17,\"valid\")/16","v":0.375},{"$f":"CORREL(Q2:Q17,$O$2:$O$17)","v":0.9047961816517196},{"$f":"CORREL(R2:R17,$O$2:$O$17)","v":0.40114729987427278},null,{"$f":"CORREL(T2:T17,$O$2:$O$17)","v":0.93336874037784412},{"$f":"SUM(U2:U17)","v":9},null,{"$f":"SUM(W2:W17)","v":1},{"$f":"SUM(X2:X17)","v":4},{"$f":"SUM(Y2:Y17)","v":92168.894053932308},null,null,null,null,null,null,null,null,null,null,null,null,null,"min",{"$f":"MIN(AN2:AN17)","v":2.302172886644267},{"$f":"MIN(AO2:AO17)","v":1.9235384061671315},{"$f":"MIN(AP2:AP17)","v":3.4734044214446591E-2}]
[null,null,null,null,null,null,null,null,null,null,null,null,null,null,null,null,null,null,null,null,null,null,null,null,null,null,null,null,null,null,null,null,null,null,null,null,null,null,"avg",{"$f":"AVERAGE(AN2:AN17)","v":4.4202175984028207},{"$f":"AVERAGE(AO2:AO17)","v":4.550797503672495},{"$f":"AVERAGE(AP2:AP17)","v":0.32527334483362674}]
["antagonism!",null,null,null,null,null,null,null,"O*",null,null,null,null,null,"correlation",null,null,null,null,null,null,null,null,null,null,null,null,null,null,null,null,null,null,null,null,null,null,null,"stddev",{"$f":"STDEV(AN2:AN17)","v":1.0980838499956778},{"$f":"STDEV(AO2:AO17)","v":1.1759782676305708},{"$f":"STDEV(AP2:AP17)","v":0.21420919038552788}]
[null,null,null,null,null,null,null,null,1,null,null,null,null,null,null,null,null,null,null,null,null,null,null,null,null,null,null,null,null,null,null,null,null,null,null,null,null,null,"median",{"$f":"MEDIAN(AN2:AN17)","v":4.65280403175458},{"$f":"MEDIAN(AO2:AO17)","v":4.701051677789664},0.33625992011536365]
["Consistency-tasks ",null,null,null,null,null,null,null,1,null,null,null,null,null,{"$f":"CORREL($B$2:$G$2,B3:G3)","v":-0.70665509356961964}]
["Y=between1",null,null,null,null,null,null,null,1,null,null,null,null,null,-0.2086454860979837]
["Y=between2",null,null,null,null,null,null,null,1,null,null,null,null,null,-0.3234377649187975]
["Y=validity1",null,null,null,null,null,null,null,1,null,null,null,null,null,0.37132039148868901]
["Y=validity2",null,null,null,null,null,null,null,1,null,null,null,null,null,0.5652840728552585]
["Y=validity-ratio",null,null,null,null,null,null,null,1,null,null,null,null,null,-0.67600352214776394]
["Xi=model-characteristics",null,null,null,null,null,null,null,1,null,null,null,null,null,-0.1053244061582235]
[null,null,null,null,null,null,null,null,1,null,null,null,null,null,-0.59047077850209095]
[null,null,null,null,null,null,null,null,1,null,null,null,null,null,-0.2114098345555448]
[null,null,null,null,null,null,null,null,1,null,null,null,null,null,-0.52257303986920489]
[null,null,null,null,null,null,null,null,1,null,null,null,null,null,1.6047064463921467E-2]
[null,null,null,null,null,null,null,null,1,null,null,null,null,null,-0.5946769960287287]
[null,null,null,null,null,null,null,null,1,null,null,null,null,null,-0.86284527540249689]
[null,null,null,null,null,null,null,null,1,null,null,null,null,null,-0.47559417667487724]
[null,null,null,null,null,null,null,null,1,null,null,null,null,null,0.46463563703969485]
[null,null,null,null,null,null,null,null,{"$f":"I22+1","v":2},null,null,null,null,null,{"$f":"CORREL($B$3:$G$3,B2:G2)","v":-0.70665509356961964}]
[null,null,null,null,null,null,null,null,{"$f":"I23+1","v":2}]
[null,null,null,null,null,null,null,null,2,null,null,null,null,null,{"$f":"CORREL($B$3:$G$3,B4:G4)","v":0.39243454441146147}]
[null,null,null,null,null,null,null,null,2,null,null,null,null,null,0.10840008634401639]
[null,null,null,null,null,null,null,null,2,null,null,null,null,null,-0.66995518073988836]
[null,null,null,null,null,null,null,null,2,null,null,null,null,null,-0.39959152607084869]
[null,null,null,null,null,null,null,null,2,null,null,null,null,null,0.34600744841044795]
[null,null,null,null,null,null,null,null,2,null,null,null,null,null,0.47430138238806291]
[null,null,null,null,null,null,null,null,2,null,null,null,null,null,0.6247110669572723]
[null,null,null,null,null,null,null,null,2,null,null,null,null,null,4.7076903455036741E-2]
[null,null,null,null,null,null,null,null,2,null,null,null,null,null,0.77981974714547808]
[null,null,null,null,null,null,null,null,2,null,null,null,null,null,0.61480109978921293]
[null,null,null,null,null,null,null,null,2,null,null,null,null,null,0.17280331595003015]
[null,null,null,null,null,null,null,null,2,null,null,null,null,null,0.47767841791366822]
[null,null,null,null,null,null,null,null,2,null,null,null,null,null,0.5773267182054681]
[null,null,null,null,null,null,null,null,2,null,null,null,null,null,-0.15992391409105708]
[null,null,null,null,null,null,null,null,3,null,null,null,null,null,{"$f":"CORREL($B$4:$G$4,B2:G2)","v":-0.2086454860979837}]
[null,null,null,null,null,null,null,null,3,null,null,null,null,null,{"$f":"CORREL($B$4:$G$4,B3:G3)","v":0.39243454441146147}]
[null,null,null,null,null,null,null,null,3]
[null,null,null,null,null,null,null,null,3,null,null,null,null,null,-0.53677498790073497]
[null,null,null,null,null,null,null,null,3,null,null,null,null,null,-0.67135589737629597]
[null,null,null,null,null,null,null,null,3,null,null,null,null,null,-0.81177160286456707]
[null,null,null,null,null,null,null,null,3,null,null,null,null,null,0.16812324360789418]
[null,null,null,null,null,null,null,null,3,null,null,null,null,null,-4.8745124492932598E-2]
[null,null,null,null,null,null,null,null,3,null,null,null,null,null,-0.36545599797339362]
[null,null,null,null,null,null,null,null,3,null,null,null,null,null,0.76100654561031922]
[null,null,null,null,null,null,null,null,3,null,null,null,null,null,0.79852649210793281]
[null,null,null,null,null,null,null,null,3,null,null,null,null,null,0.21889404131321091]
[null,null,null,null,null,null,null,null,3,null,null,null,null,null,0.48905390118860598]
[null,null,null,null,null,null,null,null,3,null,null,null,null,null,-0.16553429749053616]
[null,null,null,null,null,null,null,null,3,null,null,null,null,null,-8.8190415803563571E-2]
[null,null,null,null,null,null,null,null,3,null,null,null,null,null,0.62294170075068556]
[null,null,null,null,null,null,null,null,4,null,null,null,null,null,{"$f":"CORREL($B$5:$G$5,B2:G2)","v":-0.3234377649187975}]
[null,null,null,null,null,null,null,null,4,null,null,null,null,null,{"$f":"CORREL($B$5:$G$5,B3:G3)","v":0.10840008634401639}]
[null,null,null,null,null,null,null,null,4,null,null,null,null,null,-0.53677498790073497]
[null,null,null,null,null,null,null,null,4]
[null,null,null,null,null,null,null,null,4,null,null,null,null,null,0.3497007436950158]
[null,null,null,null,null,null,null,null,4,null,null,null,null,null,0.1228568058652664]
[null,null,null,null,null,null,null,null,4,null,null,null,null,null,0.22961214840478456]
[null,null,null,null,null,null,null,null,4,null,null,null,null,null,-0.36726622879540355]
[null,null,null,null,null,null,null,null,4,null,null,null,null,null,0.80124734962933686]
[null,null,null,null,null,null,null,null,4,null,null,null,null,null,-0.66579579260036958]
[null,null,null,null,null,null,null,null,4,null,null,null,null,null,-0.47179808018954061]
[null,null,null,null,null,null,null,null,4,null,null,null,null,null,-0.31389037956880883]
[null,null,null,null,null,null,null,null,4,null,null,null,null,null,-7.4859536355591227E-2]
[null,null,null,null,null,null,null,null,4,null,null,null,null,null,0.3703134157913599]
[null,null,null,null,null,null,null,null,4,null,null,null,null,null,0.76644278525872644]
[null,null,null,null,null,null,null,null,4,null,null,null,null,null,-0.36792614161273346]
[null,null,null,null,null,null,null,null,5,null,null,null,null,null,{"$f":"CORREL($B$6:$G$6,B2:G2)","v":0.37132039148868901}]
[null,null,null,null,null,null,null,null,5,null,null,null,null,null,{"$f":"CORREL($B$6:$G$6,B3:G3)","v":-0.66995518073988836}]
[null,null,null,null,null,null,null,null,5,null,null,null,null,null,-0.67135589737629597]
[null,null,null,null,null,null,null,null,5,null,null,null,null,null,0.3497007436950158]
[null,null,null,null,null,null,null,null,5]
[null,null,null,null,null,null,null,null,5,null,null,null,null,null,0.36247151586502424]
[null,null,null,null,null,null,null,null,5,null,null,null,null,null,0.21906858052994596]
[null,null,null,null,null,null,null,null,5,null,null,null,null,null,-0.13892466601768108]
[null,null,null,null,null,null,null,null,5,null,null,null,null,null,-3.2711691701343873E-2]
[null,null,null,null,null,null,null,null,5,null,null,null,null,null,-0.23620202195745249]
[null,null,null,null,null,null,null,null,5,null,null,null,null,null,-0.85592199879626274]
[null,null,null,null,null,null,null,null,5,null,null,null,null,null,-0.31721417983323397]
[null,null,null,null,null,null,null,null,5,null,null,null,null,null,-0.52809454858842886]
[null,null,null,null,null,null,null,null,5,null,null,null,null,null,6.7033347386171033E-2]
[null,null,null,null,null,null,null,null,5,null,null,null,null,null,-0.31123243244069421]
[null,null,null,null,null,null,null,null,5,null,null,null,null,null,-7.7046528199233872E-3]
[null,null,null,null,null,null,null,null,6,null,null,null,null,null,{"$f":"CORREL($B$7:$G$7,B2:G2)","v":0.5652840728552585}]
[null,null,null,null,null,null,null,null,{"$f":"I87+1","v":6},null,null,null,null,null,{"$f":"CORREL($B$7:$G$7,B3:G3)","v":-0.39959152607084869}]
[null,null,null,null,null,null,null,null,6,null,null,null,null,null,-0.81177160286456707]
[null,null,null,null,null,null,null,null,6,null,null,null,null,null,0.1228568058652664]
[null,null,null,null,null,null,null,null,6,null,null,null,null,null,0.36247151586502424]
[null,null,null,null,null,null,null,null,6]
[null,null,null,null,null,null,null,null,6,null,null,null,null,null,-0.64588107250830307]
[null,null,null,null,null,null,null,null,6,null,null,null,null,null,0.20642648285730728]
[null,null,null,null,null,null,null,null,6,null,null,null,null,null,6.9750661331525923E-2]
[null,null,null,null,null,null,null,null,6,null,null,null,null,null,-0.76074981584549384]
[null,null,null,null,null,null,null,null,6,null,null,null,null,null,-0.61554571107561895]
[null,null,null,null,null,null,null,null,6,null,null,null,null,null,5.3310823410413925E-2]
[null,null,null,null,null,null,null,null,6,null,null,null,null,null,-0.61305199530554222]
[null,null,null,null,null,null,null,null,6,null,null,null,null,null,-0.29717898201711296]
[null,null,null,null,null,null,null,null,6,null,null,null,null,null,-6.7210937273793403E-2]
[null,null,null,null,null,null,null,null,6,null,null,null,null,null,-0.4251527707779405]
[null,null,null,null,null,null,null,null,7,null,null,null,null,null,{"$f":"CORREL($B$8:$G$8,B2:G2)","v":-0.67600352214776394}]
[null,null,null,null,null,null,null,null,7,null,null,null,null,null,{"$f":"CORREL($B$8:$G$8,B3:G3)","v":0.34600744841044795}]
[null,null,null,null,null,null,null,null,7,null,null,null,null,null,0.16812324360789418]
[null,null,null,null,null,null,null,null,7,null,null,null,null,null,0.22961214840478456]
[null,null,null,null,null,null,null,null,7,null,null,null,null,null,0.21906858052994596]
[null,null,null,null,null,null,null,null,7,null,null,null,null,null,-0.64588107250830307]
[null,null,null,null,null,null,null,null,7]
[null,null,null,null,null,null,null,null,7,null,null,null,null,null,0.15933735334590365]
[null,null,null,null,null,null,null,null,7,null,null,null,null,null,0.3201463504854038]
[null,null,null,null,null,null,null,null,7,null,null,null,null,null,0.45687117753342171]
[null,null,null,null,null,null,null,null,7,null,null,null,null,null,0.22298040847527598]
[null,null,null,null,null,null,null,null,7,null,null,null,null,null,4.1859059051732775E-2]
[null,null,null,null,null,null,null,null,7,null,null,null,null,null,0.17365616404429818]
[null,null,null,null,null,null,null,null,7,null,null,null,null,null,0.79637218062369597]
[null,null,null,null,null,null,null,null,7,null,null,null,null,null,2.59653658893697E-2]
[null,null,null,null,null,null,null,null,7,null,null,null,null,null,-1.6228990214933542E-2]
[null,null,null,null,null,null,null,null,8,null,null,null,null,null,{"$f":"CORREL($B$9:$G$9,B2:G2)","v":-0.1053244061582235}]
[null,null,null,null,null,null,null,null,8,null,null,null,null,null,{"$f":"CORREL($B$9:$G$9,B3:G3)","v":0.47430138238806291}]
[null,null,null,null,null,null,null,null,8,null,null,null,null,null,-4.8745124492932598E-2]
[null,null,null,null,null,null,null,null,8,null,null,null,null,null,-0.36726622879540355]
[null,null,null,null,null,null,null,null,8,null,null,null,null,null,-0.13892466601768108]
[null,null,null,null,null,null,null,null,8,null,null,null,null,null,0.20642648285730728]
[null,null,null,null,null,null,null,null,8,null,null,null,null,null,0.15933735334590365]
[null,null,null,null,null,null,null,null,8]
[null,null,null,null,null,null,null,null,8,null,null,null,null,null,0.16771352736859818]
[null,null,null,null,null,null,null,null,8,null,null,null,null,null,5.541053168613843E-2]
[null,null,null,null,null,null,null,null,8,null,null,null,null,null,0.40645999615535855]
[null,null,null,null,null,null,null,null,8,null,null,null,null,null,0.85227049968828517]
[null,null,null,null,null,null,null,null,8,null,null,null,null,null,-0.46159212021419593]
[null,null,null,null,null,null,null,null,8,null,null,null,null,null,0.30507940769211933]
[null,null,null,null,null,null,null,null,8,null,null,null,null,null,-0.2246296211750996]
[null,null,null,null,null,null,null,null,8,null,null,null,null,null,-0.20802798072746145]
[null,null,null,null,null,null,null,null,9,null,null,null,null,null,{"$f":"CORREL($B$10:$G$10,B2:G2)","v":-0.59047077850209095}]
[null,null,null,null,null,null,null,null,9,null,null,null,null,null,{"$f":"CORREL($B$10:$G$10,B3:G3)","v":0.6247110669572723}]
[null,null,null,null,null,null,null,null,9,null,null,null,null,null,-0.36545599797339362]
[null,null,null,null,null,null,null,null,9,null,null,null,null,null,0.80124734962933686]
[null,null,null,null,null,null,null,null,9,null,null,null,null,null,-3.2711691701343873E-2]
[null,null,null,null,null,null,null,null,9,null,null,null,null,null,6.9750661331525923E-2]
[null,null,null,null,null,null,null,null,9,null,null,null,null,null,0.3201463504854038]
[null,null,null,null,null,null,null,null,9,null,null,null,null,null,0.16771352736859818]
[null,null,null,null,null,null,null,null,9]
[null,null,null,null,null,null,null,null,9,null,null,null,null,null,-0.58939931849092486]
[null,null,null,null,null,null,null,null,9,null,null,null,null,null,1.1207583007074026E-2]
[null,null,null,null,null,null,null,null,9,null,null,null,null,null,0.20380462320792617]
[null,null,null,null,null,null,null,null,9,null,null,null,null,null,-0.11282675909616842]
[null,null,null,null,null,null,null,null,9,null,null,null,null,null,0.59477056978065113]
[null,null,null,null,null,null,null,null,9,null,null,null,null,null,0.84119279229623944]
[null,null,null,null,null,null,null,null,9,null,null,null,null,null,-0.51603316940794652]
[null,null,null,null,null,null,null,null,10,null,null,null,null,null,{"$f":"CORREL($B$11:$G$11,B2:G2)","v":-0.2114098345555448}]
[null,null,null,null,null,null,null,null,{"$f":"I151+1","v":10},null,null,null,null,null,{"$f":"CORREL($B$11:$G$11,B3:G3)","v":4.7076903455036741E-2}]
[null,null,null,null,null,null,null,null,10,null,null,null,null,null,0.76100654561031922]
[null,null,null,null,null,null,null,null,10,null,null,null,null,null,-0.66579579260036958]
[null,null,null,null,null,null,null,null,10,null,null,null,null,null,-0.23620202195745249]
[null,null,null,null,null,null,null,null,10,null,null,null,null,null,-0.76074981584549384]
[null,null,null,null,null,null,null,null,10,null,null,null,null,null,0.45687117753342171]
[null,null,null,null,null,null,null,null,10,null,null,null,null,null,5.541053168613843E-2]
[null,null,null,null,null,null,null,null,10,null,null,null,null,null,-0.58939931849092486]
[null,null,null,null,null,null,null,null,10]
[null,null,null,null,null,null,null,null,10,null,null,null,null,null,0.56138407806207713]
[null,null,null,null,null,null,null,null,10,null,null,null,null,null,8.7655327797176164E-3]
[null,null,null,null,null,null,null,null,10,null,null,null,null,null,0.47117525985349429]
[null,null,null,null,null,null,null,null,10,null,null,null,null,null,0.11275924612040084]
[null,null,null,null,null,null,null,null,10,null,null,null,null,null,-0.57303872892628127]
[null,null,null,null,null,null,null,null,10,null,null,null,null,null,0.44545889798234978]
[null,null,null,null,null,null,null,null,11,null,null,null,null,null,{"$f":"CORREL($B$12:$G$12,B2:G2)","v":-0.52257303986920489}]
[null,null,null,null,null,null,null,null,11,null,null,null,null,null,{"$f":"CORREL($B$12:$G$12,B3:G3)","v":0.77981974714547808}]
[null,null,null,null,null,null,null,null,11,null,null,null,null,null,0.79852649210793281]
[null,null,null,null,null,null,null,null,11,null,null,null,null,null,-0.47179808018954061]
[null,null,null,null,null,null,null,null,11,null,null,null,null,null,-0.85592199879626274]
[null,null,null,null,null,null,null,null,11,null,null,null,null,null,-0.61554571107561895]
[null,null,null,null,null,null,null,null,11,null,null,null,null,null,0.22298040847527598]
[null,null,null,null,null,null,null,null,11,null,null,null,null,null,0.40645999615535855]
[null,null,null,null,null,null,null,null,11,null,null,null,null,null,1.1207583007074026E-2]
[null,null,null,null,null,null,null,null,11,null,null,null,null,null,0.56138407806207713]
[null,null,null,null,null,null,null,null,11]
[null,null,null,null,null,null,null,null,11,null,null,null,null,null,0.52055462386246476]
[null,null,null,null,null,null,null,null,11,null,null,null,null,null,0.43692072160835171]
[null,null,null,null,null,null,null,null,11,null,null,null,null,null,0.20679627120070204]
[null,null,null,null,null,null,null,null,11,null,null,null,null,null,8.9340741121810827E-2]
[null,null,null,null,null,null,null,null,11,null,null,null,null,null,0.13311035554618558]
[null,null,null,null,null,null,null,null,12,null,null,null,null,null,{"$f":"CORREL($B$13:$G$13,B2:G2)","v":1.6047064463921467E-2}]
[null,null,null,null,null,null,null,null,12,null,null,null,null,null,{"$f":"CORREL($B$13:$G$13,B3:G3)","v":0.61480109978921293}]
[null,null,null,null,null,null,null,null,12,null,null,null,null,null,0.21889404131321091]
[null,null,null,null,null,null,null,null,12,null,null,null,null,null,-0.31389037956880883]
[null,null,null,null,null,null,null,null,12,null,null,null,null,null,-0.31721417983323397]
[null,null,null,null,null,null,null,null,12,null,null,null,null,null,5.3310823410413925E-2]
[null,null,null,null,null,null,null,null,12,null,null,null,null,null,4.1859059051732775E-2]
[null,null,null,null,null,null,null,null,12,null,null,null,null,null,0.85227049968828517]
[null,null,null,null,null,null,null,null,12,null,null,null,null,null,0.20380462320792617]
[null,null,null,null,null,null,null,null,12,null,null,null,null,null,8.7655327797176164E-3]
[null,null,null,null,null,null,null,null,12,null,null,null,null,null,0.52055462386246476]
[null,null,null,null,null,null,null,null,12]
[null,null,null,null,null,null,null,null,12,null,null,null,null,null,-0.533467445727558]
[null,null,null,null,null,null,null,null,12,null,null,null,null,null,8.0357595553205655E-3]
[null,null,null,null,null,null,null,null,12,null,null,null,null,null,1.2968168533418253E-2]
[null,null,null,null,null,null,null,null,12,null,null,null,null,null,0.17907268023401129]
[null,null,null,null,null,null,null,null,13,null,null,null,null,null,{"$f":"CORREL($B$14:$G$14,B2:G2)","v":-0.5946769960287287}]
[null,null,null,null,null,null,null,null,13,null,null,null,null,null,{"$f":"CORREL($B$14:$G$14,B3:G3)","v":0.17280331595003015}]
[null,null,null,null,null,null,null,null,13,null,null,null,null,null,0.48905390118860598]
[null,null,null,null,null,null,null,null,13,null,null,null,null,null,-7.4859536355591227E-2]
[null,null,null,null,null,null,null,null,13,null,null,null,null,null,-0.52809454858842886]
[null,null,null,null,null,null,null,null,13,null,null,null,null,null,-0.61305199530554222]
[null,null,null,null,null,null,null,null,13,null,null,null,null,null,0.17365616404429818]
[null,null,null,null,null,null,null,null,13,null,null,null,null,null,-0.46159212021419593]
[null,null,null,null,null,null,null,null,13,null,null,null,null,null,-0.11282675909616842]
[null,null,null,null,null,null,null,null,13,null,null,null,null,null,0.47117525985349429]
[null,null,null,null,null,null,null,null,13,null,null,null,null,null,0.43692072160835171]
[null,null,null,null,null,null,null,null,13,null,null,null,null,null,-0.533467445727558]
[null,null,null,null,null,null,null,null,13]
[null,null,null,null,null,null,null,null,13,null,null,null,null,null,0.26491422992519637]
[null,null,null,null,null,null,null,null,13,null,null,null,null,null,0.14103292564296616]
[null,null,null,null,null,null,null,null,13,null,null,null,null,null,-0.17116552702441651]
[null,null,null,null,null,null,null,null,14,null,null,null,null,null,{"$f":"CORREL($B$15:$G$15,B2:G2)","v":-0.86284527540249689}]
[null,null,null,null,null,null,null,null,{"$f":"I215+1","v":14},null,null,null,null,null,{"$f":"CORREL($B$15:$G$15,B3:G3)","v":0.47767841791366822}]
[null,null,null,null,null,null,null,null,14,null,null,null,null,null,-0.16553429749053616]
[null,null,null,null,null,null,null,null,14,null,null,null,null,null,0.3703134157913599]
[null,null,null,null,null,null,null,null,14,null,null,null,null,null,6.7033347386171033E-2]
[null,null,null,null,null,null,null,null,14,null,null,null,null,null,-0.29717898201711296]
[null,null,null,null,null,null,null,null,14,null,null,null,null,null,0.79637218062369597]
[null,null,null,null,null,null,null,null,14,null,null,null,null,null,0.30507940769211933]
[null,null,null,null,null,null,null,null,14,null,null,null,null,null,0.59477056978065113]
[null,null,null,null,null,null,null,null,14,null,null,null,null,null,0.11275924612040084]
[null,null,null,null,null,null,null,null,14,null,null,null,null,null,0.20679627120070204]
[null,null,null,null,null,null,null,null,14,null,null,null,null,null,8.0357595553205655E-3]
[null,null,null,null,null,null,null,null,14,null,null,null,null,null,0.26491422992519637]
[null,null,null,null,null,null,null,null,14]
[null,null,null,null,null,null,null,null,14,null,null,null,null,null,0.23173375907228833]
[null,null,null,null,null,null,null,null,14,null,null,null,null,null,-0.60496076026051326]
[null,null,null,null,null,null,null,null,15,null,null,null,null,null,{"$f":"CORREL($B$16:$G$16,B2:G2)","v":-0.47559417667487724}]
[null,null,null,null,null,null,null,null,15,null,null,null,null,null,{"$f":"CORREL($B$16:$G$16,B3:G3)","v":0.5773267182054681}]
[null,null,null,null,null,null,null,null,15,null,null,null,null,null,-8.8190415803563571E-2]
[null,null,null,null,null,null,null,null,15,null,null,null,null,null,0.76644278525872644]
[null,null,null,null,null,null,null,null,15,null,null,null,null,null,-0.31123243244069421]
[null,null,null,null,null,null,null,null,15,null,null,null,null,null,-6.7210937273793403E-2]
[null,null,null,null,null,null,null,null,15,null,null,null,null,null,2.59653658893697E-2]
[null,null,null,null,null,null,null,null,15,null,null,null,null,null,-0.2246296211750996]
[null,null,null,null,null,null,null,null,15,null,null,null,null,null,0.84119279229623944]
[null,null,null,null,null,null,null,null,15,null,null,null,null,null,-0.57303872892628127]
[null,null,null,null,null,null,null,null,15,null,null,null,null,null,8.9340741121810827E-2]
[null,null,null,null,null,null,null,null,15,null,null,null,null,null,1.2968168533418253E-2]
[null,null,null,null,null,null,null,null,15,null,null,null,null,null,0.14103292564296616]
[null,null,null,null,null,null,null,null,15,null,null,null,null,null,0.23173375907228833]
[null,null,null,null,null,null,null,null,15]
[null,null,null,null,null,null,null,null,15,null,null,null,null,null,-0.27306743664896516]
[null,null,null,null,null,null,null,null,16,null,null,null,null,null,{"$f":"CORREL($B$17:$G$17,B2:G2)","v":0.46463563703969485}]
[null,null,null,null,null,null,null,null,16,null,null,null,null,null,{"$f":"CORREL($B$17:$G$17,B3:G3)","v":-0.15992391409105708}]
[null,null,null,null,null,null,null,null,16,null,null,null,null,null,0.62294170075068556]
[null,null,null,null,null,null,null,null,16,null,null,null,null,null,-0.36792614161273346]
[null,null,null,null,null,null,null,null,16,null,null,null,null,null,-7.7046528199233872E-3]
[null,null,null,null,null,null,null,null,16,null,null,null,null,null,-0.4251527707779405]
[null,null,null,null,null,null,null,null,16,null,null,null,null,null,-1.6228990214933542E-2]
[null,null,null,null,null,null,null,null,16,null,null,null,null,null,-0.20802798072746145]
[null,null,null,null,null,null,null,null,16,null,null,null,null,null,-0.51603316940794652]
[null,null,null,null,null,null,null,null,16,null,null,null,null,null,0.44545889798234978]
[null,null,null,null,null,null,null,null,16,null,null,null,null,null,0.13311035554618558]
[null,null,null,null,null,null,null,null,16,null,null,null,null,null,0.17907268023401129]
[null,null,null,null,null,null,null,null,16,null,null,null,null,null,-0.17116552702441651]
[null,null,null,null,null,null,null,null,16,null,null,null,null,null,-0.60496076026051326]
[null,null,null,null,null,null,null,null,16,null,null,null,null,null,-0.27306743664896516]
[null,null,null,null,null,null,null,null,16]
[null,null,null,null,null,null,null,null,"max",null,null,null,null,null,{"$f":"MAX(O22:O277)","v":0.85227049968828517}]
[null,null,null,null,null,null,null,null,"min",null,null,null,null,null,{"$f":"MIN(O22:O277)","v":-0.86284527540249689}]
[null,null,null,null,null,null,null,null,"avg",null,null,null,null,null,{"$f":"AVERAGE(O22:O277)","v":4.7905209177383831E-3}]
[null,null,null,null,null,null,null,null,"stddev",null,null,null,null,null,{"$f":"STDEV(O22:O277)","v":0.44027693955113822}]
[null,null,null,null,null,null,null,null,"median",null,null,null,null,null,{"$f":"MEDIAN(O22:O277)","v":3.3912212470551234E-2}]
[null,null,null,null,null,null,null,null,"kvart_1",null,null,null,null,null,{"$f":"QUARTILE(O22:O277,1)","v":-0.33394232318244654}]
[null,null,null,null,null,null,null,null,"kvart_3",null,null,null,null,null,{"$f":"QUARTILE(O22:O277,3)","v":0.34693077223158991}]

{"sheet":"basics11","index":5,"n_rows":284,"n_cols":42,"rows_kept":284,"cut":false,"hidden":false,"merged":[]}
[{"$f":"RANDBETWEEN(10,99)","v":43},"A1","A2","A3","A4","A5","A6=Y",null,"rank",{"$f":"B1","v":"A1"},"A2","A3","A4","A5",{"$f":"G1&\"'\"","v":"A6=Y'"},"validity0","direkt","inverz","átlag","double","between1","validity1","invalid_between","valid_extrem","between2","validity2",null,{"$f":"models1!B7","v":"X(A1)"},{"$f":"models1!C7","v":"X(A2)"},{"$f":"models1!D7","v":"X(A3)"},{"$f":"models1!E7","v":"X(A4)"},{"$f":"models1!F7","v":"X(A5)"},{"$f":"AB1","v":"X(A1)"},{"$f":"AC1","v":"X(A2)"},"X(A3)","X(A4)","X(A5)",{"$f":"O1","v":"A6=Y'"},null,"direct_stddev","inverse_stddev","delta"]
["O1",94,97,97,85,53,36,null,{"$f":"A2","v":"O1"},{"$f":"RANK(B2,B$2:B$17,B$19)","v":1},{"$f":"RANK(C2,C$2:C$17,C$19)","v":2},16,3,8,{"$f":"G2*1000","v":36000},{"$f":"IF(models1!J1062*models1!Y1062<=0,\"valid\",\"invalid\")","v":"invalid"},{"$f":"models1!G1062","v":47315.7},{"$f":"models1!V1062","v":49406.1},{"$f":"AVERAGE(Q2:R2)","v":48360.899999999994},{"$f":"models1!AO1062","v":45836.2},{"$f":"IF(MAX(Q2:R2)<T2,0,IF(MIN(Q2:R2)>T2,0,1))","v":0},{"$f":"IF(P2=\"valid\",1,)","v":0},{"$f":"IF(V2=1,IF(U2=0,1,0),0)","v":0},{"$f":"IF(V2=0,IF(U2=1,1,0),0)","v":0},{"$f":"STDEV(S2:T2)","v":1785.2324904616744},{"$f":"STDEV(models1!J1062,models1!Y1062)","v":4.1082903986938426},null,{"$f":"J2","v":1},{"$f":"K2","v":2},16,3,8,{"$f":"RANK(AB2,AB$2:AB$17,0)","v":16},{"$f":"RANK(AC2,AC$2:AC$17,0)","v":15},1,14,8,36000,null,{"$f":"STDEV(AB2:AF2)","v":6.2048368229954285},{"$f":"STDEV(AG2:AK2)","v":6.300793600809345},{"$f":"ABS(AO2-AN2)","v":9.5956777813916538E-2}]
["O2",70,12,53,59,86,40,null,{"$f":"A3","v":"O2"},{"$f":"RANK(B3,B$2:B$17,B$19)","v":5},15,10,10,15,{"$f":"G3*1000","v":40000},{"$f":"IF(models1!J1063*models1!Y1063<=0,\"valid\",\"invalid\")","v":"valid"},{"$f":"models1!G1063","v":20918.5},{"$f":"models1!V1063","v":44180.5},{"$f":"AVERAGE(Q3:R3)","v":32549.5},{"$f":"models1!AO1063","v":33879},1,1,{"$f":"IF(V3=1,IF(U3=0,1,0),0)","v":0},{"$f":"IF(V3=0,IF(U3=1,1,0),0)","v":0},{"$f":"STDEV(S3:T3)","v":940.09846558751497},{"$f":"STDEV(models1!J1063,models1!Y1063)","v":41.118259325997741},null,{"$f":"J3","v":5},15,10,10,15,{"$f":"RANK(AB3,AB$2:AB$17,0)","v":12},2,5,7,2,40000,null,{"$f":"STDEV(AB3:AF3)","v":4.1833001326703778},{"$f":"STDEV(AG3:AK3)","v":4.1593268686170841},{"$f":"ABS(AO3-AN3)","v":2.3973264053293697E-2}]
["O3",10,44,30,51,59,25,null,"O3",16,10,5,12,11,25000,{"$f":"IF(models1!J1064*models1!Y1064<=0,\"valid\",\"invalid\")","v":"invalid"},{"$f":"models1!G1064","v":25899.1},{"$f":"models1!V1064","v":52731.5},39315.300000000003,{"$f":"models1!AO1064","v":24911},0,0,0,0,10185.378208245382,{"$f":"STDEV(models1!J1064,models1!Y1064)","v":75.893770824752153},null,16,10,5,12,11,1,7,12,5,6,25000,null,3.9623225512317886,3.9623225512317903,1.7763568394002505E-15]
["O4",57,64,29,99,44,82,null,"O4",8,7,4,1,5,82000,{"$f":"IF(models1!J1065*models1!Y1065<=0,\"valid\",\"invalid\")","v":"invalid"},{"$f":"models1!G1065","v":81681.8},{"$f":"models1!V1065","v":43705.4},62693.600000000006,{"$f":"models1!AO1065","v":81708.100000000006},0,0,0,0,13445.281890871607,{"$f":"STDEV(models1!J1065,models1!Y1065)","v":32.746115036749011},null,8,7,4,1,5,9,10,13,16,12,82000,null,2.7386127875258306,2.7386127875258306,0]
["O5",91,75,37,62,47,81,null,"O5",2,3,6,8,6,81000,{"$f":"IF(models1!J1066*models1!Y1066<=0,\"valid\",\"invalid\")","v":"valid"},{"$f":"models1!G1066","v":82677.899999999994},{"$f":"models1!V1066","v":41330.1},62004,{"$f":"models1!AO1066","v":80711.7},1,1,0,0,13228.341530403521,{"$f":"STDEV(models1!J1066,models1!Y1066)","v":36.097801179573253},null,2,3,6,8,6,15,14,11,9,11,81000,null,2.4494897427831779,2.4494897427831779,0]
["O6",37,11,53,20,58,16,null,"O6",13,16,10,15,10,16000,{"$f":"IF(models1!J1067*models1!Y1067<=0,\"valid\",\"invalid\")","v":"invalid"},{"$f":"models1!G1067","v":16436},{"$f":"models1!V1067","v":48456},32446,{"$f":"models1!AO1067","v":17935.900000000001},1,0,0,1,10260.190105694917,{"$f":"STDEV(models1!J1067,models1!Y1067)","v":141.50620905105188},null,13,16,10,15,10,4,1,5,2,7,16000,null,2.7748873851023195,2.3874672772626644,0.38742010783965508]
["O7",61,66,53,27,93,12,null,"O7",6,6,10,14,16,12000,{"$f":"IF(models1!J1068*models1!Y1068<=0,\"valid\",\"invalid\")","v":"invalid"},{"$f":"models1!G1068","v":25899.1},{"$f":"models1!V1068","v":44180.5},35039.800000000003,{"$f":"models1!AO1068","v":24661.9},0,0,0,0,7338.2834644758659,{"$f":"STDEV(models1!J1068,models1!Y1068)","v":107.72064704595873},null,6,6,10,14,16,10,11,5,3,1,12000,null,4.5607017003965531,4.358898943540674,0.20180275685587912]
["O8",41,54,21,14,43,86,null,"O8",12,8,2,16,4,86000,{"$f":"IF(models1!J1069*models1!Y1069<=0,\"valid\",\"invalid\")","v":"invalid"},{"$f":"models1!G1069","v":72218.600000000006},{"$f":"models1!V1069","v":81710.100000000006},76964.350000000006,{"$f":"models1!AO1069","v":85693.9},0,0,0,0,6172.7240017070171,{"$f":"STDEV(models1!J1069,models1!Y1069)","v":7.7993877964876219},null,12,8,2,16,4,5,9,15,1,13,86000,null,5.727128425310541,5.727128425310541,0]
["O9",22,99,64,60,51,77,null,"O9",14,1,13,9,7,77000,{"$f":"IF(models1!J1070*models1!Y1070<=0,\"valid\",\"invalid\")","v":"invalid"},{"$f":"models1!G1070","v":76701.2},{"$f":"models1!V1070","v":63657.9},70179.55,{"$f":"models1!AO1070","v":76725.899999999994},0,0,0,0,4628.9684770205495,{"$f":"STDEV(models1!J1070,models1!Y1070)","v":11.978388873300114},null,14,1,13,9,7,3,16,4,8,10,77000,null,5.215361924162119,5.215361924162119,0]
["O10",46,70,84,96,15,63,null,"O10",11,4,14,2,1,63000,{"$f":"IF(models1!J1071*models1!Y1071<=0,\"valid\",\"invalid\")","v":"invalid"},{"$f":"models1!G1071","v":62755.5},{"$f":"models1!V1071","v":49881.2},56318.35,{"$f":"models1!AO1071","v":62775.7},0,0,0,0,4566.0359734949516,{"$f":"STDEV(models1!J1071,models1!Y1071)","v":14.446191539641164},null,11,4,14,2,1,6,13,3,15,16,63000,null,5.770615218501403,5.7706152185014048,1.7763568394002505E-15]
["O11",61,16,13,73,72,17,null,"O11",6,14,1,6,13,17000,{"$f":"IF(models1!J1072*models1!Y1072<=0,\"valid\",\"invalid\")","v":"invalid"},{"$f":"models1!G1072","v":49307.9},{"$f":"models1!V1072","v":19002.3},34155.1,{"$f":"models1!AO1072","v":29644.1},1,0,0,1,3189.7586899325161,{"$f":"STDEV(models1!J1072,models1!Y1072)","v":126.05592588212583},null,6,14,1,6,13,10,3,16,11,4,17000,null,5.4313902456001077,5.3572380943915494,7.4152151208558337E-2]
["O12",21,39,44,57,75,27,null,"O12",15,11,8,11,14,27000,{"$f":"IF(models1!J1073*models1!Y1073<=0,\"valid\",\"invalid\")","v":"valid"},{"$f":"models1!G1073","v":23408.799999999999},{"$f":"models1!V1073","v":53681.599999999999},38545.199999999997,{"$f":"models1!AO1073","v":29644.1},1,1,0,0,6294.0281700195801,{"$f":"STDEV(models1!J1073,models1!Y1073)","v":79.280812306635696},null,15,11,8,11,14,2,6,10,6,3,27000,null,2.7748873851023195,3.1304951684997051,0.35560778339738564]
["O13",55,68,48,64,65,86,null,"O13",9,5,9,7,12,86000,{"$f":"IF(models1!J1074*models1!Y1074<=0,\"valid\",\"invalid\")","v":"invalid"},{"$f":"models1!G1074","v":69230.3},{"$f":"models1!V1074","v":49406.1},59318.2,{"$f":"models1!AO1074","v":68256.100000000006},1,0,0,1,6320.0496995672493,{"$f":"STDEV(models1!J1074,models1!Y1074)","v":16.298811306349911},null,9,5,9,7,12,8,12,9,10,5,86000,null,2.607680962081059,2.5884358211089573,1.9245140972101726E-2]
["O14",81,38,88,80,24,32,null,"O14",3,12,15,4,2,32000,{"$f":"IF(models1!J1075*models1!Y1075<=0,\"valid\",\"invalid\")","v":"valid"},{"$f":"models1!G1075","v":31875.8},{"$f":"models1!V1075","v":42755.3},37315.550000000003,{"$f":"models1!AO1075","v":31886.1},{"$f":"IF(MAX(Q15:R15)<T15,0,IF(MIN(Q15:R15)>T15,0,1))","v":1},1,0,0,3839.2009131133036,{"$f":"STDEV(models1!J1075,models1!Y1075)","v":24.041630560342618},null,3,12,15,4,2,14,4,2,13,15,32000,null,5.8906705900092566,6.1073725938409877,0.2167020038317311]
["O15",80,38,22,37,32,77,null,"O15",4,12,3,13,3,77000,{"$f":"IF(models1!J1076*models1!Y1076<=0,\"valid\",\"invalid\")","v":"invalid"},{"$f":"models1!G1076","v":62755.5},{"$f":"models1!V1076","v":41330.1},52042.8,{"$f":"models1!AO1076","v":65765},{"$f":"IF(MAX(Q16:R16)<T16,0,IF(MIN(Q16:R16)>T16,0,1))","v":0},0,0,0,9703.0606727980467,{"$f":"STDEV(models1!J1076,models1!Y1076)","v":19.671710652609754},null,4,12,3,13,3,13,4,14,4,14,77000,null,5.0497524691810387,5.3103672189407014,0.2606147497596627]
["O16",48,51,43,79,55,10,null,"O16",{"$f":"RANK(B17,B$2:B$17,0)","v":10},9,10,5,8,10000,{"$f":"IF(models1!J1077*models1!Y1077<=0,\"valid\",\"invalid\")","v":"invalid"},{"$f":"models1!G1077","v":17930.099999999999},{"$f":"models1!V1077","v":43705.4},30817.75,{"$f":"models1!AO1077","v":6975.1},{"$f":"IF(MAX(Q17:R17)<T17,0,IF(MIN(Q17:R17)>T17,0,1))","v":0},0,0,0,16859.299496457439,{"$f":"STDEV(models1!J1077,models1!Y1077)","v":182.25677285083268},null,10,9,10,5,8,7,8,5,12,8,10000,null,2.0736441353327715,2.5495097567963922,0.47586562146362077]
["correlation",{"$f":"CORREL(B2:B16,$G$2:$G$16)","v":0.12210906756323484},{"$f":"CORREL(C2:C16,$G$2:$G$16)","v":0.48252178971082316},-0.17988432660413287,0.13642720731532612,-0.48904755295739905,1,null,"O16(2)",{"$f":"MAX(J2:J16)","v":16},{"$f":"INT(QUARTILE(K2:K16,3))","v":12},{"$f":"MEDIAN(L2:L16)","v":9},{"$f":"INT(QUARTILE(M2:M16,1))","v":5},{"$f":"MIN(N2:N16)","v":1},{"$f":"O17","v":10000},"ratio","correlation","correlation",null,"correlation",null,null,null,null,null,null,null,"direct","direct","direct","direct","direct","inverse","inverse","inverse","inverse","inverse","double","max",{"$f":"MAX(AN2:AN17)","v":6.2048368229954285},{"$f":"MAX(AO2:AO17)","v":6.300793600809345},{"$f":"MAX(AP2:AP17)","v":0.47586562146362077}]
["direction",{"$f":"IF(B18>0,0,1)","v":0},{"$f":"IF(C18>0,0,1)","v":0},1,0,1,"Y",null,null,null,null,null,null,null,null,{"$f":"COUNTIF($P$2:$P$17,\"valid\")/16","v":0.25},{"$f":"CORREL(Q2:Q17,$O$2:$O$17)","v":0.90400690559103059},{"$f":"CORREL(R2:R17,$O$2:$O$17)","v":0.4050986591399513},null,{"$f":"CORREL(T2:T17,$O$2:$O$17)","v":0.96885805099915334},{"$f":"SUM(U2:U17)","v":7},null,{"$f":"SUM(W2:W17)","v":0},{"$f":"SUM(X2:X17)","v":3},{"$f":"SUM(Y2:Y17)","v":118755.93224985112},null,null,null,null,null,null,null,null,null,null,null,null,null,"min",{"$f":"MIN(AN2:AN17)","v":2.0736441353327715},{"$f":"MIN(AO2:AO17)","v":2.3874672772626644},{"$f":"MIN(AP2:AP17)","v":0}]
[null,null,null,null,null,null,null,null,null,null,null,null,null,null,null,null,null,null,null,null,null,null,null,null,null,null,null,null,null,null,null,null,null,null,null,null,null,null,"avg",{"$f":"AVERAGE(AN2:AN17)","v":4.213455154874131},{"$f":"AVERAGE(AO2:AO17)","v":4.2570897495826827},{"$f":"AVERAGE(AP2:AP17)","v":0.13195877232473802}]
["antagonism!",null,null,null,null,null,null,null,"O*",null,null,null,null,null,"correlation",null,null,null,null,null,null,null,null,null,null,null,null,null,null,null,null,null,null,null,null,null,null,null,"stddev",{"$f":"STDEV(AN2:AN17)","v":1.4479578844205336},{"$f":"STDEV(AO2:AO17)","v":1.4476415261605986},{"$f":"STDEV(AP2:AP17)","v":0.16240791037309332}]
[null,null,null,null,null,null,null,null,1,null,null,null,null,null,null,null,null,null,null,null,null,null,null,null,null,null,null,null,null,null,null,null,null,null,null,null,null,null,"median",{"$f":"MEDIAN(AN2:AN17)","v":4.3720009165334659},{"$f":"MEDIAN(AO2:AO17)","v":4.2591129060788795},4.9062707630926017E-2]
["Consistency-tasks ",null,null,null,null,null,null,null,1,null,null,null,null,null,{"$f":"CORREL($B$2:$G$2,B3:G3)","v":-0.2224313497575747}]
["Y=between1",null,null,null,null,null,null,null,1,null,null,null,null,null,-0.16148992191132075]
["Y=between2",null,null,null,null,null,null,null,1,null,null,null,null,null,-0.24091422379111302]
["Y=validity1",null,null,null,null,null,null,null,1,null,null,null,null,null,-6.13429012411075E-2]
["Y=validity2",null,null,null,null,null,null,null,1,null,null,null,null,null,8.07876670409775E-3]
["Y=validity-ratio",null,null,null,null,null,null,null,1,null,null,null,null,null,0.24065276493983409]
["Xi=model-characteristics",null,null,null,null,null,null,null,1,null,null,null,null,null,-0.67055140805548163]
[null,null,null,null,null,null,null,null,1,null,null,null,null,null,-7.9319467985460509E-2]
[null,null,null,null,null,null,null,null,1,null,null,null,null,null,0.44740886414594327]
[null,null,null,null,null,null,null,null,1,null,null,null,null,null,-5.8066875502161067E-2]
[null,null,null,null,null,null,null,null,1,null,null,null,null,null,-0.16732750731599921]
[null,null,null,null,null,null,null,null,1,null,null,null,null,null,-0.78058179065205358]
[null,null,null,null,null,null,null,null,1,null,null,null,null,null,0.70495418558246559]
[null,null,null,null,null,null,null,null,1,null,null,null,null,null,-0.33326435897441598]
[null,null,null,null,null,null,null,null,1,null,null,null,null,null,0.54869700605303773]
[null,null,null,null,null,null,null,null,{"$f":"I22+1","v":2},null,null,null,null,null,{"$f":"CORREL($B$3:$G$3,B2:G2)","v":-0.2224313497575747}]
[null,null,null,null,null,null,null,null,{"$f":"I23+1","v":2}]
[null,null,null,null,null,null,null,null,2,null,null,null,null,null,{"$f":"CORREL($B$3:$G$3,B4:G4)","v":9.525447663902889E-2}]
[null,null,null,null,null,null,null,null,2,null,null,null,null,null,-0.24719551021203615]
[null,null,null,null,null,null,null,null,2,null,null,null,null,null,-0.29804352994260203]
[null,null,null,null,null,null,null,null,2,null,null,null,null,null,0.76251791591028784]
[null,null,null,null,null,null,null,null,2,null,null,null,null,null,0.35235823651606385]
[null,null,null,null,null,null,null,null,2,null,null,null,null,null,-0.37132588165943686]
[null,null,null,null,null,null,null,null,2,null,null,null,null,null,-0.84038148679747293]
[null,null,null,null,null,null,null,null,2,null,null,null,null,null,-0.53154463366323867]
[null,null,null,null,null,null,null,null,2,null,null,null,null,null,0.76581655994600772]
[null,null,null,null,null,null,null,null,2,null,null,null,null,null,0.44784716500184568]
[null,null,null,null,null,null,null,null,2,null,null,null,null,null,-0.34522528507176292]
[null,null,null,null,null,null,null,null,2,null,null,null,null,null,0.1525211751749635]
[null,null,null,null,null,null,null,null,2,null,null,null,null,null,-5.2051405571287793E-3]
[null,null,null,null,null,null,null,null,2,null,null,null,null,null,0.27681892134503594]
[null,null,null,null,null,null,null,null,3,null,null,null,null,null,{"$f":"CORREL($B$4:$G$4,B2:G2)","v":-0.16148992191132075}]
[null,null,null,null,null,null,null,null,3,null,null,null,null,null,{"$f":"CORREL($B$4:$G$4,B3:G3)","v":9.525447663902889E-2}]
[null,null,null,null,null,null,null,null,3]
[null,null,null,null,null,null,null,null,3,null,null,null,null,null,0.11452116822715891]
[null,null,null,null,null,null,null,null,3,null,null,null,null,null,-0.56559155931429284]
[null,null,null,null,null,null,null,null,3,null,null,null,null,null,9.3202316555186446E-2]
[null,null,null,null,null,null,null,null,3,null,null,null,null,null,0.33497367218619151]
[null,null,null,null,null,null,null,null,3,null,null,null,null,null,-0.27286137350271678]
[null,null,null,null,null,null,null,null,3,null,null,null,null,null,0.37396048231268708]
[null,null,null,null,null,null,null,null,3,null,null,null,null,null,-8.9610395354908584E-2]
[null,null,null,null,null,null,null,null,3,null,null,null,null,null,0.33619248912692556]
[null,null,null,null,null,null,null,null,3,null,null,null,null,null,0.91660630589212866]
[null,null,null,null,null,null,null,null,3,null,null,null,null,null,0.12082672225882544]
[null,null,null,null,null,null,null,null,3,null,null,null,null,null,-0.42146786397621855]
[null,null,null,null,null,null,null,null,3,null,null,null,null,null,-0.72032430941683012]
[null,null,null,null,null,null,null,null,3,null,null,null,null,null,0.5425684515867587]
[null,null,null,null,null,null,null,null,4,null,null,null,null,null,{"$f":"CORREL($B$5:$G$5,B2:G2)","v":-0.24091422379111302}]
[null,null,null,null,null,null,null,null,4,null,null,null,null,null,{"$f":"CORREL($B$5:$G$5,B3:G3)","v":-0.24719551021203615}]
[null,null,null,null,null,null,null,null,4,null,null,null,null,null,0.11452116822715891]
[null,null,null,null,null,null,null,null,4]
[null,null,null,null,null,null,null,null,4,null,null,null,null,null,0.5125053765793014]
[null,null,null,null,null,null,null,null,4,null,null,null,null,null,-0.79049751978078076]
[null,null,null,null,null,null,null,null,4,null,null,null,null,null,-0.68576917621061884]
[null,null,null,null,null,null,null,null,4,null,null,null,null,null,0.16733970804474096]
[null,null,null,null,null,null,null,null,4,null,null,null,null,null,0.19337502624024486]
[null,null,null,null,null,null,null,null,4,null,null,null,null,null,0.40813873002933182]
[null,null,null,null,null,null,null,null,4,null,null,null,null,null,0.24502380213229435]
[null,null,null,null,null,null,null,null,4,null,null,null,null,null,-0.12379245118103223]
[null,null,null,null,null,null,null,null,4,null,null,null,null,null,0.61122321561304782]
[null,null,null,null,null,null,null,null,4,null,null,null,null,null,-6.4873686790703461E-2]
[null,null,null,null,null,null,null,null,4,null,null,null,null,null,0.366331712391264]
[null,null,null,null,null,null,null,null,4,null,null,null,null,null,0.15325060981911393]
[null,null,null,null,null,null,null,null,5,null,null,null,null,null,{"$f":"CORREL($B$6:$G$6,B2:G2)","v":-6.13429012411075E-2}]
[null,null,null,null,null,null,null,null,5,null,null,null,null,null,{"$f":"CORREL($B$6:$G$6,B3:G3)","v":-0.29804352994260203}]
[null,null,null,null,null,null,null,null,5,null,null,null,null,null,-0.56559155931429284]
[null,null,null,null,null,null,null,null,5,null,null,null,null,null,0.5125053765793014]
[null,null,null,null,null,null,null,null,5]
[null,null,null,null,null,null,null,null,5,null,null,null,null,null,-0.6580762443900523]
[null,null,null,null,null,null,null,null,5,null,null,null,null,null,-0.31926367878942058]
[null,null,null,null,null,null,null,null,5,null,null,null,null,null,0.54421652658012953]
[null,null,null,null,null,null,null,null,5,null,null,null,null,null,-0.10575419083981158]
[null,null,null,null,null,null,null,null,5,null,null,null,null,null,-6.4499658292887674E-2]
[null,null,null,null,null,null,null,null,5,null,null,null,null,null,4.2465319414440872E-3]
[null,null,null,null,null,null,null,null,5,null,null,null,null,null,-0.73676778771794738]
[null,null,null,null,null,null,null,null,5,null,null,null,null,null,0.43774613961143199]
[null,null,null,null,null,null,null,null,5,null,null,null,null,null,-0.10378872855913553]
[null,null,null,null,null,null,null,null,5,null,null,null,null,null,0.88233096405063938]
[null,null,null,null,null,null,null,null,5,null,null,null,null,null,-0.28383781708558692]
[null,null,null,null,null,null,null,null,6,null,null,null,null,null,{"$f":"CORREL($B$7:$G$7,B2:G2)","v":8.07876670409775E-3}]
[null,null,null,null,null,null,null,null,{"$f":"I87+1","v":6},null,null,null,null,null,{"$f":"CORREL($B$7:$G$7,B3:G3)","v":0.76251791591028784}]
[null,null,null,null,null,null,null,null,6,null,null,null,null,null,9.3202316555186446E-2]
[null,null,null,null,null,null,null,null,6,null,null,null,null,null,-0.79049751978078076]
[null,null,null,null,null,null,null,null,6,null,null,null,null,null,-0.6580762443900523]
[null,null,null,null,null,null,null,null,6]
[null,null,null,null,null,null,null,null,6,null,null,null,null,null,0.61750272772967196]
[null,null,null,null,null,null,null,null,6,null,null,null,null,null,-0.4081457024033]
[null,null,null,null,null,null,null,null,6,null,null,null,null,null,-0.56021732540805058]
[null,null,null,null,null,null,null,null,6,null,null,null,null,null,-0.49855817641938821]
[null,null,null,null,null,null,null,null,6,null,null,null,null,null,0.28565371514729687]
[null,null,null,null,null,null,null,null,6,null,null,null,null,null,0.46152011713932251]
[null,null,null,null,null,null,null,null,6,null,null,null,null,null,-0.61486384006212114]
[null,null,null,null,null,null,null,null,6,null,null,null,null,null,0.15203628379771547]
[null,null,null,null,null,null,null,null,6,null,null,null,null,null,-0.37747919256131135]
[null,null,null,null,null,null,null,null,6,null,null,null,null,null,0.11306018406126848]
[null,null,null,null,null,null,null,null,7,null,null,null,null,null,{"$f":"CORREL($B$8:$G$8,B2:G2)","v":0.24065276493983409}]
[null,null,null,null,null,null,null,null,7,null,null,null,null,null,{"$f":"CORREL($B$8:$G$8,B3:G3)","v":0.35235823651606385}]
[null,null,null,null,null,null,null,null,7,null,null,null,null,null,0.33497367218619151]
[null,null,null,null,null,null,null,null,7,null,null,null,null,null,-0.68576917621061884]
[null,null,null,null,null,null,null,null,7,null,null,null,null,null,-0.31926367878942058]
[null,null,null,null,null,null,null,null,7,null,null,null,null,null,0.61750272772967196]
[null,null,null,null,null,null,null,null,7]
[null,null,null,null,null,null,null,null,7,null,null,null,null,null,-0.23713730686840587]
[null,null,null,null,null,null,null,null,7,null,null,null,null,null,-0.22555158255928925]
[null,null,null,null,null,null,null,null,7,null,null,null,null,null,-0.67685658999038234]
[null,null,null,null,null,null,null,null,7,null,null,null,null,null,0.28855251750604044]
[null,null,null,null,null,null,null,null,7,null,null,null,null,null,0.46953818096670064]
[null,null,null,null,null,null,null,null,7,null,null,null,null,null,-0.47015130297501434]
[null,null,null,null,null,null,null,null,7,null,null,null,null,null,-0.22751512094888737]
[null,null,null,null,null,null,null,null,7,null,null,null,null,null,-0.39936951625760064]
[null,null,null,null,null,null,null,null,7,null,null,null,null,null,0.33137128529683696]
[null,null,null,null,null,null,null,null,8,null,null,null,null,null,{"$f":"CORREL($B$9:$G$9,B2:G2)","v":-0.67055140805548163}]
[null,null,null,null,null,null,null,null,8,null,null,null,null,null,{"$f":"CORREL($B$9:$G$9,B3:G3)","v":-0.37132588165943686}]
[null,null,null,null,null,null,null,null,8,null,null,null,null,null,-0.27286137350271678]
[null,null,null,null,null,null,null,null,8,null,null,null,null,null,0.16733970804474096]
[null,null,null,null,null,null,null,null,8,null,null,null,null,null,0.54421652658012953]
[null,null,null,null,null,null,null,null,8,null,null,null,null,null,-0.4081457024033]
[null,null,null,null,null,null,null,null,8,null,null,null,null,null,-0.23713730686840587]
[null,null,null,null,null,null,null,null,8]
[null,null,null,null,null,null,null,null,8,null,null,null,null,null,0.34608835429220336]
[null,null,null,null,null,null,null,null,8,null,null,null,null,null,-0.35251113391189448]
[null,null,null,null,null,null,null,null,8,null,null,null,null,null,-0.43750752780449081]
[null,null,null,null,null,null,null,null,8,null,null,null,null,null,-0.43778712163662653]
[null,null,null,null,null,null,null,null,8,null,null,null,null,null,0.81809374716746475]
[null,null,null,null,null,null,null,null,8,null,null,null,null,null,-0.72543707766131049]
[null,null,null,null,null,null,null,null,8,null,null,null,null,null,0.6226204112205348]
[null,null,null,null,null,null,null,null,8,null,null,null,null,null,-0.83423833658459934]
[null,null,null,null,null,null,null,null,9,null,null,null,null,null,{"$f":"CORREL($B$10:$G$10,B2:G2)","v":-7.9319467985460509E-2}]
[null,null,null,null,null,null,null,null,9,null,null,null,null,null,{"$f":"CORREL($B$10:$G$10,B3:G3)","v":-0.84038148679747293}]
[null,null,null,null,null,null,null,null,9,null,null,null,null,null,0.37396048231268708]
[null,null,null,null,null,null,null,null,9,null,null,null,null,null,0.19337502624024486]
[null,null,null,null,null,null,null,null,9,null,null,null,null,null,-0.10575419083981158]
[null,null,null,null,null,null,null,null,9,null,null,null,null,null,-0.56021732540805058]
[null,null,null,null,null,null,null,null,9,null,null,null,null,null,-0.22555158255928925]
[null,null,null,null,null,null,null,null,9,null,null,null,null,null,0.34608835429220336]
[null,null,null,null,null,null,null,null,9]
[null,null,null,null,null,null,null,null,9,null,null,null,null,null,0.38786388288526052]
[null,null,null,null,null,null,null,null,9,null,null,null,null,null,-0.66885548789404581]
[null,null,null,null,null,null,null,null,9,null,null,null,null,null,4.4199671951417281E-2]
[null,null,null,null,null,null,null,null,9,null,null,null,null,null,0.47641072186030725]
[null,null,null,null,null,null,null,null,9,null,null,null,null,null,-0.4472927504896258]
[null,null,null,null,null,null,null,null,9,null,null,null,null,null,-0.33750199068917319]
[null,null,null,null,null,null,null,null,9,null,null,null,null,null,-0.21137038560941973]
[null,null,null,null,null,null,null,null,10,null,null,null,null,null,{"$f":"CORREL($B$11:$G$11,B2:G2)","v":0.44740886414594327}]
[null,null,null,null,null,null,null,null,{"$f":"I151+1","v":10},null,null,null,null,null,{"$f":"CORREL($B$11:$G$11,B3:G3)","v":-0.53154463366323867}]
[null,null,null,null,null,null,null,null,10,null,null,null,null,null,-8.9610395354908584E-2]
[null,null,null,null,null,null,null,null,10,null,null,null,null,null,0.40813873002933182]
[null,null,null,null,null,null,null,null,10,null,null,null,null,null,-6.4499658292887674E-2]
[null,null,null,null,null,null,null,null,10,null,null,null,null,null,-0.49855817641938821]
[null,null,null,null,null,null,null,null,10,null,null,null,null,null,-0.67685658999038234]
[null,null,null,null,null,null,null,null,10,null,null,null,null,null,-0.35251113391189448]
[null,null,null,null,null,null,null,null,10,null,null,null,null,null,0.38786388288526052]
[null,null,null,null,null,null,null,null,10]
[null,null,null,null,null,null,null,null,10,null,null,null,null,null,-0.35892153035870356]
[null,null,null,null,null,null,null,null,10,null,null,null,null,null,-0.24535136079061448]
[null,null,null,null,null,null,null,null,10,null,null,null,null,null,-0.1079323469733848]
[null,null,null,null,null,null,null,null,10,null,null,null,null,null,0.59052512298863524]
[null,null,null,null,null,null,null,null,10,null,null,null,null,null,-0.21323981003349035]
[null,null,null,null,null,null,null,null,10,null,null,null,null,null,0.18683388630955053]
[null,null,null,null,null,null,null,null,11,null,null,null,null,null,{"$f":"CORREL($B$12:$G$12,B2:G2)","v":-5.8066875502161067E-2}]
[null,null,null,null,null,null,null,null,11,null,null,null,null,null,{"$f":"CORREL($B$12:$G$12,B3:G3)","v":0.76581655994600772}]
[null,null,null,null,null,null,null,null,11,null,null,null,null,null,0.33619248912692556]
[null,null,null,null,null,null,null,null,11,null,null,null,null,null,0.24502380213229435]
[null,null,null,null,null,null,null,null,11,null,null,null,null,null,4.2465319414440872E-3]
[null,null,null,null,null,null,null,null,11,null,null,null,null,null,0.28565371514729687]
[null,null,null,null,null,null,null,null,11,null,null,null,null,null,0.28855251750604044]
[null,null,null,null,null,null,null,null,11,null,null,null,null,null,-0.43750752780449081]
[null,null,null,null,null,null,null,null,11,null,null,null,null,null,-0.66885548789404581]
[null,null,null,null,null,null,null,null,11,null,null,null,null,null,-0.35892153035870356]
[null,null,null,null,null,null,null,null,11]
[null,null,null,null,null,null,null,null,11,null,null,null,null,null,0.49451542516135322]
[null,null,null,null,null,null,null,null,11,null,null,null,null,null,-0.17315555657209614]
[null,null,null,null,null,null,null,null,11,null,null,null,null,null,9.3861318237765681E-2]
[null,null,null,null,null,null,null,null,11,null,null,null,null,null,2.0943997436073076E-2]
[null,null,null,null,null,null,null,null,11,null,null,null,null,null,0.6641068375718514]
[null,null,null,null,null,null,null,null,12,null,null,null,null,null,{"$f":"CORREL($B$13:$G$13,B2:G2)","v":-0.16732750731599921}]
[null,null,null,null,null,null,null,null,12,null,null,null,null,null,{"$f":"CORREL($B$13:$G$13,B3:G3)","v":0.44784716500184568}]
[null,null,null,null,null,null,null,null,12,null,null,null,null,null,0.91660630589212866]
[null,null,null,null,null,null,null,null,12,null,null,null,null,null,-0.12379245118103223]
[null,null,null,null,null,null,null,null,12,null,null,null,null,null,-0.73676778771794738]
[null,null,null,null,null,null,null,null,12,null,null,null,null,null,0.46152011713932251]
[null,null,null,null,null,null,null,null,12,null,null,null,null,null,0.46953818096670064]
[null,null,null,null,null,null,null,null,12,null,null,null,null,null,-0.43778712163662653]
[null,null,null,null,null,null,null,null,12,null,null,null,null,null,4.4199671951417281E-2]
[null,null,null,null,null,null,null,null,12,null,null,null,null,null,-0.24535136079061448]
[null,null,null,null,null,null,null,null,12,null,null,null,null,null,0.49451542516135322]
[null,null,null,null,null,null,null,null,12]
[null,null,null,null,null,null,null,null,12,null,null,null,null,null,-0.12111592128858939]
[null,null,null,null,null,null,null,null,12,null,null,null,null,null,-0.26444597854583424]
[null,null,null,null,null,null,null,null,12,null,null,null,null,null,-0.74527517692091538]
[null,null,null,null,null,null,null,null,12,null,null,null,null,null,0.56458505958385508]
[null,null,null,null,null,null,null,null,13,null,null,null,null,null,{"$f":"CORREL($B$14:$G$14,B2:G2)","v":-0.78058179065205358}]
[null,null,null,null,null,null,null,null,13,null,null,null,null,null,{"$f":"CORREL($B$14:$G$14,B3:G3)","v":-0.34522528507176292}]
[null,null,null,null,null,null,null,null,13,null,null,null,null,null,0.12082672225882544]
[null,null,null,null,null,null,null,null,13,null,null,null,null,null,0.61122321561304782]
[null,null,null,null,null,null,null,null,13,null,null,null,null,null,0.43774613961143199]
[null,null,null,null,null,null,null,null,13,null,null,null,null,null,-0.61486384006212114]
[null,null,null,null,null,null,null,null,13,null,null,null,null,null,-0.47015130297501434]
[null,null,null,null,null,null,null,null,13,null,null,null,null,null,0.81809374716746475]
[null,null,null,null,null,null,null,null,13,null,null,null,null,null,0.47641072186030725]
[null,null,null,null,null,null,null,null,13,null,null,null,null,null,-0.1079323469733848]
[null,null,null,null,null,null,null,null,13,null,null,null,null,null,-0.17315555657209614]
[null,null,null,null,null,null,null,null,13,null,null,null,null,null,-0.12111592128858939]
[null,null,null,null,null,null,null,null,13]
[null,null,null,null,null,null,null,null,13,null,null,null,null,null,-0.7364613625738049]
[null,null,null,null,null,null,null,null,13,null,null,null,null,null,0.44710045329577441]
[null,null,null,null,null,null,null,null,13,null,null,null,null,null,-0.51022093700185756]
[null,null,null,null,null,null,null,null,14,null,null,null,null,null,{"$f":"CORREL($B$15:$G$15,B2:G2)","v":0.70495418558246559}]
[null,null,null,null,null,null,null,null,{"$f":"I215+1","v":14},null,null,null,null,null,{"$f":"CORREL($B$15:$G$15,B3:G3)","v":0.1525211751749635}]
[null,null,null,null,null,null,null,null,14,null,null,null,null,null,-0.42146786397621855]
[null,null,null,null,null,null,null,null,14,null,null,null,null,null,-6.4873686790703461E-2]
[null,null,null,null,null,null,null,null,14,null,null,null,null,null,-0.10378872855913553]
[null,null,null,null,null,null,null,null,14,null,null,null,null,null,0.15203628379771547]
[null,null,null,null,null,null,null,null,14,null,null,null,null,null,-0.22751512094888737]
[null,null,null,null,null,null,null,null,14,null,null,null,null,null,-0.72543707766131049]
[null,null,null,null,null,null,null,null,14,null,null,null,null,null,-0.4472927504896258]
[null,null,null,null,null,null,null,null,14,null,null,null,null,null,0.59052512298863524]
[null,null,null,null,null,null,null,null,14,null,null,null,null,null,9.3861318237765681E-2]
[null,null,null,null,null,null,null,null,14,null,null,null,null,null,-0.26444597854583424]
[null,null,null,null,null,null,null,null,14,null,null,null,null,null,-0.7364613625738049]
[null,null,null,null,null,null,null,null,14]
[null,null,null,null,null,null,null,null,14,null,null,null,null,null,-8.4212136072838575E-2]
[null,null,null,null,null,null,null,null,14,null,null,null,null,null,0.38024858255771443]
[null,null,null,null,null,null,null,null,15,null,null,null,null,null,{"$f":"CORREL($B$16:$G$16,B2:G2)","v":-0.33326435897441598}]
[null,null,null,null,null,null,null,null,15,null,null,null,null,null,{"$f":"CORREL($B$16:$G$16,B3:G3)","v":-5.2051405571287793E-3}]
[null,null,null,null,null,null,null,null,15,null,null,null,null,null,-0.72032430941683012]
[null,null,null,null,null,null,null,null,15,null,null,null,null,null,0.366331712391264]
[null,null,null,null,null,null,null,null,15,null,null,null,null,null,0.88233096405063938]
[null,null,null,null,null,null,null,null,15,null,null,null,null,null,-0.37747919256131135]
[null,null,null,null,null,null,null,null,15,null,null,null,null,null,-0.39936951625760064]
[null,null,null,null,null,null,null,null,15,null,null,null,null,null,0.6226204112205348]
[null,null,null,null,null,null,null,null,15,null,null,null,null,null,-0.33750199068917319]
[null,null,null,null,null,null,null,null,15,null,null,null,null,null,-0.21323981003349035]
[null,null,null,null,null,null,null,null,15,null,null,null,null,null,2.0943997436073076E-2]
[null,null,null,null,null,null,null,null,15,null,null,null,null,null,-0.74527517692091538]
[null,null,null,null,null,null,null,null,15,null,null,null,null,null,0.44710045329577441]
[null,null,null,null,null,null,null,null,15,null,null,null,null,null,-8.4212136072838575E-2]
[null,null,null,null,null,null,null,null,15]
[null,null,null,null,null,null,null,null,15,null,null,null,null,null,-0.53135319575134166]
[null,null,null,null,null,null,null,null,16,null,null,null,null,null,{"$f":"CORREL($B$17:$G$17,B2:G2)","v":0.54869700605303773}]
[null,null,null,null,null,null,null,null,16,null,null,null,null,null,{"$f":"CORREL($B$17:$G$17,B3:G3)","v":0.27681892134503594}]
[null,null,null,null,null,null,null,null,16,null,null,null,null,null,0.5425684515867587]
[null,null,null,null,null,null,null,null,16,null,null,null,null,null,0.15325060981911393]
[null,null,null,null,null,null,null,null,16,null,null,null,null,null,-0.28383781708558692]
[null,null,null,null,null,null,null,null,16,null,null,null,null,null,0.11306018406126848]
[null,null,null,null,null,null,null,null,16,null,null,null,null,null,0.33137128529683696]
[null,null,null,null,null,null,null,null,16,null,null,null,null,null,-0.83423833658459934]
[null,null,null,null,null,null,null,null,16,null,null,null,null,null,-0.21137038560941973]
[null,null,null,null,null,null,null,null,16,null,null,null,null,null,0.18683388630955053]
[null,null,null,null,null,null,null,null,16,null,null,null,null,null,0.6641068375718514]
[null,null,null,null,null,null,null,null,16,null,null,null,null,null,0.56458505958385508]
[null,null,null,null,null,null,null,null,16,null,null,null,null,null,-0.51022093700185756]
[null,null,null,null,null,null,null,null,16,null,null,null,null,null,0.38024858255771443]
[null,null,null,null,null,null,null,null,16,null,null,null,null,null,-0.53135319575134166]
[null,null,null,null,null,null,null,null,16]
[null,null,null,null,null,null,null,null,"max",null,null,null,null,null,{"$f":"MAX(O22:O277)","v":0.91660630589212866}]
[null,null,null,null,null,null,null,null,"min",null,null,null,null,null,{"$f":"MIN(O22:O277)","v":-0.84038148679747293}]
[null,null,null,null,null,null,null,null,"avg",null,null,null,null,null,{"$f":"AVERAGE(O22:O277)","v":-3.0352350188413705E-2}]
[null,null,null,null,null,null,null,null,"stddev",null,null,null,null,null,{"$f":"STDEV(O22:O277)","v":0.44616914911067002}]
[null,null,null,null,null,null,null,null,"median",null,null,null,null,null,{"$f":"MEDIAN(O22:O277)","v":-7.2096577388081978E-2}]
[null,null,null,null,null,null,null,null,"kvart_1",null,null,null,null,null,{"$f":"QUARTILE(O22:O277,1)","v":-0.36202261818388687}]
[null,null,null,null,null,null,null,null,"kvart_3",null,null,null,null,null,{"$f":"QUARTILE(O22:O277,3)","v":0.34765582484816848}]

{"sheet":"basics10","index":6,"n_rows":284,"n_cols":42,"rows_kept":284,"cut":false,"hidden":false,"merged":[]}
[{"$f":"RANDBETWEEN(10,99)","v":37},"A1","A2","A3","A4","A5","A6=Y",null,"rank",{"$f":"B1","v":"A1"},"A2","A3","A4","A5",{"$f":"G1&\"'\"","v":"A6=Y'"},"validity0","direkt","inverz","átlag","double","between1","validity1","invalid_between","valid_extrem","between2","validity2",null,{"$f":"models1!B7","v":"X(A1)"},{"$f":"models1!C7","v":"X(A2)"},{"$f":"models1!D7","v":"X(A3)"},{"$f":"models1!E7","v":"X(A4)"},{"$f":"models1!F7","v":"X(A5)"},{"$f":"AB1","v":"X(A1)"},{"$f":"AC1","v":"X(A2)"},"X(A3)","X(A4)","X(A5)",{"$f":"O1","v":"A6=Y'"},null,"direct_stddev","inverse_stddev","delta"]
["O1",31,40,19,92,46,86,null,{"$f":"A2","v":"O1"},{"$f":"RANK(B2,B$2:B$17,B$19)","v":12},{"$f":"RANK(C2,C$2:C$17,C$19)","v":6},4,2,10,{"$f":"G2*1000","v":86000},{"$f":"IF(models1!J962*models1!Y962<=0,\"valid\",\"invalid\")","v":"invalid"},{"$f":"models1!G962","v":72258.5},{"$f":"models1!V962","v":54875.1},{"$f":"AVERAGE(Q2:R2)","v":63566.8},{"$f":"models1!AO962","v":71293.8},{"$f":"IF(MAX(Q2:R2)<T2,0,IF(MIN(Q2:R2)>T2,0,1))","v":1},{"$f":"IF(P2=\"valid\",1,)","v":0},{"$f":"IF(V2=1,IF(U2=0,1,0),0)","v":0},{"$f":"IF(V2=0,IF(U2=1,1,0),0)","v":1},{"$f":"STDEV(S2:T2)","v":5463.8140982284531},{"$f":"STDEV(models1!J962,models1!Y962)","v":14.290628047780121},null,{"$f":"J2","v":12},{"$f":"K2","v":6},4,2,10,{"$f":"RANK(AB2,AB$2:AB$17,0)","v":5},{"$f":"RANK(AC2,AC$2:AC$17,0)","v":10},13,13,6,86000,null,{"$f":"STDEV(AB2:AF2)","v":4.1472882706655447},{"$f":"STDEV(AG2:AK2)","v":3.7815340802378072},{"$f":"ABS(AO2-AN2)","v":0.36575419042773749}]
["O2",14,22,21,92,24,82,null,{"$f":"A3","v":"O2"},{"$f":"RANK(B3,B$2:B$17,B$19)","v":15},2,5,2,15,{"$f":"G3*1000","v":82000},{"$f":"IF(models1!J963*models1!Y963<=0,\"valid\",\"invalid\")","v":"invalid"},{"$f":"models1!G963","v":70179.199999999997},{"$f":"models1!V963","v":73522},{"$f":"AVERAGE(Q3:R3)","v":71850.600000000006},{"$f":"models1!AO963","v":78878.3},0,0,{"$f":"IF(V3=1,IF(U3=0,1,0),0)","v":0},{"$f":"IF(V3=0,IF(U3=1,1,0),0)","v":0},{"$f":"STDEV(S3:T3)","v":4969.334326144698},{"$f":"STDEV(models1!J963,models1!Y963)","v":2.8849956672411214},null,{"$f":"J3","v":15},2,5,2,15,{"$f":"RANK(AB3,AB$2:AB$17,0)","v":2},15,12,13,2,82000,null,{"$f":"STDEV(AB3:AF3)","v":6.6858058601787116},{"$f":"STDEV(AG3:AK3)","v":6.3007936008093459},{"$f":"ABS(AO3-AN3)","v":0.38501225936936567}]
["O3",44,72,32,76,41,83,null,"O3",11,11,8,7,12,83000,{"$f":"IF(models1!J964*models1!Y964<=0,\"valid\",\"invalid\")","v":"invalid"},{"$f":"models1!G964","v":59262.400000000001},{"$f":"models1!V964","v":54875.1},57068.75,{"$f":"models1!AO964","v":66237.5},0,0,0,0,6483.2853000041578,{"$f":"STDEV(models1!J964,models1!Y964)","v":3.7405948724768359},null,11,11,8,7,12,6,5,8,10,5,83000,null,2.1679483388678804,2.1679483388678804,0]
["O4",94,59,55,68,93,96,null,"O4",1,8,12,10,1,96000,{"$f":"IF(models1!J965*models1!Y965<=0,\"valid\",\"invalid\")","v":"valid"},{"$f":"models1!G965","v":99810.4},{"$f":"models1!V965","v":66596},83203.199999999997,{"$f":"models1!AO965","v":97081},1,1,0,0,9813.0864879506717,{"$f":"STDEV(models1!J965,models1!Y965)","v":24.465894629054542},null,1,8,12,10,1,16,8,5,7,16,96000,null,5.1283525619832337,5.2249401910452535,9.6587629062019786E-2]
["O5",71,89,27,85,86,87,null,"O5",6,15,7,5,3,87000,{"$f":"IF(models1!J966*models1!Y966<=0,\"valid\",\"invalid\")","v":"invalid"},{"$f":"models1!G966","v":81095.899999999994},{"$f":"models1!V966","v":62333.9},71714.899999999994,{"$f":"models1!AO966","v":83934.6},0,0,0,0,8640.6327340652624,{"$f":"STDEV(models1!J966,models1!Y966)","v":15.245222202381967},null,6,15,7,5,3,10,2,9,12,13,87000,null,4.6043457732885358,4.3243496620879309,0.27999611120060486]
["O6",73,69,44,27,29,29,null,"O6",5,10,9,14,14,29000,{"$f":"IF(models1!J967*models1!Y967<=0,\"valid\",\"invalid\")","v":"invalid"},{"$f":"models1!G967","v":30151},{"$f":"models1!V967","v":66329.7},48240.35,{"$f":"models1!AO967","v":29326.5},0,0,0,0,13374.111593345169,{"$f":"STDEV(models1!J967,models1!Y967)","v":88.21157095302182},null,5,10,9,14,14,12,6,7,2,3,29000,null,3.781534080237809,3.9370039370059056,0.15546985676809655]
["O7",52,21,16,45,86,55,null,"O7",9,1,3,11,3,55000,{"$f":"IF(models1!J968*models1!Y968<=0,\"valid\",\"invalid\")","v":"valid"},{"$f":"models1!G968","v":74597.899999999994},{"$f":"models1!V968","v":47949.2},61273.549999999996,{"$f":"models1!AO968","v":60170},1,1,0,0,780.32768837841138,{"$f":"STDEV(models1!J968,models1!Y968)","v":34.259323548488226},null,9,1,3,11,3,8,16,14,5,13,55000,null,4.3358966777357599,4.5497252664309293,0.21382858869516941]
["O8",87,26,26,27,75,81,null,"O8",2,4,6,14,5,81000,{"$f":"IF(models1!J969*models1!Y969<=0,\"valid\",\"invalid\")","v":"valid"},{"$f":"models1!G969","v":88113.8},{"$f":"models1!V969","v":58604.5},73359.149999999994,{"$f":"models1!AO969","v":81912.100000000006},1,1,0,0,6047.8489441494894,{"$f":"STDEV(models1!J969,models1!Y969)","v":25.759900038625926},null,2,4,6,14,5,15,13,11,2,11,81000,null,4.6043457732885358,4.9799598391954945,0.37561406590695867]
["O9",80,95,62,92,63,24,null,"O9",3,16,14,2,9,24000,{"$f":"IF(models1!J970*models1!Y970<=0,\"valid\",\"invalid\")","v":"invalid"},{"$f":"models1!G970","v":24952.6},{"$f":"models1!V970","v":59403.7},42178.149999999994,{"$f":"models1!AO970","v":24270.2},0,0,0,0,12662.83288214964,{"$f":"STDEV(models1!J970,models1!Y970)","v":101.5051784393289},null,3,16,14,2,9,14,1,3,13,8,24000,null,6.3007936008093459,5.805170109479997,0.49562349132934891]
["O10",79,61,64,45,75,48,null,"O10",4,9,15,11,5,48000,{"$f":"IF(models1!J971*models1!Y971<=0,\"valid\",\"invalid\")","v":"valid"},{"$f":"models1!G971","v":38468.6},{"$f":"models1!V971","v":76718.600000000006},57593.600000000006,{"$f":"models1!AO971","v":48540.5},1,1,0,0,6401.5084007599371,{"$f":"STDEV(models1!J971,models1!Y971)","v":56.349339392755972},null,4,9,15,11,5,13,7,2,5,11,48000,null,4.4944410108488464,4.4497190922573973,4.4721918591449139E-2]
["O11",67,74,90,99,19,50,null,"O11",8,13,16,1,16,50000,{"$f":"IF(models1!J972*models1!Y972<=0,\"valid\",\"invalid\")","v":"invalid"},{"$f":"models1!G972","v":51984.6},{"$f":"models1!V972","v":72722.899999999994},62353.75,{"$f":"models1!AO972","v":50563},0,0,0,0,8337.3192802752856,{"$f":"STDEV(models1!J972,models1!Y972)","v":29.330789283618},null,8,13,16,1,16,9,4,1,16,1,50000,null,6.3796551630946317,6.3796551630946325,8.8817841970012523E-16]
["O12",48,52,10,37,64,24,null,"O12",10,7,1,13,8,24000,{"$f":"IF(models1!J973*models1!Y973<=0,\"valid\",\"invalid\")","v":"invalid"},{"$f":"models1!G973","v":46786.1},{"$f":"models1!V973","v":25572.9},36179.5,{"$f":"models1!AO973","v":24270.2},0,0,0,0,8421.146789184957,{"$f":"STDEV(models1!J973,models1!Y973)","v":62.501168389078948},null,10,7,1,13,8,7,9,16,4,9,24000,null,4.4384682042344297,4.4158804331639239,2.2587771070505802E-2]
["O13",12,76,14,74,34,31,null,"O13",16,14,2,8,13,31000,{"$f":"IF(models1!J974*models1!Y974<=0,\"valid\",\"invalid\")","v":"invalid"},{"$f":"models1!G974","v":37169},{"$f":"models1!V974","v":33031.599999999999},35100.300000000003,{"$f":"models1!AO974","v":48540.5},0,0,0,0,9503.6565605034357,{"$f":"STDEV(models1!J974,models1!Y974)","v":9.439875528840405},null,16,14,2,8,13,1,3,15,9,4,31000,null,5.6391488719486746,5.6391488719486738,8.8817841970012523E-16]
["O14",21,25,56,77,67,17,null,"O14",14,3,13,6,7,17000,{"$f":"IF(models1!J975*models1!Y975<=0,\"valid\",\"invalid\")","v":"invalid"},{"$f":"models1!G975","v":28851.4},{"$f":"models1!V975","v":47416.4},38133.9,{"$f":"models1!AO975","v":26292.799999999999},{"$f":"IF(MAX(Q15:R15)<T15,0,IF(MIN(Q15:R15)>T15,0,1))","v":0},0,0,0,8372.9221067080434,{"$f":"STDEV(models1!J975,models1!Y975)","v":77.22313157338283},null,14,3,13,6,7,3,14,4,11,10,17000,null,4.7222875812470377,4.7222875812470377,0]
["O15",71,35,54,73,91,84,null,"O15",6,5,11,9,2,84000,{"$f":"IF(models1!J976*models1!Y976<=0,\"valid\",\"invalid\")","v":"valid"},{"$f":"models1!G976","v":87334.1},{"$f":"models1!V976","v":63399.4},75366.75,{"$f":"models1!AO976","v":84945.8},{"$f":"IF(MAX(Q16:R16)<T16,0,IF(MIN(Q16:R16)>T16,0,1))","v":1},1,0,0,6773.4112123250006,{"$f":"STDEV(models1!J976,models1!Y976)","v":20.145472196004739},null,6,5,11,9,2,10,11,6,8,15,84000,null,3.5071355833500362,3.3911649915626341,0.1159705917874021]
["O16",23,73,48,16,46,66,null,"O16",{"$f":"RANK(B17,B$2:B$17,0)","v":13},5,7,16,10,66000,{"$f":"IF(models1!J977*models1!Y977<=0,\"valid\",\"invalid\")","v":"valid"},{"$f":"models1!G977","v":51984.6},{"$f":"models1!V977","v":79648.899999999994},65816.75,{"$f":"models1!AO977","v":66743.199999999997},{"$f":"IF(MAX(Q17:R17)<T17,0,IF(MIN(Q17:R17)>T17,0,1))","v":1},1,0,0,655.09907743027497,{"$f":"STDEV(models1!J977,models1!Y977)","v":29.641916267340072},null,13,5,7,16,10,4,11,9,1,6,66000,null,4.4384682042344279,3.9623225512317903,0.47614565300263756]
["correlation",{"$f":"CORREL(B2:B16,$G$2:$G$16)","v":0.21122893941265722},{"$f":"CORREL(C2:C16,$G$2:$G$16)","v":-0.19663919844787142},-0.14819175196834089,0.21240914199243341,0.25825899125848822,1,null,"O16(2)",{"$f":"MAX(J2:J16)","v":16},{"$f":"INT(QUARTILE(K2:K16,3))","v":12},{"$f":"MEDIAN(L2:L16)","v":8},{"$f":"INT(QUARTILE(M2:M16,1))","v":3},{"$f":"MIN(N2:N16)","v":1},{"$f":"O17","v":66000},"ratio","correlation","correlation",null,"correlation",null,null,null,null,null,null,null,"direct","direct","direct","direct","direct","inverse","inverse","inverse","inverse","inverse","double","max",{"$f":"MAX(AN2:AN17)","v":6.6858058601787116},{"$f":"MAX(AO2:AO17)","v":6.3796551630946325},{"$f":"MAX(AP2:AP17)","v":0.49562349132934891}]
["direction",{"$f":"IF(B18>0,0,1)","v":0},{"$f":"IF(C18>0,0,1)","v":1},1,0,0,"Y",null,null,null,null,null,null,null,null,{"$f":"COUNTIF($P$2:$P$17,\"valid\")/16","v":0.375},{"$f":"CORREL(Q2:Q17,$O$2:$O$17)","v":0.88849538927787752},{"$f":"CORREL(R2:R17,$O$2:$O$17)","v":0.42556068143785702},null,{"$f":"CORREL(T2:T17,$O$2:$O$17)","v":0.96135317877446524},{"$f":"SUM(U2:U17)","v":7},null,{"$f":"SUM(W2:W17)","v":0},{"$f":"SUM(X2:X17)","v":1},{"$f":"SUM(Y2:Y17)","v":116700.33748160291},null,null,null,null,null,null,null,null,null,null,null,null,null,"min",{"$f":"MIN(AN2:AN17)","v":2.1679483388678804},{"$f":"MIN(AO2:AO17)","v":2.1679483388678804},{"$f":"MIN(AP2:AP17)","v":0}]
[null,null,null,null,null,null,null,null,null,null,null,null,null,null,null,null,null,null,null,null,null,null,null,null,null,null,null,null,null,null,null,null,null,null,null,null,null,null,"avg",{"$f":"AVERAGE(AN2:AN17)","v":4.7109947222508408},{"$f":"AVERAGE(AO2:AO17)","v":4.6269752318541642},{"$f":"AVERAGE(AP2:AP17)","v":0.18920700795070611}]
["antagonism!",null,null,null,null,null,null,null,"O*",null,null,null,null,null,"correlation",null,null,null,null,null,null,null,null,null,null,null,null,null,null,null,null,null,null,null,null,null,null,null,"stddev",{"$f":"STDEV(AN2:AN17)","v":1.1461372701614048},{"$f":"STDEV(AO2:AO17)","v":1.1002303777218572},{"$f":"STDEV(AP2:AP17)","v":0.18188735014502302}]
[null,null,null,null,null,null,null,null,1,null,null,null,null,null,null,null,null,null,null,null,null,null,null,null,null,null,null,null,null,null,null,null,null,null,null,null,null,null,"median",{"$f":"MEDIAN(AN2:AN17)","v":4.5493933920686906},{"$f":"MEDIAN(AO2:AO17)","v":4.4997221793441629},0.13572022427774932]
["Consistency-tasks ",null,null,null,null,null,null,null,1,null,null,null,null,null,{"$f":"CORREL($B$2:$G$2,B3:G3)","v":0.95986811221730095}]
["Y=between1",null,null,null,null,null,null,null,1,null,null,null,null,null,0.82769718305168116]
["Y=between2",null,null,null,null,null,null,null,1,null,null,null,null,null,0.27350377695186134]
["Y=validity1",null,null,null,null,null,null,null,1,null,null,null,null,null,0.62599958122011989]
["Y=validity2",null,null,null,null,null,null,null,1,null,null,null,null,null,-0.64218262969619877]
["Y=validity-ratio",null,null,null,null,null,null,null,1,null,null,null,null,null,0.31280907148564424]
["Xi=model-characteristics",null,null,null,null,null,null,null,1,null,null,null,null,null,6.2008850869861347E-2]
[null,null,null,null,null,null,null,null,1,null,null,null,null,null,-0.2263857039768562]
[null,null,null,null,null,null,null,null,1,null,null,null,null,null,-0.79953005069734018]
[null,null,null,null,null,null,null,null,1,null,null,null,null,null,3.4201602062734662E-2]
[null,null,null,null,null,null,null,null,1,null,null,null,null,null,-4.3548313227557055E-2]
[null,null,null,null,null,null,null,null,1,null,null,null,null,null,0.49597562406461426]
[null,null,null,null,null,null,null,null,1,null,null,null,null,null,0.14910413736463207]
[null,null,null,null,null,null,null,null,1,null,null,null,null,null,0.45707590251960406]
[null,null,null,null,null,null,null,null,1,null,null,null,null,null,-0.12591552307056778]
[null,null,null,null,null,null,null,null,{"$f":"I22+1","v":2},null,null,null,null,null,{"$f":"CORREL($B$3:$G$3,B2:G2)","v":0.95986811221730095}]
[null,null,null,null,null,null,null,null,{"$f":"I23+1","v":2}]
[null,null,null,null,null,null,null,null,2,null,null,null,null,null,{"$f":"CORREL($B$3:$G$3,B4:G4)","v":0.76692946535122097}]
[null,null,null,null,null,null,null,null,2,null,null,null,null,null,0.11128467196246]
[null,null,null,null,null,null,null,null,2,null,null,null,null,null,0.38947037262492445]
[null,null,null,null,null,null,null,null,2,null,null,null,null,null,-0.6846538913078325]
[null,null,null,null,null,null,null,null,2,null,null,null,null,null,0.12476191424113672]
[null,null,null,null,null,null,null,null,2,null,null,null,null,null,-8.0592076920806957E-2]
[null,null,null,null,null,null,null,null,2,null,null,null,null,null,-0.26854003277738353]
[null,null,null,null,null,null,null,null,2,null,null,null,null,null,-0.89459683904516152]
[null,null,null,null,null,null,null,null,2,null,null,null,null,null,0.23084299450973414]
[null,null,null,null,null,null,null,null,2,null,null,null,null,null,-0.30718882071057774]
[null,null,null,null,null,null,null,null,2,null,null,null,null,null,0.41683315403363225]
[null,null,null,null,null,null,null,null,2,null,null,null,null,null,0.20534403362681897]
[null,null,null,null,null,null,null,null,2,null,null,null,null,null,0.37734122380331792]
[null,null,null,null,null,null,null,null,2,null,null,null,null,null,-0.16166118227695242]
[null,null,null,null,null,null,null,null,3,null,null,null,null,null,{"$f":"CORREL($B$4:$G$4,B2:G2)","v":0.82769718305168116}]
[null,null,null,null,null,null,null,null,3,null,null,null,null,null,{"$f":"CORREL($B$4:$G$4,B3:G3)","v":0.76692946535122097}]
[null,null,null,null,null,null,null,null,3]
[null,null,null,null,null,null,null,null,3,null,null,null,null,null,6.048180859571764E-2]
[null,null,null,null,null,null,null,null,3,null,null,null,null,null,0.69613470731056637]
[null,null,null,null,null,null,null,null,3,null,null,null,null,null,-0.21415037140380433]
[null,null,null,null,null,null,null,null,3,null,null,null,null,null,-4.6442089943382718E-2]
[null,null,null,null,null,null,null,null,3,null,null,null,null,null,-9.0710507790845094E-2]
[null,null,null,null,null,null,null,null,3,null,null,null,null,null,-7.7098448873762271E-2]
[null,null,null,null,null,null,null,null,3,null,null,null,null,null,-0.79875957542905596]
[null,null,null,null,null,null,null,null,3,null,null,null,null,null,0.15017543735349836]
[null,null,null,null,null,null,null,null,3,null,null,null,null,null,-1.2277289643645405E-2]
[null,null,null,null,null,null,null,null,3,null,null,null,null,null,0.67617434572595159]
[null,null,null,null,null,null,null,null,3,null,null,null,null,null,-0.26072930500962288]
[null,null,null,null,null,null,null,null,3,null,null,null,null,null,-1.8613641173555753E-2]
[null,null,null,null,null,null,null,null,3,null,null,null,null,null,0.25027098406499498]
[null,null,null,null,null,null,null,null,4,null,null,null,null,null,{"$f":"CORREL($B$5:$G$5,B2:G2)","v":0.27350377695186134}]
[null,null,null,null,null,null,null,null,4,null,null,null,null,null,{"$f":"CORREL($B$5:$G$5,B3:G3)","v":0.11128467196246}]
[null,null,null,null,null,null,null,null,4,null,null,null,null,null,6.048180859571764E-2]
[null,null,null,null,null,null,null,null,4]
[null,null,null,null,null,null,null,null,4,null,null,null,null,null,0.46335522311473842]
[null,null,null,null,null,null,null,null,4,null,null,null,null,null,-0.16751064246474359]
[null,null,null,null,null,null,null,null,4,null,null,null,null,null,0.84278645957123799]
[null,null,null,null,null,null,null,null,4,null,null,null,null,null,0.97050032553037935]
[null,null,null,null,null,null,null,null,4,null,null,null,null,null,-0.51809074752266482]
[null,null,null,null,null,null,null,null,4,null,null,null,null,null,0.27455424788261762]
[null,null,null,null,null,null,null,null,4,null,null,null,null,null,-0.73273847509233714]
[null,null,null,null,null,null,null,null,4,null,null,null,null,null,0.3691835871400726]
[null,null,null,null,null,null,null,null,4,null,null,null,null,null,-0.4187021182206474]
[null,null,null,null,null,null,null,null,4,null,null,null,null,null,-0.30640558193304107]
[null,null,null,null,null,null,null,null,4,null,null,null,null,null,0.81336134499051227]
[null,null,null,null,null,null,null,null,4,null,null,null,null,null,-0.12555619994364201]
[null,null,null,null,null,null,null,null,5,null,null,null,null,null,{"$f":"CORREL($B$6:$G$6,B2:G2)","v":0.62599958122011989}]
[null,null,null,null,null,null,null,null,5,null,null,null,null,null,{"$f":"CORREL($B$6:$G$6,B3:G3)","v":0.38947037262492445}]
[null,null,null,null,null,null,null,null,5,null,null,null,null,null,0.69613470731056637]
[null,null,null,null,null,null,null,null,5,null,null,null,null,null,0.46335522311473842]
[null,null,null,null,null,null,null,null,5]
[null,null,null,null,null,null,null,null,5,null,null,null,null,null,-0.10945608667102162]
[null,null,null,null,null,null,null,null,5,null,null,null,null,null,0.52487877239587177]
[null,null,null,null,null,null,null,null,5,null,null,null,null,null,0.3047819947635263]
[null,null,null,null,null,null,null,null,5,null,null,null,null,null,8.9597039844185933E-2]
[null,null,null,null,null,null,null,null,5,null,null,null,null,null,-0.22586415442203372]
[null,null,null,null,null,null,null,null,5,null,null,null,null,null,-0.40897387205038449]
[null,null,null,null,null,null,null,null,5,null,null,null,null,null,0.6822760644324094]
[null,null,null,null,null,null,null,null,5,null,null,null,null,null,0.59652312073264779]
[null,null,null,null,null,null,null,null,5,null,null,null,null,null,-0.15770618542162815]
[null,null,null,null,null,null,null,null,5,null,null,null,null,null,0.28167805664487183]
[null,null,null,null,null,null,null,null,5,null,null,null,null,null,0.11449166733439156]
[null,null,null,null,null,null,null,null,6,null,null,null,null,null,{"$f":"CORREL($B$7:$G$7,B2:G2)","v":-0.64218262969619877}]
[null,null,null,null,null,null,null,null,{"$f":"I87+1","v":6},null,null,null,null,null,{"$f":"CORREL($B$7:$G$7,B3:G3)","v":-0.6846538913078325}]
[null,null,null,null,null,null,null,null,6,null,null,null,null,null,-0.21415037140380433]
[null,null,null,null,null,null,null,null,6,null,null,null,null,null,-0.16751064246474359]
[null,null,null,null,null,null,null,null,6,null,null,null,null,null,-0.10945608667102162]
[null,null,null,null,null,null,null,null,6]
[null,null,null,null,null,null,null,null,6,null,null,null,null,null,-0.43754225227400756]
[null,null,null,null,null,null,null,null,6,null,null,null,null,null,-5.2685379655072705E-4]
[null,null,null,null,null,null,null,null,6,null,null,null,null,null,0.48802021847415344]
[null,null,null,null,null,null,null,null,6,null,null,null,null,null,0.53495170598639863]
[null,null,null,null,null,null,null,null,6,null,null,null,null,null,0.20081069140501204]
[null,null,null,null,null,null,null,null,6,null,null,null,null,null,0.22681863484836334]
[null,null,null,null,null,null,null,null,6,null,null,null,null,null,-8.9467532574746197E-2]
[null,null,null,null,null,null,null,null,6,null,null,null,null,null,-0.60244670448221838]
[null,null,null,null,null,null,null,null,6,null,null,null,null,null,-0.6549094124902568]
[null,null,null,null,null,null,null,null,6,null,null,null,null,null,9.3905975042204839E-2]
[null,null,null,null,null,null,null,null,7,null,null,null,null,null,{"$f":"CORREL($B$8:$G$8,B2:G2)","v":0.31280907148564424}]
[null,null,null,null,null,null,null,null,7,null,null,null,null,null,{"$f":"CORREL($B$8:$G$8,B3:G3)","v":0.12476191424113672}]
[null,null,null,null,null,null,null,null,7,null,null,null,null,null,-4.6442089943382718E-2]
[null,null,null,null,null,null,null,null,7,null,null,null,null,null,0.84278645957123799]
[null,null,null,null,null,null,null,null,7,null,null,null,null,null,0.52487877239587177]
[null,null,null,null,null,null,null,null,7,null,null,null,null,null,-0.43754225227400756]
[null,null,null,null,null,null,null,null,7]
[null,null,null,null,null,null,null,null,7,null,null,null,null,null,0.740912217975217]
[null,null,null,null,null,null,null,null,7,null,null,null,null,null,-0.31209155062361799]
[null,null,null,null,null,null,null,null,7,null,null,null,null,null,0.27262232275457471]
[null,null,null,null,null,null,null,null,7,null,null,null,null,null,-0.80552480561509732]
[null,null,null,null,null,null,null,null,7,null,null,null,null,null,0.58382116148490093]
[null,null,null,null,null,null,null,null,7,null,null,null,null,null,-0.17784695072691678]
[null,null,null,null,null,null,null,null,7,null,null,null,null,null,0.18749980984310322]
[null,null,null,null,null,null,null,null,7,null,null,null,null,null,0.88894938415959479]
[null,null,null,null,null,null,null,null,7,null,null,null,null,null,-0.23036912063324166]
[null,null,null,null,null,null,null,null,8,null,null,null,null,null,{"$f":"CORREL($B$9:$G$9,B2:G2)","v":6.2008850869861347E-2}]
[null,null,null,null,null,null,null,null,8,null,null,null,null,null,{"$f":"CORREL($B$9:$G$9,B3:G3)","v":-8.0592076920806957E-2}]
[null,null,null,null,null,null,null,null,8,null,null,null,null,null,-9.0710507790845094E-2]
[null,null,null,null,null,null,null,null,8,null,null,null,null,null,0.97050032553037935]
[null,null,null,null,null,null,null,null,8,null,null,null,null,null,0.3047819947635263]
[null,null,null,null,null,null,null,null,8,null,null,null,null,null,-5.2685379655072705E-4]
[null,null,null,null,null,null,null,null,8,null,null,null,null,null,0.740912217975217]
[null,null,null,null,null,null,null,null,8]
[null,null,null,null,null,null,null,null,8,null,null,null,null,null,-0.53852149192161114]
[null,null,null,null,null,null,null,null,8,null,null,null,null,null,0.42683435767328126]
[null,null,null,null,null,null,null,null,8,null,null,null,null,null,-0.72574620599473694]
[null,null,null,null,null,null,null,null,8,null,null,null,null,null,0.30886715768089174]
[null,null,null,null,null,null,null,null,8,null,null,null,null,null,-0.58138775001512422]
[null,null,null,null,null,null,null,null,8,null,null,null,null,null,-0.43327347979622111]
[null,null,null,null,null,null,null,null,8,null,null,null,null,null,0.70900871911878183]
[null,null,null,null,null,null,null,null,8,null,null,null,null,null,-6.5115004038911711E-2]
[null,null,null,null,null,null,null,null,9,null,null,null,null,null,{"$f":"CORREL($B$10:$G$10,B2:G2)","v":-0.2263857039768562}]
[null,null,null,null,null,null,null,null,9,null,null,null,null,null,{"$f":"CORREL($B$10:$G$10,B3:G3)","v":-0.26854003277738353}]
[null,null,null,null,null,null,null,null,9,null,null,null,null,null,-7.7098448873762271E-2]
[null,null,null,null,null,null,null,null,9,null,null,null,null,null,-0.51809074752266482]
[null,null,null,null,null,null,null,null,9,null,null,null,null,null,8.9597039844185933E-2]
[null,null,null,null,null,null,null,null,9,null,null,null,null,null,0.48802021847415344]
[null,null,null,null,null,null,null,null,9,null,null,null,null,null,-0.31209155062361799]
[null,null,null,null,null,null,null,null,9,null,null,null,null,null,-0.53852149192161114]
[null,null,null,null,null,null,null,null,9]
[null,null,null,null,null,null,null,null,9,null,null,null,null,null,0.17067193255641991]
[null,null,null,null,null,null,null,null,9,null,null,null,null,null,0.4771398447719426]
[null,null,null,null,null,null,null,null,9,null,null,null,null,null,0.43278785102864564]
[null,null,null,null,null,null,null,null,9,null,null,null,null,null,0.54637657672015649]
[null,null,null,null,null,null,null,null,9,null,null,null,null,null,0.29499439204010885]
[null,null,null,null,null,null,null,null,9,null,null,null,null,null,-0.54677673244154701]
[null,null,null,null,null,null,null,null,9,null,null,null,null,null,-0.38907423869845148]
[null,null,null,null,null,null,null,null,10,null,null,null,null,null,{"$f":"CORREL($B$11:$G$11,B2:G2)","v":-0.79953005069734018}]
[null,null,null,null,null,null,null,null,{"$f":"I151+1","v":10},null,null,null,null,null,{"$f":"CORREL($B$11:$G$11,B3:G3)","v":-0.89459683904516152}]
[null,null,null,null,null,null,null,null,10,null,null,null,null,null,-0.79875957542905596]
[null,null,null,null,null,null,null,null,10,null,null,null,null,null,0.27455424788261762]
[null,null,null,null,null,null,null,null,10,null,null,null,null,null,-0.22586415442203372]
[null,null,null,null,null,null,null,null,10,null,null,null,null,null,0.53495170598639863]
[null,null,null,null,null,null,null,null,10,null,null,null,null,null,0.27262232275457471]
[null,null,null,null,null,null,null,null,10,null,null,null,null,null,0.42683435767328126]
[null,null,null,null,null,null,null,null,10,null,null,null,null,null,0.17067193255641991]
[null,null,null,null,null,null,null,null,10]
[null,null,null,null,null,null,null,null,10,null,null,null,null,null,-0.44687412799799142]
[null,null,null,null,null,null,null,null,10,null,null,null,null,null,0.47944150190771778]
[null,null,null,null,null,null,null,null,10,null,null,null,null,null,-0.55978789443695776]
[null,null,null,null,null,null,null,null,10,null,null,null,null,null,-0.12959013294222019]
[null,null,null,null,null,null,null,null,10,null,null,null,null,null,3.257097770506355E-2]
[null,null,null,null,null,null,null,null,10,null,null,null,null,null,-0.11812728647365392]
[null,null,null,null,null,null,null,null,11,null,null,null,null,null,{"$f":"CORREL($B$12:$G$12,B2:G2)","v":3.4201602062734662E-2}]
[null,null,null,null,null,null,null,null,11,null,null,null,null,null,{"$f":"CORREL($B$12:$G$12,B3:G3)","v":0.23084299450973414}]
[null,null,null,null,null,null,null,null,11,null,null,null,null,null,0.15017543735349836]
[null,null,null,null,null,null,null,null,11,null,null,null,null,null,-0.73273847509233714]
[null,null,null,null,null,null,null,null,11,null,null,null,null,null,-0.40897387205038449]
[null,null,null,null,null,null,null,null,11,null,null,null,null,null,0.20081069140501204]
[null,null,null,null,null,null,null,null,11,null,null,null,null,null,-0.80552480561509732]
[null,null,null,null,null,null,null,null,11,null,null,null,null,null,-0.72574620599473694]
[null,null,null,null,null,null,null,null,11,null,null,null,null,null,0.4771398447719426]
[null,null,null,null,null,null,null,null,11,null,null,null,null,null,-0.44687412799799142]
[null,null,null,null,null,null,null,null,11]
[null,null,null,null,null,null,null,null,11,null,null,null,null,null,-0.55483356373618054]
[null,null,null,null,null,null,null,null,11,null,null,null,null,null,0.28793223460383599]
[null,null,null,null,null,null,null,null,11,null,null,null,null,null,0.14700002909624396]
[null,null,null,null,null,null,null,null,11,null,null,null,null,null,-0.59554782307456688]
[null,null,null,null,null,null,null,null,11,null,null,null,null,null,-0.3256961832558285]
[null,null,null,null,null,null,null,null,12,null,null,null,null,null,{"$f":"CORREL($B$13:$G$13,B2:G2)","v":-4.3548313227557055E-2}]
[null,null,null,null,null,null,null,null,12,null,null,null,null,null,{"$f":"CORREL($B$13:$G$13,B3:G3)","v":-0.30718882071057774}]
[null,null,null,null,null,null,null,null,12,null,null,null,null,null,-1.2277289643645405E-2]
[null,null,null,null,null,null,null,null,12,null,null,null,null,null,0.3691835871400726]
[null,null,null,null,null,null,null,null,12,null,null,null,null,null,0.6822760644324094]
[null,null,null,null,null,null,null,null,12,null,null,null,null,null,0.22681863484836334]
[null,null,null,null,null,null,null,null,12,null,null,null,null,null,0.58382116148490093]
[null,null,null,null,null,null,null,null,12,null,null,null,null,null,0.30886715768089174]
[null,null,null,null,null,null,null,null,12,null,null,null,null,null,0.43278785102864564]
[null,null,null,null,null,null,null,null,12,null,null,null,null,null,0.47944150190771778]
[null,null,null,null,null,null,null,null,12,null,null,null,null,null,-0.55483356373618054]
[null,null,null,null,null,null,null,null,12]
[null,null,null,null,null,null,null,null,12,null,null,null,null,null,0.31681895925171549]
[null,null,null,null,null,null,null,null,12,null,null,null,null,null,4.3743218929944511E-2]
[null,null,null,null,null,null,null,null,12,null,null,null,null,null,0.16264167393358217]
[null,null,null,null,null,null,null,null,12,null,null,null,null,null,-6.8727723007891497E-2]
[null,null,null,null,null,null,null,null,13,null,null,null,null,null,{"$f":"CORREL($B$14:$G$14,B2:G2)","v":0.49597562406461426}]
[null,null,null,null,null,null,null,null,13,null,null,null,null,null,{"$f":"CORREL($B$14:$G$14,B3:G3)","v":0.41683315403363225}]
[null,null,null,null,null,null,null,null,13,null,null,null,null,null,0.67617434572595159]
[null,null,null,null,null,null,null,null,13,null,null,null,null,null,-0.4187021182206474]
[null,null,null,null,null,null,null,null,13,null,null,null,null,null,0.59652312073264779]
[null,null,null,null,null,null,null,null,13,null,null,null,null,null,-8.9467532574746197E-2]
[null,null,null,null,null,null,null,null,13,null,null,null,null,null,-0.17784695072691678]
[null,null,null,null,null,null,null,null,13,null,null,null,null,null,-0.58138775001512422]
[null,null,null,null,null,null,null,null,13,null,null,null,null,null,0.54637657672015649]
[null,null,null,null,null,null,null,null,13,null,null,null,null,null,-0.55978789443695776]
[null,null,null,null,null,null,null,null,13,null,null,null,null,null,0.28793223460383599]
[null,null,null,null,null,null,null,null,13,null,null,null,null,null,0.31681895925171549]
[null,null,null,null,null,null,null,null,13]
[null,null,null,null,null,null,null,null,13,null,null,null,null,null,0.23713149331632999]
[null,null,null,null,null,null,null,null,13,null,null,null,null,null,-0.35033832818821065]
[null,null,null,null,null,null,null,null,13,null,null,null,null,null,0.11356460375392179]
[null,null,null,null,null,null,null,null,14,null,null,null,null,null,{"$f":"CORREL($B$15:$G$15,B2:G2)","v":0.14910413736463207}]
[null,null,null,null,null,null,null,null,{"$f":"I215+1","v":14},null,null,null,null,null,{"$f":"CORREL($B$15:$G$15,B3:G3)","v":0.20534403362681897}]
[null,null,null,null,null,null,null,null,14,null,null,null,null,null,-0.26072930500962288]
[null,null,null,null,null,null,null,null,14,null,null,null,null,null,-0.30640558193304107]
[null,null,null,null,null,null,null,null,14,null,null,null,null,null,-0.15770618542162815]
[null,null,null,null,null,null,null,null,14,null,null,null,null,null,-0.60244670448221838]
[null,null,null,null,null,null,null,null,14,null,null,null,null,null,0.18749980984310322]
[null,null,null,null,null,null,null,null,14,null,null,null,null,null,-0.43327347979622111]
[null,null,null,null,null,null,null,null,14,null,null,null,null,null,0.29499439204010885]
[null,null,null,null,null,null,null,null,14,null,null,null,null,null,-0.12959013294222019]
[null,null,null,null,null,null,null,null,14,null,null,null,null,null,0.14700002909624396]
[null,null,null,null,null,null,null,null,14,null,null,null,null,null,4.3743218929944511E-2]
[null,null,null,null,null,null,null,null,14,null,null,null,null,null,0.23713149331632999]
[null,null,null,null,null,null,null,null,14]
[null,null,null,null,null,null,null,null,14,null,null,null,null,null,0.24446283683410416]
[null,null,null,null,null,null,null,null,14,null,null,null,null,null,-0.50676339011540772]
[null,null,null,null,null,null,null,null,15,null,null,null,null,null,{"$f":"CORREL($B$16:$G$16,B2:G2)","v":0.45707590251960406}]
[null,null,null,null,null,null,null,null,15,null,null,null,null,null,{"$f":"CORREL($B$16:$G$16,B3:G3)","v":0.37734122380331792}]
[null,null,null,null,null,null,null,null,15,null,null,null,null,null,-1.8613641173555753E-2]
[null,null,null,null,null,null,null,null,15,null,null,null,null,null,0.81336134499051227]
[null,null,null,null,null,null,null,null,15,null,null,null,null,null,0.28167805664487183]
[null,null,null,null,null,null,null,null,15,null,null,null,null,null,-0.6549094124902568]
[null,null,null,null,null,null,null,null,15,null,null,null,null,null,0.88894938415959479]
[null,null,null,null,null,null,null,null,15,null,null,null,null,null,0.70900871911878183]
[null,null,null,null,null,null,null,null,15,null,null,null,null,null,-0.54677673244154701]
[null,null,null,null,null,null,null,null,15,null,null,null,null,null,3.257097770506355E-2]
[null,null,null,null,null,null,null,null,15,null,null,null,null,null,-0.59554782307456688]
[null,null,null,null,null,null,null,null,15,null,null,null,null,null,0.16264167393358217]
[null,null,null,null,null,null,null,null,15,null,null,null,null,null,-0.35033832818821065]
[null,null,null,null,null,null,null,null,15,null,null,null,null,null,0.24446283683410416]
[null,null,null,null,null,null,null,null,15]
[null,null,null,null,null,null,null,null,15,null,null,null,null,null,-0.35250640250064291]
[null,null,null,null,null,null,null,null,16,null,null,null,null,null,{"$f":"CORREL($B$17:$G$17,B2:G2)","v":-0.12591552307056778}]
[null,null,null,null,null,null,null,null,16,null,null,null,null,null,{"$f":"CORREL($B$17:$G$17,B3:G3)","v":-0.16166118227695242}]
[null,null,null,null,null,null,null,null,16,null,null,null,null,null,0.25027098406499498]
[null,null,null,null,null,null,null,null,16,null,null,null,null,null,-0.12555619994364201]
[null,null,null,null,null,null,null,null,16,null,null,null,null,null,0.11449166733439156]
[null,null,null,null,null,null,null,null,16,null,null,null,null,null,9.3905975042204839E-2]
[null,null,null,null,null,null,null,null,16,null,null,null,null,null,-0.23036912063324166]
[null,null,null,null,null,null,null,null,16,null,null,null,null,null,-6.5115004038911711E-2]
[null,null,null,null,null,null,null,null,16,null,null,null,null,null,-0.38907423869845148]
[null,null,null,null,null,null,null,null,16,null,null,null,null,null,-0.11812728647365392]
[null,null,null,null,null,null,null,null,16,null,null,null,null,null,-0.3256961832558285]
[null,null,null,null,null,null,null,null,16,null,null,null,null,null,-6.8727723007891497E-2]
[null,null,null,null,null,null,null,null,16,null,null,null,null,null,0.11356460375392179]
[null,null,null,null,null,null,null,null,16,null,null,null,null,null,-0.50676339011540772]
[null,null,null,null,null,null,null,null,16,null,null,null,null,null,-0.35250640250064291]
[null,null,null,null,null,null,null,null,16]
[null,null,null,null,null,null,null,null,"max",null,null,null,null,null,{"$f":"MAX(O22:O277)","v":0.97050032553037935}]
[null,null,null,null,null,null,null,null,"min",null,null,null,null,null,{"$f":"MIN(O22:O277)","v":-0.89459683904516152}]
[null,null,null,null,null,null,null,null,"avg",null,null,null,null,null,{"$f":"AVERAGE(O22:O277)","v":4.2571367030965389E-2}]
[null,null,null,null,null,null,null,null,"stddev",null,null,null,null,null,{"$f":"STDEV(O22:O277)","v":0.44312163777957186}]
[null,null,null,null,null,null,null,null,"median",null,null,null,null,null,{"$f":"MEDIAN(O22:O277)","v":6.1245329732789497E-2}]
[null,null,null,null,null,null,null,null,"kvart_1",null,null,null,null,null,{"$f":"QUARTILE(O22:O277,1)","v":-0.27800642006629794}]
[null,null,null,null,null,null,null,null,"kvart_3",null,null,null,null,null,{"$f":"QUARTILE(O22:O277,3)","v":0.32991011622380478}]

{"sheet":"basics9","index":7,"n_rows":284,"n_cols":42,"rows_kept":284,"cut":false,"hidden":false,"merged":[]}
[{"$f":"RANDBETWEEN(10,99)","v":73},"A1","A2","A3","A4","A5","A6=Y",null,"rank",{"$f":"B1","v":"A1"},"A2","A3","A4","A5",{"$f":"G1&\"'\"","v":"A6=Y'"},"validity0","direkt","inverz","átlag","double","between1","validity1","invalid_between","valid_extrem","between2","validity2",null,{"$f":"models1!B7","v":"X(A1)"},{"$f":"models1!C7","v":"X(A2)"},{"$f":"models1!D7","v":"X(A3)"},{"$f":"models1!E7","v":"X(A4)"},{"$f":"models1!F7","v":"X(A5)"},{"$f":"AB1","v":"X(A1)"},{"$f":"AC1","v":"X(A2)"},"X(A3)","X(A4)","X(A5)",{"$f":"O1","v":"A6=Y'"},null,"direct_stddev","inverse_stddev","delta"]
["O1",77,70,74,66,36,76,null,{"$f":"A2","v":"O1"},{"$f":"RANK(B2,B$2:B$17,B$19)","v":12},{"$f":"RANK(C2,C$2:C$17,C$19)","v":8},11,10,7,{"$f":"G2*1000","v":76000},{"$f":"IF(models1!J862*models1!Y862<=0,\"valid\",\"invalid\")","v":"invalid"},{"$f":"models1!G862","v":60723.8},{"$f":"models1!V862","v":62730.2},{"$f":"AVERAGE(Q2:R2)","v":61727},{"$f":"models1!AO862","v":76000},{"$f":"IF(MAX(Q2:R2)<T2,0,IF(MIN(Q2:R2)>T2,0,1))","v":0},{"$f":"IF(P2=\"valid\",1,)","v":0},{"$f":"IF(V2=1,IF(U2=0,1,0),0)","v":0},{"$f":"IF(V2=0,IF(U2=1,1,0),0)","v":0},{"$f":"STDEV(S2:T2)","v":10092.535087875593},{"$f":"STDEV(models1!J862,models1!Y862)","v":1.866761902332486},null,{"$f":"J2","v":12},{"$f":"K2","v":8},11,10,7,{"$f":"RANK(AB2,AB$2:AB$17,0)","v":4},{"$f":"RANK(AC2,AC$2:AC$17,0)","v":9},7,6,11,76000,null,{"$f":"STDEV(AB2:AF2)","v":2.0736441353327715},{"$f":"STDEV(AG2:AK2)","v":2.7018512172212588},{"$f":"ABS(AO2-AN2)","v":0.62820708188848728}]
["O2",95,11,93,77,46,34,null,{"$f":"A3","v":"O2"},{"$f":"RANK(B3,B$2:B$17,B$19)","v":16},16,15,11,9,{"$f":"G3*1000","v":34000},{"$f":"IF(models1!J863*models1!Y863<=0,\"valid\",\"invalid\")","v":"valid"},{"$f":"models1!G863","v":33846},{"$f":"models1!V863","v":62730.2},{"$f":"AVERAGE(Q3:R3)","v":48288.1},{"$f":"models1!AO863","v":34000},1,1,{"$f":"IF(V3=1,IF(U3=0,1,0),0)","v":0},{"$f":"IF(V3=0,IF(U3=1,1,0),0)","v":0},{"$f":"STDEV(S3:T3)","v":10103.212400271477},{"$f":"STDEV(models1!J863,models1!Y863)","v":60.06872106179722},null,{"$f":"J3","v":16},16,15,11,9,{"$f":"RANK(AB3,AB$2:AB$17,0)","v":1},1,2,5,9,34000,null,{"$f":"STDEV(AB3:AF3)","v":3.2093613071762443},{"$f":"STDEV(AG3:AK3)","v":3.4351128074635335},{"$f":"ABS(AO3-AN3)","v":0.22575150028728919}]
["O3",87,81,95,56,73,48,null,"O3",13,5,16,7,14,48000,{"$f":"IF(models1!J864*models1!Y864<=0,\"valid\",\"invalid\")","v":"valid"},{"$f":"models1!G864","v":37330.199999999997},{"$f":"models1!V864","v":57867.4},47598.8,{"$f":"models1!AO864","v":48000},1,1,0,0,283.69124061204081,{"$f":"STDEV(models1!J864,models1!Y864)","v":30.257099166972367},null,13,5,16,7,14,3,12,1,9,3,48000,null,4.7434164902525691,4.6690470119715002,7.4369478281068879E-2]
["O4",18,69,60,91,43,41,null,"O4",2,9,8,14,8,41000,{"$f":"IF(models1!J865*models1!Y865<=0,\"valid\",\"invalid\")","v":"invalid"},{"$f":"models1!G865","v":45045.1},{"$f":"models1!V865","v":51059.5},48052.3,{"$f":"models1!AO865","v":41000},0,0,0,0,4986.7291529618915,{"$f":"STDEV(models1!J865,models1!Y865)","v":10.373256480006654},null,2,9,8,14,8,15,8,10,3,10,41000,null,4.2661458015403086,4.3243496620879309,5.8203860547622277E-2]
["O5",49,87,18,63,21,46,null,"O5",7,3,2,8,4,46000,{"$f":"IF(models1!J866*models1!Y866<=0,\"valid\",\"invalid\")","v":"valid"},{"$f":"models1!G866","v":60723.8},{"$f":"models1!V866","v":36957.300000000003},48840.55,{"$f":"models1!AO866","v":46000},1,1,0,0,2008.5721672994496,{"$f":"STDEV(models1!J866,models1!Y866)","v":36.536207383908909},null,7,3,2,8,4,9,14,15,8,13,46000,null,2.5884358211089569,3.1144823004794855,0.52604647937052862]
["O6",65,83,86,37,78,30,null,"O6",10,4,14,4,15,30000,{"$f":"IF(models1!J867*models1!Y867<=0,\"valid\",\"invalid\")","v":"invalid"},{"$f":"models1!G867","v":38823.4},{"$f":"models1!V867","v":49114.3},43968.850000000006,{"$f":"models1!AO867","v":30000},0,0,0,0,9877.4685603776852,{"$f":"STDEV(models1!J867,models1!Y867)","v":24.253762594698561},null,10,4,14,4,15,6,13,3,13,2,30000,null,5.272570530585627,5.3197744313081543,4.7203900722527337E-2]
["O7",76,49,17,64,56,27,null,"O7",11,15,1,9,11,27000,{"$f":"IF(models1!J868*models1!Y868<=0,\"valid\",\"invalid\")","v":"valid"},{"$f":"models1!G868","v":26877.7},{"$f":"models1!V868","v":27718},27297.85,{"$f":"models1!AO868","v":27000},1,1,0,0,210.61175477641217,{"$f":"STDEV(models1!J868,models1!Y868)","v":2.1991020894901627},null,11,15,1,9,11,5,2,16,7,5,27000,null,5.1768716422179137,5.3385391260156556,0.16166748379774187]
["O8",39,67,63,18,28,88,null,"O8",6,11,9,1,5,88000,{"$f":"IF(models1!J869*models1!Y869<=0,\"valid\",\"invalid\")","v":"invalid"},{"$f":"models1!G869","v":87601.5},{"$f":"models1!V869","v":59326.2},73463.850000000006,{"$f":"models1!AO869","v":88000},0,0,0,0,10278.610237344828,{"$f":"STDEV(models1!J869,models1!Y869)","v":22.71934087952377},null,6,11,9,1,5,10,5,9,16,12,88000,null,3.8470768123342687,4.0373258476372715,0.19024903530300286]
["O9",30,51,49,81,50,66,null,"O9",4,13,6,13,10,66000,{"$f":"IF(models1!J870*models1!Y870<=0,\"valid\",\"invalid\")","v":"invalid"},{"$f":"models1!G870","v":55746.400000000001},{"$f":"models1!V870","v":55436},55591.199999999997,{"$f":"models1!AO870","v":66000},0,0,0,0,7360.1330640145379,{"$f":"STDEV(models1!J870,models1!Y870)","v":0.33234018715767905},null,4,13,6,13,10,12,4,12,4,8,66000,null,4.0865633483405102,4,8.656334834051016E-2]
["O10",52,50,80,49,96,37,null,"O10",8,14,13,6,16,37000,{"$f":"IF(models1!J871*models1!Y871<=0,\"valid\",\"invalid\")","v":"valid"},{"$f":"models1!G871","v":36832.400000000001},{"$f":"models1!V871","v":64189},50510.7,{"$f":"models1!AO871","v":37000},1,1,0,0,9553.5075885770821,{"$f":"STDEV(models1!J871,models1!Y871)","v":52.276404333121462},null,8,14,13,6,16,8,3,5,10,1,37000,null,4.2190046219457988,3.6469165057620936,0.57208811618370525]
["O11",13,67,23,38,20,64,null,"O11",1,11,4,5,3,64000,{"$f":"IF(models1!J872*models1!Y872<=0,\"valid\",\"invalid\")","v":"valid"},{"$f":"models1!G872","v":64705.599999999999},{"$f":"models1!V872","v":46196.6},55451.1,{"$f":"models1!AO872","v":64000},1,1,0,0,6044.9851616856768,{"$f":"STDEV(models1!J872,models1!Y872)","v":20.449528111914955},null,1,11,4,5,3,16,5,14,11,14,64000,null,3.7682887362833544,4.3011626335213133,0.53287389723795897]
["O12",93,68,51,36,16,70,null,"O12",15,10,7,3,1,70000,{"$f":"IF(models1!J873*models1!Y873<=0,\"valid\",\"invalid\")","v":"invalid"},{"$f":"models1!G873","v":69683},{"$f":"models1!V873","v":50573.2},60128.1,{"$f":"models1!AO873","v":70000},0,0,0,0,6980.4874331954798,{"$f":"STDEV(models1!J873,models1!Y873)","v":19.304015126392748},null,15,10,7,3,1,2,7,11,14,15,70000,null,5.5856960175075772,5.3572380943915494,0.22845792311602775]
["O13",55,90,77,97,70,82,null,"O13",9,2,12,15,13,82000,{"$f":"IF(models1!J874*models1!Y874<=0,\"valid\",\"invalid\")","v":"valid"},{"$f":"models1!G874","v":81628.7},{"$f":"models1!V874","v":100173.8},90901.25,{"$f":"models1!AO874","v":82000},1,1,0,0,6294.1342360367562,{"$f":"STDEV(models1!J874,models1!Y874)","v":15.987684322627839},null,9,2,12,15,13,7,15,6,1,4,82000,null,5.0695167422546294,5.2249401910452526,0.1554234487906232]
["O14",38,93,27,97,56,99,null,"O14",5,1,5,15,11,99000,{"$f":"IF(models1!J875*models1!Y875<=0,\"valid\",\"invalid\")","v":"invalid"},{"$f":"models1!G875","v":98551.7},{"$f":"models1!V875","v":88016.8},93284.25,{"$f":"models1!AO875","v":99000},{"$f":"IF(MAX(Q15:R15)<T15,0,IF(MIN(Q15:R15)>T15,0,1))","v":0},0,0,0,4041.6455845670089,{"$f":"STDEV(models1!J875,models1!Y875)","v":7.5236161518248661},null,5,1,5,15,11,11,16,13,1,5,99000,null,5.5497747702046425,6.0991802727907629,0.54940550258612042]
["O15",21,79,72,21,16,95,null,"O15",3,6,10,2,1,95000,{"$f":"IF(models1!J876*models1!Y876<=0,\"valid\",\"invalid\")","v":"invalid"},{"$f":"models1!G876","v":94569.8},{"$f":"models1!V876","v":59326.2},76948,{"$f":"models1!AO876","v":95000},{"$f":"IF(MAX(Q16:R16)<T16,0,IF(MIN(Q16:R16)>T16,0,1))","v":0},0,0,0,12764.691613979556,{"$f":"STDEV(models1!J876,models1!Y876)","v":26.233661582020911},null,3,6,10,2,1,13,11,8,15,15,95000,null,3.646916505762094,2.9664793948382671,0.68043711092382697]
["O16",90,77,22,78,35,27,null,"O16",{"$f":"RANK(B17,B$2:B$17,0)","v":3},7,14,5,11,27000,{"$f":"IF(models1!J877*models1!Y877<=0,\"valid\",\"invalid\")","v":"invalid"},{"$f":"models1!G877","v":37330.199999999997},{"$f":"models1!V877","v":59326.2},48328.2,{"$f":"models1!AO877","v":27000},{"$f":"IF(MAX(Q17:R17)<T17,0,IF(MIN(Q17:R17)>T17,0,1))","v":0},0,0,0,15081.314850502918,{"$f":"STDEV(models1!J877,models1!Y877)","v":57.607989463268041},null,3,7,14,5,11,13,10,3,11,5,27000,null,4.4721359549995796,4.2190046219457971,0.25313133305378255]
["correlation",{"$f":"CORREL(B2:B16,$G$2:$G$16)","v":-0.36726099398365414},{"$f":"CORREL(C2:C16,$G$2:$G$16)","v":0.46950883134054344},-0.10779638912344237,-6.7766001399644865E-2,-0.4189924932750318,0.99999999999999978,null,"O16(2)",{"$f":"MAX(J2:J16)","v":16},{"$f":"INT(QUARTILE(K2:K16,3))","v":12},{"$f":"MEDIAN(L2:L16)","v":9},{"$f":"INT(QUARTILE(M2:M16,1))","v":4},{"$f":"MIN(N2:N16)","v":1},{"$f":"O17","v":27000},"ratio","correlation","correlation",null,"correlation",null,null,null,null,null,null,null,"direct","direct","direct","direct","direct","inverse","inverse","inverse","inverse","inverse","double","max",{"$f":"MAX(AN2:AN17)","v":5.5856960175075772},{"$f":"MAX(AO2:AO17)","v":6.0991802727907629},{"$f":"MAX(AP2:AP17)","v":0.68043711092382697}]
["direction",{"$f":"IF(B18>0,0,1)","v":1},{"$f":"IF(C18>0,0,1)","v":0},1,1,1,"Y",null,null,null,null,null,null,null,null,{"$f":"COUNTIF($P$2:$P$17,\"valid\")/16","v":0.4375},{"$f":"CORREL(Q2:Q17,$O$2:$O$17)","v":0.95264817433073157},{"$f":"CORREL(R2:R17,$O$2:$O$17)","v":0.5439531849926883},null,{"$f":"CORREL(T2:T17,$O$2:$O$17)","v":1},{"$f":"SUM(U2:U17)","v":7},null,{"$f":"SUM(W2:W17)","v":0},{"$f":"SUM(X2:X17)","v":0},{"$f":"SUM(Y2:Y17)","v":115962.33013407839},null,null,null,null,null,null,null,null,null,null,null,null,null,"min",{"$f":"MIN(AN2:AN17)","v":2.0736441353327715},{"$f":"MIN(AO2:AO17)","v":2.7018512172212588},{"$f":"MIN(AP2:AP17)","v":4.7203900722527337E-2}]
[null,null,null,null,null,null,null,null,null,null,null,null,null,null,null,null,null,null,null,null,null,null,null,null,null,null,null,null,null,null,null,null,null,null,null,null,null,null,"avg",{"$f":"AVERAGE(AN2:AN17)","v":4.2234637023654278},{"$f":"AVERAGE(AO2:AO17)","v":4.2972127574049894},{"$f":"AVERAGE(AP2:AP17)","v":0.3106299687769265}]
["antagonism!",null,null,null,null,null,null,null,"O*",null,null,null,null,null,"correlation",null,null,null,null,null,null,null,null,null,null,null,null,null,null,null,null,null,null,null,null,null,null,null,"stddev",{"$f":"STDEV(AN2:AN17)","v":1.022991354698805},{"$f":"STDEV(AO2:AO17)","v":0.98466238821682472},{"$f":"STDEV(AP2:AP17)","v":0.22744282080892075}]
[null,null,null,null,null,null,null,null,1,null,null,null,null,null,null,null,null,null,null,null,null,null,null,null,null,null,null,null,null,null,null,null,null,null,null,null,null,null,"median",{"$f":"MEDIAN(AN2:AN17)","v":4.2425752117430537},{"$f":"MEDIAN(AO2:AO17)","v":4.2600836277335556},0.22710471170165847]
["Consistency-tasks ",null,null,null,null,null,null,null,1,null,null,null,null,null,{"$f":"CORREL($B$2:$G$2,B3:G3)","v":0.23170353780783445}]
["Y=between1",null,null,null,null,null,null,null,1,null,null,null,null,null,7.8725951805667244E-2]
["Y=between2",null,null,null,null,null,null,null,1,null,null,null,null,null,-4.4300244690190914E-2]
["Y=validity1",null,null,null,null,null,null,null,1,null,null,null,null,null,0.35722496391368497]
["Y=validity2",null,null,null,null,null,null,null,1,null,null,null,null,null,-0.26409741114109647]
["Y=validity-ratio",null,null,null,null,null,null,null,1,null,null,null,null,null,-0.22288797659995815]
["Xi=model-characteristics",null,null,null,null,null,null,null,1,null,null,null,null,null,0.52950554853657461]
[null,null,null,null,null,null,null,null,1,null,null,null,null,null,-5.7825335448959361E-2]
[null,null,null,null,null,null,null,null,1,null,null,null,null,null,-0.7380806271950604]
[null,null,null,null,null,null,null,null,1,null,null,null,null,null,0.29090446980692392]
[null,null,null,null,null,null,null,null,1,null,null,null,null,null,0.82980491229031939]
[null,null,null,null,null,null,null,null,1,null,null,null,null,null,5.667559173209457E-2]
[null,null,null,null,null,null,null,null,1,null,null,null,null,null,4.4654273295178272E-2]
[null,null,null,null,null,null,null,null,1,null,null,null,null,null,0.52903243577329462]
[null,null,null,null,null,null,null,null,1,null,null,null,null,null,0.22763416660563202]
[null,null,null,null,null,null,null,null,{"$f":"I22+1","v":2},null,null,null,null,null,{"$f":"CORREL($B$3:$G$3,B2:G2)","v":0.23170353780783445}]
[null,null,null,null,null,null,null,null,{"$f":"I23+1","v":2}]
[null,null,null,null,null,null,null,null,2,null,null,null,null,null,{"$f":"CORREL($B$3:$G$3,B4:G4)","v":0.38024146625624927}]
[null,null,null,null,null,null,null,null,2,null,null,null,null,null,-0.15586446844643023]
[null,null,null,null,null,null,null,null,2,null,null,null,null,null,-0.49029453992749689]
[null,null,null,null,null,null,null,null,2,null,null,null,null,null,1.3435408202231774E-2]
[null,null,null,null,null,null,null,null,2,null,null,null,null,null,0.16018970694749102]
[null,null,null,null,null,null,null,null,2,null,null,null,null,null,-0.4416855108537463]
[null,null,null,null,null,null,null,null,2,null,null,null,null,null,-0.22018485374776142]
[null,null,null,null,null,null,null,null,2,null,null,null,null,null,0.20317047933884971]
[null,null,null,null,null,null,null,null,2,null,null,null,null,null,-0.80941819350245703]
[null,null,null,null,null,null,null,null,2,null,null,null,null,null,8.4710061690721636E-2]
[null,null,null,null,null,null,null,null,2,null,null,null,null,null,-0.42739823719827058]
[null,null,null,null,null,null,null,null,2,null,null,null,null,null,-0.68569526784127643]
[null,null,null,null,null,null,null,null,2,null,null,null,null,null,-0.4802027768004124]
[null,null,null,null,null,null,null,null,2,null,null,null,null,null,8.8656682925555619E-2]
[null,null,null,null,null,null,null,null,3,null,null,null,null,null,{"$f":"CORREL($B$4:$G$4,B2:G2)","v":7.8725951805667244E-2}]
[null,null,null,null,null,null,null,null,3,null,null,null,null,null,{"$f":"CORREL($B$4:$G$4,B3:G3)","v":0.38024146625624927}]
[null,null,null,null,null,null,null,null,3]
[null,null,null,null,null,null,null,null,3,null,null,null,null,null,-0.24056686481406547]
[null,null,null,null,null,null,null,null,3,null,null,null,null,null,-0.22725906567729098]
[null,null,null,null,null,null,null,null,3,null,null,null,null,null,0.890834046886676]
[null,null,null,null,null,null,null,null,3,null,null,null,null,null,-1.4391092158954883E-2]
[null,null,null,null,null,null,null,null,3,null,null,null,null,null,-5.7471598216611366E-2]
[null,null,null,null,null,null,null,null,3,null,null,null,null,null,-0.78075857596856102]
[null,null,null,null,null,null,null,null,3,null,null,null,null,null,0.49480798464295106]
[null,null,null,null,null,null,null,null,3,null,null,null,null,null,-0.51959614542562282]
[null,null,null,null,null,null,null,null,3,null,null,null,null,null,0.19886544649216403]
[null,null,null,null,null,null,null,null,3,null,null,null,null,null,-0.49467416543294129]
[null,null,null,null,null,null,null,null,3,null,null,null,null,null,-0.81819018791789899]
[null,null,null,null,null,null,null,null,3,null,null,null,null,null,-0.10098665619465458]
[null,null,null,null,null,null,null,null,3,null,null,null,null,null,9.118995890616341E-2]
[null,null,null,null,null,null,null,null,4,null,null,null,null,null,{"$f":"CORREL($B$5:$G$5,B2:G2)","v":-4.4300244690190914E-2}]
[null,null,null,null,null,null,null,null,4,null,null,null,null,null,{"$f":"CORREL($B$5:$G$5,B3:G3)","v":-0.15586446844643023}]
[null,null,null,null,null,null,null,null,4,null,null,null,null,null,-0.24056686481406547]
[null,null,null,null,null,null,null,null,4]
[null,null,null,null,null,null,null,null,4,null,null,null,null,null,0.37800877233750452]
[null,null,null,null,null,null,null,null,4,null,null,null,null,null,-0.10818991978494692]
[null,null,null,null,null,null,null,null,4,null,null,null,null,null,-0.14147837415054196]
[null,null,null,null,null,null,null,null,4,null,null,null,null,null,-0.20957289201163251]
[null,null,null,null,null,null,null,null,4,null,null,null,null,null,0.76425210861389947]
[null,null,null,null,null,null,null,null,4,null,null,null,null,null,-8.6169935244594403E-2]
[null,null,null,null,null,null,null,null,4,null,null,null,null,null,0.37542250020934226]
[null,null,null,null,null,null,null,null,4,null,null,null,null,null,-0.4804695816877117]
[null,null,null,null,null,null,null,null,4,null,null,null,null,null,0.92064042045848982]
[null,null,null,null,null,null,null,null,4,null,null,null,null,null,0.49429155626138982]
[null,null,null,null,null,null,null,null,4,null,null,null,null,null,7.3624171350296419E-2]
[null,null,null,null,null,null,null,null,4,null,null,null,null,null,8.0523970426649744E-2]
[null,null,null,null,null,null,null,null,5,null,null,null,null,null,{"$f":"CORREL($B$6:$G$6,B2:G2)","v":0.35722496391368497}]
[null,null,null,null,null,null,null,null,5,null,null,null,null,null,{"$f":"CORREL($B$6:$G$6,B3:G3)","v":-0.49029453992749689}]
[null,null,null,null,null,null,null,null,5,null,null,null,null,null,-0.22725906567729098]
[null,null,null,null,null,null,null,null,5,null,null,null,null,null,0.37800877233750452]
[null,null,null,null,null,null,null,null,5]
[null,null,null,null,null,null,null,null,5,null,null,null,null,null,-0.20253294822444873]
[null,null,null,null,null,null,null,null,5,null,null,null,null,null,0.36555763236619243]
[null,null,null,null,null,null,null,null,5,null,null,null,null,null,8.7470858021995612E-2]
[null,null,null,null,null,null,null,null,5,null,null,null,null,null,0.22233079739940742]
[null,null,null,null,null,null,null,null,5,null,null,null,null,null,-0.71695301669525724]
[null,null,null,null,null,null,null,null,5,null,null,null,null,null,0.65961973778962923]
[null,null,null,null,null,null,null,null,5,null,null,null,null,null,0.39586490280940007]
[null,null,null,null,null,null,null,null,5,null,null,null,null,null,0.50019536189729941]
[null,null,null,null,null,null,null,null,5,null,null,null,null,null,0.68887309225214499]
[null,null,null,null,null,null,null,null,5,null,null,null,null,null,0.18327478390414487]
[null,null,null,null,null,null,null,null,5,null,null,null,null,null,0.7233471953288636]
[null,null,null,null,null,null,null,null,6,null,null,null,null,null,{"$f":"CORREL($B$7:$G$7,B2:G2)","v":-0.26409741114109647}]
[null,null,null,null,null,null,null,null,{"$f":"I87+1","v":6},null,null,null,null,null,{"$f":"CORREL($B$7:$G$7,B3:G3)","v":1.3435408202231774E-2}]
[null,null,null,null,null,null,null,null,6,null,null,null,null,null,0.890834046886676]
[null,null,null,null,null,null,null,null,6,null,null,null,null,null,-0.10818991978494692]
[null,null,null,null,null,null,null,null,6,null,null,null,null,null,-0.20253294822444873]
[null,null,null,null,null,null,null,null,6]
[null,null,null,null,null,null,null,null,6,null,null,null,null,null,-8.8725401684434754E-2]
[null,null,null,null,null,null,null,null,6,null,null,null,null,null,-4.2187197518007161E-2]
[null,null,null,null,null,null,null,null,6,null,null,null,null,null,-0.66033671959721485]
[null,null,null,null,null,null,null,null,6,null,null,null,null,null,0.67537862910855773]
[null,null,null,null,null,null,null,null,6,null,null,null,null,null,-0.33615808326496133]
[null,null,null,null,null,null,null,null,6,null,null,null,null,null,-0.1037340777435052]
[null,null,null,null,null,null,null,null,6,null,null,null,null,null,-0.31900551517165326]
[null,null,null,null,null,null,null,null,6,null,null,null,null,null,-0.63406254307225851]
[null,null,null,null,null,null,null,null,6,null,null,null,null,null,-5.0251981872606606E-2]
[null,null,null,null,null,null,null,null,6,null,null,null,null,null,-6.1369098066030171E-2]
[null,null,null,null,null,null,null,null,7,null,null,null,null,null,{"$f":"CORREL($B$8:$G$8,B2:G2)","v":-0.22288797659995815}]
[null,null,null,null,null,null,null,null,7,null,null,null,null,null,{"$f":"CORREL($B$8:$G$8,B3:G3)","v":0.16018970694749102}]
[null,null,null,null,null,null,null,null,7,null,null,null,null,null,-1.4391092158954883E-2]
[null,null,null,null,null,null,null,null,7,null,null,null,null,null,-0.14147837415054196]
[null,null,null,null,null,null,null,null,7,null,null,null,null,null,0.36555763236619243]
[null,null,null,null,null,null,null,null,7,null,null,null,null,null,-8.8725401684434754E-2]
[null,null,null,null,null,null,null,null,7]
[null,null,null,null,null,null,null,null,7,null,null,null,null,null,-0.73305534963467534]
[null,null,null,null,null,null,null,null,7,null,null,null,null,null,-0.19225610128660309]
[null,null,null,null,null,null,null,null,7,null,null,null,null,null,-0.10357320975542922]
[null,null,null,null,null,null,null,null,7,null,null,null,null,null,-0.34487926591466428]
[null,null,null,null,null,null,null,null,7,null,null,null,null,null,8.8039788717965292E-2]
[null,null,null,null,null,null,null,null,7,null,null,null,null,null,-0.26664894347722323]
[null,null,null,null,null,null,null,null,7,null,null,null,null,null,4.8049176407519122E-2]
[null,null,null,null,null,null,null,null,7,null,null,null,null,null,-0.79910979603341359]
[null,null,null,null,null,null,null,null,7,null,null,null,null,null,0.83895298355679904]
[null,null,null,null,null,null,null,null,8,null,null,null,null,null,{"$f":"CORREL($B$9:$G$9,B2:G2)","v":0.52950554853657461}]
[null,null,null,null,null,null,null,null,8,null,null,null,null,null,{"$f":"CORREL($B$9:$G$9,B3:G3)","v":-0.4416855108537463}]
[null,null,null,null,null,null,null,null,8,null,null,null,null,null,-5.7471598216611366E-2]
[null,null,null,null,null,null,null,null,8,null,null,null,null,null,-0.20957289201163251]
[null,null,null,null,null,null,null,null,8,null,null,null,null,null,8.7470858021995612E-2]
[null,null,null,null,null,null,null,null,8,null,null,null,null,null,-4.2187197518007161E-2]
[null,null,null,null,null,null,null,null,8,null,null,null,null,null,-0.73305534963467534]
[null,null,null,null,null,null,null,null,8]
[null,null,null,null,null,null,null,null,8,null,null,null,null,null,-7.5467414340942507E-2]
[null,null,null,null,null,null,null,null,8,null,null,null,null,null,-0.38254244715720631]
[null,null,null,null,null,null,null,null,8,null,null,null,null,null,0.63566925757382753]
[null,null,null,null,null,null,null,null,8,null,null,null,null,null,0.49173740310063846]
[null,null,null,null,null,null,null,null,8,null,null,null,null,null,8.1969382138741262E-2]
[null,null,null,null,null,null,null,null,8,null,null,null,null,null,0.17237366646924282]
[null,null,null,null,null,null,null,null,8,null,null,null,null,null,0.9592541892423152]
[null,null,null,null,null,null,null,null,8,null,null,null,null,null,-0.45098995344615139]
[null,null,null,null,null,null,null,null,9,null,null,null,null,null,{"$f":"CORREL($B$10:$G$10,B2:G2)","v":-5.7825335448959361E-2}]
[null,null,null,null,null,null,null,null,9,null,null,null,null,null,{"$f":"CORREL($B$10:$G$10,B3:G3)","v":-0.22018485374776142}]
[null,null,null,null,null,null,null,null,9,null,null,null,null,null,-0.78075857596856102]
[null,null,null,null,null,null,null,null,9,null,null,null,null,null,0.76425210861389947]
[null,null,null,null,null,null,null,null,9,null,null,null,null,null,0.22233079739940742]
[null,null,null,null,null,null,null,null,9,null,null,null,null,null,-0.66033671959721485]
[null,null,null,null,null,null,null,null,9,null,null,null,null,null,-0.19225610128660309]
[null,null,null,null,null,null,null,null,9,null,null,null,null,null,-7.5467414340942507E-2]
[null,null,null,null,null,null,null,null,9]
[null,null,null,null,null,null,null,null,9,null,null,null,null,null,-0.30809516181928609]
[null,null,null,null,null,null,null,null,9,null,null,null,null,null,0.485083794385472]
[null,null,null,null,null,null,null,null,9,null,null,null,null,null,-0.46945198450155112]
[null,null,null,null,null,null,null,null,9,null,null,null,null,null,0.86153215928478488]
[null,null,null,null,null,null,null,null,9,null,null,null,null,null,0.73881229524160863]
[null,null,null,null,null,null,null,null,9,null,null,null,null,null,0.1281444014665466]
[null,null,null,null,null,null,null,null,9,null,null,null,null,null,-0.14447680710260363]
[null,null,null,null,null,null,null,null,10,null,null,null,null,null,{"$f":"CORREL($B$11:$G$11,B2:G2)","v":-0.7380806271950604}]
[null,null,null,null,null,null,null,null,{"$f":"I151+1","v":10},null,null,null,null,null,{"$f":"CORREL($B$11:$G$11,B3:G3)","v":0.20317047933884971}]
[null,null,null,null,null,null,null,null,10,null,null,null,null,null,0.49480798464295106]
[null,null,null,null,null,null,null,null,10,null,null,null,null,null,-8.6169935244594403E-2]
[null,null,null,null,null,null,null,null,10,null,null,null,null,null,-0.71695301669525724]
[null,null,null,null,null,null,null,null,10,null,null,null,null,null,0.67537862910855773]
[null,null,null,null,null,null,null,null,10,null,null,null,null,null,-0.10357320975542922]
[null,null,null,null,null,null,null,null,10,null,null,null,null,null,-0.38254244715720631]
[null,null,null,null,null,null,null,null,10,null,null,null,null,null,-0.30809516181928609]
[null,null,null,null,null,null,null,null,10]
[null,null,null,null,null,null,null,null,10,null,null,null,null,null,-0.6292311884427545]
[null,null,null,null,null,null,null,null,10,null,null,null,null,null,-0.67221699506685895]
[null,null,null,null,null,null,null,null,10,null,null,null,null,null,-0.32736796480204827]
[null,null,null,null,null,null,null,null,10,null,null,null,null,null,-0.63867497529887907]
[null,null,null,null,null,null,null,null,10,null,null,null,null,null,-0.39629862261642501]
[null,null,null,null,null,null,null,null,10,null,null,null,null,null,-0.44255350103891061]
[null,null,null,null,null,null,null,null,11,null,null,null,null,null,{"$f":"CORREL($B$12:$G$12,B2:G2)","v":0.29090446980692392}]
[null,null,null,null,null,null,null,null,11,null,null,null,null,null,{"$f":"CORREL($B$12:$G$12,B3:G3)","v":-0.80941819350245703}]
[null,null,null,null,null,null,null,null,11,null,null,null,null,null,-0.51959614542562282]
[null,null,null,null,null,null,null,null,11,null,null,null,null,null,0.37542250020934226]
[null,null,null,null,null,null,null,null,11,null,null,null,null,null,0.65961973778962923]
[null,null,null,null,null,null,null,null,11,null,null,null,null,null,-0.33615808326496133]
[null,null,null,null,null,null,null,null,11,null,null,null,null,null,-0.34487926591466428]
[null,null,null,null,null,null,null,null,11,null,null,null,null,null,0.63566925757382753]
[null,null,null,null,null,null,null,null,11,null,null,null,null,null,0.485083794385472]
[null,null,null,null,null,null,null,null,11,null,null,null,null,null,-0.6292311884427545]
[null,null,null,null,null,null,null,null,11]
[null,null,null,null,null,null,null,null,11,null,null,null,null,null,0.18335466927851976]
[null,null,null,null,null,null,null,null,11,null,null,null,null,null,0.68620319101667149]
[null,null,null,null,null,null,null,null,11,null,null,null,null,null,0.83634125424710615]
[null,null,null,null,null,null,null,null,11,null,null,null,null,null,0.74043956003153932]
[null,null,null,null,null,null,null,null,11,null,null,null,null,null,-3.1724743043810864E-2]
[null,null,null,null,null,null,null,null,12,null,null,null,null,null,{"$f":"CORREL($B$13:$G$13,B2:G2)","v":0.82980491229031939}]
[null,null,null,null,null,null,null,null,12,null,null,null,null,null,{"$f":"CORREL($B$13:$G$13,B3:G3)","v":8.4710061690721636E-2}]
[null,null,null,null,null,null,null,null,12,null,null,null,null,null,0.19886544649216403]
[null,null,null,null,null,null,null,null,12,null,null,null,null,null,-0.4804695816877117]
[null,null,null,null,null,null,null,null,12,null,null,null,null,null,0.39586490280940007]
[null,null,null,null,null,null,null,null,12,null,null,null,null,null,-0.1037340777435052]
[null,null,null,null,null,null,null,null,12,null,null,null,null,null,8.8039788717965292E-2]
[null,null,null,null,null,null,null,null,12,null,null,null,null,null,0.49173740310063846]
[null,null,null,null,null,null,null,null,12,null,null,null,null,null,-0.46945198450155112]
[null,null,null,null,null,null,null,null,12,null,null,null,null,null,-0.67221699506685895]
[null,null,null,null,null,null,null,null,12,null,null,null,null,null,0.18335466927851976]
[null,null,null,null,null,null,null,null,12]
[null,null,null,null,null,null,null,null,12,null,null,null,null,null,-0.34577661810194504]
[null,null,null,null,null,null,null,null,12,null,null,null,null,null,-6.1644081920988969E-2]
[null,null,null,null,null,null,null,null,12,null,null,null,null,null,0.36132928707971712]
[null,null,null,null,null,null,null,null,12,null,null,null,null,null,0.40735486567994061]
[null,null,null,null,null,null,null,null,13,null,null,null,null,null,{"$f":"CORREL($B$14:$G$14,B2:G2)","v":5.667559173209457E-2}]
[null,null,null,null,null,null,null,null,13,null,null,null,null,null,{"$f":"CORREL($B$14:$G$14,B3:G3)","v":-0.42739823719827058}]
[null,null,null,null,null,null,null,null,13,null,null,null,null,null,-0.49467416543294129]
[null,null,null,null,null,null,null,null,13,null,null,null,null,null,0.92064042045848982]
[null,null,null,null,null,null,null,null,13,null,null,null,null,null,0.50019536189729941]
[null,null,null,null,null,null,null,null,13,null,null,null,null,null,-0.31900551517165326]
[null,null,null,null,null,null,null,null,13,null,null,null,null,null,-0.26664894347722323]
[null,null,null,null,null,null,null,null,13,null,null,null,null,null,8.1969382138741262E-2]
[null,null,null,null,null,null,null,null,13,null,null,null,null,null,0.86153215928478488]
[null,null,null,null,null,null,null,null,13,null,null,null,null,null,-0.32736796480204827]
[null,null,null,null,null,null,null,null,13,null,null,null,null,null,0.68620319101667149]
[null,null,null,null,null,null,null,null,13,null,null,null,null,null,-0.34577661810194504]
[null,null,null,null,null,null,null,null,13]
[null,null,null,null,null,null,null,null,13,null,null,null,null,null,0.75198430362783408]
[null,null,null,null,null,null,null,null,13,null,null,null,null,null,0.33988984492867663]
[null,null,null,null,null,null,null,null,13,null,null,null,null,null,-1.0039429097442387E-2]
[null,null,null,null,null,null,null,null,14,null,null,null,null,null,{"$f":"CORREL($B$15:$G$15,B2:G2)","v":4.4654273295178272E-2}]
[null,null,null,null,null,null,null,null,{"$f":"I215+1","v":14},null,null,null,null,null,{"$f":"CORREL($B$15:$G$15,B3:G3)","v":-0.68569526784127643}]
[null,null,null,null,null,null,null,null,14,null,null,null,null,null,-0.81819018791789899]
[null,null,null,null,null,null,null,null,14,null,null,null,null,null,0.49429155626138982]
[null,null,null,null,null,null,null,null,14,null,null,null,null,null,0.68887309225214499]
[null,null,null,null,null,null,null,null,14,null,null,null,null,null,-0.63406254307225851]
[null,null,null,null,null,null,null,null,14,null,null,null,null,null,4.8049176407519122E-2]
[null,null,null,null,null,null,null,null,14,null,null,null,null,null,0.17237366646924282]
[null,null,null,null,null,null,null,null,14,null,null,null,null,null,0.73881229524160863]
[null,null,null,null,null,null,null,null,14,null,null,null,null,null,-0.63867497529887907]
[null,null,null,null,null,null,null,null,14,null,null,null,null,null,0.83634125424710615]
[null,null,null,null,null,null,null,null,14,null,null,null,null,null,-6.1644081920988969E-2]
[null,null,null,null,null,null,null,null,14,null,null,null,null,null,0.75198430362783408]
[null,null,null,null,null,null,null,null,14]
[null,null,null,null,null,null,null,null,14,null,null,null,null,null,0.29295882909231324]
[null,null,null,null,null,null,null,null,14,null,null,null,null,null,0.18511384402465114]
[null,null,null,null,null,null,null,null,15,null,null,null,null,null,{"$f":"CORREL($B$16:$G$16,B2:G2)","v":0.52903243577329462}]
[null,null,null,null,null,null,null,null,15,null,null,null,null,null,{"$f":"CORREL($B$16:$G$16,B3:G3)","v":-0.4802027768004124}]
[null,null,null,null,null,null,null,null,15,null,null,null,null,null,-0.10098665619465458]
[null,null,null,null,null,null,null,null,15,null,null,null,null,null,7.3624171350296419E-2]
[null,null,null,null,null,null,null,null,15,null,null,null,null,null,0.18327478390414487]
[null,null,null,null,null,null,null,null,15,null,null,null,null,null,-5.0251981872606606E-2]
[null,null,null,null,null,null,null,null,15,null,null,null,null,null,-0.79910979603341359]
[null,null,null,null,null,null,null,null,15,null,null,null,null,null,0.9592541892423152]
[null,null,null,null,null,null,null,null,15,null,null,null,null,null,0.1281444014665466]
[null,null,null,null,null,null,null,null,15,null,null,null,null,null,-0.39629862261642501]
[null,null,null,null,null,null,null,null,15,null,null,null,null,null,0.74043956003153932]
[null,null,null,null,null,null,null,null,15,null,null,null,null,null,0.36132928707971712]
[null,null,null,null,null,null,null,null,15,null,null,null,null,null,0.33988984492867663]
[null,null,null,null,null,null,null,null,15,null,null,null,null,null,0.29295882909231324]
[null,null,null,null,null,null,null,null,15]
[null,null,null,null,null,null,null,null,15,null,null,null,null,null,-0.44476919038952989]
[null,null,null,null,null,null,null,null,16,null,null,null,null,null,{"$f":"CORREL($B$17:$G$17,B2:G2)","v":0.22763416660563202}]
[null,null,null,null,null,null,null,null,16,null,null,null,null,null,{"$f":"CORREL($B$17:$G$17,B3:G3)","v":8.8656682925555619E-2}]
[null,null,null,null,null,null,null,null,16,null,null,null,null,null,9.118995890616341E-2]
[null,null,null,null,null,null,null,null,16,null,null,null,null,null,8.0523970426649744E-2]
[null,null,null,null,null,null,null,null,16,null,null,null,null,null,0.7233471953288636]
[null,null,null,null,null,null,null,null,16,null,null,null,null,null,-6.1369098066030171E-2]
[null,null,null,null,null,null,null,null,16,null,null,null,null,null,0.83895298355679904]
[null,null,null,null,null,null,null,null,16,null,null,null,null,null,-0.45098995344615139]
[null,null,null,null,null,null,null,null,16,null,null,null,null,null,-0.14447680710260363]
[null,null,null,null,null,null,null,null,16,null,null,null,null,null,-0.44255350103891061]
[null,null,null,null,null,null,null,null,16,null,null,null,null,null,-3.1724743043810864E-2]
[null,null,null,null,null,null,null,null,16,null,null,null,null,null,0.40735486567994061]
[null,null,null,null,null,null,null,null,16,null,null,null,null,null,-1.0039429097442387E-2]
[null,null,null,null,null,null,null,null,16,null,null,null,null,null,0.18511384402465114]
[null,null,null,null,null,null,null,null,16,null,null,null,null,null,-0.44476919038952989]
[null,null,null,null,null,null,null,null,16]
[null,null,null,null,null,null,null,null,"max",null,null,null,null,null,{"$f":"MAX(O22:O277)","v":0.9592541892423152}]
[null,null,null,null,null,null,null,null,"min",null,null,null,null,null,{"$f":"MIN(O22:O277)","v":-0.81819018791789899}]
[null,null,null,null,null,null,null,null,"avg",null,null,null,null,null,{"$f":"AVERAGE(O22:O277)","v":2.401134088087524E-2}]
[null,null,null,null,null,null,null,null,"stddev",null,null,null,null,null,{"$f":"STDEV(O22:O277)","v":0.45504973600915816}]
[null,null,null,null,null,null,null,null,"median",null,null,null,null,null,{"$f":"MEDIAN(O22:O277)","v":-1.2215260628198634E-2}]
[null,null,null,null,null,null,null,null,"kvart_1",null,null,null,null,null,{"$f":"QUARTILE(O22:O277,1)","v":-0.32109612757925199}]
[null,null,null,null,null,null,null,null,"kvart_3",null,null,null,null,null,{"$f":"QUARTILE(O22:O277,3)","v":0.36238637340133595}]

{"sheet":"basics8","index":8,"n_rows":284,"n_cols":42,"rows_kept":284,"cut":false,"hidden":false,"merged":[]}
[{"$f":"RANDBETWEEN(10,99)","v":11},"A1","A2","A3","A4","A5","A6=Y",null,"rank",{"$f":"B1","v":"A1"},"A2","A3","A4","A5",{"$f":"G1&\"'\"","v":"A6=Y'"},"validity0","direkt","inverz","átlag","double","between1","validity1","invalid_between","valid_extrem","between2","validity2",null,{"$f":"models1!B7","v":"X(A1)"},{"$f":"models1!C7","v":"X(A2)"},{"$f":"models1!D7","v":"X(A3)"},{"$f":"models1!E7","v":"X(A4)"},{"$f":"models1!F7","v":"X(A5)"},{"$f":"AB1","v":"X(A1)"},{"$f":"AC1","v":"X(A2)"},"X(A3)","X(A4)","X(A5)",{"$f":"O1","v":"A6=Y'"},null,"direct_stddev","inverse_stddev","delta"]
["O1",36,81,97,97,76,23,null,{"$f":"A2","v":"O1"},{"$f":"RANK(B2,B$2:B$17,B$19)","v":14},{"$f":"RANK(C2,C$2:C$17,C$19)","v":12},15,15,12,{"$f":"G2*1000","v":23000},{"$f":"IF(models1!J762*models1!Y762<=0,\"valid\",\"invalid\")","v":"invalid"},{"$f":"models1!G762","v":23011.9},{"$f":"models1!V762","v":69467.100000000006},{"$f":"AVERAGE(Q2:R2)","v":46239.5},{"$f":"models1!AO762","v":23000},{"$f":"IF(MAX(Q2:R2)<T2,0,IF(MIN(Q2:R2)>T2,0,1))","v":0},{"$f":"IF(P2=\"valid\",1,)","v":0},{"$f":"IF(V2=1,IF(U2=0,1,0),0)","v":0},{"$f":"IF(V2=0,IF(U2=1,1,0),0)","v":0},{"$f":"STDEV(S2:T2)","v":16432.808041384771},{"$f":"STDEV(models1!J762,models1!Y762)","v":142.82142766405889},null,{"$f":"J2","v":14},{"$f":"K2","v":12},15,15,12,{"$f":"RANK(AB2,AB$2:AB$17,0)","v":2},{"$f":"RANK(AC2,AC$2:AC$17,0)","v":5},2,2,5,23000,null,{"$f":"STDEV(AB2:AF2)","v":1.51657508881031},{"$f":"STDEV(AG2:AK2)","v":1.6431676725154982},{"$f":"ABS(AO2-AN2)","v":0.12659258370518822}]
["O2",56,43,21,84,84,75,null,{"$f":"A3","v":"O2"},{"$f":"RANK(B3,B$2:B$17,B$19)","v":8},6,3,14,14,{"$f":"G3*1000","v":75000},{"$f":"IF(models1!J763*models1!Y763<=0,\"valid\",\"invalid\")","v":"invalid"},{"$f":"models1!G763","v":58030.1},{"$f":"models1!V763","v":68928.600000000006},{"$f":"AVERAGE(Q3:R3)","v":63479.350000000006},{"$f":"models1!AO763","v":75000},0,0,{"$f":"IF(V3=1,IF(U3=0,1,0),0)","v":0},{"$f":"IF(V3=0,IF(U3=1,1,0),0)","v":0},{"$f":"STDEV(S3:T3)","v":8146.3297386767945},{"$f":"STDEV(models1!J763,models1!Y763)","v":10.27426153064054},null,{"$f":"J3","v":8},6,3,14,14,{"$f":"RANK(AB3,AB$2:AB$17,0)","v":9},11,14,3,3,75000,null,{"$f":"STDEV(AB3:AF3)","v":4.8989794855663558},{"$f":"STDEV(AG3:AK3)","v":4.8989794855663558},{"$f":"ABS(AO3-AN3)","v":0}]
["O3",36,55,46,63,31,60,null,"O3",14,7,6,9,4,60000,{"$f":"IF(models1!J764*models1!Y764<=0,\"valid\",\"invalid\")","v":"invalid"},{"$f":"models1!G764","v":62032.1},{"$f":"models1!V764","v":64620.5},63326.3,{"$f":"models1!AO764","v":60000},0,0,0,0,2352.0492862608153,{"$f":"STDEV(models1!J764,models1!Y764)","v":3.0476302269140221},null,14,7,6,9,4,2,10,12,7,13,60000,null,3.8078865529319543,4.4384682042344297,0.63058165130247534]
["O4",83,87,90,99,37,62,null,"O4",2,13,14,16,6,62000,{"$f":"IF(models1!J765*models1!Y765<=0,\"valid\",\"invalid\")","v":"invalid"},{"$f":"models1!G765","v":62032.1},{"$f":"models1!V765","v":73775.100000000006},67903.600000000006,{"$f":"models1!AO765","v":62000},0,0,0,0,4174.4755934129062,{"$f":"STDEV(models1!J765,models1!Y765)","v":13.392602435673208},null,2,13,14,16,6,15,4,3,1,9,62000,null,5.9329587896765297,5.6391488719486738,0.29380991772785592]
["O5",57,96,84,77,82,18,null,"O5",6,16,12,10,13,18000,{"$f":"IF(models1!J766*models1!Y766<=0,\"valid\",\"invalid\")","v":"invalid"},{"$f":"models1!G766","v":18009.3},{"$f":"models1!V766","v":55466},36737.65,{"$f":"models1!AO766","v":18000},0,0,0,0,13249.519378500114,{"$f":"STDEV(models1!J766,models1!Y766)","v":147.14185009710869},null,6,16,12,10,13,10,1,6,6,4,18000,null,3.7148351242013433,3.2863353450309964,0.42849977917034687]
["O6",38,77,62,28,98,47,null,"O6",13,10,9,3,15,47000,{"$f":"IF(models1!J767*models1!Y767<=0,\"valid\",\"invalid\")","v":"invalid"},{"$f":"models1!G767","v":47024.4},{"$f":"models1!V767","v":67313.100000000006},57168.75,{"$f":"models1!AO767","v":46999.5},0,0,0,0,7190.745634581298,{"$f":"STDEV(models1!J767,models1!Y767)","v":30.52579974382326},null,13,10,9,3,15,4,7,9,13,1,47000,null,4.5825756949558398,4.6043457732885358,2.1770078332695952E-2]
["O7",57,90,44,12,37,66,null,"O7",6,14,5,1,6,66000,{"$f":"IF(models1!J768*models1!Y768<=0,\"valid\",\"invalid\")","v":"valid"},{"$f":"models1!G768","v":67034.7},{"$f":"models1!V768","v":45234.400000000001},56134.55,{"$f":"models1!AO768","v":66000},1,1,0,0,6975.9265944568233,{"$f":"STDEV(models1!J768,models1!Y768)","v":23.355736982591665},null,6,14,5,1,6,10,2,13,16,9,66000,null,4.7222875812470377,5.2440442408507577,0.52175665960371997]
["O8",52,15,15,60,60,41,null,"O8",10,1,2,8,9,41000,{"$f":"IF(models1!J769*models1!Y769<=0,\"valid\",\"invalid\")","v":"valid"},{"$f":"models1!G769","v":58030.1},{"$f":"models1!V769","v":34464.300000000003},46247.199999999997,{"$f":"models1!AO769","v":41000},1,1,0,0,3710.3307022420499,{"$f":"STDEV(models1!J769,models1!Y769)","v":40.644497782602748},null,10,1,2,8,9,7,16,15,8,6,41000,null,4.1833001326703778,4.7222875812470395,0.5389874485766617]
["O9",51,90,83,25,98,55,null,"O9",11,14,11,2,15,55000,{"$f":"IF(models1!J770*models1!Y770<=0,\"valid\",\"invalid\")","v":"invalid"},{"$f":"models1!G770","v":55028.5},{"$f":"models1!V770","v":60851},57939.75,{"$f":"models1!AO770","v":55000},0,0,0,0,2078.717159993153,{"$f":"STDEV(models1!J770,models1!Y770)","v":7.4882608127655379},null,11,14,11,2,15,6,2,7,15,1,55000,null,5.1283525619832355,5.5407580708780273,0.41240550889479177]
["O10",71,33,99,28,18,74,null,"O10",4,3,16,3,1,74000,{"$f":"IF(models1!J771*models1!Y771<=0,\"valid\",\"invalid\")","v":"invalid"},{"$f":"models1!G771","v":74038.399999999994},{"$f":"models1!V771","v":79698.7},76868.549999999988,{"$f":"models1!AO771","v":74000},0,0,0,0,2028.3711571726626,{"$f":"STDEV(models1!J771,models1!Y771)","v":5.4093668760770885},null,4,3,16,3,1,13,14,1,13,16,74000,null,6.024948132556827,5.9413803110051804,8.3567821551646659E-2]
["O11",63,60,56,80,22,81,null,"O11",5,8,7,12,3,81000,{"$f":"IF(models1!J772*models1!Y772<=0,\"valid\",\"invalid\")","v":"invalid"},{"$f":"models1!G772","v":70536.5},{"$f":"models1!V772","v":53311.9},61924.2,{"$f":"models1!AO772","v":81000},0,0,0,0,13488.627536558261,{"$f":"STDEV(models1!J772,models1!Y772)","v":15.033090168026},null,5,8,7,12,3,12,8,11,4,14,81000,null,3.3911649915626341,3.8987177379235858,0.50755274636095171]
["O12",84,30,81,78,32,75,null,"O12",1,2,10,11,5,75000,{"$f":"IF(models1!J773*models1!Y773<=0,\"valid\",\"invalid\")","v":"valid"},{"$f":"models1!G773","v":88045.6},{"$f":"models1!V773","v":50080.9},69063.25,{"$f":"models1!AO773","v":75000},1,1,0,0,4197.9161832092359,{"$f":"STDEV(models1!J773,models1!Y773)","v":35.793745263663034},null,1,2,10,11,5,16,15,8,5,12,75000,null,4.5497252664309302,4.6583258795408451,0.10860061310991487]
["O13",27,37,60,52,40,88,null,"O13",16,5,8,7,8,88000,{"$f":"IF(models1!J774*models1!Y774<=0,\"valid\",\"invalid\")","v":"valid"},{"$f":"models1!G774","v":71537.100000000006},{"$f":"models1!V774","v":99623.3},85580.200000000012,{"$f":"models1!AO774","v":88000},1,1,0,0,1711.0569891151995,{"$f":"STDEV(models1!J774,models1!Y774)","v":22.570848455474597},null,16,5,8,7,8,1,12,10,9,8,88000,null,4.2071367935925261,4.1833001326703778,2.3836660922148312E-2]
["O14",81,79,88,45,19,50,null,"O14",3,11,13,6,2,50000,{"$f":"IF(models1!J775*models1!Y775<=0,\"valid\",\"invalid\")","v":"valid"},{"$f":"models1!G775","v":51526.7},{"$f":"models1!V775","v":36618.300000000003},44072.5,{"$f":"models1!AO775","v":50000},{"$f":"IF(MAX(Q15:R15)<T15,0,IF(MIN(Q15:R15)>T15,0,1))","v":1},1,0,0,4191.3754454832606,{"$f":"STDEV(models1!J775,models1!Y775)","v":21.078853147170982},null,3,11,13,6,2,14,6,4,10,15,50000,null,4.8476798574163293,4.8166378315169185,3.1042025899410852E-2]
["O15",39,35,11,43,60,97,null,"O15",12,4,1,5,9,97000,{"$f":"IF(models1!J776*models1!Y776<=0,\"valid\",\"invalid\")","v":"valid"},{"$f":"models1!G776","v":97050.3},{"$f":"models1!V776","v":64620.5},80835.399999999994,{"$f":"models1!AO776","v":97000.1},{"$f":"IF(MAX(Q16:R16)<T16,0,IF(MIN(Q16:R16)>T16,0,1))","v":1},1,0,0,11430.168985846194,{"$f":"STDEV(models1!J776,models1!Y776)","v":23.638579695066284},null,12,4,1,5,9,5,13,16,11,6,97000,null,4.3243496620879309,4.6583258795408451,0.33397621745291417]
["O16",54,73,25,81,66,53,null,"O16",{"$f":"RANK(B17,B$2:B$17,0)","v":9},8,13,4,6,53000,{"$f":"IF(models1!J777*models1!Y777<=0,\"valid\",\"invalid\")","v":"valid"},{"$f":"models1!G777","v":53027.5},{"$f":"models1!V777","v":40926.300000000003},46976.9,{"$f":"models1!AO777","v":53000},{"$f":"IF(MAX(Q17:R17)<T17,0,IF(MIN(Q17:R17)>T17,0,1))","v":1},1,0,0,4258.9748537646938,{"$f":"STDEV(models1!J777,models1!Y777)","v":16.14324781448888},null,9,8,13,4,6,8,8,4,12,9,53000,null,3.3911649915626341,2.8635642126552709,0.52760077890736312]
["correlation",{"$f":"CORREL(B2:B16,$G$2:$G$16)","v":3.2315535179017182E-2},{"$f":"CORREL(C2:C16,$G$2:$G$16)","v":-0.52514459624401744},-0.38722242034473525,-0.20588892221314253,-0.43372232942772987,0.99999999999999989,null,"O16(2)",{"$f":"MAX(J2:J16)","v":16},{"$f":"INT(QUARTILE(K2:K16,3))","v":12},{"$f":"MEDIAN(L2:L16)","v":9},{"$f":"INT(QUARTILE(M2:M16,1))","v":4},{"$f":"MIN(N2:N16)","v":1},{"$f":"O17","v":53000},"ratio","correlation","correlation",null,"correlation",null,null,null,null,null,null,null,"direct","direct","direct","direct","direct","inverse","inverse","inverse","inverse","inverse","double","max",{"$f":"MAX(AN2:AN17)","v":6.024948132556827},{"$f":"MAX(AO2:AO17)","v":5.9413803110051804},{"$f":"MAX(AP2:AP17)","v":0.63058165130247534}]
["direction",{"$f":"IF(B18>0,0,1)","v":0},{"$f":"IF(C18>0,0,1)","v":1},1,1,1,"Y",null,null,null,null,null,null,null,null,{"$f":"COUNTIF($P$2:$P$17,\"valid\")/16","v":0.4375},{"$f":"CORREL(Q2:Q17,$O$2:$O$17)","v":0.91712393952735094},{"$f":"CORREL(R2:R17,$O$2:$O$17)","v":0.34692579829026693},null,{"$f":"CORREL(T2:T17,$O$2:$O$17)","v":0.99999999998348543},{"$f":"SUM(U2:U17)","v":7},null,{"$f":"SUM(W2:W17)","v":0},{"$f":"SUM(X2:X17)","v":0},{"$f":"SUM(Y2:Y17)","v":105617.39328065823},null,null,null,null,null,null,null,null,null,null,null,null,null,"min",{"$f":"MIN(AN2:AN17)","v":1.51657508881031},{"$f":"MIN(AO2:AO17)","v":1.6431676725154982},{"$f":"MIN(AP2:AP17)","v":0}]
[null,null,null,null,null,null,null,null,null,null,null,null,null,null,null,null,null,null,null,null,null,null,null,null,null,null,null,null,null,null,null,null,null,null,null,null,null,null,"avg",{"$f":"AVERAGE(AN2:AN17)","v":4.3264950442033001},{"$f":"AVERAGE(AO2:AO17)","v":4.439861701900834},{"$f":"AVERAGE(AP2:AP17)","v":0.28691128071988037}]
["antagonism!",null,null,null,null,null,null,null,"O*",null,null,null,null,null,"correlation",null,null,null,null,null,null,null,null,null,null,null,null,null,null,null,null,null,null,null,null,null,null,null,"stddev",{"$f":"STDEV(AN2:AN17)","v":1.0740282466722648},{"$f":"STDEV(AO2:AO17)","v":1.0985459810709679},{"$f":"STDEV(AP2:AP17)","v":0.22621782675023538}]
[null,null,null,null,null,null,null,null,1,null,null,null,null,null,null,null,null,null,null,null,null,null,null,null,null,null,null,null,null,null,null,null,null,null,null,null,null,null,"median",{"$f":"MEDIAN(AN2:AN17)","v":4.437037464259431},{"$f":"MEDIAN(AO2:AO17)","v":4.6583258795408451},0.31389306759038504]
["Consistency-tasks ",null,null,null,null,null,null,null,1,null,null,null,null,null,{"$f":"CORREL($B$2:$G$2,B3:G3)","v":-0.25387330562983901}]
["Y=between1",null,null,null,null,null,null,null,1,null,null,null,null,null,8.5025572423401238E-2]
["Y=between2",null,null,null,null,null,null,null,1,null,null,null,null,null,0.363690826332978]
["Y=validity1",null,null,null,null,null,null,null,1,null,null,null,null,null,0.86040790835072667]
["Y=validity2",null,null,null,null,null,null,null,1,null,null,null,null,null,0.23069969333403331]
["Y=validity-ratio",null,null,null,null,null,null,null,1,null,null,null,null,null,-0.43036725378480628]
["Xi=model-characteristics",null,null,null,null,null,null,null,1,null,null,null,null,null,-0.22427257984513815]
[null,null,null,null,null,null,null,null,1,null,null,null,null,null,0.19181457714203393]
[null,null,null,null,null,null,null,null,1,null,null,null,null,null,-0.28817314800802812]
[null,null,null,null,null,null,null,null,1,null,null,null,null,null,-0.2604200320352536]
[null,null,null,null,null,null,null,null,1,null,null,null,null,null,-0.23463817684535554]
[null,null,null,null,null,null,null,null,1,null,null,null,null,null,-0.25696003024733866]
[null,null,null,null,null,null,null,null,1,null,null,null,null,null,1.7369481176656442E-2]
[null,null,null,null,null,null,null,null,1,null,null,null,null,null,-0.70345258256696364]
[null,null,null,null,null,null,null,null,1,null,null,null,null,null,0.10319771506790511]
[null,null,null,null,null,null,null,null,{"$f":"I22+1","v":2},null,null,null,null,null,{"$f":"CORREL($B$3:$G$3,B2:G2)","v":-0.25387330562983901}]
[null,null,null,null,null,null,null,null,{"$f":"I23+1","v":2}]
[null,null,null,null,null,null,null,null,2,null,null,null,null,null,{"$f":"CORREL($B$3:$G$3,B4:G4)","v":8.318100866154518E-2}]
[null,null,null,null,null,null,null,null,2,null,null,null,null,null,-0.46897725488540559]
[null,null,null,null,null,null,null,null,2,null,null,null,null,null,-0.35428418815216817]
[null,null,null,null,null,null,null,null,2,null,null,null,null,null,-9.8545665734434434E-2]
[null,null,null,null,null,null,null,null,2,null,null,null,null,null,-0.43349256914457496]
[null,null,null,null,null,null,null,null,2,null,null,null,null,null,0.87754777900276359]
[null,null,null,null,null,null,null,null,2,null,null,null,null,null,-0.39428392920557498]
[null,null,null,null,null,null,null,null,2,null,null,null,null,null,-0.65496446677330389]
[null,null,null,null,null,null,null,null,2,null,null,null,null,null,9.5621000337036948E-3]
[null,null,null,null,null,null,null,null,2,null,null,null,null,null,-0.13469474240743812]
[null,null,null,null,null,null,null,null,2,null,null,null,null,null,0.10916348706109293]
[null,null,null,null,null,null,null,null,2,null,null,null,null,null,-0.88297251404365673]
[null,null,null,null,null,null,null,null,2,null,null,null,null,null,0.7113284823607815]
[null,null,null,null,null,null,null,null,2,null,null,null,null,null,0.68721140276669523]
[null,null,null,null,null,null,null,null,3,null,null,null,null,null,{"$f":"CORREL($B$4:$G$4,B2:G2)","v":8.5025572423401238E-2}]
[null,null,null,null,null,null,null,null,3,null,null,null,null,null,{"$f":"CORREL($B$4:$G$4,B3:G3)","v":8.318100866154518E-2}]
[null,null,null,null,null,null,null,null,3]
[null,null,null,null,null,null,null,null,3,null,null,null,null,null,0.53854640328873271]
[null,null,null,null,null,null,null,null,3,null,null,null,null,null,-0.22380786246752041]
[null,null,null,null,null,null,null,null,3,null,null,null,null,null,-0.52735794557509574]
[null,null,null,null,null,null,null,null,3,null,null,null,null,null,2.758339185058151E-2]
[null,null,null,null,null,null,null,null,3,null,null,null,null,null,-0.21815931102062824]
[null,null,null,null,null,null,null,null,3,null,null,null,null,null,-0.53645825707890349]
[null,null,null,null,null,null,null,null,3,null,null,null,null,null,1.027808245682383E-2]
[null,null,null,null,null,null,null,null,3,null,null,null,null,null,0.83266332479273786]
[null,null,null,null,null,null,null,null,3,null,null,null,null,null,0.2281103672804812]
[null,null,null,null,null,null,null,null,3,null,null,null,null,null,0.57911538655431916]
[null,null,null,null,null,null,null,null,3,null,null,null,null,null,0.10052707514225781]
[null,null,null,null,null,null,null,null,3,null,null,null,null,null,0.21237645969936889]
[null,null,null,null,null,null,null,null,3,null,null,null,null,null,0.28404183418430323]
[null,null,null,null,null,null,null,null,4,null,null,null,null,null,{"$f":"CORREL($B$5:$G$5,B2:G2)","v":0.363690826332978}]
[null,null,null,null,null,null,null,null,4,null,null,null,null,null,{"$f":"CORREL($B$5:$G$5,B3:G3)","v":-0.46897725488540559}]
[null,null,null,null,null,null,null,null,4,null,null,null,null,null,0.53854640328873271]
[null,null,null,null,null,null,null,null,4]
[null,null,null,null,null,null,null,null,4,null,null,null,null,null,0.25403086911229933]
[null,null,null,null,null,null,null,null,4,null,null,null,null,null,-0.66196230244983922]
[null,null,null,null,null,null,null,null,4,null,null,null,null,null,-6.1763925071660321E-2]
[null,null,null,null,null,null,null,null,4,null,null,null,null,null,-0.36601942173256846]
[null,null,null,null,null,null,null,null,4,null,null,null,null,null,-0.51387041857193483]
[null,null,null,null,null,null,null,null,4,null,null,null,null,null,0.28541933126375846]
[null,null,null,null,null,null,null,null,4,null,null,null,null,null,0.65656898590555524]
[null,null,null,null,null,null,null,null,4,null,null,null,null,null,0.49297367299185935]
[null,null,null,null,null,null,null,null,4,null,null,null,null,null,-0.10564443299971638]
[null,null,null,null,null,null,null,null,4,null,null,null,null,null,0.69923838820654538]
[null,null,null,null,null,null,null,null,4,null,null,null,null,null,-0.60239418072091844]
[null,null,null,null,null,null,null,null,4,null,null,null,null,null,-1.7451492786844398E-2]
[null,null,null,null,null,null,null,null,5,null,null,null,null,null,{"$f":"CORREL($B$6:$G$6,B2:G2)","v":0.86040790835072667}]
[null,null,null,null,null,null,null,null,5,null,null,null,null,null,{"$f":"CORREL($B$6:$G$6,B3:G3)","v":-0.35428418815216817}]
[null,null,null,null,null,null,null,null,5,null,null,null,null,null,-0.22380786246752041]
[null,null,null,null,null,null,null,null,5,null,null,null,null,null,0.25403086911229933]
[null,null,null,null,null,null,null,null,5]
[null,null,null,null,null,null,null,null,5,null,null,null,null,null,0.45254281133978458]
[null,null,null,null,null,null,null,null,5,null,null,null,null,null,-0.10254162931806671]
[null,null,null,null,null,null,null,null,5,null,null,null,null,null,-0.28091722820113069]
[null,null,null,null,null,null,null,null,5,null,null,null,null,null,0.44172578824949943]
[null,null,null,null,null,null,null,null,5,null,null,null,null,null,-0.39912290421630314]
[null,null,null,null,null,null,null,null,5,null,null,null,null,null,-0.49811615320447178]
[null,null,null,null,null,null,null,null,5,null,null,null,null,null,-0.49972887889357359]
[null,null,null,null,null,null,null,null,5,null,null,null,null,null,-0.65130270153194092]
[null,null,null,null,null,null,null,null,5,null,null,null,null,null,0.14316856198654865]
[null,null,null,null,null,null,null,null,5,null,null,null,null,null,-0.78393400697528604]
[null,null,null,null,null,null,null,null,5,null,null,null,null,null,0.18114817249648285]
[null,null,null,null,null,null,null,null,6,null,null,null,null,null,{"$f":"CORREL($B$7:$G$7,B2:G2)","v":0.23069969333403331}]
[null,null,null,null,null,null,null,null,{"$f":"I87+1","v":6},null,null,null,null,null,{"$f":"CORREL($B$7:$G$7,B3:G3)","v":-9.8545665734434434E-2}]
[null,null,null,null,null,null,null,null,6,null,null,null,null,null,-0.52735794557509574]
[null,null,null,null,null,null,null,null,6,null,null,null,null,null,-0.66196230244983922]
[null,null,null,null,null,null,null,null,6,null,null,null,null,null,0.45254281133978458]
[null,null,null,null,null,null,null,null,6]
[null,null,null,null,null,null,null,null,6,null,null,null,null,null,0.29897609681166543]
[null,null,null,null,null,null,null,null,6,null,null,null,null,null,-0.22968341741742238]
[null,null,null,null,null,null,null,null,6,null,null,null,null,null,0.9474125198040011]
[null,null,null,null,null,null,null,null,6,null,null,null,null,null,-0.3447200162034062]
[null,null,null,null,null,null,null,null,6,null,null,null,null,null,-0.8667156987075687]
[null,null,null,null,null,null,null,null,6,null,null,null,null,null,-0.85071840716914993]
[null,null,null,null,null,null,null,null,6,null,null,null,null,null,-0.22198284344070798]
[null,null,null,null,null,null,null,null,6,null,null,null,null,null,-0.29420857846007364]
[null,null,null,null,null,null,null,null,6,null,null,null,null,null,-3.261058737382979E-2]
[null,null,null,null,null,null,null,null,6,null,null,null,null,null,-3.2415495126378431E-2]
[null,null,null,null,null,null,null,null,7,null,null,null,null,null,{"$f":"CORREL($B$8:$G$8,B2:G2)","v":-0.43036725378480628}]
[null,null,null,null,null,null,null,null,7,null,null,null,null,null,{"$f":"CORREL($B$8:$G$8,B3:G3)","v":-0.43349256914457496}]
[null,null,null,null,null,null,null,null,7,null,null,null,null,null,2.758339185058151E-2]
[null,null,null,null,null,null,null,null,7,null,null,null,null,null,-6.1763925071660321E-2]
[null,null,null,null,null,null,null,null,7,null,null,null,null,null,-0.10254162931806671]
[null,null,null,null,null,null,null,null,7,null,null,null,null,null,0.29897609681166543]
[null,null,null,null,null,null,null,null,7]
[null,null,null,null,null,null,null,null,7,null,null,null,null,null,-0.63554764039649547]
[null,null,null,null,null,null,null,null,7,null,null,null,null,null,0.45991458115641926]
[null,null,null,null,null,null,null,null,7,null,null,null,null,null,0.18429185471212192]
[null,null,null,null,null,null,null,null,7,null,null,null,null,null,3.9476925836862152E-2]
[null,null,null,null,null,null,null,null,7,null,null,null,null,null,-0.37432408968039094]
[null,null,null,null,null,null,null,null,7,null,null,null,null,null,-2.8785200023858232E-2]
[null,null,null,null,null,null,null,null,7,null,null,null,null,null,0.47064084801042133]
[null,null,null,null,null,null,null,null,7,null,null,null,null,null,0.11934070966815419]
[null,null,null,null,null,null,null,null,7,null,null,null,null,null,-0.1111460496478362]
[null,null,null,null,null,null,null,null,8,null,null,null,null,null,{"$f":"CORREL($B$9:$G$9,B2:G2)","v":-0.22427257984513815}]
[null,null,null,null,null,null,null,null,8,null,null,null,null,null,{"$f":"CORREL($B$9:$G$9,B3:G3)","v":0.87754777900276359}]
[null,null,null,null,null,null,null,null,8,null,null,null,null,null,-0.21815931102062824]
[null,null,null,null,null,null,null,null,8,null,null,null,null,null,-0.36601942173256846]
[null,null,null,null,null,null,null,null,8,null,null,null,null,null,-0.28091722820113069]
[null,null,null,null,null,null,null,null,8,null,null,null,null,null,-0.22968341741742238]
[null,null,null,null,null,null,null,null,8,null,null,null,null,null,-0.63554764039649547]
[null,null,null,null,null,null,null,null,8]
[null,null,null,null,null,null,null,null,8,null,null,null,null,null,-0.47770580239863758]
[null,null,null,null,null,null,null,null,8,null,null,null,null,null,-0.48174092624763826]
[null,null,null,null,null,null,null,null,8,null,null,null,null,null,-9.0639611609917459E-2]
[null,null,null,null,null,null,null,null,8,null,null,null,null,null,0.12034200479248568]
[null,null,null,null,null,null,null,null,8,null,null,null,null,null,-0.1433499370136094]
[null,null,null,null,null,null,null,null,8,null,null,null,null,null,-0.73181913630516948]
[null,null,null,null,null,null,null,null,8,null,null,null,null,null,0.43966408257877287]
[null,null,null,null,null,null,null,null,8,null,null,null,null,null,0.49136046334046102]
[null,null,null,null,null,null,null,null,9,null,null,null,null,null,{"$f":"CORREL($B$10:$G$10,B2:G2)","v":0.19181457714203393}]
[null,null,null,null,null,null,null,null,9,null,null,null,null,null,{"$f":"CORREL($B$10:$G$10,B3:G3)","v":-0.39428392920557498}]
[null,null,null,null,null,null,null,null,9,null,null,null,null,null,-0.53645825707890349]
[null,null,null,null,null,null,null,null,9,null,null,null,null,null,-0.51387041857193483]
[null,null,null,null,null,null,null,null,9,null,null,null,null,null,0.44172578824949943]
[null,null,null,null,null,null,null,null,9,null,null,null,null,null,0.9474125198040011]
[null,null,null,null,null,null,null,null,9,null,null,null,null,null,0.45991458115641926]
[null,null,null,null,null,null,null,null,9,null,null,null,null,null,-0.47770580239863758]
[null,null,null,null,null,null,null,null,9]
[null,null,null,null,null,null,null,null,9,null,null,null,null,null,-6.6781813740020152E-2]
[null,null,null,null,null,null,null,null,9,null,null,null,null,null,-0.79270220511808032]
[null,null,null,null,null,null,null,null,9,null,null,null,null,null,-0.72052011404617722]
[null,null,null,null,null,null,null,null,9,null,null,null,null,null,-0.20515692751331205]
[null,null,null,null,null,null,null,null,9,null,null,null,null,null,7.472084840968749E-3]
[null,null,null,null,null,null,null,null,9,null,null,null,null,null,-0.18609263590396996]
[null,null,null,null,null,null,null,null,9,null,null,null,null,null,-0.28173164161398512]
[null,null,null,null,null,null,null,null,10,null,null,null,null,null,{"$f":"CORREL($B$11:$G$11,B2:G2)","v":-0.28817314800802812}]
[null,null,null,null,null,null,null,null,{"$f":"I151+1","v":10},null,null,null,null,null,{"$f":"CORREL($B$11:$G$11,B3:G3)","v":-0.65496446677330389}]
[null,null,null,null,null,null,null,null,10,null,null,null,null,null,1.027808245682383E-2]
[null,null,null,null,null,null,null,null,10,null,null,null,null,null,0.28541933126375846]
[null,null,null,null,null,null,null,null,10,null,null,null,null,null,-0.39912290421630314]
[null,null,null,null,null,null,null,null,10,null,null,null,null,null,-0.3447200162034062]
[null,null,null,null,null,null,null,null,10,null,null,null,null,null,0.18429185471212192]
[null,null,null,null,null,null,null,null,10,null,null,null,null,null,-0.48174092624763826]
[null,null,null,null,null,null,null,null,10,null,null,null,null,null,-6.6781813740020152E-2]
[null,null,null,null,null,null,null,null,10]
[null,null,null,null,null,null,null,null,10,null,null,null,null,null,0.33111807750762806]
[null,null,null,null,null,null,null,null,10,null,null,null,null,null,0.69961276100384484]
[null,null,null,null,null,null,null,null,10,null,null,null,null,null,0.40410400859418455]
[null,null,null,null,null,null,null,null,10,null,null,null,null,null,0.67219146078544623]
[null,null,null,null,null,null,null,null,10,null,null,null,null,null,-0.18722656685383499]
[null,null,null,null,null,null,null,null,10,null,null,null,null,null,-0.90350569850291274]
[null,null,null,null,null,null,null,null,11,null,null,null,null,null,{"$f":"CORREL($B$12:$G$12,B2:G2)","v":-0.2604200320352536}]
[null,null,null,null,null,null,null,null,11,null,null,null,null,null,{"$f":"CORREL($B$12:$G$12,B3:G3)","v":9.5621000337036948E-3}]
[null,null,null,null,null,null,null,null,11,null,null,null,null,null,0.83266332479273786]
[null,null,null,null,null,null,null,null,11,null,null,null,null,null,0.65656898590555524]
[null,null,null,null,null,null,null,null,11,null,null,null,null,null,-0.49811615320447178]
[null,null,null,null,null,null,null,null,11,null,null,null,null,null,-0.8667156987075687]
[null,null,null,null,null,null,null,null,11,null,null,null,null,null,3.9476925836862152E-2]
[null,null,null,null,null,null,null,null,11,null,null,null,null,null,-9.0639611609917459E-2]
[null,null,null,null,null,null,null,null,11,null,null,null,null,null,-0.79270220511808032]
[null,null,null,null,null,null,null,null,11,null,null,null,null,null,0.33111807750762806]
[null,null,null,null,null,null,null,null,11]
[null,null,null,null,null,null,null,null,11,null,null,null,null,null,0.63449504338016682]
[null,null,null,null,null,null,null,null,11,null,null,null,null,null,0.47615542774724812]
[null,null,null,null,null,null,null,null,11,null,null,null,null,null,0.34666053395288715]
[null,null,null,null,null,null,null,null,11,null,null,null,null,null,0.1913358030842579]
[null,null,null,null,null,null,null,null,11,null,null,null,null,null,8.0049053506199994E-2]
[null,null,null,null,null,null,null,null,12,null,null,null,null,null,{"$f":"CORREL($B$13:$G$13,B2:G2)","v":-0.23463817684535554}]
[null,null,null,null,null,null,null,null,12,null,null,null,null,null,{"$f":"CORREL($B$13:$G$13,B3:G3)","v":-0.13469474240743812}]
[null,null,null,null,null,null,null,null,12,null,null,null,null,null,0.2281103672804812]
[null,null,null,null,null,null,null,null,12,null,null,null,null,null,0.49297367299185935]
[null,null,null,null,null,null,null,null,12,null,null,null,null,null,-0.49972887889357359]
[null,null,null,null,null,null,null,null,12,null,null,null,null,null,-0.85071840716914993]
[null,null,null,null,null,null,null,null,12,null,null,null,null,null,-0.37432408968039094]
[null,null,null,null,null,null,null,null,12,null,null,null,null,null,0.12034200479248568]
[null,null,null,null,null,null,null,null,12,null,null,null,null,null,-0.72052011404617722]
[null,null,null,null,null,null,null,null,12,null,null,null,null,null,0.69961276100384484]
[null,null,null,null,null,null,null,null,12,null,null,null,null,null,0.63449504338016682]
[null,null,null,null,null,null,null,null,12]
[null,null,null,null,null,null,null,null,12,null,null,null,null,null,0.33708880225377857]
[null,null,null,null,null,null,null,null,12,null,null,null,null,null,0.36772119298372902]
[null,null,null,null,null,null,null,null,12,null,null,null,null,null,-7.7785719213878751E-2]
[null,null,null,null,null,null,null,null,12,null,null,null,null,null,-0.45703524754855324]
[null,null,null,null,null,null,null,null,13,null,null,null,null,null,{"$f":"CORREL($B$14:$G$14,B2:G2)","v":-0.25696003024733866}]
[null,null,null,null,null,null,null,null,13,null,null,null,null,null,{"$f":"CORREL($B$14:$G$14,B3:G3)","v":0.10916348706109293}]
[null,null,null,null,null,null,null,null,13,null,null,null,null,null,0.57911538655431916]
[null,null,null,null,null,null,null,null,13,null,null,null,null,null,-0.10564443299971638]
[null,null,null,null,null,null,null,null,13,null,null,null,null,null,-0.65130270153194092]
[null,null,null,null,null,null,null,null,13,null,null,null,null,null,-0.22198284344070798]
[null,null,null,null,null,null,null,null,13,null,null,null,null,null,-2.8785200023858232E-2]
[null,null,null,null,null,null,null,null,13,null,null,null,null,null,-0.1433499370136094]
[null,null,null,null,null,null,null,null,13,null,null,null,null,null,-0.20515692751331205]
[null,null,null,null,null,null,null,null,13,null,null,null,null,null,0.40410400859418455]
[null,null,null,null,null,null,null,null,13,null,null,null,null,null,0.47615542774724812]
[null,null,null,null,null,null,null,null,13,null,null,null,null,null,0.33708880225377857]
[null,null,null,null,null,null,null,null,13]
[null,null,null,null,null,null,null,null,13,null,null,null,null,null,-0.15557955187628003]
[null,null,null,null,null,null,null,null,13,null,null,null,null,null,0.55546257499045559]
[null,null,null,null,null,null,null,null,13,null,null,null,null,null,-0.30896585752954686]
[null,null,null,null,null,null,null,null,14,null,null,null,null,null,{"$f":"CORREL($B$15:$G$15,B2:G2)","v":1.7369481176656442E-2}]
[null,null,null,null,null,null,null,null,{"$f":"I215+1","v":14},null,null,null,null,null,{"$f":"CORREL($B$15:$G$15,B3:G3)","v":-0.88297251404365673}]
[null,null,null,null,null,null,null,null,14,null,null,null,null,null,0.10052707514225781]
[null,null,null,null,null,null,null,null,14,null,null,null,null,null,0.69923838820654538]
[null,null,null,null,null,null,null,null,14,null,null,null,null,null,0.14316856198654865]
[null,null,null,null,null,null,null,null,14,null,null,null,null,null,-0.29420857846007364]
[null,null,null,null,null,null,null,null,14,null,null,null,null,null,0.47064084801042133]
[null,null,null,null,null,null,null,null,14,null,null,null,null,null,-0.73181913630516948]
[null,null,null,null,null,null,null,null,14,null,null,null,null,null,7.472084840968749E-3]
[null,null,null,null,null,null,null,null,14,null,null,null,null,null,0.67219146078544623]
[null,null,null,null,null,null,null,null,14,null,null,null,null,null,0.34666053395288715]
[null,null,null,null,null,null,null,null,14,null,null,null,null,null,0.36772119298372902]
[null,null,null,null,null,null,null,null,14,null,null,null,null,null,-0.15557955187628003]
[null,null,null,null,null,null,null,null,14]
[null,null,null,null,null,null,null,null,14,null,null,null,null,null,-0.61320626318464844]
[null,null,null,null,null,null,null,null,14,null,null,null,null,null,-0.50974172226222481]
[null,null,null,null,null,null,null,null,15,null,null,null,null,null,{"$f":"CORREL($B$16:$G$16,B2:G2)","v":-0.70345258256696364}]
[null,null,null,null,null,null,null,null,15,null,null,null,null,null,{"$f":"CORREL($B$16:$G$16,B3:G3)","v":0.7113284823607815}]
[null,null,null,null,null,null,null,null,15,null,null,null,null,null,0.21237645969936889]
[null,null,null,null,null,null,null,null,15,null,null,null,null,null,-0.60239418072091844]
[null,null,null,null,null,null,null,null,15,null,null,null,null,null,-0.78393400697528604]
[null,null,null,null,null,null,null,null,15,null,null,null,null,null,-3.261058737382979E-2]
[null,null,null,null,null,null,null,null,15,null,null,null,null,null,0.11934070966815419]
[null,null,null,null,null,null,null,null,15,null,null,null,null,null,0.43966408257877287]
[null,null,null,null,null,null,null,null,15,null,null,null,null,null,-0.18609263590396996]
[null,null,null,null,null,null,null,null,15,null,null,null,null,null,-0.18722656685383499]
[null,null,null,null,null,null,null,null,15,null,null,null,null,null,0.1913358030842579]
[null,null,null,null,null,null,null,null,15,null,null,null,null,null,-7.7785719213878751E-2]
[null,null,null,null,null,null,null,null,15,null,null,null,null,null,0.55546257499045559]
[null,null,null,null,null,null,null,null,15,null,null,null,null,null,-0.61320626318464844]
[null,null,null,null,null,null,null,null,15]
[null,null,null,null,null,null,null,null,15,null,null,null,null,null,0.28029513681627177]
[null,null,null,null,null,null,null,null,16,null,null,null,null,null,{"$f":"CORREL($B$17:$G$17,B2:G2)","v":0.10319771506790511}]
[null,null,null,null,null,null,null,null,16,null,null,null,null,null,{"$f":"CORREL($B$17:$G$17,B3:G3)","v":0.68721140276669523}]
[null,null,null,null,null,null,null,null,16,null,null,null,null,null,0.28404183418430323]
[null,null,null,null,null,null,null,null,16,null,null,null,null,null,-1.7451492786844398E-2]
[null,null,null,null,null,null,null,null,16,null,null,null,null,null,0.18114817249648285]
[null,null,null,null,null,null,null,null,16,null,null,null,null,null,-3.2415495126378431E-2]
[null,null,null,null,null,null,null,null,16,null,null,null,null,null,-0.1111460496478362]
[null,null,null,null,null,null,null,null,16,null,null,null,null,null,0.49136046334046102]
[null,null,null,null,null,null,null,null,16,null,null,null,null,null,-0.28173164161398512]
[null,null,null,null,null,null,null,null,16,null,null,null,null,null,-0.90350569850291274]
[null,null,null,null,null,null,null,null,16,null,null,null,null,null,8.0049053506199994E-2]
[null,null,null,null,null,null,null,null,16,null,null,null,null,null,-0.45703524754855324]
[null,null,null,null,null,null,null,null,16,null,null,null,null,null,-0.30896585752954686]
[null,null,null,null,null,null,null,null,16,null,null,null,null,null,-0.50974172226222481]
[null,null,null,null,null,null,null,null,16,null,null,null,null,null,0.28029513681627177]
[null,null,null,null,null,null,null,null,16]
[null,null,null,null,null,null,null,null,"max",null,null,null,null,null,{"$f":"MAX(O22:O277)","v":0.9474125198040011}]
[null,null,null,null,null,null,null,null,"min",null,null,null,null,null,{"$f":"MIN(O22:O277)","v":-0.90350569850291274}]
[null,null,null,null,null,null,null,null,"avg",null,null,null,null,null,{"$f":"AVERAGE(O22:O277)","v":-4.0280249213170922E-2}]
[null,null,null,null,null,null,null,null,"stddev",null,null,null,null,null,{"$f":"STDEV(O22:O277)","v":0.44379867204023193}]
[null,null,null,null,null,null,null,null,"median",null,null,null,null,null,{"$f":"MEDIAN(O22:O277)","v":-6.4272869405840233E-2}]
[null,null,null,null,null,null,null,null,"kvart_1",null,null,null,null,null,{"$f":"QUARTILE(O22:O277,1)","v":-0.36809558871952408}]
[null,null,null,null,null,null,null,null,"kvart_3",null,null,null,null,null,{"$f":"QUARTILE(O22:O277,3)","v":0.28438620845416707}]

{"sheet":"basics7","index":9,"n_rows":284,"n_cols":42,"rows_kept":284,"cut":false,"hidden":false,"merged":[]}
[{"$f":"RANDBETWEEN(10,99)","v":74},"A1","A2","A3","A4","A5","A6=Y",null,"rank",{"$f":"B1","v":"A1"},"A2","A3","A4","A5",{"$f":"G1&\"'\"","v":"A6=Y'"},"validity0","direkt","inverz","átlag","double","between1","validity1","invalid_between","valid_extrem","between2","validity2",null,{"$f":"models1!B7","v":"X(A1)"},{"$f":"models1!C7","v":"X(A2)"},{"$f":"models1!D7","v":"X(A3)"},{"$f":"models1!E7","v":"X(A4)"},{"$f":"models1!F7","v":"X(A5)"},{"$f":"AB1","v":"X(A1)"},{"$f":"AC1","v":"X(A2)"},"X(A3)","X(A4)","X(A5)",{"$f":"O1","v":"A6=Y'"},null,"direct_stddev","inverse_stddev","delta"]
["O1",19,97,78,75,19,68,null,{"$f":"A2","v":"O1"},{"$f":"RANK(B2,B$2:B$17,B$19)","v":5},{"$f":"RANK(C2,C$2:C$17,C$19)","v":1},12,10,3,{"$f":"G2*1000","v":68000},{"$f":"IF(models1!J662*models1!Y662<=0,\"valid\",\"invalid\")","v":"valid"},{"$f":"models1!G662","v":72596.7},{"$f":"models1!V662","v":53791.8},{"$f":"AVERAGE(Q2:R2)","v":63194.25},{"$f":"models1!AO662","v":68000},{"$f":"IF(MAX(Q2:R2)<T2,0,IF(MIN(Q2:R2)>T2,0,1))","v":1},{"$f":"IF(P2=\"valid\",1,)","v":1},{"$f":"IF(V2=1,IF(U2=0,1,0),0)","v":0},{"$f":"IF(V2=0,IF(U2=1,1,0),0)","v":0},{"$f":"STDEV(S2:T2)","v":3398.1784136872507},{"$f":"STDEV(models1!J662,models1!Y662)","v":19.551502499808038},null,{"$f":"J2","v":5},{"$f":"K2","v":1},12,10,3,{"$f":"RANK(AB2,AB$2:AB$17,0)","v":11},{"$f":"RANK(AC2,AC$2:AC$17,0)","v":16},5,6,13,68000,null,{"$f":"STDEV(AB2:AF2)","v":4.6583258795408469},{"$f":"STDEV(AG2:AK2)","v":4.6583258795408451},{"$f":"ABS(AO2-AN2)","v":1.7763568394002505E-15}]
["O2",11,22,15,30,44,86,null,{"$f":"A3","v":"O2"},{"$f":"RANK(B3,B$2:B$17,B$19)","v":1},14,3,3,10,{"$f":"G3*1000","v":86000},{"$f":"IF(models1!J663*models1!Y663<=0,\"valid\",\"invalid\")","v":"valid"},{"$f":"models1!G663","v":86412.7},{"$f":"models1!V663","v":71537.600000000006},{"$f":"AVERAGE(Q3:R3)","v":78975.149999999994},{"$f":"models1!AO663","v":86000},1,1,{"$f":"IF(V3=1,IF(U3=0,1,0),0)","v":0},{"$f":"IF(V3=0,IF(U3=1,1,0),0)","v":0},{"$f":"STDEV(S3:T3)","v":4967.3190718183223},{"$f":"STDEV(models1!J663,models1!Y663)","v":12.232947314527271},null,{"$f":"J3","v":1},14,3,3,10,{"$f":"RANK(AB3,AB$2:AB$17,0)","v":16},3,14,14,6,86000,null,{"$f":"STDEV(AB3:AF3)","v":5.5407580708780273},{"$f":"STDEV(AG3:AK3)","v":5.7271284253105419},{"$f":"ABS(AO3-AN3)","v":0.1863703544325146}]
["O3",16,37,41,79,18,85,null,"O3",4,12,5,12,2,85000,{"$f":"IF(models1!J664*models1!Y664<=0,\"valid\",\"invalid\")","v":"valid"},{"$f":"models1!G664","v":85407.9},{"$f":"models1!V664","v":63219.3},74313.600000000006,{"$f":"models1!AO664","v":85000},1,1,0,0,7556.4259064719172,{"$f":"STDEV(models1!J664,models1!Y664)","v":18.45548698896889},null,4,12,5,12,2,13,5,10,5,15,85000,null,4.6904157598234297,4.5607017003965513,0.12971405942687841]
["O4",47,61,11,41,37,91,null,"O4",8,10,1,6,8,91000,{"$f":"IF(models1!J665*models1!Y665<=0,\"valid\",\"invalid\")","v":"invalid"},{"$f":"models1!G665","v":86412.7},{"$f":"models1!V665","v":66546.600000000006},76479.649999999994,{"$f":"models1!AO665","v":91000},0,0,0,0,10267.437950202089,{"$f":"STDEV(models1!J665,models1!Y665)","v":15.436141033302336},null,8,10,1,6,8,8,7,15,11,8,91000,null,3.4351128074635331,3.2710854467592259,0.16402736070430723]
["O5",38,95,32,56,28,68,null,"O5",6,2,4,8,6,68000,{"$f":"IF(models1!J666*models1!Y666<=0,\"valid\",\"invalid\")","v":"valid"},{"$f":"models1!G666","v":68326.3},{"$f":"models1!V666","v":53791.8},61059.05,{"$f":"models1!AO666","v":68000},1,1,0,0,4907.9928128767651,{"$f":"STDEV(models1!J666,models1!Y666)","v":15.110871913956521},null,6,2,4,8,6,10,15,13,8,10,68000,null,2.2803508501982765,2.7748873851023195,0.49453653490404292]
["O6",83,10,41,89,21,58,null,"O6",14,16,5,16,4,58000,{"$f":"IF(models1!J667*models1!Y667<=0,\"valid\",\"invalid\")","v":"invalid"},{"$f":"models1!G667","v":58278.3},{"$f":"models1!V667","v":79855.899999999994},69067.100000000006,{"$f":"models1!AO667","v":58000},0,0,0,0,7825.6214580696442,{"$f":"STDEV(models1!J667,models1!Y667)","v":26.304372260139569},null,14,16,5,16,4,3,1,10,1,12,58000,null,6,5.2249401910452526,0.77505980895474735]
["O7",51,21,53,39,90,43,null,"O7",10,15,8,5,15,43000,{"$f":"IF(models1!J668*models1!Y668<=0,\"valid\",\"invalid\")","v":"invalid"},{"$f":"models1!G668","v":43206.3},{"$f":"models1!V668","v":75974},59590.15,{"$f":"models1!AO668","v":43000},0,0,0,0,11731.007565902022,{"$f":"STDEV(models1!J668,models1!Y668)","v":53.881536726414922},null,10,15,8,5,15,5,2,8,12,2,43000,null,4.3931765272977605,4.2661458015403086,0.12703072575745189]
["O8",48,87,97,88,91,39,null,"O8",9,3,16,15,16,39000,{"$f":"IF(models1!J669*models1!Y669<=0,\"valid\",\"invalid\")","v":"invalid"},{"$f":"models1!G669","v":39187.1},{"$f":"models1!V669","v":64328.4},51757.75,{"$f":"models1!AO669","v":39000},0,0,0,0,9021.0915376826761,{"$f":"STDEV(models1!J669,models1!Y669)","v":45.580103115284849},null,9,3,16,15,16,7,14,1,2,1,39000,null,5.7183913821983179,5.6124860801609122,0.10590530203740567]
["O9",64,86,88,28,43,77,null,"O9",13,4,13,2,9,77000,{"$f":"IF(models1!J670*models1!Y670<=0,\"valid\",\"invalid\")","v":"invalid"},{"$f":"models1!G670","v":65311.9},{"$f":"models1!V670","v":67101.2},66206.55,{"$f":"models1!AO670","v":77000},0,0,0,0,7632.1216873979392,{"$f":"STDEV(models1!J670,models1!Y670)","v":1.6404877323527904},null,13,4,13,2,9,4,13,4,15,7,77000,null,5.0695167422546303,5.1283525619832337,5.8835819728603411E-2]
["O10",39,63,41,19,13,86,null,"O10",7,9,5,1,1,86000,{"$f":"IF(models1!J671*models1!Y671<=0,\"valid\",\"invalid\")","v":"valid"},{"$f":"models1!G671","v":92943.9},{"$f":"models1!V671","v":63773.8},78358.850000000006,{"$f":"models1!AO671","v":86000},1,1,0,0,5403.1089810635831,{"$f":"STDEV(models1!J671,models1!Y671)","v":23.977990950035828},null,7,9,5,1,1,9,8,10,16,16,86000,null,3.5777087639996634,3.898717737923584,0.32100897392392058]
["O11",51,27,89,83,76,29,null,"O11",10,13,14,14,13,29000,{"$f":"IF(models1!J672*models1!Y672<=0,\"valid\",\"invalid\")","v":"invalid"},{"$f":"models1!G672","v":29139.200000000001},{"$f":"models1!V672","v":73201.3},51170.25,{"$f":"models1!AO672","v":29000},0,0,0,0,15676.734115601055,{"$f":"STDEV(models1!J672,models1!Y672)","v":107.43780433348404},null,10,13,14,14,13,5,4,3,3,3,29000,null,1.6431676725154949,0.8944271909999163,0.74874048151557859]
["O12",14,71,70,80,30,29,null,"O12",3,7,11,13,7,29000,{"$f":"IF(models1!J673*models1!Y673<=0,\"valid\",\"invalid\")","v":"invalid"},{"$f":"models1!G673","v":47727.9},{"$f":"models1!V673","v":49355.4},48541.65,{"$f":"models1!AO673","v":29000},0,0,0,0,13818.033230574129,{"$f":"STDEV(models1!J673,models1!Y673)","v":3.9668690424565312},null,3,7,11,13,7,14,10,6,4,9,29000,null,3.8987177379235858,3.8470768123342687,5.1640925589317099E-2]
["O13",94,81,11,33,65,52,null,"O13",16,6,1,4,11,52000,{"$f":"IF(models1!J674*models1!Y674<=0,\"valid\",\"invalid\")","v":"invalid"},{"$f":"models1!G674","v":52249.5},{"$f":"models1!V674","v":64882.9},58566.2,{"$f":"models1!AO674","v":52000},0,0,0,0,4643.0045466271058,{"$f":"STDEV(models1!J674,models1!Y674)","v":17.175623715021242},null,16,6,1,4,11,1,11,15,13,5,52000,null,5.9413803110051786,5.8309518948453007,0.11042841615987786]
["O14",12,68,69,75,69,82,null,"O14",2,8,10,10,12,82000,{"$f":"IF(models1!J675*models1!Y675<=0,\"valid\",\"invalid\")","v":"invalid"},{"$f":"models1!G675","v":75862.3},{"$f":"models1!V675","v":61555.6},68708.95,{"$f":"models1!AO675","v":82000},{"$f":"IF(MAX(Q15:R15)<T15,0,IF(MIN(Q15:R15)>T15,0,1))","v":0},0,0,0,9398.1915840894653,{"$f":"STDEV(models1!J675,models1!Y675)","v":12.331942263893387},null,2,8,10,10,12,15,9,7,6,4,82000,null,3.8470768123342687,4.2071367935925261,0.36005998125825744]
["O15",89,48,93,53,25,99,null,"O15",15,11,15,7,5,99000,{"$f":"IF(models1!J676*models1!Y676<=0,\"valid\",\"invalid\")","v":"invalid"},{"$f":"models1!G676","v":77871.899999999994},{"$f":"models1!V676","v":89283.4},83577.649999999994,{"$f":"models1!AO676","v":99000},{"$f":"IF(MAX(Q16:R16)<T16,0,IF(MIN(Q16:R16)>T16,0,1))","v":0},0,0,0,10905.248266832356,{"$f":"STDEV(models1!J676,models1!Y676)","v":8.1529411870808985},null,15,11,15,7,5,2,6,2,10,11,99000,null,4.5607017003965531,4.2661458015403086,0.29455589885624445]
["O16",52,82,67,61,79,55,null,"O16",{"$f":"RANK(B17,B$2:B$17,0)","v":5},5,8,8,3,55000,{"$f":"IF(models1!J677*models1!Y677<=0,\"valid\",\"invalid\")","v":"valid"},{"$f":"models1!G677","v":66065.5},{"$f":"models1!V677","v":48800.800000000003},57433.15,{"$f":"models1!AO677","v":55000},{"$f":"IF(MAX(Q17:R17)<T17,0,IF(MIN(Q17:R17)>T17,0,1))","v":1},1,0,0,1720.4968646440491,{"$f":"STDEV(models1!J677,models1!Y677)","v":22.196081861445727},null,5,5,8,8,3,11,12,8,8,13,55000,null,2.1679483388678804,2.3021728866442701,0.1342245477763897]
["correlation",{"$f":"CORREL(B2:B16,$G$2:$G$16)","v":-5.6894592969184157E-2},{"$f":"CORREL(C2:C16,$G$2:$G$16)","v":1.5011221959387524E-2},-0.28115311665254522,-0.44655696441776704,-0.54194286705224803,1,null,"O16(2)",{"$f":"MAX(J2:J16)","v":16},{"$f":"INT(QUARTILE(K2:K16,3))","v":12},{"$f":"MEDIAN(L2:L16)","v":8},{"$f":"INT(QUARTILE(M2:M16,1))","v":4},{"$f":"MIN(N2:N16)","v":1},{"$f":"O17","v":55000},"ratio","correlation","correlation",null,"correlation",null,null,null,null,null,null,null,"direct","direct","direct","direct","direct","inverse","inverse","inverse","inverse","inverse","double","max",{"$f":"MAX(AN2:AN17)","v":6},{"$f":"MAX(AO2:AO17)","v":5.8309518948453007},{"$f":"MAX(AP2:AP17)","v":0.77505980895474735}]
["direction",{"$f":"IF(B18>0,0,1)","v":1},{"$f":"IF(C18>0,0,1)","v":0},1,1,1,"Y",null,null,null,null,null,null,null,null,{"$f":"COUNTIF($P$2:$P$17,\"valid\")/16","v":0.375},{"$f":"CORREL(Q2:Q17,$O$2:$O$17)","v":0.92272092374135906},{"$f":"CORREL(R2:R17,$O$2:$O$17)","v":0.25265797384442373},null,{"$f":"CORREL(T2:T17,$O$2:$O$17)","v":0.99999999999999989},{"$f":"SUM(U2:U17)","v":6},null,{"$f":"SUM(W2:W17)","v":0},{"$f":"SUM(X2:X17)","v":0},{"$f":"SUM(Y2:Y17)","v":128872.01399354039},null,null,null,null,null,null,null,null,null,null,null,null,null,"min",{"$f":"MIN(AN2:AN17)","v":1.6431676725154949},{"$f":"MIN(AO2:AO17)","v":0.8944271909999163},{"$f":"MIN(AP2:AP17)","v":1.7763568394002505E-15}]
[null,null,null,null,null,null,null,null,null,null,null,null,null,null,null,null,null,null,null,null,null,null,null,null,null,null,null,null,null,null,null,null,null,null,null,null,null,null,"avg",{"$f":"AVERAGE(AN2:AN17)","v":4.2139218347935898},{"$f":"AVERAGE(AO2:AO17)","v":4.15441766185746},{"$f":"AVERAGE(AP2:AP17)","v":0.25388369943909617}]
["antagonism!",null,null,null,null,null,null,null,"O*",null,null,null,null,null,"correlation",null,null,null,null,null,null,null,null,null,null,null,null,null,null,null,null,null,null,null,null,null,null,null,"stddev",{"$f":"STDEV(AN2:AN17)","v":1.3487229595435128},{"$f":"STDEV(AO2:AO17)","v":1.3379841118525715},{"$f":"STDEV(AP2:AP17)","v":0.23610662376457184}]
[null,null,null,null,null,null,null,null,1,null,null,null,null,null,null,null,null,null,null,null,null,null,null,null,null,null,null,null,null,null,null,null,null,null,null,null,null,null,"median",{"$f":"MEDIAN(AN2:AN17)","v":4.4769391138471573},{"$f":"MEDIAN(AO2:AO17)","v":4.2661458015403086},0.14912595424034847]
["Consistency-tasks ",null,null,null,null,null,null,null,1,null,null,null,null,null,{"$f":"CORREL($B$2:$G$2,B3:G3)","v":2.3297408378994494E-2}]
["Y=between1",null,null,null,null,null,null,null,1,null,null,null,null,null,0.56973446913071957]
["Y=between2",null,null,null,null,null,null,null,1,null,null,null,null,null,0.12524627841566954]
["Y=validity1",null,null,null,null,null,null,null,1,null,null,null,null,null,0.71108098711156165]
["Y=validity2",null,null,null,null,null,null,null,1,null,null,null,null,null,-0.21938202330925463]
["Y=validity-ratio",null,null,null,null,null,null,null,1,null,null,null,null,null,-0.78143844403587748]
["Xi=model-characteristics",null,null,null,null,null,null,null,1,null,null,null,null,null,0.29545930337288118]
[null,null,null,null,null,null,null,null,1,null,null,null,null,null,0.42020502904146367]
[null,null,null,null,null,null,null,null,1,null,null,null,null,null,0.46605154830180479]
[null,null,null,null,null,null,null,null,1,null,null,null,null,null,-0.19930703893414706]
[null,null,null,null,null,null,null,null,1,null,null,null,null,null,0.81601555844628559]
[null,null,null,null,null,null,null,null,1,null,null,null,null,null,-0.43596329013945873]
[null,null,null,null,null,null,null,null,1,null,null,null,null,null,0.59682026546370759]
[null,null,null,null,null,null,null,null,1,null,null,null,null,null,0.12937376801332012]
[null,null,null,null,null,null,null,null,1,null,null,null,null,null,0.2409430320282693]
[null,null,null,null,null,null,null,null,{"$f":"I22+1","v":2},null,null,null,null,null,{"$f":"CORREL($B$3:$G$3,B2:G2)","v":2.3297408378994494E-2}]
[null,null,null,null,null,null,null,null,{"$f":"I23+1","v":2}]
[null,null,null,null,null,null,null,null,2,null,null,null,null,null,{"$f":"CORREL($B$3:$G$3,B4:G4)","v":0.60949306553700822}]
[null,null,null,null,null,null,null,null,2,null,null,null,null,null,0.73586572873518941]
[null,null,null,null,null,null,null,null,2,null,null,null,null,null,0.21316922977723363]
[null,null,null,null,null,null,null,null,2,null,null,null,null,null,-3.1148903567365285E-2]
[null,null,null,null,null,null,null,null,2,null,null,null,null,null,0.11019281778222613]
[null,null,null,null,null,null,null,null,2,null,null,null,null,null,-0.49520443022431127]
[null,null,null,null,null,null,null,null,2,null,null,null,null,null,-3.2944498290255281E-2]
[null,null,null,null,null,null,null,null,2,null,null,null,null,null,0.50565785229166005]
[null,null,null,null,null,null,null,null,2,null,null,null,null,null,-0.39157257862400457]
[null,null,null,null,null,null,null,null,2,null,null,null,null,null,-0.31385524536021481]
[null,null,null,null,null,null,null,null,2,null,null,null,null,null,-8.0917515841679999E-2]
[null,null,null,null,null,null,null,null,2,null,null,null,null,null,0.56985554862691512]
[null,null,null,null,null,null,null,null,2,null,null,null,null,null,0.12601767231130059]
[null,null,null,null,null,null,null,null,2,null,null,null,null,null,-0.18083155828285538]
[null,null,null,null,null,null,null,null,3,null,null,null,null,null,{"$f":"CORREL($B$4:$G$4,B2:G2)","v":0.56973446913071957}]
[null,null,null,null,null,null,null,null,3,null,null,null,null,null,{"$f":"CORREL($B$4:$G$4,B3:G3)","v":0.60949306553700822}]
[null,null,null,null,null,null,null,null,3]
[null,null,null,null,null,null,null,null,3,null,null,null,null,null,0.46807093274267064]
[null,null,null,null,null,null,null,null,3,null,null,null,null,null,0.41035112846322552]
[null,null,null,null,null,null,null,null,3,null,null,null,null,null,0.38191588854855313]
[null,null,null,null,null,null,null,null,3,null,null,null,null,null,-0.45361267493997104]
[null,null,null,null,null,null,null,null,3,null,null,null,null,null,-0.22580854781388601]
[null,null,null,null,null,null,null,null,3,null,null,null,null,null,-0.11378335204135026]
[null,null,null,null,null,null,null,null,3,null,null,null,null,null,0.41271433566998356]
[null,null,null,null,null,null,null,null,3,null,null,null,null,null,-0.11713885531151477]
[null,null,null,null,null,null,null,null,3,null,null,null,null,null,0.36874032987868077]
[null,null,null,null,null,null,null,null,3,null,null,null,null,null,-0.50623277234854303]
[null,null,null,null,null,null,null,null,3,null,null,null,null,null,0.64584681794410037]
[null,null,null,null,null,null,null,null,3,null,null,null,null,null,0.30178886297636298]
[null,null,null,null,null,null,null,null,3,null,null,null,null,null,-0.37372296762988882]
[null,null,null,null,null,null,null,null,4,null,null,null,null,null,{"$f":"CORREL($B$5:$G$5,B2:G2)","v":0.12524627841566954}]
[null,null,null,null,null,null,null,null,4,null,null,null,null,null,{"$f":"CORREL($B$5:$G$5,B3:G3)","v":0.73586572873518941}]
[null,null,null,null,null,null,null,null,4,null,null,null,null,null,0.46807093274267064]
[null,null,null,null,null,null,null,null,4]
[null,null,null,null,null,null,null,null,4,null,null,null,null,null,0.65394628881389116]
[null,null,null,null,null,null,null,null,4,null,null,null,null,null,3.9540234524666817E-2]
[null,null,null,null,null,null,null,null,4,null,null,null,null,null,-0.37767404005877309]
[null,null,null,null,null,null,null,null,4,null,null,null,null,null,-0.73912718025637081]
[null,null,null,null,null,null,null,null,4,null,null,null,null,null,0.1354605843870344]
[null,null,null,null,null,null,null,null,4,null,null,null,null,null,0.73570278392248234]
[null,null,null,null,null,null,null,null,4,null,null,null,null,null,-0.86559867170914706]
[null,null,null,null,null,null,null,null,4,null,null,null,null,null,-0.3567116873967397]
[null,null,null,null,null,null,null,null,4,null,null,null,null,null,0.44948546721805377]
[null,null,null,null,null,null,null,null,4,null,null,null,null,null,0.16621994577698943]
[null,null,null,null,null,null,null,null,4,null,null,null,null,null,0.17617313371217194]
[null,null,null,null,null,null,null,null,4,null,null,null,null,null,-0.23955851045735438]
[null,null,null,null,null,null,null,null,5,null,null,null,null,null,{"$f":"CORREL($B$6:$G$6,B2:G2)","v":0.71108098711156165}]
[null,null,null,null,null,null,null,null,5,null,null,null,null,null,{"$f":"CORREL($B$6:$G$6,B3:G3)","v":0.21316922977723363}]
[null,null,null,null,null,null,null,null,5,null,null,null,null,null,0.41035112846322552]
[null,null,null,null,null,null,null,null,5,null,null,null,null,null,0.65394628881389116]
[null,null,null,null,null,null,null,null,5]
[null,null,null,null,null,null,null,null,5,null,null,null,null,null,-0.24764577348817285]
[null,null,null,null,null,null,null,null,5,null,null,null,null,null,-0.82942981904004864]
[null,null,null,null,null,null,null,null,5,null,null,null,null,null,-0.14269232435497295]
[null,null,null,null,null,null,null,null,5,null,null,null,null,null,0.33056910208636531]
[null,null,null,null,null,null,null,null,5,null,null,null,null,null,0.645660495442819]
[null,null,null,null,null,null,null,null,5,null,null,null,null,null,-0.75624713075981143]
[null,null,null,null,null,null,null,null,5,null,null,null,null,null,0.35757081742570157]
[null,null,null,null,null,null,null,null,5,null,null,null,null,null,0.27183009616458786]
[null,null,null,null,null,null,null,null,5,null,null,null,null,null,0.31418796424182582]
[null,null,null,null,null,null,null,null,5,null,null,null,null,null,-4.8127733549507563E-2]
[null,null,null,null,null,null,null,null,5,null,null,null,null,null,0.22400022532946501]
[null,null,null,null,null,null,null,null,6,null,null,null,null,null,{"$f":"CORREL($B$7:$G$7,B2:G2)","v":-0.21938202330925463}]
[null,null,null,null,null,null,null,null,{"$f":"I87+1","v":6},null,null,null,null,null,{"$f":"CORREL($B$7:$G$7,B3:G3)","v":-3.1148903567365285E-2}]
[null,null,null,null,null,null,null,null,6,null,null,null,null,null,0.38191588854855313]
[null,null,null,null,null,null,null,null,6,null,null,null,null,null,3.9540234524666817E-2]
[null,null,null,null,null,null,null,null,6,null,null,null,null,null,-0.24764577348817285]
[null,null,null,null,null,null,null,null,6]
[null,null,null,null,null,null,null,null,6,null,null,null,null,null,-0.1295722459263772]
[null,null,null,null,null,null,null,null,6,null,null,null,null,null,-0.45362425335966411]
[null,null,null,null,null,null,null,null,6,null,null,null,null,null,-0.45545248281378997]
[null,null,null,null,null,null,null,null,6,null,null,null,null,null,-0.14444210370331853]
[null,null,null,null,null,null,null,null,6,null,null,null,null,null,0.21484601054310468]
[null,null,null,null,null,null,null,null,6,null,null,null,null,null,-0.13912661117281486]
[null,null,null,null,null,null,null,null,6,null,null,null,null,null,-0.10723012522696899]
[null,null,null,null,null,null,null,null,6,null,null,null,null,null,-0.36534469601042918]
[null,null,null,null,null,null,null,null,6,null,null,null,null,null,0.45047548650979652]
[null,null,null,null,null,null,null,null,6,null,null,null,null,null,-0.88660717706711656]
[null,null,null,null,null,null,null,null,7,null,null,null,null,null,{"$f":"CORREL($B$8:$G$8,B2:G2)","v":-0.78143844403587748}]
[null,null,null,null,null,null,null,null,7,null,null,null,null,null,{"$f":"CORREL($B$8:$G$8,B3:G3)","v":0.11019281778222613}]
[null,null,null,null,null,null,null,null,7,null,null,null,null,null,-0.45361267493997104]
[null,null,null,null,null,null,null,null,7,null,null,null,null,null,-0.37767404005877309]
[null,null,null,null,null,null,null,null,7,null,null,null,null,null,-0.82942981904004864]
[null,null,null,null,null,null,null,null,7,null,null,null,null,null,-0.1295722459263772]
[null,null,null,null,null,null,null,null,7]
[null,null,null,null,null,null,null,null,7,null,null,null,null,null,0.15495627483305333]
[null,null,null,null,null,null,null,null,7,null,null,null,null,null,-0.39468145812599703]
[null,null,null,null,null,null,null,null,7,null,null,null,null,null,-0.58295323563740697]
[null,null,null,null,null,null,null,null,7,null,null,null,null,null,0.52194791796080431]
[null,null,null,null,null,null,null,null,7,null,null,null,null,null,-0.49328659000710368]
[null,null,null,null,null,null,null,null,7,null,null,null,null,null,-5.1475239288279524E-2]
[null,null,null,null,null,null,null,null,7,null,null,null,null,null,-7.0616690122488543E-2]
[null,null,null,null,null,null,null,null,7,null,null,null,null,null,-0.31933974120853975]
[null,null,null,null,null,null,null,null,7,null,null,null,null,null,0.12479105460951696]
[null,null,null,null,null,null,null,null,8,null,null,null,null,null,{"$f":"CORREL($B$9:$G$9,B2:G2)","v":0.29545930337288118}]
[null,null,null,null,null,null,null,null,8,null,null,null,null,null,{"$f":"CORREL($B$9:$G$9,B3:G3)","v":-0.49520443022431127}]
[null,null,null,null,null,null,null,null,8,null,null,null,null,null,-0.22580854781388601]
[null,null,null,null,null,null,null,null,8,null,null,null,null,null,-0.73912718025637081]
[null,null,null,null,null,null,null,null,8,null,null,null,null,null,-0.14269232435497295]
[null,null,null,null,null,null,null,null,8,null,null,null,null,null,-0.45362425335966411]
[null,null,null,null,null,null,null,null,8,null,null,null,null,null,0.15495627483305333]
[null,null,null,null,null,null,null,null,8]
[null,null,null,null,null,null,null,null,8,null,null,null,null,null,-0.15888034341578477]
[null,null,null,null,null,null,null,null,8,null,null,null,null,null,-0.59979735626908148]
[null,null,null,null,null,null,null,null,8,null,null,null,null,null,0.63435856797540979]
[null,null,null,null,null,null,null,null,8,null,null,null,null,null,0.72126916330517532]
[null,null,null,null,null,null,null,null,8,null,null,null,null,null,-0.45309266390211544]
[null,null,null,null,null,null,null,null,8,null,null,null,null,null,0.36220079887083795]
[null,null,null,null,null,null,null,null,8,null,null,null,null,null,-0.60611959161663176]
[null,null,null,null,null,null,null,null,8,null,null,null,null,null,0.73561010617978873]
[null,null,null,null,null,null,null,null,9,null,null,null,null,null,{"$f":"CORREL($B$10:$G$10,B2:G2)","v":0.42020502904146367}]
[null,null,null,null,null,null,null,null,9,null,null,null,null,null,{"$f":"CORREL($B$10:$G$10,B3:G3)","v":-3.2944498290255281E-2}]
[null,null,null,null,null,null,null,null,9,null,null,null,null,null,-0.11378335204135026]
[null,null,null,null,null,null,null,null,9,null,null,null,null,null,0.1354605843870344]
[null,null,null,null,null,null,null,null,9,null,null,null,null,null,0.33056910208636531]
[null,null,null,null,null,null,null,null,9,null,null,null,null,null,-0.45545248281378997]
[null,null,null,null,null,null,null,null,9,null,null,null,null,null,-0.39468145812599703]
[null,null,null,null,null,null,null,null,9,null,null,null,null,null,-0.15888034341578477]
[null,null,null,null,null,null,null,null,9]
[null,null,null,null,null,null,null,null,9,null,null,null,null,null,0.73354290876349337]
[null,null,null,null,null,null,null,null,9,null,null,null,null,null,-0.47822804497190008]
[null,null,null,null,null,null,null,null,9,null,null,null,null,null,3.2462970049895634E-3]
[null,null,null,null,null,null,null,null,9,null,null,null,null,null,1.5235864324014957E-2]
[null,null,null,null,null,null,null,null,9,null,null,null,null,null,-1.8175003960462854E-2]
[null,null,null,null,null,null,null,null,9,null,null,null,null,null,0.54918651299844345]
[null,null,null,null,null,null,null,null,9,null,null,null,null,null,9.2770664183746895E-2]
[null,null,null,null,null,null,null,null,10,null,null,null,null,null,{"$f":"CORREL($B$11:$G$11,B2:G2)","v":0.46605154830180479}]
[null,null,null,null,null,null,null,null,{"$f":"I151+1","v":10},null,null,null,null,null,{"$f":"CORREL($B$11:$G$11,B3:G3)","v":0.50565785229166005}]
[null,null,null,null,null,null,null,null,10,null,null,null,null,null,0.41271433566998356]
[null,null,null,null,null,null,null,null,10,null,null,null,null,null,0.73570278392248234]
[null,null,null,null,null,null,null,null,10,null,null,null,null,null,0.645660495442819]
[null,null,null,null,null,null,null,null,10,null,null,null,null,null,-0.14444210370331853]
[null,null,null,null,null,null,null,null,10,null,null,null,null,null,-0.58295323563740697]
[null,null,null,null,null,null,null,null,10,null,null,null,null,null,-0.59979735626908148]
[null,null,null,null,null,null,null,null,10,null,null,null,null,null,0.73354290876349337]
[null,null,null,null,null,null,null,null,10]
[null,null,null,null,null,null,null,null,10,null,null,null,null,null,-0.81226440296937585]
[null,null,null,null,null,null,null,null,10,null,null,null,null,null,-0.13027920011783553]
[null,null,null,null,null,null,null,null,10,null,null,null,null,null,0.13036789116892264]
[null,null,null,null,null,null,null,null,10,null,null,null,null,null,0.18559123433470667]
[null,null,null,null,null,null,null,null,10,null,null,null,null,null,0.59674949402006028]
[null,null,null,null,null,null,null,null,10,null,null,null,null,null,-0.21762402450358731]
[null,null,null,null,null,null,null,null,11,null,null,null,null,null,{"$f":"CORREL($B$12:$G$12,B2:G2)","v":-0.19930703893414706}]
[null,null,null,null,null,null,null,null,11,null,null,null,null,null,{"$f":"CORREL($B$12:$G$12,B3:G3)","v":-0.39157257862400457}]
[null,null,null,null,null,null,null,null,11,null,null,null,null,null,-0.11713885531151477]
[null,null,null,null,null,null,null,null,11,null,null,null,null,null,-0.86559867170914706]
[null,null,null,null,null,null,null,null,11,null,null,null,null,null,-0.75624713075981143]
[null,null,null,null,null,null,null,null,11,null,null,null,null,null,0.21484601054310468]
[null,null,null,null,null,null,null,null,11,null,null,null,null,null,0.52194791796080431]
[null,null,null,null,null,null,null,null,11,null,null,null,null,null,0.63435856797540979]
[null,null,null,null,null,null,null,null,11,null,null,null,null,null,-0.47822804497190008]
[null,null,null,null,null,null,null,null,11,null,null,null,null,null,-0.81226440296937585]
[null,null,null,null,null,null,null,null,11]
[null,null,null,null,null,null,null,null,11,null,null,null,null,null,0.3218824139806476]
[null,null,null,null,null,null,null,null,11,null,null,null,null,null,-0.64936517447933673]
[null,null,null,null,null,null,null,null,11,null,null,null,null,null,7.1691885296780236E-2]
[null,null,null,null,null,null,null,null,11,null,null,null,null,null,-0.19437037576975519]
[null,null,null,null,null,null,null,null,11,null,null,null,null,null,3.593102333116753E-2]
[null,null,null,null,null,null,null,null,12,null,null,null,null,null,{"$f":"CORREL($B$13:$G$13,B2:G2)","v":0.81601555844628559}]
[null,null,null,null,null,null,null,null,12,null,null,null,null,null,{"$f":"CORREL($B$13:$G$13,B3:G3)","v":-0.31385524536021481}]
[null,null,null,null,null,null,null,null,12,null,null,null,null,null,0.36874032987868077]
[null,null,null,null,null,null,null,null,12,null,null,null,null,null,-0.3567116873967397]
[null,null,null,null,null,null,null,null,12,null,null,null,null,null,0.35757081742570157]
[null,null,null,null,null,null,null,null,12,null,null,null,null,null,-0.13912661117281486]
[null,null,null,null,null,null,null,null,12,null,null,null,null,null,-0.49328659000710368]
[null,null,null,null,null,null,null,null,12,null,null,null,null,null,0.72126916330517532]
[null,null,null,null,null,null,null,null,12,null,null,null,null,null,3.2462970049895634E-3]
[null,null,null,null,null,null,null,null,12,null,null,null,null,null,-0.13027920011783553]
[null,null,null,null,null,null,null,null,12,null,null,null,null,null,0.3218824139806476]
[null,null,null,null,null,null,null,null,12]
[null,null,null,null,null,null,null,null,12,null,null,null,null,null,-0.59157546764196922]
[null,null,null,null,null,null,null,null,12,null,null,null,null,null,0.53936223814962536]
[null,null,null,null,null,null,null,null,12,null,null,null,null,null,-0.21990167695152593]
[null,null,null,null,null,null,null,null,12,null,null,null,null,null,0.39491063324700382]
[null,null,null,null,null,null,null,null,13,null,null,null,null,null,{"$f":"CORREL($B$14:$G$14,B2:G2)","v":-0.43596329013945873}]
[null,null,null,null,null,null,null,null,13,null,null,null,null,null,{"$f":"CORREL($B$14:$G$14,B3:G3)","v":-8.0917515841679999E-2}]
[null,null,null,null,null,null,null,null,13,null,null,null,null,null,-0.50623277234854303]
[null,null,null,null,null,null,null,null,13,null,null,null,null,null,0.44948546721805377]
[null,null,null,null,null,null,null,null,13,null,null,null,null,null,0.27183009616458786]
[null,null,null,null,null,null,null,null,13,null,null,null,null,null,-0.10723012522696899]
[null,null,null,null,null,null,null,null,13,null,null,null,null,null,-5.1475239288279524E-2]
[null,null,null,null,null,null,null,null,13,null,null,null,null,null,-0.45309266390211544]
[null,null,null,null,null,null,null,null,13,null,null,null,null,null,1.5235864324014957E-2]
[null,null,null,null,null,null,null,null,13,null,null,null,null,null,0.13036789116892264]
[null,null,null,null,null,null,null,null,13,null,null,null,null,null,-0.64936517447933673]
[null,null,null,null,null,null,null,null,13,null,null,null,null,null,-0.59157546764196922]
[null,null,null,null,null,null,null,null,13]
[null,null,null,null,null,null,null,null,13,null,null,null,null,null,-0.61250782735955833]
[null,null,null,null,null,null,null,null,13,null,null,null,null,null,-0.21544270019854844]
[null,null,null,null,null,null,null,null,13,null,null,null,null,null,5.1997634296741105E-2]
[null,null,null,null,null,null,null,null,14,null,null,null,null,null,{"$f":"CORREL($B$15:$G$15,B2:G2)","v":0.59682026546370759}]
[null,null,null,null,null,null,null,null,{"$f":"I215+1","v":14},null,null,null,null,null,{"$f":"CORREL($B$15:$G$15,B3:G3)","v":0.56985554862691512}]
[null,null,null,null,null,null,null,null,14,null,null,null,null,null,0.64584681794410037]
[null,null,null,null,null,null,null,null,14,null,null,null,null,null,0.16621994577698943]
[null,null,null,null,null,null,null,null,14,null,null,null,null,null,0.31418796424182582]
[null,null,null,null,null,null,null,null,14,null,null,null,null,null,-0.36534469601042918]
[null,null,null,null,null,null,null,null,14,null,null,null,null,null,-7.0616690122488543E-2]
[null,null,null,null,null,null,null,null,14,null,null,null,null,null,0.36220079887083795]
[null,null,null,null,null,null,null,null,14,null,null,null,null,null,-1.8175003960462854E-2]
[null,null,null,null,null,null,null,null,14,null,null,null,null,null,0.18559123433470667]
[null,null,null,null,null,null,null,null,14,null,null,null,null,null,7.1691885296780236E-2]
[null,null,null,null,null,null,null,null,14,null,null,null,null,null,0.53936223814962536]
[null,null,null,null,null,null,null,null,14,null,null,null,null,null,-0.61250782735955833]
[null,null,null,null,null,null,null,null,14]
[null,null,null,null,null,null,null,null,14,null,null,null,null,null,-0.22932191340161748]
[null,null,null,null,null,null,null,null,14,null,null,null,null,null,0.38838274735286016]
[null,null,null,null,null,null,null,null,15,null,null,null,null,null,{"$f":"CORREL($B$16:$G$16,B2:G2)","v":0.12937376801332012}]
[null,null,null,null,null,null,null,null,15,null,null,null,null,null,{"$f":"CORREL($B$16:$G$16,B3:G3)","v":0.12601767231130059}]
[null,null,null,null,null,null,null,null,15,null,null,null,null,null,0.30178886297636298]
[null,null,null,null,null,null,null,null,15,null,null,null,null,null,0.17617313371217194]
[null,null,null,null,null,null,null,null,15,null,null,null,null,null,-4.8127733549507563E-2]
[null,null,null,null,null,null,null,null,15,null,null,null,null,null,0.45047548650979652]
[null,null,null,null,null,null,null,null,15,null,null,null,null,null,-0.31933974120853975]
[null,null,null,null,null,null,null,null,15,null,null,null,null,null,-0.60611959161663176]
[null,null,null,null,null,null,null,null,15,null,null,null,null,null,0.54918651299844345]
[null,null,null,null,null,null,null,null,15,null,null,null,null,null,0.59674949402006028]
[null,null,null,null,null,null,null,null,15,null,null,null,null,null,-0.19437037576975519]
[null,null,null,null,null,null,null,null,15,null,null,null,null,null,-0.21990167695152593]
[null,null,null,null,null,null,null,null,15,null,null,null,null,null,-0.21544270019854844]
[null,null,null,null,null,null,null,null,15,null,null,null,null,null,-0.22932191340161748]
[null,null,null,null,null,null,null,null,15]
[null,null,null,null,null,null,null,null,15,null,null,null,null,null,-0.7605404788920358]
[null,null,null,null,null,null,null,null,16,null,null,null,null,null,{"$f":"CORREL($B$17:$G$17,B2:G2)","v":0.2409430320282693}]
[null,null,null,null,null,null,null,null,16,null,null,null,null,null,{"$f":"CORREL($B$17:$G$17,B3:G3)","v":-0.18083155828285538}]
[null,null,null,null,null,null,null,null,16,null,null,null,null,null,-0.37372296762988882]
[null,null,null,null,null,null,null,null,16,null,null,null,null,null,-0.23955851045735438]
[null,null,null,null,null,null,null,null,16,null,null,null,null,null,0.22400022532946501]
[null,null,null,null,null,null,null,null,16,null,null,null,null,null,-0.88660717706711656]
[null,null,null,null,null,null,null,null,16,null,null,null,null,null,0.12479105460951696]
[null,null,null,null,null,null,null,null,16,null,null,null,null,null,0.73561010617978873]
[null,null,null,null,null,null,null,null,16,null,null,null,null,null,9.2770664183746895E-2]
[null,null,null,null,null,null,null,null,16,null,null,null,null,null,-0.21762402450358731]
[null,null,null,null,null,null,null,null,16,null,null,null,null,null,3.593102333116753E-2]
[null,null,null,null,null,null,null,null,16,null,null,null,null,null,0.39491063324700382]
[null,null,null,null,null,null,null,null,16,null,null,null,null,null,5.1997634296741105E-2]
[null,null,null,null,null,null,null,null,16,null,null,null,null,null,0.38838274735286016]
[null,null,null,null,null,null,null,null,16,null,null,null,null,null,-0.7605404788920358]
[null,null,null,null,null,null,null,null,16]
[null,null,null,null,null,null,null,null,"max",null,null,null,null,null,{"$f":"MAX(O22:O277)","v":0.81601555844628559}]
[null,null,null,null,null,null,null,null,"min",null,null,null,null,null,{"$f":"MIN(O22:O277)","v":-0.88660717706711656}]
[null,null,null,null,null,null,null,null,"avg",null,null,null,null,null,{"$f":"AVERAGE(O22:O277)","v":1.4072027978496977E-2}]
[null,null,null,null,null,null,null,null,"stddev",null,null,null,null,null,{"$f":"STDEV(O22:O277)","v":0.4359210598455362}]
[null,null,null,null,null,null,null,null,"median",null,null,null,null,null,{"$f":"MEDIAN(O22:O277)","v":1.9266636351504725E-2}]
[null,null,null,null,null,null,null,null,"kvart_1",null,null,null,null,null,{"$f":"QUARTILE(O22:O277,1)","v":-0.31522636932229603}]
[null,null,null,null,null,null,null,null,"kvart_3",null,null,null,null,null,{"$f":"QUARTILE(O22:O277,3)","v":0.37203421954614885}]

{"sheet":"basics6","index":10,"n_rows":284,"n_cols":42,"rows_kept":284,"cut":false,"hidden":false,"merged":[]}
[{"$f":"RANDBETWEEN(10,99)","v":10},"A1","A2","A3","A4","A5","A6=Y",null,"rank",{"$f":"B1","v":"A1"},"A2","A3","A4","A5",{"$f":"G1&\"'\"","v":"A6=Y'"},"validity0","direkt","inverz","átlag","double","between1","validity1","invalid_between","valid_extrem","between2","validity2",null,{"$f":"models1!B7","v":"X(A1)"},{"$f":"models1!C7","v":"X(A2)"},{"$f":"models1!D7","v":"X(A3)"},{"$f":"models1!E7","v":"X(A4)"},{"$f":"models1!F7","v":"X(A5)"},{"$f":"AB1","v":"X(A1)"},{"$f":"AC1","v":"X(A2)"},"X(A3)","X(A4)","X(A5)",{"$f":"O1","v":"A6=Y'"},null,"direct_stddev","inverse_stddev","delta"]
["O1",77,49,22,13,63,93,null,{"$f":"A2","v":"O1"},{"$f":"RANK(B2,B$2:B$17,B$19)","v":14},{"$f":"RANK(C2,C$2:C$17,C$19)","v":6},6,1,7,{"$f":"G2*1000","v":93000},{"$f":"IF(models1!J562*models1!Y562<=0,\"valid\",\"invalid\")","v":"invalid"},{"$f":"models1!G562","v":92388.2},{"$f":"models1!V562","v":79878.5},{"$f":"AVERAGE(Q2:R2)","v":86133.35},{"$f":"models1!AO562","v":93000},{"$f":"IF(MAX(Q2:R2)<T2,0,IF(MIN(Q2:R2)>T2,0,1))","v":0},{"$f":"IF(P2=\"valid\",1,)","v":0},{"$f":"IF(V2=1,IF(U2=0,1,0),0)","v":0},{"$f":"IF(V2=0,IF(U2=1,1,0),0)","v":0},{"$f":"STDEV(S2:T2)","v":4855.4547790346023},{"$f":"STDEV(models1!J562,models1!Y562)","v":9.5105862069590632},null,{"$f":"J2","v":14},{"$f":"K2","v":6},6,1,7,{"$f":"RANK(AB2,AB$2:AB$17,0)","v":4},{"$f":"RANK(AC2,AC$2:AC$17,0)","v":10},10,15,10,93000,null,{"$f":"STDEV(AB2:AF2)","v":4.6583258795408469},{"$f":"STDEV(AG2:AK2)","v":3.8987177379235858},{"$f":"ABS(AO2-AN2)","v":0.75960814161726109}]
["O2",74,68,83,91,93,98,null,{"$f":"A3","v":"O2"},{"$f":"RANK(B3,B$2:B$17,B$19)","v":13},10,15,13,2,{"$f":"G3*1000","v":98000},{"$f":"IF(models1!J563*models1!Y563<=0,\"valid\",\"invalid\")","v":"invalid"},{"$f":"models1!G563","v":97355.3},{"$f":"models1!V563","v":86847.7},{"$f":"AVERAGE(Q3:R3)","v":92101.5},{"$f":"models1!AO563","v":98000},0,0,{"$f":"IF(V3=1,IF(U3=0,1,0),0)","v":0},{"$f":"IF(V3=0,IF(U3=1,1,0),0)","v":0},{"$f":"STDEV(S3:T3)","v":4170.8693488288509},{"$f":"STDEV(models1!J563,models1!Y563)","v":7.5801846943197884},null,{"$f":"J3","v":13},10,15,13,2,{"$f":"RANK(AB3,AB$2:AB$17,0)","v":5},6,2,4,15,98000,null,{"$f":"STDEV(AB3:AF3)","v":5.1283525619832355},{"$f":"STDEV(AG3:AK3)","v":5.0299105359837162},{"$f":"ABS(AO3-AN3)","v":9.8442025999519345E-2}]
["O3",23,44,21,36,81,92,null,"O3",4,4,5,6,5,92000,{"$f":"IF(models1!J564*models1!Y564<=0,\"valid\",\"invalid\")","v":"invalid"},{"$f":"models1!G564","v":91394.7},{"$f":"models1!V564","v":70764.800000000003},81079.75,{"$f":"models1!AO564","v":92000},0,0,0,0,7721.7828272523957,{"$f":"STDEV(models1!J564,models1!Y564)","v":15.853334034202394},null,4,4,5,6,5,14,13,11,11,12,92000,null,0.83666002653407512,1.3038404810405297,0.46718045450645462]
["O4",88,76,42,30,25,56,null,"O4",15,13,11,4,14,56000,{"$f":"IF(models1!J565*models1!Y565<=0,\"valid\",\"invalid\")","v":"valid"},{"$f":"models1!G565","v":55631.6},{"$f":"models1!V565","v":85239.5},70435.55,{"$f":"models1!AO565","v":56000},1,1,0,0,10207.475295157461,{"$f":"STDEV(models1!J565,models1!Y565)","v":37.384735521332765},null,15,13,11,4,14,1,4,5,12,3,56000,null,4.3931765272977605,4.1833001326703778,0.20987639462738272]
["O5",27,14,27,13,33,99,null,"O5",5,1,7,1,11,99000,{"$f":"IF(models1!J566*models1!Y566<=0,\"valid\",\"invalid\")","v":"valid"},{"$f":"models1!G566","v":103812.5},{"$f":"models1!V566","v":57898.5},80855.5,{"$f":"models1!AO566","v":99000},1,1,0,0,12830.098991239312,{"$f":"STDEV(models1!J566,models1!Y566)","v":32.795612511432076},null,5,1,7,1,11,13,16,9,15,6,99000,null,4.2426406871192848,4.2071367935925243,3.5503893526760422E-2]
["O6",41,63,19,30,75,97,null,"O6",7,9,4,4,6,97000,{"$f":"IF(models1!J567*models1!Y567<=0,\"valid\",\"invalid\")","v":"invalid"},{"$f":"models1!G567","v":96361.8},{"$f":"models1!V567","v":73445.3},84903.55,{"$f":"models1!AO567","v":97000},0,0,0,0,8553.4818232840116,{"$f":"STDEV(models1!J567,models1!Y567)","v":16.701862171626253},null,7,9,4,4,6,11,7,12,12,11,97000,null,2.1213203435596424,2.073644135332775,4.7676208226867356E-2]
["O7",47,56,36,94,39,40,null,"O7",9,8,10,14,9,40000,{"$f":"IF(models1!J568*models1!Y568<=0,\"valid\",\"invalid\")","v":"invalid"},{"$f":"models1!G568","v":42220.4},{"$f":"models1!V568","v":77734.100000000006},59977.25,{"$f":"models1!AO568","v":40000},0,0,0,0,14126.048944458957,{"$f":"STDEV(models1!J568,models1!Y568)","v":62.78401110155356},null,9,8,10,14,9,9,8,6,3,8,40000,null,2.3452078799117149,2.3874672772626648,4.2259397350949968E-2]
["O8",45,72,12,17,10,55,null,"O8",8,12,2,3,16,55000,{"$f":"IF(models1!J569*models1!Y569<=0,\"valid\",\"invalid\")","v":"valid"},{"$f":"models1!G569","v":54638.2},{"$f":"models1!V569","v":58970.7},56804.45,{"$f":"models1!AO569","v":55000},1,1,0,0,1275.9388313120637,{"$f":"STDEV(models1!J569,models1!Y569)","v":5.5720014357499945},null,8,12,2,3,16,10,5,15,14,1,55000,null,5.9329587896765306,5.9581876439064922,2.5228854229961684E-2]
["O9",19,50,75,89,38,58,null,"O9",3,7,13,12,10,58000,{"$f":"IF(models1!J570*models1!Y570<=0,\"valid\",\"invalid\")","v":"valid"},{"$f":"models1!G570","v":57618.400000000001},{"$f":"models1!V570","v":76929.899999999994},67274.149999999994,{"$f":"models1!AO570","v":58000},1,1,0,0,6557.8143547412155,{"$f":"STDEV(models1!J570,models1!Y570)","v":23.546655813512032},null,3,7,13,12,10,15,9,3,5,7,58000,null,4.0620192023179804,4.6043457732885358,0.54232657097055537]
["O10",73,84,63,51,94,86,null,"O10",12,15,12,8,1,86000,{"$f":"IF(models1!J571*models1!Y571<=0,\"valid\",\"invalid\")","v":"invalid"},{"$f":"models1!G571","v":85434.2},{"$f":"models1!V571","v":80414.600000000006},82924.399999999994,{"$f":"models1!AO571","v":86000},0,0,0,0,2174.77761621735,{"$f":"STDEV(models1!J571,models1!Y571)","v":4.1224325343175723},null,12,15,12,8,1,6,2,4,10,16,86000,null,5.4129474410897434,5.5497747702046425,0.13682732911489914]
["O11",56,47,33,84,29,83,null,"O11",10,5,9,11,12,83000,{"$f":"IF(models1!J572*models1!Y572<=0,\"valid\",\"invalid\")","v":"invalid"},{"$f":"models1!G572","v":75003.3},{"$f":"models1!V572","v":74517.5},74760.399999999994,{"$f":"models1!AO572","v":76000},0,0,0,0,876.52956595884837,{"$f":"STDEV(models1!J572,models1!Y572)","v":0.41719300090006295},null,10,5,9,11,12,8,12,7,6,4,83000,null,2.7018512172212588,2.9664793948382648,0.26462817761700608]
["O12",68,42,97,52,19,26,null,"O12",11,3,16,9,15,26000,{"$f":"IF(models1!J573*models1!Y573<=0,\"valid\",\"invalid\")","v":"invalid"},{"$f":"models1!G573","v":32782.9},{"$f":"models1!V573","v":67012.2},49897.55,{"$f":"models1!AO573","v":33000},1,0,0,1,11948.372190438737,{"$f":"STDEV(models1!J573,models1!Y573)","v":93.090607743208977},null,11,3,16,9,15,7,14,1,9,2,26000,null,5.2153619241621181,5.3197744313081543,0.10441250714603623]
["O13",88,85,30,83,89,47,null,"O13",15,16,8,10,3,47000,{"$f":"IF(models1!J574*models1!Y574<=0,\"valid\",\"invalid\")","v":"valid"},{"$f":"models1!G574","v":46690.8},{"$f":"models1!V574","v":71300.899999999994},58995.85,{"$f":"models1!AO574","v":47000},1,1,0,0,8482.346881096586,{"$f":"STDEV(models1!J574,models1!Y574)","v":37.024111062927624},null,15,16,8,10,3,1,1,8,7,14,47000,null,5.3197744313081561,5.4497706373754848,0.12999620606732876]
["O14",10,17,17,97,54,86,null,"O14",1,2,3,15,8,86000,{"$f":"IF(models1!J575*models1!Y575<=0,\"valid\",\"invalid\")","v":"invalid"},{"$f":"models1!G575","v":85434.2},{"$f":"models1!V575","v":52537.5},68985.850000000006,{"$f":"models1!AO575","v":86000},{"$f":"IF(MAX(Q15:R15)<T15,0,IF(MIN(Q15:R15)>T15,0,1))","v":0},0,0,0,12030.820841125014,{"$f":"STDEV(models1!J575,models1!Y575)","v":27.046834380385445},null,1,2,3,15,8,16,15,13,1,9,86000,null,5.805170109479997,6.0991802727907611,0.29401016331076413]
["O15",39,83,11,97,29,43,null,"O15",6,14,1,15,12,43000,{"$f":"IF(models1!J576*models1!Y576<=0,\"valid\",\"invalid\")","v":"valid"},{"$f":"models1!G576","v":42717.1},{"$f":"models1!V576","v":46104.4},44410.75,{"$f":"models1!AO576","v":43000},{"$f":"IF(MAX(Q16:R16)<T16,0,IF(MIN(Q16:R16)>T16,0,1))","v":1},1,0,0,997.55089155892188,{"$f":"STDEV(models1!J576,models1!Y576)","v":5.5720014357499945},null,6,14,1,15,12,12,3,16,1,4,43000,null,5.9413803110051786,6.4575537163851759,0.51617340537999734]
["O16",16,68,78,48,86,66,null,"O16",{"$f":"RANK(B17,B$2:B$17,0)","v":15},6,3,10,4,66000,{"$f":"IF(models1!J577*models1!Y577<=0,\"valid\",\"invalid\")","v":"invalid"},{"$f":"models1!G577","v":65565.8},{"$f":"models1!V577","v":65403.9},65484.850000000006,{"$f":"models1!AO577","v":66000},{"$f":"IF(MAX(Q17:R17)<T17,0,IF(MIN(Q17:R17)>T17,0,1))","v":0},0,0,0,364.26605832824583,{"$f":"STDEV(models1!J577,models1!Y577)","v":0.16970562748477122},null,15,6,3,10,4,1,10,13,7,13,66000,null,4.9295030175464944,5.0199601592044534,9.0457141657958928E-2]
["correlation",{"$f":"CORREL(B2:B16,$G$2:$G$16)","v":-0.20053306061568463},{"$f":"CORREL(C2:C16,$G$2:$G$16)","v":-0.33921135963728838},-0.2157945418707265,-0.31109691260988037,0.52668903546025359,1,null,"O16(2)",{"$f":"MAX(J2:J16)","v":15},{"$f":"INT(QUARTILE(K2:K16,3))","v":12},{"$f":"MEDIAN(L2:L16)","v":8},{"$f":"INT(QUARTILE(M2:M16,1))","v":4},{"$f":"MIN(N2:N16)","v":1},{"$f":"O17","v":66000},"ratio","correlation","correlation",null,"correlation",null,null,null,null,null,null,null,"direct","direct","direct","direct","direct","inverse","inverse","inverse","inverse","inverse","double","max",{"$f":"MAX(AN2:AN17)","v":5.9413803110051786},{"$f":"MAX(AO2:AO17)","v":6.4575537163851759},{"$f":"MAX(AP2:AP17)","v":0.75960814161726109}]
["direction",{"$f":"IF(B18>0,0,1)","v":1},{"$f":"IF(C18>0,0,1)","v":1},1,1,0,"Y",null,null,null,null,null,null,null,null,{"$f":"COUNTIF($P$2:$P$17,\"valid\")/16","v":0.375},{"$f":"CORREL(Q2:Q17,$O$2:$O$17)","v":0.99228445618110683},{"$f":"CORREL(R2:R17,$O$2:$O$17)","v":0.19080965811477113},null,{"$f":"CORREL(T2:T17,$O$2:$O$17)","v":0.99501677809465405},{"$f":"SUM(U2:U17)","v":7},null,{"$f":"SUM(W2:W17)","v":0},{"$f":"SUM(X2:X17)","v":1},{"$f":"SUM(Y2:Y17)","v":107173.62924003255},null,null,null,null,null,null,null,null,null,null,null,null,null,"min",{"$f":"MIN(AN2:AN17)","v":0.83666002653407512},{"$f":"MIN(AO2:AO17)","v":1.3038404810405297},{"$f":"MIN(AP2:AP17)","v":2.5228854229961684E-2}]
[null,null,null,null,null,null,null,null,null,null,null,null,null,null,null,null,null,null,null,null,null,null,null,null,null,null,null,null,null,null,null,null,null,null,null,null,null,null,"avg",{"$f":"AVERAGE(AN2:AN17)","v":4.3154156468596261},{"$f":"AVERAGE(AO2:AO17)","v":4.4068152433192589},{"$f":"AVERAGE(AP2:AP17)","v":0.23528792945935645}]
["antagonism!",null,null,null,null,null,null,null,"O*",null,null,null,null,null,"correlation",null,null,null,null,null,null,null,null,null,null,null,null,null,null,null,null,null,null,null,null,null,null,null,"stddev",{"$f":"STDEV(AN2:AN17)","v":1.5304684406508997},{"$f":"STDEV(AO2:AO17)","v":1.529262797995258},{"$f":"STDEV(AP2:AP17)","v":0.22224891790787951}]
[null,null,null,null,null,null,null,null,1,null,null,null,null,null,null,null,null,null,null,null,null,null,null,null,null,null,null,null,null,null,null,null,null,null,null,null,null,null,"median",{"$f":"MEDIAN(AN2:AN17)","v":4.7939144485436707},{"$f":"MEDIAN(AO2:AO17)","v":4.8121529662464946},0.13341176759111395]
["Consistency-tasks ",null,null,null,null,null,null,null,1,null,null,null,null,null,{"$f":"CORREL($B$2:$G$2,B3:G3)","v":0.12399835624864601}]
["Y=between1",null,null,null,null,null,null,null,1,null,null,null,null,null,0.60271306590986684]
["Y=between2",null,null,null,null,null,null,null,1,null,null,null,null,null,0.46939674867944015]
["Y=validity1",null,null,null,null,null,null,null,1,null,null,null,null,null,0.71210895957392317]
["Y=validity2",null,null,null,null,null,null,null,1,null,null,null,null,null,0.79028414301315375]
["Y=validity-ratio",null,null,null,null,null,null,null,1,null,null,null,null,null,-0.5686162458053996]
["Xi=model-characteristics",null,null,null,null,null,null,null,1,null,null,null,null,null,0.5149182111448436]
[null,null,null,null,null,null,null,null,1,null,null,null,null,null,-0.73224058205375764]
[null,null,null,null,null,null,null,null,1,null,null,null,null,null,0.7515801292574642]
[null,null,null,null,null,null,null,null,1,null,null,null,null,null,0.11787865738653595]
[null,null,null,null,null,null,null,null,1,null,null,null,null,null,-0.52287243813455486]
[null,null,null,null,null,null,null,null,1,null,null,null,null,null,9.1841412066433925E-2]
[null,null,null,null,null,null,null,null,1,null,null,null,null,null,-3.5121997784931726E-2]
[null,null,null,null,null,null,null,null,1,null,null,null,null,null,-0.30326667160063286]
[null,null,null,null,null,null,null,null,1,null,null,null,null,null,-0.16946932139786139]
[null,null,null,null,null,null,null,null,{"$f":"I22+1","v":2},null,null,null,null,null,{"$f":"CORREL($B$3:$G$3,B2:G2)","v":0.12399835624864601}]
[null,null,null,null,null,null,null,null,{"$f":"I23+1","v":2}]
[null,null,null,null,null,null,null,null,2,null,null,null,null,null,{"$f":"CORREL($B$3:$G$3,B4:G4)","v":0.66366064249873191}]
[null,null,null,null,null,null,null,null,2,null,null,null,null,null,-0.73000250646112286]
[null,null,null,null,null,null,null,null,2,null,null,null,null,null,0.61189129795707975]
[null,null,null,null,null,null,null,null,2,null,null,null,null,null,0.37413562672317136]
[null,null,null,null,null,null,null,null,2,null,null,null,null,null,8.6480740124129547E-3]
[null,null,null,null,null,null,null,null,2,null,null,null,null,null,-0.49031489867695688]
[null,null,null,null,null,null,null,null,2,null,null,null,null,null,0.37221230611842565]
[null,null,null,null,null,null,null,null,2,null,null,null,null,null,4.7518850884839037E-2]
[null,null,null,null,null,null,null,null,2,null,null,null,null,null,0.35881074900742299]
[null,null,null,null,null,null,null,null,2,null,null,null,null,null,-0.41816619492007379]
[null,null,null,null,null,null,null,null,2,null,null,null,null,null,-0.2982865083584893]
[null,null,null,null,null,null,null,null,2,null,null,null,null,null,0.82819494099888924]
[null,null,null,null,null,null,null,null,2,null,null,null,null,null,-0.17571567987994663]
[null,null,null,null,null,null,null,null,2,null,null,null,null,null,0.35802194981736196]
[null,null,null,null,null,null,null,null,3,null,null,null,null,null,{"$f":"CORREL($B$4:$G$4,B2:G2)","v":0.60271306590986684}]
[null,null,null,null,null,null,null,null,3,null,null,null,null,null,{"$f":"CORREL($B$4:$G$4,B3:G3)","v":0.66366064249873191}]
[null,null,null,null,null,null,null,null,3]
[null,null,null,null,null,null,null,null,3,null,null,null,null,null,-0.31141661730808318]
[null,null,null,null,null,null,null,null,3,null,null,null,null,null,0.72685052765993285]
[null,null,null,null,null,null,null,null,3,null,null,null,null,null,0.92628838034500538]
[null,null,null,null,null,null,null,null,3,null,null,null,null,null,-0.28068175633890297]
[null,null,null,null,null,null,null,null,3,null,null,null,null,null,0.12654818109756183]
[null,null,null,null,null,null,null,null,3,null,null,null,null,null,-0.1201696042652204]
[null,null,null,null,null,null,null,null,3,null,null,null,null,null,0.71916771436418103]
[null,null,null,null,null,null,null,null,3,null,null,null,null,null,0.17377195042251176]
[null,null,null,null,null,null,null,null,3,null,null,null,null,null,-0.8774808718543643]
[null,null,null,null,null,null,null,null,3,null,null,null,null,null,6.8244556290212527E-3]
[null,null,null,null,null,null,null,null,3,null,null,null,null,null,0.55970238166019048]
[null,null,null,null,null,null,null,null,3,null,null,null,null,null,-7.5047529860045911E-2]
[null,null,null,null,null,null,null,null,3,null,null,null,null,null,0.48640166644630101]
[null,null,null,null,null,null,null,null,4,null,null,null,null,null,{"$f":"CORREL($B$5:$G$5,B2:G2)","v":0.46939674867944015}]
[null,null,null,null,null,null,null,null,4,null,null,null,null,null,{"$f":"CORREL($B$5:$G$5,B3:G3)","v":-0.73000250646112286}]
[null,null,null,null,null,null,null,null,4,null,null,null,null,null,-0.31141661730808318]
[null,null,null,null,null,null,null,null,4]
[null,null,null,null,null,null,null,null,4,null,null,null,null,null,1.9590263570463881E-2]
[null,null,null,null,null,null,null,null,4,null,null,null,null,null,6.1786824438190217E-2]
[null,null,null,null,null,null,null,null,4,null,null,null,null,null,-0.19783182049419371]
[null,null,null,null,null,null,null,null,4,null,null,null,null,null,0.80348146440735257]
[null,null,null,null,null,null,null,null,4,null,null,null,null,null,-0.59393500781077857]
[null,null,null,null,null,null,null,null,4,null,null,null,null,null,0.15883984519654382]
[null,null,null,null,null,null,null,null,4,null,null,null,null,null,7.8968367538472209E-2]
[null,null,null,null,null,null,null,null,4,null,null,null,null,null,0.1869307345400647]
[null,null,null,null,null,null,null,null,4,null,null,null,null,null,0.16093710635715397]
[null,null,null,null,null,null,null,null,4,null,null,null,null,null,-0.59955091069085065]
[null,null,null,null,null,null,null,null,4,null,null,null,null,null,6.9448875800151216E-2]
[null,null,null,null,null,null,null,null,4,null,null,null,null,null,-0.62346994894399843]
[null,null,null,null,null,null,null,null,5,null,null,null,null,null,{"$f":"CORREL($B$6:$G$6,B2:G2)","v":0.71210895957392317}]
[null,null,null,null,null,null,null,null,5,null,null,null,null,null,{"$f":"CORREL($B$6:$G$6,B3:G3)","v":0.61189129795707975}]
[null,null,null,null,null,null,null,null,5,null,null,null,null,null,0.72685052765993285]
[null,null,null,null,null,null,null,null,5,null,null,null,null,null,1.9590263570463881E-2]
[null,null,null,null,null,null,null,null,5]
[null,null,null,null,null,null,null,null,5,null,null,null,null,null,0.72586714300012189]
[null,null,null,null,null,null,null,null,5,null,null,null,null,null,-0.45237570170132962]
[null,null,null,null,null,null,null,null,5,null,null,null,null,null,0.25347679636854931]
[null,null,null,null,null,null,null,null,5,null,null,null,null,null,-7.1337600879827004E-2]
[null,null,null,null,null,null,null,null,5,null,null,null,null,null,0.43364138645177286]
[null,null,null,null,null,null,null,null,5,null,null,null,null,null,0.40222045898065145]
[null,null,null,null,null,null,null,null,5,null,null,null,null,null,-0.40558672436859022]
[null,null,null,null,null,null,null,null,5,null,null,null,null,null,-0.47628450408098633]
[null,null,null,null,null,null,null,null,5,null,null,null,null,null,0.41733373972547738]
[null,null,null,null,null,null,null,null,5,null,null,null,null,null,-0.32787551676483584]
[null,null,null,null,null,null,null,null,5,null,null,null,null,null,0.15690574364116669]
[null,null,null,null,null,null,null,null,6,null,null,null,null,null,{"$f":"CORREL($B$7:$G$7,B2:G2)","v":0.79028414301315375}]
[null,null,null,null,null,null,null,null,{"$f":"I87+1","v":6},null,null,null,null,null,{"$f":"CORREL($B$7:$G$7,B3:G3)","v":0.37413562672317136}]
[null,null,null,null,null,null,null,null,6,null,null,null,null,null,0.92628838034500538]
[null,null,null,null,null,null,null,null,6,null,null,null,null,null,6.1786824438190217E-2]
[null,null,null,null,null,null,null,null,6,null,null,null,null,null,0.72586714300012189]
[null,null,null,null,null,null,null,null,6]
[null,null,null,null,null,null,null,null,6,null,null,null,null,null,-0.35387625157696068]
[null,null,null,null,null,null,null,null,6,null,null,null,null,null,0.46564396440440925]
[null,null,null,null,null,null,null,null,6,null,null,null,null,null,-0.35579594907528594]
[null,null,null,null,null,null,null,null,6,null,null,null,null,null,0.83556981438862077]
[null,null,null,null,null,null,null,null,6,null,null,null,null,null,0.1838748325062641]
[null,null,null,null,null,null,null,null,6,null,null,null,null,null,-0.86920175414540357]
[null,null,null,null,null,null,null,null,6,null,null,null,null,null,0.1068442907070047]
[null,null,null,null,null,null,null,null,6,null,null,null,null,null,0.33630157986325798]
[null,null,null,null,null,null,null,null,6,null,null,null,null,null,-1.3457829070512477E-2]
[null,null,null,null,null,null,null,null,6,null,null,null,null,null,0.29762515145646185]
[null,null,null,null,null,null,null,null,7,null,null,null,null,null,{"$f":"CORREL($B$8:$G$8,B2:G2)","v":-0.5686162458053996}]
[null,null,null,null,null,null,null,null,7,null,null,null,null,null,{"$f":"CORREL($B$8:$G$8,B3:G3)","v":8.6480740124129547E-3}]
[null,null,null,null,null,null,null,null,7,null,null,null,null,null,-0.28068175633890297]
[null,null,null,null,null,null,null,null,7,null,null,null,null,null,-0.19783182049419371]
[null,null,null,null,null,null,null,null,7,null,null,null,null,null,-0.45237570170132962]
[null,null,null,null,null,null,null,null,7,null,null,null,null,null,-0.35387625157696068]
[null,null,null,null,null,null,null,null,7]
[null,null,null,null,null,null,null,null,7,null,null,null,null,null,-7.2727131898243966E-2]
[null,null,null,null,null,null,null,null,7,null,null,null,null,null,0.52925478269366499]
[null,null,null,null,null,null,null,null,7,null,null,null,null,null,-0.65738307773965399]
[null,null,null,null,null,null,null,null,7,null,null,null,null,null,0.59019617848172856]
[null,null,null,null,null,null,null,null,7,null,null,null,null,null,-3.159654354425781E-2]
[null,null,null,null,null,null,null,null,7,null,null,null,null,null,0.42944341141089803]
[null,null,null,null,null,null,null,null,7,null,null,null,null,null,0.50319887095970128]
[null,null,null,null,null,null,null,null,7,null,null,null,null,null,0.87517029902021848]
[null,null,null,null,null,null,null,null,7,null,null,null,null,null,-0.34579221877412181]
[null,null,null,null,null,null,null,null,8,null,null,null,null,null,{"$f":"CORREL($B$9:$G$9,B2:G2)","v":0.5149182111448436}]
[null,null,null,null,null,null,null,null,8,null,null,null,null,null,{"$f":"CORREL($B$9:$G$9,B3:G3)","v":-0.49031489867695688}]
[null,null,null,null,null,null,null,null,8,null,null,null,null,null,0.12654818109756183]
[null,null,null,null,null,null,null,null,8,null,null,null,null,null,0.80348146440735257]
[null,null,null,null,null,null,null,null,8,null,null,null,null,null,0.25347679636854931]
[null,null,null,null,null,null,null,null,8,null,null,null,null,null,0.46564396440440925]
[null,null,null,null,null,null,null,null,8,null,null,null,null,null,-7.2727131898243966E-2]
[null,null,null,null,null,null,null,null,8]
[null,null,null,null,null,null,null,null,8,null,null,null,null,null,-0.34722019087784028]
[null,null,null,null,null,null,null,null,8,null,null,null,null,null,0.3690252400557214]
[null,null,null,null,null,null,null,null,8,null,null,null,null,null,0.29392580367473442]
[null,null,null,null,null,null,null,null,8,null,null,null,null,null,-0.25231268885070907]
[null,null,null,null,null,null,null,null,8,null,null,null,null,null,0.14823447010915933]
[null,null,null,null,null,null,null,null,8,null,null,null,null,null,-0.22040005040226535]
[null,null,null,null,null,null,null,null,8,null,null,null,null,null,0.36283270785258753]
[null,null,null,null,null,null,null,null,8,null,null,null,null,null,-0.26742216062739399]
[null,null,null,null,null,null,null,null,9,null,null,null,null,null,{"$f":"CORREL($B$10:$G$10,B2:G2)","v":-0.73224058205375764}]
[null,null,null,null,null,null,null,null,9,null,null,null,null,null,{"$f":"CORREL($B$10:$G$10,B3:G3)","v":0.37221230611842565}]
[null,null,null,null,null,null,null,null,9,null,null,null,null,null,-0.1201696042652204]
[null,null,null,null,null,null,null,null,9,null,null,null,null,null,-0.59393500781077857]
[null,null,null,null,null,null,null,null,9,null,null,null,null,null,-7.1337600879827004E-2]
[null,null,null,null,null,null,null,null,9,null,null,null,null,null,-0.35579594907528594]
[null,null,null,null,null,null,null,null,9,null,null,null,null,null,0.52925478269366499]
[null,null,null,null,null,null,null,null,9,null,null,null,null,null,-0.34722019087784028]
[null,null,null,null,null,null,null,null,9]
[null,null,null,null,null,null,null,null,9,null,null,null,null,null,-0.65248164437008604]
[null,null,null,null,null,null,null,null,9,null,null,null,null,null,0.35786126699405019]
[null,null,null,null,null,null,null,null,9,null,null,null,null,null,0.23615050964891074]
[null,null,null,null,null,null,null,null,9,null,null,null,null,null,-0.46150025165611874]
[null,null,null,null,null,null,null,null,9,null,null,null,null,null,0.5381420085680062]
[null,null,null,null,null,null,null,null,9,null,null,null,null,null,0.33367261542567223]
[null,null,null,null,null,null,null,null,9,null,null,null,null,null,0.33752139611609899]
[null,null,null,null,null,null,null,null,10,null,null,null,null,null,{"$f":"CORREL($B$11:$G$11,B2:G2)","v":0.7515801292574642}]
[null,null,null,null,null,null,null,null,{"$f":"I151+1","v":10},null,null,null,null,null,{"$f":"CORREL($B$11:$G$11,B3:G3)","v":4.7518850884839037E-2}]
[null,null,null,null,null,null,null,null,10,null,null,null,null,null,0.71916771436418103]
[null,null,null,null,null,null,null,null,10,null,null,null,null,null,0.15883984519654382]
[null,null,null,null,null,null,null,null,10,null,null,null,null,null,0.43364138645177286]
[null,null,null,null,null,null,null,null,10,null,null,null,null,null,0.83556981438862077]
[null,null,null,null,null,null,null,null,10,null,null,null,null,null,-0.65738307773965399]
[null,null,null,null,null,null,null,null,10,null,null,null,null,null,0.3690252400557214]
[null,null,null,null,null,null,null,null,10,null,null,null,null,null,-0.65248164437008604]
[null,null,null,null,null,null,null,null,10]
[null,null,null,null,null,null,null,null,10,null,null,null,null,null,-0.36156173470905323]
[null,null,null,null,null,null,null,null,10,null,null,null,null,null,-0.68217583888422739]
[null,null,null,null,null,null,null,null,10,null,null,null,null,null,0.1844216301547178]
[null,null,null,null,null,null,null,null,10,null,null,null,null,null,-0.1552494854644707]
[null,null,null,null,null,null,null,null,10,null,null,null,null,null,-0.30921802867134018]
[null,null,null,null,null,null,null,null,10,null,null,null,null,null,0.39139311031899776]
[null,null,null,null,null,null,null,null,11,null,null,null,null,null,{"$f":"CORREL($B$12:$G$12,B2:G2)","v":0.11787865738653595}]
[null,null,null,null,null,null,null,null,11,null,null,null,null,null,{"$f":"CORREL($B$12:$G$12,B3:G3)","v":0.35881074900742299}]
[null,null,null,null,null,null,null,null,11,null,null,null,null,null,0.17377195042251176]
[null,null,null,null,null,null,null,null,11,null,null,null,null,null,7.8968367538472209E-2]
[null,null,null,null,null,null,null,null,11,null,null,null,null,null,0.40222045898065145]
[null,null,null,null,null,null,null,null,11,null,null,null,null,null,0.1838748325062641]
[null,null,null,null,null,null,null,null,11,null,null,null,null,null,0.59019617848172856]
[null,null,null,null,null,null,null,null,11,null,null,null,null,null,0.29392580367473442]
[null,null,null,null,null,null,null,null,11,null,null,null,null,null,0.35786126699405019]
[null,null,null,null,null,null,null,null,11,null,null,null,null,null,-0.36156173470905323]
[null,null,null,null,null,null,null,null,11]
[null,null,null,null,null,null,null,null,11,null,null,null,null,null,-0.22179306084174918]
[null,null,null,null,null,null,null,null,11,null,null,null,null,null,5.4029524693784527E-3]
[null,null,null,null,null,null,null,null,11,null,null,null,null,null,0.70974003108312311]
[null,null,null,null,null,null,null,null,11,null,null,null,null,null,0.58358064717455449]
[null,null,null,null,null,null,null,null,11,null,null,null,null,null,-0.45207665886164144]
[null,null,null,null,null,null,null,null,12,null,null,null,null,null,{"$f":"CORREL($B$13:$G$13,B2:G2)","v":-0.52287243813455486}]
[null,null,null,null,null,null,null,null,12,null,null,null,null,null,{"$f":"CORREL($B$13:$G$13,B3:G3)","v":-0.41816619492007379}]
[null,null,null,null,null,null,null,null,12,null,null,null,null,null,-0.8774808718543643]
[null,null,null,null,null,null,null,null,12,null,null,null,null,null,0.1869307345400647]
[null,null,null,null,null,null,null,null,12,null,null,null,null,null,-0.40558672436859022]
[null,null,null,null,null,null,null,null,12,null,null,null,null,null,-0.86920175414540357]
[null,null,null,null,null,null,null,null,12,null,null,null,null,null,-3.159654354425781E-2]
[null,null,null,null,null,null,null,null,12,null,null,null,null,null,-0.25231268885070907]
[null,null,null,null,null,null,null,null,12,null,null,null,null,null,0.23615050964891074]
[null,null,null,null,null,null,null,null,12,null,null,null,null,null,-0.68217583888422739]
[null,null,null,null,null,null,null,null,12,null,null,null,null,null,-0.22179306084174918]
[null,null,null,null,null,null,null,null,12]
[null,null,null,null,null,null,null,null,12,null,null,null,null,null,-0.46358661156584191]
[null,null,null,null,null,null,null,null,12,null,null,null,null,null,-0.52790741541405872]
[null,null,null,null,null,null,null,null,12,null,null,null,null,null,-0.29194317575892481]
[null,null,null,null,null,null,null,null,12,null,null,null,null,null,-0.27174394897025256]
[null,null,null,null,null,null,null,null,13,null,null,null,null,null,{"$f":"CORREL($B$14:$G$14,B2:G2)","v":9.1841412066433925E-2}]
[null,null,null,null,null,null,null,null,13,null,null,null,null,null,{"$f":"CORREL($B$14:$G$14,B3:G3)","v":-0.2982865083584893}]
[null,null,null,null,null,null,null,null,13,null,null,null,null,null,6.8244556290212527E-3]
[null,null,null,null,null,null,null,null,13,null,null,null,null,null,0.16093710635715397]
[null,null,null,null,null,null,null,null,13,null,null,null,null,null,-0.47628450408098633]
[null,null,null,null,null,null,null,null,13,null,null,null,null,null,0.1068442907070047]
[null,null,null,null,null,null,null,null,13,null,null,null,null,null,0.42944341141089803]
[null,null,null,null,null,null,null,null,13,null,null,null,null,null,0.14823447010915933]
[null,null,null,null,null,null,null,null,13,null,null,null,null,null,-0.46150025165611874]
[null,null,null,null,null,null,null,null,13,null,null,null,null,null,0.1844216301547178]
[null,null,null,null,null,null,null,null,13,null,null,null,null,null,5.4029524693784527E-3]
[null,null,null,null,null,null,null,null,13,null,null,null,null,null,-0.46358661156584191]
[null,null,null,null,null,null,null,null,13]
[null,null,null,null,null,null,null,null,13,null,null,null,null,null,-6.1569044565774056E-3]
[null,null,null,null,null,null,null,null,13,null,null,null,null,null,0.53423176568691244]
[null,null,null,null,null,null,null,null,13,null,null,null,null,null,-0.37349001943615212]
[null,null,null,null,null,null,null,null,14,null,null,null,null,null,{"$f":"CORREL($B$15:$G$15,B2:G2)","v":-3.5121997784931726E-2}]
[null,null,null,null,null,null,null,null,{"$f":"I215+1","v":14},null,null,null,null,null,{"$f":"CORREL($B$15:$G$15,B3:G3)","v":0.82819494099888924}]
[null,null,null,null,null,null,null,null,14,null,null,null,null,null,0.55970238166019048]
[null,null,null,null,null,null,null,null,14,null,null,null,null,null,-0.59955091069085065]
[null,null,null,null,null,null,null,null,14,null,null,null,null,null,0.41733373972547738]
[null,null,null,null,null,null,null,null,14,null,null,null,null,null,0.33630157986325798]
[null,null,null,null,null,null,null,null,14,null,null,null,null,null,0.50319887095970128]
[null,null,null,null,null,null,null,null,14,null,null,null,null,null,-0.22040005040226535]
[null,null,null,null,null,null,null,null,14,null,null,null,null,null,0.5381420085680062]
[null,null,null,null,null,null,null,null,14,null,null,null,null,null,-0.1552494854644707]
[null,null,null,null,null,null,null,null,14,null,null,null,null,null,0.70974003108312311]
[null,null,null,null,null,null,null,null,14,null,null,null,null,null,-0.52790741541405872]
[null,null,null,null,null,null,null,null,14,null,null,null,null,null,-6.1569044565774056E-3]
[null,null,null,null,null,null,null,null,14]
[null,null,null,null,null,null,null,null,14,null,null,null,null,null,0.40154404058795035]
[null,null,null,null,null,null,null,null,14,null,null,null,null,null,0.13847893776120626]
[null,null,null,null,null,null,null,null,15,null,null,null,null,null,{"$f":"CORREL($B$16:$G$16,B2:G2)","v":-0.30326667160063286}]
[null,null,null,null,null,null,null,null,15,null,null,null,null,null,{"$f":"CORREL($B$16:$G$16,B3:G3)","v":-0.17571567987994663}]
[null,null,null,null,null,null,null,null,15,null,null,null,null,null,-7.5047529860045911E-2]
[null,null,null,null,null,null,null,null,15,null,null,null,null,null,6.9448875800151216E-2]
[null,null,null,null,null,null,null,null,15,null,null,null,null,null,-0.32787551676483584]
[null,null,null,null,null,null,null,null,15,null,null,null,null,null,-1.3457829070512477E-2]
[null,null,null,null,null,null,null,null,15,null,null,null,null,null,0.87517029902021848]
[null,null,null,null,null,null,null,null,15,null,null,null,null,null,0.36283270785258753]
[null,null,null,null,null,null,null,null,15,null,null,null,null,null,0.33367261542567223]
[null,null,null,null,null,null,null,null,15,null,null,null,null,null,-0.30921802867134018]
[null,null,null,null,null,null,null,null,15,null,null,null,null,null,0.58358064717455449]
[null,null,null,null,null,null,null,null,15,null,null,null,null,null,-0.29194317575892481]
[null,null,null,null,null,null,null,null,15,null,null,null,null,null,0.53423176568691244]
[null,null,null,null,null,null,null,null,15,null,null,null,null,null,0.40154404058795035]
[null,null,null,null,null,null,null,null,15]
[null,null,null,null,null,null,null,null,15,null,null,null,null,null,-0.26636400995906723]
[null,null,null,null,null,null,null,null,16,null,null,null,null,null,{"$f":"CORREL($B$17:$G$17,B2:G2)","v":-0.16946932139786139}]
[null,null,null,null,null,null,null,null,16,null,null,null,null,null,{"$f":"CORREL($B$17:$G$17,B3:G3)","v":0.35802194981736196}]
[null,null,null,null,null,null,null,null,16,null,null,null,null,null,0.48640166644630101]
[null,null,null,null,null,null,null,null,16,null,null,null,null,null,-0.62346994894399843]
[null,null,null,null,null,null,null,null,16,null,null,null,null,null,0.15690574364116669]
[null,null,null,null,null,null,null,null,16,null,null,null,null,null,0.29762515145646185]
[null,null,null,null,null,null,null,null,16,null,null,null,null,null,-0.34579221877412181]
[null,null,null,null,null,null,null,null,16,null,null,null,null,null,-0.26742216062739399]
[null,null,null,null,null,null,null,null,16,null,null,null,null,null,0.33752139611609899]
[null,null,null,null,null,null,null,null,16,null,null,null,null,null,0.39139311031899776]
[null,null,null,null,null,null,null,null,16,null,null,null,null,null,-0.45207665886164144]
[null,null,null,null,null,null,null,null,16,null,null,null,null,null,-0.27174394897025256]
[null,null,null,null,null,null,null,null,16,null,null,null,null,null,-0.37349001943615212]
[null,null,null,null,null,null,null,null,16,null,null,null,null,null,0.13847893776120626]
[null,null,null,null,null,null,null,null,16,null,null,null,null,null,-0.26636400995906723]
[null,null,null,null,null,null,null,null,16]
[null,null,null,null,null,null,null,null,"max",null,null,null,null,null,{"$f":"MAX(O22:O277)","v":0.92628838034500538}]
[null,null,null,null,null,null,null,null,"min",null,null,null,null,null,{"$f":"MIN(O22:O277)","v":-0.8774808718543643}]
[null,null,null,null,null,null,null,null,"avg",null,null,null,null,null,{"$f":"AVERAGE(O22:O277)","v":6.1587738687296188E-2}]
[null,null,null,null,null,null,null,null,"stddev",null,null,null,null,null,{"$f":"STDEV(O22:O277)","v":0.44437118698495515}]
[null,null,null,null,null,null,null,null,"median",null,null,null,null,null,{"$f":"MEDIAN(O22:O277)","v":8.540488980245306E-2}]
[null,null,null,null,null,null,null,null,"kvart_1",null,null,null,null,null,{"$f":"QUARTILE(O22:O277,1)","v":-0.30475451086830968}]
[null,null,null,null,null,null,null,null,"kvart_3",null,null,null,null,null,{"$f":"QUARTILE(O22:O277,3)","v":0.40171314518612561}]

{"sheet":"basics5","index":11,"n_rows":284,"n_cols":42,"rows_kept":284,"cut":false,"hidden":false,"merged":[]}
[{"$f":"RANDBETWEEN(10,99)","v":73},"A1","A2","A3","A4","A5","A6=Y",null,"rank",{"$f":"B1","v":"A1"},"A2","A3","A4","A5",{"$f":"G1&\"'\"","v":"A6=Y'"},"validity0","direkt","inverz","átlag","double","between1","validity1","invalid_between","valid_extrem","between2","validity2",null,{"$f":"models1!B7","v":"X(A1)"},{"$f":"models1!C7","v":"X(A2)"},{"$f":"models1!D7","v":"X(A3)"},{"$f":"models1!E7","v":"X(A4)"},{"$f":"models1!F7","v":"X(A5)"},{"$f":"AB1","v":"X(A1)"},{"$f":"AC1","v":"X(A2)"},"X(A3)","X(A4)","X(A5)",{"$f":"O1","v":"A6=Y'"},null,"direct_stddev","inverse_stddev","delta"]
["O1",88,44,29,33,92,67,null,{"$f":"A2","v":"O1"},{"$f":"RANK(B2,B$2:B$17,B$19)","v":1},{"$f":"RANK(C2,C$2:C$17,C$19)","v":7},14,4,2,{"$f":"G2*1000","v":67000},{"$f":"IF(models1!J462*models1!Y462<=0,\"valid\",\"invalid\")","v":"invalid"},{"$f":"models1!G462","v":63869.2},{"$f":"models1!V462","v":43942},{"$f":"AVERAGE(Q2:R2)","v":53905.599999999999},{"$f":"models1!AO462","v":61679.9},{"$f":"IF(MAX(Q2:R2)<T2,0,IF(MIN(Q2:R2)>T2,0,1))","v":1},{"$f":"IF(P2=\"valid\",1,)","v":0},{"$f":"IF(V2=1,IF(U2=0,1,0),0)","v":0},{"$f":"IF(V2=0,IF(U2=1,1,0),0)","v":1},{"$f":"STDEV(S2:T2)","v":5497.2602489785786},{"$f":"STDEV(models1!J462,models1!Y462)","v":21.02935567248792},null,{"$f":"J2","v":1},{"$f":"K2","v":7},14,4,2,{"$f":"RANK(AB2,AB$2:AB$17,0)","v":14},{"$f":"RANK(AC2,AC$2:AC$17,0)","v":8},3,12,15,67000,null,{"$f":"STDEV(AB2:AF2)","v":5.2249401910452526},{"$f":"STDEV(AG2:AK2)","v":4.9295030175464962},{"$f":"ABS(AO2-AN2)","v":0.29543717349875642}]
["O2",12,40,53,68,86,22,null,{"$f":"A3","v":"O2"},{"$f":"RANK(B3,B$2:B$17,B$19)","v":16},5,10,14,3,{"$f":"G3*1000","v":22000},{"$f":"IF(models1!J463*models1!Y463<=0,\"valid\",\"invalid\")","v":"invalid"},{"$f":"models1!G463","v":22481.9},{"$f":"models1!V463","v":46496.7},{"$f":"AVERAGE(Q3:R3)","v":34489.300000000003},{"$f":"models1!AO463","v":25915.9},1,0,{"$f":"IF(V3=1,IF(U3=0,1,0),0)","v":0},{"$f":"IF(V3=0,IF(U3=1,1,0),0)","v":1},{"$f":"STDEV(S3:T3)","v":6062.3092778247446},{"$f":"STDEV(models1!J463,models1!Y463)","v":77.187776234323522},null,{"$f":"J3","v":16},5,10,14,3,{"$f":"RANK(AB3,AB$2:AB$17,0)","v":1},12,7,2,14,22000,null,{"$f":"STDEV(AB3:AF3)","v":5.5946402922797454},{"$f":"STDEV(AG3:AK3)","v":5.805170109479997},{"$f":"ABS(AO3-AN3)","v":0.21052981720025166}]
["O3",25,42,71,16,79,66,null,"O3",13,6,5,2,5,66000,{"$f":"IF(models1!J464*models1!Y464<=0,\"valid\",\"invalid\")","v":"valid"},{"$f":"models1!G464","v":91971.6},{"$f":"models1!V464","v":42920.1},67445.850000000006,{"$f":"models1!AO464","v":67381.399999999994},1,1,0,0,45.57303204748122,{"$f":"STDEV(models1!J464,models1!Y464)","v":52.552175977784216},null,13,6,5,2,5,4,10,12,14,12,66000,null,4.0865633483405102,3.8470768123342705,0.2394865360062397]
["O4",88,83,86,91,95,11,null,"O4",1,12,4,16,1,11000,{"$f":"IF(models1!J465*models1!Y465<=0,\"valid\",\"invalid\")","v":"invalid"},{"$f":"models1!G465","v":35766.699999999997},{"$f":"models1!V465","v":37299.599999999999},36533.149999999994,{"$f":"models1!AO465","v":15549.5},0,0,0,0,14837.681209045093,{"$f":"STDEV(models1!J465,models1!Y465)","v":9.8570685297404719},null,1,12,4,16,1,14,5,13,1,16,11000,null,6.8337398253079549,6.4575537163851759,0.37618610892277893]
["O5",34,26,51,62,47,19,null,"O5",11,1,11,10,11,19000,{"$f":"IF(models1!J466*models1!Y466<=0,\"valid\",\"invalid\")","v":"invalid"},{"$f":"models1!G466","v":29124.3},{"$f":"models1!V466","v":56715.8},42920.05,{"$f":"models1!AO466","v":19696.099999999999},0,0,0,0,16421.812530937321,{"$f":"STDEV(models1!J466,models1!Y466)","v":102.67897569609856},null,11,1,11,10,11,6,15,6,6,6,19000,null,4.3817804600413295,4.0249223594996222,0.3568581005417073]
["O6",80,86,25,11,24,30,null,"O6",4,14,15,1,16,30000,{"$f":"IF(models1!J467*models1!Y467<=0,\"valid\",\"invalid\")","v":"invalid"},{"$f":"models1!G467","v":46496.7},{"$f":"models1!V467","v":31679.1},39087.899999999994,{"$f":"models1!AO467","v":53905.1},0,0,0,0,10477.34259819727,{"$f":"STDEV(models1!J467,models1!Y467)","v":34.924003922803585},null,4,14,15,1,16,12,3,2,16,1,30000,null,6.9641941385920596,6.7601775124622288,0.20401662612983085]
["O7",80,65,99,45,45,44,null,"O7",4,9,1,8,12,44000,{"$f":"IF(models1!J468*models1!Y468<=0,\"valid\",\"invalid\")","v":"invalid"},{"$f":"models1!G468","v":60803.4},{"$f":"models1!V468","v":61825.3},61314.350000000006,{"$f":"models1!AO468","v":45612},0,0,0,0,11103.238165564564,{"$f":"STDEV(models1!J468,models1!Y468)","v":1.6404877323527904},null,4,9,1,8,12,12,7,16,8,4,44000,null,4.3243496620879309,4.6690470119715002,0.34469734988356926]
["O8",50,84,34,56,49,18,null,"O8",10,13,13,9,8,18000,{"$f":"IF(models1!J469*models1!Y469<=0,\"valid\",\"invalid\")","v":"invalid"},{"$f":"models1!G469","v":24014.799999999999},{"$f":"models1!V469","v":45474.8},34744.800000000003,{"$f":"models1!AO469","v":13994.6},0,0,0,0,14672.607130977105,{"$f":"STDEV(models1!J469,models1!Y469)","v":84.30127045306017},null,10,13,13,9,8,7,4,4,7,8,18000,null,2.3021728866442701,1.8708286933869707,0.43134419325729945]
["O9",33,38,18,19,72,83,null,"O9",12,4,16,3,6,83000,{"$f":"IF(models1!J470*models1!Y470<=0,\"valid\",\"invalid\")","v":"valid"},{"$f":"models1!G470","v":68978.7},{"$f":"models1!V470","v":84818.2},76898.45,{"$f":"models1!AO470","v":86040.8},0,1,1,0,6464.6176809808367,{"$f":"STDEV(models1!J470,models1!Y470)","v":13.491597385039327},null,12,4,16,3,6,5,13,1,13,11,83000,null,5.5856960175075772,5.3665631459994954,0.21913287150808181]
["O10",17,91,70,66,34,33,null,"O10",14,16,6,12,15,33000,{"$f":"IF(models1!J471*models1!Y471<=0,\"valid\",\"invalid\")","v":"valid"},{"$f":"models1!G471","v":22992.9},{"$f":"models1!V471","v":77664.899999999994},50328.899999999994,{"$f":"models1!AO471","v":58051.7},1,1,0,0,5460.8442497474716,{"$f":"STDEV(models1!J471,models1!Y471)","v":117.14638043917532},null,14,16,6,12,15,3,1,11,4,2,33000,null,3.9749213828703596,3.9623225512317899,1.2598831638569674E-2]
["O11",74,26,93,40,35,87,null,"O11",7,1,2,7,14,87000,{"$f":"IF(models1!J472*models1!Y472<=0,\"valid\",\"invalid\")","v":"valid"},{"$f":"models1!G472","v":88905.9},{"$f":"models1!V472","v":61314.400000000001},75110.149999999994,{"$f":"models1!AO472","v":90187.4},0,1,1,0,10661.225716644874,{"$f":"STDEV(models1!J472,models1!Y472)","v":22.422356031425423},null,7,1,2,7,14,10,15,15,9,3,87000,null,5.1672042731055257,4.9799598391954945,0.1872444339100312]
["O12",16,35,44,38,52,73,null,"O12",15,3,12,5,7,73000,{"$f":"IF(models1!J473*models1!Y473<=0,\"valid\",\"invalid\")","v":"invalid"},{"$f":"models1!G473","v":63869.2},{"$f":"models1!V473","v":52117.2},57993.2,{"$f":"models1!AO473","v":64789.8},0,0,0,0,4805.9219490124933,{"$f":"STDEV(models1!J473,models1!Y473)","v":11.384419177103421},null,15,3,12,5,7,2,14,5,11,10,73000,null,4.9799598391954927,4.8270073544588676,0.15295248473662504]
["O13",61,70,65,67,49,32,null,"O13",8,10,8,13,8,32000,{"$f":"IF(models1!J474*models1!Y474<=0,\"valid\",\"invalid\")","v":"valid"},{"$f":"models1!G474","v":21971},{"$f":"models1!V474","v":42920.1},32445.55,{"$f":"models1!AO474","v":22287.7},1,1,0,0,7182.6846172757696,{"$f":"STDEV(models1!J474,models1!Y474)","v":46.294280964283267},null,8,10,8,13,8,9,6,9,3,8,32000,null,2.1908902300206639,2.5495097567963922,0.35861952677572839]
["O14",58,89,68,65,83,97,null,"O14",9,15,7,11,4,97000,{"$f":"IF(models1!J475*models1!Y475<=0,\"valid\",\"invalid\")","v":"invalid"},{"$f":"models1!G475","v":55182.9},{"$f":"models1!V475","v":58759.6},56971.25,{"$f":"models1!AO475","v":68936.3},{"$f":"IF(MAX(Q15:R15)<T15,0,IF(MIN(Q15:R15)>T15,0,1))","v":0},0,0,0,8460.5679922361014,{"$f":"STDEV(models1!J475,models1!Y475)","v":2.6092240225783589},null,9,15,7,11,4,8,2,10,5,13,97000,null,4.1472882706655447,4.2778499272414869,0.13056165657594221]
["O15",79,44,91,39,48,88,null,"O15",6,7,3,6,10,88000,{"$f":"IF(models1!J476*models1!Y476<=0,\"valid\",\"invalid\")","v":"valid"},{"$f":"models1!G476","v":89927.8},{"$f":"models1!V476","v":54672},72299.899999999994,{"$f":"models1!AO476","v":91224},{"$f":"IF(MAX(Q16:R16)<T16,0,IF(MIN(Q16:R16)>T16,0,1))","v":0},1,1,0,13381.359437852298,{"$f":"STDEV(models1!J476,models1!Y476)","v":28.326697654333088},null,6,7,3,6,10,11,8,14,10,7,88000,null,2.5099800796022262,2.7386127875258306,0.22863270792360435]
["O16",88,75,64,82,45,93,null,"O16",{"$f":"RANK(B17,B$2:B$17,0)","v":1},6,9,2,12,93000,{"$f":"IF(models1!J477*models1!Y477<=0,\"valid\",\"invalid\")","v":"invalid"},{"$f":"models1!G477","v":76643},{"$f":"models1!V477","v":64380.1},70511.55,{"$f":"models1!AO477","v":77747.7},{"$f":"IF(MAX(Q17:R17)<T17,0,IF(MIN(Q17:R17)>T17,0,1))","v":0},0,0,0,5116.7307346830321,{"$f":"STDEV(models1!J477,models1!Y477)","v":9.3196673760386926},null,1,6,9,2,12,14,10,8,14,4,93000,null,4.636809247747852,4.2426406871192848,0.3941685606285672]
["correlation",{"$f":"CORREL(B2:B16,$G$2:$G$16)","v":7.4154590289306002E-2},{"$f":"CORREL(C2:C16,$G$2:$G$16)","v":-0.35626153811409239},0.10726787422560272,-0.48559715430791051,9.210389480087279E-2,1.0000000000000002,null,"O16(2)",{"$f":"MAX(J2:J16)","v":16},{"$f":"INT(QUARTILE(K2:K16,3))","v":12},{"$f":"MEDIAN(L2:L16)","v":8},{"$f":"INT(QUARTILE(M2:M16,1))","v":4},{"$f":"MIN(N2:N16)","v":1},{"$f":"O17","v":93000},"ratio","correlation","correlation",null,"correlation",null,null,null,null,null,null,null,"direct","direct","direct","direct","direct","inverse","inverse","inverse","inverse","inverse","double","max",{"$f":"MAX(AN2:AN17)","v":6.9641941385920596},{"$f":"MAX(AO2:AO17)","v":6.7601775124622288},{"$f":"MAX(AP2:AP17)","v":0.43134419325729945}]
["direction",{"$f":"IF(B18>0,0,1)","v":0},{"$f":"IF(C18>0,0,1)","v":1},0,1,0,"Y",null,null,null,null,null,null,null,null,{"$f":"COUNTIF($P$2:$P$17,\"valid\")/16","v":0.375},{"$f":"CORREL(Q2:Q17,$O$2:$O$17)","v":0.82571502711250189},{"$f":"CORREL(R2:R17,$O$2:$O$17)","v":0.43524027815120381},null,{"$f":"CORREL(T2:T17,$O$2:$O$17)","v":0.90769853077572071},{"$f":"SUM(U2:U17)","v":5},null,{"$f":"SUM(W2:W17)","v":3},{"$f":"SUM(X2:X17)","v":2},{"$f":"SUM(Y2:Y17)","v":140651.77657200504},null,null,null,null,null,null,null,null,null,null,null,null,null,"min",{"$f":"MIN(AN2:AN17)","v":2.1908902300206639},{"$f":"MIN(AO2:AO17)","v":1.8708286933869707},{"$f":"MIN(AP2:AP17)","v":1.2598831638569674E-2}]
[null,null,null,null,null,null,null,null,null,null,null,null,null,null,null,null,null,null,null,null,null,null,null,null,null,null,null,null,null,null,null,null,null,null,null,null,null,null,"avg",{"$f":"AVERAGE(AN2:AN17)","v":4.5565706340658938},{"$f":"AVERAGE(AO2:AO17)","v":4.4567965801646805},{"$f":"AVERAGE(AP2:AP17)","v":0.25890418619609895}]
["antagonism!",null,null,null,null,null,null,null,"O*",null,null,null,null,null,"correlation",null,null,null,null,null,null,null,null,null,null,null,null,null,null,null,null,null,null,null,null,null,null,null,"stddev",{"$f":"STDEV(AN2:AN17)","v":1.4095537097084658},{"$f":"STDEV(AO2:AO17)","v":1.3364487242569048},{"$f":"STDEV(AP2:AP17)","v":0.11306258018460252}]
[null,null,null,null,null,null,null,null,1,null,null,null,null,null,null,null,null,null,null,null,null,null,null,null,null,null,null,null,null,null,null,null,null,null,null,null,null,null,"median",{"$f":"MEDIAN(AN2:AN17)","v":4.5092948538945912},{"$f":"MEDIAN(AO2:AO17)","v":4.4734484696064936},0.23405962196492203]
["Consistency-tasks ",null,null,null,null,null,null,null,1,null,null,null,null,null,{"$f":"CORREL($B$2:$G$2,B3:G3)","v":-0.14280779035642358}]
["Y=between1",null,null,null,null,null,null,null,1,null,null,null,null,null,0.20481453841084321]
["Y=between2",null,null,null,null,null,null,null,1,null,null,null,null,null,-7.7335903918549817E-2]
["Y=validity1",null,null,null,null,null,null,null,1,null,null,null,null,null,-0.3579325016506929]
["Y=validity2",null,null,null,null,null,null,null,1,null,null,null,null,null,0.24302984487171644]
["Y=validity-ratio",null,null,null,null,null,null,null,1,null,null,null,null,null,-0.28504085273522972]
["Xi=model-characteristics",null,null,null,null,null,null,null,1,null,null,null,null,null,-0.15597074197911506]
[null,null,null,null,null,null,null,null,1,null,null,null,null,null,0.64486971561712603]
[null,null,null,null,null,null,null,null,1,null,null,null,null,null,-0.8393921897330161]
[null,null,null,null,null,null,null,null,1,null,null,null,null,null,-4.1082391724086773E-2]
[null,null,null,null,null,null,null,null,1,null,null,null,null,null,-9.9481137401659439E-3]
[null,null,null,null,null,null,null,null,1,null,null,null,null,null,-0.5255208720301503]
[null,null,null,null,null,null,null,null,1,null,null,null,null,null,9.9227406530754389E-2]
[null,null,null,null,null,null,null,null,1,null,null,null,null,null,7.3486045519224746E-2]
[null,null,null,null,null,null,null,null,1,null,null,null,null,null,-0.13207287434035167]
[null,null,null,null,null,null,null,null,{"$f":"I22+1","v":2},null,null,null,null,null,{"$f":"CORREL($B$3:$G$3,B2:G2)","v":-0.14280779035642358}]
[null,null,null,null,null,null,null,null,{"$f":"I23+1","v":2}]
[null,null,null,null,null,null,null,null,2,null,null,null,null,null,{"$f":"CORREL($B$3:$G$3,B4:G4)","v":0.29576083558471927}]
[null,null,null,null,null,null,null,null,2,null,null,null,null,null,0.50940326203790598]
[null,null,null,null,null,null,null,null,2,null,null,null,null,null,0.71852792240454222]
[null,null,null,null,null,null,null,null,2,null,null,null,null,null,-0.62665000100355117]
[null,null,null,null,null,null,null,null,2,null,null,null,null,null,-0.31365704901608876]
[null,null,null,null,null,null,null,null,2,null,null,null,null,null,0.17814194410814727]
[null,null,null,null,null,null,null,null,2,null,null,null,null,null,-3.5820791494704969E-2]
[null,null,null,null,null,null,null,null,2,null,null,null,null,null,0.28718345441794718]
[null,null,null,null,null,null,null,null,2,null,null,null,null,null,-0.5257977946237693]
[null,null,null,null,null,null,null,null,2,null,null,null,null,null,0.18992223689794083]
[null,null,null,null,null,null,null,null,2,null,null,null,null,null,0.16927366790416135]
[null,null,null,null,null,null,null,null,2,null,null,null,null,null,4.0669711614740121E-3]
[null,null,null,null,null,null,null,null,2,null,null,null,null,null,-0.5960176460835005]
[null,null,null,null,null,null,null,null,2,null,null,null,null,null,-0.80855046386574292]
[null,null,null,null,null,null,null,null,3,null,null,null,null,null,{"$f":"CORREL($B$4:$G$4,B2:G2)","v":0.20481453841084321}]
[null,null,null,null,null,null,null,null,3,null,null,null,null,null,{"$f":"CORREL($B$4:$G$4,B3:G3)","v":0.29576083558471927}]
[null,null,null,null,null,null,null,null,3]
[null,null,null,null,null,null,null,null,3,null,null,null,null,null,-0.2756542112959619]
[null,null,null,null,null,null,null,null,3,null,null,null,null,null,-0.18321868032721531]
[null,null,null,null,null,null,null,null,3,null,null,null,null,null,-0.31754014018894627]
[null,null,null,null,null,null,null,null,3,null,null,null,null,null,3.4069165796739034E-2]
[null,null,null,null,null,null,null,null,3,null,null,null,null,null,-0.4695861672251434]
[null,null,null,null,null,null,null,null,3,null,null,null,null,null,0.57818437177866244]
[null,null,null,null,null,null,null,null,3,null,null,null,null,null,-9.8792279345252046E-2]
[null,null,null,null,null,null,null,null,3,null,null,null,null,null,0.26589849922514347]
[null,null,null,null,null,null,null,null,3,null,null,null,null,null,0.67717340996717845]
[null,null,null,null,null,null,null,null,3,null,null,null,null,null,-0.53791966957917103]
[null,null,null,null,null,null,null,null,3,null,null,null,null,null,0.54982522968239067]
[null,null,null,null,null,null,null,null,3,null,null,null,null,null,0.36439019591350641]
[null,null,null,null,null,null,null,null,3,null,null,null,null,null,-0.59891462838183751]
[null,null,null,null,null,null,null,null,4,null,null,null,null,null,{"$f":"CORREL($B$5:$G$5,B2:G2)","v":-7.7335903918549817E-2}]
[null,null,null,null,null,null,null,null,4,null,null,null,null,null,{"$f":"CORREL($B$5:$G$5,B3:G3)","v":0.50940326203790598}]
[null,null,null,null,null,null,null,null,4,null,null,null,null,null,-0.2756542112959619]
[null,null,null,null,null,null,null,null,4]
[null,null,null,null,null,null,null,null,4,null,null,null,null,null,0.67930563572158975]
[null,null,null,null,null,null,null,null,4,null,null,null,null,null,0.11145251173689749]
[null,null,null,null,null,null,null,null,4,null,null,null,null,null,0.32983479320545805]
[null,null,null,null,null,null,null,null,4,null,null,null,null,null,0.62831116706313661]
[null,null,null,null,null,null,null,null,4,null,null,null,null,null,-0.6417743198219662]
[null,null,null,null,null,null,null,null,4,null,null,null,null,null,0.25291789362492068]
[null,null,null,null,null,null,null,null,4,null,null,null,null,null,-0.49121027499512976]
[null,null,null,null,null,null,null,null,4,null,null,null,null,null,-0.73378961716851465]
[null,null,null,null,null,null,null,null,4,null,null,null,null,null,0.80086745378722168]
[null,null,null,null,null,null,null,null,4,null,null,null,null,null,-0.656370189505465]
[null,null,null,null,null,null,null,null,4,null,null,null,null,null,-0.50923887717341165]
[null,null,null,null,null,null,null,null,4,null,null,null,null,null,-0.56324735640961154]
[null,null,null,null,null,null,null,null,5,null,null,null,null,null,{"$f":"CORREL($B$6:$G$6,B2:G2)","v":-0.3579325016506929}]
[null,null,null,null,null,null,null,null,5,null,null,null,null,null,{"$f":"CORREL($B$6:$G$6,B3:G3)","v":0.71852792240454222}]
[null,null,null,null,null,null,null,null,5,null,null,null,null,null,-0.18321868032721531]
[null,null,null,null,null,null,null,null,5,null,null,null,null,null,0.67930563572158975]
[null,null,null,null,null,null,null,null,5]
[null,null,null,null,null,null,null,null,5,null,null,null,null,null,-0.61009850817292477]
[null,null,null,null,null,null,null,null,5,null,null,null,null,null,7.7020844706828823E-2]
[null,null,null,null,null,null,null,null,5,null,null,null,null,null,7.9436536602472893E-2]
[null,null,null,null,null,null,null,null,5,null,null,null,null,null,-0.58590777471481725]
[null,null,null,null,null,null,null,null,5,null,null,null,null,null,0.19341393584436747]
[null,null,null,null,null,null,null,null,5,null,null,null,null,null,-0.18143298121401433]
[null,null,null,null,null,null,null,null,5,null,null,null,null,null,-0.25365394882540448]
[null,null,null,null,null,null,null,null,5,null,null,null,null,null,0.48699242873989262]
[null,null,null,null,null,null,null,null,5,null,null,null,null,null,-0.6396109839631311]
[null,null,null,null,null,null,null,null,5,null,null,null,null,null,-0.35141471253290785]
[null,null,null,null,null,null,null,null,5,null,null,null,null,null,-0.44011628472060327]
[null,null,null,null,null,null,null,null,6,null,null,null,null,null,{"$f":"CORREL($B$7:$G$7,B2:G2)","v":0.24302984487171644}]
[null,null,null,null,null,null,null,null,{"$f":"I87+1","v":6},null,null,null,null,null,{"$f":"CORREL($B$7:$G$7,B3:G3)","v":-0.62665000100355117}]
[null,null,null,null,null,null,null,null,6,null,null,null,null,null,-0.31754014018894627]
[null,null,null,null,null,null,null,null,6,null,null,null,null,null,0.11145251173689749]
[null,null,null,null,null,null,null,null,6,null,null,null,null,null,-0.61009850817292477]
[null,null,null,null,null,null,null,null,6]
[null,null,null,null,null,null,null,null,6,null,null,null,null,null,0.33861394085324514]
[null,null,null,null,null,null,null,null,6,null,null,null,null,null,0.56213854171205702]
[null,null,null,null,null,null,null,null,6,null,null,null,null,null,-9.9649379844385225E-2]
[null,null,null,null,null,null,null,null,6,null,null,null,null,null,4.4278647838632515E-2]
[null,null,null,null,null,null,null,null,6,null,null,null,null,null,-0.16785668172684551]
[null,null,null,null,null,null,null,null,6,null,null,null,null,null,-0.58181290674064445]
[null,null,null,null,null,null,null,null,6,null,null,null,null,null,0.31346493590691393]
[null,null,null,null,null,null,null,null,6,null,null,null,null,null,-6.4293226104506929E-3]
[null,null,null,null,null,null,null,null,6,null,null,null,null,null,7.0513799961712312E-4]
[null,null,null,null,null,null,null,null,6,null,null,null,null,null,0.28007206708941934]
[null,null,null,null,null,null,null,null,7,null,null,null,null,null,{"$f":"CORREL($B$8:$G$8,B2:G2)","v":-0.28504085273522972}]
[null,null,null,null,null,null,null,null,7,null,null,null,null,null,{"$f":"CORREL($B$8:$G$8,B3:G3)","v":-0.31365704901608876}]
[null,null,null,null,null,null,null,null,7,null,null,null,null,null,3.4069165796739034E-2]
[null,null,null,null,null,null,null,null,7,null,null,null,null,null,0.32983479320545805]
[null,null,null,null,null,null,null,null,7,null,null,null,null,null,7.7020844706828823E-2]
[null,null,null,null,null,null,null,null,7,null,null,null,null,null,0.33861394085324514]
[null,null,null,null,null,null,null,null,7]
[null,null,null,null,null,null,null,null,7,null,null,null,null,null,3.9560066519513408E-3]
[null,null,null,null,null,null,null,null,7,null,null,null,null,null,-0.6172772118719636]
[null,null,null,null,null,null,null,null,7,null,null,null,null,null,0.17604154684703005]
[null,null,null,null,null,null,null,null,7,null,null,null,null,null,0.50156616278918442]
[null,null,null,null,null,null,null,null,7,null,null,null,null,null,-0.4998847271107581]
[null,null,null,null,null,null,null,null,7,null,null,null,null,null,0.50010870835680155]
[null,null,null,null,null,null,null,null,7,null,null,null,null,null,-0.5143732527517092]
[null,null,null,null,null,null,null,null,7,null,null,null,null,null,0.54399374951442392]
[null,null,null,null,null,null,null,null,7,null,null,null,null,null,-5.1138343621243511E-2]
[null,null,null,null,null,null,null,null,8,null,null,null,null,null,{"$f":"CORREL($B$9:$G$9,B2:G2)","v":-0.15597074197911506}]
[null,null,null,null,null,null,null,null,8,null,null,null,null,null,{"$f":"CORREL($B$9:$G$9,B3:G3)","v":0.17814194410814727}]
[null,null,null,null,null,null,null,null,8,null,null,null,null,null,-0.4695861672251434]
[null,null,null,null,null,null,null,null,8,null,null,null,null,null,0.62831116706313661]
[null,null,null,null,null,null,null,null,8,null,null,null,null,null,7.9436536602472893E-2]
[null,null,null,null,null,null,null,null,8,null,null,null,null,null,0.56213854171205702]
[null,null,null,null,null,null,null,null,8,null,null,null,null,null,3.9560066519513408E-3]
[null,null,null,null,null,null,null,null,8]
[null,null,null,null,null,null,null,null,8,null,null,null,null,null,-0.3995526895579769]
[null,null,null,null,null,null,null,null,8,null,null,null,null,null,0.56027445509674156]
[null,null,null,null,null,null,null,null,8,null,null,null,null,null,-0.82557056530554584]
[null,null,null,null,null,null,null,null,8,null,null,null,null,null,-0.61167239476702262]
[null,null,null,null,null,null,null,null,8,null,null,null,null,null,0.74188359894094191]
[null,null,null,null,null,null,null,null,8,null,null,null,null,null,-9.9824744326997089E-2]
[null,null,null,null,null,null,null,null,8,null,null,null,null,null,-0.76367300296665708]
[null,null,null,null,null,null,null,null,8,null,null,null,null,null,-0.16966694572044008]
[null,null,null,null,null,null,null,null,9,null,null,null,null,null,{"$f":"CORREL($B$10:$G$10,B2:G2)","v":0.64486971561712603}]
[null,null,null,null,null,null,null,null,9,null,null,null,null,null,{"$f":"CORREL($B$10:$G$10,B3:G3)","v":-3.5820791494704969E-2}]
[null,null,null,null,null,null,null,null,9,null,null,null,null,null,0.57818437177866244]
[null,null,null,null,null,null,null,null,9,null,null,null,null,null,-0.6417743198219662]
[null,null,null,null,null,null,null,null,9,null,null,null,null,null,-0.58590777471481725]
[null,null,null,null,null,null,null,null,9,null,null,null,null,null,-9.9649379844385225E-2]
[null,null,null,null,null,null,null,null,9,null,null,null,null,null,-0.6172772118719636]
[null,null,null,null,null,null,null,null,9,null,null,null,null,null,-0.3995526895579769]
[null,null,null,null,null,null,null,null,9]
[null,null,null,null,null,null,null,null,9,null,null,null,null,null,-0.49593401576537227]
[null,null,null,null,null,null,null,null,9,null,null,null,null,null,1.1122103634511018E-2]
[null,null,null,null,null,null,null,null,9,null,null,null,null,null,0.71699791962229753]
[null,null,null,null,null,null,null,null,9,null,null,null,null,null,-0.9002806339675381]
[null,null,null,null,null,null,null,null,9,null,null,null,null,null,0.77299172976155173]
[null,null,null,null,null,null,null,null,9,null,null,null,null,null,0.11287635795925786]
[null,null,null,null,null,null,null,null,9,null,null,null,null,null,-7.0338952711551647E-2]
[null,null,null,null,null,null,null,null,10,null,null,null,null,null,{"$f":"CORREL($B$11:$G$11,B2:G2)","v":-0.8393921897330161}]
[null,null,null,null,null,null,null,null,{"$f":"I151+1","v":10},null,null,null,null,null,{"$f":"CORREL($B$11:$G$11,B3:G3)","v":0.28718345441794718}]
[null,null,null,null,null,null,null,null,10,null,null,null,null,null,-9.8792279345252046E-2]
[null,null,null,null,null,null,null,null,10,null,null,null,null,null,0.25291789362492068]
[null,null,null,null,null,null,null,null,10,null,null,null,null,null,0.19341393584436747]
[null,null,null,null,null,null,null,null,10,null,null,null,null,null,4.4278647838632515E-2]
[null,null,null,null,null,null,null,null,10,null,null,null,null,null,0.17604154684703005]
[null,null,null,null,null,null,null,null,10,null,null,null,null,null,0.56027445509674156]
[null,null,null,null,null,null,null,null,10,null,null,null,null,null,-0.49593401576537227]
[null,null,null,null,null,null,null,null,10]
[null,null,null,null,null,null,null,null,10,null,null,null,null,null,-0.38481410705236652]
[null,null,null,null,null,null,null,null,10,null,null,null,null,null,-5.6623451723659519E-2]
[null,null,null,null,null,null,null,null,10,null,null,null,null,null,0.62750063930534528]
[null,null,null,null,null,null,null,null,10,null,null,null,null,null,0.14664974100581799]
[null,null,null,null,null,null,null,null,10,null,null,null,null,null,-0.40124345915055887]
[null,null,null,null,null,null,null,null,10,null,null,null,null,null,-0.14393310596029241]
[null,null,null,null,null,null,null,null,11,null,null,null,null,null,{"$f":"CORREL($B$12:$G$12,B2:G2)","v":-4.1082391724086773E-2}]
[null,null,null,null,null,null,null,null,11,null,null,null,null,null,{"$f":"CORREL($B$12:$G$12,B3:G3)","v":-0.5257977946237693}]
[null,null,null,null,null,null,null,null,11,null,null,null,null,null,0.26589849922514347]
[null,null,null,null,null,null,null,null,11,null,null,null,null,null,-0.49121027499512976]
[null,null,null,null,null,null,null,null,11,null,null,null,null,null,-0.18143298121401433]
[null,null,null,null,null,null,null,null,11,null,null,null,null,null,-0.16785668172684551]
[null,null,null,null,null,null,null,null,11,null,null,null,null,null,0.50156616278918442]
[null,null,null,null,null,null,null,null,11,null,null,null,null,null,-0.82557056530554584]
[null,null,null,null,null,null,null,null,11,null,null,null,null,null,1.1122103634511018E-2]
[null,null,null,null,null,null,null,null,11,null,null,null,null,null,-0.38481410705236652]
[null,null,null,null,null,null,null,null,11]
[null,null,null,null,null,null,null,null,11,null,null,null,null,null,0.22282554365947049]
[null,null,null,null,null,null,null,null,11,null,null,null,null,null,-0.38145193564682939]
[null,null,null,null,null,null,null,null,11,null,null,null,null,null,-0.15505885780056208]
[null,null,null,null,null,null,null,null,11,null,null,null,null,null,0.97184839661703804]
[null,null,null,null,null,null,null,null,11,null,null,null,null,null,0.35670704276266074]
[null,null,null,null,null,null,null,null,12,null,null,null,null,null,{"$f":"CORREL($B$13:$G$13,B2:G2)","v":-9.9481137401659439E-3}]
[null,null,null,null,null,null,null,null,12,null,null,null,null,null,{"$f":"CORREL($B$13:$G$13,B3:G3)","v":0.18992223689794083}]
[null,null,null,null,null,null,null,null,12,null,null,null,null,null,0.67717340996717845]
[null,null,null,null,null,null,null,null,12,null,null,null,null,null,-0.73378961716851465]
[null,null,null,null,null,null,null,null,12,null,null,null,null,null,-0.25365394882540448]
[null,null,null,null,null,null,null,null,12,null,null,null,null,null,-0.58181290674064445]
[null,null,null,null,null,null,null,null,12,null,null,null,null,null,-0.4998847271107581]
[null,null,null,null,null,null,null,null,12,null,null,null,null,null,-0.61167239476702262]
[null,null,null,null,null,null,null,null,12,null,null,null,null,null,0.71699791962229753]
[null,null,null,null,null,null,null,null,12,null,null,null,null,null,-5.6623451723659519E-2]
[null,null,null,null,null,null,null,null,12,null,null,null,null,null,0.22282554365947049]
[null,null,null,null,null,null,null,null,12]
[null,null,null,null,null,null,null,null,12,null,null,null,null,null,-0.78743887563546111]
[null,null,null,null,null,null,null,null,12,null,null,null,null,null,0.77469636777421558]
[null,null,null,null,null,null,null,null,12,null,null,null,null,null,0.21488325079447873]
[null,null,null,null,null,null,null,null,12,null,null,null,null,null,-7.5752413490074888E-2]
[null,null,null,null,null,null,null,null,13,null,null,null,null,null,{"$f":"CORREL($B$14:$G$14,B2:G2)","v":-0.5255208720301503}]
[null,null,null,null,null,null,null,null,13,null,null,null,null,null,{"$f":"CORREL($B$14:$G$14,B3:G3)","v":0.16927366790416135}]
[null,null,null,null,null,null,null,null,13,null,null,null,null,null,-0.53791966957917103]
[null,null,null,null,null,null,null,null,13,null,null,null,null,null,0.80086745378722168]
[null,null,null,null,null,null,null,null,13,null,null,null,null,null,0.48699242873989262]
[null,null,null,null,null,null,null,null,13,null,null,null,null,null,0.31346493590691393]
[null,null,null,null,null,null,null,null,13,null,null,null,null,null,0.50010870835680155]
[null,null,null,null,null,null,null,null,13,null,null,null,null,null,0.74188359894094191]
[null,null,null,null,null,null,null,null,13,null,null,null,null,null,-0.9002806339675381]
[null,null,null,null,null,null,null,null,13,null,null,null,null,null,0.62750063930534528]
[null,null,null,null,null,null,null,null,13,null,null,null,null,null,-0.38145193564682939]
[null,null,null,null,null,null,null,null,13,null,null,null,null,null,-0.78743887563546111]
[null,null,null,null,null,null,null,null,13]
[null,null,null,null,null,null,null,null,13,null,null,null,null,null,-0.59968167941694839]
[null,null,null,null,null,null,null,null,13,null,null,null,null,null,-0.41472599704565966]
[null,null,null,null,null,null,null,null,13,null,null,null,null,null,-0.13750164301414239]
[null,null,null,null,null,null,null,null,14,null,null,null,null,null,{"$f":"CORREL($B$15:$G$15,B2:G2)","v":9.9227406530754389E-2}]
[null,null,null,null,null,null,null,null,{"$f":"I215+1","v":14},null,null,null,null,null,{"$f":"CORREL($B$15:$G$15,B3:G3)","v":4.0669711614740121E-3}]
[null,null,null,null,null,null,null,null,14,null,null,null,null,null,0.54982522968239067]
[null,null,null,null,null,null,null,null,14,null,null,null,null,null,-0.656370189505465]
[null,null,null,null,null,null,null,null,14,null,null,null,null,null,-0.6396109839631311]
[null,null,null,null,null,null,null,null,14,null,null,null,null,null,-6.4293226104506929E-3]
[null,null,null,null,null,null,null,null,14,null,null,null,null,null,-0.5143732527517092]
[null,null,null,null,null,null,null,null,14,null,null,null,null,null,-9.9824744326997089E-2]
[null,null,null,null,null,null,null,null,14,null,null,null,null,null,0.77299172976155173]
[null,null,null,null,null,null,null,null,14,null,null,null,null,null,0.14664974100581799]
[null,null,null,null,null,null,null,null,14,null,null,null,null,null,-0.15505885780056208]
[null,null,null,null,null,null,null,null,14,null,null,null,null,null,0.77469636777421558]
[null,null,null,null,null,null,null,null,14,null,null,null,null,null,-0.59968167941694839]
[null,null,null,null,null,null,null,null,14]
[null,null,null,null,null,null,null,null,14,null,null,null,null,null,-4.5524197750071022E-2]
[null,null,null,null,null,null,null,null,14,null,null,null,null,null,-3.9289797521418805E-2]
[null,null,null,null,null,null,null,null,15,null,null,null,null,null,{"$f":"CORREL($B$16:$G$16,B2:G2)","v":7.3486045519224746E-2}]
[null,null,null,null,null,null,null,null,15,null,null,null,null,null,{"$f":"CORREL($B$16:$G$16,B3:G3)","v":-0.5960176460835005}]
[null,null,null,null,null,null,null,null,15,null,null,null,null,null,0.36439019591350641]
[null,null,null,null,null,null,null,null,15,null,null,null,null,null,-0.50923887717341165]
[null,null,null,null,null,null,null,null,15,null,null,null,null,null,-0.35141471253290785]
[null,null,null,null,null,null,null,null,15,null,null,null,null,null,7.0513799961712312E-4]
[null,null,null,null,null,null,null,null,15,null,null,null,null,null,0.54399374951442392]
[null,null,null,null,null,null,null,null,15,null,null,null,null,null,-0.76367300296665708]
[null,null,null,null,null,null,null,null,15,null,null,null,null,null,0.11287635795925786]
[null,null,null,null,null,null,null,null,15,null,null,null,null,null,-0.40124345915055887]
[null,null,null,null,null,null,null,null,15,null,null,null,null,null,0.97184839661703804]
[null,null,null,null,null,null,null,null,15,null,null,null,null,null,0.21488325079447873]
[null,null,null,null,null,null,null,null,15,null,null,null,null,null,-0.41472599704565966]
[null,null,null,null,null,null,null,null,15,null,null,null,null,null,-4.5524197750071022E-2]
[null,null,null,null,null,null,null,null,15]
[null,null,null,null,null,null,null,null,15,null,null,null,null,null,0.30450952517973873]
[null,null,null,null,null,null,null,null,16,null,null,null,null,null,{"$f":"CORREL($B$17:$G$17,B2:G2)","v":-0.13207287434035167}]
[null,null,null,null,null,null,null,null,16,null,null,null,null,null,{"$f":"CORREL($B$17:$G$17,B3:G3)","v":-0.80855046386574292}]
[null,null,null,null,null,null,null,null,16,null,null,null,null,null,-0.59891462838183751]
[null,null,null,null,null,null,null,null,16,null,null,null,null,null,-0.56324735640961154]
[null,null,null,null,null,null,null,null,16,null,null,null,null,null,-0.44011628472060327]
[null,null,null,null,null,null,null,null,16,null,null,null,null,null,0.28007206708941934]
[null,null,null,null,null,null,null,null,16,null,null,null,null,null,-5.1138343621243511E-2]
[null,null,null,null,null,null,null,null,16,null,null,null,null,null,-0.16966694572044008]
[null,null,null,null,null,null,null,null,16,null,null,null,null,null,-7.0338952711551647E-2]
[null,null,null,null,null,null,null,null,16,null,null,null,null,null,-0.14393310596029241]
[null,null,null,null,null,null,null,null,16,null,null,null,null,null,0.35670704276266074]
[null,null,null,null,null,null,null,null,16,null,null,null,null,null,-7.5752413490074888E-2]
[null,null,null,null,null,null,null,null,16,null,null,null,null,null,-0.13750164301414239]
[null,null,null,null,null,null,null,null,16,null,null,null,null,null,-3.9289797521418805E-2]
[null,null,null,null,null,null,null,null,16,null,null,null,null,null,0.30450952517973873]
[null,null,null,null,null,null,null,null,16]
[null,null,null,null,null,null,null,null,"max",null,null,null,null,null,{"$f":"MAX(O22:O277)","v":0.97184839661703804}]
[null,null,null,null,null,null,null,null,"min",null,null,null,null,null,{"$f":"MIN(O22:O277)","v":-0.9002806339675381}]
[null,null,null,null,null,null,null,null,"avg",null,null,null,null,null,{"$f":"AVERAGE(O22:O277)","v":-4.652964033246218E-2}]
[null,null,null,null,null,null,null,null,"stddev",null,null,null,null,null,{"$f":"STDEV(O22:O277)","v":0.44821286917941316}]
[null,null,null,null,null,null,null,null,"median",null,null,null,null,null,{"$f":"MEDIAN(O22:O277)","v":-4.8331270685657263E-2}]
[null,null,null,null,null,null,null,null,"kvart_1",null,null,null,null,null,{"$f":"QUARTILE(O22:O277,1)","v":-0.42107356896439557}]
[null,null,null,null,null,null,null,null,"kvart_3",null,null,null,null,null,{"$f":"QUARTILE(O22:O277,3)","v":0.26944189119121242}]

{"sheet":"basics4","index":12,"n_rows":284,"n_cols":42,"rows_kept":284,"cut":false,"hidden":false,"merged":[]}
[{"$f":"RANDBETWEEN(10,99)","v":57},"A1","A2","A3","A4","A5","A6=Y",null,"rank",{"$f":"B1","v":"A1"},"A2","A3","A4","A5",{"$f":"G1&\"'\"","v":"A6=Y'"},"validity0","direkt","inverz","átlag","double","between1","validity1","invalid_between","valid_extrem","between2","validity2",null,{"$f":"models1!B7","v":"X(A1)"},{"$f":"models1!C7","v":"X(A2)"},{"$f":"models1!D7","v":"X(A3)"},{"$f":"models1!E7","v":"X(A4)"},{"$f":"models1!F7","v":"X(A5)"},{"$f":"AB1","v":"X(A1)"},{"$f":"AC1","v":"X(A2)"},"X(A3)","X(A4)","X(A5)",{"$f":"O1","v":"A6=Y'"},null,"direct_stddev","inverse_stddev","delta"]
["O1",11,36,62,92,29,10,null,{"$f":"A2","v":"O1"},{"$f":"RANK(B2,B$2:B$17,B$19)","v":16},{"$f":"RANK(C2,C$2:C$17,C$19)","v":9},9,13,6,{"$f":"G2*1000","v":10000},{"$f":"IF(models1!J362*models1!Y362<=0,\"valid\",\"invalid\")","v":"invalid"},{"$f":"models1!G362","v":21329.1},{"$f":"models1!V362","v":43987.8},{"$f":"AVERAGE(Q2:R2)","v":32658.45},{"$f":"models1!AO362","v":21433.7},{"$f":"IF(MAX(Q2:R2)<T2,0,IF(MIN(Q2:R2)>T2,0,1))","v":1},{"$f":"IF(P2=\"valid\",1,)","v":0},{"$f":"IF(V2=1,IF(U2=0,1,0),0)","v":0},{"$f":"IF(V2=0,IF(U2=1,1,0),0)","v":1},{"$f":"STDEV(S2:T2)","v":7937.0968421237139},{"$f":"STDEV(models1!J362,models1!Y362)","v":160.22332554905975},null,{"$f":"J2","v":16},{"$f":"K2","v":9},9,13,6,{"$f":"RANK(AB2,AB$2:AB$17,0)","v":1},{"$f":"RANK(AC2,AC$2:AC$17,0)","v":8},7,5,9,10000,null,{"$f":"STDEV(AB2:AF2)","v":3.9115214431215906},{"$f":"STDEV(AG2:AK2)","v":3.1622776601683795},{"$f":"ABS(AO2-AN2)","v":0.74924378295321103}]
["O2",66,33,85,89,21,42,null,{"$f":"A3","v":"O2"},{"$f":"RANK(B3,B$2:B$17,B$19)","v":6},11,14,12,3,{"$f":"G3*1000","v":42000},{"$f":"IF(models1!J363*models1!Y363<=0,\"valid\",\"invalid\")","v":"valid"},{"$f":"models1!G363","v":42658.2},{"$f":"models1!V363","v":40676.9},{"$f":"AVERAGE(Q3:R3)","v":41667.550000000003},{"$f":"models1!AO363","v":42363.1},1,1,{"$f":"IF(V3=1,IF(U3=0,1,0),0)","v":0},{"$f":"IF(V3=0,IF(U3=1,1,0),0)","v":0},{"$f":"STDEV(S3:T3)","v":491.82812165430005},{"$f":"STDEV(models1!J363,models1!Y363)","v":3.337544007200504},null,{"$f":"J3","v":6},11,14,12,3,{"$f":"RANK(AB3,AB$2:AB$17,0)","v":11},6,3,6,13,42000,null,{"$f":"STDEV(AB3:AF3)","v":4.5497252664309302},{"$f":"STDEV(AG3:AK3)","v":4.0865633483405102},{"$f":"ABS(AO3-AN3)","v":0.46316191809042007}]
["O3",71,29,54,29,86,21,null,"O3",5,12,6,4,14,21000,{"$f":"IF(models1!J364*models1!Y364<=0,\"valid\",\"invalid\")","v":"invalid"},{"$f":"models1!G364","v":41134.6},{"$f":"models1!V364","v":52028.5},46581.55,{"$f":"models1!AO364","v":36563.4},0,0,0,0,7083.9017999439993,{"$f":"STDEV(models1!J364,models1!Y364)","v":36.677628740146211},null,5,12,6,4,14,12,5,11,13,2,21000,null,4.4944410108488464,4.8270073544588676,0.33256634361002124]
["O4",65,25,72,47,29,83,null,"O4",7,13,11,8,6,83000,{"$f":"IF(models1!J365*models1!Y365<=0,\"valid\",\"invalid\")","v":"invalid"},{"$f":"models1!G365","v":57893.2},{"$f":"models1!V365","v":39730.9},48812.05,{"$f":"models1!AO365","v":61023.1},0,0,0,0,8634.5162604080178,{"$f":"STDEV(models1!J365,models1!Y365)","v":15.471496372361679},null,7,13,11,8,6,10,3,6,10,9,83000,null,2.9154759474226504,3.0495901363953806,0.1341141889727302]
["O5",38,57,37,29,69,89,null,"O5",12,3,3,4,13,89000,{"$f":"IF(models1!J366*models1!Y366<=0,\"valid\",\"invalid\")","v":"invalid"},{"$f":"models1!G366","v":83285},{"$f":"models1!V366","v":56758.400000000001},70021.7,{"$f":"models1!AO366","v":89769.5},0,0,0,0,13963.803293515637,{"$f":"STDEV(models1!J366,models1!Y366)","v":21.078853147170982},null,12,3,3,4,13,5,14,14,13,3,89000,null,5.0497524691810387,5.3572380943915494,0.3074856252105107]
["O6",27,50,80,67,52,34,null,"O6",15,6,13,10,10,34000,{"$f":"IF(models1!J367*models1!Y367<=0,\"valid\",\"invalid\")","v":"valid"},{"$f":"models1!G367","v":26407.4},{"$f":"models1!V367","v":62907.199999999997},44657.3,{"$f":"models1!AO367","v":33285.300000000003},1,1,0,0,8041.2183156533883,{"$f":"STDEV(models1!J367,models1!Y367)","v":75.907912960375867},null,15,6,13,10,10,2,11,4,8,6,34000,null,3.4205262752974122,3.4928498393145966,7.2323564017184427E-2]
["O7",79,10,60,79,17,80,null,"O7",3,16,7,11,1,80000,{"$f":"IF(models1!J368*models1!Y368<=0,\"valid\",\"invalid\")","v":"valid"},{"$f":"models1!G368","v":81253.600000000006},{"$f":"models1!V368","v":75677.899999999994},78465.75,{"$f":"models1!AO368","v":80691.600000000006},1,1,0,0,1573.913628904081,{"$f":"STDEV(models1!J368,models1!Y368)","v":4.9285342648702368},null,3,16,7,11,1,14,1,8,7,15,80000,null,6.06630035524124,5.7008771254956896,0.36542322974555042]
["O8",63,52,96,93,17,88,null,"O8",8,4,16,14,1,88000,{"$f":"IF(models1!J369*models1!Y369<=0,\"valid\",\"invalid\")","v":"valid"},{"$f":"models1!G369","v":89886.8},{"$f":"models1!V369","v":83245.7},86566.25,{"$f":"models1!AO369","v":88760.8},1,1,0,0,1551.7811866529398,{"$f":"STDEV(models1!J369,models1!Y369)","v":5.3315851301465687},null,8,4,16,14,1,9,13,1,4,15,88000,null,6.3874877690685246,5.8991524815010496,0.48833528756747491]
["O9",55,40,74,98,63,22,null,"O9",9,8,12,15,11,22000,{"$f":"IF(models1!J370*models1!Y370<=0,\"valid\",\"invalid\")","v":"valid"},{"$f":"models1!G370","v":20313.400000000001},{"$f":"models1!V370","v":57231.4},38772.400000000001,{"$f":"models1!AO370","v":22190.2},1,1,0,0,11725.386066991561,{"$f":"STDEV(models1!J370,models1!Y370)","v":118.65958895091453},null,9,8,12,15,11,8,9,5,3,4,22000,null,2.7386127875258306,2.5884358211089573,0.15017696641687328]
["O10",82,72,21,30,46,99,null,"O10",2,2,2,6,8,99000,{"$f":"IF(models1!J371*models1!Y371<=0,\"valid\",\"invalid\")","v":"invalid"},{"$f":"models1!G371","v":88363.3},{"$f":"models1!V371","v":56758.400000000001},72560.850000000006,{"$f":"models1!AO371","v":90525.9},0,0,0,0,12703.208679355359,{"$f":"STDEV(models1!J371,models1!Y371)","v":22.577919523286461},null,2,2,2,6,8,15,15,15,12,8,99000,null,2.8284271247461903,3.082207001484488,0.25377987673829772]
["O11",53,23,95,15,25,38,null,"O11",10,15,15,2,5,38000,{"$f":"IF(models1!J372*models1!Y372<=0,\"valid\",\"invalid\")","v":"valid"},{"$f":"models1!G372","v":57385.4},{"$f":"models1!V372","v":35947},46666.2,{"$f":"models1!AO372","v":55475.5},1,1,0,0,6229.1157675066552,{"$f":"STDEV(models1!J372,models1!Y372)","v":39.887893526733137},null,10,15,15,2,5,7,2,2,16,11,38000,null,5.8566201857385289,6.024948132556827,0.1683279468182981]
["O12",86,77,60,16,95,53,null,"O12",1,1,7,3,16,53000,{"$f":"IF(models1!J373*models1!Y373<=0,\"valid\",\"invalid\")","v":"invalid"},{"$f":"models1!G373","v":57893.2},{"$f":"models1!V373","v":67164.100000000006},62528.65,{"$f":"models1!AO373","v":53458.2},0,0,0,0,6413.7767034135231,{"$f":"STDEV(models1!J373,models1!Y373)","v":12.367297602952712},null,1,1,7,3,16,16,16,8,15,1,53000,null,6.3087241182350011,6.6105975524153626,0.3018734341803615]
["O13",29,48,47,43,51,84,null,"O13",14,7,5,7,9,84000,{"$f":"IF(models1!J374*models1!Y374<=0,\"valid\",\"invalid\")","v":"invalid"},{"$f":"models1!G374","v":63987.199999999997},{"$f":"models1!V374","v":61488.3},62737.75,{"$f":"models1!AO374","v":59257.9},0,0,0,0,2460.6255325120064,{"$f":"STDEV(models1!J374,models1!Y374)","v":2.1071782079359118},null,14,7,5,7,9,3,10,12,11,7,84000,null,3.4351128074635331,3.6469165057620936,0.21180369829856049]
["O14",42,51,10,56,63,30,null,"O14",11,5,1,9,11,30000,{"$f":"IF(models1!J375*models1!Y375<=0,\"valid\",\"invalid\")","v":"invalid"},{"$f":"models1!G375","v":35040.6},{"$f":"models1!V375","v":43041.8},39041.199999999997,{"$f":"models1!AO375","v":33537.5},{"$f":"IF(MAX(Q15:R15)<T15,0,IF(MIN(Q15:R15)>T15,0,1))","v":0},0,0,0,3891.7035916163995,{"$f":"STDEV(models1!J375,models1!Y375)","v":18.858537854245235},null,11,5,1,9,11,6,12,16,9,4,30000,null,4.3358966777357599,4.7749345545253288,0.43903787678956885]
["O15",72,25,41,99,22,13,null,"O15",4,13,4,16,4,13000,{"$f":"IF(models1!J376*models1!Y376<=0,\"valid\",\"invalid\")","v":"invalid"},{"$f":"models1!G376","v":22344.7},{"$f":"models1!V376","v":48244.6},35294.65,{"$f":"models1!AO376","v":16894.8},{"$f":"IF(MAX(Q16:R16)<T16,0,IF(MIN(Q16:R16)>T16,0,1))","v":0},0,0,0,13010.658707815306,{"$f":"STDEV(models1!J376,models1!Y376)","v":140.87688401579587},null,4,13,4,16,4,13,3,13,1,12,13000,null,5.8480766068853782,5.8991524815010496,5.1075874615671424E-2]
["O16",31,34,62,14,87,89,null,"O16",{"$f":"RANK(B17,B$2:B$17,0)","v":13},10,7,16,2,89000,{"$f":"IF(models1!J377*models1!Y377<=0,\"valid\",\"invalid\")","v":"invalid"},{"$f":"models1!G377","v":85824.1},{"$f":"models1!V377","v":52974.5},69399.3,{"$f":"models1!AO377","v":89769.5},{"$f":"IF(MAX(Q17:R17)<T17,0,IF(MIN(Q17:R17)>T17,0,1))","v":0},0,0,0,14403.906554126359,{"$f":"STDEV(models1!J377,models1!Y377)","v":26.099311293595466},null,13,10,7,16,2,4,7,8,1,14,89000,null,5.4129474410897434,4.8682645778552347,0.54468286323450865]
["correlation",{"$f":"CORREL(B2:B16,$G$2:$G$16)","v":0.25463870613966377},{"$f":"CORREL(C2:C16,$G$2:$G$16)","v":0.3061671098254567},-9.0006255656119916E-2,-0.33239539924575773,-0.12107532398320239,1.0000000000000002,null,"O16(2)",{"$f":"MAX(J2:J16)","v":16},{"$f":"INT(QUARTILE(K2:K16,3))","v":12},{"$f":"MEDIAN(L2:L16)","v":7},{"$f":"INT(QUARTILE(M2:M16,1))","v":5},{"$f":"MIN(N2:N16)","v":1},{"$f":"O17","v":89000},"ratio","correlation","correlation",null,"correlation",null,null,null,null,null,null,null,"direct","direct","direct","direct","direct","inverse","inverse","inverse","inverse","inverse","double","max",{"$f":"MAX(AN2:AN17)","v":6.3874877690685246},{"$f":"MAX(AO2:AO17)","v":6.6105975524153626},{"$f":"MAX(AP2:AP17)","v":0.74924378295321103}]
["direction",{"$f":"IF(B18>0,0,1)","v":0},{"$f":"IF(C18>0,0,1)","v":0},1,1,1,"Y",null,null,null,null,null,null,null,null,{"$f":"COUNTIF($P$2:$P$17,\"valid\")/16","v":0.375},{"$f":"CORREL(Q2:Q17,$O$2:$O$17)","v":0.92922655377204599},{"$f":"CORREL(R2:R17,$O$2:$O$17)","v":0.42958562006741219},null,{"$f":"CORREL(T2:T17,$O$2:$O$17)","v":0.94183168656838923},{"$f":"SUM(U2:U17)","v":7},null,{"$f":"SUM(W2:W17)","v":0},{"$f":"SUM(X2:X17)","v":1},{"$f":"SUM(Y2:Y17)","v":120116.44105219323},null,null,null,null,null,null,null,null,null,null,null,null,null,"min",{"$f":"MIN(AN2:AN17)","v":2.7386127875258306},{"$f":"MIN(AO2:AO17)","v":2.5884358211089573},{"$f":"MIN(AP2:AP17)","v":5.1075874615671424E-2}]
[null,null,null,null,null,null,null,null,null,null,null,null,null,null,null,null,null,null,null,null,null,null,null,null,null,null,null,null,null,null,null,null,null,null,null,null,null,null,"avg",{"$f":"AVERAGE(AN2:AN17)","v":4.5974780178770125},{"$f":"AVERAGE(AO2:AO17)","v":4.5669382917047106},{"$f":"AVERAGE(AP2:AP17)","v":0.31458827982870269}]
["antagonism!",null,null,null,null,null,null,null,"O*",null,null,null,null,null,"correlation",null,null,null,null,null,null,null,null,null,null,null,null,null,null,null,null,null,null,null,null,null,null,null,"stddev",{"$f":"STDEV(AN2:AN17)","v":1.2912818954357601},{"$f":"STDEV(AO2:AO17)","v":1.2803435537953634},{"$f":"STDEV(AP2:AP17)","v":0.18905478346513307}]
[null,null,null,null,null,null,null,null,1,null,null,null,null,null,null,null,null,null,null,null,null,null,null,null,null,null,null,null,null,null,null,null,null,null,null,null,null,null,"median",{"$f":"MEDIAN(AN2:AN17)","v":4.5220831386398883},{"$f":"MEDIAN(AO2:AO17)","v":4.8009709544920982},0.3046795296954361]
["Consistency-tasks ",null,null,null,null,null,null,null,1,null,null,null,null,null,{"$f":"CORREL($B$2:$G$2,B3:G3)","v":0.65942328516109516}]
["Y=between1",null,null,null,null,null,null,null,1,null,null,null,null,null,-0.25201341594761695]
["Y=between2",null,null,null,null,null,null,null,1,null,null,null,null,null,-0.20340233818450826]
["Y=validity1",null,null,null,null,null,null,null,1,null,null,null,null,null,-0.66830093718197014]
["Y=validity2",null,null,null,null,null,null,null,1,null,null,null,null,null,0.84672089336856704]
["Y=validity-ratio",null,null,null,null,null,null,null,1,null,null,null,null,null,9.873310511605661E-2]
["Xi=model-characteristics",null,null,null,null,null,null,null,1,null,null,null,null,null,0.42791421143865349]
[null,null,null,null,null,null,null,null,1,null,null,null,null,null,0.85784200433707958]
[null,null,null,null,null,null,null,null,1,null,null,null,null,null,-0.83994006482608108]
[null,null,null,null,null,null,null,null,1,null,null,null,null,null,-3.7179104397468625E-2]
[null,null,null,null,null,null,null,null,1,null,null,null,null,null,-0.72491601184003529]
[null,null,null,null,null,null,null,null,1,null,null,null,null,null,-0.29110055612262659]
[null,null,null,null,null,null,null,null,1,null,null,null,null,null,3.7851441621119614E-2]
[null,null,null,null,null,null,null,null,1,null,null,null,null,null,0.6057027052845475]
[null,null,null,null,null,null,null,null,1,null,null,null,null,null,-0.51588654193571137]
[null,null,null,null,null,null,null,null,{"$f":"I22+1","v":2},null,null,null,null,null,{"$f":"CORREL($B$3:$G$3,B2:G2)","v":0.65942328516109516}]
[null,null,null,null,null,null,null,null,{"$f":"I23+1","v":2}]
[null,null,null,null,null,null,null,null,2,null,null,null,null,null,{"$f":"CORREL($B$3:$G$3,B4:G4)","v":-0.19889259766722905}]
[null,null,null,null,null,null,null,null,2,null,null,null,null,null,0.46046019761602575]
[null,null,null,null,null,null,null,null,2,null,null,null,null,null,-0.79265959868268032]
[null,null,null,null,null,null,null,null,2,null,null,null,null,null,0.48497801820907149]
[null,null,null,null,null,null,null,null,2,null,null,null,null,null,0.69718263091375365]
[null,null,null,null,null,null,null,null,2,null,null,null,null,null,0.80077325817785816]
[null,null,null,null,null,null,null,null,2,null,null,null,null,null,0.66832619706768925]
[null,null,null,null,null,null,null,null,2,null,null,null,null,null,-0.51360691369656686]
[null,null,null,null,null,null,null,null,2,null,null,null,null,null,0.44453058701075698]
[null,null,null,null,null,null,null,null,2,null,null,null,null,null,-0.67470303876751458]
[null,null,null,null,null,null,null,null,2,null,null,null,null,null,-0.3864033595384892]
[null,null,null,null,null,null,null,null,2,null,null,null,null,null,-0.45259453427510993]
[null,null,null,null,null,null,null,null,2,null,null,null,null,null,0.77200819612854499]
[null,null,null,null,null,null,null,null,2,null,null,null,null,null,-0.56685630485555527]
[null,null,null,null,null,null,null,null,3,null,null,null,null,null,{"$f":"CORREL($B$4:$G$4,B2:G2)","v":-0.25201341594761695}]
[null,null,null,null,null,null,null,null,3,null,null,null,null,null,{"$f":"CORREL($B$4:$G$4,B3:G3)","v":-0.19889259766722905}]
[null,null,null,null,null,null,null,null,3]
[null,null,null,null,null,null,null,null,3,null,null,null,null,null,-0.22075995421635083]
[null,null,null,null,null,null,null,null,3,null,null,null,null,null,-0.14115047615850176]
[null,null,null,null,null,null,null,null,3,null,null,null,null,null,-6.4240742503756221E-2]
[null,null,null,null,null,null,null,null,3,null,null,null,null,null,-0.26621636731853449]
[null,null,null,null,null,null,null,null,3,null,null,null,null,null,-0.64452422004962551]
[null,null,null,null,null,null,null,null,3,null,null,null,null,null,0.22096218255785796]
[null,null,null,null,null,null,null,null,3,null,null,null,null,null,-0.23873343638545252]
[null,null,null,null,null,null,null,null,3,null,null,null,null,null,0.23478584546157177]
[null,null,null,null,null,null,null,null,3,null,null,null,null,null,0.69993180191527249]
[null,null,null,null,null,null,null,null,3,null,null,null,null,null,-0.50531426733572415]
[null,null,null,null,null,null,null,null,3,null,null,null,null,null,0.19301002601084416]
[null,null,null,null,null,null,null,null,3,null,null,null,null,null,-1.3540202336187144E-2]
[null,null,null,null,null,null,null,null,3,null,null,null,null,null,0.2357102197568483]
[null,null,null,null,null,null,null,null,4,null,null,null,null,null,{"$f":"CORREL($B$5:$G$5,B2:G2)","v":-0.20340233818450826}]
[null,null,null,null,null,null,null,null,4,null,null,null,null,null,{"$f":"CORREL($B$5:$G$5,B3:G3)","v":0.46046019761602575}]
[null,null,null,null,null,null,null,null,4,null,null,null,null,null,-0.22075995421635083]
[null,null,null,null,null,null,null,null,4]
[null,null,null,null,null,null,null,null,4,null,null,null,null,null,8.9827200167930013E-2]
[null,null,null,null,null,null,null,null,4,null,null,null,null,null,-0.14552527827124598]
[null,null,null,null,null,null,null,null,4,null,null,null,null,null,0.82385885722867092]
[null,null,null,null,null,null,null,null,4,null,null,null,null,null,0.71568351711748068]
[null,null,null,null,null,null,null,null,4,null,null,null,null,null,-0.21381887757110629]
[null,null,null,null,null,null,null,null,4,null,null,null,null,null,0.24078972688143513]
[null,null,null,null,null,null,null,null,4,null,null,null,null,null,0.61008413480904722]
[null,null,null,null,null,null,null,null,4,null,null,null,null,null,-0.28601999478969209]
[null,null,null,null,null,null,null,null,4,null,null,null,null,null,0.36375503045089946]
[null,null,null,null,null,null,null,null,4,null,null,null,null,null,-0.78684166013938039]
[null,null,null,null,null,null,null,null,4,null,null,null,null,null,1.8919541667343338E-2]
[null,null,null,null,null,null,null,null,4,null,null,null,null,null,0.25315395012281044]
[null,null,null,null,null,null,null,null,5,null,null,null,null,null,{"$f":"CORREL($B$6:$G$6,B2:G2)","v":-0.66830093718197014}]
[null,null,null,null,null,null,null,null,5,null,null,null,null,null,{"$f":"CORREL($B$6:$G$6,B3:G3)","v":-0.79265959868268032}]
[null,null,null,null,null,null,null,null,5,null,null,null,null,null,-0.14115047615850176]
[null,null,null,null,null,null,null,null,5,null,null,null,null,null,8.9827200167930013E-2]
[null,null,null,null,null,null,null,null,5]
[null,null,null,null,null,null,null,null,5,null,null,null,null,null,-0.47980896103909848]
[null,null,null,null,null,null,null,null,5,null,null,null,null,null,-0.24290823958243735]
[null,null,null,null,null,null,null,null,5,null,null,null,null,null,-0.32293708677746091]
[null,null,null,null,null,null,null,null,5,null,null,null,null,null,-0.81065649746015123]
[null,null,null,null,null,null,null,null,5,null,null,null,null,null,0.63546428022968948]
[null,null,null,null,null,null,null,null,5,null,null,null,null,null,-0.25424871658588605]
[null,null,null,null,null,null,null,null,5,null,null,null,null,null,0.31806959098057414]
[null,null,null,null,null,null,null,null,5,null,null,null,null,null,0.8446027802104854]
[null,null,null,null,null,null,null,null,5,null,null,null,null,null,5.2135828420104592E-2]
[null,null,null,null,null,null,null,null,5,null,null,null,null,null,-0.84338551242145177]
[null,null,null,null,null,null,null,null,5,null,null,null,null,null,0.80486716065137431]
[null,null,null,null,null,null,null,null,6,null,null,null,null,null,{"$f":"CORREL($B$7:$G$7,B2:G2)","v":0.84672089336856704}]
[null,null,null,null,null,null,null,null,{"$f":"I87+1","v":6},null,null,null,null,null,{"$f":"CORREL($B$7:$G$7,B3:G3)","v":0.48497801820907149}]
[null,null,null,null,null,null,null,null,6,null,null,null,null,null,-6.4240742503756221E-2]
[null,null,null,null,null,null,null,null,6,null,null,null,null,null,-0.14552527827124598]
[null,null,null,null,null,null,null,null,6,null,null,null,null,null,-0.47980896103909848]
[null,null,null,null,null,null,null,null,6]
[null,null,null,null,null,null,null,null,6,null,null,null,null,null,-0.14364086979210855]
[null,null,null,null,null,null,null,null,6,null,null,null,null,null,0.31528883191951951]
[null,null,null,null,null,null,null,null,6,null,null,null,null,null,0.68946823419215086]
[null,null,null,null,null,null,null,null,6,null,null,null,null,null,-0.92440517788818644]
[null,null,null,null,null,null,null,null,6,null,null,null,null,null,0.31352872850540753]
[null,null,null,null,null,null,null,null,6,null,null,null,null,null,-0.42878097503767598]
[null,null,null,null,null,null,null,null,6,null,null,null,null,null,-0.15040442951736036]
[null,null,null,null,null,null,null,null,6,null,null,null,null,null,-0.25373084928552525]
[null,null,null,null,null,null,null,null,6,null,null,null,null,null,0.19278249610753911]
[null,null,null,null,null,null,null,null,6,null,null,null,null,null,-0.12689330699730617]
[null,null,null,null,null,null,null,null,7,null,null,null,null,null,{"$f":"CORREL($B$8:$G$8,B2:G2)","v":9.873310511605661E-2}]
[null,null,null,null,null,null,null,null,7,null,null,null,null,null,{"$f":"CORREL($B$8:$G$8,B3:G3)","v":0.69718263091375365}]
[null,null,null,null,null,null,null,null,7,null,null,null,null,null,-0.26621636731853449]
[null,null,null,null,null,null,null,null,7,null,null,null,null,null,0.82385885722867092]
[null,null,null,null,null,null,null,null,7,null,null,null,null,null,-0.24290823958243735]
[null,null,null,null,null,null,null,null,7,null,null,null,null,null,-0.14364086979210855]
[null,null,null,null,null,null,null,null,7]
[null,null,null,null,null,null,null,null,7,null,null,null,null,null,0.76025266040851702]
[null,null,null,null,null,null,null,null,7,null,null,null,null,null,0.16085115666029728]
[null,null,null,null,null,null,null,null,7,null,null,null,null,null,0.11430145427726142]
[null,null,null,null,null,null,null,null,7,null,null,null,null,null,0.26813145867051619]
[null,null,null,null,null,null,null,null,7,null,null,null,null,null,-0.57991438930265504]
[null,null,null,null,null,null,null,null,7,null,null,null,null,null,7.3290974355127436E-2]
[null,null,null,null,null,null,null,null,7,null,null,null,null,null,-0.4210418748802171]
[null,null,null,null,null,null,null,null,7,null,null,null,null,null,0.53328930261218055]
[null,null,null,null,null,null,null,null,7,null,null,null,null,null,-0.18837149155044583]
[null,null,null,null,null,null,null,null,8,null,null,null,null,null,{"$f":"CORREL($B$9:$G$9,B2:G2)","v":0.42791421143865349}]
[null,null,null,null,null,null,null,null,8,null,null,null,null,null,{"$f":"CORREL($B$9:$G$9,B3:G3)","v":0.80077325817785816}]
[null,null,null,null,null,null,null,null,8,null,null,null,null,null,-0.64452422004962551]
[null,null,null,null,null,null,null,null,8,null,null,null,null,null,0.71568351711748068]
[null,null,null,null,null,null,null,null,8,null,null,null,null,null,-0.32293708677746091]
[null,null,null,null,null,null,null,null,8,null,null,null,null,null,0.31528883191951951]
[null,null,null,null,null,null,null,null,8,null,null,null,null,null,0.76025266040851702]
[null,null,null,null,null,null,null,null,8]
[null,null,null,null,null,null,null,null,8,null,null,null,null,null,0.19115027756985389]
[null,null,null,null,null,null,null,null,8,null,null,null,null,null,-0.1373589694318435]
[null,null,null,null,null,null,null,null,8,null,null,null,null,null,0.4097993984599852]
[null,null,null,null,null,null,null,null,8,null,null,null,null,null,-0.78694415360042169]
[null,null,null,null,null,null,null,null,8,null,null,null,null,null,0.18160613392005973]
[null,null,null,null,null,null,null,null,8,null,null,null,null,null,-0.67274618419106513]
[null,null,null,null,null,null,null,null,8,null,null,null,null,null,0.38111796069857912]
[null,null,null,null,null,null,null,null,8,null,null,null,null,null,-0.27595215914298576]
[null,null,null,null,null,null,null,null,9,null,null,null,null,null,{"$f":"CORREL($B$10:$G$10,B2:G2)","v":0.85784200433707958}]
[null,null,null,null,null,null,null,null,9,null,null,null,null,null,{"$f":"CORREL($B$10:$G$10,B3:G3)","v":0.66832619706768925}]
[null,null,null,null,null,null,null,null,9,null,null,null,null,null,0.22096218255785796]
[null,null,null,null,null,null,null,null,9,null,null,null,null,null,-0.21381887757110629]
[null,null,null,null,null,null,null,null,9,null,null,null,null,null,-0.81065649746015123]
[null,null,null,null,null,null,null,null,9,null,null,null,null,null,0.68946823419215086]
[null,null,null,null,null,null,null,null,9,null,null,null,null,null,0.16085115666029728]
[null,null,null,null,null,null,null,null,9,null,null,null,null,null,0.19115027756985389]
[null,null,null,null,null,null,null,null,9]
[null,null,null,null,null,null,null,null,9,null,null,null,null,null,-0.87552526576322265]
[null,null,null,null,null,null,null,null,9,null,null,null,null,null,3.5438296170491768E-2]
[null,null,null,null,null,null,null,null,9,null,null,null,null,null,-0.46014623095118712]
[null,null,null,null,null,null,null,null,9,null,null,null,null,null,-0.60077650567321728]
[null,null,null,null,null,null,null,null,9,null,null,null,null,null,0.16446784494186983]
[null,null,null,null,null,null,null,null,9,null,null,null,null,null,0.76867072142199644]
[null,null,null,null,null,null,null,null,9,null,null,null,null,null,-0.51466408854213563]
[null,null,null,null,null,null,null,null,10,null,null,null,null,null,{"$f":"CORREL($B$11:$G$11,B2:G2)","v":-0.83994006482608108}]
[null,null,null,null,null,null,null,null,{"$f":"I151+1","v":10},null,null,null,null,null,{"$f":"CORREL($B$11:$G$11,B3:G3)","v":-0.51360691369656686}]
[null,null,null,null,null,null,null,null,10,null,null,null,null,null,-0.23873343638545252]
[null,null,null,null,null,null,null,null,10,null,null,null,null,null,0.24078972688143513]
[null,null,null,null,null,null,null,null,10,null,null,null,null,null,0.63546428022968948]
[null,null,null,null,null,null,null,null,10,null,null,null,null,null,-0.92440517788818644]
[null,null,null,null,null,null,null,null,10,null,null,null,null,null,0.11430145427726142]
[null,null,null,null,null,null,null,null,10,null,null,null,null,null,-0.1373589694318435]
[null,null,null,null,null,null,null,null,10,null,null,null,null,null,-0.87552526576322265]
[null,null,null,null,null,null,null,null,10]
[null,null,null,null,null,null,null,null,10,null,null,null,null,null,-0.25731463802140786]
[null,null,null,null,null,null,null,null,10,null,null,null,null,null,0.31406374353408334]
[null,null,null,null,null,null,null,null,10,null,null,null,null,null,0.41190769047600601]
[null,null,null,null,null,null,null,null,10,null,null,null,null,null,5.8138266483983937E-2]
[null,null,null,null,null,null,null,null,10,null,null,null,null,null,-0.39367643862530455]
[null,null,null,null,null,null,null,null,10,null,null,null,null,null,0.21422876350051073]
[null,null,null,null,null,null,null,null,11,null,null,null,null,null,{"$f":"CORREL($B$12:$G$12,B2:G2)","v":-3.7179104397468625E-2}]
[null,null,null,null,null,null,null,null,11,null,null,null,null,null,{"$f":"CORREL($B$12:$G$12,B3:G3)","v":0.44453058701075698}]
[null,null,null,null,null,null,null,null,11,null,null,null,null,null,0.23478584546157177]
[null,null,null,null,null,null,null,null,11,null,null,null,null,null,0.61008413480904722]
[null,null,null,null,null,null,null,null,11,null,null,null,null,null,-0.25424871658588605]
[null,null,null,null,null,null,null,null,11,null,null,null,null,null,0.31352872850540753]
[null,null,null,null,null,null,null,null,11,null,null,null,null,null,0.26813145867051619]
[null,null,null,null,null,null,null,null,11,null,null,null,null,null,0.4097993984599852]
[null,null,null,null,null,null,null,null,11,null,null,null,null,null,3.5438296170491768E-2]
[null,null,null,null,null,null,null,null,11,null,null,null,null,null,-0.25731463802140786]
[null,null,null,null,null,null,null,null,11]
[null,null,null,null,null,null,null,null,11,null,null,null,null,null,0.14272665555157282]
[null,null,null,null,null,null,null,null,11,null,null,null,null,null,-0.11760505879196632]
[null,null,null,null,null,null,null,null,11,null,null,null,null,null,-0.8944010843505058]
[null,null,null,null,null,null,null,null,11,null,null,null,null,null,-9.6013652865966387E-2]
[null,null,null,null,null,null,null,null,11,null,null,null,null,null,0.20131742178040735]
[null,null,null,null,null,null,null,null,12,null,null,null,null,null,{"$f":"CORREL($B$13:$G$13,B2:G2)","v":-0.72491601184003529}]
[null,null,null,null,null,null,null,null,12,null,null,null,null,null,{"$f":"CORREL($B$13:$G$13,B3:G3)","v":-0.67470303876751458}]
[null,null,null,null,null,null,null,null,12,null,null,null,null,null,0.69993180191527249]
[null,null,null,null,null,null,null,null,12,null,null,null,null,null,-0.28601999478969209]
[null,null,null,null,null,null,null,null,12,null,null,null,null,null,0.31806959098057414]
[null,null,null,null,null,null,null,null,12,null,null,null,null,null,-0.42878097503767598]
[null,null,null,null,null,null,null,null,12,null,null,null,null,null,-0.57991438930265504]
[null,null,null,null,null,null,null,null,12,null,null,null,null,null,-0.78694415360042169]
[null,null,null,null,null,null,null,null,12,null,null,null,null,null,-0.46014623095118712]
[null,null,null,null,null,null,null,null,12,null,null,null,null,null,0.31406374353408334]
[null,null,null,null,null,null,null,null,12,null,null,null,null,null,0.14272665555157282]
[null,null,null,null,null,null,null,null,12]
[null,null,null,null,null,null,null,null,12,null,null,null,null,null,-0.18662226419008518]
[null,null,null,null,null,null,null,null,12,null,null,null,null,null,0.12875498870591323]
[null,null,null,null,null,null,null,null,12,null,null,null,null,null,-0.54590299249274288]
[null,null,null,null,null,null,null,null,12,null,null,null,null,null,0.39574373035160304]
[null,null,null,null,null,null,null,null,13,null,null,null,null,null,{"$f":"CORREL($B$14:$G$14,B2:G2)","v":-0.29110055612262659}]
[null,null,null,null,null,null,null,null,13,null,null,null,null,null,{"$f":"CORREL($B$14:$G$14,B3:G3)","v":-0.3864033595384892}]
[null,null,null,null,null,null,null,null,13,null,null,null,null,null,-0.50531426733572415]
[null,null,null,null,null,null,null,null,13,null,null,null,null,null,0.36375503045089946]
[null,null,null,null,null,null,null,null,13,null,null,null,null,null,0.8446027802104854]
[null,null,null,null,null,null,null,null,13,null,null,null,null,null,-0.15040442951736036]
[null,null,null,null,null,null,null,null,13,null,null,null,null,null,7.3290974355127436E-2]
[null,null,null,null,null,null,null,null,13,null,null,null,null,null,0.18160613392005973]
[null,null,null,null,null,null,null,null,13,null,null,null,null,null,-0.60077650567321728]
[null,null,null,null,null,null,null,null,13,null,null,null,null,null,0.41190769047600601]
[null,null,null,null,null,null,null,null,13,null,null,null,null,null,-0.11760505879196632]
[null,null,null,null,null,null,null,null,13,null,null,null,null,null,-0.18662226419008518]
[null,null,null,null,null,null,null,null,13]
[null,null,null,null,null,null,null,null,13,null,null,null,null,null,-0.23006828029148596]
[null,null,null,null,null,null,null,null,13,null,null,null,null,null,-0.65684807888285213]
[null,null,null,null,null,null,null,null,13,null,null,null,null,null,0.70300238469076126]
[null,null,null,null,null,null,null,null,14,null,null,null,null,null,{"$f":"CORREL($B$15:$G$15,B2:G2)","v":3.7851441621119614E-2}]
[null,null,null,null,null,null,null,null,{"$f":"I215+1","v":14},null,null,null,null,null,{"$f":"CORREL($B$15:$G$15,B3:G3)","v":-0.45259453427510993}]
[null,null,null,null,null,null,null,null,14,null,null,null,null,null,0.19301002601084416]
[null,null,null,null,null,null,null,null,14,null,null,null,null,null,-0.78684166013938039]
[null,null,null,null,null,null,null,null,14,null,null,null,null,null,5.2135828420104592E-2]
[null,null,null,null,null,null,null,null,14,null,null,null,null,null,-0.25373084928552525]
[null,null,null,null,null,null,null,null,14,null,null,null,null,null,-0.4210418748802171]
[null,null,null,null,null,null,null,null,14,null,null,null,null,null,-0.67274618419106513]
[null,null,null,null,null,null,null,null,14,null,null,null,null,null,0.16446784494186983]
[null,null,null,null,null,null,null,null,14,null,null,null,null,null,5.8138266483983937E-2]
[null,null,null,null,null,null,null,null,14,null,null,null,null,null,-0.8944010843505058]
[null,null,null,null,null,null,null,null,14,null,null,null,null,null,0.12875498870591323]
[null,null,null,null,null,null,null,null,14,null,null,null,null,null,-0.23006828029148596]
[null,null,null,null,null,null,null,null,14]
[null,null,null,null,null,null,null,null,14,null,null,null,null,null,0.18594055128027753]
[null,null,null,null,null,null,null,null,14,null,null,null,null,null,-0.23785983920416717]
[null,null,null,null,null,null,null,null,15,null,null,null,null,null,{"$f":"CORREL($B$16:$G$16,B2:G2)","v":0.6057027052845475}]
[null,null,null,null,null,null,null,null,15,null,null,null,null,null,{"$f":"CORREL($B$16:$G$16,B3:G3)","v":0.77200819612854499}]
[null,null,null,null,null,null,null,null,15,null,null,null,null,null,-1.3540202336187144E-2]
[null,null,null,null,null,null,null,null,15,null,null,null,null,null,1.8919541667343338E-2]
[null,null,null,null,null,null,null,null,15,null,null,null,null,null,-0.84338551242145177]
[null,null,null,null,null,null,null,null,15,null,null,null,null,null,0.19278249610753911]
[null,null,null,null,null,null,null,null,15,null,null,null,null,null,0.53328930261218055]
[null,null,null,null,null,null,null,null,15,null,null,null,null,null,0.38111796069857912]
[null,null,null,null,null,null,null,null,15,null,null,null,null,null,0.76867072142199644]
[null,null,null,null,null,null,null,null,15,null,null,null,null,null,-0.39367643862530455]
[null,null,null,null,null,null,null,null,15,null,null,null,null,null,-9.6013652865966387E-2]
[null,null,null,null,null,null,null,null,15,null,null,null,null,null,-0.54590299249274288]
[null,null,null,null,null,null,null,null,15,null,null,null,null,null,-0.65684807888285213]
[null,null,null,null,null,null,null,null,15,null,null,null,null,null,0.18594055128027753]
[null,null,null,null,null,null,null,null,15]
[null,null,null,null,null,null,null,null,15,null,null,null,null,null,-0.81802541678788976]
[null,null,null,null,null,null,null,null,16,null,null,null,null,null,{"$f":"CORREL($B$17:$G$17,B2:G2)","v":-0.51588654193571137}]
[null,null,null,null,null,null,null,null,16,null,null,null,null,null,{"$f":"CORREL($B$17:$G$17,B3:G3)","v":-0.56685630485555527}]
[null,null,null,null,null,null,null,null,16,null,null,null,null,null,0.2357102197568483]
[null,null,null,null,null,null,null,null,16,null,null,null,null,null,0.25315395012281044]
[null,null,null,null,null,null,null,null,16,null,null,null,null,null,0.80486716065137431]
[null,null,null,null,null,null,null,null,16,null,null,null,null,null,-0.12689330699730617]
[null,null,null,null,null,null,null,null,16,null,null,null,null,null,-0.18837149155044583]
[null,null,null,null,null,null,null,null,16,null,null,null,null,null,-0.27595215914298576]
[null,null,null,null,null,null,null,null,16,null,null,null,null,null,-0.51466408854213563]
[null,null,null,null,null,null,null,null,16,null,null,null,null,null,0.21422876350051073]
[null,null,null,null,null,null,null,null,16,null,null,null,null,null,0.20131742178040735]
[null,null,null,null,null,null,null,null,16,null,null,null,null,null,0.39574373035160304]
[null,null,null,null,null,null,null,null,16,null,null,null,null,null,0.70300238469076126]
[null,null,null,null,null,null,null,null,16,null,null,null,null,null,-0.23785983920416717]
[null,null,null,null,null,null,null,null,16,null,null,null,null,null,-0.81802541678788976]
[null,null,null,null,null,null,null,null,16]
[null,null,null,null,null,null,null,null,"max",null,null,null,null,null,{"$f":"MAX(O22:O277)","v":0.85784200433707958}]
[null,null,null,null,null,null,null,null,"min",null,null,null,null,null,{"$f":"MIN(O22:O277)","v":-0.92440517788818644}]
[null,null,null,null,null,null,null,null,"avg",null,null,null,null,null,{"$f":"AVERAGE(O22:O277)","v":-1.7061682846463411E-2}]
[null,null,null,null,null,null,null,null,"stddev",null,null,null,null,null,{"$f":"STDEV(O22:O277)","v":0.48503804396269096}]
[null,null,null,null,null,null,null,null,"median",null,null,null,null,null,{"$f":"MEDIAN(O22:O277)","v":-2.5359653366827883E-2}]
[null,null,null,null,null,null,null,null,"kvart_1",null,null,null,null,null,{"$f":"QUARTILE(O22:O277,1)","v":-0.38822162931019305}]
[null,null,null,null,null,null,null,null,"kvart_3",null,null,null,null,null,{"$f":"QUARTILE(O22:O277,3)","v":0.31598402168478318}]

{"sheet":"basics3","index":13,"n_rows":284,"n_cols":42,"rows_kept":284,"cut":false,"hidden":false,"merged":[]}
["raw","A1","A2","A3","A4","A5","A6=Y",null,"rank",{"$f":"B1","v":"A1"},"A2","A3","A4","A5",{"$f":"G1&\"'\"","v":"A6=Y'"},"validity0","direkt","inverz","átlag","double","between1","validity1","invalid_between","valid_extrem","between2","validity2",null,{"$f":"models1!B7","v":"X(A1)"},{"$f":"models1!C7","v":"X(A2)"},{"$f":"models1!D7","v":"X(A3)"},{"$f":"models1!E7","v":"X(A4)"},{"$f":"models1!F7","v":"X(A5)"},{"$f":"AB1","v":"X(A1)"},{"$f":"AC1","v":"X(A2)"},"X(A3)","X(A4)","X(A5)",{"$f":"O1","v":"A6=Y'"},null,"direct_stddev","inverse_stddev","delta"]
["O1",88,57,52,52,72,70,null,{"$f":"A2","v":"O1"},{"$f":"RANK(B2,B$2:B$17,B$19)","v":15},{"$f":"RANK(C2,C$2:C$17,C$19)","v":9},10,10,12,{"$f":"G2*1000","v":70000},{"$f":"IF(models1!J262*models1!Y262<=0,\"valid\",\"invalid\")","v":"invalid"},{"$f":"models1!G262","v":44421.4},{"$f":"models1!V262","v":63759.7},{"$f":"AVERAGE(Q2:R2)","v":54090.55},{"$f":"models1!AO262","v":43582.5},{"$f":"IF(MAX(Q2:R2)<T2,0,IF(MIN(Q2:R2)>T2,0,1))","v":0},{"$f":"IF(P2=\"valid\",1,)","v":0},{"$f":"IF(V2=1,IF(U2=0,1,0),0)","v":0},{"$f":"IF(V2=0,IF(U2=1,1,0),0)","v":0},{"$f":"STDEV(S2:T2)","v":7430.3134120472932},{"$f":"STDEV(models1!J262,models1!Y262)","v":19.537360364184298},null,{"$f":"J2","v":15},{"$f":"K2","v":9},10,10,12,{"$f":"RANK(AB2,AB$2:AB$17,0)","v":2},{"$f":"RANK(AC2,AC$2:AC$17,0)","v":7},{"$f":"RANK(AD2,AD$2:AD$17,0)","v":6},{"$f":"RANK(AE2,AE$2:AE$17,0)","v":7},{"$f":"RANK(AF2,AF$2:AF$17,0)","v":5},70000,null,{"$f":"STDEV(AB2:AF2)","v":2.3874672772626622},{"$f":"STDEV(AG2:AK2)","v":2.0736441353327715},{"$f":"ABS(AO2-AN2)","v":0.31382314192989069}]
["O2",62,99,44,65,53,20,null,{"$f":"A3","v":"O2"},{"$f":"RANK(B3,B$2:B$17,B$19)","v":10},16,8,7,9,{"$f":"G3*1000","v":20000},{"$f":"IF(models1!J263*models1!Y263<=0,\"valid\",\"invalid\")","v":"invalid"},{"$f":"models1!G263","v":34188.800000000003},{"$f":"models1!V263","v":47819.8},{"$f":"AVERAGE(Q3:R3)","v":41004.300000000003},{"$f":"models1!AO263","v":20631.400000000001},0,0,{"$f":"IF(V3=1,IF(U3=0,1,0),0)","v":0},{"$f":"IF(V3=0,IF(U3=1,1,0),0)","v":0},{"$f":"STDEV(S3:T3)","v":14405.815742435412},{"$f":"STDEV(models1!J263,models1!Y263)","v":48.19639820567506},null,{"$f":"J3","v":10},16,8,7,9,{"$f":"RANK(AB3,AB$2:AB$17,0)","v":8},1,8,10,7,20000,null,{"$f":"STDEV(AB3:AF3)","v":3.5355339059327378},{"$f":"STDEV(AG3:AK3)","v":3.4205262752974144},{"$f":"ABS(AO3-AN3)","v":0.11500763063532338}]
["O3",64,26,50,64,37,90,null,"O3",11,3,9,8,6,90000,{"$f":"IF(models1!J264*models1!Y264<=0,\"valid\",\"invalid\")","v":"invalid"},{"$f":"models1!G264","v":58747},{"$f":"models1!V264","v":51306.6},55026.8,{"$f":"models1!AO264","v":57834.1},1,0,0,1,1985.0608668249918,{"$f":"STDEV(models1!J264,models1!Y264)","v":5.8407020126008895},null,11,3,9,8,6,7,14,7,9,11,90000,null,3.0495901363953806,2.9664793948382648,8.311074155711573E-2]
["O4",45,11,24,39,52,67,null,"O4",4,1,5,11,8,67000,{"$f":"IF(models1!J265*models1!Y265<=0,\"valid\",\"invalid\")","v":"invalid"},{"$f":"models1!G265","v":65970},{"$f":"models1!V265","v":39849.800000000003},52909.9,{"$f":"models1!AO265","v":66617.100000000006},0,0,0,0,9692.4540710802976,{"$f":"STDEV(models1!J265,models1!Y265)","v":27.563022330651624},null,4,1,5,11,8,14,16,11,6,8,67000,null,3.8340579025361632,4.1231056256176606,0.2890477230814974]
["O5",51,12,23,63,12,37,null,"O5",8,2,4,9,1,37000,{"$f":"IF(models1!J266*models1!Y266<=0,\"valid\",\"invalid\")","v":"valid"},{"$f":"models1!G266","v":62599.3},{"$f":"models1!V266","v":27894.9},45247.100000000006,{"$f":"models1!AO266","v":68605.2},0,1,1,0,16516.670905633506,{"$f":"STDEV(models1!J266,models1!Y266)","v":66.326616075298162},null,8,2,4,9,1,10,15,12,8,16,37000,null,3.5637059362410923,3.3466401061363005,0.21706583010479186]
["O6",48,48,42,14,71,51,null,"O6",6,8,7,16,11,51000,{"$f":"IF(models1!J267*models1!Y267<=0,\"valid\",\"invalid\")","v":"invalid"},{"$f":"models1!G267","v":58265.5},{"$f":"models1!V267","v":74220.3},66242.899999999994,{"$f":"models1!AO267","v":53940},0,0,0,0,8699.4640182599705,{"$f":"STDEV(models1!J267,models1!Y267)","v":22.118300115515208},null,6,8,7,16,11,12,8,9,1,6,51000,null,4.0373258476372698,4.0865633483405102,4.92375007032404E-2]
["O7",70,96,72,22,80,51,null,"O7",13,15,13,13,13,51000,{"$f":"IF(models1!J268*models1!Y268<=0,\"valid\",\"invalid\")","v":"valid"},{"$f":"models1!G268","v":28530.799999999999},{"$f":"models1!V268","v":71231.5},49881.15,{"$f":"models1!AO268","v":35628.699999999997},1,1,0,0,10078.004043522174,{"$f":"STDEV(models1!J268,models1!Y268)","v":59.206050788749629},null,13,15,13,13,13,5,2,3,4,4,51000,null,0.89442719099991574,1.1401754250991383,0.24574823409922253]
["O8",46,80,30,85,20,68,null,"O8",5,12,6,3,2,68000,{"$f":"IF(models1!J269*models1!Y269<=0,\"valid\",\"invalid\")","v":"invalid"},{"$f":"models1!G269","v":67896.100000000006},{"$f":"models1!V269","v":39351.699999999997},53623.9,{"$f":"models1!AO269","v":67611.399999999994},1,0,0,1,9890.6561018468819,{"$f":"STDEV(models1!J269,models1!Y269)","v":29.684342674211269},null,5,12,6,3,2,13,5,10,14,15,68000,null,3.9115214431215888,4.0373258476372715,0.12580440451568276]
["O9",61,66,59,20,84,13,null,"O9",9,10,11,14,15,13000,{"$f":"IF(models1!J270*models1!Y270<=0,\"valid\",\"invalid\")","v":"invalid"},{"$f":"models1!G270","v":15409.1},{"$f":"models1!V270","v":51306.6},33357.85,{"$f":"models1!AO270","v":31817.1},1,0,0,1,1089.4747731131731,{"$f":"STDEV(models1!J270,models1!Y270)","v":195.2604665568532},null,9,10,11,14,15,9,6,5,3,2,13000,null,2.5884358211089546,2.7386127875258306,0.15017696641687595]
["O10",94,32,15,72,97,43,null,"O10",16,5,2,4,16,43000,{"$f":"IF(models1!J271*models1!Y271<=0,\"valid\",\"invalid\")","v":"invalid"},{"$f":"models1!G271","v":41411.800000000003},{"$f":"models1!V271","v":42838.5},42125.15,{"$f":"models1!AO271","v":42754.3},1,0,0,1,444.87623138351739,{"$f":"STDEV(models1!J271,models1!Y271)","v":2.340523445727472},null,16,5,2,4,16,1,12,15,13,1,43000,null,6.8410525505948279,6.8410525505948279,0]
["O11",50,40,17,15,24,98,null,"O11",7,6,3,15,3,98000,{"$f":"IF(models1!J272*models1!Y272<=0,\"valid\",\"invalid\")","v":"invalid"},{"$f":"models1!G272","v":87037.1},{"$f":"models1!V272","v":73224},80130.55,{"$f":"models1!AO272","v":97440},0,0,0,0,12239.629473609482,{"$f":"STDEV(models1!J272,models1!Y272)","v":9.9631345469184609},null,7,6,3,15,3,11,10,13,2,14,98000,null,4.9193495504995379,4.7434164902525691,0.17593306024696886]
["O12",42,45,67,88,45,45,null,"O12",3,7,12,2,7,45000,{"$f":"IF(models1!J273*models1!Y273<=0,\"valid\",\"invalid\")","v":"valid"},{"$f":"models1!G273","v":55376.3},{"$f":"models1!V273","v":28891.1},42133.7,{"$f":"models1!AO273","v":44743.3},1,1,0,0,1845.2658561844185,{"$f":"STDEV(models1!J273,models1!Y273)","v":41.620305140640184},null,3,7,12,2,7,15,9,4,15,9,45000,null,3.9623225512317903,4.669047011971502,0.70672446073971162]
["O13",86,94,76,35,29,11,null,"O13",14,14,15,12,4,11000,{"$f":"IF(models1!J274*models1!Y274<=0,\"valid\",\"invalid\")","v":"invalid"},{"$f":"models1!G274","v":30336.6},{"$f":"models1!V274","v":66748.399999999994},48542.5,{"$f":"models1!AO274","v":33557.1},1,0,0,1,10596.277958792864,{"$f":"STDEV(models1!J274,models1!Y274)","v":234.05941564055902},null,14,14,15,12,4,4,3,2,5,13,11000,null,4.4944410108488455,4.3931765272977588,0.10126448355108675]
["O14",13,92,14,91,36,76,null,"O14",1,13,1,1,5,76000,{"$f":"IF(models1!J275*models1!Y275<=0,\"valid\",\"invalid\")","v":"invalid"},{"$f":"models1!G275","v":73193},{"$f":"models1!V275","v":44332.9},58762.95,{"$f":"models1!AO275","v":75566.2},{"$f":"IF(MAX(Q15:R15)<T15,0,IF(MIN(Q15:R15)>T15,0,1))","v":0},0,0,0,11881.692020972854,{"$f":"STDEV(models1!J275,models1!Y275)","v":26.855915549465077},null,1,13,1,1,5,16,4,16,16,12,76000,null,5.215361924162119,5.2153619241621181,8.8817841970012523E-16]
["O15",69,28,79,70,81,15,null,"O15",12,4,16,6,14,15000,{"$f":"IF(models1!J276*models1!Y276<=0,\"valid\",\"invalid\")","v":"invalid"},{"$f":"models1!G276","v":16372.1},{"$f":"models1!V276","v":29887.4},23129.75,{"$f":"models1!AO276","v":14914.3},{"$f":"IF(MAX(Q16:R16)<T16,0,IF(MIN(Q16:R16)>T16,0,1))","v":0},0,0,0,5809.2004054990157,{"$f":"STDEV(models1!J276,models1!Y276)","v":63.710320984907924},null,12,4,16,6,14,6,13,1,11,3,15000,null,5.1768716422179146,5.1185935568278911,5.8278085390023548E-2]
["O16",40,69,75,71,67,38,null,"O16",{"$f":"RANK(B17,B$2:B$17,0)","v":15},6,3,5,7,38000,{"$f":"IF(models1!J277*models1!Y277<=0,\"valid\",\"invalid\")","v":"invalid"},{"$f":"models1!G277","v":54413.2},{"$f":"models1!V277","v":40347.9},47380.55,{"$f":"models1!AO277","v":37783.300000000003},{"$f":"IF(MAX(Q17:R17)<T17,0,IF(MIN(Q17:R17)>T17,0,1))","v":0},0,0,0,6786.2805557425581,{"$f":"STDEV(models1!J277,models1!Y277)","v":26.170021971714121},null,15,6,3,5,7,2,10,13,12,9,38000,null,4.6043457732885358,4.3243496620879309,0.27999611120060486]
["correlation",{"$f":"CORREL(B2:B16,$G$2:$G$16)","v":-0.36222199147634371},{"$f":"CORREL(C2:C16,$G$2:$G$16)","v":-0.22091713104379002},-0.54807951514147502,3.6231559350306627E-2,-0.34606030536318699,1,null,"O16(2)",{"$f":"MAX(J2:J16)","v":16},{"$f":"INT(QUARTILE(K2:K16,3))","v":12},{"$f":"MEDIAN(L2:L16)","v":8},{"$f":"INT(QUARTILE(M2:M16,1))","v":5},{"$f":"MIN(N2:N16)","v":1},{"$f":"O17","v":38000},"ratio","correlation","correlation",null,"correlation",null,null,null,null,null,null,null,"direct","direct","direct","direct","direct","inverse","inverse","inverse","inverse","inverse","double","max",{"$f":"MAX(AN2:AN17)","v":6.8410525505948279},{"$f":"MAX(AO2:AO17)","v":6.8410525505948279},{"$f":"MAX(AP2:AP17)","v":0.70672446073971162}]
["direction",{"$f":"IF(B18>0,0,1)","v":1},{"$f":"IF(C18>0,0,1)","v":1},1,0,1,"Y",null,null,null,null,null,null,null,null,{"$f":"COUNTIF($P$2:$P$17,\"valid\")/16","v":0.1875},{"$f":"CORREL(Q2:Q17,$O$2:$O$17)","v":0.80233801324714593},{"$f":"CORREL(R2:R17,$O$2:$O$17)","v":0.24804155130869163},null,{"$f":"CORREL(T2:T17,$O$2:$O$17)","v":0.80664502306171126},{"$f":"SUM(U2:U17)","v":7},null,{"$f":"SUM(W2:W17)","v":1},{"$f":"SUM(X2:X17)","v":5},{"$f":"SUM(Y2:Y17)","v":129391.13643694841},null,null,null,null,null,null,null,null,null,null,null,null,null,"min",{"$f":"MIN(AN2:AN17)","v":0.89442719099991574},{"$f":"MIN(AO2:AO17)","v":1.1401754250991383},{"$f":"MIN(AP2:AP17)","v":0}]
[null,null,null,null,null,null,null,null,null,null,null,null,null,null,null,null,null,null,null,null,null,null,null,null,null,null,null,null,null,null,null,null,null,null,null,null,null,null,"avg",{"$f":"AVERAGE(AN2:AN17)","v":3.938488154004959},{"$f":"AVERAGE(AO2:AO17)","v":3.9523794168137347},{"$f":"AVERAGE(AP2:AP17)","v":0.18195114838575233}]
["antagonism!",null,null,null,null,null,null,null,"O*",null,null,null,null,null,"correlation",null,null,null,null,null,null,null,null,null,null,null,null,null,null,null,null,null,null,null,null,null,null,null,"stddev",{"$f":"STDEV(AN2:AN17)","v":1.3641353054151613},{"$f":"STDEV(AO2:AO17)","v":1.3505344899644713},{"$f":"STDEV(AP2:AP17)","v":0.17189971941755533}]
[null,null,null,null,null,null,null,null,1,null,null,null,null,null,null,null,null,null,null,null,null,null,null,null,null,null,null,null,null,null,null,null,null,null,null,null,null,null,"median",{"$f":"MEDIAN(AN2:AN17)","v":3.9369219971766896},{"$f":"MEDIAN(AO2:AO17)","v":4.1048344869790849},0.13799068546627935]
["Consistency-tasks ",null,null,null,null,null,null,null,1,null,null,null,null,null,{"$f":"CORREL($B$2:$G$2,B3:G3)","v":-0.19952624046167688}]
["Y=between1",null,null,null,null,null,null,null,1,null,null,null,null,null,0.2708508863800827]
["Y=between2",null,null,null,null,null,null,null,1,null,null,null,null,null,0.55603725787298219]
["Y=validity1",null,null,null,null,null,null,null,1,null,null,null,null,null,0.13050151916621616]
["Y=validity2",null,null,null,null,null,null,null,1,null,null,null,null,null,0.53472708889845588]
["Y=validity-ratio",null,null,null,null,null,null,null,1,null,null,null,null,null,0.2029477561131264]
["Xi=model-characteristics",null,null,null,null,null,null,null,1,null,null,null,null,null,-0.34154310898776674]
[null,null,null,null,null,null,null,null,1,null,null,null,null,null,0.2281119217725118]
[null,null,null,null,null,null,null,null,1,null,null,null,null,null,0.66935507434138675]
[null,null,null,null,null,null,null,null,1,null,null,null,null,null,0.46615260309707757]
[null,null,null,null,null,null,null,null,1,null,null,null,null,null,-0.70694705985975681]
[null,null,null,null,null,null,null,null,1,null,null,null,null,null,-5.8011807202355183E-3]
[null,null,null,null,null,null,null,null,1,null,null,null,null,null,-0.46467532451496585]
[null,null,null,null,null,null,null,null,1,null,null,null,null,null,5.5019074293013509E-3]
[null,null,null,null,null,null,null,null,1,null,null,null,null,null,-0.79640359183058662]
[null,null,null,null,null,null,null,null,{"$f":"I22+1","v":2},null,null,null,null,null,{"$f":"CORREL($B$3:$G$3,B2:G2)","v":-0.19952624046167688}]
[null,null,null,null,null,null,null,null,{"$f":"I23+1","v":2}]
[null,null,null,null,null,null,null,null,2,null,null,null,null,null,{"$f":"CORREL($B$3:$G$3,B4:G4)","v":-0.76248211766475704}]
[null,null,null,null,null,null,null,null,2,null,null,null,null,null,-0.78230485530314742]
[null,null,null,null,null,null,null,null,2,null,null,null,null,null,-0.17663989505964706]
[null,null,null,null,null,null,null,null,2,null,null,null,null,null,-0.16412375082385136]
[null,null,null,null,null,null,null,null,2,null,null,null,null,null,0.4022813727649231]
[null,null,null,null,null,null,null,null,2,null,null,null,null,null,0.34977704861950998]
[null,null,null,null,null,null,null,null,2,null,null,null,null,null,0.44067945029446687]
[null,null,null,null,null,null,null,null,2,null,null,null,null,null,3.5482788579321217E-2]
[null,null,null,null,null,null,null,null,2,null,null,null,null,null,-0.47465957133059133]
[null,null,null,null,null,null,null,null,2,null,null,null,null,null,1.3568588497230565E-2]
[null,null,null,null,null,null,null,null,2,null,null,null,null,null,0.68760079079050385]
[null,null,null,null,null,null,null,null,2,null,null,null,null,null,0.3022000159853771]
[null,null,null,null,null,null,null,null,2,null,null,null,null,null,3.2053405223786892E-2]
[null,null,null,null,null,null,null,null,2,null,null,null,null,null,0.44459752392011676]
[null,null,null,null,null,null,null,null,3,null,null,null,null,null,{"$f":"CORREL($B$4:$G$4,B2:G2)","v":0.2708508863800827}]
[null,null,null,null,null,null,null,null,3,null,null,null,null,null,{"$f":"CORREL($B$4:$G$4,B3:G3)","v":-0.76248211766475704}]
[null,null,null,null,null,null,null,null,3]
[null,null,null,null,null,null,null,null,3,null,null,null,null,null,0.74369100878618155]
[null,null,null,null,null,null,null,null,3,null,null,null,null,null,0.67242035547188173]
[null,null,null,null,null,null,null,null,3,null,null,null,null,null,-0.27860790754412273]
[null,null,null,null,null,null,null,null,3,null,null,null,null,null,-0.69774282201687432]
[null,null,null,null,null,null,null,null,3,null,null,null,null,null,0.22058708885393752]
[null,null,null,null,null,null,null,null,3,null,null,null,null,null,-0.81815840884223401]
[null,null,null,null,null,null,null,null,3,null,null,null,null,null,4.9625140314868213E-2]
[null,null,null,null,null,null,null,null,3,null,null,null,null,null,0.64842078111308865]
[null,null,null,null,null,null,null,null,3,null,null,null,null,null,0.11446422318703969]
[null,null,null,null,null,null,null,null,3,null,null,null,null,null,-0.56491232901134691]
[null,null,null,null,null,null,null,null,3,null,null,null,null,null,3.707165040589519E-2]
[null,null,null,null,null,null,null,null,3,null,null,null,null,null,-0.29547148992306982]
[null,null,null,null,null,null,null,null,3,null,null,null,null,null,-0.70137794782323304]
[null,null,null,null,null,null,null,null,4,null,null,null,null,null,{"$f":"CORREL($B$5:$G$5,B2:G2)","v":0.55603725787298219}]
[null,null,null,null,null,null,null,null,4,null,null,null,null,null,{"$f":"CORREL($B$5:$G$5,B3:G3)","v":-0.78230485530314742}]
[null,null,null,null,null,null,null,null,4,null,null,null,null,null,0.74369100878618155]
[null,null,null,null,null,null,null,null,4]
[null,null,null,null,null,null,null,null,4,null,null,null,null,null,0.32532003870453718]
[null,null,null,null,null,null,null,null,4,null,null,null,null,null,0.26209333520655692]
[null,null,null,null,null,null,null,null,4,null,null,null,null,null,-0.44419763341895324]
[null,null,null,null,null,null,null,null,4,null,null,null,null,null,-0.17451374955495408]
[null,null,null,null,null,null,null,null,4,null,null,null,null,null,-0.39993336769227311]
[null,null,null,null,null,null,null,null,4,null,null,null,null,null,0.49344007549338154]
[null,null,null,null,null,null,null,null,4,null,null,null,null,null,0.58323267537939782]
[null,null,null,null,null,null,null,null,4,null,null,null,null,null,-0.21130956387200156]
[null,null,null,null,null,null,null,null,4,null,null,null,null,null,-0.81124413208100166]
[null,null,null,null,null,null,null,null,4,null,null,null,null,null,-8.802997731619519E-2]
[null,null,null,null,null,null,null,null,4,null,null,null,null,null,-0.11003265076469067]
[null,null,null,null,null,null,null,null,4,null,null,null,null,null,-0.68110751773735623]
[null,null,null,null,null,null,null,null,5,null,null,null,null,null,{"$f":"CORREL($B$6:$G$6,B2:G2)","v":0.13050151916621616}]
[null,null,null,null,null,null,null,null,5,null,null,null,null,null,{"$f":"CORREL($B$6:$G$6,B3:G3)","v":-0.17663989505964706}]
[null,null,null,null,null,null,null,null,5,null,null,null,null,null,0.67242035547188173]
[null,null,null,null,null,null,null,null,5,null,null,null,null,null,0.32532003870453718]
[null,null,null,null,null,null,null,null,5]
[null,null,null,null,null,null,null,null,5,null,null,null,null,null,-0.73685839591931823]
[null,null,null,null,null,null,null,null,5,null,null,null,null,null,-0.84580024147019661]
[null,null,null,null,null,null,null,null,5,null,null,null,null,null,0.44044731238791068]
[null,null,null,null,null,null,null,null,5,null,null,null,null,null,-0.6776122581253794]
[null,null,null,null,null,null,null,null,5,null,null,null,null,null,0.32567666578607513]
[null,null,null,null,null,null,null,null,5,null,null,null,null,null,6.9300903317486118E-2]
[null,null,null,null,null,null,null,null,5,null,null,null,null,null,0.52254894486915338]
[null,null,null,null,null,null,null,null,5,null,null,null,null,null,-0.19303751892593954]
[null,null,null,null,null,null,null,null,5,null,null,null,null,null,0.11236062520001026]
[null,null,null,null,null,null,null,null,5,null,null,null,null,null,0.1086420884706374]
[null,null,null,null,null,null,null,null,5,null,null,null,null,null,-0.34745251300784663]
[null,null,null,null,null,null,null,null,6,null,null,null,null,null,{"$f":"CORREL($B$7:$G$7,B2:G2)","v":0.53472708889845588}]
[null,null,null,null,null,null,null,null,{"$f":"I87+1","v":6},null,null,null,null,null,{"$f":"CORREL($B$7:$G$7,B3:G3)","v":-0.16412375082385136}]
[null,null,null,null,null,null,null,null,6,null,null,null,null,null,-0.27860790754412273]
[null,null,null,null,null,null,null,null,6,null,null,null,null,null,0.26209333520655692]
[null,null,null,null,null,null,null,null,6,null,null,null,null,null,-0.73685839591931823]
[null,null,null,null,null,null,null,null,6]
[null,null,null,null,null,null,null,null,6,null,null,null,null,null,0.72847501591593411]
[null,null,null,null,null,null,null,null,6,null,null,null,null,null,-0.66050281956041801]
[null,null,null,null,null,null,null,null,6,null,null,null,null,null,0.64049898790448445]
[null,null,null,null,null,null,null,null,6,null,null,null,null,null,0.20651782427489321]
[null,null,null,null,null,null,null,null,6,null,null,null,null,null,0.27937548446035387]
[null,null,null,null,null,null,null,null,6,null,null,null,null,null,-0.85288407441370218]
[null,null,null,null,null,null,null,null,6,null,null,null,null,null,-5.4717800897923843E-2]
[null,null,null,null,null,null,null,null,6,null,null,null,null,null,-0.40048087302520979]
[null,null,null,null,null,null,null,null,6,null,null,null,null,null,-5.6956822884358521E-2]
[null,null,null,null,null,null,null,null,6,null,null,null,null,null,-0.24286970306462166]
[null,null,null,null,null,null,null,null,7,null,null,null,null,null,{"$f":"CORREL($B$8:$G$8,B2:G2)","v":0.2029477561131264}]
[null,null,null,null,null,null,null,null,7,null,null,null,null,null,{"$f":"CORREL($B$8:$G$8,B3:G3)","v":0.4022813727649231}]
[null,null,null,null,null,null,null,null,7,null,null,null,null,null,-0.69774282201687432]
[null,null,null,null,null,null,null,null,7,null,null,null,null,null,-0.44419763341895324]
[null,null,null,null,null,null,null,null,7,null,null,null,null,null,-0.84580024147019661]
[null,null,null,null,null,null,null,null,7,null,null,null,null,null,0.72847501591593411]
[null,null,null,null,null,null,null,null,7]
[null,null,null,null,null,null,null,null,7,null,null,null,null,null,-0.41657793132954846]
[null,null,null,null,null,null,null,null,7,null,null,null,null,null,0.81849366439823912]
[null,null,null,null,null,null,null,null,7,null,null,null,null,null,-0.16844061265002652]
[null,null,null,null,null,null,null,null,7,null,null,null,null,null,-2.2098443055593008E-2]
[null,null,null,null,null,null,null,null,7,null,null,null,null,null,-0.72550952353768094]
[null,null,null,null,null,null,null,null,7,null,null,null,null,null,0.58636093995882999]
[null,null,null,null,null,null,null,null,7,null,null,null,null,null,-0.30899182107810358]
[null,null,null,null,null,null,null,null,7,null,null,null,null,null,-8.1636530738826527E-2]
[null,null,null,null,null,null,null,null,7,null,null,null,null,null,0.1056583399412956]
[null,null,null,null,null,null,null,null,8,null,null,null,null,null,{"$f":"CORREL($B$9:$G$9,B2:G2)","v":-0.34154310898776674}]
[null,null,null,null,null,null,null,null,8,null,null,null,null,null,{"$f":"CORREL($B$9:$G$9,B3:G3)","v":0.34977704861950998}]
[null,null,null,null,null,null,null,null,8,null,null,null,null,null,0.22058708885393752]
[null,null,null,null,null,null,null,null,8,null,null,null,null,null,-0.17451374955495408]
[null,null,null,null,null,null,null,null,8,null,null,null,null,null,0.44044731238791068]
[null,null,null,null,null,null,null,null,8,null,null,null,null,null,-0.66050281956041801]
[null,null,null,null,null,null,null,null,8,null,null,null,null,null,-0.41657793132954846]
[null,null,null,null,null,null,null,null,8]
[null,null,null,null,null,null,null,null,8,null,null,null,null,null,-0.6650276333818681]
[null,null,null,null,null,null,null,null,8,null,null,null,null,null,-0.22722483888709252]
[null,null,null,null,null,null,null,null,8,null,null,null,null,null,0.2497948385038449]
[null,null,null,null,null,null,null,null,8,null,null,null,null,null,0.31301746102170214]
[null,null,null,null,null,null,null,null,8,null,null,null,null,null,-1.9583800070946095E-2]
[null,null,null,null,null,null,null,null,8,null,null,null,null,null,0.86865222890666893]
[null,null,null,null,null,null,null,null,8,null,null,null,null,null,-0.62649560864625076]
[null,null,null,null,null,null,null,null,8,null,null,null,null,null,-7.7016297207930615E-2]
[null,null,null,null,null,null,null,null,9,null,null,null,null,null,{"$f":"CORREL($B$10:$G$10,B2:G2)","v":0.2281119217725118}]
[null,null,null,null,null,null,null,null,9,null,null,null,null,null,{"$f":"CORREL($B$10:$G$10,B3:G3)","v":0.44067945029446687}]
[null,null,null,null,null,null,null,null,9,null,null,null,null,null,-0.81815840884223401]
[null,null,null,null,null,null,null,null,9,null,null,null,null,null,-0.39993336769227311]
[null,null,null,null,null,null,null,null,9,null,null,null,null,null,-0.6776122581253794]
[null,null,null,null,null,null,null,null,9,null,null,null,null,null,0.64049898790448445]
[null,null,null,null,null,null,null,null,9,null,null,null,null,null,0.81849366439823912]
[null,null,null,null,null,null,null,null,9,null,null,null,null,null,-0.6650276333818681]
[null,null,null,null,null,null,null,null,9]
[null,null,null,null,null,null,null,null,9,null,null,null,null,null,0.22240381205460805]
[null,null,null,null,null,null,null,null,9,null,null,null,null,null,-0.46891433153637391]
[null,null,null,null,null,null,null,null,9,null,null,null,null,null,-0.44984545125235331]
[null,null,null,null,null,null,null,null,9,null,null,null,null,null,0.52035704411570016]
[null,null,null,null,null,null,null,null,9,null,null,null,null,null,-0.52901397675244999]
[null,null,null,null,null,null,null,null,9,null,null,null,null,null,0.46978539611358905]
[null,null,null,null,null,null,null,null,9,null,null,null,null,null,0.33992396543717085]
[null,null,null,null,null,null,null,null,10,null,null,null,null,null,{"$f":"CORREL($B$11:$G$11,B2:G2)","v":0.66935507434138675}]
[null,null,null,null,null,null,null,null,{"$f":"I151+1","v":10},null,null,null,null,null,{"$f":"CORREL($B$11:$G$11,B3:G3)","v":3.5482788579321217E-2}]
[null,null,null,null,null,null,null,null,10,null,null,null,null,null,4.9625140314868213E-2]
[null,null,null,null,null,null,null,null,10,null,null,null,null,null,0.49344007549338154]
[null,null,null,null,null,null,null,null,10,null,null,null,null,null,0.32567666578607513]
[null,null,null,null,null,null,null,null,10,null,null,null,null,null,0.20651782427489321]
[null,null,null,null,null,null,null,null,10,null,null,null,null,null,-0.16844061265002652]
[null,null,null,null,null,null,null,null,10,null,null,null,null,null,-0.22722483888709252]
[null,null,null,null,null,null,null,null,10,null,null,null,null,null,0.22240381205460805]
[null,null,null,null,null,null,null,null,10]
[null,null,null,null,null,null,null,null,10,null,null,null,null,null,-9.4086813210560657E-2]
[null,null,null,null,null,null,null,null,10,null,null,null,null,null,-0.16090933841961588]
[null,null,null,null,null,null,null,null,10,null,null,null,null,null,-0.24560234713156015]
[null,null,null,null,null,null,null,null,10,null,null,null,null,null,-0.1992834007166675]
[null,null,null,null,null,null,null,null,10,null,null,null,null,null,0.41535241101715076]
[null,null,null,null,null,null,null,null,10,null,null,null,null,null,-0.30086757278679899]
[null,null,null,null,null,null,null,null,11,null,null,null,null,null,{"$f":"CORREL($B$12:$G$12,B2:G2)","v":0.46615260309707757}]
[null,null,null,null,null,null,null,null,11,null,null,null,null,null,{"$f":"CORREL($B$12:$G$12,B3:G3)","v":-0.47465957133059133}]
[null,null,null,null,null,null,null,null,11,null,null,null,null,null,0.64842078111308865]
[null,null,null,null,null,null,null,null,11,null,null,null,null,null,0.58323267537939782]
[null,null,null,null,null,null,null,null,11,null,null,null,null,null,6.9300903317486118E-2]
[null,null,null,null,null,null,null,null,11,null,null,null,null,null,0.27937548446035387]
[null,null,null,null,null,null,null,null,11,null,null,null,null,null,-2.2098443055593008E-2]
[null,null,null,null,null,null,null,null,11,null,null,null,null,null,0.2497948385038449]
[null,null,null,null,null,null,null,null,11,null,null,null,null,null,-0.46891433153637391]
[null,null,null,null,null,null,null,null,11,null,null,null,null,null,-9.4086813210560657E-2]
[null,null,null,null,null,null,null,null,11]
[null,null,null,null,null,null,null,null,11,null,null,null,null,null,-0.57395657394805832]
[null,null,null,null,null,null,null,null,11,null,null,null,null,null,-0.3365661223414631]
[null,null,null,null,null,null,null,null,11,null,null,null,null,null,0.19839616742586716]
[null,null,null,null,null,null,null,null,11,null,null,null,null,null,-0.80212380266197469]
[null,null,null,null,null,null,null,null,11,null,null,null,null,null,-0.85783881040034704]
[null,null,null,null,null,null,null,null,12,null,null,null,null,null,{"$f":"CORREL($B$13:$G$13,B2:G2)","v":-0.70694705985975681}]
[null,null,null,null,null,null,null,null,12,null,null,null,null,null,{"$f":"CORREL($B$13:$G$13,B3:G3)","v":1.3568588497230565E-2}]
[null,null,null,null,null,null,null,null,12,null,null,null,null,null,0.11446422318703969]
[null,null,null,null,null,null,null,null,12,null,null,null,null,null,-0.21130956387200156]
[null,null,null,null,null,null,null,null,12,null,null,null,null,null,0.52254894486915338]
[null,null,null,null,null,null,null,null,12,null,null,null,null,null,-0.85288407441370218]
[null,null,null,null,null,null,null,null,12,null,null,null,null,null,-0.72550952353768094]
[null,null,null,null,null,null,null,null,12,null,null,null,null,null,0.31301746102170214]
[null,null,null,null,null,null,null,null,12,null,null,null,null,null,-0.44984545125235331]
[null,null,null,null,null,null,null,null,12,null,null,null,null,null,-0.16090933841961588]
[null,null,null,null,null,null,null,null,12,null,null,null,null,null,-0.57395657394805832]
[null,null,null,null,null,null,null,null,12]
[null,null,null,null,null,null,null,null,12,null,null,null,null,null,-0.15777115772858244]
[null,null,null,null,null,null,null,null,12,null,null,null,null,null,0.24942246013324698]
[null,null,null,null,null,null,null,null,12,null,null,null,null,null,0.38708146463713583]
[null,null,null,null,null,null,null,null,12,null,null,null,null,null,0.56734422173151722]
[null,null,null,null,null,null,null,null,13,null,null,null,null,null,{"$f":"CORREL($B$14:$G$14,B2:G2)","v":-5.8011807202355183E-3}]
[null,null,null,null,null,null,null,null,13,null,null,null,null,null,{"$f":"CORREL($B$14:$G$14,B3:G3)","v":0.68760079079050385}]
[null,null,null,null,null,null,null,null,13,null,null,null,null,null,-0.56491232901134691]
[null,null,null,null,null,null,null,null,13,null,null,null,null,null,-0.81124413208100166]
[null,null,null,null,null,null,null,null,13,null,null,null,null,null,-0.19303751892593954]
[null,null,null,null,null,null,null,null,13,null,null,null,null,null,-5.4717800897923843E-2]
[null,null,null,null,null,null,null,null,13,null,null,null,null,null,0.58636093995882999]
[null,null,null,null,null,null,null,null,13,null,null,null,null,null,-1.9583800070946095E-2]
[null,null,null,null,null,null,null,null,13,null,null,null,null,null,0.52035704411570016]
[null,null,null,null,null,null,null,null,13,null,null,null,null,null,-0.24560234713156015]
[null,null,null,null,null,null,null,null,13,null,null,null,null,null,-0.3365661223414631]
[null,null,null,null,null,null,null,null,13,null,null,null,null,null,-0.15777115772858244]
[null,null,null,null,null,null,null,null,13]
[null,null,null,null,null,null,null,null,13,null,null,null,null,null,-0.29198535748087023]
[null,null,null,null,null,null,null,null,13,null,null,null,null,null,0.13727428201256237]
[null,null,null,null,null,null,null,null,13,null,null,null,null,null,0.21541587450561678]
[null,null,null,null,null,null,null,null,14,null,null,null,null,null,{"$f":"CORREL($B$15:$G$15,B2:G2)","v":-0.46467532451496585}]
[null,null,null,null,null,null,null,null,{"$f":"I215+1","v":14},null,null,null,null,null,{"$f":"CORREL($B$15:$G$15,B3:G3)","v":0.3022000159853771}]
[null,null,null,null,null,null,null,null,14,null,null,null,null,null,3.707165040589519E-2]
[null,null,null,null,null,null,null,null,14,null,null,null,null,null,-8.802997731619519E-2]
[null,null,null,null,null,null,null,null,14,null,null,null,null,null,0.11236062520001026]
[null,null,null,null,null,null,null,null,14,null,null,null,null,null,-0.40048087302520979]
[null,null,null,null,null,null,null,null,14,null,null,null,null,null,-0.30899182107810358]
[null,null,null,null,null,null,null,null,14,null,null,null,null,null,0.86865222890666893]
[null,null,null,null,null,null,null,null,14,null,null,null,null,null,-0.52901397675244999]
[null,null,null,null,null,null,null,null,14,null,null,null,null,null,-0.1992834007166675]
[null,null,null,null,null,null,null,null,14,null,null,null,null,null,0.19839616742586716]
[null,null,null,null,null,null,null,null,14,null,null,null,null,null,0.24942246013324698]
[null,null,null,null,null,null,null,null,14,null,null,null,null,null,-0.29198535748087023]
[null,null,null,null,null,null,null,null,14]
[null,null,null,null,null,null,null,null,14,null,null,null,null,null,-0.63916981340684909]
[null,null,null,null,null,null,null,null,14,null,null,null,null,null,0.11718134871118113]
[null,null,null,null,null,null,null,null,15,null,null,null,null,null,{"$f":"CORREL($B$16:$G$16,B2:G2)","v":5.5019074293013509E-3}]
[null,null,null,null,null,null,null,null,15,null,null,null,null,null,{"$f":"CORREL($B$16:$G$16,B3:G3)","v":3.2053405223786892E-2}]
[null,null,null,null,null,null,null,null,15,null,null,null,null,null,-0.29547148992306982]
[null,null,null,null,null,null,null,null,15,null,null,null,null,null,-0.11003265076469067]
[null,null,null,null,null,null,null,null,15,null,null,null,null,null,0.1086420884706374]
[null,null,null,null,null,null,null,null,15,null,null,null,null,null,-5.6956822884358521E-2]
[null,null,null,null,null,null,null,null,15,null,null,null,null,null,-8.1636530738826527E-2]
[null,null,null,null,null,null,null,null,15,null,null,null,null,null,-0.62649560864625076]
[null,null,null,null,null,null,null,null,15,null,null,null,null,null,0.46978539611358905]
[null,null,null,null,null,null,null,null,15,null,null,null,null,null,0.41535241101715076]
[null,null,null,null,null,null,null,null,15,null,null,null,null,null,-0.80212380266197469]
[null,null,null,null,null,null,null,null,15,null,null,null,null,null,0.38708146463713583]
[null,null,null,null,null,null,null,null,15,null,null,null,null,null,0.13727428201256237]
[null,null,null,null,null,null,null,null,15,null,null,null,null,null,-0.63916981340684909]
[null,null,null,null,null,null,null,null,15]
[null,null,null,null,null,null,null,null,15,null,null,null,null,null,0.45744594732484273]
[null,null,null,null,null,null,null,null,16,null,null,null,null,null,{"$f":"CORREL($B$17:$G$17,B2:G2)","v":-0.79640359183058662}]
[null,null,null,null,null,null,null,null,16,null,null,null,null,null,{"$f":"CORREL($B$17:$G$17,B3:G3)","v":0.44459752392011676}]
[null,null,null,null,null,null,null,null,16,null,null,null,null,null,-0.70137794782323304]
[null,null,null,null,null,null,null,null,16,null,null,null,null,null,-0.68110751773735623]
[null,null,null,null,null,null,null,null,16,null,null,null,null,null,-0.34745251300784663]
[null,null,null,null,null,null,null,null,16,null,null,null,null,null,-0.24286970306462166]
[null,null,null,null,null,null,null,null,16,null,null,null,null,null,0.1056583399412956]
[null,null,null,null,null,null,null,null,16,null,null,null,null,null,-7.7016297207930615E-2]
[null,null,null,null,null,null,null,null,16,null,null,null,null,null,0.33992396543717085]
[null,null,null,null,null,null,null,null,16,null,null,null,null,null,-0.30086757278679899]
[null,null,null,null,null,null,null,null,16,null,null,null,null,null,-0.85783881040034704]
[null,null,null,null,null,null,null,null,16,null,null,null,null,null,0.56734422173151722]
[null,null,null,null,null,null,null,null,16,null,null,null,null,null,0.21541587450561678]
[null,null,null,null,null,null,null,null,16,null,null,null,null,null,0.11718134871118113]
[null,null,null,null,null,null,null,null,16,null,null,null,null,null,0.45744594732484273]
[null,null,null,null,null,null,null,null,16]
[null,null,null,null,null,null,null,null,"max",null,null,null,null,null,{"$f":"MAX(O22:O277)","v":0.86865222890666893}]
[null,null,null,null,null,null,null,null,"min",null,null,null,null,null,{"$f":"MIN(O22:O277)","v":-0.85783881040034704}]
[null,null,null,null,null,null,null,null,"avg",null,null,null,null,null,{"$f":"AVERAGE(O22:O277)","v":-4.2262150271731205E-2}]
[null,null,null,null,null,null,null,null,"stddev",null,null,null,null,null,{"$f":"STDEV(O22:O277)","v":0.45704471424740739}]
[null,null,null,null,null,null,null,null,"median",null,null,null,null,null,{"$f":"MEDIAN(O22:O277)","v":-2.0841121563269553E-2}]
[null,null,null,null,null,null,null,null,"kvart_1",null,null,null,null,null,{"$f":"QUARTILE(O22:O277,1)","v":-0.40007024402550728}]
[null,null,null,null,null,null,null,null,"kvart_3",null,null,null,null,null,{"$f":"QUARTILE(O22:O277,3)","v":0.31609310544241087}]

{"sheet":"basics2","index":14,"n_rows":284,"n_cols":42,"rows_kept":284,"cut":false,"hidden":false,"merged":[]}
["raw","A1","A2","A3","A4","A5","A6=Y",null,"rank",{"$f":"B1","v":"A1"},"A2","A3","A4","A5",{"$f":"G1&\"'\"","v":"A6=Y'"},"validity0","direkt","inverz","átlag","double","between1","validity1","invalid_between","valid_extrem","between2","validity2",null,{"$f":"models1!B7","v":"X(A1)"},{"$f":"models1!C7","v":"X(A2)"},{"$f":"models1!D7","v":"X(A3)"},{"$f":"models1!E7","v":"X(A4)"},{"$f":"models1!F7","v":"X(A5)"},{"$f":"AB1","v":"X(A1)"},{"$f":"AC1","v":"X(A2)"},"X(A3)","X(A4)","X(A5)",{"$f":"O1","v":"A6=Y'"},null,"direct_stddev","inverse_stddev","delta"]
["O1",96,69,85,57,75,27,null,{"$f":"A2","v":"O1"},{"$f":"RANK(B2,B$2:B$17,B$19)","v":16},{"$f":"RANK(C2,C$2:C$17,C$19)","v":6},15,8,7,{"$f":"G2*1000","v":27000},{"$f":"IF(models1!J162*models1!Y162<=0,\"valid\",\"invalid\")","v":"invalid"},{"$f":"models1!G162","v":35843.599999999999},{"$f":"models1!V162","v":51747.5},{"$f":"AVERAGE(Q2:R2)","v":43795.55},{"$f":"models1!AO162","v":26877.3},{"$f":"IF(MAX(Q2:R2)<T2,0,IF(MIN(Q2:R2)>T2,0,1))","v":0},{"$f":"IF(P2=\"valid\",1,)","v":0},{"$f":"IF(V2=1,IF(U2=0,1,0),0)","v":0},{"$f":"IF(V2=0,IF(U2=1,1,0),0)","v":0},{"$f":"STDEV(S2:T2)","v":11963.009300809308},{"$f":"STDEV(models1!J162,models1!Y162)","v":41.655660479699513},null,{"$f":"J2","v":16},{"$f":"K2","v":6},15,8,7,{"$f":"RANK(AB2,AB$2:AB$17,0)","v":1},{"$f":"RANK(AC2,AC$2:AC$17,0)","v":11},2,9,10,27000,null,{"$f":"STDEV(AB2:AF2)","v":4.7222875812470395},{"$f":"STDEV(AG2:AK2)","v":4.7222875812470377},{"$f":"ABS(AO2-AN2)","v":1.7763568394002505E-15}]
["O2",42,62,34,18,42,96,null,{"$f":"A3","v":"O2"},{"$f":"RANK(B3,B$2:B$17,B$19)","v":5},8,3,2,11,{"$f":"G3*1000","v":96000},{"$f":"IF(models1!J163*models1!Y163<=0,\"valid\",\"invalid\")","v":"invalid"},{"$f":"models1!G163","v":94923.8},{"$f":"models1!V163","v":64959.6},{"$f":"AVERAGE(Q3:R3)","v":79941.7},{"$f":"models1!AO163","v":95563.6},0,0,{"$f":"IF(V3=1,IF(U3=0,1,0),0)","v":0},{"$f":"IF(V3=0,IF(U3=1,1,0),0)","v":0},{"$f":"STDEV(S3:T3)","v":11046.351425018132},{"$f":"STDEV(models1!J163,models1!Y163)","v":22.06880264083215},null,{"$f":"J3","v":5},8,3,2,11,{"$f":"RANK(AB3,AB$2:AB$17,0)","v":13},9,14,16,6,96000,null,{"$f":"STDEV(AB3:AF3)","v":3.7013511046643499},{"$f":"STDEV(AG3:AK3)","v":4.0373258476372715},{"$f":"ABS(AO3-AN3)","v":0.33597474297292163}]
["O3",61,24,39,53,60,70,null,"O3",11,15,5,7,9,70000,{"$f":"IF(models1!J164*models1!Y164<=0,\"valid\",\"invalid\")","v":"invalid"},{"$f":"models1!G164","v":48450.7},{"$f":"models1!V164","v":54500},51475.35,{"$f":"models1!AO164","v":58731.8},0,0,0,0,5131.0850023411258,{"$f":"STDEV(models1!J164,models1!Y164)","v":6.1094025894517783},null,11,15,5,7,9,7,2,12,11,8,70000,null,3.8470768123342687,3.9370039370059056,8.9927124671636882E-2]
["O4",44,45,68,66,82,98,null,"O4",6,11,11,11,4,98000,{"$f":"IF(models1!J165*models1!Y165<=0,\"valid\",\"invalid\")","v":"invalid"},{"$f":"models1!G165","v":66248.899999999994},{"$f":"models1!V165","v":66060.600000000006},66154.75,{"$f":"models1!AO165","v":67939.8},0,0,0,0,1262.2209597570488,{"$f":"STDEV(models1!J165,models1!Y165)","v":0.13435028842544744},null,6,11,11,11,4,11,6,6,7,13,98000,null,3.3615472627943217,3.2093613071762421,0.15218595561807957]
["O5",23,83,82,69,78,60,null,"O5",2,2,14,13,6,60000,{"$f":"IF(models1!J166*models1!Y166<=0,\"valid\",\"invalid\")","v":"invalid"},{"$f":"models1!G166","v":59327.4},{"$f":"models1!V166","v":33030.300000000003},46178.850000000006,{"$f":"models1!AO166","v":59727.3},0,0,0,0,9580.2008695668846,{"$f":"STDEV(models1!J166,models1!Y166)","v":30.992490219406385},null,2,2,14,13,6,15,15,3,5,11,60000,null,5.8137767414994528,5.5856960175075772,0.22808072399187562]
["O6",73,66,12,62,95,63,null,"O6",14,7,1,10,1,63000,{"$f":"IF(models1!J167*models1!Y167<=0,\"valid\",\"invalid\")","v":"valid"},{"$f":"models1!G167","v":75395.199999999997},{"$f":"models1!V167","v":46792.9},61094.05,{"$f":"models1!AO167","v":62713.599999999999},1,1,0,0,1145.19478747067,{"$f":"STDEV(models1!J167,models1!Y167)","v":32.102647865869258},null,14,7,1,10,1,3,10,16,8,16,63000,null,5.6833088953531288,5.5497747702046443,0.13353412514848451]
["O7",44,98,54,32,18,65,null,"O7",6,1,8,4,15,65000,{"$f":"IF(models1!J168*models1!Y168<=0,\"valid\",\"invalid\")","v":"invalid"},{"$f":"models1!G168","v":64271.3},{"$f":"models1!V168","v":41287.9},52779.600000000006,{"$f":"models1!AO168","v":64704.5},0,0,0,0,8432.1776549714668,{"$f":"STDEV(models1!J168,models1!Y168)","v":25.003295782756322},null,6,1,8,4,15,11,16,8,14,2,65000,null,5.2630789467763073,5.4954526656136338,0.23237371883732649]
["O8",19,58,44,68,64,22,null,"O8",1,9,6,12,8,22000,{"$f":"IF(models1!J169*models1!Y169<=0,\"valid\",\"invalid\")","v":"invalid"},{"$f":"models1!G169","v":57597},{"$f":"models1!V169","v":29176.799999999999},43386.9,{"$f":"models1!AO169","v":27872.7},0,0,0,0,10970.196024684321,{"$f":"STDEV(models1!J169,models1!Y169)","v":91.34405399367823},null,1,9,6,12,8,16,8,10,6,9,22000,null,4.0865633483405102,3.7682887362833548,0.31827461205715535]
["O9",24,21,44,74,31,12,null,"O9",3,16,6,14,14,12000,{"$f":"IF(models1!J170*models1!Y170<=0,\"valid\",\"invalid\")","v":"invalid"},{"$f":"models1!G170","v":30158.1},{"$f":"models1!V170","v":55601},42879.55,{"$f":"models1!AO170","v":43053.4},1,0,0,1,122.93051390928025,{"$f":"STDEV(models1!J170,models1!Y170)","v":149.92077974717182},null,3,16,6,14,14,14,1,10,4,3,12000,null,5.7271284253105419,5.4129474410897434,0.31418098422079854]
["O10",59,73,38,41,93,36,null,"O10",10,4,4,6,2,36000,{"$f":"IF(models1!J171*models1!Y171<=0,\"valid\",\"invalid\")","v":"valid"},{"$f":"models1!G171","v":62046.5},{"$f":"models1!V171","v":31929.3},46987.9,{"$f":"models1!AO171","v":35836.400000000001},{"$f":"IF(MAX(Q11:R11)<T11,0,IF(MIN(Q11:R11)>T11,0,1))","v":1},1,0,0,7885.3012704017847,{"$f":"STDEV(models1!J171,models1!Y171)","v":59.156553314066564},null,10,4,4,6,2,8,13,13,12,15,36000,null,3.0331501776206209,2.5884358211089546,0.44471435651166624]
["O11",57,70,60,23,44,83,null,"O11",9,5,9,3,10,83000,{"$f":"IF(models1!J172*models1!Y172<=0,\"valid\",\"invalid\")","v":"valid"},{"$f":"models1!G172","v":83552.7},{"$f":"models1!V172","v":57803},70677.850000000006,{"$f":"models1!AO172","v":82622.7},1,1,0,0,8446.284435256126,{"$f":"STDEV(models1!J172,models1!Y172)","v":21.941523420218569},null,9,5,9,3,10,9,12,7,15,7,83000,null,3.0331501776206209,3.4641016151377544,0.4309514375171335]
["O12",94,31,89,95,87,40,null,"O12",15,14,16,16,3,40000,{"$f":"IF(models1!J173*models1!Y173<=0,\"valid\",\"invalid\")","v":"valid"},{"$f":"models1!G173","v":33124.400000000001},{"$f":"models1!V173","v":70464.600000000006},51794.5,{"$f":"models1!AO173","v":52012.5},1,1,0,0,154.14927829866735,{"$f":"STDEV(models1!J173,models1!Y173)","v":66.008418023764207},null,15,14,16,16,3,2,3,1,1,14,40000,null,5.5407580708780264,5.5407580708780273,8.8817841970012523E-16]
["O13",45,43,33,91,79,77,null,"O13",8,12,2,15,5,77000,{"$f":"IF(models1!J174*models1!Y174<=0,\"valid\",\"invalid\")","v":"invalid"},{"$f":"models1!G174","v":73664.800000000003},{"$f":"models1!V174","v":64409.1},69036.95,{"$f":"models1!AO174","v":76650},0,0,0,0,5383.2392805122472,{"$f":"STDEV(models1!J174,models1!Y174)","v":8.4994235098623037},null,8,12,2,15,5,10,5,15,3,12,77000,null,5.2249401910452526,4.9497474683058327,0.27519272273941997]
["O14",70,76,69,35,16,10,null,"O14",13,3,12,5,16,10000,{"$f":"IF(models1!J175*models1!Y175<=0,\"valid\",\"invalid\")","v":"valid"},{"$f":"models1!G175","v":9887.9},{"$f":"models1!V175","v":52848.5},31368.2,{"$f":"models1!AO175","v":12940.9},{"$f":"IF(MAX(Q15:R15)<T15,0,IF(MIN(Q15:R15)>T15,0,1))","v":1},1,0,0,13030.068788958866,{"$f":"STDEV(models1!J175,models1!Y175)","v":303.78014426555268},null,13,3,12,5,16,4,14,5,13,1,10000,null,5.5407580708780273,5.770615218501403,0.22985714762337572]
["O15",67,33,77,57,33,27,null,"O15",12,13,13,8,13,27000,{"$f":"IF(models1!J176*models1!Y176<=0,\"valid\",\"invalid\")","v":"valid"},{"$f":"models1!G176","v":24225.3},{"$f":"models1!V176","v":76520.2},50372.75,{"$f":"models1!AO176","v":41809.1},{"$f":"IF(MAX(Q16:R16)<T16,0,IF(MIN(Q16:R16)>T16,0,1))","v":1},1,0,0,6055.4149867081787,{"$f":"STDEV(models1!J176,models1!Y176)","v":136.95951244802239},null,12,13,13,8,13,6,4,4,9,4,27000,null,2.1679483388678773,2.1908902300206639,2.2941891152786553E-2]
["O16",26,56,61,14,36,86,null,"O16",{"$f":"RANK(B17,B$2:B$17,0)","v":13},10,7,16,12,86000,{"$f":"IF(models1!J177*models1!Y177<=0,\"valid\",\"invalid\")","v":"invalid"},{"$f":"models1!G177","v":53394.6},{"$f":"models1!V177","v":74868.7},64131.649999999994,{"$f":"models1!AO177","v":62962.5},{"$f":"IF(MAX(Q17:R17)<T17,0,IF(MIN(Q17:R17)>T17,0,1))","v":1},0,0,1,826.71389322424795,{"$f":"STDEV(models1!J177,models1!Y177)","v":17.656456326228092},null,13,10,7,16,12,4,7,9,1,5,86000,null,3.3615472627943239,3.0331501776206209,0.32839708517370303]
["correlation",{"$f":"CORREL(B2:B16,$G$2:$G$16)","v":-0.15657532455026926},{"$f":"CORREL(C2:C16,$G$2:$G$16)","v":9.8617161049309982E-2},-0.26970540264695608,-0.21504554316755167,0.22445166538381039,1,null,"O16(2)",{"$f":"MAX(J2:J16)","v":16},{"$f":"INT(QUARTILE(K2:K16,3))","v":12},{"$f":"MEDIAN(L2:L16)","v":8},{"$f":"INT(QUARTILE(M2:M16,1))","v":5},{"$f":"MIN(N2:N16)","v":1},{"$f":"O17","v":86000},"ratio","correlation","correlation",null,"correlation",null,null,null,null,null,null,null,"direct","direct","direct","direct","direct","inverse","inverse","inverse","inverse","inverse","double","max",{"$f":"MAX(AN2:AN17)","v":5.8137767414994528},{"$f":"MAX(AO2:AO17)","v":5.770615218501403},{"$f":"MAX(AP2:AP17)","v":0.44471435651166624}]
["direction",{"$f":"IF(B18>0,0,1)","v":1},{"$f":"IF(C18>0,0,1)","v":0},1,1,0,"Y",null,null,null,null,null,null,null,null,{"$f":"COUNTIF($P$2:$P$17,\"valid\")/16","v":0.375},{"$f":"CORREL(Q2:Q17,$O$2:$O$17)","v":0.78447979419309888},{"$f":"CORREL(R2:R17,$O$2:$O$17)","v":0.31101992398854805},null,{"$f":"CORREL(T2:T17,$O$2:$O$17)","v":0.89643151643058461},{"$f":"SUM(U2:U17)","v":8},null,{"$f":"SUM(W2:W17)","v":0},{"$f":"SUM(X2:X17)","v":2},{"$f":"SUM(Y2:Y17)","v":101434.53847188834},null,null,null,null,null,null,null,null,null,null,null,null,null,"min",{"$f":"MIN(AN2:AN17)","v":2.1679483388678773},{"$f":"MIN(AO2:AO17)","v":2.1908902300206639},{"$f":"MIN(AP2:AP17)","v":8.8817841970012523E-16}]
[null,null,null,null,null,null,null,null,null,null,null,null,null,null,null,null,null,null,null,null,null,null,null,null,null,null,null,null,null,null,null,null,null,null,null,null,null,null,"avg",{"$f":"AVERAGE(AN2:AN17)","v":4.3817732130015408},{"$f":"AVERAGE(AO2:AO17)","v":4.3284898065836668},{"$f":"AVERAGE(AP2:AP17)","v":0.22103666426477289}]
["antagonism!",null,null,null,null,null,null,null,"O*",null,null,null,null,null,"correlation",null,null,null,null,null,null,null,null,null,null,null,null,null,null,null,null,null,null,null,null,null,null,null,"stddev",{"$f":"STDEV(AN2:AN17)","v":1.1916659531136666},{"$f":"STDEV(AO2:AO17)","v":1.1979653837185962},{"$f":"STDEV(AP2:AP17)","v":0.14299082320262371}]
[null,null,null,null,null,null,null,null,1,null,null,null,null,null,null,null,null,null,null,null,null,null,null,null,null,null,null,null,null,null,null,null,null,null,null,null,null,null,"median",{"$f":"MEDIAN(AN2:AN17)","v":4.4044254647937748},{"$f":"MEDIAN(AO2:AO17)","v":4.3798067144421546},0.23111543323035111]
["Consistency-tasks ",null,null,null,null,null,null,null,1,null,null,null,null,null,{"$f":"CORREL($B$2:$G$2,B3:G3)","v":-0.63341678893501696}]
["Y=between1",null,null,null,null,null,null,null,1,null,null,null,null,null,-0.33830468349294945]
["Y=between2",null,null,null,null,null,null,null,1,null,null,null,null,null,-0.7111030072418133]
["Y=validity1",null,null,null,null,null,null,null,1,null,null,null,null,null,-0.22478772009878409]
["Y=validity2",null,null,null,null,null,null,null,1,null,null,null,null,null,-0.10535390831605991]
["Y=validity-ratio",null,null,null,null,null,null,null,1,null,null,null,null,null,-0.2054974827614677]
["Xi=model-characteristics",null,null,null,null,null,null,null,1,null,null,null,null,null,3.5063977508512659E-2]
[null,null,null,null,null,null,null,null,1,null,null,null,null,null,0.11839568306886267]
[null,null,null,null,null,null,null,null,1,null,null,null,null,null,0.37556821539510826]
[null,null,null,null,null,null,null,null,1,null,null,null,null,null,-0.2847486616589977]
[null,null,null,null,null,null,null,null,1,null,null,null,null,null,0.57641946986999748]
[null,null,null,null,null,null,null,null,1,null,null,null,null,null,-0.62498654080620175]
[null,null,null,null,null,null,null,null,1,null,null,null,null,null,0.69752332961646801]
[null,null,null,null,null,null,null,null,1,null,null,null,null,null,0.66159893332097663]
[null,null,null,null,null,null,null,null,1,null,null,null,null,null,-0.52071669256023068]
[null,null,null,null,null,null,null,null,{"$f":"I22+1","v":2},null,null,null,null,null,{"$f":"CORREL($B$3:$G$3,B2:G2)","v":-0.63341678893501696}]
[null,null,null,null,null,null,null,null,{"$f":"I23+1","v":2}]
[null,null,null,null,null,null,null,null,2,null,null,null,null,null,{"$f":"CORREL($B$3:$G$3,B4:G4)","v":0.23119889481578856}]
[null,null,null,null,null,null,null,null,2,null,null,null,null,null,0.43784297000505257]
[null,null,null,null,null,null,null,null,2,null,null,null,null,null,-5.7552726811867266E-2]
[null,null,null,null,null,null,null,null,2,null,null,null,null,null,0.14644282882041629]
[null,null,null,null,null,null,null,null,2,null,null,null,null,null,0.55320549048388701]
[null,null,null,null,null,null,null,null,2,null,null,null,null,null,-0.54251213777756357]
[null,null,null,null,null,null,null,null,2,null,null,null,null,null,-0.8333797024952565]
[null,null,null,null,null,null,null,null,2,null,null,null,null,null,-8.5338961368442878E-2]
[null,null,null,null,null,null,null,null,2,null,null,null,null,null,0.88267650591382274]
[null,null,null,null,null,null,null,null,2,null,null,null,null,null,-0.82938279596190578]
[null,null,null,null,null,null,null,null,2,null,null,null,null,null,-1.8594229723679578E-3]
[null,null,null,null,null,null,null,null,2,null,null,null,null,null,-0.31772070876210395]
[null,null,null,null,null,null,null,null,2,null,null,null,null,null,-0.68283576285317671]
[null,null,null,null,null,null,null,null,2,null,null,null,null,null,0.84066683638932693]
[null,null,null,null,null,null,null,null,3,null,null,null,null,null,{"$f":"CORREL($B$4:$G$4,B2:G2)","v":-0.33830468349294945}]
[null,null,null,null,null,null,null,null,3,null,null,null,null,null,{"$f":"CORREL($B$4:$G$4,B3:G3)","v":0.23119889481578856}]
[null,null,null,null,null,null,null,null,3]
[null,null,null,null,null,null,null,null,3,null,null,null,null,null,0.60768373432005562]
[null,null,null,null,null,null,null,null,3,null,null,null,null,null,-0.56460516559284091]
[null,null,null,null,null,null,null,null,3,null,null,null,null,null,0.39928761987529005]
[null,null,null,null,null,null,null,null,3,null,null,null,null,null,-0.61351966055258056]
[null,null,null,null,null,null,null,null,3,null,null,null,null,null,-0.45774710553428272]
[null,null,null,null,null,null,null,null,3,null,null,null,null,null,-0.12539584955949531]
[null,null,null,null,null,null,null,null,3,null,null,null,null,null,-0.15094965846151812]
[null,null,null,null,null,null,null,null,3,null,null,null,null,null,-4.3928973869017354E-2]
[null,null,null,null,null,null,null,null,3,null,null,null,null,null,0.28385163507345706]
[null,null,null,null,null,null,null,null,3,null,null,null,null,null,0.59130967898392961]
[null,null,null,null,null,null,null,null,3,null,null,null,null,null,-0.73576699074367746]
[null,null,null,null,null,null,null,null,3,null,null,null,null,null,-0.15394600874438261]
[null,null,null,null,null,null,null,null,3,null,null,null,null,null,-2.0120658131156145E-2]
[null,null,null,null,null,null,null,null,4,null,null,null,null,null,{"$f":"CORREL($B$5:$G$5,B2:G2)","v":-0.7111030072418133}]
[null,null,null,null,null,null,null,null,4,null,null,null,null,null,{"$f":"CORREL($B$5:$G$5,B3:G3)","v":0.43784297000505257}]
[null,null,null,null,null,null,null,null,4,null,null,null,null,null,0.60768373432005562]
[null,null,null,null,null,null,null,null,4]
[null,null,null,null,null,null,null,null,4,null,null,null,null,null,0.26095460829974465]
[null,null,null,null,null,null,null,null,4,null,null,null,null,null,4.7196092173886879E-2]
[null,null,null,null,null,null,null,null,4,null,null,null,null,null,-0.31122490022178018]
[null,null,null,null,null,null,null,null,4,null,null,null,null,null,-6.3136079020244651E-2]
[null,null,null,null,null,null,null,null,4,null,null,null,null,null,-0.10369039222067999]
[null,null,null,null,null,null,null,null,4,null,null,null,null,null,-0.21335171760488925]
[null,null,null,null,null,null,null,null,4,null,null,null,null,null,0.16584432333805532]
[null,null,null,null,null,null,null,null,4,null,null,null,null,null,-0.12378816352007933]
[null,null,null,null,null,null,null,null,4,null,null,null,null,null,0.58830425214262672]
[null,null,null,null,null,null,null,null,4,null,null,null,null,null,-0.88970933682075015]
[null,null,null,null,null,null,null,null,4,null,null,null,null,null,-0.44132021124635085]
[null,null,null,null,null,null,null,null,4,null,null,null,null,null,0.49972433729651289]
[null,null,null,null,null,null,null,null,5,null,null,null,null,null,{"$f":"CORREL($B$6:$G$6,B2:G2)","v":-0.22478772009878409}]
[null,null,null,null,null,null,null,null,5,null,null,null,null,null,{"$f":"CORREL($B$6:$G$6,B3:G3)","v":-5.7552726811867266E-2}]
[null,null,null,null,null,null,null,null,5,null,null,null,null,null,-0.56460516559284091]
[null,null,null,null,null,null,null,null,5,null,null,null,null,null,0.26095460829974465]
[null,null,null,null,null,null,null,null,5]
[null,null,null,null,null,null,null,null,5,null,null,null,null,null,-0.26274123411695344]
[null,null,null,null,null,null,null,null,5,null,null,null,null,null,0.19255791119356408]
[null,null,null,null,null,null,null,null,5,null,null,null,null,null,0.72785056350341581]
[null,null,null,null,null,null,null,null,5,null,null,null,null,null,0.2321506205392255]
[null,null,null,null,null,null,null,null,5,null,null,null,null,null,0.15075475407678851]
[null,null,null,null,null,null,null,null,5,null,null,null,null,null,-6.1531233440439141E-2]
[null,null,null,null,null,null,null,null,5,null,null,null,null,null,-0.28118190293701639]
[null,null,null,null,null,null,null,null,5,null,null,null,null,null,5.3260416960446144E-2]
[null,null,null,null,null,null,null,null,5,null,null,null,null,null,-9.9068918316173843E-2]
[null,null,null,null,null,null,null,null,5,null,null,null,null,null,-0.26792388228913139]
[null,null,null,null,null,null,null,null,5,null,null,null,null,null,0.27295481506692304]
[null,null,null,null,null,null,null,null,6,null,null,null,null,null,{"$f":"CORREL($B$7:$G$7,B2:G2)","v":-0.10535390831605991}]
[null,null,null,null,null,null,null,null,{"$f":"I87+1","v":6},null,null,null,null,null,{"$f":"CORREL($B$7:$G$7,B3:G3)","v":0.14644282882041629}]
[null,null,null,null,null,null,null,null,6,null,null,null,null,null,0.39928761987529005]
[null,null,null,null,null,null,null,null,6,null,null,null,null,null,4.7196092173886879E-2]
[null,null,null,null,null,null,null,null,6,null,null,null,null,null,-0.26274123411695344]
[null,null,null,null,null,null,null,null,6]
[null,null,null,null,null,null,null,null,6,null,null,null,null,null,-0.29165312279588251]
[null,null,null,null,null,null,null,null,6,null,null,null,null,null,0.14497925796211347]
[null,null,null,null,null,null,null,null,6,null,null,null,null,null,-0.25841733036220471]
[null,null,null,null,null,null,null,null,6,null,null,null,null,null,0.70579957091287016]
[null,null,null,null,null,null,null,null,6,null,null,null,null,null,-0.17626923883373025]
[null,null,null,null,null,null,null,null,6,null,null,null,null,null,-7.7663066546379847E-2]
[null,null,null,null,null,null,null,null,6,null,null,null,null,null,0.5413824608625456]
[null,null,null,null,null,null,null,null,6,null,null,null,null,null,-0.44650429257652852]
[null,null,null,null,null,null,null,null,6,null,null,null,null,null,-0.63887547908942333]
[null,null,null,null,null,null,null,null,6,null,null,null,null,null,-0.34021987573225265]
[null,null,null,null,null,null,null,null,7,null,null,null,null,null,{"$f":"CORREL($B$8:$G$8,B2:G2)","v":-0.2054974827614677}]
[null,null,null,null,null,null,null,null,7,null,null,null,null,null,{"$f":"CORREL($B$8:$G$8,B3:G3)","v":0.55320549048388701}]
[null,null,null,null,null,null,null,null,7,null,null,null,null,null,-0.61351966055258056]
[null,null,null,null,null,null,null,null,7,null,null,null,null,null,-0.31122490022178018]
[null,null,null,null,null,null,null,null,7,null,null,null,null,null,0.19255791119356408]
[null,null,null,null,null,null,null,null,7,null,null,null,null,null,-0.29165312279588251]
[null,null,null,null,null,null,null,null,7]
[null,null,null,null,null,null,null,null,7,null,null,null,null,null,-0.20188963391956957]
[null,null,null,null,null,null,null,null,7,null,null,null,null,null,-0.47768512464982038]
[null,null,null,null,null,null,null,null,7,null,null,null,null,null,-0.15498032744224408]
[null,null,null,null,null,null,null,null,7,null,null,null,null,null,0.70761616514135195]
[null,null,null,null,null,null,null,null,7,null,null,null,null,null,-0.83949703713261792]
[null,null,null,null,null,null,null,null,7,null,null,null,null,null,-0.52782862919884865]
[null,null,null,null,null,null,null,null,7,null,null,null,null,null,0.48805073462945353]
[null,null,null,null,null,null,null,null,7,null,null,null,null,null,-0.24939250942450786]
[null,null,null,null,null,null,null,null,7,null,null,null,null,null,0.58581937733192424]
[null,null,null,null,null,null,null,null,8,null,null,null,null,null,{"$f":"CORREL($B$9:$G$9,B2:G2)","v":3.5063977508512659E-2}]
[null,null,null,null,null,null,null,null,8,null,null,null,null,null,{"$f":"CORREL($B$9:$G$9,B3:G3)","v":-0.54251213777756357}]
[null,null,null,null,null,null,null,null,8,null,null,null,null,null,-0.45774710553428272]
[null,null,null,null,null,null,null,null,8,null,null,null,null,null,-6.3136079020244651E-2]
[null,null,null,null,null,null,null,null,8,null,null,null,null,null,0.72785056350341581]
[null,null,null,null,null,null,null,null,8,null,null,null,null,null,0.14497925796211347]
[null,null,null,null,null,null,null,null,8,null,null,null,null,null,-0.20188963391956957]
[null,null,null,null,null,null,null,null,8]
[null,null,null,null,null,null,null,null,8,null,null,null,null,null,0.61397266420895646]
[null,null,null,null,null,null,null,null,8,null,null,null,null,null,0.40139299578083892]
[null,null,null,null,null,null,null,null,8,null,null,null,null,null,-0.65699581873415169]
[null,null,null,null,null,null,null,null,8,null,null,null,null,null,0.13733395960620667]
[null,null,null,null,null,null,null,null,8,null,null,null,null,null,0.34406009572919788]
[null,null,null,null,null,null,null,null,8,null,null,null,null,null,-8.0616490070148455E-2]
[null,null,null,null,null,null,null,null,8,null,null,null,null,null,-0.14363596854029936]
[null,null,null,null,null,null,null,null,8,null,null,null,null,null,-0.43466369684466893]
[null,null,null,null,null,null,null,null,9,null,null,null,null,null,{"$f":"CORREL($B$10:$G$10,B2:G2)","v":0.11839568306886267}]
[null,null,null,null,null,null,null,null,9,null,null,null,null,null,{"$f":"CORREL($B$10:$G$10,B3:G3)","v":-0.8333797024952565}]
[null,null,null,null,null,null,null,null,9,null,null,null,null,null,-0.12539584955949531]
[null,null,null,null,null,null,null,null,9,null,null,null,null,null,-0.10369039222067999]
[null,null,null,null,null,null,null,null,9,null,null,null,null,null,0.2321506205392255]
[null,null,null,null,null,null,null,null,9,null,null,null,null,null,-0.25841733036220471]
[null,null,null,null,null,null,null,null,9,null,null,null,null,null,-0.47768512464982038]
[null,null,null,null,null,null,null,null,9,null,null,null,null,null,0.61397266420895646]
[null,null,null,null,null,null,null,null,9]
[null,null,null,null,null,null,null,null,9,null,null,null,null,null,-0.27731833237291648]
[null,null,null,null,null,null,null,null,9,null,null,null,null,null,-0.87754447803612901]
[null,null,null,null,null,null,null,null,9,null,null,null,null,null,0.63868478703569542]
[null,null,null,null,null,null,null,null,9,null,null,null,null,null,0.34297918282757484]
[null,null,null,null,null,null,null,null,9,null,null,null,null,null,1.287720745893812E-2]
[null,null,null,null,null,null,null,null,9,null,null,null,null,null,0.50216117708260466]
[null,null,null,null,null,null,null,null,9,null,null,null,null,null,-0.65602944567171073]
[null,null,null,null,null,null,null,null,10,null,null,null,null,null,{"$f":"CORREL($B$11:$G$11,B2:G2)","v":0.37556821539510826}]
[null,null,null,null,null,null,null,null,{"$f":"I151+1","v":10},null,null,null,null,null,{"$f":"CORREL($B$11:$G$11,B3:G3)","v":-8.5338961368442878E-2}]
[null,null,null,null,null,null,null,null,10,null,null,null,null,null,-0.15094965846151812]
[null,null,null,null,null,null,null,null,10,null,null,null,null,null,-0.21335171760488925]
[null,null,null,null,null,null,null,null,10,null,null,null,null,null,0.15075475407678851]
[null,null,null,null,null,null,null,null,10,null,null,null,null,null,0.70579957091287016]
[null,null,null,null,null,null,null,null,10,null,null,null,null,null,-0.15498032744224408]
[null,null,null,null,null,null,null,null,10,null,null,null,null,null,0.40139299578083892]
[null,null,null,null,null,null,null,null,10,null,null,null,null,null,-0.27731833237291648]
[null,null,null,null,null,null,null,null,10]
[null,null,null,null,null,null,null,null,10,null,null,null,null,null,-0.1345065467427311]
[null,null,null,null,null,null,null,null,10,null,null,null,null,null,-2.6971038171411787E-2]
[null,null,null,null,null,null,null,null,10,null,null,null,null,null,1.6385973623449776E-2]
[null,null,null,null,null,null,null,null,10,null,null,null,null,null,-1.6960360159283618E-2]
[null,null,null,null,null,null,null,null,10,null,null,null,null,null,-0.41759889563835823]
[null,null,null,null,null,null,null,null,10,null,null,null,null,null,-0.28385075476463012]
[null,null,null,null,null,null,null,null,11,null,null,null,null,null,{"$f":"CORREL($B$12:$G$12,B2:G2)","v":-0.2847486616589977}]
[null,null,null,null,null,null,null,null,11,null,null,null,null,null,{"$f":"CORREL($B$12:$G$12,B3:G3)","v":0.88267650591382274}]
[null,null,null,null,null,null,null,null,11,null,null,null,null,null,-4.3928973869017354E-2]
[null,null,null,null,null,null,null,null,11,null,null,null,null,null,0.16584432333805532]
[null,null,null,null,null,null,null,null,11,null,null,null,null,null,-6.1531233440439141E-2]
[null,null,null,null,null,null,null,null,11,null,null,null,null,null,-0.17626923883373025]
[null,null,null,null,null,null,null,null,11,null,null,null,null,null,0.70761616514135195]
[null,null,null,null,null,null,null,null,11,null,null,null,null,null,-0.65699581873415169]
[null,null,null,null,null,null,null,null,11,null,null,null,null,null,-0.87754447803612901]
[null,null,null,null,null,null,null,null,11,null,null,null,null,null,-0.1345065467427311]
[null,null,null,null,null,null,null,null,11]
[null,null,null,null,null,null,null,null,11,null,null,null,null,null,-0.75429945889759886]
[null,null,null,null,null,null,null,null,11,null,null,null,null,null,-0.46419916854901183]
[null,null,null,null,null,null,null,null,11,null,null,null,null,null,9.361092250372334E-2]
[null,null,null,null,null,null,null,null,11,null,null,null,null,null,-0.35000235214167025]
[null,null,null,null,null,null,null,null,11,null,null,null,null,null,0.88945300377256531]
[null,null,null,null,null,null,null,null,12,null,null,null,null,null,{"$f":"CORREL($B$13:$G$13,B2:G2)","v":0.57641946986999748}]
[null,null,null,null,null,null,null,null,12,null,null,null,null,null,{"$f":"CORREL($B$13:$G$13,B3:G3)","v":-0.82938279596190578}]
[null,null,null,null,null,null,null,null,12,null,null,null,null,null,0.28385163507345706]
[null,null,null,null,null,null,null,null,12,null,null,null,null,null,-0.12378816352007933]
[null,null,null,null,null,null,null,null,12,null,null,null,null,null,-0.28118190293701639]
[null,null,null,null,null,null,null,null,12,null,null,null,null,null,-7.7663066546379847E-2]
[null,null,null,null,null,null,null,null,12,null,null,null,null,null,-0.83949703713261792]
[null,null,null,null,null,null,null,null,12,null,null,null,null,null,0.13733395960620667]
[null,null,null,null,null,null,null,null,12,null,null,null,null,null,0.63868478703569542]
[null,null,null,null,null,null,null,null,12,null,null,null,null,null,-2.6971038171411787E-2]
[null,null,null,null,null,null,null,null,12,null,null,null,null,null,-0.75429945889759886]
[null,null,null,null,null,null,null,null,12]
[null,null,null,null,null,null,null,null,12,null,null,null,null,null,0.10285198483479932]
[null,null,null,null,null,null,null,null,12,null,null,null,null,null,3.2277563746057364E-2]
[null,null,null,null,null,null,null,null,12,null,null,null,null,null,0.7186100629104808]
[null,null,null,null,null,null,null,null,12,null,null,null,null,null,-0.72359038917058294]
[null,null,null,null,null,null,null,null,13,null,null,null,null,null,{"$f":"CORREL($B$14:$G$14,B2:G2)","v":-0.62498654080620175}]
[null,null,null,null,null,null,null,null,13,null,null,null,null,null,{"$f":"CORREL($B$14:$G$14,B3:G3)","v":-1.8594229723679578E-3}]
[null,null,null,null,null,null,null,null,13,null,null,null,null,null,0.59130967898392961]
[null,null,null,null,null,null,null,null,13,null,null,null,null,null,0.58830425214262672]
[null,null,null,null,null,null,null,null,13,null,null,null,null,null,5.3260416960446144E-2]
[null,null,null,null,null,null,null,null,13,null,null,null,null,null,0.5413824608625456]
[null,null,null,null,null,null,null,null,13,null,null,null,null,null,-0.52782862919884865]
[null,null,null,null,null,null,null,null,13,null,null,null,null,null,0.34406009572919788]
[null,null,null,null,null,null,null,null,13,null,null,null,null,null,0.34297918282757484]
[null,null,null,null,null,null,null,null,13,null,null,null,null,null,1.6385973623449776E-2]
[null,null,null,null,null,null,null,null,13,null,null,null,null,null,-0.46419916854901183]
[null,null,null,null,null,null,null,null,13,null,null,null,null,null,0.10285198483479932]
[null,null,null,null,null,null,null,null,13]
[null,null,null,null,null,null,null,null,13,null,null,null,null,null,-0.85977928737874432]
[null,null,null,null,null,null,null,null,13,null,null,null,null,null,-0.47687897486448899]
[null,null,null,null,null,null,null,null,13,null,null,null,null,null,-0.24945086154497323]
[null,null,null,null,null,null,null,null,14,null,null,null,null,null,{"$f":"CORREL($B$15:$G$15,B2:G2)","v":0.69752332961646801}]
[null,null,null,null,null,null,null,null,{"$f":"I215+1","v":14},null,null,null,null,null,{"$f":"CORREL($B$15:$G$15,B3:G3)","v":-0.31772070876210395}]
[null,null,null,null,null,null,null,null,14,null,null,null,null,null,-0.73576699074367746]
[null,null,null,null,null,null,null,null,14,null,null,null,null,null,-0.88970933682075015]
[null,null,null,null,null,null,null,null,14,null,null,null,null,null,-9.9068918316173843E-2]
[null,null,null,null,null,null,null,null,14,null,null,null,null,null,-0.44650429257652852]
[null,null,null,null,null,null,null,null,14,null,null,null,null,null,0.48805073462945353]
[null,null,null,null,null,null,null,null,14,null,null,null,null,null,-8.0616490070148455E-2]
[null,null,null,null,null,null,null,null,14,null,null,null,null,null,1.287720745893812E-2]
[null,null,null,null,null,null,null,null,14,null,null,null,null,null,-1.6960360159283618E-2]
[null,null,null,null,null,null,null,null,14,null,null,null,null,null,9.361092250372334E-2]
[null,null,null,null,null,null,null,null,14,null,null,null,null,null,3.2277563746057364E-2]
[null,null,null,null,null,null,null,null,14,null,null,null,null,null,-0.85977928737874432]
[null,null,null,null,null,null,null,null,14]
[null,null,null,null,null,null,null,null,14,null,null,null,null,null,0.58149767429328703]
[null,null,null,null,null,null,null,null,14,null,null,null,null,null,-0.16139628276945558]
[null,null,null,null,null,null,null,null,15,null,null,null,null,null,{"$f":"CORREL($B$16:$G$16,B2:G2)","v":0.66159893332097663}]
[null,null,null,null,null,null,null,null,15,null,null,null,null,null,{"$f":"CORREL($B$16:$G$16,B3:G3)","v":-0.68283576285317671}]
[null,null,null,null,null,null,null,null,15,null,null,null,null,null,-0.15394600874438261]
[null,null,null,null,null,null,null,null,15,null,null,null,null,null,-0.44132021124635085]
[null,null,null,null,null,null,null,null,15,null,null,null,null,null,-0.26792388228913139]
[null,null,null,null,null,null,null,null,15,null,null,null,null,null,-0.63887547908942333]
[null,null,null,null,null,null,null,null,15,null,null,null,null,null,-0.24939250942450786]
[null,null,null,null,null,null,null,null,15,null,null,null,null,null,-0.14363596854029936]
[null,null,null,null,null,null,null,null,15,null,null,null,null,null,0.50216117708260466]
[null,null,null,null,null,null,null,null,15,null,null,null,null,null,-0.41759889563835823]
[null,null,null,null,null,null,null,null,15,null,null,null,null,null,-0.35000235214167025]
[null,null,null,null,null,null,null,null,15,null,null,null,null,null,0.7186100629104808]
[null,null,null,null,null,null,null,null,15,null,null,null,null,null,-0.47687897486448899]
[null,null,null,null,null,null,null,null,15,null,null,null,null,null,0.58149767429328703]
[null,null,null,null,null,null,null,null,15]
[null,null,null,null,null,null,null,null,15,null,null,null,null,null,-0.39357771043822276]
[null,null,null,null,null,null,null,null,16,null,null,null,null,null,{"$f":"CORREL($B$17:$G$17,B2:G2)","v":-0.52071669256023068}]
[null,null,null,null,null,null,null,null,16,null,null,null,null,null,{"$f":"CORREL($B$17:$G$17,B3:G3)","v":0.84066683638932693}]
[null,null,null,null,null,null,null,null,16,null,null,null,null,null,-2.0120658131156145E-2]
[null,null,null,null,null,null,null,null,16,null,null,null,null,null,0.49972433729651289]
[null,null,null,null,null,null,null,null,16,null,null,null,null,null,0.27295481506692304]
[null,null,null,null,null,null,null,null,16,null,null,null,null,null,-0.34021987573225265]
[null,null,null,null,null,null,null,null,16,null,null,null,null,null,0.58581937733192424]
[null,null,null,null,null,null,null,null,16,null,null,null,null,null,-0.43466369684466893]
[null,null,null,null,null,null,null,null,16,null,null,null,null,null,-0.65602944567171073]
[null,null,null,null,null,null,null,null,16,null,null,null,null,null,-0.28385075476463012]
[null,null,null,null,null,null,null,null,16,null,null,null,null,null,0.88945300377256531]
[null,null,null,null,null,null,null,null,16,null,null,null,null,null,-0.72359038917058294]
[null,null,null,null,null,null,null,null,16,null,null,null,null,null,-0.24945086154497323]
[null,null,null,null,null,null,null,null,16,null,null,null,null,null,-0.16139628276945558]
[null,null,null,null,null,null,null,null,16,null,null,null,null,null,-0.39357771043822276]
[null,null,null,null,null,null,null,null,16]
[null,null,null,null,null,null,null,null,"max",null,null,null,null,null,{"$f":"MAX(O22:O277)","v":0.88945300377256531}]
[null,null,null,null,null,null,null,null,"min",null,null,null,null,null,{"$f":"MIN(O22:O277)","v":-0.88970933682075015}]
[null,null,null,null,null,null,null,null,"avg",null,null,null,null,null,{"$f":"AVERAGE(O22:O277)","v":-5.7273353389300598E-2}]
[null,null,null,null,null,null,null,null,"stddev",null,null,null,null,null,{"$f":"STDEV(O22:O277)","v":0.45353650508810828}]
[null,null,null,null,null,null,null,null,"median",null,null,null,null,null,{"$f":"MEDIAN(O22:O277)","v":-0.10137965526842692}]
[null,null,null,null,null,null,null,null,"kvart_1",null,null,null,null,null,{"$f":"QUARTILE(O22:O277,1)","v":-0.36089619171580839}]
[null,null,null,null,null,null,null,null,"kvart_3",null,null,null,null,null,{"$f":"QUARTILE(O22:O277,3)","v":0.26395465999153922}]

{"sheet":"basics1","index":15,"n_rows":284,"n_cols":42,"rows_kept":284,"cut":false,"hidden":false,"merged":[]}
["raw","A1","A2","A3","A4","A5","A6=Y",null,"rank",{"$f":"B1","v":"A1"},"A2","A3","A4","A5",{"$f":"G1&\"'\"","v":"A6=Y'"},"validity0","direkt","inverz","átlag","double","between1","validity1","invalid_between","valid_extrem","between2","validity2",null,{"$f":"models1!B7","v":"X(A1)"},{"$f":"models1!C7","v":"X(A2)"},{"$f":"models1!D7","v":"X(A3)"},{"$f":"models1!E7","v":"X(A4)"},{"$f":"models1!F7","v":"X(A5)"},{"$f":"AB1","v":"X(A1)"},{"$f":"AC1","v":"X(A2)"},"X(A3)","X(A4)","X(A5)",{"$f":"O1","v":"A6=Y'"},null,"direct_stddev","inverse_stddev","delta"]
["O1",95,59,56,11,55,61,null,{"$f":"A2","v":"O1"},{"$f":"RANK(B2,B$2:B$17,B$19)","v":1},{"$f":"RANK(C2,C$2:C$17,C$19)","v":9},{"$f":"RANK(D2,D$2:D$17,D$19)","v":10},{"$f":"RANK(E2,E$2:E$17,E$19)","v":16},{"$f":"RANK(F2,F$2:F$17,F$19)","v":6},{"$f":"G2*1000","v":61000},{"$f":"IF(models1!J62*models1!Y62<=0,\"valid\",\"invalid\")","v":"invalid"},{"$f":"models1!G62","v":62567.7},{"$f":"models1!V62","v":67794.2},{"$f":"AVERAGE(Q2:R2)","v":65180.95},{"$f":"models1!AO62","v":61250.2},{"$f":"IF(MAX(Q2:R2)<T2,0,IF(MIN(Q2:R2)>T2,0,1))","v":0},{"$f":"IF(P2=\"valid\",1,)","v":0},{"$f":"IF(V2=1,IF(U2=0,1,0),0)","v":0},{"$f":"IF(V2=0,IF(U2=1,1,0),0)","v":0},{"$f":"STDEV(S2:T2)","v":2779.4599801490217},{"$f":"STDEV(models1!J62,models1!Y62)","v":6.0599051147687106},null,{"$f":"J2","v":1},{"$f":"K2","v":9},{"$f":"L2","v":10},{"$f":"M2","v":16},{"$f":"N2","v":6},{"$f":"RANK(B2,B$2:B$17,1)","v":16},{"$f":"RANK(C2,C$2:C$17,1)","v":8},{"$f":"RANK(D2,D$2:D$17,1)","v":7},{"$f":"RANK(E2,E$2:E$17,1)","v":1},{"$f":"RANK(F2,F$2:F$17,1)","v":10},61000,null,{"$f":"STDEV(AB2:AF2)","v":5.5045435778091534},{"$f":"STDEV(AG2:AK2)","v":5.4129474410897434},{"$f":"ABS(AO2-AN2)","v":9.1596136719410026E-2}]
["O2",11,86,30,23,80,74,null,{"$f":"A3","v":"O2"},{"$f":"RANK(B3,B$2:B$17,B$19)","v":14},3,14,12,3,{"$f":"G3*1000","v":74000},{"$f":"IF(models1!J63*models1!Y63<=0,\"valid\",\"invalid\")","v":"valid"},{"$f":"models1!G63","v":75901.8},{"$f":"models1!V63","v":64460},{"$f":"AVERAGE(Q3:R3)","v":70180.899999999994},{"$f":"models1!AO63","v":74303.5},1,1,{"$f":"IF(V3=1,IF(U3=0,1,0),0)","v":0},{"$f":"IF(V3=0,IF(U3=1,1,0),0)","v":0},{"$f":"STDEV(S3:T3)","v":2915.1184161196647},{"$f":"STDEV(models1!J63,models1!Y63)","v":10.931870837144025},null,{"$f":"J3","v":14},3,14,12,3,{"$f":"RANK(B3,B$2:B$17,1)","v":3},14,3,5,14,74000,null,{"$f":"STDEV(AB3:AF3)","v":5.7183913821983188},{"$f":"STDEV(AG3:AK3)","v":5.7183913821983188},{"$f":"ABS(AO3-AN3)","v":0}]
["O3",66,45,93,20,76,77,null,"O3",5,14,3,15,4,77000,{"$f":"IF(models1!J64*models1!Y64<=0,\"valid\",\"invalid\")","v":"invalid"},{"$f":"models1!G64","v":78978.899999999994},{"$f":"models1!V64","v":79463.7},79221.299999999988,{"$f":"models1!AO64","v":77315.8},0,0,0,0,1347.391971550956,{"$f":"STDEV(models1!J64,models1!Y64)","v":0.44547727214753019},null,5,14,3,15,4,11,3,13,2,13,77000,null,5.805170109479997,5.4589376255824718,0.34623248389752526]
["O4",93,88,69,66,21,86,null,"O4",2,2,7,6,14,86000,{"$f":"IF(models1!J65*models1!Y65<=0,\"valid\",\"invalid\")","v":"invalid"},{"$f":"models1!G65","v":71285.7},{"$f":"models1!V65","v":57236.1},64260.899999999994,{"$f":"models1!AO65","v":86352.7},0,0,0,0,15621.261588617059,{"$f":"STDEV(models1!J65,models1!Y65)","v":11.554124804588181},null,2,2,7,6,14,15,15,10,11,3,86000,null,4.9193495504995379,4.9193495504995362,1.7763568394002505E-15]
["O5",48,70,99,37,29,79,null,"O5",10,5,1,9,12,79000,{"$f":"IF(models1!J66*models1!Y66<=0,\"valid\",\"invalid\")","v":"valid"},{"$f":"models1!G66","v":81030.3},{"$f":"models1!V66","v":53346.2},67188.25,{"$f":"models1!AO66","v":79324},1,1,0,0,8581.2711197846438,{"$f":"STDEV(models1!J66,models1!Y66)","v":24.777021612776629},null,10,5,1,9,12,7,12,16,8,5,79000,null,4.3931765272977588,4.3931765272977588,0]
["O6",90,58,93,22,49,38,null,"O6",3,10,3,13,9,38000,{"$f":"IF(models1!J67*models1!Y67<=0,\"valid\",\"invalid\")","v":"invalid"},{"$f":"models1!G67","v":40686},{"$f":"models1!V67","v":43899.5},42292.75,{"$f":"models1!AO67","v":38155.9},0,0,0,0,2925.1946877515679,{"$f":"STDEV(models1!J67,models1!Y67)","v":5.982123368838189},null,3,10,3,13,9,14,7,13,3,8,38000,null,4.4497190922573973,4.5276925690687087,7.7973476811311393E-2]
["O7",66,66,48,34,52,80,null,"O7",5,6,12,10,8,80000,{"$f":"IF(models1!J68*models1!Y68<=0,\"valid\",\"invalid\")","v":"invalid"},{"$f":"models1!G68","v":78978.899999999994},{"$f":"models1!V68","v":53901.9},66440.399999999994,{"$f":"models1!AO68","v":80328.100000000006},0,0,0,0,9820.0868450844246,{"$f":"STDEV(models1!J68,models1!Y68)","v":22.160726522386398},null,5,6,12,10,8,11,11,5,7,9,80000,null,2.8635642126552709,2.607680962081059,0.25588325057421191]
["O8",10,61,86,93,33,25,null,"O8",15,7,6,1,11,25000,{"$f":"IF(models1!J69*models1!Y69<=0,\"valid\",\"invalid\")","v":"invalid"},{"$f":"models1!G69","v":25813.3},{"$f":"models1!V69","v":27784.5},26798.9,{"$f":"models1!AO69","v":25102.5},0,0,0,0,1199.5359436048602,{"$f":"STDEV(models1!J69,models1!Y69)","v":5.5790725035618607},null,15,7,6,1,11,1,9,11,16,6,25000,null,5.2915026221291814,5.5946402922797454,0.30313767015056392]
["O9",29,47,42,91,66,56,null,"O9",12,12,13,2,5,56000,{"$f":"IF(models1!J70*models1!Y70<=0,\"valid\",\"invalid\")","v":"invalid"},{"$f":"models1!G70","v":57439.199999999997},{"$f":"models1!V70","v":57236.1},57337.649999999994,{"$f":"models1!AO70","v":56229.7},0,0,0,0,783.43895821563331,{"$f":"STDEV(models1!J70,models1!Y70)","v":0.25455844122715704},null,12,12,13,2,5,5,4,4,15,12,56000,null,4.9699094559156709,5.1478150704935004,0.1779056145778295]
["O10",63,92,96,40,22,27,null,"O10",7,1,2,8,13,27000,{"$f":"IF(models1!J71*models1!Y71<=0,\"valid\",\"invalid\")","v":"invalid"},{"$f":"models1!G71","v":57951.6},{"$f":"models1!V71","v":35008.5},46480.05,{"$f":"models1!AO71","v":37653.800000000003},1,0,0,1,6241.1012274477271,{"$f":"STDEV(models1!J71,models1!Y71)","v":60.089934265232806},null,7,1,2,8,13,10,16,15,9,4,27000,null,4.8682645778552347,4.8682645778552329,1.7763568394002505E-15]
["O11",55,61,11,51,34,17,null,"O11",8,7,15,7,10,17000,{"$f":"IF(models1!J72*models1!Y72<=0,\"valid\",\"invalid\")","v":"invalid"},{"$f":"models1!G72","v":18120.5},{"$f":"models1!V72","v":49456.4},33788.449999999997,{"$f":"models1!AO72","v":17069.7},0,0,0,0,11821.941497962602,{"$f":"STDEV(models1!J72,models1!Y72)","v":130.34099297611627},null,8,7,15,7,10,8,9,2,10,7,17000,null,3.3615472627943217,3.1144823004794877,0.24706496231483399]
["O12",55,80,90,88,17,95,null,"O12",8,4,5,3,15,95000,{"$f":"IF(models1!J73*models1!Y73<=0,\"valid\",\"invalid\")","v":"invalid"},{"$f":"models1!G73","v":68208.600000000006},{"$f":"models1!V73","v":62237.3},65222.950000000004,{"$f":"models1!AO73","v":82336.3},0,0,0,0,12100.965833818878,{"$f":"STDEV(models1!J73,models1!Y73)","v":4.447701653663386},null,8,4,5,3,15,8,13,12,14,2,95000,null,4.8476798574163293,4.9193495504995379,7.1669693083208585E-2]
["O13",23,48,4,24,55,47,null,"O13",13,11,16,11,6,47000,{"$f":"IF(models1!J74*models1!Y74<=0,\"valid\",\"invalid\")","v":"invalid"},{"$f":"models1!G74","v":47182.2},{"$f":"models1!V74","v":70572.600000000006},58877.4,{"$f":"models1!AO74","v":47192.800000000003},1,0,0,1,8262.2598954522709,{"$f":"STDEV(models1!J74,models1!Y74)","v":35.185633431842604},null,13,11,16,11,6,4,6,1,6,10,47000,null,3.6469165057620954,3.2863353450309964,0.36058116073109892]
["O14",38,25,53,22,11,22,null,"O14",11,16,11,13,16,22000,{"$f":"IF(models1!J75*models1!Y75<=0,\"valid\",\"invalid\")","v":"valid"},{"$f":"models1!G75","v":16411.2},{"$f":"models1!V75","v":82797.8},49604.5,{"$f":"models1!AO75","v":22090.2},1,1,0,0,19455.548109601034,{"$f":"STDEV(models1!J75,models1!Y75)","v":213.36947122304073},null,11,16,11,13,16,6,1,6,3,1,22000,null,2.5099800796022289,2.5099800796022267,2.2204460492503131E-15]
["O15",86,33,66,81,87,73,null,"O15",4,15,8,4,1,73000,{"$f":"IF(models1!J76*models1!Y76<=0,\"valid\",\"invalid\")","v":"valid"},{"$f":"models1!G76","v":74876.100000000006},{"$f":"models1!V76","v":52790.6},63833.350000000006,{"$f":"models1!AO76","v":73299.399999999994},1,1,0,0,6693.50814605091,{"$f":"STDEV(models1!J76,models1!Y76)","v":21.389980130893065},null,4,15,8,4,1,13,2,8,13,15,73000,null,5.4129474410897434,5.2630789467763055,0.14986849431343785]
["O16",{"$f":"MIN(B2:B16)","v":10},{"$f":"INT(QUARTILE(C2:C16,1))","v":47},{"$f":"MEDIAN(D2:D16)","v":66},{"$f":"INT(QUARTILE(E2:E16,3))","v":73},{"$f":"MAX(F2:F16)","v":87},{"$f":"MEDIAN(G2:G16)","v":61},null,"O16",{"$f":"RANK(B17,B$2:B$17,0)","v":15},{"$f":"RANK(C17,C$2:C$17,0)","v":12},{"$f":"RANK(D17,D$2:D$17,0)","v":8},{"$f":"RANK(E17,E$2:E$17,0)","v":5},{"$f":"RANK(F17,F$2:F$17,0)","v":1},61000,{"$f":"IF(models1!J77*models1!Y77<=0,\"valid\",\"invalid\")","v":"valid"},{"$f":"models1!G77","v":62567.7},{"$f":"models1!V77","v":60014.5},61291.1,{"$f":"models1!AO77","v":59995.1},0,1,1,0,916.4103884177656,{"$f":"STDEV(models1!J77,models1!Y77)","v":2.9627774131716338},null,15,12,8,5,1,1,4,8,12,15,61000,null,5.5407580708780273,5.7008771254956896,0.16011905461766229]
["correlation",{"$f":"CORREL(B2:B16,$G$2:$G$16)","v":0.26835182357441389},{"$f":"CORREL(C2:C16,$G$2:$G$16)","v":0.27690414195008428},0.21630745511686994,0.10863149814027173,0.28137976072022414,1,null,"O16(2)",{"$f":"MAX(J2:J16)","v":15},{"$f":"INT(QUARTILE(K2:K16,3))","v":11},{"$f":"MEDIAN(L2:L16)","v":8},{"$f":"INT(QUARTILE(M2:M16,1))","v":5},{"$f":"MIN(N2:N16)","v":1},{"$f":"O17","v":61000},"ratio","correlation","correlation",null,"correlation",null,null,null,null,null,null,null,"direct","direct","direct","direct","direct","inverse","inverse","inverse","inverse","inverse","double","max",{"$f":"MAX(AN2:AN17)","v":5.805170109479997},{"$f":"MAX(AO2:AO17)","v":5.7183913821983188},{"$f":"MAX(AP2:AP17)","v":0.36058116073109892}]
["direction",{"$f":"IF(B18>0,0,1)","v":0},{"$f":"IF(C18>0,0,1)","v":0},0,0,0,"Y",null,null,null,null,null,null,null,null,{"$f":"COUNTIF($P$2:$P$17,\"valid\")/16","v":0.3125},{"$f":"CORREL(Q2:Q17,$O$2:$O$17)","v":0.89130595448718608},{"$f":"CORREL(R2:R17,$O$2:$O$17)","v":0.31426191215629828},null,{"$f":"CORREL(T2:T17,$O$2:$O$17)","v":0.98699482799187954},{"$f":"SUM(U2:U17)","v":6},{"$f":"SUM(V2:V17)/16","v":0.3125},{"$f":"SUM(W2:W17)","v":1},{"$f":"SUM(X2:X17)","v":2},{"$f":"SUM(Y2:Y17)","v":111464.49460962901},null,null,null,null,null,null,null,null,null,null,null,null,null,"min",{"$f":"MIN(AN2:AN17)","v":2.5099800796022289},{"$f":"MIN(AO2:AO17)","v":2.5099800796022267},{"$f":"MIN(AP2:AP17)","v":0}]
[null,null,null,null,null,null,null,null,null,null,null,null,null,null,null,null,null,null,null,null,null,null,null,null,null,null,null,"check","check","check","check","check",null,null,null,null,null,null,"avg",{"$f":"AVERAGE(AN2:AN17)","v":4.631463770352517},{"$f":"AVERAGE(AO2:AO17)","v":4.5901874591456462},{"$f":"AVERAGE(AP2:AP17)","v":0.14012699986194371}]
["antagonism!",null,null,null,null,null,null,null,"O*",null,null,null,null,null,"correlation",null,null,null,null,null,null,null,null,null,null,null,null,{"$f":"AB2+AG2","v":17},{"$f":"AC2+AH2","v":17},17,17,16,null,null,null,null,null,null,"stddev",{"$f":"STDEV(AN2:AN17)","v":1.0260829564446461},{"$f":"STDEV(AO2:AO17)","v":1.1009954719383892},{"$f":"STDEV(AP2:AP17)","v":0.12999784991037602}]
[null,null,null,null,null,null,null,null,1,null,null,null,null,null,null,null,null,null,null,null,null,null,null,null,null,null,null,{"$f":"AB3+AG3","v":17},17,17,17,17,null,null,null,null,null,null,"median",{"$f":"MEDIAN(AN2:AN17)","v":4.8938070641773859},{"$f":"MEDIAN(AO2:AO17)","v":4.919349550499537},0.12073231551642394]
["Consistency-tasks ",null,null,null,null,null,null,null,1,null,null,null,null,null,{"$f":"CORREL($B$2:$G$2,B3:G3)","v":-2.4667853429143356E-2},null,null,null,null,null,null,null,null,null,null,null,null,{"$f":"AB4+AG4","v":16},17,16,17,17]
["Y=between1",null,null,null,null,null,null,null,1,null,null,null,null,null,0.58498516332450201,null,null,null,null,null,null,null,null,null,null,null,null,{"$f":"AB5+AG5","v":17},17,17,17,17]
["Y=between2",null,null,null,null,null,null,null,1,null,null,null,null,null,0.35448328243388683,null,null,null,null,null,null,null,null,null,null,null,null,{"$f":"AB6+AG6","v":17},17,17,17,17]
["Y=validity1",null,null,null,null,null,null,null,1,null,null,null,null,null,0.20084998176509133,null,null,null,null,null,null,null,null,null,null,null,null,{"$f":"AB7+AG7","v":17},17,16,16,17]
["Y=validity2",null,null,null,null,null,null,null,1,null,null,null,null,null,0.73135926595017131,null,null,null,null,null,null,null,null,null,null,null,null,{"$f":"AB8+AG8","v":16},17,17,17,17]
["Y=validity-ratio",null,null,null,null,null,null,null,1,null,null,null,null,null,0.70392529123579373,null,null,null,null,null,null,null,null,null,null,null,null,{"$f":"AB9+AG9","v":16},16,17,17,17]
["Xi=model-characteristics",null,null,null,null,null,null,null,1,null,null,null,null,null,-0.78573394827239151,null,null,null,null,null,null,null,null,null,null,null,null,{"$f":"AB10+AG10","v":17},16,17,17,17]
[null,null,null,null,null,null,null,null,1,null,null,null,null,null,-0.92296811493827735,null,null,null,null,null,null,null,null,null,null,null,null,{"$f":"AB11+AG11","v":17},17,17,17,17]
[null,null,null,null,null,null,null,null,1,null,null,null,null,null,0.22937383694192864,null,null,null,null,null,null,null,null,null,null,null,null,{"$f":"AB12+AG12","v":16},16,17,17,17]
[null,null,null,null,null,null,null,null,1,null,null,null,null,null,1.6431461064322753E-2,null,null,null,null,null,null,null,null,null,null,null,null,{"$f":"AB13+AG13","v":16},17,17,17,17]
[null,null,null,null,null,null,null,null,1,null,null,null,null,null,-0.29660673190206555,null,null,null,null,null,null,null,null,null,null,null,null,{"$f":"AB14+AG14","v":17},17,17,17,16]
[null,null,null,null,null,null,null,null,1,null,null,null,null,null,4.0939699345879127E-2,null,null,null,null,null,null,null,null,null,null,null,null,{"$f":"AB15+AG15","v":17},17,17,16,17]
[null,null,null,null,null,null,null,null,1,null,null,null,null,null,0.32216528537537653,null,null,null,null,null,null,null,null,null,null,null,null,{"$f":"AB16+AG16","v":17},17,16,17,16]
[null,null,null,null,null,null,null,null,1,null,null,null,null,null,5.5309404886242928E-3,null,null,null,null,null,null,null,null,null,null,null,null,{"$f":"AB17+AG17","v":16},16,16,17,16]
[null,null,null,null,null,null,null,null,1,null,null,null,null,null,-0.72620623970774578]
[null,null,null,null,null,null,null,null,{"$f":"I22+1","v":2},null,null,null,null,null,{"$f":"CORREL($B$3:$G$3,B2:G2)","v":-2.4667853429143356E-2}]
[null,null,null,null,null,null,null,null,{"$f":"I23+1","v":2}]
[null,null,null,null,null,null,null,null,2,null,null,null,null,null,{"$f":"CORREL($B$3:$G$3,B4:G4)","v":0.12093213752263017}]
[null,null,null,null,null,null,null,null,2,null,null,null,null,null,-0.27659416185642932]
[null,null,null,null,null,null,null,null,2,null,null,null,null,null,4.3752993572641244E-2]
[null,null,null,null,null,null,null,null,2,null,null,null,null,null,-0.36983013570640583]
[null,null,null,null,null,null,null,null,2,null,null,null,null,null,0.43814095495917665]
[null,null,null,null,null,null,null,null,2,null,null,null,null,null,-0.18605303796727737]
[null,null,null,null,null,null,null,null,2,null,null,null,null,null,0.10344387223134575]
[null,null,null,null,null,null,null,null,2,null,null,null,null,null,-0.20045916113852683]
[null,null,null,null,null,null,null,null,2,null,null,null,null,null,-7.8876682230634876E-2]
[null,null,null,null,null,null,null,null,2,null,null,null,null,null,-0.18964721085894948]
[null,null,null,null,null,null,null,null,2,null,null,null,null,null,0.85038181745436492]
[null,null,null,null,null,null,null,null,2,null,null,null,null,null,-0.6128955910440409]
[null,null,null,null,null,null,null,null,2,null,null,null,null,null,-0.47806564521008599]
[null,null,null,null,null,null,null,null,2,null,null,null,null,null,0.42239689980886147]
[null,null,null,null,null,null,null,null,3,null,null,null,null,null,{"$f":"CORREL($B$4:$G$4,B2:G2)","v":0.58498516332450201}]
[null,null,null,null,null,null,null,null,3,null,null,null,null,null,{"$f":"CORREL($B$4:$G$4,B3:G3)","v":0.12093213752263017}]
[null,null,null,null,null,null,null,null,3]
[null,null,null,null,null,null,null,null,3,null,null,null,null,null,-0.15074822900693871]
[null,null,null,null,null,null,null,null,3,null,null,null,null,null,0.51169783737633034]
[null,null,null,null,null,null,null,null,3,null,null,null,null,null,0.61675538080380898]
[null,null,null,null,null,null,null,null,3,null,null,null,null,null,0.39408994988991403]
[null,null,null,null,null,null,null,null,3,null,null,null,null,null,-0.37150287239198415]
[null,null,null,null,null,null,null,null,3,null,null,null,null,null,-0.60552089809967857]
[null,null,null,null,null,null,null,null,3,null,null,null,null,null,9.7753806138786759E-2]
[null,null,null,null,null,null,null,null,3,null,null,null,null,null,-0.75925447343333807]
[null,null,null,null,null,null,null,null,3,null,null,null,null,null,-0.18761739255946208]
[null,null,null,null,null,null,null,null,3,null,null,null,null,null,-0.11664404526283317]
[null,null,null,null,null,null,null,null,3,null,null,null,null,null,0.4056308958439413]
[null,null,null,null,null,null,null,null,3,null,null,null,null,null,0.14469394838560895]
[null,null,null,null,null,null,null,null,3,null,null,null,null,null,1.921824211021526E-2]
[null,null,null,null,null,null,null,null,4,null,null,null,null,null,{"$f":"CORREL($B$5:$G$5,B2:G2)","v":0.35448328243388683}]
[null,null,null,null,null,null,null,null,4,null,null,null,null,null,{"$f":"CORREL($B$5:$G$5,B3:G3)","v":-0.27659416185642932}]
[null,null,null,null,null,null,null,null,4,null,null,null,null,null,-0.15074822900693871]
[null,null,null,null,null,null,null,null,4]
[null,null,null,null,null,null,null,null,4,null,null,null,null,null,0.49830060663807313]
[null,null,null,null,null,null,null,null,4,null,null,null,null,null,0.25616278073790766]
[null,null,null,null,null,null,null,null,4,null,null,null,null,null,0.50047306420520776]
[null,null,null,null,null,null,null,null,4,null,null,null,null,null,-0.11108733560001159]
[null,null,null,null,null,null,null,null,4,null,null,null,null,null,-0.48758231180211553]
[null,null,null,null,null,null,null,null,4,null,null,null,null,null,0.4750292044338349]
[null,null,null,null,null,null,null,null,4,null,null,null,null,null,0.23105585693477065]
[null,null,null,null,null,null,null,null,4,null,null,null,null,null,0.68890814182252191]
[null,null,null,null,null,null,null,null,4,null,null,null,null,null,-0.2880504616495303]
[null,null,null,null,null,null,null,null,4,null,null,null,null,null,0.46372466583946736]
[null,null,null,null,null,null,null,null,4,null,null,null,null,null,-0.41843481446522823]
[null,null,null,null,null,null,null,null,4,null,null,null,null,null,-0.77355707705522747]
[null,null,null,null,null,null,null,null,5,null,null,null,null,null,{"$f":"CORREL($B$6:$G$6,B2:G2)","v":0.20084998176509133}]
[null,null,null,null,null,null,null,null,5,null,null,null,null,null,{"$f":"CORREL($B$6:$G$6,B3:G3)","v":4.3752993572641244E-2}]
[null,null,null,null,null,null,null,null,5,null,null,null,null,null,0.51169783737633034]
[null,null,null,null,null,null,null,null,5,null,null,null,null,null,0.49830060663807313]
[null,null,null,null,null,null,null,null,5]
[null,null,null,null,null,null,null,null,5,null,null,null,null,null,0.44755171112601588]
[null,null,null,null,null,null,null,null,5,null,null,null,null,null,0.34319293018260533]
[null,null,null,null,null,null,null,null,5,null,null,null,null,null,0.23085588420184469]
[null,null,null,null,null,null,null,null,5,null,null,null,null,null,-0.49142769811167625]
[null,null,null,null,null,null,null,null,5,null,null,null,null,null,0.62430010786241674]
[null,null,null,null,null,null,null,null,5,null,null,null,null,null,-0.5713396491385675]
[null,null,null,null,null,null,null,null,5,null,null,null,null,null,0.68646667753209745]
[null,null,null,null,null,null,null,null,5,null,null,null,null,null,-0.40592288512114988]
[null,null,null,null,null,null,null,null,5,null,null,null,null,null,0.69154290790566697]
[null,null,null,null,null,null,null,null,5,null,null,null,null,null,-0.52953166933801898]
[null,null,null,null,null,null,null,null,5,null,null,null,null,null,-0.11361213398758116]
[null,null,null,null,null,null,null,null,6,null,null,null,null,null,{"$f":"CORREL($B$7:$G$7,B2:G2)","v":0.73135926595017131}]
[null,null,null,null,null,null,null,null,{"$f":"I87+1","v":6},null,null,null,null,null,{"$f":"CORREL($B$7:$G$7,B3:G3)","v":-0.36983013570640583}]
[null,null,null,null,null,null,null,null,6,null,null,null,null,null,0.61675538080380898]
[null,null,null,null,null,null,null,null,6,null,null,null,null,null,0.25616278073790766]
[null,null,null,null,null,null,null,null,6,null,null,null,null,null,0.44755171112601588]
[null,null,null,null,null,null,null,null,6]
[null,null,null,null,null,null,null,null,6,null,null,null,null,null,0.16666676400704805]
[null,null,null,null,null,null,null,null,6,null,null,null,null,null,-0.1904237949525461]
[null,null,null,null,null,null,null,null,6,null,null,null,null,null,-0.88298912569076249]
[null,null,null,null,null,null,null,null,6,null,null,null,null,null,0.67452897052270089]
[null,null,null,null,null,null,null,null,6,null,null,null,null,null,-0.13976109611271767]
[null,null,null,null,null,null,null,null,6,null,null,null,null,null,-0.10660931172560409]
[null,null,null,null,null,null,null,null,6,null,null,null,null,null,-0.53519689124675385]
[null,null,null,null,null,null,null,null,6,null,null,null,null,null,0.80218363424349615]
[null,null,null,null,null,null,null,null,6,null,null,null,null,null,-8.3118319978840907E-2]
[null,null,null,null,null,null,null,null,6,null,null,null,null,null,-0.55877891037933336]
[null,null,null,null,null,null,null,null,7,null,null,null,null,null,{"$f":"CORREL($B$8:$G$8,B2:G2)","v":0.70392529123579373}]
[null,null,null,null,null,null,null,null,7,null,null,null,null,null,{"$f":"CORREL($B$8:$G$8,B3:G3)","v":0.43814095495917665}]
[null,null,null,null,null,null,null,null,7,null,null,null,null,null,0.39408994988991403]
[null,null,null,null,null,null,null,null,7,null,null,null,null,null,0.50047306420520776]
[null,null,null,null,null,null,null,null,7,null,null,null,null,null,0.34319293018260533]
[null,null,null,null,null,null,null,null,7,null,null,null,null,null,0.16666676400704805]
[null,null,null,null,null,null,null,null,7]
[null,null,null,null,null,null,null,null,7,null,null,null,null,null,-0.74891583197090783]
[null,null,null,null,null,null,null,null,7,null,null,null,null,null,-0.59818310338114211]
[null,null,null,null,null,null,null,null,7,null,null,null,null,null,-3.9917842358549276E-2]
[null,null,null,null,null,null,null,null,7,null,null,null,null,null,-9.415999463749361E-2]
[null,null,null,null,null,null,null,null,7,null,null,null,null,null,8.1192583711249433E-2]
[null,null,null,null,null,null,null,null,7,null,null,null,null,null,0.45293085778248021]
[null,null,null,null,null,null,null,null,7,null,null,null,null,null,-6.5672427778176765E-2]
[null,null,null,null,null,null,null,null,7,null,null,null,null,null,-0.25838943568499562]
[null,null,null,null,null,null,null,null,7,null,null,null,null,null,-0.47046418542657825]
[null,null,null,null,null,null,null,null,8,null,null,null,null,null,{"$f":"CORREL($B$9:$G$9,B2:G2)","v":-0.78573394827239151}]
[null,null,null,null,null,null,null,null,8,null,null,null,null,null,{"$f":"CORREL($B$9:$G$9,B3:G3)","v":-0.18605303796727737}]
[null,null,null,null,null,null,null,null,8,null,null,null,null,null,-0.37150287239198415]
[null,null,null,null,null,null,null,null,8,null,null,null,null,null,-0.11108733560001159]
[null,null,null,null,null,null,null,null,8,null,null,null,null,null,0.23085588420184469]
[null,null,null,null,null,null,null,null,8,null,null,null,null,null,-0.1904237949525461]
[null,null,null,null,null,null,null,null,8,null,null,null,null,null,-0.74891583197090783]
[null,null,null,null,null,null,null,null,8]
[null,null,null,null,null,null,null,null,8,null,null,null,null,null,0.49637243134905501]
[null,null,null,null,null,null,null,null,8,null,null,null,null,null,0.3955688525683877]
[null,null,null,null,null,null,null,null,8,null,null,null,null,null,-7.0138907116904306E-2]
[null,null,null,null,null,null,null,null,8,null,null,null,null,null,0.48656109904006833]
[null,null,null,null,null,null,null,null,8,null,null,null,null,null,-0.47824863557675351]
[null,null,null,null,null,null,null,null,8,null,null,null,null,null,0.25639742412706362]
[null,null,null,null,null,null,null,null,8,null,null,null,null,null,-0.31663831255662983]
[null,null,null,null,null,null,null,null,8,null,null,null,null,null,0.47858288272697613]
[null,null,null,null,null,null,null,null,9,null,null,null,null,null,{"$f":"CORREL($B$10:$G$10,B2:G2)","v":-0.92296811493827735}]
[null,null,null,null,null,null,null,null,9,null,null,null,null,null,{"$f":"CORREL($B$10:$G$10,B3:G3)","v":0.10344387223134575}]
[null,null,null,null,null,null,null,null,9,null,null,null,null,null,-0.60552089809967857]
[null,null,null,null,null,null,null,null,9,null,null,null,null,null,-0.48758231180211553]
[null,null,null,null,null,null,null,null,9,null,null,null,null,null,-0.49142769811167625]
[null,null,null,null,null,null,null,null,9,null,null,null,null,null,-0.88298912569076249]
[null,null,null,null,null,null,null,null,9,null,null,null,null,null,-0.59818310338114211]
[null,null,null,null,null,null,null,null,9,null,null,null,null,null,0.49637243134905501]
[null,null,null,null,null,null,null,null,9]
[null,null,null,null,null,null,null,null,9,null,null,null,null,null,-0.5665045317029509]
[null,null,null,null,null,null,null,null,9,null,null,null,null,null,5.685232992146564E-2]
[null,null,null,null,null,null,null,null,9,null,null,null,null,null,4.3109217110177005E-2]
[null,null,null,null,null,null,null,null,9,null,null,null,null,null,0.21188882250601954]
[null,null,null,null,null,null,null,null,9,null,null,null,null,null,-0.60842003632137864]
[null,null,null,null,null,null,null,null,9,null,null,null,null,null,0.23648722495419611]
[null,null,null,null,null,null,null,null,9,null,null,null,null,null,0.72765575913171521]
[null,null,null,null,null,null,null,null,10,null,null,null,null,null,{"$f":"CORREL($B$11:$G$11,B2:G2)","v":0.22937383694192864}]
[null,null,null,null,null,null,null,null,{"$f":"I151+1","v":10},null,null,null,null,null,{"$f":"CORREL($B$11:$G$11,B3:G3)","v":-0.20045916113852683}]
[null,null,null,null,null,null,null,null,10,null,null,null,null,null,9.7753806138786759E-2]
[null,null,null,null,null,null,null,null,10,null,null,null,null,null,0.4750292044338349]
[null,null,null,null,null,null,null,null,10,null,null,null,null,null,0.62430010786241674]
[null,null,null,null,null,null,null,null,10,null,null,null,null,null,0.67452897052270089]
[null,null,null,null,null,null,null,null,10,null,null,null,null,null,-3.9917842358549276E-2]
[null,null,null,null,null,null,null,null,10,null,null,null,null,null,0.3955688525683877]
[null,null,null,null,null,null,null,null,10,null,null,null,null,null,-0.5665045317029509]
[null,null,null,null,null,null,null,null,10]
[null,null,null,null,null,null,null,null,10,null,null,null,null,null,0.12004503413271601]
[null,null,null,null,null,null,null,null,10,null,null,null,null,null,0.38158033778363193]
[null,null,null,null,null,null,null,null,10,null,null,null,null,null,-0.53812241885641543]
[null,null,null,null,null,null,null,null,10,null,null,null,null,null,0.7585467009321698]
[null,null,null,null,null,null,null,null,10,null,null,null,null,null,-0.68111914409880125]
[null,null,null,null,null,null,null,null,10,null,null,null,null,null,-0.40040932763148107]
[null,null,null,null,null,null,null,null,11,null,null,null,null,null,{"$f":"CORREL($B$12:$G$12,B2:G2)","v":1.6431461064322753E-2}]
[null,null,null,null,null,null,null,null,11,null,null,null,null,null,{"$f":"CORREL($B$12:$G$12,B3:G3)","v":-7.8876682230634876E-2}]
[null,null,null,null,null,null,null,null,11,null,null,null,null,null,-0.75925447343333807]
[null,null,null,null,null,null,null,null,11,null,null,null,null,null,0.23105585693477065]
[null,null,null,null,null,null,null,null,11,null,null,null,null,null,-0.5713396491385675]
[null,null,null,null,null,null,null,null,11,null,null,null,null,null,-0.13976109611271767]
[null,null,null,null,null,null,null,null,11,null,null,null,null,null,-9.415999463749361E-2]
[null,null,null,null,null,null,null,null,11,null,null,null,null,null,-7.0138907116904306E-2]
[null,null,null,null,null,null,null,null,11,null,null,null,null,null,5.685232992146564E-2]
[null,null,null,null,null,null,null,null,11,null,null,null,null,null,0.12004503413271601]
[null,null,null,null,null,null,null,null,11]
[null,null,null,null,null,null,null,null,11,null,null,null,null,null,-0.20670539930922194]
[null,null,null,null,null,null,null,null,11,null,null,null,null,null,0.2241580660108082]
[null,null,null,null,null,null,null,null,11,null,null,null,null,null,-0.29745189409891032]
[null,null,null,null,null,null,null,null,11,null,null,null,null,null,-0.2177431014128017]
[null,null,null,null,null,null,null,null,11,null,null,null,null,null,-0.45594650024696931]
[null,null,null,null,null,null,null,null,12,null,null,null,null,null,{"$f":"CORREL($B$13:$G$13,B2:G2)","v":-0.29660673190206555}]
[null,null,null,null,null,null,null,null,12,null,null,null,null,null,{"$f":"CORREL($B$13:$G$13,B3:G3)","v":-0.18964721085894948}]
[null,null,null,null,null,null,null,null,12,null,null,null,null,null,-0.18761739255946208]
[null,null,null,null,null,null,null,null,12,null,null,null,null,null,0.68890814182252191]
[null,null,null,null,null,null,null,null,12,null,null,null,null,null,0.68646667753209745]
[null,null,null,null,null,null,null,null,12,null,null,null,null,null,-0.10660931172560409]
[null,null,null,null,null,null,null,null,12,null,null,null,null,null,8.1192583711249433E-2]
[null,null,null,null,null,null,null,null,12,null,null,null,null,null,0.48656109904006833]
[null,null,null,null,null,null,null,null,12,null,null,null,null,null,4.3109217110177005E-2]
[null,null,null,null,null,null,null,null,12,null,null,null,null,null,0.38158033778363193]
[null,null,null,null,null,null,null,null,12,null,null,null,null,null,-0.20670539930922194]
[null,null,null,null,null,null,null,null,12]
[null,null,null,null,null,null,null,null,12,null,null,null,null,null,-0.429228586020451]
[null,null,null,null,null,null,null,null,12,null,null,null,null,null,0.43401578470121049]
[null,null,null,null,null,null,null,null,12,null,null,null,null,null,-0.43619147528331514]
[null,null,null,null,null,null,null,null,12,null,null,null,null,null,-0.10482856034624263]
[null,null,null,null,null,null,null,null,13,null,null,null,null,null,{"$f":"CORREL($B$14:$G$14,B2:G2)","v":4.0939699345879127E-2}]
[null,null,null,null,null,null,null,null,13,null,null,null,null,null,{"$f":"CORREL($B$14:$G$14,B3:G3)","v":0.85038181745436492}]
[null,null,null,null,null,null,null,null,13,null,null,null,null,null,-0.11664404526283317]
[null,null,null,null,null,null,null,null,13,null,null,null,null,null,-0.2880504616495303]
[null,null,null,null,null,null,null,null,13,null,null,null,null,null,-0.40592288512114988]
[null,null,null,null,null,null,null,null,13,null,null,null,null,null,-0.53519689124675385]
[null,null,null,null,null,null,null,null,13,null,null,null,null,null,0.45293085778248021]
[null,null,null,null,null,null,null,null,13,null,null,null,null,null,-0.47824863557675351]
[null,null,null,null,null,null,null,null,13,null,null,null,null,null,0.21188882250601954]
[null,null,null,null,null,null,null,null,13,null,null,null,null,null,-0.53812241885641543]
[null,null,null,null,null,null,null,null,13,null,null,null,null,null,0.2241580660108082]
[null,null,null,null,null,null,null,null,13,null,null,null,null,null,-0.429228586020451]
[null,null,null,null,null,null,null,null,13]
[null,null,null,null,null,null,null,null,13,null,null,null,null,null,-0.87902111576121067]
[null,null,null,null,null,null,null,null,13,null,null,null,null,null,-0.14330880642027388]
[null,null,null,null,null,null,null,null,13,null,null,null,null,null,0.24058163700654231]
[null,null,null,null,null,null,null,null,14,null,null,null,null,null,{"$f":"CORREL($B$15:$G$15,B2:G2)","v":0.32216528537537653}]
[null,null,null,null,null,null,null,null,{"$f":"I215+1","v":14},null,null,null,null,null,{"$f":"CORREL($B$15:$G$15,B3:G3)","v":-0.6128955910440409}]
[null,null,null,null,null,null,null,null,14,null,null,null,null,null,0.4056308958439413]
[null,null,null,null,null,null,null,null,14,null,null,null,null,null,0.46372466583946736]
[null,null,null,null,null,null,null,null,14,null,null,null,null,null,0.69154290790566697]
[null,null,null,null,null,null,null,null,14,null,null,null,null,null,0.80218363424349615]
[null,null,null,null,null,null,null,null,14,null,null,null,null,null,-6.5672427778176765E-2]
[null,null,null,null,null,null,null,null,14,null,null,null,null,null,0.25639742412706362]
[null,null,null,null,null,null,null,null,14,null,null,null,null,null,-0.60842003632137864]
[null,null,null,null,null,null,null,null,14,null,null,null,null,null,0.7585467009321698]
[null,null,null,null,null,null,null,null,14,null,null,null,null,null,-0.29745189409891032]
[null,null,null,null,null,null,null,null,14,null,null,null,null,null,0.43401578470121049]
[null,null,null,null,null,null,null,null,14,null,null,null,null,null,-0.87902111576121067]
[null,null,null,null,null,null,null,null,14]
[null,null,null,null,null,null,null,null,14,null,null,null,null,null,-0.13678681826282821]
[null,null,null,null,null,null,null,null,14,null,null,null,null,null,-0.4287011584111895]
[null,null,null,null,null,null,null,null,15,null,null,null,null,null,{"$f":"CORREL($B$16:$G$16,B2:G2)","v":5.5309404886242928E-3}]
[null,null,null,null,null,null,null,null,15,null,null,null,null,null,{"$f":"CORREL($B$16:$G$16,B3:G3)","v":-0.47806564521008599}]
[null,null,null,null,null,null,null,null,15,null,null,null,null,null,0.14469394838560895]
[null,null,null,null,null,null,null,null,15,null,null,null,null,null,-0.41843481446522823]
[null,null,null,null,null,null,null,null,15,null,null,null,null,null,-0.52953166933801898]
[null,null,null,null,null,null,null,null,15,null,null,null,null,null,-8.3118319978840907E-2]
[null,null,null,null,null,null,null,null,15,null,null,null,null,null,-0.25838943568499562]
[null,null,null,null,null,null,null,null,15,null,null,null,null,null,-0.31663831255662983]
[null,null,null,null,null,null,null,null,15,null,null,null,null,null,0.23648722495419611]
[null,null,null,null,null,null,null,null,15,null,null,null,null,null,-0.68111914409880125]
[null,null,null,null,null,null,null,null,15,null,null,null,null,null,-0.2177431014128017]
[null,null,null,null,null,null,null,null,15,null,null,null,null,null,-0.43619147528331514]
[null,null,null,null,null,null,null,null,15,null,null,null,null,null,-0.14330880642027388]
[null,null,null,null,null,null,null,null,15,null,null,null,null,null,-0.13678681826282821]
[null,null,null,null,null,null,null,null,15]
[null,null,null,null,null,null,null,null,15,null,null,null,null,null,0.10278701734707435]
[null,null,null,null,null,null,null,null,16,null,null,null,null,null,{"$f":"CORREL($B$17:$G$17,B2:G2)","v":-0.72620623970774578}]
[null,null,null,null,null,null,null,null,16,null,null,null,null,null,{"$f":"CORREL($B$17:$G$17,B3:G3)","v":0.42239689980886147}]
[null,null,null,null,null,null,null,null,16,null,null,null,null,null,1.921824211021526E-2]
[null,null,null,null,null,null,null,null,16,null,null,null,null,null,-0.77355707705522747]
[null,null,null,null,null,null,null,null,16,null,null,null,null,null,-0.11361213398758116]
[null,null,null,null,null,null,null,null,16,null,null,null,null,null,-0.55877891037933336]
[null,null,null,null,null,null,null,null,16,null,null,null,null,null,-0.47046418542657825]
[null,null,null,null,null,null,null,null,16,null,null,null,null,null,0.47858288272697613]
[null,null,null,null,null,null,null,null,16,null,null,null,null,null,0.72765575913171521]
[null,null,null,null,null,null,null,null,16,null,null,null,null,null,-0.40040932763148107]
[null,null,null,null,null,null,null,null,16,null,null,null,null,null,-0.45594650024696931]
[null,null,null,null,null,null,null,null,16,null,null,null,null,null,-0.10482856034624263]
[null,null,null,null,null,null,null,null,16,null,null,null,null,null,0.24058163700654231]
[null,null,null,null,null,null,null,null,16,null,null,null,null,null,-0.4287011584111895]
[null,null,null,null,null,null,null,null,16,null,null,null,null,null,0.10278701734707435]
[null,null,null,null,null,null,null,null,16]
[null,null,null,null,null,null,null,null,"max",null,null,null,null,null,{"$f":"MAX(O22:O277)","v":0.85038181745436492}]
[null,null,null,null,null,null,null,null,"min",null,null,null,null,null,{"$f":"MIN(O22:O277)","v":-0.92296811493827735}]
[null,null,null,null,null,null,null,null,"avg",null,null,null,null,null,{"$f":"AVERAGE(O22:O277)","v":-1.9777854558187993E-2}]
[null,null,null,null,null,null,null,null,"stddev",null,null,null,null,null,{"$f":"STDEV(O22:O277)","v":0.44480312477357131}]
[null,null,null,null,null,null,null,null,"median",null,null,null,null,null,{"$f":"MEDIAN(O22:O277)","v":-5.2795135068363017E-2}]
[null,null,null,null,null,null,null,null,"kvart_1",null,null,null,null,null,{"$f":"QUARTILE(O22:O277,1)","v":-0.40178771700389826}]
[null,null,null,null,null,null,null,null,"kvart_3",null,null,null,null,null,{"$f":"QUARTILE(O22:O277,3)","v":0.36125754627132312}]

{"sheet":"models1","index":16,"n_rows":1591,"n_cols":44,"rows_kept":1591,"cut":false,"hidden":false,"merged":[]}
[null,null,null,null,null,null,null,null,null,null,null,null,null,"…"]
[]
[]
[]
["Azonos�t�:",9281126,"Objektumok:",16,"Attrib�tumok:",5,"Lepcs�k:",16,"Eltol�s:",0,"Le�r�s:","COCO STD: 9281126",null,null,null,"Azonos�t�:",1836075,"Objektumok:",16,"Attrib�tumok:",5,"Lepcs�k:",16,"Eltol�s:",0,"Le�r�s:","COCO STD: 1836075",null,null,"Azonos�t�:",6815612,"Objektumok:",16,"Attrib�tumok:",10,"Lepcs�k:",16,"Eltol�s:",0,"Le�r�s:","COCO STD: 6815612"]
[]
["Rangsor","X(A1)","X(A2)","X(A3)","X(A4)","X(A5)","Y(A6)",null,{"$f":"B7","v":"X(A1)"},{"$f":"C7","v":"X(A2)"},"X(A3)","X(A4)","X(A5)","Y(A6)",null,"Rangsor","X(A1)","X(A2)","X(A3)","X(A4)","X(A5)","Y(A6)",null,null,null,null,null,null,null,"Rangsor","X(A1)","X(A2)","X(A3)","X(A4)","X(A5)","X(A6)","X(A7)","X(A8)","X(A9)","X(A10)","Y(A11)"]
["O1",1,9,10,16,6,61000,null,{"$f":"RANK(B8,B$8:B$23,0)","v":16},{"$f":"RANK(C8,C$8:C$23,0)","v":8},{"$f":"RANK(D8,D$8:D$23,0)","v":7},{"$f":"RANK(E8,E$8:E$23,0)","v":1},{"$f":"RANK(F8,F$8:F$23,0)","v":10},61000,null,"O1",16,8,7,1,10,61000,null,null,null,null,null,null,null,"O1",1,9,10,16,6,16,8,7,1,10,61000]
["O2",14,3,14,12,3,74000,null,{"$f":"RANK(B9,B$8:B$23,0)","v":3},14,3,5,14,74000,null,"O2",3,14,3,5,14,74000,null,null,null,null,null,null,null,"O2",14,3,14,12,3,3,14,3,5,14,74000]
["O3",5,14,3,15,4,77000,null,11,3,13,2,13,77000,null,"O3",11,3,13,2,13,77000,null,null,null,null,null,null,null,"O3",5,14,3,15,4,11,3,13,2,13,77000]
["O4",2,2,7,6,14,86000,null,15,15,10,11,3,86000,null,"O4",15,15,10,11,3,86000,null,null,null,null,null,null,null,"O4",2,2,7,6,14,15,15,10,11,3,86000]
["O5",10,5,1,9,12,79000,null,7,12,16,8,5,79000,null,"O5",7,12,16,8,5,79000,null,null,null,null,null,null,null,"O5",10,5,1,9,12,7,12,16,8,5,79000]
["O6",3,10,3,13,9,38000,null,14,7,13,3,8,38000,null,"O6",14,7,13,3,8,38000,null,null,null,null,null,null,null,"O6",3,10,3,13,9,14,7,13,3,8,38000]
["O7",5,6,12,10,8,80000,null,11,11,5,7,9,80000,null,"O7",11,11,5,7,9,80000,null,null,null,null,null,null,null,"O7",5,6,12,10,8,11,11,5,7,9,80000]
["O8",15,7,6,1,11,25000,null,1,9,11,16,6,25000,null,"O8",1,9,11,16,6,25000,null,null,null,null,null,null,null,"O8",15,7,6,1,11,1,9,11,16,6,25000]
["O9",12,12,13,2,5,56000,null,5,4,4,15,12,56000,null,"O9",5,4,4,15,12,56000,null,null,null,null,null,null,null,"O9",12,12,13,2,5,5,4,4,15,12,56000]
["O10",7,1,2,8,13,27000,null,10,16,15,9,4,27000,null,"O10",10,16,15,9,4,27000,null,null,null,null,null,null,null,"O10",7,1,2,8,13,10,16,15,9,4,27000]
["O11",8,7,15,7,10,17000,null,8,9,2,10,7,17000,null,"O11",8,9,2,10,7,17000,null,null,null,null,null,null,null,"O11",8,7,15,7,10,8,9,2,10,7,17000]
["O12",8,4,5,3,15,95000,null,8,13,12,14,2,95000,null,"O12",8,13,12,14,2,95000,null,null,null,null,null,null,null,"O12",8,4,5,3,15,8,13,12,14,2,95000]
["O13",13,11,16,11,6,47000,null,4,6,1,6,10,47000,null,"O13",4,6,1,6,10,47000,null,null,null,null,null,null,null,"O13",13,11,16,11,6,4,6,1,6,10,47000]
["O14",11,16,11,13,16,22000,null,6,1,6,3,1,22000,null,"O14",6,1,6,3,1,22000,null,null,null,null,null,null,null,"O14",11,16,11,13,16,6,1,6,3,1,22000]
["O15",4,15,8,4,1,73000,null,13,2,8,13,15,73000,null,"O15",13,2,8,13,15,73000,null,null,null,null,null,null,null,"O15",4,15,8,4,1,13,2,8,13,15,73000]
["O16",15,12,8,5,1,61000,null,1,4,8,12,15,{"$f":"G23","v":61000},null,"O16",1,4,8,12,15,61000,null,null,null,null,null,null,null,"O16",15,12,8,5,1,1,4,8,12,15,61000]
[null,null,null,null,null,null,null,null,"inverse","inverse","inverse","inverse","inverse"]
["L�pcs�k(1)","X(A1)","X(A2)","X(A3)","X(A4)","X(A5)",null,null,null,null,null,null,null,null,null,"L�pcs�k(1)","X(A1)","X(A2)","X(A3)","X(A4)","X(A5)",null,null,null,null,null,null,null,null,"L�pcs�k(1)","X(A1)","X(A2)","X(A3)","X(A4)","X(A5)","X(A6)","X(A7)","X(A8)","X(A9)","X(A10)"]
["S1","(26668.2+22907)/(2)=24787.6","(17436.9+39318.2)/(2)=28377.55","(53336.4+38635.1)/(2)=45985.75","(21539.7+15727.1)/(2)=18633.4","(48207.9+36583.7)/(2)=42395.8",null,null,null,null,null,null,null,null,null,"S1","(27784.5+0)/(2)=13892.25","(5556.9+50012.1)/(2)=27784.5","(0+25561.7)/(2)=12780.85","(67794.2+35564.2)/(2)=51679.2","(0+51123.5)/(2)=25561.75",null,null,null,null,null,null,null,null,"S1","(19580+12049.2)/(2)=15814.6","(24600.5+37151.8)/(2)=30876.15","(54723.5+42172.3)/(2)=48447.9","(20082+25102.5)/(2)=22592.3","(33637.4+36147.7)/(2)=34892.55","(5020.5+0)/(2)=2510.25","(0+0)/(2)=0","(27110.7+17069.7)/(2)=22090.25","(21588.2+19077.9)/(2)=20333.05","(22090.2+22090.2)/(2)=22090.25"]
["S2","(26668.2+22907)/(2)=24787.6","(17436.9+39318.2)/(2)=28377.55","(0+30086.9)/(2)=15043.45","(21539.7+15727.1)/(2)=18633.4","(48207.9+36583.7)/(2)=42395.8",null,null,null,null,null,null,null,null,null,"S2","(27784.5+0)/(2)=13892.25","(5556.9+50012.1)/(2)=27784.5","(0+25561.7)/(2)=12780.85","(67794.2+35564.2)/(2)=51679.2","(0+51123.5)/(2)=25561.75",null,null,null,null,null,null,null,null,"S2","(19580+12049.2)/(2)=15814.6","(24600.5+37151.8)/(2)=30876.15","(2510.3+10041)/(2)=6275.65","(20082+25102.5)/(2)=22592.3","(33637.4+36147.7)/(2)=34892.55","(5020.5+0)/(2)=2510.25","(0+0)/(2)=0","(17069.7+16065.6)/(2)=16567.7","(21588.2+19077.9)/(2)=20333.05","(22090.2+22090.2)/(2)=22090.25"]
["S3","(21539.7+12308.4)/(2)=16924.05","(17436.9+39318.2)/(2)=28377.55","(0+30086.9)/(2)=15043.45","(21539.7+15727.1)/(2)=18633.4","(48207.9+36583.7)/(2)=42395.8",null,null,null,null,null,null,null,null,null,"S3","(27784.5+0)/(2)=13892.25","(5556.9+50012.1)/(2)=27784.5","(0+25561.7)/(2)=12780.85","(18893.5+35564.2)/(2)=27228.8","(0+51123.5)/(2)=25561.75",null,null,null,null,null,null,null,null,"S3","(19580+12049.2)/(2)=15814.6","(24600.5+37151.8)/(2)=30876.15","(2510.3+10041)/(2)=6275.65","(20082+25102.5)/(2)=22592.3","(33637.4+36147.7)/(2)=34892.55","(0+0)/(2)=0","(0+0)/(2)=0","(16065.6+1004.1)/(2)=8534.85","(0+0)/(2)=0","(22090.2+12049.2)/(2)=17069.75"]
["S4","(16411.2+12308.4)/(2)=14359.8","(17436.9+39318.2)/(2)=28377.55","(0+30086.9)/(2)=15043.45","(10257+15727.1)/(2)=12992.05","(48207.9+36583.7)/(2)=42395.8",null,null,null,null,null,null,null,null,null,"S4","(27784.5+0)/(2)=13892.25","(5556.9+36675.5)/(2)=21116.2","(0+25561.7)/(2)=12780.85","(18893.5+35564.2)/(2)=27228.8","(0+24450.4)/(2)=12225.2",null,null,null,null,null,null,null,null,"S4","(19580+12049.2)/(2)=15814.6","(24600.5+37151.8)/(2)=30876.15","(2510.3+10041)/(2)=6275.65","(20082+25102.5)/(2)=22592.3","(33637.4+36147.7)/(2)=34892.55","(0+0)/(2)=0","(0+0)/(2)=0","(16065.6+1004.1)/(2)=8534.85","(0+0)/(2)=0","(0+0)/(2)=0"]
["S5","(16411.2+12308.4)/(2)=14359.8","(17436.9+23591.1)/(2)=20514","(0+30086.9)/(2)=15043.45","(10257+15727.1)/(2)=12992.05","(31796.7+29403.8)/(2)=30600.25",null,null,null,null,null,null,null,null,null,"S5","(27784.5+0)/(2)=13892.25","(5556.9+27784.5)/(2)=16670.7","(0+25561.7)/(2)=12780.85","(18893.5+35564.2)/(2)=27228.8","(0+24450.4)/(2)=12225.2",null,null,null,null,null,null,null,null,"S5","(19580+12049.2)/(2)=15814.6","(24600.5+37151.8)/(2)=30876.15","(2510.3+10041)/(2)=6275.65","(20082+25102.5)/(2)=22592.3","(20082+30123.1)/(2)=25102.55","(0+0)/(2)=0","(0+0)/(2)=0","(16065.6+1004.1)/(2)=8534.85","(0+0)/(2)=0","(0+0)/(2)=0"]
["S6","(0+12308.4)/(2)=6154.2","(17436.9+23591.1)/(2)=20514","(0+10257)/(2)=5128.5","(10257+15727.1)/(2)=12992.05","(31796.7+29403.8)/(2)=30600.25",null,null,null,null,null,null,null,null,null,"S6","(0+0)/(2)=0","(5556.9+27784.5)/(2)=16670.7","(0+4445.5)/(2)=2222.75","(18893.5+35564.2)/(2)=27228.8","(0+0)/(2)=0",null,null,null,null,null,null,null,null,"S6","(0+1004.1)/(2)=502.05","(24600.5+37151.8)/(2)=30876.15","(0+0)/(2)=0","(20082+25102.5)/(2)=22592.3","(20082+30123.1)/(2)=25102.55","(0+0)/(2)=0","(0+0)/(2)=0","(0+0)/(2)=0","(0+0)/(2)=0","(0+0)/(2)=0"]
["S7","(0+12308.4)/(2)=6154.2","(4102.8+0)/(2)=2051.4","(0+10257)/(2)=5128.5","(10257+6495.8)/(2)=8376.4","(31796.7+29403.8)/(2)=30600.25",null,null,null,null,null,null,null,null,null,"S7","(0+0)/(2)=0","(5556.9+27784.5)/(2)=16670.7","(0+4445.5)/(2)=2222.75","(18893.5+35564.2)/(2)=27228.8","(0+0)/(2)=0",null,null,null,null,null,null,null,null,"S7","(0+1004.1)/(2)=502.05","(0+0)/(2)=0","(0+0)/(2)=0","(0+0)/(2)=0","(20082+30123.1)/(2)=25102.55","(0+0)/(2)=0","(0+0)/(2)=0","(0+0)/(2)=0","(0+0)/(2)=0","(0+0)/(2)=0"]
["S8","(0+12308.4)/(2)=6154.2","(4102.8+0)/(2)=2051.4","(0+10257)/(2)=5128.5","(10257+6495.8)/(2)=8376.4","(31796.7+29403.8)/(2)=30600.25",null,null,null,null,null,null,null,null,null,"S8","(0+0)/(2)=0","(0+27784.5)/(2)=13892.25","(0+4445.5)/(2)=2222.75","(18893.5+35564.2)/(2)=27228.8","(0+0)/(2)=0",null,null,null,null,null,null,null,null,"S8","(0+1004.1)/(2)=502.05","(0+0)/(2)=0","(0+0)/(2)=0","(0+0)/(2)=0","(20082+30123.1)/(2)=25102.55","(0+0)/(2)=0","(0+0)/(2)=0","(0+0)/(2)=0","(0+0)/(2)=0","(0+0)/(2)=0"]
["S9","(0+12308.4)/(2)=6154.2","(4102.8+0)/(2)=2051.4","(0+10257)/(2)=5128.5","(10257+6495.8)/(2)=8376.4","(3077.1+0)/(2)=1538.55",null,null,null,null,null,null,null,null,null,"S9","(0+0)/(2)=0","(0+27784.5)/(2)=13892.25","(0+4445.5)/(2)=2222.75","(18893.5+26673.1)/(2)=22783.3","(0+0)/(2)=0",null,null,null,null,null,null,null,null,"S9","(0+0)/(2)=0","(0+0)/(2)=0","(0+0)/(2)=0","(0+0)/(2)=0","(16065.6+16065.6)/(2)=16065.65","(0+0)/(2)=0","(0+0)/(2)=0","(0+0)/(2)=0","(0+0)/(2)=0","(0+0)/(2)=0"]
["S10","(0+12308.4)/(2)=6154.2","(4102.8+0)/(2)=2051.4","(0+10257)/(2)=5128.5","(10257+6495.8)/(2)=8376.4","(3077.1+0)/(2)=1538.55",null,null,null,null,null,null,null,null,null,"S10","(0+0)/(2)=0","(0+27784.5)/(2)=13892.25","(0+4445.5)/(2)=2222.75","(18893.5+26673.1)/(2)=22783.3","(0+0)/(2)=0",null,null,null,null,null,null,null,null,"S10","(0+0)/(2)=0","(0+0)/(2)=0","(0+0)/(2)=0","(0+0)/(2)=0","(0+0)/(2)=0","(0+0)/(2)=0","(0+0)/(2)=0","(0+0)/(2)=0","(0+0)/(2)=0","(0+0)/(2)=0"]
["S11","(0+12308.4)/(2)=6154.2","(4102.8+0)/(2)=2051.4","(0+10257)/(2)=5128.5","(10257+6495.8)/(2)=8376.4","(0+0)/(2)=0",null,null,null,null,null,null,null,null,null,"S11","(0+0)/(2)=0","(0+27784.5)/(2)=13892.25","(0+0)/(2)=0","(18893.5+26673.1)/(2)=22783.3","(0+0)/(2)=0",null,null,null,null,null,null,null,null,"S11","(0+0)/(2)=0","(0+0)/(2)=0","(0+0)/(2)=0","(0+0)/(2)=0","(0+0)/(2)=0","(0+0)/(2)=0","(0+0)/(2)=0","(0+0)/(2)=0","(0+0)/(2)=0","(0+0)/(2)=0"]
["S12","(0+12308.4)/(2)=6154.2","(4102.8+0)/(2)=2051.4","(0+10257)/(2)=5128.5","(10257+0)/(2)=5128.5","(0+0)/(2)=0",null,null,null,null,null,null,null,null,null,"S12","(0+0)/(2)=0","(0+27784.5)/(2)=13892.25","(0+0)/(2)=0","(18893.5+26673.1)/(2)=22783.3","(0+0)/(2)=0",null,null,null,null,null,null,null,null,"S12","(0+0)/(2)=0","(0+0)/(2)=0","(0+0)/(2)=0","(0+0)/(2)=0","(0+0)/(2)=0","(0+0)/(2)=0","(0+0)/(2)=0","(0+0)/(2)=0","(0+0)/(2)=0","(0+0)/(2)=0"]
["S13","(0+12308.4)/(2)=6154.2","(4102.8+0)/(2)=2051.4","(0+0)/(2)=0","(10257+0)/(2)=5128.5","(0+0)/(2)=0",null,null,null,null,null,null,null,null,null,"S13","(0+0)/(2)=0","(0+27784.5)/(2)=13892.25","(0+0)/(2)=0","(18893.5+26673.1)/(2)=22783.3","(0+0)/(2)=0",null,null,null,null,null,null,null,null,"S13","(0+0)/(2)=0","(0+0)/(2)=0","(0+0)/(2)=0","(0+0)/(2)=0","(0+0)/(2)=0","(0+0)/(2)=0","(0+0)/(2)=0","(0+0)/(2)=0","(0+0)/(2)=0","(0+0)/(2)=0"]
["S14","(0+0)/(2)=0","(4102.8+0)/(2)=2051.4","(0+0)/(2)=0","(10257+0)/(2)=5128.5","(0+0)/(2)=0",null,null,null,null,null,null,null,null,null,"S14","(0+0)/(2)=0","(0+21116.2)/(2)=10558.1","(0+0)/(2)=0","(18893.5+26673.1)/(2)=22783.3","(0+0)/(2)=0",null,null,null,null,null,null,null,null,"S14","(0+0)/(2)=0","(0+0)/(2)=0","(0+0)/(2)=0","(0+0)/(2)=0","(0+0)/(2)=0","(0+0)/(2)=0","(0+0)/(2)=0","(0+0)/(2)=0","(0+0)/(2)=0","(0+0)/(2)=0"]
["S15","(0+0)/(2)=0","(0+0)/(2)=0","(0+0)/(2)=0","(10257+0)/(2)=5128.5","(0+0)/(2)=0",null,null,null,null,null,null,null,null,null,"S15","(0+0)/(2)=0","(0+13336.6)/(2)=6668.3","(0+0)/(2)=0","(18893.5+0)/(2)=9446.75","(0+0)/(2)=0",null,null,null,null,null,null,null,null,"S15","(0+0)/(2)=0","(0+0)/(2)=0","(0+0)/(2)=0","(0+0)/(2)=0","(0+0)/(2)=0","(0+0)/(2)=0","(0+0)/(2)=0","(0+0)/(2)=0","(0+0)/(2)=0","(0+0)/(2)=0"]
["S16","(0+0)/(2)=0","(0+0)/(2)=0","(0+0)/(2)=0","(0+0)/(2)=0","(0+0)/(2)=0",null,null,null,null,null,null,null,null,null,"S16","(0+0)/(2)=0","(0+0)/(2)=0","(0+0)/(2)=0","(0+0)/(2)=0","(0+0)/(2)=0",null,null,null,null,null,null,null,null,"S16","(0+0)/(2)=0","(0+0)/(2)=0","(0+0)/(2)=0","(0+0)/(2)=0","(0+0)/(2)=0","(0+0)/(2)=0","(0+0)/(2)=0","(0+0)/(2)=0","(0+0)/(2)=0","(0+0)/(2)=0"]
[]
[0,{"$f":"B44","v":24787.599999999999},{"$f":"C44","v":28377.5},45985.7,18633.400000000001,42395.8,null,null,null,null,null,null,null,null,null,0,{"$f":"Q44","v":13892.3},{"$f":"R44","v":27784.5},{"$f":"S44","v":12780.9},{"$f":"T44","v":51679.199999999997},{"$f":"U44","v":25561.7},null,null,null,null,null,null,null,null,"L�pcs�k(2)","X(A1)","X(A2)","X(A3)","X(A4)","X(A5)","X(A6)","X(A7)","X(A8)","X(A9)","X(A10)"]
[1,24787.599999999999,28377.5,45985.7,18633.400000000001,42395.8,null,null,null,null,null,null,null,null,null,1,13892.3,27784.5,12780.9,51679.199999999997,25561.7,null,null,null,null,null,null,null,null,"S1",15814.6,30876.1,48447.9,22592.3,34892.5,2510.3000000000002,0,22090.2,20333.099999999999,22090.2]
[2,24787.599999999999,28377.5,15043.4,18633.400000000001,42395.8,null,null,null,null,null,null,null,null,null,2,13892.3,27784.5,12780.9,51679.199999999997,25561.7,null,null,null,null,null,null,null,null,"S2",15814.6,30876.1,6275.6,22592.3,34892.5,2510.3000000000002,0,16567.7,20333.099999999999,22090.2]
[3,16924.099999999999,28377.5,15043.4,18633.400000000001,42395.8,null,null,null,null,null,null,null,null,null,3,13892.3,27784.5,12780.9,27228.799999999999,25561.7,null,null,null,null,null,null,null,null,"S3",15814.6,30876.1,6275.6,22592.3,34892.5,0,0,8534.9,0,17069.7]
[4,14359.8,28377.5,15043.4,12992,42395.8,null,null,null,null,null,null,null,null,null,4,13892.3,21116.2,12780.9,27228.799999999999,12225.2,null,null,null,null,null,null,null,null,"S4",15814.6,30876.1,6275.6,22592.3,34892.5,0,0,8534.9,0,0]
[5,14359.8,20514,15043.4,12992,30600.2,null,null,null,null,null,null,null,null,null,5,13892.3,16670.7,12780.9,27228.799999999999,12225.2,null,null,null,null,null,null,null,null,"S5",15814.6,30876.1,6275.6,22592.3,25102.5,0,0,8534.9,0,0]
[6,6154.2,20514,5128.5,12992,30600.2,null,null,null,null,null,null,null,null,null,6,0,16670.7,2222.8000000000002,27228.799999999999,0,null,null,null,null,null,null,null,null,"S6",502.1,30876.1,0,22592.3,25102.5,0,0,0,0,0]
[7,6154.2,2051.4,5128.5,8376.4,30600.2,null,null,null,null,null,null,null,null,null,7,0,16670.7,2222.8000000000002,27228.799999999999,0,null,null,null,null,null,null,null,null,"S7",502.1,0,0,0,25102.5,0,0,0,0,0]
[8,6154.2,2051.4,5128.5,8376.4,30600.2,null,null,null,null,null,null,null,null,null,8,0,13892.3,2222.8000000000002,27228.799999999999,0,null,null,null,null,null,null,null,null,"S8",502.1,0,0,0,25102.5,0,0,0,0,0]
[9,6154.2,2051.4,5128.5,8376.4,1538.6,null,null,null,null,null,null,null,null,null,9,0,13892.3,2222.8000000000002,22783.3,0,null,null,null,null,null,null,null,null,"S9",0,0,0,0,16065.6,0,0,0,0,0]
[10,6154.2,2051.4,5128.5,8376.4,1538.6,null,null,null,null,null,null,null,null,null,10,0,13892.3,2222.8000000000002,22783.3,0,null,null,null,null,null,null,null,null,"S10",0,0,0,0,0,0,0,0,0,0]
[11,6154.2,2051.4,5128.5,8376.4,0,null,null,null,null,null,null,null,null,null,11,0,13892.3,0,22783.3,0,null,null,null,null,null,null,null,null,"S11",0,0,0,0,0,0,0,0,0,0]
[12,6154.2,2051.4,5128.5,5128.5,0,null,null,null,null,null,null,null,null,null,12,0,13892.3,0,22783.3,0,null,null,null,null,null,null,null,null,"S12",0,0,0,0,0,0,0,0,0,0]
[13,6154.2,2051.4,0,5128.5,0,null,null,null,null,null,null,null,null,null,13,0,13892.3,0,22783.3,0,null,null,null,null,null,null,null,null,"S13",0,0,0,0,0,0,0,0,0,0]
[14,0,2051.4,0,5128.5,0,null,null,null,null,null,null,null,null,null,14,0,10558.1,0,22783.3,0,null,null,null,null,null,null,null,null,"S14",0,0,0,0,0,0,0,0,0,0]
[15,0,0,0,5128.5,0,null,null,null,null,null,null,null,null,null,15,0,6668.3,0,9446.7000000000007,0,null,null,null,null,null,null,null,null,"S15",0,0,0,0,0,0,0,0,0,0]
[16,0,0,0,0,0,null,null,null,null,null,null,null,null,null,16,0,0,0,0,0,null,null,null,null,null,null,null,null,"S16",0,0,0,0,0,0,0,0,0,0]
[]
["COCO:STD","X(A1)","X(A2)","X(A3)","X(A4)","X(A5)","Becsl�s","T�ny+0","Delta","Delta/T�ny","abs",null,null,null,null,"COCO:STD","X(A1)","X(A2)","X(A3)","X(A4)","X(A5)","Becsl�s","T�ny+0","Delta","Delta/T�ny","abs",null,null,null,"COCO:STD","X(A1)","X(A2)","X(A3)","X(A4)","X(A5)","X(A6)","X(A7)","X(A8)","X(A9)","X(A10)","Becsl�s","T�ny+0","Delta","Delta/T�ny"]
["O1",24787.599999999999,2051.4,5128.5,0,30600.2,62567.7,61000,-1567.7,-2.57,{"$f":"ABS(I62)","v":1567.7},null,null,null,null,"O1",0,13892.3,2222.8000000000002,51679.199999999997,0,67794.2,61000,-6794.2,-11.14,{"$f":"ABS(X62)","v":6794.2},null,null,null,"O1",15814.6,0,0,0,25102.5,0,0,0,20333.099999999999,0,61250.2,61000,-250.2,-0.41]
["O2",0,28377.5,0,5128.5,42395.8,75901.8,74000,-1901.8,-2.57,{"$f":"ABS(I63)","v":1901.8},null,null,null,null,"O2",13892.3,10558.1,12780.9,27228.799999999999,0,64460,74000,9540,12.89,{"$f":"ABS(X63)","v":9540},null,null,null,"O2",0,30876.1,0,0,34892.5,0,0,8534.9,0,0,74303.5,74000,-303.5,-0.41]
["O3",14359.8,2051.4,15043.4,5128.5,42395.8,78978.899999999994,77000,-1978.9,-2.57,1978.9,null,null,null,null,"O3",0,27784.5,0,51679.199999999997,0,79463.7,77000,-2463.6999999999998,-3.2,2463.6999999999998,null,null,null,"O3",15814.6,0,6275.6,0,34892.5,0,0,0,20333.099999999999,0,77315.8,77000,-315.8,-0.41]
["O4",24787.599999999999,28377.5,5128.5,12992,0,71285.7,86000,14714.3,17.11,14714.3,null,null,null,null,"O4",0,6668.3,2222.8000000000002,22783.3,25561.7,57236.1,86000,28763.9,33.450000000000003,28763.9,null,null,null,"O4",15814.6,30876.1,0,22592.3,0,0,0,0,0,17069.7,86352.7,86000,-352.7,-0.41]
["O5",6154.2,20514,45985.7,8376.4,0,81030.3,79000,-2030.3,-2.57,2030.3,null,null,null,null,"O5",0,13892.3,0,27228.799999999999,12225.2,53346.2,79000,25653.8,32.47,25653.8,null,null,null,"O5",0,30876.1,48447.9,0,0,0,0,0,0,0,79324,79000,-324,-0.41]
["O6",16924.099999999999,2051.4,15043.4,5128.5,1538.6,40686,38000,-2686,-7.07,2686,null,null,null,null,"O6",0,16670.7,0,27228.799999999999,0,43899.5,38000,-5899.5,-15.53,5899.5,null,null,null,"O6",15814.6,0,6275.6,0,16065.6,0,0,0,0,0,38155.9,38000,-155.9,-0.41]
["O7",14359.8,20514,5128.5,8376.4,30600.2,78978.899999999994,80000,1021.1,1.28,1021.1,null,null,null,null,"O7",0,13892.3,12780.9,27228.799999999999,0,53901.9,80000,26098.1,32.619999999999997,26098.1,null,null,null,"O7",15814.6,30876.1,0,0,25102.5,0,0,8534.9,0,0,80328.100000000006,80000,-328.1,-0.41]
["O8",0,2051.4,5128.5,18633.400000000001,0,25813.3,25000,-813.3,-3.25,813.3,null,null,null,null,"O8",13892.3,13892.3,0,0,0,27784.5,25000,-2784.5,-11.14,2784.5,null,null,null,"O8",0,0,0,22592.3,0,2510.3000000000002,0,0,0,0,25102.5,25000,-102.5,-0.41]
["O9",6154.2,2051.4,0,18633.400000000001,30600.2,57439.199999999997,56000,-1439.2,-2.57,1439.2,null,null,null,null,"O9",13892.3,21116.2,12780.9,9446.7000000000007,0,57236.1,56000,-1236.0999999999999,-2.21,1236.0999999999999,null,null,null,"O9",0,0,0,22592.3,25102.5,0,0,8534.9,0,0,56229.7,56000,-229.7,-0.41]
["O10",6154.2,28377.5,15043.4,8376.4,0,57951.6,27000,-30951.599999999999,-114.64,30951.599999999999,null,null,null,null,"O10",0,0,0,22783.3,12225.2,35008.5,27000,-8008.5,-29.66,8008.5,null,null,null,"O10",502.1,30876.1,6275.6,0,0,0,0,0,0,0,37653.800000000003,27000,-10653.8,-39.46]
["O11",6154.2,2051.4,0,8376.4,1538.6,18120.5,17000,-1120.5,-6.59,1120.5,null,null,null,null,"O11",0,13892.3,12780.9,22783.3,0,49456.4,17000,-32456.400000000001,-190.92,32456.400000000001,null,null,null,"O11",502.1,0,0,0,0,0,0,16567.7,0,0,17069.7,17000,-69.7,-0.41]
["O12",6154.2,28377.5,15043.4,18633.400000000001,0,68208.600000000006,95000,26791.4,28.2,26791.4,null,null,null,null,"O12",0,13892.3,0,22783.3,25561.7,62237.3,95000,32762.7,34.49,32762.7,null,null,null,"O12",502.1,30876.1,6275.6,22592.3,0,0,0,0,0,22090.2,82336.3,95000,12663.7,13.33]
["O13",6154.2,2051.4,0,8376.4,30600.2,47182.2,47000,-182.2,-0.39,182.2,null,null,null,null,"O13",13892.3,16670.7,12780.9,27228.799999999999,0,70572.600000000006,47000,-23572.6,-50.15,23572.6,null,null,null,"O13",0,0,0,0,25102.5,0,0,22090.2,0,0,47192.800000000003,47000,-192.8,-0.41]
["O14",6154.2,0,5128.5,5128.5,0,16411.2,22000,5588.8,25.4,5588.8,null,null,null,null,"O14",0,27784.5,2222.8000000000002,27228.799999999999,25561.7,82797.8,22000,-60797.8,-276.35000000000002,60797.8,null,null,null,"O14",0,0,0,0,0,0,0,0,0,22090.2,22090.2,22000,-90.2,-0.41]
["O15",14359.8,0,5128.5,12992,42395.8,74876.100000000006,73000,-1876.1,-2.57,1876.1,null,null,null,null,"O15",0,27784.5,2222.8000000000002,22783.3,0,52790.6,73000,20209.400000000001,27.68,20209.400000000001,null,null,null,"O15",15814.6,0,0,22592.3,34892.5,0,0,0,0,0,73299.399999999994,73000,-299.39999999999998,-0.41]
["O16",0,2051.4,5128.5,12992,42395.8,62567.7,61000,-1567.7,-2.57,1567.7,null,null,null,null,"O16",13892.3,21116.2,2222.8000000000002,22783.3,0,60014.5,61000,985.5,1.62,985.5,null,null,null,"O16",0,0,0,22592.3,34892.5,2510.3000000000002,0,0,0,0,59995.1,61000,1004.9,1.65]
[null,null,null,null,null,null,null,null,{"$f":"STDEV(I62:I77)","v":11418.97485942988},null,{"$f":"SUM(K62:K77)","v":96230.900000000009},null,null,null,null,null,null,null,null,null,null,null,null,{"$f":"STDEV(X62:X77)","v":24774.042564761712},null,{"$f":"SUM(Z62:Z77)","v":288026.70000000007},null,null,null,null,null,null,null,null,null,null,null,null,null,null,null,null,{"$f":"STDEV(AQ62:AQ77)","v":4287.2012661282497}]
["S1 �sszeg:",160180,null,null,null,null,null,null,null,null,null,null,null,null,null,"S1 �sszeg:",131698.6,null,null,null,null,null,null,null,null,null,null,null,null,"S1 �sszeg:",219647.2]
["S16 �sszeg:",0,null,null,null,null,null,null,null,null,null,null,null,null,null,"S16 �sszeg:",0,null,null,null,null,null,null,null,null,null,null,null,null,"S16 �sszeg:",0]
["Becsl�s �sszeg:",917999.7,null,null,null,null,null,null,null,null,null,null,null,null,null,"Becsl�s �sszeg:",917999.9,null,null,null,null,null,null,null,null,null,null,null,null,"Becsl�s �sszeg:",917999.7]
["T�ny �sszeg:",918000,null,null,null,null,null,null,null,null,null,null,null,null,null,"T�ny �sszeg:",918000,null,null,null,null,null,null,null,null,null,null,null,null,"T�ny �sszeg:",918000]
["T�ny-becsl�s elt�r�s:",-0.3,null,null,null,null,null,null,null,null,null,null,null,null,null,"T�ny-becsl�s elt�r�s:",-0.1,null,null,null,null,null,null,null,null,null,null,null,null,"T�ny-becsl�s elt�r�s:",-0.3]
["T�ny n�gyzet�sszeg:",null,null,null,null,null,null,null,null,null,null,null,null,null,null,"T�ny n�gyzet�sszeg:",null,null,null,null,null,null,null,null,null,null,null,null,null,"T�ny n�gyzet�sszeg:"]
["Becsl�s n�gyzet�sszeg:",null,null,null,null,null,null,null,null,null,null,null,null,null,null,"Becsl�s n�gyzet�sszeg:",null,null,null,null,null,null,null,null,null,null,null,null,null,"Becsl�s n�gyzet�sszeg:"]
["N�gyzet�sszeg hiba:",0,null,null,null,null,null,null,null,null,null,null,null,null,null,"N�gyzet�sszeg hiba:",0,null,null,null,null,null,null,null,null,null,null,null,null,"N�gyzet�sszeg hiba:",0]
[]
["Open url",null,null,null,null,null,null,null,null,null,null,null,null,null,null,"Open url",null,null,null,null,null,null,null,null,null,null,null,null,null,"Open url"]
[]
["Maxim�lis mem�ria haszn�lat: 1.36 Mb",null,null,null,null,null,null,null,null,null,null,null,null,null,null,"Maxim�lis mem�ria haszn�lat: 1.36 Mb",null,null,null,null,null,null,null,null,null,null,null,null,null,"Maxim�lis mem�ria haszn�lat: 1.38 Mb"]
["A futtat�s id�tartama: 0.19 mp (0 p)",null,null,null,null,null,null,null,null,null,null,null,null,null,null,"A futtat�s id�tartama: 0.05 mp (0 p)",null,null,null,null,null,null,null,null,null,null,null,null,null,"A futtat�s id�tartama: 0.08 mp (0 p)"]
[]
[]
[]
[]
[]
[]
[]
[]
[]
[]
[]
[]
[]
["Azonos�t�:",5360416,"Objektumok:",16,"Attrib�tumok:",5,"Lepcs�k:",16,"Eltol�s:",0,"Le�r�s:","COCO STD: 5360416",null,null,null,"Azonos�t�:",7310232,"Objektumok:",16,"Attrib�tumok:",5,"Lepcs�k:",16,"Eltol�s:",0,"Le�r�s:","COCO STD: 7310232",null,null,"Azonos�t�:",4113151,"Objektumok:",16,"Attrib�tumok:",10,"Lepcs�k:",16,"Eltol�s:",0,"Le�r�s:","COCO STD: 4113151"]
[]
["Rangsor","X(A1)","X(A2)","X(A3)","X(A4)","X(A5)","Y(A6)",null,{"$f":"B107","v":"X(A1)"},{"$f":"C107","v":"X(A2)"},{"$f":"D107","v":"X(A3)"},{"$f":"E107","v":"X(A4)"},{"$f":"F107","v":"X(A5)"},{"$f":"G107","v":"Y(A6)"},null,"Rangsor","X(A1)","X(A2)","X(A3)","X(A4)","X(A5)","Y(A6)",null,null,null,null,null,null,null,"Rangsor","X(A1)","X(A2)","X(A3)","X(A4)","X(A5)","X(A6)","X(A7)","X(A8)","X(A9)","X(A10)","Y(A11)"]
["O1",16,6,15,8,7,27000,null,{"$f":"RANK(B108,B$108:B$123,0)","v":1},{"$f":"RANK(C108,C$108:C$123,0)","v":11},{"$f":"RANK(D108,D$108:D$123,0)","v":2},{"$f":"RANK(E108,E$108:E$123,0)","v":9},{"$f":"RANK(F108,F$108:F$123,0)","v":10},27000,null,"O1",1,11,2,9,10,27000,null,null,null,null,null,null,null,"O1",16,6,15,8,7,1,11,2,9,10,27000]
["O2",5,8,3,2,11,96000,null,{"$f":"RANK(B109,B$108:B$123,0)","v":13},9,14,16,6,96000,null,"O2",13,9,14,16,6,96000,null,null,null,null,null,null,null,"O2",5,8,3,2,11,13,9,14,16,6,96000]
["O3",11,15,5,7,9,70000,null,7,2,12,11,8,70000,null,"O3",7,2,12,11,8,70000,null,null,null,null,null,null,null,"O3",11,15,5,7,9,7,2,12,11,8,70000]
["O4",6,11,11,11,4,98000,null,11,6,6,7,13,98000,null,"O4",11,6,6,7,13,98000,null,null,null,null,null,null,null,"O4",6,11,11,11,4,11,6,6,7,13,98000]
["O5",2,2,14,13,6,60000,null,15,15,3,5,11,60000,null,"O5",15,15,3,5,11,60000,null,null,null,null,null,null,null,"O5",2,2,14,13,6,15,15,3,5,11,60000]
["O6",14,7,1,10,1,63000,null,3,10,16,8,16,63000,null,"O6",3,10,16,8,16,63000,null,null,null,null,null,null,null,"O6",14,7,1,10,1,3,10,16,8,16,63000]
["O7",6,1,8,4,15,65000,null,11,16,8,14,2,65000,null,"O7",11,16,8,14,2,65000,null,null,null,null,null,null,null,"O7",6,1,8,4,15,11,16,8,14,2,65000]
["O8",1,9,6,12,8,22000,null,16,8,10,6,9,22000,null,"O8",16,8,10,6,9,22000,null,null,null,null,null,null,null,"O8",1,9,6,12,8,16,8,10,6,9,22000]
["O9",3,16,6,14,14,12000,null,14,1,10,4,3,12000,null,"O9",14,1,10,4,3,12000,null,null,null,null,null,null,null,"O9",3,16,6,14,14,14,1,10,4,3,12000]
["O10",10,4,4,6,2,36000,null,8,13,13,12,15,36000,null,"O10",8,13,13,12,15,36000,null,null,null,null,null,null,null,"O10",10,4,4,6,2,8,13,13,12,15,36000]
["O11",9,5,9,3,10,83000,null,9,12,7,15,7,83000,null,"O11",9,12,7,15,7,83000,null,null,null,null,null,null,null,"O11",9,5,9,3,10,9,12,7,15,7,83000]
["O12",15,14,16,16,3,40000,null,2,3,1,1,14,40000,null,"O12",2,3,1,1,14,40000,null,null,null,null,null,null,null,"O12",15,14,16,16,3,2,3,1,1,14,40000]
["O13",8,12,2,15,5,77000,null,10,5,15,3,12,77000,null,"O13",10,5,15,3,12,77000,null,null,null,null,null,null,null,"O13",8,12,2,15,5,10,5,15,3,12,77000]
["O14",13,3,12,5,16,10000,null,4,14,5,13,1,10000,null,"O14",4,14,5,13,1,10000,null,null,null,null,null,null,null,"O14",13,3,12,5,16,4,14,5,13,1,10000]
["O15",12,13,13,8,13,27000,null,6,4,4,9,4,27000,null,"O15",6,4,4,9,4,27000,null,null,null,null,null,null,null,"O15",12,13,13,8,13,6,4,4,9,4,27000]
["O16",13,10,7,16,12,86000,null,4,7,9,1,5,86000,null,"O16",4,7,9,1,5,86000,null,null,null,null,null,null,null,"O16",13,10,7,16,12,4,7,9,1,5,86000]
[null,null,null,null,null,null,null,null,"inverse","inverse","inverse","inverse","inverse"]
["L�pcs�k(1)","X(A1)","X(A2)","X(A3)","X(A4)","X(A5)",null,null,null,null,null,null,null,null,null,"L�pcs�k(1)","X(A1)","X(A2)","X(A3)","X(A4)","X(A5)",null,null,null,null,null,null,null,null,"L�pcs�k(1)","X(A1)","X(A2)","X(A3)","X(A4)","X(A5)","X(A6)","X(A7)","X(A8)","X(A9)","X(A10)"]
["S1","(8899.1+8404.7)/(2)=8651.9","(23730.9+15820.6)/(2)=19775.8","(35596.4+40046)/(2)=37821.2","(73170.4+1483.2)/(2)=37326.8","(26697.3+38562.8)/(2)=32630.05",null,null,null,null,null,null,null,null,null,"S1","(16515.2+39636.4)/(2)=28075.75","(13212.1+34131.3)/(2)=23671.7","(0+23121.2)/(2)=11560.6","(19818.2+0)/(2)=9909.1","(0+31929.3)/(2)=15964.65",null,null,null,null,null,null,null,null,"S1","(0+4977.3)/(2)=2488.65","(37827.3+47284.1)/(2)=42555.7","(36334.1+39320.5)/(2)=37827.25","(68686.4+61718.2)/(2)=65202.25","(21402.3+7465.9)/(2)=14434.1","(4977.3+10452.3)/(2)=7714.75","(11447.7+56740.9)/(2)=34094.3","(0+0)/(2)=0","(1990.9+0)/(2)=995.45","(497.7+0)/(2)=248.85"]
["S2","(8899.1+8404.7)/(2)=8651.9","(23730.9+15820.6)/(2)=19775.8","(35596.4+40046)/(2)=37821.2","(73170.4+1483.2)/(2)=37326.8","(26697.3+38562.8)/(2)=32630.05",null,null,null,null,null,null,null,null,null,"S2","(11010.1+39636.4)/(2)=25323.25","(13212.1+34131.3)/(2)=23671.7","(0+23121.2)/(2)=11560.6","(19818.2+0)/(2)=9909.1","(0+31929.3)/(2)=15964.65",null,null,null,null,null,null,null,null,"S2","(0+4977.3)/(2)=2488.65","(37827.3+47284.1)/(2)=42555.7","(36334.1+12443.2)/(2)=24388.65","(68686.4+61718.2)/(2)=65202.25","(21402.3+7465.9)/(2)=14434.1","(4977.3+0)/(2)=2488.65","(11447.7+56740.9)/(2)=34094.3","(0+0)/(2)=0","(1990.9+0)/(2)=995.45","(497.7+0)/(2)=248.85"]
["S3","(8899.1+8404.7)/(2)=8651.9","(0+9887.9)/(2)=4943.95","(0+40046)/(2)=20023","(60316.1+0)/(2)=30158.05","(26697.3+38562.8)/(2)=32630.05",null,null,null,null,null,null,null,null,null,"S3","(11010.1+39636.4)/(2)=25323.25","(13212.1+34131.3)/(2)=23671.7","(0+23121.2)/(2)=11560.6","(19818.2+0)/(2)=9909.1","(0+31929.3)/(2)=15964.65",null,null,null,null,null,null,null,null,"S3","(0+4977.3)/(2)=2488.65","(0+15927.3)/(2)=7963.65","(4977.3+12443.2)/(2)=8710.25","(55745.5+53754.5)/(2)=54750","(21402.3+7465.9)/(2)=14434.1","(4977.3+0)/(2)=2488.65","(11447.7+56740.9)/(2)=34094.3","(0+0)/(2)=0","(1990.9+0)/(2)=995.45","(497.7+0)/(2)=248.85"]
["S4","(8899.1+8404.7)/(2)=8651.9","(0+9887.9)/(2)=4943.95","(0+40046)/(2)=20023","(31641.3+0)/(2)=15820.65","(26697.3+38562.8)/(2)=32630.05",null,null,null,null,null,null,null,null,null,"S4","(11010.1+39636.4)/(2)=25323.25","(13212.1+34131.3)/(2)=23671.7","(0+23121.2)/(2)=11560.6","(0+0)/(2)=0","(0+31929.3)/(2)=15964.65",null,null,null,null,null,null,null,null,"S4","(0+4977.3)/(2)=2488.65","(0+15927.3)/(2)=7963.65","(4977.3+12443.2)/(2)=8710.25","(21402.3+0)/(2)=10701.15","(21402.3+7465.9)/(2)=14434.1","(4977.3+0)/(2)=2488.65","(11447.7+56740.9)/(2)=34094.3","(0+0)/(2)=0","(0+0)/(2)=0","(497.7+0)/(2)=248.85"]
["S5","(8899.1+8404.7)/(2)=8651.9","(0+9887.9)/(2)=4943.95","(0+40046)/(2)=20023","(988.8+0)/(2)=494.4","(26697.3+35102)/(2)=30899.65",null,null,null,null,null,null,null,null,null,"S5","(11010.1+39636.4)/(2)=25323.25","(13212.1+34131.3)/(2)=23671.7","(0+23121.2)/(2)=11560.6","(0+0)/(2)=0","(0+31929.3)/(2)=15964.65",null,null,null,null,null,null,null,null,"S5","(0+4977.3)/(2)=2488.65","(0+15927.3)/(2)=7963.65","(4977.3+12443.2)/(2)=8710.25","(4479.5+0)/(2)=2239.75","(21402.3+7465.9)/(2)=14434.1","(4977.3+0)/(2)=2488.65","(11447.7+56740.9)/(2)=34094.3","(0+0)/(2)=0","(0+0)/(2)=0","(497.7+0)/(2)=248.85"]
["S6","(8899.1+8404.7)/(2)=8651.9","(0+9887.9)/(2)=4943.95","(0+40046)/(2)=20023","(0+0)/(2)=0","(26697.3+35102)/(2)=30899.65",null,null,null,null,null,null,null,null,null,"S6","(11010.1+39636.4)/(2)=25323.25","(13212.1+34131.3)/(2)=23671.7","(0+23121.2)/(2)=11560.6","(0+0)/(2)=0","(0+31929.3)/(2)=15964.65",null,null,null,null,null,null,null,null,"S6","(0+4977.3)/(2)=2488.65","(0+15927.3)/(2)=7963.65","(0+12443.2)/(2)=6221.6","(4479.5+0)/(2)=2239.75","(21402.3+7465.9)/(2)=14434.1","(4977.3+0)/(2)=2488.65","(11447.7+56740.9)/(2)=34094.3","(0+0)/(2)=0","(0+0)/(2)=0","(497.7+0)/(2)=248.85"]
["S7","(8899.1+0)/(2)=4449.55","(0+9887.9)/(2)=4943.95","(0+40046)/(2)=20023","(0+0)/(2)=0","(26697.3+35102)/(2)=30899.65",null,null,null,null,null,null,null,null,null,"S7","(11010.1+39636.4)/(2)=25323.25","(13212.1+34131.3)/(2)=23671.7","(0+23121.2)/(2)=11560.6","(0+0)/(2)=0","(0+28626.3)/(2)=14313.15",null,null,null,null,null,null,null,null,"S7","(0+0)/(2)=0","(0+15927.3)/(2)=7963.65","(0+12443.2)/(2)=6221.6","(4479.5+0)/(2)=2239.75","(21402.3+497.7)/(2)=10950","(4977.3+0)/(2)=2488.65","(11447.7+56740.9)/(2)=34094.3","(0+0)/(2)=0","(0+0)/(2)=0","(497.7+0)/(2)=248.85"]
["S8","(8899.1+0)/(2)=4449.55","(0+9887.9)/(2)=4943.95","(0+40046)/(2)=20023","(0+0)/(2)=0","(12854.3+35102)/(2)=23978.15",null,null,null,null,null,null,null,null,null,"S8","(11010.1+39636.4)/(2)=25323.25","(13212.1+34131.3)/(2)=23671.7","(0+0)/(2)=0","(0+0)/(2)=0","(0+11010.1)/(2)=5505.05",null,null,null,null,null,null,null,null,"S8","(0+0)/(2)=0","(0+15927.3)/(2)=7963.65","(0+12443.2)/(2)=6221.6","(0+0)/(2)=0","(21402.3+497.7)/(2)=10950","(4977.3+0)/(2)=2488.65","(0+0)/(2)=0","(0+0)/(2)=0","(0+0)/(2)=0","(497.7+0)/(2)=248.85"]
["S9","(8899.1+0)/(2)=4449.55","(0+9887.9)/(2)=4943.95","(0+40046)/(2)=20023","(0+0)/(2)=0","(12854.3+35102)/(2)=23978.15",null,null,null,null,null,null,null,null,null,"S9","(11010.1+39636.4)/(2)=25323.25","(13212.1+34131.3)/(2)=23671.7","(0+0)/(2)=0","(0+0)/(2)=0","(0+11010.1)/(2)=5505.05",null,null,null,null,null,null,null,null,"S9","(0+0)/(2)=0","(0+15927.3)/(2)=7963.65","(0+12443.2)/(2)=6221.6","(0+0)/(2)=0","(21402.3+497.7)/(2)=10950","(4977.3+0)/(2)=2488.65","(0+0)/(2)=0","(0+0)/(2)=0","(0+0)/(2)=0","(497.7+0)/(2)=248.85"]
["S10","(8899.1+0)/(2)=4449.55","(0+9887.9)/(2)=4943.95","(0+40046)/(2)=20023","(0+0)/(2)=0","(12854.3+35102)/(2)=23978.15",null,null,null,null,null,null,null,null,null,"S10","(11010.1+39636.4)/(2)=25323.25","(13212.1+29727.3)/(2)=21469.7","(0+0)/(2)=0","(0+0)/(2)=0","(0+11010.1)/(2)=5505.05",null,null,null,null,null,null,null,null,"S10","(0+0)/(2)=0","(0+15927.3)/(2)=7963.65","(0+12443.2)/(2)=6221.6","(0+0)/(2)=0","(21402.3+497.7)/(2)=10950","(4977.3+0)/(2)=2488.65","(0+0)/(2)=0","(0+0)/(2)=0","(0+0)/(2)=0","(497.7+0)/(2)=248.85"]
["S11","(8899.1+0)/(2)=4449.55","(0+9887.9)/(2)=4943.95","(0+40046)/(2)=20023","(0+0)/(2)=0","(12854.3+35102)/(2)=23978.15",null,null,null,null,null,null,null,null,null,"S11","(11010.1+39636.4)/(2)=25323.25","(13212.1+0)/(2)=6606.05","(0+0)/(2)=0","(0+0)/(2)=0","(0+11010.1)/(2)=5505.05",null,null,null,null,null,null,null,null,"S11","(0+0)/(2)=0","(0+15927.3)/(2)=7963.65","(0+12443.2)/(2)=6221.6","(0+0)/(2)=0","(21402.3+497.7)/(2)=10950","(4977.3+0)/(2)=2488.65","(0+0)/(2)=0","(0+0)/(2)=0","(0+0)/(2)=0","(497.7+0)/(2)=248.85"]
["S12","(8899.1+0)/(2)=4449.55","(0+988.8)/(2)=494.4","(0+0)/(2)=0","(0+0)/(2)=0","(12854.3+35102)/(2)=23978.15",null,null,null,null,null,null,null,null,null,"S12","(11010.1+39636.4)/(2)=25323.25","(13212.1+0)/(2)=6606.05","(0+0)/(2)=0","(0+0)/(2)=0","(0+11010.1)/(2)=5505.05",null,null,null,null,null,null,null,null,"S12","(0+0)/(2)=0","(0+0)/(2)=0","(0+0)/(2)=0","(0+0)/(2)=0","(21402.3+497.7)/(2)=10950","(0+0)/(2)=0","(0+0)/(2)=0","(0+0)/(2)=0","(0+0)/(2)=0","(497.7+0)/(2)=248.85"]
["S13","(8899.1+0)/(2)=4449.55","(0+988.8)/(2)=494.4","(0+0)/(2)=0","(0+0)/(2)=0","(12854.3+25708.5)/(2)=19281.4",null,null,null,null,null,null,null,null,null,"S13","(11010.1+39636.4)/(2)=25323.25","(13212.1+0)/(2)=6606.05","(0+0)/(2)=0","(0+0)/(2)=0","(0+11010.1)/(2)=5505.05",null,null,null,null,null,null,null,null,"S13","(0+0)/(2)=0","(0+0)/(2)=0","(0+0)/(2)=0","(0+0)/(2)=0","(9954.5+0)/(2)=4977.25","(0+0)/(2)=0","(0+0)/(2)=0","(0+0)/(2)=0","(0+0)/(2)=0","(497.7+0)/(2)=248.85"]
["S14","(0+0)/(2)=0","(0+988.8)/(2)=494.4","(0+0)/(2)=0","(0+0)/(2)=0","(2966.4+0)/(2)=1483.2",null,null,null,null,null,null,null,null,null,"S14","(0+31929.3)/(2)=15964.65","(0+0)/(2)=0","(0+0)/(2)=0","(0+0)/(2)=0","(0+0)/(2)=0",null,null,null,null,null,null,null,null,"S14","(0+0)/(2)=0","(0+0)/(2)=0","(0+0)/(2)=0","(0+0)/(2)=0","(0+0)/(2)=0","(0+0)/(2)=0","(0+0)/(2)=0","(0+0)/(2)=0","(0+0)/(2)=0","(0+0)/(2)=0"]
["S15","(0+0)/(2)=0","(0+0)/(2)=0","(0+0)/(2)=0","(0+0)/(2)=0","(0+0)/(2)=0",null,null,null,null,null,null,null,null,null,"S15","(0+31929.3)/(2)=15964.65","(0+0)/(2)=0","(0+0)/(2)=0","(0+0)/(2)=0","(0+0)/(2)=0",null,null,null,null,null,null,null,null,"S15","(0+0)/(2)=0","(0+0)/(2)=0","(0+0)/(2)=0","(0+0)/(2)=0","(0+0)/(2)=0","(0+0)/(2)=0","(0+0)/(2)=0","(0+0)/(2)=0","(0+0)/(2)=0","(0+0)/(2)=0"]
["S16","(0+0)/(2)=0","(0+0)/(2)=0","(0+0)/(2)=0","(0+0)/(2)=0","(0+0)/(2)=0",null,null,null,null,null,null,null,null,null,"S16","(0+0)/(2)=0","(0+0)/(2)=0","(0+0)/(2)=0","(0+0)/(2)=0","(0+0)/(2)=0",null,null,null,null,null,null,null,null,"S16","(0+0)/(2)=0","(0+0)/(2)=0","(0+0)/(2)=0","(0+0)/(2)=0","(0+0)/(2)=0","(0+0)/(2)=0","(0+0)/(2)=0","(0+0)/(2)=0","(0+0)/(2)=0","(0+0)/(2)=0"]
[]
["L�pcs�k(2)","X(A1)","X(A2)","X(A3)","X(A4)","X(A5)",null,null,null,null,null,null,null,null,null,"L�pcs�k(2)","X(A1)","X(A2)","X(A3)","X(A4)","X(A5)",null,null,null,null,null,null,null,null,"L�pcs�k(2)","X(A1)","X(A2)","X(A3)","X(A4)","X(A5)","X(A6)","X(A7)","X(A8)","X(A9)","X(A10)"]
["S1",8651.9,19775.8,37821.199999999997,37326.800000000003,32630,null,null,null,null,null,null,null,null,null,"S1",28075.8,23671.7,11560.6,9909.1,15964.6,null,null,null,null,null,null,null,null,"S1",2488.6,42555.7,37827.300000000003,65202.3,14434.1,7714.8,34094.300000000003,0,995.5,248.9]
["S2",8651.9,19775.8,37821.199999999997,37326.800000000003,32630,null,null,null,null,null,null,null,null,null,"S2",25323.200000000001,23671.7,11560.6,9909.1,15964.6,null,null,null,null,null,null,null,null,"S2",2488.6,42555.7,24388.6,65202.3,14434.1,2488.6,34094.300000000003,0,995.5,248.9]
["S3",8651.9,4943.8999999999996,20023,30158.1,32630,null,null,null,null,null,null,null,null,null,"S3",25323.200000000001,23671.7,11560.6,9909.1,15964.6,null,null,null,null,null,null,null,null,"S3",2488.6,7963.6,8710.2000000000007,54750,14434.1,2488.6,34094.300000000003,0,995.5,248.9]
["S4",8651.9,4943.8999999999996,20023,15820.6,32630,null,null,null,null,null,null,null,null,null,"S4",25323.200000000001,23671.7,11560.6,0,15964.6,null,null,null,null,null,null,null,null,"S4",2488.6,7963.6,8710.2000000000007,10701.1,14434.1,2488.6,34094.300000000003,0,0,248.9]
["S5",8651.9,4943.8999999999996,20023,494.4,30899.7,null,null,null,null,null,null,null,null,null,"S5",25323.200000000001,23671.7,11560.6,0,15964.6,null,null,null,null,null,null,null,null,"S5",2488.6,7963.6,8710.2000000000007,2239.8000000000002,14434.1,2488.6,34094.300000000003,0,0,248.9]
["S6",8651.9,4943.8999999999996,20023,0,30899.7,null,null,null,null,null,null,null,null,null,"S6",25323.200000000001,23671.7,11560.6,0,15964.6,null,null,null,null,null,null,null,null,"S6",2488.6,7963.6,6221.6,2239.8000000000002,14434.1,2488.6,34094.300000000003,0,0,248.9]
["S7",4449.6000000000004,4943.8999999999996,20023,0,30899.7,null,null,null,null,null,null,null,null,null,"S7",25323.200000000001,23671.7,11560.6,0,14313.1,null,null,null,null,null,null,null,null,"S7",0,7963.6,6221.6,2239.8000000000002,10950,2488.6,34094.300000000003,0,0,248.9]
["S8",4449.6000000000004,4943.8999999999996,20023,0,23978.1,null,null,null,null,null,null,null,null,null,"S8",25323.200000000001,23671.7,0,0,5505.1,null,null,null,null,null,null,null,null,"S8",0,7963.6,6221.6,0,10950,2488.6,0,0,0,248.9]
["S9",4449.6000000000004,4943.8999999999996,20023,0,23978.1,null,null,null,null,null,null,null,null,null,"S9",25323.200000000001,23671.7,0,0,5505.1,null,null,null,null,null,null,null,null,"S9",0,7963.6,6221.6,0,10950,2488.6,0,0,0,248.9]
["S10",4449.6000000000004,4943.8999999999996,20023,0,23978.1,null,null,null,null,null,null,null,null,null,"S10",25323.200000000001,21469.7,0,0,5505.1,null,null,null,null,null,null,null,null,"S10",0,7963.6,6221.6,0,10950,2488.6,0,0,0,248.9]
["S11",4449.6000000000004,4943.8999999999996,20023,0,23978.1,null,null,null,null,null,null,null,null,null,"S11",25323.200000000001,6606.1,0,0,5505.1,null,null,null,null,null,null,null,null,"S11",0,7963.6,6221.6,0,10950,2488.6,0,0,0,248.9]
["S12",4449.6000000000004,494.4,0,0,23978.1,null,null,null,null,null,null,null,null,null,"S12",25323.200000000001,6606.1,0,0,5505.1,null,null,null,null,null,null,null,null,"S12",0,0,0,0,10950,0,0,0,0,248.9]
["S13",4449.6000000000004,494.4,0,0,19281.400000000001,null,null,null,null,null,null,null,null,null,"S13",25323.200000000001,6606.1,0,0,5505.1,null,null,null,null,null,null,null,null,"S13",0,0,0,0,4977.3,0,0,0,0,248.9]
["S14",0,494.4,0,0,1483.2,null,null,null,null,null,null,null,null,null,"S14",15964.6,0,0,0,0,null,null,null,null,null,null,null,null,"S14",0,0,0,0,0,0,0,0,0,0]
["S15",0,0,0,0,0,null,null,null,null,null,null,null,null,null,"S15",15964.6,0,0,0,0,null,null,null,null,null,null,null,null,"S15",0,0,0,0,0,0,0,0,0,0]
["S16",0,0,0,0,0,null,null,null,null,null,null,null,null,null,"S16",0,0,0,0,0,null,null,null,null,null,null,null,null,"S16",0,0,0,0,0,0,0,0,0,0]
[]
["COCO:STD","X(A1)","X(A2)","X(A3)","X(A4)","X(A5)","Becsl�s","T�ny+0","Delta","Delta/T�ny","abs",null,null,null,null,"COCO:STD","X(A1)","X(A2)","X(A3)","X(A4)","X(A5)","Becsl�s","T�ny+0","Delta","Delta/T�ny","abs",null,null,null,"COCO:STD","X(A1)","X(A2)","X(A3)","X(A4)","X(A5)","X(A6)","X(A7)","X(A8)","X(A9)","X(A10)","Becsl�s","T�ny+0","Delta","Delta/T�ny"]
["O1",0,4943.8999999999996,0,0,30899.7,35843.599999999999,27000,-8843.6,-32.75,{"$f":"ABS(I162)","v":8843.6},null,null,null,null,"O1",28075.8,6606.1,11560.6,0,5505.1,51747.5,27000,-24747.5,-91.66,{"$f":"ABS(X162)","v":24747.5},null,null,null,"O1",0,7963.6,0,0,10950,7714.8,0,0,0,248.9,26877.3,27000,122.7,0.45]
["O2",8651.9,4943.8999999999996,20023,37326.800000000003,23978.1,94923.8,96000,1076.2,1.1200000000000001,{"$f":"ABS(I163)","v":1076.2},null,null,null,null,"O2",25323.200000000001,23671.7,0,0,15964.6,64959.6,96000,31040.400000000001,32.33,{"$f":"ABS(X163)","v":31040.400000000001},null,null,null,"O2",2488.6,7963.6,8710.2000000000007,65202.3,10950,0,0,0,0,248.9,95563.6,96000,436.4,0.45]
["O3",4449.6000000000004,0,20023,0,23978.1,48450.7,70000,21549.3,30.78,21549.3,null,null,null,null,"O3",25323.200000000001,23671.7,0,0,5505.1,54500,70000,15500,22.14,15500,null,null,null,"O3",0,0,8710.2000000000007,2239.8000000000002,10950,2488.6,34094.300000000003,0,0,248.9,58731.8,70000,11268.2,16.100000000000001]
["O4",8651.9,4943.8999999999996,20023,0,32630,66248.899999999994,98000,31751.1,32.4,31751.1,null,null,null,null,"O4",25323.200000000001,23671.7,11560.6,0,5505.1,66060.600000000006,98000,31939.4,32.590000000000003,31939.4,null,null,null,"O4",2488.6,7963.6,6221.6,0,14434.1,2488.6,34094.300000000003,0,0,248.9,67939.8,98000,30060.2,30.67]
["O5",8651.9,19775.8,0,0,30899.7,59327.4,60000,672.6,1.1200000000000001,672.6,null,null,null,null,"O5",15964.6,0,11560.6,0,5505.1,33030.300000000003,60000,26969.7,44.95,26969.7,null,null,null,"O5",2488.6,42555.7,0,0,14434.1,0,0,0,0,248.9,59727.3,60000,272.7,0.45]
["O6",0,4943.8999999999996,37821.199999999997,0,32630,75395.199999999997,63000,-12395.2,-19.670000000000002,12395.2,null,null,null,null,"O6",25323.200000000001,21469.7,0,0,0,46792.9,63000,16207.1,25.73,16207.1,null,null,null,"O6",0,7963.6,37827.300000000003,0,14434.1,2488.6,0,0,0,0,62713.599999999999,63000,286.39999999999998,0.45]
["O7",8651.9,19775.8,20023,15820.6,0,64271.3,65000,728.7,1.1200000000000001,728.7,null,null,null,null,"O7",25323.200000000001,0,0,0,15964.6,41287.9,65000,23712.1,36.479999999999997,23712.1,null,null,null,"O7",2488.6,42555.7,6221.6,10701.1,0,2488.6,0,0,0,248.9,64704.5,65000,295.5,0.45]
["O8",8651.9,4943.8999999999996,20023,0,23978.1,57597,22000,-35597,-161.80000000000001,35597,null,null,null,null,"O8",0,23671.7,0,0,5505.1,29176.799999999999,22000,-7176.8,-32.619999999999997,7176.8,null,null,null,"O8",2488.6,7963.6,6221.6,0,10950,0,0,0,0,248.9,27872.7,22000,-5872.7,-26.69]
["O9",8651.9,0,20023,0,1483.2,30158.1,12000,-18158.099999999999,-151.32,18158.099999999999,null,null,null,null,"O9",15964.6,23671.7,0,0,15964.6,55601,12000,-43601,-363.34,43601,null,null,null,"O9",2488.6,0,6221.6,0,0,0,34094.300000000003,0,0,248.9,43053.4,12000,-31053.4,-258.77999999999997]
["O10",4449.6000000000004,4943.8999999999996,20023,0,32630,62046.5,36000,-26046.5,-72.349999999999994,26046.5,null,null,null,null,"O10",25323.200000000001,6606.1,0,0,0,31929.3,36000,4070.7,11.31,4070.7,null,null,null,"O10",0,7963.6,8710.2000000000007,2239.8000000000002,14434.1,2488.6,0,0,0,0,35836.400000000001,36000,163.6,0.45]
["O11",4449.6000000000004,4943.8999999999996,20023,30158.1,23978.1,83552.7,83000,-552.70000000000005,-0.67,552.70000000000005,null,null,null,null,"O11",25323.200000000001,6606.1,11560.6,0,14313.1,57803,83000,25197,30.36,25197,null,null,null,"O11",0,7963.6,6221.6,54750,10950,2488.6,0,0,0,248.9,82622.7,83000,377.3,0.45]
["O12",0,494.4,0,0,32630,33124.400000000001,40000,6875.6,17.190000000000001,6875.6,null,null,null,null,"O12",25323.200000000001,23671.7,11560.6,9909.1,0,70464.600000000006,40000,-30464.6,-76.16,30464.6,null,null,null,"O12",0,0,0,0,14434.1,2488.6,34094.300000000003,0,995.5,0,52012.5,40000,-12012.5,-30.03]
["O13",4449.6000000000004,494.4,37821.199999999997,0,30899.7,73664.800000000003,77000,3335.2,4.33,3335.2,null,null,null,null,"O13",25323.200000000001,23671.7,0,9909.1,5505.1,64409.1,77000,12590.9,16.350000000000001,12590.9,null,null,null,"O13",0,0,24388.6,0,14434.1,2488.6,34094.300000000003,0,995.5,248.9,76650,77000,350,0.45]
["O14",4449.6000000000004,4943.8999999999996,0,494.4,0,9887.9,10000,112.1,1.1200000000000001,112.1,null,null,null,null,"O14",25323.200000000001,0,11560.6,0,15964.6,52848.5,10000,-42848.5,-428.49,42848.5,null,null,null,"O14",0,7963.6,0,2239.8000000000002,0,2488.6,0,0,0,248.9,12940.9,10000,-2940.9,-29.41]
["O15",4449.6000000000004,494.4,0,0,19281.400000000001,24225.3,27000,2774.7,10.28,2774.7,null,null,null,null,"O15",25323.200000000001,23671.7,11560.6,0,15964.6,76520.2,27000,-49520.2,-183.41,49520.2,null,null,null,"O15",0,0,0,0,4977.3,2488.6,34094.300000000003,0,0,248.9,41809.1,27000,-14809.1,-54.85]
["O16",4449.6000000000004,4943.8999999999996,20023,0,23978.1,53394.6,86000,32605.4,37.909999999999997,32605.4,null,null,null,null,"O16",25323.200000000001,23671.7,0,9909.1,15964.6,74868.7,86000,11131.3,12.94,11131.3,null,null,null,"O16",0,7963.6,6221.6,0,10950,2488.6,34094.300000000003,0,995.5,248.9,62962.5,86000,23037.5,26.79]
[null,null,null,null,null,null,null,null,{"$f":"STDEV(I162:I177)","v":18459.515078494525},null,{"$f":"SUM(K162:K177)","v":203074.00000000003},null,null,null,null,null,null,null,null,null,null,null,null,{"$f":"STDEV(X162:X177)","v":28857.586683990055},null,{"$f":"SUM(Z162:Z177)","v":396717.2},null,null,null,null,null,null,null,null,null,null,null,null,null,null,null,null,{"$f":"STDEV(AQ162:AQ177)","v":13983.599729145508}]
["S1 �sszeg:",136205.70000000001,null,null,null,null,null,null,null,null,null,null,null,null,null,"S1 �sszeg:",89181.8,null,null,null,null,null,null,null,null,null,null,null,null,"S1 �sszeg:",205561.5]
["S16 �sszeg:",0,null,null,null,null,null,null,null,null,null,null,null,null,null,"S16 �sszeg:",0,null,null,null,null,null,null,null,null,null,null,null,null,"S16 �sszeg:",0]
["Becsl�s �sszeg:",872112.2,null,null,null,null,null,null,null,null,null,null,null,null,null,"Becsl�s �sszeg:",872000,null,null,null,null,null,null,null,null,null,null,null,null,"Becsl�s �sszeg:",872018.1]
["T�ny �sszeg:",872000,null,null,null,null,null,null,null,null,null,null,null,null,null,"T�ny �sszeg:",872000,null,null,null,null,null,null,null,null,null,null,null,null,"T�ny �sszeg:",872000]
["T�ny-becsl�s elt�r�s:",112.2,null,null,null,null,null,null,null,null,null,null,null,null,null,"T�ny-becsl�s elt�r�s:",0,null,null,null,null,null,null,null,null,null,null,null,null,"T�ny-becsl�s elt�r�s:",18.100000000000001]
["T�ny n�gyzet�sszeg:",null,null,null,null,null,null,null,null,null,null,null,null,null,null,"T�ny n�gyzet�sszeg:",null,null,null,null,null,null,null,null,null,null,null,null,null,"T�ny n�gyzet�sszeg:"]
["Becsl�s n�gyzet�sszeg:",null,null,null,null,null,null,null,null,null,null,null,null,null,null,"Becsl�s n�gyzet�sszeg:",null,null,null,null,null,null,null,null,null,null,null,null,null,"Becsl�s n�gyzet�sszeg:"]
["N�gyzet�sszeg hiba:",0,null,null,null,null,null,null,null,null,null,null,null,null,null,"N�gyzet�sszeg hiba:",0,null,null,null,null,null,null,null,null,null,null,null,null,"N�gyzet�sszeg hiba:",0]
[]
["Open url",null,null,null,null,null,null,null,null,null,null,null,null,null,null,"Open url",null,null,null,null,null,null,null,null,null,null,null,null,null,"Open url"]
[]
["Maxim�lis mem�ria haszn�lat: 1.36 Mb",null,null,null,null,null,null,null,null,null,null,null,null,null,null,"Maxim�lis mem�ria haszn�lat: 1.36 Mb",null,null,null,null,null,null,null,null,null,null,null,null,null,"Maxim�lis mem�ria haszn�lat: 1.38 Mb"]
["A futtat�s id�tartama: 0.07 mp (0 p)",null,null,null,null,null,null,null,null,null,null,null,null,null,null,"A futtat�s id�tartama: 0.07 mp (0 p)",null,null,null,null,null,null,null,null,null,null,null,null,null,"A futtat�s id�tartama: 0.07 mp (0 p)"]
[]
[]
[]
[]
[]
[]
[]
[]
[]
[]
[]
[]
[]
["Azonos�t�:",2670058,"Objektumok:",16,"Attrib�tumok:",5,"Lepcs�k:",16,"Eltol�s:",0,"Le�r�s:","COCO STD: 2670058",null,null,null,"Azonos�t�:",4483916,"Objektumok:",16,"Attrib�tumok:",5,"Lepcs�k:",16,"Eltol�s:",0,"Le�r�s:","COCO STD: 4483916",null,null,"Azonos�t�:",4621430,"Objektumok:",16,"Attrib�tumok:",10,"Lepcs�k:",16,"Eltol�s:",0,"Le�r�s:","COCO STD: 4621430"]
[]
["Rangsor","X(A1)","X(A2)","X(A3)","X(A4)","X(A5)","Y(A6)",null,{"$f":"B207","v":"X(A1)"},{"$f":"C207","v":"X(A2)"},{"$f":"D207","v":"X(A3)"},{"$f":"E207","v":"X(A4)"},{"$f":"F207","v":"X(A5)"},{"$f":"G207","v":"Y(A6)"},null,"Rangsor","X(A1)","X(A2)","X(A3)","X(A4)","X(A5)","Y(A6)",null,null,null,null,null,null,null,"Rangsor","X(A1)","X(A2)","X(A3)","X(A4)","X(A5)","X(A6)","X(A7)","X(A8)","X(A9)","X(A10)","Y(A11)"]
["O1",15,9,10,10,12,70000,null,{"$f":"RANK(B208,B$208:B$223,0)","v":2},{"$f":"RANK(C208,C$208:C$223,0)","v":7},{"$f":"RANK(D208,D$208:D$223,0)","v":6},{"$f":"RANK(E208,E$208:E$223,0)","v":7},{"$f":"RANK(F208,F$208:F$223,0)","v":5},70000,null,"O1",2,7,6,7,5,70000,null,null,null,null,null,null,null,"O1",15,9,10,10,12,15,9,10,7,12,70000]
["O2",10,16,8,7,9,20000,null,{"$f":"RANK(B209,B$208:B$223,0)","v":8},1,8,10,7,20000,null,"O2",8,1,8,10,7,20000,null,null,null,null,null,null,null,"O2",10,16,8,7,9,10,16,8,10,9,20000]
["O3",11,3,9,8,6,90000,null,7,14,7,9,11,90000,null,"O3",7,14,7,9,11,90000,null,null,null,null,null,null,null,"O3",11,3,9,8,6,11,3,9,9,6,90000]
["O4",4,1,5,11,8,67000,null,14,16,11,6,8,67000,null,"O4",14,16,11,6,8,67000,null,null,null,null,null,null,null,"O4",4,1,5,11,8,4,1,5,6,8,67000]
["O5",8,2,4,9,1,37000,null,10,15,12,8,16,37000,null,"O5",10,15,12,8,16,37000,null,null,null,null,null,null,null,"O5",8,2,4,9,1,8,2,4,8,1,37000]
["O6",6,8,7,16,11,51000,null,12,8,9,1,6,51000,null,"O6",12,8,9,1,6,51000,null,null,null,null,null,null,null,"O6",6,8,7,16,11,6,8,7,1,11,51000]
["O7",13,15,13,13,13,51000,null,5,2,3,4,4,51000,null,"O7",5,2,3,4,4,51000,null,null,null,null,null,null,null,"O7",13,15,13,13,13,13,15,13,4,13,51000]
["O8",5,12,6,3,2,68000,null,13,5,10,14,15,68000,null,"O8",13,5,10,14,15,68000,null,null,null,null,null,null,null,"O8",5,12,6,3,2,5,12,6,14,2,68000]
["O9",9,10,11,14,15,13000,null,9,6,5,3,2,13000,null,"O9",9,6,5,3,2,13000,null,null,null,null,null,null,null,"O9",9,10,11,14,15,9,10,11,3,15,13000]
["O10",16,5,2,4,16,43000,null,1,12,15,13,1,43000,null,"O10",1,12,15,13,1,43000,null,null,null,null,null,null,null,"O10",16,5,2,4,16,16,5,2,13,16,43000]
["O11",7,6,3,15,3,98000,null,11,10,13,2,14,98000,null,"O11",11,10,13,2,14,98000,null,null,null,null,null,null,null,"O11",7,6,3,15,3,7,6,3,2,3,98000]
["O12",3,7,12,2,7,45000,null,15,9,4,15,9,45000,null,"O12",15,9,4,15,9,45000,null,null,null,null,null,null,null,"O12",3,7,12,2,7,3,7,12,15,7,45000]
["O13",14,14,15,12,4,11000,null,4,3,2,5,13,11000,null,"O13",4,3,2,5,13,11000,null,null,null,null,null,null,null,"O13",14,14,15,12,4,14,14,15,5,4,11000]
["O14",1,13,1,1,5,76000,null,16,4,16,16,12,76000,null,"O14",16,4,16,16,12,76000,null,null,null,null,null,null,null,"O14",1,13,1,1,5,1,13,1,16,5,76000]
["O15",12,4,16,6,14,15000,null,6,13,1,11,3,15000,null,"O15",6,13,1,11,3,15000,null,null,null,null,null,null,null,"O15",12,4,16,6,14,12,4,16,11,14,15000]
["O16",15,6,3,5,7,38000,null,2,10,13,12,9,38000,null,"O16",2,10,13,12,9,38000,null,null,null,null,null,null,null,"O16",15,6,3,5,7,2,11,14,12,10,38000]
[null,null,null,null,null,null,null,null,"inverse","inverse","inverse","inverse","inverse"]
["L�pcs�k(1)","X(A1)","X(A2)","X(A3)","X(A4)","X(A5)",null,null,null,null,null,null,null,null,null,"L�pcs�k(1)","X(A1)","X(A2)","X(A3)","X(A4)","X(A5)",null,null,null,null,null,null,null,null,"L�pcs�k(1)","X(A1)","X(A2)","X(A3)","X(A4)","X(A5)","X(A6)","X(A7)","X(A8)","X(A9)","X(A10)"]
["S1","(33225.8+0)/(2)=16612.9","(14446+18298.2)/(2)=16372.1","(29373.5+23113.6)/(2)=26243.55","(5537.6+0)/(2)=2768.8","(9871.4+52968.6)/(2)=31420",null,null,null,null,null,null,null,null,null,"S1","(24906.1+0)/(2)=12453.05","(6973.7+53797.2)/(2)=30385.5","(1992.5+1992.5)/(2)=1992.5","(48816+54793.5)/(2)=51804.75","(6973.7+21917.4)/(2)=14445.55",null,null,null,null,null,null,null,null,"S1","(31486+0)/(2)=15743","(0+11931.4)/(2)=5965.7","(24526+22868.6)/(2)=23697.3","(5634.6+37285.7)/(2)=21460.15","(16239.7+21377.1)/(2)=18808.4","(0+0)/(2)=0","(17566+0)/(2)=8783","(6296.8+4971.4)/(2)=5634.1","(36457.5+45737.1)/(2)=41097.3","(7623.2+0)/(2)=3811.6"]
["S2","(33225.8+0)/(2)=16612.9","(6500.7+18298.2)/(2)=12399.45","(29373.5+23113.6)/(2)=26243.55","(5537.6+0)/(2)=2768.8","(9871.4+52968.6)/(2)=31420",null,null,null,null,null,null,null,null,null,"S2","(24906.1+0)/(2)=12453.05","(6973.7+53797.2)/(2)=30385.5","(0+1992.5)/(2)=996.25","(48816+54793.5)/(2)=51804.75","(1992.5+21917.4)/(2)=11954.95",null,null,null,null,null,null,null,null,"S2","(31486+0)/(2)=15743","(0+11931.4)/(2)=5965.7","(24526+22868.6)/(2)=23697.3","(5634.6+37285.7)/(2)=21460.15","(16239.7+21377.1)/(2)=18808.4","(0+0)/(2)=0","(6296.8+0)/(2)=3148.4","(6296.8+4971.4)/(2)=5634.1","(36457.5+45737.1)/(2)=41097.3","(7623.2+0)/(2)=3811.6"]
["S3","(33225.8+0)/(2)=16612.9","(6500.7+18298.2)/(2)=12399.45","(26484.3+23113.6)/(2)=24798.95","(5537.6+0)/(2)=2768.8","(9871.4+52968.6)/(2)=31420",null,null,null,null,null,null,null,null,null,"S3","(0+0)/(2)=0","(0+53797.2)/(2)=26898.6","(0+1992.5)/(2)=996.25","(10958.7+44831)/(2)=27894.85","(1992.5+21917.4)/(2)=11954.95",null,null,null,null,null,null,null,null,"S3","(31486+0)/(2)=15743","(0+11931.4)/(2)=5965.7","(24526+22868.6)/(2)=23697.3","(5634.6+37285.7)/(2)=21460.15","(16239.7+21377.1)/(2)=18808.4","(0+0)/(2)=0","(6296.8+0)/(2)=3148.4","(6296.8+4971.4)/(2)=5634.1","(12925.7+45737.1)/(2)=29331.4","(7623.2+0)/(2)=3811.6"]
["S4","(33225.8+0)/(2)=16612.9","(6500.7+18298.2)/(2)=12399.45","(11316+18298.2)/(2)=14807.15","(5537.6+0)/(2)=2768.8","(5056.1+50079.4)/(2)=27567.75",null,null,null,null,null,null,null,null,null,"S4","(0+0)/(2)=0","(0+53797.2)/(2)=26898.6","(0+1992.5)/(2)=996.25","(10958.7+44831)/(2)=27894.85","(1992.5+21917.4)/(2)=11954.95",null,null,null,null,null,null,null,null,"S4","(31486+0)/(2)=15743","(0+2485.7)/(2)=1242.85","(331.1+4971.4)/(2)=2651.25","(5634.6+12428.6)/(2)=9031.6","(0+10440)/(2)=5220","(0+0)/(2)=0","(6296.8+0)/(2)=3148.4","(6296.8+3977.1)/(2)=5137","(12925.7+45737.1)/(2)=29331.4","(7623.2+0)/(2)=3811.6"]
["S5","(33225.8+0)/(2)=16612.9","(6500.7+18298.2)/(2)=12399.45","(11316+18298.2)/(2)=14807.15","(5537.6+0)/(2)=2768.8","(5056.1+50079.4)/(2)=27567.75",null,null,null,null,null,null,null,null,null,"S5","(0+0)/(2)=0","(0+45827.3)/(2)=22913.65","(0+1992.5)/(2)=996.25","(10958.7+44831)/(2)=27894.85","(1992.5+21917.4)/(2)=11954.95",null,null,null,null,null,null,null,null,"S5","(31486+0)/(2)=15743","(0+2485.7)/(2)=1242.85","(331.1+4971.4)/(2)=2651.25","(5634.6+12428.6)/(2)=9031.6","(0+10440)/(2)=5220","(0+0)/(2)=0","(6296.8+0)/(2)=3148.4","(6296.8+3977.1)/(2)=5137","(3314+45737.1)/(2)=24525.55","(7623.2+0)/(2)=3811.6"]
["S6","(33225.8+0)/(2)=16612.9","(4574.6+18298.2)/(2)=11436.4","(11316+18298.2)/(2)=14807.15","(5537.6+0)/(2)=2768.8","(5056.1+50079.4)/(2)=27567.75",null,null,null,null,null,null,null,null,null,"S6","(0+0)/(2)=0","(0+20921.2)/(2)=10460.6","(0+1992.5)/(2)=996.25","(10958.7+44831)/(2)=27894.85","(1992.5+21917.4)/(2)=11954.95",null,null,null,null,null,null,null,null,"S6","(0+0)/(2)=0","(0+2485.7)/(2)=1242.85","(331.1+4971.4)/(2)=2651.25","(5634.6+12428.6)/(2)=9031.6","(0+10440)/(2)=5220","(0+0)/(2)=0","(6296.8+0)/(2)=3148.4","(6296.8+3977.1)/(2)=5137","(3314+45737.1)/(2)=24525.55","(7623.2+0)/(2)=3811.6"]
["S7","(33225.8+0)/(2)=16612.9","(4574.6+18298.2)/(2)=11436.4","(11316+18298.2)/(2)=14807.15","(5537.6+0)/(2)=2768.8","(0+30818.1)/(2)=15409.05",null,null,null,null,null,null,null,null,null,"S7","(0+0)/(2)=0","(0+20921.2)/(2)=10460.6","(0+1992.5)/(2)=996.25","(10958.7+44831)/(2)=27894.85","(1992.5+21917.4)/(2)=11954.95",null,null,null,null,null,null,null,null,"S7","(0+0)/(2)=0","(0+2485.7)/(2)=1242.85","(331.1+4971.4)/(2)=2651.25","(5634.6+12428.6)/(2)=9031.6","(0+0)/(2)=0","(0+0)/(2)=0","(0+0)/(2)=0","(6296.8+3977.1)/(2)=5137","(3314+45737.1)/(2)=24525.55","(7623.2+0)/(2)=3811.6"]
["S8","(2407.7+0)/(2)=1203.85","(4574.6+18298.2)/(2)=11436.4","(11316+18298.2)/(2)=14807.15","(5537.6+0)/(2)=2768.8","(0+30818.1)/(2)=15409.05",null,null,null,null,null,null,null,null,null,"S8","(0+0)/(2)=0","(0+20921.2)/(2)=10460.6","(0+0)/(2)=0","(10958.7+44831)/(2)=27894.85","(1992.5+21917.4)/(2)=11954.95",null,null,null,null,null,null,null,null,"S8","(0+0)/(2)=0","(0+2485.7)/(2)=1242.85","(331.1+4971.4)/(2)=2651.25","(5634.6+12428.6)/(2)=9031.6","(0+0)/(2)=0","(0+0)/(2)=0","(0+0)/(2)=0","(6296.8+3977.1)/(2)=5137","(0+45737.1)/(2)=22868.55","(7623.2+0)/(2)=3811.6"]
["S9","(2407.7+0)/(2)=1203.85","(4574.6+18298.2)/(2)=11436.4","(11316+18298.2)/(2)=14807.15","(5537.6+0)/(2)=2768.8","(0+30818.1)/(2)=15409.05",null,null,null,null,null,null,null,null,null,"S9","(0+0)/(2)=0","(0+20921.2)/(2)=10460.6","(0+0)/(2)=0","(10958.7+44831)/(2)=27894.85","(1992.5+21917.4)/(2)=11954.95",null,null,null,null,null,null,null,null,"S9","(0+0)/(2)=0","(0+2485.7)/(2)=1242.85","(331.1+4971.4)/(2)=2651.25","(0+12428.6)/(2)=6214.3","(0+0)/(2)=0","(0+0)/(2)=0","(0+0)/(2)=0","(6296.8+3977.1)/(2)=5137","(0+45737.1)/(2)=22868.55","(7623.2+0)/(2)=3811.6"]
["S10","(2407.7+0)/(2)=1203.85","(4574.6+0)/(2)=2287.3","(11316+18298.2)/(2)=14807.15","(5537.6+0)/(2)=2768.8","(0+30818.1)/(2)=15409.05",null,null,null,null,null,null,null,null,null,"S10","(0+0)/(2)=0","(0+20921.2)/(2)=10460.6","(0+0)/(2)=0","(10958.7+0)/(2)=5479.35","(1992.5+21917.4)/(2)=11954.95",null,null,null,null,null,null,null,null,"S10","(0+0)/(2)=0","(0+0)/(2)=0","(331.1+4971.4)/(2)=2651.25","(0+12428.6)/(2)=6214.3","(0+0)/(2)=0","(0+0)/(2)=0","(0+0)/(2)=0","(6296.8+3977.1)/(2)=5137","(0+0)/(2)=0","(7623.2+0)/(2)=3811.6"]
["S11","(2407.7+0)/(2)=1203.85","(4574.6+0)/(2)=2287.3","(0+18298.2)/(2)=9149.1","(5537.6+0)/(2)=2768.8","(0+30818.1)/(2)=15409.05",null,null,null,null,null,null,null,null,null,"S11","(0+0)/(2)=0","(0+20921.2)/(2)=10460.6","(0+0)/(2)=0","(10958.7+0)/(2)=5479.35","(1992.5+21917.4)/(2)=11954.95",null,null,null,null,null,null,null,null,"S11","(0+0)/(2)=0","(0+0)/(2)=0","(0+4971.4)/(2)=2485.7","(0+0)/(2)=0","(0+0)/(2)=0","(0+0)/(2)=0","(0+0)/(2)=0","(0+0)/(2)=0","(0+0)/(2)=0","(7623.2+0)/(2)=3811.6"]
["S12","(2407.7+0)/(2)=1203.85","(4574.6+0)/(2)=2287.3","(0+18298.2)/(2)=9149.1","(5537.6+0)/(2)=2768.8","(0+30818.1)/(2)=15409.05",null,null,null,null,null,null,null,null,null,"S12","(0+0)/(2)=0","(0+20921.2)/(2)=10460.6","(0+0)/(2)=0","(10958.7+0)/(2)=5479.35","(1992.5+21917.4)/(2)=11954.95",null,null,null,null,null,null,null,null,"S12","(0+0)/(2)=0","(0+0)/(2)=0","(0+4971.4)/(2)=2485.7","(0+0)/(2)=0","(0+0)/(2)=0","(0+0)/(2)=0","(0+0)/(2)=0","(0+0)/(2)=0","(0+0)/(2)=0","(7623.2+0)/(2)=3811.6"]
["S13","(2407.7+0)/(2)=1203.85","(0+0)/(2)=0","(0+18298.2)/(2)=9149.1","(5537.6+0)/(2)=2768.8","(0+30818.1)/(2)=15409.05",null,null,null,null,null,null,null,null,null,"S13","(0+0)/(2)=0","(0+20921.2)/(2)=10460.6","(0+0)/(2)=0","(10958.7+0)/(2)=5479.35","(0+21917.4)/(2)=10958.7",null,null,null,null,null,null,null,null,"S13","(0+0)/(2)=0","(0+0)/(2)=0","(0+4971.4)/(2)=2485.7","(0+0)/(2)=0","(0+0)/(2)=0","(0+0)/(2)=0","(0+0)/(2)=0","(0+0)/(2)=0","(0+0)/(2)=0","(7623.2+0)/(2)=3811.6"]
["S14","(0+0)/(2)=0","(0+0)/(2)=0","(0+0)/(2)=0","(5537.6+0)/(2)=2768.8","(0+0)/(2)=0",null,null,null,null,null,null,null,null,null,"S14","(0+0)/(2)=0","(0+20921.2)/(2)=10460.6","(0+0)/(2)=0","(10958.7+0)/(2)=5479.35","(0+21917.4)/(2)=10958.7",null,null,null,null,null,null,null,null,"S14","(0+0)/(2)=0","(0+0)/(2)=0","(0+0)/(2)=0","(0+0)/(2)=0","(0+0)/(2)=0","(0+0)/(2)=0","(0+0)/(2)=0","(0+0)/(2)=0","(0+0)/(2)=0","(2982.9+0)/(2)=1491.45"]
["S15","(0+0)/(2)=0","(0+0)/(2)=0","(0+0)/(2)=0","(5537.6+0)/(2)=2768.8","(0+0)/(2)=0",null,null,null,null,null,null,null,null,null,"S15","(0+0)/(2)=0","(0+0)/(2)=0","(0+0)/(2)=0","(10958.7+0)/(2)=5479.35","(0+21917.4)/(2)=10958.7",null,null,null,null,null,null,null,null,"S15","(0+0)/(2)=0","(0+0)/(2)=0","(0+0)/(2)=0","(0+0)/(2)=0","(0+0)/(2)=0","(0+0)/(2)=0","(0+0)/(2)=0","(0+0)/(2)=0","(0+0)/(2)=0","(0+0)/(2)=0"]
["S16","(0+0)/(2)=0","(0+0)/(2)=0","(0+0)/(2)=0","(0+0)/(2)=0","(0+0)/(2)=0",null,null,null,null,null,null,null,null,null,"S16","(0+0)/(2)=0","(0+0)/(2)=0","(0+0)/(2)=0","(10958.7+0)/(2)=5479.35","(0+0)/(2)=0",null,null,null,null,null,null,null,null,"S16","(0+0)/(2)=0","(0+0)/(2)=0","(0+0)/(2)=0","(0+0)/(2)=0","(0+0)/(2)=0","(0+0)/(2)=0","(0+0)/(2)=0","(0+0)/(2)=0","(0+0)/(2)=0","(0+0)/(2)=0"]
[]
["L�pcs�k(2)","X(A1)","X(A2)","X(A3)","X(A4)","X(A5)",null,null,null,null,null,null,null,null,null,"L�pcs�k(2)","X(A1)","X(A2)","X(A3)","X(A4)","X(A5)",null,null,null,null,null,null,null,null,"L�pcs�k(2)","X(A1)","X(A2)","X(A3)","X(A4)","X(A5)","X(A6)","X(A7)","X(A8)","X(A9)","X(A10)"]
["S1",16612.900000000001,16372.1,26243.5,2768.8,31420,null,null,null,null,null,null,null,null,null,"S1",12453.1,30385.5,1992.5,51804.800000000003,14445.6,null,null,null,null,null,null,null,null,"S1",15743,5965.7,23697.3,21460.2,18808.400000000001,0,8783,5634.1,41097.300000000003,3811.6]
["S2",16612.900000000001,12399.5,26243.5,2768.8,31420,null,null,null,null,null,null,null,null,null,"S2",12453.1,30385.5,996.2,51804.800000000003,11954.9,null,null,null,null,null,null,null,null,"S2",15743,5965.7,23697.3,21460.2,18808.400000000001,0,3148.4,5634.1,41097.300000000003,3811.6]
["S3",16612.900000000001,12399.5,24798.9,2768.8,31420,null,null,null,null,null,null,null,null,null,"S3",0,26898.6,996.2,27894.9,11954.9,null,null,null,null,null,null,null,null,"S3",15743,5965.7,23697.3,21460.2,18808.400000000001,0,3148.4,5634.1,29331.4,3811.6]
["S4",16612.900000000001,12399.5,14807.1,2768.8,27567.8,null,null,null,null,null,null,null,null,null,"S4",0,26898.6,996.2,27894.9,11954.9,null,null,null,null,null,null,null,null,"S4",15743,1242.9000000000001,2651.3,9031.6,5220,0,3148.4,5137,29331.4,3811.6]
["S5",16612.900000000001,12399.5,14807.1,2768.8,27567.8,null,null,null,null,null,null,null,null,null,"S5",0,22913.599999999999,996.2,27894.9,11954.9,null,null,null,null,null,null,null,null,"S5",15743,1242.9000000000001,2651.3,9031.6,5220,0,3148.4,5137,24525.5,3811.6]
["S6",16612.900000000001,11436.4,14807.1,2768.8,27567.8,null,null,null,null,null,null,null,null,null,"S6",0,10460.6,996.2,27894.9,11954.9,null,null,null,null,null,null,null,null,"S6",0,1242.9000000000001,2651.3,9031.6,5220,0,3148.4,5137,24525.5,3811.6]
["S7",16612.900000000001,11436.4,14807.1,2768.8,15409.1,null,null,null,null,null,null,null,null,null,"S7",0,10460.6,996.2,27894.9,11954.9,null,null,null,null,null,null,null,null,"S7",0,1242.9000000000001,2651.3,9031.6,0,0,0,5137,24525.5,3811.6]
["S8",1203.8,11436.4,14807.1,2768.8,15409.1,null,null,null,null,null,null,null,null,null,"S8",0,10460.6,0,27894.9,11954.9,null,null,null,null,null,null,null,null,"S8",0,1242.9000000000001,2651.3,9031.6,0,0,0,5137,22868.6,3811.6]
["S9",1203.8,11436.4,14807.1,2768.8,15409.1,null,null,null,null,null,null,null,null,null,"S9",0,10460.6,0,27894.9,11954.9,null,null,null,null,null,null,null,null,"S9",0,1242.9000000000001,2651.3,6214.3,0,0,0,5137,22868.6,3811.6]
["S10",1203.8,2287.3000000000002,14807.1,2768.8,15409.1,null,null,null,null,null,null,null,null,null,"S10",0,10460.6,0,5479.3,11954.9,null,null,null,null,null,null,null,null,"S10",0,0,2651.3,6214.3,0,0,0,5137,0,3811.6]
["S11",1203.8,2287.3000000000002,9149.1,2768.8,15409.1,null,null,null,null,null,null,null,null,null,"S11",0,10460.6,0,5479.3,11954.9,null,null,null,null,null,null,null,null,"S11",0,0,2485.6999999999998,0,0,0,0,0,0,3811.6]
["S12",1203.8,2287.3000000000002,9149.1,2768.8,15409.1,null,null,null,null,null,null,null,null,null,"S12",0,10460.6,0,5479.3,11954.9,null,null,null,null,null,null,null,null,"S12",0,0,2485.6999999999998,0,0,0,0,0,0,3811.6]
["S13",1203.8,0,9149.1,2768.8,15409.1,null,null,null,null,null,null,null,null,null,"S13",0,10460.6,0,5479.3,10958.7,null,null,null,null,null,null,null,null,"S13",0,0,2485.6999999999998,0,0,0,0,0,0,3811.6]
["S14",0,0,0,2768.8,0,null,null,null,null,null,null,null,null,null,"S14",0,10460.6,0,5479.3,10958.7,null,null,null,null,null,null,null,null,"S14",0,0,0,0,0,0,0,0,0,1491.4]
["S15",0,0,0,2768.8,0,null,null,null,null,null,null,null,null,null,"S15",0,0,0,5479.3,10958.7,null,null,null,null,null,null,null,null,"S15",0,0,0,0,0,0,0,0,0,0]
["S16",0,0,0,0,0,null,null,null,null,null,null,null,null,null,"S16",0,0,0,5479.3,0,null,null,null,null,null,null,null,null,"S16",0,0,0,0,0,0,0,0,0,0]
[]
["COCO:STD","X(A1)","X(A2)","X(A3)","X(A4)","X(A5)","Becsl�s","T�ny+0","Delta","Delta/T�ny","abs",null,null,null,null,"COCO:STD","X(A1)","X(A2)","X(A3)","X(A4)","X(A5)","Becsl�s","T�ny+0","Delta","Delta/T�ny","abs",null,null,null,"COCO:STD","X(A1)","X(A2)","X(A3)","X(A4)","X(A5)","X(A6)","X(A7)","X(A8)","X(A9)","X(A10)","Becsl�s","T�ny+0","Delta","Delta/T�ny"]
["O1",0,11436.4,14807.1,2768.8,15409.1,44421.4,70000,25578.6,36.54,{"$f":"ABS(I262)","v":25578.6},null,null,null,null,"O1",12453.1,10460.6,996.2,27894.9,11954.9,63759.7,70000,6240.3,8.91,{"$f":"ABS(X262)","v":6240.3},null,null,null,"O1",0,1242.9000000000001,2651.3,6214.3,0,0,0,5137,24525.5,3811.6,43582.5,70000,26417.5,37.74]
["O2",1203.8,0,14807.1,2768.8,15409.1,34188.800000000003,20000,-14188.8,-70.94,{"$f":"ABS(I263)","v":14188.8},null,null,null,null,"O2",0,30385.5,0,5479.3,11954.9,47819.8,20000,-27819.8,-139.1,{"$f":"ABS(X263)","v":27819.8},null,null,null,"O2",0,0,2651.3,9031.6,0,0,0,5137,0,3811.6,20631.400000000001,20000,-631.4,-3.16]
["O3",1203.8,12399.5,14807.1,2768.8,27567.8,58747,90000,31253,34.729999999999997,31253,null,null,null,null,"O3",0,10460.6,996.2,27894.9,11954.9,51306.6,90000,38693.4,42.99,38693.4,null,null,null,"O3",0,5965.7,2651.3,9031.6,5220,0,3148.4,5137,22868.6,3811.6,57834.1,90000,32165.9,35.74]
["O4",16612.900000000001,16372.1,14807.1,2768.8,15409.1,65970,67000,1030,1.54,1030,null,null,null,null,"O4",0,0,0,27894.9,11954.9,39849.800000000003,67000,27150.2,40.520000000000003,27150.2,null,null,null,"O4",15743,5965.7,2651.3,0,0,0,8783,5137,24525.5,3811.6,66617.100000000006,67000,382.9,0.56999999999999995]
["O5",1203.8,12399.5,14807.1,2768.8,31420,62599.3,37000,-25599.3,-69.19,25599.3,null,null,null,null,"O5",0,0,0,27894.9,0,27894.9,37000,9105.1,24.61,9105.1,null,null,null,"O5",0,5965.7,2651.3,6214.3,18808.400000000001,0,3148.4,5137,22868.6,3811.6,68605.2,37000,-31605.200000000001,-85.42]
["O6",16612.900000000001,11436.4,14807.1,0,15409.1,58265.5,51000,-7265.5,-14.25,7265.5,null,null,null,null,"O6",0,10460.6,0,51804.800000000003,11954.9,74220.3,51000,-23220.3,-45.53,23220.3,null,null,null,"O6",0,1242.9000000000001,2651.3,0,0,0,0,5137,41097.300000000003,3811.6,53940,51000,-2940,-5.76]
["O7",1203.8,0,9149.1,2768.8,15409.1,28530.799999999999,51000,22469.200000000001,44.06,22469.200000000001,null,null,null,null,"O7",0,30385.5,996.2,27894.9,11954.9,71231.5,51000,-20231.5,-39.67,20231.5,null,null,null,"O7",0,0,2485.6999999999998,0,0,0,0,0,29331.4,3811.6,35628.699999999997,51000,15371.3,30.14]
["O8",16612.900000000001,2287.3000000000002,14807.1,2768.8,31420,67896.100000000006,68000,103.9,0.15,103.9,null,null,null,null,"O8",0,22913.599999999999,0,5479.3,10958.7,39351.699999999997,68000,28648.3,42.13,28648.3,null,null,null,"O8",15743,0,2651.3,21460.2,18808.400000000001,0,0,5137,0,3811.6,67611.399999999994,68000,388.6,0.56999999999999995]
["O9",1203.8,2287.3000000000002,9149.1,2768.8,0,15409.1,13000,-2409.1,-18.53,2409.1,null,null,null,null,"O9",0,10460.6,996.2,27894.9,11954.9,51306.6,13000,-38306.6,-294.67,38306.6,null,null,null,"O9",0,0,2485.6999999999998,0,0,0,0,0,29331.4,0,31817.1,13000,-18817.099999999999,-144.75]
["O10",0,12399.5,26243.5,2768.8,0,41411.800000000003,43000,1588.2,3.69,1588.2,null,null,null,null,"O10",12453.1,10460.6,0,5479.3,14445.6,42838.5,43000,161.5,0.38,161.5,null,null,null,"O10",0,1242.9000000000001,23697.3,9031.6,0,0,3148.4,5634.1,0,0,42754.3,43000,245.7,0.56999999999999995]
["O11",16612.900000000001,11436.4,24798.9,2768.8,31420,87037.1,98000,10962.9,11.19,10962.9,null,null,null,null,"O11",0,10460.6,0,51804.800000000003,10958.7,73224,98000,24776,25.28,24776,null,null,null,"O11",0,1242.9000000000001,23697.3,0,18808.400000000001,0,3148.4,5634.1,41097.300000000003,3811.6,97440,98000,560,0.56999999999999995]
["O12",16612.900000000001,11436.4,9149.1,2768.8,15409.1,55376.3,45000,-10376.299999999999,-23.06,10376.299999999999,null,null,null,null,"O12",0,10460.6,996.2,5479.3,11954.9,28891.1,45000,16108.9,35.799999999999997,16108.9,null,null,null,"O12",15743,1242.9000000000001,2485.6999999999998,21460.2,0,0,0,0,0,3811.6,44743.3,45000,256.7,0.56999999999999995]
["O13",0,0,0,2768.8,27567.8,30336.6,11000,-19336.599999999999,-175.79,19336.599999999999,null,null,null,null,"O13",0,26898.6,996.2,27894.9,10958.7,66748.399999999994,11000,-55748.4,-506.8,55748.4,null,null,null,"O13",0,0,0,0,5220,0,0,0,24525.5,3811.6,33557.1,11000,-22557.1,-205.06]
["O14",16612.900000000001,0,26243.5,2768.8,27567.8,73193,76000,2807,3.69,2807,null,null,null,null,"O14",0,26898.6,0,5479.3,11954.9,44332.9,76000,31667.1,41.67,31667.1,null,null,null,"O14",15743,0,23697.3,21460.2,5220,0,0,5634.1,0,3811.6,75566.2,76000,433.8,0.56999999999999995]
["O15",1203.8,12399.5,0,2768.8,0,16372.1,15000,-1372.1,-9.15,1372.1,null,null,null,null,"O15",0,10460.6,1992.5,5479.3,11954.9,29887.4,15000,-14887.4,-99.25,14887.4,null,null,null,"O15",0,1242.9000000000001,0,9031.6,0,0,3148.4,0,0,1491.4,14914.3,15000,85.7,0.56999999999999995]
["O16",0,11436.4,24798.9,2768.8,15409.1,54413.2,38000,-16413.2,-43.19,16413.2,null,null,null,null,"O16",12453.1,10460.6,0,5479.3,11954.9,40347.9,38000,-2347.9,-6.18,2347.9,null,null,null,"O16",0,1242.9000000000001,23697.3,9031.6,0,0,0,0,0,3811.6,37783.300000000003,38000,216.7,0.56999999999999995]
[null,null,null,null,null,null,null,null,{"$f":"STDEV(I262:I277)","v":16197.814481691399},null,{"$f":"SUM(K262:K277)","v":192753.7},null,null,null,null,null,null,null,null,null,null,null,null,{"$f":"STDEV(X262:X277)","v":27782.39753804481},null,{"$f":"SUM(Z262:Z277)","v":365112.7},null,null,null,null,null,null,null,null,null,null,null,null,null,null,null,null,{"$f":"STDEV(AQ262:AQ277)","v":16001.298213770031}]
["S1 �sszeg:",93417.3,null,null,null,null,null,null,null,null,null,null,null,null,null,"S1 �sszeg:",111081.5,null,null,null,null,null,null,null,null,null,null,null,null,"S1 �sszeg:",145000.6]
["S16 �sszeg:",0,null,null,null,null,null,null,null,null,null,null,null,null,null,"S16 �sszeg:",5479.3,null,null,null,null,null,null,null,null,null,null,null,null,"S16 �sszeg:",0]
["Becsl�s �sszeg:",794168.1,null,null,null,null,null,null,null,null,null,null,null,null,null,"Becsl�s �sszeg:",793011.1,null,null,null,null,null,null,null,null,null,null,null,null,"Becsl�s �sszeg:",793026]
["T�ny �sszeg:",793000,null,null,null,null,null,null,null,null,null,null,null,null,null,"T�ny �sszeg:",793000,null,null,null,null,null,null,null,null,null,null,null,null,"T�ny �sszeg:",793000]
["T�ny-becsl�s elt�r�s:",1168.0999999999999,null,null,null,null,null,null,null,null,null,null,null,null,null,"T�ny-becsl�s elt�r�s:",11.1,null,null,null,null,null,null,null,null,null,null,null,null,"T�ny-becsl�s elt�r�s:",26]
["T�ny n�gyzet�sszeg:",null,null,null,null,null,null,null,null,null,null,null,null,null,null,"T�ny n�gyzet�sszeg:",null,null,null,null,null,null,null,null,null,null,null,null,null,"T�ny n�gyzet�sszeg:"]
["Becsl�s n�gyzet�sszeg:",null,null,null,null,null,null,null,null,null,null,null,null,null,null,"Becsl�s n�gyzet�sszeg:",null,null,null,null,null,null,null,null,null,null,null,null,null,"Becsl�s n�gyzet�sszeg:"]
["N�gyzet�sszeg hiba:",0,null,null,null,null,null,null,null,null,null,null,null,null,null,"N�gyzet�sszeg hiba:",0,null,null,null,null,null,null,null,null,null,null,null,null,"N�gyzet�sszeg hiba:",0]
[]
["Open url",null,null,null,null,null,null,null,null,null,null,null,null,null,null,"Open url",null,null,null,null,null,null,null,null,null,null,null,null,null,"Open url"]
[]
["Maxim�lis mem�ria haszn�lat: 1.36 Mb",null,null,null,null,null,null,null,null,null,null,null,null,null,null,"Maxim�lis mem�ria haszn�lat: 1.36 Mb",null,null,null,null,null,null,null,null,null,null,null,null,null,"Maxim�lis mem�ria haszn�lat: 1.38 Mb"]
["A futtat�s id�tartama: 0.13 mp (0 p)",null,null,null,null,null,null,null,null,null,null,null,null,null,null,"A futtat�s id�tartama: 0.09 mp (0 p)",null,null,null,null,null,null,null,null,null,null,null,null,null,"A futtat�s id�tartama: 0.12 mp (0 p)"]
[]
[]
[]
[]
[]
[]
[]
[]
[]
[]
[]
[]
[]
["Azonos�t�:",8244484,"Objektumok:",16,"Attrib�tumok:",5,"Lepcs�k:",16,"Eltol�s:",0,"Le�r�s:","COCO STD: 8244484",null,null,null,"Azonos�t�:",6683272,"Objektumok:",16,"Attrib�tumok:",5,"Lepcs�k:",16,"Eltol�s:",0,"Le�r�s:","COCO STD: 6683272",null,null,"Azonos�t�:",8396432,"Objektumok:",16,"Attrib�tumok:",10,"Lepcs�k:",16,"Eltol�s:",0,"Le�r�s:","COCO STD: 8396432"]
[]
["Rangsor","X(A1)","X(A2)","X(A3)","X(A4)","X(A5)","Y(A6)",null,null,null,null,null,null,null,null,"Rangsor","X(A1)","X(A2)","X(A3)","X(A4)","X(A5)","Y(A6)",null,null,null,null,null,null,null,"Rangsor","X(A1)","X(A2)","X(A3)","X(A4)","X(A5)","X(A6)","X(A7)","X(A8)","X(A9)","X(A10)","Y(A11)"]
["O1",16,9,9,13,6,10000,null,null,null,null,null,null,null,null,"O1",1,8,7,5,9,10000,null,null,null,null,null,null,null,"O1",16,9,9,13,6,1,8,7,5,9,10000]
["O2",6,11,14,12,3,42000,null,null,null,null,null,null,null,null,"O2",11,6,3,6,13,42000,null,null,null,null,null,null,null,"O2",6,11,14,12,3,11,6,3,6,13,42000]
["O3",5,12,6,4,14,21000,null,null,null,null,null,null,null,null,"O3",12,5,11,13,2,21000,null,null,null,null,null,null,null,"O3",5,12,6,4,14,12,5,11,13,2,21000]
["O4",7,13,11,8,6,83000,null,null,null,null,null,null,null,null,"O4",10,3,6,10,9,83000,null,null,null,null,null,null,null,"O4",7,13,11,8,6,10,3,6,10,9,83000]
["O5",12,3,3,4,13,89000,null,null,null,null,null,null,null,null,"O5",5,14,14,13,3,89000,null,null,null,null,null,null,null,"O5",12,3,3,4,13,5,14,14,13,3,89000]
["O6",15,6,13,10,10,34000,null,null,null,null,null,null,null,null,"O6",2,11,4,8,6,34000,null,null,null,null,null,null,null,"O6",15,6,13,10,10,2,11,4,8,6,34000]
["O7",3,16,7,11,1,80000,null,null,null,null,null,null,null,null,"O7",14,1,8,7,15,80000,null,null,null,null,null,null,null,"O7",3,16,7,11,1,14,1,8,7,15,80000]
["O8",8,4,16,14,1,88000,null,null,null,null,null,null,null,null,"O8",9,13,1,4,15,88000,null,null,null,null,null,null,null,"O8",8,4,16,14,1,9,13,1,4,15,88000]
["O9",9,8,12,15,11,22000,null,null,null,null,null,null,null,null,"O9",8,9,5,3,4,22000,null,null,null,null,null,null,null,"O9",9,8,12,15,11,8,9,5,3,4,22000]
["O10",2,2,2,6,8,99000,null,null,null,null,null,null,null,null,"O10",15,15,15,12,8,99000,null,null,null,null,null,null,null,"O10",2,2,2,6,8,15,15,15,12,8,99000]
["O11",10,15,15,2,5,38000,null,null,null,null,null,null,null,null,"O11",7,2,2,16,11,38000,null,null,null,null,null,null,null,"O11",10,15,15,2,5,7,2,2,16,11,38000]
["O12",1,1,7,3,16,53000,null,null,null,null,null,null,null,null,"O12",16,16,8,15,1,53000,null,null,null,null,null,null,null,"O12",1,1,7,3,16,16,16,8,15,1,53000]
["O13",14,7,5,7,9,84000,null,null,null,null,null,null,null,null,"O13",3,10,12,11,7,84000,null,null,null,null,null,null,null,"O13",14,7,5,7,9,3,10,12,11,7,84000]
["O14",11,5,1,9,11,30000,null,null,null,null,null,null,null,null,"O14",6,12,16,9,4,30000,null,null,null,null,null,null,null,"O14",11,5,1,9,11,6,12,16,9,4,30000]
["O15",4,13,4,16,4,13000,null,null,null,null,null,null,null,null,"O15",13,3,13,1,12,13000,null,null,null,null,null,null,null,"O15",4,13,4,16,4,13,3,13,1,12,13000]
["O16",13,10,7,16,2,89000,null,null,null,null,null,null,null,null,"O16",4,7,8,1,14,89000,null,null,null,null,null,null,null,"O16",13,10,7,16,2,4,7,8,1,14,89000]
[]
["L�pcs�k(1)","X(A1)","X(A2)","X(A3)","X(A4)","X(A5)",null,null,null,null,null,null,null,null,null,"L�pcs�k(1)","X(A1)","X(A2)","X(A3)","X(A4)","X(A5)",null,null,null,null,null,null,null,null,"L�pcs�k(1)","X(A1)","X(A2)","X(A3)","X(A4)","X(A5)","X(A6)","X(A7)","X(A8)","X(A9)","X(A10)"]
["S1","(0+0)/(2)=0","(32501.5+9141)/(2)=20821.25","(12188+15235.1)/(2)=13711.55","(28438.8+52814.9)/(2)=40626.8","(81253.6+81253.6)/(2)=81253.65",null,null,null,null,null,null,null,null,null,"S1","(9459.7+0)/(2)=4729.85","(75677.9+30271.2)/(2)=52974.5","(83245.7+73785.9)/(2)=78515.8","(12297.7+48244.6)/(2)=30271.15","(50136.6+48244.6)/(2)=49190.6",null,null,null,null,null,null,null,null,"S1","(1513+1513)/(2)=1512.95","(30763.7+0)/(2)=15381.85","(27737.8+25720.5)/(2)=26729.1","(18659.9+51945.2)/(2)=35302.6","(69092.2+66570.6)/(2)=67831.4","(10086.5+12103.7)/(2)=11095.1","(11599.4+1513)/(2)=6556.2","(19668.6+11095.1)/(2)=15381.85","(10590.8+11095.1)/(2)=10842.95","(2521.6+0)/(2)=1260.8"]
["S2","(0+0)/(2)=0","(32501.5+9141)/(2)=20821.25","(12188+15235.1)/(2)=13711.55","(28438.8+52814.9)/(2)=40626.8","(81253.6+81253.6)/(2)=81253.65",null,null,null,null,null,null,null,null,null,"S2","(9459.7+0)/(2)=4729.85","(0+0)/(2)=0","(35947+35947)/(2)=35947","(0+9459.7)/(2)=4729.85","(19865.4+48244.6)/(2)=34055.05",null,null,null,null,null,null,null,null,"S2","(1513+1513)/(2)=1512.95","(30763.7+0)/(2)=15381.85","(27737.8+25720.5)/(2)=26729.1","(18659.9+51945.2)/(2)=35302.6","(69092.2+66570.6)/(2)=67831.4","(10086.5+12103.7)/(2)=11095.1","(0+0)/(2)=0","(19668.6+11095.1)/(2)=15381.85","(0+11095.1)/(2)=5547.55","(2521.6+0)/(2)=1260.8"]
["S3","(0+0)/(2)=0","(32501.5+9141)/(2)=20821.25","(12188+15235.1)/(2)=13711.55","(21329.1+52814.9)/(2)=37071.95","(42658.2+34532.8)/(2)=38595.45",null,null,null,null,null,null,null,null,null,"S3","(9459.7+0)/(2)=4729.85","(0+0)/(2)=0","(35947+35947)/(2)=35947","(0+9459.7)/(2)=4729.85","(19865.4+48244.6)/(2)=34055.05",null,null,null,null,null,null,null,null,"S3","(0+1513)/(2)=756.5","(30763.7+0)/(2)=15381.85","(27737.8+25720.5)/(2)=26729.1","(18659.9+51945.2)/(2)=35302.6","(22694.5+20172.9)/(2)=21433.7","(10086.5+12103.7)/(2)=11095.1","(0+0)/(2)=0","(19668.6+11095.1)/(2)=15381.85","(0+11095.1)/(2)=5547.55","(2521.6+0)/(2)=1260.8"]
["S4","(0+0)/(2)=0","(8125.4+9141)/(2)=8633.2","(3047+0)/(2)=1523.5","(21329.1+52814.9)/(2)=37071.95","(10156.7+23360.4)/(2)=16758.55",null,null,null,null,null,null,null,null,null,"S4","(9459.7+0)/(2)=4729.85","(0+0)/(2)=0","(2837.9+35947)/(2)=19392.45","(0+9459.7)/(2)=4729.85","(19865.4+48244.6)/(2)=34055.05",null,null,null,null,null,null,null,null,"S4","(0+0)/(2)=0","(0+0)/(2)=0","(2521.6+0)/(2)=1260.8","(18659.9+51945.2)/(2)=35302.6","(0+9582.1)/(2)=4791.05","(10086.5+12103.7)/(2)=11095.1","(0+0)/(2)=0","(19668.6+11095.1)/(2)=15381.85","(0+11095.1)/(2)=5547.55","(2521.6+0)/(2)=1260.8"]
["S5","(0+0)/(2)=0","(8125.4+9141)/(2)=8633.2","(3047+0)/(2)=1523.5","(21329.1+52814.9)/(2)=37071.95","(10156.7+23360.4)/(2)=16758.55",null,null,null,null,null,null,null,null,null,"S5","(9459.7+0)/(2)=4729.85","(0+0)/(2)=0","(946+35947)/(2)=18446.5","(0+9459.7)/(2)=4729.85","(19865.4+48244.6)/(2)=34055.05",null,null,null,null,null,null,null,null,"S5","(0+0)/(2)=0","(0+0)/(2)=0","(2521.6+0)/(2)=1260.8","(18659.9+51945.2)/(2)=35302.6","(0+9582.1)/(2)=4791.05","(10086.5+12103.7)/(2)=11095.1","(0+0)/(2)=0","(19668.6+11095.1)/(2)=15381.85","(0+11095.1)/(2)=5547.55","(2521.6+0)/(2)=1260.8"]
["S6","(0+0)/(2)=0","(8125.4+9141)/(2)=8633.2","(0+0)/(2)=0","(21329.1+52814.9)/(2)=37071.95","(10156.7+23360.4)/(2)=16758.55",null,null,null,null,null,null,null,null,null,"S6","(8513.8+0)/(2)=4256.9","(0+0)/(2)=0","(946+35947)/(2)=18446.5","(0+9459.7)/(2)=4729.85","(19865.4+48244.6)/(2)=34055.05",null,null,null,null,null,null,null,null,"S6","(0+0)/(2)=0","(0+0)/(2)=0","(0+0)/(2)=0","(18659.9+51945.2)/(2)=35302.6","(0+9582.1)/(2)=4791.05","(0+0)/(2)=0","(0+0)/(2)=0","(19668.6+11095.1)/(2)=15381.85","(0+11095.1)/(2)=5547.55","(2521.6+0)/(2)=1260.8"]
["S7","(0+0)/(2)=0","(8125.4+9141)/(2)=8633.2","(0+0)/(2)=0","(21329.1+52814.9)/(2)=37071.95","(10156.7+23360.4)/(2)=16758.55",null,null,null,null,null,null,null,null,null,"S7","(0+0)/(2)=0","(0+0)/(2)=0","(0+35947)/(2)=17973.5","(0+9459.7)/(2)=4729.85","(19865.4+48244.6)/(2)=34055.05",null,null,null,null,null,null,null,null,"S7","(0+0)/(2)=0","(0+0)/(2)=0","(0+0)/(2)=0","(18659.9+51945.2)/(2)=35302.6","(0+9582.1)/(2)=4791.05","(0+0)/(2)=0","(0+0)/(2)=0","(0+0)/(2)=0","(0+11095.1)/(2)=5547.55","(2521.6+0)/(2)=1260.8"]
["S8","(0+0)/(2)=0","(8125.4+9141)/(2)=8633.2","(0+0)/(2)=0","(21329.1+52814.9)/(2)=37071.95","(10156.7+23360.4)/(2)=16758.55",null,null,null,null,null,null,null,null,null,"S8","(0+0)/(2)=0","(0+0)/(2)=0","(0+35947)/(2)=17973.5","(0+9459.7)/(2)=4729.85","(19865.4+48244.6)/(2)=34055.05",null,null,null,null,null,null,null,null,"S8","(0+0)/(2)=0","(0+0)/(2)=0","(0+0)/(2)=0","(18659.9+51945.2)/(2)=35302.6","(0+9582.1)/(2)=4791.05","(0+0)/(2)=0","(0+0)/(2)=0","(0+0)/(2)=0","(0+11095.1)/(2)=5547.55","(2521.6+0)/(2)=1260.8"]
["S9","(0+0)/(2)=0","(0+9141)/(2)=4570.5","(0+0)/(2)=0","(0+2031.3)/(2)=1015.65","(10156.7+23360.4)/(2)=16758.55",null,null,null,null,null,null,null,null,null,"S9","(0+0)/(2)=0","(0+0)/(2)=0","(0+35947)/(2)=17973.5","(0+9459.7)/(2)=4729.85","(0+33109.1)/(2)=16554.55",null,null,null,null,null,null,null,null,"S9","(0+0)/(2)=0","(0+0)/(2)=0","(0+0)/(2)=0","(0+0)/(2)=0","(0+9582.1)/(2)=4791.05","(0+0)/(2)=0","(0+0)/(2)=0","(0+0)/(2)=0","(0+11095.1)/(2)=5547.55","(0+0)/(2)=0"]
["S10","(0+0)/(2)=0","(0+9141)/(2)=4570.5","(0+0)/(2)=0","(0+2031.3)/(2)=1015.65","(10156.7+23360.4)/(2)=16758.55",null,null,null,null,null,null,null,null,null,"S10","(0+0)/(2)=0","(0+0)/(2)=0","(0+35947)/(2)=17973.5","(0+9459.7)/(2)=4729.85","(0+33109.1)/(2)=16554.55",null,null,null,null,null,null,null,null,"S10","(0+0)/(2)=0","(0+0)/(2)=0","(0+0)/(2)=0","(0+0)/(2)=0","(0+0)/(2)=0","(0+0)/(2)=0","(0+0)/(2)=0","(0+0)/(2)=0","(0+11095.1)/(2)=5547.55","(0+0)/(2)=0"]
["S11","(0+0)/(2)=0","(0+8125.4)/(2)=4062.7","(0+0)/(2)=0","(0+0)/(2)=0","(10156.7+13203.7)/(2)=11680.2",null,null,null,null,null,null,null,null,null,"S11","(0+0)/(2)=0","(0+0)/(2)=0","(0+35947)/(2)=17973.5","(0+9459.7)/(2)=4729.85","(0+0)/(2)=0",null,null,null,null,null,null,null,null,"S11","(0+0)/(2)=0","(0+0)/(2)=0","(0+0)/(2)=0","(0+0)/(2)=0","(0+0)/(2)=0","(0+0)/(2)=0","(0+0)/(2)=0","(0+0)/(2)=0","(0+11095.1)/(2)=5547.55","(0+0)/(2)=0"]
["S12","(0+0)/(2)=0","(0+8125.4)/(2)=4062.7","(0+0)/(2)=0","(0+0)/(2)=0","(10156.7+13203.7)/(2)=11680.2",null,null,null,null,null,null,null,null,null,"S12","(0+0)/(2)=0","(0+0)/(2)=0","(0+35947)/(2)=17973.5","(0+9459.7)/(2)=4729.85","(0+0)/(2)=0",null,null,null,null,null,null,null,null,"S12","(0+0)/(2)=0","(0+0)/(2)=0","(0+0)/(2)=0","(0+0)/(2)=0","(0+0)/(2)=0","(0+0)/(2)=0","(0+0)/(2)=0","(0+0)/(2)=0","(0+11095.1)/(2)=5547.55","(0+0)/(2)=0"]
["S13","(0+0)/(2)=0","(0+8125.4)/(2)=4062.7","(0+0)/(2)=0","(0+0)/(2)=0","(10156.7+13203.7)/(2)=11680.2",null,null,null,null,null,null,null,null,null,"S13","(0+0)/(2)=0","(0+0)/(2)=0","(0+35947)/(2)=17973.5","(0+0)/(2)=0","(0+0)/(2)=0",null,null,null,null,null,null,null,null,"S13","(0+0)/(2)=0","(0+0)/(2)=0","(0+0)/(2)=0","(0+0)/(2)=0","(0+0)/(2)=0","(0+0)/(2)=0","(0+0)/(2)=0","(0+0)/(2)=0","(0+0)/(2)=0","(0+0)/(2)=0"]
["S14","(0+0)/(2)=0","(0+0)/(2)=0","(0+0)/(2)=0","(0+0)/(2)=0","(0+0)/(2)=0",null,null,null,null,null,null,null,null,null,"S14","(0+0)/(2)=0","(0+0)/(2)=0","(0+35947)/(2)=17973.5","(0+0)/(2)=0","(0+0)/(2)=0",null,null,null,null,null,null,null,null,"S14","(0+0)/(2)=0","(0+0)/(2)=0","(0+0)/(2)=0","(0+0)/(2)=0","(0+0)/(2)=0","(0+0)/(2)=0","(0+0)/(2)=0","(0+0)/(2)=0","(0+0)/(2)=0","(0+0)/(2)=0"]
["S15","(0+0)/(2)=0","(0+0)/(2)=0","(0+0)/(2)=0","(0+0)/(2)=0","(0+0)/(2)=0",null,null,null,null,null,null,null,null,null,"S15","(0+0)/(2)=0","(0+0)/(2)=0","(0+35947)/(2)=17973.5","(0+0)/(2)=0","(0+0)/(2)=0",null,null,null,null,null,null,null,null,"S15","(0+0)/(2)=0","(0+0)/(2)=0","(0+0)/(2)=0","(0+0)/(2)=0","(0+0)/(2)=0","(0+0)/(2)=0","(0+0)/(2)=0","(0+0)/(2)=0","(0+0)/(2)=0","(0+0)/(2)=0"]
["S16","(0+0)/(2)=0","(0+0)/(2)=0","(0+0)/(2)=0","(0+0)/(2)=0","(0+0)/(2)=0",null,null,null,null,null,null,null,null,null,"S16","(0+0)/(2)=0","(0+0)/(2)=0","(0+0)/(2)=0","(0+0)/(2)=0","(0+0)/(2)=0",null,null,null,null,null,null,null,null,"S16","(0+0)/(2)=0","(0+0)/(2)=0","(0+0)/(2)=0","(0+0)/(2)=0","(0+0)/(2)=0","(0+0)/(2)=0","(0+0)/(2)=0","(0+0)/(2)=0","(0+0)/(2)=0","(0+0)/(2)=0"]
[]
["L�pcs�k(2)","X(A1)","X(A2)","X(A3)","X(A4)","X(A5)",null,null,null,null,null,null,null,null,null,"L�pcs�k(2)","X(A1)","X(A2)","X(A3)","X(A4)","X(A5)",null,null,null,null,null,null,null,null,"L�pcs�k(2)","X(A1)","X(A2)","X(A3)","X(A4)","X(A5)","X(A6)","X(A7)","X(A8)","X(A9)","X(A10)"]
["S1",0,20821.2,13711.5,40626.800000000003,81253.600000000006,null,null,null,null,null,null,null,null,null,"S1",4729.8999999999996,52974.5,78515.8,30271.200000000001,49190.6,null,null,null,null,null,null,null,null,"S1",1513,15381.8,26729.1,35302.6,67831.399999999994,11095.1,6556.2,15381.8,10842.9,1260.8]
["S2",0,20821.2,13711.5,40626.800000000003,81253.600000000006,null,null,null,null,null,null,null,null,null,"S2",4729.8999999999996,0,35947,4729.8999999999996,34055,null,null,null,null,null,null,null,null,"S2",1513,15381.8,26729.1,35302.6,67831.399999999994,11095.1,0,15381.8,5547.6,1260.8]
["S3",0,20821.2,13711.5,37072,38595.5,null,null,null,null,null,null,null,null,null,"S3",4729.8999999999996,0,35947,4729.8999999999996,34055,null,null,null,null,null,null,null,null,"S3",756.5,15381.8,26729.1,35302.6,21433.7,11095.1,0,15381.8,5547.6,1260.8]
["S4",0,8633.2000000000007,1523.5,37072,16758.599999999999,null,null,null,null,null,null,null,null,null,"S4",4729.8999999999996,0,19392.5,4729.8999999999996,34055,null,null,null,null,null,null,null,null,"S4",0,0,1260.8,35302.6,4791.1000000000004,11095.1,0,15381.8,5547.6,1260.8]
["S5",0,8633.2000000000007,1523.5,37072,16758.599999999999,null,null,null,null,null,null,null,null,null,"S5",4729.8999999999996,0,18446.5,4729.8999999999996,34055,null,null,null,null,null,null,null,null,"S5",0,0,1260.8,35302.6,4791.1000000000004,11095.1,0,15381.8,5547.6,1260.8]
["S6",0,8633.2000000000007,0,37072,16758.599999999999,null,null,null,null,null,null,null,null,null,"S6",4256.8999999999996,0,18446.5,4729.8999999999996,34055,null,null,null,null,null,null,null,null,"S6",0,0,0,35302.6,4791.1000000000004,0,0,15381.8,5547.6,1260.8]
["S7",0,8633.2000000000007,0,37072,16758.599999999999,null,null,null,null,null,null,null,null,null,"S7",0,0,17973.5,4729.8999999999996,34055,null,null,null,null,null,null,null,null,"S7",0,0,0,35302.6,4791.1000000000004,0,0,0,5547.6,1260.8]
["S8",0,8633.2000000000007,0,37072,16758.599999999999,null,null,null,null,null,null,null,null,null,"S8",0,0,17973.5,4729.8999999999996,34055,null,null,null,null,null,null,null,null,"S8",0,0,0,35302.6,4791.1000000000004,0,0,0,5547.6,1260.8]
["S9",0,4570.5,0,1015.7,16758.599999999999,null,null,null,null,null,null,null,null,null,"S9",0,0,17973.5,4729.8999999999996,16554.5,null,null,null,null,null,null,null,null,"S9",0,0,0,0,4791.1000000000004,0,0,0,5547.6,0]
["S10",0,4570.5,0,1015.7,16758.599999999999,null,null,null,null,null,null,null,null,null,"S10",0,0,17973.5,4729.8999999999996,16554.5,null,null,null,null,null,null,null,null,"S10",0,0,0,0,0,0,0,0,5547.6,0]
["S11",0,4062.7,0,0,11680.2,null,null,null,null,null,null,null,null,null,"S11",0,0,17973.5,4729.8999999999996,0,null,null,null,null,null,null,null,null,"S11",0,0,0,0,0,0,0,0,5547.6,0]
["S12",0,4062.7,0,0,11680.2,null,null,null,null,null,null,null,null,null,"S12",0,0,17973.5,4729.8999999999996,0,null,null,null,null,null,null,null,null,"S12",0,0,0,0,0,0,0,0,5547.6,0]
["S13",0,4062.7,0,0,11680.2,null,null,null,null,null,null,null,null,null,"S13",0,0,17973.5,0,0,null,null,null,null,null,null,null,null,"S13",0,0,0,0,0,0,0,0,0,0]
["S14",0,0,0,0,0,null,null,null,null,null,null,null,null,null,"S14",0,0,17973.5,0,0,null,null,null,null,null,null,null,null,"S14",0,0,0,0,0,0,0,0,0,0]
["S15",0,0,0,0,0,null,null,null,null,null,null,null,null,null,"S15",0,0,17973.5,0,0,null,null,null,null,null,null,null,null,"S15",0,0,0,0,0,0,0,0,0,0]
["S16",0,0,0,0,0,null,null,null,null,null,null,null,null,null,"S16",0,0,0,0,0,null,null,null,null,null,null,null,null,"S16",0,0,0,0,0,0,0,0,0,0]
[]
["COCO:STD","X(A1)","X(A2)","X(A3)","X(A4)","X(A5)","Becsl�s","T�ny+0","Delta","Delta/T�ny","abs",null,null,null,null,"COCO:STD","X(A1)","X(A2)","X(A3)","X(A4)","X(A5)","Becsl�s","T�ny+0","Delta","Delta/T�ny","abs",null,null,null,"COCO:STD","X(A1)","X(A2)","X(A3)","X(A4)","X(A5)","X(A6)","X(A7)","X(A8)","X(A9)","X(A10)","Becsl�s","T�ny+0","Delta","Delta/T�ny"]
["O1",0,4570.5,0,0,16758.599999999999,21329.1,10000,-11329.1,-113.29,{"$f":"ABS(I362)","v":11329.1},null,null,null,null,"O1",4729.8999999999996,0,17973.5,4729.8999999999996,16554.5,43987.8,10000,-33987.800000000003,-339.88,{"$f":"ABS(X362)","v":33987.800000000003},null,null,null,"O1",0,0,0,0,4791.1000000000004,11095.1,0,0,5547.6,0,21433.7,10000,-11433.7,-114.34]
["O2",0,4062.7,0,0,38595.5,42658.2,42000,-658.2,-1.57,{"$f":"ABS(I363)","v":658.2},null,null,null,null,"O2",0,0,35947,4729.8999999999996,0,40676.9,42000,1323.1,3.15,{"$f":"ABS(X363)","v":1323.1},null,null,null,"O2",0,0,0,0,21433.7,0,0,15381.8,5547.6,0,42363.1,42000,-363.1,-0.86]
["O3",0,4062.7,0,37072,0,41134.6,21000,-20134.599999999999,-95.88,20134.599999999999,null,null,null,null,"O3",0,0,17973.5,0,34055,52028.5,21000,-31028.5,-147.75,31028.5,null,null,null,"O3",0,0,0,35302.6,0,0,0,0,0,1260.8,36563.4,21000,-15563.4,-74.11]
["O4",0,4062.7,0,37072,16758.599999999999,57893.2,83000,25106.799999999999,30.25,25106.799999999999,null,null,null,null,"O4",0,0,18446.5,4729.8999999999996,16554.5,39730.9,83000,43269.1,52.13,43269.1,null,null,null,"O4",0,0,0,35302.6,4791.1000000000004,0,0,15381.8,5547.6,0,61023.1,83000,21976.9,26.48]
["O5",0,20821.2,13711.5,37072,11680.2,83285,89000,5715,6.42,5715,null,null,null,null,"O5",4729.8999999999996,0,17973.5,0,34055,56758.400000000001,89000,32241.599999999999,36.229999999999997,32241.599999999999,null,null,null,"O5",0,15381.8,26729.1,35302.6,0,11095.1,0,0,0,1260.8,89769.5,89000,-769.5,-0.86]
["O6",0,8633.2000000000007,0,1015.7,16758.599999999999,26407.4,34000,7592.6,22.33,7592.6,null,null,null,null,"O6",4729.8999999999996,0,19392.5,4729.8999999999996,34055,62907.199999999997,34000,-28907.200000000001,-85.02,28907.200000000001,null,null,null,"O6",0,0,0,0,0,11095.1,0,15381.8,5547.6,1260.8,33285.300000000003,34000,714.7,2.1]
["O7",0,0,0,0,81253.600000000006,81253.600000000006,80000,-1253.5999999999999,-1.57,1253.5999999999999,null,null,null,null,"O7",0,52974.5,17973.5,4729.8999999999996,0,75677.899999999994,80000,4322.1000000000004,5.4,4322.1000000000004,null,null,null,"O7",756.5,0,0,0,67831.399999999994,0,6556.2,0,5547.6,0,80691.600000000006,80000,-691.6,-0.86]
["O8",0,8633.2000000000007,0,0,81253.600000000006,89886.8,88000,-1886.8,-2.14,1886.8,null,null,null,null,"O8",0,0,78515.8,4729.8999999999996,0,83245.7,88000,4754.3,5.4,4754.3,null,null,null,"O8",0,0,0,0,67831.399999999994,0,0,15381.8,5547.6,0,88760.8,88000,-760.8,-0.86]
["O9",0,8633.2000000000007,0,0,11680.2,20313.400000000001,22000,1686.6,7.67,1686.6,null,null,null,null,"O9",0,0,18446.5,4729.8999999999996,34055,57231.4,22000,-35231.4,-160.13999999999999,35231.4,null,null,null,"O9",0,0,0,0,0,0,0,15381.8,5547.6,1260.8,22190.2,22000,-190.2,-0.86]
["O10",0,20821.2,13711.5,37072,16758.599999999999,88363.3,99000,10636.7,10.74,10636.7,null,null,null,null,"O10",0,0,17973.5,4729.8999999999996,34055,56758.400000000001,99000,42241.599999999999,42.67,42241.599999999999,null,null,null,"O10",1513,15381.8,26729.1,35302.6,4791.1000000000004,0,0,0,5547.6,1260.8,90525.9,99000,8474.1,8.56]
["O11",0,0,0,40626.800000000003,16758.599999999999,57385.4,38000,-19385.400000000001,-51.01,19385.400000000001,null,null,null,null,"O11",0,0,35947,0,0,35947,38000,2053,5.4,2053,null,null,null,"O11",0,0,0,35302.6,4791.1000000000004,0,0,15381.8,0,0,55475.5,38000,-17475.5,-45.99]
["O12",0,20821.2,0,37072,0,57893.2,53000,-4893.2,-9.23,4893.2,null,null,null,null,"O12",0,0,17973.5,0,49190.6,67164.100000000006,53000,-14164.1,-26.72,14164.1,null,null,null,"O12",1513,15381.8,0,35302.6,0,0,0,0,0,1260.8,53458.2,53000,-458.2,-0.86]
["O13",0,8633.2000000000007,1523.5,37072,16758.599999999999,63987.199999999997,84000,20012.8,23.82,20012.8,null,null,null,null,"O13",4729.8999999999996,0,17973.5,4729.8999999999996,34055,61488.3,84000,22511.7,26.8,22511.7,null,null,null,"O13",0,0,1260.8,35302.6,4791.1000000000004,11095.1,0,0,5547.6,1260.8,59257.9,84000,24742.1,29.45]
["O14",0,8633.2000000000007,13711.5,1015.7,11680.2,35040.6,30000,-5040.6000000000004,-16.8,5040.6000000000004,null,null,null,null,"O14",4256.8999999999996,0,0,4729.8999999999996,34055,43041.8,30000,-13041.8,-43.47,13041.8,null,null,null,"O14",0,0,26729.1,0,0,0,0,0,5547.6,1260.8,33537.5,30000,-3537.5,-11.79]
["O15",0,4062.7,1523.5,0,16758.599999999999,22344.7,13000,-9344.7000000000007,-71.88,9344.7000000000007,null,null,null,null,"O15",0,0,17973.5,30271.200000000001,0,48244.6,13000,-35244.6,-271.11,35244.6,null,null,null,"O15",0,0,1260.8,0,4791.1000000000004,0,0,0,10842.9,0,16894.8,13000,-3894.8,-29.96]
["O16",0,4570.5,0,0,81253.600000000006,85824.1,89000,3175.9,3.57,3175.9,null,null,null,null,"O16",4729.8999999999996,0,17973.5,30271.200000000001,0,52974.5,89000,36025.5,40.479999999999997,36025.5,null,null,null,"O16",0,0,0,0,67831.399999999994,11095.1,0,0,10842.9,0,89769.5,89000,-769.5,-0.86]
[null,null,null,null,null,null,null,null,{"$f":"STDEV(I362:I377)","v":12380.162361233395},null,{"$f":"SUM(K362:K377)","v":147852.60000000003},null,null,null,null,null,null,null,null,null,null,null,null,{"$f":"STDEV(X362:X377)","v":28699.764163325453},null,{"$f":"SUM(Z362:Z377)","v":380347.39999999997},null,null,null,null,null,null,null,null,null,null,null,null,null,null,null,null,{"$f":"STDEV(AQ362:AQ377)","v":11183.683216484033}]
["S1 �sszeg:",156413.1,null,null,null,null,null,null,null,null,null,null,null,null,null,"S1 �sszeg:",215682,null,null,null,null,null,null,null,null,null,null,null,null,"S1 �sszeg:",191894.7]
["S16 �sszeg:",0,null,null,null,null,null,null,null,null,null,null,null,null,null,"S16 �sszeg:",0,null,null,null,null,null,null,null,null,null,null,null,null,"S16 �sszeg:",0]
["Becsl�s �sszeg:",874999.8,null,null,null,null,null,null,null,null,null,null,null,null,null,"Becsl�s �sszeg:",877863.4,null,null,null,null,null,null,null,null,null,null,null,null,"Becsl�s �sszeg:",875000]
["T�ny �sszeg:",875000,null,null,null,null,null,null,null,null,null,null,null,null,null,"T�ny �sszeg:",875000,null,null,null,null,null,null,null,null,null,null,null,null,"T�ny �sszeg:",875000]
["T�ny-becsl�s elt�r�s:",-0.2,null,null,null,null,null,null,null,null,null,null,null,null,null,"T�ny-becsl�s elt�r�s:",2863.4,null,null,null,null,null,null,null,null,null,null,null,null,"T�ny-becsl�s elt�r�s:",0]
["T�ny n�gyzet�sszeg:",null,null,null,null,null,null,null,null,null,null,null,null,null,null,"T�ny n�gyzet�sszeg:",null,null,null,null,null,null,null,null,null,null,null,null,null,"T�ny n�gyzet�sszeg:"]
["Becsl�s n�gyzet�sszeg:",null,null,null,null,null,null,null,null,null,null,null,null,null,null,"Becsl�s n�gyzet�sszeg:",null,null,null,null,null,null,null,null,null,null,null,null,null,"Becsl�s n�gyzet�sszeg:"]
["N�gyzet�sszeg hiba:",0,null,null,null,null,null,null,null,null,null,null,null,null,null,"N�gyzet�sszeg hiba:",0,null,null,null,null,null,null,null,null,null,null,null,null,"N�gyzet�sszeg hiba:",0]
[]
["Open url",null,null,null,null,null,null,null,null,null,null,null,null,null,null,"Open url",null,null,null,null,null,null,null,null,null,null,null,null,null,"Open url"]
[]
["Maxim�lis mem�ria haszn�lat: 1.36 Mb",null,null,null,null,null,null,null,null,null,null,null,null,null,null,"Maxim�lis mem�ria haszn�lat: 1.36 Mb",null,null,null,null,null,null,null,null,null,null,null,null,null,"Maxim�lis mem�ria haszn�lat: 1.38 Mb"]
["A futtat�s id�tartama: 0.06 mp (0 p)",null,null,null,null,null,null,null,null,null,null,null,null,null,null,"A futtat�s id�tartama: 0.29 mp (0 p)",null,null,null,null,null,null,null,null,null,null,null,null,null,"A futtat�s id�tartama: 0.08 mp (0 p)"]
[]
[]
[]
[]
[]
[]
[]
[]
[]
[]
[]
[]
[]
["Azonos�t�:",5550575,"Objektumok:",16,"Attrib�tumok:",5,"Lepcs�k:",16,"Eltol�s:",0,"Le�r�s:","COCO STD: 5550575",null,null,null,"Azonos�t�:",4229876,"Objektumok:",16,"Attrib�tumok:",5,"Lepcs�k:",16,"Eltol�s:",0,"Le�r�s:","COCO STD: 4229876",null,null,"Azonos�t�:",5372047,"Objektumok:",16,"Attrib�tumok:",10,"Lepcs�k:",16,"Eltol�s:",0,"Le�r�s:","COCO STD: 5372047"]
[]
["Rangsor","X(A1)","X(A2)","X(A3)","X(A4)","X(A5)","Y(A6)",null,null,null,null,null,null,null,null,"Rangsor","X(A1)","X(A2)","X(A3)","X(A4)","X(A5)","Y(A6)",null,null,null,null,null,null,null,"Rangsor","X(A1)","X(A2)","X(A3)","X(A4)","X(A5)","X(A6)","X(A7)","X(A8)","X(A9)","X(A10)","Y(A11)"]
["O1",1,7,14,4,2,67000,null,null,null,null,null,null,null,null,"O1",14,8,3,12,15,67000,null,null,null,null,null,null,null,"O1",1,7,14,4,2,14,8,3,12,15,67000]
["O2",16,5,10,14,3,22000,null,null,null,null,null,null,null,null,"O2",1,12,7,2,14,22000,null,null,null,null,null,null,null,"O2",16,5,10,14,3,1,12,7,2,14,22000]
["O3",13,6,5,2,5,66000,null,null,null,null,null,null,null,null,"O3",4,10,12,14,12,66000,null,null,null,null,null,null,null,"O3",13,6,5,2,5,4,10,12,14,12,66000]
["O4",1,12,4,16,1,11000,null,null,null,null,null,null,null,null,"O4",14,5,13,1,16,11000,null,null,null,null,null,null,null,"O4",1,12,4,16,1,14,5,13,1,16,11000]
["O5",11,1,11,10,11,19000,null,null,null,null,null,null,null,null,"O5",6,15,6,6,6,19000,null,null,null,null,null,null,null,"O5",11,1,11,10,11,6,15,6,6,6,19000]
["O6",4,14,15,1,16,30000,null,null,null,null,null,null,null,null,"O6",12,3,2,16,1,30000,null,null,null,null,null,null,null,"O6",4,14,15,1,16,12,3,2,16,1,30000]
["O7",4,9,1,8,12,44000,null,null,null,null,null,null,null,null,"O7",12,7,16,8,4,44000,null,null,null,null,null,null,null,"O7",4,9,1,8,12,12,7,16,8,4,44000]
["O8",10,13,13,9,8,18000,null,null,null,null,null,null,null,null,"O8",7,4,4,7,8,18000,null,null,null,null,null,null,null,"O8",10,13,13,9,8,7,4,4,7,8,18000]
["O9",12,4,16,3,6,83000,null,null,null,null,null,null,null,null,"O9",5,13,1,13,11,83000,null,null,null,null,null,null,null,"O9",12,4,16,3,6,5,13,1,13,11,83000]
["O10",14,16,6,12,15,33000,null,null,null,null,null,null,null,null,"O10",3,1,11,4,2,33000,null,null,null,null,null,null,null,"O10",14,16,6,12,15,3,1,11,4,2,33000]
["O11",7,1,2,7,14,87000,null,null,null,null,null,null,null,null,"O11",10,15,15,9,3,87000,null,null,null,null,null,null,null,"O11",7,1,2,7,14,10,15,15,9,3,87000]
["O12",15,3,12,5,7,73000,null,null,null,null,null,null,null,null,"O12",2,14,5,11,10,73000,null,null,null,null,null,null,null,"O12",15,3,12,5,7,2,14,5,11,10,73000]
["O13",8,10,8,13,8,32000,null,null,null,null,null,null,null,null,"O13",9,6,9,3,8,32000,null,null,null,null,null,null,null,"O13",8,10,8,13,8,9,6,9,3,8,32000]
["O14",9,15,7,11,4,97000,null,null,null,null,null,null,null,null,"O14",8,2,10,5,13,97000,null,null,null,null,null,null,null,"O14",9,15,7,11,4,8,2,10,5,13,97000]
["O15",6,7,3,6,10,88000,null,null,null,null,null,null,null,null,"O15",11,8,14,10,7,88000,null,null,null,null,null,null,null,"O15",6,7,3,6,10,11,8,14,10,7,88000]
["O16",1,6,9,2,12,93000,null,null,null,null,null,null,null,null,"O16",14,10,8,14,4,93000,null,null,null,null,null,null,null,"O16",1,6,9,2,12,14,10,8,14,4,93000]
[]
["L�pcs�k(1)","X(A1)","X(A2)","X(A3)","X(A4)","X(A5)",null,null,null,null,null,null,null,null,null,"L�pcs�k(1)","X(A1)","X(A2)","X(A3)","X(A4)","X(A5)",null,null,null,null,null,null,null,null,"L�pcs�k(1)","X(A1)","X(A2)","X(A3)","X(A4)","X(A5)","X(A6)","X(A7)","X(A8)","X(A9)","X(A10)"]
["S1","(0+0)/(2)=0","(19416.2+0)/(2)=9708.1","(38832.4+37810.5)/(2)=38321.5","(30657.2+62336.3)/(2)=46496.75","(3065.7+22481.9)/(2)=12773.85",null,null,null,null,null,null,null,null,null,"S1","(11241+3065.7)/(2)=7153.35","(0+32701)/(2)=16350.5","(66423.9+18394.3)/(2)=42409.1","(11241+62336.3)/(2)=36788.65","(22481.9+26569.6)/(2)=24525.75",null,null,null,null,null,null,null,null,"S1","(0+5183.2)/(2)=2591.6","(19696.1+1036.6)/(2)=10366.35","(39392.2+45612)/(2)=42502.1","(31099.1+58051.7)/(2)=44575.4","(3109.9+0)/(2)=1554.95","(0+10366.4)/(2)=5183.2","(25915.9+67381.4)/(2)=46648.65","(32135.7+40428.8)/(2)=36282.3","(0+0)/(2)=0","(0+0)/(2)=0"]
["S2","(0+0)/(2)=0","(19416.2+0)/(2)=9708.1","(38832.4+37810.5)/(2)=38321.5","(30657.2+62336.3)/(2)=46496.75","(3065.7+22481.9)/(2)=12773.85",null,null,null,null,null,null,null,null,null,"S2","(11241+3065.7)/(2)=7153.35","(0+32701)/(2)=16350.5","(8175.3+5109.5)/(2)=6642.4","(11241+62336.3)/(2)=36788.65","(22481.9+26569.6)/(2)=24525.75",null,null,null,null,null,null,null,null,"S2","(0+0)/(2)=0","(19696.1+1036.6)/(2)=10366.35","(39392.2+45612)/(2)=42502.1","(31099.1+58051.7)/(2)=44575.4","(3109.9+0)/(2)=1554.95","(0+10366.4)/(2)=5183.2","(25915.9+67381.4)/(2)=46648.65","(0+18659.5)/(2)=9329.75","(0+0)/(2)=0","(0+0)/(2)=0"]
["S3","(0+0)/(2)=0","(19416.2+0)/(2)=9708.1","(38832.4+37810.5)/(2)=38321.5","(30657.2+62336.3)/(2)=46496.75","(3065.7+22481.9)/(2)=12773.85",null,null,null,null,null,null,null,null,null,"S3","(0+0)/(2)=0","(0+1021.9)/(2)=510.95","(8175.3+5109.5)/(2)=6642.4","(11241+62336.3)/(2)=36788.65","(22481.9+26569.6)/(2)=24525.75",null,null,null,null,null,null,null,null,"S3","(0+0)/(2)=0","(19696.1+1036.6)/(2)=10366.35","(39392.2+45612)/(2)=42502.1","(31099.1+45612)/(2)=38355.55","(3109.9+0)/(2)=1554.95","(0+0)/(2)=0","(0+0)/(2)=0","(0+18659.5)/(2)=9329.75","(0+0)/(2)=0","(0+0)/(2)=0"]
["S4","(0+0)/(2)=0","(19416.2+0)/(2)=9708.1","(8175.3+37810.5)/(2)=22992.9","(30657.2+52117.2)/(2)=41387.2","(3065.7+22481.9)/(2)=12773.85",null,null,null,null,null,null,null,null,null,"S4","(0+0)/(2)=0","(0+1021.9)/(2)=510.95","(0+5109.5)/(2)=2554.75","(11241+62336.3)/(2)=36788.65","(22481.9+26569.6)/(2)=24525.75",null,null,null,null,null,null,null,null,"S4","(0+0)/(2)=0","(19696.1+0)/(2)=9848.05","(8293.1+14512.9)/(2)=11403","(31099.1+45612)/(2)=38355.55","(3109.9+0)/(2)=1554.95","(0+0)/(2)=0","(0+0)/(2)=0","(0+18659.5)/(2)=9329.75","(0+0)/(2)=0","(0+0)/(2)=0"]
["S5","(0+0)/(2)=0","(19416.2+0)/(2)=9708.1","(8175.3+37810.5)/(2)=22992.9","(30657.2+52117.2)/(2)=41387.2","(3065.7+22481.9)/(2)=12773.85",null,null,null,null,null,null,null,null,null,"S5","(0+0)/(2)=0","(0+1021.9)/(2)=510.95","(0+5109.5)/(2)=2554.75","(11241+62336.3)/(2)=36788.65","(8175.3+26569.6)/(2)=17372.4",null,null,null,null,null,null,null,null,"S5","(0+0)/(2)=0","(19696.1+0)/(2)=9848.05","(8293.1+14512.9)/(2)=11403","(31099.1+45612)/(2)=38355.55","(3109.9+0)/(2)=1554.95","(0+0)/(2)=0","(0+0)/(2)=0","(0+18659.5)/(2)=9329.75","(0+0)/(2)=0","(0+0)/(2)=0"]
["S6","(0+0)/(2)=0","(19416.2+0)/(2)=9708.1","(8175.3+37810.5)/(2)=22992.9","(30657.2+52117.2)/(2)=41387.2","(3065.7+22481.9)/(2)=12773.85",null,null,null,null,null,null,null,null,null,"S6","(0+0)/(2)=0","(0+1021.9)/(2)=510.95","(0+5109.5)/(2)=2554.75","(11241+62336.3)/(2)=36788.65","(8175.3+26569.6)/(2)=17372.4",null,null,null,null,null,null,null,null,"S6","(0+0)/(2)=0","(19696.1+0)/(2)=9848.05","(8293.1+14512.9)/(2)=11403","(31099.1+45612)/(2)=38355.55","(3109.9+0)/(2)=1554.95","(0+0)/(2)=0","(0+0)/(2)=0","(0+18659.5)/(2)=9329.75","(0+0)/(2)=0","(0+0)/(2)=0"]
["S7","(0+0)/(2)=0","(19416.2+0)/(2)=9708.1","(8175.3+37810.5)/(2)=22992.9","(30657.2+51095.3)/(2)=40876.25","(3065.7+22481.9)/(2)=12773.85",null,null,null,null,null,null,null,null,null,"S7","(0+0)/(2)=0","(0+1021.9)/(2)=510.95","(0+5109.5)/(2)=2554.75","(11241+62336.3)/(2)=36788.65","(8175.3+26569.6)/(2)=17372.4",null,null,null,null,null,null,null,null,"S7","(0+0)/(2)=0","(19696.1+0)/(2)=9848.05","(8293.1+14512.9)/(2)=11403","(31099.1+43538.7)/(2)=37318.9","(3109.9+0)/(2)=1554.95","(0+0)/(2)=0","(0+0)/(2)=0","(0+18659.5)/(2)=9329.75","(0+0)/(2)=0","(0+0)/(2)=0"]
["S8","(0+0)/(2)=0","(0+0)/(2)=0","(8175.3+32701)/(2)=20438.15","(6131.4+38832.4)/(2)=22481.95","(3065.7+0)/(2)=1532.85",null,null,null,null,null,null,null,null,null,"S8","(0+0)/(2)=0","(0+1021.9)/(2)=510.95","(0+5109.5)/(2)=2554.75","(11241+62336.3)/(2)=36788.65","(7153.3+4087.6)/(2)=5620.5",null,null,null,null,null,null,null,null,"S8","(0+0)/(2)=0","(0+0)/(2)=0","(8293.1+14512.9)/(2)=11403","(6219.8+0)/(2)=3109.9","(3109.9+0)/(2)=1554.95","(0+0)/(2)=0","(0+0)/(2)=0","(0+18659.5)/(2)=9329.75","(0+0)/(2)=0","(0+0)/(2)=0"]
["S9","(0+0)/(2)=0","(0+0)/(2)=0","(8175.3+32701)/(2)=20438.15","(6131.4+38832.4)/(2)=22481.95","(1021.9+0)/(2)=510.95",null,null,null,null,null,null,null,null,null,"S9","(0+0)/(2)=0","(0+1021.9)/(2)=510.95","(0+0)/(2)=0","(11241+62336.3)/(2)=36788.65","(7153.3+4087.6)/(2)=5620.5",null,null,null,null,null,null,null,null,"S9","(0+0)/(2)=0","(0+0)/(2)=0","(8293.1+14512.9)/(2)=11403","(6219.8+0)/(2)=3109.9","(1036.6+0)/(2)=518.3","(0+0)/(2)=0","(0+0)/(2)=0","(0+18659.5)/(2)=9329.75","(0+0)/(2)=0","(0+0)/(2)=0"]
["S10","(0+0)/(2)=0","(0+0)/(2)=0","(0+0)/(2)=0","(0+38832.4)/(2)=19416.2","(1021.9+0)/(2)=510.95",null,null,null,null,null,null,null,null,null,"S10","(0+0)/(2)=0","(0+1021.9)/(2)=510.95","(0+0)/(2)=0","(11241+62336.3)/(2)=36788.65","(7153.3+4087.6)/(2)=5620.5",null,null,null,null,null,null,null,null,"S10","(0+0)/(2)=0","(0+0)/(2)=0","(0+0)/(2)=0","(0+0)/(2)=0","(1036.6+0)/(2)=518.3","(0+0)/(2)=0","(0+0)/(2)=0","(0+18659.5)/(2)=9329.75","(0+0)/(2)=0","(0+0)/(2)=0"]
["S11","(0+0)/(2)=0","(0+0)/(2)=0","(0+0)/(2)=0","(0+38832.4)/(2)=19416.2","(0+0)/(2)=0",null,null,null,null,null,null,null,null,null,"S11","(0+0)/(2)=0","(0+0)/(2)=0","(0+0)/(2)=0","(11241+62336.3)/(2)=36788.65","(7153.3+4087.6)/(2)=5620.5",null,null,null,null,null,null,null,null,"S11","(0+0)/(2)=0","(0+0)/(2)=0","(0+0)/(2)=0","(0+0)/(2)=0","(0+0)/(2)=0","(0+0)/(2)=0","(0+0)/(2)=0","(0+0)/(2)=0","(0+0)/(2)=0","(0+0)/(2)=0"]
["S12","(0+0)/(2)=0","(0+0)/(2)=0","(0+0)/(2)=0","(0+0)/(2)=0","(0+0)/(2)=0",null,null,null,null,null,null,null,null,null,"S12","(0+0)/(2)=0","(0+0)/(2)=0","(0+0)/(2)=0","(11241+62336.3)/(2)=36788.65","(7153.3+4087.6)/(2)=5620.5",null,null,null,null,null,null,null,null,"S12","(0+0)/(2)=0","(0+0)/(2)=0","(0+0)/(2)=0","(0+0)/(2)=0","(0+0)/(2)=0","(0+0)/(2)=0","(0+0)/(2)=0","(0+0)/(2)=0","(0+0)/(2)=0","(0+0)/(2)=0"]
["S13","(0+0)/(2)=0","(0+0)/(2)=0","(0+0)/(2)=0","(0+0)/(2)=0","(0+0)/(2)=0",null,null,null,null,null,null,null,null,null,"S13","(0+0)/(2)=0","(0+0)/(2)=0","(0+0)/(2)=0","(11241+62336.3)/(2)=36788.65","(7153.3+4087.6)/(2)=5620.5",null,null,null,null,null,null,null,null,"S13","(0+0)/(2)=0","(0+0)/(2)=0","(0+0)/(2)=0","(0+0)/(2)=0","(0+0)/(2)=0","(0+0)/(2)=0","(0+0)/(2)=0","(0+0)/(2)=0","(0+0)/(2)=0","(0+0)/(2)=0"]
["S14","(0+0)/(2)=0","(0+0)/(2)=0","(0+0)/(2)=0","(0+0)/(2)=0","(0+0)/(2)=0",null,null,null,null,null,null,null,null,null,"S14","(0+0)/(2)=0","(0+0)/(2)=0","(0+0)/(2)=0","(11241+62336.3)/(2)=36788.65","(0+0)/(2)=0",null,null,null,null,null,null,null,null,"S14","(0+0)/(2)=0","(0+0)/(2)=0","(0+0)/(2)=0","(0+0)/(2)=0","(0+0)/(2)=0","(0+0)/(2)=0","(0+0)/(2)=0","(0+0)/(2)=0","(0+0)/(2)=0","(0+0)/(2)=0"]
["S15","(0+0)/(2)=0","(0+0)/(2)=0","(0+0)/(2)=0","(0+0)/(2)=0","(0+0)/(2)=0",null,null,null,null,null,null,null,null,null,"S15","(0+0)/(2)=0","(0+0)/(2)=0","(0+0)/(2)=0","(0+0)/(2)=0","(0+0)/(2)=0",null,null,null,null,null,null,null,null,"S15","(0+0)/(2)=0","(0+0)/(2)=0","(0+0)/(2)=0","(0+0)/(2)=0","(0+0)/(2)=0","(0+0)/(2)=0","(0+0)/(2)=0","(0+0)/(2)=0","(0+0)/(2)=0","(0+0)/(2)=0"]
["S16","(0+0)/(2)=0","(0+0)/(2)=0","(0+0)/(2)=0","(0+0)/(2)=0","(0+0)/(2)=0",null,null,null,null,null,null,null,null,null,"S16","(0+0)/(2)=0","(0+0)/(2)=0","(0+0)/(2)=0","(0+0)/(2)=0","(0+0)/(2)=0",null,null,null,null,null,null,null,null,"S16","(0+0)/(2)=0","(0+0)/(2)=0","(0+0)/(2)=0","(0+0)/(2)=0","(0+0)/(2)=0","(0+0)/(2)=0","(0+0)/(2)=0","(0+0)/(2)=0","(0+0)/(2)=0","(0+0)/(2)=0"]
[]
["L�pcs�k(2)","X(A1)","X(A2)","X(A3)","X(A4)","X(A5)",null,null,null,null,null,null,null,null,null,"L�pcs�k(2)","X(A1)","X(A2)","X(A3)","X(A4)","X(A5)",null,null,null,null,null,null,null,null,"L�pcs�k(2)","X(A1)","X(A2)","X(A3)","X(A4)","X(A5)","X(A6)","X(A7)","X(A8)","X(A9)","X(A10)"]
["S1",0,9708.1,38321.5,46496.7,12773.8,null,null,null,null,null,null,null,null,null,"S1",7153.3,16350.5,42409.1,36788.6,24525.8,null,null,null,null,null,null,null,null,"S1",2591.6,10366.4,42502.1,44575.4,1555,5183.2,46648.6,36282.300000000003,0,0]
["S2",0,9708.1,38321.5,46496.7,12773.8,null,null,null,null,null,null,null,null,null,"S2",7153.3,16350.5,6642.4,36788.6,24525.8,null,null,null,null,null,null,null,null,"S2",0,10366.4,42502.1,44575.4,1555,5183.2,46648.6,9329.7000000000007,0,0]
["S3",0,9708.1,38321.5,46496.7,12773.8,null,null,null,null,null,null,null,null,null,"S3",0,511,6642.4,36788.6,24525.8,null,null,null,null,null,null,null,null,"S3",0,10366.4,42502.1,38355.599999999999,1555,0,0,9329.7000000000007,0,0]
["S4",0,9708.1,22992.9,41387.199999999997,12773.8,null,null,null,null,null,null,null,null,null,"S4",0,511,2554.8000000000002,36788.6,24525.8,null,null,null,null,null,null,null,null,"S4",0,9848,11403,38355.599999999999,1555,0,0,9329.7000000000007,0,0]
["S5",0,9708.1,22992.9,41387.199999999997,12773.8,null,null,null,null,null,null,null,null,null,"S5",0,511,2554.8000000000002,36788.6,17372.400000000001,null,null,null,null,null,null,null,null,"S5",0,9848,11403,38355.599999999999,1555,0,0,9329.7000000000007,0,0]
["S6",0,9708.1,22992.9,41387.199999999997,12773.8,null,null,null,null,null,null,null,null,null,"S6",0,511,2554.8000000000002,36788.6,17372.400000000001,null,null,null,null,null,null,null,null,"S6",0,9848,11403,38355.599999999999,1555,0,0,9329.7000000000007,0,0]
["S7",0,9708.1,22992.9,40876.300000000003,12773.8,null,null,null,null,null,null,null,null,null,"S7",0,511,2554.8000000000002,36788.6,17372.400000000001,null,null,null,null,null,null,null,null,"S7",0,9848,11403,37318.9,1555,0,0,9329.7000000000007,0,0]
["S8",0,0,20438.099999999999,22481.9,1532.9,null,null,null,null,null,null,null,null,null,"S8",0,511,2554.8000000000002,36788.6,5620.5,null,null,null,null,null,null,null,null,"S8",0,0,11403,3109.9,1555,0,0,9329.7000000000007,0,0]
["S9",0,0,20438.099999999999,22481.9,511,null,null,null,null,null,null,null,null,null,"S9",0,511,0,36788.6,5620.5,null,null,null,null,null,null,null,null,"S9",0,0,11403,3109.9,518.29999999999995,0,0,9329.7000000000007,0,0]
["S10",0,0,0,19416.2,511,null,null,null,null,null,null,null,null,null,"S10",0,511,0,36788.6,5620.5,null,null,null,null,null,null,null,null,"S10",0,0,0,0,518.29999999999995,0,0,9329.7000000000007,0,0]
["S11",0,0,0,19416.2,0,null,null,null,null,null,null,null,null,null,"S11",0,0,0,36788.6,5620.5,null,null,null,null,null,null,null,null,"S11",0,0,0,0,0,0,0,0,0,0]
["S12",0,0,0,0,0,null,null,null,null,null,null,null,null,null,"S12",0,0,0,36788.6,5620.5,null,null,null,null,null,null,null,null,"S12",0,0,0,0,0,0,0,0,0,0]
["S13",0,0,0,0,0,null,null,null,null,null,null,null,null,null,"S13",0,0,0,36788.6,5620.5,null,null,null,null,null,null,null,null,"S13",0,0,0,0,0,0,0,0,0,0]
["S14",0,0,0,0,0,null,null,null,null,null,null,null,null,null,"S14",0,0,0,36788.6,0,null,null,null,null,null,null,null,null,"S14",0,0,0,0,0,0,0,0,0,0]
["S15",0,0,0,0,0,null,null,null,null,null,null,null,null,null,"S15",0,0,0,0,0,null,null,null,null,null,null,null,null,"S15",0,0,0,0,0,0,0,0,0,0]
["S16",0,0,0,0,0,null,null,null,null,null,null,null,null,null,"S16",0,0,0,0,0,null,null,null,null,null,null,null,null,"S16",0,0,0,0,0,0,0,0,0,0]
[]
["COCO:STD","X(A1)","X(A2)","X(A3)","X(A4)","X(A5)","Becsl�s","T�ny+0","Delta","Delta/T�ny","abs",null,null,null,null,"COCO:STD","X(A1)","X(A2)","X(A3)","X(A4)","X(A5)","Becsl�s","T�ny+0","Delta","Delta/T�ny","abs",null,null,null,"COCO:STD","X(A1)","X(A2)","X(A3)","X(A4)","X(A5)","X(A6)","X(A7)","X(A8)","X(A9)","X(A10)","Becsl�s","T�ny+0","Delta","Delta/T�ny"]
["O1",0,9708.1,0,41387.199999999997,12773.8,63869.2,67000,3130.8,4.67,{"$f":"ABS(I462)","v":3130.8},null,null,null,null,"O1",0,511,6642.4,36788.6,0,43942,67000,23058,34.409999999999997,{"$f":"ABS(X462)","v":23058},null,null,null,"O1",2591.6,9848,0,38355.599999999999,1555,0,0,9329.7000000000007,0,0,61679.9,67000,5320.1,7.94]
["O2",0,9708.1,0,0,12773.8,22481.9,22000,-481.9,-2.19,{"$f":"ABS(I463)","v":481.9},null,null,null,null,"O2",7153.3,0,2554.8000000000002,36788.6,0,46496.7,22000,-24496.7,-111.35,{"$f":"ABS(X463)","v":24496.7},null,null,null,"O2",0,9848,0,0,1555,5183.2,0,9329.7000000000007,0,0,25915.9,22000,-3915.9,-17.8]
["O3",0,9708.1,22992.9,46496.7,12773.8,91971.6,66000,-25971.599999999999,-39.35,25971.599999999999,null,null,null,null,"O3",0,511,0,36788.6,5620.5,42920.1,66000,23079.9,34.97,23079.9,null,null,null,"O3",0,9848,11403,44575.4,1555,0,0,0,0,0,67381.399999999994,66000,-1381.4,-2.09]
["O4",0,0,22992.9,0,12773.8,35766.699999999997,11000,-24766.7,-225.15,24766.7,null,null,null,null,"O4",0,511,0,36788.6,0,37299.599999999999,11000,-26299.599999999999,-239.09,26299.599999999999,null,null,null,"O4",2591.6,0,11403,0,1555,0,0,0,0,0,15549.5,11000,-4549.5,-41.36]
["O5",0,9708.1,0,19416.2,0,29124.3,19000,-10124.299999999999,-53.29,10124.299999999999,null,null,null,null,"O5",0,0,2554.8000000000002,36788.6,17372.400000000001,56715.8,19000,-37715.800000000003,-198.5,37715.800000000003,null,null,null,"O5",0,10366.4,0,0,0,0,0,9329.7000000000007,0,0,19696.099999999999,19000,-696.1,-3.66]
["O6",0,0,0,46496.7,0,46496.7,30000,-16496.7,-54.99,16496.7,null,null,null,null,"O6",0,511,6642.4,0,24525.8,31679.1,30000,-1679.1,-5.6,1679.1,null,null,null,"O6",0,0,0,44575.4,0,0,0,9329.7000000000007,0,0,53905.1,30000,-23905.1,-79.680000000000007]
["O7",0,0,38321.5,22481.9,0,60803.4,44000,-16803.400000000001,-38.19,16803.400000000001,null,null,null,null,"O7",0,511,0,36788.6,24525.8,61825.3,44000,-17825.3,-40.51,17825.3,null,null,null,"O7",0,0,42502.1,3109.9,0,0,0,0,0,0,45612,44000,-1612,-3.66]
["O8",0,0,0,22481.9,1532.9,24014.799999999999,18000,-6014.8,-33.42,6014.8,null,null,null,null,"O8",0,511,2554.8000000000002,36788.6,5620.5,45474.8,18000,-27474.799999999999,-152.63999999999999,27474.799999999999,null,null,null,"O8",0,0,0,3109.9,1555,0,0,9329.7000000000007,0,0,13994.6,18000,4005.4,22.25]
["O9",0,9708.1,0,46496.7,12773.8,68978.7,83000,14021.3,16.89,14021.3,null,null,null,null,"O9",0,0,42409.1,36788.6,5620.5,84818.2,83000,-1818.2,-2.19,1818.2,null,null,null,"O9",0,9848,0,38355.599999999999,1555,0,0,36282.300000000003,0,0,86040.8,83000,-3040.8,-3.66]
["O10",0,0,22992.9,0,0,22992.9,33000,10007.1,30.32,10007.1,null,null,null,null,"O10",0,16350.5,0,36788.6,24525.8,77664.899999999994,33000,-44664.9,-135.35,44664.9,null,null,null,"O10",0,0,11403,0,0,0,46648.6,0,0,0,58051.7,33000,-25051.7,-75.91]
["O11",0,9708.1,38321.5,40876.300000000003,0,88905.9,87000,-1905.9,-2.19,1905.9,null,null,null,null,"O11",0,0,0,36788.6,24525.8,61314.400000000001,87000,25685.599999999999,29.52,25685.599999999999,null,null,null,"O11",0,10366.4,42502.1,37318.9,0,0,0,0,0,0,90187.4,87000,-3187.4,-3.66]
["O12",0,9708.1,0,41387.199999999997,12773.8,63869.2,73000,9130.7999999999993,12.51,9130.7999999999993,null,null,null,null,"O12",7153.3,0,2554.8000000000002,36788.6,5620.5,52117.2,73000,20882.8,28.61,20882.8,null,null,null,"O12",0,10366.4,0,38355.599999999999,1555,5183.2,0,9329.7000000000007,0,0,64789.8,73000,8210.2000000000007,11.25]
["O13",0,0,20438.099999999999,0,1532.9,21971,32000,10029,31.34,10029,null,null,null,null,"O13",0,511,0,36788.6,5620.5,42920.1,32000,-10920.1,-34.130000000000003,10920.1,null,null,null,"O13",0,0,11403,0,1555,0,0,9329.7000000000007,0,0,22287.7,32000,9712.2999999999993,30.35]
["O14",0,0,22992.9,19416.2,12773.8,55182.9,97000,41817.1,43.11,41817.1,null,null,null,null,"O14",0,16350.5,0,36788.6,5620.5,58759.6,97000,38240.400000000001,39.42,38240.400000000001,null,null,null,"O14",0,0,11403,0,1555,0,46648.6,9329.7000000000007,0,0,68936.3,97000,28063.7,28.93]
["O15",0,9708.1,38321.5,41387.199999999997,511,89927.8,88000,-1927.8,-2.19,1927.8,null,null,null,null,"O15",0,511,0,36788.6,17372.400000000001,54672,88000,33328,37.869999999999997,33328,null,null,null,"O15",0,9848,42502.1,38355.599999999999,518.29999999999995,0,0,0,0,0,91224,88000,-3224,-3.66]
["O16",0,9708.1,20438.099999999999,46496.7,0,76643,93000,16357,17.59,16357,null,null,null,null,"O16",0,511,2554.8000000000002,36788.6,24525.8,64380.1,93000,28619.9,30.77,28619.9,null,null,null,"O16",2591.6,9848,11403,44575.4,0,0,0,9329.7000000000007,0,0,77747.7,93000,15252.3,16.399999999999999]
[null,null,null,null,null,null,null,null,{"$f":"STDEV(I462:I477)","v":17311.621581045874},null,{"$f":"SUM(K462:K477)","v":208986.19999999998},null,null,null,null,null,null,null,null,null,null,null,null,{"$f":"STDEV(X462:X477)","v":27640.005889132724},null,{"$f":"SUM(Z462:Z477)","v":385789.10000000003},null,null,null,null,null,null,null,null,null,null,null,null,null,null,null,null,{"$f":"STDEV(AQ462:AQ477)","v":12900.005136974105}]
["S1 �sszeg:",107300.1,null,null,null,null,null,null,null,null,null,null,null,null,null,"S1 �sszeg:",127227.3,null,null,null,null,null,null,null,null,null,null,null,null,"S1 �sszeg:",189704.6]
["S16 �sszeg:",0,null,null,null,null,null,null,null,null,null,null,null,null,null,"S16 �sszeg:",0,null,null,null,null,null,null,null,null,null,null,null,null,"S16 �sszeg:",0]
["Becsl�s �sszeg:",863000,null,null,null,null,null,null,null,null,null,null,null,null,null,"Becsl�s �sszeg:",862999.9,null,null,null,null,null,null,null,null,null,null,null,null,"Becsl�s �sszeg:",862999.9]
["T�ny �sszeg:",863000,null,null,null,null,null,null,null,null,null,null,null,null,null,"T�ny �sszeg:",863000,null,null,null,null,null,null,null,null,null,null,null,null,"T�ny �sszeg:",863000]
["T�ny-becsl�s elt�r�s:",0,null,null,null,null,null,null,null,null,null,null,null,null,null,"T�ny-becsl�s elt�r�s:",-0.1,null,null,null,null,null,null,null,null,null,null,null,null,"T�ny-becsl�s elt�r�s:",-0.1]
["T�ny n�gyzet�sszeg:",null,null,null,null,null,null,null,null,null,null,null,null,null,null,"T�ny n�gyzet�sszeg:",null,null,null,null,null,null,null,null,null,null,null,null,null,"T�ny n�gyzet�sszeg:"]
["Becsl�s n�gyzet�sszeg:",null,null,null,null,null,null,null,null,null,null,null,null,null,null,"Becsl�s n�gyzet�sszeg:",null,null,null,null,null,null,null,null,null,null,null,null,null,"Becsl�s n�gyzet�sszeg:"]
["N�gyzet�sszeg hiba:",0,null,null,null,null,null,null,null,null,null,null,null,null,null,"N�gyzet�sszeg hiba:",0,null,null,null,null,null,null,null,null,null,null,null,null,"N�gyzet�sszeg hiba:",0]
[]
["Open url",null,null,null,null,null,null,null,null,null,null,null,null,null,null,"Open url",null,null,null,null,null,null,null,null,null,null,null,null,null,"Open url"]
[]
["Maxim�lis mem�ria haszn�lat: 1.36 Mb",null,null,null,null,null,null,null,null,null,null,null,null,null,null,"Maxim�lis mem�ria haszn�lat: 1.36 Mb",null,null,null,null,null,null,null,null,null,null,null,null,null,"Maxim�lis mem�ria haszn�lat: 1.38 Mb"]
["A futtat�s id�tartama: 0.2 mp (0 p)",null,null,null,null,null,null,null,null,null,null,null,null,null,null,"A futtat�s id�tartama: 0.06 mp (0 p)",null,null,null,null,null,null,null,null,null,null,null,null,null,"A futtat�s id�tartama: 0.14 mp (0 p)"]
[]
[]
[]
[]
[]
[]
[]
[]
[]
[]
[]
[]
[]
["Azonos�t�:",8875855,"Objektumok:",16,"Attrib�tumok:",5,"Lepcs�k:",16,"Eltol�s:",0,"Le�r�s:","COCO STD: 8875855",null,null,null,"Azonos�t�:",5793566,"Objektumok:",16,"Attrib�tumok:",5,"Lepcs�k:",16,"Eltol�s:",0,"Le�r�s:","COCO STD: 5793566",null,null,"Azonos�t�:",1533638,"Objektumok:",16,"Attrib�tumok:",10,"Lepcs�k:",16,"Eltol�s:",0,"Le�r�s:","COCO STD: 1533638"]
[]
["Rangsor","X(A1)","X(A2)","X(A3)","X(A4)","X(A5)","Y(A6)",null,null,null,null,null,null,null,null,"Rangsor","X(A1)","X(A2)","X(A3)","X(A4)","X(A5)","Y(A6)",null,null,null,null,null,null,null,"Rangsor","X(A1)","X(A2)","X(A3)","X(A4)","X(A5)","X(A6)","X(A7)","X(A8)","X(A9)","X(A10)","Y(A11)"]
["O1",14,6,6,1,7,93000,null,null,null,null,null,null,null,null,"O1",4,10,10,15,10,93000,null,null,null,null,null,null,null,"O1",14,6,6,1,7,4,10,10,15,10,93000]
["O2",13,10,15,13,2,98000,null,null,null,null,null,null,null,null,"O2",5,6,2,4,15,98000,null,null,null,null,null,null,null,"O2",13,10,15,13,2,5,6,2,4,15,98000]
["O3",4,4,5,6,5,92000,null,null,null,null,null,null,null,null,"O3",14,13,11,11,12,92000,null,null,null,null,null,null,null,"O3",4,4,5,6,5,14,13,11,11,12,92000]
["O4",15,13,11,4,14,56000,null,null,null,null,null,null,null,null,"O4",1,4,5,12,3,56000,null,null,null,null,null,null,null,"O4",15,13,11,4,14,1,4,5,12,3,56000]
["O5",5,1,7,1,11,99000,null,null,null,null,null,null,null,null,"O5",13,16,9,15,6,99000,null,null,null,null,null,null,null,"O5",5,1,7,1,11,13,16,9,15,6,99000]
["O6",7,9,4,4,6,97000,null,null,null,null,null,null,null,null,"O6",11,7,12,12,11,97000,null,null,null,null,null,null,null,"O6",7,9,4,4,6,11,7,12,12,11,97000]
["O7",9,8,10,14,9,40000,null,null,null,null,null,null,null,null,"O7",9,8,6,3,8,40000,null,null,null,null,null,null,null,"O7",9,8,10,14,9,9,8,6,3,8,40000]
["O8",8,12,2,3,16,55000,null,null,null,null,null,null,null,null,"O8",10,5,15,14,1,55000,null,null,null,null,null,null,null,"O8",8,12,2,3,16,10,5,15,14,1,55000]
["O9",3,7,13,12,10,58000,null,null,null,null,null,null,null,null,"O9",15,9,3,5,7,58000,null,null,null,null,null,null,null,"O9",3,7,13,12,10,15,9,3,5,7,58000]
["O10",12,15,12,8,1,86000,null,null,null,null,null,null,null,null,"O10",6,2,4,10,16,86000,null,null,null,null,null,null,null,"O10",12,15,12,8,1,6,2,4,10,16,86000]
["O11",10,5,9,11,12,83000,null,null,null,null,null,null,null,null,"O11",8,12,7,6,4,83000,null,null,null,null,null,null,null,"O11",10,5,9,11,12,8,12,7,6,4,83000]
["O12",11,3,16,9,15,26000,null,null,null,null,null,null,null,null,"O12",7,14,1,9,2,26000,null,null,null,null,null,null,null,"O12",11,3,16,9,15,7,14,1,9,2,26000]
["O13",15,16,8,10,3,47000,null,null,null,null,null,null,null,null,"O13",1,1,8,7,14,47000,null,null,null,null,null,null,null,"O13",15,16,8,10,3,1,1,8,7,14,47000]
["O14",1,2,3,15,8,86000,null,null,null,null,null,null,null,null,"O14",16,15,13,1,9,86000,null,null,null,null,null,null,null,"O14",1,2,3,15,8,16,15,13,1,9,86000]
["O15",6,14,1,15,12,43000,null,null,null,null,null,null,null,null,"O15",12,3,16,1,4,43000,null,null,null,null,null,null,null,"O15",6,14,1,15,12,12,3,16,1,4,43000]
["O16",15,6,3,10,4,66000,null,null,null,null,null,null,null,null,"O16",1,10,13,7,13,66000,null,null,null,null,null,null,null,"O16",15,6,3,10,4,1,10,13,7,13,66000]
[]
["L�pcs�k(1)","X(A1)","X(A2)","X(A3)","X(A4)","X(A5)",null,null,null,null,null,null,null,null,null,"L�pcs�k(1)","X(A1)","X(A2)","X(A3)","X(A4)","X(A5)",null,null,null,null,null,null,null,null,"L�pcs�k(1)","X(A1)","X(A2)","X(A3)","X(A4)","X(A5)","X(A6)","X(A7)","X(A8)","X(A9)","X(A10)"]
["S1","(18875+20861.8)/(2)=19868.4","(23842.1+32782.9)/(2)=28312.5","(20861.8+9934.2)/(2)=15398.05","(32782.9+33776.3)/(2)=33279.6","(83447.4+78480.3)/(2)=80963.8",null,null,null,null,null,null,null,null,null,"S1","(17155.1+6969.3)/(2)=12062.2","(33238+4288.8)/(2)=18763.4","(18227.3+80950.7)/(2)=49589","(3216.6+16619)/(2)=9917.8","(25732.7+47712.7)/(2)=36722.65",null,null,null,null,null,null,null,null,"S1","(17500+6000)/(2)=11750","(25500+39000)/(2)=32250","(3500+4000)/(2)=3750","(67000+49000)/(2)=58000","(85500+84000)/(2)=84750","(1500+0)/(2)=750","(0+1000)/(2)=500","(500+1000)/(2)=750","(37000+32000)/(2)=34500","(0+0)/(2)=0"]
["S2","(15894.7+16888.2)/(2)=16391.45","(23842.1+32782.9)/(2)=28312.5","(20861.8+9934.2)/(2)=15398.05","(32782.9+33776.3)/(2)=33279.6","(77486.8+78480.3)/(2)=77983.55",null,null,null,null,null,null,null,null,null,"S2","(17155.1+6969.3)/(2)=12062.2","(33238+4288.8)/(2)=18763.4","(18227.3+80950.7)/(2)=49589","(3216.6+16619)/(2)=9917.8","(9649.7+18227.3)/(2)=13938.55",null,null,null,null,null,null,null,null,"S2","(17500+6000)/(2)=11750","(25500+39000)/(2)=32250","(3500+4000)/(2)=3750","(51500+49000)/(2)=50250","(60500+64000)/(2)=62250","(0+0)/(2)=0","(0+1000)/(2)=500","(500+1000)/(2)=750","(37000+32000)/(2)=34500","(0+0)/(2)=0"]
["S3","(15894.7+16888.2)/(2)=16391.45","(23842.1+32782.9)/(2)=28312.5","(20861.8+9934.2)/(2)=15398.05","(32782.9+33776.3)/(2)=33279.6","(24835.5+29802.6)/(2)=27319.1",null,null,null,null,null,null,null,null,null,"S3","(17155.1+6969.3)/(2)=12062.2","(33238+4288.8)/(2)=18763.4","(18227.3+80950.7)/(2)=49589","(0+12866.3)/(2)=6433.15","(9649.7+18227.3)/(2)=13938.55",null,null,null,null,null,null,null,null,"S3","(17500+6000)/(2)=11750","(25500+39000)/(2)=32250","(3500+4000)/(2)=3750","(51500+49000)/(2)=50250","(41500+41000)/(2)=41250","(0+0)/(2)=0","(0+1000)/(2)=500","(500+1000)/(2)=750","(37000+32000)/(2)=34500","(0+0)/(2)=0"]
["S4","(0+11921.1)/(2)=5960.55","(23842.1+32782.9)/(2)=28312.5","(20861.8+9934.2)/(2)=15398.05","(32782.9+33776.3)/(2)=33279.6","(24835.5+29802.6)/(2)=27319.1",null,null,null,null,null,null,null,null,null,"S4","(17155.1+6969.3)/(2)=12062.2","(33238+4288.8)/(2)=18763.4","(18227.3+80950.7)/(2)=49589","(0+12866.3)/(2)=6433.15","(9649.7+18227.3)/(2)=13938.55",null,null,null,null,null,null,null,null,"S4","(17500+6000)/(2)=11750","(25500+39000)/(2)=32250","(3500+4000)/(2)=3750","(51500+49000)/(2)=50250","(41500+41000)/(2)=41250","(0+0)/(2)=0","(0+1000)/(2)=500","(500+1000)/(2)=750","(37000+32000)/(2)=34500","(0+0)/(2)=0"]
["S5","(0+10927.6)/(2)=5463.8","(23842.1+32782.9)/(2)=28312.5","(19868.4+9934.2)/(2)=14901.3","(32782.9+6953.9)/(2)=19868.4","(24835.5+29802.6)/(2)=27319.1",null,null,null,null,null,null,null,null,null,"S5","(17155.1+6969.3)/(2)=12062.2","(33238+4288.8)/(2)=18763.4","(0+80950.7)/(2)=40475.35","(0+0)/(2)=0","(9649.7+18227.3)/(2)=13938.55",null,null,null,null,null,null,null,null,"S5","(0+1000)/(2)=500","(25500+39000)/(2)=32250","(3500+4000)/(2)=3750","(3500+0)/(2)=1750","(41500+41000)/(2)=41250","(0+0)/(2)=0","(0+1000)/(2)=500","(500+1000)/(2)=750","(37000+32000)/(2)=34500","(0+0)/(2)=0"]
["S6","(0+10927.6)/(2)=5463.8","(17881.6+18875)/(2)=18378.3","(19868.4+9934.2)/(2)=14901.3","(22848.7+6953.9)/(2)=14901.3","(24835.5+29802.6)/(2)=27319.1",null,null,null,null,null,null,null,null,null,"S6","(17155.1+6969.3)/(2)=12062.2","(33238+4288.8)/(2)=18763.4","(0+80950.7)/(2)=40475.35","(0+0)/(2)=0","(9649.7+18227.3)/(2)=13938.55",null,null,null,null,null,null,null,null,"S6","(0+1000)/(2)=500","(19500+20000)/(2)=19750","(3500+4000)/(2)=3750","(3500+0)/(2)=1750","(41500+41000)/(2)=41250","(0+0)/(2)=0","(0+1000)/(2)=500","(500+1000)/(2)=750","(37000+32000)/(2)=34500","(0+0)/(2)=0"]
["S7","(0+10927.6)/(2)=5463.8","(17881.6+11921.1)/(2)=14901.3","(19868.4+9934.2)/(2)=14901.3","(22848.7+6953.9)/(2)=14901.3","(21855.3+29802.6)/(2)=25828.95",null,null,null,null,null,null,null,null,null,"S7","(0+6969.3)/(2)=3484.65","(33238+4288.8)/(2)=18763.4","(0+80950.7)/(2)=40475.35","(0+0)/(2)=0","(9649.7+11794.1)/(2)=10721.95",null,null,null,null,null,null,null,null,"S7","(0+1000)/(2)=500","(500+13000)/(2)=6750","(3500+4000)/(2)=3750","(0+0)/(2)=0","(2500+18000)/(2)=10250","(0+0)/(2)=0","(0+1000)/(2)=500","(500+1000)/(2)=750","(0+0)/(2)=0","(0+0)/(2)=0"]
["S8","(0+10927.6)/(2)=5463.8","(17881.6+11921.1)/(2)=14901.3","(19868.4+9934.2)/(2)=14901.3","(1986.8+6953.9)/(2)=4470.4","(21855.3+21855.3)/(2)=21855.25",null,null,null,null,null,null,null,null,null,"S8","(0+6969.3)/(2)=3484.65","(33238+0)/(2)=16619","(0+80950.7)/(2)=40475.35","(0+0)/(2)=0","(9649.7+11794.1)/(2)=10721.95",null,null,null,null,null,null,null,null,"S8","(0+1000)/(2)=500","(0+0)/(2)=0","(3500+4000)/(2)=3750","(0+0)/(2)=0","(2500+5000)/(2)=3750","(0+0)/(2)=0","(0+1000)/(2)=500","(500+1000)/(2)=750","(0+0)/(2)=0","(0+0)/(2)=0"]
["S9","(0+10927.6)/(2)=5463.8","(17881.6+11921.1)/(2)=14901.3","(19868.4+9934.2)/(2)=14901.3","(1986.8+6953.9)/(2)=4470.4","(21855.3+21855.3)/(2)=21855.25",null,null,null,null,null,null,null,null,null,"S9","(0+6969.3)/(2)=3484.65","(33238+0)/(2)=16619","(0+80950.7)/(2)=40475.35","(0+0)/(2)=0","(9649.7+11794.1)/(2)=10721.95",null,null,null,null,null,null,null,null,"S9","(0+1000)/(2)=500","(0+0)/(2)=0","(3500+4000)/(2)=3750","(0+0)/(2)=0","(2500+5000)/(2)=3750","(0+0)/(2)=0","(0+1000)/(2)=500","(500+1000)/(2)=750","(0+0)/(2)=0","(0+0)/(2)=0"]
["S10","(0+10927.6)/(2)=5463.8","(17881.6+11921.1)/(2)=14901.3","(0+0)/(2)=0","(1986.8+6953.9)/(2)=4470.4","(21855.3+21855.3)/(2)=21855.25",null,null,null,null,null,null,null,null,null,"S10","(0+6969.3)/(2)=3484.65","(33238+0)/(2)=16619","(0+80950.7)/(2)=40475.35","(0+0)/(2)=0","(9649.7+11794.1)/(2)=10721.95",null,null,null,null,null,null,null,null,"S10","(0+1000)/(2)=500","(0+0)/(2)=0","(0+0)/(2)=0","(0+0)/(2)=0","(2500+5000)/(2)=3750","(0+0)/(2)=0","(0+1000)/(2)=500","(500+1000)/(2)=750","(0+0)/(2)=0","(0+0)/(2)=0"]
["S11","(0+0)/(2)=0","(993.4+0)/(2)=496.7","(0+0)/(2)=0","(1986.8+6953.9)/(2)=4470.4","(21855.3+21855.3)/(2)=21855.25",null,null,null,null,null,null,null,null,null,"S11","(0+6969.3)/(2)=3484.65","(33238+0)/(2)=16619","(0+80950.7)/(2)=40475.35","(0+0)/(2)=0","(9649.7+11794.1)/(2)=10721.95",null,null,null,null,null,null,null,null,"S11","(0+0)/(2)=0","(0+0)/(2)=0","(0+0)/(2)=0","(0+0)/(2)=0","(2500+5000)/(2)=3750","(0+0)/(2)=0","(0+1000)/(2)=500","(500+1000)/(2)=750","(0+0)/(2)=0","(0+0)/(2)=0"]
["S12","(0+0)/(2)=0","(993.4+0)/(2)=496.7","(0+0)/(2)=0","(1986.8+6953.9)/(2)=4470.4","(21855.3+21855.3)/(2)=21855.25",null,null,null,null,null,null,null,null,null,"S12","(0+6969.3)/(2)=3484.65","(33238+0)/(2)=16619","(0+80950.7)/(2)=40475.35","(0+0)/(2)=0","(9649.7+11794.1)/(2)=10721.95",null,null,null,null,null,null,null,null,"S12","(0+0)/(2)=0","(0+0)/(2)=0","(0+0)/(2)=0","(0+0)/(2)=0","(2500+5000)/(2)=3750","(0+0)/(2)=0","(0+1000)/(2)=500","(500+1000)/(2)=750","(0+0)/(2)=0","(0+0)/(2)=0"]
["S13","(0+0)/(2)=0","(993.4+0)/(2)=496.7","(0+0)/(2)=0","(1986.8+6953.9)/(2)=4470.4","(21855.3+21855.3)/(2)=21855.25",null,null,null,null,null,null,null,null,null,"S13","(0+6969.3)/(2)=3484.65","(33238+0)/(2)=16619","(0+63795.6)/(2)=31897.8","(0+0)/(2)=0","(9649.7+0)/(2)=4824.85",null,null,null,null,null,null,null,null,"S13","(0+0)/(2)=0","(0+0)/(2)=0","(0+0)/(2)=0","(0+0)/(2)=0","(2500+5000)/(2)=3750","(0+0)/(2)=0","(0+1000)/(2)=500","(0+0)/(2)=0","(0+0)/(2)=0","(0+0)/(2)=0"]
["S14","(0+0)/(2)=0","(0+0)/(2)=0","(0+0)/(2)=0","(0+0)/(2)=0","(21855.3+21855.3)/(2)=21855.25",null,null,null,null,null,null,null,null,null,"S14","(0+5897.1)/(2)=2948.55","(0+0)/(2)=0","(0+0)/(2)=0","(0+0)/(2)=0","(0+0)/(2)=0",null,null,null,null,null,null,null,null,"S14","(0+0)/(2)=0","(0+0)/(2)=0","(0+0)/(2)=0","(0+0)/(2)=0","(2500+5000)/(2)=3750","(0+0)/(2)=0","(0+0)/(2)=0","(0+0)/(2)=0","(0+0)/(2)=0","(0+0)/(2)=0"]
["S15","(0+0)/(2)=0","(0+0)/(2)=0","(0+0)/(2)=0","(0+0)/(2)=0","(0+0)/(2)=0",null,null,null,null,null,null,null,null,null,"S15","(0+0)/(2)=0","(0+0)/(2)=0","(0+0)/(2)=0","(0+0)/(2)=0","(0+0)/(2)=0",null,null,null,null,null,null,null,null,"S15","(0+0)/(2)=0","(0+0)/(2)=0","(0+0)/(2)=0","(0+0)/(2)=0","(0+0)/(2)=0","(0+0)/(2)=0","(0+0)/(2)=0","(0+0)/(2)=0","(0+0)/(2)=0","(0+0)/(2)=0"]
["S16","(0+0)/(2)=0","(0+0)/(2)=0","(0+0)/(2)=0","(0+0)/(2)=0","(0+0)/(2)=0",null,null,null,null,null,null,null,null,null,"S16","(0+0)/(2)=0","(0+0)/(2)=0","(0+0)/(2)=0","(0+0)/(2)=0","(0+0)/(2)=0",null,null,null,null,null,null,null,null,"S16","(0+0)/(2)=0","(0+0)/(2)=0","(0+0)/(2)=0","(0+0)/(2)=0","(0+0)/(2)=0","(0+0)/(2)=0","(0+0)/(2)=0","(0+0)/(2)=0","(0+0)/(2)=0","(0+0)/(2)=0"]
[]
["L�pcs�k(2)","X(A1)","X(A2)","X(A3)","X(A4)","X(A5)",null,null,null,null,null,null,null,null,null,"L�pcs�k(2)","X(A1)","X(A2)","X(A3)","X(A4)","X(A5)",null,null,null,null,null,null,null,null,"L�pcs�k(2)","X(A1)","X(A2)","X(A3)","X(A4)","X(A5)","X(A6)","X(A7)","X(A8)","X(A9)","X(A10)"]
["S1",19868.400000000001,28312.5,15398,33279.599999999999,80963.8,null,null,null,null,null,null,null,null,null,"S1",12062.2,18763.400000000001,49589,9917.7999999999993,36722.699999999997,null,null,null,null,null,null,null,null,"S1",11750,32250,3750,58000,84750,750,500,750,34500,0]
["S2",16391.400000000001,28312.5,15398,33279.599999999999,77983.600000000006,null,null,null,null,null,null,null,null,null,"S2",12062.2,18763.400000000001,49589,9917.7999999999993,13938.5,null,null,null,null,null,null,null,null,"S2",11750,32250,3750,50250,62250,0,500,750,34500,0]
["S3",16391.400000000001,28312.5,15398,33279.599999999999,27319.1,null,null,null,null,null,null,null,null,null,"S3",12062.2,18763.400000000001,49589,6433.2,13938.5,null,null,null,null,null,null,null,null,"S3",11750,32250,3750,50250,41250,0,500,750,34500,0]
["S4",5960.5,28312.5,15398,33279.599999999999,27319.1,null,null,null,null,null,null,null,null,null,"S4",12062.2,18763.400000000001,49589,6433.2,13938.5,null,null,null,null,null,null,null,null,"S4",11750,32250,3750,50250,41250,0,500,750,34500,0]
["S5",5463.8,28312.5,14901.3,19868.400000000001,27319.1,null,null,null,null,null,null,null,null,null,"S5",12062.2,18763.400000000001,40475.300000000003,0,13938.5,null,null,null,null,null,null,null,null,"S5",500,32250,3750,1750,41250,0,500,750,34500,0]
["S6",5463.8,18378.3,14901.3,14901.3,27319.1,null,null,null,null,null,null,null,null,null,"S6",12062.2,18763.400000000001,40475.300000000003,0,13938.5,null,null,null,null,null,null,null,null,"S6",500,19750,3750,1750,41250,0,500,750,34500,0]
["S7",5463.8,14901.3,14901.3,14901.3,25828.9,null,null,null,null,null,null,null,null,null,"S7",3484.6,18763.400000000001,40475.300000000003,0,10721.9,null,null,null,null,null,null,null,null,"S7",500,6750,3750,0,10250,0,500,750,0,0]
["S8",5463.8,14901.3,14901.3,4470.3999999999996,21855.3,null,null,null,null,null,null,null,null,null,"S8",3484.6,16619,40475.300000000003,0,10721.9,null,null,null,null,null,null,null,null,"S8",500,0,3750,0,3750,0,500,750,0,0]
["S9",5463.8,14901.3,14901.3,4470.3999999999996,21855.3,null,null,null,null,null,null,null,null,null,"S9",3484.6,16619,40475.300000000003,0,10721.9,null,null,null,null,null,null,null,null,"S9",500,0,3750,0,3750,0,500,750,0,0]
["S10",5463.8,14901.3,0,4470.3999999999996,21855.3,null,null,null,null,null,null,null,null,null,"S10",3484.6,16619,40475.300000000003,0,10721.9,null,null,null,null,null,null,null,null,"S10",500,0,0,0,3750,0,500,750,0,0]
["S11",0,496.7,0,4470.3999999999996,21855.3,null,null,null,null,null,null,null,null,null,"S11",3484.6,16619,40475.300000000003,0,10721.9,null,null,null,null,null,null,null,null,"S11",0,0,0,0,3750,0,500,750,0,0]
["S12",0,496.7,0,4470.3999999999996,21855.3,null,null,null,null,null,null,null,null,null,"S12",3484.6,16619,40475.300000000003,0,10721.9,null,null,null,null,null,null,null,null,"S12",0,0,0,0,3750,0,500,750,0,0]
["S13",0,496.7,0,4470.3999999999996,21855.3,null,null,null,null,null,null,null,null,null,"S13",3484.6,16619,31897.8,0,4824.8999999999996,null,null,null,null,null,null,null,null,"S13",0,0,0,0,3750,0,500,0,0,0]
["S14",0,0,0,0,21855.3,null,null,null,null,null,null,null,null,null,"S14",2948.5,0,0,0,0,null,null,null,null,null,null,null,null,"S14",0,0,0,0,3750,0,0,0,0,0]
["S15",0,0,0,0,0,null,null,null,null,null,null,null,null,null,"S15",0,0,0,0,0,null,null,null,null,null,null,null,null,"S15",0,0,0,0,0,0,0,0,0,0]
["S16",0,0,0,0,0,null,null,null,null,null,null,null,null,null,"S16",0,0,0,0,0,null,null,null,null,null,null,null,null,"S16",0,0,0,0,0,0,0,0,0,0]
[]
["COCO:STD","X(A1)","X(A2)","X(A3)","X(A4)","X(A5)","Becsl�s","T�ny+0","Delta","Delta/T�ny","abs",null,null,null,null,"COCO:STD","X(A1)","X(A2)","X(A3)","X(A4)","X(A5)","Becsl�s","T�ny+0","Delta","Delta/T�ny","abs",null,null,null,"COCO:STD","X(A1)","X(A2)","X(A3)","X(A4)","X(A5)","X(A6)","X(A7)","X(A8)","X(A9)","X(A10)","Becsl�s","T�ny+0","Delta","Delta/T�ny"]
["O1",0,18378.3,14901.3,33279.599999999999,25828.9,92388.2,93000,611.79999999999995,0.66,{"$f":"ABS(I562)","v":611.79999999999995},null,null,null,null,"O1",12062.2,16619,40475.300000000003,0,10721.9,79878.5,93000,13121.5,14.11,{"$f":"ABS(X562)","v":13121.5},null,null,null,"O1",0,19750,3750,58000,10250,0,500,750,0,0,93000,93000,0,0]
["O2",0,14901.3,0,4470.3999999999996,77983.600000000006,97355.3,98000,644.70000000000005,0.66,{"$f":"ABS(I563)","v":644.70000000000005},null,null,null,null,"O2",12062.2,18763.400000000001,49589,6433.2,0,86847.7,98000,11152.3,11.38,{"$f":"ABS(X563)","v":11152.3},null,null,null,"O2",0,0,0,0,62250,0,500,750,34500,0,98000,98000,0,0]
["O3",5960.5,28312.5,14901.3,14901.3,27319.1,91394.7,92000,605.29999999999995,0.66,605.29999999999995,null,null,null,null,"O3",2948.5,16619,40475.300000000003,0,10721.9,70764.800000000003,92000,21235.200000000001,23.08,21235.200000000001,null,null,null,"O3",11750,32250,3750,1750,41250,0,500,750,0,0,92000,92000,0,0]
["O4",0,496.7,0,33279.599999999999,21855.3,55631.6,56000,368.4,0.66,368.4,null,null,null,null,"O4",12062.2,18763.400000000001,40475.300000000003,0,13938.5,85239.5,56000,-29239.5,-52.21,29239.5,null,null,null,"O4",0,0,0,50250,3750,750,500,750,0,0,56000,56000,0,0]
["O5",5463.8,28312.5,14901.3,33279.599999999999,21855.3,103812.5,99000,-4812.5,-4.8600000000000003,4812.5,null,null,null,null,"O5",3484.6,0,40475.300000000003,0,13938.5,57898.5,99000,41101.5,41.52,41101.5,null,null,null,"O5",500,32250,3750,58000,3750,0,0,750,0,0,99000,99000,0,0]
["O6",5463.8,14901.3,15398,33279.599999999999,27319.1,96361.8,97000,638.20000000000005,0.66,638.20000000000005,null,null,null,null,"O6",3484.6,18763.400000000001,40475.300000000003,0,10721.9,73445.3,97000,23554.7,24.28,23554.7,null,null,null,"O6",500,0,3750,50250,41250,0,500,750,0,0,97000,97000,0,0]
["O7",5463.8,14901.3,0,0,21855.3,42220.4,40000,-2220.4,-5.55,2220.4,null,null,null,null,"O7",3484.6,16619,40475.300000000003,6433.2,10721.9,77734.100000000006,40000,-37734.1,-94.34,37734.1,null,null,null,"O7",500,0,0,0,3750,0,500,750,34500,0,40000,40000,0,0]
["O8",5463.8,496.7,15398,33279.599999999999,0,54638.2,55000,361.8,0.66,361.8,null,null,null,null,"O8",3484.6,18763.400000000001,0,0,36722.699999999997,58970.7,55000,-3970.7,-7.22,3970.7,null,null,null,"O8",500,0,3750,50250,0,0,500,0,0,0,55000,55000,0,0]
["O9",16391.400000000001,14901.3,0,4470.3999999999996,21855.3,57618.400000000001,58000,381.6,0.66,381.6,null,null,null,null,"O9",0,16619,49589,0,10721.9,76929.899999999994,58000,-18929.900000000001,-32.64,18929.900000000001,null,null,null,"O9",11750,6750,0,0,3750,0,500,750,34500,0,58000,58000,0,0]
["O10",0,0,0,4470.3999999999996,80963.8,85434.2,86000,565.79999999999995,0.66,565.79999999999995,null,null,null,null,"O10",12062.2,18763.400000000001,49589,0,0,80414.600000000006,86000,5585.4,6.49,5585.4,null,null,null,"O10",0,0,0,0,84750,0,500,750,0,0,86000,86000,0,0]
["O11",5463.8,28312.5,14901.3,4470.3999999999996,21855.3,75003.3,83000,7996.7,9.6300000000000008,7996.7,null,null,null,null,"O11",3484.6,16619,40475.300000000003,0,13938.5,74517.5,83000,8482.5,10.220000000000001,8482.5,null,null,null,"O11",500,32250,3750,0,3750,0,500,750,34500,0,76000,83000,7000,8.43]
["O12",0,28312.5,0,4470.3999999999996,0,32782.9,26000,-6782.9,-26.09,6782.9,null,null,null,null,"O12",3484.6,0,49589,0,13938.5,67012.2,26000,-41012.199999999997,-157.74,41012.199999999997,null,null,null,"O12",0,32250,0,0,0,0,0,750,0,0,33000,26000,-7000,-26.92]
["O13",0,0,14901.3,4470.3999999999996,27319.1,46690.8,47000,309.2,0.66,309.2,null,null,null,null,"O13",12062.2,18763.400000000001,40475.300000000003,0,0,71300.899999999994,47000,-24300.9,-51.7,24300.9,null,null,null,"O13",0,0,3750,0,41250,750,500,750,0,0,47000,47000,0,0]
["O14",19868.400000000001,28312.5,15398,0,21855.3,85434.2,86000,565.79999999999995,0.66,565.79999999999995,null,null,null,null,"O14",0,0,31897.8,9917.7999999999993,10721.9,52537.5,86000,33462.5,38.909999999999997,33462.5,null,null,null,"O14",11750,32250,3750,0,3750,0,0,0,34500,0,86000,86000,0,0]
["O15",5463.8,0,15398,0,21855.3,42717.1,43000,282.89999999999998,0.66,282.89999999999998,null,null,null,null,"O15",3484.6,18763.400000000001,0,9917.7999999999993,13938.5,46104.4,43000,-3104.4,-7.22,3104.4,null,null,null,"O15",500,0,3750,0,3750,0,500,0,34500,0,43000,43000,0,0]
["O16",0,18378.3,15398,4470.3999999999996,27319.1,65565.8,66000,434.2,0.66,434.2,null,null,null,null,"O16",12062.2,16619,31897.8,0,4824.8999999999996,65403.9,66000,596.1,0.9,596.1,null,null,null,"O16",0,19750,3750,0,41250,750,500,0,0,0,66000,66000,0,0]
[null,null,null,null,null,null,null,null,{"$f":"STDEV(I562:I577)","v":3066.2181937744303},null,{"$f":"SUM(K562:K577)","v":27582.2},null,null,null,null,null,null,null,null,null,null,null,null,{"$f":"STDEV(X562:X577)","v":24698.140329938476},null,{"$f":"SUM(Z562:Z577)","v":316583.40000000002},null,null,null,null,null,null,null,null,null,null,null,null,null,null,null,null,{"$f":"STDEV(AQ562:AQ577)","v":2556.0386016907751}]
["S1 �sszeg:",177822.3,null,null,null,null,null,null,null,null,null,null,null,null,null,"S1 �sszeg:",127055.1,null,null,null,null,null,null,null,null,null,null,null,null,"S1 �sszeg:",227000]
["S16 �sszeg:",0,null,null,null,null,null,null,null,null,null,null,null,null,null,"S16 �sszeg:",0,null,null,null,null,null,null,null,null,null,null,null,null,"S16 �sszeg:",0]
["Becsl�s �sszeg:",1125049.3999999999,null,null,null,null,null,null,null,null,null,null,null,null,null,"Becsl�s �sszeg:",1125000,null,null,null,null,null,null,null,null,null,null,null,null,"Becsl�s �sszeg:",1125000]
["T�ny �sszeg:",1125000,null,null,null,null,null,null,null,null,null,null,null,null,null,"T�ny �sszeg:",1125000,null,null,null,null,null,null,null,null,null,null,null,null,"T�ny �sszeg:",1125000]
["T�ny-becsl�s elt�r�s:",49.4,null,null,null,null,null,null,null,null,null,null,null,null,null,"T�ny-becsl�s elt�r�s:",0,null,null,null,null,null,null,null,null,null,null,null,null,"T�ny-becsl�s elt�r�s:",0]
["T�ny n�gyzet�sszeg:",null,null,null,null,null,null,null,null,null,null,null,null,null,null,"T�ny n�gyzet�sszeg:",null,null,null,null,null,null,null,null,null,null,null,null,null,"T�ny n�gyzet�sszeg:"]
["Becsl�s n�gyzet�sszeg:",null,null,null,null,null,null,null,null,null,null,null,null,null,null,"Becsl�s n�gyzet�sszeg:",null,null,null,null,null,null,null,null,null,null,null,null,null,"Becsl�s n�gyzet�sszeg:"]
["N�gyzet�sszeg hiba:",0,null,null,null,null,null,null,null,null,null,null,null,null,null,"N�gyzet�sszeg hiba:",0,null,null,null,null,null,null,null,null,null,null,null,null,"N�gyzet�sszeg hiba:",0]
[]
["Open url",null,null,null,null,null,null,null,null,null,null,null,null,null,null,"Open url",null,null,null,null,null,null,null,null,null,null,null,null,null,"Open url"]
[]
["Maxim�lis mem�ria haszn�lat: 1.36 Mb",null,null,null,null,null,null,null,null,null,null,null,null,null,null,"Maxim�lis mem�ria haszn�lat: 1.36 Mb",null,null,null,null,null,null,null,null,null,null,null,null,null,"Maxim�lis mem�ria haszn�lat: 1.38 Mb"]
["A futtat�s id�tartama: 0.06 mp (0 p)",null,null,null,null,null,null,null,null,null,null,null,null,null,null,"A futtat�s id�tartama: 0.07 mp (0 p)",null,null,null,null,null,null,null,null,null,null,null,null,null,"A futtat�s id�tartama: 0.09 mp (0 p)"]
[]
[]
[]
[]
[]
[]
[]
[]
[]
[]
[]
[]
[]
["Azonos�t�:",5262033,"Objektumok:",16,"Attrib�tumok:",5,"Lepcs�k:",16,"Eltol�s:",0,"Le�r�s:","COCO STD: 5262033",null,null,null,"Azonos�t�:",6451531,"Objektumok:",16,"Attrib�tumok:",5,"Lepcs�k:",16,"Eltol�s:",0,"Le�r�s:","COCO STD: 6451531",null,null,"Azonos�t�:",4693872,"Objektumok:",16,"Attrib�tumok:",10,"Lepcs�k:",16,"Eltol�s:",0,"Le�r�s:","COCO STD: 4693872"]
[]
["Rangsor","X(A1)","X(A2)","X(A3)","X(A4)","X(A5)","Y(A6)",null,null,null,null,null,null,null,null,"Rangsor","X(A1)","X(A2)","X(A3)","X(A4)","X(A5)","Y(A6)",null,null,null,null,null,null,null,"Rangsor","X(A1)","X(A2)","X(A3)","X(A4)","X(A5)","X(A6)","X(A7)","X(A8)","X(A9)","X(A10)","Y(A11)"]
["O1",5,1,12,10,3,68000,null,null,null,null,null,null,null,null,"O1",11,16,5,6,13,68000,null,null,null,null,null,null,null,"O1",5,1,12,10,3,11,16,5,6,13,68000]
["O2",1,14,3,3,10,86000,null,null,null,null,null,null,null,null,"O2",16,3,14,14,6,86000,null,null,null,null,null,null,null,"O2",1,14,3,3,10,16,3,14,14,6,86000]
["O3",4,12,5,12,2,85000,null,null,null,null,null,null,null,null,"O3",13,5,10,5,15,85000,null,null,null,null,null,null,null,"O3",4,12,5,12,2,13,5,10,5,15,85000]
["O4",8,10,1,6,8,91000,null,null,null,null,null,null,null,null,"O4",8,7,15,11,8,91000,null,null,null,null,null,null,null,"O4",8,10,1,6,8,8,7,15,11,8,91000]
["O5",6,2,4,8,6,68000,null,null,null,null,null,null,null,null,"O5",10,15,13,8,10,68000,null,null,null,null,null,null,null,"O5",6,2,4,8,6,10,15,13,8,10,68000]
["O6",14,16,5,16,4,58000,null,null,null,null,null,null,null,null,"O6",3,1,10,1,12,58000,null,null,null,null,null,null,null,"O6",14,16,5,16,4,3,1,10,1,12,58000]
["O7",10,15,8,5,15,43000,null,null,null,null,null,null,null,null,"O7",5,2,8,12,2,43000,null,null,null,null,null,null,null,"O7",10,15,8,5,15,5,2,8,12,2,43000]
["O8",9,3,16,15,16,39000,null,null,null,null,null,null,null,null,"O8",7,14,1,2,1,39000,null,null,null,null,null,null,null,"O8",9,3,16,15,16,7,14,1,2,1,39000]
["O9",13,4,13,2,9,77000,null,null,null,null,null,null,null,null,"O9",4,13,4,15,7,77000,null,null,null,null,null,null,null,"O9",13,4,13,2,9,4,13,4,15,7,77000]
["O10",7,9,5,1,1,86000,null,null,null,null,null,null,null,null,"O10",9,8,10,16,16,86000,null,null,null,null,null,null,null,"O10",7,9,5,1,1,9,8,10,16,16,86000]
["O11",10,13,14,14,13,29000,null,null,null,null,null,null,null,null,"O11",5,4,3,3,3,29000,null,null,null,null,null,null,null,"O11",10,13,14,14,13,5,4,3,3,3,29000]
["O12",3,7,11,13,7,29000,null,null,null,null,null,null,null,null,"O12",14,10,6,4,9,29000,null,null,null,null,null,null,null,"O12",3,7,11,13,7,14,10,6,4,9,29000]
["O13",16,6,1,4,11,52000,null,null,null,null,null,null,null,null,"O13",1,11,15,13,5,52000,null,null,null,null,null,null,null,"O13",16,6,1,4,11,1,11,15,13,5,52000]
["O14",2,8,10,10,12,82000,null,null,null,null,null,null,null,null,"O14",15,9,7,6,4,82000,null,null,null,null,null,null,null,"O14",2,8,10,10,12,15,9,7,6,4,82000]
["O15",15,11,15,7,5,99000,null,null,null,null,null,null,null,null,"O15",2,6,2,10,11,99000,null,null,null,null,null,null,null,"O15",15,11,15,7,5,2,6,2,10,11,99000]
["O16",5,5,8,8,3,55000,null,null,null,null,null,null,null,null,"O16",11,12,8,8,13,55000,null,null,null,null,null,null,null,"O16",5,5,8,8,3,11,12,8,8,13,55000]
[]
["L�pcs�k(1)","X(A1)","X(A2)","X(A3)","X(A4)","X(A5)",null,null,null,null,null,null,null,null,null,"L�pcs�k(1)","X(A1)","X(A2)","X(A3)","X(A4)","X(A5)",null,null,null,null,null,null,null,null,"L�pcs�k(1)","X(A1)","X(A2)","X(A3)","X(A4)","X(A5)","X(A6)","X(A7)","X(A8)","X(A9)","X(A10)"]
["S1","(56268.7+63804.7)/(2)=60036.7","(13062.4+18588.8)/(2)=15825.6","(38182.3+11052.8)/(2)=24617.55","(14067.2+22608)/(2)=18337.55","(27129.6+37679.9)/(2)=32404.75",null,null,null,null,null,null,null,null,null,"S1","(57673.7+8872.9)/(2)=33273.3","(15527.5+28836.9)/(2)=22182.2","(11091.1+13309.3)/(2)=12200.2","(0+0)/(2)=0","(0+63219.3)/(2)=31609.65",null,null,null,null,null,null,null,null,"S1","(48600+54500)/(2)=51550","(13000+18250)/(2)=15625","(24600+30500)/(2)=27550","(27200+23750)/(2)=25475","(51600+53500)/(2)=52550","(6800+2750)/(2)=4775","(16800+24250)/(2)=20525","(20400+33750)/(2)=27075","(5600+0)/(2)=2800","(0+0)/(2)=0"]
["S2","(56268.7+63804.7)/(2)=60036.7","(10048+18588.8)/(2)=14318.4","(16076.8+0)/(2)=8038.4","(14067.2+22608)/(2)=18337.55","(27129.6+37679.9)/(2)=32404.75",null,null,null,null,null,null,null,null,null,"S2","(57673.7+8872.9)/(2)=33273.3","(15527.5+28836.9)/(2)=22182.2","(11091.1+13309.3)/(2)=12200.2","(0+0)/(2)=0","(0+63219.3)/(2)=31609.65",null,null,null,null,null,null,null,null,"S2","(48600+54500)/(2)=51550","(13000+18250)/(2)=15625","(24600+0)/(2)=12300","(27200+23750)/(2)=25475","(51600+53500)/(2)=52550","(6800+2750)/(2)=4775","(16800+24250)/(2)=20525","(20400+33750)/(2)=27075","(5600+0)/(2)=2800","(0+0)/(2)=0"]
["S3","(29139.2+29139.2)/(2)=29139.15","(10048+18588.8)/(2)=14318.4","(16076.8+0)/(2)=8038.4","(14067.2+22608)/(2)=18337.55","(13062.4+37679.9)/(2)=25371.15",null,null,null,null,null,null,null,null,null,"S3","(48800.8+8872.9)/(2)=28836.85","(15527.5+28836.9)/(2)=22182.2","(0+13309.3)/(2)=6654.65","(0+0)/(2)=0","(0+63219.3)/(2)=31609.65",null,null,null,null,null,null,null,null,"S3","(0+0)/(2)=0","(13000+5250)/(2)=9125","(0+0)/(2)=0","(20600+18750)/(2)=19675","(28800+31000)/(2)=29900","(6800+2750)/(2)=4775","(16800+12750)/(2)=14775","(6600+16250)/(2)=11425","(5600+0)/(2)=2800","(0+0)/(2)=0"]
["S4","(29139.2+29139.2)/(2)=29139.15","(10048+18588.8)/(2)=14318.4","(16076.8+0)/(2)=8038.4","(14067.2+22608)/(2)=18337.55","(13062.4+37679.9)/(2)=25371.15",null,null,null,null,null,null,null,null,null,"S4","(48800.8+8872.9)/(2)=28836.85","(0+28836.9)/(2)=14418.45","(0+13309.3)/(2)=6654.65","(0+0)/(2)=0","(0+63219.3)/(2)=31609.65",null,null,null,null,null,null,null,null,"S4","(0+0)/(2)=0","(13000+5250)/(2)=9125","(0+0)/(2)=0","(20600+18750)/(2)=19675","(28800+31000)/(2)=29900","(6800+2750)/(2)=4775","(16800+12750)/(2)=14775","(6600+16250)/(2)=11425","(5600+0)/(2)=2800","(0+0)/(2)=0"]
["S5","(29139.2+20598.4)/(2)=24868.75","(0+18588.8)/(2)=9294.4","(16076.8+0)/(2)=8038.4","(14067.2+22608)/(2)=18337.55","(13062.4+37679.9)/(2)=25371.15",null,null,null,null,null,null,null,null,null,"S5","(32164.2+8872.9)/(2)=20518.55","(0+28836.9)/(2)=14418.45","(0+13309.3)/(2)=6654.65","(0+0)/(2)=0","(0+63219.3)/(2)=31609.65",null,null,null,null,null,null,null,null,"S5","(0+0)/(2)=0","(0+5250)/(2)=2625","(0+0)/(2)=0","(20600+18750)/(2)=19675","(28800+31000)/(2)=29900","(0+0)/(2)=0","(16800+12750)/(2)=14775","(0+0)/(2)=0","(5600+0)/(2)=2800","(0+0)/(2)=0"]
["S6","(29139.2+20598.4)/(2)=24868.75","(0+18588.8)/(2)=9294.4","(0+0)/(2)=0","(14067.2+22608)/(2)=18337.55","(0+29139.2)/(2)=14569.6",null,null,null,null,null,null,null,null,null,"S6","(32164.2+8872.9)/(2)=20518.55","(0+28836.9)/(2)=14418.45","(0+3327.3)/(2)=1663.65","(0+0)/(2)=0","(0+63219.3)/(2)=31609.65",null,null,null,null,null,null,null,null,"S6","(0+0)/(2)=0","(0+0)/(2)=0","(0+0)/(2)=0","(20600+18750)/(2)=19675","(28800+31000)/(2)=29900","(0+0)/(2)=0","(16800+12750)/(2)=14775","(0+0)/(2)=0","(5600+0)/(2)=2800","(0+0)/(2)=0"]
["S7","(29139.2+20598.4)/(2)=24868.75","(0+18588.8)/(2)=9294.4","(0+0)/(2)=0","(14067.2+22608)/(2)=18337.55","(0+18588.8)/(2)=9294.4",null,null,null,null,null,null,null,null,null,"S7","(32164.2+8872.9)/(2)=20518.55","(0+28836.9)/(2)=14418.45","(0+3327.3)/(2)=1663.65","(0+0)/(2)=0","(0+63219.3)/(2)=31609.65",null,null,null,null,null,null,null,null,"S7","(0+0)/(2)=0","(0+0)/(2)=0","(0+0)/(2)=0","(20600+18750)/(2)=19675","(23400+29000)/(2)=26200","(0+0)/(2)=0","(16800+12750)/(2)=14775","(0+0)/(2)=0","(5600+0)/(2)=2800","(0+0)/(2)=0"]
["S8","(29139.2+20598.4)/(2)=24868.75","(0+18588.8)/(2)=9294.4","(0+0)/(2)=0","(13062.4+0)/(2)=6531.2","(0+18588.8)/(2)=9294.4",null,null,null,null,null,null,null,null,null,"S8","(32164.2+8872.9)/(2)=20518.55","(0+28836.9)/(2)=14418.45","(0+3327.3)/(2)=1663.65","(0+0)/(2)=0","(0+63219.3)/(2)=31609.65",null,null,null,null,null,null,null,null,"S8","(0+0)/(2)=0","(0+0)/(2)=0","(0+0)/(2)=0","(20600+18750)/(2)=19675","(23400+29000)/(2)=26200","(0+0)/(2)=0","(7200+8750)/(2)=7975","(0+0)/(2)=0","(5600+0)/(2)=2800","(0+0)/(2)=0"]
["S9","(29139.2+20598.4)/(2)=24868.75","(0+18588.8)/(2)=9294.4","(0+0)/(2)=0","(13062.4+0)/(2)=6531.2","(0+15574.4)/(2)=7787.2",null,null,null,null,null,null,null,null,null,"S9","(32164.2+8872.9)/(2)=20518.55","(0+24400.4)/(2)=12200.2","(0+3327.3)/(2)=1663.65","(0+0)/(2)=0","(0+63219.3)/(2)=31609.65",null,null,null,null,null,null,null,null,"S9","(0+0)/(2)=0","(0+0)/(2)=0","(0+0)/(2)=0","(20600+18750)/(2)=19675","(23400+29000)/(2)=26200","(0+0)/(2)=0","(7200+8750)/(2)=7975","(0+0)/(2)=0","(5600+0)/(2)=2800","(0+0)/(2)=0"]
["S10","(29139.2+20598.4)/(2)=24868.75","(0+18588.8)/(2)=9294.4","(0+0)/(2)=0","(13062.4+0)/(2)=6531.2","(0+0)/(2)=0",null,null,null,null,null,null,null,null,null,"S10","(32164.2+8872.9)/(2)=20518.55","(0+0)/(2)=0","(0+3327.3)/(2)=1663.65","(0+0)/(2)=0","(0+63219.3)/(2)=31609.65",null,null,null,null,null,null,null,null,"S10","(0+0)/(2)=0","(0+0)/(2)=0","(0+0)/(2)=0","(20600+18750)/(2)=19675","(0+0)/(2)=0","(0+0)/(2)=0","(0+0)/(2)=0","(0+0)/(2)=0","(5600+0)/(2)=2800","(0+0)/(2)=0"]
["S11","(29139.2+20598.4)/(2)=24868.75","(0+18588.8)/(2)=9294.4","(0+0)/(2)=0","(13062.4+0)/(2)=6531.2","(0+0)/(2)=0",null,null,null,null,null,null,null,null,null,"S11","(32164.2+7763.8)/(2)=19964","(0+0)/(2)=0","(0+3327.3)/(2)=1663.65","(0+0)/(2)=0","(0+58782.8)/(2)=29391.4",null,null,null,null,null,null,null,null,"S11","(0+0)/(2)=0","(0+0)/(2)=0","(0+0)/(2)=0","(11000+18750)/(2)=14875","(0+0)/(2)=0","(0+0)/(2)=0","(0+0)/(2)=0","(0+0)/(2)=0","(5600+0)/(2)=2800","(0+0)/(2)=0"]
["S12","(29139.2+20598.4)/(2)=24868.75","(0+18588.8)/(2)=9294.4","(0+0)/(2)=0","(13062.4+0)/(2)=6531.2","(0+0)/(2)=0",null,null,null,null,null,null,null,null,null,"S12","(32164.2+7763.8)/(2)=19964","(0+0)/(2)=0","(0+3327.3)/(2)=1663.65","(0+0)/(2)=0","(0+54346.4)/(2)=27173.2",null,null,null,null,null,null,null,null,"S12","(0+0)/(2)=0","(0+0)/(2)=0","(0+0)/(2)=0","(11000+18750)/(2)=14875","(0+0)/(2)=0","(0+0)/(2)=0","(0+0)/(2)=0","(0+0)/(2)=0","(5600+0)/(2)=2800","(0+0)/(2)=0"]
["S13","(29139.2+20598.4)/(2)=24868.75","(0+8540.8)/(2)=4270.4","(0+0)/(2)=0","(0+0)/(2)=0","(0+0)/(2)=0",null,null,null,null,null,null,null,null,null,"S13","(32164.2+7763.8)/(2)=19964","(0+0)/(2)=0","(0+3327.3)/(2)=1663.65","(0+0)/(2)=0","(0+54346.4)/(2)=27173.2",null,null,null,null,null,null,null,null,"S13","(0+0)/(2)=0","(0+0)/(2)=0","(0+0)/(2)=0","(0+0)/(2)=0","(0+0)/(2)=0","(0+0)/(2)=0","(0+0)/(2)=0","(0+0)/(2)=0","(0+0)/(2)=0","(0+0)/(2)=0"]
["S14","(29139.2+20598.4)/(2)=24868.75","(0+0)/(2)=0","(0+0)/(2)=0","(0+0)/(2)=0","(0+0)/(2)=0",null,null,null,null,null,null,null,null,null,"S14","(32164.2+0)/(2)=16082.1","(0+0)/(2)=0","(0+3327.3)/(2)=1663.65","(0+0)/(2)=0","(0+54346.4)/(2)=27173.2",null,null,null,null,null,null,null,null,"S14","(0+0)/(2)=0","(0+0)/(2)=0","(0+0)/(2)=0","(0+0)/(2)=0","(0+0)/(2)=0","(0+0)/(2)=0","(0+0)/(2)=0","(0+0)/(2)=0","(0+0)/(2)=0","(0+0)/(2)=0"]
["S15","(29139.2+20598.4)/(2)=24868.75","(0+0)/(2)=0","(0+0)/(2)=0","(0+0)/(2)=0","(0+0)/(2)=0",null,null,null,null,null,null,null,null,null,"S15","(32164.2+0)/(2)=16082.1","(0+0)/(2)=0","(0+0)/(2)=0","(0+0)/(2)=0","(0+54346.4)/(2)=27173.2",null,null,null,null,null,null,null,null,"S15","(0+0)/(2)=0","(0+0)/(2)=0","(0+0)/(2)=0","(0+0)/(2)=0","(0+0)/(2)=0","(0+0)/(2)=0","(0+0)/(2)=0","(0+0)/(2)=0","(0+0)/(2)=0","(0+0)/(2)=0"]
["S16","(0+0)/(2)=0","(0+0)/(2)=0","(0+0)/(2)=0","(0+0)/(2)=0","(0+0)/(2)=0",null,null,null,null,null,null,null,null,null,"S16","(32164.2+0)/(2)=16082.1","(0+0)/(2)=0","(0+0)/(2)=0","(0+0)/(2)=0","(0+54346.4)/(2)=27173.2",null,null,null,null,null,null,null,null,"S16","(0+0)/(2)=0","(0+0)/(2)=0","(0+0)/(2)=0","(0+0)/(2)=0","(0+0)/(2)=0","(0+0)/(2)=0","(0+0)/(2)=0","(0+0)/(2)=0","(0+0)/(2)=0","(0+0)/(2)=0"]
[]
["L�pcs�k(2)","X(A1)","X(A2)","X(A3)","X(A4)","X(A5)",null,null,null,null,null,null,null,null,null,"L�pcs�k(2)","X(A1)","X(A2)","X(A3)","X(A4)","X(A5)",null,null,null,null,null,null,null,null,"L�pcs�k(2)","X(A1)","X(A2)","X(A3)","X(A4)","X(A5)","X(A6)","X(A7)","X(A8)","X(A9)","X(A10)"]
["S1",60036.7,15825.6,24617.599999999999,18337.599999999999,32404.799999999999,null,null,null,null,null,null,null,null,null,"S1",33273.300000000003,22182.2,12200.2,0,31609.599999999999,null,null,null,null,null,null,null,null,"S1",51550,15625,27550,25475,52550,4775,20525,27075,2800,0]
["S2",60036.7,14318.4,8038.4,18337.599999999999,32404.799999999999,null,null,null,null,null,null,null,null,null,"S2",33273.300000000003,22182.2,12200.2,0,31609.599999999999,null,null,null,null,null,null,null,null,"S2",51550,15625,12300,25475,52550,4775,20525,27075,2800,0]
["S3",29139.200000000001,14318.4,8038.4,18337.599999999999,25371.200000000001,null,null,null,null,null,null,null,null,null,"S3",28836.9,22182.2,6654.7,0,31609.599999999999,null,null,null,null,null,null,null,null,"S3",0,9125,0,19675,29900,4775,14775,11425,2800,0]
["S4",29139.200000000001,14318.4,8038.4,18337.599999999999,25371.200000000001,null,null,null,null,null,null,null,null,null,"S4",28836.9,14418.4,6654.7,0,31609.599999999999,null,null,null,null,null,null,null,null,"S4",0,9125,0,19675,29900,4775,14775,11425,2800,0]
["S5",24868.799999999999,9294.4,8038.4,18337.599999999999,25371.200000000001,null,null,null,null,null,null,null,null,null,"S5",20518.5,14418.4,6654.7,0,31609.599999999999,null,null,null,null,null,null,null,null,"S5",0,2625,0,19675,29900,0,14775,0,2800,0]
["S6",24868.799999999999,9294.4,0,18337.599999999999,14569.6,null,null,null,null,null,null,null,null,null,"S6",20518.5,14418.4,1663.7,0,31609.599999999999,null,null,null,null,null,null,null,null,"S6",0,0,0,19675,29900,0,14775,0,2800,0]
["S7",24868.799999999999,9294.4,0,18337.599999999999,9294.4,null,null,null,null,null,null,null,null,null,"S7",20518.5,14418.4,1663.7,0,31609.599999999999,null,null,null,null,null,null,null,null,"S7",0,0,0,19675,26200,0,14775,0,2800,0]
["S8",24868.799999999999,9294.4,0,6531.2,9294.4,null,null,null,null,null,null,null,null,null,"S8",20518.5,14418.4,1663.7,0,31609.599999999999,null,null,null,null,null,null,null,null,"S8",0,0,0,19675,26200,0,7975,0,2800,0]
["S9",24868.799999999999,9294.4,0,6531.2,7787.2,null,null,null,null,null,null,null,null,null,"S9",20518.5,12200.2,1663.7,0,31609.599999999999,null,null,null,null,null,null,null,null,"S9",0,0,0,19675,26200,0,7975,0,2800,0]
["S10",24868.799999999999,9294.4,0,6531.2,0,null,null,null,null,null,null,null,null,null,"S10",20518.5,0,1663.7,0,31609.599999999999,null,null,null,null,null,null,null,null,"S10",0,0,0,19675,0,0,0,0,2800,0]
["S11",24868.799999999999,9294.4,0,6531.2,0,null,null,null,null,null,null,null,null,null,"S11",19964,0,1663.7,0,29391.4,null,null,null,null,null,null,null,null,"S11",0,0,0,14875,0,0,0,0,2800,0]
["S12",24868.799999999999,9294.4,0,6531.2,0,null,null,null,null,null,null,null,null,null,"S12",19964,0,1663.7,0,27173.200000000001,null,null,null,null,null,null,null,null,"S12",0,0,0,14875,0,0,0,0,2800,0]
["S13",24868.799999999999,4270.3999999999996,0,0,0,null,null,null,null,null,null,null,null,null,"S13",19964,0,1663.7,0,27173.200000000001,null,null,null,null,null,null,null,null,"S13",0,0,0,0,0,0,0,0,0,0]
["S14",24868.799999999999,0,0,0,0,null,null,null,null,null,null,null,null,null,"S14",16082.1,0,1663.7,0,27173.200000000001,null,null,null,null,null,null,null,null,"S14",0,0,0,0,0,0,0,0,0,0]
["S15",24868.799999999999,0,0,0,0,null,null,null,null,null,null,null,null,null,"S15",16082.1,0,0,0,27173.200000000001,null,null,null,null,null,null,null,null,"S15",0,0,0,0,0,0,0,0,0,0]
["S16",0,0,0,0,0,null,null,null,null,null,null,null,null,null,"S16",16082.1,0,0,0,27173.200000000001,null,null,null,null,null,null,null,null,"S16",0,0,0,0,0,0,0,0,0,0]
[]
["COCO:STD","X(A1)","X(A2)","X(A3)","X(A4)","X(A5)","Becsl�s","T�ny+0","Delta","Delta/T�ny","abs",null,null,null,null,"COCO:STD","X(A1)","X(A2)","X(A3)","X(A4)","X(A5)","Becsl�s","T�ny+0","Delta","Delta/T�ny","abs",null,null,null,"COCO:STD","X(A1)","X(A2)","X(A3)","X(A4)","X(A5)","X(A6)","X(A7)","X(A8)","X(A9)","X(A10)","Becsl�s","T�ny+0","Delta","Delta/T�ny"]
["O1",24868.799999999999,15825.6,0,6531.2,25371.200000000001,72596.7,68000,-4596.7,-6.76,{"$f":"ABS(I662)","v":4596.7},null,null,null,null,"O1",19964,0,6654.7,0,27173.200000000001,53791.8,68000,14208.2,20.89,{"$f":"ABS(X662)","v":14208.2},null,null,null,"O1",0,15625,0,19675,29900,0,0,0,2800,0,68000,68000,0,0]
["O2",60036.7,0,8038.4,18337.599999999999,0,86412.7,86000,-412.7,-0.48,{"$f":"ABS(I663)","v":412.7},null,null,null,null,"O2",16082.1,22182.2,1663.7,0,31609.599999999999,71537.600000000006,86000,14462.4,16.82,{"$f":"ABS(X663)","v":14462.4},null,null,null,"O2",51550,0,0,19675,0,0,14775,0,0,0,86000,86000,0,0]
["O3",29139.200000000001,9294.4,8038.4,6531.2,32404.799999999999,85407.9,85000,-407.9,-0.48,407.9,null,null,null,null,"O3",19964,14418.4,1663.7,0,27173.200000000001,63219.3,85000,21780.7,25.62,21780.7,null,null,null,"O3",0,0,0,14875,52550,0,14775,0,2800,0,85000,85000,0,0]
["O4",24868.799999999999,9294.4,24617.599999999999,18337.599999999999,9294.4,86412.7,91000,4587.3,5.04,4587.3,null,null,null,null,"O4",20518.5,14418.4,0,0,31609.599999999999,66546.600000000006,91000,24453.4,26.87,24453.4,null,null,null,"O4",0,0,27550,19675,26200,0,14775,0,2800,0,91000,91000,0,0]
["O5",24868.799999999999,14318.4,8038.4,6531.2,14569.6,68326.3,68000,-326.3,-0.48,326.3,null,null,null,null,"O5",20518.5,0,1663.7,0,31609.599999999999,53791.8,68000,14208.2,20.89,14208.2,null,null,null,"O5",0,15625,0,19675,29900,0,0,0,2800,0,68000,68000,0,0]
["O6",24868.799999999999,0,8038.4,0,25371.200000000001,58278.3,58000,-278.3,-0.48,278.3,null,null,null,null,"O6",28836.9,22182.2,1663.7,0,27173.200000000001,79855.899999999994,58000,-21855.9,-37.68,21855.9,null,null,null,"O6",0,0,0,0,29900,4775,20525,0,2800,0,58000,58000,0,0]
["O7",24868.799999999999,0,0,18337.599999999999,0,43206.3,43000,-206.3,-0.48,206.3,null,null,null,null,"O7",20518.5,22182.2,1663.7,0,31609.599999999999,75974,43000,-32974,-76.680000000000007,32974,null,null,null,"O7",0,0,0,19675,0,0,20525,0,2800,0,43000,43000,0,0]
["O8",24868.799999999999,14318.4,0,0,0,39187.1,39000,-187.1,-0.48,187.1,null,null,null,null,"O8",20518.5,0,12200.2,0,31609.599999999999,64328.4,39000,-25328.400000000001,-64.94,25328.400000000001,null,null,null,"O8",0,9125,0,0,0,0,0,27075,2800,0,39000,39000,0,0]
["O9",24868.799999999999,14318.4,0,18337.599999999999,7787.2,65311.9,77000,11688.1,15.18,11688.1,null,null,null,null,"O9",28836.9,0,6654.7,0,31609.599999999999,67101.2,77000,9898.7999999999993,12.86,9898.7999999999993,null,null,null,"O9",0,9125,0,25475,26200,4775,0,11425,0,0,77000,77000,0,0]
["O10",24868.799999999999,9294.4,8038.4,18337.599999999999,32404.799999999999,92943.9,86000,-6943.9,-8.07,6943.9,null,null,null,null,"O10",20518.5,14418.4,1663.7,0,27173.200000000001,63773.8,86000,22226.2,25.84,22226.2,null,null,null,"O10",0,0,0,25475,52550,0,7975,0,0,0,86000,86000,0,0]
["O11",24868.799999999999,4270.3999999999996,0,0,0,29139.200000000001,29000,-139.19999999999999,-0.48,139.19999999999999,null,null,null,null,"O11",20518.5,14418.4,6654.7,0,31609.599999999999,73201.3,29000,-44201.3,-152.41999999999999,44201.3,null,null,null,"O11",0,0,0,0,0,0,14775,11425,2800,0,29000,29000,0,0]
["O12",29139.200000000001,9294.4,0,0,9294.4,47727.9,29000,-18727.900000000001,-64.58,18727.900000000001,null,null,null,null,"O12",16082.1,0,1663.7,0,31609.599999999999,49355.4,29000,-20355.400000000001,-70.19,20355.400000000001,null,null,null,"O12",0,0,0,0,26200,0,0,0,2800,0,29000,29000,0,0]
["O13",0,9294.4,24617.599999999999,18337.599999999999,0,52249.5,52000,-249.5,-0.48,249.5,null,null,null,null,"O13",33273.300000000003,0,0,0,31609.599999999999,64882.9,52000,-12882.9,-24.77,12882.9,null,null,null,"O13",0,0,27550,19675,0,4775,0,0,0,0,52000,52000,0,0]
["O14",60036.7,9294.4,0,6531.2,0,75862.3,82000,6137.7,7.49,6137.7,null,null,null,null,"O14",16082.1,12200.2,1663.7,0,31609.599999999999,61555.6,82000,20444.400000000001,24.93,20444.400000000001,null,null,null,"O14",51550,0,0,19675,0,0,7975,0,2800,0,82000,82000,0,0]
["O15",24868.799999999999,9294.4,0,18337.599999999999,25371.200000000001,77871.899999999994,99000,21128.1,21.34,21128.1,null,null,null,null,"O15",33273.300000000003,14418.4,12200.2,0,29391.4,89283.4,99000,9716.6,9.81,9716.6,null,null,null,"O15",0,0,0,19675,29900,4775,14775,27075,2800,0,99000,99000,0,0]
["O16",24868.799999999999,9294.4,0,6531.2,25371.200000000001,66065.5,55000,-11065.5,-20.12,11065.5,null,null,null,null,"O16",19964,0,1663.7,0,27173.200000000001,48800.800000000003,55000,6199.2,11.27,6199.2,null,null,null,"O16",0,2625,0,19675,29900,0,0,0,2800,0,55000,55000,0,0]
[null,null,null,null,null,null,null,null,{"$f":"STDEV(I662:I677)","v":8887.9308421753412},null,{"$f":"SUM(K662:K677)","v":87082.5},null,null,null,null,null,null,null,null,null,null,null,null,{"$f":"STDEV(X662:X677)","v":22462.769046220314},null,{"$f":"SUM(Z662:Z677)","v":315196.00000000006},null,null,null,null,null,null,null,null,null,null,null,null,null,null,null,null,{"$f":"STDEV(AQ662:AQ677)","v":0}]
["S1 �sszeg:",151222.29999999999,null,null,null,null,null,null,null,null,null,null,null,null,null,"S1 �sszeg:",99265.3,null,null,null,null,null,null,null,null,null,null,null,null,"S1 �sszeg:",227925]
["S16 �sszeg:",0,null,null,null,null,null,null,null,null,null,null,null,null,null,"S16 �sszeg:",43255.3,null,null,null,null,null,null,null,null,null,null,null,null,"S16 �sszeg:",0]
["Becsl�s �sszeg:",1047000.1,null,null,null,null,null,null,null,null,null,null,null,null,null,"Becsl�s �sszeg:",1046999.8,null,null,null,null,null,null,null,null,null,null,null,null,"Becsl�s �sszeg:",1047000]
["T�ny �sszeg:",1047000,null,null,null,null,null,null,null,null,null,null,null,null,null,"T�ny �sszeg:",1047000,null,null,null,null,null,null,null,null,null,null,null,null,"T�ny �sszeg:",1047000]
["T�ny-becsl�s elt�r�s:",0.1,null,null,null,null,null,null,null,null,null,null,null,null,null,"T�ny-becsl�s elt�r�s:",-0.2,null,null,null,null,null,null,null,null,null,null,null,null,"T�ny-becsl�s elt�r�s:",0]
["T�ny n�gyzet�sszeg:",null,null,null,null,null,null,null,null,null,null,null,null,null,null,"T�ny n�gyzet�sszeg:",null,null,null,null,null,null,null,null,null,null,null,null,null,"T�ny n�gyzet�sszeg:"]
["Becsl�s n�gyzet�sszeg:",null,null,null,null,null,null,null,null,null,null,null,null,null,null,"Becsl�s n�gyzet�sszeg:",null,null,null,null,null,null,null,null,null,null,null,null,null,"Becsl�s n�gyzet�sszeg:"]
["N�gyzet�sszeg hiba:",0,null,null,null,null,null,null,null,null,null,null,null,null,null,"N�gyzet�sszeg hiba:",0,null,null,null,null,null,null,null,null,null,null,null,null,"N�gyzet�sszeg hiba:",0]
[]
["Open url",null,null,null,null,null,null,null,null,null,null,null,null,null,null,"Open url",null,null,null,null,null,null,null,null,null,null,null,null,null,"Open url"]
[]
["Maxim�lis mem�ria haszn�lat: 1.36 Mb",null,null,null,null,null,null,null,null,null,null,null,null,null,null,"Maxim�lis mem�ria haszn�lat: 1.36 Mb",null,null,null,null,null,null,null,null,null,null,null,null,null,"Maxim�lis mem�ria haszn�lat: 1.38 Mb"]
["A futtat�s id�tartama: 0.09 mp (0 p)",null,null,null,null,null,null,null,null,null,null,null,null,null,null,"A futtat�s id�tartama: 0.09 mp (0 p)",null,null,null,null,null,null,null,null,null,null,null,null,null,"A futtat�s id�tartama: 0.06 mp (0 p)"]
[]
[]
[]
[]
[]
[]
[]
[]
[]
[]
[]
[]
[]
["Azonos�t�:",8089734,"Objektumok:",16,"Attrib�tumok:",5,"Lepcs�k:",16,"Eltol�s:",0,"Le�r�s:","COCO STD: 8089734",null,null,null,"Azonos�t�:",2533511,"Objektumok:",16,"Attrib�tumok:",5,"Lepcs�k:",16,"Eltol�s:",0,"Le�r�s:","COCO STD: 2533511",null,null,"Azonos�t�:",1916776,"Objektumok:",16,"Attrib�tumok:",10,"Lepcs�k:",16,"Eltol�s:",0,"Le�r�s:","COCO STD: 1916776"]
[]
["Rangsor","X(A1)","X(A2)","X(A3)","X(A4)","X(A5)","Y(A6)",null,null,null,null,null,null,null,null,"Rangsor","X(A1)","X(A2)","X(A3)","X(A4)","X(A5)","Y(A6)",null,null,null,null,null,null,null,"Rangsor","X(A1)","X(A2)","X(A3)","X(A4)","X(A5)","X(A6)","X(A7)","X(A8)","X(A9)","X(A10)","Y(A11)"]
["O1",14,12,15,15,12,23000,null,null,null,null,null,null,null,null,"O1",2,5,2,2,5,23000,null,null,null,null,null,null,null,"O1",14,12,15,15,12,2,5,2,2,5,23000]
["O2",8,6,3,14,14,75000,null,null,null,null,null,null,null,null,"O2",9,11,14,3,3,75000,null,null,null,null,null,null,null,"O2",8,6,3,14,14,9,11,14,3,3,75000]
["O3",14,7,6,9,4,60000,null,null,null,null,null,null,null,null,"O3",2,10,12,7,13,60000,null,null,null,null,null,null,null,"O3",14,7,6,9,4,2,10,12,7,13,60000]
["O4",2,13,14,16,6,62000,null,null,null,null,null,null,null,null,"O4",15,4,3,1,9,62000,null,null,null,null,null,null,null,"O4",2,13,14,16,6,15,4,3,1,9,62000]
["O5",6,16,12,10,13,18000,null,null,null,null,null,null,null,null,"O5",10,1,6,6,4,18000,null,null,null,null,null,null,null,"O5",6,16,12,10,13,10,1,6,6,4,18000]
["O6",13,10,9,3,15,47000,null,null,null,null,null,null,null,null,"O6",4,7,9,13,1,47000,null,null,null,null,null,null,null,"O6",13,10,9,3,15,4,7,9,13,1,47000]
["O7",6,14,5,1,6,66000,null,null,null,null,null,null,null,null,"O7",10,2,13,16,9,66000,null,null,null,null,null,null,null,"O7",6,14,5,1,6,10,2,13,16,9,66000]
["O8",10,1,2,8,9,41000,null,null,null,null,null,null,null,null,"O8",7,16,15,8,6,41000,null,null,null,null,null,null,null,"O8",10,1,2,8,9,7,16,15,8,6,41000]
["O9",11,14,11,2,15,55000,null,null,null,null,null,null,null,null,"O9",6,2,7,15,1,55000,null,null,null,null,null,null,null,"O9",11,14,11,2,15,6,2,7,15,1,55000]
["O10",4,3,16,3,1,74000,null,null,null,null,null,null,null,null,"O10",13,14,1,13,16,74000,null,null,null,null,null,null,null,"O10",4,3,16,3,1,13,14,1,13,16,74000]
["O11",5,8,7,12,3,81000,null,null,null,null,null,null,null,null,"O11",12,8,11,4,14,81000,null,null,null,null,null,null,null,"O11",5,8,7,12,3,12,8,11,4,14,81000]
["O12",1,2,10,11,5,75000,null,null,null,null,null,null,null,null,"O12",16,15,8,5,12,75000,null,null,null,null,null,null,null,"O12",1,2,10,11,5,16,15,8,5,12,75000]
["O13",16,5,8,7,8,88000,null,null,null,null,null,null,null,null,"O13",1,12,10,9,8,88000,null,null,null,null,null,null,null,"O13",16,5,8,7,8,1,12,10,9,8,88000]
["O14",3,11,13,6,2,50000,null,null,null,null,null,null,null,null,"O14",14,6,4,10,15,50000,null,null,null,null,null,null,null,"O14",3,11,13,6,2,14,6,4,10,15,50000]
["O15",12,4,1,5,9,97000,null,null,null,null,null,null,null,null,"O15",5,13,16,11,6,97000,null,null,null,null,null,null,null,"O15",12,4,1,5,9,5,13,16,11,6,97000]
["O16",9,8,13,4,6,53000,null,null,null,null,null,null,null,null,"O16",8,8,4,12,9,53000,null,null,null,null,null,null,null,"O16",9,8,13,4,6,8,8,4,12,9,53000]
[]
["L�pcs�k(1)","X(A1)","X(A2)","X(A3)","X(A4)","X(A5)",null,null,null,null,null,null,null,null,null,"L�pcs�k(1)","X(A1)","X(A2)","X(A3)","X(A4)","X(A5)",null,null,null,null,null,null,null,null,"L�pcs�k(1)","X(A1)","X(A2)","X(A3)","X(A4)","X(A5)","X(A6)","X(A7)","X(A8)","X(A9)","X(A10)"]
["S1","(51026.4+39020.2)/(2)=45023.35","(18009.3+44022.8)/(2)=31016.05","(50025.9+40020.7)/(2)=45023.35","(32016.6+37019.2)/(2)=34517.9","(19009.8+17008.8)/(2)=18009.35",null,null,null,null,null,null,null,null,null,"S1","(94776.8+33387.3)/(2)=64082.05","(0+47388.4)/(2)=23694.2","(60312.5+46311.4)/(2)=53311.95","(47388.4+30156.3)/(2)=38772.3","(25848.2+17232.1)/(2)=21540.2",null,null,null,null,null,null,null,null,"S1","(15500+52333)/(2)=33916.5","(25000+21667)/(2)=23333.5","(72000+75333)/(2)=73666.55","(19500+29667)/(2)=24583.5","(34500+18000)/(2)=26250","(35000+47000)/(2)=41000","(0+0)/(2)=0","(0+15000)/(2)=7500","(18500+30000)/(2)=24250","(35500+25333)/(2)=30416.5"]
["S2","(51026.4+39020.2)/(2)=45023.35","(18009.3+44022.8)/(2)=31016.05","(5002.6+31016.1)/(2)=18009.35","(32016.6+37019.2)/(2)=34517.9","(19009.8+17008.8)/(2)=18009.35",null,null,null,null,null,null,null,null,null,"S2","(24771.2+33387.3)/(2)=29079.25","(0+47388.4)/(2)=23694.2","(0+0)/(2)=0","(0+30156.3)/(2)=15078.15","(25848.2+17232.1)/(2)=21540.2",null,null,null,null,null,null,null,null,"S2","(15500+17000)/(2)=16250","(25000+21667)/(2)=23333.5","(16000+19333)/(2)=17666.5","(19500+29667)/(2)=24583.5","(34500+18000)/(2)=26250","(500+0)/(2)=250","(0+0)/(2)=0","(0+15000)/(2)=7500","(18500+8000)/(2)=13250","(15500+9000)/(2)=12250"]
["S3","(18009.3+0)/(2)=9004.65","(18009.3+44022.8)/(2)=31016.05","(5002.6+31016.1)/(2)=18009.35","(19009.8+13006.7)/(2)=16008.3","(19009.8+17008.8)/(2)=18009.35",null,null,null,null,null,null,null,null,null,"S3","(24771.2+33387.3)/(2)=29079.25","(0+33387.3)/(2)=16693.65","(0+0)/(2)=0","(0+30156.3)/(2)=15078.15","(25848.2+17232.1)/(2)=21540.2",null,null,null,null,null,null,null,null,"S3","(15500+17000)/(2)=16250","(25000+21667)/(2)=23333.5","(16000+19333)/(2)=17666.5","(11500+2333)/(2)=6916.5","(34500+18000)/(2)=26250","(0+0)/(2)=0","(0+0)/(2)=0","(0+15000)/(2)=7500","(18500+8000)/(2)=13250","(15500+9000)/(2)=12250"]
["S4","(18009.3+0)/(2)=9004.65","(18009.3+44022.8)/(2)=31016.05","(5002.6+31016.1)/(2)=18009.35","(11005.7+13006.7)/(2)=12006.2","(19009.8+0)/(2)=9504.9",null,null,null,null,null,null,null,null,null,"S4","(24771.2+33387.3)/(2)=29079.25","(0+33387.3)/(2)=16693.65","(0+0)/(2)=0","(0+30156.3)/(2)=15078.15","(0+17232.1)/(2)=8616.05",null,null,null,null,null,null,null,null,"S4","(3000+17000)/(2)=10000","(25000+21667)/(2)=23333.5","(16000+19333)/(2)=17666.5","(0+2333)/(2)=1166.5","(34500+18000)/(2)=26250","(0+0)/(2)=0","(0+0)/(2)=0","(0+15000)/(2)=7500","(18500+8000)/(2)=13250","(15500+0)/(2)=7750"]
["S5","(18009.3+0)/(2)=9004.65","(18009.3+44022.8)/(2)=31016.05","(5002.6+31016.1)/(2)=18009.35","(11005.7+13006.7)/(2)=12006.2","(6003.1+0)/(2)=3001.55",null,null,null,null,null,null,null,null,null,"S5","(24771.2+33387.3)/(2)=29079.25","(0+33387.3)/(2)=16693.65","(0+0)/(2)=0","(0+30156.3)/(2)=15078.15","(0+17232.1)/(2)=8616.05",null,null,null,null,null,null,null,null,"S5","(3000+17000)/(2)=10000","(25000+21667)/(2)=23333.5","(16000+19333)/(2)=17666.5","(0+0)/(2)=0","(34500+0)/(2)=17250","(0+0)/(2)=0","(0+0)/(2)=0","(0+0)/(2)=0","(0+1000)/(2)=500","(4000+0)/(2)=2000"]
["S6","(18009.3+0)/(2)=9004.65","(18009.3+44022.8)/(2)=31016.05","(5002.6+31016.1)/(2)=18009.35","(8004.1+13006.7)/(2)=10505.45","(6003.1+0)/(2)=3001.55",null,null,null,null,null,null,null,null,null,"S6","(24771.2+6462.1)/(2)=15616.65","(0+33387.3)/(2)=16693.65","(0+0)/(2)=0","(0+20463.2)/(2)=10231.6","(0+17232.1)/(2)=8616.05",null,null,null,null,null,null,null,null,"S6","(2500+17000)/(2)=9750","(25000+21667)/(2)=23333.5","(0+19333)/(2)=9666.5","(0+0)/(2)=0","(28000+0)/(2)=14000","(0+0)/(2)=0","(0+0)/(2)=0","(0+0)/(2)=0","(0+1000)/(2)=500","(0+0)/(2)=0"]
["S7","(18009.3+0)/(2)=9004.65","(18009.3+33017.1)/(2)=25513.2","(5002.6+31016.1)/(2)=18009.35","(8004.1+13006.7)/(2)=10505.45","(6003.1+0)/(2)=3001.55",null,null,null,null,null,null,null,null,null,"S7","(24771.2+6462.1)/(2)=15616.65","(0+33387.3)/(2)=16693.65","(0+0)/(2)=0","(0+20463.2)/(2)=10231.6","(0+17232.1)/(2)=8616.05",null,null,null,null,null,null,null,null,"S7","(0+17000)/(2)=8500","(25000+21667)/(2)=23333.5","(0+19333)/(2)=9666.5","(0+0)/(2)=0","(28000+0)/(2)=14000","(0+0)/(2)=0","(0+0)/(2)=0","(0+0)/(2)=0","(0+1000)/(2)=500","(0+0)/(2)=0"]
["S8","(18009.3+0)/(2)=9004.65","(18009.3+33017.1)/(2)=25513.2","(5002.6+31016.1)/(2)=18009.35","(0+0)/(2)=0","(6003.1+0)/(2)=3001.55",null,null,null,null,null,null,null,null,null,"S8","(24771.2+6462.1)/(2)=15616.65","(0+33387.3)/(2)=16693.65","(0+0)/(2)=0","(0+20463.2)/(2)=10231.6","(0+17232.1)/(2)=8616.05",null,null,null,null,null,null,null,null,"S8","(0+17000)/(2)=8500","(25000+18667)/(2)=21833.5","(0+19333)/(2)=9666.5","(0+0)/(2)=0","(28000+0)/(2)=14000","(0+0)/(2)=0","(0+0)/(2)=0","(0+0)/(2)=0","(0+0)/(2)=0","(0+0)/(2)=0"]
["S9","(18009.3+0)/(2)=9004.65","(5002.6+16008.3)/(2)=10505.45","(5002.6+18009.3)/(2)=11505.95","(0+0)/(2)=0","(0+0)/(2)=0",null,null,null,null,null,null,null,null,null,"S9","(24771.2+6462.1)/(2)=15616.65","(0+33387.3)/(2)=16693.65","(0+0)/(2)=0","(0+20463.2)/(2)=10231.6","(0+17232.1)/(2)=8616.05",null,null,null,null,null,null,null,null,"S9","(0+17000)/(2)=8500","(0+0)/(2)=0","(0+19333)/(2)=9666.5","(0+0)/(2)=0","(0+0)/(2)=0","(0+0)/(2)=0","(0+0)/(2)=0","(0+0)/(2)=0","(0+0)/(2)=0","(0+0)/(2)=0"]
["S10","(18009.3+0)/(2)=9004.65","(5002.6+16008.3)/(2)=10505.45","(0+18009.3)/(2)=9004.65","(0+0)/(2)=0","(0+0)/(2)=0",null,null,null,null,null,null,null,null,null,"S10","(19386.2+6462.1)/(2)=12924.1","(0+33387.3)/(2)=16693.65","(0+0)/(2)=0","(0+20463.2)/(2)=10231.6","(0+17232.1)/(2)=8616.05",null,null,null,null,null,null,null,null,"S10","(0+0)/(2)=0","(0+0)/(2)=0","(0+0)/(2)=0","(0+0)/(2)=0","(0+0)/(2)=0","(0+0)/(2)=0","(0+0)/(2)=0","(0+0)/(2)=0","(0+0)/(2)=0","(0+0)/(2)=0"]
["S11","(18009.3+0)/(2)=9004.65","(5002.6+16008.3)/(2)=10505.45","(0+18009.3)/(2)=9004.65","(0+0)/(2)=0","(0+0)/(2)=0",null,null,null,null,null,null,null,null,null,"S11","(19386.2+6462.1)/(2)=12924.1","(0+33387.3)/(2)=16693.65","(0+0)/(2)=0","(0+20463.2)/(2)=10231.6","(0+17232.1)/(2)=8616.05",null,null,null,null,null,null,null,null,"S11","(0+0)/(2)=0","(0+0)/(2)=0","(0+0)/(2)=0","(0+0)/(2)=0","(0+0)/(2)=0","(0+0)/(2)=0","(0+0)/(2)=0","(0+0)/(2)=0","(0+0)/(2)=0","(0+0)/(2)=0"]
["S12","(18009.3+0)/(2)=9004.65","(5002.6+16008.3)/(2)=10505.45","(0+18009.3)/(2)=9004.65","(0+0)/(2)=0","(0+0)/(2)=0",null,null,null,null,null,null,null,null,null,"S12","(19386.2+6462.1)/(2)=12924.1","(0+33387.3)/(2)=16693.65","(0+0)/(2)=0","(0+0)/(2)=0","(0+17232.1)/(2)=8616.05",null,null,null,null,null,null,null,null,"S12","(0+0)/(2)=0","(0+0)/(2)=0","(0+0)/(2)=0","(0+0)/(2)=0","(0+0)/(2)=0","(0+0)/(2)=0","(0+0)/(2)=0","(0+0)/(2)=0","(0+0)/(2)=0","(0+0)/(2)=0"]
["S13","(18009.3+0)/(2)=9004.65","(5002.6+16008.3)/(2)=10505.45","(0+7003.6)/(2)=3501.8","(0+0)/(2)=0","(0+0)/(2)=0",null,null,null,null,null,null,null,null,null,"S13","(19386.2+0)/(2)=9693.1","(0+33387.3)/(2)=16693.65","(0+0)/(2)=0","(0+0)/(2)=0","(0+17232.1)/(2)=8616.05",null,null,null,null,null,null,null,null,"S13","(0+0)/(2)=0","(0+0)/(2)=0","(0+0)/(2)=0","(0+0)/(2)=0","(0+0)/(2)=0","(0+0)/(2)=0","(0+0)/(2)=0","(0+0)/(2)=0","(0+0)/(2)=0","(0+0)/(2)=0"]
["S14","(18009.3+0)/(2)=9004.65","(5002.6+0)/(2)=2501.3","(0+7003.6)/(2)=3501.8","(0+0)/(2)=0","(0+0)/(2)=0",null,null,null,null,null,null,null,null,null,"S14","(19386.2+0)/(2)=9693.1","(0+33387.3)/(2)=16693.65","(0+0)/(2)=0","(0+0)/(2)=0","(0+17232.1)/(2)=8616.05",null,null,null,null,null,null,null,null,"S14","(0+0)/(2)=0","(0+0)/(2)=0","(0+0)/(2)=0","(0+0)/(2)=0","(0+0)/(2)=0","(0+0)/(2)=0","(0+0)/(2)=0","(0+0)/(2)=0","(0+0)/(2)=0","(0+0)/(2)=0"]
["S15","(18009.3+0)/(2)=9004.65","(0+0)/(2)=0","(0+7003.6)/(2)=3501.8","(0+0)/(2)=0","(0+0)/(2)=0",null,null,null,null,null,null,null,null,null,"S15","(19386.2+0)/(2)=9693.1","(0+33387.3)/(2)=16693.65","(0+0)/(2)=0","(0+0)/(2)=0","(0+0)/(2)=0",null,null,null,null,null,null,null,null,"S15","(0+0)/(2)=0","(0+0)/(2)=0","(0+0)/(2)=0","(0+0)/(2)=0","(0+0)/(2)=0","(0+0)/(2)=0","(0+0)/(2)=0","(0+0)/(2)=0","(0+0)/(2)=0","(0+0)/(2)=0"]
["S16","(18009.3+0)/(2)=9004.65","(0+0)/(2)=0","(0+0)/(2)=0","(0+0)/(2)=0","(0+0)/(2)=0",null,null,null,null,null,null,null,null,null,"S16","(19386.2+0)/(2)=9693.1","(0+0)/(2)=0","(0+0)/(2)=0","(0+0)/(2)=0","(0+0)/(2)=0",null,null,null,null,null,null,null,null,"S16","(0+0)/(2)=0","(0+0)/(2)=0","(0+0)/(2)=0","(0+0)/(2)=0","(0+0)/(2)=0","(0+0)/(2)=0","(0+0)/(2)=0","(0+0)/(2)=0","(0+0)/(2)=0","(0+0)/(2)=0"]
[]
["L�pcs�k(2)","X(A1)","X(A2)","X(A3)","X(A4)","X(A5)",null,null,null,null,null,null,null,null,null,"L�pcs�k(2)","X(A1)","X(A2)","X(A3)","X(A4)","X(A5)",null,null,null,null,null,null,null,null,"L�pcs�k(2)","X(A1)","X(A2)","X(A3)","X(A4)","X(A5)","X(A6)","X(A7)","X(A8)","X(A9)","X(A10)"]
["S1",45023.3,31016.1,45023.3,34517.9,18009.3,null,null,null,null,null,null,null,null,null,"S1",64082,23694.2,53311.9,38772.300000000003,21540.2,null,null,null,null,null,null,null,null,"S1",33916.5,23333.5,73666.5,24583.5,26250,41000,0,7500,24250,30416.5]
["S2",45023.3,31016.1,18009.3,34517.9,18009.3,null,null,null,null,null,null,null,null,null,"S2",29079.200000000001,23694.2,0,15078.1,21540.2,null,null,null,null,null,null,null,null,"S2",16250,23333.5,17666.5,24583.5,26250,250,0,7500,13250,12250]
["S3",9004.7000000000007,31016.1,18009.3,16008.3,18009.3,null,null,null,null,null,null,null,null,null,"S3",29079.200000000001,16693.599999999999,0,15078.1,21540.2,null,null,null,null,null,null,null,null,"S3",16250,23333.5,17666.5,6916.5,26250,0,0,7500,13250,12250]
["S4",9004.7000000000007,31016.1,18009.3,12006.2,9504.9,null,null,null,null,null,null,null,null,null,"S4",29079.200000000001,16693.599999999999,0,15078.1,8616.1,null,null,null,null,null,null,null,null,"S4",10000,23333.5,17666.5,1166.5,26250,0,0,7500,13250,7750]
["S5",9004.7000000000007,31016.1,18009.3,12006.2,3001.6,null,null,null,null,null,null,null,null,null,"S5",29079.200000000001,16693.599999999999,0,15078.1,8616.1,null,null,null,null,null,null,null,null,"S5",10000,23333.5,17666.5,0,17250,0,0,0,500,2000]
["S6",9004.7000000000007,31016.1,18009.3,10505.4,3001.6,null,null,null,null,null,null,null,null,null,"S6",15616.6,16693.599999999999,0,10231.6,8616.1,null,null,null,null,null,null,null,null,"S6",9750,23333.5,9666.5,0,14000,0,0,0,500,0]
["S7",9004.7000000000007,25513.200000000001,18009.3,10505.4,3001.6,null,null,null,null,null,null,null,null,null,"S7",15616.6,16693.599999999999,0,10231.6,8616.1,null,null,null,null,null,null,null,null,"S7",8500,23333.5,9666.5,0,14000,0,0,0,500,0]
["S8",9004.7000000000007,25513.200000000001,18009.3,0,3001.6,null,null,null,null,null,null,null,null,null,"S8",15616.6,16693.599999999999,0,10231.6,8616.1,null,null,null,null,null,null,null,null,"S8",8500,21833.5,9666.5,0,14000,0,0,0,0,0]
["S9",9004.7000000000007,10505.4,11506,0,0,null,null,null,null,null,null,null,null,null,"S9",15616.6,16693.599999999999,0,10231.6,8616.1,null,null,null,null,null,null,null,null,"S9",8500,0,9666.5,0,0,0,0,0,0,0]
["S10",9004.7000000000007,10505.4,9004.7000000000007,0,0,null,null,null,null,null,null,null,null,null,"S10",12924.1,16693.599999999999,0,10231.6,8616.1,null,null,null,null,null,null,null,null,"S10",0,0,0,0,0,0,0,0,0,0]
["S11",9004.7000000000007,10505.4,9004.7000000000007,0,0,null,null,null,null,null,null,null,null,null,"S11",12924.1,16693.599999999999,0,10231.6,8616.1,null,null,null,null,null,null,null,null,"S11",0,0,0,0,0,0,0,0,0,0]
["S12",9004.7000000000007,10505.4,9004.7000000000007,0,0,null,null,null,null,null,null,null,null,null,"S12",12924.1,16693.599999999999,0,0,8616.1,null,null,null,null,null,null,null,null,"S12",0,0,0,0,0,0,0,0,0,0]
["S13",9004.7000000000007,10505.4,3501.8,0,0,null,null,null,null,null,null,null,null,null,"S13",9693.1,16693.599999999999,0,0,8616.1,null,null,null,null,null,null,null,null,"S13",0,0,0,0,0,0,0,0,0,0]
["S14",9004.7000000000007,2501.3000000000002,3501.8,0,0,null,null,null,null,null,null,null,null,null,"S14",9693.1,16693.599999999999,0,0,8616.1,null,null,null,null,null,null,null,null,"S14",0,0,0,0,0,0,0,0,0,0]
["S15",9004.7000000000007,0,3501.8,0,0,null,null,null,null,null,null,null,null,null,"S15",9693.1,16693.599999999999,0,0,0,null,null,null,null,null,null,null,null,"S15",0,0,0,0,0,0,0,0,0,0]
["S16",9004.7000000000007,0,0,0,0,null,null,null,null,null,null,null,null,null,"S16",9693.1,0,0,0,0,null,null,null,null,null,null,null,null,"S16",0,0,0,0,0,0,0,0,0,0]
[]
["COCO:STD","X(A1)","X(A2)","X(A3)","X(A4)","X(A5)","Becsl�s","T�ny+0","Delta","Delta/T�ny","abs",null,null,null,null,"COCO:STD","X(A1)","X(A2)","X(A3)","X(A4)","X(A5)","Becsl�s","T�ny+0","Delta","Delta/T�ny","abs",null,null,null,"COCO:STD","X(A1)","X(A2)","X(A3)","X(A4)","X(A5)","X(A6)","X(A7)","X(A8)","X(A9)","X(A10)","Becsl�s","T�ny+0","Delta","Delta/T�ny"]
["O1",9004.7000000000007,10505.4,3501.8,0,0,23011.9,23000,-11.9,-0.05,{"$f":"ABS(I762)","v":11.9},null,null,null,null,"O1",29079.200000000001,16693.599999999999,0,15078.1,8616.1,69467.100000000006,23000,-46467.1,-202.03,{"$f":"ABS(X762)","v":46467.1},null,null,null,"O1",0,0,0,0,0,250,0,7500,13250,2000,23000,23000,0,0]
["O2",9004.7000000000007,31016.1,18009.3,0,0,58030.1,75000,16969.900000000001,22.63,{"$f":"ABS(I763)","v":16969.900000000001},null,null,null,null,"O2",15616.6,16693.599999999999,0,15078.1,21540.2,68928.600000000006,75000,6071.4,8.1,{"$f":"ABS(X763)","v":6071.4},null,null,null,"O2",8500,23333.5,17666.5,0,0,0,0,0,13250,12250,75000,75000,0,0]
["O3",9004.7000000000007,25513.200000000001,18009.3,0,9504.9,62032.1,60000,-2032.1,-3.39,2032.1,null,null,null,null,"O3",29079.200000000001,16693.599999999999,0,10231.6,8616.1,64620.5,60000,-4620.5,-7.7,4620.5,null,null,null,"O3",0,23333.5,9666.5,0,26250,250,0,0,500,0,60000,60000,0,0]
["O4",45023.3,10505.4,3501.8,0,3001.6,62032.1,62000,-32.1,-0.05,32.1,null,null,null,null,"O4",9693.1,16693.599999999999,0,38772.300000000003,8616.1,73775.100000000006,62000,-11775.1,-18.989999999999998,11775.1,null,null,null,"O4",16250,0,0,0,14000,0,0,7500,24250,0,62000,62000,0,0]
["O5",9004.7000000000007,0,9004.7000000000007,0,0,18009.3,18000,-9.3000000000000007,-0.05,9.3000000000000007,null,null,null,null,"O5",12924.1,23694.2,0,10231.6,8616.1,55466,18000,-37466,-208.14,37466,null,null,null,"O5",9750,0,0,0,0,0,0,0,500,7750,18000,18000,0,0]
["O6",9004.7000000000007,10505.4,11506,16008.3,0,47024.4,47000,-24.4,-0.05,24.4,null,null,null,null,"O6",29079.200000000001,16693.599999999999,0,0,21540.2,67313.100000000006,47000,-20313.099999999999,-43.22,20313.099999999999,null,null,null,"O6",0,0,9666.5,6916.5,0,0,0,0,0,30416.5,46999.5,47000,0.5,0]
["O7",9004.7000000000007,2501.3000000000002,18009.3,34517.9,3001.6,67034.7,66000,-1034.7,-1.57,1034.7,null,null,null,null,"O7",12924.1,23694.2,0,0,8616.1,45234.400000000001,66000,20765.599999999999,31.46,20765.599999999999,null,null,null,"O7",9750,0,17666.5,24583.5,14000,0,0,0,0,0,66000,66000,0,0]
["O8",9004.7000000000007,31016.1,18009.3,0,0,58030.1,41000,-17030.099999999999,-41.54,17030.099999999999,null,null,null,null,"O8",15616.6,0,0,10231.6,8616.1,34464.300000000003,41000,6535.7,15.94,6535.7,null,null,null,"O8",0,23333.5,17666.5,0,0,0,0,0,0,0,41000,41000,0,0]
["O9",9004.7000000000007,2501.3000000000002,9004.7000000000007,34517.9,0,55028.5,55000,-28.5,-0.05,28.5,null,null,null,null,"O9",15616.6,23694.2,0,0,21540.2,60851,55000,-5851,-10.64,5851,null,null,null,"O9",0,0,0,24583.5,0,0,0,0,0,30416.5,55000,55000,0,0]
["O10",9004.7000000000007,31016.1,0,16008.3,18009.3,74038.399999999994,74000,-38.4,-0.05,38.4,null,null,null,null,"O10",9693.1,16693.599999999999,53311.9,0,0,79698.7,74000,-5698.7,-7.7,5698.7,null,null,null,"O10",10000,23333.5,0,6916.5,26250,0,0,7500,0,0,74000,74000,0,0]
["O11",9004.7000000000007,25513.200000000001,18009.3,0,18009.3,70536.5,81000,10463.5,12.92,10463.5,null,null,null,null,"O11",12924.1,16693.599999999999,0,15078.1,8616.1,53311.9,81000,27688.1,34.18,27688.1,null,null,null,"O11",10000,21833.5,9666.5,0,26250,0,0,0,13250,0,81000,81000,0,0]
["O12",45023.3,31016.1,9004.7000000000007,0,3001.6,88045.6,75000,-13045.6,-17.39,13045.6,null,null,null,null,"O12",9693.1,16693.599999999999,0,15078.1,8616.1,50080.9,75000,24919.1,33.229999999999997,24919.1,null,null,null,"O12",33916.5,23333.5,0,0,17250,0,0,0,500,0,75000,75000,0,0]
["O13",9004.7000000000007,31016.1,18009.3,10505.4,3001.6,71537.100000000006,88000,16462.900000000001,18.71,16462.900000000001,null,null,null,null,"O13",64082,16693.599999999999,0,10231.6,8616.1,99623.3,88000,-11623.3,-13.21,11623.3,null,null,null,"O13",0,23333.5,9666.5,0,14000,41000,0,0,0,0,88000,88000,0,0]
["O14",9004.7000000000007,10505.4,3501.8,10505.4,18009.3,51526.7,50000,-1526.7,-3.05,1526.7,null,null,null,null,"O14",9693.1,16693.599999999999,0,10231.6,0,36618.300000000003,50000,13381.7,26.76,13381.7,null,null,null,"O14",16250,0,0,0,26250,0,0,7500,0,0,50000,50000,0,0]
["O15",9004.7000000000007,31016.1,45023.3,12006.2,0,97050.3,97000,-50.3,-0.05,50.3,null,null,null,null,"O15",29079.200000000001,16693.599999999999,0,10231.6,8616.1,64620.5,97000,32379.5,33.380000000000003,32379.5,null,null,null,"O15",0,23333.5,73666.5,0,0,0,0,0,0,0,97000.1,97000,-0.1,0]
["O16",9004.7000000000007,25513.200000000001,3501.8,12006.2,3001.6,53027.5,53000,-27.5,-0.05,27.5,null,null,null,null,"O16",15616.6,16693.599999999999,0,0,8616.1,40926.300000000003,53000,12073.7,22.78,12073.7,null,null,null,"O16",8500,21833.5,0,1166.5,14000,0,0,7500,0,0,53000,53000,0,0]
[null,null,null,null,null,null,null,null,{"$f":"STDEV(I762:I777)","v":8683.9771440255608},null,{"$f":"SUM(K762:K777)","v":78787.899999999994},null,null,null,null,null,null,null,null,null,null,null,null,{"$f":"STDEV(X762:X777)","v":22522.556167717728},null,{"$f":"SUM(Z762:Z777)","v":287629.60000000003},null,null,null,null,null,null,null,null,null,null,null,null,null,null,null,null,{"$f":"STDEV(AQ762:AQ777)","v":0.12909944487358055}]
["S1 �sszeg:",173589.9,null,null,null,null,null,null,null,null,null,null,null,null,null,"S1 �sszeg:",201400.6,null,null,null,null,null,null,null,null,null,null,null,null,"S1 �sszeg:",284916.5]
["S16 �sszeg:",9004.7000000000007,null,null,null,null,null,null,null,null,null,null,null,null,null,"S16 �sszeg:",9693.1,null,null,null,null,null,null,null,null,null,null,null,null,"S16 �sszeg:",0]
["Becsl�s �sszeg:",955995.3,null,null,null,null,null,null,null,null,null,null,null,null,null,"Becsl�s �sszeg:",965000,null,null,null,null,null,null,null,null,null,null,null,null,"Becsl�s �sszeg:",964999.6]
["T�ny �sszeg:",965000,null,null,null,null,null,null,null,null,null,null,null,null,null,"T�ny �sszeg:",965000,null,null,null,null,null,null,null,null,null,null,null,null,"T�ny �sszeg:",965000]
["T�ny-becsl�s elt�r�s:",-9004.7000000000007,null,null,null,null,null,null,null,null,null,null,null,null,null,"T�ny-becsl�s elt�r�s:",0,null,null,null,null,null,null,null,null,null,null,null,null,"T�ny-becsl�s elt�r�s:",-0.4]
["T�ny n�gyzet�sszeg:",null,null,null,null,null,null,null,null,null,null,null,null,null,null,"T�ny n�gyzet�sszeg:",null,null,null,null,null,null,null,null,null,null,null,null,null,"T�ny n�gyzet�sszeg:"]
["Becsl�s n�gyzet�sszeg:",null,null,null,null,null,null,null,null,null,null,null,null,null,null,"Becsl�s n�gyzet�sszeg:",null,null,null,null,null,null,null,null,null,null,null,null,null,"Becsl�s n�gyzet�sszeg:"]
["N�gyzet�sszeg hiba:",0,null,null,null,null,null,null,null,null,null,null,null,null,null,"N�gyzet�sszeg hiba:",0,null,null,null,null,null,null,null,null,null,null,null,null,"N�gyzet�sszeg hiba:",0]
[]
["Open url",null,null,null,null,null,null,null,null,null,null,null,null,null,null,"Open url",null,null,null,null,null,null,null,null,null,null,null,null,null,"Open url"]
[]
["Maxim�lis mem�ria haszn�lat: 1.36 Mb",null,null,null,null,null,null,null,null,null,null,null,null,null,null,"Maxim�lis mem�ria haszn�lat: 1.36 Mb",null,null,null,null,null,null,null,null,null,null,null,null,null,"Maxim�lis mem�ria haszn�lat: 1.38 Mb"]
["A futtat�s id�tartama: 0.06 mp (0 p)",null,null,null,null,null,null,null,null,null,null,null,null,null,null,"A futtat�s id�tartama: 0.22 mp (0 p)",null,null,null,null,null,null,null,null,null,null,null,null,null,"A futtat�s id�tartama: 0.07 mp (0 p)"]
[]
[]
[]
[]
[]
[]
[]
[]
[]
[]
[]
[]
[]
["Azonos�t�:",1269268,"Objektumok:",16,"Attrib�tumok:",5,"Lepcs�k:",16,"Eltol�s:",0,"Le�r�s:","COCO STD: 1269268",null,null,null,"Azonos�t�:",8950147,"Objektumok:",16,"Attrib�tumok:",5,"Lepcs�k:",16,"Eltol�s:",0,"Le�r�s:","COCO STD: 8950147",null,null,"Azonos�t�:",8792556,"Objektumok:",16,"Attrib�tumok:",10,"Lepcs�k:",16,"Eltol�s:",0,"Le�r�s:","COCO STD: 8792556"]
[]
["Rangsor","X(A1)","X(A2)","X(A3)","X(A4)","X(A5)","Y(A6)",null,null,null,null,null,null,null,null,"Rangsor","X(A1)","X(A2)","X(A3)","X(A4)","X(A5)","Y(A6)",null,null,null,null,null,null,null,"Rangsor","X(A1)","X(A2)","X(A3)","X(A4)","X(A5)","X(A6)","X(A7)","X(A8)","X(A9)","X(A10)","Y(A11)"]
["O1",12,8,11,10,7,76000,null,null,null,null,null,null,null,null,"O1",4,9,7,6,11,76000,null,null,null,null,null,null,null,"O1",12,8,11,10,7,4,9,7,6,11,76000]
["O2",16,16,15,11,9,34000,null,null,null,null,null,null,null,null,"O2",1,1,2,5,9,34000,null,null,null,null,null,null,null,"O2",16,16,15,11,9,1,1,2,5,9,34000]
["O3",13,5,16,7,14,48000,null,null,null,null,null,null,null,null,"O3",3,12,1,9,3,48000,null,null,null,null,null,null,null,"O3",13,5,16,7,14,3,12,1,9,3,48000]
["O4",2,9,8,14,8,41000,null,null,null,null,null,null,null,null,"O4",15,8,10,3,10,41000,null,null,null,null,null,null,null,"O4",2,9,8,14,8,15,8,10,3,10,41000]
["O5",7,3,2,8,4,46000,null,null,null,null,null,null,null,null,"O5",9,14,15,8,13,46000,null,null,null,null,null,null,null,"O5",7,3,2,8,4,9,14,15,8,13,46000]
["O6",10,4,14,4,15,30000,null,null,null,null,null,null,null,null,"O6",6,13,3,13,2,30000,null,null,null,null,null,null,null,"O6",10,4,14,4,15,6,13,3,13,2,30000]
["O7",11,15,1,9,11,27000,null,null,null,null,null,null,null,null,"O7",5,2,16,7,5,27000,null,null,null,null,null,null,null,"O7",11,15,1,9,11,5,2,16,7,5,27000]
["O8",6,11,9,1,5,88000,null,null,null,null,null,null,null,null,"O8",10,5,9,16,12,88000,null,null,null,null,null,null,null,"O8",6,11,9,1,5,10,5,9,16,12,88000]
["O9",4,13,6,13,10,66000,null,null,null,null,null,null,null,null,"O9",12,4,12,4,8,66000,null,null,null,null,null,null,null,"O9",4,13,6,13,10,12,4,12,4,8,66000]
["O10",8,14,13,6,16,37000,null,null,null,null,null,null,null,null,"O10",8,3,5,10,1,37000,null,null,null,null,null,null,null,"O10",8,14,13,6,16,8,3,5,10,1,37000]
["O11",1,11,4,5,3,64000,null,null,null,null,null,null,null,null,"O11",16,5,14,11,14,64000,null,null,null,null,null,null,null,"O11",1,11,4,5,3,16,5,14,11,14,64000]
["O12",15,10,7,3,1,70000,null,null,null,null,null,null,null,null,"O12",2,7,11,14,15,70000,null,null,null,null,null,null,null,"O12",15,10,7,3,1,2,7,11,14,15,70000]
["O13",9,2,12,15,13,82000,null,null,null,null,null,null,null,null,"O13",7,15,6,1,4,82000,null,null,null,null,null,null,null,"O13",9,2,12,15,13,7,15,6,1,4,82000]
["O14",5,1,5,15,11,99000,null,null,null,null,null,null,null,null,"O14",11,16,13,1,5,99000,null,null,null,null,null,null,null,"O14",5,1,5,15,11,11,16,13,1,5,99000]
["O15",3,6,10,2,1,95000,null,null,null,null,null,null,null,null,"O15",13,11,8,15,15,95000,null,null,null,null,null,null,null,"O15",3,6,10,2,1,13,11,8,15,15,95000]
["O16",3,7,14,5,11,27000,null,null,null,null,null,null,null,null,"O16",13,10,3,11,5,27000,null,null,null,null,null,null,null,"O16",3,7,14,5,11,13,10,3,11,5,27000]
[]
["L�pcs�k(1)","X(A1)","X(A2)","X(A3)","X(A4)","X(A5)",null,null,null,null,null,null,null,null,null,"L�pcs�k(1)","X(A1)","X(A2)","X(A3)","X(A4)","X(A5)",null,null,null,null,null,null,null,null,"L�pcs�k(1)","X(A1)","X(A2)","X(A3)","X(A4)","X(A5)","X(A6)","X(A7)","X(A8)","X(A9)","X(A10)"]
["S1","(0+0)/(2)=0","(76651.3+88099.2)/(2)=82375.25","(9954.7+10452.5)/(2)=10203.6","(46787.2+38325.7)/(2)=42556.4","(41809.8+17420.8)/(2)=29615.3",null,null,null,null,null,null,null,null,null,"S1","(2917.7+5835.4)/(2)=4376.5","(3890.2+23341.5)/(2)=13615.85","(24314+63216.5)/(2)=43765.25","(50573.2+51545.7)/(2)=51059.45","(22368.9+0)/(2)=11184.45",null,null,null,null,null,null,null,null,"S1","(6000+15000)/(2)=10500","(11000+33000)/(2)=22000","(0+2000)/(2)=1000","(30000+46000)/(2)=38000","(68000+47000)/(2)=57500","(0+21000)/(2)=10500","(6000+0)/(2)=3000","(27000+0)/(2)=13500","(61000+39000)/(2)=50000","(31000+37000)/(2)=34000"]
["S2","(0+0)/(2)=0","(59728.3+81628.7)/(2)=70678.5","(9954.7+10452.5)/(2)=10203.6","(40814.3+35339.2)/(2)=38076.8","(38823.4+17420.8)/(2)=28122.05",null,null,null,null,null,null,null,null,null,"S2","(2917.7+5835.4)/(2)=4376.5","(3890.2+23341.5)/(2)=13615.85","(6807.9+63216.5)/(2)=35012.2","(9725.6+0)/(2)=4862.8","(19451.2+0)/(2)=9725.6",null,null,null,null,null,null,null,null,"S2","(6000+0)/(2)=3000","(0+18000)/(2)=9000","(0+2000)/(2)=1000","(21000+46000)/(2)=33500","(52000+47000)/(2)=49500","(0+21000)/(2)=10500","(6000+0)/(2)=3000","(0+0)/(2)=0","(33000+39000)/(2)=36000","(30000+28000)/(2)=29000"]
["S3","(0+0)/(2)=0","(1990.9+31357.4)/(2)=16674.15","(9954.7+10452.5)/(2)=10203.6","(15927.5+20407.2)/(2)=18167.35","(38823.4+17420.8)/(2)=28122.05",null,null,null,null,null,null,null,null,null,"S3","(2917.7+5835.4)/(2)=4376.5","(3890.2+23341.5)/(2)=13615.85","(6807.9+63216.5)/(2)=35012.2","(9725.6+0)/(2)=4862.8","(19451.2+0)/(2)=9725.6",null,null,null,null,null,null,null,null,"S3","(6000+0)/(2)=3000","(0+2000)/(2)=1000","(0+2000)/(2)=1000","(0+0)/(2)=0","(52000+47000)/(2)=49500","(0+21000)/(2)=10500","(6000+0)/(2)=3000","(0+0)/(2)=0","(33000+39000)/(2)=36000","(21000+25000)/(2)=23000"]
["S4","(0+0)/(2)=0","(1990.9+31357.4)/(2)=16674.15","(9954.7+10452.5)/(2)=10203.6","(15927.5+16425.3)/(2)=16176.4","(28868.7+17420.8)/(2)=23144.7",null,null,null,null,null,null,null,null,null,"S4","(2917.7+5835.4)/(2)=4376.5","(3890.2+23341.5)/(2)=13615.85","(6807.9+63216.5)/(2)=35012.2","(9725.6+0)/(2)=4862.8","(19451.2+0)/(2)=9725.6",null,null,null,null,null,null,null,null,"S4","(6000+0)/(2)=3000","(0+2000)/(2)=1000","(0+2000)/(2)=1000","(0+0)/(2)=0","(46000+42000)/(2)=44000","(0+21000)/(2)=10500","(6000+0)/(2)=3000","(0+0)/(2)=0","(33000+39000)/(2)=36000","(21000+25000)/(2)=23000"]
["S5","(0+0)/(2)=0","(1990.9+31357.4)/(2)=16674.15","(9954.7+10452.5)/(2)=10203.6","(12941.1+16425.3)/(2)=14683.2","(28868.7+17420.8)/(2)=23144.7",null,null,null,null,null,null,null,null,null,"S5","(2917.7+5835.4)/(2)=4376.5","(3890.2+23341.5)/(2)=13615.85","(6807.9+63216.5)/(2)=35012.2","(0+0)/(2)=0","(19451.2+0)/(2)=9725.6",null,null,null,null,null,null,null,null,"S5","(6000+0)/(2)=3000","(0+2000)/(2)=1000","(0+2000)/(2)=1000","(0+0)/(2)=0","(46000+42000)/(2)=44000","(0+0)/(2)=0","(6000+0)/(2)=3000","(0+0)/(2)=0","(28000+11000)/(2)=19500","(21000+25000)/(2)=23000"]
["S6","(0+0)/(2)=0","(1990.9+31357.4)/(2)=16674.15","(9954.7+10452.5)/(2)=10203.6","(12941.1+16425.3)/(2)=14683.2","(28868.7+17420.8)/(2)=23144.7",null,null,null,null,null,null,null,null,null,"S6","(2917.7+5835.4)/(2)=4376.5","(3890.2+23341.5)/(2)=13615.85","(6807.9+63216.5)/(2)=35012.2","(0+0)/(2)=0","(19451.2+0)/(2)=9725.6",null,null,null,null,null,null,null,null,"S6","(6000+0)/(2)=3000","(0+2000)/(2)=1000","(0+2000)/(2)=1000","(0+0)/(2)=0","(46000+42000)/(2)=44000","(0+0)/(2)=0","(2000+0)/(2)=1000","(0+0)/(2)=0","(28000+11000)/(2)=19500","(21000+25000)/(2)=23000"]
["S7","(0+0)/(2)=0","(1990.9+31357.4)/(2)=16674.15","(9954.7+10452.5)/(2)=10203.6","(12941.1+16425.3)/(2)=14683.2","(28868.7+17420.8)/(2)=23144.7",null,null,null,null,null,null,null,null,null,"S7","(2917.7+5835.4)/(2)=4376.5","(3890.2+23341.5)/(2)=13615.85","(6807.9+63216.5)/(2)=35012.2","(0+0)/(2)=0","(19451.2+0)/(2)=9725.6",null,null,null,null,null,null,null,null,"S7","(0+0)/(2)=0","(0+2000)/(2)=1000","(0+2000)/(2)=1000","(0+0)/(2)=0","(46000+42000)/(2)=44000","(0+0)/(2)=0","(2000+0)/(2)=1000","(0+0)/(2)=0","(0+0)/(2)=0","(21000+25000)/(2)=23000"]
["S8","(0+0)/(2)=0","(1990.9+31357.4)/(2)=16674.15","(9954.7+10452.5)/(2)=10203.6","(4977.4+16425.3)/(2)=10701.3","(28868.7+17420.8)/(2)=23144.7",null,null,null,null,null,null,null,null,null,"S8","(2917.7+5835.4)/(2)=4376.5","(3890.2+23341.5)/(2)=13615.85","(6807.9+63216.5)/(2)=35012.2","(0+0)/(2)=0","(19451.2+0)/(2)=9725.6",null,null,null,null,null,null,null,null,"S8","(0+0)/(2)=0","(0+2000)/(2)=1000","(0+0)/(2)=0","(0+0)/(2)=0","(0+0)/(2)=0","(0+0)/(2)=0","(2000+0)/(2)=1000","(0+0)/(2)=0","(0+0)/(2)=0","(21000+25000)/(2)=23000"]
["S9","(0+0)/(2)=0","(1990.9+21402.6)/(2)=11696.8","(9954.7+10452.5)/(2)=10203.6","(4977.4+16425.3)/(2)=10701.3","(28868.7+17420.8)/(2)=23144.7",null,null,null,null,null,null,null,null,null,"S9","(2917.7+5835.4)/(2)=4376.5","(3890.2+23341.5)/(2)=13615.85","(6807.9+56408.5)/(2)=31608.25","(0+0)/(2)=0","(19451.2+0)/(2)=9725.6",null,null,null,null,null,null,null,null,"S9","(0+0)/(2)=0","(0+0)/(2)=0","(0+0)/(2)=0","(0+0)/(2)=0","(0+0)/(2)=0","(0+0)/(2)=0","(2000+0)/(2)=1000","(0+0)/(2)=0","(0+0)/(2)=0","(0+2000)/(2)=1000"]
["S10","(0+0)/(2)=0","(1990.9+21402.6)/(2)=11696.8","(9954.7+10452.5)/(2)=10203.6","(4977.4+16425.3)/(2)=10701.3","(28868.7+17420.8)/(2)=23144.7",null,null,null,null,null,null,null,null,null,"S10","(2917.7+5835.4)/(2)=4376.5","(0+23341.5)/(2)=11670.75","(6807.9+38902.4)/(2)=22855.2","(0+0)/(2)=0","(19451.2+0)/(2)=9725.6",null,null,null,null,null,null,null,null,"S10","(0+0)/(2)=0","(0+0)/(2)=0","(0+0)/(2)=0","(0+0)/(2)=0","(0+0)/(2)=0","(0+0)/(2)=0","(0+0)/(2)=0","(0+0)/(2)=0","(0+0)/(2)=0","(0+2000)/(2)=1000"]
["S11","(0+0)/(2)=0","(1990.9+21402.6)/(2)=11696.8","(9954.7+10452.5)/(2)=10203.6","(4977.4+16425.3)/(2)=10701.3","(11945.7+0)/(2)=5972.85",null,null,null,null,null,null,null,null,null,"S11","(2917.7+5835.4)/(2)=4376.5","(0+23341.5)/(2)=11670.75","(6807.9+38902.4)/(2)=22855.2","(0+0)/(2)=0","(19451.2+0)/(2)=9725.6",null,null,null,null,null,null,null,null,"S11","(0+0)/(2)=0","(0+0)/(2)=0","(0+0)/(2)=0","(0+0)/(2)=0","(0+0)/(2)=0","(0+0)/(2)=0","(0+0)/(2)=0","(0+0)/(2)=0","(0+0)/(2)=0","(0+0)/(2)=0"]
["S12","(0+0)/(2)=0","(1990.9+21402.6)/(2)=11696.8","(9954.7+0)/(2)=4977.35","(4977.4+16425.3)/(2)=10701.3","(11945.7+0)/(2)=5972.85",null,null,null,null,null,null,null,null,null,"S12","(2917.7+5835.4)/(2)=4376.5","(0+0)/(2)=0","(6807.9+38902.4)/(2)=22855.2","(0+0)/(2)=0","(19451.2+0)/(2)=9725.6",null,null,null,null,null,null,null,null,"S12","(0+0)/(2)=0","(0+0)/(2)=0","(0+0)/(2)=0","(0+0)/(2)=0","(0+0)/(2)=0","(0+0)/(2)=0","(0+0)/(2)=0","(0+0)/(2)=0","(0+0)/(2)=0","(0+0)/(2)=0"]
["S13","(0+0)/(2)=0","(1990.9+21402.6)/(2)=11696.8","(9954.7+0)/(2)=4977.35","(4977.4+16425.3)/(2)=10701.3","(11945.7+0)/(2)=5972.85",null,null,null,null,null,null,null,null,null,"S13","(0+5835.4)/(2)=2917.7","(0+0)/(2)=0","(6807.9+38902.4)/(2)=22855.2","(0+0)/(2)=0","(19451.2+0)/(2)=9725.6",null,null,null,null,null,null,null,null,"S13","(0+0)/(2)=0","(0+0)/(2)=0","(0+0)/(2)=0","(0+0)/(2)=0","(0+0)/(2)=0","(0+0)/(2)=0","(0+0)/(2)=0","(0+0)/(2)=0","(0+0)/(2)=0","(0+0)/(2)=0"]
["S14","(0+0)/(2)=0","(1990.9+20407.2)/(2)=11199.05","(0+0)/(2)=0","(0+0)/(2)=0","(11945.7+0)/(2)=5972.85",null,null,null,null,null,null,null,null,null,"S14","(0+0)/(2)=0","(0+0)/(2)=0","(6807.9+38902.4)/(2)=22855.2","(0+0)/(2)=0","(19451.2+0)/(2)=9725.6",null,null,null,null,null,null,null,null,"S14","(0+0)/(2)=0","(0+0)/(2)=0","(0+0)/(2)=0","(0+0)/(2)=0","(0+0)/(2)=0","(0+0)/(2)=0","(0+0)/(2)=0","(0+0)/(2)=0","(0+0)/(2)=0","(0+0)/(2)=0"]
["S15","(0+0)/(2)=0","(0+0)/(2)=0","(0+0)/(2)=0","(0+0)/(2)=0","(11945.7+0)/(2)=5972.85",null,null,null,null,null,null,null,null,null,"S15","(0+0)/(2)=0","(0+0)/(2)=0","(6807.9+38902.4)/(2)=22855.2","(0+0)/(2)=0","(19451.2+0)/(2)=9725.6",null,null,null,null,null,null,null,null,"S15","(0+0)/(2)=0","(0+0)/(2)=0","(0+0)/(2)=0","(0+0)/(2)=0","(0+0)/(2)=0","(0+0)/(2)=0","(0+0)/(2)=0","(0+0)/(2)=0","(0+0)/(2)=0","(0+0)/(2)=0"]
["S16","(0+0)/(2)=0","(0+0)/(2)=0","(0+0)/(2)=0","(0+0)/(2)=0","(11945.7+0)/(2)=5972.85",null,null,null,null,null,null,null,null,null,"S16","(0+0)/(2)=0","(0+0)/(2)=0","(0+0)/(2)=0","(0+0)/(2)=0","(0+0)/(2)=0",null,null,null,null,null,null,null,null,"S16","(0+0)/(2)=0","(0+0)/(2)=0","(0+0)/(2)=0","(0+0)/(2)=0","(0+0)/(2)=0","(0+0)/(2)=0","(0+0)/(2)=0","(0+0)/(2)=0","(0+0)/(2)=0","(0+0)/(2)=0"]
[]
["L�pcs�k(2)","X(A1)","X(A2)","X(A3)","X(A4)","X(A5)",null,null,null,null,null,null,null,null,null,"L�pcs�k(2)","X(A1)","X(A2)","X(A3)","X(A4)","X(A5)",null,null,null,null,null,null,null,null,"L�pcs�k(2)","X(A1)","X(A2)","X(A3)","X(A4)","X(A5)","X(A6)","X(A7)","X(A8)","X(A9)","X(A10)"]
["S1",0,82375.3,10203.6,42556.4,29615.3,null,null,null,null,null,null,null,null,null,"S1",4376.5,13615.9,43765.2,51059.5,11184.5,null,null,null,null,null,null,null,null,"S1",10500,22000,1000,38000,57500,10500,3000,13500,50000,34000]
["S2",0,70678.5,10203.6,38076.800000000003,28122.1,null,null,null,null,null,null,null,null,null,"S2",4376.5,13615.9,35012.199999999997,4862.8,9725.6,null,null,null,null,null,null,null,null,"S2",3000,9000,1000,33500,49500,10500,3000,0,36000,29000]
["S3",0,16674.099999999999,10203.6,18167.400000000001,28122.1,null,null,null,null,null,null,null,null,null,"S3",4376.5,13615.9,35012.199999999997,4862.8,9725.6,null,null,null,null,null,null,null,null,"S3",3000,1000,1000,0,49500,10500,3000,0,36000,23000]
["S4",0,16674.099999999999,10203.6,16176.4,23144.7,null,null,null,null,null,null,null,null,null,"S4",4376.5,13615.9,35012.199999999997,4862.8,9725.6,null,null,null,null,null,null,null,null,"S4",3000,1000,1000,0,44000,10500,3000,0,36000,23000]
["S5",0,16674.099999999999,10203.6,14683.2,23144.7,null,null,null,null,null,null,null,null,null,"S5",4376.5,13615.9,35012.199999999997,0,9725.6,null,null,null,null,null,null,null,null,"S5",3000,1000,1000,0,44000,0,3000,0,19500,23000]
["S6",0,16674.099999999999,10203.6,14683.2,23144.7,null,null,null,null,null,null,null,null,null,"S6",4376.5,13615.9,35012.199999999997,0,9725.6,null,null,null,null,null,null,null,null,"S6",3000,1000,1000,0,44000,0,1000,0,19500,23000]
["S7",0,16674.099999999999,10203.6,14683.2,23144.7,null,null,null,null,null,null,null,null,null,"S7",4376.5,13615.9,35012.199999999997,0,9725.6,null,null,null,null,null,null,null,null,"S7",0,1000,1000,0,44000,0,1000,0,0,23000]
["S8",0,16674.099999999999,10203.6,10701.3,23144.7,null,null,null,null,null,null,null,null,null,"S8",4376.5,13615.9,35012.199999999997,0,9725.6,null,null,null,null,null,null,null,null,"S8",0,1000,0,0,0,0,1000,0,0,23000]
["S9",0,11696.8,10203.6,10701.3,23144.7,null,null,null,null,null,null,null,null,null,"S9",4376.5,13615.9,31608.2,0,9725.6,null,null,null,null,null,null,null,null,"S9",0,0,0,0,0,0,1000,0,0,1000]
["S10",0,11696.8,10203.6,10701.3,23144.7,null,null,null,null,null,null,null,null,null,"S10",4376.5,11670.7,22855.200000000001,0,9725.6,null,null,null,null,null,null,null,null,"S10",0,0,0,0,0,0,0,0,0,1000]
["S11",0,11696.8,10203.6,10701.3,5972.8,null,null,null,null,null,null,null,null,null,"S11",4376.5,11670.7,22855.200000000001,0,9725.6,null,null,null,null,null,null,null,null,"S11",0,0,0,0,0,0,0,0,0,0]
["S12",0,11696.8,4977.3999999999996,10701.3,5972.8,null,null,null,null,null,null,null,null,null,"S12",4376.5,0,22855.200000000001,0,9725.6,null,null,null,null,null,null,null,null,"S12",0,0,0,0,0,0,0,0,0,0]
["S13",0,11696.8,4977.3999999999996,10701.3,5972.8,null,null,null,null,null,null,null,null,null,"S13",2917.7,0,22855.200000000001,0,9725.6,null,null,null,null,null,null,null,null,"S13",0,0,0,0,0,0,0,0,0,0]
["S14",0,11199.1,0,0,5972.8,null,null,null,null,null,null,null,null,null,"S14",0,0,22855.200000000001,0,9725.6,null,null,null,null,null,null,null,null,"S14",0,0,0,0,0,0,0,0,0,0]
["S15",0,0,0,0,5972.8,null,null,null,null,null,null,null,null,null,"S15",0,0,22855.200000000001,0,9725.6,null,null,null,null,null,null,null,null,"S15",0,0,0,0,0,0,0,0,0,0]
["S16",0,0,0,0,5972.8,null,null,null,null,null,null,null,null,null,"S16",0,0,0,0,0,null,null,null,null,null,null,null,null,"S16",0,0,0,0,0,0,0,0,0,0]
[]
["COCO:STD","X(A1)","X(A2)","X(A3)","X(A4)","X(A5)","Becsl�s","T�ny+0","Delta","Delta/T�ny","abs",null,null,null,null,"COCO:STD","X(A1)","X(A2)","X(A3)","X(A4)","X(A5)","Becsl�s","T�ny+0","Delta","Delta/T�ny","abs",null,null,null,"COCO:STD","X(A1)","X(A2)","X(A3)","X(A4)","X(A5)","X(A6)","X(A7)","X(A8)","X(A9)","X(A10)","Becsl�s","T�ny+0","Delta","Delta/T�ny"]
["O1",0,16674.099999999999,10203.6,10701.3,23144.7,60723.8,76000,15276.2,20.100000000000001,{"$f":"ABS(I862)","v":15276.2},null,null,null,null,"O1",4376.5,13615.9,35012.199999999997,0,9725.6,62730.2,76000,13269.8,17.46,{"$f":"ABS(X862)","v":13269.8},null,null,null,"O1",0,1000,0,0,44000,10500,1000,0,19500,0,76000,76000,0,0]
["O2",0,0,0,10701.3,23144.7,33846,34000,154,0.45,{"$f":"ABS(I863)","v":154},null,null,null,null,"O2",4376.5,13615.9,35012.199999999997,0,9725.6,62730.2,34000,-28730.2,-84.5,{"$f":"ABS(X863)","v":28730.2},null,null,null,"O2",0,0,0,0,0,10500,3000,0,19500,1000,34000,34000,0,0]
["O3",0,16674.099999999999,0,14683.2,5972.8,37330.199999999997,48000,10669.8,22.23,10669.8,null,null,null,null,"O3",4376.5,0,43765.2,0,9725.6,57867.4,48000,-9867.4,-20.56,9867.4,null,null,null,"O3",0,1000,0,0,0,10500,0,13500,0,23000,48000,48000,0,0]
["O4",0,11696.8,10203.6,0,23144.7,45045.1,41000,-4045.1,-9.8699999999999992,4045.1,null,null,null,null,"O4",0,13615.9,22855.200000000001,4862.8,9725.6,51059.5,41000,-10059.5,-24.54,10059.5,null,null,null,"O4",3000,0,0,0,0,0,1000,0,36000,1000,41000,41000,0,0]
["O5",0,16674.099999999999,10203.6,10701.3,23144.7,60723.8,46000,-14723.8,-32.01,14723.8,null,null,null,null,"O5",4376.5,0,22855.200000000001,0,9725.6,36957.300000000003,46000,9042.7000000000007,19.66,9042.7000000000007,null,null,null,"O5",0,1000,1000,0,44000,0,0,0,0,0,46000,46000,0,0]
["O6",0,16674.099999999999,0,16176.4,5972.8,38823.4,30000,-8823.4,-29.41,8823.4,null,null,null,null,"O6",4376.5,0,35012.199999999997,0,9725.6,49114.3,30000,-19114.3,-63.71,19114.3,null,null,null,"O6",0,1000,0,0,0,0,0,0,0,29000,30000,30000,0,0]
["O7",0,0,10203.6,10701.3,5972.8,26877.7,27000,122.3,0.45,122.3,null,null,null,null,"O7",4376.5,13615.9,0,0,9725.6,27718,27000,-718,-2.66,718,null,null,null,"O7",0,0,1000,0,0,0,3000,0,0,23000,27000,27000,0,0]
["O8",0,11696.8,10203.6,42556.4,23144.7,87601.5,88000,398.5,0.45,398.5,null,null,null,null,"O8",4376.5,13615.9,31608.2,0,9725.6,59326.2,88000,28673.8,32.58,28673.8,null,null,null,"O8",3000,0,0,38000,44000,0,3000,0,0,0,88000,88000,0,0]
["O9",0,11696.8,10203.6,10701.3,23144.7,55746.400000000001,66000,10253.6,15.54,10253.6,null,null,null,null,"O9",4376.5,13615.9,22855.200000000001,4862.8,9725.6,55436,66000,10564,16.010000000000002,10564,null,null,null,"O9",3000,0,1000,0,0,0,3000,0,36000,23000,66000,66000,0,0]
["O10",0,11199.1,4977.3999999999996,14683.2,5972.8,36832.400000000001,37000,167.6,0.45,167.6,null,null,null,null,"O10",4376.5,13615.9,35012.199999999997,0,11184.5,64189,37000,-27189,-73.48,27189,null,null,null,"O10",0,0,0,0,0,0,3000,0,0,34000,37000,37000,0,0]
["O11",0,11696.8,10203.6,14683.2,28122.1,64705.599999999999,64000,-705.6,-1.1000000000000001,705.6,null,null,null,null,"O11",0,13615.9,22855.200000000001,0,9725.6,46196.6,64000,17803.400000000001,27.82,17803.400000000001,null,null,null,"O11",10500,0,1000,0,49500,0,3000,0,0,0,64000,64000,0,0]
["O12",0,11696.8,10203.6,18167.400000000001,29615.3,69683,70000,317,0.45,317,null,null,null,null,"O12",4376.5,13615.9,22855.200000000001,0,9725.6,50573.2,70000,19426.8,27.75,19426.8,null,null,null,"O12",0,0,1000,0,57500,10500,1000,0,0,0,70000,70000,0,0]
["O13",0,70678.5,4977.3999999999996,0,5972.8,81628.7,82000,371.3,0.45,371.3,null,null,null,null,"O13",4376.5,0,35012.199999999997,51059.5,9725.6,100173.8,82000,-18173.8,-22.16,18173.8,null,null,null,"O13",0,9000,0,0,0,0,0,0,50000,23000,82000,82000,0,0]
["O14",0,82375.3,10203.6,0,5972.8,98551.7,99000,448.3,0.45,448.3,null,null,null,null,"O14",4376.5,0,22855.200000000001,51059.5,9725.6,88016.8,99000,10983.2,11.09,10983.2,null,null,null,"O14",3000,22000,1000,0,0,0,0,0,50000,23000,99000,99000,0,0]
["O15",0,16674.099999999999,10203.6,38076.800000000003,29615.3,94569.8,95000,430.2,0.45,430.2,null,null,null,null,"O15",2917.7,11670.7,35012.199999999997,0,9725.6,59326.2,95000,35673.800000000003,37.549999999999997,35673.800000000003,null,null,null,"O15",3000,1000,0,33500,57500,0,0,0,0,0,95000,95000,0,0]
["O16",0,16674.099999999999,0,14683.2,5972.8,37330.199999999997,27000,-10330.200000000001,-38.26,10330.200000000001,null,null,null,null,"O16",2917.7,11670.7,35012.199999999997,0,9725.6,59326.2,27000,-32326.2,-119.73,32326.2,null,null,null,"O16",3000,1000,0,0,0,0,0,0,0,23000,27000,27000,0,0]
[null,null,null,null,null,null,null,null,{"$f":"STDEV(I862:I877)","v":7621.940183834975},null,{"$f":"SUM(K862:K877)","v":77236.899999999994},null,null,null,null,null,null,null,null,null,null,null,null,{"$f":"STDEV(X862:X877)","v":21265.916933549444},null,{"$f":"SUM(Z862:Z877)","v":291615.90000000002},null,null,null,null,null,null,null,null,null,null,null,null,null,null,null,null,{"$f":"STDEV(AQ862:AQ877)","v":0}]
["S1 �sszeg:",164750.6,null,null,null,null,null,null,null,null,null,null,null,null,null,"S1 �sszeg:",124001.60000000001,null,null,null,null,null,null,null,null,null,null,null,null,"S1 �sszeg:",240000]
["S16 �sszeg:",5972.8,null,null,null,null,null,null,null,null,null,null,null,null,null,"S16 �sszeg:",0,null,null,null,null,null,null,null,null,null,null,null,null,"S16 �sszeg:",0]
["Becsl�s �sszeg:",930019.3,null,null,null,null,null,null,null,null,null,null,null,null,null,"Becsl�s �sszeg:",930740.9,null,null,null,null,null,null,null,null,null,null,null,null,"Becsl�s �sszeg:",930000]
["T�ny �sszeg:",930000,null,null,null,null,null,null,null,null,null,null,null,null,null,"T�ny �sszeg:",930000,null,null,null,null,null,null,null,null,null,null,null,null,"T�ny �sszeg:",930000]
["T�ny-becsl�s elt�r�s:",19.3,null,null,null,null,null,null,null,null,null,null,null,null,null,"T�ny-becsl�s elt�r�s:",740.9,null,null,null,null,null,null,null,null,null,null,null,null,"T�ny-becsl�s elt�r�s:",0]
["T�ny n�gyzet�sszeg:",null,null,null,null,null,null,null,null,null,null,null,null,null,null,"T�ny n�gyzet�sszeg:",null,null,null,null,null,null,null,null,null,null,null,null,null,"T�ny n�gyzet�sszeg:"]
["Becsl�s n�gyzet�sszeg:",null,null,null,null,null,null,null,null,null,null,null,null,null,null,"Becsl�s n�gyzet�sszeg:",null,null,null,null,null,null,null,null,null,null,null,null,null,"Becsl�s n�gyzet�sszeg:"]
["N�gyzet�sszeg hiba:",0,null,null,null,null,null,null,null,null,null,null,null,null,null,"N�gyzet�sszeg hiba:",0,null,null,null,null,null,null,null,null,null,null,null,null,"N�gyzet�sszeg hiba:",0]
[]
["Open url",null,null,null,null,null,null,null,null,null,null,null,null,null,null,"Open url",null,null,null,null,null,null,null,null,null,null,null,null,null,"Open url"]
[]
["Maxim�lis mem�ria haszn�lat: 1.36 Mb",null,null,null,null,null,null,null,null,null,null,null,null,null,null,"Maxim�lis mem�ria haszn�lat: 1.36 Mb",null,null,null,null,null,null,null,null,null,null,null,null,null,"Maxim�lis mem�ria haszn�lat: 1.38 Mb"]
["A futtat�s id�tartama: 0.13 mp (0 p)",null,null,null,null,null,null,null,null,null,null,null,null,null,null,"A futtat�s id�tartama: 0.07 mp (0 p)",null,null,null,null,null,null,null,null,null,null,null,null,null,"A futtat�s id�tartama: 0.06 mp (0 p)"]
[]
[]
[]
[]
[]
[]
[]
[]
[]
[]
[]
[]
[]
["Azonos�t�:",3478362,"Objektumok:",16,"Attrib�tumok:",5,"Lepcs�k:",16,"Eltol�s:",0,"Le�r�s:","COCO STD: 3478362",null,null,null,"Azonos�t�:",4553040,"Objektumok:",16,"Attrib�tumok:",5,"Lepcs�k:",16,"Eltol�s:",0,"Le�r�s:","COCO STD: 4553040",null,null,"Azonos�t�:",2771873,"Objektumok:",16,"Attrib�tumok:",10,"Lepcs�k:",16,"Eltol�s:",0,"Le�r�s:","COCO STD: 2771873"]
[]
["Rangsor","X(A1)","X(A2)","X(A3)","X(A4)","X(A5)","Y(A6)",null,null,null,null,null,null,null,null,"Rangsor","X(A1)","X(A2)","X(A3)","X(A4)","X(A5)","Y(A6)",null,null,null,null,null,null,null,"Rangsor","X(A1)","X(A2)","X(A3)","X(A4)","X(A5)","X(A6)","X(A7)","X(A8)","X(A9)","X(A10)","Y(A11)"]
["O1",12,6,4,2,10,86000,null,null,null,null,null,null,null,null,"O1",5,10,13,13,6,86000,null,null,null,null,null,null,null,"O1",12,6,4,2,10,5,10,13,13,6,86000]
["O2",15,2,5,2,15,82000,null,null,null,null,null,null,null,null,"O2",2,15,12,13,2,82000,null,null,null,null,null,null,null,"O2",15,2,5,2,15,2,15,12,13,2,82000]
["O3",11,11,8,7,12,83000,null,null,null,null,null,null,null,null,"O3",6,5,8,10,5,83000,null,null,null,null,null,null,null,"O3",11,11,8,7,12,6,5,8,10,5,83000]
["O4",1,8,12,10,1,96000,null,null,null,null,null,null,null,null,"O4",16,8,5,7,16,96000,null,null,null,null,null,null,null,"O4",1,8,12,10,1,16,8,5,7,16,96000]
["O5",6,15,7,5,3,87000,null,null,null,null,null,null,null,null,"O5",10,2,9,12,13,87000,null,null,null,null,null,null,null,"O5",6,15,7,5,3,10,2,9,12,13,87000]
["O6",5,10,9,14,14,29000,null,null,null,null,null,null,null,null,"O6",12,6,7,2,3,29000,null,null,null,null,null,null,null,"O6",5,10,9,14,14,12,6,7,2,3,29000]
["O7",9,1,3,11,3,55000,null,null,null,null,null,null,null,null,"O7",8,16,14,5,13,55000,null,null,null,null,null,null,null,"O7",9,1,3,11,3,8,16,14,5,13,55000]
["O8",2,4,6,14,5,81000,null,null,null,null,null,null,null,null,"O8",15,13,11,2,11,81000,null,null,null,null,null,null,null,"O8",2,4,6,14,5,15,13,11,2,11,81000]
["O9",3,16,14,2,9,24000,null,null,null,null,null,null,null,null,"O9",14,1,3,13,8,24000,null,null,null,null,null,null,null,"O9",3,16,14,2,9,14,1,3,13,8,24000]
["O10",4,9,15,11,5,48000,null,null,null,null,null,null,null,null,"O10",13,7,2,5,11,48000,null,null,null,null,null,null,null,"O10",4,9,15,11,5,13,7,2,5,11,48000]
["O11",8,13,16,1,16,50000,null,null,null,null,null,null,null,null,"O11",9,4,1,16,1,50000,null,null,null,null,null,null,null,"O11",8,13,16,1,16,9,4,1,16,1,50000]
["O12",10,7,1,13,8,24000,null,null,null,null,null,null,null,null,"O12",7,9,16,4,9,24000,null,null,null,null,null,null,null,"O12",10,7,1,13,8,7,9,16,4,9,24000]
["O13",16,14,2,8,13,31000,null,null,null,null,null,null,null,null,"O13",1,3,15,9,4,31000,null,null,null,null,null,null,null,"O13",16,14,2,8,13,1,3,15,9,4,31000]
["O14",14,3,13,6,7,17000,null,null,null,null,null,null,null,null,"O14",3,14,4,11,10,17000,null,null,null,null,null,null,null,"O14",14,3,13,6,7,3,14,4,11,10,17000]
["O15",6,5,11,9,2,84000,null,null,null,null,null,null,null,null,"O15",10,11,6,8,15,84000,null,null,null,null,null,null,null,"O15",6,5,11,9,2,10,11,6,8,15,84000]
["O16",13,5,7,16,10,66000,null,null,null,null,null,null,null,null,"O16",4,11,9,1,6,66000,null,null,null,null,null,null,null,"O16",13,5,7,16,10,4,11,9,1,6,66000]
[]
["L�pcs�k(1)","X(A1)","X(A2)","X(A3)","X(A4)","X(A5)",null,null,null,null,null,null,null,null,null,"L�pcs�k(1)","X(A1)","X(A2)","X(A3)","X(A4)","X(A5)",null,null,null,null,null,null,null,null,"L�pcs�k(1)","X(A1)","X(A2)","X(A3)","X(A4)","X(A5)","X(A6)","X(A7)","X(A8)","X(A9)","X(A10)"]
["S1","(60302.1+16635.1)/(2)=38468.6","(10396.9+22353.4)/(2)=16375.15","(24952.6+42107.5)/(2)=33530.05","(51984.6+25472.4)/(2)=38728.5","(39508.3+60821.9)/(2)=50165.1",null,null,null,null,null,null,null,null,null,"S1","(33031.6+11188.1)/(2)=22109.9","(13852+16515.8)/(2)=15183.9","(31966.1+76718.6)/(2)=54342.35","(52211.3+10122.6)/(2)=31166.95","(14917.5+0)/(2)=7458.75",null,null,null,null,null,null,null,null,"S1","(12135.1+13146.4)/(2)=12640.75","(0+1011.3)/(2)=505.65","(24270.2+20225.2)/(2)=22247.7","(7078.8+20225.2)/(2)=13652","(67754.4+79889.5)/(2)=73822","(0+16180.2)/(2)=8090.1","(0+4045)/(2)=2022.5","(17191.4+1011.3)/(2)=9101.35","(18202.7+0)/(2)=9101.35","(26292.8+25281.5)/(2)=25787.15"]
["S2","(27032+4158.8)/(2)=15595.35","(10396.9+22353.4)/(2)=16375.15","(24952.6+42107.5)/(2)=33530.05","(19754.1+20793.8)/(2)=20274","(39508.3+60821.9)/(2)=50165.1",null,null,null,null,null,null,null,null,null,"S2","(33031.6+11188.1)/(2)=22109.9","(13852+16515.8)/(2)=15183.9","(31966.1+76718.6)/(2)=54342.35","(19179.7+10122.6)/(2)=14651.15","(14917.5+0)/(2)=7458.75",null,null,null,null,null,null,null,null,"S2","(4045+13146.4)/(2)=8595.7","(0+1011.3)/(2)=505.65","(24270.2+20225.2)/(2)=22247.7","(7078.8+20225.2)/(2)=13652","(67754.4+79889.5)/(2)=73822","(0+16180.2)/(2)=8090.1","(0+4045)/(2)=2022.5","(17191.4+1011.3)/(2)=9101.35","(5056.3+0)/(2)=2528.15","(26292.8+25281.5)/(2)=25787.15"]
["S3","(5198.5+4158.8)/(2)=4678.6","(10396.9+22353.4)/(2)=16375.15","(24952.6+42107.5)/(2)=33530.05","(19754.1+20793.8)/(2)=20274","(21833.5+23393.1)/(2)=22613.3",null,null,null,null,null,null,null,null,null,"S3","(6393.2+0)/(2)=3196.6","(0+15450.3)/(2)=7725.15","(11720.9+76718.6)/(2)=44219.75","(19179.7+10122.6)/(2)=14651.15","(0+0)/(2)=0",null,null,null,null,null,null,null,null,"S3","(0+0)/(2)=0","(0+1011.3)/(2)=505.65","(24270.2+20225.2)/(2)=22247.7","(7078.8+20225.2)/(2)=13652","(31349.1+43484.2)/(2)=37416.6","(0+16180.2)/(2)=8090.1","(0+4045)/(2)=2022.5","(17191.4+0)/(2)=8595.7","(0+0)/(2)=0","(7078.8+25281.5)/(2)=16180.15"]
["S4","(5198.5+4158.8)/(2)=4678.6","(10396.9+22353.4)/(2)=16375.15","(24952.6+42107.5)/(2)=33530.05","(19754.1+20793.8)/(2)=20274","(21833.5+23393.1)/(2)=22613.3",null,null,null,null,null,null,null,null,null,"S4","(6393.2+0)/(2)=3196.6","(0+15450.3)/(2)=7725.15","(11720.9+76718.6)/(2)=44219.75","(19179.7+10122.6)/(2)=14651.15","(0+0)/(2)=0",null,null,null,null,null,null,null,null,"S4","(0+0)/(2)=0","(0+1011.3)/(2)=505.65","(24270.2+20225.2)/(2)=22247.7","(7078.8+20225.2)/(2)=13652","(31349.1+43484.2)/(2)=37416.6","(0+16180.2)/(2)=8090.1","(0+4045)/(2)=2022.5","(17191.4+0)/(2)=8595.7","(0+0)/(2)=0","(7078.8+25281.5)/(2)=16180.15"]
["S5","(5198.5+4158.8)/(2)=4678.6","(10396.9+22353.4)/(2)=16375.15","(24952.6+42107.5)/(2)=33530.05","(19754.1+20793.8)/(2)=20274","(21833.5+23393.1)/(2)=22613.3",null,null,null,null,null,null,null,null,null,"S5","(6393.2+0)/(2)=3196.6","(0+15450.3)/(2)=7725.15","(11720.9+76718.6)/(2)=44219.75","(19179.7+10122.6)/(2)=14651.15","(0+0)/(2)=0",null,null,null,null,null,null,null,null,"S5","(0+0)/(2)=0","(0+1011.3)/(2)=505.65","(24270.2+20225.2)/(2)=22247.7","(7078.8+20225.2)/(2)=13652","(31349.1+43484.2)/(2)=37416.6","(0+16180.2)/(2)=8090.1","(0+4045)/(2)=2022.5","(17191.4+0)/(2)=8595.7","(0+0)/(2)=0","(7078.8+25281.5)/(2)=16180.15"]
["S6","(5198.5+4158.8)/(2)=4678.6","(10396.9+22353.4)/(2)=16375.15","(24952.6+42107.5)/(2)=33530.05","(7277.8+17674.8)/(2)=12476.3","(0+0)/(2)=0",null,null,null,null,null,null,null,null,null,"S6","(6393.2+0)/(2)=3196.6","(0+15450.3)/(2)=7725.15","(11720.9+76718.6)/(2)=44219.75","(19179.7+10122.6)/(2)=14651.15","(0+0)/(2)=0",null,null,null,null,null,null,null,null,"S6","(0+0)/(2)=0","(0+1011.3)/(2)=505.65","(24270.2+20225.2)/(2)=22247.7","(0+18202.7)/(2)=9101.35","(0+0)/(2)=0","(0+16180.2)/(2)=8090.1","(0+4045)/(2)=2022.5","(17191.4+0)/(2)=8595.7","(0+0)/(2)=0","(7078.8+25281.5)/(2)=16180.15"]
["S7","(0+4158.8)/(2)=2079.4","(0+22353.4)/(2)=11176.7","(24952.6+42107.5)/(2)=33530.05","(7277.8+17674.8)/(2)=12476.3","(0+0)/(2)=0",null,null,null,null,null,null,null,null,null,"S7","(6393.2+0)/(2)=3196.6","(0+15450.3)/(2)=7725.15","(11720.9+76185.9)/(2)=43953.4","(19179.7+10122.6)/(2)=14651.15","(0+0)/(2)=0",null,null,null,null,null,null,null,null,"S7","(0+0)/(2)=0","(0+0)/(2)=0","(24270.2+20225.2)/(2)=22247.7","(0+18202.7)/(2)=9101.35","(0+0)/(2)=0","(0+0)/(2)=0","(0+4045)/(2)=2022.5","(17191.4+0)/(2)=8595.7","(0+0)/(2)=0","(0+0)/(2)=0"]
["S8","(0+4158.8)/(2)=2079.4","(0+22353.4)/(2)=11176.7","(24952.6+42107.5)/(2)=33530.05","(7277.8+0)/(2)=3638.9","(0+0)/(2)=0",null,null,null,null,null,null,null,null,null,"S8","(6393.2+0)/(2)=3196.6","(0+15450.3)/(2)=7725.15","(11720.9+76185.9)/(2)=43953.4","(19179.7+10122.6)/(2)=14651.15","(0+0)/(2)=0",null,null,null,null,null,null,null,null,"S8","(0+0)/(2)=0","(0+0)/(2)=0","(24270.2+20225.2)/(2)=22247.7","(0+0)/(2)=0","(0+0)/(2)=0","(0+0)/(2)=0","(0+4045)/(2)=2022.5","(17191.4+0)/(2)=8595.7","(0+0)/(2)=0","(0+0)/(2)=0"]
["S9","(0+4158.8)/(2)=2079.4","(0+22353.4)/(2)=11176.7","(24952.6+3638.9)/(2)=14295.75","(7277.8+0)/(2)=3638.9","(0+0)/(2)=0",null,null,null,null,null,null,null,null,null,"S9","(6393.2+0)/(2)=3196.6","(0+15450.3)/(2)=7725.15","(11720.9+76185.9)/(2)=43953.4","(0+0)/(2)=0","(0+0)/(2)=0",null,null,null,null,null,null,null,null,"S9","(0+0)/(2)=0","(0+0)/(2)=0","(0+0)/(2)=0","(0+0)/(2)=0","(0+0)/(2)=0","(0+0)/(2)=0","(0+4045)/(2)=2022.5","(17191.4+0)/(2)=8595.7","(0+0)/(2)=0","(0+0)/(2)=0"]
["S10","(0+4158.8)/(2)=2079.4","(0+22353.4)/(2)=11176.7","(24952.6+0)/(2)=12476.3","(0+0)/(2)=0","(0+0)/(2)=0",null,null,null,null,null,null,null,null,null,"S10","(6393.2+0)/(2)=3196.6","(0+15450.3)/(2)=7725.15","(11720.9+76185.9)/(2)=43953.4","(0+0)/(2)=0","(0+0)/(2)=0",null,null,null,null,null,null,null,null,"S10","(0+0)/(2)=0","(0+0)/(2)=0","(0+0)/(2)=0","(0+0)/(2)=0","(0+0)/(2)=0","(0+0)/(2)=0","(0+4045)/(2)=2022.5","(17191.4+0)/(2)=8595.7","(0+0)/(2)=0","(0+0)/(2)=0"]
["S11","(0+4158.8)/(2)=2079.4","(0+22353.4)/(2)=11176.7","(24952.6+0)/(2)=12476.3","(0+0)/(2)=0","(0+0)/(2)=0",null,null,null,null,null,null,null,null,null,"S11","(6393.2+0)/(2)=3196.6","(0+2663.8)/(2)=1331.9","(11720.9+76185.9)/(2)=43953.4","(0+0)/(2)=0","(0+0)/(2)=0",null,null,null,null,null,null,null,null,"S11","(0+0)/(2)=0","(0+0)/(2)=0","(0+0)/(2)=0","(0+0)/(2)=0","(0+0)/(2)=0","(0+0)/(2)=0","(0+4045)/(2)=2022.5","(17191.4+0)/(2)=8595.7","(0+0)/(2)=0","(0+0)/(2)=0"]
["S12","(0+4158.8)/(2)=2079.4","(0+22353.4)/(2)=11176.7","(0+0)/(2)=0","(0+0)/(2)=0","(0+0)/(2)=0",null,null,null,null,null,null,null,null,null,"S12","(0+0)/(2)=0","(0+2663.8)/(2)=1331.9","(11720.9+76185.9)/(2)=43953.4","(0+0)/(2)=0","(0+0)/(2)=0",null,null,null,null,null,null,null,null,"S12","(0+0)/(2)=0","(0+0)/(2)=0","(0+0)/(2)=0","(0+0)/(2)=0","(0+0)/(2)=0","(0+0)/(2)=0","(0+4045)/(2)=2022.5","(17191.4+0)/(2)=8595.7","(0+0)/(2)=0","(0+0)/(2)=0"]
["S13","(0+4158.8)/(2)=2079.4","(0+22353.4)/(2)=11176.7","(0+0)/(2)=0","(0+0)/(2)=0","(0+0)/(2)=0",null,null,null,null,null,null,null,null,null,"S13","(0+0)/(2)=0","(0+0)/(2)=0","(11720.9+76185.9)/(2)=43953.4","(0+0)/(2)=0","(0+0)/(2)=0",null,null,null,null,null,null,null,null,"S13","(0+0)/(2)=0","(0+0)/(2)=0","(0+0)/(2)=0","(0+0)/(2)=0","(0+0)/(2)=0","(0+0)/(2)=0","(0+4045)/(2)=2022.5","(17191.4+0)/(2)=8595.7","(0+0)/(2)=0","(0+0)/(2)=0"]
["S14","(0+0)/(2)=0","(0+0)/(2)=0","(0+0)/(2)=0","(0+0)/(2)=0","(0+0)/(2)=0",null,null,null,null,null,null,null,null,null,"S14","(0+0)/(2)=0","(0+0)/(2)=0","(11720.9+48481.9)/(2)=30101.4","(0+0)/(2)=0","(0+0)/(2)=0",null,null,null,null,null,null,null,null,"S14","(0+0)/(2)=0","(0+0)/(2)=0","(0+0)/(2)=0","(0+0)/(2)=0","(0+0)/(2)=0","(0+0)/(2)=0","(0+0)/(2)=0","(0+0)/(2)=0","(0+0)/(2)=0","(0+0)/(2)=0"]
["S15","(0+0)/(2)=0","(0+0)/(2)=0","(0+0)/(2)=0","(0+0)/(2)=0","(0+0)/(2)=0",null,null,null,null,null,null,null,null,null,"S15","(0+0)/(2)=0","(0+0)/(2)=0","(0+6393.2)/(2)=3196.6","(0+0)/(2)=0","(0+0)/(2)=0",null,null,null,null,null,null,null,null,"S15","(0+0)/(2)=0","(0+0)/(2)=0","(0+0)/(2)=0","(0+0)/(2)=0","(0+0)/(2)=0","(0+0)/(2)=0","(0+0)/(2)=0","(0+0)/(2)=0","(0+0)/(2)=0","(0+0)/(2)=0"]
["S16","(0+0)/(2)=0","(0+0)/(2)=0","(0+0)/(2)=0","(0+0)/(2)=0","(0+0)/(2)=0",null,null,null,null,null,null,null,null,null,"S16","(0+0)/(2)=0","(0+0)/(2)=0","(0+0)/(2)=0","(0+0)/(2)=0","(0+0)/(2)=0",null,null,null,null,null,null,null,null,"S16","(0+0)/(2)=0","(0+0)/(2)=0","(0+0)/(2)=0","(0+0)/(2)=0","(0+0)/(2)=0","(0+0)/(2)=0","(0+0)/(2)=0","(0+0)/(2)=0","(0+0)/(2)=0","(0+0)/(2)=0"]
[]
["L�pcs�k(2)","X(A1)","X(A2)","X(A3)","X(A4)","X(A5)",null,null,null,null,null,null,null,null,null,"L�pcs�k(2)","X(A1)","X(A2)","X(A3)","X(A4)","X(A5)",null,null,null,null,null,null,null,null,"L�pcs�k(2)","X(A1)","X(A2)","X(A3)","X(A4)","X(A5)","X(A6)","X(A7)","X(A8)","X(A9)","X(A10)"]
["S1",38468.6,16375.1,33530,38728.5,50165.1,null,null,null,null,null,null,null,null,null,"S1",22109.9,15183.9,54342.400000000001,31166.9,7458.8,null,null,null,null,null,null,null,null,"S1",12640.8,505.6,22247.7,13652,73822,8090.1,2022.5,9101.2999999999993,9101.2999999999993,25787.1]
["S2",15595.4,16375.1,33530,20274,50165.1,null,null,null,null,null,null,null,null,null,"S2",22109.9,15183.9,54342.400000000001,14651.1,7458.8,null,null,null,null,null,null,null,null,"S2",8595.7000000000007,505.6,22247.7,13652,73822,8090.1,2022.5,9101.2999999999993,2528.1999999999998,25787.1]
["S3",4678.6000000000004,16375.1,33530,20274,22613.3,null,null,null,null,null,null,null,null,null,"S3",3196.6,7725.1,44219.8,14651.1,0,null,null,null,null,null,null,null,null,"S3",0,505.6,22247.7,13652,37416.6,8090.1,2022.5,8595.7000000000007,0,16180.2]
["S4",4678.6000000000004,16375.1,33530,20274,22613.3,null,null,null,null,null,null,null,null,null,"S4",3196.6,7725.1,44219.8,14651.1,0,null,null,null,null,null,null,null,null,"S4",0,505.6,22247.7,13652,37416.6,8090.1,2022.5,8595.7000000000007,0,16180.2]
["S5",4678.6000000000004,16375.1,33530,20274,22613.3,null,null,null,null,null,null,null,null,null,"S5",3196.6,7725.1,44219.8,14651.1,0,null,null,null,null,null,null,null,null,"S5",0,505.6,22247.7,13652,37416.6,8090.1,2022.5,8595.7000000000007,0,16180.2]
["S6",4678.6000000000004,16375.1,33530,12476.3,0,null,null,null,null,null,null,null,null,null,"S6",3196.6,7725.1,44219.8,14651.1,0,null,null,null,null,null,null,null,null,"S6",0,505.6,22247.7,9101.2999999999993,0,8090.1,2022.5,8595.7000000000007,0,16180.2]
["S7",2079.4,11176.7,33530,12476.3,0,null,null,null,null,null,null,null,null,null,"S7",3196.6,7725.1,43953.4,14651.1,0,null,null,null,null,null,null,null,null,"S7",0,0,22247.7,9101.2999999999993,0,0,2022.5,8595.7000000000007,0,0]
["S8",2079.4,11176.7,33530,3638.9,0,null,null,null,null,null,null,null,null,null,"S8",3196.6,7725.1,43953.4,14651.1,0,null,null,null,null,null,null,null,null,"S8",0,0,22247.7,0,0,0,2022.5,8595.7000000000007,0,0]
["S9",2079.4,11176.7,14295.8,3638.9,0,null,null,null,null,null,null,null,null,null,"S9",3196.6,7725.1,43953.4,0,0,null,null,null,null,null,null,null,null,"S9",0,0,0,0,0,0,2022.5,8595.7000000000007,0,0]
["S10",2079.4,11176.7,12476.3,0,0,null,null,null,null,null,null,null,null,null,"S10",3196.6,7725.1,43953.4,0,0,null,null,null,null,null,null,null,null,"S10",0,0,0,0,0,0,2022.5,8595.7000000000007,0,0]
["S11",2079.4,11176.7,12476.3,0,0,null,null,null,null,null,null,null,null,null,"S11",3196.6,1331.9,43953.4,0,0,null,null,null,null,null,null,null,null,"S11",0,0,0,0,0,0,2022.5,8595.7000000000007,0,0]
["S12",2079.4,11176.7,0,0,0,null,null,null,null,null,null,null,null,null,"S12",0,1331.9,43953.4,0,0,null,null,null,null,null,null,null,null,"S12",0,0,0,0,0,0,2022.5,8595.7000000000007,0,0]
["S13",2079.4,11176.7,0,0,0,null,null,null,null,null,null,null,null,null,"S13",0,0,43953.4,0,0,null,null,null,null,null,null,null,null,"S13",0,0,0,0,0,0,2022.5,8595.7000000000007,0,0]
["S14",0,0,0,0,0,null,null,null,null,null,null,null,null,null,"S14",0,0,30101.4,0,0,null,null,null,null,null,null,null,null,"S14",0,0,0,0,0,0,0,0,0,0]
["S15",0,0,0,0,0,null,null,null,null,null,null,null,null,null,"S15",0,0,3196.6,0,0,null,null,null,null,null,null,null,null,"S15",0,0,0,0,0,0,0,0,0,0]
["S16",0,0,0,0,0,null,null,null,null,null,null,null,null,null,"S16",0,0,0,0,0,null,null,null,null,null,null,null,null,"S16",0,0,0,0,0,0,0,0,0,0]
[]
["COCO:STD","X(A1)","X(A2)","X(A3)","X(A4)","X(A5)","Becsl�s","T�ny+0","Delta","Delta/T�ny","abs",null,null,null,null,"COCO:STD","X(A1)","X(A2)","X(A3)","X(A4)","X(A5)","Becsl�s","T�ny+0","Delta","Delta/T�ny","abs",null,null,null,"COCO:STD","X(A1)","X(A2)","X(A3)","X(A4)","X(A5)","X(A6)","X(A7)","X(A8)","X(A9)","X(A10)","Becsl�s","T�ny+0","Delta","Delta/T�ny"]
["O1",2079.4,16375.1,33530,20274,0,72258.5,86000,13741.5,15.98,{"$f":"ABS(I962)","v":13741.5},null,null,null,null,"O1",3196.6,7725.1,43953.4,0,0,54875.1,86000,31124.9,36.19,{"$f":"ABS(X962)","v":31124.9},null,null,null,"O1",0,505.6,22247.7,13652,0,8090.1,2022.5,8595.7000000000007,0,16180.2,71293.8,86000,14706.2,17.100000000000001]
["O2",0,16375.1,33530,20274,0,70179.199999999997,82000,11820.8,14.42,{"$f":"ABS(I963)","v":11820.8},null,null,null,null,"O2",22109.9,0,43953.4,0,7458.8,73522,82000,8478,10.34,{"$f":"ABS(X963)","v":8478},null,null,null,"O2",0,505.6,22247.7,13652,0,8090.1,0,8595.7000000000007,0,25787.1,78878.3,82000,3121.7,3.81]
["O3",2079.4,11176.7,33530,12476.3,0,59262.400000000001,83000,23737.599999999999,28.6,23737.599999999999,null,null,null,null,"O3",3196.6,7725.1,43953.4,0,0,54875.1,83000,28124.9,33.89,28124.9,null,null,null,"O3",0,0,22247.7,9101.2999999999993,0,8090.1,2022.5,8595.7000000000007,0,16180.2,66237.5,83000,16762.5,20.2]
["O4",38468.6,11176.7,0,0,50165.1,99810.4,96000,-3810.4,-3.97,3810.4,null,null,null,null,"O4",0,7725.1,44219.8,14651.1,0,66596,96000,29404,30.63,29404,null,null,null,"O4",12640.8,0,0,0,73822,0,2022.5,8595.7000000000007,0,0,97081,96000,-1081,-1.1299999999999999]
["O5",4678.6000000000004,0,33530,20274,22613.3,81095.899999999994,87000,5904.1,6.79,5904.1,null,null,null,null,"O5",3196.6,15183.9,43953.4,0,0,62333.9,87000,24666.1,28.35,24666.1,null,null,null,"O5",0,0,22247.7,13652,37416.6,0,2022.5,8595.7000000000007,0,0,83934.6,87000,3065.4,3.52]
["O6",4678.6000000000004,11176.7,14295.8,0,0,30151,29000,-1151,-3.97,1151,null,null,null,null,"O6",0,7725.1,43953.4,14651.1,0,66329.7,29000,-37329.699999999997,-128.72,37329.699999999997,null,null,null,"O6",0,0,0,0,0,0,2022.5,8595.7000000000007,2528.1999999999998,16180.2,29326.5,29000,-326.5,-1.1299999999999999]
["O7",2079.4,16375.1,33530,0,22613.3,74597.899999999994,55000,-19597.900000000001,-35.630000000000003,19597.900000000001,null,null,null,null,"O7",3196.6,0,30101.4,14651.1,0,47949.2,55000,7050.8,12.82,7050.8,null,null,null,"O7",0,505.6,22247.7,0,37416.6,0,0,0,0,0,60170,55000,-5170,-9.4]
["O8",15595.4,16375.1,33530,0,22613.3,88113.8,81000,-7113.8,-8.7799999999999994,7113.8,null,null,null,null,"O8",0,0,43953.4,14651.1,0,58604.5,81000,22395.5,27.65,22395.5,null,null,null,"O8",8595.7000000000007,505.6,22247.7,0,37416.6,0,2022.5,8595.7000000000007,2528.1999999999998,0,81912.100000000006,81000,-912.1,-1.1299999999999999]
["O9",4678.6000000000004,0,0,20274,0,24952.6,24000,-952.6,-3.97,952.6,null,null,null,null,"O9",0,15183.9,44219.8,0,0,59403.7,24000,-35403.699999999997,-147.52000000000001,35403.699999999997,null,null,null,"O9",0,0,0,13652,0,0,2022.5,8595.7000000000007,0,0,24270.2,24000,-270.2,-1.1299999999999999]
["O10",4678.6000000000004,11176.7,0,0,22613.3,38468.6,48000,9531.4,19.86,9531.4,null,null,null,null,"O10",0,7725.1,54342.400000000001,14651.1,0,76718.600000000006,48000,-28718.6,-59.83,28718.6,null,null,null,"O10",0,0,0,0,37416.6,0,2022.5,9101.2999999999993,0,0,48540.5,48000,-540.5,-1.1299999999999999]
["O11",2079.4,11176.7,0,38728.5,0,51984.6,50000,-1984.6,-3.97,1984.6,null,null,null,null,"O11",3196.6,7725.1,54342.400000000001,0,7458.8,72722.899999999994,50000,-22722.9,-45.45,22722.9,null,null,null,"O11",0,0,0,13652,0,0,2022.5,9101.2999999999993,0,25787.1,50563,50000,-563,-1.1299999999999999]
["O12",2079.4,11176.7,33530,0,0,46786.1,24000,-22786.1,-94.94,22786.1,null,null,null,null,"O12",3196.6,7725.1,0,14651.1,0,25572.9,24000,-1572.9,-6.55,1572.9,null,null,null,"O12",0,0,22247.7,0,0,0,2022.5,0,0,0,24270.2,24000,-270.2,-1.1299999999999999]
["O13",0,0,33530,3638.9,0,37169,31000,-6169,-19.899999999999999,6169,null,null,null,null,"O13",22109.9,7725.1,3196.6,0,0,33031.599999999999,31000,-2031.6,-6.55,2031.6,null,null,null,"O13",0,0,22247.7,0,0,8090.1,2022.5,0,0,16180.2,48540.5,31000,-17540.5,-56.58]
["O14",0,16375.1,0,12476.3,0,28851.4,17000,-11851.4,-69.709999999999994,11851.4,null,null,null,null,"O14",3196.6,0,44219.8,0,0,47416.4,17000,-30416.400000000001,-178.92,30416.400000000001,null,null,null,"O14",0,505.6,0,9101.2999999999993,0,8090.1,0,8595.7000000000007,0,0,26292.799999999999,17000,-9292.7999999999993,-54.66]
["O15",4678.6000000000004,16375.1,12476.3,3638.9,50165.1,87334.1,84000,-3334.1,-3.97,3334.1,null,null,null,null,"O15",3196.6,1331.9,44219.8,14651.1,0,63399.4,84000,20600.599999999999,24.52,20600.599999999999,null,null,null,"O15",0,505.6,0,0,73822,0,2022.5,8595.7000000000007,0,0,84945.8,84000,-945.8,-1.1299999999999999]
["O16",2079.4,16375.1,33530,0,0,51984.6,66000,14015.4,21.24,14015.4,null,null,null,null,"O16",3196.6,1331.9,43953.4,31166.9,0,79648.899999999994,66000,-13648.9,-20.68,13648.9,null,null,null,"O16",0,505.6,22247.7,0,0,8090.1,2022.5,8595.7000000000007,9101.2999999999993,16180.2,66743.199999999997,66000,-743.2,-1.1299999999999999]
[null,null,null,null,null,null,null,null,{"$f":"STDEV(I962:I977)","v":12592.007770776336},null,{"$f":"SUM(K962:K977)","v":157501.69999999998},null,null,null,null,null,null,null,null,null,null,null,null,{"$f":"STDEV(X962:X977)","v":25015.171969252813},null,{"$f":"SUM(Z962:Z977)","v":343689.5},null,null,null,null,null,null,null,null,null,null,null,null,null,null,null,null,{"$f":"STDEV(AQ962:AQ977)","v":7922.3678434333424}]
["S1 �sszeg:",177267.3,null,null,null,null,null,null,null,null,null,null,null,null,null,"S1 �sszeg:",130261.9,null,null,null,null,null,null,null,null,null,null,null,null,"S1 �sszeg:",176970.4]
["S16 �sszeg:",0,null,null,null,null,null,null,null,null,null,null,null,null,null,"S16 �sszeg:",0,null,null,null,null,null,null,null,null,null,null,null,null,"S16 �sszeg:",0]
["Becsl�s �sszeg:",943000.1,null,null,null,null,null,null,null,null,null,null,null,null,null,"Becsl�s �sszeg:",942999.9,null,null,null,null,null,null,null,null,null,null,null,null,"Becsl�s �sszeg:",943000]
["T�ny �sszeg:",943000,null,null,null,null,null,null,null,null,null,null,null,null,null,"T�ny �sszeg:",943000,null,null,null,null,null,null,null,null,null,null,null,null,"T�ny �sszeg:",943000]
["T�ny-becsl�s elt�r�s:",0.1,null,null,null,null,null,null,null,null,null,null,null,null,null,"T�ny-becsl�s elt�r�s:",-0.1,null,null,null,null,null,null,null,null,null,null,null,null,"T�ny-becsl�s elt�r�s:",0]
["T�ny n�gyzet�sszeg:",null,null,null,null,null,null,null,null,null,null,null,null,null,null,"T�ny n�gyzet�sszeg:",null,null,null,null,null,null,null,null,null,null,null,null,null,"T�ny n�gyzet�sszeg:"]
["Becsl�s n�gyzet�sszeg:",null,null,null,null,null,null,null,null,null,null,null,null,null,null,"Becsl�s n�gyzet�sszeg:",null,null,null,null,null,null,null,null,null,null,null,null,null,"Becsl�s n�gyzet�sszeg:"]
["N�gyzet�sszeg hiba:",0,null,null,null,null,null,null,null,null,null,null,null,null,null,"N�gyzet�sszeg hiba:",0,null,null,null,null,null,null,null,null,null,null,null,null,"N�gyzet�sszeg hiba:",0]
[]
["Open url",null,null,null,null,null,null,null,null,null,null,null,null,null,null,"Open url",null,null,null,null,null,null,null,null,null,null,null,null,null,"Open url"]
[]
["Maxim�lis mem�ria haszn�lat: 1.36 Mb",null,null,null,null,null,null,null,null,null,null,null,null,null,null,"Maxim�lis mem�ria haszn�lat: 1.36 Mb",null,null,null,null,null,null,null,null,null,null,null,null,null,"Maxim�lis mem�ria haszn�lat: 1.38 Mb"]
["A futtat�s id�tartama: 0.04 mp (0 p)",null,null,null,null,null,null,null,null,null,null,null,null,null,null,"A futtat�s id�tartama: 0.06 mp (0 p)",null,null,null,null,null,null,null,null,null,null,null,null,null,"A futtat�s id�tartama: 0.07 mp (0 p)"]
[]
[]
[]
[]
[]
[]
[]
[]
[]
[]
[]
[]
[]
["Azonos�t�:",5966777,"Objektumok:",16,"Attrib�tumok:",5,"Lepcs�k:",16,"Eltol�s:",0,"Le�r�s:","COCO STD: 5966777",null,null,null,"Azonos�t�:",2009823,"Objektumok:",16,"Attrib�tumok:",5,"Lepcs�k:",16,"Eltol�s:",0,"Le�r�s:","COCO STD: 2009823",null,null,"Azonos�t�:",7503978,"Objektumok:",16,"Attrib�tumok:",10,"Lepcs�k:",16,"Eltol�s:",0,"Le�r�s:","COCO STD: 7503978"]
[]
["Rangsor","X(A1)","X(A2)","X(A3)","X(A4)","X(A5)","Y(A6)",null,null,null,null,null,null,null,null,"Rangsor","X(A1)","X(A2)","X(A3)","X(A4)","X(A5)","Y(A6)",null,null,null,null,null,null,null,"Rangsor","X(A1)","X(A2)","X(A3)","X(A4)","X(A5)","X(A6)","X(A7)","X(A8)","X(A9)","X(A10)","Y(A11)"]
["O1",1,2,16,3,8,36000,null,null,null,null,null,null,null,null,"O1",16,15,1,14,8,36000,null,null,null,null,null,null,null,"O1",1,2,16,3,8,16,15,1,14,8,36000]
["O2",5,15,10,10,15,40000,null,null,null,null,null,null,null,null,"O2",12,2,5,7,2,40000,null,null,null,null,null,null,null,"O2",5,15,10,10,15,12,2,5,7,2,40000]
["O3",16,10,5,12,11,25000,null,null,null,null,null,null,null,null,"O3",1,7,12,5,6,25000,null,null,null,null,null,null,null,"O3",16,10,5,12,11,1,7,12,5,6,25000]
["O4",8,7,4,1,5,82000,null,null,null,null,null,null,null,null,"O4",9,10,13,16,12,82000,null,null,null,null,null,null,null,"O4",8,7,4,1,5,9,10,13,16,12,82000]
["O5",2,3,6,8,6,81000,null,null,null,null,null,null,null,null,"O5",15,14,11,9,11,81000,null,null,null,null,null,null,null,"O5",2,3,6,8,6,15,14,11,9,11,81000]
["O6",13,16,10,15,10,16000,null,null,null,null,null,null,null,null,"O6",4,1,5,2,7,16000,null,null,null,null,null,null,null,"O6",13,16,10,15,10,4,1,5,2,7,16000]
["O7",6,6,10,14,16,12000,null,null,null,null,null,null,null,null,"O7",10,11,5,3,1,12000,null,null,null,null,null,null,null,"O7",6,6,10,14,16,10,11,5,3,1,12000]
["O8",12,8,2,16,4,86000,null,null,null,null,null,null,null,null,"O8",5,9,15,1,13,86000,null,null,null,null,null,null,null,"O8",12,8,2,16,4,5,9,15,1,13,86000]
["O9",14,1,13,9,7,77000,null,null,null,null,null,null,null,null,"O9",3,16,4,8,10,77000,null,null,null,null,null,null,null,"O9",14,1,13,9,7,3,16,4,8,10,77000]
["O10",11,4,14,2,1,63000,null,null,null,null,null,null,null,null,"O10",6,13,3,15,16,63000,null,null,null,null,null,null,null,"O10",11,4,14,2,1,6,13,3,15,16,63000]
["O11",6,14,1,6,13,17000,null,null,null,null,null,null,null,null,"O11",10,3,16,11,4,17000,null,null,null,null,null,null,null,"O11",6,14,1,6,13,10,3,16,11,4,17000]
["O12",15,11,8,11,14,27000,null,null,null,null,null,null,null,null,"O12",2,6,10,6,3,27000,null,null,null,null,null,null,null,"O12",15,11,8,11,14,2,6,10,6,3,27000]
["O13",9,5,9,7,12,86000,null,null,null,null,null,null,null,null,"O13",8,12,9,10,5,86000,null,null,null,null,null,null,null,"O13",9,5,9,7,12,8,12,9,10,5,86000]
["O14",3,12,15,4,2,32000,null,null,null,null,null,null,null,null,"O14",14,4,2,13,15,32000,null,null,null,null,null,null,null,"O14",3,12,15,4,2,14,4,2,13,15,32000]
["O15",4,12,3,13,3,77000,null,null,null,null,null,null,null,null,"O15",13,4,14,4,14,77000,null,null,null,null,null,null,null,"O15",4,12,3,13,3,13,4,14,4,14,77000]
["O16",10,9,10,5,8,10000,null,null,null,null,null,null,null,null,"O16",7,8,5,12,8,10000,null,null,null,null,null,null,null,"O16",10,9,10,5,8,7,8,5,12,8,10000]
[]
["L�pcs�k(1)","X(A1)","X(A2)","X(A3)","X(A4)","X(A5)",null,null,null,null,null,null,null,null,null,"L�pcs�k(1)","X(A1)","X(A2)","X(A3)","X(A4)","X(A5)",null,null,null,null,null,null,null,null,"L�pcs�k(1)","X(A1)","X(A2)","X(A3)","X(A4)","X(A5)","X(A6)","X(A7)","X(A8)","X(A9)","X(A10)"]
["S1","(0+13945.7)/(2)=6972.85","(71720.6+76701.2)/(2)=74210.85","(16934+67736.1)/(2)=42335.05","(22910.7+40840.9)/(2)=31875.8","(31875.8+17930.1)/(2)=24903",null,null,null,null,null,null,null,null,null,"S1","(18052.2+4750.6)/(2)=11401.4","(0+8551.1)/(2)=4275.55","(34204.2+46555.8)/(2)=40380","(72208.9+7600.9)/(2)=39904.95","(1900.2+18052.2)/(2)=9976.25",null,null,null,null,null,null,null,null,"S1","(9964.4+12455.5)/(2)=11209.95","(62775.7+56797.1)/(2)=59786.4","(12953.7+24911)/(2)=18932.35","(48825.6+66761.5)/(2)=57793.55","(36868.3+19430.6)/(2)=28149.45","(0+0)/(2)=0","(3985.8+0)/(2)=1992.9","(0+0)/(2)=0","(52811.3+41352.3)/(2)=47081.8","(0+7473.3)/(2)=3736.65"]
["S2","(0+13945.7)/(2)=6972.85","(30879.7+44825.4)/(2)=37852.5","(16934+67736.1)/(2)=42335.05","(0+0)/(2)=0","(31875.8+17930.1)/(2)=24903",null,null,null,null,null,null,null,null,null,"S2","(18052.2+4750.6)/(2)=11401.4","(0+8551.1)/(2)=4275.55","(30403.8+46555.8)/(2)=38479.75","(5700.7+3800.5)/(2)=4750.6","(1900.2+18052.2)/(2)=9976.25",null,null,null,null,null,null,null,null,"S2","(9964.4+12455.5)/(2)=11209.95","(23914.6+43345.1)/(2)=33629.85","(12953.7+24911)/(2)=18932.35","(1992.9+0)/(2)=996.45","(19928.8+19430.6)/(2)=19679.7","(0+0)/(2)=0","(3985.8+0)/(2)=1992.9","(0+0)/(2)=0","(11957.3+19928.8)/(2)=15943.05","(0+7473.3)/(2)=3736.65"]
["S3","(0+13945.7)/(2)=6972.85","(30879.7+44825.4)/(2)=37852.5","(16934+44825.4)/(2)=30879.7","(0+0)/(2)=0","(31875.8+17930.1)/(2)=24903",null,null,null,null,null,null,null,null,null,"S3","(18052.2+4750.6)/(2)=11401.4","(0+8551.1)/(2)=4275.55","(30403.8+46555.8)/(2)=38479.75","(5700.7+3800.5)/(2)=4750.6","(1900.2+18052.2)/(2)=9976.25",null,null,null,null,null,null,null,null,"S3","(9964.4+12455.5)/(2)=11209.95","(23914.6+43345.1)/(2)=33629.85","(12953.7+24911)/(2)=18932.35","(1992.9+0)/(2)=996.45","(19928.8+19430.6)/(2)=19679.7","(0+0)/(2)=0","(0+0)/(2)=0","(0+0)/(2)=0","(11957.3+19928.8)/(2)=15943.05","(0+7473.3)/(2)=3736.65"]
["S4","(0+13945.7)/(2)=6972.85","(30879.7+44825.4)/(2)=37852.5","(16934+26895.2)/(2)=21914.6","(0+0)/(2)=0","(31875.8+17930.1)/(2)=24903",null,null,null,null,null,null,null,null,null,"S4","(9501.2+4750.6)/(2)=7125.9","(0+8551.1)/(2)=4275.55","(30403.8+46555.8)/(2)=38479.75","(5700.7+3800.5)/(2)=4750.6","(1900.2+18052.2)/(2)=9976.25",null,null,null,null,null,null,null,null,"S4","(9964.4+12455.5)/(2)=11209.95","(23914.6+43345.1)/(2)=33629.85","(12953.7+4982.2)/(2)=8967.95","(1992.9+0)/(2)=996.45","(19928.8+19430.6)/(2)=19679.7","(0+0)/(2)=0","(0+0)/(2)=0","(0+0)/(2)=0","(11957.3+19928.8)/(2)=15943.05","(0+7473.3)/(2)=3736.65"]
["S5","(0+13945.7)/(2)=6972.85","(30879.7+44825.4)/(2)=37852.5","(16934+26895.2)/(2)=21914.6","(0+0)/(2)=0","(31875.8+0)/(2)=15937.9",null,null,null,null,null,null,null,null,null,"S5","(9501.2+4750.6)/(2)=7125.9","(0+8551.1)/(2)=4275.55","(0+46555.8)/(2)=23277.9","(5700.7+3800.5)/(2)=4750.6","(1900.2+18052.2)/(2)=9976.25",null,null,null,null,null,null,null,null,"S5","(9964.4+12455.5)/(2)=11209.95","(23914.6+43345.1)/(2)=33629.85","(12953.7+4982.2)/(2)=8967.95","(1992.9+0)/(2)=996.45","(19928.8+0)/(2)=9964.4","(0+0)/(2)=0","(0+0)/(2)=0","(0+0)/(2)=0","(11957.3+19928.8)/(2)=15943.05","(0+7473.3)/(2)=3736.65"]
["S6","(0+13945.7)/(2)=6972.85","(9961.2+0)/(2)=4980.6","(16934+26895.2)/(2)=21914.6","(0+0)/(2)=0","(31875.8+0)/(2)=15937.9",null,null,null,null,null,null,null,null,null,"S6","(9501.2+4750.6)/(2)=7125.9","(0+8551.1)/(2)=4275.55","(0+46555.8)/(2)=23277.9","(5700.7+3800.5)/(2)=4750.6","(0+18052.2)/(2)=9026.1",null,null,null,null,null,null,null,null,"S6","(0+9964.4)/(2)=4982.2","(0+0)/(2)=0","(12953.7+4982.2)/(2)=8967.95","(1992.9+0)/(2)=996.45","(19928.8+0)/(2)=9964.4","(0+0)/(2)=0","(0+0)/(2)=0","(0+0)/(2)=0","(11957.3+19928.8)/(2)=15943.05","(0+0)/(2)=0"]
["S7","(0+13945.7)/(2)=6972.85","(9961.2+0)/(2)=4980.6","(16934+26895.2)/(2)=21914.6","(0+0)/(2)=0","(4980.6+0)/(2)=2490.3",null,null,null,null,null,null,null,null,null,"S7","(9501.2+4750.6)/(2)=7125.9","(0+8551.1)/(2)=4275.55","(0+46555.8)/(2)=23277.9","(5700.7+3800.5)/(2)=4750.6","(0+18052.2)/(2)=9026.1",null,null,null,null,null,null,null,null,"S7","(0+9964.4)/(2)=4982.2","(0+0)/(2)=0","(12953.7+4982.2)/(2)=8967.95","(1992.9+0)/(2)=996.45","(0+0)/(2)=0","(0+0)/(2)=0","(0+0)/(2)=0","(0+0)/(2)=0","(11957.3+19928.8)/(2)=15943.05","(0+0)/(2)=0"]
["S8","(0+13945.7)/(2)=6972.85","(9961.2+0)/(2)=4980.6","(16934+26895.2)/(2)=21914.6","(0+0)/(2)=0","(4980.6+0)/(2)=2490.3",null,null,null,null,null,null,null,null,null,"S8","(9501.2+4750.6)/(2)=7125.9","(0+8551.1)/(2)=4275.55","(0+46555.8)/(2)=23277.9","(5700.7+3800.5)/(2)=4750.6","(0+18052.2)/(2)=9026.1",null,null,null,null,null,null,null,null,"S8","(0+9964.4)/(2)=4982.2","(0+0)/(2)=0","(12953.7+4982.2)/(2)=8967.95","(1992.9+0)/(2)=996.45","(0+0)/(2)=0","(0+0)/(2)=0","(0+0)/(2)=0","(0+0)/(2)=0","(11957.3+19928.8)/(2)=15943.05","(0+0)/(2)=0"]
["S9","(0+13945.7)/(2)=6972.85","(2988.4+0)/(2)=1494.2","(16934+26895.2)/(2)=21914.6","(0+0)/(2)=0","(4980.6+0)/(2)=2490.3",null,null,null,null,null,null,null,null,null,"S9","(9501.2+4750.6)/(2)=7125.9","(0+8551.1)/(2)=4275.55","(0+46555.8)/(2)=23277.9","(5700.7+3800.5)/(2)=4750.6","(0+18052.2)/(2)=9026.1",null,null,null,null,null,null,null,null,"S9","(0+9964.4)/(2)=4982.2","(0+0)/(2)=0","(12953.7+4982.2)/(2)=8967.95","(1992.9+0)/(2)=996.45","(0+0)/(2)=0","(0+0)/(2)=0","(0+0)/(2)=0","(0+0)/(2)=0","(11957.3+19928.8)/(2)=15943.05","(0+0)/(2)=0"]
["S10","(0+0)/(2)=0","(2988.4+0)/(2)=1494.2","(1992.2+25899.1)/(2)=13945.65","(0+0)/(2)=0","(4980.6+0)/(2)=2490.3",null,null,null,null,null,null,null,null,null,"S10","(3800.5+0)/(2)=1900.25","(0+8551.1)/(2)=4275.55","(0+46555.8)/(2)=23277.9","(5700.7+3800.5)/(2)=4750.6","(0+18052.2)/(2)=9026.1",null,null,null,null,null,null,null,null,"S10","(0+9964.4)/(2)=4982.2","(0+0)/(2)=0","(0+0)/(2)=0","(1992.9+0)/(2)=996.45","(0+0)/(2)=0","(0+0)/(2)=0","(0+0)/(2)=0","(0+0)/(2)=0","(11957.3+19928.8)/(2)=15943.05","(0+0)/(2)=0"]
["S11","(0+0)/(2)=0","(2988.4+0)/(2)=1494.2","(0+0)/(2)=0","(0+0)/(2)=0","(4980.6+0)/(2)=2490.3",null,null,null,null,null,null,null,null,null,"S11","(3800.5+0)/(2)=1900.25","(0+8551.1)/(2)=4275.55","(0+46555.8)/(2)=23277.9","(5700.7+0)/(2)=2850.35","(0+18052.2)/(2)=9026.1",null,null,null,null,null,null,null,null,"S11","(0+0)/(2)=0","(0+0)/(2)=0","(0+0)/(2)=0","(1992.9+0)/(2)=996.45","(0+0)/(2)=0","(0+0)/(2)=0","(0+0)/(2)=0","(0+0)/(2)=0","(1992.9+0)/(2)=996.45","(0+0)/(2)=0"]
["S12","(0+0)/(2)=0","(0+0)/(2)=0","(0+0)/(2)=0","(0+0)/(2)=0","(4980.6+0)/(2)=2490.3",null,null,null,null,null,null,null,null,null,"S12","(3800.5+0)/(2)=1900.25","(0+8551.1)/(2)=4275.55","(0+46555.8)/(2)=23277.9","(0+0)/(2)=0","(0+18052.2)/(2)=9026.1",null,null,null,null,null,null,null,null,"S12","(0+0)/(2)=0","(0+0)/(2)=0","(0+0)/(2)=0","(0+0)/(2)=0","(0+0)/(2)=0","(0+0)/(2)=0","(0+0)/(2)=0","(0+0)/(2)=0","(1992.9+0)/(2)=996.45","(0+0)/(2)=0"]
["S13","(0+0)/(2)=0","(0+0)/(2)=0","(0+0)/(2)=0","(0+0)/(2)=0","(0+0)/(2)=0",null,null,null,null,null,null,null,null,null,"S13","(3800.5+0)/(2)=1900.25","(0+8551.1)/(2)=4275.55","(0+46555.8)/(2)=23277.9","(0+0)/(2)=0","(0+14251.8)/(2)=7125.9",null,null,null,null,null,null,null,null,"S13","(0+0)/(2)=0","(0+0)/(2)=0","(0+0)/(2)=0","(0+0)/(2)=0","(0+0)/(2)=0","(0+0)/(2)=0","(0+0)/(2)=0","(0+0)/(2)=0","(0+0)/(2)=0","(0+0)/(2)=0"]
["S14","(0+0)/(2)=0","(0+0)/(2)=0","(0+0)/(2)=0","(0+0)/(2)=0","(0+0)/(2)=0",null,null,null,null,null,null,null,null,null,"S14","(0+0)/(2)=0","(0+8551.1)/(2)=4275.55","(0+46555.8)/(2)=23277.9","(0+0)/(2)=0","(0+14251.8)/(2)=7125.9",null,null,null,null,null,null,null,null,"S14","(0+0)/(2)=0","(0+0)/(2)=0","(0+0)/(2)=0","(0+0)/(2)=0","(0+0)/(2)=0","(0+0)/(2)=0","(0+0)/(2)=0","(0+0)/(2)=0","(0+0)/(2)=0","(0+0)/(2)=0"]
["S15","(0+0)/(2)=0","(0+0)/(2)=0","(0+0)/(2)=0","(0+0)/(2)=0","(0+0)/(2)=0",null,null,null,null,null,null,null,null,null,"S15","(0+0)/(2)=0","(0+0)/(2)=0","(0+46555.8)/(2)=23277.9","(0+0)/(2)=0","(0+0)/(2)=0",null,null,null,null,null,null,null,null,"S15","(0+0)/(2)=0","(0+0)/(2)=0","(0+0)/(2)=0","(0+0)/(2)=0","(0+0)/(2)=0","(0+0)/(2)=0","(0+0)/(2)=0","(0+0)/(2)=0","(0+0)/(2)=0","(0+0)/(2)=0"]
["S16","(0+0)/(2)=0","(0+0)/(2)=0","(0+0)/(2)=0","(0+0)/(2)=0","(0+0)/(2)=0",null,null,null,null,null,null,null,null,null,"S16","(0+0)/(2)=0","(0+0)/(2)=0","(0+0)/(2)=0","(0+0)/(2)=0","(0+0)/(2)=0",null,null,null,null,null,null,null,null,"S16","(0+0)/(2)=0","(0+0)/(2)=0","(0+0)/(2)=0","(0+0)/(2)=0","(0+0)/(2)=0","(0+0)/(2)=0","(0+0)/(2)=0","(0+0)/(2)=0","(0+0)/(2)=0","(0+0)/(2)=0"]
[]
["L�pcs�k(2)","X(A1)","X(A2)","X(A3)","X(A4)","X(A5)",null,null,null,null,null,null,null,null,null,"L�pcs�k(2)","X(A1)","X(A2)","X(A3)","X(A4)","X(A5)",null,null,null,null,null,null,null,null,"L�pcs�k(2)","X(A1)","X(A2)","X(A3)","X(A4)","X(A5)","X(A6)","X(A7)","X(A8)","X(A9)","X(A10)"]
["S1",6972.8,74210.899999999994,42335.1,31875.8,24903,null,null,null,null,null,null,null,null,null,"S1",11401.4,4275.5,40380,39904.9,9976.2000000000007,null,null,null,null,null,null,null,null,"S1",11210,59786.400000000001,18932.400000000001,57793.5,28149.4,0,1992.9,0,47081.8,3736.7]
["S2",6972.8,37852.5,42335.1,0,24903,null,null,null,null,null,null,null,null,null,"S2",11401.4,4275.5,38479.800000000003,4750.6000000000004,9976.2000000000007,null,null,null,null,null,null,null,null,"S2",11210,33629.9,18932.400000000001,996.4,19679.7,0,1992.9,0,15943,3736.7]
["S3",6972.8,37852.5,30879.7,0,24903,null,null,null,null,null,null,null,null,null,"S3",11401.4,4275.5,38479.800000000003,4750.6000000000004,9976.2000000000007,null,null,null,null,null,null,null,null,"S3",11210,33629.9,18932.400000000001,996.4,19679.7,0,0,0,15943,3736.7]
["S4",6972.8,37852.5,21914.6,0,24903,null,null,null,null,null,null,null,null,null,"S4",7125.9,4275.5,38479.800000000003,4750.6000000000004,9976.2000000000007,null,null,null,null,null,null,null,null,"S4",11210,33629.9,8968,996.4,19679.7,0,0,0,15943,3736.7]
["S5",6972.8,37852.5,21914.6,0,15937.9,null,null,null,null,null,null,null,null,null,"S5",7125.9,4275.5,23277.9,4750.6000000000004,9976.2000000000007,null,null,null,null,null,null,null,null,"S5",11210,33629.9,8968,996.4,9964.4,0,0,0,15943,3736.7]
["S6",6972.8,4980.6000000000004,21914.6,0,15937.9,null,null,null,null,null,null,null,null,null,"S6",7125.9,4275.5,23277.9,4750.6000000000004,9026.1,null,null,null,null,null,null,null,null,"S6",4982.2,0,8968,996.4,9964.4,0,0,0,15943,0]
["S7",6972.8,4980.6000000000004,21914.6,0,2490.3000000000002,null,null,null,null,null,null,null,null,null,"S7",7125.9,4275.5,23277.9,4750.6000000000004,9026.1,null,null,null,null,null,null,null,null,"S7",4982.2,0,8968,996.4,0,0,0,0,15943,0]
["S8",6972.8,4980.6000000000004,21914.6,0,2490.3000000000002,null,null,null,null,null,null,null,null,null,"S8",7125.9,4275.5,23277.9,4750.6000000000004,9026.1,null,null,null,null,null,null,null,null,"S8",4982.2,0,8968,996.4,0,0,0,0,15943,0]
["S9",6972.8,1494.2,21914.6,0,2490.3000000000002,null,null,null,null,null,null,null,null,null,"S9",7125.9,4275.5,23277.9,4750.6000000000004,9026.1,null,null,null,null,null,null,null,null,"S9",4982.2,0,8968,996.4,0,0,0,0,15943,0]
["S10",0,1494.2,13945.7,0,2490.3000000000002,null,null,null,null,null,null,null,null,null,"S10",1900.2,4275.5,23277.9,4750.6000000000004,9026.1,null,null,null,null,null,null,null,null,"S10",4982.2,0,0,996.4,0,0,0,0,15943,0]
["S11",0,1494.2,0,0,2490.3000000000002,null,null,null,null,null,null,null,null,null,"S11",1900.2,4275.5,23277.9,2850.4,9026.1,null,null,null,null,null,null,null,null,"S11",0,0,0,996.4,0,0,0,0,996.4,0]
["S12",0,0,0,0,2490.3000000000002,null,null,null,null,null,null,null,null,null,"S12",1900.2,4275.5,23277.9,0,9026.1,null,null,null,null,null,null,null,null,"S12",0,0,0,0,0,0,0,0,996.4,0]
["S13",0,0,0,0,0,null,null,null,null,null,null,null,null,null,"S13",1900.2,4275.5,23277.9,0,7125.9,null,null,null,null,null,null,null,null,"S13",0,0,0,0,0,0,0,0,0,0]
["S14",0,0,0,0,0,null,null,null,null,null,null,null,null,null,"S14",0,4275.5,23277.9,0,7125.9,null,null,null,null,null,null,null,null,"S14",0,0,0,0,0,0,0,0,0,0]
["S15",0,0,0,0,0,null,null,null,null,null,null,null,null,null,"S15",0,0,23277.9,0,0,null,null,null,null,null,null,null,null,"S15",0,0,0,0,0,0,0,0,0,0]
["S16",0,0,0,0,0,null,null,null,null,null,null,null,null,null,"S16",0,0,0,0,0,null,null,null,null,null,null,null,null,"S16",0,0,0,0,0,0,0,0,0,0]
[]
["COCO:STD","X(A1)","X(A2)","X(A3)","X(A4)","X(A5)","Becsl�s","T�ny+0","Delta","Delta/T�ny","abs",null,null,null,null,"COCO:STD","X(A1)","X(A2)","X(A3)","X(A4)","X(A5)","Becsl�s","T�ny+0","Delta","Delta/T�ny","abs",null,null,null,"COCO:STD","X(A1)","X(A2)","X(A3)","X(A4)","X(A5)","X(A6)","X(A7)","X(A8)","X(A9)","X(A10)","Becsl�s","T�ny+0","Delta","Delta/T�ny"]
["O1",6972.8,37852.5,0,0,2490.3000000000002,47315.7,36000,-11315.7,-31.43,{"$f":"ABS(I1062)","v":11315.7},null,null,null,null,"O1",0,0,40380,0,9026.1,49406.1,36000,-13406.1,-37.24,{"$f":"ABS(X1062)","v":13406.1},null,null,null,"O1",11210,33629.9,0,996.4,0,0,0,0,0,0,45836.2,36000,-9836.2000000000007,-27.32]
["O2",6972.8,0,13945.7,0,0,20918.5,40000,19081.5,47.7,{"$f":"ABS(I1063)","v":19081.5},null,null,null,null,"O2",1900.2,4275.5,23277.9,4750.6000000000004,9976.2000000000007,44180.5,40000,-4180.5,-10.45,{"$f":"ABS(X1063)","v":4180.5},null,null,null,"O2",11210,0,0,996.4,0,0,1992.9,0,15943,3736.7,33879,40000,6121,15.3]
["O3",0,1494.2,21914.6,0,2490.3000000000002,25899.1,25000,-899.1,-3.6,899.1,null,null,null,null,"O3",11401.4,4275.5,23277.9,4750.6000000000004,9026.1,52731.5,25000,-27731.5,-110.93,27731.5,null,null,null,"O3",0,0,8968,0,0,0,0,0,15943,0,24911,25000,89,0.36]
["O4",6972.8,4980.6000000000004,21914.6,31875.8,15937.9,81681.8,82000,318.2,0.39,318.2,null,null,null,null,"O4",7125.9,4275.5,23277.9,0,9026.1,43705.4,82000,38294.6,46.7,38294.6,null,null,null,"O4",4982.2,0,8968,57793.5,9964.4,0,0,0,0,0,81708.100000000006,82000,291.89999999999998,0.36]
["O5",6972.8,37852.5,21914.6,0,15937.9,82677.899999999994,81000,-1677.9,-2.0699999999999998,1677.9,null,null,null,null,"O5",0,4275.5,23277.9,4750.6000000000004,9026.1,41330.1,81000,39669.9,48.98,39669.9,null,null,null,"O5",11210,33629.9,8968,996.4,9964.4,0,0,0,15943,0,80711.7,81000,288.3,0.36]
["O6",0,0,13945.7,0,2490.3000000000002,16436,16000,-436,-2.73,436,null,null,null,null,"O6",7125.9,4275.5,23277.9,4750.6000000000004,9026.1,48456,16000,-32456,-202.85,32456,null,null,null,"O6",0,0,0,0,0,0,1992.9,0,15943,0,17935.900000000001,16000,-1935.9,-12.1]
["O7",6972.8,4980.6000000000004,13945.7,0,0,25899.1,12000,-13899.1,-115.83,13899.1,null,null,null,null,"O7",1900.2,4275.5,23277.9,4750.6000000000004,9976.2000000000007,44180.5,12000,-32180.5,-268.17,32180.5,null,null,null,"O7",4982.2,0,0,0,0,0,0,0,15943,3736.7,24661.9,12000,-12661.9,-105.52]
["O8",0,4980.6000000000004,42335.1,0,24903,72218.600000000006,86000,13781.4,16.02,13781.4,null,null,null,null,"O8",7125.9,4275.5,23277.9,39904.9,7125.9,81710.100000000006,86000,4289.8999999999996,4.99,4289.8999999999996,null,null,null,"O8",0,0,18932.400000000001,0,19679.7,0,0,0,47081.8,0,85693.9,86000,306.10000000000002,0.36]
["O9",0,74210.899999999994,0,0,2490.3000000000002,76701.2,77000,298.8,0.39,298.8,null,null,null,null,"O9",11401.4,0,38479.800000000003,4750.6000000000004,9026.1,63657.9,77000,13342.1,17.329999999999998,13342.1,null,null,null,"O9",0,59786.400000000001,0,996.4,0,0,0,0,15943,0,76725.899999999994,77000,274.10000000000002,0.36]
["O10",0,37852.5,0,0,24903,62755.5,63000,244.5,0.39,244.5,null,null,null,null,"O10",7125.9,4275.5,38479.800000000003,0,0,49881.2,63000,13118.8,20.82,13118.8,null,null,null,"O10",0,33629.9,0,996.4,28149.4,0,0,0,0,0,62775.7,63000,224.3,0.36]
["O11",6972.8,0,42335.1,0,0,49307.9,17000,-32307.9,-190.05,32307.9,null,null,null,null,"O11",1900.2,4275.5,0,2850.4,9976.2000000000007,19002.3,17000,-2002.3,-11.78,2002.3,null,null,null,"O11",4982.2,0,18932.400000000001,996.4,0,0,0,0,996.4,3736.7,29644.1,17000,-12644.1,-74.38]
["O12",0,1494.2,21914.6,0,0,23408.799999999999,27000,3591.2,13.3,3591.2,null,null,null,null,"O12",11401.4,4275.5,23277.9,4750.6000000000004,9976.2000000000007,53681.599999999999,27000,-26681.599999999999,-98.82,26681.599999999999,null,null,null,"O12",0,0,8968,996.4,0,0,0,0,15943,3736.7,29644.1,27000,-2644.1,-9.7899999999999991]
["O13",6972.8,37852.5,21914.6,0,2490.3000000000002,69230.3,86000,16769.7,19.5,16769.7,null,null,null,null,"O13",7125.9,4275.5,23277.9,4750.6000000000004,9976.2000000000007,49406.1,86000,36593.9,42.55,36593.9,null,null,null,"O13",4982.2,33629.9,8968,996.4,0,0,0,0,15943,3736.7,68256.100000000006,86000,17743.900000000001,20.63]
["O14",6972.8,0,0,0,24903,31875.8,32000,124.2,0.39,124.2,null,null,null,null,"O14",0,4275.5,38479.800000000003,0,0,42755.3,32000,-10755.3,-33.61,10755.3,null,null,null,"O14",11210,0,0,996.4,19679.7,0,0,0,0,0,31886.1,32000,113.9,0.36]
["O15",6972.8,0,30879.7,0,24903,62755.5,77000,14244.5,18.5,14244.5,null,null,null,null,"O15",1900.2,4275.5,23277.9,4750.6000000000004,7125.9,41330.1,77000,35669.9,46.32,35669.9,null,null,null,"O15",11210,0,18932.400000000001,0,19679.7,0,0,0,15943,0,65765,77000,11235,14.59]
["O16",0,1494.2,13945.7,0,2490.3000000000002,17930.099999999999,10000,-7930.1,-79.3,7930.1,null,null,null,null,"O16",7125.9,4275.5,23277.9,0,9026.1,43705.4,10000,-33705.4,-337.05,33705.4,null,null,null,"O16",4982.2,0,0,996.4,0,0,0,0,996.4,0,6975.1,10000,3024.9,30.25]
[null,null,null,null,null,null,null,null,{"$f":"STDEV(I1062:I1077)","v":12866.111701669366},null,{"$f":"SUM(K1062:K1077)","v":136919.79999999999},null,null,null,null,null,null,null,null,null,null,null,null,{"$f":"STDEV(X1062:X1077)","v":27132.673608043584},null,{"$f":"SUM(Z1062:Z1077)","v":364078.30000000005},null,null,null,null,null,null,null,null,null,null,null,null,null,null,null,null,{"$f":"STDEV(AQ1062:AQ1077)","v":7813.5907363068354}]
["S1 �sszeg:",180297.60000000001,null,null,null,null,null,null,null,null,null,null,null,null,null,"S1 �sszeg:",105938,null,null,null,null,null,null,null,null,null,null,null,null,"S1 �sszeg:",228683.1]
["S16 �sszeg:",0,null,null,null,null,null,null,null,null,null,null,null,null,null,"S16 �sszeg:",0,null,null,null,null,null,null,null,null,null,null,null,null,"S16 �sszeg:",0]
["Becsl�s �sszeg:",767011.8,null,null,null,null,null,null,null,null,null,null,null,null,null,"Becsl�s �sszeg:",769120.1,null,null,null,null,null,null,null,null,null,null,null,null,"Becsl�s �sszeg:",767009.8]
["T�ny �sszeg:",767000,null,null,null,null,null,null,null,null,null,null,null,null,null,"T�ny �sszeg:",767000,null,null,null,null,null,null,null,null,null,null,null,null,"T�ny �sszeg:",767000]
["T�ny-becsl�s elt�r�s:",11.8,null,null,null,null,null,null,null,null,null,null,null,null,null,"T�ny-becsl�s elt�r�s:",2120.1,null,null,null,null,null,null,null,null,null,null,null,null,"T�ny-becsl�s elt�r�s:",9.8000000000000007]
["T�ny n�gyzet�sszeg:",null,null,null,null,null,null,null,null,null,null,null,null,null,null,"T�ny n�gyzet�sszeg:",null,null,null,null,null,null,null,null,null,null,null,null,null,"T�ny n�gyzet�sszeg:"]
["Becsl�s n�gyzet�sszeg:",null,null,null,null,null,null,null,null,null,null,null,null,null,null,"Becsl�s n�gyzet�sszeg:",null,null,null,null,null,null,null,null,null,null,null,null,null,"Becsl�s n�gyzet�sszeg:"]
["N�gyzet�sszeg hiba:",0,null,null,null,null,null,null,null,null,null,null,null,null,null,"N�gyzet�sszeg hiba:",0,null,null,null,null,null,null,null,null,null,null,null,null,"N�gyzet�sszeg hiba:",0]
[]
["Open url",null,null,null,null,null,null,null,null,null,null,null,null,null,null,"Open url",null,null,null,null,null,null,null,null,null,null,null,null,null,"Open url"]
[]
["Maxim�lis mem�ria haszn�lat: 1.36 Mb",null,null,null,null,null,null,null,null,null,null,null,null,null,null,"Maxim�lis mem�ria haszn�lat: 1.36 Mb",null,null,null,null,null,null,null,null,null,null,null,null,null,"Maxim�lis mem�ria haszn�lat: 1.38 Mb"]
["A futtat�s id�tartama: 0.09 mp (0 p)",null,null,null,null,null,null,null,null,null,null,null,null,null,null,"A futtat�s id�tartama: 0.08 mp (0 p)",null,null,null,null,null,null,null,null,null,null,null,null,null,"A futtat�s id�tartama: 0.15 mp (0 p)"]
[]
[]
[]
[]
[]
[]
[]
[]
[]
[]
[]
[]
[]
["Azonos�t�:",5678259,"Objektumok:",16,"Attrib�tumok:",5,"Lepcs�k:",16,"Eltol�s:",0,"Le�r�s:","COCO STD: 5678259",null,null,null,"Azonos�t�:",1098413,"Objektumok:",16,"Attrib�tumok:",5,"Lepcs�k:",16,"Eltol�s:",0,"Le�r�s:","COCO STD: 1098413",null,null,"Azonos�t�:",9486129,"Objektumok:",16,"Attrib�tumok:",10,"Lepcs�k:",16,"Eltol�s:",0,"Le�r�s:","COCO STD: 9486129"]
[]
["Rangsor","X(A1)","X(A2)","X(A3)","X(A4)","X(A5)","Y(A6)",null,null,null,null,null,null,null,null,"Rangsor","X(A1)","X(A2)","X(A3)","X(A4)","X(A5)","Y(A6)",null,null,null,null,null,null,null,"Rangsor","X(A1)","X(A2)","X(A3)","X(A4)","X(A5)","X(A6)","X(A7)","X(A8)","X(A9)","X(A10)","Y(A11)"]
["O1",3,9,11,15,2,85000,null,null,null,null,null,null,null,null,"O1",14,7,6,1,15,85000,null,null,null,null,null,null,null,"O1",3,9,11,15,2,14,7,6,1,15,85000]
["O2",13,4,8,6,8,17000,null,null,null,null,null,null,null,null,"O2",2,13,8,10,8,17000,null,null,null,null,null,null,null,"O2",13,4,8,6,8,2,13,8,10,8,17000]
["O3",12,10,5,11,7,48000,null,null,null,null,null,null,null,null,"O3",5,6,12,5,10,48000,null,null,null,null,null,null,null,"O3",12,10,5,11,7,5,6,12,5,10,48000]
["O4",7,5,10,4,6,64000,null,null,null,null,null,null,null,null,"O4",10,11,7,12,11,64000,null,null,null,null,null,null,null,"O4",7,5,10,4,6,10,11,7,12,11,64000]
["O5",5,7,15,7,4,60000,null,null,null,null,null,null,null,null,"O5",12,9,2,9,13,60000,null,null,null,null,null,null,null,"O5",5,7,15,7,4,12,9,2,9,13,60000]
["O6",1,3,8,10,1,51000,null,null,null,null,null,null,null,null,"O6",16,14,8,6,16,51000,null,null,null,null,null,null,null,"O6",1,3,8,10,1,16,14,8,6,16,51000]
["O7",10,14,16,2,14,34000,null,null,null,null,null,null,null,null,"O7",7,3,1,14,3,34000,null,null,null,null,null,null,null,"O7",10,14,16,2,14,7,3,1,14,3,34000]
["O8",2,8,7,13,13,16000,null,null,null,null,null,null,null,null,"O8",15,8,10,3,4,16000,null,null,null,null,null,null,null,"O8",2,8,7,13,13,15,8,10,3,4,16000]
["O9",8,2,4,3,10,44000,null,null,null,null,null,null,null,null,"O9",9,15,13,13,7,44000,null,null,null,null,null,null,null,"O9",8,2,4,3,10,9,15,13,13,7,44000]
["O10",16,16,14,9,5,26000,null,null,null,null,null,null,null,null,"O10",1,1,3,7,12,26000,null,null,null,null,null,null,null,"O10",16,16,14,9,5,1,1,3,7,12,26000]
["O11",13,15,1,12,15,21000,null,null,null,null,null,null,null,null,"O11",2,2,16,4,1,21000,null,null,null,null,null,null,null,"O11",13,15,1,12,15,2,2,16,4,1,21000]
["O12",9,1,12,14,12,15000,null,null,null,null,null,null,null,null,"O12",8,16,5,2,5,15000,null,null,null,null,null,null,null,"O12",9,1,12,14,12,8,16,5,2,5,15000]
["O13",13,11,3,5,3,34000,null,null,null,null,null,null,null,null,"O13",2,5,14,11,14,34000,null,null,null,null,null,null,null,"O13",13,11,3,5,3,2,5,14,11,14,34000]
["O14",4,13,6,1,15,26000,null,null,null,null,null,null,null,null,"O14",13,4,11,15,1,26000,null,null,null,null,null,null,null,"O14",4,13,6,1,15,13,4,11,15,1,26000]
["O15",6,6,2,8,11,78000,null,null,null,null,null,null,null,null,"O15",11,10,15,8,6,78000,null,null,null,null,null,null,null,"O15",6,6,2,8,11,11,10,15,8,6,78000]
["O16",11,5,13,1,8,91000,null,null,null,null,null,null,null,null,"O16",6,11,4,15,8,91000,null,null,null,null,null,null,null,"O16",11,5,13,1,8,6,11,4,15,8,91000]
[]
["L�pcs�k(1)","X(A1)","X(A2)","X(A3)","X(A4)","X(A5)",null,null,null,null,null,null,null,null,null,"L�pcs�k(1)","X(A1)","X(A2)","X(A3)","X(A4)","X(A5)",null,null,null,null,null,null,null,null,"L�pcs�k(1)","X(A1)","X(A2)","X(A3)","X(A4)","X(A5)","X(A6)","X(A7)","X(A8)","X(A9)","X(A10)"]
["S1","(4080.5+11221.3)/(2)=7650.85","(12241.4+15301.7)/(2)=13771.55","(21422.4+21422.4)/(2)=21422.4","(23462.6+43864.9)/(2)=33663.8","(35704+60186.8)/(2)=47945.4",null,null,null,null,null,null,null,null,null,"S1","(9437.5+18403.1)/(2)=13920.3","(10381.3+13684.4)/(2)=12032.8","(12268.8+42940.6)/(2)=27604.7","(65118.8+38221.9)/(2)=51670.3","(0+10853.1)/(2)=5426.55",null,null,null,null,null,null,null,null,"S1","(10056.7+2011.3)/(2)=6034","(15085+15085)/(2)=15085","(21119+27153)/(2)=24136","(22124.6+32181.3)/(2)=27152.95","(26147.3+34192.6)/(2)=30169.95","(0+0)/(2)=0","(0+0)/(2)=0","(15085+21119)/(2)=18102","(43243.6+35198.3)/(2)=39220.95","(0+0)/(2)=0"]
["S2","(4080.5+11221.3)/(2)=7650.85","(12241.4+15301.7)/(2)=13771.55","(21422.4+21422.4)/(2)=21422.4","(23462.6+34683.9)/(2)=29073.3","(35704+60186.8)/(2)=47945.4",null,null,null,null,null,null,null,null,null,"S2","(9437.5+18403.1)/(2)=13920.3","(10381.3+13684.4)/(2)=12032.8","(12268.8+42940.6)/(2)=27604.7","(0+30671.9)/(2)=15335.95","(0+10853.1)/(2)=5426.55",null,null,null,null,null,null,null,null,"S2","(4022.7+2011.3)/(2)=3017","(15085+15085)/(2)=15085","(21119+27153)/(2)=24136","(19107.6+13073.7)/(2)=16090.65","(26147.3+34192.6)/(2)=30169.95","(0+0)/(2)=0","(0+0)/(2)=0","(15085+10056.7)/(2)=12570.8","(0+0)/(2)=0","(0+0)/(2)=0"]
["S3","(4080.5+11221.3)/(2)=7650.85","(12241.4+15301.7)/(2)=13771.55","(1020.1+0)/(2)=510.05","(23462.6+5100.6)/(2)=14281.6","(33663.8+34683.9)/(2)=34173.85",null,null,null,null,null,null,null,null,null,"S3","(9437.5+18403.1)/(2)=13920.3","(10381.3+13684.4)/(2)=12032.8","(4718.8+42940.6)/(2)=23829.7","(0+30671.9)/(2)=15335.95","(0+10853.1)/(2)=5426.55",null,null,null,null,null,null,null,null,"S3","(4022.7+2011.3)/(2)=3017","(15085+15085)/(2)=15085","(8045.3+0)/(2)=4022.65","(19107.6+13073.7)/(2)=16090.65","(26147.3+34192.6)/(2)=30169.95","(0+0)/(2)=0","(0+0)/(2)=0","(0+10056.7)/(2)=5028.35","(0+0)/(2)=0","(0+0)/(2)=0"]
["S4","(3060.3+11221.3)/(2)=7140.8","(12241.4+15301.7)/(2)=13771.55","(1020.1+0)/(2)=510.05","(23462.6+5100.6)/(2)=14281.6","(33663.8+34683.9)/(2)=34173.85",null,null,null,null,null,null,null,null,null,"S4","(9437.5+18403.1)/(2)=13920.3","(10381.3+13684.4)/(2)=12032.8","(4718.8+42940.6)/(2)=23829.7","(0+30671.9)/(2)=15335.95","(0+10853.1)/(2)=5426.55",null,null,null,null,null,null,null,null,"S4","(4022.7+2011.3)/(2)=3017","(15085+15085)/(2)=15085","(8045.3+0)/(2)=4022.65","(19107.6+13073.7)/(2)=16090.65","(26147.3+34192.6)/(2)=30169.95","(0+0)/(2)=0","(0+0)/(2)=0","(0+10056.7)/(2)=5028.35","(0+0)/(2)=0","(0+0)/(2)=0"]
["S5","(3060.3+11221.3)/(2)=7140.8","(12241.4+15301.7)/(2)=13771.55","(1020.1+0)/(2)=510.05","(0+0)/(2)=0","(26523+33663.8)/(2)=30093.4",null,null,null,null,null,null,null,null,null,"S5","(9437.5+18403.1)/(2)=13920.3","(10381.3+13684.4)/(2)=12032.8","(4718.8+28312.5)/(2)=16515.65","(0+30671.9)/(2)=15335.95","(0+10853.1)/(2)=5426.55",null,null,null,null,null,null,null,null,"S5","(4022.7+2011.3)/(2)=3017","(15085+15085)/(2)=15085","(8045.3+0)/(2)=4022.65","(0+0)/(2)=0","(26147.3+34192.6)/(2)=30169.95","(0+0)/(2)=0","(0+0)/(2)=0","(0+0)/(2)=0","(0+0)/(2)=0","(0+0)/(2)=0"]
["S6","(3060.3+11221.3)/(2)=7140.8","(12241.4+15301.7)/(2)=13771.55","(0+0)/(2)=0","(0+0)/(2)=0","(26523+33663.8)/(2)=30093.4",null,null,null,null,null,null,null,null,null,"S6","(9437.5+18403.1)/(2)=13920.3","(10381.3+13684.4)/(2)=12032.8","(4718.8+28312.5)/(2)=16515.65","(0+30671.9)/(2)=15335.95","(0+10853.1)/(2)=5426.55",null,null,null,null,null,null,null,null,"S6","(4022.7+2011.3)/(2)=3017","(15085+15085)/(2)=15085","(0+0)/(2)=0","(0+0)/(2)=0","(26147.3+34192.6)/(2)=30169.95","(0+0)/(2)=0","(0+0)/(2)=0","(0+0)/(2)=0","(0+0)/(2)=0","(0+0)/(2)=0"]
["S7","(3060.3+11221.3)/(2)=7140.8","(12241.4+15301.7)/(2)=13771.55","(0+0)/(2)=0","(0+0)/(2)=0","(26523+33663.8)/(2)=30093.4",null,null,null,null,null,null,null,null,null,"S7","(9437.5+18403.1)/(2)=13920.3","(10381.3+13684.4)/(2)=12032.8","(4718.8+28312.5)/(2)=16515.65","(0+30671.9)/(2)=15335.95","(0+10853.1)/(2)=5426.55",null,null,null,null,null,null,null,null,"S7","(4022.7+2011.3)/(2)=3017","(15085+14079.3)/(2)=14582.15","(0+0)/(2)=0","(0+0)/(2)=0","(26147.3+34192.6)/(2)=30169.95","(0+0)/(2)=0","(0+0)/(2)=0","(0+0)/(2)=0","(0+0)/(2)=0","(0+0)/(2)=0"]
["S8","(3060.3+0)/(2)=1530.15","(12241.4+15301.7)/(2)=13771.55","(0+0)/(2)=0","(0+0)/(2)=0","(5100.6+33663.8)/(2)=19382.2",null,null,null,null,null,null,null,null,null,"S8","(9437.5+18403.1)/(2)=13920.3","(10381.3+13684.4)/(2)=12032.8","(4718.8+3775)/(2)=4246.9","(0+30671.9)/(2)=15335.95","(0+10853.1)/(2)=5426.55",null,null,null,null,null,null,null,null,"S8","(0+0)/(2)=0","(12068+14079.3)/(2)=13073.65","(0+0)/(2)=0","(0+0)/(2)=0","(2011.3+34192.6)/(2)=18102","(0+0)/(2)=0","(0+0)/(2)=0","(0+0)/(2)=0","(0+0)/(2)=0","(0+0)/(2)=0"]
["S9","(3060.3+0)/(2)=1530.15","(12241.4+15301.7)/(2)=13771.55","(0+0)/(2)=0","(0+0)/(2)=0","(5100.6+33663.8)/(2)=19382.2",null,null,null,null,null,null,null,null,null,"S9","(9437.5+18403.1)/(2)=13920.3","(10381.3+13684.4)/(2)=12032.8","(4718.8+0)/(2)=2359.4","(0+0)/(2)=0","(0+0)/(2)=0",null,null,null,null,null,null,null,null,"S9","(0+0)/(2)=0","(12068+14079.3)/(2)=13073.65","(0+0)/(2)=0","(0+0)/(2)=0","(2011.3+34192.6)/(2)=18102","(0+0)/(2)=0","(0+0)/(2)=0","(0+0)/(2)=0","(0+0)/(2)=0","(0+0)/(2)=0"]
["S10","(3060.3+0)/(2)=1530.15","(12241.4+15301.7)/(2)=13771.55","(0+0)/(2)=0","(0+0)/(2)=0","(5100.6+31623.6)/(2)=18362.05",null,null,null,null,null,null,null,null,null,"S10","(9437.5+18403.1)/(2)=13920.3","(10381.3+13684.4)/(2)=12032.8","(4718.8+0)/(2)=2359.4","(0+0)/(2)=0","(0+0)/(2)=0",null,null,null,null,null,null,null,null,"S10","(0+0)/(2)=0","(12068+14079.3)/(2)=13073.65","(0+0)/(2)=0","(0+0)/(2)=0","(2011.3+34192.6)/(2)=18102","(0+0)/(2)=0","(0+0)/(2)=0","(0+0)/(2)=0","(0+0)/(2)=0","(0+0)/(2)=0"]
["S11","(3060.3+0)/(2)=1530.15","(0+0)/(2)=0","(0+0)/(2)=0","(0+0)/(2)=0","(5100.6+31623.6)/(2)=18362.05",null,null,null,null,null,null,null,null,null,"S11","(9437.5+18403.1)/(2)=13920.3","(10381.3+13684.4)/(2)=12032.8","(4718.8+0)/(2)=2359.4","(0+0)/(2)=0","(0+0)/(2)=0",null,null,null,null,null,null,null,null,"S11","(0+0)/(2)=0","(0+0)/(2)=0","(0+0)/(2)=0","(0+0)/(2)=0","(2011.3+34192.6)/(2)=18102","(0+0)/(2)=0","(0+0)/(2)=0","(0+0)/(2)=0","(0+0)/(2)=0","(0+0)/(2)=0"]
["S12","(3060.3+0)/(2)=1530.15","(0+0)/(2)=0","(0+0)/(2)=0","(0+0)/(2)=0","(0+0)/(2)=0",null,null,null,null,null,null,null,null,null,"S12","(9437.5+0)/(2)=4718.75","(1887.5+13684.4)/(2)=7785.95","(4718.8+0)/(2)=2359.4","(0+0)/(2)=0","(0+0)/(2)=0",null,null,null,null,null,null,null,null,"S12","(0+0)/(2)=0","(0+0)/(2)=0","(0+0)/(2)=0","(0+0)/(2)=0","(0+0)/(2)=0","(0+0)/(2)=0","(0+0)/(2)=0","(0+0)/(2)=0","(0+0)/(2)=0","(0+0)/(2)=0"]
["S13","(0+0)/(2)=0","(0+0)/(2)=0","(0+0)/(2)=0","(0+0)/(2)=0","(0+0)/(2)=0",null,null,null,null,null,null,null,null,null,"S13","(9437.5+0)/(2)=4718.75","(1887.5+13684.4)/(2)=7785.95","(4718.8+0)/(2)=2359.4","(0+0)/(2)=0","(0+0)/(2)=0",null,null,null,null,null,null,null,null,"S13","(0+0)/(2)=0","(0+0)/(2)=0","(0+0)/(2)=0","(0+0)/(2)=0","(0+0)/(2)=0","(0+0)/(2)=0","(0+0)/(2)=0","(0+0)/(2)=0","(0+0)/(2)=0","(0+0)/(2)=0"]
["S14","(0+0)/(2)=0","(0+0)/(2)=0","(0+0)/(2)=0","(0+0)/(2)=0","(0+0)/(2)=0",null,null,null,null,null,null,null,null,null,"S14","(0+0)/(2)=0","(1887.5+13684.4)/(2)=7785.95","(4718.8+0)/(2)=2359.4","(0+0)/(2)=0","(0+0)/(2)=0",null,null,null,null,null,null,null,null,"S14","(0+0)/(2)=0","(0+0)/(2)=0","(0+0)/(2)=0","(0+0)/(2)=0","(0+0)/(2)=0","(0+0)/(2)=0","(0+0)/(2)=0","(0+0)/(2)=0","(0+0)/(2)=0","(0+0)/(2)=0"]
["S15","(0+0)/(2)=0","(0+0)/(2)=0","(0+0)/(2)=0","(0+0)/(2)=0","(0+0)/(2)=0",null,null,null,null,null,null,null,null,null,"S15","(0+0)/(2)=0","(1887.5+12268.8)/(2)=7078.15","(4718.8+0)/(2)=2359.4","(0+0)/(2)=0","(0+0)/(2)=0",null,null,null,null,null,null,null,null,"S15","(0+0)/(2)=0","(0+0)/(2)=0","(0+0)/(2)=0","(0+0)/(2)=0","(0+0)/(2)=0","(0+0)/(2)=0","(0+0)/(2)=0","(0+0)/(2)=0","(0+0)/(2)=0","(0+0)/(2)=0"]
["S16","(0+0)/(2)=0","(0+0)/(2)=0","(0+0)/(2)=0","(0+0)/(2)=0","(0+0)/(2)=0",null,null,null,null,null,null,null,null,null,"S16","(0+0)/(2)=0","(0+0)/(2)=0","(0+0)/(2)=0","(0+0)/(2)=0","(0+0)/(2)=0",null,null,null,null,null,null,null,null,"S16","(0+0)/(2)=0","(0+0)/(2)=0","(0+0)/(2)=0","(0+0)/(2)=0","(0+0)/(2)=0","(0+0)/(2)=0","(0+0)/(2)=0","(0+0)/(2)=0","(0+0)/(2)=0","(0+0)/(2)=0"]
[]
["L�pcs�k(2)","X(A1)","X(A2)","X(A3)","X(A4)","X(A5)",null,null,null,null,null,null,null,null,null,"L�pcs�k(2)","X(A1)","X(A2)","X(A3)","X(A4)","X(A5)",null,null,null,null,null,null,null,null,"L�pcs�k(2)","X(A1)","X(A2)","X(A3)","X(A4)","X(A5)","X(A6)","X(A7)","X(A8)","X(A9)","X(A10)"]
["S1",7650.9,13771.6,21422.400000000001,33663.800000000003,47945.4,null,null,null,null,null,null,null,null,null,"S1",13920.3,12032.8,27604.7,51670.3,5426.6,null,null,null,null,null,null,null,null,"S1",6034,15085,24136,27153,30170,0,0,18102,39221,0]
["S2",7650.9,13771.6,21422.400000000001,29073.3,47945.4,null,null,null,null,null,null,null,null,null,"S2",13920.3,12032.8,27604.7,15335.9,5426.6,null,null,null,null,null,null,null,null,"S2",3017,15085,24136,16090.7,30170,0,0,12570.8,0,0]
["S3",7650.9,13771.6,510.1,14281.6,34173.9,null,null,null,null,null,null,null,null,null,"S3",13920.3,12032.8,23829.7,15335.9,5426.6,null,null,null,null,null,null,null,null,"S3",3017,15085,4022.7,16090.7,30170,0,0,5028.3,0,0]
["S4",7140.8,13771.6,510.1,14281.6,34173.9,null,null,null,null,null,null,null,null,null,"S4",13920.3,12032.8,23829.7,15335.9,5426.6,null,null,null,null,null,null,null,null,"S4",3017,15085,4022.7,16090.7,30170,0,0,5028.3,0,0]
["S5",7140.8,13771.6,510.1,0,30093.4,null,null,null,null,null,null,null,null,null,"S5",13920.3,12032.8,16515.599999999999,15335.9,5426.6,null,null,null,null,null,null,null,null,"S5",3017,15085,4022.7,0,30170,0,0,0,0,0]
["S6",7140.8,13771.6,0,0,30093.4,null,null,null,null,null,null,null,null,null,"S6",13920.3,12032.8,16515.599999999999,15335.9,5426.6,null,null,null,null,null,null,null,null,"S6",3017,15085,0,0,30170,0,0,0,0,0]
["S7",7140.8,13771.6,0,0,30093.4,null,null,null,null,null,null,null,null,null,"S7",13920.3,12032.8,16515.599999999999,15335.9,5426.6,null,null,null,null,null,null,null,null,"S7",3017,14582.2,0,0,30170,0,0,0,0,0]
["S8",1530.2,13771.6,0,0,19382.2,null,null,null,null,null,null,null,null,null,"S8",13920.3,12032.8,4246.8999999999996,15335.9,5426.6,null,null,null,null,null,null,null,null,"S8",0,13073.7,0,0,18102,0,0,0,0,0]
["S9",1530.2,13771.6,0,0,19382.2,null,null,null,null,null,null,null,null,null,"S9",13920.3,12032.8,2359.4,0,0,null,null,null,null,null,null,null,null,"S9",0,13073.7,0,0,18102,0,0,0,0,0]
["S10",1530.2,13771.6,0,0,18362.099999999999,null,null,null,null,null,null,null,null,null,"S10",13920.3,12032.8,2359.4,0,0,null,null,null,null,null,null,null,null,"S10",0,13073.7,0,0,18102,0,0,0,0,0]
["S11",1530.2,0,0,0,18362.099999999999,null,null,null,null,null,null,null,null,null,"S11",13920.3,12032.8,2359.4,0,0,null,null,null,null,null,null,null,null,"S11",0,0,0,0,18102,0,0,0,0,0]
["S12",1530.2,0,0,0,0,null,null,null,null,null,null,null,null,null,"S12",4718.8,7785.9,2359.4,0,0,null,null,null,null,null,null,null,null,"S12",0,0,0,0,0,0,0,0,0,0]
["S13",0,0,0,0,0,null,null,null,null,null,null,null,null,null,"S13",4718.8,7785.9,2359.4,0,0,null,null,null,null,null,null,null,null,"S13",0,0,0,0,0,0,0,0,0,0]
["S14",0,0,0,0,0,null,null,null,null,null,null,null,null,null,"S14",0,7785.9,2359.4,0,0,null,null,null,null,null,null,null,null,"S14",0,0,0,0,0,0,0,0,0,0]
["S15",0,0,0,0,0,null,null,null,null,null,null,null,null,null,"S15",0,7078.1,2359.4,0,0,null,null,null,null,null,null,null,null,"S15",0,0,0,0,0,0,0,0,0,0]
["S16",0,0,0,0,0,null,null,null,null,null,null,null,null,null,"S16",0,0,0,0,0,null,null,null,null,null,null,null,null,"S16",0,0,0,0,0,0,0,0,0,0]
[]
["COCO:STD","X(A1)","X(A2)","X(A3)","X(A4)","X(A5)","Becsl�s","T�ny+0","Delta","Delta/T�ny","abs",null,null,null,null,"COCO:STD","X(A1)","X(A2)","X(A3)","X(A4)","X(A5)","Becsl�s","T�ny+0","Delta","Delta/T�ny","abs",null,null,null,"COCO:STD","X(A1)","X(A2)","X(A3)","X(A4)","X(A5)","X(A6)","X(A7)","X(A8)","X(A9)","X(A10)","Becsl�s","T�ny+0","Delta","Delta/T�ny"]
["O1",7650.9,13771.6,0,0,47945.4,69367.8,85000,15632.2,18.39,{"$f":"ABS(I1162)","v":15632.2},null,null,null,null,"O1",0,12032.8,16515.599999999999,51670.3,0,80218.8,85000,4781.3,5.63,{"$f":"ABS(X1162)","v":4781.3},null,null,null,"O1",3017,13073.7,0,0,30170,0,0,0,39221,0,85481.600000000006,85000,-481.6,-0.56999999999999995]
["O2",0,13771.6,0,0,19382.2,33153.699999999997,17000,-16153.7,-95.02,{"$f":"ABS(I1163)","v":16153.7},null,null,null,null,"O2",13920.3,7785.9,4246.8999999999996,0,5426.6,31379.7,17000,-14379.7,-84.59,{"$f":"ABS(X1163)","v":14379.7},null,null,null,"O2",0,15085,0,0,18102,0,0,0,0,0,33187,17000,-16187,-95.22]
["O3",1530.2,13771.6,510.1,0,30093.4,45905.2,48000,2094.8000000000002,4.3600000000000003,2094.8000000000002,null,null,null,null,"O3",13920.3,12032.8,2359.4,15335.9,0,43648.4,48000,4351.6000000000004,9.07,4351.6000000000004,null,null,null,"O3",0,13073.7,4022.7,0,30170,0,0,0,0,0,47266.3,48000,733.7,1.53]
["O4",7140.8,13771.6,0,14281.6,30093.4,65287.4,64000,-1287.4000000000001,-2.0099999999999998,1287.4000000000001,null,null,null,null,"O4",13920.3,12032.8,16515.599999999999,0,0,42468.800000000003,64000,21531.3,33.64,21531.3,null,null,null,"O4",3017,15085,0,16090.7,30170,0,0,0,0,0,64362.6,64000,-362.6,-0.56999999999999995]
["O5",7140.8,13771.6,0,0,34173.9,55086.2,60000,4913.8,8.19,4913.8,null,null,null,null,"O5",4718.8,12032.8,27604.7,0,0,44356.3,60000,15643.8,26.07,15643.8,null,null,null,"O5",3017,14582.2,0,0,30170,0,0,12570.8,0,0,60339.9,60000,-339.9,-0.56999999999999995]
["O6",7650.9,13771.6,0,0,47945.4,69367.8,51000,-18367.8,-36.020000000000003,18367.8,null,null,null,null,"O6",0,7785.9,4246.8999999999996,15335.9,0,27368.799999999999,51000,23631.3,46.34,23631.3,null,null,null,"O6",6034,15085,0,0,30170,0,0,0,0,0,51289,51000,-289,-0.56999999999999995]
["O7",1530.2,0,0,29073.3,0,30603.4,34000,3396.6,9.99,3396.6,null,null,null,null,"O7",13920.3,12032.8,27604.7,0,5426.6,58984.4,34000,-24984.400000000001,-73.48,24984.400000000001,null,null,null,"O7",0,0,0,16090.7,0,0,0,18102,0,0,34192.6,34000,-192.6,-0.56999999999999995]
["O8",7650.9,13771.6,0,0,0,21422.400000000001,16000,-5422.4,-33.89,5422.4,null,null,null,null,"O8",0,12032.8,2359.4,15335.9,5426.6,35154.699999999997,16000,-19154.7,-119.72,19154.7,null,null,null,"O8",3017,13073.7,0,0,0,0,0,0,0,0,16090.7,16000,-90.7,-0.56999999999999995]
["O9",1530.2,13771.6,510.1,14281.6,18362.099999999999,48455.5,44000,-4455.5,-10.130000000000001,4455.5,null,null,null,null,"O9",13920.3,7078.1,2359.4,0,5426.6,28784.400000000001,44000,15215.6,34.58,15215.6,null,null,null,"O9",0,15085,4022.7,16090.7,18102,0,0,0,0,0,53300.3,44000,-9300.2999999999993,-21.14]
["O10",0,0,0,0,30093.4,30093.4,26000,-4093.4,-15.74,4093.4,null,null,null,null,"O10",13920.3,12032.8,23829.7,15335.9,0,65118.8,26000,-39118.800000000003,-150.46,39118.800000000003,null,null,null,"O10",0,0,0,0,30170,0,0,5028.3,0,0,35198.300000000003,26000,-9198.2999999999993,-35.380000000000003]
["O11",0,0,21422.400000000001,0,0,21422.400000000001,21000,-422.4,-2.0099999999999998,422.4,null,null,null,null,"O11",13920.3,12032.8,0,15335.9,5426.6,46715.6,21000,-25715.599999999999,-122.46,25715.599999999999,null,null,null,"O11",0,0,24136,0,0,0,0,0,0,0,24136,21000,-3136,-14.93]
["O12",1530.2,13771.6,0,0,0,15301.7,15000,-301.7,-2.0099999999999998,301.7,null,null,null,null,"O12",13920.3,0,16515.599999999999,15335.9,5426.6,51198.400000000001,15000,-36198.400000000001,-241.32,36198.400000000001,null,null,null,"O12",0,15085,0,0,0,0,0,0,0,0,15085,15000,-85,-0.56999999999999995]
["O13",0,0,510.1,0,34173.9,34683.9,34000,-683.9,-2.0099999999999998,683.9,null,null,null,null,"O13",13920.3,12032.8,2359.4,0,0,28312.5,34000,5687.5,16.73,5687.5,null,null,null,"O13",0,0,4022.7,0,30170,0,0,0,0,0,34192.6,34000,-192.6,-0.56999999999999995]
["O14",7140.8,0,0,33663.800000000003,0,40804.6,26000,-14804.6,-56.94,14804.6,null,null,null,null,"O14",4718.8,12032.8,2359.4,0,5426.6,24537.5,26000,1462.5,5.63,1462.5,null,null,null,"O14",3017,0,0,27153,0,0,0,0,0,0,30170,26000,-4170,-16.04]
["O15",7140.8,13771.6,21422.400000000001,0,18362.099999999999,60696.800000000003,78000,17303.2,22.18,17303.2,null,null,null,null,"O15",13920.3,12032.8,2359.4,15335.9,5426.6,49075,78000,28925,37.08,28925,null,null,null,"O15",3017,15085,24136,0,18102,0,0,0,0,0,60339.9,78000,17660.099999999999,22.64]
["O16",1530.2,13771.6,0,33663.800000000003,19382.2,68347.7,91000,22652.3,24.89,22652.3,null,null,null,null,"O16",13920.3,12032.8,23829.7,0,5426.6,55209.4,91000,35790.6,39.33,35790.6,null,null,null,"O16",0,15085,0,27153,18102,0,0,5028.3,0,0,65368.3,91000,25631.7,28.17]
[null,null,null,null,null,null,null,null,{"$f":"STDEV(I1162:I1177)","v":11497.426614361364},null,{"$f":"SUM(K1162:K1177)","v":131985.69999999998},null,null,null,null,null,null,null,null,null,null,null,null,{"$f":"STDEV(X1162:X1177)","v":23652.455224196598},null,{"$f":"SUM(Z1162:Z1177)","v":316572.09999999998},null,null,null,null,null,null,null,null,null,null,null,null,null,null,null,null,{"$f":"STDEV(AQ1162:AQ1177)","v":9765.2454207404153}]
["S1 �sszeg:",124454.1,null,null,null,null,null,null,null,null,null,null,null,null,null,"S1 �sszeg:",110654.7,null,null,null,null,null,null,null,null,null,null,null,null,"S1 �sszeg:",159901]
["S16 �sszeg:",0,null,null,null,null,null,null,null,null,null,null,null,null,null,"S16 �sszeg:",0,null,null,null,null,null,null,null,null,null,null,null,null,"S16 �sszeg:",0]
["Becsl�s �sszeg:",709999.9,null,null,null,null,null,null,null,null,null,null,null,null,null,"Becsl�s �sszeg:",712531.5,null,null,null,null,null,null,null,null,null,null,null,null,"Becsl�s �sszeg:",710000.1]
["T�ny �sszeg:",710000,null,null,null,null,null,null,null,null,null,null,null,null,null,"T�ny �sszeg:",710000,null,null,null,null,null,null,null,null,null,null,null,null,"T�ny �sszeg:",710000]
["T�ny-becsl�s elt�r�s:",-0.1,null,null,null,null,null,null,null,null,null,null,null,null,null,"T�ny-becsl�s elt�r�s:",2531.5,null,null,null,null,null,null,null,null,null,null,null,null,"T�ny-becsl�s elt�r�s:",0.1]
["T�ny n�gyzet�sszeg:",null,null,null,null,null,null,null,null,null,null,null,null,null,null,"T�ny n�gyzet�sszeg:",null,null,null,null,null,null,null,null,null,null,null,null,null,"T�ny n�gyzet�sszeg:"]
["Becsl�s n�gyzet�sszeg:",null,null,null,null,null,null,null,null,null,null,null,null,null,null,"Becsl�s n�gyzet�sszeg:",null,null,null,null,null,null,null,null,null,null,null,null,null,"Becsl�s n�gyzet�sszeg:"]
["N�gyzet�sszeg hiba:",0,null,null,null,null,null,null,null,null,null,null,null,null,null,"N�gyzet�sszeg hiba:",0,null,null,null,null,null,null,null,null,null,null,null,null,"N�gyzet�sszeg hiba:",0]
[]
["Open url",null,null,null,null,null,null,null,null,null,null,null,null,null,null,"Open url",null,null,null,null,null,null,null,null,null,null,null,null,null,"Open url"]
[]
["Maxim�lis mem�ria haszn�lat: 1.36 Mb",null,null,null,null,null,null,null,null,null,null,null,null,null,null,"Maxim�lis mem�ria haszn�lat: 1.36 Mb",null,null,null,null,null,null,null,null,null,null,null,null,null,"Maxim�lis mem�ria haszn�lat: 1.38 Mb"]
["A futtat�s id�tartama: 0.11 mp (0 p)",null,null,null,null,null,null,null,null,null,null,null,null,null,null,"A futtat�s id�tartama: 0.05 mp (0 p)",null,null,null,null,null,null,null,null,null,null,null,null,null,"A futtat�s id�tartama: 0.07 mp (0 p)"]
[]
[]
[]
[]
[]
[]
[]
[]
[]
[]
[]
[]
[]
["Azonos�t�:",7600842,"Objektumok:",16,"Attrib�tumok:",5,"Lepcs�k:",16,"Eltol�s:",0,"Le�r�s:","COCO STD: 7600842",null,null,null,"Azonos�t�:",8013429,"Objektumok:",16,"Attrib�tumok:",5,"Lepcs�k:",16,"Eltol�s:",0,"Le�r�s:","COCO STD: 8013429",null,null,"Azonos�t�:",8681429,"Objektumok:",16,"Attrib�tumok:",10,"Lepcs�k:",16,"Eltol�s:",0,"Le�r�s:","COCO STD: 8681429"]
[]
["Rangsor","X(A1)","X(A2)","X(A3)","X(A4)","X(A5)","Y(A6)",null,null,null,null,null,null,null,null,"Rangsor","X(A1)","X(A2)","X(A3)","X(A4)","X(A5)","Y(A6)",null,null,null,null,null,null,null,"Rangsor","X(A1)","X(A2)","X(A3)","X(A4)","X(A5)","X(A6)","X(A7)","X(A8)","X(A9)","X(A10)","Y(A11)"]
["O1",10,9,4,10,2,46000,null,null,null,null,null,null,null,null,"O1",6,8,12,7,15,46000,null,null,null,null,null,null,null,"O1",10,9,4,10,2,6,8,12,7,15,46000]
["O2",16,11,13,2,9,62000,null,null,null,null,null,null,null,null,"O2",1,5,4,14,8,62000,null,null,null,null,null,null,null,"O2",16,11,13,2,9,1,5,4,14,8,62000]
["O3",15,14,14,7,6,43000,null,null,null,null,null,null,null,null,"O3",2,3,3,10,11,43000,null,null,null,null,null,null,null,"O3",15,14,14,7,6,2,3,3,10,11,43000]
["O4",1,13,7,9,7,83000,null,null,null,null,null,null,null,null,"O4",16,4,10,8,10,83000,null,null,null,null,null,null,null,"O4",1,13,7,9,7,16,4,10,8,10,83000]
["O5",4,10,15,14,11,28000,null,null,null,null,null,null,null,null,"O5",13,7,2,3,6,28000,null,null,null,null,null,null,null,"O5",4,10,15,14,11,13,7,2,3,6,28000]
["O6",12,15,2,11,16,14000,null,null,null,null,null,null,null,null,"O6",5,2,14,6,1,14000,null,null,null,null,null,null,null,"O6",12,15,2,11,16,5,2,14,6,1,14000]
["O7",5,5,6,5,13,93000,null,null,null,null,null,null,null,null,"O7",12,12,11,12,4,93000,null,null,null,null,null,null,null,"O7",5,5,6,5,13,12,12,11,12,4,93000]
["O8",3,4,2,4,1,58000,null,null,null,null,null,null,null,null,"O8",14,13,14,13,16,58000,null,null,null,null,null,null,null,"O8",3,4,2,4,1,14,13,14,13,16,58000]
["O9",9,2,10,16,4,78000,null,null,null,null,null,null,null,null,"O9",9,15,6,1,13,78000,null,null,null,null,null,null,null,"O9",9,2,10,16,4,9,15,6,1,13,78000]
["O10",2,8,9,8,8,46000,null,null,null,null,null,null,null,null,"O10",15,9,8,9,9,46000,null,null,null,null,null,null,null,"O10",2,8,9,8,8,15,9,8,9,9,46000]
["O11",13,3,8,12,12,80000,null,null,null,null,null,null,null,null,"O11",4,14,9,5,5,80000,null,null,null,null,null,null,null,"O11",13,3,8,12,12,4,14,9,5,5,80000]
["O12",8,1,4,1,14,70000,null,null,null,null,null,null,null,null,"O12",10,16,12,16,2,70000,null,null,null,null,null,null,null,"O12",8,1,4,1,14,10,16,12,16,2,70000]
["O13",10,11,10,13,14,52000,null,null,null,null,null,null,null,null,"O13",6,5,6,4,2,52000,null,null,null,null,null,null,null,"O13",10,11,10,13,14,6,5,6,4,2,52000]
["O14",14,16,1,15,5,70000,null,null,null,null,null,null,null,null,"O14",3,1,16,2,12,70000,null,null,null,null,null,null,null,"O14",14,16,1,15,5,3,1,16,2,12,70000]
["O15",6,6,16,6,10,74000,null,null,null,null,null,null,null,null,"O15",11,11,1,11,7,74000,null,null,null,null,null,null,null,"O15",6,6,16,6,10,11,11,1,11,7,74000]
["O16",10,7,12,2,3,14000,null,null,null,null,null,null,null,null,"O16",6,10,5,14,14,14000,null,null,null,null,null,null,null,"O16",10,7,12,2,3,6,10,5,14,14,14000]
[]
["L�pcs�k(1)","X(A1)","X(A2)","X(A3)","X(A4)","X(A5)",null,null,null,null,null,null,null,null,null,"L�pcs�k(1)","X(A1)","X(A2)","X(A3)","X(A4)","X(A5)",null,null,null,null,null,null,null,null,"L�pcs�k(1)","X(A1)","X(A2)","X(A3)","X(A4)","X(A5)","X(A6)","X(A7)","X(A8)","X(A9)","X(A10)"]
["S1","(57067.2+32165.1)/(2)=44616.15","(51879.3+29052.4)/(2)=40465.85","(58104.8+33202.7)/(2)=45653.75","(0+15563.8)/(2)=7781.9","(14526.2+39428.2)/(2)=26977.2",null,null,null,null,null,null,null,null,null,"S1","(35098+14452.1)/(2)=24775.05","(0+12387.5)/(2)=6193.75","(61937.7+3096.9)/(2)=32517.3","(66066.9+44388.7)/(2)=55227.75","(14452.1+72260.6)/(2)=43356.35",null,null,null,null,null,null,null,null,"S1","(55610.6+37410.8)/(2)=46510.7","(42466.3+36736.4)/(2)=39601.35","(14155.4+13481)/(2)=13818.25","(0+4718.8)/(2)=2359.4","(18199.8+3707.7)/(2)=10953.8","(48532.9+48869.6)/(2)=48701.3","(40444.1+37747.5)/(2)=39095.8","(74821.6+50555.1)/(2)=62688.35","(14155.4+19211)/(2)=16683.2","(0+10447.7)/(2)=5223.85"]
["S2","(18676.5+0)/(2)=9338.25","(51879.3+29052.4)/(2)=40465.85","(14526.2+12451)/(2)=13488.6","(0+15563.8)/(2)=7781.9","(14526.2+39428.2)/(2)=26977.2",null,null,null,null,null,null,null,null,null,"S2","(29936.5+0)/(2)=14968.25","(0+12387.5)/(2)=6193.75","(14452.1+0)/(2)=7226.05","(42324.1+23742.8)/(2)=33033.45","(14452.1+72260.6)/(2)=43356.35",null,null,null,null,null,null,null,null,"S2","(18199.8+0)/(2)=9099.9","(36399.7+36736.4)/(2)=36568.05","(14155.4+13481)/(2)=13818.25","(0+4718.8)/(2)=2359.4","(18199.8+3707.7)/(2)=10953.8","(29322+10447.7)/(2)=19884.85","(0+0)/(2)=0","(14155.4+9099.9)/(2)=11627.7","(14155.4+19211)/(2)=16683.2","(0+10447.7)/(2)=5223.85"]
["S3","(14526.2+0)/(2)=7263.1","(51879.3+29052.4)/(2)=40465.85","(14526.2+12451)/(2)=13488.6","(0+15563.8)/(2)=7781.9","(14526.2+39428.2)/(2)=26977.2",null,null,null,null,null,null,null,null,null,"S3","(29936.5+0)/(2)=14968.25","(0+12387.5)/(2)=6193.75","(14452.1+0)/(2)=7226.05","(0+23742.8)/(2)=11871.4","(14452.1+72260.6)/(2)=43356.35",null,null,null,null,null,null,null,null,"S3","(0+0)/(2)=0","(36399.7+36736.4)/(2)=36568.05","(14155.4+13481)/(2)=13818.25","(0+4718.8)/(2)=2359.4","(0+0)/(2)=0","(2022.2+336.7)/(2)=1179.45","(0+0)/(2)=0","(14155.4+9099.9)/(2)=11627.7","(14155.4+19211)/(2)=16683.2","(0+10447.7)/(2)=5223.85"]
["S4","(14526.2+0)/(2)=7263.1","(16601.4+29052.4)/(2)=22826.9","(14526.2+12451)/(2)=13488.6","(0+15563.8)/(2)=7781.9","(14526.2+39428.2)/(2)=26977.2",null,null,null,null,null,null,null,null,null,"S4","(29936.5+0)/(2)=14968.25","(0+12387.5)/(2)=6193.75","(14452.1+0)/(2)=7226.05","(0+23742.8)/(2)=11871.4","(14452.1+72260.6)/(2)=43356.35",null,null,null,null,null,null,null,null,"S4","(0+0)/(2)=0","(26288.7+36736.4)/(2)=31512.55","(14155.4+13481)/(2)=13818.25","(0+4718.8)/(2)=2359.4","(0+0)/(2)=0","(2022.2+336.7)/(2)=1179.45","(0+0)/(2)=0","(14155.4+9099.9)/(2)=11627.7","(14155.4+19211)/(2)=16683.2","(0+10447.7)/(2)=5223.85"]
["S5","(14526.2+0)/(2)=7263.1","(16601.4+29052.4)/(2)=22826.9","(14526.2+12451)/(2)=13488.6","(0+15563.8)/(2)=7781.9","(14526.2+39428.2)/(2)=26977.2",null,null,null,null,null,null,null,null,null,"S5","(0+0)/(2)=0","(0+0)/(2)=0","(14452.1+0)/(2)=7226.05","(0+23742.8)/(2)=11871.4","(14452.1+58840.8)/(2)=36646.45",null,null,null,null,null,null,null,null,"S5","(0+0)/(2)=0","(26288.7+36736.4)/(2)=31512.55","(14155.4+13481)/(2)=13818.25","(0+4718.8)/(2)=2359.4","(0+0)/(2)=0","(0+336.7)/(2)=168.35","(0+0)/(2)=0","(14155.4+9099.9)/(2)=11627.7","(14155.4+19211)/(2)=16683.2","(0+2022.2)/(2)=1011.1"]
["S6","(14526.2+0)/(2)=7263.1","(16601.4+29052.4)/(2)=22826.9","(14526.2+12451)/(2)=13488.6","(0+8300.7)/(2)=4150.35","(14526.2+39428.2)/(2)=26977.2",null,null,null,null,null,null,null,null,null,"S6","(0+0)/(2)=0","(0+0)/(2)=0","(14452.1+0)/(2)=7226.05","(0+23742.8)/(2)=11871.4","(14452.1+49550.1)/(2)=32001.15",null,null,null,null,null,null,null,null,"S6","(0+0)/(2)=0","(0+0)/(2)=0","(14155.4+13481)/(2)=13818.25","(0+4718.8)/(2)=2359.4","(0+0)/(2)=0","(0+336.7)/(2)=168.35","(0+0)/(2)=0","(14155.4+9099.9)/(2)=11627.7","(0+19211)/(2)=9605.5","(0+0)/(2)=0"]
["S7","(0+0)/(2)=0","(0+0)/(2)=0","(14526.2+12451)/(2)=13488.6","(0+5187.9)/(2)=2593.95","(14526.2+39428.2)/(2)=26977.2",null,null,null,null,null,null,null,null,null,"S7","(0+0)/(2)=0","(0+0)/(2)=0","(14452.1+0)/(2)=7226.05","(0+23742.8)/(2)=11871.4","(14452.1+49550.1)/(2)=32001.15",null,null,null,null,null,null,null,null,"S7","(0+0)/(2)=0","(0+0)/(2)=0","(14155.4+13481)/(2)=13818.25","(0+4718.8)/(2)=2359.4","(0+0)/(2)=0","(0+336.7)/(2)=168.35","(0+0)/(2)=0","(14155.4+9099.9)/(2)=11627.7","(0+19211)/(2)=9605.5","(0+0)/(2)=0"]
["S8","(0+0)/(2)=0","(0+0)/(2)=0","(14526.2+12451)/(2)=13488.6","(0+2075.2)/(2)=1037.6","(14526.2+39428.2)/(2)=26977.2",null,null,null,null,null,null,null,null,null,"S8","(0+0)/(2)=0","(0+0)/(2)=0","(14452.1+0)/(2)=7226.05","(0+23742.8)/(2)=11871.4","(14452.1+49550.1)/(2)=32001.15",null,null,null,null,null,null,null,null,"S8","(0+0)/(2)=0","(0+0)/(2)=0","(14155.4+13481)/(2)=13818.25","(0+4718.8)/(2)=2359.4","(0+0)/(2)=0","(0+336.7)/(2)=168.35","(0+0)/(2)=0","(14155.4+9099.9)/(2)=11627.7","(0+19211)/(2)=9605.5","(0+0)/(2)=0"]
["S9","(0+0)/(2)=0","(0+0)/(2)=0","(14526.2+12451)/(2)=13488.6","(0+2075.2)/(2)=1037.6","(14526.2+39428.2)/(2)=26977.2",null,null,null,null,null,null,null,null,null,"S9","(0+0)/(2)=0","(0+0)/(2)=0","(14452.1+0)/(2)=7226.05","(0+23742.8)/(2)=11871.4","(14452.1+49550.1)/(2)=32001.15",null,null,null,null,null,null,null,null,"S9","(0+0)/(2)=0","(0+0)/(2)=0","(14155.4+13481)/(2)=13818.25","(0+4718.8)/(2)=2359.4","(0+0)/(2)=0","(0+336.7)/(2)=168.35","(0+0)/(2)=0","(14155.4+9099.9)/(2)=11627.7","(0+19211)/(2)=9605.5","(0+0)/(2)=0"]
["S10","(0+0)/(2)=0","(0+0)/(2)=0","(14526.2+12451)/(2)=13488.6","(0+2075.2)/(2)=1037.6","(14526.2+39428.2)/(2)=26977.2",null,null,null,null,null,null,null,null,null,"S10","(0+0)/(2)=0","(0+0)/(2)=0","(14452.1+0)/(2)=7226.05","(0+23742.8)/(2)=11871.4","(14452.1+49550.1)/(2)=32001.15",null,null,null,null,null,null,null,null,"S10","(0+0)/(2)=0","(0+0)/(2)=0","(14155.4+13481)/(2)=13818.25","(0+4718.8)/(2)=2359.4","(0+0)/(2)=0","(0+336.7)/(2)=168.35","(0+0)/(2)=0","(14155.4+9099.9)/(2)=11627.7","(0+19211)/(2)=9605.5","(0+0)/(2)=0"]
["S11","(0+0)/(2)=0","(0+0)/(2)=0","(0+9338.3)/(2)=4669.15","(0+2075.2)/(2)=1037.6","(14526.2+39428.2)/(2)=26977.2",null,null,null,null,null,null,null,null,null,"S11","(0+0)/(2)=0","(0+0)/(2)=0","(14452.1+0)/(2)=7226.05","(0+23742.8)/(2)=11871.4","(0+36130.3)/(2)=18065.15",null,null,null,null,null,null,null,null,"S11","(0+0)/(2)=0","(0+0)/(2)=0","(0+0)/(2)=0","(0+0)/(2)=0","(0+0)/(2)=0","(0+336.7)/(2)=168.35","(0+0)/(2)=0","(14155.4+9099.9)/(2)=11627.7","(0+19211)/(2)=9605.5","(0+0)/(2)=0"]
["S12","(0+0)/(2)=0","(0+0)/(2)=0","(0+9338.3)/(2)=4669.15","(0+2075.2)/(2)=1037.6","(14526.2+39428.2)/(2)=26977.2",null,null,null,null,null,null,null,null,null,"S12","(0+0)/(2)=0","(0+0)/(2)=0","(14452.1+0)/(2)=7226.05","(0+23742.8)/(2)=11871.4","(0+36130.3)/(2)=18065.15",null,null,null,null,null,null,null,null,"S12","(0+0)/(2)=0","(0+0)/(2)=0","(0+0)/(2)=0","(0+0)/(2)=0","(0+0)/(2)=0","(0+336.7)/(2)=168.35","(0+0)/(2)=0","(14155.4+5055.5)/(2)=9605.5","(0+19211)/(2)=9605.5","(0+0)/(2)=0"]
["S13","(0+0)/(2)=0","(0+0)/(2)=0","(0+9338.3)/(2)=4669.15","(0+2075.2)/(2)=1037.6","(14526.2+39428.2)/(2)=26977.2",null,null,null,null,null,null,null,null,null,"S13","(0+0)/(2)=0","(0+0)/(2)=0","(0+0)/(2)=0","(0+23742.8)/(2)=11871.4","(0+36130.3)/(2)=18065.15",null,null,null,null,null,null,null,null,"S13","(0+0)/(2)=0","(0+0)/(2)=0","(0+0)/(2)=0","(0+0)/(2)=0","(0+0)/(2)=0","(0+0)/(2)=0","(0+0)/(2)=0","(0+0)/(2)=0","(0+0)/(2)=0","(0+0)/(2)=0"]
["S14","(0+0)/(2)=0","(0+0)/(2)=0","(0+0)/(2)=0","(0+0)/(2)=0","(6225.5+39428.2)/(2)=22826.9",null,null,null,null,null,null,null,null,null,"S14","(0+0)/(2)=0","(0+0)/(2)=0","(0+0)/(2)=0","(0+0)/(2)=0","(0+36130.3)/(2)=18065.15",null,null,null,null,null,null,null,null,"S14","(0+0)/(2)=0","(0+0)/(2)=0","(0+0)/(2)=0","(0+0)/(2)=0","(0+0)/(2)=0","(0+0)/(2)=0","(0+0)/(2)=0","(0+0)/(2)=0","(0+0)/(2)=0","(0+0)/(2)=0"]
["S15","(0+0)/(2)=0","(0+0)/(2)=0","(0+0)/(2)=0","(0+0)/(2)=0","(0+0)/(2)=0",null,null,null,null,null,null,null,null,null,"S15","(0+0)/(2)=0","(0+0)/(2)=0","(0+0)/(2)=0","(0+0)/(2)=0","(0+36130.3)/(2)=18065.15",null,null,null,null,null,null,null,null,"S15","(0+0)/(2)=0","(0+0)/(2)=0","(0+0)/(2)=0","(0+0)/(2)=0","(0+0)/(2)=0","(0+0)/(2)=0","(0+0)/(2)=0","(0+0)/(2)=0","(0+0)/(2)=0","(0+0)/(2)=0"]
["S16","(0+0)/(2)=0","(0+0)/(2)=0","(0+0)/(2)=0","(0+0)/(2)=0","(0+0)/(2)=0",null,null,null,null,null,null,null,null,null,"S16","(0+0)/(2)=0","(0+0)/(2)=0","(0+0)/(2)=0","(0+0)/(2)=0","(0+36130.3)/(2)=18065.15",null,null,null,null,null,null,null,null,"S16","(0+0)/(2)=0","(0+0)/(2)=0","(0+0)/(2)=0","(0+0)/(2)=0","(0+0)/(2)=0","(0+0)/(2)=0","(0+0)/(2)=0","(0+0)/(2)=0","(0+0)/(2)=0","(0+0)/(2)=0"]
[]
["L�pcs�k(2)","X(A1)","X(A2)","X(A3)","X(A4)","X(A5)",null,null,null,null,null,null,null,null,null,"L�pcs�k(2)","X(A1)","X(A2)","X(A3)","X(A4)","X(A5)",null,null,null,null,null,null,null,null,"L�pcs�k(2)","X(A1)","X(A2)","X(A3)","X(A4)","X(A5)","X(A6)","X(A7)","X(A8)","X(A9)","X(A10)"]
["S1",44616.2,40465.800000000003,45653.8,7781.9,26977.200000000001,null,null,null,null,null,null,null,null,null,"S1",24775.1,6193.8,32517.3,55227.8,43356.4,null,null,null,null,null,null,null,null,"S1",46510.7,39601.4,13818.2,2359.4,10953.8,48701.3,39095.800000000003,62688.4,16683.2,5223.8999999999996]
["S2",9338.2999999999993,40465.800000000003,13488.6,7781.9,26977.200000000001,null,null,null,null,null,null,null,null,null,"S2",14968.3,6193.8,7226.1,33033.4,43356.4,null,null,null,null,null,null,null,null,"S2",9099.9,36568,13818.2,2359.4,10953.8,19884.900000000001,0,11627.7,16683.2,5223.8999999999996]
["S3",7263.1,40465.800000000003,13488.6,7781.9,26977.200000000001,null,null,null,null,null,null,null,null,null,"S3",14968.3,6193.8,7226.1,11871.4,43356.4,null,null,null,null,null,null,null,null,"S3",0,36568,13818.2,2359.4,0,1179.5,0,11627.7,16683.2,5223.8999999999996]
["S4",7263.1,22826.9,13488.6,7781.9,26977.200000000001,null,null,null,null,null,null,null,null,null,"S4",14968.3,6193.8,7226.1,11871.4,43356.4,null,null,null,null,null,null,null,null,"S4",0,31512.5,13818.2,2359.4,0,1179.5,0,11627.7,16683.2,5223.8999999999996]
["S5",7263.1,22826.9,13488.6,7781.9,26977.200000000001,null,null,null,null,null,null,null,null,null,"S5",0,0,7226.1,11871.4,36646.5,null,null,null,null,null,null,null,null,"S5",0,31512.5,13818.2,2359.4,0,168.3,0,11627.7,16683.2,1011.1]
["S6",7263.1,22826.9,13488.6,4150.3,26977.200000000001,null,null,null,null,null,null,null,null,null,"S6",0,0,7226.1,11871.4,32001.1,null,null,null,null,null,null,null,null,"S6",0,0,13818.2,2359.4,0,168.3,0,11627.7,9605.5,0]
["S7",0,0,13488.6,2594,26977.200000000001,null,null,null,null,null,null,null,null,null,"S7",0,0,7226.1,11871.4,32001.1,null,null,null,null,null,null,null,null,"S7",0,0,13818.2,2359.4,0,168.3,0,11627.7,9605.5,0]
["S8",0,0,13488.6,1037.5999999999999,26977.200000000001,null,null,null,null,null,null,null,null,null,"S8",0,0,7226.1,11871.4,32001.1,null,null,null,null,null,null,null,null,"S8",0,0,13818.2,2359.4,0,168.3,0,11627.7,9605.5,0]
["S9",0,0,13488.6,1037.5999999999999,26977.200000000001,null,null,null,null,null,null,null,null,null,"S9",0,0,7226.1,11871.4,32001.1,null,null,null,null,null,null,null,null,"S9",0,0,13818.2,2359.4,0,168.3,0,11627.7,9605.5,0]
["S10",0,0,13488.6,1037.5999999999999,26977.200000000001,null,null,null,null,null,null,null,null,null,"S10",0,0,7226.1,11871.4,32001.1,null,null,null,null,null,null,null,null,"S10",0,0,13818.2,2359.4,0,168.3,0,11627.7,9605.5,0]
["S11",0,0,4669.1000000000004,1037.5999999999999,26977.200000000001,null,null,null,null,null,null,null,null,null,"S11",0,0,7226.1,11871.4,18065.2,null,null,null,null,null,null,null,null,"S11",0,0,0,0,0,168.3,0,11627.7,9605.5,0]
["S12",0,0,4669.1000000000004,1037.5999999999999,26977.200000000001,null,null,null,null,null,null,null,null,null,"S12",0,0,7226.1,11871.4,18065.2,null,null,null,null,null,null,null,null,"S12",0,0,0,0,0,168.3,0,9605.5,9605.5,0]
["S13",0,0,4669.1000000000004,1037.5999999999999,26977.200000000001,null,null,null,null,null,null,null,null,null,"S13",0,0,0,11871.4,18065.2,null,null,null,null,null,null,null,null,"S13",0,0,0,0,0,0,0,0,0,0]
["S14",0,0,0,0,22826.9,null,null,null,null,null,null,null,null,null,"S14",0,0,0,0,18065.2,null,null,null,null,null,null,null,null,"S14",0,0,0,0,0,0,0,0,0,0]
["S15",0,0,0,0,0,null,null,null,null,null,null,null,null,null,"S15",0,0,0,0,18065.2,null,null,null,null,null,null,null,null,"S15",0,0,0,0,0,0,0,0,0,0]
["S16",0,0,0,0,0,null,null,null,null,null,null,null,null,null,"S16",0,0,0,0,18065.2,null,null,null,null,null,null,null,null,"S16",0,0,0,0,0,0,0,0,0,0]
[]
["COCO:STD","X(A1)","X(A2)","X(A3)","X(A4)","X(A5)","Becsl�s","T�ny+0","Delta","Delta/T�ny","abs",null,null,null,null,"COCO:STD","X(A1)","X(A2)","X(A3)","X(A4)","X(A5)","Becsl�s","T�ny+0","Delta","Delta/T�ny","abs",null,null,null,"COCO:STD","X(A1)","X(A2)","X(A3)","X(A4)","X(A5)","X(A6)","X(A7)","X(A8)","X(A9)","X(A10)","Becsl�s","T�ny+0","Delta","Delta/T�ny"]
["O1",0,0,13488.6,1037.5999999999999,26977.200000000001,41503.4,46000,4496.6000000000004,9.7799999999999994,{"$f":"ABS(I1262)","v":4496.6000000000004},null,null,null,null,"O1",0,0,7226.1,11871.4,18065.2,37162.6,46000,8837.4,19.21,{"$f":"ABS(X1262)","v":8837.4},null,null,null,"O1",0,0,13818.2,2359.4,10953.8,168.3,0,9605.5,9605.5,0,46510.7,46000,-510.7,-1.1100000000000001]
["O2",0,0,4669.1000000000004,7781.9,26977.200000000001,39428.199999999997,62000,22571.8,36.409999999999997,{"$f":"ABS(I1263)","v":22571.8},null,null,null,null,"O2",24775.1,0,7226.1,0,32001.1,64002.3,62000,-2002.3,-3.23,{"$f":"ABS(X1263)","v":2002.3},null,null,null,"O2",0,0,0,2359.4,0,48701.3,0,11627.7,0,0,62688.4,62000,-688.4,-1.1100000000000001]
["O3",0,0,0,2594,26977.200000000001,29571.200000000001,43000,13428.8,31.23,13428.8,null,null,null,null,"O3",14968.3,6193.8,7226.1,11871.4,18065.2,58324.6,43000,-15324.6,-35.64,15324.6,null,null,null,"O3",0,0,0,2359.4,0,19884.900000000001,0,11627.7,9605.5,0,43477.4,43000,-477.4,-1.1100000000000001]
["O4",44616.2,0,13488.6,1037.5999999999999,26977.200000000001,86119.6,83000,-3119.6,-3.76,3119.6,null,null,null,null,"O4",0,6193.8,7226.1,11871.4,32001.1,57292.4,83000,25707.599999999999,30.97,25707.599999999999,null,null,null,"O4",46510.7,0,13818.2,2359.4,0,0,0,11627.7,9605.5,0,83921.5,83000,-921.5,-1.1100000000000001]
["O5",7263.1,0,0,0,26977.200000000001,34240.300000000003,28000,-6240.3,-22.29,6240.3,null,null,null,null,"O5",0,0,7226.1,11871.4,32001.1,51098.6,28000,-23098.6,-82.5,23098.6,null,null,null,"O5",0,0,0,0,0,0,0,11627.7,16683.2,0,28310.9,28000,-310.89999999999998,-1.1100000000000001]
["O6",0,0,13488.6,1037.5999999999999,0,14526.2,14000,-526.20000000000005,-3.76,526.20000000000005,null,null,null,null,"O6",0,6193.8,0,11871.4,43356.4,61421.5,14000,-47421.5,-338.73,47421.5,null,null,null,"O6",0,0,13818.2,0,0,168.3,0,0,9605.5,5223.8999999999996,28815.9,14000,-14815.9,-105.83]
["O7",7263.1,22826.9,13488.6,7781.9,26977.200000000001,78337.7,93000,14662.3,15.77,14662.3,null,null,null,null,"O7",0,0,7226.1,11871.4,43356.4,62453.8,93000,30546.2,32.85,30546.2,null,null,null,"O7",0,31512.5,13818.2,2359.4,0,168.3,0,11627.7,9605.5,5223.8999999999996,74315.5,93000,18684.5,20.09]
["O8",7263.1,22826.9,13488.6,7781.9,26977.200000000001,78337.7,58000,-20337.7,-35.07,20337.7,null,null,null,null,"O8",0,0,0,11871.4,18065.2,29936.5,58000,28063.5,48.39,28063.5,null,null,null,"O8",0,31512.5,13818.2,2359.4,10953.8,0,0,0,0,0,58644,58000,-644,-1.1100000000000001]
["O9",0,40465.800000000003,13488.6,0,26977.200000000001,80931.7,78000,-2931.7,-3.76,2931.7,null,null,null,null,"O9",0,0,7226.1,55227.8,18065.2,80519,78000,-2519,-3.23,2519,null,null,null,"O9",0,36568,13818.2,0,0,168.3,0,11627.7,16683.2,0,78865.5,78000,-865.5,-1.1100000000000001]
["O10",9338.2999999999993,0,13488.6,1037.5999999999999,26977.200000000001,50841.7,46000,-4841.7,-10.53,4841.7,null,null,null,null,"O10",0,0,7226.1,11871.4,32001.1,51098.6,46000,-5098.6000000000004,-11.08,5098.6000000000004,null,null,null,"O10",9099.9,0,13818.2,2359.4,0,0,0,11627.7,9605.5,0,46510.7,46000,-510.7,-1.1100000000000001]
["O11",0,40465.800000000003,13488.6,1037.5999999999999,26977.200000000001,81969.2,80000,-1969.2,-2.46,1969.2,null,null,null,null,"O11",14968.3,0,7226.1,11871.4,36646.5,70712.2,80000,9287.7999999999993,11.61,9287.7999999999993,null,null,null,"O11",0,36568,13818.2,0,0,1179.5,0,11627.7,16683.2,1011.1,80887.7,80000,-887.7,-1.1100000000000001]
["O12",0,40465.800000000003,13488.6,7781.9,22826.9,84563.199999999997,70000,-14563.2,-20.8,14563.2,null,null,null,null,"O12",0,0,7226.1,0,43356.4,50582.400000000001,70000,19417.599999999999,27.74,19417.599999999999,null,null,null,"O12",0,39601.4,13818.2,2359.4,0,168.3,0,9605.5,0,5223.8999999999996,70776.7,70000,-776.7,-1.1100000000000001]
["O13",0,0,13488.6,1037.5999999999999,22826.9,37353.1,52000,14646.9,28.17,14646.9,null,null,null,null,"O13",0,0,7226.1,11871.4,43356.4,62453.8,52000,-10453.799999999999,-20.100000000000001,10453.799999999999,null,null,null,"O13",0,0,13818.2,0,0,168.3,0,11627.7,16683.2,5223.8999999999996,47521.3,52000,4478.7,8.61]
["O14",0,0,45653.8,0,26977.200000000001,72631,70000,-2631,-3.76,2631,null,null,null,null,"O14",14968.3,6193.8,0,33033.4,18065.2,72260.600000000006,70000,-2260.6,-3.23,2260.6,null,null,null,"O14",0,0,13818.2,0,0,1179.5,39095.800000000003,0,16683.2,0,70776.7,70000,-776.7,-1.1100000000000001]
["O15",7263.1,22826.9,0,4150.3,26977.200000000001,61217.5,74000,12782.5,17.27,12782.5,null,null,null,null,"O15",0,0,32517.3,11871.4,32001.1,76389.8,74000,-2389.8000000000002,-3.23,2389.8000000000002,null,null,null,"O15",0,0,0,2359.4,0,168.3,0,62688.4,9605.5,0,74821.600000000006,74000,-821.6,-1.1100000000000001]
["O16",0,0,4669.1000000000004,7781.9,26977.200000000001,39428.199999999997,14000,-25428.2,-181.63,25428.2,null,null,null,null,"O16",0,0,7226.1,0,18065.2,25291.200000000001,14000,-11291.2,-80.650000000000006,11291.2,null,null,null,"O16",0,0,0,2359.4,0,168.3,0,11627.7,0,0,14155.4,14000,-155.4,-1.1100000000000001]
[null,null,null,null,null,null,null,null,{"$f":"STDEV(I1262:I1277)","v":13334.252690644435},null,{"$f":"SUM(K1262:K1277)","v":165177.69999999998},null,null,null,null,null,null,null,null,null,null,null,null,{"$f":"STDEV(X1262:X1277)","v":20369.993205217939},null,{"$f":"SUM(Z1262:Z1277)","v":243720.1},null,null,null,null,null,null,null,null,null,null,null,null,null,null,null,null,{"$f":"STDEV(AQ1262:AQ1277)","v":6296.5968647059653}]
["S1 �sszeg:",165494.9,null,null,null,null,null,null,null,null,null,null,null,null,null,"S1 �sszeg:",162070.39999999999,null,null,null,null,null,null,null,null,null,null,null,null,"S1 �sszeg:",285636.09999999998]
["S16 �sszeg:",0,null,null,null,null,null,null,null,null,null,null,null,null,null,"S16 �sszeg:",18065.2,null,null,null,null,null,null,null,null,null,null,null,null,"S16 �sszeg:",0]
["Becsl�s �sszeg:",910999.9,null,null,null,null,null,null,null,null,null,null,null,null,null,"Becsl�s �sszeg:",910999.9,null,null,null,null,null,null,null,null,null,null,null,null,"Becsl�s �sszeg:",910999.9]
["T�ny �sszeg:",911000,null,null,null,null,null,null,null,null,null,null,null,null,null,"T�ny �sszeg:",911000,null,null,null,null,null,null,null,null,null,null,null,null,"T�ny �sszeg:",911000]
["T�ny-becsl�s elt�r�s:",-0.1,null,null,null,null,null,null,null,null,null,null,null,null,null,"T�ny-becsl�s elt�r�s:",-0.1,null,null,null,null,null,null,null,null,null,null,null,null,"T�ny-becsl�s elt�r�s:",-0.1]
["T�ny n�gyzet�sszeg:",null,null,null,null,null,null,null,null,null,null,null,null,null,null,"T�ny n�gyzet�sszeg:",null,null,null,null,null,null,null,null,null,null,null,null,null,"T�ny n�gyzet�sszeg:"]
["Becsl�s n�gyzet�sszeg:",null,null,null,null,null,null,null,null,null,null,null,null,null,null,"Becsl�s n�gyzet�sszeg:",null,null,null,null,null,null,null,null,null,null,null,null,null,"Becsl�s n�gyzet�sszeg:"]
["N�gyzet�sszeg hiba:",0,null,null,null,null,null,null,null,null,null,null,null,null,null,"N�gyzet�sszeg hiba:",0,null,null,null,null,null,null,null,null,null,null,null,null,"N�gyzet�sszeg hiba:",0]
[]
["Open url",null,null,null,null,null,null,null,null,null,null,null,null,null,null,"Open url",null,null,null,null,null,null,null,null,null,null,null,null,null,"Open url"]
[]
["Maxim�lis mem�ria haszn�lat: 1.36 Mb",null,null,null,null,null,null,null,null,null,null,null,null,null,null,"Maxim�lis mem�ria haszn�lat: 1.36 Mb",null,null,null,null,null,null,null,null,null,null,null,null,null,"Maxim�lis mem�ria haszn�lat: 1.38 Mb"]
["A futtat�s id�tartama: 0.2 mp (0 p)",null,null,null,null,null,null,null,null,null,null,null,null,null,null,"A futtat�s id�tartama: 0.06 mp (0 p)",null,null,null,null,null,null,null,null,null,null,null,null,null,"A futtat�s id�tartama: 0.06 mp (0 p)"]
[]
[]
[]
[]
[]
[]
[]
[]
[]
[]
[]
[]
[]
["Azonos�t�:",9078659,"Objektumok:",16,"Attrib�tumok:",5,"Lepcs�k:",16,"Eltol�s:",0,"Le�r�s:","COCO STD: 9078659",null,null,null,"Azonos�t�:",8342213,"Objektumok:",16,"Attrib�tumok:",5,"Lepcs�k:",16,"Eltol�s:",0,"Le�r�s:","COCO STD: 8342213",null,null,"Azonos�t�:",9740812,"Objektumok:",16,"Attrib�tumok:",10,"Lepcs�k:",16,"Eltol�s:",0,"Le�r�s:","COCO STD: 9740812"]
[]
["Rangsor","X(A1)","X(A2)","X(A3)","X(A4)","X(A5)","Y(A6)",null,null,null,null,null,null,null,null,"Rangsor","X(A1)","X(A2)","X(A3)","X(A4)","X(A5)","Y(A6)",null,null,null,null,null,null,null,"Rangsor","X(A1)","X(A2)","X(A3)","X(A4)","X(A5)","X(A6)","X(A7)","X(A8)","X(A9)","X(A10)","Y(A11)"]
["O1",11,16,3,5,8,39000,null,null,null,null,null,null,null,null,"O1",7,1,13,12,9,39000,null,null,null,null,null,null,null,"O1",11,16,3,5,8,7,1,13,12,9,39000]
["O2",3,12,12,8,15,28000,null,null,null,null,null,null,null,null,"O2",14,5,4,8,2,28000,null,null,null,null,null,null,null,"O2",3,12,12,8,15,14,5,4,8,2,28000]
["O3",13,3,12,7,13,36000,null,null,null,null,null,null,null,null,"O3",4,13,4,10,4,36000,null,null,null,null,null,null,null,"O3",13,3,12,7,13,4,13,4,10,4,36000]
["O4",4,13,15,15,11,51000,null,null,null,null,null,null,null,null,"O4",13,4,2,2,5,51000,null,null,null,null,null,null,null,"O4",4,13,15,15,11,13,4,2,2,5,51000]
["O5",16,1,7,1,11,74000,null,null,null,null,null,null,null,null,"O5",1,15,11,16,5,74000,null,null,null,null,null,null,null,"O5",16,1,7,1,11,1,15,11,16,5,74000]
["O6",1,10,3,16,1,89000,null,null,null,null,null,null,null,null,"O6",16,7,13,1,16,89000,null,null,null,null,null,null,null,"O6",1,10,3,16,1,16,7,13,1,16,89000]
["O7",8,1,2,3,2,73000,null,null,null,null,null,null,null,null,"O7",10,15,15,14,15,73000,null,null,null,null,null,null,null,"O7",8,1,2,3,2,10,15,15,14,15,73000]
["O8",6,9,6,2,7,68000,null,null,null,null,null,null,null,null,"O8",11,8,12,15,10,68000,null,null,null,null,null,null,null,"O8",6,9,6,2,7,11,8,12,15,10,68000]
["O9",14,7,10,4,4,67000,null,null,null,null,null,null,null,null,"O9",3,10,8,13,13,67000,null,null,null,null,null,null,null,"O9",14,7,10,4,4,3,10,8,13,13,67000]
["O10",12,6,11,10,9,28000,null,null,null,null,null,null,null,null,"O10",5,11,7,7,8,28000,null,null,null,null,null,null,null,"O10",12,6,11,10,9,5,11,7,7,8,28000]
["O11",9,3,16,8,16,17000,null,null,null,null,null,null,null,null,"O11",9,13,1,8,1,17000,null,null,null,null,null,null,null,"O11",9,3,16,8,16,9,13,1,8,1,17000]
["O12",10,11,1,11,3,89000,null,null,null,null,null,null,null,null,"O12",8,6,16,6,14,89000,null,null,null,null,null,null,null,"O12",10,11,1,11,3,8,6,16,6,14,89000]
["O13",6,5,8,6,5,60000,null,null,null,null,null,null,null,null,"O13",11,12,10,11,11,60000,null,null,null,null,null,null,null,"O13",6,5,8,6,5,11,12,10,11,11,60000]
["O14",15,15,9,13,14,16000,null,null,null,null,null,null,null,null,"O14",2,2,9,4,3,16000,null,null,null,null,null,null,null,"O14",15,15,9,13,14,2,2,9,4,3,16000]
["O15",2,14,14,12,10,82000,null,null,null,null,null,null,null,null,"O15",15,3,3,5,7,82000,null,null,null,null,null,null,null,"O15",2,14,14,12,10,15,3,3,5,7,82000]
["O16",12,8,12,14,5,28000,null,null,null,null,null,null,null,null,"O16",5,9,4,3,11,28000,null,null,null,null,null,null,null,"O16",12,8,12,14,5,5,9,4,3,11,28000]
[]
["L�pcs�k(1)","X(A1)","X(A2)","X(A3)","X(A4)","X(A5)",null,null,null,null,null,null,null,null,null,"L�pcs�k(1)","X(A1)","X(A2)","X(A3)","X(A4)","X(A5)",null,null,null,null,null,null,null,null,"L�pcs�k(1)","X(A1)","X(A2)","X(A3)","X(A4)","X(A5)","X(A6)","X(A7)","X(A8)","X(A9)","X(A10)"]
["S1","(54000+57500)/(2)=55750","(6000+14000)/(2)=10000","(44000+61000)/(2)=52500","(50000+33500)/(2)=41750","(35000+25000)/(2)=30000",null,null,null,null,null,null,null,null,null,"S1","(67182.2+7789.2)/(2)=37485.7","(33104.3+1947.3)/(2)=17525.8","(16552.1+0)/(2)=8276.05","(71076.8+84708)/(2)=77892.4","(0+64261.2)/(2)=32130.6",null,null,null,null,null,null,null,null,"S1","(0+61000)/(1)=61000","(0+10000)/(1)=10000","(0+71000)/(1)=71000","(0+55000)/(1)=55000","(0+2000)/(1)=2000","(0+7000)/(1)=7000","(0+0)/(1)=0","(0+7000)/(1)=7000","(0+26000)/(1)=26000","(0+0)/(1)=0"]
["S2","(54000+56000)/(2)=55000","(6000+14000)/(2)=10000","(0+3500)/(2)=1750","(32000+33500)/(2)=32750","(35000+25000)/(2)=30000",null,null,null,null,null,null,null,null,null,"S2","(0+6815.6)/(2)=3407.8","(10710.2+1947.3)/(2)=6328.75","(16552.1+0)/(2)=8276.05","(22394.1+13631.2)/(2)=18012.6","(0+64261.2)/(2)=32130.6",null,null,null,null,null,null,null,null,"S2","(0+61000)/(1)=61000","(0+10000)/(1)=10000","(0+6000)/(1)=6000","(0+55000)/(1)=55000","(0+2000)/(1)=2000","(0+0)/(1)=0","(0+0)/(1)=0","(0+7000)/(1)=7000","(0+26000)/(1)=26000","(0+0)/(1)=0"]
["S3","(18000+25000)/(2)=21500","(6000+14000)/(2)=10000","(0+3500)/(2)=1750","(32000+33500)/(2)=32750","(35000+25000)/(2)=30000",null,null,null,null,null,null,null,null,null,"S3","(0+6815.6)/(2)=3407.8","(10710.2+1947.3)/(2)=6328.75","(16552.1+0)/(2)=8276.05","(0+13631.2)/(2)=6815.6","(0+64261.2)/(2)=32130.6",null,null,null,null,null,null,null,null,"S3","(0+28000)/(1)=28000","(0+10000)/(1)=10000","(0+0)/(1)=0","(0+55000)/(1)=55000","(0+2000)/(1)=2000","(0+0)/(1)=0","(0+0)/(1)=0","(0+3000)/(1)=3000","(0+26000)/(1)=26000","(0+0)/(1)=0"]
["S4","(18000+25000)/(2)=21500","(3000+14000)/(2)=8500","(0+3500)/(2)=1750","(32000+33500)/(2)=32750","(35000+25000)/(2)=30000",null,null,null,null,null,null,null,null,null,"S4","(0+6815.6)/(2)=3407.8","(10710.2+1947.3)/(2)=6328.75","(16552.1+0)/(2)=8276.05","(0+13631.2)/(2)=6815.6","(0+64261.2)/(2)=32130.6",null,null,null,null,null,null,null,null,"S4","(0+16000)/(1)=16000","(0+10000)/(1)=10000","(0+0)/(1)=0","(0+55000)/(1)=55000","(0+2000)/(1)=2000","(0+0)/(1)=0","(0+0)/(1)=0","(0+0)/(1)=0","(0+16000)/(1)=16000","(0+0)/(1)=0"]
["S5","(18000+5000)/(2)=11500","(3000+14000)/(2)=8500","(0+3500)/(2)=1750","(21000+12500)/(2)=16750","(18000+25000)/(2)=21500",null,null,null,null,null,null,null,null,null,"S5","(0+6815.6)/(2)=3407.8","(10710.2+1947.3)/(2)=6328.75","(16552.1+0)/(2)=8276.05","(0+13631.2)/(2)=6815.6","(0+64261.2)/(2)=32130.6",null,null,null,null,null,null,null,null,"S5","(0+11000)/(1)=11000","(0+10000)/(1)=10000","(0+0)/(1)=0","(0+37000)/(1)=37000","(0+2000)/(1)=2000","(0+0)/(1)=0","(0+0)/(1)=0","(0+0)/(1)=0","(0+16000)/(1)=16000","(0+0)/(1)=0"]
["S6","(18000+5000)/(2)=11500","(0+5000)/(2)=2500","(0+3500)/(2)=1750","(21000+12500)/(2)=16750","(18000+25000)/(2)=21500",null,null,null,null,null,null,null,null,null,"S6","(0+6815.6)/(2)=3407.8","(10710.2+1947.3)/(2)=6328.75","(16552.1+0)/(2)=8276.05","(0+13631.2)/(2)=6815.6","(0+64261.2)/(2)=32130.6",null,null,null,null,null,null,null,null,"S6","(0+11000)/(1)=11000","(0+10000)/(1)=10000","(0+0)/(1)=0","(0+37000)/(1)=37000","(0+2000)/(1)=2000","(0+0)/(1)=0","(0+0)/(1)=0","(0+0)/(1)=0","(0+16000)/(1)=16000","(0+0)/(1)=0"]
["S7","(0+3000)/(2)=1500","(0+5000)/(2)=2500","(0+3500)/(2)=1750","(21000+12500)/(2)=16750","(18000+23000)/(2)=20500",null,null,null,null,null,null,null,null,null,"S7","(0+6815.6)/(2)=3407.8","(10710.2+1947.3)/(2)=6328.75","(16552.1+0)/(2)=8276.05","(0+0)/(2)=0","(0+64261.2)/(2)=32130.6",null,null,null,null,null,null,null,null,"S7","(0+0)/(1)=0","(0+10000)/(1)=10000","(0+0)/(1)=0","(0+26000)/(1)=26000","(0+2000)/(1)=2000","(0+0)/(1)=0","(0+0)/(1)=0","(0+0)/(1)=0","(0+16000)/(1)=16000","(0+0)/(1)=0"]
["S8","(0+3000)/(2)=1500","(0+3000)/(2)=1500","(0+3500)/(2)=1750","(10000+0)/(2)=5000","(18000+23000)/(2)=20500",null,null,null,null,null,null,null,null,null,"S8","(0+6815.6)/(2)=3407.8","(10710.2+1947.3)/(2)=6328.75","(16552.1+0)/(2)=8276.05","(0+0)/(2)=0","(0+64261.2)/(2)=32130.6",null,null,null,null,null,null,null,null,"S8","(0+0)/(1)=0","(0+0)/(1)=0","(0+0)/(1)=0","(0+0)/(1)=0","(0+2000)/(1)=2000","(0+0)/(1)=0","(0+0)/(1)=0","(0+0)/(1)=0","(0+0)/(1)=0","(0+0)/(1)=0"]
["S9","(0+3000)/(2)=1500","(0+3000)/(2)=1500","(0+3500)/(2)=1750","(10000+0)/(2)=5000","(18000+23000)/(2)=20500",null,null,null,null,null,null,null,null,null,"S9","(0+6815.6)/(2)=3407.8","(10710.2+0)/(2)=5355.1","(4868.3+0)/(2)=2434.15","(0+0)/(2)=0","(0+64261.2)/(2)=32130.6",null,null,null,null,null,null,null,null,"S9","(0+0)/(1)=0","(0+0)/(1)=0","(0+0)/(1)=0","(0+0)/(1)=0","(0+2000)/(1)=2000","(0+0)/(1)=0","(0+0)/(1)=0","(0+0)/(1)=0","(0+0)/(1)=0","(0+0)/(1)=0"]
["S10","(0+0)/(2)=0","(0+3000)/(2)=1500","(0+3500)/(2)=1750","(10000+0)/(2)=5000","(18000+23000)/(2)=20500",null,null,null,null,null,null,null,null,null,"S10","(0+6815.6)/(2)=3407.8","(10710.2+0)/(2)=5355.1","(4868.3+0)/(2)=2434.15","(0+0)/(2)=0","(0+64261.2)/(2)=32130.6",null,null,null,null,null,null,null,null,"S10","(0+0)/(1)=0","(0+0)/(1)=0","(0+0)/(1)=0","(0+0)/(1)=0","(0+2000)/(1)=2000","(0+0)/(1)=0","(0+0)/(1)=0","(0+0)/(1)=0","(0+0)/(1)=0","(0+0)/(1)=0"]
["S11","(0+0)/(2)=0","(0+3000)/(2)=1500","(0+0)/(2)=0","(10000+0)/(2)=5000","(18000+23000)/(2)=20500",null,null,null,null,null,null,null,null,null,"S11","(0+0)/(2)=0","(10710.2+0)/(2)=5355.1","(4868.3+0)/(2)=2434.15","(0+0)/(2)=0","(0+64261.2)/(2)=32130.6",null,null,null,null,null,null,null,null,"S11","(0+0)/(1)=0","(0+0)/(1)=0","(0+0)/(1)=0","(0+0)/(1)=0","(0+2000)/(1)=2000","(0+0)/(1)=0","(0+0)/(1)=0","(0+0)/(1)=0","(0+0)/(1)=0","(0+0)/(1)=0"]
["S12","(0+0)/(2)=0","(0+3000)/(2)=1500","(0+0)/(2)=0","(10000+0)/(2)=5000","(9000+9500)/(2)=9250",null,null,null,null,null,null,null,null,null,"S12","(0+0)/(2)=0","(10710.2+0)/(2)=5355.1","(4868.3+0)/(2)=2434.15","(0+0)/(2)=0","(0+64261.2)/(2)=32130.6",null,null,null,null,null,null,null,null,"S12","(0+0)/(1)=0","(0+0)/(1)=0","(0+0)/(1)=0","(0+0)/(1)=0","(0+0)/(1)=0","(0+0)/(1)=0","(0+0)/(1)=0","(0+0)/(1)=0","(0+0)/(1)=0","(0+0)/(1)=0"]
["S13","(0+0)/(2)=0","(0+3000)/(2)=1500","(0+0)/(2)=0","(10000+0)/(2)=5000","(9000+9500)/(2)=9250",null,null,null,null,null,null,null,null,null,"S13","(0+0)/(2)=0","(0+0)/(2)=0","(4868.3+0)/(2)=2434.15","(0+0)/(2)=0","(0+64261.2)/(2)=32130.6",null,null,null,null,null,null,null,null,"S13","(0+0)/(1)=0","(0+0)/(1)=0","(0+0)/(1)=0","(0+0)/(1)=0","(0+0)/(1)=0","(0+0)/(1)=0","(0+0)/(1)=0","(0+0)/(1)=0","(0+0)/(1)=0","(0+0)/(1)=0"]
["S14","(0+0)/(2)=0","(0+3000)/(2)=1500","(0+0)/(2)=0","(10000+0)/(2)=5000","(6000+9500)/(2)=7750",null,null,null,null,null,null,null,null,null,"S14","(0+0)/(2)=0","(0+0)/(2)=0","(4868.3+0)/(2)=2434.15","(0+0)/(2)=0","(0+64261.2)/(2)=32130.6",null,null,null,null,null,null,null,null,"S14","(0+0)/(1)=0","(0+0)/(1)=0","(0+0)/(1)=0","(0+0)/(1)=0","(0+0)/(1)=0","(0+0)/(1)=0","(0+0)/(1)=0","(0+0)/(1)=0","(0+0)/(1)=0","(0+0)/(1)=0"]
["S15","(0+0)/(2)=0","(0+3000)/(2)=1500","(0+0)/(2)=0","(10000+0)/(2)=5000","(0+0)/(2)=0",null,null,null,null,null,null,null,null,null,"S15","(0+0)/(2)=0","(0+0)/(2)=0","(4868.3+0)/(2)=2434.15","(0+0)/(2)=0","(0+64261.2)/(2)=32130.6",null,null,null,null,null,null,null,null,"S15","(0+0)/(1)=0","(0+0)/(1)=0","(0+0)/(1)=0","(0+0)/(1)=0","(0+0)/(1)=0","(0+0)/(1)=0","(0+0)/(1)=0","(0+0)/(1)=0","(0+0)/(1)=0","(0+0)/(1)=0"]
["S16","(0+0)/(2)=0","(0+0)/(2)=0","(0+0)/(2)=0","(0+0)/(2)=0","(0+0)/(2)=0",null,null,null,null,null,null,null,null,null,"S16","(0+0)/(2)=0","(0+0)/(2)=0","(4868.3+0)/(2)=2434.15","(0+0)/(2)=0","(0+0)/(2)=0",null,null,null,null,null,null,null,null,"S16","(0+0)/(1)=0","(0+0)/(1)=0","(0+0)/(1)=0","(0+0)/(1)=0","(0+0)/(1)=0","(0+0)/(1)=0","(0+0)/(1)=0","(0+0)/(1)=0","(0+0)/(1)=0","(0+0)/(1)=0"]
[]
["L�pcs�k(2)","X(A1)","X(A2)","X(A3)","X(A4)","X(A5)",null,null,null,null,null,null,null,null,null,"L�pcs�k(2)","X(A1)","X(A2)","X(A3)","X(A4)","X(A5)",null,null,null,null,null,null,null,null,"L�pcs�k(2)","X(A1)","X(A2)","X(A3)","X(A4)","X(A5)","X(A6)","X(A7)","X(A8)","X(A9)","X(A10)"]
["S1",55750,10000,52500,41750,30000,null,null,null,null,null,null,null,null,null,"S1",37485.699999999997,17525.8,8276.1,77892.399999999994,32130.6,null,null,null,null,null,null,null,null,"S1",61000,10000,71000,55000,2000,7000,0,7000,26000,0]
["S2",55000,10000,1750,32750,30000,null,null,null,null,null,null,null,null,null,"S2",3407.8,6328.8,8276.1,18012.599999999999,32130.6,null,null,null,null,null,null,null,null,"S2",61000,10000,6000,55000,2000,0,0,7000,26000,0]
["S3",21500,10000,1750,32750,30000,null,null,null,null,null,null,null,null,null,"S3",3407.8,6328.8,8276.1,6815.6,32130.6,null,null,null,null,null,null,null,null,"S3",28000,10000,0,55000,2000,0,0,3000,26000,0]
["S4",21500,8500,1750,32750,30000,null,null,null,null,null,null,null,null,null,"S4",3407.8,6328.8,8276.1,6815.6,32130.6,null,null,null,null,null,null,null,null,"S4",16000,10000,0,55000,2000,0,0,0,16000,0]
["S5",11500,8500,1750,16750,21500,null,null,null,null,null,null,null,null,null,"S5",3407.8,6328.8,8276.1,6815.6,32130.6,null,null,null,null,null,null,null,null,"S5",11000,10000,0,37000,2000,0,0,0,16000,0]
["S6",11500,2500,1750,16750,21500,null,null,null,null,null,null,null,null,null,"S6",3407.8,6328.8,8276.1,6815.6,32130.6,null,null,null,null,null,null,null,null,"S6",11000,10000,0,37000,2000,0,0,0,16000,0]
["S7",1500,2500,1750,16750,20500,null,null,null,null,null,null,null,null,null,"S7",3407.8,6328.8,8276.1,0,32130.6,null,null,null,null,null,null,null,null,"S7",0,10000,0,26000,2000,0,0,0,16000,0]
["S8",1500,1500,1750,5000,20500,null,null,null,null,null,null,null,null,null,"S8",3407.8,6328.8,8276.1,0,32130.6,null,null,null,null,null,null,null,null,"S8",0,0,0,0,2000,0,0,0,0,0]
["S9",1500,1500,1750,5000,20500,null,null,null,null,null,null,null,null,null,"S9",3407.8,5355.1,2434.1,0,32130.6,null,null,null,null,null,null,null,null,"S9",0,0,0,0,2000,0,0,0,0,0]
["S10",0,1500,1750,5000,20500,null,null,null,null,null,null,null,null,null,"S10",3407.8,5355.1,2434.1,0,32130.6,null,null,null,null,null,null,null,null,"S10",0,0,0,0,2000,0,0,0,0,0]
["S11",0,1500,0,5000,20500,null,null,null,null,null,null,null,null,null,"S11",0,5355.1,2434.1,0,32130.6,null,null,null,null,null,null,null,null,"S11",0,0,0,0,2000,0,0,0,0,0]
["S12",0,1500,0,5000,9250,null,null,null,null,null,null,null,null,null,"S12",0,5355.1,2434.1,0,32130.6,null,null,null,null,null,null,null,null,"S12",0,0,0,0,0,0,0,0,0,0]
["S13",0,1500,0,5000,9250,null,null,null,null,null,null,null,null,null,"S13",0,0,2434.1,0,32130.6,null,null,null,null,null,null,null,null,"S13",0,0,0,0,0,0,0,0,0,0]
["S14",0,1500,0,5000,7750,null,null,null,null,null,null,null,null,null,"S14",0,0,2434.1,0,32130.6,null,null,null,null,null,null,null,null,"S14",0,0,0,0,0,0,0,0,0,0]
["S15",0,1500,0,5000,0,null,null,null,null,null,null,null,null,null,"S15",0,0,2434.1,0,32130.6,null,null,null,null,null,null,null,null,"S15",0,0,0,0,0,0,0,0,0,0]
["S16",0,0,0,0,0,null,null,null,null,null,null,null,null,null,"S16",0,0,2434.1,0,0,null,null,null,null,null,null,null,null,"S16",0,0,0,0,0,0,0,0,0,0]
[]
["COCO:STD","X(A1)","X(A2)","X(A3)","X(A4)","X(A5)","Becsl�s","T�ny+0","Delta","Delta/T�ny","abs",null,null,null,null,"COCO:STD","X(A1)","X(A2)","X(A3)","X(A4)","X(A5)","Becsl�s","T�ny+0","Delta","Delta/T�ny","abs",null,null,null,"COCO:STD","X(A1)","X(A2)","X(A3)","X(A4)","X(A5)","X(A6)","X(A7)","X(A8)","X(A9)","X(A10)","Becsl�s","T�ny+0","Delta","Delta/T�ny"]
["O1",0,0,1750,16750,20500,39000,39000,0,0,{"$f":"ABS(I1362)","v":0},null,null,null,null,"O1",3407.8,17525.8,2434.1,0,32130.6,55498.3,39000,-16498.3,-42.3,{"$f":"ABS(X1362)","v":16498.3},null,null,null,"O1",0,0,0,37000,2000,0,0,0,0,0,39000,39000,0,0]
["O2",21500,1500,0,5000,0,28000,28000,0,0,{"$f":"ABS(I1363)","v":0},null,null,null,null,"O2",0,6328.8,8276.1,0,32130.6,46735.4,28000,-18735.400000000001,-66.91,{"$f":"ABS(X1363)","v":18735.400000000001},null,null,null,"O2",28000,0,0,0,0,0,0,0,0,0,28000,28000,0,0]
["O3",0,10000,0,16750,9250,36000,36000,0,0,0,null,null,null,null,"O3",3407.8,0,8276.1,0,32130.6,43814.5,36000,-7814.5,-21.71,7814.5,null,null,null,"O3",0,10000,0,26000,0,0,0,0,0,0,36000,36000,0,0]
["O4",21500,1500,0,5000,20500,48500,51000,2500,4.9000000000000004,2500,null,null,null,null,"O4",0,6328.8,8276.1,18012.599999999999,32130.6,64748,51000,-13748,-26.96,13748,null,null,null,"O4",16000,0,0,0,2000,0,0,7000,26000,0,51000,51000,0,0]
["O5",0,10000,1750,41750,20500,74000,74000,0,0,0,null,null,null,null,"O5",37485.699999999997,0,2434.1,0,32130.6,72050.399999999994,74000,1949.6,2.63,1949.6,null,null,null,"O5",0,10000,0,55000,2000,7000,0,0,0,0,74000,74000,0,0]
["O6",55750,1500,1750,0,30000,89000,89000,0,0,0,null,null,null,null,"O6",0,6328.8,2434.1,77892.399999999994,0,86655.3,89000,2344.6999999999998,2.63,2344.6999999999998,null,null,null,"O6",61000,0,0,0,2000,0,0,0,26000,0,89000,89000,0,0]
["O7",1500,10000,1750,32750,30000,76000,73000,-3000,-4.1100000000000003,3000,null,null,null,null,"O7",3407.8,0,2434.1,0,32130.6,37972.5,73000,35027.5,47.98,35027.5,null,null,null,"O7",0,10000,6000,55000,2000,0,0,0,0,0,73000,73000,0,0]
["O8",11500,1500,1750,32750,20500,68000,68000,0,0,0,null,null,null,null,"O8",0,6328.8,2434.1,0,32130.6,40893.5,68000,27106.5,39.86,27106.5,null,null,null,"O8",11000,0,0,55000,2000,0,0,0,0,0,68000,68000,0,0]
["O9",0,2500,1750,32750,30000,67000,67000,0,0,0,null,null,null,null,"O9",3407.8,5355.1,8276.1,0,32130.6,49169.599999999999,67000,17830.400000000001,26.61,17830.400000000001,null,null,null,"O9",0,10000,0,55000,2000,0,0,0,0,0,67000,67000,0,0]
["O10",0,2500,0,5000,20500,28000,28000,0,0,0,null,null,null,null,"O10",3407.8,5355.1,8276.1,0,32130.6,49169.599999999999,28000,-21169.599999999999,-75.61,21169.599999999999,null,null,null,"O10",0,10000,0,0,2000,0,0,0,16000,0,28000,28000,0,0]
["O11",1500,10000,0,5000,0,16500,17000,500,2.94,500,null,null,null,null,"O11",3407.8,0,8276.1,0,32130.6,43814.5,17000,-26814.5,-157.72999999999999,26814.5,null,null,null,"O11",0,10000,0,0,0,0,0,7000,0,0,17000,17000,0,0]
["O12",0,1500,52500,5000,30000,89000,89000,0,0,0,null,null,null,null,"O12",3407.8,6328.8,2434.1,6815.6,32130.6,51116.9,89000,37883.1,42.57,37883.1,null,null,null,"O12",0,0,71000,0,2000,0,0,0,16000,0,89000,89000,0,0]
["O13",11500,8500,1750,16750,21500,60000,60000,0,0,0,null,null,null,null,"O13",0,5355.1,2434.1,0,32130.6,39919.800000000003,60000,20080.2,33.47,20080.2,null,null,null,"O13",11000,10000,0,37000,2000,0,0,0,0,0,60000,60000,0,0]
["O14",0,1500,1750,5000,7750,16000,16000,0,0,0,null,null,null,null,"O14",3407.8,6328.8,2434.1,6815.6,32130.6,51116.9,16000,-35116.9,-219.48,35116.9,null,null,null,"O14",0,0,0,0,0,0,0,0,16000,0,16000,16000,0,0]
["O15",55000,1500,0,5000,20500,82000,82000,0,0,0,null,null,null,null,"O15",0,6328.8,8276.1,6815.6,32130.6,53551,82000,28449,34.69,28449,null,null,null,"O15",61000,0,0,0,2000,0,0,3000,16000,0,82000,82000,0,0]
["O16",0,1500,0,5000,21500,28000,28000,0,0,0,null,null,null,null,"O16",3407.8,5355.1,8276.1,6815.6,32130.6,55985.1,28000,-27985.1,-99.95,27985.1,null,null,null,"O16",0,0,0,0,2000,0,0,0,26000,0,28000,28000,0,0]
[null,null,null,null,null,null,null,null,{"$f":"STDEV(I1362:I1377)","v":1016.530045465127},null,{"$f":"SUM(K1362:K1377)","v":6000},null,null,null,null,null,null,null,null,null,null,null,null,{"$f":"STDEV(X1362:X1377)","v":24485.271707578788},null,{"$f":"SUM(Z1362:Z1377)","v":338553.3},null,null,null,null,null,null,null,null,null,null,null,null,null,null,null,null,{"$f":"STDEV(AQ1362:AQ1377)","v":0}]
["S1 �sszeg:",190000,null,null,null,null,null,null,null,null,null,null,null,null,null,"S1 �sszeg:",173310.6,null,null,null,null,null,null,null,null,null,null,null,null,"S1 �sszeg:",239000]
["S16 �sszeg:",0,null,null,null,null,null,null,null,null,null,null,null,null,null,"S16 �sszeg:",2434.1,null,null,null,null,null,null,null,null,null,null,null,null,"S16 �sszeg:",0]
["Becsl�s �sszeg:",845000,null,null,null,null,null,null,null,null,null,null,null,null,null,"Becsl�s �sszeg:",842211.3,null,null,null,null,null,null,null,null,null,null,null,null,"Becsl�s �sszeg:",845000]
["T�ny �sszeg:",845000,null,null,null,null,null,null,null,null,null,null,null,null,null,"T�ny �sszeg:",845000,null,null,null,null,null,null,null,null,null,null,null,null,"T�ny �sszeg:",845000]
["T�ny-becsl�s elt�r�s:",0,null,null,null,null,null,null,null,null,null,null,null,null,null,"T�ny-becsl�s elt�r�s:",-2788.7,null,null,null,null,null,null,null,null,null,null,null,null,"T�ny-becsl�s elt�r�s:",0]
["T�ny n�gyzet�sszeg:",null,null,null,null,null,null,null,null,null,null,null,null,null,null,"T�ny n�gyzet�sszeg:",null,null,null,null,null,null,null,null,null,null,null,null,null,"T�ny n�gyzet�sszeg:"]
["Becsl�s n�gyzet�sszeg:",null,null,null,null,null,null,null,null,null,null,null,null,null,null,"Becsl�s n�gyzet�sszeg:",null,null,null,null,null,null,null,null,null,null,null,null,null,"Becsl�s n�gyzet�sszeg:"]
["N�gyzet�sszeg hiba:",0,null,null,null,null,null,null,null,null,null,null,null,null,null,"N�gyzet�sszeg hiba:",0,null,null,null,null,null,null,null,null,null,null,null,null,"N�gyzet�sszeg hiba:",0]
[]
["Open url",null,null,null,null,null,null,null,null,null,null,null,null,null,null,"Open url",null,null,null,null,null,null,null,null,null,null,null,null,null,"Open url"]
[]
["Maxim�lis mem�ria haszn�lat: 1.36 Mb",null,null,null,null,null,null,null,null,null,null,null,null,null,null,"Maxim�lis mem�ria haszn�lat: 1.36 Mb",null,null,null,null,null,null,null,null,null,null,null,null,null,"Maxim�lis mem�ria haszn�lat: 1.38 Mb"]
["A futtat�s id�tartama: 0.19 mp (0 p)",null,null,null,null,null,null,null,null,null,null,null,null,null,null,"A futtat�s id�tartama: 0.09 mp (0 p)",null,null,null,null,null,null,null,null,null,null,null,null,null,"A futtat�s id�tartama: 0.04 mp (0 p)"]
[]
[]
[]
[]
[]
[]
[]
[]
[]
[]
[]
[]
[]
["Azonos�t�:",8818671,"Objektumok:",16,"Attrib�tumok:",5,"Lepcs�k:",16,"Eltol�s:",0,"Le�r�s:","COCO STD: 8818671",null,null,null,"Azonos�t�:",5542437,"Objektumok:",16,"Attrib�tumok:",5,"Lepcs�k:",16,"Eltol�s:",0,"Le�r�s:","COCO STD: 5542437",null,null,"Azonos�t�:",8802821,"Objektumok:",16,"Attrib�tumok:",10,"Lepcs�k:",16,"Eltol�s:",0,"Le�r�s:","COCO STD: 8802821"]
[]
["Rangsor","X(A1)","X(A2)","X(A3)","X(A4)","X(A5)","Y(A6)",null,null,null,null,null,null,null,null,"Rangsor","X(A1)","X(A2)","X(A3)","X(A4)","X(A5)","Y(A6)",null,null,null,null,null,null,null,"Rangsor","X(A1)","X(A2)","X(A3)","X(A4)","X(A5)","X(A6)","X(A7)","X(A8)","X(A9)","X(A10)","Y(A11)"]
["O1",15,7,1,12,12,16000,null,null,null,null,null,null,null,null,"O1",2,10,16,3,4,16000,null,null,null,null,null,null,null,"O1",15,7,1,12,12,2,10,16,3,4,16000]
["O2",4,10,16,12,5,28000,null,null,null,null,null,null,null,null,"O2",13,7,1,3,10,28000,null,null,null,null,null,null,null,"O2",4,10,16,12,5,13,7,1,3,10,28000]
["O3",13,14,9,9,13,90000,null,null,null,null,null,null,null,null,"O3",4,3,7,8,3,90000,null,null,null,null,null,null,null,"O3",13,14,9,9,13,4,3,7,8,3,90000]
["O4",10,12,14,8,7,66000,null,null,null,null,null,null,null,null,"O4",7,5,2,9,9,66000,null,null,null,null,null,null,null,"O4",10,12,14,8,7,7,5,2,9,9,66000]
["O5",1,6,7,7,8,77000,null,null,null,null,null,null,null,null,"O5",16,11,9,10,8,77000,null,null,null,null,null,null,null,"O5",1,6,7,7,8,16,11,9,10,8,77000]
["O6",5,8,13,12,3,51000,null,null,null,null,null,null,null,null,"O6",12,9,4,3,13,51000,null,null,null,null,null,null,null,"O6",5,8,13,12,3,12,9,4,3,13,51000]
["O7",11,11,10,6,1,60000,null,null,null,null,null,null,null,null,"O7",6,6,6,11,16,60000,null,null,null,null,null,null,null,"O7",11,11,10,6,1,6,6,6,11,16,60000]
["O8",6,16,4,1,16,33000,null,null,null,null,null,null,null,null,"O8",11,1,12,16,1,33000,null,null,null,null,null,null,null,"O8",6,16,4,1,16,11,1,12,16,1,33000]
["O9",7,1,11,15,11,69000,null,null,null,null,null,null,null,null,"O9",10,16,5,2,5,69000,null,null,null,null,null,null,null,"O9",7,1,11,15,11,10,16,5,2,5,69000]
["O10",3,15,3,2,10,48000,null,null,null,null,null,null,null,null,"O10",14,2,14,15,6,48000,null,null,null,null,null,null,null,"O10",3,15,3,2,10,14,2,14,15,6,48000]
["O11",2,2,6,4,2,75000,null,null,null,null,null,null,null,null,"O11",15,15,10,13,15,75000,null,null,null,null,null,null,null,"O11",2,2,6,4,2,15,15,10,13,15,75000]
["O12",16,9,14,10,15,21000,null,null,null,null,null,null,null,null,"O12",1,8,2,7,2,21000,null,null,null,null,null,null,null,"O12",16,9,14,10,15,1,8,2,7,2,21000]
["O13",12,13,8,16,4,92000,null,null,null,null,null,null,null,null,"O13",5,4,8,1,12,92000,null,null,null,null,null,null,null,"O13",12,13,8,16,4,5,4,8,1,12,92000]
["O14",14,4,4,11,9,47000,null,null,null,null,null,null,null,null,"O14",3,12,12,6,7,47000,null,null,null,null,null,null,null,"O14",14,4,4,11,9,3,12,12,6,7,47000]
["O15",9,4,2,3,5,41000,null,null,null,null,null,null,null,null,"O15",8,12,15,14,10,41000,null,null,null,null,null,null,null,"O15",9,4,2,3,5,8,12,15,14,10,41000]
["O16",9,3,5,5,3,31000,null,null,null,null,null,null,null,null,"O16",8,14,11,12,13,31000,null,null,null,null,null,null,null,"O16",9,3,5,5,3,8,14,11,12,13,31000]
[]
["L�pcs�k(1)","X(A1)","X(A2)","X(A3)","X(A4)","X(A5)",null,null,null,null,null,null,null,null,null,"L�pcs�k(1)","X(A1)","X(A2)","X(A3)","X(A4)","X(A5)",null,null,null,null,null,null,null,null,"L�pcs�k(1)","X(A1)","X(A2)","X(A3)","X(A4)","X(A5)","X(A6)","X(A7)","X(A8)","X(A9)","X(A10)"]
["S1","(48349.9+40765.6)/(2)=44557.8","(45505.8+24649)/(2)=35077.4","(15168.6+22752.9)/(2)=18960.75","(11376.5+0)/(2)=5688.25","(35077.4+1896.1)/(2)=18486.75",null,null,null,null,null,null,null,null,null,"S1","(0+4219.7)/(2)=2109.85","(34812.7+9494.4)/(2)=22153.55","(12659.2+68570.5)/(2)=40614.85","(55911.4+14769)/(2)=35340.2","(0+2109.9)/(2)=1054.95",null,null,null,null,null,null,null,null,"S1","(59330+61743.4)/(2)=60536.7","(13072.7+33787.9)/(2)=23430.3","(3016.8+603.4)/(2)=1810.05","(0+0)/(2)=0","(36201.4+18100.7)/(2)=27151","(10558.7+6636.9)/(2)=8597.8","(30167.8+48268.5)/(2)=39218.15","(10558.7+35598)/(2)=23078.35","(33687.4+26145.4)/(2)=29916.4","(0+0)/(2)=0"]
["S2","(18960.8+40765.6)/(2)=29863.2","(0+21804.9)/(2)=10902.45","(15168.6+22752.9)/(2)=18960.75","(11376.5+0)/(2)=5688.25","(35077.4+1896.1)/(2)=18486.75",null,null,null,null,null,null,null,null,null,"S2","(0+4219.7)/(2)=2109.85","(34812.7+9494.4)/(2)=22153.55","(6329.6+68570.5)/(2)=37450.05","(55911.4+10549.3)/(2)=33230.35","(0+2109.9)/(2)=1054.95",null,null,null,null,null,null,null,null,"S2","(23128.6+34793.5)/(2)=28961.1","(13072.7+33787.9)/(2)=23430.3","(3016.8+603.4)/(2)=1810.05","(0+0)/(2)=0","(36201.4+6838)/(2)=21519.7","(10558.7+6636.9)/(2)=8597.8","(30167.8+48268.5)/(2)=39218.15","(10558.7+35598)/(2)=23078.35","(33687.4+0)/(2)=16843.7","(0+0)/(2)=0"]
["S3","(18960.8+40765.6)/(2)=29863.2","(0+21804.9)/(2)=10902.45","(15168.6+22752.9)/(2)=18960.75","(11376.5+0)/(2)=5688.25","(7584.3+1896.1)/(2)=4740.2",null,null,null,null,null,null,null,null,null,"S3","(0+4219.7)/(2)=2109.85","(34812.7+9494.4)/(2)=22153.55","(6329.6+68570.5)/(2)=37450.05","(16878.9+10549.3)/(2)=13714.1","(0+2109.9)/(2)=1054.95",null,null,null,null,null,null,null,null,"S3","(0+0)/(2)=0","(13072.7+33787.9)/(2)=23430.3","(3016.8+0)/(2)=1508.4","(0+0)/(2)=0","(15083.9+6838)/(2)=10960.95","(10558.7+6636.9)/(2)=8597.8","(30167.8+48268.5)/(2)=39218.15","(10558.7+35598)/(2)=23078.35","(2514+0)/(2)=1257","(0+0)/(2)=0"]
["S4","(18960.8+40765.6)/(2)=29863.2","(0+21804.9)/(2)=10902.45","(15168.6+22752.9)/(2)=18960.75","(1896.1+0)/(2)=948.05","(7584.3+1896.1)/(2)=4740.2",null,null,null,null,null,null,null,null,null,"S4","(0+4219.7)/(2)=2109.85","(34812.7+9494.4)/(2)=22153.55","(6329.6+68570.5)/(2)=37450.05","(16878.9+10549.3)/(2)=13714.1","(0+2109.9)/(2)=1054.95",null,null,null,null,null,null,null,null,"S4","(0+0)/(2)=0","(13072.7+33787.9)/(2)=23430.3","(3016.8+0)/(2)=1508.4","(0+0)/(2)=0","(15083.9+6838)/(2)=10960.95","(10558.7+6636.9)/(2)=8597.8","(30167.8+17296.2)/(2)=23732","(10558.7+35598)/(2)=23078.35","(2514+0)/(2)=1257","(0+0)/(2)=0"]
["S5","(18960.8+40765.6)/(2)=29863.2","(0+21804.9)/(2)=10902.45","(15168.6+22752.9)/(2)=18960.75","(1896.1+0)/(2)=948.05","(7584.3+0)/(2)=3792.15",null,null,null,null,null,null,null,null,null,"S5","(0+4219.7)/(2)=2109.85","(34812.7+0)/(2)=17406.35","(6329.6+68570.5)/(2)=37450.05","(16878.9+10549.3)/(2)=13714.1","(0+2109.9)/(2)=1054.95",null,null,null,null,null,null,null,null,"S5","(0+0)/(2)=0","(0+8849.2)/(2)=4424.6","(3016.8+0)/(2)=1508.4","(0+0)/(2)=0","(15083.9+6838)/(2)=10960.95","(10558.7+6636.9)/(2)=8597.8","(30167.8+17296.2)/(2)=23732","(10558.7+35598)/(2)=23078.35","(2514+0)/(2)=1257","(0+0)/(2)=0"]
["S6","(4740.2+40765.6)/(2)=22752.9","(0+21804.9)/(2)=10902.45","(15168.6+22752.9)/(2)=18960.75","(1896.1+0)/(2)=948.05","(7584.3+0)/(2)=3792.15",null,null,null,null,null,null,null,null,null,"S6","(0+0)/(2)=0","(34812.7+0)/(2)=17406.35","(6329.6+68570.5)/(2)=37450.05","(16878.9+10549.3)/(2)=13714.1","(0+2109.9)/(2)=1054.95",null,null,null,null,null,null,null,null,"S6","(0+0)/(2)=0","(0+8849.2)/(2)=4424.6","(3016.8+0)/(2)=1508.4","(0+0)/(2)=0","(15083.9+6838)/(2)=10960.95","(10558.7+6636.9)/(2)=8597.8","(0+0)/(2)=0","(10558.7+35598)/(2)=23078.35","(2514+0)/(2)=1257","(0+0)/(2)=0"]
["S7","(4740.2+40765.6)/(2)=22752.9","(0+21804.9)/(2)=10902.45","(15168.6+22752.9)/(2)=18960.75","(1896.1+0)/(2)=948.05","(7584.3+0)/(2)=3792.15",null,null,null,null,null,null,null,null,null,"S7","(0+0)/(2)=0","(0+0)/(2)=0","(6329.6+68570.5)/(2)=37450.05","(15824+10549.3)/(2)=13186.65","(0+2109.9)/(2)=1054.95",null,null,null,null,null,null,null,null,"S7","(0+0)/(2)=0","(0+8849.2)/(2)=4424.6","(3016.8+0)/(2)=1508.4","(0+0)/(2)=0","(15083.9+6838)/(2)=10960.95","(10558.7+6636.9)/(2)=8597.8","(0+0)/(2)=0","(10558.7+35598)/(2)=23078.35","(0+0)/(2)=0","(0+0)/(2)=0"]
["S8","(4740.2+40765.6)/(2)=22752.9","(0+21804.9)/(2)=10902.45","(15168.6+22752.9)/(2)=18960.75","(1896.1+0)/(2)=948.05","(7584.3+0)/(2)=3792.15",null,null,null,null,null,null,null,null,null,"S8","(0+0)/(2)=0","(0+0)/(2)=0","(6329.6+68570.5)/(2)=37450.05","(15824+10549.3)/(2)=13186.65","(0+2109.9)/(2)=1054.95",null,null,null,null,null,null,null,null,"S8","(0+0)/(2)=0","(0+8849.2)/(2)=4424.6","(3016.8+0)/(2)=1508.4","(0+0)/(2)=0","(15083.9+6838)/(2)=10960.95","(0+0)/(2)=0","(0+0)/(2)=0","(0+35598)/(2)=17799","(0+0)/(2)=0","(0+0)/(2)=0"]
["S9","(4740.2+40765.6)/(2)=22752.9","(0+21804.9)/(2)=10902.45","(15168.6+22752.9)/(2)=18960.75","(1896.1+0)/(2)=948.05","(7584.3+0)/(2)=3792.15",null,null,null,null,null,null,null,null,null,"S9","(0+0)/(2)=0","(0+0)/(2)=0","(6329.6+68570.5)/(2)=37450.05","(15824+10549.3)/(2)=13186.65","(0+0)/(2)=0",null,null,null,null,null,null,null,null,"S9","(0+0)/(2)=0","(0+0)/(2)=0","(3016.8+0)/(2)=1508.4","(0+0)/(2)=0","(15083.9+6838)/(2)=10960.95","(0+0)/(2)=0","(0+0)/(2)=0","(0+0)/(2)=0","(0+0)/(2)=0","(0+0)/(2)=0"]
["S10","(4740.2+40765.6)/(2)=22752.9","(0+21804.9)/(2)=10902.45","(15168.6+0)/(2)=7584.3","(1896.1+0)/(2)=948.05","(0+0)/(2)=0",null,null,null,null,null,null,null,null,null,"S10","(0+0)/(2)=0","(0+0)/(2)=0","(6329.6+68570.5)/(2)=37450.05","(15824+10549.3)/(2)=13186.65","(0+0)/(2)=0",null,null,null,null,null,null,null,null,"S10","(0+0)/(2)=0","(0+0)/(2)=0","(3016.8+0)/(2)=1508.4","(0+0)/(2)=0","(15083.9+0)/(2)=7541.95","(0+0)/(2)=0","(0+0)/(2)=0","(0+0)/(2)=0","(0+0)/(2)=0","(0+0)/(2)=0"]
["S11","(4740.2+40765.6)/(2)=22752.9","(0+21804.9)/(2)=10902.45","(15168.6+0)/(2)=7584.3","(1896.1+0)/(2)=948.05","(0+0)/(2)=0",null,null,null,null,null,null,null,null,null,"S11","(0+0)/(2)=0","(0+0)/(2)=0","(6329.6+32702.9)/(2)=19516.25","(15824+10549.3)/(2)=13186.65","(0+0)/(2)=0",null,null,null,null,null,null,null,null,"S11","(0+0)/(2)=0","(0+0)/(2)=0","(3016.8+0)/(2)=1508.4","(0+0)/(2)=0","(9050.3+0)/(2)=4525.15","(0+0)/(2)=0","(0+0)/(2)=0","(0+0)/(2)=0","(0+0)/(2)=0","(0+0)/(2)=0"]
["S12","(4740.2+40765.6)/(2)=22752.9","(0+21804.9)/(2)=10902.45","(15168.6+0)/(2)=7584.3","(0+0)/(2)=0","(0+0)/(2)=0",null,null,null,null,null,null,null,null,null,"S12","(0+0)/(2)=0","(0+0)/(2)=0","(0+32702.9)/(2)=16351.45","(15824+10549.3)/(2)=13186.65","(0+0)/(2)=0",null,null,null,null,null,null,null,null,"S12","(0+0)/(2)=0","(0+0)/(2)=0","(3016.8+0)/(2)=1508.4","(0+0)/(2)=0","(0+0)/(2)=0","(0+0)/(2)=0","(0+0)/(2)=0","(0+0)/(2)=0","(0+0)/(2)=0","(0+0)/(2)=0"]
["S13","(4740.2+40765.6)/(2)=22752.9","(0+21804.9)/(2)=10902.45","(15168.6+0)/(2)=7584.3","(0+0)/(2)=0","(0+0)/(2)=0",null,null,null,null,null,null,null,null,null,"S13","(0+0)/(2)=0","(0+0)/(2)=0","(0+32702.9)/(2)=16351.45","(15824+10549.3)/(2)=13186.65","(0+0)/(2)=0",null,null,null,null,null,null,null,null,"S13","(0+0)/(2)=0","(0+0)/(2)=0","(3016.8+0)/(2)=1508.4","(0+0)/(2)=0","(0+0)/(2)=0","(0+0)/(2)=0","(0+0)/(2)=0","(0+0)/(2)=0","(0+0)/(2)=0","(0+0)/(2)=0"]
["S14","(4740.2+0)/(2)=2370.1","(0+21804.9)/(2)=10902.45","(15168.6+0)/(2)=7584.3","(0+0)/(2)=0","(0+0)/(2)=0",null,null,null,null,null,null,null,null,null,"S14","(0+0)/(2)=0","(0+0)/(2)=0","(0+32702.9)/(2)=16351.45","(15824+10549.3)/(2)=13186.65","(0+0)/(2)=0",null,null,null,null,null,null,null,null,"S14","(0+0)/(2)=0","(0+0)/(2)=0","(0+0)/(2)=0","(0+0)/(2)=0","(0+0)/(2)=0","(0+0)/(2)=0","(0+0)/(2)=0","(0+0)/(2)=0","(0+0)/(2)=0","(0+0)/(2)=0"]
["S15","(0+0)/(2)=0","(0+0)/(2)=0","(0+0)/(2)=0","(0+0)/(2)=0","(0+0)/(2)=0",null,null,null,null,null,null,null,null,null,"S15","(0+0)/(2)=0","(0+0)/(2)=0","(0+32702.9)/(2)=16351.45","(15824+6329.6)/(2)=11076.8","(0+0)/(2)=0",null,null,null,null,null,null,null,null,"S15","(0+0)/(2)=0","(0+0)/(2)=0","(0+0)/(2)=0","(0+0)/(2)=0","(0+0)/(2)=0","(0+0)/(2)=0","(0+0)/(2)=0","(0+0)/(2)=0","(0+0)/(2)=0","(0+0)/(2)=0"]
["S16","(0+0)/(2)=0","(0+0)/(2)=0","(0+0)/(2)=0","(0+0)/(2)=0","(0+0)/(2)=0",null,null,null,null,null,null,null,null,null,"S16","(0+0)/(2)=0","(0+0)/(2)=0","(0+0)/(2)=0","(0+0)/(2)=0","(0+0)/(2)=0",null,null,null,null,null,null,null,null,"S16","(0+0)/(2)=0","(0+0)/(2)=0","(0+0)/(2)=0","(0+0)/(2)=0","(0+0)/(2)=0","(0+0)/(2)=0","(0+0)/(2)=0","(0+0)/(2)=0","(0+0)/(2)=0","(0+0)/(2)=0"]
[]
["L�pcs�k(2)","X(A1)","X(A2)","X(A3)","X(A4)","X(A5)",null,null,null,null,null,null,null,null,null,"L�pcs�k(2)","X(A1)","X(A2)","X(A3)","X(A4)","X(A5)",null,null,null,null,null,null,null,null,"L�pcs�k(2)","X(A1)","X(A2)","X(A3)","X(A4)","X(A5)","X(A6)","X(A7)","X(A8)","X(A9)","X(A10)"]
["S1",44557.8,35077.4,18960.8,5688.2,18486.7,null,null,null,null,null,null,null,null,null,"S1",2109.9,22153.599999999999,40614.9,35340.199999999997,1054.9000000000001,null,null,null,null,null,null,null,null,"S1",60536.7,23430.3,1810.1,0,27151,8597.7999999999993,39218.1,23078.400000000001,29916.400000000001,0]
["S2",29863.200000000001,10902.4,18960.8,5688.2,18486.7,null,null,null,null,null,null,null,null,null,"S2",2109.9,22153.599999999999,37450.1,33230.300000000003,1054.9000000000001,null,null,null,null,null,null,null,null,"S2",28961.1,23430.3,1810.1,0,21519.7,8597.7999999999993,39218.1,23078.400000000001,16843.7,0]
["S3",29863.200000000001,10902.4,18960.8,5688.2,4740.2,null,null,null,null,null,null,null,null,null,"S3",2109.9,22153.599999999999,37450.1,13714.1,1054.9000000000001,null,null,null,null,null,null,null,null,"S3",0,23430.3,1508.4,0,10961,8597.7999999999993,39218.1,23078.400000000001,1257,0]
["S4",29863.200000000001,10902.4,18960.8,948,4740.2,null,null,null,null,null,null,null,null,null,"S4",2109.9,22153.599999999999,37450.1,13714.1,1054.9000000000001,null,null,null,null,null,null,null,null,"S4",0,23430.3,1508.4,0,10961,8597.7999999999993,23732,23078.400000000001,1257,0]
["S5",29863.200000000001,10902.4,18960.8,948,3792.2,null,null,null,null,null,null,null,null,null,"S5",2109.9,17406.400000000001,37450.1,13714.1,1054.9000000000001,null,null,null,null,null,null,null,null,"S5",0,4424.6000000000004,1508.4,0,10961,8597.7999999999993,23732,23078.400000000001,1257,0]
["S6",22752.9,10902.4,18960.8,948,3792.2,null,null,null,null,null,null,null,null,null,"S6",0,17406.400000000001,37450.1,13714.1,1054.9000000000001,null,null,null,null,null,null,null,null,"S6",0,4424.6000000000004,1508.4,0,10961,8597.7999999999993,0,23078.400000000001,1257,0]
["S7",22752.9,10902.4,18960.8,948,3792.2,null,null,null,null,null,null,null,null,null,"S7",0,0,37450.1,13186.6,1054.9000000000001,null,null,null,null,null,null,null,null,"S7",0,4424.6000000000004,1508.4,0,10961,8597.7999999999993,0,23078.400000000001,0,0]
["S8",22752.9,10902.4,18960.8,948,3792.2,null,null,null,null,null,null,null,null,null,"S8",0,0,37450.1,13186.6,1054.9000000000001,null,null,null,null,null,null,null,null,"S8",0,4424.6000000000004,1508.4,0,10961,0,0,17799,0,0]
["S9",22752.9,10902.4,18960.8,948,3792.2,null,null,null,null,null,null,null,null,null,"S9",0,0,37450.1,13186.6,0,null,null,null,null,null,null,null,null,"S9",0,0,1508.4,0,10961,0,0,0,0,0]
["S10",22752.9,10902.4,7584.3,948,0,null,null,null,null,null,null,null,null,null,"S10",0,0,37450.1,13186.6,0,null,null,null,null,null,null,null,null,"S10",0,0,1508.4,0,7541.9,0,0,0,0,0]
["S11",22752.9,10902.4,7584.3,948,0,null,null,null,null,null,null,null,null,null,"S11",0,0,19516.2,13186.6,0,null,null,null,null,null,null,null,null,"S11",0,0,1508.4,0,4525.2,0,0,0,0,0]
["S12",22752.9,10902.4,7584.3,0,0,null,null,null,null,null,null,null,null,null,"S12",0,0,16351.4,13186.6,0,null,null,null,null,null,null,null,null,"S12",0,0,1508.4,0,0,0,0,0,0,0]
["S13",22752.9,10902.4,7584.3,0,0,null,null,null,null,null,null,null,null,null,"S13",0,0,16351.4,13186.6,0,null,null,null,null,null,null,null,null,"S13",0,0,1508.4,0,0,0,0,0,0,0]
["S14",2370.1,10902.4,7584.3,0,0,null,null,null,null,null,null,null,null,null,"S14",0,0,16351.4,13186.6,0,null,null,null,null,null,null,null,null,"S14",0,0,0,0,0,0,0,0,0,0]
["S15",0,0,0,0,0,null,null,null,null,null,null,null,null,null,"S15",0,0,16351.4,11076.8,0,null,null,null,null,null,null,null,null,"S15",0,0,0,0,0,0,0,0,0,0]
["S16",0,0,0,0,0,null,null,null,null,null,null,null,null,null,"S16",0,0,0,0,0,null,null,null,null,null,null,null,null,"S16",0,0,0,0,0,0,0,0,0,0]
[]
["COCO:STD","X(A1)","X(A2)","X(A3)","X(A4)","X(A5)","Becsl�s","T�ny+0","Delta","Delta/T�ny","abs",null,null,null,null,"COCO:STD","X(A1)","X(A2)","X(A3)","X(A4)","X(A5)","Becsl�s","T�ny+0","Delta","Delta/T�ny","abs",null,null,null,"COCO:STD","X(A1)","X(A2)","X(A3)","X(A4)","X(A5)","X(A6)","X(A7)","X(A8)","X(A9)","X(A10)","Becsl�s","T�ny+0","Delta","Delta/T�ny"]
["O1",0,10902.4,18960.8,0,0,29863.200000000001,16000,-13863.2,-86.65,{"$f":"ABS(I1462)","v":13863.2},null,null,null,null,"O1",2109.9,0,0,13714.1,1054.9000000000001,16878.900000000001,16000,-878.9,-5.49,{"$f":"ABS(X1462)","v":878.9},null,null,null,"O1",0,4424.6000000000004,1810.1,0,0,8597.7999999999993,0,0,1257,0,16089.5,16000,-89.5,-0.56000000000000005]
["O2",29863.200000000001,10902.4,0,0,3792.2,44557.8,28000,-16557.8,-59.14,{"$f":"ABS(I1463)","v":16557.8},null,null,null,null,"O2",0,0,40614.9,13714.1,0,54329,28000,-26329,-94.03,{"$f":"ABS(X1463)","v":26329},null,null,null,"O2",0,0,0,0,10961,0,0,23078.400000000001,1257,0,35296.300000000003,28000,-7296.3,-26.06]
["O3",22752.9,10902.4,18960.8,948,0,53564.2,90000,36435.800000000003,40.479999999999997,36435.800000000003,null,null,null,null,"O3",2109.9,22153.599999999999,37450.1,13186.6,1054.9000000000001,75955.100000000006,90000,14044.9,15.61,14044.9,null,null,null,"O3",0,0,1508.4,0,0,8597.7999999999993,39218.1,23078.400000000001,0,0,72402.7,90000,17597.3,19.55]
["O4",22752.9,10902.4,7584.3,948,3792.2,45979.9,66000,20020.099999999999,30.33,20020.099999999999,null,null,null,null,"O4",0,17406.400000000001,37450.1,13186.6,0,68043.100000000006,66000,-2043.1,-3.1,2043.1,null,null,null,"O4",0,0,0,0,10961,8597.7999999999993,23732,23078.400000000001,0,0,66369.2,66000,-369.2,-0.56000000000000005]
["O5",44557.8,10902.4,18960.8,948,3792.2,79161.2,77000,-2161.1999999999998,-2.81,2161.1999999999998,null,null,null,null,"O5",0,0,37450.1,13186.6,1054.9000000000001,51691.6,77000,25308.400000000001,32.869999999999997,25308.400000000001,null,null,null,"O5",60536.7,4424.6000000000004,1508.4,0,10961,0,0,0,0,0,77430.7,77000,-430.7,-0.56000000000000005]
["O6",29863.200000000001,10902.4,7584.3,0,4740.2,53090.1,51000,-2090.1,-4.0999999999999996,2090.1,null,null,null,null,"O6",0,0,37450.1,13714.1,0,51164.2,51000,-164.2,-0.32,164.2,null,null,null,"O6",0,4424.6000000000004,1508.4,0,10961,0,0,23078.400000000001,1257,0,41229.300000000003,51000,9770.7000000000007,19.16]
["O7",22752.9,10902.4,7584.3,948,18486.7,60674.400000000001,60000,-674.4,-1.1200000000000001,674.4,null,null,null,null,"O7",0,17406.400000000001,37450.1,13186.6,0,68043.100000000006,60000,-8043.1,-13.41,8043.1,null,null,null,"O7",0,0,1508.4,0,27151,8597.7999999999993,0,23078.400000000001,0,0,60335.6,60000,-335.6,-0.56000000000000005]
["O8",22752.9,0,18960.8,5688.2,0,47401.9,33000,-14401.9,-43.64,14401.9,null,null,null,null,"O8",0,22153.599999999999,16351.4,0,1054.9000000000001,39559.9,33000,-6559.9,-19.88,6559.9,null,null,null,"O8",0,0,1508.4,0,0,0,39218.1,0,0,0,40726.5,33000,-7726.5,-23.41]
["O9",22752.9,35077.4,7584.3,0,0,65414.6,69000,3585.4,5.2,3585.4,null,null,null,null,"O9",0,0,37450.1,33230.300000000003,1054.9000000000001,71735.3,69000,-2735.3,-3.96,2735.3,null,null,null,"O9",0,23430.3,1508.4,0,4525.2,0,0,23078.400000000001,16843.7,0,69385.899999999994,69000,-385.9,-0.56000000000000005]
["O10",29863.200000000001,0,18960.8,5688.2,0,54512.2,48000,-6512.2,-13.57,6512.2,null,null,null,null,"O10",0,22153.599999999999,16351.4,11076.8,1054.9000000000001,50636.7,48000,-2636.7,-5.49,2636.7,null,null,null,"O10",0,0,1508.4,0,7541.9,0,39218.1,0,0,0,48268.5,48000,-268.5,-0.56000000000000005]
["O11",29863.200000000001,10902.4,18960.8,948,18486.7,79161.2,75000,-4161.2,-5.55,4161.2,null,null,null,null,"O11",0,0,37450.1,13186.6,0,50636.7,75000,24363.3,32.479999999999997,24363.3,null,null,null,"O11",28961.1,23430.3,1508.4,0,21519.7,0,0,0,0,0,75419.5,75000,-419.5,-0.56000000000000005]
["O12",0,10902.4,7584.3,948,0,19434.8,21000,1565.2,7.45,1565.2,null,null,null,null,"O12",2109.9,0,37450.1,13186.6,1054.9000000000001,53801.5,21000,-32801.5,-156.19999999999999,32801.5,null,null,null,"O12",0,0,0,0,0,8597.7999999999993,0,23078.400000000001,0,0,31676.2,21000,-10676.2,-50.84]
["O13",22752.9,10902.4,18960.8,0,4740.2,57356.3,92000,34643.699999999997,37.659999999999997,34643.699999999997,null,null,null,null,"O13",2109.9,22153.599999999999,37450.1,35340.199999999997,0,97053.7,92000,-5053.7,-5.49,5053.7,null,null,null,"O13",0,0,1508.4,0,10961,8597.7999999999993,23732,17799,29916.400000000001,0,92514.6,92000,-514.6,-0.56000000000000005]
["O14",2370.1,10902.4,18960.8,948,3792.2,36973.5,47000,10026.5,21.33,10026.5,null,null,null,null,"O14",2109.9,0,16351.4,13714.1,1054.9000000000001,33230.300000000003,47000,13769.7,29.3,13769.7,null,null,null,"O14",0,23430.3,1508.4,0,10961,8597.7999999999993,0,0,1257,0,45754.5,47000,1245.5,2.65]
["O15",22752.9,10902.4,18960.8,5688.2,3792.2,62096.5,41000,-21096.5,-51.45,21096.5,null,null,null,null,"O15",0,0,16351.4,13186.6,0,29538.1,41000,11461.9,27.96,11461.9,null,null,null,"O15",0,23430.3,1810.1,0,10961,0,0,0,0,0,36201.4,41000,4798.6000000000004,11.7]
["O16",22752.9,10902.4,18960.8,948,4740.2,58304.3,31000,-27304.3,-88.08,27304.3,null,null,null,null,"O16",0,0,19516.2,13186.6,0,32702.9,31000,-1702.9,-5.49,1702.9,null,null,null,"O16",0,23430.3,1508.4,0,10961,0,0,0,0,0,35899.699999999997,31000,-4899.7,-15.81]
[null,null,null,null,null,null,null,null,{"$f":"STDEV(I1462:I1477)","v":18216.398656584814},null,{"$f":"SUM(K1462:K1477)","v":215099.49999999994},null,null,null,null,null,null,null,null,null,null,null,null,{"$f":"STDEV(X1462:X1477)","v":15656.841702738935},null,{"$f":"SUM(Z1462:Z1477)","v":177896.5},null,null,null,null,null,null,null,null,null,null,null,null,null,null,null,null,{"$f":"STDEV(AQ1462:AQ1477)","v":6741.5959221803214}]
["S1 �sszeg:",122770.9,null,null,null,null,null,null,null,null,null,null,null,null,null,"S1 �sszeg:",101273.5,null,null,null,null,null,null,null,null,null,null,null,null,"S1 �sszeg:",213738.8]
["S16 �sszeg:",0,null,null,null,null,null,null,null,null,null,null,null,null,null,"S16 �sszeg:",0,null,null,null,null,null,null,null,null,null,null,null,null,"S16 �sszeg:",0]
["Becsl�s �sszeg:",847546.1,null,null,null,null,null,null,null,null,null,null,null,null,null,"Becsl�s �sszeg:",845000.1,null,null,null,null,null,null,null,null,null,null,null,null,"Becsl�s �sszeg:",845000.1]
["T�ny �sszeg:",845000,null,null,null,null,null,null,null,null,null,null,null,null,null,"T�ny �sszeg:",845000,null,null,null,null,null,null,null,null,null,null,null,null,"T�ny �sszeg:",845000]
["T�ny-becsl�s elt�r�s:",2546.1,null,null,null,null,null,null,null,null,null,null,null,null,null,"T�ny-becsl�s elt�r�s:",0.1,null,null,null,null,null,null,null,null,null,null,null,null,"T�ny-becsl�s elt�r�s:",0.1]
["T�ny n�gyzet�sszeg:",null,null,null,null,null,null,null,null,null,null,null,null,null,null,"T�ny n�gyzet�sszeg:",null,null,null,null,null,null,null,null,null,null,null,null,null,"T�ny n�gyzet�sszeg:"]
["Becsl�s n�gyzet�sszeg:",null,null,null,null,null,null,null,null,null,null,null,null,null,null,"Becsl�s n�gyzet�sszeg:",null,null,null,null,null,null,null,null,null,null,null,null,null,"Becsl�s n�gyzet�sszeg:"]
["N�gyzet�sszeg hiba:",0,null,null,null,null,null,null,null,null,null,null,null,null,null,"N�gyzet�sszeg hiba:",0,null,null,null,null,null,null,null,null,null,null,null,null,"N�gyzet�sszeg hiba:",0]
[]
["Open url",null,null,null,null,null,null,null,null,null,null,null,null,null,null,"Open url",null,null,null,null,null,null,null,null,null,null,null,null,null,"Open url"]
[]
["Maxim�lis mem�ria haszn�lat: 1.36 Mb",null,null,null,null,null,null,null,null,null,null,null,null,null,null,"Maxim�lis mem�ria haszn�lat: 1.36 Mb",null,null,null,null,null,null,null,null,null,null,null,null,null,"Maxim�lis mem�ria haszn�lat: 1.38 Mb"]
["A futtat�s id�tartama: 0.06 mp (0 p)",null,null,null,null,null,null,null,null,null,null,null,null,null,null,"A futtat�s id�tartama: 0.06 mp (0 p)",null,null,null,null,null,null,null,null,null,null,null,null,null,"A futtat�s id�tartama: 0.05 mp (0 p)"]
[]
[]
[]
[]
[]
[]
[]
[]
[]
[]
[]
[]
[]
["Azonos�t�:",5795679,"Objektumok:",16,"Attrib�tumok:",5,"Lepcs�k:",16,"Eltol�s:",0,"Le�r�s:","COCO STD: 5795679",null,null,null,"Azonos�t�:",8841843,"Objektumok:",16,"Attrib�tumok:",5,"Lepcs�k:",16,"Eltol�s:",0,"Le�r�s:","COCO STD: 8841843",null,null,"Azonos�t�:",1533277,"Objektumok:",16,"Attrib�tumok:",10,"Lepcs�k:",16,"Eltol�s:",0,"Le�r�s:","COCO STD: 1533277"]
[]
["Rangsor","X(A1)","X(A2)","X(A3)","X(A4)","X(A5)","Y(A6)",null,null,null,null,null,null,null,null,"Rangsor","X(A1)","X(A2)","X(A3)","X(A4)","X(A5)","Y(A6)",null,null,null,null,null,null,null,"Rangsor","X(A1)","X(A2)","X(A3)","X(A4)","X(A5)","X(A6)","X(A7)","X(A8)","X(A9)","X(A10)","Y(A11)"]
["O1",14,15,16,5,16,55000,null,null,null,null,null,null,null,null,"O1",3,2,1,12,1,55000,null,null,null,null,null,null,null,"O1",14,15,16,5,16,3,2,1,12,1,55000]
["O2",9,9,7,2,6,64000,null,null,null,null,null,null,null,null,"O2",8,8,9,14,10,64000,null,null,null,null,null,null,null,"O2",9,9,7,2,6,8,8,9,14,10,64000]
["O3",5,2,14,1,8,52000,null,null,null,null,null,null,null,null,"O3",10,15,3,16,8,52000,null,null,null,null,null,null,null,"O3",5,2,14,1,8,10,15,3,16,8,52000]
["O4",5,1,7,2,9,37000,null,null,null,null,null,null,null,null,"O4",10,16,9,14,7,37000,null,null,null,null,null,null,null,"O4",5,1,7,2,9,10,16,9,14,7,37000]
["O5",10,5,6,7,2,53000,null,null,null,null,null,null,null,null,"O5",7,12,11,10,13,53000,null,null,null,null,null,null,null,"O5",10,5,6,7,2,7,12,11,10,13,53000]
["O6",13,11,11,10,5,13000,null,null,null,null,null,null,null,null,"O6",4,6,6,7,11,13000,null,null,null,null,null,null,null,"O6",13,11,11,10,5,4,6,6,7,11,13000]
["O7",1,12,1,16,10,50000,null,null,null,null,null,null,null,null,"O7",16,5,16,1,6,50000,null,null,null,null,null,null,null,"O7",1,12,1,16,10,16,5,16,1,6,50000]
["O8",2,13,15,12,2,62000,null,null,null,null,null,null,null,null,"O8",14,4,2,4,13,62000,null,null,null,null,null,null,null,"O8",2,13,15,12,2,14,4,2,4,13,62000]
["O9",4,6,5,8,7,93000,null,null,null,null,null,null,null,null,"O9",13,10,12,9,9,93000,null,null,null,null,null,null,null,"O9",4,6,5,8,7,13,10,12,9,9,93000]
["O10",16,8,3,14,11,10000,null,null,null,null,null,null,null,null,"O10",1,9,14,3,5,10000,null,null,null,null,null,null,null,"O10",16,8,3,14,11,1,9,14,3,5,10000]
["O11",15,16,9,9,12,14000,null,null,null,null,null,null,null,null,"O11",2,1,7,8,4,14000,null,null,null,null,null,null,null,"O11",15,16,9,9,12,2,1,7,8,4,14000]
["O12",2,4,4,4,2,99000,null,null,null,null,null,null,null,null,"O12",14,13,13,13,13,99000,null,null,null,null,null,null,null,"O12",2,4,4,4,2,14,13,13,13,13,99000]
["O13",8,6,9,12,1,83000,null,null,null,null,null,null,null,null,"O13",9,10,7,4,16,83000,null,null,null,null,null,null,null,"O13",8,6,9,12,1,9,10,7,4,16,83000]
["O14",11,10,2,15,14,75000,null,null,null,null,null,null,null,null,"O14",6,7,15,2,3,75000,null,null,null,null,null,null,null,"O14",11,10,2,15,14,6,7,15,2,3,75000]
["O15",12,3,12,6,15,96000,null,null,null,null,null,null,null,null,"O15",5,14,5,11,2,96000,null,null,null,null,null,null,null,"O15",12,3,12,6,15,5,14,5,11,2,96000]
["O16",5,14,13,11,4,70000,null,null,null,null,null,null,null,null,"O16",10,3,4,6,12,70000,null,null,null,null,null,null,null,"O16",5,14,13,11,4,10,3,4,6,12,70000]
[]
["L�pcs�k(1)","X(A1)","X(A2)","X(A3)","X(A4)","X(A5)",null,null,null,null,null,null,null,null,null,"L�pcs�k(1)","X(A1)","X(A2)","X(A3)","X(A4)","X(A5)",null,null,null,null,null,null,null,null,"L�pcs�k(1)","X(A1)","X(A2)","X(A3)","X(A4)","X(A5)","X(A6)","X(A7)","X(A8)","X(A9)","X(A10)"]
["S1","(39935.4+55909.6)/(2)=47922.5","(0+31948.3)/(2)=15974.15","(9983.9+18969.3)/(2)=14476.6","(28953.2+7987.1)/(2)=18470.15","(72882.1+7987.1)/(2)=40434.6",null,null,null,null,null,null,null,null,null,"S1","(0+0)/(2)=0","(992.6+11910.6)/(2)=6451.6","(51612.8+51612.8)/(2)=51612.75","(49627.7+62530.9)/(2)=56079.25","(2977.7+0)/(2)=1488.85",null,null,null,null,null,null,null,null,"S1","(40714.5+34098.4)/(2)=37406.45","(0+18830.4)/(2)=9415.2","(10178.6+16794.7)/(2)=13486.65","(0+0)/(2)=0","(46821.7+37660.9)/(2)=42241.3","(0+0)/(2)=0","(14250.1+14250.1)/(2)=14250.05","(6107.2+0)/(2)=3053.6","(0+0)/(2)=0","(49875.2+68705.7)/(2)=59290.45"]
["S2","(39935.4+55909.6)/(2)=47922.5","(0+31948.3)/(2)=15974.15","(9983.9+18969.3)/(2)=14476.6","(26956.4+7987.1)/(2)=17471.75","(21964.5+5990.3)/(2)=13977.4",null,null,null,null,null,null,null,null,null,"S2","(0+0)/(2)=0","(0+11910.6)/(2)=5955.3","(51612.8+51612.8)/(2)=51612.75","(49627.7+62530.9)/(2)=56079.25","(2977.7+0)/(2)=1488.85",null,null,null,null,null,null,null,null,"S2","(40714.5+34098.4)/(2)=37406.45","(0+18830.4)/(2)=9415.2","(10178.6+16794.7)/(2)=13486.65","(0+0)/(2)=0","(16285.8+31044.8)/(2)=23665.3","(0+0)/(2)=0","(0+6107.2)/(2)=3053.6","(6107.2+0)/(2)=3053.6","(0+0)/(2)=0","(49875.2+68705.7)/(2)=59290.45"]
["S3","(39935.4+55909.6)/(2)=47922.5","(0+31948.3)/(2)=15974.15","(9983.9+9983.9)/(2)=9983.85","(26956.4+7987.1)/(2)=17471.75","(21964.5+5990.3)/(2)=13977.4",null,null,null,null,null,null,null,null,null,"S3","(0+0)/(2)=0","(0+11910.6)/(2)=5955.3","(51612.8+51612.8)/(2)=51612.75","(9925.5+34739.4)/(2)=22332.45","(2977.7+0)/(2)=1488.85",null,null,null,null,null,null,null,null,"S3","(40714.5+34098.4)/(2)=37406.45","(0+18830.4)/(2)=9415.2","(10178.6+16794.7)/(2)=13486.65","(0+0)/(2)=0","(16285.8+31044.8)/(2)=23665.3","(0+0)/(2)=0","(0+6107.2)/(2)=3053.6","(6107.2+0)/(2)=3053.6","(0+0)/(2)=0","(28500.1+49366.3)/(2)=38933.2"]
["S4","(39935.4+55909.6)/(2)=47922.5","(0+18969.3)/(2)=9484.65","(9983.9+9983.9)/(2)=9983.85","(26956.4+7987.1)/(2)=17471.75","(21964.5+5990.3)/(2)=13977.4",null,null,null,null,null,null,null,null,null,"S4","(0+0)/(2)=0","(0+11910.6)/(2)=5955.3","(51612.8+51612.8)/(2)=51612.75","(9925.5+34739.4)/(2)=22332.45","(0+0)/(2)=0",null,null,null,null,null,null,null,null,"S4","(40714.5+34098.4)/(2)=37406.45","(0+18830.4)/(2)=9415.2","(10178.6+16794.7)/(2)=13486.65","(0+0)/(2)=0","(16285.8+31044.8)/(2)=23665.3","(0+0)/(2)=0","(0+0)/(2)=0","(6107.2+0)/(2)=3053.6","(0+0)/(2)=0","(0+0)/(2)=0"]
["S5","(9983.9+55909.6)/(2)=32946.7","(0+18969.3)/(2)=9484.65","(9983.9+9983.9)/(2)=9983.85","(26956.4+7987.1)/(2)=17471.75","(12979+0)/(2)=6489.5",null,null,null,null,null,null,null,null,null,"S5","(0+0)/(2)=0","(0+11910.6)/(2)=5955.3","(51612.8+51612.8)/(2)=51612.75","(9925.5+34739.4)/(2)=22332.45","(0+0)/(2)=0",null,null,null,null,null,null,null,null,"S5","(37660.9+34098.4)/(2)=35879.65","(0+12723.3)/(2)=6361.65","(10178.6+16794.7)/(2)=13486.65","(0+0)/(2)=0","(13232.2+31044.8)/(2)=22138.5","(0+0)/(2)=0","(0+0)/(2)=0","(6107.2+0)/(2)=3053.6","(0+0)/(2)=0","(0+0)/(2)=0"]
["S6","(9983.9+55909.6)/(2)=32946.7","(0+18969.3)/(2)=9484.65","(0+0)/(2)=0","(26956.4+7987.1)/(2)=17471.75","(12979+0)/(2)=6489.5",null,null,null,null,null,null,null,null,null,"S6","(0+0)/(2)=0","(0+11910.6)/(2)=5955.3","(12903.2+51612.8)/(2)=32258","(9925.5+34739.4)/(2)=22332.45","(0+0)/(2)=0",null,null,null,null,null,null,null,null,"S6","(37660.9+34098.4)/(2)=35879.65","(0+12723.3)/(2)=6361.65","(0+0)/(2)=0","(0+0)/(2)=0","(13232.2+31044.8)/(2)=22138.5","(0+0)/(2)=0","(0+0)/(2)=0","(0+0)/(2)=0","(0+0)/(2)=0","(0+0)/(2)=0"]
["S7","(9983.9+55909.6)/(2)=32946.7","(0+0)/(2)=0","(0+0)/(2)=0","(20966.1+7987.1)/(2)=14476.6","(12979+0)/(2)=6489.5",null,null,null,null,null,null,null,null,null,"S7","(0+0)/(2)=0","(0+11910.6)/(2)=5955.3","(12903.2+51612.8)/(2)=32258","(0+34739.4)/(2)=17369.7","(0+0)/(2)=0",null,null,null,null,null,null,null,null,"S7","(37660.9+34098.4)/(2)=35879.65","(0+0)/(2)=0","(0+0)/(2)=0","(0+0)/(2)=0","(13232.2+31044.8)/(2)=22138.5","(0+0)/(2)=0","(0+0)/(2)=0","(0+0)/(2)=0","(0+0)/(2)=0","(0+0)/(2)=0"]
["S8","(9983.9+55909.6)/(2)=32946.7","(0+0)/(2)=0","(0+0)/(2)=0","(20966.1+7987.1)/(2)=14476.6","(12979+0)/(2)=6489.5",null,null,null,null,null,null,null,null,null,"S8","(0+0)/(2)=0","(0+11910.6)/(2)=5955.3","(12903.2+51612.8)/(2)=32258","(0+34739.4)/(2)=17369.7","(0+0)/(2)=0",null,null,null,null,null,null,null,null,"S8","(37660.9+34098.4)/(2)=35879.65","(0+0)/(2)=0","(0+0)/(2)=0","(0+0)/(2)=0","(9160.8+0)/(2)=4580.4","(0+0)/(2)=0","(0+0)/(2)=0","(0+0)/(2)=0","(0+0)/(2)=0","(0+0)/(2)=0"]
["S9","(9983.9+55909.6)/(2)=32946.7","(0+0)/(2)=0","(0+0)/(2)=0","(13977.4+7987.1)/(2)=10982.25","(0+0)/(2)=0",null,null,null,null,null,null,null,null,null,"S9","(0+0)/(2)=0","(0+11910.6)/(2)=5955.3","(12903.2+51612.8)/(2)=32258","(0+34739.4)/(2)=17369.7","(0+0)/(2)=0",null,null,null,null,null,null,null,null,"S9","(37660.9+34098.4)/(2)=35879.65","(0+0)/(2)=0","(0+0)/(2)=0","(0+0)/(2)=0","(0+0)/(2)=0","(0+0)/(2)=0","(0+0)/(2)=0","(0+0)/(2)=0","(0+0)/(2)=0","(0+0)/(2)=0"]
["S10","(9983.9+55909.6)/(2)=32946.7","(0+0)/(2)=0","(0+0)/(2)=0","(0+7987.1)/(2)=3993.55","(0+0)/(2)=0",null,null,null,null,null,null,null,null,null,"S10","(0+0)/(2)=0","(0+11910.6)/(2)=5955.3","(12903.2+51612.8)/(2)=32258","(0+34739.4)/(2)=17369.7","(0+0)/(2)=0",null,null,null,null,null,null,null,null,"S10","(37660.9+10178.6)/(2)=23919.75","(0+0)/(2)=0","(0+0)/(2)=0","(0+0)/(2)=0","(0+0)/(2)=0","(0+0)/(2)=0","(0+0)/(2)=0","(0+0)/(2)=0","(0+0)/(2)=0","(0+0)/(2)=0"]
["S11","(9983.9+55909.6)/(2)=32946.7","(0+0)/(2)=0","(0+0)/(2)=0","(0+7987.1)/(2)=3993.55","(0+0)/(2)=0",null,null,null,null,null,null,null,null,null,"S11","(0+0)/(2)=0","(0+11910.6)/(2)=5955.3","(12903.2+51612.8)/(2)=32258","(0+34739.4)/(2)=17369.7","(0+0)/(2)=0",null,null,null,null,null,null,null,null,"S11","(37660.9+10178.6)/(2)=23919.75","(0+0)/(2)=0","(0+0)/(2)=0","(0+0)/(2)=0","(0+0)/(2)=0","(0+0)/(2)=0","(0+0)/(2)=0","(0+0)/(2)=0","(0+0)/(2)=0","(0+0)/(2)=0"]
["S12","(9983.9+55909.6)/(2)=32946.7","(0+0)/(2)=0","(0+0)/(2)=0","(0+0)/(2)=0","(0+0)/(2)=0",null,null,null,null,null,null,null,null,null,"S12","(0+0)/(2)=0","(0+11910.6)/(2)=5955.3","(12903.2+51612.8)/(2)=32258","(0+34739.4)/(2)=17369.7","(0+0)/(2)=0",null,null,null,null,null,null,null,null,"S12","(37660.9+10178.6)/(2)=23919.75","(0+0)/(2)=0","(0+0)/(2)=0","(0+0)/(2)=0","(0+0)/(2)=0","(0+0)/(2)=0","(0+0)/(2)=0","(0+0)/(2)=0","(0+0)/(2)=0","(0+0)/(2)=0"]
["S13","(0+46924.1)/(2)=23462.05","(0+0)/(2)=0","(0+0)/(2)=0","(0+0)/(2)=0","(0+0)/(2)=0",null,null,null,null,null,null,null,null,null,"S13","(0+0)/(2)=0","(0+11910.6)/(2)=5955.3","(12903.2+51612.8)/(2)=32258","(0+34739.4)/(2)=17369.7","(0+0)/(2)=0",null,null,null,null,null,null,null,null,"S13","(0+0)/(2)=0","(0+0)/(2)=0","(0+0)/(2)=0","(0+0)/(2)=0","(0+0)/(2)=0","(0+0)/(2)=0","(0+0)/(2)=0","(0+0)/(2)=0","(0+0)/(2)=0","(0+0)/(2)=0"]
["S14","(0+46924.1)/(2)=23462.05","(0+0)/(2)=0","(0+0)/(2)=0","(0+0)/(2)=0","(0+0)/(2)=0",null,null,null,null,null,null,null,null,null,"S14","(0+0)/(2)=0","(0+8933)/(2)=4466.5","(0+0)/(2)=0","(0+0)/(2)=0","(0+0)/(2)=0",null,null,null,null,null,null,null,null,"S14","(0+0)/(2)=0","(0+0)/(2)=0","(0+0)/(2)=0","(0+0)/(2)=0","(0+0)/(2)=0","(0+0)/(2)=0","(0+0)/(2)=0","(0+0)/(2)=0","(0+0)/(2)=0","(0+0)/(2)=0"]
["S15","(0+5990.3)/(2)=2995.15","(0+0)/(2)=0","(0+0)/(2)=0","(0+0)/(2)=0","(0+0)/(2)=0",null,null,null,null,null,null,null,null,null,"S15","(0+0)/(2)=0","(0+0)/(2)=0","(0+0)/(2)=0","(0+0)/(2)=0","(0+0)/(2)=0",null,null,null,null,null,null,null,null,"S15","(0+0)/(2)=0","(0+0)/(2)=0","(0+0)/(2)=0","(0+0)/(2)=0","(0+0)/(2)=0","(0+0)/(2)=0","(0+0)/(2)=0","(0+0)/(2)=0","(0+0)/(2)=0","(0+0)/(2)=0"]
["S16","(0+0)/(2)=0","(0+0)/(2)=0","(0+0)/(2)=0","(0+0)/(2)=0","(0+0)/(2)=0",null,null,null,null,null,null,null,null,null,"S16","(0+0)/(2)=0","(0+0)/(2)=0","(0+0)/(2)=0","(0+0)/(2)=0","(0+0)/(2)=0",null,null,null,null,null,null,null,null,"S16","(0+0)/(2)=0","(0+0)/(2)=0","(0+0)/(2)=0","(0+0)/(2)=0","(0+0)/(2)=0","(0+0)/(2)=0","(0+0)/(2)=0","(0+0)/(2)=0","(0+0)/(2)=0","(0+0)/(2)=0"]
[]
["L�pcs�k(2)","X(A1)","X(A2)","X(A3)","X(A4)","X(A5)",null,null,null,null,null,null,null,null,null,"L�pcs�k(2)","X(A1)","X(A2)","X(A3)","X(A4)","X(A5)",null,null,null,null,null,null,null,null,"L�pcs�k(2)","X(A1)","X(A2)","X(A3)","X(A4)","X(A5)","X(A6)","X(A7)","X(A8)","X(A9)","X(A10)"]
["S1",47922.5,15974.2,14476.6,18470.099999999999,40434.6,null,null,null,null,null,null,null,null,null,"S1",0,6451.6,51612.800000000003,56079.3,1488.8,null,null,null,null,null,null,null,null,"S1",37406.400000000001,9415.2000000000007,13486.7,0,42241.3,0,14250.1,3053.6,0,59290.5]
["S2",47922.5,15974.2,14476.6,17471.7,13977.4,null,null,null,null,null,null,null,null,null,"S2",0,5955.3,51612.800000000003,56079.3,1488.8,null,null,null,null,null,null,null,null,"S2",37406.400000000001,9415.2000000000007,13486.7,0,23665.3,0,3053.6,3053.6,0,59290.5]
["S3",47922.5,15974.2,9983.9,17471.7,13977.4,null,null,null,null,null,null,null,null,null,"S3",0,5955.3,51612.800000000003,22332.400000000001,1488.8,null,null,null,null,null,null,null,null,"S3",37406.400000000001,9415.2000000000007,13486.7,0,23665.3,0,3053.6,3053.6,0,38933.199999999997]
["S4",47922.5,9484.7000000000007,9983.9,17471.7,13977.4,null,null,null,null,null,null,null,null,null,"S4",0,5955.3,51612.800000000003,22332.400000000001,0,null,null,null,null,null,null,null,null,"S4",37406.400000000001,9415.2000000000007,13486.7,0,23665.3,0,0,3053.6,0,0]
["S5",32946.699999999997,9484.7000000000007,9983.9,17471.7,6489.5,null,null,null,null,null,null,null,null,null,"S5",0,5955.3,51612.800000000003,22332.400000000001,0,null,null,null,null,null,null,null,null,"S5",35879.599999999999,6361.6,13486.7,0,22138.5,0,0,3053.6,0,0]
["S6",32946.699999999997,9484.7000000000007,0,17471.7,6489.5,null,null,null,null,null,null,null,null,null,"S6",0,5955.3,32258,22332.400000000001,0,null,null,null,null,null,null,null,null,"S6",35879.599999999999,6361.6,0,0,22138.5,0,0,0,0,0]
["S7",32946.699999999997,0,0,14476.6,6489.5,null,null,null,null,null,null,null,null,null,"S7",0,5955.3,32258,17369.7,0,null,null,null,null,null,null,null,null,"S7",35879.599999999999,0,0,0,22138.5,0,0,0,0,0]
["S8",32946.699999999997,0,0,14476.6,6489.5,null,null,null,null,null,null,null,null,null,"S8",0,5955.3,32258,17369.7,0,null,null,null,null,null,null,null,null,"S8",35879.599999999999,0,0,0,4580.3999999999996,0,0,0,0,0]
["S9",32946.699999999997,0,0,10982.2,0,null,null,null,null,null,null,null,null,null,"S9",0,5955.3,32258,17369.7,0,null,null,null,null,null,null,null,null,"S9",35879.599999999999,0,0,0,0,0,0,0,0,0]
["S10",32946.699999999997,0,0,3993.5,0,null,null,null,null,null,null,null,null,null,"S10",0,5955.3,32258,17369.7,0,null,null,null,null,null,null,null,null,"S10",23919.8,0,0,0,0,0,0,0,0,0]
["S11",32946.699999999997,0,0,3993.5,0,null,null,null,null,null,null,null,null,null,"S11",0,5955.3,32258,17369.7,0,null,null,null,null,null,null,null,null,"S11",23919.8,0,0,0,0,0,0,0,0,0]
["S12",32946.699999999997,0,0,0,0,null,null,null,null,null,null,null,null,null,"S12",0,5955.3,32258,17369.7,0,null,null,null,null,null,null,null,null,"S12",23919.8,0,0,0,0,0,0,0,0,0]
["S13",23462.1,0,0,0,0,null,null,null,null,null,null,null,null,null,"S13",0,5955.3,32258,17369.7,0,null,null,null,null,null,null,null,null,"S13",0,0,0,0,0,0,0,0,0,0]
["S14",23462.1,0,0,0,0,null,null,null,null,null,null,null,null,null,"S14",0,4466.5,0,0,0,null,null,null,null,null,null,null,null,"S14",0,0,0,0,0,0,0,0,0,0]
["S15",2995.2,0,0,0,0,null,null,null,null,null,null,null,null,null,"S15",0,0,0,0,0,null,null,null,null,null,null,null,null,"S15",0,0,0,0,0,0,0,0,0,0]
["S16",0,0,0,0,0,null,null,null,null,null,null,null,null,null,"S16",0,0,0,0,0,null,null,null,null,null,null,null,null,"S16",0,0,0,0,0,0,0,0,0,0]
[]
["COCO:STD","X(A1)","X(A2)","X(A3)","X(A4)","X(A5)","Becsl�s","T�ny+0","Delta","Delta/T�ny","abs",null,null,null,null,"COCO:STD","X(A1)","X(A2)","X(A3)","X(A4)","X(A5)","Becsl�s","T�ny+0","Delta","Delta/T�ny","abs",null,null,null,"COCO:STD","X(A1)","X(A2)","X(A3)","X(A4)","X(A5)","X(A6)","X(A7)","X(A8)","X(A9)","X(A10)","Becsl�s","T�ny+0","Delta","Delta/T�ny"]
["O1",23462.1,0,0,17471.7,0,40933.800000000003,55000,14066.2,25.57,{"$f":"ABS(I1562)","v":14066.2},null,null,null,null,"O1",0,5955.3,51612.800000000003,17369.7,1488.8,76426.600000000006,55000,-21426.6,-38.96,{"$f":"ABS(X1562)","v":21426.6},null,null,null,"O1",0,0,0,0,0,0,3053.6,3053.6,0,59290.5,65397.599999999999,55000,-10397.6,-18.899999999999999]
["O2",32946.699999999997,0,0,17471.7,6489.5,56908,64000,7092,11.08,{"$f":"ABS(I1563)","v":7092},null,null,null,null,"O2",0,5955.3,32258,0,0,38213.300000000003,64000,25786.7,40.29,{"$f":"ABS(X1563)","v":25786.7},null,null,null,"O2",35879.599999999999,0,0,0,22138.5,0,0,0,0,0,58018.1,64000,5981.9,9.35]
["O3",32946.699999999997,15974.2,0,18470.099999999999,6489.5,73880.5,52000,-21880.5,-42.08,21880.5,null,null,null,null,"O3",0,0,51612.800000000003,0,0,51612.800000000003,52000,387.2,0.74,387.2,null,null,null,"O3",35879.599999999999,9415.2000000000007,0,0,4580.3999999999996,0,0,3053.6,0,0,52928.800000000003,52000,-928.8,-1.79]
["O4",32946.699999999997,15974.2,0,17471.7,0,66392.600000000006,37000,-29392.6,-79.44,29392.6,null,null,null,null,"O4",0,0,32258,0,0,32258,37000,4742,12.82,4742,null,null,null,"O4",35879.599999999999,9415.2000000000007,0,0,0,0,0,0,0,0,45294.9,37000,-8294.9,-22.42]
["O5",32946.699999999997,9484.7000000000007,0,14476.6,13977.4,70885.399999999994,53000,-17885.400000000001,-33.75,17885.400000000001,null,null,null,null,"O5",0,5955.3,32258,17369.7,0,55583,53000,-2583,-4.87,2583,null,null,null,"O5",23919.8,6361.6,0,0,23665.3,0,0,0,0,0,53946.7,53000,-946.7,-1.79]
["O6",23462.1,0,0,3993.5,6489.5,33945.1,13000,-20945.099999999999,-161.12,20945.099999999999,null,null,null,null,"O6",0,5955.3,32258,17369.7,0,55583,13000,-42583,-327.56,42583,null,null,null,"O6",0,0,0,0,22138.5,0,0,0,0,0,22138.5,13000,-9138.5,-70.3]
["O7",47922.5,0,14476.6,0,0,62399.1,50000,-12399.1,-24.8,12399.1,null,null,null,null,"O7",0,5955.3,0,56079.3,0,62034.6,50000,-12034.6,-24.07,12034.6,null,null,null,"O7",37406.400000000001,0,13486.7,0,0,0,0,0,0,0,50893.1,50000,-893.1,-1.79]
["O8",47922.5,0,0,0,13977.4,61899.9,62000,100.1,0.16,100.1,null,null,null,null,"O8",0,5955.3,51612.800000000003,22332.400000000001,0,79900.5,62000,-17900.5,-28.87,17900.5,null,null,null,"O8",37406.400000000001,0,0,0,23665.3,0,0,3053.6,0,0,64125.3,62000,-2125.3000000000002,-3.43]
["O9",47922.5,9484.7000000000007,9983.9,14476.6,6489.5,88357.1,93000,4642.8999999999996,4.99,4642.8999999999996,null,null,null,null,"O9",0,5955.3,32258,17369.7,0,55583,93000,37417,40.229999999999997,37417,null,null,null,"O9",37406.400000000001,6361.6,13486.7,0,22138.5,0,0,0,0,0,79393.2,93000,13606.8,14.63]
["O10",0,0,9983.9,0,0,9983.9,10000,16.100000000000001,0.16,16.100000000000001,null,null,null,null,"O10",0,5955.3,0,22332.400000000001,0,28287.8,10000,-18287.8,-182.88,18287.8,null,null,null,"O10",0,0,13486.7,0,0,0,0,0,0,0,13486.7,10000,-3486.7,-34.869999999999997]
["O11",2995.2,0,0,10982.2,0,13977.4,14000,22.6,0.16,22.6,null,null,null,null,"O11",0,6451.6,32258,17369.7,0,56079.3,14000,-42079.3,-300.57,42079.3,null,null,null,"O11",0,0,0,0,0,0,14250.1,0,0,0,14250.1,14000,-250.1,-1.79]
["O12",47922.5,9484.7000000000007,9983.9,17471.7,13977.4,98840.2,99000,159.80000000000001,0.16,159.80000000000001,null,null,null,null,"O12",0,5955.3,32258,17369.7,0,55583,99000,43417,43.86,43417,null,null,null,"O12",37406.400000000001,9415.2000000000007,13486.7,0,23665.3,0,0,0,0,0,83973.6,99000,15026.4,15.18]
["O13",32946.699999999997,9484.7000000000007,0,0,40434.6,82866,83000,134,0.16,134,null,null,null,null,"O13",0,5955.3,32258,22332.400000000001,0,60545.7,83000,22454.3,27.05,22454.3,null,null,null,"O13",35879.599999999999,6361.6,0,0,42241.3,0,0,0,0,0,84482.6,83000,-1482.6,-1.79]
["O14",32946.699999999997,0,14476.6,0,0,47423.3,75000,27576.7,36.770000000000003,27576.7,null,null,null,null,"O14",0,5955.3,0,56079.3,1488.8,63523.4,75000,11476.6,15.3,11476.6,null,null,null,"O14",23919.8,0,13486.7,0,0,0,0,0,0,38933.199999999997,76339.7,75000,-1339.7,-1.79]
["O15",32946.699999999997,15974.2,0,17471.7,0,66392.600000000006,96000,29607.4,30.84,29607.4,null,null,null,null,"O15",0,4466.5,51612.800000000003,17369.7,1488.8,74937.8,96000,21062.2,21.94,21062.2,null,null,null,"O15",23919.8,9415.2000000000007,0,0,0,0,0,3053.6,0,59290.5,95679,96000,321,0.33]
["O16",32946.699999999997,0,0,3993.5,13977.4,50917.7,70000,19082.3,27.26,19082.3,null,null,null,null,"O16",0,5955.3,51612.800000000003,22332.400000000001,0,79900.5,70000,-9900.5,-14.14,9900.5,null,null,null,"O16",35879.599999999999,0,0,0,23665.3,0,3053.6,3053.6,0,0,65652.100000000006,70000,4347.8999999999996,6.21]
[null,null,null,null,null,null,null,null,{"$f":"STDEV(I1562:I1577)","v":17370.42617473254},null,{"$f":"SUM(K1562:K1577)","v":205002.8},null,null,null,null,null,null,null,null,null,null,null,null,{"$f":"STDEV(X1562:X1577)","v":25819.444452084783},null,{"$f":"SUM(Z1562:Z1577)","v":333538.3},null,null,null,null,null,null,null,null,null,null,null,null,null,null,null,null,{"$f":"STDEV(AQ1562:AQ1577)","v":7068.4354894134813}]
["S1 �sszeg:",137278,null,null,null,null,null,null,null,null,null,null,null,null,null,"S1 �sszeg:",115632.5,null,null,null,null,null,null,null,null,null,null,null,null,"S1 �sszeg:",179143.8]
["S16 �sszeg:",0,null,null,null,null,null,null,null,null,null,null,null,null,null,"S16 �sszeg:",0,null,null,null,null,null,null,null,null,null,null,null,null,"S16 �sszeg:",0]
["Becsl�s �sszeg:",926002.6,null,null,null,null,null,null,null,null,null,null,null,null,null,"Becsl�s �sszeg:",926052.3,null,null,null,null,null,null,null,null,null,null,null,null,"Becsl�s �sszeg:",926000]
["T�ny �sszeg:",926000,null,null,null,null,null,null,null,null,null,null,null,null,null,"T�ny �sszeg:",926000,null,null,null,null,null,null,null,null,null,null,null,null,"T�ny �sszeg:",926000]
["T�ny-becsl�s elt�r�s:",2.6,null,null,null,null,null,null,null,null,null,null,null,null,null,"T�ny-becsl�s elt�r�s:",52.3,null,null,null,null,null,null,null,null,null,null,null,null,"T�ny-becsl�s elt�r�s:",0]
["T�ny n�gyzet�sszeg:",null,null,null,null,null,null,null,null,null,null,null,null,null,null,"T�ny n�gyzet�sszeg:",null,null,null,null,null,null,null,null,null,null,null,null,null,"T�ny n�gyzet�sszeg:"]
["Becsl�s n�gyzet�sszeg:",null,null,null,null,null,null,null,null,null,null,null,null,null,null,"Becsl�s n�gyzet�sszeg:",null,null,null,null,null,null,null,null,null,null,null,null,null,"Becsl�s n�gyzet�sszeg:"]
["N�gyzet�sszeg hiba:",0,null,null,null,null,null,null,null,null,null,null,null,null,null,"N�gyzet�sszeg hiba:",0,null,null,null,null,null,null,null,null,null,null,null,null,"N�gyzet�sszeg hiba:",0]
[]
["Open url",null,null,null,null,null,null,null,null,null,null,null,null,null,null,"Open url",null,null,null,null,null,null,null,null,null,null,null,null,null,"Open url"]
[]
["Maxim�lis mem�ria haszn�lat: 1.36 Mb",null,null,null,null,null,null,null,null,null,null,null,null,null,null,"Maxim�lis mem�ria haszn�lat: 1.36 Mb",null,null,null,null,null,null,null,null,null,null,null,null,null,"Maxim�lis mem�ria haszn�lat: 1.38 Mb"]
["A futtat�s id�tartama: 0.06 mp (0 p)",null,null,null,null,null,null,null,null,null,null,null,null,null,null,"A futtat�s id�tartama: 0.06 mp (0 p)",null,null,null,null,null,null,null,null,null,null,null,null,null,"A futtat�s id�tartama: 0.08 mp (0 p)"]

{"sheet":"oam_validit(y)","index":17,"n_rows":131,"n_cols":19,"rows_kept":131,"cut":false,"hidden":false,"merged":[]}
[null,"total","total","total","total","direct","inverse","double","total","direct","inverse","double","direct","inverse","double","Y"]
[null,"invalid_between","invalid_extrem","between1","between2","correlation","correlation","correlation","correlation_plus","error","error","error","std_dev","std_dev","std_dev","validity ratio","<--lehet-e ok az lps?"]
["scenario1",{"$f":"basics1!$W$19","v":1},{"$f":"basics1!$X$19","v":2},{"$f":"basics1!$U$19","v":6},{"$f":"basics1!$Y$19","v":111464.49460962901},{"$f":"basics1!$Q$19","v":0.89130595448718608},{"$f":"basics1!$R$19","v":0.31426191215629828},{"$f":"basics1!$T$19","v":0.98699482799187954},{"$f":"COUNTIF(basics1!$B$19:$F$19,0)","v":5},{"$f":"models1!$B$83","v":-0.3},{"$f":"models1!$Q$83","v":-0.1},{"$f":"models1!$AE$83","v":-0.3},{"$f":"models1!$I$78","v":11418.97485942988},{"$f":"models1!$X$78","v":24774.042564761712},{"$f":"models1!$AQ$78","v":4287.2012661282497},{"$f":"INT(basics1!$P$19*1000000)","v":312500}]
["scenario2",{"$f":"basics2!$W$19","v":0},{"$f":"basics2!$X$19","v":2},{"$f":"basics2!$U$19","v":8},{"$f":"basics2!$Y$19","v":101434.53847188834},{"$f":"basics2!$Q$19","v":0.78447979419309888},{"$f":"basics2!$R$19","v":0.31101992398854805},{"$f":"basics2!$T$19","v":0.89643151643058461},{"$f":"COUNTIF(basics2!$B$19:$F$19,0)","v":2},{"$f":"models1!$B$183","v":112.2},{"$f":"models1!$Q$183","v":0},{"$f":"models1!$AE$183","v":18.100000000000001},{"$f":"models1!$I$178","v":18459.515078494525},{"$f":"models1!$X$178","v":28857.586683990055},{"$f":"models1!$AQ$178","v":13983.599729145508},{"$f":"INT(basics2!$P$19*1000000)","v":375000}]
["scenario3",{"$f":"basics3!$W$19","v":1},{"$f":"basics3!$X$19","v":5},{"$f":"basics3!$U$19","v":7},{"$f":"basics3!$Y$19","v":129391.13643694841},{"$f":"basics3!$Q$19","v":0.80233801324714593},{"$f":"basics3!$R$19","v":0.24804155130869163},{"$f":"basics3!$T$19","v":0.80664502306171126},{"$f":"COUNTIF(basics3!$B$19:$F$19,0)","v":1},{"$f":"models1!$B$283","v":1168.0999999999999},{"$f":"models1!$Q$283","v":11.1},{"$f":"models1!$AE$283","v":26},{"$f":"models1!$I$278","v":16197.814481691399},{"$f":"models1!$X$278","v":27782.39753804481},{"$f":"models1!$AQ$278","v":16001.298213770031},{"$f":"INT(basics3!$P$19*1000000)","v":187500}]
["scenario4",{"$f":"basics4!$W$19","v":0},{"$f":"basics4!$X$19","v":1},{"$f":"basics4!$U$19","v":7},{"$f":"basics4!$Y$19","v":120116.44105219323},{"$f":"basics4!$Q$19","v":0.92922655377204599},{"$f":"basics4!$R$19","v":0.42958562006741219},{"$f":"basics4!$T$19","v":0.94183168656838923},{"$f":"COUNTIF(basics4!$B$19:$F$19,0)","v":2},{"$f":"models1!$B$383","v":-0.2},{"$f":"models1!$Q$383","v":2863.4},{"$f":"models1!$AE$383","v":0},{"$f":"models1!$I$378","v":12380.162361233395},{"$f":"models1!$X$378","v":28699.764163325453},{"$f":"models1!$AQ$378","v":11183.683216484033},{"$f":"INT(basics4!$P$19*1000000)","v":375000}]
["scenario5",{"$f":"basics5!$W$19","v":3},{"$f":"basics5!$X$19","v":2},{"$f":"basics5!$U$19","v":5},{"$f":"basics5!$Y$19","v":140651.77657200504},{"$f":"basics5!$Q$19","v":0.82571502711250189},{"$f":"basics5!$R$19","v":0.43524027815120381},{"$f":"basics5!$T$19","v":0.90769853077572071},{"$f":"COUNTIF(basics5!$B$19:$F$19,0)","v":3},{"$f":"models1!$B$483","v":0},{"$f":"models1!$Q$483","v":-0.1},{"$f":"models1!$AE$483","v":-0.1},{"$f":"models1!$I$478","v":17311.621581045874},{"$f":"models1!$X$478","v":27640.005889132724},{"$f":"models1!$AQ$478","v":12900.005136974105},{"$f":"INT(basics5!$P$19*1000000)","v":375000}]
["scenario6",{"$f":"basics6!$W$19","v":0},{"$f":"basics6!$X$19","v":1},{"$f":"basics6!$U$19","v":7},{"$f":"basics6!$Y$19","v":107173.62924003255},{"$f":"basics6!$Q$19","v":0.99228445618110683},{"$f":"basics6!$R$19","v":0.19080965811477113},{"$f":"basics6!$T$19","v":0.99501677809465405},{"$f":"COUNTIF(basics6!$B$19:$F$19,0)","v":1},{"$f":"models1!$B$583","v":49.4},{"$f":"models1!$Q$583","v":0},{"$f":"models1!$AE$583","v":0},{"$f":"models1!$I$578","v":3066.2181937744303},{"$f":"models1!$X$578","v":24698.140329938476},{"$f":"models1!$AQ$578","v":2556.0386016907751},{"$f":"INT(basics6!$P$19*1000000)","v":375000}]
["scenario7",{"$f":"basics7!$W$19","v":0},{"$f":"basics7!$X$19","v":0},{"$f":"basics7!$U$19","v":6},{"$f":"basics7!$Y$19","v":128872.01399354039},{"$f":"basics7!$Q$19","v":0.92272092374135906},{"$f":"basics7!$R$19","v":0.25265797384442373},{"$f":"basics7!$T$19","v":0.99999999999999989},{"$f":"COUNTIF(basics7!$B$19:$F$19,0)","v":1},{"$f":"models1!$B$683","v":0.1},{"$f":"models1!$Q$683","v":-0.2},{"$f":"models1!$AE$683","v":0},{"$f":"models1!$I$678","v":8887.9308421753412},{"$f":"models1!$X$678","v":22462.769046220314},{"$f":"models1!$AQ$678","v":0},{"$f":"INT(basics7!$P$19*1000000)","v":375000}]
["scenario8",{"$f":"basics8!$W$19","v":0},{"$f":"basics8!$X$19","v":0},{"$f":"basics8!$U$19","v":7},{"$f":"basics8!$Y$19","v":105617.39328065823},{"$f":"basics8!$Q$19","v":0.91712393952735094},{"$f":"basics8!$R$19","v":0.34692579829026693},{"$f":"basics8!$T$19","v":0.99999999998348543},{"$f":"COUNTIF(basics8!$B$19:$F$19,0)","v":1},{"$f":"models1!$B$783","v":-9004.7000000000007},{"$f":"models1!$Q$783","v":0},{"$f":"models1!$AE$783","v":-0.4},{"$f":"models1!$I$778","v":8683.9771440255608},{"$f":"models1!$X$778","v":22522.556167717728},{"$f":"models1!$AQ$778","v":0.12909944487358055},{"$f":"INT(basics8!$P$19*1000000)","v":437500}]
["scenario9",{"$f":"basics9!$W$19","v":0},{"$f":"basics9!$X$19","v":0},{"$f":"basics9!$U$19","v":7},{"$f":"basics9!$Y$19","v":115962.33013407839},{"$f":"basics9!$Q$19","v":0.95264817433073157},{"$f":"basics9!$R$19","v":0.5439531849926883},{"$f":"basics9!$T$19","v":1},{"$f":"COUNTIF(basics9!$B$19:$F$19,0)","v":1},{"$f":"models1!$B$883","v":19.3},{"$f":"models1!$Q$883","v":740.9},{"$f":"models1!$AE$883","v":0},{"$f":"models1!$I$878","v":7621.940183834975},{"$f":"models1!$X$878","v":21265.916933549444},{"$f":"models1!$AQ$878","v":0},{"$f":"INT(basics9!$P$19*1000000)","v":437500}]
["scenario10",{"$f":"basics10!$W$19","v":0},{"$f":"basics10!$X$19","v":1},{"$f":"basics10!$U$19","v":7},{"$f":"basics10!$Y$19","v":116700.33748160291},{"$f":"basics10!$Q$19","v":0.88849538927787752},{"$f":"basics10!$R$19","v":0.42556068143785702},{"$f":"basics10!$T$19","v":0.96135317877446524},{"$f":"COUNTIF(basics10!$B$19:$F$19,0)","v":3},{"$f":"models1!$B$983","v":0.1},{"$f":"models1!$Q$983","v":-0.1},{"$f":"models1!$AE$983","v":0},{"$f":"models1!$I$978","v":12592.007770776336},{"$f":"models1!$X$978","v":25015.171969252813},{"$f":"models1!$AQ$978","v":7922.3678434333424},{"$f":"INT(basics10!$P$19*1000000)","v":375000}]
["scenario11",{"$f":"basics11!$W$19","v":0},{"$f":"basics11!$X$19","v":3},{"$f":"basics11!$U$19","v":7},{"$f":"basics11!$Y$19","v":118755.93224985112},{"$f":"basics11!$Q$19","v":0.90400690559103059},{"$f":"basics11!$R$19","v":0.4050986591399513},{"$f":"basics11!$T$19","v":0.96885805099915334},{"$f":"COUNTIF(basics11!$B$19:$F$19,0)","v":3},{"$f":"models1!$B$1083","v":11.8},{"$f":"models1!$Q$1083","v":2120.1},{"$f":"models1!$AE$1083","v":9.8000000000000007},{"$f":"models1!$I$1078","v":12866.111701669366},{"$f":"models1!$X$1078","v":27132.673608043584},{"$f":"models1!$AQ$1078","v":7813.5907363068354},{"$f":"INT(basics11!$P$19*1000000)","v":250000}]
["scenario12",{"$f":"basics12!$W$19","v":1},{"$f":"basics12!$X$19","v":4},{"$f":"basics12!$U$19","v":9},{"$f":"basics12!$Y$19","v":92168.894053932308},{"$f":"basics12!$Q$19","v":0.9047961816517196},{"$f":"basics12!$R$19","v":0.40114729987427278},{"$f":"basics12!$T$19","v":0.93336874037784412},{"$f":"COUNTIF(basics12!$B$19:$F$19,0)","v":2},{"$f":"models1!$B$1183","v":-0.1},{"$f":"models1!$Q$1183","v":2531.5},{"$f":"models1!$AE$1183","v":0.1},{"$f":"models1!$I$1178","v":11497.426614361364},{"$f":"models1!$X$1178","v":23652.455224196598},{"$f":"models1!$AQ$1178","v":9765.2454207404153},{"$f":"INT(basics12!$P$19*1000000)","v":375000}]
["scenario13",{"$f":"basics13!$W$19","v":0},{"$f":"basics13!$X$19","v":2},{"$f":"basics13!$U$19","v":10},{"$f":"basics13!$Y$19","v":74333.681133420265},{"$f":"basics13!$Q$19","v":0.84256442210433491},{"$f":"basics13!$R$19","v":0.53873732176185507},{"$f":"basics13!$T$19","v":0.96827842956310695},{"$f":"COUNTIF(basics13!$B$19:$F$19,0)","v":4},{"$f":"models1!$B$1283","v":-0.1},{"$f":"models1!$Q$1283","v":-0.1},{"$f":"models1!$AE$1283","v":-0.1},{"$f":"models1!$I$1278","v":13334.252690644435},{"$f":"models1!$X$1278","v":20369.993205217939},{"$f":"models1!$AQ$1278","v":6296.5968647059653},{"$f":"INT(basics13!$P$19*1000000)","v":500000}]
["scenario14",{"$f":"basics14!$W$19","v":0},{"$f":"basics14!$X$19","v":0},{"$f":"basics14!$U$19","v":16},{"$f":"basics14!$Y$19","v":117575.34676798212},{"$f":"basics14!$Q$19","v":0.99925654747559722},{"$f":"basics14!$R$19","v":0.32947964955813364},{"$f":"basics14!$T$19","v":1},{"$f":"COUNTIF(basics14!$B$19:$F$19,0)","v":3},{"$f":"models1!$B$1383","v":0},{"$f":"models1!$Q$1383","v":-2788.7},{"$f":"models1!$AE$1383","v":0},{"$f":"models1!$I$1378","v":1016.530045465127},{"$f":"models1!$X$1378","v":24485.271707578788},{"$f":"models1!$AQ$1378","v":0},{"$f":"INT(basics14!$P$19*1000000)","v":1000000}]
["scenario15",{"$f":"basics15!$W$19","v":0},{"$f":"basics15!$X$19","v":3},{"$f":"basics15!$U$19","v":10},{"$f":"basics15!$Y$19","v":94660.738350833635},{"$f":"basics15!$Q$19","v":0.64588742079153416},{"$f":"basics15!$R$19","v":0.75951888717232796},{"$f":"basics15!$T$19","v":0.96280778599772177},{"$f":"COUNTIF(basics15!$B$19:$F$19,0)","v":2},{"$f":"models1!$B$1483","v":2546.1},{"$f":"models1!$Q$1483","v":0.1},{"$f":"models1!$AE$1483","v":0.1},{"$f":"models1!$I$1478","v":18216.398656584814},{"$f":"models1!$X$1478","v":15656.841702738935},{"$f":"models1!$AQ$1478","v":6741.5959221803214},{"$f":"INT(basics15!$P$19*1000000)","v":437500}]
["scenario16",{"$f":"basics16!$W$19","v":0},{"$f":"basics16!$X$19","v":2},{"$f":"basics16!$U$19","v":9},{"$f":"basics16!$Y$19","v":127666.18479958289},{"$f":"basics16!$Q$19","v":0.79739246439455258},{"$f":"basics16!$R$19","v":0.44392781632670336},{"$f":"basics16!$T$19","v":0.97547818908448092},{"$f":"COUNTIF(basics16!$B$19:$F$19,0)","v":4},{"$f":"models1!$B$1583","v":2.6},{"$f":"models1!$Q$1583","v":52.3},{"$f":"models1!$AE$1583","v":0},{"$f":"models1!$I$1578","v":17370.42617473254},{"$f":"models1!$X$1578","v":25819.444452084783},{"$f":"models1!$AQ$1578","v":7068.4354894134813},{"$f":"INT(basics16!$P$19*1000000)","v":437500}]
["correlation",{"$f":"CORREL(B3:B18,$P$3:$P$18)","v":-0.23069537870532841},{"$f":"CORREL(C3:C18,$P$3:$P$18)","v":-0.50967470944155679},0.86380216786958985,-0.13823974883366752,0.30451429204356872,0.1066335193705569,0.4489390327997545,0.15734815021919191,-6.7434392756215975E-2,-0.64073146803857006,-0.40092571475578254,-0.54145072488457302,-0.24752944690317649,-0.49432951326792279,0.99999999999999989]
["direction",1,1,0,1,0,0,0,0,1,1,1,1,1,1]
[null,null,null,null,null,null,null,null,null,null,null,null,null,null,null,{"$f":"P2","v":"validity ratio"},"estimation","delta"]
[{"$f":"A3","v":"scenario1"},{"$f":"RANK(B3,B$3:B$18,B$20)","v":13},{"$f":"RANK(C3,C$3:C$18,C$20)","v":8},14,7,9,12,6,1,2,3,2,6,9,6,{"$f":"P3","v":312500},{"$f":"P102","v":312500},{"$f":"R102","v":0}]
[{"$f":"A4","v":"scenario2"},{"$f":"RANK(B4,B$3:B$18,B$20)","v":1},8,6,4,15,13,15,8,14,7,15,16,16,15,{"$f":"P4","v":375000},{"$f":"P103","v":375000},{"$f":"R103","v":0}]
["scenario3",{"$f":"RANK(B5,B$3:B$18,B$20)","v":13},16,7,15,13,15,16,12,15,11,16,12,14,16,187500,187500,0]
["scenario4",{"$f":"RANK(B6,B$3:B$18,B$20)","v":1},5,7,12,4,6,12,8,3,16,5,8,15,13,375000,375000,0]
["scenario5",{"$f":"RANK(B7,B$3:B$18,B$20)","v":16},8,16,16,12,5,14,4,6,3,3,13,13,14,375000,375000,0]
["scenario6",{"$f":"RANK(B8,B$3:B$18,B$20)","v":1},5,7,6,2,16,5,12,13,7,5,2,8,5,375000,375000,0]
["scenario7",{"$f":"RANK(B9,B$3:B$18,B$20)","v":1},1,14,14,5,14,3,12,8,2,5,5,4,1,375000,375000,0]
["scenario8",{"$f":"RANK(B10,B$3:B$18,B$20)","v":1},1,7,5,6,10,4,12,1,7,1,4,5,4,437500,437500,0]
["scenario9",{"$f":"RANK(B11,B$3:B$18,B$20)","v":1},1,7,8,3,2,1,12,12,13,5,3,3,1,437500,437500,0]
["scenario10",{"$f":"RANK(B12,B$3:B$18,B$20)","v":1},5,7,9,10,7,11,4,8,3,5,9,10,11,375000,375000,0]
["scenario11",{"$f":"RANK(B13,B$3:B$18,B$20)","v":1},13,7,11,8,8,8,4,11,14,14,10,12,10,250000,250000,0]
["scenario12",{"$f":"RANK(B14,B$3:B$18,B$20)","v":13},15,4,2,7,9,13,8,4,15,12,7,6,12,375000,375000,0]
["scenario13",{"$f":"RANK(B15,B$3:B$18,B$20)","v":1},8,2,1,11,3,9,2,4,3,3,11,2,7,500000,500000,0]
["scenario14",{"$f":"RANK(B16,B$3:B$18,B$20)","v":1},1,1,10,1,11,1,4,6,1,5,1,7,1,1000000,1000000,0]
["scenario15",{"$f":"RANK(B17,B$3:B$18,B$20)","v":1},13,2,3,16,1,10,8,16,10,12,15,1,8,437500,437500,0]
["scenario16",{"$f":"RANK(B18,B$3:B$18,B$20)","v":1},8,4,13,14,4,7,2,10,12,5,14,11,9,437500,437500,0]
[]
[]
[]
[]
[]
[]
[]
["Azonos�t�:",2828502,"Objektumok:",16,"Attrib�tumok:",14,"Lepcs�k:",16,"Eltol�s:",0,"Le�r�s:","COCO STD: 2828502"]
[]
["Rangsor","X(A1)","X(A2)","X(A3)","X(A4)","X(A5)","X(A6)","X(A7)","X(A8)","X(A9)","X(A10)","X(A11)","X(A12)","X(A13)","X(A14)","Y(A15)"]
["O1",13,8,14,7,9,12,6,1,2,3,2,6,9,6,312500]
["O2",1,8,6,4,15,13,15,8,14,7,15,16,16,15,375000]
["O3",13,16,7,15,13,15,16,12,15,11,16,12,14,16,187500]
["O4",1,5,7,12,4,6,12,8,3,16,5,8,15,13,375000]
["O5",16,8,16,16,12,5,14,4,6,3,3,13,13,14,375000]
["O6",1,5,7,6,2,16,5,12,13,7,5,2,8,5,375000]
["O7",1,1,14,14,5,14,3,12,8,2,5,5,4,1,375000]
["O8",1,1,7,5,6,10,4,12,1,7,1,4,5,4,437500]
["O9",1,1,7,8,3,2,1,12,12,13,5,3,3,1,437500]
["O10",1,5,7,9,10,7,11,4,8,3,5,9,10,11,375000]
["O11",1,13,7,11,8,8,8,4,11,14,14,10,12,10,250000]
["O12",13,15,4,2,7,9,13,8,4,15,12,7,6,12,375000]
["O13",1,8,2,1,11,3,9,2,4,3,3,11,2,7,500000]
["O14",1,1,1,10,1,11,1,4,6,1,5,1,7,1,1000000]
["O15",1,13,2,3,16,1,10,8,16,10,12,15,1,8,437500]
["O16",1,8,4,13,14,4,7,2,10,12,5,14,11,9,437500]
[]
["L�pcs�k(1)","X(A1)","X(A2)","X(A3)","X(A4)","X(A5)","X(A6)","X(A7)","X(A8)","X(A9)","X(A10)","X(A11)","X(A12)","X(A13)","X(A14)"]
["S1","(0+0)/(2)=0","(375000+50000)/(2)=212500","(62500+575000)/(2)=318750","(62500+62500)/(2)=62500","(0+62500)/(2)=31250","(62500+100000)/(2)=81250","(0+0)/(2)=0","(0+0)/(2)=0","(62500+100000)/(2)=81250","(562500+50000)/(2)=306250","(0+237500)/(2)=118750","(0+0)/(2)=0","(0+12500)/(2)=6250","(0+0)/(2)=0"]
["S2","(0+0)/(2)=0","(375000+50000)/(2)=212500","(62500+37500)/(2)=50000","(62500+62500)/(2)=62500","(0+62500)/(2)=31250","(62500+100000)/(2)=81250","(0+0)/(2)=0","(0+0)/(2)=0","(0+0)/(2)=0","(0+50000)/(2)=25000","(0+237500)/(2)=118750","(0+0)/(2)=0","(0+12500)/(2)=6250","(0+0)/(2)=0"]
["S3","(0+0)/(2)=0","(375000+50000)/(2)=212500","(62500+37500)/(2)=50000","(62500+50000)/(2)=56250","(0+25000)/(2)=12500","(62500+100000)/(2)=81250","(0+0)/(2)=0","(0+0)/(2)=0","(0+0)/(2)=0","(0+0)/(2)=0","(0+237500)/(2)=118750","(0+0)/(2)=0","(0+12500)/(2)=6250","(0+0)/(2)=0"]
["S4","(0+0)/(2)=0","(375000+50000)/(2)=212500","(62500+37500)/(2)=50000","(62500+50000)/(2)=56250","(0+25000)/(2)=12500","(62500+100000)/(2)=81250","(0+0)/(2)=0","(0+0)/(2)=0","(0+0)/(2)=0","(0+0)/(2)=0","(0+237500)/(2)=118750","(0+0)/(2)=0","(0+12500)/(2)=6250","(0+0)/(2)=0"]
["S5","(0+0)/(2)=0","(375000+50000)/(2)=212500","(0+37500)/(2)=18750","(0+12500)/(2)=6250","(0+25000)/(2)=12500","(62500+87500)/(2)=75000","(0+0)/(2)=0","(0+0)/(2)=0","(0+0)/(2)=0","(0+0)/(2)=0","(0+237500)/(2)=118750","(0+0)/(2)=0","(0+12500)/(2)=6250","(0+0)/(2)=0"]
["S6","(0+0)/(2)=0","(312500+50000)/(2)=181250","(0+37500)/(2)=18750","(0+12500)/(2)=6250","(0+25000)/(2)=12500","(0+62500)/(2)=31250","(0+0)/(2)=0","(0+0)/(2)=0","(0+0)/(2)=0","(0+0)/(2)=0","(0+237500)/(2)=118750","(0+0)/(2)=0","(0+12500)/(2)=6250","(0+0)/(2)=0"]
["S7","(0+0)/(2)=0","(312500+50000)/(2)=181250","(0+0)/(2)=0","(0+12500)/(2)=6250","(0+25000)/(2)=12500","(0+62500)/(2)=31250","(0+0)/(2)=0","(0+0)/(2)=0","(0+0)/(2)=0","(0+0)/(2)=0","(0+237500)/(2)=118750","(0+0)/(2)=0","(0+12500)/(2)=6250","(0+0)/(2)=0"]
["S8","(0+0)/(2)=0","(312500+50000)/(2)=181250","(0+0)/(2)=0","(0+12500)/(2)=6250","(0+0)/(2)=0","(0+0)/(2)=0","(0+0)/(2)=0","(0+0)/(2)=0","(0+0)/(2)=0","(0+0)/(2)=0","(0+237500)/(2)=118750","(0+0)/(2)=0","(0+12500)/(2)=6250","(0+0)/(2)=0"]
["S9","(0+0)/(2)=0","(250000+0)/(2)=125000","(0+0)/(2)=0","(0+12500)/(2)=6250","(0+0)/(2)=0","(0+0)/(2)=0","(0+0)/(2)=0","(0+0)/(2)=0","(0+0)/(2)=0","(0+0)/(2)=0","(0+237500)/(2)=118750","(0+0)/(2)=0","(0+12500)/(2)=6250","(0+0)/(2)=0"]
["S10","(0+0)/(2)=0","(250000+0)/(2)=125000","(0+0)/(2)=0","(0+12500)/(2)=6250","(0+0)/(2)=0","(0+0)/(2)=0","(0+0)/(2)=0","(0+0)/(2)=0","(0+0)/(2)=0","(0+0)/(2)=0","(0+237500)/(2)=118750","(0+0)/(2)=0","(0+12500)/(2)=6250","(0+0)/(2)=0"]
["S11","(0+0)/(2)=0","(250000+0)/(2)=125000","(0+0)/(2)=0","(0+12500)/(2)=6250","(0+0)/(2)=0","(0+0)/(2)=0","(0+0)/(2)=0","(0+0)/(2)=0","(0+0)/(2)=0","(0+0)/(2)=0","(0+237500)/(2)=118750","(0+0)/(2)=0","(0+12500)/(2)=6250","(0+0)/(2)=0"]
["S12","(0+0)/(2)=0","(250000+0)/(2)=125000","(0+0)/(2)=0","(0+0)/(2)=0","(0+0)/(2)=0","(0+0)/(2)=0","(0+0)/(2)=0","(0+0)/(2)=0","(0+0)/(2)=0","(0+0)/(2)=0","(0+237500)/(2)=118750","(0+0)/(2)=0","(0+0)/(2)=0","(0+0)/(2)=0"]
["S13","(0+0)/(2)=0","(250000+0)/(2)=125000","(0+0)/(2)=0","(0+0)/(2)=0","(0+0)/(2)=0","(0+0)/(2)=0","(0+0)/(2)=0","(0+0)/(2)=0","(0+0)/(2)=0","(0+0)/(2)=0","(0+237500)/(2)=118750","(0+0)/(2)=0","(0+0)/(2)=0","(0+0)/(2)=0"]
["S14","(0+0)/(2)=0","(250000+0)/(2)=125000","(0+0)/(2)=0","(0+0)/(2)=0","(0+0)/(2)=0","(0+0)/(2)=0","(0+0)/(2)=0","(0+0)/(2)=0","(0+0)/(2)=0","(0+0)/(2)=0","(0+237500)/(2)=118750","(0+0)/(2)=0","(0+0)/(2)=0","(0+0)/(2)=0"]
["S15","(0+0)/(2)=0","(250000+0)/(2)=125000","(0+0)/(2)=0","(0+0)/(2)=0","(0+0)/(2)=0","(0+0)/(2)=0","(0+0)/(2)=0","(0+0)/(2)=0","(0+0)/(2)=0","(0+0)/(2)=0","(0+237500)/(2)=118750","(0+0)/(2)=0","(0+0)/(2)=0","(0+0)/(2)=0"]
["S16","(0+0)/(2)=0","(187500+0)/(2)=93750","(0+0)/(2)=0","(0+0)/(2)=0","(0+0)/(2)=0","(0+0)/(2)=0","(0+0)/(2)=0","(0+0)/(2)=0","(0+0)/(2)=0","(0+0)/(2)=0","(0+187500)/(2)=93750","(0+0)/(2)=0","(0+0)/(2)=0","(0+0)/(2)=0"]
[]
["L�pcs�k(2)",{"$f":"B1&B2","v":"totalinvalid_between"},{"$f":"C1&C2","v":"totalinvalid_extrem"},"totalbetween1","totalbetween2","directcorrelation","inversecorrelation","doublecorrelation","totalcorrelation_plus","directerror","inverseerror","doubleerror","directstd_dev","inversestd_dev","doublestd_dev"]
["S1",0,212500,318750,62500,31250,81250,0,0,81250,306250,118750,0,6250,0]
["S2",0,212500,50000,62500,31250,81250,0,0,0,25000,118750,0,6250,0]
["S3",0,212500,50000,56250,12500,81250,0,0,0,0,118750,0,6250,0]
["S4",0,212500,50000,56250,12500,81250,0,0,0,0,118750,0,6250,0]
["S5",0,212500,18750,6250,12500,75000,0,0,0,0,118750,0,6250,0]
["S6",0,181250,18750,6250,12500,31250,0,0,0,0,118750,0,6250,0]
["S7",0,181250,0,6250,12500,31250,0,0,0,0,118750,0,6250,0]
["S8",0,181250,0,6250,0,0,0,0,0,0,118750,0,6250,0]
["S9",0,125000,0,6250,0,0,0,0,0,0,118750,0,6250,0]
["S10",0,125000,0,6250,0,0,0,0,0,0,118750,0,6250,0]
["S11",0,125000,0,6250,0,0,0,0,0,0,118750,0,6250,0]
["S12",0,125000,0,0,0,0,0,0,0,0,118750,0,0,0]
["S13",0,125000,0,0,0,0,0,0,0,0,118750,0,0,0]
["S14",0,125000,0,0,0,0,0,0,0,0,118750,0,0,0]
["S15",0,125000,0,0,0,0,0,0,0,0,118750,0,0,0]
["S16",0,93750,0,0,0,0,0,0,0,0,93750,0,0,0]
[]
["COCO:STD","X(A1)","X(A2)","X(A3)","X(A4)","X(A5)","X(A6)","X(A7)","X(A8)","X(A9)","X(A10)","X(A11)","X(A12)","X(A13)","X(A14)","Becsl�s","T�ny+0","Delta","Delta/T�ny"]
["O1",0,181250,0,6250,0,0,0,0,0,0,118750,0,6250,0,312500,312500,0,0]
["O2",0,181250,18750,56250,0,0,0,0,0,0,118750,0,0,0,375000,375000,0,0]
["O3",0,93750,0,0,0,0,0,0,0,0,93750,0,0,0,187500,187500,0,0]
["O4",0,212500,0,0,12500,31250,0,0,0,0,118750,0,0,0,375000,375000,0,0]
["O5",0,181250,0,0,0,75000,0,0,0,0,118750,0,0,0,375000,375000,0,0]
["O6",0,212500,0,6250,31250,0,0,0,0,0,118750,0,6250,0,375000,375000,0,0]
["O7",0,212500,0,0,12500,0,0,0,0,25000,118750,0,6250,0,375000,375000,0,0]
["O8",0,212500,0,6250,12500,0,0,0,81250,0,118750,0,6250,0,437500,437500,0,0]
["O9",0,212500,0,6250,12500,81250,0,0,0,0,118750,0,6250,0,437500,437500,0,0]
["O10",0,212500,0,6250,0,31250,0,0,0,0,118750,0,6250,0,375000,375000,0,0]
["O11",0,125000,0,6250,0,0,0,0,0,0,118750,0,0,0,250000,250000,0,0]
["O12",0,125000,50000,62500,12500,0,0,0,0,0,118750,0,6250,0,375000,375000,0,0]
["O13",0,181250,50000,62500,0,81250,0,0,0,0,118750,0,6250,0,500000,500000,0,0]
["O14",0,212500,318750,6250,31250,0,0,0,0,306250,118750,0,6250,0,1000000,1000000,0,0]
["O15",0,125000,50000,56250,0,81250,0,0,0,0,118750,0,6250,0,437500,437500,0,0]
["O16",0,181250,50000,0,0,81250,0,0,0,0,118750,0,6250,0,437500,437500,0,0]
[]
["S1 �sszeg:",1218750]
["S16 �sszeg:",187500]
["Becsl�s �sszeg:",6625000]
["T�ny �sszeg:",6625000]
["T�ny-becsl�s elt�r�s:",0]
["T�ny n�gyzet�sszeg:"]
["Becsl�s n�gyzet�sszeg:"]
["N�gyzet�sszeg hiba:",0]
[]
["Open url"]
[]
["Maxim�lis mem�ria haszn�lat: 1.4 Mb"]
["A futtat�s id�tartama: 0.14 mp (0 p)"]

{"sheet":"prepost","index":18,"n_rows":132,"n_cols":22,"rows_kept":132,"cut":false,"hidden":false,"merged":[]}
[null,"direct","direct","direct","direct","direct","inverse","inverse","inverse","inverse","inverse","delta","delta","delta","delta","delta","direct","inverse","Y"]
[null,"max","min","avg","stddev","median",{"$f":"B2","v":"max"},{"$f":"C2","v":"min"},{"$f":"D2","v":"avg"},{"$f":"E2","v":"stddev"},{"$f":"F2","v":"median"},{"$f":"G2","v":"max"},"min","avg","stddev","median","zero-error","zero-error",{"$f":"'oam_validit(y)'!P2","v":"validity ratio"},"<--mixed Xi: zero-errors can not be involved in advance"]
[{"$f":"'oam_validit(y)'!A3","v":"scenario1"},{"$f":"TRANSPOSE(basics1!AN18:AN22)","v":5.805170109479997},2.5099800796022289,4.631463770352517,1.0260829564446461,4.8938070641773859,{"$f":"TRANSPOSE(basics1!AO18:AO22)","v":5.7183913821983188},2.5099800796022267,4.5901874591456462,1.1009954719383892,4.919349550499537,{"$f":"TRANSPOSE(basics1!AP18:AP22)","v":0.36058116073109892},0,0.14012699986194371,0.12999784991037602,0.12073231551642394,{"$f":"COUNTIF(models1!$I$62:$I$77,0)","v":0},{"$f":"COUNTIF(models1!$X$62:$X$77,0)","v":0},{"$f":"INT(basics1!$P$19*1000000)","v":312500}]
[{"$f":"'oam_validit(y)'!A4","v":"scenario2"},{"$f":"TRANSPOSE(basics2!$AN$18:$AN$22)","v":5.8137767414994528},2.1679483388678773,4.3817732130015408,1.1916659531136666,4.4044254647937748,{"$f":"TRANSPOSE(basics2!$AO$18:$AO$22)","v":5.770615218501403},2.1908902300206639,4.3284898065836668,1.1979653837185962,4.3798067144421546,{"$f":"TRANSPOSE(basics2!$AP$18:$AP$22)","v":0.44471435651166624},8.8817841970012523E-16,0.22103666426477289,0.14299082320262371,0.23111543323035111,{"$f":"COUNTIF(models1!$I$162:$I$177,0)","v":0},{"$f":"COUNTIF(models1!$X$162:$X$177,0)","v":0},{"$f":"INT(basics2!$P$19*1000000)","v":375000}]
[{"$f":"'oam_validit(y)'!A5","v":"scenario3"},{"$f":"TRANSPOSE(basics3!$AN$18:$AN$22)","v":6.8410525505948279},0.89442719099991574,3.938488154004959,1.3641353054151613,3.9369219971766896,{"$f":"TRANSPOSE(basics3!$AO$18:$AO$22)","v":6.8410525505948279},1.1401754250991383,3.9523794168137347,1.3505344899644713,4.1048344869790849,{"$f":"TRANSPOSE(basics3!$AP$18:$AP$22)","v":0.70672446073971162},0,0.18195114838575233,0.17189971941755533,0.13799068546627935,{"$f":"COUNTIF(models1!$I$262:$I$277,0)","v":0},{"$f":"COUNTIF(models1!$X$262:$X$277,0)","v":0},{"$f":"INT(basics3!$P$19*1000000)","v":187500}]
[{"$f":"'oam_validit(y)'!A6","v":"scenario4"},{"$f":"TRANSPOSE(basics4!$AN$18:$AN$22)","v":6.3874877690685246},2.7386127875258306,4.5974780178770125,1.2912818954357601,4.5220831386398883,{"$f":"TRANSPOSE(basics4!$AO$18:$AO$22)","v":6.6105975524153626},2.5884358211089573,4.5669382917047106,1.2803435537953634,4.8009709544920982,{"$f":"TRANSPOSE(basics4!$AP$18:$AP$22)","v":0.74924378295321103},5.1075874615671424E-2,0.31458827982870269,0.18905478346513307,0.3046795296954361,{"$f":"COUNTIF(models1!$I$362:$I$377,0)","v":0},{"$f":"COUNTIF(models1!$X$362:$X$377,0)","v":0},{"$f":"INT(basics4!$P$19*1000000)","v":375000}]
[{"$f":"'oam_validit(y)'!A7","v":"scenario5"},{"$f":"TRANSPOSE(basics5!$AN$18:$AN$22)","v":6.9641941385920596},2.1908902300206639,4.5565706340658938,1.4095537097084658,4.5092948538945912,{"$f":"TRANSPOSE(basics5!$AO$18:$AO$22)","v":6.7601775124622288},1.8708286933869707,4.4567965801646805,1.3364487242569048,4.4734484696064936,{"$f":"TRANSPOSE(basics5!$AP$18:$AP$22)","v":0.43134419325729945},1.2598831638569674E-2,0.25890418619609895,0.11306258018460252,0.23405962196492203,{"$f":"COUNTIF(models1!$I$462:$I$477,0)","v":0},{"$f":"COUNTIF(models1!$X$462:$X$477,0)","v":0},{"$f":"INT(basics5!$P$19*1000000)","v":375000}]
[{"$f":"'oam_validit(y)'!A8","v":"scenario6"},{"$f":"TRANSPOSE(basics6!$AN$18:$AN$22)","v":5.9413803110051786},0.83666002653407512,4.3154156468596261,1.5304684406508997,4.7939144485436707,{"$f":"TRANSPOSE(basics6!$AO$18:$AO$22)","v":6.4575537163851759},1.3038404810405297,4.4068152433192589,1.529262797995258,4.8121529662464946,{"$f":"TRANSPOSE(basics6!$AP$18:$AP$22)","v":0.75960814161726109},2.5228854229961684E-2,0.23528792945935645,0.22224891790787951,0.13341176759111395,{"$f":"COUNTIF(models1!$I$562:$I$577,0)","v":0},{"$f":"COUNTIF(models1!$X$562:$X$577,0)","v":0},{"$f":"INT(basics6!$P$19*1000000)","v":375000}]
[{"$f":"'oam_validit(y)'!A9","v":"scenario7"},{"$f":"TRANSPOSE(basics7!$AN$18:$AN$22)","v":6},1.6431676725154949,4.2139218347935898,1.3487229595435128,4.4769391138471573,{"$f":"TRANSPOSE(basics7!$AO$18:$AO$22)","v":5.8309518948453007},0.8944271909999163,4.15441766185746,1.3379841118525715,4.2661458015403086,{"$f":"TRANSPOSE(basics7!$AP$18:$AP$22)","v":0.77505980895474735},1.7763568394002505E-15,0.25388369943909617,0.23610662376457184,0.14912595424034847,{"$f":"COUNTIF(models1!$I$662:$I$677,0)","v":0},{"$f":"COUNTIF(models1!$X$662:$X$677,0)","v":0},{"$f":"INT(basics7!$P$19*1000000)","v":375000}]
[{"$f":"'oam_validit(y)'!A10","v":"scenario8"},{"$f":"TRANSPOSE(basics8!$AN$18:$AN$22)","v":6.024948132556827},1.51657508881031,4.3264950442033001,1.0740282466722648,4.437037464259431,{"$f":"TRANSPOSE(basics8!$AO$18:$AO$22)","v":5.9413803110051804},1.6431676725154982,4.439861701900834,1.0985459810709679,4.6583258795408451,{"$f":"TRANSPOSE(basics8!$AP$18:$AP$22)","v":0.63058165130247534},0,0.28691128071988037,0.22621782675023538,0.31389306759038504,{"$f":"COUNTIF(models1!$I$762:$I$777,0)","v":0},{"$f":"COUNTIF(models1!$X$762:$X$777,0)","v":0},{"$f":"INT(basics8!$P$19*1000000)","v":437500}]
[{"$f":"'oam_validit(y)'!A11","v":"scenario9"},{"$f":"TRANSPOSE(basics9!$AN$18:$AN$22)","v":5.5856960175075772},2.0736441353327715,4.2234637023654278,1.022991354698805,4.2425752117430537,{"$f":"TRANSPOSE(basics9!$AO$18:$AO$22)","v":6.0991802727907629},2.7018512172212588,4.2972127574049894,0.98466238821682472,4.2600836277335556,{"$f":"TRANSPOSE(basics9!$AP$18:$AP$22)","v":0.68043711092382697},4.7203900722527337E-2,0.3106299687769265,0.22744282080892075,0.22710471170165847,{"$f":"COUNTIF(models1!$I$862:$I$877,0)","v":0},{"$f":"COUNTIF(models1!$X$862:$X$877,0)","v":0},{"$f":"INT(basics9!$P$19*1000000)","v":437500}]
[{"$f":"'oam_validit(y)'!A12","v":"scenario10"},{"$f":"TRANSPOSE(basics10!$AN$18:$AN$22)","v":6.6858058601787116},2.1679483388678804,4.7109947222508408,1.1461372701614048,4.5493933920686906,{"$f":"TRANSPOSE(basics10!$AO$18:$AO$22)","v":6.3796551630946325},2.1679483388678804,4.6269752318541642,1.1002303777218572,4.4997221793441629,{"$f":"TRANSPOSE(basics10!$AP$18:$AP$22)","v":0.49562349132934891},0,0.18920700795070611,0.18188735014502302,0.13572022427774932,{"$f":"COUNTIF(models1!$I$962:$I$977,0)","v":0},{"$f":"COUNTIF(models1!$X$962:$X$977,0)","v":0},{"$f":"INT(basics10!$P$19*1000000)","v":375000}]
[{"$f":"'oam_validit(y)'!A13","v":"scenario11"},{"$f":"TRANSPOSE(basics11!$AN$18:$AN$22)","v":6.2048368229954285},2.0736441353327715,4.213455154874131,1.4479578844205336,4.3720009165334659,{"$f":"TRANSPOSE(basics11!$AO$18:$AO$22)","v":6.300793600809345},2.3874672772626644,4.2570897495826827,1.4476415261605986,4.2591129060788795,{"$f":"TRANSPOSE(basics11!$AP$18:$AP$22)","v":0.47586562146362077},0,0.13195877232473802,0.16240791037309332,4.9062707630926017E-2,{"$f":"COUNTIF(models1!$I$1062:$I$1077,0)","v":0},{"$f":"COUNTIF(models1!$X$1062:$X$1077,0)","v":0},{"$f":"INT(basics11!$P$19*1000000)","v":250000}]
[{"$f":"'oam_validit(y)'!A14","v":"scenario12"},{"$f":"TRANSPOSE(basics12!$AN$18:$AN$22)","v":5.9749476985158623},2.302172886644267,4.4202175984028207,1.0980838499956778,4.65280403175458,{"$f":"TRANSPOSE(basics12!$AO$18:$AO$22)","v":6.2449979983983983},1.9235384061671315,4.550797503672495,1.1759782676305708,4.701051677789664,{"$f":"TRANSPOSE(basics12!$AP$18:$AP$22)","v":0.75935487755205511},3.4734044214446591E-2,0.32527334483362674,0.21420919038552788,0.33625992011536365,{"$f":"COUNTIF(models1!$I$1162:$I$1177,0)","v":0},{"$f":"COUNTIF(models1!$X$1162:$X$1177,0)","v":0},{"$f":"INT(basics12!$P$19*1000000)","v":375000}]
[{"$f":"'oam_validit(y)'!A15","v":"scenario13"},{"$f":"TRANSPOSE(basics13!$AN$18:$AN$22)","v":6.760177512462227},1.3038404810405295,4.2248393006581919,1.4050320550987176,4.32434966208793,{"$f":"TRANSPOSE(basics13!$AO$18:$AO$22)","v":6.7601775124622288},1.2247448713915889,4.1848998954202115,1.4185862879404612,4.3243496620879309,{"$f":"TRANSPOSE(basics13!$AP$18:$AP$22)","v":0.41240550889479266},0,8.8379478225959263E-2,0.13229650625041353,1.9938346731934065E-2,{"$f":"COUNTIF(models1!$I$1262:$I$1277,0)","v":0},{"$f":"COUNTIF(models1!$X$1262:$X$1277,0)","v":0},{"$f":"INT(basics13!$P$19*1000000)","v":500000}]
[{"$f":"'oam_validit(y)'!A16","v":"scenario14"},{"$f":"TRANSPOSE(basics14!$AN$18:$AN$22)","v":6.6105975524153644},1.2247448713915889,4.1571369919591783,1.5425388699879072,4.5052103963269747,{"$f":"TRANSPOSE(basics14!$AO$18:$AO$22)","v":6.5038450166036403},0.70710678118654757,4.0195454631900249,1.5872842280569628,4.3961829767751075,{"$f":"TRANSPOSE(basics14!$AP$18:$AP$22)","v":0.60693904623444395},1.7763568394002505E-15,0.19967401081429384,0.19060443761301171,0.11875236415854595,{"$f":"COUNTIF(models1!$I$1362:$I$1377,0)","v":13},{"$f":"COUNTIF(models1!$X$1362:$X$1377,0)","v":0},{"$f":"INT(basics14!$P$19*1000000)","v":1000000}]
[{"$f":"'oam_validit(y)'!A17","v":"scenario15"},{"$f":"TRANSPOSE(basics15!$AN$18:$AN$22)","v":6.9856996786291923},1.7888543819998315,4.0160866020350676,1.4727926869108412,4.3243496620879309,{"$f":"TRANSPOSE(basics15!$AO$18:$AO$22)","v":6.8337398253079549},2.190890230020667,4.0741951180288769,1.4448747637465476,4.0601520348381417,{"$f":"TRANSPOSE(basics15!$AP$18:$AP$22)","v":0.48574687930112415},6.061028869595475E-2,0.22872320394328777,0.14225448250678102,0.16324035348312904,{"$f":"COUNTIF(models1!$I$1462:$I$1477,0)","v":0},{"$f":"COUNTIF(models1!$X$1462:$X$1477,0)","v":0},{"$f":"INT(basics15!$P$19*1000000)","v":437500}]
[{"$f":"'oam_validit(y)'!A18","v":"scenario16"},{"$f":"TRANSPOSE(basics16!$AN$18:$AN$22)","v":6.7453687816160208},1.0954451150103319,4.0579533624966535,1.5753990420384216,4.3508778260131198,{"$f":"TRANSPOSE(basics16!$AO$18:$AO$22)","v":6.8337398253079549},0.44721359549995793,3.8995313410415178,1.6732898757389914,4.1557257752209233,{"$f":"TRANSPOSE(basics16!$AP$18:$AP$22)","v":0.74220895747831328},0,0.30275796535267191,0.25957753341060935,0.2936781191341139,{"$f":"COUNTIF(models1!$I$1562:$I$1577,0)","v":0},{"$f":"COUNTIF(models1!$X$1562:$X$1577,0)","v":0},{"$f":"INT(basics16!$P$19*1000000)","v":437500}]
["correlation",{"$f":"CORREL(B3:B18,$S$3:$S$18)","v":0.14941959588273709},{"$f":"CORREL(C3:C18,$S$3:$S$18)","v":-0.23964962227691003},-0.14248083039997994,0.28589595447450611,0.11358523911293308,0.10483922419196011,-0.39290204205615031,-0.27457020642394403,0.32987953899262462,-3.834718184555666E-2,8.6030536923398099E-3,-4.0459008529563592E-2,2.0076140727897068E-2,0.1178649480812083,-6.6472362958685458E-2,0.89996400215985595,{"$error":"#DIV/0!"},{"$f":"CORREL(S3:S18,$S$3:$S$18)","v":0.99999999999999989}]
["direction",1,1,1,1,1,1,1,1,1,1,1,1,1,1,1,0,0]
[]
[null,null,null,null,null,null,null,null,null,null,null,null,null,null,null,null,null,null,{"$f":"S2","v":"validity ratio"},"estimation","delta"]
[{"$f":"A3","v":"scenario1"},{"$f":"RANK(B3,B$3:B$18,B$20)","v":2},{"$f":"RANK(C3,C$3:C$18,C$20)","v":15},15,2,16,1,14,15,4,16,1,1,3,2,4,{"$f":"RANK(Q3,Q$3:Q$18,Q$20)","v":2},1,{"$f":"S3","v":312500},{"$f":"S103","v":312500},{"$f":"U103","v":0}]
[{"$f":"A4","v":"scenario2"},{"$f":"RANK(B4,B$3:B$18,B$20)","v":3},11,11,6,7,2,11,9,6,8,4,8,7,5,11,{"$f":"RANK(Q4,Q$3:Q$18,Q$20)","v":2},1,{"$f":"S4","v":375000},{"$f":"S104","v":375000},{"$f":"U104","v":0}]
["scenario3",14,2,1,9,1,16,4,2,10,2,11,1,4,7,7,{"$f":"RANK(Q5,Q$3:Q$18,Q$20)","v":2},1,187500,187500,0]
["scenario4",9,16,14,7,12,11,15,14,7,14,13,15,15,9,14,{"$f":"RANK(Q6,Q$3:Q$18,Q$20)","v":2},1,375000,375000,0]
["scenario5",15,13,13,11,11,12,8,12,8,10,3,11,11,1,12,{"$f":"RANK(Q7,Q$3:Q$18,Q$20)","v":2},1,375000,375000,0]
["scenario6",4,1,9,14,15,9,6,10,14,15,15,12,9,12,5,{"$f":"RANK(Q8,Q$3:Q$18,Q$20)","v":2},1,375000,375000,0]
["scenario7",6,7,6,8,9,3,3,5,9,6,16,9,10,15,8,{"$f":"RANK(Q9,Q$3:Q$18,Q$20)","v":2},1,375000,375000,0]
["scenario8",7,6,10,3,8,4,7,11,2,12,9,1,12,13,15,{"$f":"RANK(Q10,Q$3:Q$18,Q$20)","v":2},1,437500,437500,0]
["scenario9",1,9,7,1,2,5,16,8,1,5,10,14,14,14,10,{"$f":"RANK(Q11,Q$3:Q$18,Q$20)","v":2},1,437500,437500,0]
["scenario10",11,12,16,5,13,8,10,16,3,11,7,1,5,8,6,{"$f":"RANK(Q12,Q$3:Q$18,Q$20)","v":2},1,375000,375000,0]
["scenario11",8,9,5,12,6,7,13,7,13,4,5,1,2,6,2,{"$f":"RANK(Q13,Q$3:Q$18,Q$20)","v":2},1,250000,250000,0]
["scenario12",5,14,12,4,14,6,9,13,5,13,14,13,16,11,16,{"$f":"RANK(Q14,Q$3:Q$18,Q$20)","v":2},1,375000,375000,0]
["scenario13",13,5,8,10,3,12,5,6,11,7,2,1,1,3,1,{"$f":"RANK(Q15,Q$3:Q$18,Q$20)","v":2},1,500000,500000,0]
["scenario14",10,4,4,15,10,10,2,3,15,9,8,9,6,10,3,{"$f":"RANK(Q16,Q$3:Q$18,Q$20)","v":1},1,1000000,1000000,0]
["scenario15",16,8,2,13,4,14,12,4,12,1,6,16,8,4,9,{"$f":"RANK(Q17,Q$3:Q$18,Q$20)","v":2},1,437500,437500,0]
["scenario16",12,3,3,16,5,14,1,1,16,3,12,1,13,16,13,{"$f":"RANK(Q18,Q$3:Q$18,Q$20)","v":2},1,437500,437500,0]
[]
[]
[]
[]
[]
[]
[]
["Azonos�t�:",4600373,"Objektumok:",16,"Attrib�tumok:",17,"Lepcs�k:",16,"Eltol�s:",0,"Le�r�s:","COCO STD: 4600373"]
[]
["Rangsor","X(A1)","X(A2)","X(A3)","X(A4)","X(A5)","X(A6)","X(A7)","X(A8)","X(A9)","X(A10)","X(A11)","X(A12)","X(A13)","X(A14)","X(A15)","X(A16)","X(A17)","Y(A18)"]
["O1",2,15,15,2,16,1,14,15,4,16,1,1,3,2,4,2,1,312500]
["O2",3,11,11,6,7,2,11,9,6,8,4,8,7,5,11,2,1,375000]
["O3",14,2,1,9,1,16,4,2,10,2,11,1,4,7,7,2,1,187500]
["O4",9,16,14,7,12,11,15,14,7,14,13,15,15,9,14,2,1,375000]
["O5",15,13,13,11,11,12,8,12,8,10,3,11,11,1,12,2,1,375000]
["O6",4,1,9,14,15,9,6,10,14,15,15,12,9,12,5,2,1,375000]
["O7",6,7,6,8,9,3,3,5,9,6,16,9,10,15,8,2,1,375000]
["O8",7,6,10,3,8,4,7,11,2,12,9,1,12,13,15,2,1,437500]
["O9",1,9,7,1,2,5,16,8,1,5,10,14,14,14,10,2,1,437500]
["O10",11,12,16,5,13,8,10,16,3,11,7,1,5,8,6,2,1,375000]
["O11",8,9,5,12,6,7,13,7,13,4,5,1,2,6,2,2,1,250000]
["O12",5,14,12,4,14,6,9,13,5,13,14,13,16,11,16,2,1,375000]
["O13",13,5,8,10,3,12,5,6,11,7,2,1,1,3,1,2,1,500000]
["O14",10,4,4,15,10,10,2,3,15,9,8,9,6,10,3,1,1,1000000]
["O15",16,8,2,13,4,14,12,4,12,1,6,16,8,4,9,2,1,437500]
["O16",12,3,3,16,5,14,1,1,16,3,12,1,13,16,13,2,1,437500]
[]
["L�pcs�k(1)","X(A1)","X(A2)","X(A3)","X(A4)","X(A5)","X(A6)","X(A7)","X(A8)","X(A9)","X(A10)","X(A11)","X(A12)","X(A13)","X(A14)","X(A15)","X(A16)","X(A17)"]
["S1","(0+62500)/(1)=62500","(0+312500)/(1)=312500","(0+62500)/(1)=62500","(0+312500)/(1)=312500","(0+62500)/(1)=62500","(0+0)/(1)=0","(0+375000)/(1)=375000","(0+0)/(1)=0","(0+0)/(1)=0","(0+375000)/(1)=375000","(0+0)/(1)=0","(0+0)/(1)=0","(0+375000)/(1)=375000","(0+250000)/(1)=250000","(0+0)/(1)=0","(0+625000)/(1)=625000","(0+0)/(1)=0"]
["S2","(0+0)/(1)=0","(0+0)/(1)=0","(0+0)/(1)=0","(0+312500)/(1)=312500","(0+62500)/(1)=62500","(0+0)/(1)=0","(0+312500)/(1)=312500","(0+0)/(1)=0","(0+0)/(1)=0","(0+0)/(1)=0","(0+0)/(1)=0","(0+0)/(1)=0","(0+187500)/(1)=187500","(0+0)/(1)=0","(0+0)/(1)=0","(0+0)/(1)=0","(0+0)/(1)=0"]
["S3","(0+0)/(1)=0","(0+0)/(1)=0","(0+0)/(1)=0","(0+312500)/(1)=312500","(0+62500)/(1)=62500","(0+0)/(1)=0","(0+312500)/(1)=312500","(0+0)/(1)=0","(0+0)/(1)=0","(0+0)/(1)=0","(0+0)/(1)=0","(0+0)/(1)=0","(0+0)/(1)=0","(0+0)/(1)=0","(0+0)/(1)=0","(0+0)/(1)=0","(0+0)/(1)=0"]
["S4","(0+0)/(1)=0","(0+0)/(1)=0","(0+0)/(1)=0","(0+312500)/(1)=312500","(0+62500)/(1)=62500","(0+0)/(1)=0","(0+62500)/(1)=62500","(0+0)/(1)=0","(0+0)/(1)=0","(0+0)/(1)=0","(0+0)/(1)=0","(0+0)/(1)=0","(0+0)/(1)=0","(0+0)/(1)=0","(0+0)/(1)=0","(0+0)/(1)=0","(0+0)/(1)=0"]
["S5","(0+0)/(1)=0","(0+0)/(1)=0","(0+0)/(1)=0","(0+312500)/(1)=312500","(0+62500)/(1)=62500","(0+0)/(1)=0","(0+62500)/(1)=62500","(0+0)/(1)=0","(0+0)/(1)=0","(0+0)/(1)=0","(0+0)/(1)=0","(0+0)/(1)=0","(0+0)/(1)=0","(0+0)/(1)=0","(0+0)/(1)=0","(0+0)/(1)=0","(0+0)/(1)=0"]
["S6","(0+0)/(1)=0","(0+0)/(1)=0","(0+0)/(1)=0","(0+312500)/(1)=312500","(0+62500)/(1)=62500","(0+0)/(1)=0","(0+62500)/(1)=62500","(0+0)/(1)=0","(0+0)/(1)=0","(0+0)/(1)=0","(0+0)/(1)=0","(0+0)/(1)=0","(0+0)/(1)=0","(0+0)/(1)=0","(0+0)/(1)=0","(0+0)/(1)=0","(0+0)/(1)=0"]
["S7","(0+0)/(1)=0","(0+0)/(1)=0","(0+0)/(1)=0","(0+312500)/(1)=312500","(0+62500)/(1)=62500","(0+0)/(1)=0","(0+62500)/(1)=62500","(0+0)/(1)=0","(0+0)/(1)=0","(0+0)/(1)=0","(0+0)/(1)=0","(0+0)/(1)=0","(0+0)/(1)=0","(0+0)/(1)=0","(0+0)/(1)=0","(0+0)/(1)=0","(0+0)/(1)=0"]
["S8","(0+0)/(1)=0","(0+0)/(1)=0","(0+0)/(1)=0","(0+0)/(1)=0","(0+62500)/(1)=62500","(0+0)/(1)=0","(0+62500)/(1)=62500","(0+0)/(1)=0","(0+0)/(1)=0","(0+0)/(1)=0","(0+0)/(1)=0","(0+0)/(1)=0","(0+0)/(1)=0","(0+0)/(1)=0","(0+0)/(1)=0","(0+0)/(1)=0","(0+0)/(1)=0"]
["S9","(0+0)/(1)=0","(0+0)/(1)=0","(0+0)/(1)=0","(0+0)/(1)=0","(0+62500)/(1)=62500","(0+0)/(1)=0","(0+62500)/(1)=62500","(0+0)/(1)=0","(0+0)/(1)=0","(0+0)/(1)=0","(0+0)/(1)=0","(0+0)/(1)=0","(0+0)/(1)=0","(0+0)/(1)=0","(0+0)/(1)=0","(0+0)/(1)=0","(0+0)/(1)=0"]
["S10","(0+0)/(1)=0","(0+0)/(1)=0","(0+0)/(1)=0","(0+0)/(1)=0","(0+62500)/(1)=62500","(0+0)/(1)=0","(0+62500)/(1)=62500","(0+0)/(1)=0","(0+0)/(1)=0","(0+0)/(1)=0","(0+0)/(1)=0","(0+0)/(1)=0","(0+0)/(1)=0","(0+0)/(1)=0","(0+0)/(1)=0","(0+0)/(1)=0","(0+0)/(1)=0"]
["S11","(0+0)/(1)=0","(0+0)/(1)=0","(0+0)/(1)=0","(0+0)/(1)=0","(0+62500)/(1)=62500","(0+0)/(1)=0","(0+0)/(1)=0","(0+0)/(1)=0","(0+0)/(1)=0","(0+0)/(1)=0","(0+0)/(1)=0","(0+0)/(1)=0","(0+0)/(1)=0","(0+0)/(1)=0","(0+0)/(1)=0","(0+0)/(1)=0","(0+0)/(1)=0"]
["S12","(0+0)/(1)=0","(0+0)/(1)=0","(0+0)/(1)=0","(0+0)/(1)=0","(0+62500)/(1)=62500","(0+0)/(1)=0","(0+0)/(1)=0","(0+0)/(1)=0","(0+0)/(1)=0","(0+0)/(1)=0","(0+0)/(1)=0","(0+0)/(1)=0","(0+0)/(1)=0","(0+0)/(1)=0","(0+0)/(1)=0","(0+0)/(1)=0","(0+0)/(1)=0"]
["S13","(0+0)/(1)=0","(0+0)/(1)=0","(0+0)/(1)=0","(0+0)/(1)=0","(0+0)/(1)=0","(0+0)/(1)=0","(0+0)/(1)=0","(0+0)/(1)=0","(0+0)/(1)=0","(0+0)/(1)=0","(0+0)/(1)=0","(0+0)/(1)=0","(0+0)/(1)=0","(0+0)/(1)=0","(0+0)/(1)=0","(0+0)/(1)=0","(0+0)/(1)=0"]
["S14","(0+0)/(1)=0","(0+0)/(1)=0","(0+0)/(1)=0","(0+0)/(1)=0","(0+0)/(1)=0","(0+0)/(1)=0","(0+0)/(1)=0","(0+0)/(1)=0","(0+0)/(1)=0","(0+0)/(1)=0","(0+0)/(1)=0","(0+0)/(1)=0","(0+0)/(1)=0","(0+0)/(1)=0","(0+0)/(1)=0","(0+0)/(1)=0","(0+0)/(1)=0"]
["S15","(0+0)/(1)=0","(0+0)/(1)=0","(0+0)/(1)=0","(0+0)/(1)=0","(0+0)/(1)=0","(0+0)/(1)=0","(0+0)/(1)=0","(0+0)/(1)=0","(0+0)/(1)=0","(0+0)/(1)=0","(0+0)/(1)=0","(0+0)/(1)=0","(0+0)/(1)=0","(0+0)/(1)=0","(0+0)/(1)=0","(0+0)/(1)=0","(0+0)/(1)=0"]
["S16","(0+0)/(1)=0","(0+0)/(1)=0","(0+0)/(1)=0","(0+0)/(1)=0","(0+0)/(1)=0","(0+0)/(1)=0","(0+0)/(1)=0","(0+0)/(1)=0","(0+0)/(1)=0","(0+0)/(1)=0","(0+0)/(1)=0","(0+0)/(1)=0","(0+0)/(1)=0","(0+0)/(1)=0","(0+0)/(1)=0","(0+0)/(1)=0","(0+0)/(1)=0"]
[]
["L�pcs�k(2)","X(A1)","X(A2)","X(A3)","X(A4)","X(A5)","X(A6)","X(A7)","X(A8)","X(A9)","X(A10)","X(A11)","X(A12)","X(A13)","X(A14)","X(A15)","X(A16)","X(A17)"]
["S1",62500,312500,62500,312500,62500,0,375000,0,0,375000,0,0,375000,250000,0,625000,0]
["S2",0,0,0,312500,62500,0,312500,0,0,0,0,0,187500,0,0,0,0]
["S3",0,0,0,312500,62500,0,312500,0,0,0,0,0,0,0,0,0,0]
["S4",0,0,0,312500,62500,0,62500,0,0,0,0,0,0,0,0,0,0]
["S5",0,0,0,312500,62500,0,62500,0,0,0,0,0,0,0,0,0,0]
["S6",0,0,0,312500,62500,0,62500,0,0,0,0,0,0,0,0,0,0]
["S7",0,0,0,312500,62500,0,62500,0,0,0,0,0,0,0,0,0,0]
["S8",0,0,0,0,62500,0,62500,0,0,0,0,0,0,0,0,0,0]
["S9",0,0,0,0,62500,0,62500,0,0,0,0,0,0,0,0,0,0]
["S10",0,0,0,0,62500,0,62500,0,0,0,0,0,0,0,0,0,0]
["S11",0,0,0,0,62500,0,0,0,0,0,0,0,0,0,0,0,0]
["S12",0,0,0,0,62500,0,0,0,0,0,0,0,0,0,0,0,0]
["S13",0,0,0,0,0,0,0,0,0,0,0,0,0,0,0,0,0]
["S14",0,0,0,0,0,0,0,0,0,0,0,0,0,0,0,0,0]
["S15",0,0,0,0,0,0,0,0,0,0,0,0,0,0,0,0,0]
["S16",0,0,0,0,0,0,0,0,0,0,0,0,0,0,0,0,0]
[]
["COCO:STD","X(A1)","X(A2)","X(A3)","X(A4)","X(A5)","X(A6)","X(A7)","X(A8)","X(A9)","X(A10)","X(A11)","X(A12)","X(A13)","X(A14)","X(A15)","X(A16)","X(A17)","Becsl�s","T�ny+0","Delta","Delta/T�ny"]
["O1",0,0,0,312500,0,0,0,0,0,0,0,0,0,0,0,0,0,312500,312500,0,0]
["O2",0,0,0,312500,62500,0,0,0,0,0,0,0,0,0,0,0,0,375000,375000,0,0]
["O3",0,0,62500,0,62500,0,62500,0,0,0,0,0,0,0,0,0,0,187500,187500,0,0]
["O4",0,0,0,312500,62500,0,0,0,0,0,0,0,0,0,0,0,0,375000,375000,0,0]
["O5",0,0,0,0,62500,0,62500,0,0,0,0,0,0,250000,0,0,0,375000,375000,0,0]
["O6",0,312500,0,0,0,0,62500,0,0,0,0,0,0,0,0,0,0,375000,375000,0,0]
["O7",0,0,0,0,62500,0,312500,0,0,0,0,0,0,0,0,0,0,375000,375000,0,0]
["O8",0,0,0,312500,62500,0,62500,0,0,0,0,0,0,0,0,0,0,437500,437500,0,0]
["O9",62500,0,0,312500,62500,0,0,0,0,0,0,0,0,0,0,0,0,437500,437500,0,0]
["O10",0,0,0,312500,0,0,62500,0,0,0,0,0,0,0,0,0,0,375000,375000,0,0]
["O11",0,0,0,0,62500,0,0,0,0,0,0,0,187500,0,0,0,0,250000,250000,0,0]
["O12",0,0,0,312500,0,0,62500,0,0,0,0,0,0,0,0,0,0,375000,375000,0,0]
["O13",0,0,0,0,62500,0,62500,0,0,0,0,0,375000,0,0,0,0,500000,500000,0,0]
["O14",0,0,0,0,62500,0,312500,0,0,0,0,0,0,0,0,625000,0,1000000,1000000,0,0]
["O15",0,0,0,0,62500,0,0,0,0,375000,0,0,0,0,0,0,0,437500,437500,0,0]
["O16",0,0,0,0,62500,0,375000,0,0,0,0,0,0,0,0,0,0,437500,437500,0,0]
[]
["S1 �sszeg:",2812500]
["S16 �sszeg:",0]
["Becsl�s �sszeg:",6625000]
["T�ny �sszeg:",6625000]
["T�ny-becsl�s elt�r�s:",0]
["T�ny n�gyzet�sszeg:"]
["Becsl�s n�gyzet�sszeg:"]
["N�gyzet�sszeg hiba:",0]
[]
["Open url"]
[]
["Maxim�lis mem�ria haszn�lat: 1.41 Mb"]
["A futtat�s id�tartama: 0.18 mp (0 p)"]

{"sheet":"oam_pre_validity","index":19,"n_rows":320,"n_cols":67,"rows_kept":320,"cut":false,"hidden":false,"merged":[]}
[null,"direct","direct","direct","direct","direct","inverse","inverse","inverse","inverse","inverse","delta","delta","delta","delta","delta","Y"]
[null,"max","min","avg","stddev","median",{"$f":"B2","v":"max"},{"$f":"C2","v":"min"},{"$f":"D2","v":"avg"},{"$f":"E2","v":"stddev"},{"$f":"F2","v":"median"},{"$f":"G2","v":"max"},"min","avg","stddev","median",{"$f":"'oam_validit(y)'!P2","v":"validity ratio"},"<--becsülhető-e előre?"]
[{"$f":"'oam_validit(y)'!A3","v":"scenario1"},{"$f":"TRANSPOSE(basics1!AN18:AN22)","v":5.805170109479997},2.5099800796022289,4.631463770352517,1.0260829564446461,4.8938070641773859,{"$f":"TRANSPOSE(basics1!AO18:AO22)","v":5.7183913821983188},2.5099800796022267,4.5901874591456462,1.1009954719383892,4.919349550499537,{"$f":"TRANSPOSE(basics1!AP18:AP22)","v":0.36058116073109892},0,0.14012699986194371,0.12999784991037602,0.12073231551642394,{"$f":"INT(basics1!$P$19*1000000)","v":312500}]
[{"$f":"'oam_validit(y)'!A4","v":"scenario2"},{"$f":"TRANSPOSE(basics2!$AN$18:$AN$22)","v":5.8137767414994528},2.1679483388678773,4.3817732130015408,1.1916659531136666,4.4044254647937748,{"$f":"TRANSPOSE(basics2!$AO$18:$AO$22)","v":5.770615218501403},2.1908902300206639,4.3284898065836668,1.1979653837185962,4.3798067144421546,{"$f":"TRANSPOSE(basics2!$AP$18:$AP$22)","v":0.44471435651166624},8.8817841970012523E-16,0.22103666426477289,0.14299082320262371,0.23111543323035111,{"$f":"INT(basics2!$P$19*1000000)","v":375000}]
[{"$f":"'oam_validit(y)'!A5","v":"scenario3"},{"$f":"TRANSPOSE(basics3!$AN$18:$AN$22)","v":6.8410525505948279},0.89442719099991574,3.938488154004959,1.3641353054151613,3.9369219971766896,{"$f":"TRANSPOSE(basics3!$AO$18:$AO$22)","v":6.8410525505948279},1.1401754250991383,3.9523794168137347,1.3505344899644713,4.1048344869790849,{"$f":"TRANSPOSE(basics3!$AP$18:$AP$22)","v":0.70672446073971162},0,0.18195114838575233,0.17189971941755533,0.13799068546627935,{"$f":"INT(basics3!$P$19*1000000)","v":187500}]
[{"$f":"'oam_validit(y)'!A6","v":"scenario4"},{"$f":"TRANSPOSE(basics4!$AN$18:$AN$22)","v":6.3874877690685246},2.7386127875258306,4.5974780178770125,1.2912818954357601,4.5220831386398883,{"$f":"TRANSPOSE(basics4!$AO$18:$AO$22)","v":6.6105975524153626},2.5884358211089573,4.5669382917047106,1.2803435537953634,4.8009709544920982,{"$f":"TRANSPOSE(basics4!$AP$18:$AP$22)","v":0.74924378295321103},5.1075874615671424E-2,0.31458827982870269,0.18905478346513307,0.3046795296954361,{"$f":"INT(basics4!$P$19*1000000)","v":375000}]
[{"$f":"'oam_validit(y)'!A7","v":"scenario5"},{"$f":"TRANSPOSE(basics5!$AN$18:$AN$22)","v":6.9641941385920596},2.1908902300206639,4.5565706340658938,1.4095537097084658,4.5092948538945912,{"$f":"TRANSPOSE(basics5!$AO$18:$AO$22)","v":6.7601775124622288},1.8708286933869707,4.4567965801646805,1.3364487242569048,4.4734484696064936,{"$f":"TRANSPOSE(basics5!$AP$18:$AP$22)","v":0.43134419325729945},1.2598831638569674E-2,0.25890418619609895,0.11306258018460252,0.23405962196492203,{"$f":"INT(basics5!$P$19*1000000)","v":375000}]
[{"$f":"'oam_validit(y)'!A8","v":"scenario6"},{"$f":"TRANSPOSE(basics6!$AN$18:$AN$22)","v":5.9413803110051786},0.83666002653407512,4.3154156468596261,1.5304684406508997,4.7939144485436707,{"$f":"TRANSPOSE(basics6!$AO$18:$AO$22)","v":6.4575537163851759},1.3038404810405297,4.4068152433192589,1.529262797995258,4.8121529662464946,{"$f":"TRANSPOSE(basics6!$AP$18:$AP$22)","v":0.75960814161726109},2.5228854229961684E-2,0.23528792945935645,0.22224891790787951,0.13341176759111395,{"$f":"INT(basics6!$P$19*1000000)","v":375000}]
[{"$f":"'oam_validit(y)'!A9","v":"scenario7"},{"$f":"TRANSPOSE(basics7!$AN$18:$AN$22)","v":6},1.6431676725154949,4.2139218347935898,1.3487229595435128,4.4769391138471573,{"$f":"TRANSPOSE(basics7!$AO$18:$AO$22)","v":5.8309518948453007},0.8944271909999163,4.15441766185746,1.3379841118525715,4.2661458015403086,{"$f":"TRANSPOSE(basics7!$AP$18:$AP$22)","v":0.77505980895474735},1.7763568394002505E-15,0.25388369943909617,0.23610662376457184,0.14912595424034847,{"$f":"INT(basics7!$P$19*1000000)","v":375000}]
[{"$f":"'oam_validit(y)'!A10","v":"scenario8"},{"$f":"TRANSPOSE(basics8!$AN$18:$AN$22)","v":6.024948132556827},1.51657508881031,4.3264950442033001,1.0740282466722648,4.437037464259431,{"$f":"TRANSPOSE(basics8!$AO$18:$AO$22)","v":5.9413803110051804},1.6431676725154982,4.439861701900834,1.0985459810709679,4.6583258795408451,{"$f":"TRANSPOSE(basics8!$AP$18:$AP$22)","v":0.63058165130247534},0,0.28691128071988037,0.22621782675023538,0.31389306759038504,{"$f":"INT(basics8!$P$19*1000000)","v":437500}]
[{"$f":"'oam_validit(y)'!A11","v":"scenario9"},{"$f":"TRANSPOSE(basics9!$AN$18:$AN$22)","v":5.5856960175075772},2.0736441353327715,4.2234637023654278,1.022991354698805,4.2425752117430537,{"$f":"TRANSPOSE(basics9!$AO$18:$AO$22)","v":6.0991802727907629},2.7018512172212588,4.2972127574049894,0.98466238821682472,4.2600836277335556,{"$f":"TRANSPOSE(basics9!$AP$18:$AP$22)","v":0.68043711092382697},4.7203900722527337E-2,0.3106299687769265,0.22744282080892075,0.22710471170165847,{"$f":"INT(basics9!$P$19*1000000)","v":437500}]
[{"$f":"'oam_validit(y)'!A12","v":"scenario10"},{"$f":"TRANSPOSE(basics10!$AN$18:$AN$22)","v":6.6858058601787116},2.1679483388678804,4.7109947222508408,1.1461372701614048,4.5493933920686906,{"$f":"TRANSPOSE(basics10!$AO$18:$AO$22)","v":6.3796551630946325},2.1679483388678804,4.6269752318541642,1.1002303777218572,4.4997221793441629,{"$f":"TRANSPOSE(basics10!$AP$18:$AP$22)","v":0.49562349132934891},0,0.18920700795070611,0.18188735014502302,0.13572022427774932,{"$f":"INT(basics10!$P$19*1000000)","v":375000}]
[{"$f":"'oam_validit(y)'!A13","v":"scenario11"},{"$f":"TRANSPOSE(basics11!$AN$18:$AN$22)","v":6.2048368229954285},2.0736441353327715,4.213455154874131,1.4479578844205336,4.3720009165334659,{"$f":"TRANSPOSE(basics11!$AO$18:$AO$22)","v":6.300793600809345},2.3874672772626644,4.2570897495826827,1.4476415261605986,4.2591129060788795,{"$f":"TRANSPOSE(basics11!$AP$18:$AP$22)","v":0.47586562146362077},0,0.13195877232473802,0.16240791037309332,4.9062707630926017E-2,{"$f":"INT(basics11!$P$19*1000000)","v":250000}]
[{"$f":"'oam_validit(y)'!A14","v":"scenario12"},{"$f":"TRANSPOSE(basics12!$AN$18:$AN$22)","v":5.9749476985158623},2.302172886644267,4.4202175984028207,1.0980838499956778,4.65280403175458,{"$f":"TRANSPOSE(basics12!$AO$18:$AO$22)","v":6.2449979983983983},1.9235384061671315,4.550797503672495,1.1759782676305708,4.701051677789664,{"$f":"TRANSPOSE(basics12!$AP$18:$AP$22)","v":0.75935487755205511},3.4734044214446591E-2,0.32527334483362674,0.21420919038552788,0.33625992011536365,{"$f":"INT(basics12!$P$19*1000000)","v":375000}]
[{"$f":"'oam_validit(y)'!A15","v":"scenario13"},{"$f":"TRANSPOSE(basics13!$AN$18:$AN$22)","v":6.760177512462227},1.3038404810405295,4.2248393006581919,1.4050320550987176,4.32434966208793,{"$f":"TRANSPOSE(basics13!$AO$18:$AO$22)","v":6.7601775124622288},1.2247448713915889,4.1848998954202115,1.4185862879404612,4.3243496620879309,{"$f":"TRANSPOSE(basics13!$AP$18:$AP$22)","v":0.41240550889479266},0,8.8379478225959263E-2,0.13229650625041353,1.9938346731934065E-2,{"$f":"INT(basics13!$P$19*1000000)","v":500000}]
[{"$f":"'oam_validit(y)'!A16","v":"scenario14"},{"$f":"TRANSPOSE(basics14!$AN$18:$AN$22)","v":6.6105975524153644},1.2247448713915889,4.1571369919591783,1.5425388699879072,4.5052103963269747,{"$f":"TRANSPOSE(basics14!$AO$18:$AO$22)","v":6.5038450166036403},0.70710678118654757,4.0195454631900249,1.5872842280569628,4.3961829767751075,{"$f":"TRANSPOSE(basics14!$AP$18:$AP$22)","v":0.60693904623444395},1.7763568394002505E-15,0.19967401081429384,0.19060443761301171,0.11875236415854595,{"$f":"INT(basics14!$P$19*1000000)","v":1000000}]
[{"$f":"'oam_validit(y)'!A17","v":"scenario15"},{"$f":"TRANSPOSE(basics15!$AN$18:$AN$22)","v":6.9856996786291923},1.7888543819998315,4.0160866020350676,1.4727926869108412,4.3243496620879309,{"$f":"TRANSPOSE(basics15!$AO$18:$AO$22)","v":6.8337398253079549},2.190890230020667,4.0741951180288769,1.4448747637465476,4.0601520348381417,{"$f":"TRANSPOSE(basics15!$AP$18:$AP$22)","v":0.48574687930112415},6.061028869595475E-2,0.22872320394328777,0.14225448250678102,0.16324035348312904,{"$f":"INT(basics15!$P$19*1000000)","v":437500}]
[{"$f":"'oam_validit(y)'!A18","v":"scenario16"},{"$f":"TRANSPOSE(basics16!$AN$18:$AN$22)","v":6.7453687816160208},1.0954451150103319,4.0579533624966535,1.5753990420384216,4.3508778260131198,{"$f":"TRANSPOSE(basics16!$AO$18:$AO$22)","v":6.8337398253079549},0.44721359549995793,3.8995313410415178,1.6732898757389914,4.1557257752209233,{"$f":"TRANSPOSE(basics16!$AP$18:$AP$22)","v":0.74220895747831328},0,0.30275796535267191,0.25957753341060935,0.2936781191341139,{"$f":"INT(basics16!$P$19*1000000)","v":437500}]
["correlation",{"$f":"CORREL(B3:B18,$Q$3:$Q$18)","v":0.14941959588273709},{"$f":"CORREL(C3:C18,$Q$3:$Q$18)","v":-0.23964962227691003},-0.14248083039997994,0.28589595447450611,0.11358523911293308,0.10483922419196011,-0.39290204205615031,-0.27457020642394403,0.32987953899262462,-3.834718184555666E-2,8.6030536923398099E-3,-4.0459008529563592E-2,2.0076140727897068E-2,0.1178649480812083,-6.6472362958685458E-2]
["direction",1,1,1,1,1,1,1,1,1,1,1,1,1,1,1]
[null,null,null,null,null,null,null,null,null,null,null,null,null,null,null,null,null,"direct",null,"inverse"]
[null,null,null,null,null,null,null,null,null,null,null,null,null,null,null,null,{"$f":"Q2","v":"validity ratio"},"estimation","delta",{"$f":"R22","v":"estimation"},{"$f":"S22","v":"delta"},"validity","double","delta"]
[{"$f":"A3","v":"scenario1"},{"$f":"RANK(B3,B$3:B$18,B$20)","v":2},{"$f":"RANK(C3,C$3:C$18,C$20)","v":15},15,2,16,1,14,15,4,16,1,1,3,2,4,{"$f":"Q3","v":312500},{"$f":"Q103","v":343750},{"$f":"S103","v":-31250},{"$f":"INT(Q197)","v":312499},{"$f":"INT(S197)","v":0},{"$f":"IF(U23*S23<=0,\"valid\",\"invalid\")","v":"valid"},{"$f":"AF291","v":343750},{"$f":"AH291","v":-31250}]
[{"$f":"A4","v":"scenario2"},{"$f":"RANK(B4,B$3:B$18,B$20)","v":3},11,11,6,7,2,11,9,6,8,4,8,7,5,11,{"$f":"Q4","v":375000},{"$f":"Q104","v":375000},{"$f":"S104","v":0},{"$f":"INT(Q198)","v":374999},{"$f":"INT(S198)","v":0},{"$f":"IF(U24*S24<=0,\"valid\",\"invalid\")","v":"valid"},{"$f":"AF292","v":375000},{"$f":"AH292","v":0}]
["scenario3",{"$f":"RANK(B5,B$3:B$18,B$20)","v":14},2,1,9,1,16,4,2,10,2,11,1,4,7,7,187500,187500,0,187500,-1,"valid",187500,0]
["scenario4",{"$f":"RANK(B6,B$3:B$18,B$20)","v":9},16,14,7,12,11,15,14,7,14,13,15,15,9,14,375000,343750,31250,374999,0,"valid",343750,31250]
["scenario5",{"$f":"RANK(B7,B$3:B$18,B$20)","v":15},13,13,11,11,12,8,12,8,10,3,11,11,1,12,375000,375000,0,374999,0,"valid",375000,0]
["scenario6",{"$f":"RANK(B8,B$3:B$18,B$20)","v":4},1,9,14,15,9,6,10,14,15,15,12,9,12,5,375000,375000,0,374999,0,"valid",375000,0]
["scenario7",{"$f":"RANK(B9,B$3:B$18,B$20)","v":6},7,6,8,9,3,3,5,9,6,16,9,10,15,8,375000,375000,0,374999,0,"valid",375000,0]
["scenario8",{"$f":"RANK(B10,B$3:B$18,B$20)","v":7},6,10,3,8,4,7,11,2,12,9,1,12,13,15,437500,437500,0,406249,31250,"valid",437500,0]
["scenario9",{"$f":"RANK(B11,B$3:B$18,B$20)","v":1},9,7,1,2,5,16,8,1,5,10,14,14,14,10,437500,437500,0,437499,0,"valid",437500,0]
["scenario10",{"$f":"RANK(B12,B$3:B$18,B$20)","v":11},12,16,5,13,8,10,16,3,11,7,1,5,8,6,375000,375000,0,374999,0,"valid",375000,0]
["scenario11",{"$f":"RANK(B13,B$3:B$18,B$20)","v":8},9,5,12,6,7,13,7,13,4,5,1,2,6,2,250000,375000,-125000,250000,-1,"invalid",406250,-156250]
["scenario12",{"$f":"RANK(B14,B$3:B$18,B$20)","v":5},14,12,4,14,6,9,13,5,13,14,13,16,11,16,375000,375000,0,406249,-31250,"valid",375000,0]
["scenario13",{"$f":"RANK(B15,B$3:B$18,B$20)","v":13},5,8,10,3,12,5,6,11,7,2,1,1,3,1,500000,500000,0,500000,-1,"valid",500000,0]
["scenario14",{"$f":"RANK(B16,B$3:B$18,B$20)","v":10},4,4,15,10,10,2,3,15,9,8,9,6,10,3,1000000,843750,156250,{"$f":"INT(Q210)","v":874999},{"$f":"INT(S210)","v":125000},"invalid",843750,156250]
["scenario15",{"$f":"RANK(B17,B$3:B$18,B$20)","v":16},8,2,13,4,14,12,4,12,1,6,16,8,4,9,437500,437500,0,437500,{"$f":"INT(S211)","v":-1},"valid",437500,0]
["scenario16",{"$f":"RANK(B18,B$3:B$18,B$20)","v":12},3,3,16,5,14,1,1,16,3,12,1,13,16,13,437500,468750,-31250,562499,{"$f":"INT(S212)","v":-125000},"invalid",437500,0]
[]
[]
[]
[]
[]
[]
[]
["Azonos�t�:",1991075,"Objektumok:",16,"Attrib�tumok:",15,"Lepcs�k:",16,"Eltol�s:",0,"Le�r�s:","COCO STD: 1991075"]
[]
["Rangsor","X(A1)","X(A2)","X(A3)","X(A4)","X(A5)","X(A6)","X(A7)","X(A8)","X(A9)","X(A10)","X(A11)","X(A12)","X(A13)","X(A14)","X(A15)","Y(A16)",null,{"$f":"B48","v":"X(A1)"},{"$f":"C48","v":"X(A2)"},{"$f":"D48","v":"X(A3)"},"X(A4)","X(A5)","X(A6)","X(A7)","X(A8)","X(A9)","X(A10)","X(A11)","X(A12)","X(A13)","X(A14)","X(A15)","Y(A16)",null,null,{"$f":"S48","v":"X(A1)"},{"$f":"T48","v":"X(A2)"},"X(A3)","X(A4)","X(A5)","X(A6)","X(A7)","X(A8)","X(A9)","X(A10)","X(A11)","X(A12)","X(A13)","X(A14)","X(A15)",{"$f":"AK48","v":"X(A1)"},{"$f":"AL48","v":"X(A2)"},"X(A3)","X(A4)","X(A5)","X(A6)","X(A7)","X(A8)","X(A9)","X(A10)","X(A11)","X(A12)","X(A13)","X(A14)","X(A15)",{"$f":"Q22","v":"validity ratio"}]
["O1",2,15,15,2,16,1,14,15,4,16,1,1,3,2,4,312500,null,{"$f":"RANK(B49,B$49:B$64,0)","v":15},{"$f":"RANK(C49,C$49:C$64,0)","v":2},{"$f":"RANK(D49,D$49:D$64,0)","v":2},{"$f":"RANK(E49,E$49:E$64,0)","v":15},{"$f":"RANK(F49,F$49:F$64,0)","v":1},{"$f":"RANK(G49,G$49:G$64,0)","v":16},{"$f":"RANK(H49,H$49:H$64,0)","v":3},{"$f":"RANK(I49,I$49:I$64,0)","v":2},{"$f":"RANK(J49,J$49:J$64,0)","v":13},{"$f":"RANK(K49,K$49:K$64,0)","v":1},{"$f":"RANK(L49,L$49:L$64,0)","v":16},{"$f":"RANK(M49,M$49:M$64,0)","v":10},{"$f":"RANK(N49,N$49:N$64,0)","v":14},{"$f":"RANK(O49,O$49:O$64,0)","v":15},{"$f":"RANK(P49,P$49:P$64,0)","v":13},312500,null,null,{"$f":"B49","v":2},{"$f":"C49","v":15},{"$f":"D49","v":15},{"$f":"E49","v":2},{"$f":"F49","v":16},{"$f":"G49","v":1},{"$f":"H49","v":14},{"$f":"I49","v":15},{"$f":"J49","v":4},{"$f":"K49","v":16},{"$f":"L49","v":1},{"$f":"M49","v":1},{"$f":"N49","v":3},{"$f":"O49","v":2},{"$f":"P49","v":4},{"$f":"AK49","v":2},{"$f":"AL49","v":15},{"$f":"AM49","v":15},{"$f":"AN49","v":2},{"$f":"AO49","v":16},{"$f":"AP49","v":1},{"$f":"AQ49","v":14},{"$f":"AR49","v":15},{"$f":"AS49","v":4},{"$f":"AT49","v":16},{"$f":"AU49","v":1},{"$f":"AV49","v":1},{"$f":"AW49","v":3},{"$f":"AX49","v":2},{"$f":"AY49","v":4},{"$f":"Q23","v":312500}]
["O2",3,11,11,6,7,2,11,9,6,8,4,8,7,5,11,375000,null,14,6,6,11,10,15,6,8,11,9,13,9,10,12,6,375000,null,null,{"$f":"B50","v":3},{"$f":"C50","v":11},{"$f":"D50","v":11},{"$f":"E50","v":6},{"$f":"F50","v":7},{"$f":"G50","v":2},{"$f":"H50","v":11},{"$f":"I50","v":9},{"$f":"J50","v":6},{"$f":"K50","v":8},{"$f":"L50","v":4},{"$f":"M50","v":8},{"$f":"N50","v":7},{"$f":"O50","v":5},{"$f":"P50","v":11},{"$f":"AK50","v":3},{"$f":"AL50","v":11},{"$f":"AM50","v":11},{"$f":"AN50","v":6},{"$f":"AO50","v":7},{"$f":"AP50","v":2},{"$f":"AQ50","v":11},{"$f":"AR50","v":9},{"$f":"AS50","v":6},{"$f":"AT50","v":8},{"$f":"AU50","v":4},{"$f":"AV50","v":8},{"$f":"AW50","v":7},{"$f":"AX50","v":5},{"$f":"AY50","v":11},{"$f":"Q24","v":375000}]
["O3",14,2,1,9,1,16,4,2,10,2,11,1,4,7,7,187500,null,3,15,16,8,16,1,13,15,7,15,6,10,13,10,10,187500,null,null,14,2,1,9,1,16,4,2,10,2,11,1,4,7,7,14,2,1,9,1,16,4,2,10,2,11,1,4,7,7,187500]
["O4",9,16,14,7,12,11,15,14,7,14,13,15,15,9,14,375000,null,8,1,3,10,5,6,2,3,10,3,4,2,2,8,3,375000,null,null,9,16,14,7,12,11,15,14,7,14,13,15,15,9,14,9,16,14,7,12,11,15,14,7,14,13,15,15,9,14,375000]
["O5",15,13,13,11,11,12,8,12,8,10,3,11,11,1,12,375000,null,2,4,4,6,6,4,9,5,9,7,14,6,6,16,5,375000,null,null,15,13,13,11,11,12,8,12,8,10,3,11,11,1,12,15,13,13,11,11,12,8,12,8,10,3,11,11,1,12,375000]
["O6",4,1,9,14,15,9,6,10,14,15,15,12,9,12,5,375000,null,13,16,8,3,2,8,11,7,3,2,2,5,8,5,12,375000,null,null,4,1,9,14,15,9,6,10,14,15,15,12,9,12,5,4,1,9,14,15,9,6,10,14,15,15,12,9,12,5,375000]
["O7",6,7,6,8,9,3,3,5,9,6,16,9,10,15,8,375000,null,11,10,11,9,8,14,14,12,8,11,1,7,7,2,9,375000,null,null,6,7,6,8,9,3,3,5,9,6,16,9,10,15,8,6,7,6,8,9,3,3,5,9,6,16,9,10,15,8,375000]
["O8",7,6,10,3,8,4,7,11,2,12,9,1,12,13,15,437500,null,10,11,7,14,9,13,10,6,15,5,8,10,5,4,2,437500,null,null,7,6,10,3,8,4,7,11,2,12,9,1,12,13,15,7,6,10,3,8,4,7,11,2,12,9,1,12,13,15,437500]
["O9",1,9,7,1,2,5,16,8,1,5,10,14,14,14,10,437500,null,16,7,10,16,15,12,1,9,16,12,7,3,3,3,7,437500,null,null,1,9,7,1,2,5,16,8,1,5,10,14,14,14,10,1,9,7,1,2,5,16,8,1,5,10,14,14,14,10,437500]
["O10",11,12,16,5,13,8,10,16,3,11,7,1,5,8,6,375000,null,6,5,1,12,4,9,7,1,14,6,10,10,12,9,11,375000,null,null,11,12,16,5,13,8,10,16,3,11,7,1,5,8,6,11,12,16,5,13,8,10,16,3,11,7,1,5,8,6,375000]
["O11",8,9,5,12,6,7,13,7,13,4,5,1,2,6,2,250000,null,9,7,12,5,11,10,4,10,4,13,12,10,15,11,15,250000,null,null,8,9,5,12,6,7,13,7,13,4,5,1,2,6,2,8,9,5,12,6,7,13,7,13,4,5,1,2,6,2,250000]
["O12",5,14,12,4,14,6,9,13,5,13,14,13,16,11,16,375000,null,12,3,5,13,3,11,8,4,12,4,3,4,1,6,1,375000,null,null,5,14,12,4,14,6,9,13,5,13,14,13,16,11,16,5,14,12,4,14,6,9,13,5,13,14,13,16,11,16,375000]
["O13",13,5,8,10,3,12,5,6,11,7,2,1,1,3,1,500000,null,4,12,9,7,14,4,12,11,6,10,15,10,16,14,16,500000,null,null,13,5,8,10,3,12,5,6,11,7,2,1,1,3,1,13,5,8,10,3,12,5,6,11,7,2,1,1,3,1,500000]
["O14",10,4,4,15,10,10,2,3,15,9,8,9,6,10,3,1000000,null,7,13,13,2,7,7,15,14,2,8,9,7,11,7,14,1000000,null,null,10,4,4,15,10,10,2,3,15,9,8,9,6,10,3,10,4,4,15,10,10,2,3,15,9,8,9,6,10,3,1000000]
["O15",16,8,2,13,4,14,12,4,12,1,6,16,8,4,9,437500,null,1,9,15,4,13,2,5,13,5,16,11,1,9,13,8,437500,null,null,16,8,2,13,4,14,12,4,12,1,6,16,8,4,9,16,8,2,13,4,14,12,4,12,1,6,16,8,4,9,437500]
["O16",12,3,3,16,5,14,1,1,16,3,12,1,13,16,13,437500,null,5,14,14,1,12,2,16,16,1,14,5,10,4,1,4,{"$f":"Q64","v":437500},null,null,12,3,3,16,5,14,1,1,16,3,12,1,13,16,13,12,3,3,16,5,14,1,1,16,3,12,1,13,16,13,437500]
[]
["L�pcs�k(1)","X(A1)","X(A2)","X(A3)","X(A4)","X(A5)","X(A6)","X(A7)","X(A8)","X(A9)","X(A10)","X(A11)","X(A12)","X(A13)","X(A14)","X(A15)"]
["S1","(156250+0)/(2)=78125","(93750+375000)/(2)=234375","(0+187500)/(2)=93750","(62500+0)/(2)=31250","(0+0)/(2)=0","(218750+0)/(2)=109375","(343750+500000)/(2)=421875","(0+0)/(2)=0","(0+437500)/(2)=218750","(312500+437500)/(2)=375000","(0+0)/(2)=0","(0+0)/(2)=0","(93750+0)/(2)=46875","(93750+375000)/(2)=234375","(0+500000)/(2)=250000"]
["S2","(0+0)/(2)=0","(93750+0)/(2)=46875","(0+0)/(2)=0","(62500+0)/(2)=31250","(0+0)/(2)=0","(218750+0)/(2)=109375","(343750+500000)/(2)=421875","(0+0)/(2)=0","(0+437500)/(2)=218750","(0+0)/(2)=0","(0+0)/(2)=0","(0+0)/(2)=0","(0+0)/(2)=0","(31250+0)/(2)=15625","(0+500000)/(2)=250000"]
["S3","(0+0)/(2)=0","(93750+0)/(2)=46875","(0+0)/(2)=0","(62500+0)/(2)=31250","(0+0)/(2)=0","(218750+0)/(2)=109375","(62500+375000)/(2)=218750","(0+0)/(2)=0","(0+375000)/(2)=187500","(0+0)/(2)=0","(0+0)/(2)=0","(0+0)/(2)=0","(0+0)/(2)=0","(31250+0)/(2)=15625","(0+500000)/(2)=250000"]
["S4","(0+0)/(2)=0","(93750+0)/(2)=46875","(0+0)/(2)=0","(62500+0)/(2)=31250","(0+0)/(2)=0","(218750+0)/(2)=109375","(62500+0)/(2)=31250","(0+0)/(2)=0","(0+375000)/(2)=187500","(0+0)/(2)=0","(0+0)/(2)=0","(0+0)/(2)=0","(0+0)/(2)=0","(31250+0)/(2)=15625","(0+0)/(2)=0"]
["S5","(0+0)/(2)=0","(93750+0)/(2)=46875","(0+0)/(2)=0","(62500+0)/(2)=31250","(0+0)/(2)=0","(218750+0)/(2)=109375","(62500+0)/(2)=31250","(0+0)/(2)=0","(0+375000)/(2)=187500","(0+0)/(2)=0","(0+0)/(2)=0","(0+0)/(2)=0","(0+0)/(2)=0","(31250+0)/(2)=15625","(0+0)/(2)=0"]
["S6","(0+0)/(2)=0","(93750+0)/(2)=46875","(0+0)/(2)=0","(62500+0)/(2)=31250","(0+0)/(2)=0","(218750+0)/(2)=109375","(62500+0)/(2)=31250","(0+0)/(2)=0","(0+375000)/(2)=187500","(0+0)/(2)=0","(0+0)/(2)=0","(0+0)/(2)=0","(0+0)/(2)=0","(31250+0)/(2)=15625","(0+0)/(2)=0"]
["S7","(0+0)/(2)=0","(93750+0)/(2)=46875","(0+0)/(2)=0","(62500+0)/(2)=31250","(0+0)/(2)=0","(218750+0)/(2)=109375","(62500+0)/(2)=31250","(0+0)/(2)=0","(0+375000)/(2)=187500","(0+0)/(2)=0","(0+0)/(2)=0","(0+0)/(2)=0","(0+0)/(2)=0","(31250+0)/(2)=15625","(0+0)/(2)=0"]
["S8","(0+0)/(2)=0","(93750+0)/(2)=46875","(0+0)/(2)=0","(0+0)/(2)=0","(0+0)/(2)=0","(218750+0)/(2)=109375","(62500+0)/(2)=31250","(0+0)/(2)=0","(0+0)/(2)=0","(0+0)/(2)=0","(0+0)/(2)=0","(0+0)/(2)=0","(0+0)/(2)=0","(31250+0)/(2)=15625","(0+0)/(2)=0"]
["S9","(0+0)/(2)=0","(0+0)/(2)=0","(0+0)/(2)=0","(0+0)/(2)=0","(0+0)/(2)=0","(218750+0)/(2)=109375","(62500+0)/(2)=31250","(0+0)/(2)=0","(0+0)/(2)=0","(0+0)/(2)=0","(0+0)/(2)=0","(0+0)/(2)=0","(0+0)/(2)=0","(31250+0)/(2)=15625","(0+0)/(2)=0"]
["S10","(0+0)/(2)=0","(0+0)/(2)=0","(0+0)/(2)=0","(0+0)/(2)=0","(0+0)/(2)=0","(218750+0)/(2)=109375","(62500+0)/(2)=31250","(0+0)/(2)=0","(0+0)/(2)=0","(0+0)/(2)=0","(0+0)/(2)=0","(0+0)/(2)=0","(0+0)/(2)=0","(31250+0)/(2)=15625","(0+0)/(2)=0"]
["S11","(0+0)/(2)=0","(0+0)/(2)=0","(0+0)/(2)=0","(0+0)/(2)=0","(0+0)/(2)=0","(218750+0)/(2)=109375","(62500+0)/(2)=31250","(0+0)/(2)=0","(0+0)/(2)=0","(0+0)/(2)=0","(0+0)/(2)=0","(0+0)/(2)=0","(0+0)/(2)=0","(31250+0)/(2)=15625","(0+0)/(2)=0"]
["S12","(0+0)/(2)=0","(0+0)/(2)=0","(0+0)/(2)=0","(0+0)/(2)=0","(0+0)/(2)=0","(218750+0)/(2)=109375","(0+0)/(2)=0","(0+0)/(2)=0","(0+0)/(2)=0","(0+0)/(2)=0","(0+0)/(2)=0","(0+0)/(2)=0","(0+0)/(2)=0","(0+0)/(2)=0","(0+0)/(2)=0"]
["S13","(0+0)/(2)=0","(0+0)/(2)=0","(0+0)/(2)=0","(0+0)/(2)=0","(0+0)/(2)=0","(0+0)/(2)=0","(0+0)/(2)=0","(0+0)/(2)=0","(0+0)/(2)=0","(0+0)/(2)=0","(0+0)/(2)=0","(0+0)/(2)=0","(0+0)/(2)=0","(0+0)/(2)=0","(0+0)/(2)=0"]
["S14","(0+0)/(2)=0","(0+0)/(2)=0","(0+0)/(2)=0","(0+0)/(2)=0","(0+0)/(2)=0","(0+0)/(2)=0","(0+0)/(2)=0","(0+0)/(2)=0","(0+0)/(2)=0","(0+0)/(2)=0","(0+0)/(2)=0","(0+0)/(2)=0","(0+0)/(2)=0","(0+0)/(2)=0","(0+0)/(2)=0"]
["S15","(0+0)/(2)=0","(0+0)/(2)=0","(0+0)/(2)=0","(0+0)/(2)=0","(0+0)/(2)=0","(0+0)/(2)=0","(0+0)/(2)=0","(0+0)/(2)=0","(0+0)/(2)=0","(0+0)/(2)=0","(0+0)/(2)=0","(0+0)/(2)=0","(0+0)/(2)=0","(0+0)/(2)=0","(0+0)/(2)=0"]
["S16","(0+0)/(2)=0","(0+0)/(2)=0","(0+0)/(2)=0","(0+0)/(2)=0","(0+0)/(2)=0","(0+0)/(2)=0","(0+0)/(2)=0","(0+0)/(2)=0","(0+0)/(2)=0","(0+0)/(2)=0","(0+0)/(2)=0","(0+0)/(2)=0","(0+0)/(2)=0","(0+0)/(2)=0","(0+0)/(2)=0"]
[]
["L�pcs�k(2)","X(A1)","X(A2)","X(A3)","X(A4)","X(A5)","X(A6)","X(A7)","X(A8)","X(A9)","X(A10)","X(A11)","X(A12)","X(A13)","X(A14)","X(A15)"]
[1,78125,234375,93750,31250,0,109375,421875,0,218750,375000,0,0,46875,234375,250000]
[2,0,46875,0,31250,0,109375,421875,0,218750,0,0,0,0,15625,250000]
[3,0,46875,0,31250,0,109375,218750,0,187500,0,0,0,0,15625,250000]
[4,0,46875,0,31250,0,109375,31250,0,187500,0,0,0,0,15625,0]
[5,0,46875,0,31250,0,109375,31250,0,187500,0,0,0,0,15625,0]
[6,0,46875,0,31250,0,109375,31250,0,187500,0,0,0,0,15625,0]
[7,0,46875,0,31250,0,109375,31250,0,187500,0,0,0,0,15625,0]
[8,0,46875,0,0,0,109375,31250,0,0,0,0,0,0,15625,0]
[9,0,0,0,0,0,109375,31250,0,0,0,0,0,0,15625,0]
[10,0,0,0,0,0,109375,31250,0,0,0,0,0,0,15625,0]
[11,0,0,0,0,0,109375,31250,0,0,0,0,0,0,15625,0]
[12,0,0,0,0,0,109375,0,0,0,0,0,0,0,0,0]
[13,0,0,0,0,0,0,0,0,0,0,0,0,0,0,0]
[14,0,0,0,0,0,0,0,0,0,0,0,0,0,0,0]
[15,0,0,0,0,0,0,0,0,0,0,0,0,0,0,0]
[16,0,0,0,0,0,0,0,0,0,0,0,0,0,0,0]
[]
["COCO:STD","X(A1)","X(A2)","X(A3)","X(A4)","X(A5)","X(A6)","X(A7)","X(A8)","X(A9)","X(A10)","X(A11)","X(A12)","X(A13)","X(A14)","X(A15)","Becsl�s","T�ny+0","Delta","Delta/T�ny"]
["O1",0,0,0,31250,0,109375,0,0,187500,0,0,0,0,15625,0,343750,312500,-31250,-10]
["O2",0,0,0,31250,0,109375,31250,0,187500,0,0,0,0,15625,0,375000,375000,0,0]
["O3",0,46875,93750,0,0,0,31250,0,0,0,0,0,0,15625,0,187500,187500,0,0]
["O4",0,0,0,31250,0,109375,0,0,187500,0,0,0,0,15625,0,343750,375000,31250,8.33]
["O5",0,0,0,0,0,109375,31250,0,0,0,0,0,0,234375,0,375000,375000,0,0]
["O6",0,234375,0,0,0,109375,31250,0,0,0,0,0,0,0,0,375000,375000,0,0]
["O7",0,46875,0,0,0,109375,218750,0,0,0,0,0,0,0,0,375000,375000,0,0]
["O8",0,46875,0,31250,0,109375,31250,0,218750,0,0,0,0,0,0,437500,437500,0,0]
["O9",78125,0,0,31250,0,109375,0,0,218750,0,0,0,0,0,0,437500,437500,0,0]
["O10",0,0,0,31250,0,109375,31250,0,187500,0,0,0,0,15625,0,375000,375000,0,0]
["O11",0,0,0,0,0,109375,0,0,0,0,0,0,0,15625,250000,375000,250000,-125000,-50]
["O12",0,0,0,31250,0,109375,31250,0,187500,0,0,0,0,15625,0,375000,375000,0,0]
["O13",0,46875,0,0,0,109375,31250,0,0,0,0,0,46875,15625,250000,500000,500000,0,0]
["O14",0,46875,0,0,0,109375,421875,0,0,0,0,0,0,15625,250000,843750,1000000,156250,15.63]
["O15",0,46875,0,0,0,0,0,0,0,375000,0,0,0,15625,0,437500,437500,0,0]
["O16",0,46875,0,0,0,0,421875,0,0,0,0,0,0,0,0,468750,437500,-31250,-7.14]
[]
["S1 �sszeg:",2093750]
["S16 �sszeg:",0]
["Becsl�s �sszeg:",6625000]
["T�ny �sszeg:",6625000]
["T�ny-becsl�s elt�r�s:",0]
["T�ny n�gyzet�sszeg:"]
["Becsl�s n�gyzet�sszeg:"]
["N�gyzet�sszeg hiba:",0]
[]
["Open url"]
[]
["Maxim�lis mem�ria haszn�lat: 1.4 Mb"]
["A futtat�s id�tartama: 0.14 mp (0 p)"]
[]
[]
[]
[]
[]
[]
[]
["Azonos�t�:",8562363,"Objektumok:",16,"Attrib�tumok:",15,"Lepcs�k:",16,"Eltol�s:",0,"Le�r�s:","COCO STD: 8562363"]
[]
["Rangsor","X(A1)","X(A2)","X(A3)","X(A4)","X(A5)","X(A6)","X(A7)","X(A8)","X(A9)","X(A10)","X(A11)","X(A12)","X(A13)","X(A14)","X(A15)","Y(A16)"]
["O1",15,2,2,15,1,16,3,2,13,1,16,10,14,15,13,312500]
["O2",14,6,6,11,10,15,6,8,11,9,13,9,10,12,6,375000]
["O3",3,15,16,8,16,1,13,15,7,15,6,10,13,10,10,187500]
["O4",8,1,3,10,5,6,2,3,10,3,4,2,2,8,3,375000]
["O5",2,4,4,6,6,4,9,5,9,7,14,6,6,16,5,375000]
["O6",13,16,8,3,2,8,11,7,3,2,2,5,8,5,12,375000]
["O7",11,10,11,9,8,14,14,12,8,11,1,7,7,2,9,375000]
["O8",10,11,7,14,9,13,10,6,15,5,8,10,5,4,2,437500]
["O9",16,7,10,16,15,12,1,9,16,12,7,3,3,3,7,437500]
["O10",6,5,1,12,4,9,7,1,14,6,10,10,12,9,11,375000]
["O11",9,7,12,5,11,10,4,10,4,13,12,10,15,11,15,250000]
["O12",12,3,5,13,3,11,8,4,12,4,3,4,1,6,1,375000]
["O13",4,12,9,7,14,4,12,11,6,10,15,10,16,14,16,500000]
["O14",7,13,13,2,7,7,15,14,2,8,9,7,11,7,14,1000000]
["O15",1,9,15,4,13,2,5,13,5,16,11,1,9,13,8,437500]
["O16",5,14,14,1,12,2,16,16,1,14,5,10,4,1,4,437500]
[]
["L�pcs�k(1)","X(A1)","X(A2)","X(A3)","X(A4)","X(A5)","X(A6)","X(A7)","X(A8)","X(A9)","X(A10)","X(A11)","X(A12)","X(A13)","X(A14)","X(A15)"]
["S1","(62500+41667)/(2)=52083.5","(125000+104167)/(2)=114583.45","(0+0)/(2)=0","(249999.9+499999.8)/(2)=374999.9","(0+0)/(2)=0","(0+104167)/(2)=52083.5","(249999.9+270832.9)/(2)=260416.4","(0+0)/(2)=0","(125000+104167)/(2)=114583.45","(187499.9+208332.9)/(2)=197916.45","(187499.9+208332.9)/(2)=197916.45","(125000+125000)/(2)=124999.95","(0+20833)/(2)=10416.5","(62500+41667)/(2)=52083.5","(0+62500)/(2)=31250"]
["S2","(62500+41667)/(2)=52083.5","(125000+104167)/(2)=114583.45","(0+0)/(2)=0","(249999.9+499999.8)/(2)=374999.9","(0+0)/(2)=0","(0+0)/(2)=0","(0+0)/(2)=0","(0+0)/(2)=0","(125000+104167)/(2)=114583.45","(187499.9+208332.9)/(2)=197916.45","(0+0)/(2)=0","(0+0)/(2)=0","(0+20833)/(2)=10416.5","(62500+41667)/(2)=52083.5","(0+62500)/(2)=31250"]
["S3","(62500+41667)/(2)=52083.5","(125000+104167)/(2)=114583.45","(0+0)/(2)=0","(0+0)/(2)=0","(0+0)/(2)=0","(0+0)/(2)=0","(0+0)/(2)=0","(0+0)/(2)=0","(125000+104167)/(2)=114583.45","(187499.9+208332.9)/(2)=197916.45","(0+0)/(2)=0","(0+0)/(2)=0","(0+20833)/(2)=10416.5","(62500+41667)/(2)=52083.5","(0+0)/(2)=0"]
["S4","(62500+41667)/(2)=52083.5","(125000+104167)/(2)=114583.45","(0+0)/(2)=0","(0+0)/(2)=0","(0+0)/(2)=0","(0+0)/(2)=0","(0+0)/(2)=0","(0+0)/(2)=0","(62500+104167)/(2)=83333.45","(187499.9+208332.9)/(2)=197916.45","(0+0)/(2)=0","(0+0)/(2)=0","(0+20833)/(2)=10416.5","(62500+41667)/(2)=52083.5","(0+0)/(2)=0"]
["S5","(0+20833)/(2)=10416.5","(125000+104167)/(2)=114583.45","(0+0)/(2)=0","(0+0)/(2)=0","(0+0)/(2)=0","(0+0)/(2)=0","(0+0)/(2)=0","(0+0)/(2)=0","(62500+104167)/(2)=83333.45","(187499.9+208332.9)/(2)=197916.45","(0+0)/(2)=0","(0+0)/(2)=0","(0+20833)/(2)=10416.5","(62500+41667)/(2)=52083.5","(0+0)/(2)=0"]
["S6","(0+20833)/(2)=10416.5","(125000+104167)/(2)=114583.45","(0+0)/(2)=0","(0+0)/(2)=0","(0+0)/(2)=0","(0+0)/(2)=0","(0+0)/(2)=0","(0+0)/(2)=0","(62500+104167)/(2)=83333.45","(187499.9+208332.9)/(2)=197916.45","(0+0)/(2)=0","(0+0)/(2)=0","(0+20833)/(2)=10416.5","(62500+41667)/(2)=52083.5","(0+0)/(2)=0"]
["S7","(0+20833)/(2)=10416.5","(125000+104167)/(2)=114583.45","(0+0)/(2)=0","(0+0)/(2)=0","(0+0)/(2)=0","(0+0)/(2)=0","(0+0)/(2)=0","(0+0)/(2)=0","(62500+0)/(2)=31250","(187499.9+208332.9)/(2)=197916.45","(0+0)/(2)=0","(0+0)/(2)=0","(0+20833)/(2)=10416.5","(62500+41667)/(2)=52083.5","(0+0)/(2)=0"]
["S8","(0+0)/(2)=0","(125000+104167)/(2)=114583.45","(0+0)/(2)=0","(0+0)/(2)=0","(0+0)/(2)=0","(0+0)/(2)=0","(0+0)/(2)=0","(0+0)/(2)=0","(0+0)/(2)=0","(187499.9+208332.9)/(2)=197916.45","(0+0)/(2)=0","(0+0)/(2)=0","(0+20833)/(2)=10416.5","(62500+41667)/(2)=52083.5","(0+0)/(2)=0"]
["S9","(0+0)/(2)=0","(125000+104167)/(2)=114583.45","(0+0)/(2)=0","(0+0)/(2)=0","(0+0)/(2)=0","(0+0)/(2)=0","(0+0)/(2)=0","(0+0)/(2)=0","(0+0)/(2)=0","(187499.9+208332.9)/(2)=197916.45","(0+0)/(2)=0","(0+0)/(2)=0","(0+20833)/(2)=10416.5","(62500+41667)/(2)=52083.5","(0+0)/(2)=0"]
["S10","(0+0)/(2)=0","(125000+104167)/(2)=114583.45","(0+0)/(2)=0","(0+0)/(2)=0","(0+0)/(2)=0","(0+0)/(2)=0","(0+0)/(2)=0","(0+0)/(2)=0","(0+0)/(2)=0","(187499.9+208332.9)/(2)=197916.45","(0+0)/(2)=0","(0+0)/(2)=0","(0+20833)/(2)=10416.5","(62500+41667)/(2)=52083.5","(0+0)/(2)=0"]
["S11","(0+0)/(2)=0","(125000+104167)/(2)=114583.45","(0+0)/(2)=0","(0+0)/(2)=0","(0+0)/(2)=0","(0+0)/(2)=0","(0+0)/(2)=0","(0+0)/(2)=0","(0+0)/(2)=0","(0+0)/(2)=0","(0+0)/(2)=0","(0+0)/(2)=0","(0+20833)/(2)=10416.5","(62500+41667)/(2)=52083.5","(0+0)/(2)=0"]
["S12","(0+0)/(2)=0","(125000+104167)/(2)=114583.45","(0+0)/(2)=0","(0+0)/(2)=0","(0+0)/(2)=0","(0+0)/(2)=0","(0+0)/(2)=0","(0+0)/(2)=0","(0+0)/(2)=0","(0+0)/(2)=0","(0+0)/(2)=0","(0+0)/(2)=0","(0+0)/(2)=0","(62500+41667)/(2)=52083.5","(0+0)/(2)=0"]
["S13","(0+0)/(2)=0","(125000+104167)/(2)=114583.45","(0+0)/(2)=0","(0+0)/(2)=0","(0+0)/(2)=0","(0+0)/(2)=0","(0+0)/(2)=0","(0+0)/(2)=0","(0+0)/(2)=0","(0+0)/(2)=0","(0+0)/(2)=0","(0+0)/(2)=0","(0+0)/(2)=0","(62500+41667)/(2)=52083.5","(0+0)/(2)=0"]
["S14","(0+0)/(2)=0","(0+0)/(2)=0","(0+0)/(2)=0","(0+0)/(2)=0","(0+0)/(2)=0","(0+0)/(2)=0","(0+0)/(2)=0","(0+0)/(2)=0","(0+0)/(2)=0","(0+0)/(2)=0","(0+0)/(2)=0","(0+0)/(2)=0","(0+0)/(2)=0","(62500+41667)/(2)=52083.5","(0+0)/(2)=0"]
["S15","(0+0)/(2)=0","(0+0)/(2)=0","(0+0)/(2)=0","(0+0)/(2)=0","(0+0)/(2)=0","(0+0)/(2)=0","(0+0)/(2)=0","(0+0)/(2)=0","(0+0)/(2)=0","(0+0)/(2)=0","(0+0)/(2)=0","(0+0)/(2)=0","(0+0)/(2)=0","(0+0)/(2)=0","(0+0)/(2)=0"]
["S16","(0+0)/(2)=0","(0+0)/(2)=0","(0+0)/(2)=0","(0+0)/(2)=0","(0+0)/(2)=0","(0+0)/(2)=0","(0+0)/(2)=0","(0+0)/(2)=0","(0+0)/(2)=0","(0+0)/(2)=0","(0+0)/(2)=0","(0+0)/(2)=0","(0+0)/(2)=0","(0+0)/(2)=0","(0+0)/(2)=0"]
[]
["L�pcs�k(2)","X(A1)","X(A2)","X(A3)","X(A4)","X(A5)","X(A6)","X(A7)","X(A8)","X(A9)","X(A10)","X(A11)","X(A12)","X(A13)","X(A14)","X(A15)"]
["S1",52083.5,114583.5,0,374999.9,0,52083.5,260416.4,0,114583.5,197916.4,197916.4,125000,10416.5,52083.5,31250]
["S2",52083.5,114583.5,0,374999.9,0,0,0,0,114583.5,197916.4,0,0,10416.5,52083.5,31250]
["S3",52083.5,114583.5,0,0,0,0,0,0,114583.5,197916.4,0,0,10416.5,52083.5,0]
["S4",52083.5,114583.5,0,0,0,0,0,0,83333.5,197916.4,0,0,10416.5,52083.5,0]
["S5",10416.5,114583.5,0,0,0,0,0,0,83333.5,197916.4,0,0,10416.5,52083.5,0]
["S6",10416.5,114583.5,0,0,0,0,0,0,83333.5,197916.4,0,0,10416.5,52083.5,0]
["S7",10416.5,114583.5,0,0,0,0,0,0,31250,197916.4,0,0,10416.5,52083.5,0]
["S8",0,114583.5,0,0,0,0,0,0,0,197916.4,0,0,10416.5,52083.5,0]
["S9",0,114583.5,0,0,0,0,0,0,0,197916.4,0,0,10416.5,52083.5,0]
["S10",0,114583.5,0,0,0,0,0,0,0,197916.4,0,0,10416.5,52083.5,0]
["S11",0,114583.5,0,0,0,0,0,0,0,0,0,0,10416.5,52083.5,0]
["S12",0,114583.5,0,0,0,0,0,0,0,0,0,0,0,52083.5,0]
["S13",0,114583.5,0,0,0,0,0,0,0,0,0,0,0,52083.5,0]
["S14",0,0,0,0,0,0,0,0,0,0,0,0,0,52083.5,0]
["S15",0,0,0,0,0,0,0,0,0,0,0,0,0,0,0]
["S16",0,0,0,0,0,0,0,0,0,0,0,0,0,0,0]
[]
["COCO:STD","X(A1)","X(A2)","X(A3)","X(A4)","X(A5)","X(A6)","X(A7)","X(A8)","X(A9)","X(A10)","X(A11)","X(A12)","X(A13)","X(A14)","X(A15)","Becsl�s","T�ny+0","Delta","Delta/T�ny"]
["O1",0,114583.5,0,0,0,0,0,0,0,197916.4,0,0,0,0,0,312499.90000000002,312500,0.1,0]
["O2",0,114583.5,0,0,0,0,0,0,0,197916.4,0,0,10416.5,52083.5,0,374999.9,375000,0.1,0]
["O3",52083.5,0,0,0,0,52083.5,0,0,31250,0,0,0,0,52083.5,0,187500.4,187500,-0.4,0]
["O4",0,114583.5,0,0,0,0,0,0,0,197916.4,0,0,10416.5,52083.5,0,374999.9,375000,0.1,0]
["O5",52083.5,114583.5,0,0,0,0,0,0,0,197916.4,0,0,10416.5,0,0,374999.9,375000,0.1,0]
["O6",0,0,0,0,0,0,0,0,114583.5,197916.4,0,0,10416.5,52083.5,0,374999.9,375000,0.1,0]
["O7",0,114583.5,0,0,0,0,0,0,0,0,197916.4,0,10416.5,52083.5,0,374999.9,375000,0.1,0]
["O8",0,114583.5,0,0,0,0,0,0,0,197916.4,0,0,10416.5,52083.5,31250,406249.9,437500,31250.1,7.14]
["O9",0,114583.5,0,0,0,0,260416.4,0,0,0,0,0,10416.5,52083.5,0,437499.9,437500,0.1,0]
["O10",10416.5,114583.5,0,0,0,0,0,0,0,197916.4,0,0,0,52083.5,0,374999.9,375000,0.1,0]
["O11",0,114583.5,0,0,0,0,0,0,83333.5,0,0,0,0,52083.5,0,250000.4,250000,-0.4,0]
["O12",0,114583.5,0,0,0,0,0,0,0,197916.4,0,0,10416.5,52083.5,31250,406249.9,375000,-31249.9,-8.33]
["O13",52083.5,114583.5,0,0,0,0,0,0,83333.5,197916.4,0,0,0,52083.5,0,500000.3,500000,-0.3,0]
["O14",10416.5,114583.5,0,374999.9,0,0,0,0,114583.5,197916.4,0,0,10416.5,52083.5,0,874999.7,1000000,125000.3,12.5]
["O15",52083.5,114583.5,0,0,0,0,0,0,83333.5,0,0,125000,10416.5,52083.5,0,437500.4,437500,-0.4,0]
["O16",10416.5,0,0,374999.9,0,0,0,0,114583.5,0,0,0,10416.5,52083.5,0,562499.80000000005,437500,-124999.8,-28.57]
[]
["S1 �sszeg:",1583333.1]
["S16 �sszeg:",0]
["Becsl�s �sszeg:",6625000]
["T�ny �sszeg:",6625000]
["T�ny-becsl�s elt�r�s:",0]
["T�ny n�gyzet�sszeg:"]
["Becsl�s n�gyzet�sszeg:"]
["N�gyzet�sszeg hiba:",0]
[]
["Open url"]
[]
["Maxim�lis mem�ria haszn�lat: 1.4 Mb"]
["A futtat�s id�tartama: 0.23 mp (0 p)"]
[]
[]
[]
[]
[]
[]
[]
["Azonos�t�:",1331772,"Objektumok:",16,"Attrib�tumok:",30,"Lepcs�k:",16,"Eltol�s:",0,"Le�r�s:","COCO STD: 1331772"]
[]
["Rangsor","X(A1)","X(A2)","X(A3)","X(A4)","X(A5)","X(A6)","X(A7)","X(A8)","X(A9)","X(A10)","X(A11)","X(A12)","X(A13)","X(A14)","X(A15)","X(A16)","X(A17)","X(A18)","X(A19)","X(A20)","X(A21)","X(A22)","X(A23)","X(A24)","X(A25)","X(A26)","X(A27)","X(A28)","X(A29)","X(A30)","Y(A31)"]
["O1",2,15,15,2,16,1,14,15,4,16,1,1,3,2,4,2,15,15,2,16,1,14,15,4,16,1,1,3,2,4,312500]
["O2",3,11,11,6,7,2,11,9,6,8,4,8,7,5,11,3,11,11,6,7,2,11,9,6,8,4,8,7,5,11,375000]
["O3",14,2,1,9,1,16,4,2,10,2,11,1,4,7,7,14,2,1,9,1,16,4,2,10,2,11,1,4,7,7,187500]
["O4",9,16,14,7,12,11,15,14,7,14,13,15,15,9,14,9,16,14,7,12,11,15,14,7,14,13,15,15,9,14,375000]
["O5",15,13,13,11,11,12,8,12,8,10,3,11,11,1,12,15,13,13,11,11,12,8,12,8,10,3,11,11,1,12,375000]
["O6",4,1,9,14,15,9,6,10,14,15,15,12,9,12,5,4,1,9,14,15,9,6,10,14,15,15,12,9,12,5,375000]
["O7",6,7,6,8,9,3,3,5,9,6,16,9,10,15,8,6,7,6,8,9,3,3,5,9,6,16,9,10,15,8,375000]
["O8",7,6,10,3,8,4,7,11,2,12,9,1,12,13,15,7,6,10,3,8,4,7,11,2,12,9,1,12,13,15,437500]
["O9",1,9,7,1,2,5,16,8,1,5,10,14,14,14,10,1,9,7,1,2,5,16,8,1,5,10,14,14,14,10,437500]
["O10",11,12,16,5,13,8,10,16,3,11,7,1,5,8,6,11,12,16,5,13,8,10,16,3,11,7,1,5,8,6,375000]
["O11",8,9,5,12,6,7,13,7,13,4,5,1,2,6,2,8,9,5,12,6,7,13,7,13,4,5,1,2,6,2,250000]
["O12",5,14,12,4,14,6,9,13,5,13,14,13,16,11,16,5,14,12,4,14,6,9,13,5,13,14,13,16,11,16,375000]
["O13",13,5,8,10,3,12,5,6,11,7,2,1,1,3,1,13,5,8,10,3,12,5,6,11,7,2,1,1,3,1,500000]
["O14",10,4,4,15,10,10,2,3,15,9,8,9,6,10,3,10,4,4,15,10,10,2,3,15,9,8,9,6,10,3,1000000]
["O15",16,8,2,13,4,14,12,4,12,1,6,16,8,4,9,16,8,2,13,4,14,12,4,12,1,6,16,8,4,9,437500]
["O16",12,3,3,16,5,14,1,1,16,3,12,1,13,16,13,12,3,3,16,5,14,1,1,16,3,12,1,13,16,13,437500]
[]
["L�pcs�k(1)","X(A1)","X(A2)","X(A3)","X(A4)","X(A5)","X(A6)","X(A7)","X(A8)","X(A9)","X(A10)","X(A11)","X(A12)","X(A13)","X(A14)","X(A15)","X(A16)","X(A17)","X(A18)","X(A19)","X(A20)","X(A21)","X(A22)","X(A23)","X(A24)","X(A25)","X(A26)","X(A27)","X(A28)","X(A29)","X(A30)"]
["S1","(156250+62500)/(2)=109375","(93750+312500)/(2)=203125","(0+187500)/(2)=93750","(62500+312500)/(2)=187500","(0+0)/(2)=0","(218750+0)/(2)=109375","(343750+437500)/(2)=390625","(0+0)/(2)=0","(0+62500)/(2)=31250","(312500+437500)/(2)=375000","(0+0)/(2)=0","(0+0)/(2)=0","(93750+0)/(2)=46875","(31250+375000)/(2)=203125","(0+500000)/(2)=250000","(0+0)/(2)=0","(0+0)/(2)=0","(0+0)/(2)=0","(0+0)/(2)=0","(0+0)/(2)=0","(0+0)/(2)=0","(0+0)/(2)=0","(0+0)/(2)=0","(0+0)/(2)=0","(0+0)/(2)=0","(0+0)/(2)=0","(0+0)/(2)=0","(0+0)/(2)=0","(62500+0)/(2)=31250","(0+0)/(2)=0"]
["S2","(0+62500)/(2)=31250","(93750+0)/(2)=46875","(0+0)/(2)=0","(62500+312500)/(2)=187500","(0+0)/(2)=0","(218750+0)/(2)=109375","(343750+437500)/(2)=390625","(0+0)/(2)=0","(0+62500)/(2)=31250","(0+0)/(2)=0","(0+0)/(2)=0","(0+0)/(2)=0","(0+0)/(2)=0","(31250+0)/(2)=15625","(0+500000)/(2)=250000","(0+0)/(2)=0","(0+0)/(2)=0","(0+0)/(2)=0","(0+0)/(2)=0","(0+0)/(2)=0","(0+0)/(2)=0","(0+0)/(2)=0","(0+0)/(2)=0","(0+0)/(2)=0","(0+0)/(2)=0","(0+0)/(2)=0","(0+0)/(2)=0","(0+0)/(2)=0","(0+0)/(2)=0","(0+0)/(2)=0"]
["S3","(0+62500)/(2)=31250","(93750+0)/(2)=46875","(0+0)/(2)=0","(62500+312500)/(2)=187500","(0+0)/(2)=0","(218750+0)/(2)=109375","(62500+312500)/(2)=187500","(0+0)/(2)=0","(0+62500)/(2)=31250","(0+0)/(2)=0","(0+0)/(2)=0","(0+0)/(2)=0","(0+0)/(2)=0","(31250+0)/(2)=15625","(0+500000)/(2)=250000","(0+0)/(2)=0","(0+0)/(2)=0","(0+0)/(2)=0","(0+0)/(2)=0","(0+0)/(2)=0","(0+0)/(2)=0","(0+0)/(2)=0","(0+0)/(2)=0","(0+0)/(2)=0","(0+0)/(2)=0","(0+0)/(2)=0","(0+0)/(2)=0","(0+0)/(2)=0","(0+0)/(2)=0","(0+0)/(2)=0"]
["S4","(0+62500)/(2)=31250","(93750+0)/(2)=46875","(0+0)/(2)=0","(62500+312500)/(2)=187500","(0+0)/(2)=0","(218750+0)/(2)=109375","(62500+0)/(2)=31250","(0+0)/(2)=0","(0+0)/(2)=0","(0+0)/(2)=0","(0+0)/(2)=0","(0+0)/(2)=0","(0+0)/(2)=0","(31250+0)/(2)=15625","(0+0)/(2)=0","(0+0)/(2)=0","(0+0)/(2)=0","(0+0)/(2)=0","(0+0)/(2)=0","(0+0)/(2)=0","(0+0)/(2)=0","(0+0)/(2)=0","(0+0)/(2)=0","(0+0)/(2)=0","(0+0)/(2)=0","(0+0)/(2)=0","(0+0)/(2)=0","(0+0)/(2)=0","(0+0)/(2)=0","(0+0)/(2)=0"]
["S5","(0+62500)/(2)=31250","(93750+0)/(2)=46875","(0+0)/(2)=0","(62500+312500)/(2)=187500","(0+0)/(2)=0","(218750+0)/(2)=109375","(62500+0)/(2)=31250","(0+0)/(2)=0","(0+0)/(2)=0","(0+0)/(2)=0","(0+0)/(2)=0","(0+0)/(2)=0","(0+0)/(2)=0","(31250+0)/(2)=15625","(0+0)/(2)=0","(0+0)/(2)=0","(0+0)/(2)=0","(0+0)/(2)=0","(0+0)/(2)=0","(0+0)/(2)=0","(0+0)/(2)=0","(0+0)/(2)=0","(0+0)/(2)=0","(0+0)/(2)=0","(0+0)/(2)=0","(0+0)/(2)=0","(0+0)/(2)=0","(0+0)/(2)=0","(0+0)/(2)=0","(0+0)/(2)=0"]
["S6","(0+62500)/(2)=31250","(93750+0)/(2)=46875","(0+0)/(2)=0","(62500+312500)/(2)=187500","(0+0)/(2)=0","(218750+0)/(2)=109375","(62500+0)/(2)=31250","(0+0)/(2)=0","(0+0)/(2)=0","(0+0)/(2)=0","(0+0)/(2)=0","(0+0)/(2)=0","(0+0)/(2)=0","(31250+0)/(2)=15625","(0+0)/(2)=0","(0+0)/(2)=0","(0+0)/(2)=0","(0+0)/(2)=0","(0+0)/(2)=0","(0+0)/(2)=0","(0+0)/(2)=0","(0+0)/(2)=0","(0+0)/(2)=0","(0+0)/(2)=0","(0+0)/(2)=0","(0+0)/(2)=0","(0+0)/(2)=0","(0+0)/(2)=0","(0+0)/(2)=0","(0+0)/(2)=0"]
["S7","(0+62500)/(2)=31250","(93750+0)/(2)=46875","(0+0)/(2)=0","(62500+312500)/(2)=187500","(0+0)/(2)=0","(218750+0)/(2)=109375","(62500+0)/(2)=31250","(0+0)/(2)=0","(0+0)/(2)=0","(0+0)/(2)=0","(0+0)/(2)=0","(0+0)/(2)=0","(0+0)/(2)=0","(31250+0)/(2)=15625","(0+0)/(2)=0","(0+0)/(2)=0","(0+0)/(2)=0","(0+0)/(2)=0","(0+0)/(2)=0","(0+0)/(2)=0","(0+0)/(2)=0","(0+0)/(2)=0","(0+0)/(2)=0","(0+0)/(2)=0","(0+0)/(2)=0","(0+0)/(2)=0","(0+0)/(2)=0","(0+0)/(2)=0","(0+0)/(2)=0","(0+0)/(2)=0"]
["S8","(0+62500)/(2)=31250","(93750+0)/(2)=46875","(0+0)/(2)=0","(0+0)/(2)=0","(0+0)/(2)=0","(218750+0)/(2)=109375","(62500+0)/(2)=31250","(0+0)/(2)=0","(0+0)/(2)=0","(0+0)/(2)=0","(0+0)/(2)=0","(0+0)/(2)=0","(0+0)/(2)=0","(31250+0)/(2)=15625","(0+0)/(2)=0","(0+0)/(2)=0","(0+0)/(2)=0","(0+0)/(2)=0","(0+0)/(2)=0","(0+0)/(2)=0","(0+0)/(2)=0","(0+0)/(2)=0","(0+0)/(2)=0","(0+0)/(2)=0","(0+0)/(2)=0","(0+0)/(2)=0","(0+0)/(2)=0","(0+0)/(2)=0","(0+0)/(2)=0","(0+0)/(2)=0"]
["S9","(0+62500)/(2)=31250","(0+0)/(2)=0","(0+0)/(2)=0","(0+0)/(2)=0","(0+0)/(2)=0","(218750+0)/(2)=109375","(62500+0)/(2)=31250","(0+0)/(2)=0","(0+0)/(2)=0","(0+0)/(2)=0","(0+0)/(2)=0","(0+0)/(2)=0","(0+0)/(2)=0","(31250+0)/(2)=15625","(0+0)/(2)=0","(0+0)/(2)=0","(0+0)/(2)=0","(0+0)/(2)=0","(0+0)/(2)=0","(0+0)/(2)=0","(0+0)/(2)=0","(0+0)/(2)=0","(0+0)/(2)=0","(0+0)/(2)=0","(0+0)/(2)=0","(0+0)/(2)=0","(0+0)/(2)=0","(0+0)/(2)=0","(0+0)/(2)=0","(0+0)/(2)=0"]
["S10","(0+62500)/(2)=31250","(0+0)/(2)=0","(0+0)/(2)=0","(0+0)/(2)=0","(0+0)/(2)=0","(218750+0)/(2)=109375","(62500+0)/(2)=31250","(0+0)/(2)=0","(0+0)/(2)=0","(0+0)/(2)=0","(0+0)/(2)=0","(0+0)/(2)=0","(0+0)/(2)=0","(31250+0)/(2)=15625","(0+0)/(2)=0","(0+0)/(2)=0","(0+0)/(2)=0","(0+0)/(2)=0","(0+0)/(2)=0","(0+0)/(2)=0","(0+0)/(2)=0","(0+0)/(2)=0","(0+0)/(2)=0","(0+0)/(2)=0","(0+0)/(2)=0","(0+0)/(2)=0","(0+0)/(2)=0","(0+0)/(2)=0","(0+0)/(2)=0","(0+0)/(2)=0"]
["S11","(0+0)/(2)=0","(0+0)/(2)=0","(0+0)/(2)=0","(0+0)/(2)=0","(0+0)/(2)=0","(218750+0)/(2)=109375","(62500+0)/(2)=31250","(0+0)/(2)=0","(0+0)/(2)=0","(0+0)/(2)=0","(0+0)/(2)=0","(0+0)/(2)=0","(0+0)/(2)=0","(31250+0)/(2)=15625","(0+0)/(2)=0","(0+0)/(2)=0","(0+0)/(2)=0","(0+0)/(2)=0","(0+0)/(2)=0","(0+0)/(2)=0","(0+0)/(2)=0","(0+0)/(2)=0","(0+0)/(2)=0","(0+0)/(2)=0","(0+0)/(2)=0","(0+0)/(2)=0","(0+0)/(2)=0","(0+0)/(2)=0","(0+0)/(2)=0","(0+0)/(2)=0"]
["S12","(0+0)/(2)=0","(0+0)/(2)=0","(0+0)/(2)=0","(0+0)/(2)=0","(0+0)/(2)=0","(218750+0)/(2)=109375","(0+0)/(2)=0","(0+0)/(2)=0","(0+0)/(2)=0","(0+0)/(2)=0","(0+0)/(2)=0","(0+0)/(2)=0","(0+0)/(2)=0","(0+0)/(2)=0","(0+0)/(2)=0","(0+0)/(2)=0","(0+0)/(2)=0","(0+0)/(2)=0","(0+0)/(2)=0","(0+0)/(2)=0","(0+0)/(2)=0","(0+0)/(2)=0","(0+0)/(2)=0","(0+0)/(2)=0","(0+0)/(2)=0","(0+0)/(2)=0","(0+0)/(2)=0","(0+0)/(2)=0","(0+0)/(2)=0","(0+0)/(2)=0"]
["S13","(0+0)/(2)=0","(0+0)/(2)=0","(0+0)/(2)=0","(0+0)/(2)=0","(0+0)/(2)=0","(0+0)/(2)=0","(0+0)/(2)=0","(0+0)/(2)=0","(0+0)/(2)=0","(0+0)/(2)=0","(0+0)/(2)=0","(0+0)/(2)=0","(0+0)/(2)=0","(0+0)/(2)=0","(0+0)/(2)=0","(0+0)/(2)=0","(0+0)/(2)=0","(0+0)/(2)=0","(0+0)/(2)=0","(0+0)/(2)=0","(0+0)/(2)=0","(0+0)/(2)=0","(0+0)/(2)=0","(0+0)/(2)=0","(0+0)/(2)=0","(0+0)/(2)=0","(0+0)/(2)=0","(0+0)/(2)=0","(0+0)/(2)=0","(0+0)/(2)=0"]
["S14","(0+0)/(2)=0","(0+0)/(2)=0","(0+0)/(2)=0","(0+0)/(2)=0","(0+0)/(2)=0","(0+0)/(2)=0","(0+0)/(2)=0","(0+0)/(2)=0","(0+0)/(2)=0","(0+0)/(2)=0","(0+0)/(2)=0","(0+0)/(2)=0","(0+0)/(2)=0","(0+0)/(2)=0","(0+0)/(2)=0","(0+0)/(2)=0","(0+0)/(2)=0","(0+0)/(2)=0","(0+0)/(2)=0","(0+0)/(2)=0","(0+0)/(2)=0","(0+0)/(2)=0","(0+0)/(2)=0","(0+0)/(2)=0","(0+0)/(2)=0","(0+0)/(2)=0","(0+0)/(2)=0","(0+0)/(2)=0","(0+0)/(2)=0","(0+0)/(2)=0"]
["S15","(0+0)/(2)=0","(0+0)/(2)=0","(0+0)/(2)=0","(0+0)/(2)=0","(0+0)/(2)=0","(0+0)/(2)=0","(0+0)/(2)=0","(0+0)/(2)=0","(0+0)/(2)=0","(0+0)/(2)=0","(0+0)/(2)=0","(0+0)/(2)=0","(0+0)/(2)=0","(0+0)/(2)=0","(0+0)/(2)=0","(0+0)/(2)=0","(0+0)/(2)=0","(0+0)/(2)=0","(0+0)/(2)=0","(0+0)/(2)=0","(0+0)/(2)=0","(0+0)/(2)=0","(0+0)/(2)=0","(0+0)/(2)=0","(0+0)/(2)=0","(0+0)/(2)=0","(0+0)/(2)=0","(0+0)/(2)=0","(0+0)/(2)=0","(0+0)/(2)=0"]
["S16","(0+0)/(2)=0","(0+0)/(2)=0","(0+0)/(2)=0","(0+0)/(2)=0","(0+0)/(2)=0","(0+0)/(2)=0","(0+0)/(2)=0","(0+0)/(2)=0","(0+0)/(2)=0","(0+0)/(2)=0","(0+0)/(2)=0","(0+0)/(2)=0","(0+0)/(2)=0","(0+0)/(2)=0","(0+0)/(2)=0","(0+0)/(2)=0","(0+0)/(2)=0","(0+0)/(2)=0","(0+0)/(2)=0","(0+0)/(2)=0","(0+0)/(2)=0","(0+0)/(2)=0","(0+0)/(2)=0","(0+0)/(2)=0","(0+0)/(2)=0","(0+0)/(2)=0","(0+0)/(2)=0","(0+0)/(2)=0","(0+0)/(2)=0","(0+0)/(2)=0"]
[]
["L�pcs�k(2)","X(A1)","X(A2)","X(A3)","X(A4)","X(A5)","X(A6)","X(A7)","X(A8)","X(A9)","X(A10)","X(A11)","X(A12)","X(A13)","X(A14)","X(A15)","X(A16)","X(A17)","X(A18)","X(A19)","X(A20)","X(A21)","X(A22)","X(A23)","X(A24)","X(A25)","X(A26)","X(A27)","X(A28)","X(A29)","X(A30)"]
["S1",109375,203125,93750,187500,0,109375,390625,0,31250,375000,0,0,46875,203125,250000,0,0,0,0,0,0,0,0,0,0,0,0,0,31250,0]
["S2",31250,46875,0,187500,0,109375,390625,0,31250,0,0,0,0,15625,250000,0,0,0,0,0,0,0,0,0,0,0,0,0,0,0]
["S3",31250,46875,0,187500,0,109375,187500,0,31250,0,0,0,0,15625,250000,0,0,0,0,0,0,0,0,0,0,0,0,0,0,0]
["S4",31250,46875,0,187500,0,109375,31250,0,0,0,0,0,0,15625,0,0,0,0,0,0,0,0,0,0,0,0,0,0,0,0]
["S5",31250,46875,0,187500,0,109375,31250,0,0,0,0,0,0,15625,0,0,0,0,0,0,0,0,0,0,0,0,0,0,0,0]
["S6",31250,46875,0,187500,0,109375,31250,0,0,0,0,0,0,15625,0,0,0,0,0,0,0,0,0,0,0,0,0,0,0,0]
["S7",31250,46875,0,187500,0,109375,31250,0,0,0,0,0,0,15625,0,0,0,0,0,0,0,0,0,0,0,0,0,0,0,0]
["S8",31250,46875,0,0,0,109375,31250,0,0,0,0,0,0,15625,0,0,0,0,0,0,0,0,0,0,0,0,0,0,0,0]
["S9",31250,0,0,0,0,109375,31250,0,0,0,0,0,0,15625,0,0,0,0,0,0,0,0,0,0,0,0,0,0,0,0]
["S10",31250,0,0,0,0,109375,31250,0,0,0,0,0,0,15625,0,0,0,0,0,0,0,0,0,0,0,0,0,0,0,0]
["S11",0,0,0,0,0,109375,31250,0,0,0,0,0,0,15625,0,0,0,0,0,0,0,0,0,0,0,0,0,0,0,0]
["S12",0,0,0,0,0,109375,0,0,0,0,0,0,0,0,0,0,0,0,0,0,0,0,0,0,0,0,0,0,0,0]
["S13",0,0,0,0,0,0,0,0,0,0,0,0,0,0,0,0,0,0,0,0,0,0,0,0,0,0,0,0,0,0]
["S14",0,0,0,0,0,0,0,0,0,0,0,0,0,0,0,0,0,0,0,0,0,0,0,0,0,0,0,0,0,0]
["S15",0,0,0,0,0,0,0,0,0,0,0,0,0,0,0,0,0,0,0,0,0,0,0,0,0,0,0,0,0,0]
["S16",0,0,0,0,0,0,0,0,0,0,0,0,0,0,0,0,0,0,0,0,0,0,0,0,0,0,0,0,0,0]
[]
["COCO:STD","X(A1)","X(A2)","X(A3)","X(A4)","X(A5)","X(A6)","X(A7)","X(A8)","X(A9)","X(A10)","X(A11)","X(A12)","X(A13)","X(A14)","X(A15)","X(A16)","X(A17)","X(A18)","X(A19)","X(A20)","X(A21)","X(A22)","X(A23)","X(A24)","X(A25)","X(A26)","X(A27)","X(A28)","X(A29)","X(A30)","Becsl�s","T�ny+0","Delta","Delta/T�ny"]
["O1",31250,0,0,187500,0,109375,0,0,0,0,0,0,0,15625,0,0,0,0,0,0,0,0,0,0,0,0,0,0,0,0,343750,312500,-31250,-10]
["O2",31250,0,0,187500,0,109375,31250,0,0,0,0,0,0,15625,0,0,0,0,0,0,0,0,0,0,0,0,0,0,0,0,375000,375000,0,0]
["O3",0,46875,93750,0,0,0,31250,0,0,0,0,0,0,15625,0,0,0,0,0,0,0,0,0,0,0,0,0,0,0,0,187500,187500,0,0]
["O4",31250,0,0,187500,0,109375,0,0,0,0,0,0,0,15625,0,0,0,0,0,0,0,0,0,0,0,0,0,0,0,0,343750,375000,31250,8.33]
["O5",0,0,0,0,0,109375,31250,0,0,0,0,0,0,203125,0,0,0,0,0,0,0,0,0,0,0,0,0,0,31250,0,375000,375000,0,0]
["O6",31250,203125,0,0,0,109375,31250,0,0,0,0,0,0,0,0,0,0,0,0,0,0,0,0,0,0,0,0,0,0,0,375000,375000,0,0]
["O7",31250,46875,0,0,0,109375,187500,0,0,0,0,0,0,0,0,0,0,0,0,0,0,0,0,0,0,0,0,0,0,0,375000,375000,0,0]
["O8",31250,46875,0,187500,0,109375,31250,0,31250,0,0,0,0,0,0,0,0,0,0,0,0,0,0,0,0,0,0,0,0,0,437500,437500,0,0]
["O9",109375,0,0,187500,0,109375,0,0,31250,0,0,0,0,0,0,0,0,0,0,0,0,0,0,0,0,0,0,0,0,0,437500,437500,0,0]
["O10",0,0,0,187500,0,109375,31250,0,31250,0,0,0,0,15625,0,0,0,0,0,0,0,0,0,0,0,0,0,0,0,0,375000,375000,0,0]
["O11",31250,0,0,0,0,109375,0,0,0,0,0,0,0,15625,250000,0,0,0,0,0,0,0,0,0,0,0,0,0,0,0,406250,250000,-156250,-62.5]
["O12",31250,0,0,187500,0,109375,31250,0,0,0,0,0,0,15625,0,0,0,0,0,0,0,0,0,0,0,0,0,0,0,0,375000,375000,0,0]
["O13",0,46875,0,0,0,109375,31250,0,0,0,0,0,46875,15625,250000,0,0,0,0,0,0,0,0,0,0,0,0,0,0,0,500000,500000,0,0]
["O14",31250,46875,0,0,0,109375,390625,0,0,0,0,0,0,15625,250000,0,0,0,0,0,0,0,0,0,0,0,0,0,0,0,843750,1000000,156250,15.63]
["O15",0,46875,0,0,0,0,0,0,0,375000,0,0,0,15625,0,0,0,0,0,0,0,0,0,0,0,0,0,0,0,0,437500,437500,0,0]
["O16",0,46875,0,0,0,0,390625,0,0,0,0,0,0,0,0,0,0,0,0,0,0,0,0,0,0,0,0,0,0,0,437500,437500,0,0]
[]
["S1 �sszeg:",2031250]
["S16 �sszeg:",0]
["Becsl�s �sszeg:",6625000]
["T�ny �sszeg:",6625000]
["T�ny-becsl�s elt�r�s:",0]
["T�ny n�gyzet�sszeg:"]
["Becsl�s n�gyzet�sszeg:"]
["N�gyzet�sszeg hiba:",0]
[]
["Open url"]
[]
["Maxim�lis mem�ria haszn�lat: 1.46 Mb"]
["A futtat�s id�tartama: 0.26 mp (0 p)"]

{"sheet":"pre2","index":20,"n_rows":131,"n_cols":40,"rows_kept":131,"cut":false,"hidden":false,"merged":[]}
[null,"direct","direct","direct","direct","direct","direct","direct"]
[null,"max","min","avg","stddev","median","kvart_1","kvart_3",{"$f":"oam_pre_validity!Q2","v":"validity ratio"}]
["O1",{"$f":"TRANSPOSE(basics1!$O$278:$O$284)","v":0.85038181745436492},-0.92296811493827735,-1.9777854558187993E-2,0.44480312477357131,-5.2795135068363017E-2,-0.40178771700389826,0.36125754627132312,{"$f":"oam_pre_validity!Q3","v":312500}]
["O2",{"$f":"TRANSPOSE(basics2!$O$278:$O$284)","v":0.88945300377256531},-0.88970933682075015,-5.7273353389300598E-2,0.45353650508810828,-0.10137965526842692,-0.36089619171580839,0.26395465999153922,{"$f":"oam_pre_validity!Q4","v":375000}]
["O3",{"$f":"TRANSPOSE(basics3!$O$278:$O$284)","v":0.86865222890666893},-0.85783881040034704,-4.2262150271731205E-2,0.45704471424740739,-2.0841121563269553E-2,-0.40007024402550728,0.31609310544241087,{"$f":"oam_pre_validity!Q5","v":187500}]
["O4",{"$f":"TRANSPOSE(basics4!$O$278:$O$284)","v":0.85784200433707958},-0.92440517788818644,-1.7061682846463411E-2,0.48503804396269096,-2.5359653366827883E-2,-0.38822162931019305,0.31598402168478318,{"$f":"oam_pre_validity!Q6","v":375000}]
["O5",{"$f":"TRANSPOSE(basics5!$O$278:$O$284)","v":0.97184839661703804},-0.9002806339675381,-4.652964033246218E-2,0.44821286917941316,-4.8331270685657263E-2,-0.42107356896439557,0.26944189119121242,{"$f":"oam_pre_validity!Q7","v":375000}]
["O6",{"$f":"TRANSPOSE(basics6!$O$278:$O$284)","v":0.92628838034500538},-0.8774808718543643,6.1587738687296188E-2,0.44437118698495515,8.540488980245306E-2,-0.30475451086830968,0.40171314518612561,{"$f":"oam_pre_validity!Q8","v":375000}]
["O7",{"$f":"TRANSPOSE(basics7!$O$278:$O$284)","v":0.81601555844628559},-0.88660717706711656,1.4072027978496977E-2,0.4359210598455362,1.9266636351504725E-2,-0.31522636932229603,0.37203421954614885,{"$f":"oam_pre_validity!Q9","v":375000}]
["O8",{"$f":"TRANSPOSE(basics8!$O$278:$O$284)","v":0.9474125198040011},-0.90350569850291274,-4.0280249213170922E-2,0.44379867204023193,-6.4272869405840233E-2,-0.36809558871952408,0.28438620845416707,{"$f":"oam_pre_validity!Q10","v":437500}]
["O9",{"$f":"TRANSPOSE(basics9!$O$278:$O$284)","v":0.9592541892423152},-0.81819018791789899,2.401134088087524E-2,0.45504973600915816,-1.2215260628198634E-2,-0.32109612757925199,0.36238637340133595,{"$f":"oam_pre_validity!Q11","v":437500}]
["O10",{"$f":"TRANSPOSE(basics10!$O$278:$O$284)","v":0.97050032553037935},-0.89459683904516152,4.2571367030965389E-2,0.44312163777957186,6.1245329732789497E-2,-0.27800642006629794,0.32991011622380478,{"$f":"oam_pre_validity!Q12","v":375000}]
["O11",{"$f":"TRANSPOSE(basics11!$O$278:$O$284)","v":0.91660630589212866},-0.84038148679747293,-3.0352350188413705E-2,0.44616914911067002,-7.2096577388081978E-2,-0.36202261818388687,0.34765582484816848,{"$f":"oam_pre_validity!Q13","v":250000}]
["O12",{"$f":"TRANSPOSE(basics12!$O$278:$O$284)","v":0.85227049968828517},-0.86284527540249689,4.7905209177383831E-3,0.44027693955113822,3.3912212470551234E-2,-0.33394232318244654,0.34693077223158991,{"$f":"oam_pre_validity!Q14","v":375000}]
["O13",{"$f":"TRANSPOSE(basics13!$O$278:$O$284)","v":0.88610015117181973},-0.86807152182980207,-1.1458508191415039E-2,0.41912729088413614,1.5692362203526357E-2,-0.34701741782919426,0.28557774921912138,{"$f":"oam_pre_validity!Q15","v":500000}]
["O14",{"$f":"TRANSPOSE(basics14!$O$278:$O$284)","v":0.96753517620979057},-0.90405808125445775,7.167839076425233E-3,0.45528273433192223,7.7509367838818843E-2,-0.36941517373049892,0.40489746437100133,{"$f":"oam_pre_validity!Q16","v":1000000}]
["O15",{"$f":"TRANSPOSE(basics15!$O$278:$O$284)","v":0.91792044236470938},-0.95992961040031555,-1.8143471859632391E-2,0.42146313112226808,-5.4390363585671876E-2,-0.34776104604258407,0.31466953254506314,{"$f":"oam_pre_validity!Q17","v":437500}]
["O16",{"$f":"TRANSPOSE(basics16!$O$278:$O$284)","v":0.97708281539237773},-0.94052199371242451,1.1949564518588271E-2,0.49557715034216809,-1.757666460465266E-2,-0.39039176907027073,0.41423540770795342,{"$f":"oam_pre_validity!Q18","v":437500}]
[]
[]
[null,"direct","direct","direct","direct","direct","direct","direct","inverse","inverse","inverse","inverse","inverse","inverse","inverse",null,null,"coco online",null,null,null,null,null,null,null,null,null,null,null,null,null,null,null,null,null,null,"MS-Excel"]
[null,{"$f":"B2","v":"max"},{"$f":"C2","v":"min"},"avg","stddev","median","kvart_1","kvart_3",{"$f":"B22","v":"max"},{"$f":"C22","v":"min"},"avg","stddev","median","kvart_1","kvart_3",{"$f":"I2","v":"validity ratio"},"estimation","delta",null,null,{"$f":"B21&B22","v":"directmax"},{"$f":"C21&C22","v":"directmin"},"directavg","directstddev","directmedian","directkvart_1","directkvart_3","inversemax","inversemin","inverseavg","inversestddev","inversemedian","inversekvart_1","inversekvart_3",{"$f":"AN22","v":"validity ratio"},"estimation","delta",null,null,{"$f":"P21&P22","v":"validity ratio"}]
[{"$f":"A3","v":"O1"},{"$f":"RANK(B3,B$3:B$18,0)","v":15},{"$f":"RANK(C3,C$3:C$18,0)","v":13},11,9,12,15,6,{"$f":"RANK(B23,B$23:B$38,0)","v":2},{"$f":"RANK(C23,C$23:C$38,0)","v":4},{"$f":"RANK(D23,D$23:D$38,0)","v":6},{"$f":"RANK(E23,E$23:E$38,0)","v":8},{"$f":"RANK(F23,F$23:F$38,0)","v":5},{"$f":"RANK(G23,G$23:G$38,0)","v":2},{"$f":"RANK(H23,H$23:H$38,0)","v":11},{"$f":"I3","v":312500},{"$f":"P102","v":312500},{"$f":"R102","v":0},null,null,{"$f":"B23","v":15},{"$f":"C23","v":13},{"$f":"D23","v":11},{"$f":"E23","v":9},{"$f":"F23","v":12},{"$f":"G23","v":15},{"$f":"H23","v":6},{"$f":"I23","v":2},{"$f":"J23","v":4},{"$f":"K23","v":6},{"$f":"L23","v":8},{"$f":"M23","v":5},{"$f":"N23","v":2},{"$f":"O23","v":11},{"$f":"INT(AN23*1000000)","v":687500},{"$f":"AJ102","v":687500},{"$f":"AL102","v":0},null,null,{"$f":"archive!BE18","v":0.6875}]
[{"$f":"A4","v":"O2"},{"$f":"RANK(B4,B$3:B$18,0)","v":10},8,16,6,16,8,16,{"$f":"RANK(B24,B$23:B$38,0)","v":7},9,1,11,1,9,1,{"$f":"I4","v":375000},{"$f":"P103","v":375000},{"$f":"R103","v":0},null,null,{"$f":"B24","v":10},8,16,6,16,8,16,7,9,1,11,1,9,1,312500,{"$f":"AJ103","v":312500},{"$f":"AL103","v":0},null,null,{"$f":"archive!BE38","v":0.3125}]
["O3",{"$f":"RANK(B5,B$3:B$18,0)","v":12},3,14,3,9,14,10,5,14,3,14,8,3,7,187500,187500,0,null,null,12,3,14,3,9,14,10,5,14,3,14,8,3,7,500000,500000,0,null,null,{"$f":"archive!$BE$58","v":0.5}]
["O4",{"$f":"RANK(B6,B$3:B$18,0)","v":13},14,9,2,10,12,11,4,3,8,15,7,5,6,375000,375000,0,null,null,13,14,9,2,10,12,11,4,3,8,15,7,5,6,312500,312500,0,null,null,{"$f":"archive!$BE$78","v":0.3125}]
["O5",{"$f":"RANK(B7,B$3:B$18,0)","v":2},10,15,7,11,16,15,15,7,2,10,6,1,2,375000,375000,0,null,null,2,10,15,7,11,16,15,15,7,2,10,6,1,2,437500,437500,0,null,null,{"$f":"archive!$BE$98","v":0.4375}]
["O6",{"$f":"RANK(B8,B$3:B$18,0)","v":7},6,1,10,1,2,3,10,11,16,7,16,15,14,375000,375000,0,null,null,7,6,1,10,1,2,3,10,11,16,7,16,15,14,437500,437500,0,null,null,{"$f":"archive!$BE$118","v":0.4375}]
["O7",{"$f":"RANK(B9,B$3:B$18,0)","v":16},7,4,14,5,3,4,1,10,13,3,12,14,13,375000,375000,0,null,null,16,7,4,14,5,3,4,1,10,13,3,12,14,13,500000,500000,0,null,null,{"$f":"archive!$BE$138","v":0.5}]
["O8",{"$f":"RANK(B10,B$3:B$18,0)","v":6},11,13,11,14,10,14,11,6,4,6,3,7,3,437500,437500,0,null,null,6,11,13,11,14,10,14,11,6,4,6,3,7,3,437500,437500,0,null,null,{"$f":"archive!$BE$158","v":0.4375}]
["O9",{"$f":"RANK(B11,B$3:B$18,0)","v":5},1,3,5,7,4,5,12,16,14,12,10,13,12,437500,437500,0,null,null,5,1,3,5,7,4,5,12,16,14,12,10,13,12,500000,500000,0,null,null,{"$f":"archive!$BE$178","v":0.5}]
["O10",{"$f":"RANK(B12,B$3:B$18,0)","v":3},9,2,12,3,1,9,14,8,15,5,14,16,8,375000,375000,0,null,null,3,9,2,12,3,1,9,14,8,15,5,14,16,8,562500,562500,0,null,null,{"$f":"archive!$BE$198","v":0.5625}]
["O11",{"$f":"RANK(B13,B$3:B$18,0)","v":9},2,12,8,15,9,7,8,15,5,9,2,8,10,250000,250000,0,null,null,9,2,12,8,15,9,7,8,15,5,9,2,8,10,250000,250000,0,null,null,{"$f":"archive!$BE$218","v":0.25}]
["O12",{"$f":"RANK(B14,B$3:B$18,0)","v":14},4,7,13,4,5,8,3,13,10,4,13,12,9,375000,375000,0,null,null,14,4,7,13,4,5,8,3,13,10,4,13,12,9,500000,500000,0,null,null,{"$f":"archive!$BE$238","v":0.5}]
["O13",{"$f":"RANK(B15,B$3:B$18,0)","v":11},5,8,16,6,6,13,6,12,9,1,11,11,4,500000,500000,0,null,null,11,5,8,16,6,6,13,6,12,9,1,11,11,4,437500,437500,0,null,null,{"$f":"archive!$BE$258","v":0.4375}]
["O14",{"$f":"RANK(B16,B$3:B$18,0)","v":4},12,6,4,2,11,2,13,5,11,13,15,6,15,1000000,1000000,0,null,null,4,12,6,4,2,11,2,13,5,11,13,15,6,15,437500,437500,0,null,null,{"$f":"archive!$BE$278","v":0.4375}]
["O15",{"$f":"RANK(B17,B$3:B$18,0)","v":8},16,10,15,13,7,12,9,1,7,2,4,10,5,437500,437500,0,null,null,8,16,10,15,13,7,12,9,1,7,2,4,10,5,375000,375000,0,null,null,{"$f":"archive!$BE$298","v":0.375}]
["O16",{"$f":"RANK(B18,B$3:B$18,0)","v":1},15,5,1,8,13,1,16,2,12,16,9,4,16,437500,437500,0,null,null,1,15,5,1,8,13,1,16,2,12,16,9,4,16,500000,500000,0,null,null,{"$f":"archive!$BE$318","v":0.5}]
[]
[]
[]
[]
[]
[]
["Azonos�t�:",1600578,"Objektumok:",16,"Attrib�tumok:",14,"Lepcs�k:",16,"Eltol�s:",0,"Le�r�s:","COCO STD: 1600578",null,null,null,null,null,null,null,null,"Azonos�t�:",8775118,"Objektumok:",16,"Attrib�tumok:",14,"Lepcs�k:",16,"Eltol�s:",0,"Le�r�s:","COCO STD: 8775118"]
[]
["Rangsor","X(A1)","X(A2)","X(A3)","X(A4)","X(A5)","X(A6)","X(A7)","X(A8)","X(A9)","X(A10)","X(A11)","X(A12)","X(A13)","X(A14)","Y(A15)",null,null,null,null,"Rangsor","X(A1)","X(A2)","X(A3)","X(A4)","X(A5)","X(A6)","X(A7)","X(A8)","X(A9)","X(A10)","X(A11)","X(A12)","X(A13)","X(A14)","Y(A15)"]
["O1",15,13,11,9,12,15,6,2,4,6,8,5,2,11,312500,null,null,null,null,"O1",15,13,11,9,12,15,6,2,4,6,8,5,2,11,687500]
["O2",10,8,16,6,16,8,16,7,9,1,11,1,9,1,375000,null,null,null,null,"O2",10,8,16,6,16,8,16,7,9,1,11,1,9,1,312500]
["O3",12,3,14,3,9,14,10,5,14,3,14,8,3,7,187500,null,null,null,null,"O3",12,3,14,3,9,14,10,5,14,3,14,8,3,7,500000]
["O4",13,14,9,2,10,12,11,4,3,8,15,7,5,6,375000,null,null,null,null,"O4",13,14,9,2,10,12,11,4,3,8,15,7,5,6,312500]
["O5",2,10,15,7,11,16,15,15,7,2,10,6,1,2,375000,null,null,null,null,"O5",2,10,15,7,11,16,15,15,7,2,10,6,1,2,437500]
["O6",7,6,1,10,1,2,3,10,11,16,7,16,15,14,375000,null,null,null,null,"O6",7,6,1,10,1,2,3,10,11,16,7,16,15,14,437500]
["O7",16,7,4,14,5,3,4,1,10,13,3,12,14,13,375000,null,null,null,null,"O7",16,7,4,14,5,3,4,1,10,13,3,12,14,13,500000]
["O8",6,11,13,11,14,10,14,11,6,4,6,3,7,3,437500,null,null,null,null,"O8",6,11,13,11,14,10,14,11,6,4,6,3,7,3,437500]
["O9",5,1,3,5,7,4,5,12,16,14,12,10,13,12,437500,null,null,null,null,"O9",5,1,3,5,7,4,5,12,16,14,12,10,13,12,500000]
["O10",3,9,2,12,3,1,9,14,8,15,5,14,16,8,375000,null,null,null,null,"O10",3,9,2,12,3,1,9,14,8,15,5,14,16,8,562500]
["O11",9,2,12,8,15,9,7,8,15,5,9,2,8,10,250000,null,null,null,null,"O11",9,2,12,8,15,9,7,8,15,5,9,2,8,10,250000]
["O12",14,4,7,13,4,5,8,3,13,10,4,13,12,9,375000,null,null,null,null,"O12",14,4,7,13,4,5,8,3,13,10,4,13,12,9,500000]
["O13",11,5,8,16,6,6,13,6,12,9,1,11,11,4,500000,null,null,null,null,"O13",11,5,8,16,6,6,13,6,12,9,1,11,11,4,437500]
["O14",4,12,6,4,2,11,2,13,5,11,13,15,6,15,1000000,null,null,null,null,"O14",4,12,6,4,2,11,2,13,5,11,13,15,6,15,437500]
["O15",8,16,10,15,13,7,12,9,1,7,2,4,10,5,437500,null,null,null,null,"O15",8,16,10,15,13,7,12,9,1,7,2,4,10,5,375000]
["O16",1,15,5,1,8,13,1,16,2,12,16,9,4,16,437500,null,null,null,null,"O16",1,15,5,1,8,13,1,16,2,12,16,9,4,16,500000]
[]
["L�pcs�k(1)","X(A1)","X(A2)","X(A3)","X(A4)","X(A5)","X(A6)","X(A7)","X(A8)","X(A9)","X(A10)","X(A11)","X(A12)","X(A13)","X(A14)",null,null,null,null,null,"L�pcs�k(1)","X(A1)","X(A2)","X(A3)","X(A4)","X(A5)","X(A6)","X(A7)","X(A8)","X(A9)","X(A10)","X(A11)","X(A12)","X(A13)","X(A14)"]
["S1","(0+62500)/(2)=31250","(375000+312500)/(2)=343750","(0+0)/(2)=0","(0+0)/(2)=0","(312500+312500)/(2)=312500","(343750+312500)/(2)=328125","(406250+375000)/(2)=390625","(281250+312500)/(2)=296875","(156250+125000)/(2)=140625","(187500+187500)/(2)=187500","(250000+187500)/(2)=218750","(0+0)/(2)=0","(62500+0)/(2)=31250","(125000+125000)/(2)=125000",null,null,null,null,null,"S1","(0+187500)/(1)=187500","(0+375000)/(1)=375000","(0+125000)/(1)=125000","(0+312500)/(1)=312500","(0+312500)/(1)=312500","(0+437500)/(1)=437500","(0+0)/(1)=0","(0+500000)/(1)=500000","(0+375000)/(1)=375000","(0+0)/(1)=0","(0+437500)/(1)=437500","(0+187500)/(1)=187500","(0+187500)/(1)=187500","(0+125000)/(1)=125000"]
["S2","(0+62500)/(2)=31250","(0+0)/(2)=0","(0+0)/(2)=0","(0+0)/(2)=0","(312500+312500)/(2)=312500","(62500+62500)/(2)=62500","(406250+375000)/(2)=390625","(93750+125000)/(2)=109375","(31250+0)/(2)=15625","(187500+187500)/(2)=187500","(31250+0)/(2)=15625","(0+0)/(2)=0","(0+0)/(2)=0","(125000+125000)/(2)=125000",null,null,null,null,null,"S2","(0+125000)/(1)=125000","(0+62500)/(1)=62500","(0+0)/(1)=0","(0+312500)/(1)=312500","(0+312500)/(1)=312500","(0+0)/(1)=0","(0+0)/(1)=0","(0+500000)/(1)=500000","(0+0)/(1)=0","(0+0)/(1)=0","(0+0)/(1)=0","(0+187500)/(1)=187500","(0+187500)/(1)=187500","(0+125000)/(1)=125000"]
["S3","(0+62500)/(2)=31250","(0+0)/(2)=0","(0+0)/(2)=0","(0+0)/(2)=0","(0+0)/(2)=0","(62500+62500)/(2)=62500","(0+0)/(2)=0","(93750+125000)/(2)=109375","(31250+0)/(2)=15625","(187500+187500)/(2)=187500","(31250+0)/(2)=15625","(0+0)/(2)=0","(0+0)/(2)=0","(125000+125000)/(2)=125000",null,null,null,null,null,"S3","(0+125000)/(1)=125000","(0+62500)/(1)=62500","(0+0)/(1)=0","(0+312500)/(1)=312500","(0+0)/(1)=0","(0+0)/(1)=0","(0+0)/(1)=0","(0+500000)/(1)=500000","(0+0)/(1)=0","(0+0)/(1)=0","(0+0)/(1)=0","(0+187500)/(1)=187500","(0+125000)/(1)=125000","(0+125000)/(1)=125000"]
["S4","(0+62500)/(2)=31250","(0+0)/(2)=0","(0+0)/(2)=0","(0+0)/(2)=0","(0+0)/(2)=0","(62500+62500)/(2)=62500","(0+0)/(2)=0","(93750+125000)/(2)=109375","(31250+0)/(2)=15625","(187500+187500)/(2)=187500","(31250+0)/(2)=15625","(0+0)/(2)=0","(0+0)/(2)=0","(0+62500)/(2)=31250",null,null,null,null,null,"S4","(0+125000)/(1)=125000","(0+0)/(1)=0","(0+0)/(1)=0","(0+0)/(1)=0","(0+0)/(1)=0","(0+0)/(1)=0","(0+0)/(1)=0","(0+0)/(1)=0","(0+0)/(1)=0","(0+0)/(1)=0","(0+0)/(1)=0","(0+0)/(1)=0","(0+0)/(1)=0","(0+0)/(1)=0"]
["S5","(0+62500)/(2)=31250","(0+0)/(2)=0","(0+0)/(2)=0","(0+0)/(2)=0","(0+0)/(2)=0","(62500+62500)/(2)=62500","(0+0)/(2)=0","(0+0)/(2)=0","(31250+0)/(2)=15625","(187500+187500)/(2)=187500","(31250+0)/(2)=15625","(0+0)/(2)=0","(0+0)/(2)=0","(0+62500)/(2)=31250",null,null,null,null,null,"S5","(0+125000)/(1)=125000","(0+0)/(1)=0","(0+0)/(1)=0","(0+0)/(1)=0","(0+0)/(1)=0","(0+0)/(1)=0","(0+0)/(1)=0","(0+0)/(1)=0","(0+0)/(1)=0","(0+0)/(1)=0","(0+0)/(1)=0","(0+0)/(1)=0","(0+0)/(1)=0","(0+0)/(1)=0"]
["S6","(0+62500)/(2)=31250","(0+0)/(2)=0","(0+0)/(2)=0","(0+0)/(2)=0","(0+0)/(2)=0","(62500+62500)/(2)=62500","(0+0)/(2)=0","(0+0)/(2)=0","(31250+0)/(2)=15625","(187500+187500)/(2)=187500","(31250+0)/(2)=15625","(0+0)/(2)=0","(0+0)/(2)=0","(0+62500)/(2)=31250",null,null,null,null,null,"S6","(0+125000)/(1)=125000","(0+0)/(1)=0","(0+0)/(1)=0","(0+0)/(1)=0","(0+0)/(1)=0","(0+0)/(1)=0","(0+0)/(1)=0","(0+0)/(1)=0","(0+0)/(1)=0","(0+0)/(1)=0","(0+0)/(1)=0","(0+0)/(1)=0","(0+0)/(1)=0","(0+0)/(1)=0"]
["S7","(0+0)/(2)=0","(0+0)/(2)=0","(0+0)/(2)=0","(0+0)/(2)=0","(0+0)/(2)=0","(62500+62500)/(2)=62500","(0+0)/(2)=0","(0+0)/(2)=0","(0+0)/(2)=0","(187500+187500)/(2)=187500","(0+0)/(2)=0","(0+0)/(2)=0","(0+0)/(2)=0","(0+0)/(2)=0",null,null,null,null,null,"S7","(0+0)/(1)=0","(0+0)/(1)=0","(0+0)/(1)=0","(0+0)/(1)=0","(0+0)/(1)=0","(0+0)/(1)=0","(0+0)/(1)=0","(0+0)/(1)=0","(0+0)/(1)=0","(0+0)/(1)=0","(0+0)/(1)=0","(0+0)/(1)=0","(0+0)/(1)=0","(0+0)/(1)=0"]
["S8","(0+0)/(2)=0","(0+0)/(2)=0","(0+0)/(2)=0","(0+0)/(2)=0","(0+0)/(2)=0","(62500+62500)/(2)=62500","(0+0)/(2)=0","(0+0)/(2)=0","(0+0)/(2)=0","(187500+187500)/(2)=187500","(0+0)/(2)=0","(0+0)/(2)=0","(0+0)/(2)=0","(0+0)/(2)=0",null,null,null,null,null,"S8","(0+0)/(1)=0","(0+0)/(1)=0","(0+0)/(1)=0","(0+0)/(1)=0","(0+0)/(1)=0","(0+0)/(1)=0","(0+0)/(1)=0","(0+0)/(1)=0","(0+0)/(1)=0","(0+0)/(1)=0","(0+0)/(1)=0","(0+0)/(1)=0","(0+0)/(1)=0","(0+0)/(1)=0"]
["S9","(0+0)/(2)=0","(0+0)/(2)=0","(0+0)/(2)=0","(0+0)/(2)=0","(0+0)/(2)=0","(62500+62500)/(2)=62500","(0+0)/(2)=0","(0+0)/(2)=0","(0+0)/(2)=0","(187500+187500)/(2)=187500","(0+0)/(2)=0","(0+0)/(2)=0","(0+0)/(2)=0","(0+0)/(2)=0",null,null,null,null,null,"S9","(0+0)/(1)=0","(0+0)/(1)=0","(0+0)/(1)=0","(0+0)/(1)=0","(0+0)/(1)=0","(0+0)/(1)=0","(0+0)/(1)=0","(0+0)/(1)=0","(0+0)/(1)=0","(0+0)/(1)=0","(0+0)/(1)=0","(0+0)/(1)=0","(0+0)/(1)=0","(0+0)/(1)=0"]
["S10","(0+0)/(2)=0","(0+0)/(2)=0","(0+0)/(2)=0","(0+0)/(2)=0","(0+0)/(2)=0","(62500+62500)/(2)=62500","(0+0)/(2)=0","(0+0)/(2)=0","(0+0)/(2)=0","(187500+187500)/(2)=187500","(0+0)/(2)=0","(0+0)/(2)=0","(0+0)/(2)=0","(0+0)/(2)=0",null,null,null,null,null,"S10","(0+0)/(1)=0","(0+0)/(1)=0","(0+0)/(1)=0","(0+0)/(1)=0","(0+0)/(1)=0","(0+0)/(1)=0","(0+0)/(1)=0","(0+0)/(1)=0","(0+0)/(1)=0","(0+0)/(1)=0","(0+0)/(1)=0","(0+0)/(1)=0","(0+0)/(1)=0","(0+0)/(1)=0"]
["S11","(0+0)/(2)=0","(0+0)/(2)=0","(0+0)/(2)=0","(0+0)/(2)=0","(0+0)/(2)=0","(62500+62500)/(2)=62500","(0+0)/(2)=0","(0+0)/(2)=0","(0+0)/(2)=0","(187500+187500)/(2)=187500","(0+0)/(2)=0","(0+0)/(2)=0","(0+0)/(2)=0","(0+0)/(2)=0",null,null,null,null,null,"S11","(0+0)/(1)=0","(0+0)/(1)=0","(0+0)/(1)=0","(0+0)/(1)=0","(0+0)/(1)=0","(0+0)/(1)=0","(0+0)/(1)=0","(0+0)/(1)=0","(0+0)/(1)=0","(0+0)/(1)=0","(0+0)/(1)=0","(0+0)/(1)=0","(0+0)/(1)=0","(0+0)/(1)=0"]
["S12","(0+0)/(2)=0","(0+0)/(2)=0","(0+0)/(2)=0","(0+0)/(2)=0","(0+0)/(2)=0","(62500+0)/(2)=31250","(0+0)/(2)=0","(0+0)/(2)=0","(0+0)/(2)=0","(0+0)/(2)=0","(0+0)/(2)=0","(0+0)/(2)=0","(0+0)/(2)=0","(0+0)/(2)=0",null,null,null,null,null,"S12","(0+0)/(1)=0","(0+0)/(1)=0","(0+0)/(1)=0","(0+0)/(1)=0","(0+0)/(1)=0","(0+0)/(1)=0","(0+0)/(1)=0","(0+0)/(1)=0","(0+0)/(1)=0","(0+0)/(1)=0","(0+0)/(1)=0","(0+0)/(1)=0","(0+0)/(1)=0","(0+0)/(1)=0"]
["S13","(0+0)/(2)=0","(0+0)/(2)=0","(0+0)/(2)=0","(0+0)/(2)=0","(0+0)/(2)=0","(0+0)/(2)=0","(0+0)/(2)=0","(0+0)/(2)=0","(0+0)/(2)=0","(0+0)/(2)=0","(0+0)/(2)=0","(0+0)/(2)=0","(0+0)/(2)=0","(0+0)/(2)=0",null,null,null,null,null,"S13","(0+0)/(1)=0","(0+0)/(1)=0","(0+0)/(1)=0","(0+0)/(1)=0","(0+0)/(1)=0","(0+0)/(1)=0","(0+0)/(1)=0","(0+0)/(1)=0","(0+0)/(1)=0","(0+0)/(1)=0","(0+0)/(1)=0","(0+0)/(1)=0","(0+0)/(1)=0","(0+0)/(1)=0"]
["S14","(0+0)/(2)=0","(0+0)/(2)=0","(0+0)/(2)=0","(0+0)/(2)=0","(0+0)/(2)=0","(0+0)/(2)=0","(0+0)/(2)=0","(0+0)/(2)=0","(0+0)/(2)=0","(0+0)/(2)=0","(0+0)/(2)=0","(0+0)/(2)=0","(0+0)/(2)=0","(0+0)/(2)=0",null,null,null,null,null,"S14","(0+0)/(1)=0","(0+0)/(1)=0","(0+0)/(1)=0","(0+0)/(1)=0","(0+0)/(1)=0","(0+0)/(1)=0","(0+0)/(1)=0","(0+0)/(1)=0","(0+0)/(1)=0","(0+0)/(1)=0","(0+0)/(1)=0","(0+0)/(1)=0","(0+0)/(1)=0","(0+0)/(1)=0"]
["S15","(0+0)/(2)=0","(0+0)/(2)=0","(0+0)/(2)=0","(0+0)/(2)=0","(0+0)/(2)=0","(0+0)/(2)=0","(0+0)/(2)=0","(0+0)/(2)=0","(0+0)/(2)=0","(0+0)/(2)=0","(0+0)/(2)=0","(0+0)/(2)=0","(0+0)/(2)=0","(0+0)/(2)=0",null,null,null,null,null,"S15","(0+0)/(1)=0","(0+0)/(1)=0","(0+0)/(1)=0","(0+0)/(1)=0","(0+0)/(1)=0","(0+0)/(1)=0","(0+0)/(1)=0","(0+0)/(1)=0","(0+0)/(1)=0","(0+0)/(1)=0","(0+0)/(1)=0","(0+0)/(1)=0","(0+0)/(1)=0","(0+0)/(1)=0"]
["S16","(0+0)/(2)=0","(0+0)/(2)=0","(0+0)/(2)=0","(0+0)/(2)=0","(0+0)/(2)=0","(0+0)/(2)=0","(0+0)/(2)=0","(0+0)/(2)=0","(0+0)/(2)=0","(0+0)/(2)=0","(0+0)/(2)=0","(0+0)/(2)=0","(0+0)/(2)=0","(0+0)/(2)=0",null,null,null,null,null,"S16","(0+0)/(1)=0","(0+0)/(1)=0","(0+0)/(1)=0","(0+0)/(1)=0","(0+0)/(1)=0","(0+0)/(1)=0","(0+0)/(1)=0","(0+0)/(1)=0","(0+0)/(1)=0","(0+0)/(1)=0","(0+0)/(1)=0","(0+0)/(1)=0","(0+0)/(1)=0","(0+0)/(1)=0"]
[]
["L�pcs�k(2)",{"$f":"B21&B22","v":"directmax"},{"$f":"C21&C22","v":"directmin"},"directavg","directstddev","directmedian","directkvart_1","directkvart_3","inversemax","inversemin","inverseavg","inversestddev","inversemedian","inversekvart_1","inversekvart_3",null,"correlation",null,null,null,"L�pcs�k(2)",{"$f":"B83","v":"directmax"},{"$f":"C83","v":"directmin"},"directavg","directstddev","directmedian","directkvart_1","directkvart_3","inversemax","inversemin","inverseavg","inversestddev","inversemedian","inversekvart_1","inversekvart_3"]
["S1",31250,343750,0,0,312500,328125,390625,296875,140625,187500,218750,0,31250,125000,null,{"$f":"CORREL(B84:O99,'pre3'!V84:AI99)","v":-0.18737505816287622},null,null,null,"S1",187500,375000,125000,312500,312500,437500,0,500000,375000,0,437500,187500,187500,125000]
["S2",31250,0,0,0,312500,62500,390625,109375,15625,187500,15625,0,0,125000,null,null,null,null,null,"S2",125000,62500,0,312500,312500,0,0,500000,0,0,0,187500,187500,125000]
["S3",31250,0,0,0,0,62500,0,109375,15625,187500,15625,0,0,125000,null,null,null,null,null,"S3",125000,62500,0,312500,0,0,0,500000,0,0,0,187500,125000,125000]
["S4",31250,0,0,0,0,62500,0,109375,15625,187500,15625,0,0,31250,null,null,null,null,null,"S4",125000,0,0,0,0,0,0,0,0,0,0,0,0,0]
["S5",31250,0,0,0,0,62500,0,0,15625,187500,15625,0,0,31250,null,null,null,null,null,"S5",125000,0,0,0,0,0,0,0,0,0,0,0,0,0]
["S6",31250,0,0,0,0,62500,0,0,15625,187500,15625,0,0,31250,null,null,null,null,null,"S6",125000,0,0,0,0,0,0,0,0,0,0,0,0,0]
["S7",0,0,0,0,0,62500,0,0,0,187500,0,0,0,0,null,null,null,null,null,"S7",0,0,0,0,0,0,0,0,0,0,0,0,0,0]
["S8",0,0,0,0,0,62500,0,0,0,187500,0,0,0,0,null,null,null,null,null,"S8",0,0,0,0,0,0,0,0,0,0,0,0,0,0]
["S9",0,0,0,0,0,62500,0,0,0,187500,0,0,0,0,null,null,null,null,null,"S9",0,0,0,0,0,0,0,0,0,0,0,0,0,0]
["S10",0,0,0,0,0,62500,0,0,0,187500,0,0,0,0,null,null,null,null,null,"S10",0,0,0,0,0,0,0,0,0,0,0,0,0,0]
["S11",0,0,0,0,0,62500,0,0,0,187500,0,0,0,0,null,null,null,null,null,"S11",0,0,0,0,0,0,0,0,0,0,0,0,0,0]
["S12",0,0,0,0,0,31250,0,0,0,0,0,0,0,0,null,null,null,null,null,"S12",0,0,0,0,0,0,0,0,0,0,0,0,0,0]
["S13",0,0,0,0,0,0,0,0,0,0,0,0,0,0,null,null,null,null,null,"S13",0,0,0,0,0,0,0,0,0,0,0,0,0,0]
["S14",0,0,0,0,0,0,0,0,0,0,0,0,0,0,null,null,null,null,null,"S14",0,0,0,0,0,0,0,0,0,0,0,0,0,0]
["S15",0,0,0,0,0,0,0,0,0,0,0,0,0,0,null,null,null,null,null,"S15",0,0,0,0,0,0,0,0,0,0,0,0,0,0]
["S16",0,0,0,0,0,0,0,0,0,0,0,0,0,0,null,null,null,null,null,"S16",0,0,0,0,0,0,0,0,0,0,0,0,0,0]
[]
["COCO:STD","X(A1)","X(A2)","X(A3)","X(A4)","X(A5)","X(A6)","X(A7)","X(A8)","X(A9)","X(A10)","X(A11)","X(A12)","X(A13)","X(A14)","Becsl�s","T�ny+0","Delta","Delta/T�ny",null,"COCO:STD","X(A1)","X(A2)","X(A3)","X(A4)","X(A5)","X(A6)","X(A7)","X(A8)","X(A9)","X(A10)","X(A11)","X(A12)","X(A13)","X(A14)","Becsl�s","T�ny+0","Delta","Delta/T�ny"]
["O1",0,0,0,0,0,0,0,109375,15625,187500,0,0,0,0,312500,312500,0,0,null,"O1",0,0,0,0,0,0,0,500000,0,0,0,0,187500,0,687500,687500,0,0]
["O2",0,0,0,0,0,62500,0,0,0,187500,0,0,0,125000,375000,375000,0,0,null,"O2",0,0,0,0,0,0,0,0,0,0,0,187500,0,125000,312500,312500,0,0]
["O3",0,0,0,0,0,0,0,0,0,187500,0,0,0,0,187500,187500,0,0,null,"O3",0,62500,0,312500,0,0,0,0,0,0,0,0,125000,0,500000,500000,0,0]
["O4",0,0,0,0,0,31250,0,109375,15625,187500,0,0,0,31250,375000,375000,0,0,null,"O4",0,0,0,312500,0,0,0,0,0,0,0,0,0,0,312500,312500,0,0]
["O5",31250,0,0,0,0,0,0,0,0,187500,0,0,31250,125000,375000,375000,0,0,null,"O5",125000,0,0,0,0,0,0,0,0,0,0,0,187500,125000,437500,437500,0,0]
["O6",0,0,0,0,312500,62500,0,0,0,0,0,0,0,0,375000,375000,0,0,null,"O6",0,0,125000,0,312500,0,0,0,0,0,0,0,0,0,437500,437500,0,0]
["O7",0,0,0,0,0,62500,0,296875,0,0,15625,0,0,0,375000,375000,0,0,null,"O7",0,0,0,0,0,0,0,500000,0,0,0,0,0,0,500000,500000,0,0]
["O8",31250,0,0,0,0,62500,0,0,15625,187500,15625,0,0,125000,437500,437500,0,0,null,"O8",125000,0,0,0,0,0,0,0,0,0,0,187500,0,125000,437500,437500,0,0]
["O9",31250,343750,0,0,0,62500,0,0,0,0,0,0,0,0,437500,437500,0,0,null,"O9",125000,375000,0,0,0,0,0,0,0,0,0,0,0,0,500000,500000,0,0]
["O10",31250,0,0,0,0,328125,0,0,0,0,15625,0,0,0,375000,375000,0,0,null,"O10",125000,0,0,0,0,437500,0,0,0,0,0,0,0,0,562500,562500,0,0]
["O11",0,0,0,0,0,62500,0,0,0,187500,0,0,0,0,250000,250000,0,0,null,"O11",0,62500,0,0,0,0,0,0,0,0,0,187500,0,0,250000,250000,0,0]
["O12",0,0,0,0,0,62500,0,109375,0,187500,15625,0,0,0,375000,375000,0,0,null,"O12",0,0,0,0,0,0,0,500000,0,0,0,0,0,0,500000,500000,0,0]
["O13",0,0,0,0,0,62500,0,0,0,187500,218750,0,0,31250,500000,500000,0,0,null,"O13",0,0,0,0,0,0,0,0,0,0,437500,0,0,0,437500,437500,0,0]
["O14",31250,0,0,0,312500,62500,390625,0,15625,187500,0,0,0,0,1000000,1000000,0,0,null,"O14",125000,0,0,0,312500,0,0,0,0,0,0,0,0,0,437500,437500,0,0]
["O15",0,0,0,0,0,62500,0,0,140625,187500,15625,0,0,31250,437500,437500,0,0,null,"O15",0,0,0,0,0,0,0,0,375000,0,0,0,0,0,375000,375000,0,0]
["O16",31250,0,0,0,0,0,390625,0,15625,0,0,0,0,0,437500,437500,0,0,null,"O16",187500,0,0,312500,0,0,0,0,0,0,0,0,0,0,500000,500000,0,0]
[]
["S1 �sszeg:",2406250,null,null,null,null,null,null,null,null,null,null,null,null,null,null,null,null,null,null,"S1 �sszeg:",3562500]
["S16 �sszeg:",0,null,null,null,null,null,null,null,null,null,null,null,null,null,null,null,null,null,null,"S16 �sszeg:",0]
["Becsl�s �sszeg:",6625000,null,null,null,null,null,null,null,null,null,null,null,null,null,null,null,null,null,null,"Becsl�s �sszeg:",7187500]
["T�ny �sszeg:",6625000,null,null,null,null,null,null,null,null,null,null,null,null,null,null,null,null,null,null,"T�ny �sszeg:",7187500]
["T�ny-becsl�s elt�r�s:",0,null,null,null,null,null,null,null,null,null,null,null,null,null,null,null,null,null,null,"T�ny-becsl�s elt�r�s:",0]
["T�ny n�gyzet�sszeg:",null,null,null,null,null,null,null,null,null,null,null,null,null,null,null,null,null,null,null,"T�ny n�gyzet�sszeg:"]
["Becsl�s n�gyzet�sszeg:",null,null,null,null,null,null,null,null,null,null,null,null,null,null,null,null,null,null,null,"Becsl�s n�gyzet�sszeg:"]
["N�gyzet�sszeg hiba:",0,null,null,null,null,null,null,null,null,null,null,null,null,null,null,null,null,null,null,"N�gyzet�sszeg hiba:",0]
[]
["Open url",null,null,null,null,null,null,null,null,null,null,null,null,null,null,null,null,null,null,null,"Open url"]
[]
["Maxim�lis mem�ria haszn�lat: 1.4 Mb",null,null,null,null,null,null,null,null,null,null,null,null,null,null,null,null,null,null,null,"Maxim�lis mem�ria haszn�lat: 1.4 Mb"]
["A futtat�s id�tartama: 0.13 mp (0 p)",null,null,null,null,null,null,null,null,null,null,null,null,null,null,null,null,null,null,null,"A futtat�s id�tartama: 0.07 mp (0 p)"]

{"sheet":"pre3","index":21,"n_rows":205,"n_cols":55,"rows_kept":205,"cut":false,"hidden":false,"merged":[]}
[null,"pre2","pre2","pre2","pre2","pre2","pre2","pre2","pre1","pre1","pre1","pre1","pre1","pre1","pre1","pre1","pre1","pre1","pre1","pre1","pre1","pre1","pre1","online",null,null,null,null,null,{"$f":"B1","v":"pre2"},{"$f":"C1","v":"pre2"},{"$f":"D1","v":"pre2"},{"$f":"E1","v":"pre2"},{"$f":"F1","v":"pre2"},{"$f":"G1","v":"pre2"},{"$f":"H1","v":"pre2"},{"$f":"I1","v":"pre1"},{"$f":"J1","v":"pre1"},{"$f":"K1","v":"pre1"},{"$f":"L1","v":"pre1"},{"$f":"M1","v":"pre1"},{"$f":"N1","v":"pre1"},{"$f":"O1","v":"pre1"},{"$f":"P1","v":"pre1"},{"$f":"Q1","v":"pre1"},{"$f":"R1","v":"pre1"},{"$f":"S1","v":"pre1"},{"$f":"T1","v":"pre1"},{"$f":"U1","v":"pre1"},{"$f":"V1","v":"pre1"},{"$f":"W1","v":"pre1"},"ms-excel"]
[null,{"$f":"'pre2'!B21","v":"direct"},{"$f":"'pre2'!C21","v":"direct"},{"$f":"'pre2'!D21","v":"direct"},{"$f":"'pre2'!E21","v":"direct"},{"$f":"'pre2'!F21","v":"direct"},{"$f":"'pre2'!G21","v":"direct"},{"$f":"'pre2'!H21","v":"direct"},{"$f":"oam_pre_validity!B1","v":"direct"},{"$f":"oam_pre_validity!C1","v":"direct"},{"$f":"oam_pre_validity!D1","v":"direct"},{"$f":"oam_pre_validity!E1","v":"direct"},{"$f":"oam_pre_validity!F1","v":"direct"},{"$f":"oam_pre_validity!G1","v":"inverse"},{"$f":"oam_pre_validity!H1","v":"inverse"},{"$f":"oam_pre_validity!I1","v":"inverse"},{"$f":"oam_pre_validity!J1","v":"inverse"},{"$f":"oam_pre_validity!K1","v":"inverse"},{"$f":"oam_pre_validity!L1","v":"delta"},{"$f":"oam_pre_validity!M1","v":"delta"},{"$f":"oam_pre_validity!N1","v":"delta"},{"$f":"oam_pre_validity!O1","v":"delta"},{"$f":"oam_pre_validity!P1","v":"delta"},{"$f":"oam_pre_validity!Q1","v":"Y"},null,null,null,null,null,"direct","direct","direct","direct","direct","direct","direct","direct","direct","direct","direct","direct","inverse","inverse","inverse","inverse","inverse","delta","delta","delta","delta","delta",{"$f":"X2","v":"Y"}]
[null,{"$f":"'pre2'!B22","v":"max"},{"$f":"'pre2'!C22","v":"min"},{"$f":"'pre2'!D22","v":"avg"},{"$f":"'pre2'!E22","v":"stddev"},{"$f":"'pre2'!F22","v":"median"},{"$f":"'pre2'!G22","v":"kvart_1"},{"$f":"'pre2'!H22","v":"kvart_3"},{"$f":"oam_pre_validity!B2","v":"max"},{"$f":"oam_pre_validity!C2","v":"min"},{"$f":"oam_pre_validity!D2","v":"avg"},{"$f":"oam_pre_validity!E2","v":"stddev"},{"$f":"oam_pre_validity!F2","v":"median"},{"$f":"oam_pre_validity!G2","v":"max"},{"$f":"oam_pre_validity!H2","v":"min"},{"$f":"oam_pre_validity!I2","v":"avg"},{"$f":"oam_pre_validity!J2","v":"stddev"},{"$f":"oam_pre_validity!K2","v":"median"},{"$f":"oam_pre_validity!L2","v":"max"},{"$f":"oam_pre_validity!M2","v":"min"},{"$f":"oam_pre_validity!N2","v":"avg"},{"$f":"oam_pre_validity!O2","v":"stddev"},{"$f":"oam_pre_validity!P2","v":"median"},{"$f":"oam_pre_validity!Q2","v":"validity ratio"},"estimation","delta",null,null,null,"max","min","avg","stddev","median","kvart_1","kvart_3","max","min","avg","stddev","median","max","min","avg","stddev","median","max","min","avg","stddev","median","validity ratio","estimation","delta"]
[{"$f":"'pre2'!A23","v":"O1"},{"$f":"'pre2'!B23","v":15},{"$f":"'pre2'!C23","v":13},{"$f":"'pre2'!D23","v":11},{"$f":"'pre2'!E23","v":9},{"$f":"'pre2'!F23","v":12},{"$f":"'pre2'!G23","v":15},{"$f":"'pre2'!H23","v":6},{"$f":"oam_pre_validity!B23","v":2},{"$f":"oam_pre_validity!C23","v":15},{"$f":"oam_pre_validity!D23","v":15},{"$f":"oam_pre_validity!E23","v":2},{"$f":"oam_pre_validity!F23","v":16},{"$f":"oam_pre_validity!G23","v":1},{"$f":"oam_pre_validity!H23","v":14},{"$f":"oam_pre_validity!I23","v":15},{"$f":"oam_pre_validity!J23","v":4},{"$f":"oam_pre_validity!K23","v":16},{"$f":"oam_pre_validity!L23","v":1},{"$f":"oam_pre_validity!M23","v":1},{"$f":"oam_pre_validity!N23","v":3},{"$f":"oam_pre_validity!O23","v":2},{"$f":"oam_pre_validity!P23","v":4},{"$f":"oam_pre_validity!Q23","v":312500},{"$f":"INT(X82)","v":312499},{"$f":"X4-Y4","v":1},null,null,{"$f":"A4","v":"O1"},15,13,11,9,12,15,6,2,15,15,2,16,1,14,15,4,16,1,1,3,2,4,{"$f":"'pre2'!AI23","v":687500},{"$f":"INT(AZ82)","v":687500},{"$f":"AZ4-BA4","v":0}]
[{"$f":"'pre2'!A24","v":"O2"},{"$f":"'pre2'!B24","v":10},{"$f":"'pre2'!C24","v":8},{"$f":"'pre2'!D24","v":16},{"$f":"'pre2'!E24","v":6},{"$f":"'pre2'!F24","v":16},{"$f":"'pre2'!G24","v":8},{"$f":"'pre2'!H24","v":16},{"$f":"oam_pre_validity!B24","v":3},{"$f":"oam_pre_validity!C24","v":11},{"$f":"oam_pre_validity!D24","v":11},{"$f":"oam_pre_validity!E24","v":6},{"$f":"oam_pre_validity!F24","v":7},{"$f":"oam_pre_validity!G24","v":2},{"$f":"oam_pre_validity!H24","v":11},{"$f":"oam_pre_validity!I24","v":9},{"$f":"oam_pre_validity!J24","v":6},{"$f":"oam_pre_validity!K24","v":8},{"$f":"oam_pre_validity!L24","v":4},{"$f":"oam_pre_validity!M24","v":8},{"$f":"oam_pre_validity!N24","v":7},{"$f":"oam_pre_validity!O24","v":5},{"$f":"oam_pre_validity!P24","v":11},{"$f":"oam_pre_validity!Q24","v":375000},{"$f":"INT(X83)","v":374999},{"$f":"X5-Y5","v":1},null,null,"O2",10,8,16,6,16,8,16,3,11,11,6,7,2,11,9,6,8,4,8,7,5,11,{"$f":"'pre2'!AI24","v":312500},{"$f":"INT(AZ83)","v":312500},{"$f":"AZ5-BA5","v":0}]
[{"$f":"'pre2'!A25","v":"O3"},{"$f":"'pre2'!B25","v":12},{"$f":"'pre2'!C25","v":3},{"$f":"'pre2'!D25","v":14},{"$f":"'pre2'!E25","v":3},{"$f":"'pre2'!F25","v":9},{"$f":"'pre2'!G25","v":14},{"$f":"'pre2'!H25","v":10},{"$f":"oam_pre_validity!B25","v":14},{"$f":"oam_pre_validity!C25","v":2},{"$f":"oam_pre_validity!D25","v":1},{"$f":"oam_pre_validity!E25","v":9},{"$f":"oam_pre_validity!F25","v":1},{"$f":"oam_pre_validity!G25","v":16},{"$f":"oam_pre_validity!H25","v":4},{"$f":"oam_pre_validity!I25","v":2},{"$f":"oam_pre_validity!J25","v":10},{"$f":"oam_pre_validity!K25","v":2},{"$f":"oam_pre_validity!L25","v":11},{"$f":"oam_pre_validity!M25","v":1},{"$f":"oam_pre_validity!N25","v":4},{"$f":"oam_pre_validity!O25","v":7},{"$f":"oam_pre_validity!P25","v":7},{"$f":"oam_pre_validity!Q25","v":187500},187499,1,null,null,"O3",12,3,14,3,9,14,10,14,2,1,9,1,16,4,2,10,2,11,1,4,7,7,{"$f":"'pre2'!AI25","v":500000},500000,0]
[{"$f":"'pre2'!A26","v":"O4"},{"$f":"'pre2'!B26","v":13},{"$f":"'pre2'!C26","v":14},{"$f":"'pre2'!D26","v":9},{"$f":"'pre2'!E26","v":2},{"$f":"'pre2'!F26","v":10},{"$f":"'pre2'!G26","v":12},{"$f":"'pre2'!H26","v":11},{"$f":"oam_pre_validity!B26","v":9},{"$f":"oam_pre_validity!C26","v":16},{"$f":"oam_pre_validity!D26","v":14},{"$f":"oam_pre_validity!E26","v":7},{"$f":"oam_pre_validity!F26","v":12},{"$f":"oam_pre_validity!G26","v":11},{"$f":"oam_pre_validity!H26","v":15},{"$f":"oam_pre_validity!I26","v":14},{"$f":"oam_pre_validity!J26","v":7},{"$f":"oam_pre_validity!K26","v":14},{"$f":"oam_pre_validity!L26","v":13},{"$f":"oam_pre_validity!M26","v":15},{"$f":"oam_pre_validity!N26","v":15},{"$f":"oam_pre_validity!O26","v":9},{"$f":"oam_pre_validity!P26","v":14},{"$f":"oam_pre_validity!Q26","v":375000},375000,0,null,null,"O4",13,14,9,2,10,12,11,9,16,14,7,12,11,15,14,7,14,13,15,15,9,14,{"$f":"'pre2'!AI26","v":312500},312500,0]
[{"$f":"'pre2'!A27","v":"O5"},{"$f":"'pre2'!B27","v":2},{"$f":"'pre2'!C27","v":10},{"$f":"'pre2'!D27","v":15},{"$f":"'pre2'!E27","v":7},{"$f":"'pre2'!F27","v":11},{"$f":"'pre2'!G27","v":16},{"$f":"'pre2'!H27","v":15},{"$f":"oam_pre_validity!B27","v":15},{"$f":"oam_pre_validity!C27","v":13},{"$f":"oam_pre_validity!D27","v":13},{"$f":"oam_pre_validity!E27","v":11},{"$f":"oam_pre_validity!F27","v":11},{"$f":"oam_pre_validity!G27","v":12},{"$f":"oam_pre_validity!H27","v":8},{"$f":"oam_pre_validity!I27","v":12},{"$f":"oam_pre_validity!J27","v":8},{"$f":"oam_pre_validity!K27","v":10},{"$f":"oam_pre_validity!L27","v":3},{"$f":"oam_pre_validity!M27","v":11},{"$f":"oam_pre_validity!N27","v":11},{"$f":"oam_pre_validity!O27","v":1},{"$f":"oam_pre_validity!P27","v":12},{"$f":"oam_pre_validity!Q27","v":375000},374999,1,null,null,"O5",2,10,15,7,11,16,15,15,13,13,11,11,12,8,12,8,10,3,11,11,1,12,{"$f":"'pre2'!AI27","v":437500},437500,0]
[{"$f":"'pre2'!A28","v":"O6"},{"$f":"'pre2'!B28","v":7},{"$f":"'pre2'!C28","v":6},{"$f":"'pre2'!D28","v":1},{"$f":"'pre2'!E28","v":10},{"$f":"'pre2'!F28","v":1},{"$f":"'pre2'!G28","v":2},{"$f":"'pre2'!H28","v":3},{"$f":"oam_pre_validity!B28","v":4},{"$f":"oam_pre_validity!C28","v":1},{"$f":"oam_pre_validity!D28","v":9},{"$f":"oam_pre_validity!E28","v":14},{"$f":"oam_pre_validity!F28","v":15},{"$f":"oam_pre_validity!G28","v":9},{"$f":"oam_pre_validity!H28","v":6},{"$f":"oam_pre_validity!I28","v":10},{"$f":"oam_pre_validity!J28","v":14},{"$f":"oam_pre_validity!K28","v":15},{"$f":"oam_pre_validity!L28","v":15},{"$f":"oam_pre_validity!M28","v":12},{"$f":"oam_pre_validity!N28","v":9},{"$f":"oam_pre_validity!O28","v":12},{"$f":"oam_pre_validity!P28","v":5},{"$f":"oam_pre_validity!Q28","v":375000},374999,1,null,null,"O6",7,6,1,10,1,2,3,4,1,9,14,15,9,6,10,14,15,15,12,9,12,5,{"$f":"'pre2'!AI28","v":437500},437500,0]
[{"$f":"'pre2'!A29","v":"O7"},{"$f":"'pre2'!B29","v":16},{"$f":"'pre2'!C29","v":7},{"$f":"'pre2'!D29","v":4},{"$f":"'pre2'!E29","v":14},{"$f":"'pre2'!F29","v":5},{"$f":"'pre2'!G29","v":3},{"$f":"'pre2'!H29","v":4},{"$f":"oam_pre_validity!B29","v":6},{"$f":"oam_pre_validity!C29","v":7},{"$f":"oam_pre_validity!D29","v":6},{"$f":"oam_pre_validity!E29","v":8},{"$f":"oam_pre_validity!F29","v":9},{"$f":"oam_pre_validity!G29","v":3},{"$f":"oam_pre_validity!H29","v":3},{"$f":"oam_pre_validity!I29","v":5},{"$f":"oam_pre_validity!J29","v":9},{"$f":"oam_pre_validity!K29","v":6},{"$f":"oam_pre_validity!L29","v":16},{"$f":"oam_pre_validity!M29","v":9},{"$f":"oam_pre_validity!N29","v":10},{"$f":"oam_pre_validity!O29","v":15},{"$f":"oam_pre_validity!P29","v":8},{"$f":"oam_pre_validity!Q29","v":375000},374999,1,null,null,"O7",16,7,4,14,5,3,4,6,7,6,8,9,3,3,5,9,6,16,9,10,15,8,{"$f":"'pre2'!AI29","v":500000},500000,0]
[{"$f":"'pre2'!A30","v":"O8"},{"$f":"'pre2'!B30","v":6},{"$f":"'pre2'!C30","v":11},{"$f":"'pre2'!D30","v":13},{"$f":"'pre2'!E30","v":11},{"$f":"'pre2'!F30","v":14},{"$f":"'pre2'!G30","v":10},{"$f":"'pre2'!H30","v":14},{"$f":"oam_pre_validity!B30","v":7},{"$f":"oam_pre_validity!C30","v":6},{"$f":"oam_pre_validity!D30","v":10},{"$f":"oam_pre_validity!E30","v":3},{"$f":"oam_pre_validity!F30","v":8},{"$f":"oam_pre_validity!G30","v":4},{"$f":"oam_pre_validity!H30","v":7},{"$f":"oam_pre_validity!I30","v":11},{"$f":"oam_pre_validity!J30","v":2},{"$f":"oam_pre_validity!K30","v":12},{"$f":"oam_pre_validity!L30","v":9},{"$f":"oam_pre_validity!M30","v":1},{"$f":"oam_pre_validity!N30","v":12},{"$f":"oam_pre_validity!O30","v":13},{"$f":"oam_pre_validity!P30","v":15},{"$f":"oam_pre_validity!Q30","v":437500},437499,1,null,null,"O8",6,11,13,11,14,10,14,7,6,10,3,8,4,7,11,2,12,9,1,12,13,15,{"$f":"'pre2'!AI30","v":437500},437500,0]
[{"$f":"'pre2'!A31","v":"O9"},{"$f":"'pre2'!B31","v":5},{"$f":"'pre2'!C31","v":1},{"$f":"'pre2'!D31","v":3},{"$f":"'pre2'!E31","v":5},{"$f":"'pre2'!F31","v":7},{"$f":"'pre2'!G31","v":4},{"$f":"'pre2'!H31","v":5},{"$f":"oam_pre_validity!B31","v":1},{"$f":"oam_pre_validity!C31","v":9},{"$f":"oam_pre_validity!D31","v":7},{"$f":"oam_pre_validity!E31","v":1},{"$f":"oam_pre_validity!F31","v":2},{"$f":"oam_pre_validity!G31","v":5},{"$f":"oam_pre_validity!H31","v":16},{"$f":"oam_pre_validity!I31","v":8},{"$f":"oam_pre_validity!J31","v":1},{"$f":"oam_pre_validity!K31","v":5},{"$f":"oam_pre_validity!L31","v":10},{"$f":"oam_pre_validity!M31","v":14},{"$f":"oam_pre_validity!N31","v":14},{"$f":"oam_pre_validity!O31","v":14},{"$f":"oam_pre_validity!P31","v":10},{"$f":"oam_pre_validity!Q31","v":437500},437499,1,null,null,"O9",5,1,3,5,7,4,5,1,9,7,1,2,5,16,8,1,5,10,14,14,14,10,{"$f":"'pre2'!AI31","v":500000},500000,0]
[{"$f":"'pre2'!A32","v":"O10"},{"$f":"'pre2'!B32","v":3},{"$f":"'pre2'!C32","v":9},{"$f":"'pre2'!D32","v":2},{"$f":"'pre2'!E32","v":12},{"$f":"'pre2'!F32","v":3},{"$f":"'pre2'!G32","v":1},{"$f":"'pre2'!H32","v":9},{"$f":"oam_pre_validity!B32","v":11},{"$f":"oam_pre_validity!C32","v":12},{"$f":"oam_pre_validity!D32","v":16},{"$f":"oam_pre_validity!E32","v":5},{"$f":"oam_pre_validity!F32","v":13},{"$f":"oam_pre_validity!G32","v":8},{"$f":"oam_pre_validity!H32","v":10},{"$f":"oam_pre_validity!I32","v":16},{"$f":"oam_pre_validity!J32","v":3},{"$f":"oam_pre_validity!K32","v":11},{"$f":"oam_pre_validity!L32","v":7},{"$f":"oam_pre_validity!M32","v":1},{"$f":"oam_pre_validity!N32","v":5},{"$f":"oam_pre_validity!O32","v":8},{"$f":"oam_pre_validity!P32","v":6},{"$f":"oam_pre_validity!Q32","v":375000},374999,1,null,null,"O10",3,9,2,12,3,1,9,11,12,16,5,13,8,10,16,3,11,7,1,5,8,6,{"$f":"'pre2'!AI32","v":562500},562500,0]
[{"$f":"'pre2'!A33","v":"O11"},{"$f":"'pre2'!B33","v":9},{"$f":"'pre2'!C33","v":2},{"$f":"'pre2'!D33","v":12},{"$f":"'pre2'!E33","v":8},{"$f":"'pre2'!F33","v":15},{"$f":"'pre2'!G33","v":9},{"$f":"'pre2'!H33","v":7},{"$f":"oam_pre_validity!B33","v":8},{"$f":"oam_pre_validity!C33","v":9},{"$f":"oam_pre_validity!D33","v":5},{"$f":"oam_pre_validity!E33","v":12},{"$f":"oam_pre_validity!F33","v":6},{"$f":"oam_pre_validity!G33","v":7},{"$f":"oam_pre_validity!H33","v":13},{"$f":"oam_pre_validity!I33","v":7},{"$f":"oam_pre_validity!J33","v":13},{"$f":"oam_pre_validity!K33","v":4},{"$f":"oam_pre_validity!L33","v":5},{"$f":"oam_pre_validity!M33","v":1},{"$f":"oam_pre_validity!N33","v":2},{"$f":"oam_pre_validity!O33","v":6},{"$f":"oam_pre_validity!P33","v":2},{"$f":"oam_pre_validity!Q33","v":250000},250000,0,null,null,"O11",9,2,12,8,15,9,7,8,9,5,12,6,7,13,7,13,4,5,1,2,6,2,{"$f":"'pre2'!AI33","v":250000},250000,0]
[{"$f":"'pre2'!A34","v":"O12"},{"$f":"'pre2'!B34","v":14},{"$f":"'pre2'!C34","v":4},{"$f":"'pre2'!D34","v":7},{"$f":"'pre2'!E34","v":13},{"$f":"'pre2'!F34","v":4},{"$f":"'pre2'!G34","v":5},{"$f":"'pre2'!H34","v":8},{"$f":"oam_pre_validity!B34","v":5},{"$f":"oam_pre_validity!C34","v":14},{"$f":"oam_pre_validity!D34","v":12},{"$f":"oam_pre_validity!E34","v":4},{"$f":"oam_pre_validity!F34","v":14},{"$f":"oam_pre_validity!G34","v":6},{"$f":"oam_pre_validity!H34","v":9},{"$f":"oam_pre_validity!I34","v":13},{"$f":"oam_pre_validity!J34","v":5},{"$f":"oam_pre_validity!K34","v":13},{"$f":"oam_pre_validity!L34","v":14},{"$f":"oam_pre_validity!M34","v":13},{"$f":"oam_pre_validity!N34","v":16},{"$f":"oam_pre_validity!O34","v":11},{"$f":"oam_pre_validity!P34","v":16},{"$f":"oam_pre_validity!Q34","v":375000},375000,0,null,null,"O12",14,4,7,13,4,5,8,5,14,12,4,14,6,9,13,5,13,14,13,16,11,16,{"$f":"'pre2'!AI34","v":500000},499999,1]
[{"$f":"'pre2'!A35","v":"O13"},{"$f":"'pre2'!B35","v":11},{"$f":"'pre2'!C35","v":5},{"$f":"'pre2'!D35","v":8},{"$f":"'pre2'!E35","v":16},{"$f":"'pre2'!F35","v":6},{"$f":"'pre2'!G35","v":6},{"$f":"'pre2'!H35","v":13},{"$f":"oam_pre_validity!B35","v":13},{"$f":"oam_pre_validity!C35","v":5},{"$f":"oam_pre_validity!D35","v":8},{"$f":"oam_pre_validity!E35","v":10},{"$f":"oam_pre_validity!F35","v":3},{"$f":"oam_pre_validity!G35","v":12},{"$f":"oam_pre_validity!H35","v":5},{"$f":"oam_pre_validity!I35","v":6},{"$f":"oam_pre_validity!J35","v":11},{"$f":"oam_pre_validity!K35","v":7},{"$f":"oam_pre_validity!L35","v":2},{"$f":"oam_pre_validity!M35","v":1},{"$f":"oam_pre_validity!N35","v":1},{"$f":"oam_pre_validity!O35","v":3},{"$f":"oam_pre_validity!P35","v":1},{"$f":"oam_pre_validity!Q35","v":500000},500000,0,null,null,"O13",11,5,8,16,6,6,13,13,5,8,10,3,12,5,6,11,7,2,1,1,3,1,{"$f":"'pre2'!AI35","v":437500},437500,0]
[{"$f":"'pre2'!A36","v":"O14"},{"$f":"'pre2'!B36","v":4},{"$f":"'pre2'!C36","v":12},{"$f":"'pre2'!D36","v":6},{"$f":"'pre2'!E36","v":4},{"$f":"'pre2'!F36","v":2},{"$f":"'pre2'!G36","v":11},{"$f":"'pre2'!H36","v":2},{"$f":"oam_pre_validity!B36","v":10},{"$f":"oam_pre_validity!C36","v":4},{"$f":"oam_pre_validity!D36","v":4},{"$f":"oam_pre_validity!E36","v":15},{"$f":"oam_pre_validity!F36","v":10},{"$f":"oam_pre_validity!G36","v":10},{"$f":"oam_pre_validity!H36","v":2},{"$f":"oam_pre_validity!I36","v":3},{"$f":"oam_pre_validity!J36","v":15},{"$f":"oam_pre_validity!K36","v":9},{"$f":"oam_pre_validity!L36","v":8},{"$f":"oam_pre_validity!M36","v":9},{"$f":"oam_pre_validity!N36","v":6},{"$f":"oam_pre_validity!O36","v":10},{"$f":"oam_pre_validity!P36","v":3},{"$f":"oam_pre_validity!Q36","v":1000000},1000000,0,null,null,"O14",4,12,6,4,2,11,2,10,4,4,15,10,10,2,3,15,9,8,9,6,10,3,{"$f":"'pre2'!AI36","v":437500},437500,0]
[{"$f":"'pre2'!A37","v":"O15"},{"$f":"'pre2'!B37","v":8},{"$f":"'pre2'!C37","v":16},{"$f":"'pre2'!D37","v":10},{"$f":"'pre2'!E37","v":15},{"$f":"'pre2'!F37","v":13},{"$f":"'pre2'!G37","v":7},{"$f":"'pre2'!H37","v":12},{"$f":"oam_pre_validity!B37","v":16},{"$f":"oam_pre_validity!C37","v":8},{"$f":"oam_pre_validity!D37","v":2},{"$f":"oam_pre_validity!E37","v":13},{"$f":"oam_pre_validity!F37","v":4},{"$f":"oam_pre_validity!G37","v":14},{"$f":"oam_pre_validity!H37","v":12},{"$f":"oam_pre_validity!I37","v":4},{"$f":"oam_pre_validity!J37","v":12},{"$f":"oam_pre_validity!K37","v":1},{"$f":"oam_pre_validity!L37","v":6},{"$f":"oam_pre_validity!M37","v":16},{"$f":"oam_pre_validity!N37","v":8},{"$f":"oam_pre_validity!O37","v":4},{"$f":"oam_pre_validity!P37","v":9},{"$f":"oam_pre_validity!Q37","v":437500},437500,0,null,null,"O15",8,16,10,15,13,7,12,16,8,2,13,4,14,12,4,12,1,6,16,8,4,9,{"$f":"'pre2'!AI37","v":375000},375000,0]
[{"$f":"'pre2'!A38","v":"O16"},{"$f":"'pre2'!B38","v":1},{"$f":"'pre2'!C38","v":15},{"$f":"'pre2'!D38","v":5},{"$f":"'pre2'!E38","v":1},{"$f":"'pre2'!F38","v":8},{"$f":"'pre2'!G38","v":13},{"$f":"'pre2'!H38","v":1},{"$f":"oam_pre_validity!B38","v":12},{"$f":"oam_pre_validity!C38","v":3},{"$f":"oam_pre_validity!D38","v":3},{"$f":"oam_pre_validity!E38","v":16},{"$f":"oam_pre_validity!F38","v":5},{"$f":"oam_pre_validity!G38","v":14},{"$f":"oam_pre_validity!H38","v":1},{"$f":"oam_pre_validity!I38","v":1},{"$f":"oam_pre_validity!J38","v":16},{"$f":"oam_pre_validity!K38","v":3},{"$f":"oam_pre_validity!L38","v":12},{"$f":"oam_pre_validity!M38","v":1},{"$f":"oam_pre_validity!N38","v":13},{"$f":"oam_pre_validity!O38","v":16},{"$f":"oam_pre_validity!P38","v":13},{"$f":"oam_pre_validity!Q38","v":437500},437499,1,null,null,"O16",1,15,5,1,8,13,1,12,3,3,16,5,14,1,1,16,3,12,1,13,16,13,{"$f":"'pre2'!AI38","v":500000},500000,0]
[null,null,null,null,null,null,null,null,null,null,null,null,null,null,null,null,null,null,null,null,null,null,null,{"$f":"CORREL(X4:X19,AZ4:AZ19)","v":-2.6752592626487787E-2},"correlation"]
[]
[]
[]
[]
["Azonos�t�:",8798531,"Objektumok:",16,"Attrib�tumok:",22,"Lepcs�k:",16,"Eltol�s:",0,"Le�r�s:","COCO Y0: 8798531",null,null,null,null,null,null,null,null,null,null,null,null,null,null,null,null,"Azonos�t�:",9163842,"Objektumok:",16,"Attrib�tumok:",22,"Lepcs�k:",16,"Eltol�s:",0,"Le�r�s:","COCO Y0: 9163842"]
[]
["Rangsor","X(A1)","X(A2)","X(A3)","X(A4)","X(A5)","X(A6)","X(A7)","X(A8)","X(A9)","X(A10)","X(A11)","X(A12)","X(A13)","X(A14)","X(A15)","X(A16)","X(A17)","X(A18)","X(A19)","X(A20)","X(A21)","X(A22)","Y(A23)",null,null,null,null,"Rangsor","X(A1)","X(A2)","X(A3)","X(A4)","X(A5)","X(A6)","X(A7)","X(A8)","X(A9)","X(A10)","X(A11)","X(A12)","X(A13)","X(A14)","X(A15)","X(A16)","X(A17)","X(A18)","X(A19)","X(A20)","X(A21)","X(A22)","Y(A23)"]
["O1",15,13,11,9,12,15,6,2,15,15,2,16,1,14,15,4,16,1,1,3,2,4,312500,null,null,null,null,"O1",15,13,11,9,12,15,6,2,15,15,2,16,1,14,15,4,16,1,1,3,2,4,687500]
["O2",10,8,16,6,16,8,16,3,11,11,6,7,2,11,9,6,8,4,8,7,5,11,375000,null,null,null,null,"O2",10,8,16,6,16,8,16,3,11,11,6,7,2,11,9,6,8,4,8,7,5,11,312500]
["O3",12,3,14,3,9,14,10,14,2,1,9,1,16,4,2,10,2,11,1,4,7,7,187500,null,null,null,null,"O3",12,3,14,3,9,14,10,14,2,1,9,1,16,4,2,10,2,11,1,4,7,7,500000]
["O4",13,14,9,2,10,12,11,9,16,14,7,12,11,15,14,7,14,13,15,15,9,14,375000,null,null,null,null,"O4",13,14,9,2,10,12,11,9,16,14,7,12,11,15,14,7,14,13,15,15,9,14,312500]
["O5",2,10,15,7,11,16,15,15,13,13,11,11,12,8,12,8,10,3,11,11,1,12,375000,null,null,null,null,"O5",2,10,15,7,11,16,15,15,13,13,11,11,12,8,12,8,10,3,11,11,1,12,437500]
["O6",7,6,1,10,1,2,3,4,1,9,14,15,9,6,10,14,15,15,12,9,12,5,375000,null,null,null,null,"O6",7,6,1,10,1,2,3,4,1,9,14,15,9,6,10,14,15,15,12,9,12,5,437500]
["O7",16,7,4,14,5,3,4,6,7,6,8,9,3,3,5,9,6,16,9,10,15,8,375000,null,null,null,null,"O7",16,7,4,14,5,3,4,6,7,6,8,9,3,3,5,9,6,16,9,10,15,8,500000]
["O8",6,11,13,11,14,10,14,7,6,10,3,8,4,7,11,2,12,9,1,12,13,15,437500,null,null,null,null,"O8",6,11,13,11,14,10,14,7,6,10,3,8,4,7,11,2,12,9,1,12,13,15,437500]
["O9",5,1,3,5,7,4,5,1,9,7,1,2,5,16,8,1,5,10,14,14,14,10,437500,null,null,null,null,"O9",5,1,3,5,7,4,5,1,9,7,1,2,5,16,8,1,5,10,14,14,14,10,500000]
["O10",3,9,2,12,3,1,9,11,12,16,5,13,8,10,16,3,11,7,1,5,8,6,375000,null,null,null,null,"O10",3,9,2,12,3,1,9,11,12,16,5,13,8,10,16,3,11,7,1,5,8,6,562500]
["O11",9,2,12,8,15,9,7,8,9,5,12,6,7,13,7,13,4,5,1,2,6,2,250000,null,null,null,null,"O11",9,2,12,8,15,9,7,8,9,5,12,6,7,13,7,13,4,5,1,2,6,2,250000]
["O12",14,4,7,13,4,5,8,5,14,12,4,14,6,9,13,5,13,14,13,16,11,16,375000,null,null,null,null,"O12",14,4,7,13,4,5,8,5,14,12,4,14,6,9,13,5,13,14,13,16,11,16,500000]
["O13",11,5,8,16,6,6,13,13,5,8,10,3,12,5,6,11,7,2,1,1,3,1,500000,null,null,null,null,"O13",11,5,8,16,6,6,13,13,5,8,10,3,12,5,6,11,7,2,1,1,3,1,437500]
["O14",4,12,6,4,2,11,2,10,4,4,15,10,10,2,3,15,9,8,9,6,10,3,1000000,null,null,null,null,"O14",4,12,6,4,2,11,2,10,4,4,15,10,10,2,3,15,9,8,9,6,10,3,437500]
["O15",8,16,10,15,13,7,12,16,8,2,13,4,14,12,4,12,1,6,16,8,4,9,437500,null,null,null,null,"O15",8,16,10,15,13,7,12,16,8,2,13,4,14,12,4,12,1,6,16,8,4,9,375000]
["O16",1,15,5,1,8,13,1,12,3,3,16,5,14,1,1,16,3,12,1,13,16,13,437500,null,null,null,null,"O16",1,15,5,1,8,13,1,12,3,3,16,5,14,1,1,16,3,12,1,13,16,13,500000]
[]
["L�pcs�k(1)","X(A1)","X(A2)","X(A3)","X(A4)","X(A5)","X(A6)","X(A7)","X(A8)","X(A9)","X(A10)","X(A11)","X(A12)","X(A13)","X(A14)","X(A15)","X(A16)","X(A17)","X(A18)","X(A19)","X(A20)","X(A21)","X(A22)",null,null,null,null,null,"L�pcs�k(1)","X(A1)","X(A2)","X(A3)","X(A4)","X(A5)","X(A6)","X(A7)","X(A8)","X(A9)","X(A10)","X(A11)","X(A12)","X(A13)","X(A14)","X(A15)","X(A16)","X(A17)","X(A18)","X(A19)","X(A20)","X(A21)","X(A22)"]
["S1","(15+15)/(2)=15","(15+15)/(2)=15","(15+15)/(2)=15","(187318.9+156622.9)/(2)=171970.9","(312690.9+312690.9)/(2)=312690.85","(21207+62167)/(2)=41687","(250031.9+280727.9)/(2)=265379.9","(40975+15)/(2)=20495","(15+15)/(2)=15","(15+15)/(2)=15","(125415.9+64)/(2)=62739.95","(15+15)/(2)=15","(461+156160.9)/(2)=78310.95","(15+15)/(2)=15","(15+15)/(2)=15","(208005.9+374714.8)/(2)=291360.35","(270694.9+344524.8)/(2)=307609.85","(41372+15)/(2)=20693.5","(15+15)/(2)=15","(15+250005.9)/(2)=125010.45","(292180.9+374889.8)/(2)=333535.35","(146315.9+156976.9)/(2)=151646.45",null,null,null,null,null,"S1","(15+327984)/(2)=163999.5","(15+15542)/(2)=7778.5","(20815+15)/(2)=10415","(15+78136)/(2)=39075.5","(83398+109307)/(2)=96352.5","(15+328051)/(2)=164033","(21+15)/(2)=18","(62382+15)/(2)=31198.5","(15+15)/(2)=15","(41680+265536)/(2)=153608","(15+218679)/(2)=109347","(15+15)/(2)=15","(125150+234408)/(2)=179779","(104123+93747)/(2)=98935","(41632+15)/(2)=20823.5","(125012+218698)/(2)=171855","(15+140590)/(2)=70302.5","(15+15)/(2)=15","(15+15)/(2)=15","(229046+203033)/(2)=216039.5","(41657+437390)/(2)=239523.5","(15+15)/(2)=15"]
["S2","(14+14)/(2)=14","(14+14)/(2)=14","(14+14)/(2)=14","(187317.9+156621.9)/(2)=171969.9","(312689.9+312689.9)/(2)=312689.85","(21206+62166)/(2)=41686","(250030.9+280726.9)/(2)=265378.9","(40974+14)/(2)=20494","(14+14)/(2)=14","(14+14)/(2)=14","(125414.9+63)/(2)=62738.95","(14+14)/(2)=14","(460+156159.9)/(2)=78309.95","(14+14)/(2)=14","(14+14)/(2)=14","(208004.9+374713.8)/(2)=291359.35","(14+14)/(2)=14","(41371+14)/(2)=20692.5","(14+14)/(2)=14","(14+14)/(2)=14","(104143+30711)/(2)=67426.95","(146314.9+156975.9)/(2)=151645.45",null,null,null,null,null,"S2","(14+14)/(2)=14","(14+15541)/(2)=7777.5","(20814+14)/(2)=10414","(14+78135)/(2)=39074.5","(83397+109306)/(2)=96351.5","(14+328050)/(2)=164032","(20+14)/(2)=17","(62381+14)/(2)=31197.5","(14+14)/(2)=14","(41679+14)/(2)=20846.5","(14+218678)/(2)=109346","(14+14)/(2)=14","(62507+78068)/(2)=70287.5","(104122+93746)/(2)=98934","(41631+14)/(2)=20822.5","(125011+218697)/(2)=171854","(14+14)/(2)=14","(14+14)/(2)=14","(14+14)/(2)=14","(229045+14)/(2)=114529.5","(41656+234297)/(2)=137976.5","(14+14)/(2)=14"]
["S3","(13+13)/(2)=13","(13+13)/(2)=13","(13+13)/(2)=13","(187316.9+156619.9)/(2)=171968.4","(186834.9+156534.9)/(2)=171684.9","(21205+62165)/(2)=41685","(13+13)/(2)=13","(40973+13)/(2)=20493","(13+13)/(2)=13","(13+13)/(2)=13","(125413.9+62)/(2)=62737.95","(13+13)/(2)=13","(459+156158.9)/(2)=78308.95","(13+13)/(2)=13","(13+13)/(2)=13","(60+125460.9)/(2)=62760.45","(13+13)/(2)=13","(41370+13)/(2)=20691.5","(13+13)/(2)=13","(13+13)/(2)=13","(104142+30710)/(2)=67425.95","(146313.9+156974.9)/(2)=151644.45",null,null,null,null,null,"S3","(13+13)/(2)=13","(13+13)/(2)=13","(20813+13)/(2)=10413","(13+13)/(2)=13","(83396+13)/(2)=41704.5","(13+328049)/(2)=164031","(19+13)/(2)=16","(13+13)/(2)=13","(13+13)/(2)=13","(41678+13)/(2)=20845.5","(13+218677)/(2)=109345","(13+13)/(2)=13","(62506+78067)/(2)=70286.5","(104121+93745)/(2)=98933","(13+13)/(2)=13","(125010+13)/(2)=62511.5","(13+13)/(2)=13","(13+13)/(2)=13","(13+13)/(2)=13","(229044+13)/(2)=114528.5","(13+234296)/(2)=117154.5","(13+13)/(2)=13"]
["S4","(12+12)/(2)=12","(12+12)/(2)=12","(12+12)/(2)=12","(187315.9+156619.9)/(2)=171967.9","(186833.9+156534.9)/(2)=171684.4","(21204+62164)/(2)=41684","(12+12)/(2)=12","(40972+12)/(2)=20492","(12+12)/(2)=12","(12+12)/(2)=12","(125412.9+61)/(2)=62736.95","(12+12)/(2)=12","(458+458)/(2)=458","(12+12)/(2)=12","(12+12)/(2)=12","(59+125459.9)/(2)=62759.45","(12+12)/(2)=12","(41369+12)/(2)=20690.5","(12+12)/(2)=12","(12+12)/(2)=12","(104141+30709)/(2)=67424.95","(12+12)/(2)=12",null,null,null,null,null,"S4","(12+12)/(2)=12","(12+12)/(2)=12","(20812+12)/(2)=10412","(12+12)/(2)=12","(83395+12)/(2)=41703.5","(12+46933)/(2)=23472.5","(18+12)/(2)=15","(12+12)/(2)=12","(12+12)/(2)=12","(12+12)/(2)=12","(12+218675)/(2)=109343.5","(12+12)/(2)=12","(12+12)/(2)=12","(104120+12)/(2)=52066","(12+12)/(2)=12","(125009+12)/(2)=62510.5","(12+12)/(2)=12","(12+12)/(2)=12","(12+12)/(2)=12","(229043+12)/(2)=114527.5","(12+234295)/(2)=117153.5","(12+12)/(2)=12"]
["S5","(11+11)/(2)=11","(11+11)/(2)=11","(11+11)/(2)=11","(41316+405)/(2)=20860.5","(186832.9+156533.9)/(2)=171683.4","(21203+62163)/(2)=41683","(11+11)/(2)=11","(40971+11)/(2)=20491","(11+11)/(2)=11","(11+11)/(2)=11","(125411.9+11)/(2)=62711.45","(11+11)/(2)=11","(457+11)/(2)=234","(11+11)/(2)=11","(11+11)/(2)=11","(58+125458.9)/(2)=62758.45","(11+11)/(2)=11","(41368+11)/(2)=20689.5","(11+11)/(2)=11","(11+11)/(2)=11","(104140+30708)/(2)=67423.95","(11+11)/(2)=11",null,null,null,null,null,"S5","(11+11)/(2)=11","(11+11)/(2)=11","(20811+11)/(2)=10411","(11+11)/(2)=11","(83394+11)/(2)=41702.5","(11+46932)/(2)=23471.5","(17+11)/(2)=14","(11+11)/(2)=11","(11+11)/(2)=11","(11+11)/(2)=11","(11+11)/(2)=11","(11+11)/(2)=11","(11+11)/(2)=11","(104119+11)/(2)=52065","(11+11)/(2)=11","(83367+11)/(2)=41689","(11+11)/(2)=11","(11+11)/(2)=11","(11+11)/(2)=11","(229042+11)/(2)=114526.5","(11+234294)/(2)=117152.5","(11+11)/(2)=11"]
["S6","(10+10)/(2)=10","(10+10)/(2)=10","(10+10)/(2)=10","(41315+404)/(2)=20859.5","(186831.9+10)/(2)=93420.95","(21202+62162)/(2)=41682","(10+10)/(2)=10","(40970+10)/(2)=20490","(10+10)/(2)=10","(10+10)/(2)=10","(125410.9+10)/(2)=62710.45","(10+10)/(2)=10","(456+10)/(2)=233","(10+10)/(2)=10","(10+10)/(2)=10","(57+125457.9)/(2)=62757.45","(10+10)/(2)=10","(41367+10)/(2)=20688.5","(10+10)/(2)=10","(10+10)/(2)=10","(10+30707)/(2)=15358.5","(10+10)/(2)=10",null,null,null,null,null,"S6","(10+10)/(2)=10","(10+10)/(2)=10","(20789+10)/(2)=10399.5","(10+10)/(2)=10","(83393+10)/(2)=41701.5","(10+10)/(2)=10","(16+10)/(2)=13","(10+10)/(2)=10","(10+10)/(2)=10","(10+10)/(2)=10","(10+10)/(2)=10","(10+10)/(2)=10","(10+10)/(2)=10","(104118+10)/(2)=52064","(10+10)/(2)=10","(10+10)/(2)=10","(10+10)/(2)=10","(10+10)/(2)=10","(10+10)/(2)=10","(229041+10)/(2)=114525.5","(10+234293)/(2)=117151.5","(10+10)/(2)=10"]
["S7","(9+9)/(2)=9","(9+9)/(2)=9","(9+9)/(2)=9","(41314+9)/(2)=20661.5","(9+9)/(2)=9","(21201+62161)/(2)=41681","(9+9)/(2)=9","(40969+9)/(2)=20489","(9+9)/(2)=9","(9+9)/(2)=9","(125409.9+9)/(2)=62709.45","(9+9)/(2)=9","(9+9)/(2)=9","(9+9)/(2)=9","(9+9)/(2)=9","(56+125456.9)/(2)=62756.45","(9+9)/(2)=9","(41366+9)/(2)=20687.5","(9+9)/(2)=9","(9+9)/(2)=9","(9+30706)/(2)=15357.5","(9+9)/(2)=9",null,null,null,null,null,"S7","(9+9)/(2)=9","(9+9)/(2)=9","(20788+9)/(2)=10398.5","(9+9)/(2)=9","(83392+9)/(2)=41700.5","(9+9)/(2)=9","(9+9)/(2)=9","(9+9)/(2)=9","(9+9)/(2)=9","(9+9)/(2)=9","(9+9)/(2)=9","(9+9)/(2)=9","(9+9)/(2)=9","(104117+9)/(2)=52063","(9+9)/(2)=9","(9+9)/(2)=9","(9+9)/(2)=9","(9+9)/(2)=9","(9+9)/(2)=9","(229040+9)/(2)=114524.5","(9+234292)/(2)=117150.5","(9+9)/(2)=9"]
["S8","(8+8)/(2)=8","(8+8)/(2)=8","(8+8)/(2)=8","(8+8)/(2)=8","(8+8)/(2)=8","(21200+62160)/(2)=41680","(8+8)/(2)=8","(40968+8)/(2)=20488","(8+8)/(2)=8","(8+8)/(2)=8","(125408.9+8)/(2)=62708.45","(8+8)/(2)=8","(8+8)/(2)=8","(8+8)/(2)=8","(8+8)/(2)=8","(55+8)/(2)=31.5","(8+8)/(2)=8","(41365+8)/(2)=20686.5","(8+8)/(2)=8","(8+8)/(2)=8","(8+30705)/(2)=15356.5","(8+8)/(2)=8",null,null,null,null,null,"S8","(8+8)/(2)=8","(8+8)/(2)=8","(20787+8)/(2)=10397.5","(8+8)/(2)=8","(83391+8)/(2)=41699.5","(8+8)/(2)=8","(8+8)/(2)=8","(8+8)/(2)=8","(8+8)/(2)=8","(8+8)/(2)=8","(8+8)/(2)=8","(8+8)/(2)=8","(8+8)/(2)=8","(104116+8)/(2)=52062","(8+8)/(2)=8","(8+8)/(2)=8","(8+8)/(2)=8","(8+8)/(2)=8","(8+8)/(2)=8","(229039+8)/(2)=114523.5","(8+234291)/(2)=117149.5","(8+8)/(2)=8"]
["S9","(7+7)/(2)=7","(7+7)/(2)=7","(7+7)/(2)=7","(7+7)/(2)=7","(7+7)/(2)=7","(21199+62159)/(2)=41679","(7+7)/(2)=7","(40967+7)/(2)=20487","(7+7)/(2)=7","(7+7)/(2)=7","(7+7)/(2)=7","(7+7)/(2)=7","(7+7)/(2)=7","(7+7)/(2)=7","(7+7)/(2)=7","(7+7)/(2)=7","(7+7)/(2)=7","(41364+7)/(2)=20685.5","(7+7)/(2)=7","(7+7)/(2)=7","(7+30704)/(2)=15355.5","(7+7)/(2)=7",null,null,null,null,null,"S9","(7+7)/(2)=7","(7+7)/(2)=7","(20786+7)/(2)=10396.5","(7+7)/(2)=7","(83390+7)/(2)=41698.5","(7+7)/(2)=7","(7+7)/(2)=7","(7+7)/(2)=7","(7+7)/(2)=7","(7+7)/(2)=7","(7+7)/(2)=7","(7+7)/(2)=7","(7+7)/(2)=7","(104115+7)/(2)=52061","(7+7)/(2)=7","(7+7)/(2)=7","(7+7)/(2)=7","(7+7)/(2)=7","(7+7)/(2)=7","(229038+7)/(2)=114522.5","(7+234290)/(2)=117148.5","(7+7)/(2)=7"]
["S10","(6+6)/(2)=6","(6+6)/(2)=6","(6+6)/(2)=6","(6+6)/(2)=6","(6+6)/(2)=6","(21198+62158)/(2)=41678","(6+6)/(2)=6","(40966+6)/(2)=20486","(6+6)/(2)=6","(6+6)/(2)=6","(6+6)/(2)=6","(6+6)/(2)=6","(6+6)/(2)=6","(6+6)/(2)=6","(6+6)/(2)=6","(6+6)/(2)=6","(6+6)/(2)=6","(6+6)/(2)=6","(6+6)/(2)=6","(6+6)/(2)=6","(6+30703)/(2)=15354.5","(6+6)/(2)=6",null,null,null,null,null,"S10","(6+6)/(2)=6","(6+6)/(2)=6","(20785+6)/(2)=10395.5","(6+6)/(2)=6","(83389+6)/(2)=41697.5","(6+6)/(2)=6","(6+6)/(2)=6","(6+6)/(2)=6","(6+6)/(2)=6","(6+6)/(2)=6","(6+6)/(2)=6","(6+6)/(2)=6","(6+6)/(2)=6","(104114+6)/(2)=52060","(6+6)/(2)=6","(6+6)/(2)=6","(6+6)/(2)=6","(6+6)/(2)=6","(6+6)/(2)=6","(229037+6)/(2)=114521.5","(6+234289)/(2)=117147.5","(6+6)/(2)=6"]
["S11","(5+5)/(2)=5","(5+5)/(2)=5","(5+5)/(2)=5","(5+5)/(2)=5","(5+5)/(2)=5","(21197+62157)/(2)=41677","(5+5)/(2)=5","(5+5)/(2)=5","(5+5)/(2)=5","(5+5)/(2)=5","(5+5)/(2)=5","(5+5)/(2)=5","(5+5)/(2)=5","(5+5)/(2)=5","(5+5)/(2)=5","(5+5)/(2)=5","(5+5)/(2)=5","(5+5)/(2)=5","(5+5)/(2)=5","(5+5)/(2)=5","(5+30702)/(2)=15353.5","(5+5)/(2)=5",null,null,null,null,null,"S11","(5+5)/(2)=5","(5+5)/(2)=5","(20784+5)/(2)=10394.5","(5+5)/(2)=5","(83388+5)/(2)=41696.5","(5+5)/(2)=5","(5+5)/(2)=5","(5+5)/(2)=5","(5+5)/(2)=5","(5+5)/(2)=5","(5+5)/(2)=5","(5+5)/(2)=5","(5+5)/(2)=5","(20818+5)/(2)=10411.5","(5+5)/(2)=5","(5+5)/(2)=5","(5+5)/(2)=5","(5+5)/(2)=5","(5+5)/(2)=5","(208247+5)/(2)=104126","(5+234288)/(2)=117146.5","(5+5)/(2)=5"]
["S12","(4+4)/(2)=4","(4+4)/(2)=4","(4+4)/(2)=4","(4+4)/(2)=4","(4+4)/(2)=4","(21196+62156)/(2)=41676","(4+4)/(2)=4","(4+4)/(2)=4","(4+4)/(2)=4","(4+4)/(2)=4","(4+4)/(2)=4","(4+4)/(2)=4","(4+4)/(2)=4","(4+4)/(2)=4","(4+4)/(2)=4","(4+4)/(2)=4","(4+4)/(2)=4","(4+4)/(2)=4","(4+4)/(2)=4","(4+4)/(2)=4","(4+4)/(2)=4","(4+4)/(2)=4",null,null,null,null,null,"S12","(4+4)/(2)=4","(4+4)/(2)=4","(20783+4)/(2)=10393.5","(4+4)/(2)=4","(83387+4)/(2)=41695.5","(4+4)/(2)=4","(4+4)/(2)=4","(4+4)/(2)=4","(4+4)/(2)=4","(4+4)/(2)=4","(4+4)/(2)=4","(4+4)/(2)=4","(4+4)/(2)=4","(4+4)/(2)=4","(4+4)/(2)=4","(4+4)/(2)=4","(4+4)/(2)=4","(4+4)/(2)=4","(4+4)/(2)=4","(208246+4)/(2)=104125","(4+4)/(2)=4","(4+4)/(2)=4"]
["S13","(3+3)/(2)=3","(3+3)/(2)=3","(3+3)/(2)=3","(3+3)/(2)=3","(3+3)/(2)=3","(3+3)/(2)=3","(3+3)/(2)=3","(3+3)/(2)=3","(3+3)/(2)=3","(3+3)/(2)=3","(3+3)/(2)=3","(3+3)/(2)=3","(3+3)/(2)=3","(3+3)/(2)=3","(3+3)/(2)=3","(3+3)/(2)=3","(3+3)/(2)=3","(3+3)/(2)=3","(3+3)/(2)=3","(3+3)/(2)=3","(3+3)/(2)=3","(3+3)/(2)=3",null,null,null,null,null,"S13","(3+3)/(2)=3","(3+3)/(2)=3","(3+3)/(2)=3","(3+3)/(2)=3","(83386+3)/(2)=41694.5","(3+3)/(2)=3","(3+3)/(2)=3","(3+3)/(2)=3","(3+3)/(2)=3","(3+3)/(2)=3","(3+3)/(2)=3","(3+3)/(2)=3","(3+3)/(2)=3","(3+3)/(2)=3","(3+3)/(2)=3","(3+3)/(2)=3","(3+3)/(2)=3","(3+3)/(2)=3","(3+3)/(2)=3","(208245+3)/(2)=104124","(3+3)/(2)=3","(3+3)/(2)=3"]
["S14","(2+2)/(2)=2","(2+2)/(2)=2","(2+2)/(2)=2","(2+2)/(2)=2","(2+2)/(2)=2","(2+2)/(2)=2","(2+2)/(2)=2","(2+2)/(2)=2","(2+2)/(2)=2","(2+2)/(2)=2","(2+2)/(2)=2","(2+2)/(2)=2","(2+2)/(2)=2","(2+2)/(2)=2","(2+2)/(2)=2","(2+2)/(2)=2","(2+2)/(2)=2","(2+2)/(2)=2","(2+2)/(2)=2","(2+2)/(2)=2","(2+2)/(2)=2","(2+2)/(2)=2",null,null,null,null,null,"S14","(2+2)/(2)=2","(2+2)/(2)=2","(2+2)/(2)=2","(2+2)/(2)=2","(2+2)/(2)=2","(2+2)/(2)=2","(2+2)/(2)=2","(2+2)/(2)=2","(2+2)/(2)=2","(2+2)/(2)=2","(2+2)/(2)=2","(2+2)/(2)=2","(2+2)/(2)=2","(2+2)/(2)=2","(2+2)/(2)=2","(2+2)/(2)=2","(2+2)/(2)=2","(2+2)/(2)=2","(2+2)/(2)=2","(208244+2)/(2)=104123","(2+2)/(2)=2","(2+2)/(2)=2"]
["S15","(1+1)/(2)=1","(1+1)/(2)=1","(1+1)/(2)=1","(1+1)/(2)=1","(1+1)/(2)=1","(1+1)/(2)=1","(1+1)/(2)=1","(1+1)/(2)=1","(1+1)/(2)=1","(1+1)/(2)=1","(1+1)/(2)=1","(1+1)/(2)=1","(1+1)/(2)=1","(1+1)/(2)=1","(1+1)/(2)=1","(1+1)/(2)=1","(1+1)/(2)=1","(1+1)/(2)=1","(1+1)/(2)=1","(1+1)/(2)=1","(1+1)/(2)=1","(1+1)/(2)=1",null,null,null,null,null,"S15","(1+1)/(2)=1","(1+1)/(2)=1","(1+1)/(2)=1","(1+1)/(2)=1","(1+1)/(2)=1","(1+1)/(2)=1","(1+1)/(2)=1","(1+1)/(2)=1","(1+1)/(2)=1","(1+1)/(2)=1","(1+1)/(2)=1","(1+1)/(2)=1","(1+1)/(2)=1","(1+1)/(2)=1","(1+1)/(2)=1","(1+1)/(2)=1","(1+1)/(2)=1","(1+1)/(2)=1","(1+1)/(2)=1","(208243+1)/(2)=104122","(1+1)/(2)=1","(1+1)/(2)=1"]
["S16","(0+0)/(2)=0","(0+0)/(2)=0","(0+0)/(2)=0","(0+0)/(2)=0","(0+0)/(2)=0","(0+0)/(2)=0","(0+0)/(2)=0","(0+0)/(2)=0","(0+0)/(2)=0","(0+0)/(2)=0","(0+0)/(2)=0","(0+0)/(2)=0","(0+0)/(2)=0","(0+0)/(2)=0","(0+0)/(2)=0","(0+0)/(2)=0","(0+0)/(2)=0","(0+0)/(2)=0","(0+0)/(2)=0","(0+0)/(2)=0","(0+0)/(2)=0","(0+0)/(2)=0",null,null,null,null,null,"S16","(0+0)/(2)=0","(0+0)/(2)=0","(0+0)/(2)=0","(0+0)/(2)=0","(0+0)/(2)=0","(0+0)/(2)=0","(0+0)/(2)=0","(0+0)/(2)=0","(0+0)/(2)=0","(0+0)/(2)=0","(0+0)/(2)=0","(0+0)/(2)=0","(0+0)/(2)=0","(0+0)/(2)=0","(0+0)/(2)=0","(0+0)/(2)=0","(0+0)/(2)=0","(0+0)/(2)=0","(0+0)/(2)=0","(208242+0)/(2)=104121","(0+0)/(2)=0","(0+0)/(2)=0"]
[]
["L�pcs�k(2)","X(A1)","X(A2)","X(A3)","X(A4)","X(A5)","X(A6)","X(A7)","X(A8)","X(A9)","X(A10)","X(A11)","X(A12)","X(A13)","X(A14)","X(A15)","X(A16)","X(A17)","X(A18)","X(A19)","X(A20)","X(A21)","X(A22)",null,null,null,null,null,"L�pcs�k(2)","X(A1)","X(A2)","X(A3)","X(A4)","X(A5)","X(A6)","X(A7)","X(A8)","X(A9)","X(A10)","X(A11)","X(A12)","X(A13)","X(A14)","X(A15)","X(A16)","X(A17)","X(A18)","X(A19)","X(A20)","X(A21)","X(A22)"]
["S1",15,15,15,171970.9,312690.90000000002,41687,265379.90000000002,20495,15,15,62740,15,78311,15,15,291360.40000000002,307609.90000000002,20693.5,15,125010.4,333535.3,151646.39999999999,null,null,null,null,null,"S1",163999.5,7778.5,10415,39075.5,96352.5,164033,18,31198.5,15,153608,109347,15,179779,98935,20823.5,171855,70302.5,15,15,216039.5,239523.5,15]
["S2",14,14,14,171969.9,312689.90000000002,41686,265378.90000000002,20494,14,14,62739,14,78310,14,14,291359.40000000002,14,20692.5,14,14,67427,151645.4,null,null,null,null,null,"S2",14,7777.5,10414,39074.5,96351.5,164032,17,31197.5,14,20846.5,109346,14,70287.5,98934,20822.5,171854,14,14,14,114529.5,137976.5,14]
["S3",13,13,13,171968.4,171684.9,41685,13,20493,13,13,62738,13,78309,13,13,62760.5,13,20691.5,13,13,67426,151644.4,null,null,null,null,null,"S3",13,13,10413,13,41704.5,164031,16,13,13,20845.5,109345,13,70286.5,98933,13,62511.5,13,13,13,114528.5,117154.5,13]
["S4",12,12,12,171967.9,171684.4,41684,12,20492,12,12,62737,12,458,12,12,62759.5,12,20690.5,12,12,67425,12,null,null,null,null,null,"S4",12,12,10412,12,41703.5,23472.5,15,12,12,12,109343.5,12,12,52066,12,62510.5,12,12,12,114527.5,117153.5,12]
["S5",11,11,11,20860.5,171683.4,41683,11,20491,11,11,62711.5,11,234,11,11,62758.5,11,20689.5,11,11,67424,11,null,null,null,null,null,"S5",11,11,10411,11,41702.5,23471.5,14,11,11,11,11,11,11,52065,11,41689,11,11,11,114526.5,117152.5,11]
["S6",10,10,10,20859.5,93421,41682,10,20490,10,10,62710.5,10,233,10,10,62757.5,10,20688.5,10,10,15358.5,10,null,null,null,null,null,"S6",10,10,10399.5,10,41701.5,10,13,10,10,10,10,10,10,52064,10,10,10,10,10,114525.5,117151.5,10]
["S7",9,9,9,20661.5,9,41681,9,20489,9,9,62709.5,9,9,9,9,62756.5,9,20687.5,9,9,15357.5,9,null,null,null,null,null,"S7",9,9,10398.5,9,41700.5,9,9,9,9,9,9,9,9,52063,9,9,9,9,9,114524.5,117150.5,9]
["S8",8,8,8,8,8,41680,8,20488,8,8,62708.5,8,8,8,8,31.5,8,20686.5,8,8,15356.5,8,null,null,null,null,null,"S8",8,8,10397.5,8,41699.5,8,8,8,8,8,8,8,8,52062,8,8,8,8,8,114523.5,117149.5,8]
["S9",7,7,7,7,7,41679,7,20487,7,7,7,7,7,7,7,7,7,20685.5,7,7,15355.5,7,null,null,null,null,null,"S9",7,7,10396.5,7,41698.5,7,7,7,7,7,7,7,7,52061,7,7,7,7,7,114522.5,117148.5,7]
["S10",6,6,6,6,6,41678,6,20486,6,6,6,6,6,6,6,6,6,6,6,6,15354.5,6,null,null,null,null,null,"S10",6,6,10395.5,6,41697.5,6,6,6,6,6,6,6,6,52060,6,6,6,6,6,114521.5,117147.5,6]
["S11",5,5,5,5,5,41677,5,5,5,5,5,5,5,5,5,5,5,5,5,5,15353.5,5,null,null,null,null,null,"S11",5,5,10394.5,5,41696.5,5,5,5,5,5,5,5,5,10411.5,5,5,5,5,5,104126,117146.5,5]
["S12",4,4,4,4,4,41676,4,4,4,4,4,4,4,4,4,4,4,4,4,4,4,4,null,null,null,null,null,"S12",4,4,10393.5,4,41695.5,4,4,4,4,4,4,4,4,4,4,4,4,4,4,104125,4,4]
["S13",3,3,3,3,3,3,3,3,3,3,3,3,3,3,3,3,3,3,3,3,3,3,null,null,null,null,null,"S13",3,3,3,3,41694.5,3,3,3,3,3,3,3,3,3,3,3,3,3,3,104124,3,3]
["S14",2,2,2,2,2,2,2,2,2,2,2,2,2,2,2,2,2,2,2,2,2,2,null,null,null,null,null,"S14",2,2,2,2,2,2,2,2,2,2,2,2,2,2,2,2,2,2,2,104123,2,2]
["S15",1,1,1,1,1,1,1,1,1,1,1,1,1,1,1,1,1,1,1,1,1,1,null,null,null,null,null,"S15",1,1,1,1,1,1,1,1,1,1,1,1,1,1,1,1,1,1,1,104122,1,1]
["S16",0,0,0,0,0,0,0,0,0,0,0,0,0,0,0,0,0,0,0,0,0,0,null,null,null,null,null,"S16",0,0,0,0,0,0,0,0,0,0,0,0,0,0,0,0,0,0,0,104121,0,0]
[]
["COCO:Y0","X(A1)","X(A2)","X(A3)","X(A4)","X(A5)","X(A6)","X(A7)","X(A8)","X(A9)","X(A10)","X(A11)","X(A12)","X(A13)","X(A14)","X(A15)","X(A16)","X(A17)","X(A18)","X(A19)","X(A20)","X(A21)","X(A22)","Becsl�s","T�ny+0","Delta","Delta/T�ny",null,"COCO:Y0","X(A1)","X(A2)","X(A3)","X(A4)","X(A5)","X(A6)","X(A7)","X(A8)","X(A9)","X(A10)","X(A11)","X(A12)","X(A13)","X(A14)","X(A15)","X(A16)","X(A17)","X(A18)","X(A19)","X(A20)","X(A21)","X(A22)","Becsl�s","T�ny+0","Delta","Delta/T�ny"]
["O1",1,3,5,7,4,1,10,20494,1,1,62739,0,78311,2,1,62759.5,0,20693.5,15,13,67427,12,312499.90000000002,312500,0.1,0,null,"O1",1,3,10394.5,7,41695.5,1,13,31197.5,1,1,109346,0,179779,2,1,62510.5,0,15,15,114528.5,137976.5,12,687500,687500,0,0]
["O2",6,8,0,20859.5,0,41680,0,20493,5,5,62710.5,9,78310,5,7,62757.5,8,20690.5,8,9,67424,5,374999.8,375000,0.2,0,null,"O2",6,8,0,10,0,8,0,13,5,5,10,9,70287.5,10411.5,7,10,8,12,8,114524.5,117152.5,5,312500,312500,0,0]
["O3",4,13,2,171968.4,7,2,6,2,14,15,7,15,0,12,14,6,14,5,15,12,15357.5,9,187499.9,187500,0.1,0,null,"O3",4,13,2,13,41698.5,2,6,2,14,153608,7,15,0,52066,20822.5,6,14,5,15,114527.5,117150.5,9,500000,500000,0,0]
["O4",3,2,7,171969.9,6,41676,5,20487,0,2,62709.5,4,5,1,2,62756.5,2,3,1,1,15355.5,2,375000.3,375000,-0.3,0,null,"O4",3,2,10396.5,39074.5,41697.5,4,5,7,0,2,9,4,5,1,2,9,2,3,1,104122,117148.5,2,312500,312500,0,0]
["O5",14,6,1,20661.5,5,0,1,1,3,3,5,5,4,8,4,31.5,6,20691.5,5,5,333535.3,4,374999.8,375000,0.2,0,null,"O5",14,6,1,9,41696.5,0,1,1,3,3,5,5,4,52062,4,8,6,13,5,104126,239523.5,4,437500,437500,0,0]
["O6",9,10,15,6,312690.90000000002,41686,13,20492,15,7,2,1,7,10,6,2,1,1,4,7,4,11,374999.8,375000,0.2,0,null,"O6",9,10,10415,6,96352.5,164032,16,12,15,7,2,1,7,52064,6,2,1,1,4,114522.5,4,11,437500,437500,0,0]
["O7",0,9,12,2,171683.4,41685,12,20490,9,10,62708.5,7,78309,13,11,7,10,0,7,6,1,8,374999.8,375000,0.2,0,null,"O7",0,9,10412,2,41702.5,164031,15,10,9,10,8,7,70286.5,98933,11,7,10,0,7,114521.5,1,8,500000.5,500000,-0.5,0]
["O8",10,5,3,5,2,41678,2,20489,10,6,62738,8,458,9,5,291359.40000000002,4,20685.5,15,4,3,1,437499.8,437500,0.2,0,null,"O8",10,5,3,5,2,6,2,9,10,6,109345,8,12,52063,5,171854,4,7,15,104125,3,1,437500,437500,0,0]
["O9",11,15,13,20860.5,9,41684,11,20495,7,9,62740,14,234,0,8,291360.40000000002,11,6,2,2,2,6,437499.8,437500,0.2,0,null,"O9",11,7778.5,10413,11,41700.5,23472.5,14,31198.5,7,9,109347,14,11,0,8,171855,11,6,2,104123,2,6,500000,500000,0,0]
["O10",13,7,14,4,171684.9,41687,7,5,4,0,62711.5,3,8,6,0,62760.5,5,20687.5,15,11,15356.5,10,374999.8,375000,0.2,0,null,"O10",13,7,10414,4,41704.5,164033,7,5,4,0,11,3,8,52060,0,62511.5,5,9,15,114526.5,117149.5,10,562500,562500,0,0]
["O11",7,14,4,8,1,41679,9,20488,7,11,4,10,9,3,9,3,12,20689.5,15,14,15358.5,151645.4,250000.4,250000,-0.4,0,null,"O11",7,7777.5,10393.5,8,1,7,9,8,7,11,4,10,9,3,9,3,12,11,15,114529.5,117151.5,14,250000,250000,0,0]
["O12",2,12,9,3,171684.4,41683,8,20491,2,4,62737,2,233,7,3,62758.5,3,2,3,0,15353.5,0,375000.3,375000,-0.3,0,null,"O12",2,12,10398.5,3,41703.5,23471.5,8,11,2,4,109343.5,2,10,52061,3,41689,3,2,3,104121,117146.5,0,499999.5,500000,0.5,0]
["O13",5,11,8,0,93421,41682,3,3,11,8,6,13,4,11,10,5,9,20692.5,15,125010.4,67426,151646.39999999999,500000.3,500000,-0.3,0,null,"O13",5,11,10397.5,0,41701.5,10,3,3,11,8,6,13,4,52065,10,5,9,14,15,216039.5,117154.5,15,437500,437500,0,0]
["O14",12,4,10,171967.9,312689.90000000002,41677,265378.90000000002,20486,12,12,1,6,6,14,13,1,7,20686.5,7,10,15354.5,151644.4,1000000,1000000,0,0,null,"O14",12,4,10399.5,12,96351.5,5,17,6,12,12,1,6,6,98934,13,1,7,8,7,114525.5,117147.5,13,437500,437500,0,0]
["O15",8,0,6,1,3,41681,4,0,8,14,3,12,2,4,12,4,307609.90000000002,20688.5,0,8,67425,7,437500.3,437500,-0.3,0,null,"O15",8,0,10395.5,1,41694.5,9,4,0,8,20846.5,3,12,2,4,12,4,70302.5,10,0,114523.5,117153.5,7,375000,375000,0,0]
["O16",15,1,11,171970.9,8,3,265379.90000000002,4,13,13,0,11,2,15,15,0,13,4,15,3,0,3,437499.8,437500,0.2,0,null,"O16",163999.5,1,10411,39075.5,41699.5,3,18,4,13,20845.5,0,11,2,98935,20823.5,0,13,4,15,104124,0,3,500000.5,500000,-0.5,0]
[]
["S1 �sszeg:",2183265.6,null,null,null,null,null,null,null,null,null,null,null,null,null,null,null,null,null,null,null,null,null,null,null,null,null,null,"S1 �sszeg:",1773158.5]
["S16 �sszeg:",0,null,null,null,null,null,null,null,null,null,null,null,null,null,null,null,null,null,null,null,null,null,null,null,null,null,null,"S16 �sszeg:",104121]
["Becsl�s �sszeg:",6624999.7999999998,null,null,null,null,null,null,null,null,null,null,null,null,null,null,null,null,null,null,null,null,null,null,null,null,null,null,"Becsl�s �sszeg:",7187500.5]
["T�ny �sszeg:",6625000,null,null,null,null,null,null,null,null,null,null,null,null,null,null,null,null,null,null,null,null,null,null,null,null,null,null,"T�ny �sszeg:",7187500]
["T�ny-becsl�s elt�r�s:",-0.2,null,null,null,null,null,null,null,null,null,null,null,null,null,null,null,null,null,null,null,null,null,null,null,null,null,null,"T�ny-becsl�s elt�r�s:",0.5]
["T�ny n�gyzet�sszeg:",null,null,null,null,null,null,null,null,null,null,null,null,null,null,null,null,null,null,null,null,null,null,null,null,null,null,null,"T�ny n�gyzet�sszeg:"]
["Becsl�s n�gyzet�sszeg:",null,null,null,null,null,null,null,null,null,null,null,null,null,null,null,null,null,null,null,null,null,null,null,null,null,null,null,"Becsl�s n�gyzet�sszeg:"]
["N�gyzet�sszeg hiba:",0,null,null,null,null,null,null,null,null,null,null,null,null,null,null,null,null,null,null,null,null,null,null,null,null,null,null,"N�gyzet�sszeg hiba:",0]
[]
["Open url",null,null,null,null,null,null,null,null,null,null,null,null,null,null,null,null,null,null,null,null,null,null,null,null,null,null,null,"Open url"]
[]
["Maxim�lis mem�ria haszn�lat: 1.43 Mb",null,null,null,null,null,null,null,null,null,null,null,null,null,null,null,null,null,null,null,null,null,null,null,null,null,null,null,"Maxim�lis mem�ria haszn�lat: 1.43 Mb"]
["A futtat�s id�tartama: 0.21 mp (0 p)",null,null,null,null,null,null,null,null,null,null,null,null,null,null,null,null,null,null,null,null,null,null,null,null,null,null,null,"A futtat�s id�tartama: 0.19 mp (0 p)"]
[]
[]
[]
[]
[]
[]
[]
["Azonos�t�:",5499388,"Objektumok:",16,"Attrib�tumok:",22,"Lepcs�k:",16,"Eltol�s:",0,"Le�r�s:","COCO STD: 5499388",null,null,null,null,null,null,null,null,null,null,null,null,null,null,null,null,"Azonos�t�:",4893873,"Objektumok:",16,"Attrib�tumok:",22,"Lepcs�k:",16,"Eltol�s:",0,"Le�r�s:","COCO STD: 4893873"]
[]
["Rangsor","X(A1)","X(A2)","X(A3)","X(A4)","X(A5)","X(A6)","X(A7)","X(A8)","X(A9)","X(A10)","X(A11)","X(A12)","X(A13)","X(A14)","X(A15)","X(A16)","X(A17)","X(A18)","X(A19)","X(A20)","X(A21)","X(A22)","Y(A23)",null,null,null,null,"Rangsor","X(A1)","X(A2)","X(A3)","X(A4)","X(A5)","X(A6)","X(A7)","X(A8)","X(A9)","X(A10)","X(A11)","X(A12)","X(A13)","X(A14)","X(A15)","X(A16)","X(A17)","X(A18)","X(A19)","X(A20)","X(A21)","X(A22)","Y(A23)"]
["O1",15,13,11,9,12,15,6,2,15,15,2,16,1,14,15,4,16,1,1,3,2,4,312500,null,null,null,null,"O1",15,13,11,9,12,15,6,2,15,15,2,16,1,14,15,4,16,1,1,3,2,4,687500]
["O2",10,8,16,6,16,8,16,3,11,11,6,7,2,11,9,6,8,4,8,7,5,11,375000,null,null,null,null,"O2",10,8,16,6,16,8,16,3,11,11,6,7,2,11,9,6,8,4,8,7,5,11,312500]
["O3",12,3,14,3,9,14,10,14,2,1,9,1,16,4,2,10,2,11,1,4,7,7,187500,null,null,null,null,"O3",12,3,14,3,9,14,10,14,2,1,9,1,16,4,2,10,2,11,1,4,7,7,500000]
["O4",13,14,9,2,10,12,11,9,16,14,7,12,11,15,14,7,14,13,15,15,9,14,375000,null,null,null,null,"O4",13,14,9,2,10,12,11,9,16,14,7,12,11,15,14,7,14,13,15,15,9,14,312500]
["O5",2,10,15,7,11,16,15,15,13,13,11,11,12,8,12,8,10,3,11,11,1,12,375000,null,null,null,null,"O5",2,10,15,7,11,16,15,15,13,13,11,11,12,8,12,8,10,3,11,11,1,12,437500]
["O6",7,6,1,10,1,2,3,4,1,9,14,15,9,6,10,14,15,15,12,9,12,5,375000,null,null,null,null,"O6",7,6,1,10,1,2,3,4,1,9,14,15,9,6,10,14,15,15,12,9,12,5,437500]
["O7",16,7,4,14,5,3,4,6,7,6,8,9,3,3,5,9,6,16,9,10,15,8,375000,null,null,null,null,"O7",16,7,4,14,5,3,4,6,7,6,8,9,3,3,5,9,6,16,9,10,15,8,500000]
["O8",6,11,13,11,14,10,14,7,6,10,3,8,4,7,11,2,12,9,1,12,13,15,437500,null,null,null,null,"O8",6,11,13,11,14,10,14,7,6,10,3,8,4,7,11,2,12,9,1,12,13,15,437500]
["O9",5,1,3,5,7,4,5,1,9,7,1,2,5,16,8,1,5,10,14,14,14,10,437500,null,null,null,null,"O9",5,1,3,5,7,4,5,1,9,7,1,2,5,16,8,1,5,10,14,14,14,10,500000]
["O10",3,9,2,12,3,1,9,11,12,16,5,13,8,10,16,3,11,7,1,5,8,6,375000,null,null,null,null,"O10",3,9,2,12,3,1,9,11,12,16,5,13,8,10,16,3,11,7,1,5,8,6,562500]
["O11",9,2,12,8,15,9,7,8,9,5,12,6,7,13,7,13,4,5,1,2,6,2,250000,null,null,null,null,"O11",9,2,12,8,15,9,7,8,9,5,12,6,7,13,7,13,4,5,1,2,6,2,250000]
["O12",14,4,7,13,4,5,8,5,14,12,4,14,6,9,13,5,13,14,13,16,11,16,375000,null,null,null,null,"O12",14,4,7,13,4,5,8,5,14,12,4,14,6,9,13,5,13,14,13,16,11,16,500000]
["O13",11,5,8,16,6,6,13,13,5,8,10,3,12,5,6,11,7,2,1,1,3,1,500000,null,null,null,null,"O13",11,5,8,16,6,6,13,13,5,8,10,3,12,5,6,11,7,2,1,1,3,1,437500]
["O14",4,12,6,4,2,11,2,10,4,4,15,10,10,2,3,15,9,8,9,6,10,3,1000000,null,null,null,null,"O14",4,12,6,4,2,11,2,10,4,4,15,10,10,2,3,15,9,8,9,6,10,3,437500]
["O15",8,16,10,15,13,7,12,16,8,2,13,4,14,12,4,12,1,6,16,8,4,9,437500,null,null,null,null,"O15",8,16,10,15,13,7,12,16,8,2,13,4,14,12,4,12,1,6,16,8,4,9,375000]
["O16",1,15,5,1,8,13,1,12,3,3,16,5,14,1,1,16,3,12,1,13,16,13,437500,null,null,null,null,"O16",1,15,5,1,8,13,1,12,3,3,16,5,14,1,1,16,3,12,1,13,16,13,500000]
[]
["L�pcs�k(1)","X(A1)","X(A2)","X(A3)","X(A4)","X(A5)","X(A6)","X(A7)","X(A8)","X(A9)","X(A10)","X(A11)","X(A12)","X(A13)","X(A14)","X(A15)","X(A16)","X(A17)","X(A18)","X(A19)","X(A20)","X(A21)","X(A22)",null,null,null,null,null,"L�pcs�k(1)","X(A1)","X(A2)","X(A3)","X(A4)","X(A5)","X(A6)","X(A7)","X(A8)","X(A9)","X(A10)","X(A11)","X(A12)","X(A13)","X(A14)","X(A15)","X(A16)","X(A17)","X(A18)","X(A19)","X(A20)","X(A21)","X(A22)"]
["S1","(0+0)/(1)=0","(0+0)/(1)=0","(0+0)/(1)=0","(0+156250)/(1)=156250","(0+312500)/(1)=312500","(0+62500)/(1)=62500","(0+281250)/(1)=281250","(0+0)/(1)=0","(0+0)/(1)=0","(0+0)/(1)=0","(0+0)/(1)=0","(0+0)/(1)=0","(0+156250)/(1)=156250","(0+0)/(1)=0","(0+0)/(1)=0","(0+375000)/(1)=375000","(0+343750)/(1)=343750","(0+0)/(1)=0","(0+0)/(1)=0","(0+250000)/(1)=250000","(0+375000)/(1)=375000","(0+156250)/(1)=156250",null,null,null,null,null,"S1","(0+328125)/(1)=328125","(0+15625)/(1)=15625","(0+0)/(1)=0","(0+78125)/(1)=78125","(0+109375)/(1)=109375","(0+328125)/(1)=328125","(0+0)/(1)=0","(0+0)/(1)=0","(0+0)/(1)=0","(0+265625)/(1)=265625","(0+218750)/(1)=218750","(0+0)/(1)=0","(0+234375)/(1)=234375","(0+93750)/(1)=93750","(0+0)/(1)=0","(0+218750)/(1)=218750","(0+140625)/(1)=140625","(0+0)/(1)=0","(0+0)/(1)=0","(0+203125)/(1)=203125","(0+437500)/(1)=437500","(0+0)/(1)=0"]
["S2","(0+0)/(1)=0","(0+0)/(1)=0","(0+0)/(1)=0","(0+156250)/(1)=156250","(0+312500)/(1)=312500","(0+62500)/(1)=62500","(0+281250)/(1)=281250","(0+0)/(1)=0","(0+0)/(1)=0","(0+0)/(1)=0","(0+0)/(1)=0","(0+0)/(1)=0","(0+156250)/(1)=156250","(0+0)/(1)=0","(0+0)/(1)=0","(0+375000)/(1)=375000","(0+0)/(1)=0","(0+0)/(1)=0","(0+0)/(1)=0","(0+0)/(1)=0","(0+31250)/(1)=31250","(0+156250)/(1)=156250",null,null,null,null,null,"S2","(0+0)/(1)=0","(0+15625)/(1)=15625","(0+0)/(1)=0","(0+78125)/(1)=78125","(0+109375)/(1)=109375","(0+328125)/(1)=328125","(0+0)/(1)=0","(0+0)/(1)=0","(0+0)/(1)=0","(0+0)/(1)=0","(0+218750)/(1)=218750","(0+0)/(1)=0","(0+78125)/(1)=78125","(0+93750)/(1)=93750","(0+0)/(1)=0","(0+218750)/(1)=218750","(0+0)/(1)=0","(0+0)/(1)=0","(0+0)/(1)=0","(0+0)/(1)=0","(0+234375)/(1)=234375","(0+0)/(1)=0"]
["S3","(0+0)/(1)=0","(0+0)/(1)=0","(0+0)/(1)=0","(0+156250)/(1)=156250","(0+156250)/(1)=156250","(0+62500)/(1)=62500","(0+0)/(1)=0","(0+0)/(1)=0","(0+0)/(1)=0","(0+0)/(1)=0","(0+0)/(1)=0","(0+0)/(1)=0","(0+156250)/(1)=156250","(0+0)/(1)=0","(0+0)/(1)=0","(0+125000)/(1)=125000","(0+0)/(1)=0","(0+0)/(1)=0","(0+0)/(1)=0","(0+0)/(1)=0","(0+31250)/(1)=31250","(0+156250)/(1)=156250",null,null,null,null,null,"S3","(0+0)/(1)=0","(0+0)/(1)=0","(0+0)/(1)=0","(0+0)/(1)=0","(0+0)/(1)=0","(0+328125)/(1)=328125","(0+0)/(1)=0","(0+0)/(1)=0","(0+0)/(1)=0","(0+0)/(1)=0","(0+218750)/(1)=218750","(0+0)/(1)=0","(0+78125)/(1)=78125","(0+93750)/(1)=93750","(0+0)/(1)=0","(0+0)/(1)=0","(0+0)/(1)=0","(0+0)/(1)=0","(0+0)/(1)=0","(0+0)/(1)=0","(0+234375)/(1)=234375","(0+0)/(1)=0"]
["S4","(0+0)/(1)=0","(0+0)/(1)=0","(0+0)/(1)=0","(0+156250)/(1)=156250","(0+156250)/(1)=156250","(0+62500)/(1)=62500","(0+0)/(1)=0","(0+0)/(1)=0","(0+0)/(1)=0","(0+0)/(1)=0","(0+0)/(1)=0","(0+0)/(1)=0","(0+0)/(1)=0","(0+0)/(1)=0","(0+0)/(1)=0","(0+125000)/(1)=125000","(0+0)/(1)=0","(0+0)/(1)=0","(0+0)/(1)=0","(0+0)/(1)=0","(0+31250)/(1)=31250","(0+0)/(1)=0",null,null,null,null,null,"S4","(0+0)/(1)=0","(0+0)/(1)=0","(0+0)/(1)=0","(0+0)/(1)=0","(0+0)/(1)=0","(0+46875)/(1)=46875","(0+0)/(1)=0","(0+0)/(1)=0","(0+0)/(1)=0","(0+0)/(1)=0","(0+218750)/(1)=218750","(0+0)/(1)=0","(0+0)/(1)=0","(0+0)/(1)=0","(0+0)/(1)=0","(0+0)/(1)=0","(0+0)/(1)=0","(0+0)/(1)=0","(0+0)/(1)=0","(0+0)/(1)=0","(0+234375)/(1)=234375","(0+0)/(1)=0"]
["S5","(0+0)/(1)=0","(0+0)/(1)=0","(0+0)/(1)=0","(0+0)/(1)=0","(0+156250)/(1)=156250","(0+62500)/(1)=62500","(0+0)/(1)=0","(0+0)/(1)=0","(0+0)/(1)=0","(0+0)/(1)=0","(0+0)/(1)=0","(0+0)/(1)=0","(0+0)/(1)=0","(0+0)/(1)=0","(0+0)/(1)=0","(0+125000)/(1)=125000","(0+0)/(1)=0","(0+0)/(1)=0","(0+0)/(1)=0","(0+0)/(1)=0","(0+31250)/(1)=31250","(0+0)/(1)=0",null,null,null,null,null,"S5","(0+0)/(1)=0","(0+0)/(1)=0","(0+0)/(1)=0","(0+0)/(1)=0","(0+0)/(1)=0","(0+46875)/(1)=46875","(0+0)/(1)=0","(0+0)/(1)=0","(0+0)/(1)=0","(0+0)/(1)=0","(0+0)/(1)=0","(0+0)/(1)=0","(0+0)/(1)=0","(0+0)/(1)=0","(0+0)/(1)=0","(0+0)/(1)=0","(0+0)/(1)=0","(0+0)/(1)=0","(0+0)/(1)=0","(0+0)/(1)=0","(0+234375)/(1)=234375","(0+0)/(1)=0"]
["S6","(0+0)/(1)=0","(0+0)/(1)=0","(0+0)/(1)=0","(0+0)/(1)=0","(0+0)/(1)=0","(0+62500)/(1)=62500","(0+0)/(1)=0","(0+0)/(1)=0","(0+0)/(1)=0","(0+0)/(1)=0","(0+0)/(1)=0","(0+0)/(1)=0","(0+0)/(1)=0","(0+0)/(1)=0","(0+0)/(1)=0","(0+125000)/(1)=125000","(0+0)/(1)=0","(0+0)/(1)=0","(0+0)/(1)=0","(0+0)/(1)=0","(0+31250)/(1)=31250","(0+0)/(1)=0",null,null,null,null,null,"S6","(0+0)/(1)=0","(0+0)/(1)=0","(0+0)/(1)=0","(0+0)/(1)=0","(0+0)/(1)=0","(0+0)/(1)=0","(0+0)/(1)=0","(0+0)/(1)=0","(0+0)/(1)=0","(0+0)/(1)=0","(0+0)/(1)=0","(0+0)/(1)=0","(0+0)/(1)=0","(0+0)/(1)=0","(0+0)/(1)=0","(0+0)/(1)=0","(0+0)/(1)=0","(0+0)/(1)=0","(0+0)/(1)=0","(0+0)/(1)=0","(0+234375)/(1)=234375","(0+0)/(1)=0"]
["S7","(0+0)/(1)=0","(0+0)/(1)=0","(0+0)/(1)=0","(0+0)/(1)=0","(0+0)/(1)=0","(0+62500)/(1)=62500","(0+0)/(1)=0","(0+0)/(1)=0","(0+0)/(1)=0","(0+0)/(1)=0","(0+0)/(1)=0","(0+0)/(1)=0","(0+0)/(1)=0","(0+0)/(1)=0","(0+0)/(1)=0","(0+125000)/(1)=125000","(0+0)/(1)=0","(0+0)/(1)=0","(0+0)/(1)=0","(0+0)/(1)=0","(0+31250)/(1)=31250","(0+0)/(1)=0",null,null,null,null,null,"S7","(0+0)/(1)=0","(0+0)/(1)=0","(0+0)/(1)=0","(0+0)/(1)=0","(0+0)/(1)=0","(0+0)/(1)=0","(0+0)/(1)=0","(0+0)/(1)=0","(0+0)/(1)=0","(0+0)/(1)=0","(0+0)/(1)=0","(0+0)/(1)=0","(0+0)/(1)=0","(0+0)/(1)=0","(0+0)/(1)=0","(0+0)/(1)=0","(0+0)/(1)=0","(0+0)/(1)=0","(0+0)/(1)=0","(0+0)/(1)=0","(0+234375)/(1)=234375","(0+0)/(1)=0"]
["S8","(0+0)/(1)=0","(0+0)/(1)=0","(0+0)/(1)=0","(0+0)/(1)=0","(0+0)/(1)=0","(0+62500)/(1)=62500","(0+0)/(1)=0","(0+0)/(1)=0","(0+0)/(1)=0","(0+0)/(1)=0","(0+0)/(1)=0","(0+0)/(1)=0","(0+0)/(1)=0","(0+0)/(1)=0","(0+0)/(1)=0","(0+0)/(1)=0","(0+0)/(1)=0","(0+0)/(1)=0","(0+0)/(1)=0","(0+0)/(1)=0","(0+31250)/(1)=31250","(0+0)/(1)=0",null,null,null,null,null,"S8","(0+0)/(1)=0","(0+0)/(1)=0","(0+0)/(1)=0","(0+0)/(1)=0","(0+0)/(1)=0","(0+0)/(1)=0","(0+0)/(1)=0","(0+0)/(1)=0","(0+0)/(1)=0","(0+0)/(1)=0","(0+0)/(1)=0","(0+0)/(1)=0","(0+0)/(1)=0","(0+0)/(1)=0","(0+0)/(1)=0","(0+0)/(1)=0","(0+0)/(1)=0","(0+0)/(1)=0","(0+0)/(1)=0","(0+0)/(1)=0","(0+234375)/(1)=234375","(0+0)/(1)=0"]
["S9","(0+0)/(1)=0","(0+0)/(1)=0","(0+0)/(1)=0","(0+0)/(1)=0","(0+0)/(1)=0","(0+62500)/(1)=62500","(0+0)/(1)=0","(0+0)/(1)=0","(0+0)/(1)=0","(0+0)/(1)=0","(0+0)/(1)=0","(0+0)/(1)=0","(0+0)/(1)=0","(0+0)/(1)=0","(0+0)/(1)=0","(0+0)/(1)=0","(0+0)/(1)=0","(0+0)/(1)=0","(0+0)/(1)=0","(0+0)/(1)=0","(0+31250)/(1)=31250","(0+0)/(1)=0",null,null,null,null,null,"S9","(0+0)/(1)=0","(0+0)/(1)=0","(0+0)/(1)=0","(0+0)/(1)=0","(0+0)/(1)=0","(0+0)/(1)=0","(0+0)/(1)=0","(0+0)/(1)=0","(0+0)/(1)=0","(0+0)/(1)=0","(0+0)/(1)=0","(0+0)/(1)=0","(0+0)/(1)=0","(0+0)/(1)=0","(0+0)/(1)=0","(0+0)/(1)=0","(0+0)/(1)=0","(0+0)/(1)=0","(0+0)/(1)=0","(0+0)/(1)=0","(0+234375)/(1)=234375","(0+0)/(1)=0"]
["S10","(0+0)/(1)=0","(0+0)/(1)=0","(0+0)/(1)=0","(0+0)/(1)=0","(0+0)/(1)=0","(0+62500)/(1)=62500","(0+0)/(1)=0","(0+0)/(1)=0","(0+0)/(1)=0","(0+0)/(1)=0","(0+0)/(1)=0","(0+0)/(1)=0","(0+0)/(1)=0","(0+0)/(1)=0","(0+0)/(1)=0","(0+0)/(1)=0","(0+0)/(1)=0","(0+0)/(1)=0","(0+0)/(1)=0","(0+0)/(1)=0","(0+31250)/(1)=31250","(0+0)/(1)=0",null,null,null,null,null,"S10","(0+0)/(1)=0","(0+0)/(1)=0","(0+0)/(1)=0","(0+0)/(1)=0","(0+0)/(1)=0","(0+0)/(1)=0","(0+0)/(1)=0","(0+0)/(1)=0","(0+0)/(1)=0","(0+0)/(1)=0","(0+0)/(1)=0","(0+0)/(1)=0","(0+0)/(1)=0","(0+0)/(1)=0","(0+0)/(1)=0","(0+0)/(1)=0","(0+0)/(1)=0","(0+0)/(1)=0","(0+0)/(1)=0","(0+0)/(1)=0","(0+234375)/(1)=234375","(0+0)/(1)=0"]
["S11","(0+0)/(1)=0","(0+0)/(1)=0","(0+0)/(1)=0","(0+0)/(1)=0","(0+0)/(1)=0","(0+62500)/(1)=62500","(0+0)/(1)=0","(0+0)/(1)=0","(0+0)/(1)=0","(0+0)/(1)=0","(0+0)/(1)=0","(0+0)/(1)=0","(0+0)/(1)=0","(0+0)/(1)=0","(0+0)/(1)=0","(0+0)/(1)=0","(0+0)/(1)=0","(0+0)/(1)=0","(0+0)/(1)=0","(0+0)/(1)=0","(0+31250)/(1)=31250","(0+0)/(1)=0",null,null,null,null,null,"S11","(0+0)/(1)=0","(0+0)/(1)=0","(0+0)/(1)=0","(0+0)/(1)=0","(0+0)/(1)=0","(0+0)/(1)=0","(0+0)/(1)=0","(0+0)/(1)=0","(0+0)/(1)=0","(0+0)/(1)=0","(0+0)/(1)=0","(0+0)/(1)=0","(0+0)/(1)=0","(0+0)/(1)=0","(0+0)/(1)=0","(0+0)/(1)=0","(0+0)/(1)=0","(0+0)/(1)=0","(0+0)/(1)=0","(0+0)/(1)=0","(0+234375)/(1)=234375","(0+0)/(1)=0"]
["S12","(0+0)/(1)=0","(0+0)/(1)=0","(0+0)/(1)=0","(0+0)/(1)=0","(0+0)/(1)=0","(0+62500)/(1)=62500","(0+0)/(1)=0","(0+0)/(1)=0","(0+0)/(1)=0","(0+0)/(1)=0","(0+0)/(1)=0","(0+0)/(1)=0","(0+0)/(1)=0","(0+0)/(1)=0","(0+0)/(1)=0","(0+0)/(1)=0","(0+0)/(1)=0","(0+0)/(1)=0","(0+0)/(1)=0","(0+0)/(1)=0","(0+0)/(1)=0","(0+0)/(1)=0",null,null,null,null,null,"S12","(0+0)/(1)=0","(0+0)/(1)=0","(0+0)/(1)=0","(0+0)/(1)=0","(0+0)/(1)=0","(0+0)/(1)=0","(0+0)/(1)=0","(0+0)/(1)=0","(0+0)/(1)=0","(0+0)/(1)=0","(0+0)/(1)=0","(0+0)/(1)=0","(0+0)/(1)=0","(0+0)/(1)=0","(0+0)/(1)=0","(0+0)/(1)=0","(0+0)/(1)=0","(0+0)/(1)=0","(0+0)/(1)=0","(0+0)/(1)=0","(0+0)/(1)=0","(0+0)/(1)=0"]
["S13","(0+0)/(1)=0","(0+0)/(1)=0","(0+0)/(1)=0","(0+0)/(1)=0","(0+0)/(1)=0","(0+0)/(1)=0","(0+0)/(1)=0","(0+0)/(1)=0","(0+0)/(1)=0","(0+0)/(1)=0","(0+0)/(1)=0","(0+0)/(1)=0","(0+0)/(1)=0","(0+0)/(1)=0","(0+0)/(1)=0","(0+0)/(1)=0","(0+0)/(1)=0","(0+0)/(1)=0","(0+0)/(1)=0","(0+0)/(1)=0","(0+0)/(1)=0","(0+0)/(1)=0",null,null,null,null,null,"S13","(0+0)/(1)=0","(0+0)/(1)=0","(0+0)/(1)=0","(0+0)/(1)=0","(0+0)/(1)=0","(0+0)/(1)=0","(0+0)/(1)=0","(0+0)/(1)=0","(0+0)/(1)=0","(0+0)/(1)=0","(0+0)/(1)=0","(0+0)/(1)=0","(0+0)/(1)=0","(0+0)/(1)=0","(0+0)/(1)=0","(0+0)/(1)=0","(0+0)/(1)=0","(0+0)/(1)=0","(0+0)/(1)=0","(0+0)/(1)=0","(0+0)/(1)=0","(0+0)/(1)=0"]
["S14","(0+0)/(1)=0","(0+0)/(1)=0","(0+0)/(1)=0","(0+0)/(1)=0","(0+0)/(1)=0","(0+0)/(1)=0","(0+0)/(1)=0","(0+0)/(1)=0","(0+0)/(1)=0","(0+0)/(1)=0","(0+0)/(1)=0","(0+0)/(1)=0","(0+0)/(1)=0","(0+0)/(1)=0","(0+0)/(1)=0","(0+0)/(1)=0","(0+0)/(1)=0","(0+0)/(1)=0","(0+0)/(1)=0","(0+0)/(1)=0","(0+0)/(1)=0","(0+0)/(1)=0",null,null,null,null,null,"S14","(0+0)/(1)=0","(0+0)/(1)=0","(0+0)/(1)=0","(0+0)/(1)=0","(0+0)/(1)=0","(0+0)/(1)=0","(0+0)/(1)=0","(0+0)/(1)=0","(0+0)/(1)=0","(0+0)/(1)=0","(0+0)/(1)=0","(0+0)/(1)=0","(0+0)/(1)=0","(0+0)/(1)=0","(0+0)/(1)=0","(0+0)/(1)=0","(0+0)/(1)=0","(0+0)/(1)=0","(0+0)/(1)=0","(0+0)/(1)=0","(0+0)/(1)=0","(0+0)/(1)=0"]
["S15","(0+0)/(1)=0","(0+0)/(1)=0","(0+0)/(1)=0","(0+0)/(1)=0","(0+0)/(1)=0","(0+0)/(1)=0","(0+0)/(1)=0","(0+0)/(1)=0","(0+0)/(1)=0","(0+0)/(1)=0","(0+0)/(1)=0","(0+0)/(1)=0","(0+0)/(1)=0","(0+0)/(1)=0","(0+0)/(1)=0","(0+0)/(1)=0","(0+0)/(1)=0","(0+0)/(1)=0","(0+0)/(1)=0","(0+0)/(1)=0","(0+0)/(1)=0","(0+0)/(1)=0",null,null,null,null,null,"S15","(0+0)/(1)=0","(0+0)/(1)=0","(0+0)/(1)=0","(0+0)/(1)=0","(0+0)/(1)=0","(0+0)/(1)=0","(0+0)/(1)=0","(0+0)/(1)=0","(0+0)/(1)=0","(0+0)/(1)=0","(0+0)/(1)=0","(0+0)/(1)=0","(0+0)/(1)=0","(0+0)/(1)=0","(0+0)/(1)=0","(0+0)/(1)=0","(0+0)/(1)=0","(0+0)/(1)=0","(0+0)/(1)=0","(0+0)/(1)=0","(0+0)/(1)=0","(0+0)/(1)=0"]
["S16","(0+0)/(1)=0","(0+0)/(1)=0","(0+0)/(1)=0","(0+0)/(1)=0","(0+0)/(1)=0","(0+0)/(1)=0","(0+0)/(1)=0","(0+0)/(1)=0","(0+0)/(1)=0","(0+0)/(1)=0","(0+0)/(1)=0","(0+0)/(1)=0","(0+0)/(1)=0","(0+0)/(1)=0","(0+0)/(1)=0","(0+0)/(1)=0","(0+0)/(1)=0","(0+0)/(1)=0","(0+0)/(1)=0","(0+0)/(1)=0","(0+0)/(1)=0","(0+0)/(1)=0",null,null,null,null,null,"S16","(0+0)/(1)=0","(0+0)/(1)=0","(0+0)/(1)=0","(0+0)/(1)=0","(0+0)/(1)=0","(0+0)/(1)=0","(0+0)/(1)=0","(0+0)/(1)=0","(0+0)/(1)=0","(0+0)/(1)=0","(0+0)/(1)=0","(0+0)/(1)=0","(0+0)/(1)=0","(0+0)/(1)=0","(0+0)/(1)=0","(0+0)/(1)=0","(0+0)/(1)=0","(0+0)/(1)=0","(0+0)/(1)=0","(0+0)/(1)=0","(0+0)/(1)=0","(0+0)/(1)=0"]
[]
["L�pcs�k(2)","X(A1)","X(A2)","X(A3)","X(A4)","X(A5)","X(A6)","X(A7)","X(A8)","X(A9)","X(A10)","X(A11)","X(A12)","X(A13)","X(A14)","X(A15)","X(A16)","X(A17)","X(A18)","X(A19)","X(A20)","X(A21)","X(A22)",null,"correlation",null,null,null,"L�pcs�k(2)","X(A1)","X(A2)","X(A3)","X(A4)","X(A5)","X(A6)","X(A7)","X(A8)","X(A9)","X(A10)","X(A11)","X(A12)","X(A13)","X(A14)","X(A15)","X(A16)","X(A17)","X(A18)","X(A19)","X(A20)","X(A21)","X(A22)"]
["S1",0,0,0,156250,312500,62500,281250,0,0,0,0,0,156250,0,0,375000,343750,0,0,250000,375000,156250,null,{"$f":"CORREL(B158:W173,AD158:AY173)","v":0.41206318593981867},null,null,null,"S1",328125,15625,0,78125,109375,328125,0,0,0,265625,218750,0,234375,93750,0,218750,140625,0,0,203125,437500,0]
["S2",0,0,0,156250,312500,62500,281250,0,0,0,0,0,156250,0,0,375000,0,0,0,0,31250,156250,null,null,null,null,null,"S2",0,15625,0,78125,109375,328125,0,0,0,0,218750,0,78125,93750,0,218750,0,0,0,0,234375,0]
["S3",0,0,0,156250,156250,62500,0,0,0,0,0,0,156250,0,0,125000,0,0,0,0,31250,156250,null,null,null,null,null,"S3",0,0,0,0,0,328125,0,0,0,0,218750,0,78125,93750,0,0,0,0,0,0,234375,0]
["S4",0,0,0,156250,156250,62500,0,0,0,0,0,0,0,0,0,125000,0,0,0,0,31250,0,null,null,null,null,null,"S4",0,0,0,0,0,46875,0,0,0,0,218750,0,0,0,0,0,0,0,0,0,234375,0]
["S5",0,0,0,0,156250,62500,0,0,0,0,0,0,0,0,0,125000,0,0,0,0,31250,0,null,null,null,null,null,"S5",0,0,0,0,0,46875,0,0,0,0,0,0,0,0,0,0,0,0,0,0,234375,0]
["S6",0,0,0,0,0,62500,0,0,0,0,0,0,0,0,0,125000,0,0,0,0,31250,0,null,null,null,null,null,"S6",0,0,0,0,0,0,0,0,0,0,0,0,0,0,0,0,0,0,0,0,234375,0]
["S7",0,0,0,0,0,62500,0,0,0,0,0,0,0,0,0,125000,0,0,0,0,31250,0,null,null,null,null,null,"S7",0,0,0,0,0,0,0,0,0,0,0,0,0,0,0,0,0,0,0,0,234375,0]
["S8",0,0,0,0,0,62500,0,0,0,0,0,0,0,0,0,0,0,0,0,0,31250,0,null,null,null,null,null,"S8",0,0,0,0,0,0,0,0,0,0,0,0,0,0,0,0,0,0,0,0,234375,0]
["S9",0,0,0,0,0,62500,0,0,0,0,0,0,0,0,0,0,0,0,0,0,31250,0,null,null,null,null,null,"S9",0,0,0,0,0,0,0,0,0,0,0,0,0,0,0,0,0,0,0,0,234375,0]
["S10",0,0,0,0,0,62500,0,0,0,0,0,0,0,0,0,0,0,0,0,0,31250,0,null,null,null,null,null,"S10",0,0,0,0,0,0,0,0,0,0,0,0,0,0,0,0,0,0,0,0,234375,0]
["S11",0,0,0,0,0,62500,0,0,0,0,0,0,0,0,0,0,0,0,0,0,31250,0,null,null,null,null,null,"S11",0,0,0,0,0,0,0,0,0,0,0,0,0,0,0,0,0,0,0,0,234375,0]
["S12",0,0,0,0,0,62500,0,0,0,0,0,0,0,0,0,0,0,0,0,0,0,0,null,null,null,null,null,"S12",0,0,0,0,0,0,0,0,0,0,0,0,0,0,0,0,0,0,0,0,0,0]
["S13",0,0,0,0,0,0,0,0,0,0,0,0,0,0,0,0,0,0,0,0,0,0,null,null,null,null,null,"S13",0,0,0,0,0,0,0,0,0,0,0,0,0,0,0,0,0,0,0,0,0,0]
["S14",0,0,0,0,0,0,0,0,0,0,0,0,0,0,0,0,0,0,0,0,0,0,null,null,null,null,null,"S14",0,0,0,0,0,0,0,0,0,0,0,0,0,0,0,0,0,0,0,0,0,0]
["S15",0,0,0,0,0,0,0,0,0,0,0,0,0,0,0,0,0,0,0,0,0,0,null,null,null,null,null,"S15",0,0,0,0,0,0,0,0,0,0,0,0,0,0,0,0,0,0,0,0,0,0]
["S16",0,0,0,0,0,0,0,0,0,0,0,0,0,0,0,0,0,0,0,0,0,0,null,null,null,null,null,"S16",0,0,0,0,0,0,0,0,0,0,0,0,0,0,0,0,0,0,0,0,0,0]
[]
["COCO:STD","X(A1)","X(A2)","X(A3)","X(A4)","X(A5)","X(A6)","X(A7)","X(A8)","X(A9)","X(A10)","X(A11)","X(A12)","X(A13)","X(A14)","X(A15)","X(A16)","X(A17)","X(A18)","X(A19)","X(A20)","X(A21)","X(A22)","Becsl�s","T�ny+0","Delta","Delta/T�ny",null,"COCO:STD","X(A1)","X(A2)","X(A3)","X(A4)","X(A5)","X(A6)","X(A7)","X(A8)","X(A9)","X(A10)","X(A11)","X(A12)","X(A13)","X(A14)","X(A15)","X(A16)","X(A17)","X(A18)","X(A19)","X(A20)","X(A21)","X(A22)","Becsl�s","T�ny+0","Delta","Delta/T�ny"]
["O1",0,0,0,0,0,0,0,0,0,0,0,0,156250,0,0,125000,0,0,0,0,31250,0,312500,312500,0,0,null,"O1",0,0,0,0,0,0,0,0,0,0,218750,0,234375,0,0,0,0,0,0,0,234375,0,687500,687500,0,0]
["O2",0,0,0,0,0,62500,0,0,0,0,0,0,156250,0,0,125000,0,0,0,0,31250,0,375000,375000,0,0,null,"O2",0,0,0,0,0,0,0,0,0,0,0,0,78125,0,0,0,0,0,0,0,234375,0,312500,312500,0,0]
["O3",0,0,0,156250,0,0,0,0,0,0,0,0,0,0,0,0,0,0,0,0,31250,0,187500,187500,0,0,null,"O3",0,0,0,0,0,0,0,0,0,265625,0,0,0,0,0,0,0,0,0,0,234375,0,500000,500000,0,0]
["O4",0,0,0,156250,0,62500,0,0,0,0,0,0,0,0,0,125000,0,0,0,0,31250,0,375000,375000,0,0,null,"O4",0,0,0,78125,0,0,0,0,0,0,0,0,0,0,0,0,0,0,0,0,234375,0,312500,312500,0,0]
["O5",0,0,0,0,0,0,0,0,0,0,0,0,0,0,0,0,0,0,0,0,375000,0,375000,375000,0,0,null,"O5",0,0,0,0,0,0,0,0,0,0,0,0,0,0,0,0,0,0,0,0,437500,0,437500,437500,0,0]
["O6",0,0,0,0,312500,62500,0,0,0,0,0,0,0,0,0,0,0,0,0,0,0,0,375000,375000,0,0,null,"O6",0,0,0,0,109375,328125,0,0,0,0,0,0,0,0,0,0,0,0,0,0,0,0,437500,437500,0,0]
["O7",0,0,0,0,156250,62500,0,0,0,0,0,0,156250,0,0,0,0,0,0,0,0,0,375000,375000,0,0,null,"O7",0,0,0,0,0,328125,0,0,0,0,0,0,78125,93750,0,0,0,0,0,0,0,0,500000,500000,0,0]
["O8",0,0,0,0,0,62500,0,0,0,0,0,0,0,0,0,375000,0,0,0,0,0,0,437500,437500,0,0,null,"O8",0,0,0,0,0,0,0,0,0,0,218750,0,0,0,0,218750,0,0,0,0,0,0,437500,437500,0,0]
["O9",0,0,0,0,0,62500,0,0,0,0,0,0,0,0,0,375000,0,0,0,0,0,0,437500,437500,0,0,null,"O9",0,15625,0,0,0,46875,0,0,0,0,218750,0,0,0,0,218750,0,0,0,0,0,0,500000,500000,0,0]
["O10",0,0,0,0,156250,62500,0,0,0,0,0,0,0,0,0,125000,0,0,0,0,31250,0,375000,375000,0,0,null,"O10",0,0,0,0,0,328125,0,0,0,0,0,0,0,0,0,0,0,0,0,0,234375,0,562500,562500,0,0]
["O11",0,0,0,0,0,62500,0,0,0,0,0,0,0,0,0,0,0,0,0,0,31250,156250,250000,250000,0,0,null,"O11",0,15625,0,0,0,0,0,0,0,0,0,0,0,0,0,0,0,0,0,0,234375,0,250000,250000,0,0]
["O12",0,0,0,0,156250,62500,0,0,0,0,0,0,0,0,0,125000,0,0,0,0,31250,0,375000,375000,0,0,null,"O12",0,0,0,0,0,46875,0,0,0,0,218750,0,0,0,0,0,0,0,0,0,234375,0,500000,500000,0,0]
["O13",0,0,0,0,0,62500,0,0,0,0,0,0,0,0,0,0,0,0,0,250000,31250,156250,500000,500000,0,0,null,"O13",0,0,0,0,0,0,0,0,0,0,0,0,0,0,0,0,0,0,0,203125,234375,0,437500,437500,0,0]
["O14",0,0,0,156250,312500,62500,281250,0,0,0,0,0,0,0,0,0,0,0,0,0,31250,156250,1000000,1000000,0,0,null,"O14",0,0,0,0,109375,0,0,0,0,0,0,0,0,93750,0,0,0,0,0,0,234375,0,437500,437500,0,0]
["O15",0,0,0,0,0,62500,0,0,0,0,0,0,0,0,0,0,343750,0,0,0,31250,0,437500,437500,0,0,null,"O15",0,0,0,0,0,0,0,0,0,0,0,0,0,0,0,0,140625,0,0,0,234375,0,375000,375000,0,0]
["O16",0,0,0,156250,0,0,281250,0,0,0,0,0,0,0,0,0,0,0,0,0,0,0,437500,437500,0,0,null,"O16",328125,0,0,78125,0,0,0,0,0,0,0,0,0,93750,0,0,0,0,0,0,0,0,500000,500000,0,0]
[]
["S1 �sszeg:",2468750,null,null,null,null,null,null,null,null,null,null,null,null,null,null,null,null,null,null,null,null,null,null,null,null,null,null,"S1 �sszeg:",2671875]
["S16 �sszeg:",0,null,null,null,null,null,null,null,null,null,null,null,null,null,null,null,null,null,null,null,null,null,null,null,null,null,null,"S16 �sszeg:",0]
["Becsl�s �sszeg:",6625000,null,null,null,null,null,null,null,null,null,null,null,null,null,null,null,null,null,null,null,null,null,null,null,null,null,null,"Becsl�s �sszeg:",7187500]
["T�ny �sszeg:",6625000,null,null,null,null,null,null,null,null,null,null,null,null,null,null,null,null,null,null,null,null,null,null,null,null,null,null,"T�ny �sszeg:",7187500]
["T�ny-becsl�s elt�r�s:",0,null,null,null,null,null,null,null,null,null,null,null,null,null,null,null,null,null,null,null,null,null,null,null,null,null,null,"T�ny-becsl�s elt�r�s:",0]
["T�ny n�gyzet�sszeg:",null,null,null,null,null,null,null,null,null,null,null,null,null,null,null,null,null,null,null,null,null,null,null,null,null,null,null,"T�ny n�gyzet�sszeg:"]
["Becsl�s n�gyzet�sszeg:",null,null,null,null,null,null,null,null,null,null,null,null,null,null,null,null,null,null,null,null,null,null,null,null,null,null,null,"Becsl�s n�gyzet�sszeg:"]
["N�gyzet�sszeg hiba:",0,null,null,null,null,null,null,null,null,null,null,null,null,null,null,null,null,null,null,null,null,null,null,null,null,null,null,"N�gyzet�sszeg hiba:",0]
[]
["Open url",null,null,null,null,null,null,null,null,null,null,null,null,null,null,null,null,null,null,null,null,null,null,null,null,null,null,null,"Open url"]
[]
["Maxim�lis mem�ria haszn�lat: 1.43 Mb",null,null,null,null,null,null,null,null,null,null,null,null,null,null,null,null,null,null,null,null,null,null,null,null,null,null,null,"Maxim�lis mem�ria haszn�lat: 1.43 Mb"]
["A futtat�s id�tartama: 0.28 mp (0 p)",null,null,null,null,null,null,null,null,null,null,null,null,null,null,null,null,null,null,null,null,null,null,null,null,null,null,null,"A futtat�s id�tartama: 0.08 mp (0 p)"]

{"sheet":"check_pre1_abs","index":22,"n_rows":254,"n_cols":23,"rows_kept":254,"cut":false,"hidden":false,"merged":[]}
["Rangsor","X(A1)","X(A2)","X(A3)","X(A4)","X(A5)","X(A6)","X(A7)","Y(A8)",null,null,null,null,null,"Rangsor","X(A1)","X(A2)","X(A3)","X(A4)","X(A5)","X(A6)","X(A7)","Y(A8)"]
["O1",7,11,8,10,3,5,8,37097,null,null,null,null,null,"O1",8,4,7,5,12,8,7,37097]
["O2",5,7,3,11,7,4,13,6550,null,null,null,null,null,"O2",10,8,12,4,8,11,2,6550]
["O3",6,10,4,4,14,5,7,17127,null,null,null,null,null,"O3",9,5,11,11,1,8,8,17127]
["O4",4,6,11,6,6,10,1,48604,null,null,null,null,null,"O4",11,9,4,9,9,4,13,48604]
["O5",3,5,13,7,8,9,12,52881,null,null,null,null,null,"O5",12,10,2,8,7,6,3,52881]
["O6",2,4,7,14,10,10,9,11248,null,null,null,null,null,"O6",13,11,8,1,5,4,6,11248]
["O7",1,2,10,8,12,1,1,12570,null,null,null,null,null,"O7",14,13,5,7,3,12,13,12570]
["O8",12,1,14,1,2,1,3,21616,null,null,null,null,null,"O8",3,14,1,14,13,12,12,21616]
["O9",9,12,6,2,5,5,4,41659,null,null,null,null,null,"O9",6,3,9,13,10,8,11,41659]
["O10",10,8,9,3,9,8,5,40060,null,null,null,null,null,"O10",5,7,6,12,6,7,10,40060]
["O11",11,14,1,9,13,12,11,11368,null,null,null,null,null,"O11",4,1,14,6,2,2,4,11368]
["O12",13,9,5,12,1,14,10,17950,null,null,null,null,null,"O12",2,6,10,3,14,1,5,17950]
["O13",8,13,2,13,4,12,14,8242,null,null,null,null,null,"O13",7,2,13,2,11,2,1,8242]
["O14",14,3,12,5,11,1,6,19630,null,null,null,null,null,"O14",1,12,3,10,4,12,9,19630]
[]
["https://miau.my-x.hu/miau/274/csak_invalid_objektum.xlsx"]
[]
[null,"direct","direct","direct","direct","direct","direct","direct","inverse","inverse","inverse","inverse","inverse","inverse","inverse","direct","inverse","abs(delta)"]
[null,{"$f":"B1","v":"X(A1)"},{"$f":"C1","v":"X(A2)"},"X(A3)","X(A4)","X(A5)","X(A6)","X(A7)",{"$f":"P1","v":"X(A1)"},{"$f":"Q1","v":"X(A2)"},"X(A3)","X(A4)","X(A5)","X(A6)","X(A7)","stddev","stddev","stddev"]
[null,{"$f":"B2","v":7},11,8,10,3,5,8,{"$f":"P2","v":8},4,7,5,12,8,7,{"$f":"STDEV(B21:H21)","v":2.760262237369417},{"$f":"STDEV(I21:O21)","v":2.5634797778466236},{"$f":"ABS(P21-Q21)","v":0.19678245952279338}]
[null,{"$f":"B3","v":5},7,3,11,7,4,13,{"$f":"P3","v":10},8,12,4,8,11,2,{"$f":"STDEV(B22:H22)","v":3.6709931185158156},{"$f":"STDEV(I22:O22)","v":3.6709931185158156},{"$f":"ABS(P22-Q22)","v":0}]
[null,{"$f":"B4","v":6},10,4,4,14,5,7,{"$f":"P4","v":9},5,11,11,1,8,8,3.6709931185158156,3.5523298860110981,0.11866323250471744]
[null,{"$f":"B5","v":4},6,11,6,6,10,1,{"$f":"P5","v":11},9,4,9,9,4,13,3.4016802570830453,3.3594217189442421,4.2258538138803203E-2]
[null,{"$f":"B6","v":3},5,13,7,8,9,12,{"$f":"P6","v":12},10,2,8,7,6,3,3.5790395093549616,3.5790395093549616,0]
[null,{"$f":"B7","v":2},4,7,14,10,10,9,{"$f":"P7","v":13},11,8,1,5,4,6,4.0414518843273806,4.1403933560541244,9.8941471726743835E-2]
[null,{"$f":"B8","v":1},2,10,8,12,1,1,{"$f":"P8","v":14},13,5,7,3,12,13,4.8304589153964796,4.4668088108157198,0.36365010458075986]
[null,{"$f":"B9","v":12},1,14,1,2,1,3,{"$f":"P9","v":3},14,1,14,13,12,12,5.6399932455211159,5.4598098693566071,0.18018337616450886]
[null,{"$f":"B10","v":9},12,6,2,5,5,4,{"$f":"P10","v":6},3,9,13,10,8,11,3.3380918415851202,3.3094381626464853,2.8653678938634908E-2]
[null,{"$f":"B11","v":10},8,9,3,9,8,5,{"$f":"P11","v":5},7,6,12,6,7,10,2.5071326821120352,2.5071326821120352,0]
[null,{"$f":"B12","v":11},14,1,9,13,12,11,{"$f":"P12","v":4},1,14,6,2,2,4,4.3369947901195145,4.4239607334862923,8.6965943366777765E-2]
[null,{"$f":"B13","v":13},9,5,12,1,14,10,{"$f":"P13","v":2},6,10,3,14,1,5,4.6700667885506535,4.6700667885506535,0]
[null,{"$f":"B14","v":8},13,2,13,4,12,14,{"$f":"P14","v":7},2,13,2,11,2,1,4.8255273583012954,4.9280538030458114,0.102526444744516]
[null,{"$f":"B15","v":14},3,12,5,11,1,6,{"$f":"P15","v":1},12,3,10,4,12,9,4.9280538030458114,4.5355736761107268,0.39248012693508461]
[]
[null,null,null,"max","inverse","min",null,"max","inverse","min",null,"max","direct","min","test","test","test","test"]
[null,null,null,{"$f":"MAX(oam_pre_validity!$L$3:$L$18)","v":0.77505980895474735},"pattern",{"$f":"MIN(oam_pre_validity!$L$3:$L$18)","v":0.36058116073109892},null,{"$f":"MAX(oam_pre_validity!$G$3:$G$18)","v":6.8410525505948279},"pattern",{"$f":"MIN(oam_pre_validity!$G$3:$G$18)","v":5.7183913821983188},null,{"$f":"MAX(oam_pre_validity!$B$3:$B$18)","v":6.9856996786291923},"pattern",{"$f":"MIN(oam_pre_validity!$B$3:$B$18)","v":5.5856960175075772},"max",{"$f":"MAX(P21:P36)","v":5.6399932455211159},{"$f":"MAX(Q21:Q36)","v":5.4598098693566071},{"$f":"MAX(R21:R36)","v":0.39248012693508461}]
[null,null,null,{"$f":"MAX(oam_pre_validity!$M$3:$M$18)","v":6.061028869595475E-2},"pattern",{"$f":"MIN(oam_pre_validity!$M$3:$M$18)","v":0},null,{"$f":"MAX(oam_pre_validity!$H$3:$H$18)","v":2.7018512172212588},"pattern",{"$f":"MIN(oam_pre_validity!$H$3:$H$18)","v":0.44721359549995793},null,{"$f":"MAX(oam_pre_validity!$C$3:$C$18)","v":2.7386127875258306},"pattern",{"$f":"MIN(oam_pre_validity!$C$3:$C$18)","v":0.83666002653407512},"min",{"$f":"MIN(P21:P36)","v":2.5071326821120352},{"$f":"MIN(Q21:Q36)","v":2.5071326821120352},{"$f":"MIN(R21:R36)","v":0}]
[null,null,null,{"$f":"MAX(oam_pre_validity!$N$3:$N$18)","v":0.32527334483362674},"pattern",{"$f":"MIN(oam_pre_validity!$N$3:$N$18)","v":8.8379478225959263E-2},null,{"$f":"MAX(oam_pre_validity!$I$3:$I$18)","v":4.6269752318541642},"pattern",{"$f":"MIN(oam_pre_validity!$I$3:$I$18)","v":3.8995313410415178},null,{"$f":"MAX(oam_pre_validity!$D$3:$D$18)","v":4.7109947222508408},"pattern",{"$f":"MIN(oam_pre_validity!$D$3:$D$18)","v":3.938488154004959},"avg",{"$f":"AVERAGE(P21:P36)","v":4.0143385392713187},{"$f":"AVERAGE(Q21:Q36)","v":3.9404644209179431},{"$f":"AVERAGE(R21:R36)","v":0.1150789554730957}]
[null,null,null,{"$f":"MAX(oam_pre_validity!$O$3:$O$18)","v":0.25957753341060935},"pattern",{"$f":"MIN(oam_pre_validity!$O$3:$O$18)","v":0.11306258018460252},null,{"$f":"MAX(oam_pre_validity!$J$3:$J$18)","v":1.6732898757389914},"pattern",{"$f":"MIN(oam_pre_validity!$J$3:$J$18)","v":0.98466238821682472},null,{"$f":"MAX(oam_pre_validity!$E$3:$E$18)","v":1.5753990420384216},"pattern",{"$f":"MIN(oam_pre_validity!$E$3:$E$18)","v":1.022991354698805},"stddev",{"$f":"STDEV(P21:P36)","v":0.89609513305543387},{"$f":"STDEV(Q21:Q36)","v":0.86652352303170632},{"$f":"STDEV(R21:R36)","v":0.12908525871848883}]
[null,null,null,{"$f":"MAX(oam_pre_validity!$P$3:$P$18)","v":0.33625992011536365},"pattern",{"$f":"MIN(oam_pre_validity!$P$3:$P$18)","v":1.9938346731934065E-2},null,{"$f":"MAX(oam_pre_validity!$K$3:$K$18)","v":4.919349550499537},"pattern",{"$f":"MIN(oam_pre_validity!$K$3:$K$18)","v":4.0601520348381417},null,{"$f":"MAX(oam_pre_validity!$F$3:$F$18)","v":4.8938070641773859},"pattern",{"$f":"MIN(oam_pre_validity!$F$3:$F$18)","v":3.9369219971766896},"median",{"$f":"MEDIAN(P21:P36)","v":3.8562225014215983},{"$f":"MEDIAN(Q21:Q36)","v":3.9056932372849698},9.29537075467608E-2]
[]
[null,null,null,null,null,null,null,null,null,null,null,"//16",null,"//16",null,"//14"]
[null,null,null,null,null,null,null,null,null,null,null,{"$f":"L37/16","v":0.43660622991432452},null,{"$f":"N37/16","v":0.34910600109422357},null,{"$f":"P37/14","v":0.40285666039436541}]
[null,null,null,null,null,null,null,null,null,null,null,{"$f":"L38/16","v":0.17116329922036441},null,5.2291251658379695E-2,null,{"$f":"P38/14","v":0.17908090586514538}]
[null,null,null,null,null,null,null,null,null,null,null,{"$f":"L39/16","v":0.29443717014067755},null,0.24615550962530994,null,0.28673846709080847]
[null,null,null,null,null,null,null,null,null,null,null,{"$f":"L40/16","v":9.8462440127401352E-2},null,6.3936959668675311E-2,null,6.4006795218245274E-2]
[null,null,null,null,null,null,null,null,null,null,null,{"$f":"L41/16","v":0.30586294151108662},null,0.2460576248235431,null,0.275444464387257]
[]
[null,null,null,null,null,null,null,"//16",null,"//16",null,null,null,null,null,null,"//14"]
[null,null,null,null,null,null,null,{"$f":"H37/16","v":0.42756578441217674},null,{"$f":"J37/16","v":0.35739946138739492},null,null,null,null,null,null,{"$f":"Q37/14","v":0.38998641923975763}]
[null,null,null,null,null,null,null,{"$f":"H38/16","v":0.16886570107632867},null,2.795084971874737E-2,null,null,null,null,null,null,{"$f":"Q38/14","v":0.17908090586514538}]
[null,null,null,null,null,null,null,{"$f":"H39/16","v":0.28918595199088526},null,0.24372070881509486,null,null,null,null,null,null,0.28146174435128163]
[null,null,null,null,null,null,null,{"$f":"H40/16","v":0.10458061723368696},null,6.1541399263551545E-2,null,null,null,null,null,null,6.1894537359407593E-2]
[null,null,null,null,null,null,null,{"$f":"H41/16","v":0.30745934690622106},null,0.25375950217738386,null,null,null,null,null,null,0.27897808837749782]
[]
[null,null,null,"//16",null,"//16",null,null,null,null,null,null,null,null,null,null,null,"//14"]
[null,null,null,{"$f":"D37/16","v":4.844123805967171E-2},null,{"$f":"F37/16","v":2.2536322545693682E-2},null,null,null,null,null,null,null,null,null,null,null,{"$f":"R37/14","v":2.8034294781077471E-2}]
[null,null,null,{"$f":"D38/16","v":3.7881430434971719E-3},null,0,null,null,null,null,null,null,null,null,null,null,null,{"$f":"R38/14","v":0}]
[null,null,null,{"$f":"D39/16","v":2.0329584052101671E-2},null,5.5237173891224539E-3,null,null,null,null,null,null,null,null,null,null,null,8.2199253909354068E-3]
[null,null,null,{"$f":"D40/16","v":1.6223595838163084E-2},null,7.0664112615376577E-3,null,null,null,null,null,null,null,null,null,null,null,9.2203756227492023E-3]
[null,null,null,{"$f":"D41/16","v":2.1016245007210228E-2},null,1.246146670745879E-3,null,null,null,null,null,null,null,null,null,null,null,6.639550539054343E-3]
[]
[]
[]
[]
[]
[null,"direct","direct","direct","direct","direct","inverse","inverse","inverse","inverse","inverse","delta","delta","delta","delta","delta","Y"]
["absolute values","max","min","avg","stddev","median","max","min","avg","stddev","median","max","min","avg","stddev","median","validity ratio"]
["scenario1",5.805170109479997,2.5099800796022289,4.631463770352517,1.0260829564446461,4.8938070641773859,5.7183913821983188,2.5099800796022267,4.5901874591456462,1.1009954719383892,4.919349550499537,0.36058116073109892,0,0.14012699986194371,0.12999784991037602,0.12073231551642394,312500]
["scenario2",5.8137767414994528,2.1679483388678773,4.3817732130015408,1.1916659531136666,4.4044254647937748,5.770615218501403,2.1908902300206639,4.3284898065836668,1.1979653837185962,4.3798067144421546,0.44471435651166624,8.8817841970012523E-16,0.22103666426477289,0.14299082320262371,0.23111543323035111,375000]
["scenario3",6.8410525505948279,0.89442719099991574,3.938488154004959,1.3641353054151613,3.9369219971766896,6.8410525505948279,1.1401754250991383,3.9523794168137347,1.3505344899644713,4.1048344869790849,0.70672446073971162,0,0.18195114838575233,0.17189971941755533,0.13799068546627935,187500]
["scenario4",6.3874877690685246,2.7386127875258306,4.5974780178770125,1.2912818954357601,4.5220831386398883,6.6105975524153626,2.5884358211089573,4.5669382917047106,1.2803435537953634,4.8009709544920982,0.74924378295321103,5.1075874615671424E-2,0.31458827982870269,0.18905478346513307,0.3046795296954361,375000]
["scenario5",6.9641941385920596,2.1908902300206639,4.5565706340658938,1.4095537097084658,4.5092948538945912,6.7601775124622288,1.8708286933869707,4.4567965801646805,1.3364487242569048,4.4734484696064936,0.43134419325729945,1.2598831638569674E-2,0.25890418619609895,0.11306258018460252,0.23405962196492203,375000]
["scenario6",5.9413803110051786,0.83666002653407512,4.3154156468596261,1.5304684406508997,4.7939144485436707,6.4575537163851759,1.3038404810405297,4.4068152433192589,1.529262797995258,4.8121529662464946,0.75960814161726109,2.5228854229961684E-2,0.23528792945935645,0.22224891790787951,0.13341176759111395,375000]
["scenario7",6,1.6431676725154949,4.2139218347935898,1.3487229595435128,4.4769391138471573,5.8309518948453007,0.8944271909999163,4.15441766185746,1.3379841118525715,4.2661458015403086,0.77505980895474735,1.7763568394002505E-15,0.25388369943909617,0.23610662376457184,0.14912595424034847,375000]
["scenario8",6.024948132556827,1.51657508881031,4.3264950442033001,1.0740282466722648,4.437037464259431,5.9413803110051804,1.6431676725154982,4.439861701900834,1.0985459810709679,4.6583258795408451,0.63058165130247534,0,0.28691128071988037,0.22621782675023538,0.31389306759038504,437500]
["scenario9",5.5856960175075772,2.0736441353327715,4.2234637023654278,1.022991354698805,4.2425752117430537,6.0991802727907629,2.7018512172212588,4.2972127574049894,0.98466238821682472,4.2600836277335556,0.68043711092382697,4.7203900722527337E-2,0.3106299687769265,0.22744282080892075,0.22710471170165847,437500]
["scenario10",6.6858058601787116,2.1679483388678804,4.7109947222508408,1.1461372701614048,4.5493933920686906,6.3796551630946325,2.1679483388678804,4.6269752318541642,1.1002303777218572,4.4997221793441629,0.49562349132934891,0,0.18920700795070611,0.18188735014502302,0.13572022427774932,375000]
["scenario11",6.2048368229954285,2.0736441353327715,4.213455154874131,1.4479578844205336,4.3720009165334659,6.300793600809345,2.3874672772626644,4.2570897495826827,1.4476415261605986,4.2591129060788795,0.47586562146362077,0,0.13195877232473802,0.16240791037309332,4.9062707630926017E-2,250000]
["scenario12",5.9749476985158623,2.302172886644267,4.4202175984028207,1.0980838499956778,4.65280403175458,6.2449979983983983,1.9235384061671315,4.550797503672495,1.1759782676305708,4.701051677789664,0.75935487755205511,3.4734044214446591E-2,0.32527334483362674,0.21420919038552788,0.33625992011536365,375000]
["scenario13",6.760177512462227,1.3038404810405295,4.2248393006581919,1.4050320550987176,4.32434966208793,6.7601775124622288,1.2247448713915889,4.1848998954202115,1.4185862879404612,4.3243496620879309,0.41240550889479266,0,8.8379478225959263E-2,0.13229650625041353,1.9938346731934065E-2,500000]
["scenario14",6.6105975524153644,1.2247448713915889,4.1571369919591783,1.5425388699879072,4.5052103963269747,6.5038450166036403,0.70710678118654757,4.0195454631900249,1.5872842280569628,4.3961829767751075,0.60693904623444395,1.7763568394002505E-15,0.19967401081429384,0.19060443761301171,0.11875236415854595,1000000]
["scenario15",6.9856996786291923,1.7888543819998315,4.0160866020350676,1.4727926869108412,4.3243496620879309,6.8337398253079549,2.190890230020667,4.0741951180288769,1.4448747637465476,4.0601520348381417,0.48574687930112415,6.061028869595475E-2,0.22872320394328777,0.14225448250678102,0.16324035348312904,437500]
["scenario16",6.7453687816160208,1.0954451150103319,4.0579533624966535,1.5753990420384216,4.3508778260131198,6.8337398253079549,0.44721359549995793,3.8995313410415178,1.6732898757389914,4.1557257752209233,0.74220895747831328,0,0.30275796535267191,0.25957753341060935,0.2936781191341139,437500]
[]
["divided by 16"]
[{"$f":"A70","v":"scenario1"},{"$f":"B70/16","v":0.36282313184249981},{"$f":"C70/16","v":0.15687375497513931},0.28946648564703231,6.4130184777790381E-2,0.30586294151108662,0.35739946138739492,0.15687375497513917,0.28688671619660289,6.8812216996149325E-2,0.30745934690622106,2.2536322545693682E-2,0,8.7579374913714821E-3,8.1248656193985015E-3,7.5457697197764961E-3]
[{"$f":"A71","v":"scenario2"},{"$f":"B71/16","v":0.3633610463437158},0.13549677117924233,0.2738608258125963,7.4479122069604164E-2,0.27527659154961093,0.36066345115633769,0.13693063937629149,0.27053061291147917,7.4872836482412261E-2,0.27373791965263466,2.779464728197914E-2,5.5511151231257827E-17,1.3814791516548306E-2,8.936926450163982E-3,1.4444714576896944E-2]
["scenario3",{"$f":"B72/16","v":0.42756578441217674},5.5901699437494734E-2,0.24615550962530994,8.5258456588447579E-2,0.2460576248235431,0.42756578441217674,7.1260964068696142E-2,0.24702371355085842,8.4408405622779459E-2,0.25655215543619281,4.4170278796231977E-2,0,1.137194677410952E-2,1.0743732463597208E-2,8.6244178416424594E-3]
["scenario4",{"$f":"B73/16","v":0.39921798556678278},0.17116329922036441,0.28734237611731328,8.0705118464735007E-2,0.28263019616499302,0.41316234702596016,0.16177723881930983,0.28543364323154441,8.002147211221021E-2,0.30006068465575614,4.682773643457569E-2,3.192242163479464E-3,1.9661767489293918E-2,1.1815923966570817E-2,1.9042470605964756E-2]
["scenario5",{"$f":"B74/16","v":0.43526213366200373},0.13693063937629149,0.28478566462911836,8.8097106856779114E-2,0.28183092836841195,0.4225110945288893,0.11692679333668567,0.27854978626029253,8.3528045266056547E-2,0.27959052935040585,2.6959012078581215E-2,7.8742697741060463E-4,1.6181511637256184E-2,7.0664112615376577E-3,1.4628726372807627E-2]
["scenario6",{"$f":"B75/16","v":0.37133626943782366},5.2291251658379695E-2,0.26971347792872663,9.5654277540681232E-2,0.29961965303397942,0.4035971072740735,8.1490030065033109E-2,0.27542595270745368,9.5578924874703625E-2,0.30075956039040591,4.7475508851078818E-2,1.5768033893726052E-3,1.4705495591209778E-2,1.3890557369242469E-2,8.3382354744446219E-3]
["scenario7",{"$f":"B76/16","v":0.375},0.10269797953221843,0.26337011467459936,8.4295184971469553E-2,0.27980869461544733,0.3644344934278313,5.5901699437494769E-2,0.25965110386609125,8.3624006990785718E-2,0.26663411259626929,4.844123805967171E-2,1.1102230246251565E-16,1.586773121494351E-2,1.475666398528574E-2,9.3203721400217793E-3]
["scenario8",{"$f":"B77/16","v":0.37655925828480169},9.4785943050644375E-2,0.27040594026270626,6.7126765417016551E-2,0.27731484151621444,0.37133626943782377,0.10269797953221864,0.27749135636880212,6.8659123816935494E-2,0.29114536747130282,3.9411353206404709E-2,0,1.7931955044992523E-2,1.4138614171889712E-2,1.9618316724399065E-2]
["scenario9",{"$f":"B78/16","v":0.34910600109422357},0.12960275845829822,0.26396648139783924,6.3936959668675311E-2,0.26516095073394086,0.38119876704942268,0.16886570107632867,0.26857579733781184,6.1541399263551545E-2,0.26625522673334723,4.2527319432739186E-2,2.9502437951579585E-3,1.9414373048557906E-2,1.4215176300557547E-2,1.4194044481353654E-2]
["scenario10",{"$f":"B79/16","v":0.41786286626116947},0.13549677117924253,0.29443717014067755,7.1633579385087798E-2,0.28433708700429317,0.39872844769341453,0.13549677117924253,0.28918595199088526,6.8764398607616073E-2,0.28123263620901018,3.0976468208084307E-2,0,1.1825437996919132E-2,1.1367959384063939E-2,8.4825140173593327E-3]
["scenario11",{"$f":"B80/16","v":0.38780230143721428},0.12960275845829822,0.26334094717963319,9.0497367776283352E-2,0.27325005728334162,0.39379960005058406,0.14921670482891652,0.26606810934891767,9.0477595385037413E-2,0.26619455662992997,2.9741601341476298E-2,0,8.247423270296126E-3,1.0150494398318333E-2,3.0664192269328761E-3]
["scenario12",{"$f":"B81/16","v":0.37343423115724139},0.14388580541526669,0.27626359990017629,6.863024062472986E-2,0.29080025198466125,0.39031237489989989,0.12022115038544572,0.28442484397953094,7.3498641726910674E-2,0.293815729861854,4.7459679847003444E-2,2.1708777634029119E-3,2.0329584052101671E-2,1.3388074399095493E-2,2.1016245007210228E-2]
["scenario13",{"$f":"B82/16","v":0.42251109452888919},8.1490030065033095E-2,0.26405245629113699,8.7814503443669853E-2,0.27027185388049563,0.4225110945288893,7.6546554461974309E-2,0.26155624346376322,8.8661642996278822E-2,0.27027185388049568,2.5775344305924541E-2,0,5.5237173891224539E-3,8.2685316406508457E-3,1.246146670745879E-3]
["scenario14",{"$f":"B83/16","v":0.41316234702596027},7.6546554461974309E-2,0.25982106199744864,9.6408679374244202E-2,0.28157564977043592,0.40649031353772752,4.4194173824159223E-2,0.25122159144937656,9.9205264253560174E-2,0.27476143604844422,3.7933690389652747E-2,1.1102230246251565E-16,1.2479625675893365E-2,1.1912777350813232E-2,7.4220227599091221E-3]
["scenario15",{"$f":"B84/16","v":0.43660622991432452},0.11180339887498947,0.25100541262719173,9.2049542931927575E-2,0.27027185388049568,0.42710873908174718,0.13693063937629169,0.25463719487680481,9.0304672734159222E-2,0.25375950217738386,3.0359179956320259E-2,3.7881430434971719E-3,1.4295200246455485E-2,8.8909051566738138E-3,1.0202522092695565E-2]
["scenario16",{"$f":"B85/16","v":0.4215855488510013},6.8465319688145745E-2,0.25362208515604084,9.8462440127401352E-2,0.27192986412581999,0.42710873908174718,2.795084971874737E-2,0.24372070881509486,0.10458061723368696,0.25973286095130771,4.638805984239458E-2,0,1.8922372834541994E-2,1.6223595838163084E-2,1.8354882445882119E-2]
[]
[null,{"$f":"B68&B69","v":"directmax"},{"$f":"C68&C69","v":"directmin"},"directavg","directstddev","directmedian","inversemax","inversemin","inverseavg","inversestddev","inversemedian","deltamax","deltamin","deltaavg","deltastddev","deltamedian","Yvalidity ratio"]
["test",{"$f":"TRANSPOSE($P$37:$P$41)","v":5.6399932455211159},2.5071326821120352,4.0143385392713187,0.89609513305543387,3.8562225014215983,{"$f":"TRANSPOSE(Q37:Q41)","v":5.4598098693566071},2.5071326821120352,3.9404644209179431,0.86652352303170632,3.9056932372849698,{"$f":"TRANSPOSE(R37:R41)","v":0.39248012693508461},0,0.1150789554730957,0.12908525871848883,9.29537075467608E-2]
["test/14",{"$f":"B106/14","v":0.40285666039436541},{"$f":"C106/14","v":0.17908090586514538},0.28673846709080847,6.4006795218245274E-2,0.275444464387257,0.38998641923975763,0.17908090586514538,0.28146174435128163,6.1894537359407593E-2,0.27897808837749782,2.8034294781077471E-2,0,8.2199253909354068E-3,9.2203756227492023E-3,6.639550539054343E-3]
[]
["ranking values/",{"$f":"COUNTIFS(B$88:B$103,\"<\"&B107)+1","v":10},{"$f":"COUNTIFS(C$88:C$103,\"<\"&C107)+0","v":16},{"$f":"COUNTIFS(D$88:D$103,\"<\"&D107)+1","v":14},2,8,6,{"$f":"COUNTIFS(H$88:H$103,\"<\"&H107)+0","v":16},13,2,10,5,1,2,6,3,"Y","fkeres","offline","online"]
["estimation/",{"$f":"VLOOKUP(B109,oam_pre_validity!$A$85:$P$100,check_pre1_abs!B$111,0)","v":0},{"$f":"VLOOKUP(C109,oam_pre_validity!$A$85:$P$100,check_pre1_abs!C$111,0)","v":0},{"$f":"VLOOKUP(D109,oam_pre_validity!$A$85:$P$100,check_pre1_abs!D$111,0)","v":0},{"$f":"VLOOKUP(E109,oam_pre_validity!$A$85:$P$100,check_pre1_abs!E$111,0)","v":31250},{"$f":"VLOOKUP(F109,oam_pre_validity!$A$85:$P$100,check_pre1_abs!F$111,0)","v":0},{"$f":"VLOOKUP(G109,oam_pre_validity!$A$85:$P$100,check_pre1_abs!G$111,0)","v":109375},{"$f":"VLOOKUP(H109,oam_pre_validity!$A$85:$P$100,check_pre1_abs!H$111,0)","v":0},{"$f":"VLOOKUP(I109,oam_pre_validity!$A$85:$P$100,check_pre1_abs!I$111,0)","v":0},{"$f":"VLOOKUP(J109,oam_pre_validity!$A$85:$P$100,check_pre1_abs!J$111,0)","v":218750},{"$f":"VLOOKUP(K109,oam_pre_validity!$A$85:$P$100,check_pre1_abs!K$111,0)","v":0},{"$f":"VLOOKUP(L109,oam_pre_validity!$A$85:$P$100,check_pre1_abs!L$111,0)","v":0},{"$f":"VLOOKUP(M109,oam_pre_validity!$A$85:$P$100,check_pre1_abs!M$111,0)","v":0},{"$f":"VLOOKUP(N109,oam_pre_validity!$A$85:$P$100,check_pre1_abs!N$111,0)","v":0},{"$f":"VLOOKUP(O109,oam_pre_validity!$A$85:$P$100,check_pre1_abs!O$111,0)","v":15625},{"$f":"VLOOKUP(P109,oam_pre_validity!$A$85:$P$100,check_pre1_abs!P$111,0)","v":250000},{"$f":"SUM(B110:P110)","v":625000},{"$f":"Q110/1000000","v":0.625},{"$f":"$R$184","v":0.2857142857142857},0]
["return/",2,3,4,5,6,7,8,9,10,11,12,13,14,15,16]
[]
["ranking values",{"$f":"COUNTIFS(B$70:B$85,\"<\"&B106)+1","v":2},{"$f":"COUNTIFS(C$70:C$85,\"<\"&C106)+1","v":15},2,1,1,1,14,2,1,1,2,1,2,2,3,"Y"]
["estimation",{"$f":"VLOOKUP(B113,oam_pre_validity!$A$85:$P$100,check_pre1_abs!B$111,0)","v":0},{"$f":"VLOOKUP(C113,oam_pre_validity!$A$85:$P$100,check_pre1_abs!C$111,0)","v":0},{"$f":"VLOOKUP(D113,oam_pre_validity!$A$85:$P$100,check_pre1_abs!D$111,0)","v":0},{"$f":"VLOOKUP(E113,oam_pre_validity!$A$85:$P$100,check_pre1_abs!E$111,0)","v":31250},{"$f":"VLOOKUP(F113,oam_pre_validity!$A$85:$P$100,check_pre1_abs!F$111,0)","v":0},{"$f":"VLOOKUP(G113,oam_pre_validity!$A$85:$P$100,check_pre1_abs!G$111,0)","v":109375},{"$f":"VLOOKUP(H113,oam_pre_validity!$A$85:$P$100,check_pre1_abs!H$111,0)","v":0},{"$f":"VLOOKUP(I113,oam_pre_validity!$A$85:$P$100,check_pre1_abs!I$111,0)","v":0},{"$f":"VLOOKUP(J113,oam_pre_validity!$A$85:$P$100,check_pre1_abs!J$111,0)","v":218750},{"$f":"VLOOKUP(K113,oam_pre_validity!$A$85:$P$100,check_pre1_abs!K$111,0)","v":375000},{"$f":"VLOOKUP(L113,oam_pre_validity!$A$85:$P$100,check_pre1_abs!L$111,0)","v":0},{"$f":"VLOOKUP(M113,oam_pre_validity!$A$85:$P$100,check_pre1_abs!M$111,0)","v":0},{"$f":"VLOOKUP(N113,oam_pre_validity!$A$85:$P$100,check_pre1_abs!N$111,0)","v":0},{"$f":"VLOOKUP(O113,oam_pre_validity!$A$85:$P$100,check_pre1_abs!O$111,0)","v":15625},{"$f":"VLOOKUP(P113,oam_pre_validity!$A$85:$P$100,check_pre1_abs!P$111,0)","v":250000},{"$f":"SUM(B114:P114)","v":1000000}]
["return",2,3,4,5,6,7,8,9,10,11,12,13,14,15,16]
[]
["ranking values/",{"$f":"17-B109","v":7},{"$f":"17-C109","v":1},3,15,9,11,1,4,15,7,12,16,15,11,14,"Y"]
["estimation/",{"$f":"VLOOKUP(B117,oam_pre_validity!$A$85:$P$100,check_pre1_abs!B$111,0)","v":0},{"$f":"VLOOKUP(C117,oam_pre_validity!$A$85:$P$100,check_pre1_abs!C$111,0)","v":234375},{"$f":"VLOOKUP(D117,oam_pre_validity!$A$85:$P$100,check_pre1_abs!D$111,0)","v":0},{"$f":"VLOOKUP(E117,oam_pre_validity!$A$85:$P$100,check_pre1_abs!E$111,0)","v":0},{"$f":"VLOOKUP(F117,oam_pre_validity!$A$85:$P$100,check_pre1_abs!F$111,0)","v":0},{"$f":"VLOOKUP(G117,oam_pre_validity!$A$85:$P$100,check_pre1_abs!G$111,0)","v":109375},{"$f":"VLOOKUP(H117,oam_pre_validity!$A$85:$P$100,check_pre1_abs!H$111,0)","v":421875},{"$f":"VLOOKUP(I117,oam_pre_validity!$A$85:$P$100,check_pre1_abs!I$111,0)","v":0},{"$f":"VLOOKUP(J117,oam_pre_validity!$A$85:$P$100,check_pre1_abs!J$111,0)","v":0},{"$f":"VLOOKUP(K117,oam_pre_validity!$A$85:$P$100,check_pre1_abs!K$111,0)","v":0},{"$f":"VLOOKUP(L117,oam_pre_validity!$A$85:$P$100,check_pre1_abs!L$111,0)","v":0},{"$f":"VLOOKUP(M117,oam_pre_validity!$A$85:$P$100,check_pre1_abs!M$111,0)","v":0},{"$f":"VLOOKUP(N117,oam_pre_validity!$A$85:$P$100,check_pre1_abs!N$111,0)","v":0},{"$f":"VLOOKUP(O117,oam_pre_validity!$A$85:$P$100,check_pre1_abs!O$111,0)","v":15625},{"$f":"VLOOKUP(P117,oam_pre_validity!$A$85:$P$100,check_pre1_abs!P$111,0)","v":0},{"$f":"SUM(B118:P118)","v":781250},{"$f":"Q118/1000000","v":0.78125},{"$f":"$R$184","v":0.2857142857142857},0]
["ranking values",{"$f":"17-B113","v":15},{"$f":"17-C113","v":2},15,16,16,16,3,15,16,16,15,16,15,15,14,"Y"]
["estimation",{"$f":"VLOOKUP(B119,oam_pre_validity!$A$85:$P$100,check_pre1_abs!B$111,0)","v":0},{"$f":"VLOOKUP(C119,oam_pre_validity!$A$85:$P$100,check_pre1_abs!C$111,0)","v":46875},{"$f":"VLOOKUP(D119,oam_pre_validity!$A$85:$P$100,check_pre1_abs!D$111,0)","v":0},{"$f":"VLOOKUP(E119,oam_pre_validity!$A$85:$P$100,check_pre1_abs!E$111,0)","v":0},{"$f":"VLOOKUP(F119,oam_pre_validity!$A$85:$P$100,check_pre1_abs!F$111,0)","v":0},{"$f":"VLOOKUP(G119,oam_pre_validity!$A$85:$P$100,check_pre1_abs!G$111,0)","v":0},{"$f":"VLOOKUP(H119,oam_pre_validity!$A$85:$P$100,check_pre1_abs!H$111,0)","v":218750},{"$f":"VLOOKUP(I119,oam_pre_validity!$A$85:$P$100,check_pre1_abs!I$111,0)","v":0},{"$f":"VLOOKUP(J119,oam_pre_validity!$A$85:$P$100,check_pre1_abs!J$111,0)","v":0},{"$f":"VLOOKUP(K119,oam_pre_validity!$A$85:$P$100,check_pre1_abs!K$111,0)","v":0},{"$f":"VLOOKUP(L119,oam_pre_validity!$A$85:$P$100,check_pre1_abs!L$111,0)","v":0},{"$f":"VLOOKUP(M119,oam_pre_validity!$A$85:$P$100,check_pre1_abs!M$111,0)","v":0},{"$f":"VLOOKUP(N119,oam_pre_validity!$A$85:$P$100,check_pre1_abs!N$111,0)","v":0},{"$f":"VLOOKUP(O119,oam_pre_validity!$A$85:$P$100,check_pre1_abs!O$111,0)","v":0},{"$f":"VLOOKUP(P119,oam_pre_validity!$A$85:$P$100,check_pre1_abs!P$111,0)","v":0},{"$f":"SUM(B120:P120)","v":265625}]
[]
["Rangsor","X(A1)","X(A2)","X(A3)","X(A4)","X(A5)","X(A6)","X(A7)","Y(A8)",null,null,null,null,null,"Rangsor","X(A1)","X(A2)","X(A3)","X(A4)","X(A5)","X(A6)","X(A7)","Y(A8)"]
["O1",8,4,7,5,12,8,7,37097,null,null,null,null,null,"O1",8,4,7,5,12,8,7,37097]
["O2",10,8,12,4,8,11,2,6550,null,null,null,null,null,"O2",10,8,12,4,8,11,2,6550]
["O3",9,5,11,11,1,8,8,17127,null,null,null,null,null,"O3",9,5,11,11,1,8,8,17127]
["O4",11,9,4,9,9,4,13,48604,null,null,null,null,null,"O4",11,9,4,9,9,4,13,48604]
["O5",12,10,2,8,7,6,3,52881,null,null,null,null,null,"O5",12,10,2,8,7,6,3,52881]
["O6",13,11,8,1,5,4,6,11248,null,null,null,null,null,"O6",13,11,8,1,5,4,6,11248]
["O7",14,13,5,7,3,12,13,12570,null,null,null,null,null,"O7",14,13,5,7,3,12,13,12570]
["O8",3,14,1,14,13,12,12,21616,null,null,null,null,null,"O8",3,14,1,14,13,12,12,21616]
["O9",6,3,9,13,10,8,11,41659,null,null,null,null,null,"O9",6,3,9,13,10,8,11,41659]
["O10",5,7,6,12,6,7,10,40060,null,null,null,null,null,"O10",5,7,6,12,6,7,10,40060]
["O11",4,1,14,6,2,2,4,11368,null,null,null,null,null,"O11",4,1,14,6,2,2,4,11368]
["O12",2,6,10,3,14,1,5,17950,null,null,null,null,null,"O12",2,6,10,3,14,1,5,17950]
["O13",7,2,13,2,11,2,1,8242,null,null,null,null,null,"O13",7,2,13,2,11,2,1,8242]
["O14",1,12,3,10,4,12,9,19630,null,null,null,null,null,"O14",1,12,3,10,4,12,9,19630]
[]
["https://miau.my-x.hu/miau/274/csak_invalid_objektum.xlsx"]
[null,2,3,4,5,6,7,8]
[1,9683.006612314759,2.8198532353039418,11885.172601147828,8171.720551893377,26312.751185295019,1.0514120614097187,61.400477918865462]
[2,9683.006612314759,2.8198532353039423,2.4847246559418683,8171.720551893377,26312.751185294994,1.0514120614097178,60.91899808723776]
[3,9683.006612314759,2.8198532353039418,2.4847246559418683,8171.720551893377,26312.751185294994,1.0514120614097167,60.918998087237789]
[4,9683.0066123147499,2.8198532353039401,2.4847246559418688,8171.720551893377,26312.751185294994,1.0514120614097162,60.918998087237782]
[5,2.5708848630564995,2.8198532353039378,2.4847246559418679,8171.7205518933715,26312.751185295019,1.051412061409716,60.918998087237803]
[6,2.5708848630565,2.8198532353039383,2.4847246559418679,8171.7205518933715,26312.751185294994,1.0514120614097162,42.875512128096382]
[7,2.5708848630564978,2.8190895773614204,2.4847246559418679,8171.7205518933733,26312.751185294994,1.0514120614097164,42.875512128096389]
[8,2.5708848630564969,2.8190895773614204,2.4847246559418674,413.83748327600205,26312.751185295019,1.0514120614097151,42.875512128096375]
[9,2.5708848630564956,2.81908957736142,2.4847246559418661,413.8374832760021,26312.751185295034,1.0514120614097149,42.875512128096375]
[10,2.5708848630564973,2.8190895773614173,2.4847246559418643,413.83748327600199,0.50022784434065348,1.0514120614097147,42.875512128096375]
[11,2.5680942668185494,2.8190895773614186,2.4847246559418648,0.57669129122446294,0.50022784434065282,1.0492533442195284,42.875512128096389]
[12,2.5680942668185471,2.8190895773614173,2.4847246559418648,0.57669129122446294,0.50022784434065282,1.0492533442195284,42.875512128096361]
[13,2.5680942668185471,2.8190895773614169,2.4847246559418656,0.57669129122446283,0.50022784434065282,1.0492533442195275,2.1444662553112726]
[14,2.5680942668185476,2.8190895773614169,2.4847246559418652,0.57669129122446261,0.50022784434065259,1.049253344219528,2.1444662553112712]
[]
["L1-L2",{"$f":"B140-B141","v":0},{"$f":"C140-C141","v":0},11882.687876491886,0,0,0,0.48147983162770203]
["…",{"$f":"B141-B142","v":0},0,0,0,0,0,0]
["…",0,0,0,0,0,0,0]
["…",9680.4357274516933,0,0,0,0,0,0]
["…",0,0,0,0,0,0,18.043485959141421]
["…",0,7.6365794251787023E-4,0,0,0,0,0]
["…",0,0,0,7757.8830686173715,0,0,0]
["…",0,0,0,0,0,0,0]
["…",0,0,0,0,26312.250957450695,0,0]
["…",2.7905962379479732E-3,0,0,413.26079198477754,0,2.1587171901862323E-3,0]
["…",0,0,0,0,0,0,0]
["…",0,0,0,0,0,0,40.731045872785089]
["L13-L14",0,0,0,0,0,0,0]
[]
[null,null,null,null,null,null,null,null,null,null,null,null,null,null,null,"inverse","direct","validity"]
[{"$f":"A123","v":"O1"},{"$f":"VLOOKUP(B123,$A$140:$H$153,B$139,0)","v":2.5708848630564969},{"$f":"VLOOKUP(C123,$A$140:$H$153,C$139,0)","v":2.8198532353039401},2.4847246559418679,8171.7205518933715,0.50022784434065282,1.0514120614097151,42.875512128096389,{"$f":"I123","v":37097},{"$f":"SUM(B170:H170)","v":8224.0231666815198},{"$f":"ABS(I170-J170)","v":28872.97683331848},null,null,null,null,{"$f":"I170-J170","v":28872.97683331848},{"$f":"I238-J238","v":20162.417089953382},{"$f":"IF(P170*Q170<0,1,0)","v":0}]
[{"$f":"A124","v":"O2"},{"$f":"VLOOKUP(B124,$A$140:$H$153,B$139,0)","v":2.5708848630564973},2.8190895773614204,2.4847246559418648,8171.720551893377,26312.751185295019,1.0492533442195284,60.91899808723776,{"$f":"I124","v":6550},{"$f":"SUM(B171:H171)","v":34554.314687716222},{"$f":"ABS(I171-J171)","v":28004.314687716222},null,null,null,null,{"$f":"I171-J171","v":-28004.314687716222},{"$f":"I239-J239","v":-9940.9448597495357},{"$f":"IF(P171*Q171<0,1,0)","v":0}]
["O3",{"$f":"VLOOKUP(B125,$A$140:$H$153,B$139,0)","v":2.5708848630564956},2.8198532353039378,2.4847246559418648,0.57669129122446294,26312.751185295019,1.0514120614097151,42.875512128096375,17127,26365.130263530053,9238.1302635300526,null,null,null,null,-9238.1302635300526,-2502.9965106542113,0]
["O4",{"$f":"VLOOKUP(B126,$A$140:$H$153,B$139,0)","v":2.5680942668185494},2.81908957736142,2.4847246559418688,413.8374832760021,26312.751185295034,1.0514120614097162,2.1444662553112726,48604,26737.656455387878,21866.343544612122,null,null,null,null,21866.343544612122,381.11399834411714,0]
["O5",{"$f":"VLOOKUP(B127,$A$140:$H$153,B$139,0)","v":2.5680942668185471},2.8190895773614173,2.4847246559418683,413.83748327600205,26312.751185294994,1.0514120614097162,60.918998087237789,52881,26796.430987219763,26084.569012780237,null,null,null,null,26084.569012780237,4676.7419858691865,0]
["O6",{"$f":"VLOOKUP(B128,$A$140:$H$153,B$139,0)","v":2.5680942668185471},2.8190895773614186,2.4847246559418674,8171.720551893377,26312.751185295019,1.0514120614097162,42.875512128096382,11248,34536.270569878026,23288.270569878026,null,null,null,null,-23288.270569878026,-900.16926701739067,0]
["O7",{"$f":"VLOOKUP(B129,$A$140:$H$153,B$139,0)","v":2.5680942668185476},2.8190895773614169,2.4847246559418679,8171.7205518933733,26312.751185294994,1.0492533442195284,2.1444662553112726,12570,34495.537365288023,21925.537365288023,null,null,null,null,-21925.537365288023,0.12732564965881465,1]
["O8",{"$f":"VLOOKUP(B130,$A$140:$H$153,B$139,0)","v":9683.006612314759},2.8190895773614169,11885.172601147828,0.57669129122446261,0.50022784434065282,1.0492533442195284,42.875512128096361,21616,21615.999987647829,1.235217132489197E-5,null,null,null,null,1.235217132489197E-5,-14510.952489636031,1]
["O9",{"$f":"VLOOKUP(B131,$A$140:$H$153,B$139,0)","v":2.5708848630565},2.8198532353039418,2.4847246559418661,0.57669129122446283,0.50022784434065348,1.0514120614097151,42.875512128096389,41659,52.879306079373528,41606.120693920624,null,null,null,null,41606.120693920624,5532.0457638901644,0]
["O10",{"$f":"VLOOKUP(B132,$A$140:$H$153,B$139,0)","v":2.5708848630564995},2.8190895773614204,2.4847246559418679,0.57669129122446294,26312.751185294994,1.0514120614097164,42.875512128096375,40060,26365.129499872084,13694.870500127916,null,null,null,null,13694.870500127916,3933.0457638901426,0]
["O11",{"$f":"VLOOKUP(B133,$A$140:$H$153,B$139,0)","v":9683.0066123147499},2.8198532353039418,2.4847246559418652,8171.7205518933715,26312.751185294994,1.0514120614097178,60.918998087237782,11368,44234.753337543014,32866.753337543014,null,null,null,null,-32866.753337543014,1.2178711702290457E-2,1]
["O12",{"$f":"VLOOKUP(B134,$A$140:$H$153,B$139,0)","v":9683.006612314759},2.8198532353039383,2.4847246559418643,8171.720551893377,0.50022784434065259,1.0514120614097187,60.918998087237803,17950,17922.502380092366,27.497619907633634,null,null,null,null,27.497619907633634,1418.4967371643979,0]
["O13",{"$f":"VLOOKUP(B135,$A$140:$H$153,B$139,0)","v":2.5708848630564978},2.8198532353039423,2.4847246559418656,8171.720551893377,0.50022784434065282,1.0514120614097178,61.400477918865462,8242,8242.548132472295,0.54813247229503759,null,null,null,null,-0.54813247229503759,-8248.9429522278115,0]
["O14",{"$f":"VLOOKUP(B136,$A$140:$H$153,B$139,0)","v":9683.006612314759},2.8190895773614173,2.4847246559418683,413.83748327600199,26312.751185294994,1.0492533442195284,42.875512128096375,19630,36458.823860591379,16828.823860591379,null,null,null,null,-16828.823860591379,5.2358196007844526E-3,1]
[null,null,null,null,null,null,null,null,{"$f":"SUM(I170:I183)","v":346602},{"$f":"SUM(J170:J183)","v":346601.99999999988},{"$f":"SUM(K170:K183)","v":264304.75643403817},"inverse",91185.700000000012,"<--online",null,null,null,{"$f":"SUM(R170:R183)/14","v":0.2857142857142857}]
[null,null,null,null,null,null,null,null,null,null,"abs-driven"]
[]
[]
[]
["direct-archive"]
["Rangsor","X(A1)","X(A2)","X(A3)","X(A4)","X(A5)","X(A6)","X(A7)","Y(A8)"]
["O1",7,11,8,10,3,5,8,37097]
["O2",5,7,3,11,7,4,13,6550]
["O3",6,10,4,4,14,5,7,17127]
["O4",4,6,11,6,6,10,1,48604]
["O5",3,5,13,7,8,9,12,52881]
["O6",2,4,7,14,10,10,9,11248]
["O7",1,2,10,8,12,1,1,12570]
["O8",12,1,14,1,2,1,3,21616]
["O9",9,12,6,2,5,5,4,41659]
["O10",10,8,9,3,9,8,5,40060]
["O11",11,14,1,9,13,12,11,11368]
["O12",13,9,5,12,1,14,10,17950]
["O13",8,13,2,13,4,12,14,8242]
["O14",14,3,12,5,11,1,6,19630]
[]
["https://miau.my-x.hu/miau/274/csak_invalid_objektum.xlsx"]
[null,2,3,4,5,6,7,8]
[1,12098.031174274833,2.8191713675908576,10914.692865814945,19577.865546735331,16479.30006330425,1.0512047901771253,61.334977362624201]
[2,12098.031174274833,2.8191713675908581,2.4838638211180006,19577.865546735313,16479.300063304236,1.0512047901771244,60.864851944161458]
[3,12098.031174274836,2.8191713675908576,2.4838638211180006,19577.865546735313,16479.300063304236,1.0512047901771233,60.864851944161487]
[4,12098.031174274834,2.8191713675908558,2.4838638211180011,19577.86554673532,16479.300063304236,1.0512047901771229,60.864851944161479]
[5,2.5701075548575223,2.8191713675908536,2.4838638211180002,19577.865546735309,16479.30006330425,1.0512047901771226,60.864851944161501]
[6,2.5701075548575227,2.8191713675908532,2.4838638211180002,19577.865546735295,16479.300063304236,1.0512047901771229,42.706989837539339]
[7,2.5701075548575205,2.8185979599517412,2.4838638211180002,19577.865546735302,16479.300063304236,1.0512047901771231,42.706989837539346]
[8,2.5701075548575196,2.8185979599517412,2.4838638211179997,403.65208277874297,16479.30006330425,1.0512047901771218,42.706989837539332]
[9,2.5701075548575183,2.8185979599517408,2.4838638211179984,403.65208277874302,16479.300063304276,1.0512047901771215,42.706989837539332]
[10,2.5701075548575201,2.8185979599517381,2.4838638211179966,403.65208277874268,0.50019995525284833,1.0512047901771213,42.706989837539332]
[11,2.5677876734148475,2.8185979599517395,2.4838638211179971,0.57666297087774743,0.50019995525284766,1.0492972684507011,42.706989837539346]
[12,2.5677876734148453,2.8185979599517381,2.4838638211179971,0.57666297087774743,0.50019995525284766,1.0492972684507011,42.706989837539318]
[13,2.5677876734148453,2.8185979599517377,2.483863821117998,0.57666297087774732,0.50019995525284766,1.0492972684507003,2.1443593483184142]
[14,2.5677876734148448,2.8185979599517377,2.4838638211179949,0.57666297087774676,0.50019995525284733,1.0492972684507003,2.1443593483184147]
[]
["L1-L2",0,0,10912.209001993826,0,0,0,0.47012541846274303]
["…",0,0,0,0,0,0,0]
["…",0,0,0,0,0,0,0]
["…",12095.461066719978,0,0,0,0,0,0]
["…",0,0,0,0,0,0,18.157862106622161]
["…",0,5.734076391119558E-4,0,0,0,0,0]
["…",0,0,0,19174.213463956559,0,0,0]
["…",0,0,0,0,0,0,0]
["…",0,0,0,0,16478.799863349024,0,0]
["…",2.3198814426725889E-3,0,0,403.07541980786493,0,1.9075217264201694E-3,0]
["…",0,0,0,0,0,0,0]
["…",0,0,0,0,0,0,40.562630489220901]
["L13-L14",0,0,0,0,0,0,0]
[]
[]
["O1",2.5701075548575205,2.8185979599517395,2.4838638211179997,403.65208277874268,16479.300063304236,1.0512047901771226,42.706989837539332,37097,16934.582910046618,20162.417089953382]
["O2",2.5701075548575223,2.8185979599517412,2.4838638211180006,0.57666297087774743,16479.300063304236,1.0512047901771229,2.1443593483184142,6550,16490.944859749536,9940.9448597495357]
["O3",2.5701075548575227,2.8185979599517381,2.4838638211180011,19577.86554673532,0.50019995525284733,1.0512047901771226,42.706989837539346,17127,19629.996510654211,2502.9965106542113]
["O4",12098.031174274834,2.8191713675908532,2.4838638211179971,19577.865546735295,16479.300063304236,1.0512047901771213,61.334977362624201,48604,48222.886001655883,381.11399834411714]
["O5",12098.031174274836,2.8191713675908536,2.483863821117998,19577.865546735302,16479.30006330425,1.0512047901771215,42.706989837539318,52881,48204.258014130814,4676.7419858691865]
["O6",12098.031174274833,2.8191713675908558,2.4838638211180002,0.57666297087774676,0.50019995525284833,1.0512047901771213,42.706989837539332,11248,12148.169267017391,900.16926701739067]
["O7",12098.031174274833,2.8191713675908581,2.4838638211179966,403.65208277874297,0.50019995525284766,1.0512047901771253,61.334977362624201,12570,12569.872674350341,0.12732564965881465]
["O8",2.5677876734148453,2.8191713675908576,2.4838638211179949,19577.865546735331,16479.300063304236,1.0512047901771253,60.864851944161487,21616,36126.952489636031,14510.952489636031]
["O9",2.5701075548575183,2.8185979599517381,2.4838638211180002,19577.865546735313,16479.30006330425,1.0512047901771226,60.864851944161479,41659,36126.954236109836,5532.0457638901644]
["O10",2.5701075548575201,2.8185979599517412,2.4838638211179984,19577.865546735313,16479.300063304276,1.0512047901771218,60.864851944161501,40060,36126.954236109857,3933.0457638901426]
["O11",2.5677876734148475,2.8185979599517377,10914.692865814945,403.65208277874302,0.50019995525284766,1.0492972684507011,42.706989837539346,11368,11367.987821288298,1.2178711702290457E-2]
["O12",2.5677876734148453,2.8185979599517408,2.4838638211180002,0.57666297087774743,16479.30006330425,1.0492972684507003,42.706989837539332,17950,16531.503262835602,1418.4967371643979]
["O13",2.5701075548575196,2.8185979599517377,2.4838638211180006,0.57666297087774732,16479.300063304236,1.0492972684507011,2.1443593483184147,8242,16490.942952227811,8248.9429522278115]
["O14",2.5677876734148448,2.8191713675908576,2.4838638211179971,19577.865546735309,0.50019995525284766,1.0512047901771253,42.706989837539339,19630,19629.994764180399,5.2358196007844526E-3]
[null,null,null,null,null,null,null,null,346602,346601.99999999267,72208.01215857733,"direct",88363.099999999991,"<--online"]
[]
[null,null,null,null,null,null,null,null,null,null,{"$f":"K252+K184","v":336512.7685926155},null,{"$f":"M252+M184","v":179548.79999999999},"<--online "]

{"sheet":"check_pre1 (^2)","index":23,"n_rows":254,"n_cols":23,"rows_kept":254,"cut":false,"hidden":false,"merged":[]}
["Rangsor","X(A1)","X(A2)","X(A3)","X(A4)","X(A5)","X(A6)","X(A7)","Y(A8)",null,null,null,null,null,"Rangsor","X(A1)","X(A2)","X(A3)","X(A4)","X(A5)","X(A6)","X(A7)","Y(A8)"]
["O1",7,11,8,10,3,5,8,37097,null,null,null,null,null,"O1",8,4,7,5,12,8,7,37097]
["O2",5,7,3,11,7,4,13,6550,null,null,null,null,null,"O2",10,8,12,4,8,11,2,6550]
["O3",6,10,4,4,14,5,7,17127,null,null,null,null,null,"O3",9,5,11,11,1,8,8,17127]
["O4",4,6,11,6,6,10,1,48604,null,null,null,null,null,"O4",11,9,4,9,9,4,13,48604]
["O5",3,5,13,7,8,9,12,52881,null,null,null,null,null,"O5",12,10,2,8,7,6,3,52881]
["O6",2,4,7,14,10,10,9,11248,null,null,null,null,null,"O6",13,11,8,1,5,4,6,11248]
["O7",1,2,10,8,12,1,1,12570,null,null,null,null,null,"O7",14,13,5,7,3,12,13,12570]
["O8",12,1,14,1,2,1,3,21616,null,null,null,null,null,"O8",3,14,1,14,13,12,12,21616]
["O9",9,12,6,2,5,5,4,41659,null,null,null,null,null,"O9",6,3,9,13,10,8,11,41659]
["O10",10,8,9,3,9,8,5,40060,null,null,null,null,null,"O10",5,7,6,12,6,7,10,40060]
["O11",11,14,1,9,13,12,11,11368,null,null,null,null,null,"O11",4,1,14,6,2,2,4,11368]
["O12",13,9,5,12,1,14,10,17950,null,null,null,null,null,"O12",2,6,10,3,14,1,5,17950]
["O13",8,13,2,13,4,12,14,8242,null,null,null,null,null,"O13",7,2,13,2,11,2,1,8242]
["O14",14,3,12,5,11,1,6,19630,null,null,null,null,null,"O14",1,12,3,10,4,12,9,19630]
[]
["https://miau.my-x.hu/miau/274/csak_invalid_objektum.xlsx"]
[]
[null,"direct","direct","direct","direct","direct","direct","direct","inverse","inverse","inverse","inverse","inverse","inverse","inverse","direct","inverse","abs(delta)"]
[null,{"$f":"B1","v":"X(A1)"},{"$f":"C1","v":"X(A2)"},"X(A3)","X(A4)","X(A5)","X(A6)","X(A7)",{"$f":"P1","v":"X(A1)"},{"$f":"Q1","v":"X(A2)"},"X(A3)","X(A4)","X(A5)","X(A6)","X(A7)","stddev","stddev","stddev"]
[null,{"$f":"B2","v":7},11,8,10,3,5,8,{"$f":"P2","v":8},4,7,5,12,8,7,{"$f":"STDEV(B21:H21)","v":2.760262237369417},{"$f":"STDEV(I21:O21)","v":2.5634797778466236},{"$f":"ABS(P21-Q21)","v":0.19678245952279338}]
[null,5,7,3,11,7,4,13,10,8,12,4,8,11,2,{"$f":"STDEV(B22:H22)","v":3.6709931185158156},{"$f":"STDEV(I22:O22)","v":3.6709931185158156},{"$f":"ABS(P22-Q22)","v":0}]
[null,6,10,4,4,14,5,7,9,5,11,11,1,8,8,3.6709931185158156,3.5523298860110981,0.11866323250471744]
[null,4,6,11,6,6,10,1,11,9,4,9,9,4,13,3.4016802570830453,3.3594217189442421,4.2258538138803203E-2]
[null,3,5,13,7,8,9,12,12,10,2,8,7,6,3,3.5790395093549616,3.5790395093549616,0]
[null,2,4,7,14,10,10,9,13,11,8,1,5,4,6,4.0414518843273806,4.1403933560541244,9.8941471726743835E-2]
[null,1,2,10,8,12,1,1,14,13,5,7,3,12,13,4.8304589153964796,4.4668088108157198,0.36365010458075986]
[null,12,1,14,1,2,1,3,3,14,1,14,13,12,12,5.6399932455211159,5.4598098693566071,0.18018337616450886]
[null,9,12,6,2,5,5,4,6,3,9,13,10,8,11,3.3380918415851202,3.3094381626464853,2.8653678938634908E-2]
[null,10,8,9,3,9,8,5,5,7,6,12,6,7,10,2.5071326821120352,2.5071326821120352,0]
[null,11,14,1,9,13,12,11,4,1,14,6,2,2,4,4.3369947901195145,4.4239607334862923,8.6965943366777765E-2]
[null,13,9,5,12,1,14,10,2,6,10,3,14,1,5,4.6700667885506535,4.6700667885506535,0]
[null,8,13,2,13,4,12,14,7,2,13,2,11,2,1,4.8255273583012954,4.9280538030458114,0.102526444744516]
[null,14,3,12,5,11,1,6,1,12,3,10,4,12,9,4.9280538030458114,4.5355736761107268,0.39248012693508461]
[]
[null,null,null,"max","inverse","min",null,"max","inverse","min",null,"max","direct","min","test","test","test","test"]
[null,null,null,{"$f":"MAX(oam_pre_validity!$L$3:$L$18)","v":0.77505980895474735},"pattern",{"$f":"MIN(oam_pre_validity!$L$3:$L$18)","v":0.36058116073109892},null,{"$f":"MAX(oam_pre_validity!$G$3:$G$18)","v":6.8410525505948279},"pattern",{"$f":"MIN(oam_pre_validity!$G$3:$G$18)","v":5.7183913821983188},null,{"$f":"MAX(oam_pre_validity!$B$3:$B$18)","v":6.9856996786291923},"pattern",{"$f":"MIN(oam_pre_validity!$B$3:$B$18)","v":5.5856960175075772},"max",{"$f":"MAX(P21:P36)","v":5.6399932455211159},{"$f":"MAX(Q21:Q36)","v":5.4598098693566071},{"$f":"MAX(R21:R36)","v":0.39248012693508461}]
[null,null,null,{"$f":"MAX(oam_pre_validity!$M$3:$M$18)","v":6.061028869595475E-2},"pattern",{"$f":"MIN(oam_pre_validity!$M$3:$M$18)","v":0},null,{"$f":"MAX(oam_pre_validity!$H$3:$H$18)","v":2.7018512172212588},"pattern",{"$f":"MIN(oam_pre_validity!$H$3:$H$18)","v":0.44721359549995793},null,{"$f":"MAX(oam_pre_validity!$C$3:$C$18)","v":2.7386127875258306},"pattern",{"$f":"MIN(oam_pre_validity!$C$3:$C$18)","v":0.83666002653407512},"min",{"$f":"MIN(P21:P36)","v":2.5071326821120352},{"$f":"MIN(Q21:Q36)","v":2.5071326821120352},{"$f":"MIN(R21:R36)","v":0}]
[null,null,null,{"$f":"MAX(oam_pre_validity!$N$3:$N$18)","v":0.32527334483362674},"pattern",{"$f":"MIN(oam_pre_validity!$N$3:$N$18)","v":8.8379478225959263E-2},null,{"$f":"MAX(oam_pre_validity!$I$3:$I$18)","v":4.6269752318541642},"pattern",{"$f":"MIN(oam_pre_validity!$I$3:$I$18)","v":3.8995313410415178},null,{"$f":"MAX(oam_pre_validity!$D$3:$D$18)","v":4.7109947222508408},"pattern",{"$f":"MIN(oam_pre_validity!$D$3:$D$18)","v":3.938488154004959},"avg",{"$f":"AVERAGE(P21:P36)","v":4.0143385392713187},{"$f":"AVERAGE(Q21:Q36)","v":3.9404644209179431},{"$f":"AVERAGE(R21:R36)","v":0.1150789554730957}]
[null,null,null,{"$f":"MAX(oam_pre_validity!$O$3:$O$18)","v":0.25957753341060935},"pattern",{"$f":"MIN(oam_pre_validity!$O$3:$O$18)","v":0.11306258018460252},null,{"$f":"MAX(oam_pre_validity!$J$3:$J$18)","v":1.6732898757389914},"pattern",{"$f":"MIN(oam_pre_validity!$J$3:$J$18)","v":0.98466238821682472},null,{"$f":"MAX(oam_pre_validity!$E$3:$E$18)","v":1.5753990420384216},"pattern",{"$f":"MIN(oam_pre_validity!$E$3:$E$18)","v":1.022991354698805},"stddev",{"$f":"STDEV(P21:P36)","v":0.89609513305543387},{"$f":"STDEV(Q21:Q36)","v":0.86652352303170632},{"$f":"STDEV(R21:R36)","v":0.12908525871848883}]
[null,null,null,{"$f":"MAX(oam_pre_validity!$P$3:$P$18)","v":0.33625992011536365},"pattern",{"$f":"MIN(oam_pre_validity!$P$3:$P$18)","v":1.9938346731934065E-2},null,{"$f":"MAX(oam_pre_validity!$K$3:$K$18)","v":4.919349550499537},"pattern",{"$f":"MIN(oam_pre_validity!$K$3:$K$18)","v":4.0601520348381417},null,{"$f":"MAX(oam_pre_validity!$F$3:$F$18)","v":4.8938070641773859},"pattern",{"$f":"MIN(oam_pre_validity!$F$3:$F$18)","v":3.9369219971766896},"median",{"$f":"MEDIAN(P21:P36)","v":3.8562225014215983},{"$f":"MEDIAN(Q21:Q36)","v":3.9056932372849698},9.29537075467608E-2]
[]
[null,null,null,null,null,null,null,null,null,null,null,"//16",null,"//16",null,"//14"]
[null,null,null,null,null,null,null,null,null,null,null,{"$f":"L37/16","v":0.43660622991432452},null,{"$f":"N37/16","v":0.34910600109422357},null,{"$f":"P37/14","v":0.40285666039436541}]
[null,null,null,null,null,null,null,null,null,null,null,{"$f":"L38/16","v":0.17116329922036441},null,5.2291251658379695E-2,null,{"$f":"P38/14","v":0.17908090586514538}]
[null,null,null,null,null,null,null,null,null,null,null,0.29443717014067755,null,0.24615550962530994,null,0.28673846709080847]
[null,null,null,null,null,null,null,null,null,null,null,9.8462440127401352E-2,null,6.3936959668675311E-2,null,6.4006795218245274E-2]
[null,null,null,null,null,null,null,null,null,null,null,0.30586294151108662,null,0.2460576248235431,null,0.275444464387257]
[]
[null,null,null,null,null,null,null,"//16",null,"//16",null,null,null,null,null,null,"//14"]
[null,null,null,null,null,null,null,{"$f":"H37/16","v":0.42756578441217674},null,{"$f":"J37/16","v":0.35739946138739492},null,null,null,null,null,null,{"$f":"Q37/14","v":0.38998641923975763}]
[null,null,null,null,null,null,null,{"$f":"H38/16","v":0.16886570107632867},null,2.795084971874737E-2,null,null,null,null,null,null,{"$f":"Q38/14","v":0.17908090586514538}]
[null,null,null,null,null,null,null,0.28918595199088526,null,0.24372070881509486,null,null,null,null,null,null,0.28146174435128163]
[null,null,null,null,null,null,null,0.10458061723368696,null,6.1541399263551545E-2,null,null,null,null,null,null,6.1894537359407593E-2]
[null,null,null,null,null,null,null,0.30745934690622106,null,0.25375950217738386,null,null,null,null,null,null,0.27897808837749782]
[]
[null,null,null,"//16",null,"//16",null,null,null,null,null,null,null,null,null,null,null,"//14"]
[null,null,null,{"$f":"D37/16","v":4.844123805967171E-2},null,{"$f":"F37/16","v":2.2536322545693682E-2},null,null,null,null,null,null,null,null,null,null,null,{"$f":"R37/14","v":2.8034294781077471E-2}]
[null,null,null,{"$f":"D38/16","v":3.7881430434971719E-3},null,0,null,null,null,null,null,null,null,null,null,null,null,{"$f":"R38/14","v":0}]
[null,null,null,2.0329584052101671E-2,null,5.5237173891224539E-3,null,null,null,null,null,null,null,null,null,null,null,8.2199253909354068E-3]
[null,null,null,1.6223595838163084E-2,null,7.0664112615376577E-3,null,null,null,null,null,null,null,null,null,null,null,9.2203756227492023E-3]
[null,null,null,2.1016245007210228E-2,null,1.246146670745879E-3,null,null,null,null,null,null,null,null,null,null,null,6.639550539054343E-3]
[]
[]
[]
[]
[]
[null,"direct","direct","direct","direct","direct","inverse","inverse","inverse","inverse","inverse","delta","delta","delta","delta","delta","Y"]
[null,"max","min","avg","stddev","median","max","min","avg","stddev","median","max","min","avg","stddev","median","validity ratio"]
["scenario1",5.805170109479997,2.5099800796022289,4.631463770352517,1.0260829564446461,4.8938070641773859,5.7183913821983188,2.5099800796022267,4.5901874591456462,1.1009954719383892,4.919349550499537,0.36058116073109892,0,0.14012699986194371,0.12999784991037602,0.12073231551642394,312500]
["scenario2",5.8137767414994528,2.1679483388678773,4.3817732130015408,1.1916659531136666,4.4044254647937748,5.770615218501403,2.1908902300206639,4.3284898065836668,1.1979653837185962,4.3798067144421546,0.44471435651166624,8.8817841970012523E-16,0.22103666426477289,0.14299082320262371,0.23111543323035111,375000]
["scenario3",6.8410525505948279,0.89442719099991574,3.938488154004959,1.3641353054151613,3.9369219971766896,6.8410525505948279,1.1401754250991383,3.9523794168137347,1.3505344899644713,4.1048344869790849,0.70672446073971162,0,0.18195114838575233,0.17189971941755533,0.13799068546627935,187500]
["scenario4",6.3874877690685246,2.7386127875258306,4.5974780178770125,1.2912818954357601,4.5220831386398883,6.6105975524153626,2.5884358211089573,4.5669382917047106,1.2803435537953634,4.8009709544920982,0.74924378295321103,5.1075874615671424E-2,0.31458827982870269,0.18905478346513307,0.3046795296954361,375000]
["scenario5",6.9641941385920596,2.1908902300206639,4.5565706340658938,1.4095537097084658,4.5092948538945912,6.7601775124622288,1.8708286933869707,4.4567965801646805,1.3364487242569048,4.4734484696064936,0.43134419325729945,1.2598831638569674E-2,0.25890418619609895,0.11306258018460252,0.23405962196492203,375000]
["scenario6",5.9413803110051786,0.83666002653407512,4.3154156468596261,1.5304684406508997,4.7939144485436707,6.4575537163851759,1.3038404810405297,4.4068152433192589,1.529262797995258,4.8121529662464946,0.75960814161726109,2.5228854229961684E-2,0.23528792945935645,0.22224891790787951,0.13341176759111395,375000]
["scenario7",6,1.6431676725154949,4.2139218347935898,1.3487229595435128,4.4769391138471573,5.8309518948453007,0.8944271909999163,4.15441766185746,1.3379841118525715,4.2661458015403086,0.77505980895474735,1.7763568394002505E-15,0.25388369943909617,0.23610662376457184,0.14912595424034847,375000]
["scenario8",6.024948132556827,1.51657508881031,4.3264950442033001,1.0740282466722648,4.437037464259431,5.9413803110051804,1.6431676725154982,4.439861701900834,1.0985459810709679,4.6583258795408451,0.63058165130247534,0,0.28691128071988037,0.22621782675023538,0.31389306759038504,437500]
["scenario9",5.5856960175075772,2.0736441353327715,4.2234637023654278,1.022991354698805,4.2425752117430537,6.0991802727907629,2.7018512172212588,4.2972127574049894,0.98466238821682472,4.2600836277335556,0.68043711092382697,4.7203900722527337E-2,0.3106299687769265,0.22744282080892075,0.22710471170165847,437500]
["scenario10",6.6858058601787116,2.1679483388678804,4.7109947222508408,1.1461372701614048,4.5493933920686906,6.3796551630946325,2.1679483388678804,4.6269752318541642,1.1002303777218572,4.4997221793441629,0.49562349132934891,0,0.18920700795070611,0.18188735014502302,0.13572022427774932,375000]
["scenario11",6.2048368229954285,2.0736441353327715,4.213455154874131,1.4479578844205336,4.3720009165334659,6.300793600809345,2.3874672772626644,4.2570897495826827,1.4476415261605986,4.2591129060788795,0.47586562146362077,0,0.13195877232473802,0.16240791037309332,4.9062707630926017E-2,250000]
["scenario12",5.9749476985158623,2.302172886644267,4.4202175984028207,1.0980838499956778,4.65280403175458,6.2449979983983983,1.9235384061671315,4.550797503672495,1.1759782676305708,4.701051677789664,0.75935487755205511,3.4734044214446591E-2,0.32527334483362674,0.21420919038552788,0.33625992011536365,375000]
["scenario13",6.760177512462227,1.3038404810405295,4.2248393006581919,1.4050320550987176,4.32434966208793,6.7601775124622288,1.2247448713915889,4.1848998954202115,1.4185862879404612,4.3243496620879309,0.41240550889479266,0,8.8379478225959263E-2,0.13229650625041353,1.9938346731934065E-2,500000]
["scenario14",6.6105975524153644,1.2247448713915889,4.1571369919591783,1.5425388699879072,4.5052103963269747,6.5038450166036403,0.70710678118654757,4.0195454631900249,1.5872842280569628,4.3961829767751075,0.60693904623444395,1.7763568394002505E-15,0.19967401081429384,0.19060443761301171,0.11875236415854595,1000000]
["scenario15",6.9856996786291923,1.7888543819998315,4.0160866020350676,1.4727926869108412,4.3243496620879309,6.8337398253079549,2.190890230020667,4.0741951180288769,1.4448747637465476,4.0601520348381417,0.48574687930112415,6.061028869595475E-2,0.22872320394328777,0.14225448250678102,0.16324035348312904,437500]
["scenario16",6.7453687816160208,1.0954451150103319,4.0579533624966535,1.5753990420384216,4.3508778260131198,6.8337398253079549,0.44721359549995793,3.8995313410415178,1.6732898757389914,4.1557257752209233,0.74220895747831328,0,0.30275796535267191,0.25957753341060935,0.2936781191341139,437500]
[]
[]
[{"$f":"A70","v":"scenario1"},{"$f":"B70/16","v":0.36282313184249981},{"$f":"C70/16","v":0.15687375497513931},0.28946648564703231,6.4130184777790381E-2,0.30586294151108662,0.35739946138739492,0.15687375497513917,0.28688671619660289,6.8812216996149325E-2,0.30745934690622106,2.2536322545693682E-2,0,8.7579374913714821E-3,8.1248656193985015E-3,7.5457697197764961E-3]
[{"$f":"A71","v":"scenario2"},{"$f":"B71/16","v":0.3633610463437158},0.13549677117924233,0.2738608258125963,7.4479122069604164E-2,0.27527659154961093,0.36066345115633769,0.13693063937629149,0.27053061291147917,7.4872836482412261E-2,0.27373791965263466,2.779464728197914E-2,5.5511151231257827E-17,1.3814791516548306E-2,8.936926450163982E-3,1.4444714576896944E-2]
["scenario3",0.42756578441217674,5.5901699437494734E-2,0.24615550962530994,8.5258456588447579E-2,0.2460576248235431,0.42756578441217674,7.1260964068696142E-2,0.24702371355085842,8.4408405622779459E-2,0.25655215543619281,4.4170278796231977E-2,0,1.137194677410952E-2,1.0743732463597208E-2,8.6244178416424594E-3]
["scenario4",0.39921798556678278,0.17116329922036441,0.28734237611731328,8.0705118464735007E-2,0.28263019616499302,0.41316234702596016,0.16177723881930983,0.28543364323154441,8.002147211221021E-2,0.30006068465575614,4.682773643457569E-2,3.192242163479464E-3,1.9661767489293918E-2,1.1815923966570817E-2,1.9042470605964756E-2]
["scenario5",0.43526213366200373,0.13693063937629149,0.28478566462911836,8.8097106856779114E-2,0.28183092836841195,0.4225110945288893,0.11692679333668567,0.27854978626029253,8.3528045266056547E-2,0.27959052935040585,2.6959012078581215E-2,7.8742697741060463E-4,1.6181511637256184E-2,7.0664112615376577E-3,1.4628726372807627E-2]
["scenario6",0.37133626943782366,5.2291251658379695E-2,0.26971347792872663,9.5654277540681232E-2,0.29961965303397942,0.4035971072740735,8.1490030065033109E-2,0.27542595270745368,9.5578924874703625E-2,0.30075956039040591,4.7475508851078818E-2,1.5768033893726052E-3,1.4705495591209778E-2,1.3890557369242469E-2,8.3382354744446219E-3]
["scenario7",0.375,0.10269797953221843,0.26337011467459936,8.4295184971469553E-2,0.27980869461544733,0.3644344934278313,5.5901699437494769E-2,0.25965110386609125,8.3624006990785718E-2,0.26663411259626929,4.844123805967171E-2,1.1102230246251565E-16,1.586773121494351E-2,1.475666398528574E-2,9.3203721400217793E-3]
["scenario8",0.37655925828480169,9.4785943050644375E-2,0.27040594026270626,6.7126765417016551E-2,0.27731484151621444,0.37133626943782377,0.10269797953221864,0.27749135636880212,6.8659123816935494E-2,0.29114536747130282,3.9411353206404709E-2,0,1.7931955044992523E-2,1.4138614171889712E-2,1.9618316724399065E-2]
["scenario9",0.34910600109422357,0.12960275845829822,0.26396648139783924,6.3936959668675311E-2,0.26516095073394086,0.38119876704942268,0.16886570107632867,0.26857579733781184,6.1541399263551545E-2,0.26625522673334723,4.2527319432739186E-2,2.9502437951579585E-3,1.9414373048557906E-2,1.4215176300557547E-2,1.4194044481353654E-2]
["scenario10",0.41786286626116947,0.13549677117924253,0.29443717014067755,7.1633579385087798E-2,0.28433708700429317,0.39872844769341453,0.13549677117924253,0.28918595199088526,6.8764398607616073E-2,0.28123263620901018,3.0976468208084307E-2,0,1.1825437996919132E-2,1.1367959384063939E-2,8.4825140173593327E-3]
["scenario11",0.38780230143721428,0.12960275845829822,0.26334094717963319,9.0497367776283352E-2,0.27325005728334162,0.39379960005058406,0.14921670482891652,0.26606810934891767,9.0477595385037413E-2,0.26619455662992997,2.9741601341476298E-2,0,8.247423270296126E-3,1.0150494398318333E-2,3.0664192269328761E-3]
["scenario12",0.37343423115724139,0.14388580541526669,0.27626359990017629,6.863024062472986E-2,0.29080025198466125,0.39031237489989989,0.12022115038544572,0.28442484397953094,7.3498641726910674E-2,0.293815729861854,4.7459679847003444E-2,2.1708777634029119E-3,2.0329584052101671E-2,1.3388074399095493E-2,2.1016245007210228E-2]
["scenario13",0.42251109452888919,8.1490030065033095E-2,0.26405245629113699,8.7814503443669853E-2,0.27027185388049563,0.4225110945288893,7.6546554461974309E-2,0.26155624346376322,8.8661642996278822E-2,0.27027185388049568,2.5775344305924541E-2,0,5.5237173891224539E-3,8.2685316406508457E-3,1.246146670745879E-3]
["scenario14",0.41316234702596027,7.6546554461974309E-2,0.25982106199744864,9.6408679374244202E-2,0.28157564977043592,0.40649031353772752,4.4194173824159223E-2,0.25122159144937656,9.9205264253560174E-2,0.27476143604844422,3.7933690389652747E-2,1.1102230246251565E-16,1.2479625675893365E-2,1.1912777350813232E-2,7.4220227599091221E-3]
["scenario15",0.43660622991432452,0.11180339887498947,0.25100541262719173,9.2049542931927575E-2,0.27027185388049568,0.42710873908174718,0.13693063937629169,0.25463719487680481,9.0304672734159222E-2,0.25375950217738386,3.0359179956320259E-2,3.7881430434971719E-3,1.4295200246455485E-2,8.8909051566738138E-3,1.0202522092695565E-2]
["scenario16",0.4215855488510013,6.8465319688145745E-2,0.25362208515604084,9.8462440127401352E-2,0.27192986412581999,0.42710873908174718,2.795084971874737E-2,0.24372070881509486,0.10458061723368696,0.25973286095130771,4.638805984239458E-2,0,1.8922372834541994E-2,1.6223595838163084E-2,1.8354882445882119E-2]
[]
["test",{"$f":"TRANSPOSE($P$37:$P$41)","v":5.6399932455211159},2.5071326821120352,4.0143385392713187,0.89609513305543387,3.8562225014215983,{"$f":"TRANSPOSE(Q37:Q41)","v":5.4598098693566071},2.5071326821120352,3.9404644209179431,0.86652352303170632,3.9056932372849698,{"$f":"TRANSPOSE(R37:R41)","v":0.39248012693508461},0,0.1150789554730957,0.12908525871848883,9.29537075467608E-2]
["test/14",{"$f":"B105/14","v":0.40285666039436541},{"$f":"C105/14","v":0.17908090586514538},0.28673846709080847,6.4006795218245274E-2,0.275444464387257,0.38998641923975763,0.17908090586514538,0.28146174435128163,6.1894537359407593E-2,0.27897808837749782,2.8034294781077471E-2,0,8.2199253909354068E-3,9.2203756227492023E-3,6.639550539054343E-3]
[]
["ranking values/",{"$f":"COUNTIFS(B$88:B$103,\"<\"&B106)+1","v":10},{"$f":"COUNTIFS(C$88:C$103,\"<\"&C106)+0","v":16},{"$f":"COUNTIFS(D$88:D$103,\"<\"&D106)+1","v":14},2,8,6,{"$f":"COUNTIFS(H$88:H$103,\"<\"&H106)+0","v":16},13,2,10,5,1,2,6,3,"Y","fkeres","offline","online"]
["estimation/",{"$f":"VLOOKUP(B108,oam_pre_validity!$A$85:$P$100,'check_pre1 (^2)'!B$110,0)","v":0},{"$f":"VLOOKUP(C108,oam_pre_validity!$A$85:$P$100,'check_pre1 (^2)'!C$110,0)","v":0},{"$f":"VLOOKUP(D108,oam_pre_validity!$A$85:$P$100,'check_pre1 (^2)'!D$110,0)","v":0},{"$f":"VLOOKUP(E108,oam_pre_validity!$A$85:$P$100,'check_pre1 (^2)'!E$110,0)","v":31250},{"$f":"VLOOKUP(F108,oam_pre_validity!$A$85:$P$100,'check_pre1 (^2)'!F$110,0)","v":0},{"$f":"VLOOKUP(G108,oam_pre_validity!$A$85:$P$100,'check_pre1 (^2)'!G$110,0)","v":109375},{"$f":"VLOOKUP(H108,oam_pre_validity!$A$85:$P$100,'check_pre1 (^2)'!H$110,0)","v":0},{"$f":"VLOOKUP(I108,oam_pre_validity!$A$85:$P$100,'check_pre1 (^2)'!I$110,0)","v":0},{"$f":"VLOOKUP(J108,oam_pre_validity!$A$85:$P$100,'check_pre1 (^2)'!J$110,0)","v":218750},{"$f":"VLOOKUP(K108,oam_pre_validity!$A$85:$P$100,'check_pre1 (^2)'!K$110,0)","v":0},{"$f":"VLOOKUP(L108,oam_pre_validity!$A$85:$P$100,'check_pre1 (^2)'!L$110,0)","v":0},{"$f":"VLOOKUP(M108,oam_pre_validity!$A$85:$P$100,'check_pre1 (^2)'!M$110,0)","v":0},{"$f":"VLOOKUP(N108,oam_pre_validity!$A$85:$P$100,'check_pre1 (^2)'!N$110,0)","v":0},{"$f":"VLOOKUP(O108,oam_pre_validity!$A$85:$P$100,'check_pre1 (^2)'!O$110,0)","v":15625},{"$f":"VLOOKUP(P108,oam_pre_validity!$A$85:$P$100,'check_pre1 (^2)'!P$110,0)","v":250000},{"$f":"SUM(B109:P109)","v":625000},{"$f":"Q109/1000000","v":0.625},{"$f":"$R$183","v":0.21428571428571427},0]
["return/",2,3,4,5,6,7,8,9,10,11,12,13,14,15,16]
[]
["ranking values",{"$f":"COUNTIFS(B$70:B$85,\"<\"&B105)+1","v":2},{"$f":"COUNTIFS(C$70:C$85,\"<\"&C105)+1","v":15},2,1,1,1,14,2,1,1,2,1,2,2,3,"Y"]
["estimation",{"$f":"VLOOKUP(B112,oam_pre_validity!$A$85:$P$100,'check_pre1 (^2)'!B$110,0)","v":0},{"$f":"VLOOKUP(C112,oam_pre_validity!$A$85:$P$100,'check_pre1 (^2)'!C$110,0)","v":0},{"$f":"VLOOKUP(D112,oam_pre_validity!$A$85:$P$100,'check_pre1 (^2)'!D$110,0)","v":0},{"$f":"VLOOKUP(E112,oam_pre_validity!$A$85:$P$100,'check_pre1 (^2)'!E$110,0)","v":31250},{"$f":"VLOOKUP(F112,oam_pre_validity!$A$85:$P$100,'check_pre1 (^2)'!F$110,0)","v":0},{"$f":"VLOOKUP(G112,oam_pre_validity!$A$85:$P$100,'check_pre1 (^2)'!G$110,0)","v":109375},{"$f":"VLOOKUP(H112,oam_pre_validity!$A$85:$P$100,'check_pre1 (^2)'!H$110,0)","v":0},{"$f":"VLOOKUP(I112,oam_pre_validity!$A$85:$P$100,'check_pre1 (^2)'!I$110,0)","v":0},{"$f":"VLOOKUP(J112,oam_pre_validity!$A$85:$P$100,'check_pre1 (^2)'!J$110,0)","v":218750},{"$f":"VLOOKUP(K112,oam_pre_validity!$A$85:$P$100,'check_pre1 (^2)'!K$110,0)","v":375000},{"$f":"VLOOKUP(L112,oam_pre_validity!$A$85:$P$100,'check_pre1 (^2)'!L$110,0)","v":0},{"$f":"VLOOKUP(M112,oam_pre_validity!$A$85:$P$100,'check_pre1 (^2)'!M$110,0)","v":0},{"$f":"VLOOKUP(N112,oam_pre_validity!$A$85:$P$100,'check_pre1 (^2)'!N$110,0)","v":0},{"$f":"VLOOKUP(O112,oam_pre_validity!$A$85:$P$100,'check_pre1 (^2)'!O$110,0)","v":15625},{"$f":"VLOOKUP(P112,oam_pre_validity!$A$85:$P$100,'check_pre1 (^2)'!P$110,0)","v":250000},{"$f":"SUM(B113:P113)","v":1000000}]
["return",2,3,4,5,6,7,8,9,10,11,12,13,14,15,16]
[]
["ranking values/",{"$f":"17-B108","v":7},{"$f":"17-C108","v":1},3,15,9,11,1,4,15,7,12,16,15,11,14,"Y"]
["estimation/",{"$f":"VLOOKUP(B116,oam_pre_validity!$A$85:$P$100,'check_pre1 (^2)'!B$110,0)","v":0},{"$f":"VLOOKUP(C116,oam_pre_validity!$A$85:$P$100,'check_pre1 (^2)'!C$110,0)","v":234375},{"$f":"VLOOKUP(D116,oam_pre_validity!$A$85:$P$100,'check_pre1 (^2)'!D$110,0)","v":0},{"$f":"VLOOKUP(E116,oam_pre_validity!$A$85:$P$100,'check_pre1 (^2)'!E$110,0)","v":0},{"$f":"VLOOKUP(F116,oam_pre_validity!$A$85:$P$100,'check_pre1 (^2)'!F$110,0)","v":0},{"$f":"VLOOKUP(G116,oam_pre_validity!$A$85:$P$100,'check_pre1 (^2)'!G$110,0)","v":109375},{"$f":"VLOOKUP(H116,oam_pre_validity!$A$85:$P$100,'check_pre1 (^2)'!H$110,0)","v":421875},{"$f":"VLOOKUP(I116,oam_pre_validity!$A$85:$P$100,'check_pre1 (^2)'!I$110,0)","v":0},{"$f":"VLOOKUP(J116,oam_pre_validity!$A$85:$P$100,'check_pre1 (^2)'!J$110,0)","v":0},{"$f":"VLOOKUP(K116,oam_pre_validity!$A$85:$P$100,'check_pre1 (^2)'!K$110,0)","v":0},{"$f":"VLOOKUP(L116,oam_pre_validity!$A$85:$P$100,'check_pre1 (^2)'!L$110,0)","v":0},{"$f":"VLOOKUP(M116,oam_pre_validity!$A$85:$P$100,'check_pre1 (^2)'!M$110,0)","v":0},{"$f":"VLOOKUP(N116,oam_pre_validity!$A$85:$P$100,'check_pre1 (^2)'!N$110,0)","v":0},{"$f":"VLOOKUP(O116,oam_pre_validity!$A$85:$P$100,'check_pre1 (^2)'!O$110,0)","v":15625},{"$f":"VLOOKUP(P116,oam_pre_validity!$A$85:$P$100,'check_pre1 (^2)'!P$110,0)","v":0},{"$f":"SUM(B117:P117)","v":781250},{"$f":"Q117/1000000","v":0.78125},{"$f":"$R$183","v":0.21428571428571427},0]
["ranking values",{"$f":"17-B112","v":15},{"$f":"17-C112","v":2},15,16,16,16,3,15,16,16,15,16,15,15,14,"Y"]
["estimation",{"$f":"VLOOKUP(B118,oam_pre_validity!$A$85:$P$100,'check_pre1 (^2)'!B$110,0)","v":0},{"$f":"VLOOKUP(C118,oam_pre_validity!$A$85:$P$100,'check_pre1 (^2)'!C$110,0)","v":46875},{"$f":"VLOOKUP(D118,oam_pre_validity!$A$85:$P$100,'check_pre1 (^2)'!D$110,0)","v":0},{"$f":"VLOOKUP(E118,oam_pre_validity!$A$85:$P$100,'check_pre1 (^2)'!E$110,0)","v":0},{"$f":"VLOOKUP(F118,oam_pre_validity!$A$85:$P$100,'check_pre1 (^2)'!F$110,0)","v":0},{"$f":"VLOOKUP(G118,oam_pre_validity!$A$85:$P$100,'check_pre1 (^2)'!G$110,0)","v":0},{"$f":"VLOOKUP(H118,oam_pre_validity!$A$85:$P$100,'check_pre1 (^2)'!H$110,0)","v":218750},{"$f":"VLOOKUP(I118,oam_pre_validity!$A$85:$P$100,'check_pre1 (^2)'!I$110,0)","v":0},{"$f":"VLOOKUP(J118,oam_pre_validity!$A$85:$P$100,'check_pre1 (^2)'!J$110,0)","v":0},{"$f":"VLOOKUP(K118,oam_pre_validity!$A$85:$P$100,'check_pre1 (^2)'!K$110,0)","v":0},{"$f":"VLOOKUP(L118,oam_pre_validity!$A$85:$P$100,'check_pre1 (^2)'!L$110,0)","v":0},{"$f":"VLOOKUP(M118,oam_pre_validity!$A$85:$P$100,'check_pre1 (^2)'!M$110,0)","v":0},{"$f":"VLOOKUP(N118,oam_pre_validity!$A$85:$P$100,'check_pre1 (^2)'!N$110,0)","v":0},{"$f":"VLOOKUP(O118,oam_pre_validity!$A$85:$P$100,'check_pre1 (^2)'!O$110,0)","v":0},{"$f":"VLOOKUP(P118,oam_pre_validity!$A$85:$P$100,'check_pre1 (^2)'!P$110,0)","v":0},{"$f":"SUM(B119:P119)","v":265625}]
[]
["Rangsor","X(A1)","X(A2)","X(A3)","X(A4)","X(A5)","X(A6)","X(A7)","Y(A8)",null,null,null,null,null,"Rangsor","X(A1)","X(A2)","X(A3)","X(A4)","X(A5)","X(A6)","X(A7)","Y(A8)"]
["O1",8,4,7,5,12,8,7,37097,null,null,null,null,null,"O1",8,4,7,5,12,8,7,37097]
["O2",10,8,12,4,8,11,2,6550,null,null,null,null,null,"O2",10,8,12,4,8,11,2,6550]
["O3",9,5,11,11,1,8,8,17127,null,null,null,null,null,"O3",9,5,11,11,1,8,8,17127]
["O4",11,9,4,9,9,4,13,48604,null,null,null,null,null,"O4",11,9,4,9,9,4,13,48604]
["O5",12,10,2,8,7,6,3,52881,null,null,null,null,null,"O5",12,10,2,8,7,6,3,52881]
["O6",13,11,8,1,5,4,6,11248,null,null,null,null,null,"O6",13,11,8,1,5,4,6,11248]
["O7",14,13,5,7,3,12,13,12570,null,null,null,null,null,"O7",14,13,5,7,3,12,13,12570]
["O8",3,14,1,14,13,12,12,21616,null,null,null,null,null,"O8",3,14,1,14,13,12,12,21616]
["O9",6,3,9,13,10,8,11,41659,null,null,null,null,null,"O9",6,3,9,13,10,8,11,41659]
["O10",5,7,6,12,6,7,10,40060,null,null,null,null,null,"O10",5,7,6,12,6,7,10,40060]
["O11",4,1,14,6,2,2,4,11368,null,null,null,null,null,"O11",4,1,14,6,2,2,4,11368]
["O12",2,6,10,3,14,1,5,17950,null,null,null,null,null,"O12",2,6,10,3,14,1,5,17950]
["O13",7,2,13,2,11,2,1,8242,null,null,null,null,null,"O13",7,2,13,2,11,2,1,8242]
["O14",1,12,3,10,4,12,9,19630,null,null,null,null,null,"O14",1,12,3,10,4,12,9,19630]
[]
["https://miau.my-x.hu/miau/274/csak_invalid_objektum.xlsx"]
[null,2,3,4,5,6,7,8]
[1,1.9415545560175218E-12,13149.453097096188,26921.373710481766,0,8.2067685980291571E-13,3442.5051950848983,0]
[2,1.9415545560175218E-12,13149.453097096188,26921.37371048177,0,8.2067685980291571E-13,3442.5051950848983,0]
[3,1.9415545560175218E-12,13149.45309709618,23789.877528498069,0,8.2067685980291571E-13,3442.5051950848974,0]
[4,1.9415545560175218E-12,13149.453097096179,23789.877528498069,0,8.2067685980291571E-13,3442.5051950848983,0]
[5,1.9415545560175218E-12,13149.453097096175,16816.55846133969,0,8.2067685980291571E-13,3442.5051950848988,0]
[6,1.9415545560175218E-12,13149.453097096168,16816.558461339675,0,8.2067685980291571E-13,3442.5051950848988,0]
[7,1.9415545560175218E-12,13149.453097096175,16816.558461339671,0,8.2067685980291571E-13,3442.5051950848992,0]
[8,1.9415545560175218E-12,13149.453097096175,14405.119608105275,0,8.2067685980291571E-13,3442.5051950849006,0]
[9,1.9415545560175218E-12,13149.453097096173,14405.119608105275,0,8.2067685980291571E-13,0,0]
[10,1.9415545560175218E-12,13149.453097096179,0,0,8.2067685980291571E-13,0,0]
[11,1.9415545560175218E-12,0,0,0,8.2067685980291571E-13,0,0]
[12,1.9415545560175218E-12,0,0,0,8.2067685980291571E-13,0,0]
[13,1.9415545560175218E-12,0,0,0,8.2067685980291571E-13,0,0]
[14,1.9415545560175218E-12,0,0,0,8.2067685980291571E-13,0,0]
[]
["L1-L2",{"$f":"B139-B140","v":0},{"$f":"C139-C140","v":0},0,0,0,0,0]
["…",{"$f":"B140-B141","v":0},0,3131.4961819837008,0,0,0,0]
["…",0,0,0,0,0,0,0]
["…",0,0,6973.3190671583798,0,0,0,0]
["…",0,0,0,0,0,0,0]
["…",0,0,0,0,0,0,0]
["…",0,0,2411.4388532343964,0,0,0,0]
["…",0,0,0,0,0,3442.5051950849006,0]
["…",0,0,14405.119608105275,0,0,0,0]
["…",0,13149.453097096179,0,0,0,0,0]
["…",0,0,0,0,0,0,0]
["…",0,0,0,0,0,0,0]
["L13-L14",0,0,0,0,0,0,0]
[]
[null,null,null,null,null,null,null,null,null,null,null,null,null,null,null,"inverse","direct","validity"]
[{"$f":"A122","v":"O1"},{"$f":"VLOOKUP(B122,$A$139:$H$152,B$138,0)","v":1.9415545560175218E-12},{"$f":"VLOOKUP(C122,$A$139:$H$152,C$138,0)","v":13149.453097096179},16816.558461339671,0,8.2067685980291571E-13,3442.5051950849006,0,{"$f":"I122","v":37097},{"$f":"SUM(B169:H169)","v":33408.516753520751},{"$f":"ABS(I169-J169)","v":3688.4832464792489},null,null,null,null,{"$f":"I169-J169","v":3688.4832464792489},{"$f":"I237-J237","v":11434.522248315367},{"$f":"IF(P169*Q169<0,1,0)","v":0}]
[{"$f":"A123","v":"O2"},{"$f":"VLOOKUP(B123,$A$139:$H$152,B$138,0)","v":1.9415545560175218E-12},13149.453097096175,0,0,8.2067685980291571E-13,0,0,{"$f":"I123","v":6550},{"$f":"SUM(B170:H170)","v":13149.453097096177},{"$f":"ABS(I170-J170)","v":6599.4530970961769},null,null,null,null,{"$f":"I170-J170","v":-6599.4530970961769},{"$f":"I238-J238","v":-8095.5339323210428},{"$f":"IF(P170*Q170<0,1,0)","v":0}]
["O3",1.9415545560175218E-12,13149.453097096175,0,0,8.2067685980291571E-13,3442.5051950849006,0,17127,16591.958292181076,535.0417078189239,null,null,null,null,535.0417078189239,-2948.3950630334402,1]
["O4",1.9415545560175218E-12,13149.453097096173,23789.877528498069,0,8.2067685980291571E-13,3442.5051950848983,0,48604,40381.835820679145,8222.1641793208546,null,null,null,null,8222.1641793208546,4191.0986018853364,0]
["O5",1.9415545560175218E-12,13149.453097096179,26921.37371048177,0,8.2067685980291571E-13,3442.5051950848988,0,52881,43513.33200266285,9367.6679973371502,null,null,null,null,9367.6679973371502,8468.0986018853364,0]
["O6",1.9415545560175218E-12,0,14405.119608105275,0,8.2067685980291571E-13,3442.5051950848983,0,11248,17847.624803190174,6599.6248031901741,null,null,null,null,-6599.6248031901741,326.22603728079775,1]
["O7",1.9415545560175218E-12,0,16816.55846133969,0,8.2067685980291571E-13,0,0,12570,16816.558461339693,4246.5584613396932,null,null,null,null,-4246.5584613396932,-8152.8112432966736,0]
["O8",1.9415545560175218E-12,0,26921.373710481766,0,8.2067685980291571E-13,0,0,21616,26921.37371048177,5305.3737104817701,null,null,null,null,-5305.3737104817701,-13097.981484768032,0]
["O9",1.9415545560175218E-12,13149.45309709618,14405.119608105275,0,8.2067685980291571E-13,3442.5051950849006,0,41659,30997.077900286356,10661.922099713644,null,null,null,null,10661.922099713644,6945.0185152319682,0]
["O10",1.9415545560175218E-12,13149.453097096175,16816.558461339675,0,8.2067685980291571E-13,3442.5051950848992,0,40060,33408.516753520751,6651.4832464792489,null,null,null,null,6651.4832464792489,5346.0185152319682,0]
["O11",1.9415545560175218E-12,13149.453097096188,0,0,8.2067685980291571E-13,3442.5051950848983,0,11368,16591.958292181087,5223.958292181087,null,null,null,null,-5223.958292181087,344.1086700499618,1]
["O12",1.9415545560175218E-12,13149.453097096168,0,0,8.2067685980291571E-13,3442.5051950848983,0,17950,16591.958292181069,1358.0417078189312,null,null,null,null,1358.0417078189312,2088.5595288928416,0]
["O13",1.9415545560175218E-12,13149.453097096188,0,0,8.2067685980291571E-13,3442.5051950848983,0,8242,16591.958292181087,8349.958292181087,null,null,null,null,-8349.958292181087,-6403.5339323210264,0]
["O14",1.9415545560175218E-12,0,23789.877528498069,0,8.2067685980291571E-13,0,0,19630,23789.877528498073,4159.8775284980729,null,null,null,null,-4159.8775284980729,-445.39506303343296,0]
[null,null,null,null,null,null,null,null,{"$f":"SUM(I169:I182)","v":346602},{"$f":"SUM(J169:J182)","v":346602},{"$f":"SUMSQ(K169:K182)","v":576615657.77625418},"inverse",759283983.37,"<--online",null,null,null,{"$f":"SUM(R169:R182)/14","v":0.21428571428571427}]
[null,null,null,null,null,null,null,null,null,null,"^2-driven"]
[]
[]
[]
["direct-archive"]
["Rangsor","X(A1)","X(A2)","X(A3)","X(A4)","X(A5)","X(A6)","X(A7)","Y(A8)"]
["O1",7,11,8,10,3,5,8,37097]
["O2",5,7,3,11,7,4,13,6550]
["O3",6,10,4,4,14,5,7,17127]
["O4",4,6,11,6,6,10,1,48604]
["O5",3,5,13,7,8,9,12,52881]
["O6",2,4,7,14,10,10,9,11248]
["O7",1,2,10,8,12,1,1,12570]
["O8",12,1,14,1,2,1,3,21616]
["O9",9,12,6,2,5,5,4,41659]
["O10",10,8,9,3,9,8,5,40060]
["O11",11,14,1,9,13,12,11,11368]
["O12",13,9,5,12,1,14,10,17950]
["O13",8,13,2,13,4,12,14,8242]
["O14",14,3,12,5,11,1,6,19630]
[]
["https://miau.my-x.hu/miau/274/csak_invalid_objektum.xlsx"]
[null,2,3,4,5,6,7,8]
[1,9699.9124456352856,0.99258391560752957,0.99258391560752957,18853.533514091319,14639.578971458874,0.99258393642175091,1216.8987151615447]
[2,9699.9124456352911,0.99258391560752957,0.99258391560752957,18853.533514091327,14639.578971458875,0.99258393642175091,1216.8987151615452]
[3,9699.9124456352947,0.99258391560752957,0.99258391560752957,18853.533514091316,14639.57897145887,0.99258393642175091,1216.8987151615449]
[4,9699.9124456352965,0.99258391560752957,0.99258391560752957,18853.533514091323,14639.578971458863,0.99258393642175091,1216.8987151615461]
[5,0.99253228865607945,0.99258391560752957,0.99258391560752957,18853.533514091312,14639.578971458868,0.99258393642175091,1216.8987151615465]
[6,0.99253228865607945,0.99258391560752957,0.99258391560752957,18853.533514091312,14639.578971458874,0.99258393642175091,1216.8987151615459]
[7,0.99253228865607945,0.99258391560752957,0.99258391560752957,18853.533514091305,14639.578971458879,0.99258393642175091,1216.8987151615454]
[8,0.99253228865607945,0.99258391560752957,0.99258391560752957,9802.0297810079264,14639.578971458881,0.99258393642175091,1216.8987151615463]
[9,0.99253228865607945,0.99258391560752957,0.99258391560752957,9802.0297810079173,14639.578971458883,0.99258393642175091,1216.8987151615449]
[10,0.99253228865607945,0.99258391560752957,0.99258391560752957,9802.029781007921,0.99254972428198296,0.99258393642175091,1216.8987151615456]
[11,0.99253228865607945,0.99258391560752957,0.99258391560752957,0.99250043044568115,0.99254972428198296,0.99258393642175091,1216.8987151615452]
[12,0.99253228865607945,0.99258391560752957,0.99258391560752957,0.99250043044568115,0.99254972428198296,0.99258393642175091,1216.8987151615443]
[13,0.99253228865607945,0.99258391560752957,0.99258391560752957,0.99250043044568115,0.99254972428198296,0.99258393642175091,0.99217637542423065]
[14,0.99253228865607945,0.99258391560752957,0.99258391560752957,0.9925004304456817,0.99254972428198318,0.99258393642175113,0.99217637542423076]
[]
["L1-L2",0,0,0,0,0,0,0]
["…",0,0,0,0,0,0,0]
["…",0,0,0,0,0,0,0]
["…",9698.9199133466409,0,0,0,0,0,0]
["…",0,0,0,0,0,0,0]
["…",0,0,0,0,0,0,0]
["…",0,0,0,9051.5037330833784,0,0,0]
["…",0,0,0,0,0,0,0]
["…",0,0,0,0,14638.586421734601,0,0]
["…",0,0,0,9801.037280577475,0,0,0]
["…",0,0,0,0,0,0,0]
["…",0,0,0,0,0,0,1215.9065387861201]
["L13-L14",0,0,0,0,0,0,0]
[]
[]
["O1",0.99253228865607945,0.99258391560752957,0.99258391560752957,9802.029781007921,14639.57897145887,0.99258393642175091,1216.8987151615463,37097,25662.477751684633,11434.522248315367]
["O2",0.99253228865607945,0.99258391560752957,0.99258391560752957,0.99250043044568115,14639.578971458879,0.99258393642175091,0.99217637542423065,6550,14645.533932321043,8095.5339323210428]
["O3",0.99253228865607945,0.99258391560752957,0.99258391560752957,18853.533514091323,0.99254972428198318,0.99258393642175091,1216.8987151615454,17127,20075.39506303344,2948.3950630334402]
["O4",9699.9124456352965,0.99258391560752957,0.99258391560752957,18853.533514091312,14639.578971458874,0.99258393642175091,1216.8987151615447,48604,44412.901398114664,4191.0986018853364]
["O5",9699.9124456352947,0.99258391560752957,0.99258391560752957,18853.533514091305,14639.578971458881,0.99258393642175091,1216.8987151615443,52881,44412.901398114664,8468.0986018853364]
["O6",9699.9124456352911,0.99258391560752957,0.99258391560752957,0.9925004304456817,0.99254972428198296,0.99258393642175091,1216.8987151615449,11248,10921.773962719202,326.22603728079775]
["O7",9699.9124456352856,0.99258391560752957,0.99258391560752957,9802.0297810079264,0.99254972428198296,0.99258393642175091,1216.8987151615447,12570,20722.811243296674,8152.8112432966736]
["O8",0.99253228865607945,0.99258391560752957,0.99258391560752957,18853.533514091319,14639.578971458875,0.99258393642175091,1216.8987151615449,21616,34713.981484768032,13097.981484768032]
["O9",0.99253228865607945,0.99258391560752957,0.99258391560752957,18853.533514091327,14639.578971458868,0.99258393642175091,1216.8987151615461,41659,34713.981484768032,6945.0185152319682]
["O10",0.99253228865607945,0.99258391560752957,0.99258391560752957,18853.533514091316,14639.578971458883,0.99258393642175091,1216.8987151615465,40060,34713.981484768032,5346.0185152319682]
["O11",0.99253228865607945,0.99258391560752957,0.99258391560752957,9802.0297810079173,0.99254972428198296,0.99258393642175091,1216.8987151615452,11368,11023.891329950038,344.1086700499618]
["O12",0.99253228865607945,0.99258391560752957,0.99258391560752957,0.99250043044568115,14639.578971458874,0.99258393642175113,1216.8987151615456,17950,15861.440471107158,2088.5595288928416]
["O13",0.99253228865607945,0.99258391560752957,0.99258391560752957,0.99250043044568115,14639.578971458863,0.99258393642175091,0.99217637542423076,8242,14645.533932321026,6403.5339323210264]
["O14",0.99253228865607945,0.99258391560752957,0.99258391560752957,18853.533514091312,0.99254972428198296,0.99258393642175091,1216.8987151615459,19630,20075.395063033433,445.39506303343296]
[null,null,null,null,null,null,null,null,346602,346602,654882188.54704082,"direct",781791038.73000014,"<--online"]
[]
[null,null,null,null,null,null,null,null,null,null,{"$f":"K251+K183","v":1231497846.3232951},null,{"$f":"M251+M183","v":1541075022.1000001},"<--online "]
[null,null,null,null,null,null,null,null,null,null,"(^2-driven)",null,null,"(abs-driven)"]

{"sheet":"archive","index":24,"n_rows":339,"n_cols":59,"rows_kept":339,"cut":false,"hidden":false,"merged":[]}
["basics15","direct",null,null,null,null,null,null,null,null,null,null,null,null,null,null,null,null,null,null,null,null,null,null,null,null,null,null,"inverse",null,null,null,null,null,null,null,null,null,null,null,null,null,null,null,null,null,null,null,null,null,null,null,null,null,null,null,"valid","online"]
[15,9,150,156,6,615000,null,15,215358.084266652,361546.75884627597,26948.795154207899,153538.60678731499,32968.315483815299,null,1.5156415532158199E-149,0,1561562.60909244,"3.092281598602796E-1515",0,null,215358.084266652,5815.4615815515399,6075.5767154615196,156.54215150435499,32968.315483815299,60999.979744982338,2.0255015766158301E-2,null,156,8,7,15,150,615000,null,15,7940.7278879650348,27344.309057680635,158943.15676415901,4155015.57592854,1586.33156504154,null,0,0,0,0,0,null,37.957158806439203,259.84853429561502,158943.15676415901,4155015.57592854,1586.33156504155,60928.880943221498,715.15159056777998,null,{"$f":"IF(INT(F2-Z2)*INT(F2-BB2)<=0,1,0)","v":0},{"$f":"basics1!P2","v":"invalid"}]
[154,3,154,152,3,74000,null,2,215358.084266652,361546.75884627597,150786.15860496301,153538.60678731499,32968.315483815299,null,3.1565041556215598E-150,0,0,0,0,null,15.0153234940747,361546.75884627597,1505.48381515762,4774.4721539274897,32968.315483815299,73996.042870390389,3.9571529609615101,null,3,154,3,5,154,74000,null,2,7940.7278879650348,27344.30905768061,158943.15676415901,4155015.57592854,1586.33156504154,null,0,2.5829649530351499E-150,0,0,"-3.56692453351557E-1515",null,7940.7278879650376,259.84853429561502,158943.15676415901,4155015.57592854,1586.33156504155,688315.65156431496,51568.348356877199,null,1,{"$f":"basics1!P3","v":"valid"}]
[5,154,3,155,4,77000,null,3,215358.084266652,361546.75884627597,150786.15860496301,153538.60678731499,32968.315483815299,null,4.0745362639427199E-150,0,"3.092281598602796E-1515","4.001577668780088E-1515",0,null,215358.084266652,5815.4615815515399,150786.15860496301,405.83150632540702,32968.315483815299,66099.878032815599,150900.15215967101,null,1515,3,153,2,153,77000,null,3,7940.7278879650376,27344.309057680352,158943.15676415901,4155015.57592854,1586.33156504155,null,0,0,0,0,6.9915740515987904E-152,null,7940.7278879650376,27344.309057680352,150.72415367974301,4155015.57592854,1586.33156504155,76983.668661539894,156.33153386001501,null,0,{"$f":"basics1!P4","v":"invalid"}]
[2,2,7,6,154,86000,null,4,215358.084266652,361546.75884627597,150786.15860496301,153538.60678731499,32968.315483815299,null,"6.9152155973347425E-1515","9.45874489843845E-1515","3.092281598602796E-1515","2.54658515649642E-1515",0,null,215358.084266652,361546.75884627597,150786.15860496301,153538.60678731499,915.08229723484806,815920.71582471498,4079.28157528867,null,155,155,150,1515,3,86000,null,4,7940.7278879650376,27344.30905768033,158943.15676415901,4155015.57592854,1586.33156504155,null,0,27084.460523384711,"9.822542779154762E-1515",0,"-7.1536691523797445E-1515",null,37.957158806438898,259.84853429561502,158943.156764157,158608.89599802499,1586.33156504155,38036.201501525902,47963.79898740277,null,1,{"$f":"basics1!P5","v":"invalid"}]
[150,5,15,9,152,79000,null,5,215358.084266652,361546.75884627597,150786.15860496301,153538.60678731499,32968.315483815299,null,1503159.3042159099,2.4015066015267999E-150,"9.094947015772928E-1515","4.915152715389573815E-1515","8.7315154915370201515E-1515",null,1515038.78004747,361546.75884627597,26948.795154207899,4774.4721539274897,915.08229723521504,78999.888472337945,0.15151552766205401,null,7,152,156,8,5,79000,null,5,7940.7278879650376,259.84853429561502,158943.15676415901,4155015.57592854,1586.33156504155,null,0,0,0,0,"15.5631594015867222E-1515",null,7940.7278879650321,259.84853429561502,150.72415367974301,4155015.57592854,1586.33156504155,49899.208153801497,291500.79158615897,null,1,{"$f":"basics1!P6","v":"valid"}]
[3,150,3,153,9,38000,null,6,1515038.78004747,361546.75884627498,150786.15860496301,153538.60678731499,32968.315483815299,null,0,35565.2970315153,1.50550153854056E-149,8764.1534648044108,215323.23676989201,null,215358.084266652,5815.4615815515399,150786.15860496301,4774.4721539274997,499.68907327475341,37999.893343977848,0.150665602215515,null,154,7,153,3,8,38000,null,6,7940.7278879650376,259.84853429561502,158943.15676415901,4155015.57592854,1586.33156504155,null,0,0,0,0,0,null,37.957158806438898,259.84853429561502,150.72415367974301,4155015.57592854,1586.33156504155,415996.43743815098,3996.4374381515399,null,1,{"$f":"basics1!P7","v":"invalid"}]
[5,6,152,150,8,80000,null,7,1515038.78004747,5815.4615815515399,150786.15860496301,4774.4721539274897,1515645.0780682401,null,0,7.8443915802791493E-152,2.6739154423215199E-150,0,0,null,215358.084266652,361546.75884627498,6075.5767154615196,4774.4721539274897,1515645.0780682401,79999.970035058985,2.9964941501553499E-2,null,1515,1515,5,7,9,80000,null,7,7940.7278879650321,259.84853429561502,158943.15676415901,4155015.57592854,1586.33156504155,null,0,0,0,0,0,null,7940.7278879650376,259.84853429561502,158943.15676415901,4155015.57592854,1586.33156504155,688315.65156431496,15151568.3483568,null,1,{"$f":"basics1!P8","v":"invalid"}]
[155,7,6,15,1515,25000,null,8,1515038.78004747,5815.4615815515399,150786.15860496301,4774.4721539274897,1515645.0780682401,null,0,7.0485839387401496E-152,47150.609335015703,0,15151545.388994901,null,15.0153234940584,5815.4615815515399,150786.15860496301,153538.60678731499,915.08229723537295,24998.350158427002,15.649815572921501,null,15,9,1515,156,6,25000,null,8,7940.7278879650339,259.84853429561502,158943.15676415901,4155015.57592854,1586.33156504155,null,0,0,1.5086915892815899E-6,22892.679930515598,0,null,7940.7278879650348,259.84853429561502,158943.156764157,1563.80046928154,1586.33156504155,27493.876158371499,2493.87615837156,null,1,{"$f":"basics1!P9","v":"invalid"}]
[152,152,153,2,5,56000,null,9,1515038.78004747,5815.4615815515399,6075.5767154615196,4774.4721539274897,499.68907327475341,null,0,0,0,0,1.56279955156157E-149,null,8620.9221543157,5815.4615815515399,290.69265770207102,153538.60678731499,32968.315483815299,55999.998241547197,1.5758527374477101E-3,null,5,4,4,155,152,56000,null,9,7940.7278879650376,259.84853429561502,158943.156764157,158608.89599802499,1586.33156504155,null,0,0,0,0,0,null,7940.7278879650376,27344.30905768033,158943.15676415901,9515.6976066465304,1586.33156504155,55366.233844615199,633.76615553879799,null,1,{"$f":"basics1!P10","v":"invalid"}]
[7,15,2,8,153,27000,null,150,1515038.78004747,5815.4615815515399,6075.5767154615196,4774.4721539274897,499.68907327459101,null,0,"3.376499080332E-1515",1.5336957215155999E-149,0,408.60677603921499,null,1515038.78004747,361546.75884627597,150786.15860496301,4774.4721539274897,915.08229723488296,62837.279379888569,35837.279379888569,null,150,156,155,9,4,27000,null,150,7940.7278879650421,259.84853429561502,158943.156764157,158608.89599802499,1586.33156504155,null,0,0,3.7315838660315403E-8,0,-4.8315690603156801E-153,null,7940.7278879650421,259.84853555157503,150.72415367974301,158608.89599802499,1586.33156504155,27006.528208755168,6.5282087551567702,null,0,{"$f":"basics1!P11","v":"invalid"}]
[8,7,155,7,150,157000,null,1515,1515038.78004747,5815.4615815515399,6075.5767154615196,4774.4721539274897,915.08229723537295,null,24157.857904301502,1.5532498572487299E-149,2.7015159926426501E-150,0,1.5633253532415799E-149,null,1515038.78004747,5815.4615815515399,1505.48381515762,4774.4721539274897,499.68907327459101,156999.886886928,0.151531515307152,null,8,9,2,150,7,157000,null,1515,7940.7278879650376,259.84853429561502,158943.156764157,158608.89599802499,1586.33156504155,null,0,5.1515590769747201E-153,"4.001577668780088E-1515",0,0,null,7940.7278879650339,259.84853429561502,158943.15676415901,158608.89599802499,1586.33156504155,45938.971571526003,28938.971571525999,null,1,{"$f":"basics1!P12","v":"invalid"}]
[8,4,5,3,155,95000,null,152,8620.9221543157,5815.4615815515399,6075.5767154615196,4774.4721539274897,915.08229723521504,null,"6.7302607931515967E-1515",4.2291550363244101E-150,5784.8840569150298,-9.0949470157729202E-152,3.26693339047779E-150,null,1515038.78004747,361546.75884627597,150786.15860496301,153538.60678731499,915.08229723476597,7156015.4154027896,23398.585972067376,null,8,153,152,154,2,95000,null,152,7940.727887965033,259.84853429561502,158943.156764157,158608.89599802499,1586.33156504155,null,0,0,158932.443504961,0,0,null,7940.7278879650339,259.84853429561502,158943.156764157,158608.89599802499,1586.33156504154,45938.971571524598,490615.02828753903,null,1,{"$f":"basics1!P13","v":"invalid"}]
[153,1515,156,1515,6,47000,null,153,8620.9221543157,5815.4615815515399,290.69265770207102,4774.4721539274997,915.08229723488296,null,86159.908908229394,4.24734025727957E-150,1585.2088459398101,4368.6415076020903,"3.52855522578466E-1515",null,8620.9221543157,5815.4615815515399,54.677224925904973,4774.4721539274897,32968.315483815299,46999.8481560652,0.15515839347847199,null,4,6,15,6,150,47000,null,153,7940.7278879650285,259.84853429561502,150.72415367974301,158608.89599802499,1586.33156504155,null,7902.7706999006386,0,-6.3682392692498997E-152,0,0,null,7940.7278879650376,259.84853429561502,158943.15676415901,4155015.57592854,1586.33156504155,688315.65156431496,2158315.6515643098,null,1,{"$f":"basics1!P14","v":"invalid"}]
[1515,156,1515,153,156,22000,null,154,15.0153234940747,5815.4615815515399,1505.48381515762,405.83150632540702,915.08229723484806,null,1.56339157445786E-149,5615.3785238679302,1.56342482922482E-149,0,"8.215815372815801532E-1515",null,1515038.78004747,20.083291527524199,6075.5767154615196,4774.4721539274997,915.08229723476597,215999.99448986899,5.5150153037693299E-3,null,6,15,6,3,15,22000,null,154,37.957158806438898,259.84853429561502,150.72415367974301,158608.89599802499,1586.33156504155,null,0,0,0,157657.159839153,23.454787608649497,null,7940.7278879650376,27344.309057680635,158943.15676415901,4155015.57592854,1586.33156504154,959156.15152156597,739156.15152156597,null,0,{"$f":"basics1!P15","v":"valid"}]
[4,155,8,4,15,73000,null,155,15.0153234940584,20.083291527615501,1505.48381515762,405.83150632540702,915.08229723476597,null,4.9015725692008003E-150,9.1551504436671503E-150,50.806586836158701,389.288952815855,0,null,215358.084266652,20.083291527615501,150786.15860496301,153538.60678731499,32968.315483815299,786715.27523301495,56715.275233015302,null,153,2,8,153,155,73000,null,155,37.957158806438898,259.84853429561502,150.72415367974301,9515.6976066465304,1562.8768628063999,null,-2.54374299402151E-152,-1.5256154150471501E-5,0,787.89715373650404,1562.8154354644901,null,7940.7278879650285,27344.30905768061,158943.15676415901,158608.89599802499,1562.8768628063999,72999.977448382953,2.2551561570467001E-2,null,1,{"$f":"basics1!P16","v":"valid"}]
[155,152,8,5,15,615000,null,156,15.015323494009399,20.083291527524199,54.677224925904973,156.54215150435499,915.08229723476597,null,null,null,null,null,null,null,15.0153234940584,5815.4615815515399,150786.15860496301,153538.60678731499,32968.315483815299,57875.582725157001,31524.415727482901,null,15,4,8,152,155,615000,null,156,37.957158806439203,259.84853555157503,150.72415367974301,1563.80046928154,6.2508156155015399E-2,null,null,null,null,null,null,null,7940.7278879650348,27344.30905768033,158943.15676415901,158608.89599802499,1562.8768628063999,72999.977448382677,1515999.9774483801,null,0,{"$f":"basics1!P17","v":"valid"}]
[null,null,null,null,null,9158000,null,null,2,3,4,5,6,null,null,null,null,null,null,null,null,null,null,null,null,9158000.0000758693,830157.15091549896,null,null,null,null,null,null,9158000,null,null,2,3,4,5,6,null,null,null,null,null,null,null,null,null,null,null,null,9157999.9998481497,286367.15097542701,null,{"$f":"SUM(BE2:BE17/16)","v":0.6875},{"$f":"basics1!P19","v":0.3125}]
[null,null,null,null,null,null,null,null,null,null,null,null,null,null,null,null,null,null,null,null,null,null,null,null,null,null,{"$f":"models1!K78","v":96230.900000000009},null,null,null,null,null,null,null,null,null,null,null,null,null,null,null,null,null,null,null,null,null,null,null,null,null,null,null,{"$f":"models1!Z78","v":288026.70000000007}]
[]
["basics2","direct",null,null,null,null,null,null,null,null,null,null,null,null,null,null,null,null,null,null,null,null,null,null,null,null,null,null,"inverse",null,null,null,null,null,null,null,null,null,null,null,null,null,null,null,null,null,null,null,null,null,null,null,null,null,null,null,"valid","online"]
[16,6,15,8,7,27000,null,1,10172.698400438434,8813.1539094794898,21665.77612179318,24329.714525105799,40661.759196133724,null,0,0,0,0,-6.2905746744945645E-7,null,5.2084306977095327,466.67243415711016,57.077619580126367,108.86553618253562,26364.526151210219,27002.3501718277,2.350171827700251,null,1,11,2,9,10,27000,null,1,35147.942443357249,9289.5607627572317,346.91482426759728,458.20627396812625,24516.692145392222,null,0,0,-1.3812950783176348E-11,1.3983481039758772E-11,0,null,35147.942443357249,46.867726536986126,346.9148242676111,458.20627396811989,24516.692145392233,60516.623413522197,33516.623413522197,null,{"$f":"IF(INT(F22-Z22)*INT(F22-BB22)<=0,1,0)","v":0},{"$f":"basics2!P2","v":"invalid"}]
[5,8,3,2,11,96000,null,2,10172.698400438441,8813.1539094794898,21665.776121793169,24329.714525105799,40661.759196762781,null,0,8346.48147532238,0,6.108166417106986E-9,0,null,10172.698400438438,466.67243415711016,21665.77612179318,24329.714525105799,26364.526152705483,82999.387634200015,13000.612365799985,null,13,9,14,16,6,96000,null,2,35147.942443357257,9289.5607627572244,346.9148242676111,458.20627396811227,24516.692145392226,null,0,0,2.262368070660159E-11,1.3301360013429075E-11,0,null,25448.94358069697,9289.5607627572372,346.91482426758307,458.20627396812165,24516.692145392233,60060.317587082143,35939.682412917857,null,{"$f":"IF(INT(F23-Z23)*INT(F23-BB23)<=0,1,0)","v":0},{"$f":"basics2!P3","v":"invalid"}]
[11,15,5,7,9,70000,null,3,10172.698400438441,466.67243415711016,21665.77612179318,24329.714525099691,40661.759196762781,null,0,0,5.3914845921099186E-9,0,0,null,10172.698405767427,466.67243420903009,21665.776121787807,108.86553618253561,26364.526151210241,58778.538649157039,11221.461350842961,null,7,2,12,11,8,70000,null,3,35147.942443357213,9289.5607627572153,346.91482426758847,458.20627396809897,24516.692145392233,null,-5.8207660913467407E-11,-1.4551915228366852E-11,-2.4215296434704214E-11,-2.120259523508139E-11,0,null,35147.942443357308,9289.5607627572244,346.91482426758364,458.20627396812154,24516.692145392237,69759.316449742473,240.6835502575268,null,0,{"$f":"basics2!P4","v":"invalid"}]
[6,11,11,11,4,98000,null,4,10172.698400438441,466.67243415711005,21665.776121787789,24329.714525099695,40661.759196762774,null,0,0,0,24220.848988917158,-6.2652034102939069E-6,null,10172.698400438438,466.67243415711039,21665.776128015113,108.86553620789837,40661.759196762774,73075.771695581338,24924.228304418662,null,11,6,6,7,13,98000,null,4,35147.942443357271,9289.5607627572299,346.91482426761269,458.20627396812017,24516.692145392219,null,0,0,2.6886937121162191E-11,-4.666844688472338E-11,-3.2741809263825417E-11,null,35147.942443357315,9289.5607627572299,346.91482426760882,458.20627396811835,24516.69214539224,69759.316449742517,28240.683550257483,null,0,{"$f":"basics2!P5","v":"invalid"}]
[2,2,14,13,6,60000,null,5,10172.698400438438,466.67243415711016,21665.776121787807,108.86553618253558,40661.759203027977,null,0,0,4.321918822824955E-9,0,-5.133901140652597E-6,null,10172.698400438441,8813.1539094794898,239.3768829660545,108.86553664774094,40661.759208161879,59995.853937693602,4.1460623063976527,null,15,15,3,5,11,60000,null,5,35147.942443357249,9289.560762757239,346.9148242675858,458.20627396816684,24516.692145392251,null,0,0,-2.3021584638627246E-11,2.6886937121162191E-11,0,null,0,46.867726536987639,346.91482426758847,458.20627396816684,24516.692145392259,25368.680970165002,34631.319029834995,null,0,{"$f":"basics2!P6","v":"invalid"}]
[14,7,1,10,1,63000,null,6,10172.698400438438,466.67243415711016,21665.776121783485,108.86553618253558,40661.759208161879,null,-5.3320363804232329E-6,0,3.6351531889522448E-5,0,14297.23305695166,null,96.928150317519538,466.67243415711044,21665.77612179318,108.86553620789856,40661.759196133724,63000.001438609426,1.4386094262590632E-3,null,3,10,16,8,16,63000,null,6,35147.942443357257,9289.5607627572299,346.91482426760882,458.20627396813995,24516.692145392233,null,0,-1.6370904631912708E-11,-7.9012352216523141E-12,2.1600499167107046E-11,0,null,35147.942443357213,9289.5607627572317,346.91482426758228,458.206273968125,0,45242.624304350153,17757.375695649847,null,1,{"$f":"basics2!P7","v":"valid"}]
[6,1,8,4,15,65000,null,7,10172.698405770474,466.67243415711044,21665.776085431953,108.86553618253561,26364.526151210219,null,-1.8189894035458565E-11,0,-4.1086983401328325E-5,0,0,null,10172.698400438438,8813.1539094794898,21665.776126518937,24329.714525099695,18.656935577629714,64999.99989711419,1.0288580961059779E-4,null,11,16,8,14,2,65000,null,7,35147.942443357308,9289.5607627572463,346.91482426761672,458.20627396811835,24516.692145392259,null,-6.5483618527650833E-11,0,1.1652900866465643E-11,-6.6506800067145377E-12,0,null,35147.942443357315,46.86772653698759,346.91482426760507,458.20627396812154,24516.692145392226,60516.623413522248,4483.3765864777524,null,1,{"$f":"basics2!P8","v":"invalid"}]
[1,9,6,12,8,22000,null,8,10172.698405770492,466.67243415711016,21665.776126518937,108.86553618253562,26364.526151210237,null,3.0722731025889516E-9,0,0,-2.5362879796375637E-8,0,null,10172.698400438434,466.67243415711044,21665.776121783485,108.86553664774091,26364.526151210237,58778.538644237007,36778.538644237007,null,16,8,10,6,9,22000,null,8,35147.942443357373,9289.5607627572354,346.91482426760507,458.206273968125,24516.692145392237,null,9.4587448984384537E-11,0,7.787548383930698E-12,5.1159076974727213E-12,0,null,0,9289.5607627572354,346.91482426758529,458.20627396813995,24516.69214539224,34611.374006385202,12611.374006385202,null,0,{"$f":"basics2!P9","v":"invalid"}]
[3,16,6,14,14,12000,null,9,10172.69840576742,466.67243415711044,21665.776126518933,108.8655362078985,26364.526151210241,null,0,0,-1.4961769920773804E-6,0,0,null,10172.698400438441,5.144697235085582,21665.776121783485,108.86553649857558,34.874366332926677,31987.359122288512,19987.359122288512,null,14,1,10,4,3,12000,null,9,35147.942443357279,9289.5607627572372,346.91482426759728,458.20627396811989,24516.69214539224,null,6.5483618527650833E-11,0,1.1993961379630491E-11,0,0,null,-8.9095397726168812E-14,9289.5607627572317,346.91482426758529,458.20627396812017,24516.692145392233,34611.374006385173,22611.374006385173,null,0,{"$f":"basics2!P10","v":"invalid"}]
[10,4,4,6,2,36000,null,10,10172.69840576742,466.67243415711044,21665.77612801511,108.86553620789856,26364.526151210215,null,0,0,0,1.8474111129762605E-13,-1.4952674973756075E-6,null,10172.69840576742,466.67243415711005,21665.776121787789,108.86553618253558,40661.759196762781,73075.77169465764,37075.77169465764,null,8,13,13,12,15,36000,null,10,35147.942443357213,9289.5607627572317,346.91482426758529,458.20627396811994,24516.692145392233,null,-1.0186340659856796E-10,9242.6930362202456,8.5265128291212022E-13,-1.5916157281026244E-12,0,null,35147.942443357373,46.867726536987782,346.91482426758296,458.20627396812171,-5.5511151231257827E-15,35999.931268130058,6.8731869941984769E-2,null,1,{"$f":"basics2!P11","v":"valid"}]
[9,5,9,3,10,83000,null,11,10172.698405767427,466.67243415711039,21665.776128015113,108.86553620789837,26364.526152705483,null,1.4551915228366852E-11,-1.0051013532574871E-7,21426.399245049059,-4.3984253750295466E-7,0,null,10172.69840576742,466.67243415711016,21665.776126518933,24329.714525099691,26364.526151210215,82999.387642753369,0.61235724663129076,null,9,12,7,15,7,83000,null,11,35147.942443357315,46.867726536986126,346.91482426758444,458.20627396812154,24516.692145392259,null,9698.9988626603372,-2.9274360713316128E-12,7.9580786405131221E-13,0,0,null,35147.942443357279,46.867726536989053,346.91482426761672,458.20627396812165,24516.692145392259,60516.623413522262,22483.376586477738,null,1,{"$f":"basics2!P12","v":"valid"}]
[15,14,16,16,3,40000,null,12,10172.698405767413,466.67243425762052,239.37688296605481,108.86553664774091,26364.52615270549,null,1.0149960871785879E-9,-1.4977274531702278E-8,0,0,26283.459742531129,null,96.916606729085544,466.6724342725978,57.077619580126346,108.86553650615053,40661.759196762781,41391.291393850741,1391.2913938507409,null,2,3,1,1,14,40000,null,12,25448.943580696978,46.867726536989053,346.91482426758364,458.20627396812171,24516.692145392259,null,0,1.2718714970105793E-12,6.8212102632969618E-13,0,0,null,35147.942443357257,9289.5607627572153,346.91482426759728,458.20627396812625,2.9976021664879227E-14,45242.624304350196,5242.6243043501963,null,0,{"$f":"basics2!P13","v":"valid"}]
[8,12,2,15,5,77000,null,13,10172.698405766398,466.6724342725978,239.37688296605467,108.86553664774094,81.066410174361536,null,10075.770255448879,0,0,1.4916535917564033E-7,46.19204384143486,null,10172.698405770492,466.67243425762052,21665.776121793169,108.86553649857559,40661.759203027977,73075.77170134784,3924.2282986521604,null,10,5,15,3,12,77000,null,13,25448.94358069697,46.867726536987782,346.91482426758296,458.20627396812148,24516.69214539224,null,25448.94358069697,7.815970093361102E-14,0,0,24516.69214539224,null,35147.942443357213,9289.560762757239,346.91482426758222,458.20627396809897,24516.692145392259,69759.316449742386,7240.6835502576141,null,0,{"$f":"basics2!P14","v":"invalid"}]
[13,3,12,5,16,10000,null,14,96.928150317519538,466.6724342725978,239.3768829660545,108.86553649857558,34.874366332926677,null,1.1543588433994501E-2,6.3567711094947299E-8,182.29926338592813,0,16.217430755296963,null,10172.698405766398,466.67243415711016,239.37688296605481,108.86553618253558,5.1447585270138347,10992.758017599112,992.75801759911155,null,4,14,5,13,1,10000,null,14,-8.9095397726168812E-14,46.867726536987703,346.91482426758307,458.20627396812154,2.9976021664879227E-14,null,-8.9095397726168812E-14,6.3948846218409017E-14,8.5265128291212022E-13,0,3.5527136788005009E-14,null,35147.942443357271,46.867726536987703,346.9148242675858,458.20627396812148,24516.692145392222,60516.623413522189,50516.623413522189,null,0,{"$f":"basics2!P15","v":"valid"}]
[12,13,13,8,13,27000,null,15,96.916606729085544,466.67243420903009,57.077619580126367,108.86553649857559,18.656935577629714,null,91.708176031376013,461.52773697394451,0,-7.5749397865365609E-9,13.512177050615879,null,10172.698405767413,466.6724342725978,239.37688296605467,108.86553618253562,81.066410174361536,11068.679669362962,15931.320330637038,null,6,4,4,9,4,27000,null,15,0,46.867726536987639,346.91482426758222,458.20627396812165,-5.5511151231257827E-15,null,0,0,0,0,-5.5511151231257827E-15,null,35147.942443357257,9289.5607627572299,346.91482426761269,458.20627396811989,24516.692145392219,69759.316449742444,42759.316449742444,null,1,{"$f":"basics2!P16","v":"valid"}]
[13,10,7,16,12,86000,null,16,5.2084306977095327,5.144697235085582,57.077619580126346,108.86553650615053,5.1447585270138347,null,null,null,null,null,null,null,10172.698405766398,466.67243415711044,21665.776085431953,108.86553650615053,26364.52615270549,58778.5386145671,27221.4613854329,null,4,7,9,1,5,86000,null,16,0,46.86772653698759,346.91482426758228,458.20627396812165,0,null,null,null,null,null,null,null,35147.942443357271,9289.5607627572463,346.91482426759728,458.20627396812625,24516.692145392251,69759.316449742488,16240.683550257512,null,0,{"$f":"basics2!P17","v":"invalid"}]
[null,null,null,null,null,872000,null,null,2,3,4,5,6,null,null,null,null,null,null,null,null,null,null,null,null,871999.99992484739,192456.14104129266,null,null,null,null,null,null,872000,null,null,2,3,4,5,6,null,null,null,null,null,null,null,null,null,null,null,null,872000.00234964921,334515.86883816571,null,{"$f":"SUM(BE22:BE37/16)","v":0.3125},{"$f":"basics2!P19","v":0.375}]
[null,null,null,null,null,null,null,null,null,null,null,null,null,null,null,null,null,null,null,null,null,null,null,null,null,null,{"$f":"models1!K178","v":203074.00000000003},null,null,null,null,null,null,null,null,null,null,null,null,null,null,null,null,null,null,null,null,null,null,null,null,null,null,null,{"$f":"models1!Z178","v":396717.2}]
[]
["basics3","direct",null,null,null,null,null,null,null,null,null,null,null,null,null,null,null,null,null,null,null,null,null,null,null,null,null,null,"inverse",null,null,null,null,null,null,null,null,null,null,null,null,null,null,null,null,null,null,null,null,null,null,null,null,null,null,null,"valid","online"]
[15,9,10,10,12,70000,null,1,17885.228671513269,7568.9494481109232,34460.881238049733,1614.7983908333745,19822.520275655988,null,0,0,0,0,0,null,82.302934414154137,4738.7781399601954,23938.619252789973,970.16574658432046,16637.051559641604,46366.917633390243,23633.082366609757,null,2,7,6,7,5,70000,null,1,29323.994477297187,29011.725464618452,10152.304457540706,25129.813249929903,4521.761191766187,null,0,0,0,0,-9.0949470177292824E-12,null,29323.994477297198,29011.725464618467,10152.304457540693,9082.045777079511,4521.7611917661861,82091.831368302053,12091.831368302053,null,{"$f":"IF(INT(F42-Z42)*INT(F42-BB42)<=0,1,0)","v":1},{"$f":"basics3!P2","v":"invalid"}]
[10,16,8,7,9,20000,null,2,17885.228671513265,7568.9494481109232,34460.881238049755,1614.798390833374,19822.520275656003,null,0,0,0,0,0,null,6403.2484644086753,50.544083211875957,23938.619252789995,970.16574658432012,16637.051559641593,47999.629106636465,27999.629106636465,null,8,1,8,10,7,20000,null,2,29323.994477297198,29011.725464618456,10152.304457540708,25129.813249929906,4521.7611917661961,null,20780.353160140367,0,0,14858.915959249864,1.7280399333685637E-11,null,4871.6447175180701,29011.725464618452,10152.304457540702,1357.0442189158514,4521.761191766198,49914.480050359278,29914.480050359278,null,{"$f":"IF(INT(F43-Z43)*INT(F43-BB43)<=0,1,0)","v":0},{"$f":"basics3!P3","v":"invalid"}]
[11,3,9,8,6,90000,null,3,17885.228671513269,7568.9494481109186,34460.881238049711,1614.798390833374,19822.520275655985,null,0,0,10522.261985259738,644.63264424905378,0,null,6403.2484644086726,7568.9494481109186,23938.619252789995,970.16574658432035,19822.520275655988,58703.503187549897,31296.496812450103,null,7,14,7,9,11,90000,null,3,8543.6413171568292,29011.725464618463,10152.304457540704,10270.897290680043,4521.7611917661789,null,0,0,0,0,0,null,8543.6413171568292,1029.7628880884331,10152.304457540706,8121.9193135993601,4521.7611917661834,32369.389168151509,57630.610831848491,null,0,{"$f":"basics3!P4","v":"invalid"}]
[4,1,5,11,8,67000,null,4,17885.228671513287,7568.9494481109177,23938.619252789973,970.16574658432023,19822.520275655988,null,0,0,0,0,0,null,17885.228671513287,7568.9494481109232,23938.619252789973,970.16574658432035,16637.051559641597,67000.014678640102,1.4678640101919882E-2,null,14,16,11,6,8,67000,null,4,8543.6413171568238,29011.725464618467,10152.304457540702,10270.897290680045,4521.7611917661734,null,0,0,0,0,-1.2732925824820995E-11,null,1144.0198341621406,127.78007533621823,10152.304457540704,10270.897290680039,4521.761191766177,26216.76284948528,40783.237150514717,null,1,{"$f":"basics3!P5","v":"invalid"}]
[8,2,4,9,1,37000,null,5,17885.22867151329,7568.9494481109214,23938.619252789973,970.16574658432012,19822.520275655988,null,0,0,0,0,0,null,6403.2484644086753,7568.9494481109232,23938.619252789973,970.16574658432035,19822.520275655988,58703.503187549883,21703.503187549883,null,10,15,12,8,16,37000,null,5,8543.6413171568311,29011.725464618456,10152.304457540704,10270.897290680041,4521.7611917661861,null,0,0,0,0,0,null,4871.644717518071,509.12017739424078,10152.304457540706,9082.0457770795128,127.78006043761145,24742.895189970142,12257.104810029858,null,1,{"$f":"basics3!P6","v":"valid"}]
[6,8,7,16,11,51000,null,6,17885.228671513298,7568.9494481109277,23938.619252789973,970.16574658432012,19822.520275655988,null,0,2830.1713081507314,0,0,0,null,17885.228671513298,4738.7781399601963,23938.619252789973,54.651025300122974,16637.051559641597,63254.328649205185,12254.328649205185,null,12,8,9,1,6,51000,null,6,8543.6413171568347,29011.725464618459,10152.304457540693,10270.897290680039,4521.7611917661889,null,0,0,0,1188.8515136005281,-9.0949470177292824E-12,null,1816.6124928030886,29011.725464618459,10152.304457540702,25129.813249929903,4521.7611917661889,70632.216856658342,19632.216856658342,null,0,{"$f":"basics3!P7","v":"invalid"}]
[13,15,13,13,13,51000,null,7,17885.228671513294,4738.7781399601963,23938.619252789973,970.16574658432012,19822.520275655996,null,11481.980207104618,0,0,0,3185.4687160143985,null,6403.248464408679,712.82654472235799,938.66492108486705,970.16574658432035,16637.051559641583,25661.957236441805,25338.042763558195,null,5,2,3,4,4,51000,null,7,8543.6413171568292,29011.725464618467,10152.304457540706,9082.045777079511,4521.761191766198,null,3671.9965996387591,0,0,0,2.0918378140777349E-11,null,8543.6413171568311,29011.725464618456,10152.304457540704,10270.897290680045,4521.7611917661734,62500.329721762202,11500.329721762202,null,1,{"$f":"basics3!P8","v":"valid"}]
[5,12,6,3,2,68000,null,8,6403.2484644086753,4738.7781399601963,23938.619252789995,970.16574658432035,16637.051559641597,null,0,0,0,0,0,null,17885.22867151329,4738.7781399601972,23938.619252789973,1614.798390833374,19822.520275656003,67999.944730752846,5.5269247153773904E-2,null,13,5,10,14,15,68000,null,8,4871.6447175180701,29011.725464618459,10152.304457540702,9082.0457770795128,4521.761191766177,null,0,0,0,960.12646348015278,-1.0004441719502211E-11,null,1816.6124928030877,29011.725464618456,10152.304457540704,1357.0442189158518,509.12018096756344,42846.806814845659,25153.193185154341,null,1,{"$f":"basics3!P9","v":"invalid"}]
[9,10,11,14,15,13000,null,9,6403.2484644086753,4738.7781399601954,23938.619252789995,970.16574658432035,16637.051559641593,null,0,0,0,0,0,null,6403.2484644086753,4738.7781399601954,938.66492108486648,970.16574658432046,57.667586476581839,13108.52485851464,108.52485851464007,null,9,6,5,3,2,13000,null,9,4871.6447175180701,29011.725464618452,10152.304457540702,8121.9193135993601,4521.761191766187,null,0,0,0,6764.8750946835089,0,null,4871.6447175180701,29011.725464618459,10152.304457540704,10270.897290680043,4521.7611917661961,58828.333122123469,45828.333122123469,null,0,{"$f":"basics3!P10","v":"invalid"}]
[16,5,2,4,16,43000,null,10,6403.2484644086753,4738.7781399601954,23938.619252789973,970.16574658432046,16637.05155964159,null,0,0,22999.954331705107,0,0,null,6.4704291706394054E-11,7568.9494481109214,34460.881238049755,970.16574658432023,6.4704291706394054E-11,42999.996432745131,3.5672548692673445E-3,null,1,12,15,13,1,43000,null,10,4871.644717518071,29011.72546461847,10152.304457540704,1357.0442189158514,4521.7611917661879,null,301.56513450242983,27057.972385290363,0,0,0,null,29323.994477297187,1953.7530793281053,313.80072813505285,1357.0442189158521,4521.761191766187,37470.353695442376,5529.6463045576238,null,1,{"$f":"basics3!P11","v":"invalid"}]
[7,6,3,15,3,98000,null,11,6403.2484644086726,4738.7781399601945,938.66492108486648,970.16574658432035,16637.051559641597,null,0,0,0,0,0,null,17885.228671513294,7568.9494481109277,34460.881238049711,970.16574658432057,19822.520275655985,80707.745379914239,17292.254620085761,null,11,10,13,2,14,98000,null,11,4570.0795830156412,1953.7530793281062,10152.304457540704,1357.0442189158518,4521.7611917661834,null,2753.4670902125526,0,0,0,1347.2614437261532,null,4570.0795830156412,29011.72546461847,10152.3044575407,25129.813249929906,1029.7628457962091,69893.685600900935,28106.314399099065,null,0,{"$f":"basics3!P12","v":"invalid"}]
[3,7,12,2,7,45000,null,12,6403.2484644086735,4738.7781399601972,938.66492108486693,970.16574658432035,16637.051559641604,null,0,2520.9285861649432,0,0,0,null,17885.228671513269,4738.7781399601963,938.66492108486693,1614.798390833374,19822.520275655996,44999.990399047703,9.60095229675062E-3,null,15,9,4,15,9,45000,null,12,1816.6124928030886,1953.7530793281053,10152.304457540706,1357.0442189158525,3174.4997480400302,null,0,923.9901912396715,0,0,2144.7369022438206,null,128.36040324382705,29011.725464618452,10152.304457540702,128.36040324382705,4521.761191766187,43942.511920412995,1057.4880795870049,null,1,{"$f":"basics3!P13","v":"valid"}]
[14,14,15,12,4,11000,null,13,6403.248464408679,2217.849553795254,938.66492108486705,970.16574658432035,16637.051559641583,null,6320.9455299945248,1505.0230090728958,938.66492108479315,0,16579.383973165,null,82.302934414154166,712.82654472235822,7.3881047761665683E-11,970.16574658432035,19822.520275655988,21587.815501376896,10587.815501376896,null,4,3,2,5,13,11000,null,13,1816.6124928030877,1029.7628880884338,10152.3044575407,1357.0442189158521,1029.7628457962096,null,672.59265864094709,0,9838.5037294056474,0,0,null,8543.6413171568238,29011.725464618463,10152.304457540708,10270.897290680041,1029.7628457962096,59008.331375792251,48008.331375792251,null,0,{"$f":"basics3!P14","v":"invalid"}]
[1,13,1,1,5,76000,null,14,82.302934414154166,712.82654472235822,7.3881047761665683E-11,970.16574658432046,57.667586476581832,null,0,0,0,0,0,null,17885.228671513269,2217.849553795254,34460.881238049733,1614.7983908333745,19822.520275655988,76001.278129847633,1.2781298476329539,null,16,4,16,16,12,76000,null,14,1144.0198341621406,1029.7628880884331,313.80072813505279,1357.0442189158518,1029.7628457962091,null,1015.6594309183135,520.64271069419237,0,1228.6838156720248,520.64266482864571,null,128.36040324382705,29011.725464618467,127.78006993466327,128.36040324382705,3174.4997480400302,32570.726089080814,43429.27391091919,null,1,{"$f":"basics3!P15","v":"invalid"}]
[12,4,16,6,14,15000,null,15,82.302934414154137,712.82654472235799,7.3881047761665683E-11,970.16574658432057,57.667586476581839,null,82.302934414089435,662.28246151048199,0,915.51472128419755,57.667586476517137,null,6403.2484644086735,7568.9494481109177,7.3881047761665683E-11,970.16574658432012,57.667586476581832,15000.031245580567,3.124558056697424E-2,null,6,13,1,11,3,15000,null,15,128.36040324382705,509.12017739424078,313.80072813505285,128.36040324382705,509.12018096756344,null,0,381.34010205802258,186.02065820038956,0,381.340120529952,null,8543.6413171568347,1029.7628880884338,10152.304457540706,1357.0442189158518,4521.7611917661789,25604.514073468006,10604.514073468006,null,0,{"$f":"basics3!P16","v":"invalid"}]
[15,6,3,5,7,38000,null,16,6.4704291706394054E-11,50.544083211875957,7.3881047761665683E-11,54.651025300122974,6.4704291706394054E-11,null,null,null,null,null,null,null,82.302934414154137,7568.9494481109277,34460.881238049711,970.16574658432012,19822.520275655996,62904.819642815113,24904.819642815113,null,2,10,13,12,9,38000,null,16,128.36040324382705,127.78007533621823,127.78006993466327,128.36040324382705,127.78006043761145,null,null,null,null,null,null,null,29323.994477297198,29011.72546461847,10152.3044575407,1357.0442189158525,4521.761191766187,74366.829810138399,36366.829810138399,null,0,{"$f":"basics3!P17","v":"invalid"}]
[null,null,null,null,null,793000,null,null,2,3,4,5,6,null,null,null,null,null,null,null,null,null,null,null,null,793000.00000000838,195119.89000032458,null,null,null,null,null,null,793000,null,null,2,3,4,5,6,null,null,null,null,null,null,null,null,null,null,null,null,792999.99770689383,427893.73505031428,null,{"$f":"SUM(BE42:BE57/16)","v":0.5},{"$f":"basics3!P19","v":0.1875}]
[null,null,null,null,null,null,null,null,null,null,null,null,null,null,null,null,null,null,null,null,null,null,null,null,null,null,{"$f":"models1!K278","v":192753.7},null,null,null,null,null,null,null,null,null,null,null,null,null,null,null,null,null,null,null,null,null,null,null,null,null,null,null,{"$f":"models1!Z278","v":365112.7}]
[]
["basics4","direct",null,null,null,null,null,null,null,null,null,null,null,null,null,null,null,null,null,null,null,null,null,null,null,null,null,null,"inverse",null,null,null,null,null,null,null,null,null,null,null,null,null,null,null,null,null,null,null,null,null,null,null,null,null,null,null,"valid","online"]
[16,9,9,13,6,10000,null,1,10533.447060677048,46730.334931706893,8379.5858681303962,12064.629863131553,40636.806500270483,null,0,0,0,0,1.2951204553246498E-9,null,0,27.880525949328202,89.621837788610989,62.865652906553876,40636.806500262675,40817.174516907166,30817.174516907166,null,1,8,7,5,9,10000,null,1,15946.338837766491,27376.740463526865,30921.605840096552,27374.305628214395,21349.29318201921,null,0,0,0,15604.861034852465,0,null,15946.338837766491,1787.9312370334983,30921.605840096556,6519.9980870009604,15975.108767684877,71150.982769582391,61150.982769582391,null,{"$f":"IF(INT(F62-Z62)*INT(F62-BB62)<=0,1,0)","v":0},{"$f":"basics4!$P$2","v":"invalid"}]
[6,11,14,12,3,42000,null,2,10533.447060677046,46730.33493170685,8379.5858681303962,12064.629863131551,40636.806500269187,null,0,0,0,0,1.9572325982153416E-9,null,527.65649839295349,27.880525949328192,89.621837788394146,62.865652907204357,40636.80650026723,41344.831015305113,655.1689846948866,null,11,6,3,6,13,42000,null,2,15946.338837766492,27376.740463526879,30921.605840096567,11769.44459336193,21349.293182019199,null,0,0,0,-1.4551915228366852E-11,0,null,825.20765247985446,5923.0326410706402,30921.605840096556,6519.9980870009522,848.22448826405446,45038.068708912055,3038.0687089120547,null,{"$f":"IF(INT(F63-Z63)*INT(F63-BB63)<=0,1,0)","v":1},{"$f":"basics4!$P$3","v":"valid"}]
[5,12,6,4,14,21000,null,3,10533.447060677041,46730.334931706871,8379.5858681303962,12064.629863131553,40636.80650026723,null,10005.790562284088,1.7462298274040222E-10,2.1645973902195692E-10,0,2.597516868263483E-9,null,527.65649839295338,27.880525949328192,8379.5858681301925,12064.629863131551,0,20999.752755604026,0.24724439597412129,null,12,5,11,13,2,21000,null,3,15946.338837766496,27376.740463526905,30921.605840096556,11769.444593361944,21349.293182019213,null,0,21453.707822456257,0,0,0,null,447.49169512832339,5923.0326410706421,1813.6059704947916,6519.9980870009485,21349.293182019199,36053.421575713903,15053.421575713903,null,1,{"$f":"basics4!$P$4","v":"invalid"}]
[7,13,11,8,6,83000,null,4,527.65649839295338,46730.334931706697,8379.5858681301797,12064.629863131551,40636.806500264633,null,0,46702.454405757366,0,0,1.520675141364336E-9,null,527.65649839295349,27.880525949328199,89.621837788611046,12064.62986313154,40636.806500262675,53346.59522552511,29653.40477447489,null,10,3,6,10,9,83000,null,4,15946.338837766489,5923.0326410706466,30921.605840096556,11769.444593361944,21349.293182019203,null,98.348366419761078,0,0,5249.4465063609841,5374.1844143343224,null,1182.1681422383699,27376.740463526905,30921.605840096548,6519.9980870009522,15975.108767684877,81975.621300547646,1024.3786994523543,null,0,{"$f":"basics4!$P$5","v":"invalid"}]
[12,3,3,4,13,89000,null,5,527.65649839295338,27.880525949328202,8379.5858681301797,12064.62986313154,40636.806500263112,null,0,0,0,0,4.3655745685100555E-10,null,527.65649839295361,46730.334931706871,8379.5858681303962,12064.629863131551,21291.96062312392,88994.167784485689,5.8322155143105192,null,5,14,14,13,3,89000,null,5,15847.990471346728,5923.0326410706421,30921.60584009657,6519.9980870009604,15975.10876768488,null,14665.822329108358,0,0,8.1854523159563541E-12,0,null,15847.990471346728,948.69032548056168,679.78306384410598,6519.9980870009485,21349.293182019213,45345.755129691555,43654.244870308445,null,0,{"$f":"basics4!$P$6","v":"invalid"}]
[15,6,13,10,10,34000,null,6,527.65649839295349,27.880525949328192,8379.5858681301925,12064.62986313154,40636.806500262675,null,0,0,0,0,19344.845877136631,null,527.65649839273692,27.880525949328192,89.621837788394217,12064.629863131559,21291.960623124105,34001.749348386125,1.749348386125348,null,2,11,4,8,6,34000,null,6,1182.1681422383695,5923.0326410706402,30921.605840096548,6519.9980870009522,15975.108767684878,null,0,0,0,0,0,null,15946.338837766492,948.6903254805618,30921.605840096556,6519.9980870009504,15975.108767684878,70311.741858029447,36311.741858029447,null,0,{"$f":"basics4!$P$7","v":"valid"}]
[3,16,7,11,1,80000,null,7,527.65649839295349,27.880525949328192,8379.5858681301943,12064.629863131539,21291.960623126044,null,0,0,8289.9640303415836,0,0,null,10533.447060677041,27.880525949328202,8379.5858681301943,12064.629863131553,40636.806500270483,71642.349818158604,8357.6501818413963,null,14,1,8,7,15,80000,null,7,1182.1681422383708,5923.0326410706448,30921.605840096556,6519.998087000954,15975.108767684884,null,0,4135.1014040371465,0,0,0,null,447.49169512832316,27376.740463526865,30921.605840096538,6519.998087000954,848.22448826405446,66114.060574016738,13885.939425983262,null,0,{"$f":"basics4!$P$8","v":"valid"}]
[8,4,16,14,1,88000,null,8,527.65649839295281,27.880525949328202,89.621837788610961,12064.62986313154,21291.960623126055,null,0,0,0,-2.0008883439004421E-11,6.5483618527650833E-10,null,527.65649839295281,46730.334931706697,38.892269211946605,62.865652906553876,40636.806500270483,87996.555852488629,3.4441475113708293,null,9,13,1,4,15,88000,null,8,1182.1681422383699,1787.9312370334983,30921.605840096538,6519.9980870009504,15975.108767684875,null,0,0,29107.999869601746,0,0,null,1182.1681422383704,948.69032548056191,30921.605840096552,11769.444593361944,848.22448826405446,45670.133389441478,42329.866610558522,null,0,{"$f":"basics4!$P$9","v":"valid"}]
[9,8,12,15,11,22000,null,9,527.65649839295327,27.880525949328202,89.621837788610989,12064.62986313156,21291.9606231254,null,0,0,0,0,1.2951204553246498E-9,null,527.65649839295327,27.880525949328202,89.621837788611046,62.865652906337054,21291.960623123887,21999.985138161115,1.4861838884826284E-2,null,8,9,5,3,4,22000,null,9,1182.1681422383704,1787.9312370334976,1813.6059704947913,6519.9980870009476,15975.108767684877,null,0,0,0,0,15126.884279420821,null,1182.1681422383699,1787.9312370334976,30921.60584009657,11769.444593361944,21349.293182019203,67010.442994749581,45010.442994749581,null,1,{"$f":"basics4!$P$10","v":"valid"}]
[2,2,2,6,8,99000,null,10,527.65649839295395,27.880525949328188,89.621837788610989,12064.629863131559,21291.960623124105,null,0,0,0,0,2.1827872842550278E-10,null,10533.447060677046,46730.33493170685,8379.5858681303962,12064.62986313154,21291.960623126055,98999.958346771891,4.1653228108771145E-2,null,15,15,15,12,8,99000,null,10,1182.1681422383699,1787.9312370334987,1813.6059704947925,6519.9980870009522,848.22448826405468,null,356.96048975851545,839.24091155293695,0,-8.1854523159563541E-12,0,null,441.88866326778805,441.88866326778805,441.88866326778805,6519.998087000954,15975.108767684875,23820.772844489191,75179.227155510802,null,1,{"$f":"basics4!$P$11","v":"invalid"}]
[10,15,15,2,5,38000,null,11,527.65649839295418,27.880525949328192,89.621837788611046,12064.629863131553,21291.960623123887,null,0,0,0,12001.764210224348,1.964508555829525E-10,null,527.65649839295395,27.880525949328195,38.892269211946612,12064.629863131551,40636.806500263112,53295.865656948896,15295.865656948896,null,7,2,2,16,11,38000,null,11,825.20765247985446,948.6903254805618,1813.6059704947916,6519.9980870009604,848.22448826405525,null,377.71595735153107,0,0,0,0,null,1182.1681422383708,27376.740463526879,30921.605840096567,0,848.22448826405525,60328.738934125868,22328.738934125868,null,0,{"$f":"basics4!$P$12","v":"valid"}]
[1,1,7,3,16,53000,null,12,527.65649839295361,27.880525949328192,89.621837788611046,62.865652907204357,21291.96062312369,null,0,0,2.1682922124455217E-10,6.5048055830629892E-10,-2.2919266484677792E-10,null,10533.447060677048,46730.334931706893,8379.5858681301943,12064.629863131553,0,77707.997723645691,24707.997723645691,null,16,16,8,15,1,53000,null,12,447.49169512832339,948.69032548056236,1813.6059704947922,6519.998087000954,848.22448826405457,null,0,0,1133.822906650686,0,0,null,21.362468593496935,21.362468593496935,30921.605840096538,83.450188555896247,21349.29318201921,52397.074147858642,602.92585214135761,null,1,{"$f":"basics4!$P$13","v":"invalid"}]
[14,7,5,7,9,84000,null,13,527.65649839295406,27.880525949328199,89.621837788394217,62.865652906553876,21291.96062312392,null,0,0,0,0,21291.96062312392,null,527.65649839295372,27.880525949328192,8379.5858681301797,12064.629863131539,21291.9606231254,42291.713378729401,41708.286621270599,null,3,10,12,11,7,84000,null,13,447.49169512832373,948.69032548056191,679.78306384410632,6519.9980870009485,848.22448826405446,null,5.6843418860808015E-13,0,0,6436.5478984450519,0,null,15946.338837766496,1787.9312370334987,1813.6059704947922,6519.9980870009604,15975.108767684884,42042.982899980634,41957.017100019366,null,0,{"$f":"basics4!$P$14","v":"invalid"}]
[11,5,1,9,11,30000,null,14,527.65649839295372,27.880525949328195,89.621837788394146,62.865652906553876,0,null,2.1680079953512177E-10,0,50.729568576447534,2.1682211581719457E-10,0,null,527.65649839295418,27.880525949328202,8379.5858681303962,12064.62986313156,21291.960623123887,42291.713378728127,12291.713378728127,null,6,12,16,9,4,30000,null,14,447.49169512832316,948.69032548056168,679.78306384410598,83.450188555896304,848.2244882640548,null,5.6030318605351113,506.80166221277364,237.89440057631793,0,0,null,1182.1681422383695,948.69032548056236,0,6519.9980870009476,21349.293182019203,30000.149736739084,0.14973673908389173,null,0,{"$f":"basics4!$P$15","v":"invalid"}]
[4,13,4,16,4,13000,null,15,527.65649839273692,27.880525949328195,38.892269211946612,62.865652906337054,0,null,527.65649839273692,0,0,1.5575926468613943E-5,0,null,527.65649839295338,27.880525949328199,8379.5858681301797,62.865637330410586,40636.806500264633,49634.795030067507,36634.795030067507,null,13,3,13,1,12,13000,null,15,441.88866326778805,441.88866326778805,441.88866326778805,83.450188555896247,848.22448826405446,null,420.52619467429111,420.52619467429111,441.88866326778805,83.450188555896247,847.22448826405446,null,447.49169512832373,27376.740463526905,679.78306384410632,27374.305628214395,848.22448826405457,56726.545338977783,43726.545338977783,null,0,{"$f":"basics4!$P$16","v":"invalid"}]
[13,10,7,16,2,89000,null,16,0,27.880525949328202,38.892269211946605,62.865637330410586,0,null,null,null,null,null,null,null,527.65649839295406,27.880525949328188,8379.5858681301943,62.865637330410586,40636.806500269187,49634.795030072077,39365.204969927923,null,4,7,8,1,14,89000,null,16,21.362468593496935,21.362468593496935,0,0,1,null,null,null,null,null,null,null,15946.338837766489,5923.0326410706448,30921.605840096538,27374.305628214395,848.2244882640548,81013.507435412117,7986.492564587883,null,0,{"$f":"basics4!$P$17","v":"invalid"}]
[null,null,null,null,null,875000,null,null,2,3,4,5,6,null,null,null,null,null,null,null,null,null,null,null,null,874999.99999998522,239498.59130938185,null,null,null,null,null,null,875000,null,null,2,3,4,5,6,null,null,null,null,null,null,null,null,null,null,null,null,874999.99963826826,453240.18419539218,null,{"$f":"SUM(BE62:BE77/16)","v":0.3125},{"$f":"basics4!$P$19","v":0.375}]
[null,null,null,null,null,null,null,null,null,null,null,null,null,null,null,null,null,null,null,null,null,null,null,null,null,null,{"$f":"models1!K378","v":147852.60000000003},null,null,null,null,null,null,null,null,null,null,null,null,null,null,null,null,null,null,null,null,null,null,null,null,null,null,null,{"$f":"models1!Z378","v":380347.39999999997}]
[]
["basics5","direct",null,null,null,null,null,null,null,null,null,null,null,null,null,null,null,null,null,null,null,null,null,null,null,null,null,null,"inverse",null,null,null,null,null,null,null,null,null,null,null,null,null,null,null,null,null,null,null,null,null,null,null,null,null,null,null,"valid","online"]
[1,7,14,4,2,67000,null,1,5326.009204076232,13688.210304028642,28663.036311709981,50558.026399770693,7982.7054660818785,null,2.876444968933356E-4,0,2.9463051032507792E-4,0,0,null,5326.009204076232,2973.3386798084834,151.95268245856772,50558.026399780647,7982.7054660818785,66992.032432205815,7.9675677941850154,null,14,8,3,12,15,67000,null,1,22039.474923265909,15682.6604193276,47062.423131107127,5928.5551857463652,25764.356665280044,null,-4.0017766878008842E-11,0,29286.029909756591,0,-2.9103830456733704E-11,null,3392.6281255050844,15682.6604193276,17776.393221350521,5928.5551857463706,410.18495831947843,43190.421910249053,23809.578089750947,null,{"$f":"IF(INT(F82-Z82)*INT(F82-BB82)<=0,1,0)","v":0},{"$f":"basics5!$P$2","v":"invalid"}]
[16,5,10,14,3,22000,null,2,5326.0089164317351,13688.210304028642,28663.03601707947,50558.026399770664,7982.7054660818785,null,0,0,0.1950878991628997,0,0,null,28.662068507465911,13688.210304028637,151.95269433635852,148.4711329674912,7982.705466081884,22000.001665921838,1.6659218381391838E-3,null,1,12,7,2,14,22000,null,2,22039.474923265949,15682.660419327607,17776.393221350536,5928.555185746367,25764.356665280073,null,0,0,0,0,0,null,22039.474923265909,1889.8021413409197,1436.2731844101406,5928.555185746367,410.18495831947826,31704.290393082811,9704.2903930828106,null,{"$f":"IF(INT(F83-Z83)*INT(F83-BB83)<=0,1,0)","v":0},{"$f":"basics5!$P$3","v":"invalid"}]
[13,6,5,2,5,66000,null,3,5326.0089164317351,13688.210304028635,28662.840929180307,50558.026399770664,7982.705466081884,null,0,0,10610.08106323249,-9.9826138466596603E-9,0,null,345.11060213907768,13688.210304028631,18052.759865947814,50558.026399770664,7982.7054660818812,90626.812637968076,24626.812637968076,null,4,10,12,14,12,66000,null,3,22039.474923265931,15682.660419327605,17776.393221350521,5928.5551857463615,25764.356665280076,null,0,-1.6370904631912708E-11,4665.9302417125418,-8.1854523159563541E-12,0,null,22039.474923265909,15682.660419327605,1436.2731844101415,5928.5551857463652,6080.2370958524489,51167.200808602473,14832.799191397527,null,1,{"$f":"basics5!$P$4","v":"valid"}]
[1,12,4,16,1,11000,null,4,5326.0089164317342,13688.210304028635,18052.759865947817,50558.026399780647,7982.7054660818831,null,0,0,0,0,0,null,5326.009204076232,78.509091014647097,18052.759865947817,26.037232468400351,7982.7054660818785,31466.020859588974,20466.020859588974,null,14,5,13,1,16,11000,null,4,22039.474923265909,15682.660419327622,13110.46297963798,5928.5551857463697,25764.356665280065,null,0,5.0931703299283981E-11,0,0,19684.119569427599,null,3392.6281255050844,15682.660419327571,1044.0460746428082,5928.5551857463652,0,26047.889805221828,15047.889805221828,null,0,{"$f":"basics5!$P$5","v":"invalid"}]
[11,1,11,10,11,19000,null,5,5326.0089164317342,13688.210304028637,18052.759865947814,50558.026399780647,7982.7054660818812,null,0,0,0,0,0,null,345.11060213907757,13688.210304028642,151.95269121304236,9441.727188453875,479.76683992073879,24106.767625755376,5106.7676257553758,null,6,15,6,6,6,19000,null,5,22039.474923265931,15682.660419327571,13110.462979637974,5928.5551857463661,6080.2370958524671,null,2.9103830456733704E-11,-4.5474735088646412E-11,11674.189795227836,0,1.6370904631912708E-11,null,22039.474923265901,531.03341242560839,1436.2731844101386,5928.5551857463661,6080.2370958524507,36015.573801700462,17015.573801700462,null,0,{"$f":"basics5!$P$6","v":"invalid"}]
[4,14,15,1,16,30000,null,6,5326.0089164317396,13688.210304028631,18052.759865947803,50558.026399780669,7982.7054660818812,null,0,10714.871624220148,0,11715.058705612595,0,null,5326.0089164317342,78.50909046549917,73.153386025175408,50558.026399770693,26.104238315043013,56061.802031008141,26061.802031008141,null,12,3,2,16,1,30000,null,6,22039.474923265901,15682.660419327616,1436.2731844101386,5928.5551857463661,6080.2370958524507,null,0,1.6370904631912708E-11,-2.0463630789890885E-12,0,0,null,22039.474923265912,15682.660419327605,17776.393221350536,0,25764.356665280044,81262.885229224106,51262.885229224106,null,0,{"$f":"basics5!$P$7","v":"invalid"}]
[4,9,1,8,12,44000,null,7,5326.0089164317415,2973.3386798084834,18052.759865947803,38842.967694168074,7982.7054660818785,null,0,2894.8293216680418,0,29401.225153882639,0,null,5326.0089164317342,78.509358140441705,28663.036311709981,9441.7425402854333,479.76683992073879,43989.063966488335,10.9360335116653,null,12,7,16,8,4,44000,null,7,22039.474923265912,15682.6604193276,1436.2731844101406,5928.5551857463706,6080.2370958524461,null,0,0,0,0,0,null,22039.474923265912,15682.6604193276,0,5928.5551857463643,25764.356665280065,69415.047193619946,25415.047193619946,null,1,{"$f":"basics5!$P$8","v":"invalid"}]
[10,13,13,9,8,18000,null,8,5326.0089164317424,78.509358140441705,18052.759865947803,9441.7425402854333,7982.7054660818785,null,0,0,0,1.535183156192943E-2,7502.9386261611398,null,345.1106021390778,78.50909046549917,151.95268245856772,9441.7271884538713,7982.7054660818785,18000.005029598895,5.0295988949073944E-3,null,7,4,4,7,8,18000,null,8,22039.474923265931,15682.6604193276,1436.2731844101418,5928.5551857463643,6080.2370958524489,null,0,0,2.0463630789890885E-12,0,0,null,22039.474923265912,15682.660419327622,13110.46297963798,5928.5551857463706,6080.2370958524489,62841.390603830339,44841.390603830339,null,0,{"$f":"basics5!$P$9","v":"invalid"}]
[12,4,16,3,6,83000,null,9,5326.0089164317478,78.509358140441705,18052.759865947799,9441.7271884538713,479.76683992073902,null,4980.89831429267,2.2729218906647475E-4,17900.807171611439,0,0,null,345.11060213907757,13688.210304028635,73.153386025175408,50558.026399770664,7982.7054660818812,72647.206158045432,10352.793841954568,null,5,13,1,13,11,83000,null,9,22039.474923265909,15682.660419327605,1436.2731844101397,5928.5551857463652,6080.2370958524498,null,0,0,0,0,-7.2759576141834259E-12,null,22039.474923265931,1889.8021413409199,47062.423131107127,5928.555185746367,6080.2370958524507,83000.4924773128,0.49247731280047446,null,1,{"$f":"basics5!$P$10","v":"valid"}]
[14,16,6,12,15,33000,null,10,345.1106021390778,78.509130848252639,151.95269433635852,9441.727188453875,479.76683992073896,null,0,3.9833605555372742E-5,3.1233161621457839E-6,0,0,null,345.11060213907786,78.509090465499185,18052.759865947803,9441.7271884538732,479.76683992073839,28397.873586926995,4602.1264130730051,null,3,1,11,4,2,33000,null,10,22039.474923265931,15682.660419327605,1436.2731844101402,5928.5551857463615,6080.2370958524571,null,0,13792.858277986687,-2.2737367544323206E-12,0,0,null,22039.474923265931,15682.6604193276,1436.2731844101424,5928.5551857463697,25764.356665280073,70851.320378030126,37851.320378030126,null,1,{"$f":"basics5!$P$11","v":"valid"}]
[7,1,2,7,14,87000,null,11,345.11060213907757,78.509091014647083,151.95269121304236,9441.7271884538713,479.76683992073879,null,0,0,0,0,0,null,5326.0089164317415,13688.210304028642,28663.03601707947,38842.967694168074,479.76683992073845,86999.98977162865,1.0228371349512599E-2,null,10,15,15,9,3,87000,null,11,22039.474923265952,1889.8021413409192,1436.2731844101424,5928.5551857463661,6080.2370958524507,null,4.0017766878008842E-11,0,0,0,0,null,22039.474923265931,531.03341242560839,1044.0460746428082,5928.5551857463652,25764.356665280076,55307.466261360787,31692.533738639213,null,1,{"$f":"basics5!$P$12","v":"valid"}]
[15,3,12,5,7,73000,null,12,345.11060213907757,78.509091014647097,151.9526912130423,9441.7271884538732,479.76683992073879,null,0,5.4914792713134375E-7,8.7544745781542588E-6,8881.7567023904103,0,null,345.11060213907774,13688.210304028635,151.9526912130423,50558.026399780647,7982.7054660818785,72726.005463243288,273.99453675671248,null,2,14,5,11,10,73000,null,12,22039.474923265912,1889.8021413409197,1436.2731844101415,5928.5551857463706,6080.2370958524489,null,18646.846797760827,0,392.22710976733333,0,2166.3635398703591,null,22039.474923265949,1889.8021413409197,13110.462979637974,5928.5551857463661,6080.2370958524571,49048.532325843662,23951.467674156338,null,0,{"$f":"basics5!$P$13","v":"invalid"}]
[8,10,8,13,8,32000,null,13,345.11060213907768,78.50909046549917,151.95268245856772,559.97048606346334,479.76683992073879,null,0,0,0,411.49935309597214,0,null,5326.0089164317424,78.509130848252639,18052.759865947803,559.97048606346334,7982.7054660818785,31999.95386537314,4.6134626860293793E-2,null,9,6,9,3,8,32000,null,13,3392.6281255050844,1889.8021413409199,1044.0460746428082,5928.555185746367,3913.8735559820898,null,0,0,0,0,3503.6885976626118,null,22039.474923265909,15682.660419327616,1436.2731844101397,5928.5551857463615,6080.2370958524489,51167.200808602465,19167.200808602465,null,1,{"$f":"basics5!$P$14","v":"valid"}]
[9,15,7,11,4,97000,null,14,345.11060213907786,78.50909046549917,151.95268245856772,148.4711329674912,479.76683992073845,null,0,0,78.799296433392314,122.43390049909084,0,null,5326.0089164317478,78.509090465499185,18052.759865947803,9441.7271884538713,7982.7054660818831,40881.710527380805,56118.289472619195,null,8,2,10,5,13,97000,null,14,3392.6281255050844,1889.8021413409197,1044.0460746428091,5928.5551857463652,410.18495831947826,null,3390.6281255050844,1358.7687289153114,0,5928.5551857463652,0,null,22039.474923265931,15682.660419327607,1436.2731844101402,5928.5551857463661,3913.8735559820898,49000.837268732139,47999.162731267861,null,0,{"$f":"basics5!$P$15","v":"invalid"}]
[6,7,3,6,10,88000,null,15,345.11060213907774,78.509090465499185,73.153386025175408,26.037232468400358,479.76683992073839,null,316.44853363161184,0,0,0,453.66260160569539,null,5326.0089164317396,2973.3386798084834,28662.840929180307,50558.026399780669,479.76683992073896,87999.981765121935,1.8234878065413795E-2,null,11,8,14,10,7,88000,null,15,2,531.03341242560839,1044.0460746428082,2.2204460492503131E-15,410.18495831947843,null,1,530.03341242560839,1044.0460746428082,2.2204460492503131E-15,410.18495831947843,null,22039.474923265952,15682.6604193276,1044.0460746428091,5928.5551857463615,6080.2370958524461,50774.973698835172,37225.026301164828,null,1,{"$f":"basics5!$P$16","v":"valid"}]
[1,6,9,2,12,93000,null,16,28.662068507465911,78.509090465499185,73.153386025175408,26.037232468400351,26.104238315043013,null,null,null,null,null,null,null,5326.009204076232,13688.210304028631,18052.759865947799,50558.026399770664,479.76683992073879,88104.772613744062,4895.2273862559377,null,14,10,8,14,4,93000,null,16,1,1,0,0,0,null,null,null,null,null,null,null,3392.6281255050844,15682.660419327605,1436.2731844101418,5928.5551857463652,25764.356665280065,52204.473580269259,40795.526419730741,null,0,{"$f":"basics5!$P$17","v":"invalid"}]
[null,null,null,null,null,863000,null,null,2,3,4,5,6,null,null,null,null,null,null,null,null,null,null,null,null,862999.99999999977,152522.81969968282,null,null,null,null,null,null,863000,null,null,2,3,4,5,6,null,null,null,null,null,null,null,null,null,null,null,null,862999.99654451746,440612.18483673234,null,{"$f":"SUM(BE82:BE97/16)","v":0.4375},{"$f":"basics5!$P$19","v":0.375}]
[null,null,null,null,null,null,null,null,null,null,null,null,null,null,null,null,null,null,null,null,null,null,null,null,null,null,{"$f":"models1!K478","v":208986.19999999998},null,null,null,null,null,null,null,null,null,null,null,null,null,null,null,null,null,null,null,null,null,null,null,null,null,null,null,{"$f":"models1!Z478","v":385789.10000000003}]
[]
["basics6","direct",null,null,null,null,null,null,null,null,null,null,null,null,null,null,null,null,null,null,null,null,null,null,null,null,null,null,"inverse",null,null,null,null,null,null,null,null,null,null,null,null,null,null,null,null,null,null,null,null,null,null,null,null,null,null,null,"valid","online"]
[14,6,6,1,7,93000,null,1,32080.347412924959,7749.8246166334347,4785.1605959055714,39123.176499125177,41383.375111856963,null,0,0,0,0,0,null,0.9959957614697047,7749.8246166334275,4742.5938970089319,39123.176499125177,41383.375111856898,92999.966120385914,3.3879614085890353E-2,null,4,10,10,15,10,93000,null,1,29344.60385581325,12447.763902590272,31771.440309195579,10314.550508739678,15386.524371586704,null,-5.0931703299283981E-11,0,-5.4569682106375694E-11,0,0,null,29344.603855813268,12447.763902590272,31771.440309195568,4506.6541957564996,13522.911342476609,91593.373605832225,1406.6263941677753,null,{"$f":"IF(INT(F102-Z102)*INT(F102-BB102)<=0,1,0)","v":1},{"$f":"basics6!$P$2","v":"invalid"}]
[13,10,15,13,2,98000,null,2,32080.347412924948,7749.8246166334347,4785.1605959055714,39123.176499125177,41383.375111856963,null,2.9103830456733704E-11,0,0,0,0,null,6295.7404582944391,4819.8562945054528,1100.9081839341211,7877.0182779999668,41383.375111856963,61476.898326590941,36523.101673409059,null,5,6,2,4,15,98000,null,2,29344.6038558133,12447.763902590268,31771.440309195634,10314.550508739667,15386.524371586698,null,0,-2.3646862246096134E-11,6.5483618527650833E-11,2.3646862246096134E-11,5.2750692702829838E-11,null,29344.603855813322,12447.763902590224,31771.440309195634,10314.550508739647,277.39786014417626,84155.756436483003,13844.243563516997,null,{"$f":"IF(INT(F103-Z103)*INT(F103-BB103)<=0,1,0)","v":0},{"$f":"basics6!$P$3","v":"invalid"}]
[4,4,5,6,5,92000,null,3,32080.347412924919,7749.8246166334311,4785.1605959055714,39123.176499125169,41383.375111856934,null,6079.3424374580645,0,0,0,0,null,26001.004975466854,7749.8246166334293,4785.1605959055687,12080.633069117363,41383.375111856905,91999.99836898013,1.6310198698192835E-3,null,14,13,11,11,12,92000,null,3,29344.603855813279,12447.763902590292,31771.440309195568,10314.550508739643,15386.524371586645,null,0,1.6370904631912708E-11,-7.2759576141834259E-11,0,-4.1836756281554699E-11,null,4436.3744929533841,12447.763902590252,31771.440309195594,10314.550508739718,10980.403772337191,69950.532985816142,22049.467014183858,null,1,{"$f":"basics6!$P$4","v":"invalid"}]
[15,13,11,4,14,56000,null,4,26001.004975466854,7749.8246166334293,4785.1605959055714,39123.176499125169,41383.375111856913,null,19705.264517172418,0,0,27042.543430007805,0,null,0.99599576145520075,4767.5624305435249,4742.5938970089128,39123.176499125169,7355.4227238666272,55989.751546305692,10.248453694308409,null,1,4,5,12,3,56000,null,4,29344.603855813268,12447.763902590275,31771.440309195641,10314.550508739647,15386.524371586687,null,-5.4569682106375694E-11,2.1827872842550278E-11,4.7293724492192268E-11,-4.9112713895738125E-11,0,null,29344.60385581325,12447.763902590275,31771.440309195594,6824.0370868274622,15386.524371586645,95774.369526013237,39774.369526013237,null,1,{"$f":"basics6!$P$5","v":"valid"}]
[5,1,7,1,11,99000,null,5,6295.7404582944373,7749.8246166334293,4785.1605959055687,12080.633069117366,41383.375111856905,null,0,0,42.566698896636808,0,0,null,6295.7404582944373,7749.8246166334347,4742.5938970089146,39123.176499125177,41383.375111856825,99294.710582918779,294.71058291877853,null,13,16,9,15,6,99000,null,5,29344.603855813322,12447.763902590254,31771.440309195594,10314.550508739696,15386.524371586675,null,3.637978807091713E-11,2.9103830456733704E-11,0,-2.1827872842550278E-11,0,null,4436.3744929533814,431.9714990406016,31771.440309195594,4506.6541957564996,15386.524371586684,56532.964868532756,42467.035131467244,null,1,{"$f":"basics6!$P$6","v":"valid"}]
[7,9,4,4,6,97000,null,6,6295.7404582944373,7749.8246166334275,4742.5938970089319,12080.633069117363,41383.37511185692,null,0,2929.9683221279738,1.7280399333685637E-11,0,0,null,6295.7404582944382,4819.8562945054546,4785.1605959055714,39123.176499125169,41383.37511185692,96407.308959687551,592.69104031244933,null,11,7,12,12,11,97000,null,6,29344.603855813286,12447.763902590224,31771.440309195597,10314.550508739718,15386.524371586684,null,19276.273779071162,-5.4569682106375694E-11,0,0,1863.6130291100853,null,10068.330076742146,12447.763902590279,31771.440309195601,6824.0370868274622,13522.9113424766,74634.482717832085,22365.517282167915,null,0,{"$f":"basics6!$P$7","v":"invalid"}]
[9,8,10,14,9,40000,null,7,6295.7404582944382,4819.8562945054537,4742.5938970089146,12080.633069117353,41383.375111856898,null,0,0,0,0,0,null,6295.7404582944373,4819.8562945054546,4742.5938970089101,0.99998572673010999,41383.375111856847,57242.565747392378,17242.565747392378,null,9,8,6,3,8,40000,null,7,10068.330076742124,12447.763902590279,31771.440309195601,10314.550508739712,13522.911342476598,null,0,1.6370904631912708E-11,5.8207660913467407E-11,0,0,null,10068.330076742152,12447.763902590263,31771.440309195597,10314.550508739643,13522.911342476611,78124.996139744268,38124.996139744268,null,0,{"$f":"basics6!$P$8","v":"invalid"}]
[8,12,2,3,16,55000,null,8,6295.7404582944373,4819.8562945054546,4742.5938970089146,12080.633069117353,41383.375111856891,null,0,0,0,0,0,null,6295.7404582944373,4767.5624305435249,4785.1605959055714,39123.176499125169,29.500230716576318,55001.140214585284,1.1402145852844114,null,10,5,15,14,1,55000,null,8,10068.330076742131,12447.763902590263,31771.440309195543,10314.550508739709,13522.911342476611,null,-2.0008883439004421E-11,0,-5.0931703299283981E-11,0,0,null,10068.330076742146,12447.763902590254,415.85244855418523,4506.6541957564959,15386.524371586704,42825.12499522978,12174.87500477022,null,1,{"$f":"basics6!$P$9","v":"valid"}]
[3,7,13,12,10,58000,null,9,6295.7404582944373,4819.8562945054546,4742.5938970089119,12080.633069117352,41383.375111856847,null,0,0,0,0,0,null,32080.347412924919,4819.8562945054537,1100.9081839341202,7877.0182779999668,41383.37511185684,87261.505281221296,29261.505281221296,null,15,9,3,5,7,58000,null,9,10068.330076742152,12447.763902590272,31771.440309195594,10314.550508739714,13522.911342476609,null,0,0,0,2.0008883439004421E-11,0,null,96.245404253840675,12447.763902590272,31771.440309195568,10314.550508739696,13522.911342476598,68152.911467255981,10152.911467255981,null,0,{"$f":"basics6!$P$10","v":"valid"}]
[12,15,12,8,1,86000,null,10,6295.7404582944373,4819.8562945054528,4742.5938970089101,12080.633069117355,41383.37511185684,null,0,52.293863961927855,0,0,0,null,6295.7404582944382,824.86624459651728,4742.5938970089028,12080.633069117353,41383.375111856963,65327.208780874178,20672.791219125822,null,6,2,4,10,16,86000,null,10,10068.330076742146,12447.763902590272,31771.440309195568,10314.550508739694,13522.911342476609,null,0,0,0,-2.3646862246096134E-11,0,null,29344.603855813286,12447.763902590268,31771.440309195641,10314.550508739694,277.39786014417638,84155.756436483061,1844.2435635169386,null,0,{"$f":"basics6!$P$11","v":"invalid"}]
[10,5,9,11,12,83000,null,11,6295.7404582944373,4767.5624305435249,4742.5938970089128,12080.633069117359,41383.375111856825,null,0,0,1.0004441719502211E-11,4203.6147911173921,0,null,6295.7404582944373,7749.8246166334293,4742.5938970089119,12080.633069117359,41383.375111856811,72252.167152910944,10747.832847089056,null,8,12,7,6,4,83000,null,11,10068.330076742146,12447.763902590261,31771.440309195594,10314.550508739718,13522.9113424766,null,5631.955583788761,0,0,3490.5134219122556,2542.5075701394089,null,10068.330076742131,12447.763902590261,31771.440309195601,10314.550508739718,15386.524371586687,79988.609168854397,3011.3908311456034,null,0,{"$f":"basics6!$P$12","v":"invalid"}]
[11,3,16,9,15,26000,null,12,6295.7404582944382,4767.5624305435249,4742.5938970089028,7877.0182779999668,41383.375111856811,null,0,0,3641.6857130747826,0,34027.952387990175,null,6295.7404582944373,7749.8246166334311,26.282717004229774,12080.633069117352,48.42441977924819,26200.905280828698,200.90528082869787,null,7,14,1,9,2,26000,null,12,4436.374492953385,12447.763902590261,31771.440309195601,6824.0370868274622,10980.403772337191,null,0,0,18155.69485433782,2317.3828910709681,10703.005912193015,null,10068.330076742124,431.97149904060103,31771.440309195579,10314.550508739714,15386.524371586698,67972.816765304713,41972.816765304713,null,0,{"$f":"basics6!$P$13","v":"invalid"}]
[15,16,8,10,3,47000,null,13,6295.7404582944391,4767.5624305435249,1100.9081839341202,7877.0182779999668,7355.4227238666354,null,6294.744462532969,3942.6961859470084,0,7876.0182922732365,8.1854523159563541E-12,null,0.99599576145520075,48.436054880118924,4742.5938970089146,12080.633069117355,41383.375111856934,58256.034128624779,11256.034128624779,null,1,1,8,7,14,47000,null,13,4436.3744929533814,12447.763902590252,13615.745454857781,4506.6541957564941,277.39786014417626,null,0,12015.792403549651,13199.893006303595,0,4.5474735088646412E-13,null,29344.60385581325,12447.763902590272,31771.440309195543,10314.550508739712,277.39786014417581,84155.75643648296,37155.75643648296,null,0,{"$f":"basics6!$P$14","v":"valid"}]
[1,2,3,15,8,86000,null,14,0.9959957614697047,824.86624459651659,1100.9081839341202,0.99998572673010999,7355.4227238666272,null,1.4503953593703045E-11,0,0,0,7306.9983040873785,null,32080.347412924959,7749.8246166334347,4785.1605959055714,0.99998572673011032,41383.375111856891,85999.707723047584,0.29227695241570473,null,16,15,13,1,9,86000,null,14,4436.3744929533841,431.97149904060103,415.85244855418489,4506.6541957564959,277.39786014417581,null,4340.129088699543,0,0,0,-4.5474735088646412E-13,null,96.245404253840775,431.97149904060137,13615.745454857781,10314.550508739678,13522.911342476609,37981.42420936851,48018.57579063149,null,1,{"$f":"basics6!$P$15","v":"invalid"}]
[6,14,1,15,12,43000,null,15,0.99599576145520075,824.86624459651728,1100.9081839341211,0.99998572673011032,48.42441977924819,null,3.2701841234938911E-11,776.43018971639833,1074.6254669298912,0,18.924189062671871,null,6295.7404582944373,824.86624459651659,4785.1605959055714,0.99998572673011032,41383.375111856811,53290.142396380063,10290.142396380063,null,12,3,16,1,4,43000,null,15,96.245404253840675,431.97149904060137,415.85244855418523,4506.6541957564996,277.39786014417626,null,0,0,0,4505.6541957564996,0,null,4436.374492953385,12447.763902590292,415.85244855418495,10314.550508739678,15386.524371586687,43001.065724424225,1.0657244242247543,null,0,{"$f":"basics6!$P$16","v":"valid"}]
[15,6,3,10,4,66000,null,16,0.9959957614224989,48.436054880118924,26.282717004229774,0.9999857267301101,29.500230716576318,null,null,null,null,null,null,null,0.99599576145520075,7749.8246166334275,4785.1605959055714,12080.633069117355,41383.375111856913,65999.98938927472,1.0610725279548205E-2,null,1,10,13,7,13,66000,null,16,96.245404253840775,431.9714990406016,415.85244855418495,1,277.39786014417638,null,null,null,null,null,null,null,29344.60385581325,12447.763902590272,13615.745454857781,10314.550508739712,277.39786014417626,66000.061582145194,6.1582145193824545E-2,null,1,{"$f":"basics6!$P$17","v":"invalid"}]
[null,null,null,null,null,1125000,null,null,2,3,4,5,6,null,null,null,null,null,null,null,null,null,null,null,null,1125000.0000000088,137094.00726389361,null,null,null,null,null,null,1125000,null,null,2,3,4,5,6,null,null,null,null,null,null,null,null,null,null,null,null,1125000.0030658029,334363.9522169386,null,{"$f":"SUM(BE102:BE117/16)","v":0.4375},{"$f":"basics6!$P$19","v":0.375}]
[null,null,null,null,null,null,null,null,null,null,null,null,null,null,null,null,null,null,null,null,null,null,null,null,null,null,{"$f":"models1!K578","v":27582.2},null,null,null,null,null,null,null,null,null,null,null,null,null,null,null,null,null,null,null,null,null,null,null,null,null,null,null,{"$f":"models1!Z578","v":316583.40000000002}]
[]
["basics7","direct",null,null,null,null,null,null,null,null,null,null,null,null,null,null,null,null,null,null,null,null,null,null,null,null,null,null,"inverse",null,null,null,null,null,null,null,null,null,null,null,null,null,null,null,null,null,null,null,null,null,null,null,null,null,null,null,"valid","online"]
[5,1,12,10,3,68000,null,1,67861.774716342188,9694.4939901605012,45920.432847078438,35889.079648669191,15318.74698469093,null,0,0,8.0035533756017685E-11,0,0,null,29186.267504208492,9694.4939901605012,0,13813.72486780974,15318.746984690932,68013.23334686966,13.233346869659727,null,11,16,5,6,13,68000,null,1,7439.7706551977026,38702.975504412403,7589.872676969414,15257.347586851609,14882.419902983918,null,2.562530426075682E-6,0,-1.3642420526593924E-11,0,0,null,7439.7706321172882,15809.942296481584,7589.8726769694149,15257.347586851598,14882.419878845652,60979.353071265534,7020.6469287344662,null,{"$f":"IF(INT(F122-Z122)*INT(F122-BB122)<=0,1,0)","v":1},{"$f":"basics7!$P$2","v":"valid"}]
[1,14,3,3,10,86000,null,2,67861.774716342174,9694.4939901604994,45920.432847078358,35889.079648669147,15318.746984690924,null,26446.339589608382,0,32668.46448321961,22075.354780859467,0,null,67861.774716342188,0,13251.968363858748,13813.72486780968,0,94927.467948010613,8927.4679480106133,null,16,3,14,14,6,86000,null,2,7439.7706526351722,38702.975504412396,7589.8726769694276,15257.347586851611,14882.419902983918,null,8.6853069660719484E-6,0,0,0,0,null,475.11714047384214,38702.975504412418,4270.0533971589803,2130.7553341835369,14882.419902983911,60461.321279212687,25538.678720787313,null,{"$f":"IF(INT(F123-Z123)*INT(F123-BB123)<=0,1,0)","v":1},{"$f":"basics7!$P$3","v":"valid"}]
[4,12,5,12,2,85000,null,3,41415.435126733792,9694.4939901605012,13251.968363858748,13813.72486780968,15318.746984690932,null,0,0,0,0,0,null,41415.435126733821,6.2840877768567472E-9,13251.968363858763,13813.724867809791,15318.746984690924,83799.875343099586,1200.1246569004143,null,13,5,10,5,15,85000,null,3,7439.7706439498652,38702.975504412418,7589.8726769694304,15257.347586851603,14882.419902983916,null,0,0,0,0,0,null,7439.7706233937124,38702.97550441241,7589.8726726220721,15257.347586851598,1898.4684241900977,70888.434811469895,14111.565188530105,null,0,{"$f":"basics7!$P$4","v":"valid"}]
[8,10,1,6,8,91000,null,4,41415.435126733821,9694.4939901604903,13251.968363858745,13813.72486780968,15318.746984690932,null,12229.167622525329,9694.4939901542275,-1.8189894035458565E-11,0,-2.0008883439004421E-11,null,29186.267504208499,6.2636036346644479E-9,45920.432847078438,13813.724867809686,2053.5415082465183,90973.966727349398,26.033272650602157,null,8,7,15,11,8,91000,null,4,7439.7706439498652,38702.975504412425,7589.8726769694258,15257.347586851605,14882.419902983924,null,6.5973317759926431E-6,0,1.0913936421275139E-11,0,1.4551915228366852E-11,null,7439.7706373525389,38702.975504412389,2944.6646325889824,15257.347586851596,14882.419902453506,79227.178263659007,11772.821736340993,null,0,{"$f":"basics7!$P$5","v":"invalid"}]
[6,2,4,8,6,68000,null,5,29186.267504208492,6.2635996467069126E-9,13251.968363858763,13813.724867809686,15318.746984690952,null,0,-2.1175823681357508E-22,13251.968363858665,0,13265.205476444435,null,29186.267504208507,9694.4939901604994,13251.968363858745,13813.7248678097,2053.541508246517,67999.996234283972,3.7657160282833502E-3,null,10,15,13,8,10,68000,null,5,7439.7706373525334,38702.97550441241,7589.8726769694149,15257.347586851598,14882.419902983909,null,0,0,2.4047640181379393E-6,0,0,null,7439.7706373525398,15809.94229648158,7589.8726726220657,15257.347586851587,14882.419895330606,60979.353088638374,7020.6469113616258,null,1,{"$f":"basics7!$P$6","v":"valid"}]
[14,16,5,16,4,58000,null,6,29186.267504208507,6.2635996467071243E-9,9.8025123879657085E-11,13813.724867809686,2053.541508246517,null,0,-9.969892991318612E-15,0,-3.092281986027956E-11,0,null,29186.267504208496,0,13251.968363858763,118.97457856955705,15318.746984690932,57875.957431327748,124.04256867225195,null,3,1,10,1,12,58000,null,6,7439.7706373525298,38702.975504412396,7589.8726745646509,15257.347586851598,14882.419902983911,null,0,0,-8.1854523159563541E-12,0,0,null,7439.7706439498652,38702.975504412403,7589.8726726220721,15257.347586851609,14882.419883107696,83872.386290943643,25872.386290943643,null,1,{"$f":"basics7!$P$7","v":"invalid"}]
[10,15,8,5,15,43000,null,7,29186.267504208488,6.2636096166001156E-9,9.8025123879657085E-11,13813.724867809717,2053.5415082465183,null,0,5.9819358265549027E-15,0,1.6370904631912708E-11,0,null,29186.267504208485,0,9.8025123879657085E-11,13813.724867809686,0,42999.992372018271,7.6279817294562235E-3,null,5,2,8,12,2,43000,null,7,7439.7706373525325,38702.975504412389,7589.8726745646591,15257.347586851602,14882.419902983911,null,0,0,1.9425888240220957E-6,1.4551915228366852E-11,5.3040457714814693E-7,null,7439.7706373525334,38702.975504412396,7589.8726726220702,2130.7553341835373,14882.419902983918,70745.794051554461,27745.794051554461,null,1,{"$f":"basics7!$P$8","v":"invalid"}]
[9,3,16,15,16,39000,null,8,29186.267504208499,6.2636036346642891E-9,9.8025123879657085E-11,13813.7248678097,2053.5415082465183,null,0,0,0,-2.3646862246096134E-11,0,null,29186.267504208492,9694.4939901605012,0,118.97457856955683,0,38999.736072938547,0.26392706145270495,null,7,14,1,2,1,39000,null,8,7439.7706373525389,38702.975504412389,7589.8726726220702,15257.347586851587,14882.419902453506,null,0,8351.4858917489328,0,0,6.3032421167008579E-6,null,7439.7706373525325,15809.942296481579,7589.872676969414,15257.347586851611,14882.419902983918,60979.353100639055,21979.353100639055,null,1,{"$f":"basics7!$P$9","v":"invalid"}]
[13,4,13,2,9,77000,null,9,29186.267504208492,6.2636036346642891E-9,9.8025123879657085E-11,13813.724867809724,2053.5415082465188,null,0,-1.5881867761018131E-22,0,-1.6370904631912708E-11,2053.5415082465188,null,29186.267504208499,9694.4939901604903,0,35889.079648669147,2053.5415082465188,76823.382651284657,176.61734871534281,null,4,13,4,15,7,77000,null,9,7439.7706373525398,30351.489612663456,7589.8726726220721,15257.347586851585,14882.419896150264,null,0,14541.547316181872,0,0,8.1965845311060548E-7,null,7439.7706439498652,15809.942296481579,7589.8726769694258,1822.062970774861,14882.419902983911,47544.06849115964,29455.93150884036,null,0,{"$f":"basics7!$P$10","v":"invalid"}]
[7,9,5,1,1,86000,null,10,29186.267504208485,6.2636036346644479E-9,9.8025123879657085E-11,13813.72486780974,0,null,0,-9.9698930442581712E-15,9.8025123879657085E-11,-3.637978807091713E-11,0,null,29186.267504208488,6.2636036346642891E-9,13251.968363858763,35889.079648669191,15318.74698469093,93646.062501433626,7646.0625014336256,null,9,8,10,16,16,86000,null,10,7439.7706373525398,15809.942296481584,7589.8726726220721,15257.347586851594,14882.419895330606,null,5.235251592239365E-6,0,0,0,4.6714430936845019E-6,null,7439.7706373525398,38702.975504412389,7589.8726726220721,475.11715560545451,475.11715560545451,54682.853125597911,31317.146874402089,null,1,{"$f":"basics7!$P$11","v":"valid"}]
[10,13,14,14,13,29000,null,11,29186.267504208492,6.2636136045574922E-9,0,13813.724867809777,0,null,0,-2.047417229925501E-11,0,-1.4551915228366852E-11,0,null,29186.267504208485,6.3412820621253479E-9,0,118.97457856955661,0,29305.242082784382,305.24208278438164,null,5,4,3,3,3,29000,null,11,7439.7706321172882,15809.942296481579,7589.8726726220721,15257.347586851596,14882.419890659163,null,4.3205818656133488E-6,0,0,13126.592252668059,7.551467206212692E-6,null,7439.7706373525334,38702.975504412425,7589.8726769694304,15257.347586851603,14882.419902983916,83872.386308569912,54872.386308569912,null,0,{"$f":"basics7!$P$12","v":"invalid"}]
[3,7,11,13,7,29000,null,12,29186.267504208485,6.2840877768567472E-9,0,13813.724867809791,0,null,0,-5.719428526860069E-11,0,13694.750289240235,0,null,41415.435126733792,6.2636096166001156E-9,0,118.97457856955661,2053.5415082465183,43587.951213556131,14587.951213556131,null,14,10,6,4,9,29000,null,12,7439.7706277967063,15809.942296481579,7589.8726726220684,2130.7553341835373,14882.419883107696,null,4.4029939090250991E-6,0,0,0,4.262043148628436E-6,null,1543.7605176909296,15809.942296481584,7589.8726745646509,15257.347586851605,14882.419896150264,55083.342971739032,26083.342971739032,null,0,{"$f":"basics7!$P$13","v":"invalid"}]
[16,6,1,4,11,52000,null,13,29186.267504208499,6.3412820621253479E-9,0,118.97457856955661,0,null,0,6.3412820621253479E-9,0,0,0,null,0,6.2635996467071243E-9,45920.432847078438,13813.72486780968,0,59734.157714894383,7734.1577148943834,null,1,11,15,13,5,52000,null,13,7439.7706233937124,15809.942296481579,7589.8726726220657,2130.7553341835373,14882.419878845652,null,5896.0101057027823,0,3319.8192754630854,0,12983.951454655555,null,7439.7706551977026,15809.942296481579,2944.6646325889824,2130.7553341835373,14882.419902983909,43207.552821435711,8792.4471785642891,null,1,{"$f":"basics7!$P$14","v":"invalid"}]
[2,8,10,10,12,82000,null,14,29186.267504208496,0,0,118.97457856955661,0,null,0,0,0,-2.1316282072803006E-13,0,null,67861.774716342174,6.2636036346642891E-9,9.8025123879657085E-11,13813.72486780974,0,81675.499584158271,324.50041584172868,null,15,9,7,6,4,82000,null,14,1543.7605176909296,15809.942296481579,4270.0533971589803,2130.7553341835369,1898.4684241900982,null,0,0,1325.3887645699979,308.69236340867587,0,null,1543.7605176909301,30351.489612663456,7589.8726745646591,15257.347586851598,14882.419902983924,69624.890294754572,12375.109705245428,null,0,{"$f":"basics7!$P$15","v":"invalid"}]
[15,11,15,7,5,99000,null,15,29186.267504208503,0,0,118.97457856955683,0,null,29186.267504208503,0,0,-2.2737367544323206E-13,0,null,29186.267504208503,6.2636136045574922E-9,0,13813.724867809717,15318.746984690952,58318.739356715436,40681.260643284564,null,2,6,2,10,11,99000,null,15,1543.7605176909301,15809.94229648158,2944.6646325889824,1822.062970774861,1898.4684241900977,null,1068.6433772170881,0,2943.6646325889824,1346.9458151694066,1423.3512685846431,null,7439.7706526351722,38702.975504412396,7589.8726769694276,15257.347586851594,14882.419890659163,83872.386311527749,15127.613688472251,null,0,{"$f":"basics7!$P$16","v":"invalid"}]
[5,5,8,8,3,55000,null,16,0,0,0,118.97457856955705,0,null,null,null,null,null,null,null,29186.267504208492,6.2635996467069126E-9,9.8025123879657085E-11,13813.7248678097,15318.746984690932,58318.739356715487,3318.7393567154868,null,11,12,8,8,13,55000,null,16,475.11714047384214,15809.942296481584,1,475.11715560545451,475.11715560545451,null,null,null,null,null,null,null,7439.7706321172882,15809.942296481579,7589.8726726220702,15257.347586851587,14882.419878845652,60979.353066918178,5979.3530669181782,null,0,{"$f":"basics7!$P$17","v":"valid"}]
[null,null,null,null,null,1047000,null,null,2,3,4,5,6,null,null,null,null,null,null,null,null,null,null,null,null,1046999.9999374403,85065.70839108841,null,null,null,null,null,null,1047000,null,null,2,3,4,5,6,null,null,null,null,null,null,null,null,null,null,null,null,1047000.0073490853,325065.22423164314,null,{"$f":"SUM(BE122:BE137/16)","v":0.5},{"$f":"basics7!$P$19","v":0.375}]
[null,null,null,null,null,null,null,null,null,null,null,null,null,null,null,null,null,null,null,null,null,null,null,null,null,null,{"$f":"models1!K678","v":87082.5},null,null,null,null,null,null,null,null,null,null,null,null,null,null,null,null,null,null,null,null,null,null,null,null,null,null,null,{"$f":"models1!Z678","v":315196.00000000006}]
[]
["basics8","direct",null,null,null,null,null,null,null,null,null,null,null,null,null,null,null,null,null,null,null,null,null,null,null,null,null,null,"inverse",null,null,null,null,null,null,null,null,null,null,null,null,null,null,null,null,null,null,null,null,null,null,null,null,null,null,null,"valid","online"]
[14,12,15,15,12,23000,null,1,16264.933417527038,45830.162495993107,45964.027985539695,8306.5184661420699,4455.0894212331095,null,0,0,37490.740832882118,0,0,null,150.12555560176216,28619.472996737186,597.89583268467811,572.01690647142789,4455.0894212331787,34394.600712728228,11394.600712728228,null,2,5,2,2,5,23000,null,1,45924.662911135696,27529.180388608565,27470.708154962133,19056.180656493678,15663.373854874304,null,0,0,0,0,0,null,45924.662911135681,13516.322509490728,27470.70815496214,19056.180656493681,15663.373854874317,121631.24808695655,98631.248086956548,null,{"$f":"IF(INT(F142-Z142)*INT(F142-BB142)<=0,1,0)","v":0},{"$f":"basics8!$P$2","v":"invalid"}]
[8,6,3,14,14,75000,null,2,16264.933417527036,45830.162495993107,8473.2871526575782,8306.5184661420699,4455.0894212331086,null,0,0,0,0,0,null,16264.933417526199,45830.162495993107,8473.2871526575727,600.58302913918942,1776.1628084827898,72945.128903798846,2054.8710962011537,null,9,11,14,3,3,75000,null,2,45924.662911135681,27529.180388608562,27470.70815496214,19056.180656493681,15663.373854874315,null,27643.820439045267,14012.857879117815,0,0,0,null,18280.842472090444,4006.4094754941225,1024.8441308006829,19056.180656493689,15663.373854874306,58031.650589753241,16968.349410246759,null,{"$f":"IF(INT(F143-Z143)*INT(F143-BB143)<=0,1,0)","v":0},{"$f":"basics8!$P$3","v":"invalid"}]
[14,7,6,9,4,60000,null,3,16264.933417527038,45830.16249599307,8473.2871526575727,8306.5184661420626,4455.0894212331077,null,0,0,297.40291986787179,7705.9354370028614,0,null,150.12555560176216,45830.162495993143,8175.8842327896955,600.58302913919101,4455.0894212331095,59211.844734756902,788.15526524309826,null,2,10,12,7,13,60000,null,3,18280.842472090415,13516.322509490747,27470.708154962158,19056.180656493689,15663.373854874306,null,0,4.0017766878008842E-11,-2.9103830456733704E-11,0,-2.0008883439004421E-11,null,45924.662911135681,4006.4094754941261,1912.6622614563521,6931.3612289050616,1224.9038296866888,59999.999706677911,2.9332208941923454E-4,null,1,{"$f":"basics8!$P$4","v":"invalid"}]
[2,13,14,16,6,62000,null,4,16264.933417527036,45830.162495993107,8175.8842327897009,600.58302913920136,4455.0894212331095,null,0,0,0,0,0,null,16264.933417527036,28619.472996737182,3711.3906363305164,142.85133572858427,4455.0894212331132,53193.737807556427,8806.2621924435734,null,15,4,3,1,9,62000,null,4,18280.842472090415,13516.322509490707,27470.708154962187,19056.180656493663,15663.373854874326,null,0,-2.1827872842550278E-11,23296.384318478289,2694.6739548955084,0,null,97.55621505362987,13516.322509490707,27470.708154962158,19056.180656493678,15100.456237836537,75241.223773836711,13241.223773836711,null,1,{"$f":"basics8!$P$5","v":"invalid"}]
[6,16,12,10,13,18000,null,5,16264.933417527027,45830.162495993121,8175.8842327896955,600.58302913920136,4455.0894212331086,null,0,0,0,-3.5242919693700969E-12,0,null,16264.933417527036,0,8175.8842327896909,600.58302913918942,1776.1628084827903,26817.563487938707,8817.5634879387071,null,10,1,6,6,4,18000,null,5,18280.84247209043,13516.322509490728,4174.3238364838999,16361.506701598155,15663.373854874317,null,0,-2.0008883439004421E-11,8.1854523159563541E-12,9430.1454726930933,0,null,18280.842472090408,27529.180388608565,4174.3238364838917,6931.3612289050607,15663.373854874326,72579.081780962239,54579.081780962239,null,0,{"$f":"basics8!$P$6","v":"invalid"}]
[13,10,9,3,15,47000,null,6,16264.933417527036,45830.162495993107,8175.8842327896955,600.58302913920488,4455.0894212331132,null,8.3491613622754812E-10,0,0,0,0,null,150.12555560176222,28619.472996737051,8175.88423278969,8306.5184661420626,1776.1628084827896,47028.164059753355,28.164059753355104,null,4,7,9,13,1,47000,null,6,18280.84247209043,13516.322509490748,4174.3238364838917,6931.3612289050607,15663.373854874317,null,0,-1.4551915228366852E-11,0,0,562.9176170377832,null,18280.842472090415,13516.322509490763,4174.3238364838944,6931.3612289050634,15663.373854874304,58566.223901844445,11566.223901844445,null,0,{"$f":"basics8!$P$7","v":"invalid"}]
[6,14,5,1,6,66000,null,7,16264.933417526201,45830.162495993143,8175.8842327896909,600.58302913920477,4455.0894212331086,null,0,0,0,1.432454155292362E-11,0,null,16264.933417527036,28619.472996737197,8175.8842327896955,8306.5184661420699,4455.0894212331132,65821.898534429114,178.10146557088592,null,10,2,13,16,9,66000,null,7,18280.842472090408,13516.322509490763,4174.3238364838917,6931.3612289050616,15100.456237836534,null,0,2.7284841053187847E-11,0,0,0,null,18280.842472090408,27529.180388608562,1820.6118243620613,97.556143266611414,15100.456237836537,62828.64706616418,3171.3529338358203,null,0,{"$f":"basics8!$P$8","v":"valid"}]
[10,1,2,8,9,41000,null,8,16264.933417526199,45830.162495993121,8175.88423278969,600.58302913919044,4455.0894212331123,null,16114.807861924437,17210.68949925607,0,0,0,null,150.12555560176227,45830.162495993107,8473.2871526575782,600.58302913919044,4455.0894212331123,59509.247654624749,18509.247654624749,null,7,16,15,8,6,41000,null,8,18280.842472090415,13516.322509490736,4174.3238364838944,6931.3612289050643,15100.456237836532,null,-2.9103830456733704E-11,9509.9130339966141,0,0,0,null,18280.842472090408,16.31464033828053,108.49501591498338,6931.3612289050643,15663.373854874317,41000.387212123052,0.3872121230524499,null,0,{"$f":"basics8!$P$9","v":"valid"}]
[11,14,11,2,15,55000,null,9,150.12555560176244,28619.472996737051,8175.88423278969,600.58302913919101,4455.0894212331123,null,0,0,0,1.5916157281026244E-12,-6.0026650317013264E-11,null,150.12555560176219,28619.472996737197,8175.8842327896909,8306.5184661420699,1776.1628084827896,47028.164059753508,7971.8359402464921,null,6,2,7,15,1,55000,null,9,18280.842472090444,4006.4094754941211,4174.3238364838944,6931.3612289050625,15100.456237836537,null,3.637978807091713E-11,-5.0022208597511053E-12,0,0,12257.000316634987,null,18280.84247209043,27529.180388608562,4174.3238364838917,97.556143266611414,15663.373854874304,65745.276695323802,10745.276695323802,null,1,{"$f":"basics8!$P$10","v":"invalid"}]
[4,3,16,3,1,74000,null,10,150.12555560176227,28619.472996737051,8175.8842327896909,600.58302913918942,4455.0894212331723,null,0,-1.127773430198431E-10,0,0,0,null,16264.933417527036,45830.16249599307,0,8306.5184661420626,4455.0894212331095,74856.703800895266,856.70380089526589,null,13,14,1,13,16,74000,null,10,18280.842472090408,4006.4094754941261,4174.3238364838971,6931.3612289050643,2843.4559212015502,null,15437.386556357913,3.637978807091713E-12,0,0,0,null,1820.6118313157162,1024.8441094531211,27470.708154962133,6931.3612289050634,129.01817263404118,37376.543497270075,36623.456502729925,null,1,{"$f":"basics8!$P$11","v":"invalid"}]
[5,8,7,12,3,81000,null,11,150.12555560176219,28619.472996737164,8175.8842327896909,600.58302913918953,4455.0894212331777,null,0,0,0,0,0,null,16264.933417527027,45830.162495993121,8175.8842327896909,600.58302913918976,4455.0894212331077,75326.652596682135,5673.3474033178645,null,12,8,11,4,14,81000,null,11,2843.4559157324943,4006.4094754941225,4174.3238364838944,6931.3612289050579,2843.4559212015502,null,0,1162.9535642667997,2261.6615750275423,0,0,null,2843.4559157324925,13516.322509490736,4174.3238364838944,19056.180656493663,1024.844108077898,40615.127026278686,40384.872973721314,null,0,{"$f":"basics8!$P$12","v":"invalid"}]
[1,2,10,11,5,75000,null,12,150.12555560176216,28619.472996737186,8175.8842327896909,600.58302913918976,4455.0894212331787,null,0,0,0,0,2678.9266127503884,null,16264.933417527038,45830.162495993107,8175.8842327896909,600.58302913918953,4455.0894212331086,75326.652596682121,326.65259668212093,null,16,15,8,5,12,75000,null,12,2843.4559157324925,2843.4559112273228,1912.6622614563521,6931.3612289050616,2843.4559212015474,null,1022.8440844167762,1022.8443799157062,92.050437094290828,0,1618.5520915148586,null,97.556215053629941,456.15276347881922,4174.3238364838944,16361.506701598155,2843.4559212015474,23932.995437816047,51067.004562183953,null,1,{"$f":"basics8!$P$13","v":"valid"}]
[16,5,8,7,8,88000,null,13,150.12555560176222,28619.472996737182,8175.8842327896955,600.58302913918965,1776.1628084827903,null,0,0,4464.4935964591787,0,0,null,150.12555560176222,45830.162495993121,8175.88423278969,600.58302913920477,4455.0894212331123,59211.844734756894,28788.155265243106,null,1,12,10,9,8,88000,null,13,1820.6118313157162,1820.6115313116165,1820.6118243620613,6931.3612289050634,1224.9038296866888,null,1495.0693307494307,795.76742185849548,795.76769356137834,6833.8050856384516,200.05972160879082,null,45924.662911135696,2843.4559112273228,4174.3238364838971,6931.3612289050625,15100.456237836532,74974.260125588509,13025.739874411491,null,0,{"$f":"basics8!$P$14","v":"valid"}]
[3,11,13,6,2,50000,null,14,150.12555560176216,28619.472996737197,3711.3906363305164,600.58302913918942,1776.1628084827898,null,0,28619.472996737197,3113.4948036458381,28.566122667761533,0,null,16264.933417527038,28619.472996737164,8175.8842327896955,600.58302913920488,4455.0894212331086,58115.963097426211,8115.9630974262109,null,14,6,4,10,15,50000,null,14,325.54250056628553,1024.8441094531211,1024.8441308006829,97.556143266611528,1024.844108077898,null,227.98628551265566,568.69134597430184,916.34911488569958,1.1368683772161603E-13,895.82593544385679,null,325.54250056628553,13516.322509490748,27470.708154962187,6931.3612289050643,129.01817263404118,48372.952566558321,1627.0474334416795,null,1,{"$f":"basics8!$P$15","v":"valid"}]
[12,4,1,5,9,97000,null,15,150.12555560176219,0,597.89583268467811,572.01690647142789,1776.1628084827896,null,0,0,597.89583268467811,429.16557074284361,1775.1628084827896,null,150.12555560176216,45830.162495993107,45964.027985539695,600.58302913920136,4455.0894212331123,96999.988487506882,1.1512493118061684E-2,null,5,13,16,11,6,97000,null,15,97.55621505362987,456.15276347881922,108.49501591498338,97.556143266611414,129.01817263404118,null,0,439.8381231405387,0,0,0,null,18280.84247209043,1820.6115313116165,108.49501591498333,6931.3612289050579,15663.373854874317,42804.684103096406,54195.315896903594,null,1,{"$f":"basics8!$P$16","v":"valid"}]
[9,8,13,4,6,53000,null,16,150.12555560176222,0,0,142.85133572858427,1,null,null,null,null,null,null,null,150.12555560176244,45830.162495993121,8175.8842327896955,600.58302913920136,4455.0894212331132,59211.844734756894,6211.8447347568945,null,8,8,4,12,9,53000,null,16,97.556215053629941,16.31464033828053,108.49501591498333,97.556143266611414,129.01817263404118,null,null,null,null,null,null,null,18280.842472090415,13516.322509490736,27470.708154962187,6931.3612289050616,15100.456237836537,81299.690603284937,28299.690603284937,null,0,{"$f":"basics8!$P$17","v":"valid"}]
[null,null,null,null,null,965000,null,null,2,3,4,5,6,null,null,null,null,null,null,null,null,null,null,null,null,965000.00000404613,108521.48028556482,null,null,null,null,null,null,965000,null,null,2,3,4,5,6,null,null,null,null,null,null,null,null,null,null,null,null,964999.99217353517,434126.27193512832,null,{"$f":"SUM(BE142:BE157/16)","v":0.4375},{"$f":"basics8!$P$19","v":0.4375}]
[null,null,null,null,null,null,null,null,null,null,null,null,null,null,null,null,null,null,null,null,null,null,null,null,null,null,{"$f":"models1!K778","v":78787.899999999994},null,null,null,null,null,null,null,null,null,null,null,null,null,null,null,null,null,null,null,null,null,null,null,null,null,null,null,{"$f":"models1!Z778","v":287629.60000000003}]
[]
["basics9","direct",null,null,null,null,null,null,null,null,null,null,null,null,null,null,null,null,null,null,null,null,null,null,null,null,null,null,"inverse",null,null,null,null,null,null,null,null,null,null,null,null,null,null,null,null,null,null,null,null,null,null,null,null,null,null,null,"valid","online"]
[12,8,11,10,7,76000,null,1,4110.5834000853074,19040.034609467148,8634.487170512597,13590.828559724989,28449.880268397479,null,0,0,0,0,0,null,262.33621140989061,19040.03460946714,8634.4871705125934,4933.4958882932833,28449.880268397472,61320.234148080381,14679.765851919619,null,4,9,7,6,11,76000,null,1,28079.762321886821,30663.380680685848,6253.4769468273344,70111.680746507089,2952.5245305222661,null,0,-7.2759576141834259E-11,1.0913936421275139E-11,60628.925765884487,1.0913936421275139E-11,null,28079.762321886872,21756.066781490419,6253.4769468273144,9482.754980622607,2952.5245305222484,68524.585561349464,7475.4144386505359,null,{"$f":"IF(INT(F162-Z162)*INT(F162-BB162)<=0,1,0)","v":0},{"$f":"basics9!$P$2","v":"invalid"}]
[16,16,15,11,9,34000,null,2,4110.5834000853074,19040.034609467162,8634.4871705125934,13590.828559724996,28449.880268397479,null,0,0,0,0,0,null,262.33621140989084,9.2121284272574666,246.44545198703347,4933.4958882932779,28449.880268397479,33901.369948514941,98.630051485059084,null,1,1,2,5,9,34000,null,2,28079.762321886821,30663.380680685921,6253.4769468273234,9482.7549806226034,2952.5245305222552,null,-4.0017766878008842E-11,2.9103830456733704E-11,1.0004441719502211E-11,0,-1.8644641386345029E-11,null,28079.762321886821,30663.380680685848,6253.4769468273234,9482.7549806225761,2952.5245305222597,77431.899460544839,43431.899460544839,null,{"$f":"IF(INT(F163-Z163)*INT(F163-BB163)<=0,1,0)","v":1},{"$f":"basics9!$P$3","v":"valid"}]
[13,5,16,7,14,48000,null,3,4110.583400085311,19040.034609467166,8634.4871705126043,13590.828559724987,28449.880268397479,null,0,0,0,0,0,null,262.33621140989101,19040.03460946717,246.44545198703349,13590.828559724981,14860.352236879595,47999.997069468678,2.9305313219083473E-3,null,3,12,1,9,3,48000,null,3,28079.762321886861,30663.380680685892,6253.4769468273134,9482.7549806226125,2952.5245305222738,null,0,5.8207660913467407E-11,-1.1823431123048067E-11,2.7284841053187847E-11,2.4101609596982598E-11,null,28079.762321886861,1232.3340410117912,6253.4769468273344,9482.7549806225961,2952.5245305222738,48000.852820870852,0.85282087085215608,null,1,{"$f":"basics9!$P$4","v":"valid"}]
[2,9,8,14,8,41000,null,4,4110.5834000853147,19040.034609467166,8634.4871705126006,13590.82855972498,28449.880268397465,null,0,0,0,0,0,null,4110.5834000853074,19040.034609467133,8634.4871705125915,4933.4958882308565,28449.880268397479,65168.481336693367,24168.481336693367,null,15,8,10,3,10,41000,null,4,28079.762321886872,30663.380680685834,6253.4769468273253,9482.7549806225852,2952.5245305222497,null,10902.510872598217,-3.637978807091713E-11,0,0,0,null,555.32304672345197,21756.066781490405,6253.4769468273134,9482.7549806226125,2952.5245305222611,41000.146286186049,0.14628618604911026,null,0,{"$f":"basics9!$P$5","v":"invalid"}]
[7,3,2,8,4,46000,null,5,4110.583400085311,19040.03460946717,8634.4871705125915,13590.82855972498,28449.880268397479,null,0,0,0,0,0,null,4110.5833977999482,19040.034609467166,8634.4871705125934,4933.4958882932779,28449.880268397465,65168.481334470445,19168.481334470445,null,9,14,15,8,13,46000,null,5,17177.251449288655,30663.38068068587,6253.4769468273225,9482.7549806225761,2952.5245305222484,null,4.7293724492192268E-11,0,9.0949470177292824E-12,-3.092281986027956E-11,-1.6370904631912708E-11,null,17177.251449288618,1232.3340410117953,1355.2349554244413,9482.7549806225888,2952.5245305222543,32200.099956869701,13799.900043130299,null,1,{"$f":"basics9!$P$6","v":"valid"}]
[10,4,14,4,15,30000,null,6,4110.5834000853138,19040.034609467151,8634.4871705125915,13590.82855972498,28449.88026839749,null,2.2853655536891893E-6,0,0,0,0,null,262.33621140989067,19040.034609467166,246.44545198703352,13590.82855972498,7.1521105476383031,33146.796943136702,3146.7969431367019,null,6,13,3,13,2,30000,null,6,17177.251449288608,30663.380680685885,6253.4769468273134,9482.754980622607,2952.5245305222647,null,-2.9103830456733704E-11,0,0,1.4551915228366852E-11,1.0459189070388675E-11,null,17177.251449288608,1232.3340410117944,6253.4769468273134,2383.8106533053142,2952.5245305222552,29999.397620955286,0.60237904471432557,null,1,{"$f":"basics9!$P$7","v":"invalid"}]
[11,15,1,9,11,27000,null,7,4110.5833977999482,19040.034609467133,8634.4871705125934,13590.828559724981,28449.880268397472,null,0,0,0,8657.3326714317045,0,null,262.33621140989067,9.2121284272574613,8634.487170512597,4933.4958882932779,28449.880268397501,42289.41166704052,15289.41166704052,null,5,2,16,7,5,27000,null,7,17177.251449288637,30663.380680685881,6253.4769468273144,9482.7549806225925,2952.5245305222543,null,4.0017766878008842E-11,8907.3138991954766,7.2759576141834259E-12,0,0,null,17177.251449288655,30663.380680685921,0,9482.7549806225925,2952.5245305222484,60275.911641119419,33275.911641119419,null,0,{"$f":"basics9!$P$8","v":"valid"}]
[6,11,9,1,5,88000,null,8,4110.5833977999455,19040.03460946714,8634.4871705125915,4933.4958882932779,28449.880268397479,null,0,0,0,0,0,null,4110.5834000853138,19040.034609467115,8634.4871705125915,13590.828559724989,28449.880268397479,73825.814008187488,14174.185991812512,null,10,5,9,16,12,88000,null,8,17177.251449288597,21756.066781490405,6253.4769468273071,9482.7549806225888,2952.5245305222547,null,0,0,-1.6370904631912708E-11,0,-5.0022208597511053E-12,null,17177.251449288593,30663.38068068587,6253.4769468273234,339.3090327390417,2952.5245305222543,57385.942640063076,30614.057359936924,null,0,{"$f":"basics9!$P$9","v":"invalid"}]
[4,13,6,13,10,66000,null,9,4110.5833977999437,19040.034609467133,8634.4871705125915,4933.4958882932779,28449.880268397479,null,3848.2471863900528,0,0,0,0,null,4110.5834000853147,19040.034609467119,8634.4871705125915,4933.4958882932742,28449.88026839749,65168.481336755794,831.51866324420553,null,12,4,12,4,8,66000,null,9,17177.251449288618,21756.066781490419,6253.4769468273234,9482.7549806225961,2952.5245305222597,null,0,16761.459964805908,1.0004441719502211E-11,-1.6370904631912708E-11,0,null,17177.251449288637,30663.380680685834,5724.0703056235197,9482.7549806225852,2952.5245305222547,65999.981946742831,1.8053257168503478E-2,null,1,{"$f":"basics9!$P$10","v":"invalid"}]
[8,14,13,6,16,37000,null,10,262.33621140989067,19040.034609467129,8634.4871705125915,4933.4958882932833,28449.88026839749,null,0,0,0,0,0,null,4110.5833977999455,19040.034609467119,246.44545198703352,13590.82855972498,7.1521105476382978,36995.044129526716,4.955870473284449,null,8,3,5,10,1,37000,null,10,17177.251449288593,4994.6068166845098,6253.4769468273134,9482.7549806226125,2952.5245305222611,null,-6.184563972055912E-11,0,-9.0949470177292824E-12,0,1.2732925824820995E-11,null,17177.251449288597,30663.380680685892,6253.4769468273225,9482.7549806226125,2952.5245305222661,66529.388587946683,29529.388587946683,null,1,{"$f":"basics9!$P$11","v":"valid"}]
[1,11,4,5,3,64000,null,11,262.33621140989067,19040.034609467115,8634.4871705125934,4933.4958882932779,28449.880268397501,null,0,0,8388.0417185255592,0,0,null,4110.5834000853074,19040.034609467115,8634.4871705126006,13590.82855972498,28449.880268397479,73825.814008187474,9825.8140081874735,null,16,5,14,11,14,64000,null,11,17177.251449288655,4994.6068166845089,6253.4769468273225,9482.7549806226016,2952.5245305222484,null,0,3762.2727756727177,529.40664120380279,7098.9443273172874,-5.9117155615240335E-12,null,339.30901764643232,30663.38068068587,3047.7790345919498,9482.7549806226016,2952.5245305222534,46485.748244069109,17514.251755930891,null,1,{"$f":"basics9!$P$12","v":"valid"}]
[15,10,7,3,1,70000,null,12,262.33621140989061,19040.034609467119,246.44545198703332,4933.4958882932788,28449.880268397501,null,0,0,0,0,0,null,262.33621140989084,19040.034609467129,8634.4871705125934,13590.828559724987,28449.880268397479,69977.566819512082,22.433180487918435,null,2,7,11,14,15,70000,null,12,17177.251449288637,1232.3340410117912,5724.0703056235197,2383.8106533053146,2952.5245305222543,null,0,-3.1832314562052488E-12,0,0,0,null,28079.762321886821,30663.380680685881,6253.4769468273225,2383.8106533053146,2618.2520506676046,69998.682653372947,1.317346627052757,null,0,{"$f":"basics9!$P$13","v":"invalid"}]
[9,2,12,15,13,82000,null,13,262.33621140989101,19040.034609467119,246.44545198703352,4933.4958882932742,28449.880268397497,null,0,0,0,6.2417711887974292E-8,13589.528031517902,null,4110.5833977999437,19040.034609467162,246.44545198703332,4933.4958882308638,28449.880268397497,56780.439615882497,25219.560384117503,null,7,15,6,1,4,82000,null,13,17177.251449288626,1232.3340410117944,5724.0703056235261,2383.8106533053142,2952.5245305222543,null,16621.928402565172,0,2676.2912710315763,0,0,null,17177.251449288637,223.73071251013621,6253.4769468273134,70111.680746507089,2952.5245305222497,96718.664385655415,14718.664385655415,null,1,{"$f":"basics9!$P$14","v":"valid"}]
[5,1,5,15,11,99000,null,14,262.33621140989095,19040.034609467119,246.44545198703352,4933.4958882308565,14860.352236879595,null,0,19030.822481039861,0,-7.2759576141834259E-12,14853.200126331956,null,4110.583400085311,19040.034609467148,8634.4871705125915,4933.4958882308638,28449.880268397501,65168.481336693418,33831.518663306582,null,11,16,13,1,5,99000,null,14,555.32304672345253,1232.3340410117953,3047.7790345919498,2383.8106533053146,2952.5245305222534,null,0,1008.6033285016591,1692.5440791675085,1028.5753586257656,334.27247985464874,null,17177.251449288655,223.73071251013619,5724.0703056235261,70111.680746507089,2952.5245305222484,96189.25774445165,2810.7422555483499,null,0,{"$f":"basics9!$P$15","v":"invalid"}]
[3,6,10,2,1,95000,null,15,262.33621140989084,9.2121284272574613,246.44545198703347,4933.4958882308638,7.1521105476383031,null,0,0,0,4932.4958882308638,0,null,4110.583400085311,19040.034609467151,8634.4871705125915,13590.828559724996,28449.880268397479,73825.814008187532,21174.185991812468,null,13,11,8,15,15,95000,null,15,555.32304672345197,223.73071251013621,1355.2349554244413,1355.235294679549,2618.2520506676046,null,216.01402907701964,0,1355.2349554244413,1015.9262619405074,2617.2520506676046,null,17177.251449288626,4994.6068166845089,6253.4769468273071,1355.235294679549,2618.2520506676046,32398.822558147596,62601.1774418524,null,0,{"$f":"basics9!$P$16","v":"invalid"}]
[3,7,14,5,11,27000,null,16,262.33621140989084,9.2121284272574666,246.44545198703349,1,7.1521105476382978,null,null,null,null,null,null,null,4110.583400085311,19040.034609467133,246.44545198703352,13590.82855972498,28449.880268397501,65437.77228966196,38437.77228966196,null,13,10,3,11,5,27000,null,16,339.30901764643232,223.73071251013619,0,339.3090327390417,1,null,null,null,null,null,null,null,17177.251449288626,4994.6068166845098,6253.4769468273134,9482.7549806226016,2952.5245305222484,40860.614723945298,13860.614723945298,null,0,{"$f":"basics9!$P$17","v":"invalid"}]
[null,null,null,null,null,930000,null,null,2,3,4,5,6,null,null,null,null,null,null,null,null,null,null,null,null,929999.99999999988,220073.51515838093,null,null,null,null,null,null,930000,null,null,2,3,4,5,6,null,null,null,null,null,null,null,null,null,null,null,null,929999.9968322902,269634.95898024691,null,{"$f":"SUM(BE162:BE177/16)","v":0.5},{"$f":"basics9!$P$19","v":0.4375}]
[null,null,null,null,null,null,null,null,null,null,null,null,null,null,null,null,null,null,null,null,null,null,null,null,null,null,{"$f":"models1!K878","v":77236.899999999994},null,null,null,null,null,null,null,null,null,null,null,null,null,null,null,null,null,null,null,null,null,null,null,null,null,null,null,{"$f":"models1!Z878","v":291615.90000000002}]
[]
["basics10","direct",null,null,null,null,null,null,null,null,null,null,null,null,null,null,null,null,null,null,null,null,null,null,null,null,null,null,"inverse",null,null,null,null,null,null,null,null,null,null,null,null,null,null,null,null,null,null,null,null,null,null,null,null,null,null,null,"valid","online"]
[12,6,4,2,10,86000,null,1,36872.923191994407,17583.648919079838,30703.658209731482,33527.682111314476,47779.537474644603,null,19329.916823218005,0,0,5.8207660913467407E-11,0,null,2907.7668740143881,17583.648919079882,30703.658209731489,33527.682111314418,108.89970745539135,84831.655821595574,1168.3441784044262,null,5,10,13,13,6,86000,null,1,25600.093819053927,8232.43914727427,14842.238035792307,23339.727229370219,869.12675684026567,null,0,0,0,0,0,null,25600.093819053945,8232.4391472742809,8871.1224272551553,23339.727229370201,869.12675684026544,66912.509379793846,19087.490620206154,null,{"$f":"IF(INT(F182-Z182)*INT(F182-BB182)<=0,1,0)","v":0},{"$f":"basics10!$P$2","v":"invalid"}]
[15,2,5,2,15,82000,null,2,17543.006368776401,17583.64891907986,30703.658209731482,33527.682111314418,47779.537474644632,null,0,0,0,9983.9975424676777,32679.145449039621,null,86.791283915678903,17583.64891907986,30703.6582097315,33527.682111314418,98.093053338381424,81999.873577379825,0.12642262017470784,null,2,15,12,13,2,82000,null,2,25600.093819053931,8232.4391472742773,14842.238035792296,23339.72722937023,869.12675684026544,null,0,0,0,0,0,null,25600.093819053931,148.16987893819288,13859.881895866565,23339.727229370201,869.12675684026544,63816.999580069154,18183.000419930846,null,{"$f":"IF(INT(F183-Z183)*INT(F183-BB183)<=0,1,0)","v":1},{"$f":"basics10!$P$3","v":"invalid"}]
[11,11,8,7,12,83000,null,3,17543.006368776398,17583.64891907986,30703.658209731482,23543.68456884674,15100.392025605013,null,0,0,0,0,0,null,2907.7668740143872,10253.66687312785,30703.658209731504,69.080553561983209,108.89970745539134,44043.072217891116,38956.927782108884,null,6,5,8,10,5,83000,null,3,25600.093819053931,8232.4391472742827,14842.238035792283,23339.727229370219,869.12675684026544,null,-2.9103830456733704E-11,0,-1.4551915228366852E-11,-3.637978807091713E-11,0,null,25600.093819053949,8232.4391472742664,14842.238035792323,23339.727229370234,869.1267568402651,72883.624988331052,10116.375011668948,null,0,{"$f":"basics10!$P$4","v":"invalid"}]
[1,8,12,10,1,96000,null,4,17543.006368776398,17583.64891907986,30703.658209731489,23543.684568846747,15100.392025605017,null,0,0,0,0,0,null,36872.923191994407,10253.666873127848,1024.7235953162944,69.080553561983237,47779.537474644603,95999.931688645127,6.8311354873003438E-2,null,16,8,5,7,16,96000,null,4,25600.09381905396,8232.4391472742773,14842.238035792298,23339.727229370255,869.12675684026544,null,0,0,0,0,0,null,446.46274075624461,8232.4391472742773,14842.238035792303,23339.727229370223,555.19505301626646,47416.06220620931,48583.93779379069,null,1,{"$f":"basics10!$P$5","v":"valid"}]
[6,15,7,5,3,87000,null,5,17543.006368776398,17583.648919079886,30703.6582097315,23543.684568846758,15100.392025605008,null,0,0,0,23474.604015284775,6441.7611001441037,null,17543.00636877639,109.23434754198048,30703.658209731511,23543.684568846758,15100.392025605013,86999.975520501655,2.4479498344589956E-2,null,10,2,9,12,13,87000,null,5,25600.093819053945,8232.4391472742664,14842.238035792303,23339.727229370248,869.1267568402651,null,0,0,0,0,0,null,25600.093819053924,8232.4391472742773,14842.238035792314,23339.727229370197,869.12675684026533,72883.624988330979,14116.375011669021,null,1,{"$f":"basics10!$P$6","v":"invalid"}]
[5,10,9,14,14,29000,null,6,17543.00636877639,17583.648919079882,30703.6582097315,69.080553561983209,8658.6309254609041,null,2645.1489421846709,7329.9820459520306,0,0,8549.7312180055123,null,17543.006368776398,10253.666873127853,1024.7235953162949,69.080553561983294,108.89970397707776,28999.377094759609,0.62290524039053707,null,12,6,7,2,3,29000,null,6,25600.093819053949,8232.4391472742755,14842.238035792308,23339.72722937023,869.12675684026544,null,0,0,0,0,0,null,446.46274075624439,8232.4391472742755,14842.238035792316,23339.72722937023,869.12675684026544,47729.993910033329,18729.993910033329,null,1,{"$f":"basics10!$P$7","v":"invalid"}]
[9,1,3,11,3,55000,null,7,14897.85742659172,10253.666873127851,30703.658209731511,69.080553561983209,108.89970745539134,null,1.6370904631912708E-11,0,0,0,0,null,2907.7668740143886,17583.648919079838,30703.658209731482,69.080553561983251,15100.392025605013,66364.546581992705,11364.546581992705,null,8,16,14,5,13,55000,null,7,25600.093819053942,8232.4391472742773,14842.238035792316,23339.727229370223,869.12675684026544,null,0,0,0,0,0,null,25600.093819053931,148.16987893819291,1560.7055685531036,23339.727229370248,869.12675684026533,51517.823252755734,3482.1767472442662,null,1,{"$f":"basics10!$P$8","v":"valid"}]
[2,4,6,14,5,81000,null,8,14897.857426591703,10253.666873127848,30703.658209731504,69.080553561983194,108.89970745539131,null,11990.090552577314,0,29678.934614415208,0,0,null,17543.006368776401,17583.64891907986,30703.6582097315,69.080553561983294,15100.392025605008,80999.786076754754,0.21392324524640571,null,15,13,11,2,11,81000,null,8,25600.093819053931,8232.4391472742773,14842.238035792323,23339.727229370241,869.12675684026522,null,0,0,0,0,0,null,446.46274075624461,8232.4391472742773,14842.238035792325,23339.72722937023,869.12675684026476,47729.993910033336,33270.006089966664,null,1,{"$f":"basics10!$P$9","v":"valid"}]
[3,16,14,2,9,24000,null,9,2907.7668740143886,10253.666873127853,1024.7235953162949,69.08055356198328,108.89970745539134,null,0,0,0,0,0,null,17543.006368776398,12.446316801610804,111.8739569039455,33527.682111314418,108.89970745539134,51303.908461251762,27303.908461251762,null,14,1,3,13,8,24000,null,9,25600.093819053938,8232.43914727427,14842.238035792314,23339.727229370226,869.12675684026533,null,0,0,0,0,0,null,446.46274075624444,8232.43914727427,14842.238035792283,23339.727229370201,869.12675684026522,47729.993910033263,23729.993910033263,null,0,{"$f":"basics10!$P$10","v":"invalid"}]
[4,9,15,11,5,48000,null,10,2907.7668740143881,10253.666873127853,1024.7235953162947,69.080553561983237,108.89970745539135,null,0,0,0,0,0,null,17543.006368776398,10253.666873127853,111.87395690394547,69.080553561983251,15100.392025605008,43078.019777975191,4921.9802220248093,null,13,7,2,5,11,48000,null,10,25600.093819053924,8232.4391472742809,14842.238035792307,23339.727229370234,869.12675684026465,null,25153.63107829768,0,-1.8189894035458565E-11,2.9103830456733704E-11,0,null,446.4627407562445,8232.4391472742773,14842.238035792296,23339.727229370248,869.12675684026476,47729.993910033329,270.00608996667142,null,0,{"$f":"basics10!$P$11","v":"valid"}]
[8,13,16,1,16,50000,null,11,2907.7668740143872,10253.66687312785,1024.7235953162947,69.080553561983251,108.89970745539135,null,0,8816.6926641084392,0,0,0,null,14897.857426591703,1436.9742090194113,68.729712388827977,33527.682111314476,68.729712470996702,49999.973171785408,2.6828214591660071E-2,null,9,4,1,16,1,50000,null,11,446.4627407562441,8232.4391472742736,14842.238035792325,23339.727229370204,869.12675684026476,null,0,0,982.35613992575963,0,0,null,25600.093819053938,8232.4391472742773,14842.238035792307,456.10345485538716,869.12675684026567,50000.001213816184,1.2138161837356165E-3,null,1,{"$f":"basics10!$P$12","v":"invalid"}]
[10,7,1,13,8,24000,null,12,2907.7668740143881,1436.9742090194113,1024.7235953162944,69.080553561983237,108.89970745539134,null,0,0,912.84963520167116,0,3.4783136158011985E-6,null,2907.7668740143881,10253.666873127851,30703.658209731482,69.080553561983237,108.89970745539131,44043.072217891095,20043.072217891095,null,7,9,16,4,9,24000,null,12,446.46274075624439,8232.4391472742773,13859.881895866565,23339.727229370197,869.12675684026544,null,0,0,4988.7594686114098,0,0,null,25600.093819053942,8232.43914727427,0,23339.727229370255,869.12675684026533,58041.386952538727,34041.386952538727,null,0,{"$f":"basics10!$P$13","v":"invalid"}]
[16,14,2,8,13,31000,null,13,2907.7668740143881,1436.9742090194113,111.8739601146233,69.080553561983237,108.89970397707772,null,2820.9755900987093,1327.7398614774308,3.210677803622275E-6,0,0,null,12.589379854567516,109.23434754198047,30703.658209731482,69.080553561983194,108.89970397707772,31003.462194667092,3.4621946670922625,null,1,3,15,9,4,31000,null,13,446.4627407562445,8232.4391472742773,8871.1224272551553,23339.727229370201,869.12675684026533,null,0,8084.2692683360847,7310.4168587020522,22883.623774514814,0,null,25600.093819053927,8232.4391472742827,0,23339.727229370226,869.12675684026544,58041.386952538698,27041.386952538698,null,0,{"$f":"basics10!$P$14","v":"invalid"}]
[14,3,13,6,7,17000,null,14,86.791283915678932,109.23434754198047,111.8739569039455,69.080553561983294,108.89970397707776,null,0,0,0,2.448413368938418E-6,10.80665063869634,null,86.791283915678932,17583.64891907986,111.8739601146233,69.080553561983209,108.89970745539134,17960.294424127536,960.29442412753633,null,3,14,4,11,10,17000,null,14,446.46274075624444,148.16987893819274,1560.7055685531036,456.10345485538721,869.12675684026476,null,0,0,1560.7055685531036,0,0,null,25600.093819053931,148.16987893819274,14842.238035792298,23339.727229370204,869.12675684026465,64799.355719994885,47799.355719994885,null,0,{"$f":"basics10!$P$15","v":"invalid"}]
[6,5,11,9,2,84000,null,15,86.791283915678903,109.23434754198048,111.87395690394547,69.080551113569925,98.093053338381424,null,74.201904061111392,96.788030740369678,43.144244515117492,0,29.363340867384721,null,17543.00636877639,17583.648919079886,1024.7235953162947,69.08055356198328,47779.537474644632,83999.996911379189,3.0886208114679903E-3,null,10,11,6,8,15,84000,null,15,446.46274075624461,148.16987893819288,0,456.10345485538716,869.12675684026544,null,0,0,0,0,313.93170382399899,null,25600.093819053924,8232.4391472742736,14842.238035792308,23339.727229370241,869.12675684026544,72883.624988331023,11116.375011668977,null,1,{"$f":"basics10!$P$16","v":"valid"}]
[13,5,7,16,10,66000,null,16,12.589379854567516,12.446316801610804,68.729712388827977,69.080551113569967,68.729712470996702,null,null,null,null,null,null,null,2907.7668740143881,17583.648919079886,30703.658209731511,69.080551113569967,108.89970745539135,51373.054261394747,14626.945738605253,null,4,11,9,1,6,66000,null,16,446.46274075624461,148.16987893819291,0,456.10345485538716,555.19505301626646,null,null,null,null,null,null,null,25600.09381905396,8232.4391472742736,14842.238035792314,23339.727229370219,869.12675684026544,72883.624988331023,6883.6249883310229,null,1,{"$f":"basics10!$P$17","v":"valid"}]
[null,null,null,null,null,943000,null,null,2,3,4,5,6,null,null,null,null,null,null,null,null,null,null,null,null,942999.99999999232,119350.567759868,null,null,null,null,null,null,943000,null,null,2,3,4,5,6,null,null,null,null,null,null,null,null,null,null,null,null,943000.00085117389,316451.48644339829,null,{"$f":"SUM(BE182:BE197/16)","v":0.5625},{"$f":"basics10!$P$19","v":0.375}]
[null,null,null,null,null,null,null,null,null,null,null,null,null,null,null,null,null,null,null,null,null,null,null,null,null,null,{"$f":"models1!K978","v":157501.69999999998},null,null,null,null,null,null,null,null,null,null,null,null,null,null,null,null,null,null,null,null,null,null,null,null,null,null,null,{"$f":"models1!Z978","v":343689.5}]
[]
["basics11","direct",null,null,null,null,null,null,null,null,null,null,null,null,null,null,null,null,null,null,null,null,null,null,null,null,null,null,"inverse",null,null,null,null,null,null,null,null,null,null,null,null,null,null,null,null,null,null,null,null,null,null,null,null,null,null,null,"valid","online"]
[1,2,16,3,8,36000,null,1,2.2673044389056651E-10,65.419801496132962,26857.817299985545,12461.458656135752,42615.291642761564,null,0,1.1586109849304194E-10,0,1.1641532182693481E-10,0,null,2.2673044389056651E-10,65.419801496017101,0,11.013245754117065,42615.291642761134,42691.724690011499,6691.7246900114988,null,16,15,1,14,8,36000,null,1,27983.86297304363,2489.6959390816128,28350.912966907541,51405.280862211082,3111.8095242407103,null,-3.2741809263825417E-11,0,1.119814811154356,43812.98331627361,-2.1827872842550278E-11,null,130.32158739953098,326.10558560482099,28350.912966907541,445.44909669866604,3111.8095242407176,32364.598760851277,3635.4012391487231,null,{"$f":"IF(INT(F202-Z202)*INT(F202-BB202)<=0,1,0)","v":1},{"$f":"basics11!$P$2","v":"invalid"}]
[5,15,10,10,15,40000,null,2,2.2673044389056654E-10,65.419801496017101,26857.817299985545,12461.458656135635,42615.291642761564,null,0,0,0,12450.445410381519,0,null,2.2673044389056654E-10,65.419801487150693,26857.817299984952,11.013245754117065,65.753075990942861,27000.003423217389,12999.996576782611,null,12,2,5,7,2,40000,null,2,27983.862973043662,2489.6959390816119,28349.793152096387,7592.2975459374711,3111.8095242407321,null,0,0,0.44792590939323418,-8.1854523159563541E-12,2.1373125491663814E-11,null,1734.3433733237723,2489.6959390816119,28345.089929894115,7592.2975459374702,3111.8095242407321,43273.236312477697,3273.2363124776966,null,{"$f":"IF(INT(F203-Z203)*INT(F203-BB203)<=0,1,0)","v":1},{"$f":"basics11!$P$3","v":"valid"}]
[16,10,5,12,11,25000,null,3,2.2673044389056654E-10,65.419801496017101,26857.817299985545,11.013245754117065,42615.291642761564,null,0,1.1512213404785143E-10,1.127773430198431E-10,2.2559731860383181E-13,0,null,1.0792078985394851E-10,65.419801493939616,26857.817299985309,11.013245754004069,65.753075990942847,27000.003423224305,2000.0034232243052,null,1,7,12,5,6,25000,null,3,27983.862973043666,2489.6959390816151,28349.345226186993,7592.2975459374793,3111.8095242407107,null,4.3655745685100555E-11,-3.637978807091713E-12,1.5677407483563002,0,0,null,27983.86297304363,2489.6959390816246,1897.4440931780443,7592.297545937472,3111.8095242407139,43075.110075481483,18075.110075481483,null,0,{"$f":"basics11!$P$4","v":"invalid"}]
[8,7,4,1,5,82000,null,4,2.2673044389056654E-10,65.419801495901979,26857.817299985432,11.01324575411684,42615.291642761564,null,0,2.3109691937861498E-10,1.2369127944111824E-10,0,0,null,2.2673044389056654E-10,65.419801495093509,26857.817299985432,12461.458656135752,42615.291642761535,81999.987400378042,1.2599621957633644E-2,null,9,10,13,16,12,82000,null,4,27983.862973043622,2489.6959390816187,28347.777485438637,7592.2975459374775,3111.8095242407135,null,0,0,2.6875555445221835,0,-6.8212102632969618E-12,null,27983.861498934366,2489.6959390816278,1897.4440931780453,210.99689392646155,3111.8095242407226,35693.807949361224,46306.192050638776,null,1,{"$f":"basics11!$P$5","v":"invalid"}]
[2,3,6,8,6,81000,null,5,2.2673044389056654E-10,65.419801495670882,26857.817299985309,11.013245754116843,42615.291642761535,null,0,3.4704328299994813E-10,0,0,0,null,2.2673044389056654E-10,65.419801496017101,26857.817299985309,11.013245754117065,42615.291642761505,69549.541989997175,11450.458010002825,null,15,14,11,9,11,81000,null,5,27983.862973043637,2489.6959390816214,28345.089929894115,7592.297545937472,3111.8095242407203,null,0,-9.0949470177292824E-12,14897.340444975613,0,6.3664629124104977E-12,null,678.91431809424876,1892.9648112875902,3859.5356701585747,7592.2975459374766,3111.8095242407253,17135.521869718614,63864.478130281386,null,0,{"$f":"basics11!$P$6","v":"valid"}]
[13,16,10,15,10,16000,null,6,2.2673044389056654E-10,65.419801495323838,26857.817299985309,11.013245754116836,42615.291642761505,null,0,2.3032953322399408E-10,1.0550138540565968E-10,0,1.3096723705530167E-10,null,2.2527501543155255E-10,0,26857.817299984952,11.013245749210613,65.753075990942847,26934.583621725331,10934.583621725331,null,4,1,5,2,7,16000,null,6,27983.862973043637,2489.6959390816305,13447.749484918502,7592.2975459374757,3111.8095242407139,null,0,5.9117155615240335E-12,0,0,-2.0918378140777349E-11,null,27983.862973043622,2489.6959390816128,28345.089929894115,7592.2975459374711,3111.8095242407348,69522.75591219755,53522.75591219755,null,0,{"$f":"basics11!$P$7","v":"invalid"}]
[6,6,10,14,16,12000,null,7,2.2673044389056654E-10,65.419801495093509,26857.817299985203,11.013245754116832,42615.291642761375,null,0,3.4620484257175121E-10,1.127773430198431E-10,-2.3270274596143281E-13,2.4010660126805305E-10,null,2.2673044389056654E-10,65.419801495323838,26857.817299984952,11.013245749210613,0,26934.250347229714,14934.250347229714,null,10,11,5,3,1,12000,null,7,27983.86297304363,2489.6959390816246,13447.749484918502,7592.2975459374702,3111.8095242407348,null,0,0,0,0,1.7280399333685637E-11,null,27982.740210014017,2489.6959390816287,28345.089929894115,7592.2975459374793,3111.8095242407103,69521.633149167945,57521.633149167945,null,0,{"$f":"basics11!$P$8","v":"invalid"}]
[12,8,2,16,4,86000,null,8,2.2673044389056654E-10,65.419801494747304,26857.81729998509,11.013245754117065,42615.291642761134,null,0,4.6220804961194517E-10,0,2.3270274596143281E-13,42549.538566770192,null,2.2673044389056654E-10,65.419801494747304,26857.817299985545,11.013245749210617,42615.291642761564,69549.541989991296,16450.458010008704,null,5,9,15,1,13,86000,null,8,27983.862973043644,2489.6959390816241,13447.749484918515,7592.2975459374738,3111.8095242407176,null,1.474109278206015E-3,0,0,0,0,null,27983.862973043637,2489.6959390816264,805.15883156572568,51405.280862211082,3110.9136728443355,85794.912278746415,205.08772125358519,null,0,{"$f":"basics11!$P$9","v":"invalid"}]
[14,1,13,9,7,77000,null,9,2.2673044389056654E-10,65.419801494285096,26857.817299985072,11.013245754116832,65.753075990942719,null,0,3.4548008898127591E-10,1.2005330063402653E-10,-2.3270274596143281E-13,-1.2789769243681803E-13,null,2.2527501543155255E-10,65.419801496132962,26857.817299992512,11.013245754116832,42615.291642761375,69549.541990004363,7450.4580099956365,null,3,16,4,8,10,77000,null,9,27983.861498934366,2489.6959390816264,13447.749484918511,7592.2975459374766,3111.8095242407185,null,1.1212889203488885,0,9588.2138147599362,0,0,null,27983.862973043666,324.98577096930376,28347.777485438637,7592.2975459374738,3111.8095242407203,67360.733299629792,9639.2667003702081,null,0,{"$f":"basics11!$P$10","v":"invalid"}]
[11,4,14,2,1,63000,null,10,2.2673044389056654E-10,65.419801493939616,26857.817299984952,11.013245754117065,65.753075990942847,null,0,2.2895108031661948E-10,-7.5669959187507629E-9,0,0,null,2.2673044389056654E-10,65.419801495901979,7857.8301087415703,12461.458656135635,42615.291642761564,63000.000209134902,2.0913490152452141E-4,null,6,13,3,15,16,63000,null,10,27982.740210014017,2489.6959390816278,3859.5356701585747,7592.2975459374738,3111.8095242407203,null,26248.396836690245,0,0,7146.8484492388079,-5.0022208597511053E-12,null,27983.862973043637,2489.6959390816273,28349.345226186993,445.44909669866632,175.48272253034165,59443.835957541261,3556.1640424587385,null,1,{"$f":"basics11!$P$11","v":"invalid"}]
[6,14,1,6,13,17000,null,11,2.2673044389056654E-10,65.419801493710665,26857.817299992519,11.013245754117065,65.753075990942847,null,0,3.4457059427950298E-10,0,1.1299583491108933E-10,0,null,2.2673044389056654E-10,65.419801487378109,26857.817299985545,11.013245754116836,65.753075990942847,27000.003423218212,10000.003423218212,null,10,3,16,11,4,17000,null,11,1734.343373323773,2489.6959390816287,3859.5356701585747,445.44909669866604,3111.8095242407253,null,0,0,1962.0915769805304,0,0,null,27982.740210014017,2489.6959390816151,0,445.44909669866604,3111.8095242407135,34029.694770035014,17029.694770035014,null,0,{"$f":"basics11!$P$12","v":"invalid"}]
[15,11,8,11,14,27000,null,12,2.2673044389056654E-10,65.419801493366094,26857.817299992519,11.013245754004069,65.753075990942847,null,1.4554284590139841E-12,5.6439120044160518E-9,0,7.1231909259950044E-13,0,null,2.2455026933182886E-10,65.419801493710665,26857.81729998509,11.013245754117065,65.753075990942847,27000.003423224087,3.4232240868732333E-3,null,2,6,10,6,3,27000,null,12,1734.3433733237723,2489.6959390816269,1897.4440931780443,445.44909669866627,3111.8095242407226,null,0,0,0,0,0.89585139638711553,null,27983.862973043662,2489.6959390816305,3859.5356701585747,7592.2975459374757,3111.8095242407107,45037.201652462056,18037.201652462056,null,0,{"$f":"basics11!$P$13","v":"valid"}]
[9,5,9,7,12,86000,null,13,2.2527501543155255E-10,65.419801487722182,26857.817299992512,11.013245754003357,65.753075990942847,null,0,3.4407321436447091E-10,18999.987191250941,4.7927439794648308E-9,0,null,2.2673044389056654E-10,65.419801495670882,26857.817299985072,11.013245754116832,65.753075990942847,27000.00342322603,58999.99657677397,null,8,12,9,10,5,86000,null,13,1734.3433733237723,2489.6959390816273,1897.4440931780453,445.44909669866632,3110.9136728443355,null,1055.4290552295238,596.73112779403709,0.4479258625606235,0,1217.9488442318893,null,27983.862973043644,2489.6959390816269,13447.749484918511,7592.2975459374738,3111.8095242407203,54625.415467221974,31374.584532778026,null,0,{"$f":"basics11!$P$14","v":"invalid"}]
[3,12,15,4,2,32000,null,14,2.2527501543155255E-10,65.419801487378109,7857.8301087415703,11.013245749210613,65.753075990942847,null,7.2474609972369087E-13,2.2741630800737767E-10,7857.8301087415703,0,0,null,2.2673044389056654E-10,65.419801493366094,0,11.01324575411684,42615.291642761564,42691.724690009272,10691.724690009272,null,14,4,2,13,15,32000,null,14,678.91431809424853,1892.9648112875902,1896.9961673154846,445.44909669866604,1892.9648286124461,null,0,1566.8592256827692,1091.8373357497589,0,1717.4821060821046,null,678.91431809424853,2489.6959390816187,28349.793152096387,445.44909669866632,175.48272253034162,32139.335228501262,139.33522850126246,null,0,{"$f":"basics11!$P$15","v":"valid"}]
[4,12,3,13,3,77000,null,15,2.2455026933182886E-10,65.419801487150693,0,11.013245749210613,65.753075990942861,null,1.1662947947788034E-10,65.419801487150693,0,0,65.753075990942861,null,2.2673044389056654E-10,65.419801493366094,26857.817299985545,11.013245754003357,42615.291642761564,69549.541989994701,7450.458010005299,null,13,4,14,4,14,77000,null,15,678.91431809424876,326.10558560482099,805.15883156572568,445.44909669866632,175.48272253034162,null,548.59273069471783,1.1198146355172298,805.15883156572568,234.45220277220477,0,null,1734.3433733237723,2489.6959390816187,1896.9961673154846,7592.2975459374775,1892.9648286124461,15606.297854270801,61393.702145729199,null,0,{"$f":"basics11!$P$16","v":"invalid"}]
[10,9,10,5,8,10000,null,16,1.0792078985394851E-10,0,0,11.013245749210617,0,null,null,null,null,null,null,null,2.2673044389056654E-10,65.419801494285096,26857.817299984952,11.013245754116843,42615.291642761134,69549.541989994716,59549.541989994716,null,7,8,5,12,8,10000,null,16,130.32158739953098,324.98577096930376,0,210.99689392646155,175.48272253034165,null,null,null,null,null,null,null,27983.86297304363,2489.6959390816241,28345.089929894115,445.44909669866627,3111.8095242407176,62375.907462958741,52375.907462958741,null,0,{"$f":"basics11!$P$17","v":"invalid"}]
[null,null,null,null,null,767000,null,null,2,3,4,5,6,null,null,null,null,null,null,null,null,null,null,null,null,766999.99802458112,229603.67361096304,null,null,null,null,null,null,767000,null,null,2,3,4,5,6,null,null,null,null,null,null,null,null,null,null,null,null,766999.99800062296,439949.75112594035,null,{"$f":"SUM(BE202:BE217/16)","v":0.25},{"$f":"basics11!$P$19","v":0.25}]
[null,null,null,null,null,null,null,null,null,null,null,null,null,null,null,null,null,null,null,null,null,null,null,null,null,null,{"$f":"models1!K1078","v":136919.79999999999},null,null,null,null,null,null,null,null,null,null,null,null,null,null,null,null,null,null,null,null,null,null,null,null,null,null,null,{"$f":"models1!Z1078","v":364078.30000000005}]
[]
["basics12","direct",null,null,null,null,null,null,null,null,null,null,null,null,null,null,null,null,null,null,null,null,null,null,null,null,null,null,"inverse",null,null,null,null,null,null,null,null,null,null,null,null,null,null,null,null,null,null,null,null,null,null,null,null,null,null,null,"valid","online"]
[3,9,11,15,2,85000,null,1,1037.1682402905678,24781.525285624255,152.54646749146903,32518.692599032744,32466.956423713797,null,0,0,2.061312898149481E-9,4.2928149923682213E-10,0,null,1037.1682402903557,14592.023849844332,152.54646748196365,112.37327527474805,32466.956423713818,48361.068256605213,36638.931743394787,null,14,7,6,1,15,85000,null,1,5900.7086616644719,19311.577734054044,33167.839389969238,30730.972035915962,4402.7300309760403,null,8.1854523159563541E-12,0,0,28627.21501865083,1.1823431123048067E-11,null,1267.7538767824037,19311.577734054059,33167.83938996926,30730.972035915962,521.84497648277488,84999.988013204464,1.1986795536358841E-2,null,{"$f":"IF(INT(F222-Z222)*INT(F222-BB222)<=0,1,0)","v":1},{"$f":"basics12!$P$2","v":"invalid"}]
[13,4,8,6,8,17000,null,2,1037.1682402905683,24781.525285624255,152.54646748940772,32518.692599032314,32466.956423713818,null,2.1259438653942198E-10,0,4.1220289404009236E-9,32405.02191993138,4.3291947804391384E-10,null,1037.1682402632114,24781.52528562423,152.54646748196348,113.67067910051701,32466.95642371125,58551.867096181173,41551.867096181173,null,2,13,8,10,8,17000,null,2,5900.7086616644638,19311.577734054059,33167.839389969253,2103.7570172651317,4402.7300309760285,null,0,2.9103830456733704E-11,0,0,2.3646862246096134E-11,null,5900.7086616644638,492.80154558353922,33167.839389969246,2103.7570172651322,4402.7300309760321,46067.83664545841,29067.83664545841,null,{"$f":"IF(INT(F223-Z223)*INT(F223-BB223)<=0,1,0)","v":0},{"$f":"basics12!$P$3","v":"invalid"}]
[12,10,5,11,7,48000,null,3,1037.1682402903557,24781.525285624259,152.54646748528569,113.67067910093392,32466.956423713385,null,1.2780674296664074E-9,2.9103830456733704E-11,2.4858195502019953E-9,0,0,null,1037.168240266167,14592.023849844296,152.54646748196677,112.3732752753065,32466.956423711254,48361.06825657899,361.06825657899026,null,5,6,12,5,10,48000,null,3,5900.7086616644665,19311.57773405403,33167.83938996926,2103.7570172651303,4402.7300309760049,null,0,-2.9103830456733704E-11,0,4.0927261579781771E-12,-2.0918378140777349E-11,null,5900.7086616644674,19311.577734054037,2334.5675774945294,2103.7570172651349,4402.7300309760303,34053.341021454202,13946.658978545798,null,1,{"$f":"basics12!$P$4","v":"invalid"}]
[7,5,10,4,6,64000,null,4,1037.1682402890776,24781.52528562423,152.54646748279987,113.67067910093385,32466.956423713389,null,4.2632564145606011E-10,0,8.3309714682400227E-10,4.1198688904842129E-10,8.6583895608782768E-10,null,1037.1682402840077,24781.52528562423,152.54646748196359,113.67067910093385,32466.956423712516,58551.867096203656,5448.1329037963442,null,10,11,7,12,11,64000,null,4,5900.7086616644656,19311.577734054059,33167.83938996926,2103.7570172651263,4402.7300309760258,null,0,0,0,-8.6401996668428183E-12,-1.7280399333685637E-11,null,4034.6831112177742,19311.577734054066,33167.839389969275,2103.7570172651313,4402.7300309760321,63020.58728348228,979.41271651771967,null,0,{"$f":"basics12!$P$5","v":"valid"}]
[5,7,15,7,4,60000,null,5,1037.1682402886513,24781.52528562423,152.54646748196677,113.67067910052187,32466.956423712523,null,1.4911165635567158E-9,0,3.1548097467748448E-12,4.8601123125990853E-12,0,null,1037.1682402886513,24781.525285627424,152.54646748195989,113.67067910051694,32466.956423713389,58551.867096211936,1448.1329037880641,null,12,9,2,9,13,60000,null,5,5900.7086616644674,19311.577734054066,33167.839389969267,2103.7570172651349,4402.7300309760431,null,0,2.9103830456733704E-11,0,5.0022208597511053E-12,1.1823431123048067E-11,null,1853.2525207989581,19311.577734054044,33167.839389969253,2103.7570172651313,521.84497648277465,56958.271638570157,3041.7283614298431,null,0,{"$f":"basics12!$P$6","v":"invalid"}]
[1,3,8,10,1,51000,null,6,1037.1682402871602,24781.52528562424,152.54646748196362,113.67067910051701,32466.956423712516,null,3.1525360100204125E-9,-3.1832314562052488E-9,0,0,1.2623786460608244E-9,null,1037.1682402905678,24781.525285624259,152.54646748196348,112.37327527530643,32466.956423713797,58550.569692385892,7550.5696923858923,null,16,14,8,6,16,51000,null,6,5900.7086616644719,19311.577734054037,33167.83938996926,2103.7570172651299,4402.7300309760312,null,1866.0255504466959,0,0,0,0,null,38.428243730020753,492.80154558353911,33167.839389969246,2103.7570172651299,124.8521797053937,35927.67837625333,15072.32162374667,null,1,{"$f":"basics12!$P$7","v":"valid"}]
[10,14,16,2,14,34000,null,7,1037.1682402840077,24781.525285627424,152.54646748196356,113.67067910051694,32466.956423711254,null,5.2120867621852085E-9,10189.501435782029,0,3.1832314562052488E-12,0,null,1037.1682402733152,229.56880555118298,108.68381991796792,32518.692599032314,105.88600786340714,33999.999472638192,5.2736180805368349E-4,null,7,3,1,14,3,34000,null,7,4034.6831112177761,19311.577734054059,33167.839389969275,2103.7570172651313,4402.7300309760321,null,0,0,0,0,0,null,4034.6831112177761,19311.57773405403,33167.839389969238,256.18325677396984,4402.7300309760049,61173.013522991016,27173.013522991016,null,1,{"$f":"basics12!$P$8","v":"valid"}]
[2,8,7,13,13,16000,null,8,1037.1682402787956,14592.023849845395,152.54646748196348,113.67067910051375,32466.95642371125,null,3.5640823625726625E-9,1.0622898116707802E-9,0,1.2974038252072546,3795.8094567338703,null,1037.1682402905683,14592.023849845395,152.54646748196356,112.37327527496024,105.88600786361981,15999.997840756505,2.1592434950434836E-3,null,15,8,10,3,4,16000,null,8,4034.6831112177742,19311.577734054052,33167.839389969246,2103.7570172651322,4402.7300309760321,null,0,0,30833.271812474719,0,0,null,38.428243730020739,19311.577734054052,2334.5675774945294,2103.7570172651303,4402.7300309760258,28191.060603519756,12191.060603519756,null,1,{"$f":"basics12!$P$9","v":"invalid"}]
[8,2,4,3,10,44000,null,9,1037.1682402752315,14592.023849844332,152.54646748196348,112.3732752753065,28671.14696697738,null,1.9163053366355598E-9,3.637978807091713E-11,0,0,0,null,1037.1682402787956,24781.525285624255,152.54646748279987,113.67067910093392,28671.146966977383,54756.057639464168,10756.057639464168,null,9,15,13,13,7,44000,null,9,4034.683111217772,19311.577734054044,2334.5675774945285,2103.7570172651313,4402.7300309760321,null,0,0,0,0,0,null,4034.683111217772,492.80154558353905,2334.5675774945294,2103.7570172651308,4402.7300309760321,13368.539282537004,30631.460717462996,null,1,{"$f":"basics12!$P$10","v":"valid"}]
[16,16,14,9,5,26000,null,10,1037.1682402733152,14592.023849844296,152.54646748196359,112.37327527530643,28671.146966977383,null,2.5454482965869829E-9,14362.455044293099,0,0,0,null,0,0,152.54646748195998,112.3732752753065,32466.956423712523,32731.876166469789,6731.8761664697886,null,1,1,3,7,12,26000,null,10,4034.6831112177742,19311.57773405403,2334.5675774945294,2103.7570172651322,4402.7300309760303,null,0,-3.637978807091713E-11,0,0,0,null,5900.7086616644719,19311.577734054044,33167.83938996926,2103.7570172651313,521.84497648277511,61005.727779435685,35005.727779435685,null,0,{"$f":"basics12!$P$11","v":"invalid"}]
[13,15,1,12,15,21000,null,11,1037.1682402707697,229.56880555119608,152.54646748196365,112.3732752753065,28671.146966977401,null,4.6027253119973466E-9,6.5654148784233257E-12,3.666400516522117E-12,0,28565.260959113781,null,1037.1682402632114,229.56880555118289,152.54646749146903,112.3732752753064,105.88600786213108,1637.5427964433006,19362.4572035567,null,2,2,16,4,1,21000,null,11,4034.6831112177724,19311.577734054066,2334.5675774945298,2103.7570172651294,4402.7300309760321,null,2181.4305904188141,18818.776188470529,0,0,3880.885054493257,null,5900.7086616644638,19311.577734054059,0,2103.7570172651263,4402.7300309760403,31718.773443959686,10718.773443959686,null,1,{"$f":"basics12!$P$12","v":"invalid"}]
[9,1,12,14,12,15000,null,12,1037.168240266167,229.56880555118951,152.54646748195998,112.3732752753064,105.8860078636198,null,2.9556304070865735E-9,6.4801497501321137E-12,0,3.4616221000760561E-10,0,null,1037.1682402752315,24781.525285624255,152.54646748195998,112.37327527474791,105.8860078636198,26189.499276519815,11189.499276519815,null,8,16,5,2,5,15000,null,12,1853.2525207989581,492.80154558353905,2334.5675774945294,2103.7570172651313,521.84497648277511,null,585.49864401655395,0,0,0,0,null,4034.6831112177742,0,33167.839389969267,2103.7570172651317,4402.7300309760431,43709.009549428214,28709.009549428214,null,0,{"$f":"basics12!$P$13","v":"invalid"}]
[13,11,3,5,3,34000,null,13,1037.1682402632114,229.56880555118303,152.54646748195998,112.37327527496024,105.88600786361981,null,1037.1682402632114,0,0,2.1232438029983314E-10,2.1266544081299799E-10,null,1037.1682402632114,229.56880555119608,152.54646748528569,113.67067910052187,32466.956423713385,33999.910616113601,8.9383886399446055E-2,null,2,5,14,11,14,34000,null,13,1267.7538767824042,492.80154558353922,2334.5675774945294,2103.7570172651308,521.84497648277465,null,0,0,1328.2906609180466,1847.573760491161,0,null,5900.7086616644638,19311.577734054066,1006.2769165764828,2103.7570172651294,521.84497648277454,28844.165306042916,5155.8346939570838,null,1,{"$f":"basics12!$P$14","v":"valid"}]
[4,13,6,1,15,26000,null,14,0,229.56880555118298,152.54646748195998,112.37327527474791,105.88600786340714,null,0,0,0,-1.4210854715202004E-13,1.2760636991515639E-9,null,1037.1682402890776,229.56880555118303,152.54646748196362,32518.692599032744,105.88600786213108,34043.862120217098,8043.862120217098,null,13,4,11,15,1,26000,null,14,1267.7538767824037,492.80154558353911,1006.2769165764828,256.18325677396984,521.84497648277454,null,1229.325633052383,0,508.86781242627109,-4.5474735088646412E-13,0,null,1267.7538767824042,19311.577734054059,2334.5675774945298,256.1832567739703,4402.7300309760403,27572.812476081002,1572.8124760810024,null,0,{"$f":"basics12!$P$15","v":"valid"}]
[6,6,2,8,11,78000,null,15,0,229.56880555118289,152.54646748195989,112.37327527474805,105.88600786213108,null,0,229.56880555118289,43.86264756399197,111.37327527474805,104.88600786213108,null,1037.1682402871602,24781.52528562424,152.54646748940772,113.67067910051375,28671.146966977401,54756.05763947872,23243.94236052128,null,11,10,15,8,6,78000,null,15,38.428243730020739,492.80154558353905,497.4091041502117,256.1832567739703,521.84497648277488,null,0,492.80154558353905,497.4091041502117,255.1832567739703,396.99279677738116,null,4034.6831112177724,19311.57773405403,497.4091041502117,2103.7570172651322,4402.7300309760312,30350.156997663176,47649.843002336827,null,0,{"$f":"basics12!$P$16","v":"invalid"}]
[11,5,13,1,8,91000,null,16,0,0,108.68381991796792,1,1,null,null,null,null,null,null,null,1037.1682402707697,24781.52528562423,152.54646748195998,32518.692599032744,32466.95642371125,90956.889016120957,43.110983879043488,null,6,11,4,15,8,91000,null,16,38.428243730020753,0,0,1,124.8521797053937,null,null,null,null,null,null,null,5900.7086616644719,19311.577734054066,33167.83938996926,256.1832567739703,4402.7300309760321,63039.039073437802,27960.960926562198,null,0,{"$f":"basics12!$P$17","v":"invalid"}]
[null,null,null,null,null,710000,null,null,2,3,4,5,6,null,null,null,null,null,null,null,null,null,null,null,null,710000.00007838884,172369.60041724486,null,null,null,null,null,null,710000,null,null,2,3,4,5,6,null,null,null,null,null,null,null,null,null,null,null,null,710000.00101351913,288876.46702822845,null,{"$f":"SUM(BE222:BE237/16)","v":0.5},{"$f":"basics12!$P$19","v":0.375}]
[null,null,null,null,null,null,null,null,null,null,null,null,null,null,null,null,null,null,null,null,null,null,null,null,null,null,{"$f":"models1!K1178","v":131985.69999999998},null,null,null,null,null,null,null,null,null,null,null,null,null,null,null,null,null,null,null,null,null,null,null,null,null,null,null,{"$f":"models1!Z1178","v":316572.09999999998}]
[]
["basics13","direct",null,null,null,null,null,null,null,null,null,null,null,null,null,null,null,null,null,null,null,null,null,null,null,null,null,null,"inverse",null,null,null,null,null,null,null,null,null,null,null,null,null,null,null,null,null,null,null,null,null,null,null,null,null,null,null,"valid","online"]
[10,9,4,10,2,46000,null,1,1184.4315355195097,23891.989548692214,23863.470080072824,22744.457778604057,17075.358030722298,null,0,0,0,0,0,null,1184.431535519509,23891.989548692214,23863.470080072839,377.56414636603517,17075.358030722302,66392.813341372908,20392.813341372908,null,6,8,12,7,15,46000,null,1,7287.8061603811111,3283.2988106977155,37019.185004870211,31161.267244441009,25191.119280112485,null,0,1.1368683772161603E-11,-5.8207660913467407E-11,20534.468513338601,0,null,7287.8061603810975,3283.2988106977095,37019.185004870196,3649.0376610970261,72.887251004077854,51312.214888050104,5312.2148880501045,null,{"$f":"IF(INT(F242-Z242)*INT(F242-BB242)<=0,1,0)","v":0},{"$f":"basics13!$P$2","v":"invalid"}]
[16,11,13,2,9,62000,null,2,1184.4315355195092,23891.989548692218,23863.470080072835,22744.457778604068,17075.358030722302,null,0,0,0,0,0,null,212.1773211724142,23891.989548692211,1622.0914172409011,22744.457778604068,11381.917098563268,59852.633164272862,2147.3668357271381,null,1,5,4,14,8,62000,null,2,7287.8061603811138,3283.2988106977041,37019.185004870269,10626.798731102406,25191.119280112463,null,-2.0918378140777349E-11,-6.8212102632969618E-12,1.1641532182693481E-10,0,0,null,7287.8061603811111,3283.2988106977127,37019.185004870174,3649.0376610970252,10109.058452109684,61348.386089155705,651.61391084429488,null,{"$f":"IF(INT(F243-Z243)*INT(F243-BB243)<=0,1,0)","v":0},{"$f":"basics13!$P$3","v":"valid"}]
[15,14,14,7,6,43000,null,3,1184.4315355195081,23891.989548692243,23863.470080072813,22744.457778604072,17075.358030722295,null,-1.8189894035458565E-12,3.2741809263825417E-11,0,0,0,null,719.34919378271968,1617.0358037774458,1622.0914172409011,17943.731071062728,17075.358030722287,38977.565516586081,4022.4344834139192,null,2,3,3,10,11,43000,null,3,7287.8061603811348,3283.2988106977109,37019.185004870153,10626.79873110241,25191.119280112442,null,7.0031092036515474E-11,7.73070496506989E-12,0,0,0,null,7287.8061603811138,3283.2988106977109,37019.185004870153,3649.037661097022,2043.1513001814001,53282.478937227403,10282.478937227403,null,1,{"$f":"basics13!$P$4","v":"valid"}]
[1,13,7,9,7,83000,null,4,1184.4315355195099,23891.989548692211,23863.470080072839,22744.457778604068,17075.358030722298,null,0,0,0,0,0,null,1184.4315355195097,3382.8384431494314,23863.470080072824,5692.0434295064297,17075.358030722291,51198.141518970486,31801.858481029514,null,16,4,10,8,10,83000,null,4,7287.8061603810647,3283.2988106977032,37019.185004870174,10626.798731102403,25191.119280112453,null,-2.5465851649641991E-11,-9.5496943686157465E-12,0,0,1601.4098118216607,null,204.74142883467115,3283.2988106977032,37019.185004870153,3649.0376610970229,10109.058452109673,54265.321357609224,28734.678642390776,null,0,{"$f":"basics13!$P$5","v":"valid"}]
[4,10,15,14,11,28000,null,5,1184.4315355195085,23891.989548692221,23863.470080072817,22744.457778604083,17075.358030722291,null,0,0,0,0,0,null,1184.4315355195099,23891.989548692218,158.81235904688629,377.56414636603506,2387.200506702346,27999.998096326995,1.9036730045627337E-3,null,13,7,2,3,6,28000,null,5,7287.8061603810902,3283.2988106977127,37019.185004870225,10626.79873110241,23589.709468290792,null,-7.2759576141834259E-12,0,8.7311491370201111E-11,6977.7610700053829,12149.018312005759,null,1073.2168304092886,3283.2988106977132,37019.185004870269,10626.79873110241,11440.691156285033,63443.190533364716,35443.190533364716,null,1,{"$f":"basics13!$P$6","v":"invalid"}]
[12,15,2,11,16,14000,null,6,1184.4315355195095,23891.989548692218,23863.470080072817,22744.45777860409,17075.358030722287,null,0,0,0,4800.726707541362,0,null,1184.4315355195092,109.61322914800789,23863.470080072835,377.56414636603512,0,25535.078991106388,11535.078991106388,null,5,2,14,6,1,14000,null,6,7287.8061603810975,3283.2988106977136,37019.185004870138,3649.037661097027,11440.691156285033,null,0,0,0,0,0,null,7287.8061603810902,3283.2988106977041,1352.3008621712779,3649.037661097027,25191.119280112485,40763.562774459584,26763.562774459584,null,0,{"$f":"basics13!$P$7","v":"invalid"}]
[5,5,6,5,13,93000,null,7,1184.4315355195101,23891.989548692225,23863.470080072824,17943.731071062728,17075.358030722291,null,0,0,0,12251.687641556302,5693.4409321590138,null,1184.4315355195085,23891.989548692221,23863.470080072817,22744.457778604083,2387.2005067023438,74071.549449590981,18928.450550409019,null,12,12,11,12,4,93000,null,7,7287.8061603811011,3283.2988106977132,37019.185004870167,3649.0376610970261,11440.691156285038,null,0,3.637978807091713E-12,0,0,1331.6327041753539,null,5098.5434068135683,3283.2988106977155,37019.185004870225,3649.0376610970279,25191.119280112453,74241.184163590995,18758.815836409005,null,0,{"$f":"basics13!$P$8","v":"invalid"}]
[3,4,2,4,1,58000,null,8,1184.4315355195117,23891.989548692211,23863.470080072842,5692.0434295064251,11381.917098563277,null,0,0,0,0,0,null,1184.4315355195081,23891.989548692211,23863.470080072835,22744.457778604068,17075.358030722298,88759.706973610912,30759.706973610912,null,14,13,14,13,16,58000,null,8,7287.8061603810975,3283.2988106977095,37019.185004870167,3649.0376610970229,10109.058452109684,null,0,0,0,0,0,null,1073.2168304092884,3283.2988106977159,1352.3008621712779,3649.0376610970266,72.887251004077854,9430.741415379387,48569.258584620613,null,1,{"$f":"basics13!$P$9","v":"valid"}]
[9,2,10,16,4,78000,null,9,1184.4315355195106,23891.989548692214,23863.470080072824,5692.0434295064297,11381.917098563268,null,0,0,0,5314.4792831403947,0,null,1184.4315355195106,23891.989548692218,23863.470080072828,212.17732739470253,17075.358030722298,66227.426522401554,11772.573477598446,null,9,15,6,1,13,78000,null,9,7287.8061603810947,3283.29881069771,37019.185004870204,3649.0376610970234,10109.058452109673,null,0,-5.4569682106375694E-12,0,0,0,null,7287.8061603810947,488.64377729019384,37019.185004870138,31161.267244441009,2043.151300181398,78000.053487163837,5.3487163837417029E-2,null,1,{"$f":"basics13!$P$10","v":"invalid"}]
[2,8,9,8,8,46000,null,10,1184.431535519509,23891.989548692218,23863.470080072828,377.56414636603517,11381.917098563272,null,0,0,22241.378662831925,0,8994.7165918609262,null,1184.4315355195092,23891.989548692211,23863.470080072824,5692.0434295064251,11381.917098563277,66013.851692354248,20013.851692354248,null,15,9,8,9,9,46000,null,10,7287.8061603810984,3283.2988106977155,37019.185004870153,3649.037661097022,10109.058452109673,null,0,0,-7.2759576141834259E-11,-6.8212102632969618E-12,8065.9071519282734,null,252.54763676135099,3283.29881069771,37019.185004870167,3649.0376610970234,10109.058452109673,54313.12756553592,8313.1275655359204,null,0,{"$f":"basics13!$P$11","v":"invalid"}]
[13,3,8,12,12,80000,null,11,1184.4315355195085,23891.989548692211,1622.0914172409016,377.56414636603512,2387.200506702346,null,0,20509.151105542776,0,0,0,null,1184.4315355195081,23891.989548692243,23863.470080072842,377.56414636603529,2387.2005067023438,51704.65581735297,28295.34418264703,null,4,14,9,5,5,80000,null,11,7287.8061603810984,3283.2988106977145,37019.185004870225,3649.0376610970288,2043.1513001814001,null,2189.2627535675301,0,0,0,0,null,7287.8061603810647,1476.6068378495829,37019.185004870204,10626.79873110241,23589.709468290792,80000.106202494062,0.10620249406201765,null,1,{"$f":"basics13!$P$12","v":"valid"}]
[8,1,4,1,14,70000,null,12,1184.4315355195092,3382.8384431494324,1622.0914172409005,377.56414636603529,2387.2005067023438,null,0,0,0,0,0,null,1184.4315355195117,23891.989548692214,23863.470080072839,22744.457778604057,2387.2005067023433,74071.549449590966,4071.5494495909661,null,10,16,12,16,2,70000,null,12,5098.5434068135683,3283.2988106977155,37019.185004870196,3649.0376610970279,2043.1513001813996,null,4025.3265764042799,0,35666.884142698917,0,0,null,7287.8061603810984,168.58665784753887,37019.185004870196,168.58665556371344,25191.119280112463,69835.283758775011,164.71624122498906,null,1,{"$f":"basics13!$P$13","v":"valid"}]
[10,11,10,13,14,52000,null,13,1184.4315355195081,3382.8384431494314,1622.0914172409011,377.56414636603523,2387.2005067023438,null,0,1765.8026393719856,0,0,0,null,1184.431535519509,23891.989548692211,23863.470080072828,377.56414636603523,2387.2005067023433,51704.655817352927,295.34418264707347,null,6,5,6,4,2,52000,null,13,1073.2168304092886,3283.2988106977159,1352.3008621712775,3649.0376610970266,2043.151300181398,null,0,1806.691972848133,0,0,1970.2640491773202,null,7287.8061603810975,3283.2988106977127,37019.185004870138,10626.798731102403,25191.119280112463,83408.207987163827,31408.207987163827,null,1,{"$f":"basics13!$P$14","v":"valid"}]
[14,16,1,15,5,70000,null,14,1184.4315355195085,1617.0358037774458,1622.0914172409011,377.56414636603506,2387.2005067023433,null,465.08234173678886,1507.422574629438,1463.2790581940149,0,2387.2005067023433,null,1184.4315355195085,109.61322914800785,23863.470080072824,377.564146366035,17075.358030722291,42610.437021828664,27389.562978171336,null,3,1,16,2,12,70000,null,14,1073.2168304092884,1476.6068378495829,1352.3008621712779,3649.0376610970252,72.887251004077839,null,820.66919364793739,987.96306055938908,1229.4414571463954,3480.4510055333117,0,null,7287.8061603811348,3283.2988106977155,122.85940502488248,10626.798731102406,2043.1513001813996,23363.91440738754,46636.085592612464,null,0,{"$f":"basics13!$P$15","v":"invalid"}]
[6,6,16,6,10,74000,null,15,719.34919378271968,109.61322914800789,158.81235904688629,377.564146366035,0,null,507.17187261030551,0,0,165.38681897133247,0,null,1184.4315355195095,23891.989548692218,158.81235904688623,22744.45777860409,11381.917098563272,59361.608320425978,14638.391679574022,null,11,11,1,11,7,74000,null,15,252.54763676135099,488.64377729019384,122.85940502488248,168.58665556371332,72.887251004077854,null,47.806207926679832,320.05711944265499,0,0,0,null,7287.8061603810984,3283.2988106977145,37019.185004870211,3649.0376610970288,11440.691156285038,62680.018793331088,11319.981206668912,null,0,{"$f":"basics13!$P$16","v":"valid"}]
[10,7,12,2,3,14000,null,16,212.1773211724142,109.61322914800785,158.81235904688623,212.17732739470253,0,null,null,null,null,null,null,null,1184.431535519509,23891.989548692225,1622.0914172409005,22744.457778604068,17075.358030722295,66518.328310779005,52518.328310779005,null,6,10,5,14,14,14000,null,16,204.74142883467115,168.58665784753887,122.85940502488248,168.58665556371344,72.887251004077854,null,null,null,null,null,null,null,7287.8061603810975,3283.2988106977155,37019.185004870225,3649.0376610970252,72.887251004077839,51312.214888050141,37312.214888050141,null,0,{"$f":"basics13!$P$17","v":"invalid"}]
[null,null,null,null,null,911000,null,null,2,3,4,5,6,null,null,null,null,null,null,null,null,null,null,null,null,911000.00000392389,278582.65751370491,null,null,null,null,null,null,911000,null,null,2,3,4,5,6,null,null,null,null,null,null,null,null,null,null,null,null,911000.00724873843,309670.30727828067,null,{"$f":"SUM(BE242:BE257/16)","v":0.4375},{"$f":"basics13!$P$19","v":0.5}]
[null,null,null,null,null,null,null,null,null,null,null,null,null,null,null,null,null,null,null,null,null,null,null,null,null,null,{"$f":"models1!K1278","v":165177.69999999998},null,null,null,null,null,null,null,null,null,null,null,null,null,null,null,null,null,null,null,null,null,null,null,null,null,null,null,{"$f":"models1!Z1278","v":243720.1}]
[]
["basics14","direct",null,null,null,null,null,null,null,null,null,null,null,null,null,null,null,null,null,null,null,null,null,null,null,null,null,null,"inverse",null,null,null,null,null,null,null,null,null,null,null,null,null,null,null,null,null,null,null,null,null,null,null,null,null,null,null,"valid","online"]
[11,16,3,5,8,39000,null,1,25537.08459974451,46924.408714356585,14772.279251460857,48.010302191824451,31811.246110227727,null,0,30093.732452576853,0,1.2285283901292132E-11,0,null,122.32883183779174,2.1278598471074289E-9,14772.27925146085,48.010302191812166,24089.469359941195,39032.087745433775,32.087745433775126,null,7,1,13,12,9,39000,null,1,12209.34930972266,21139.097696591281,7560.1519818349607,7766.5514247173442,6805.48799744396,null,3.343856951687485E-5,0,1.546140993013978E-11,1.3049208973825444E-5,0,null,12209.349262781827,21139.097696591281,7560.1519538335642,7766.5513195987878,6805.4879974439527,55480.638230249409,16480.638230249409,null,{"$f":"IF(INT(F262-Z262)*INT(F262-BB262)<=0,1,0)","v":0},{"$f":"basics14!$P$2","v":"valid"}]
[3,12,12,8,15,28000,null,2,25537.084599744499,16830.676261779732,14772.279251460846,48.010302191812166,31811.246110227708,null,0,0,0,0,0,null,25537.084599744478,925.88771005422325,1494.7502795059565,48.010302191812166,2.3681144932889497E-14,28005.732891496467,5.7328914964673459,null,14,5,4,8,2,28000,null,2,12209.349276284091,21139.0976965913,7560.1519818349452,7766.5514116681352,6805.4879974439627,null,0,0,-1.8189894035458565E-11,5.323859386408003E-5,-1.7280399333685637E-11,null,6905.7409052617377,21139.097696591278,7560.1519538335497,7766.5513195987878,6805.4879974439627,50177.029872729312,22177.029872729312,null,{"$f":"IF(INT(F263-Z263)*INT(F263-BB263)<=0,1,0)","v":0},{"$f":"basics14!$P$3","v":"valid"}]
[13,3,12,7,13,36000,null,3,25537.084599744478,16830.676261779743,14772.27925146085,48.010302191812173,31811.246110227708,null,0,5.6388671509921551E-10,13277.528971954882,0,0,null,122.32883183779174,16830.676261779743,1494.7502795059565,48.010302191812173,17504.214363004583,35999.980038319889,1.9961680111009628E-2,null,4,13,4,10,4,36000,null,3,12209.349276284102,21139.0976965913,7560.1519818349634,7766.5513584295413,6805.48799744398,null,1.3502316505764611E-5,0,2.8001413738820702E-5,0,2.3646862246096134E-11,null,12209.349262781785,21139.097595369345,7560.1519538335497,7766.5513195987887,6805.4879974439564,55480.638129027422,19480.638129027422,null,1,{"$f":"basics14!$P$4","v":"valid"}]
[4,13,15,15,11,51000,null,4,25537.084599744459,16830.676261779179,1494.7502795059688,48.010302191812173,31811.246110227694,null,0,0,0,0,0,null,25537.084599744459,925.88771005422291,403.44276627927599,48.010302191684644,24089.469359941195,51003.894738210838,3.8947382108381134,null,13,4,2,2,5,51000,null,4,12209.349262781785,21139.097696591285,7560.1519538335497,7766.5513584295422,6805.4879974439564,null,-2.0008883439004421E-11,0,-1.546140993013978E-11,1.6370904631912708E-11,1.6370904631912708E-11,null,6905.7409169516459,21139.097696591285,7560.1519818349452,7766.5514116681352,6805.48799744394,50177.030004489956,822.9699955100441,null,1,{"$f":"basics14!$P$5","v":"valid"}]
[16,1,7,1,11,74000,null,5,25537.084599744448,16830.676261779165,1494.7502795059679,48.010302191812166,31811.246110227672,null,0,0,0,0,7721.7767502864735,null,122.32883183806962,46924.408714356585,1494.750279505969,48.010302191824451,24089.469359941195,72678.967487833652,1321.0325121663482,null,1,15,11,16,5,74000,null,5,12209.349262781805,21139.097696591278,7560.1519538335651,7766.5513584295259,6805.48799744394,null,0,0,2.6375346351414919E-11,0,0,null,12209.34930972266,21139.097595369341,7560.1519538335651,1890.5381641182189,6805.48799744394,49604.625020487721,24395.374979512279,null,0,{"$f":"basics14!$P$6","v":"valid"}]
[1,10,3,16,1,89000,null,6,25537.084599744463,16830.676261779183,1494.7502795059688,48.010302191812173,24089.469359941198,null,25414.75576790667,0,0,0,0,null,25537.08459974451,16830.676261779168,14772.27925146085,48.010302191679756,31811.246110227727,88999.296525403945,0.70347459605545737,null,16,7,13,1,16,89000,null,6,12209.349262781812,21139.097696591281,7560.1519538335388,7766.5513584295268,6805.4879974439427,null,-1.4551915228366852E-11,0,-1.1823431123048067E-11,3.7652690480172168E-5,0,null,1890.5381612332753,21139.097696591285,7560.1519538335642,7766.5514247173442,1890.5381612699762,40246.877397645447,48753.122602354553,null,1,{"$f":"basics14!$P$7","v":"valid"}]
[8,1,2,3,2,73000,null,7,122.32883183779178,16830.676261779197,1494.750279505969,48.010302191812173,24089.469359941195,null,0,2.9103830456733704E-11,0,0,0,null,122.32883183779174,46924.408714356585,14772.279251460846,48.010302191812173,31811.246110227708,93678.273210074738,20678.273210074738,null,10,15,15,14,15,73000,null,7,12209.349262781827,21139.097696591285,7560.1519538335506,7766.5513207768363,6805.4879974439473,null,0,1.1961776181124151E-5,-1.6370904631912708E-11,1.1780484783230349E-6,0,null,12209.3492627818,21139.097595369341,7560.1519538335651,7766.5513195987842,6805.4879974439491,55480.638129027437,17519.361870972563,null,1,{"$f":"basics14!$P$8","v":"valid"}]
[6,9,6,2,7,68000,null,8,122.32883183779174,16830.676261779168,1494.7502795059688,48.010302191812166,24089.469359941195,null,0,0,0,4.5687897909374442E-12,0,null,25537.084599744463,16830.676261779183,1494.7502795059688,48.010302191812166,24089.469359941195,67999.990803162626,9.1968373744748533E-3,null,11,8,12,15,10,68000,null,8,12209.349262781827,21139.097684629509,7560.1519538335669,7766.5513195987878,6805.4879974439473,null,2.3646862246096134E-11,3.3619799069128931E-5,8.1854523159563541E-12,0,0,null,12209.349262781827,21139.097684629509,7560.1519538335506,7766.5513195987851,6805.4879974439555,55480.638218287626,12519.361781712374,null,1,{"$f":"basics14!$P$9","v":"valid"}]
[14,7,10,4,4,67000,null,9,122.32883183779172,16830.676261779183,1494.7502795059688,48.010302191807597,24089.469359941177,null,0,0,0,0,0,null,122.32883183796997,16830.676261779197,1494.7502795059688,48.010302191812173,31811.246110227694,50307.011785542643,16692.988214457357,null,3,10,8,13,13,67000,null,9,12209.349262781803,21139.09765100971,7560.1519538335588,7766.551319598786,6805.4879974439527,null,0,0,0,0,0,null,12209.349276284102,21139.09765100971,7560.1519538335669,7766.551319598786,6805.48799744395,55480.638198170127,11519.361801829873,null,0,{"$f":"basics14!$P$10","v":"valid"}]
[12,6,11,10,9,28000,null,10,122.32883183779172,16830.676261779168,1494.7502795059688,48.010302191807597,24089.469359941195,null,0,0,1.2278178473934531E-11,0,0,null,122.32883183779172,16830.676261779183,1494.7502795059565,48.010302191807597,24089.469359941177,42585.235035255915,14585.235035255915,null,5,11,7,7,8,28000,null,10,12209.3492627818,21139.09765100971,7560.1519538335642,7766.5513195987887,6805.4879974439555,null,-2.7284841053187847E-11,2.8182672394905239E-5,0,0,9.0949470177292824E-12,null,12209.349262781805,21139.097622827037,7560.1519538335506,7766.5513207768363,6805.4879974439473,55480.638157663176,27480.638157663176,null,0,{"$f":"basics14!$P$11","v":"valid"}]
[9,3,16,8,16,17000,null,11,122.32883183779174,16830.676261779165,1494.7502795059565,48.010302191807632,24089.469359941195,null,0,15904.788551724941,0,0,6585.2549969366082,null,122.32883183779172,16830.676261779743,3.4844104563891982E-9,48.010302191812166,2.3681144932889497E-14,17001.015395812832,1.0153958128321392,null,9,13,1,8,1,17000,null,11,12209.349262781827,21139.097622827037,7560.1519538335651,7766.5513195987842,6805.4879974439464,null,5303.608345830181,4.712204827228561E-6,1.4551915228366852E-11,0,0,null,12209.349262781803,21139.097595369345,7560.1519818349607,7766.5513195987878,6805.48799744396,55480.638157028858,38480.638157028858,null,0,{"$f":"basics14!$P$12","v":"valid"}]
[10,11,1,11,3,89000,null,12,122.32883183779172,925.88771005422325,1494.7502795059565,48.010302191807625,17504.214363004587,null,0,0,-4.0336090023629367E-10,-7.744915819785092E-13,0,null,122.32883183779172,16830.676261779165,14772.279251460857,48.010302191807632,31811.246110227708,63584.540757497336,25415.459242502664,null,8,6,16,6,14,89000,null,12,6905.7409169516459,21139.097618114833,7560.1519538335506,7766.5513195987878,6805.4879974439473,null,0,2.2745487513020635E-5,-1.3642420526593924E-11,0,0,null,12209.349262781827,21139.097696591281,1890.5382031278323,7766.5513584295268,6805.4879974439464,49811.024518374412,39188.975481625588,null,0,{"$f":"basics14!$P$13","v":"valid"}]
[6,5,8,6,5,60000,null,13,122.32883183779174,925.88771005422291,1494.7502795063599,48.0103021918084,17504.214363004583,null,-1.7823253983806353E-10,-8.0035533756017685E-11,0,1.2375522828733665E-10,4095.1994925085546,null,25537.084599744463,16830.676261779165,1494.7502795059688,48.010302191812173,31811.246110227672,75721.767553449085,15721.767553449085,null,11,12,10,11,11,60000,null,13,6905.7409169516459,21139.097595369345,7560.1519538335642,7766.551319598786,6805.48799744395,null,1.1689908205880783E-5,0,0,0,0,null,12209.349262781827,21139.097618114833,7560.1519538335642,7766.5513195987842,6805.4879974439464,55480.638151772953,4519.3618482270467,null,1,{"$f":"basics14!$P$14","v":"valid"}]
[15,15,9,13,14,16000,null,14,122.32883183796997,925.88771005430294,1494.7502795063601,48.010302191684644,13409.014870496028,null,-1.2869350030086935E-10,-1.3500311979441904E-9,1091.3075132270842,0,13409.014870496028,null,122.32883183809867,925.88771005565297,1494.7502795059688,48.0103021918084,13409.014870496028,15999.991994087557,8.0059124429681106E-3,null,2,2,9,4,3,16000,null,14,6905.7409052617377,21139.097595369345,7560.1519538335633,7766.5513195987842,6805.4879974439464,null,0,0,0,0,0,null,12209.349276284091,21139.0976965913,7560.1519538335588,7766.5513584295422,6805.48799744398,55480.638282582469,39480.638282582469,null,1,{"$f":"basics14!$P$15","v":"valid"}]
[2,14,14,12,10,82000,null,15,122.32883183809867,925.88771005565297,403.44276627927599,48.010302191684644,2.3681144932889497E-14,null,2.9046987037872896E-11,925.8877100535251,403.4427662757916,4.8885340220294893E-12,0,null,25537.084599744499,925.88771005430294,1494.7502795063601,48.010302191807625,24089.469359941195,52095.202251438168,29904.797748561832,null,15,3,3,5,7,82000,null,15,6905.7409052617377,21139.097595369341,7560.1519538335651,7766.5513195987851,6805.4879974439491,null,5015.2027440284619,21138.097595369341,5669.6137507057329,5876.0131554805666,4914.9498361739734,null,6905.7409052617377,21139.0976965913,7560.1519818349634,7766.5513584295259,6805.4879974439473,50177.029939561471,31822.970060438529,null,0,{"$f":"basics14!$P$16","v":"valid"}]
[12,8,12,14,5,28000,null,16,122.32883183806962,2.1278598471074289E-9,3.4844104563891982E-9,48.010302191679756,2.3681144932889497E-14,null,null,null,null,null,null,null,122.32883183779172,16830.676261779168,1494.7502795059565,48.010302191684644,31811.246110227672,50307.011785542272,22307.011785542272,null,5,9,4,3,11,28000,null,16,1890.5381612332753,1,1890.5382031278323,1890.5381641182189,1890.5381612699762,null,null,null,null,null,null,null,12209.349262781805,21139.09765100971,7560.1519538335497,7766.5513584295413,6805.4879974439464,55480.63822349855,27480.63822349855,null,0,{"$f":"basics14!$P$17","v":"valid"}]
[null,null,null,null,null,845000,null,null,2,3,4,5,6,null,null,null,null,null,null,null,null,null,null,null,null,844999.99999856157,146670.03671199011,null,null,null,null,null,null,845000,null,null,2,3,4,5,6,null,null,null,null,null,null,null,null,null,null,null,null,844999.99863059644,382121.71947496192,null,{"$f":"SUM(BE262:BE277/16)","v":0.4375},{"$f":"basics14!$P$19","v":1}]
[null,null,null,null,null,null,null,null,null,null,null,null,null,null,null,null,null,null,null,null,null,null,null,null,null,null,{"$f":"models1!K1378","v":6000},null,null,null,null,null,null,null,null,null,null,null,null,null,null,null,null,null,null,null,null,null,null,null,null,null,null,null,{"$f":"models1!Z1378","v":338553.3}]
[]
["basics15","direct",null,null,null,null,null,null,null,null,null,null,null,null,null,null,null,null,null,null,null,null,null,null,null,null,null,null,"inverse",null,null,null,null,null,null,null,null,null,null,null,null,null,null,null,null,null,null,null,null,null,null,null,null,null,null,null,"valid","online"]
[15,7,1,12,12,16000,null,1,20135.308673079191,19567.519347929137,14911.265366030773,825.89115271817661,14272.432052101338,null,1.8953869584947824E-9,1.8844730220735073E-9,0,0,1.875378075055778E-9,null,1.8424826262191009E-9,8548.5011488567088,14911.265366030773,825.89115270966283,3721.2489942421125,28006.906661841102,12006.906661841102,null,2,10,16,3,4,16000,null,1,13133.960949763576,10295.675031850264,26009.36781911433,13587.690587489342,10283.838254088449,null,1.6370904631912708E-11,0,3.2741809263825417E-11,0,-1.4551915228366852E-11,null,13133.960949763559,10295.675031850276,0,13587.690587489305,10283.838254088461,47301.164823191604,31301.164823191604,null,{"$f":"IF(INT(F282-Z282)*INT(F282-BB282)<=0,1,0)","v":0},{"$f":"basics15!$P$2","v":"invalid"}]
[4,10,16,12,5,28000,null,2,20135.308673077296,19567.519347927253,14911.265366030777,825.89115271817661,14272.432052099462,null,3.7543941289186478E-9,3.7507561501115561E-9,0,0,3.7580321077257395E-9,null,20135.308673071959,8548.5011488567088,0,825.89115270966283,14272.432052094462,43782.133026732794,15782.133026732794,null,13,7,1,3,10,28000,null,2,13133.960949763559,10295.675031850271,26009.367819114297,13587.690587489336,10283.838254088463,null,2.3646862246096134E-11,0,-3.637978807091713E-11,3.092281986027956E-11,1.6370904631912708E-11,null,231.63383202174009,10295.675031850256,26009.36781911433,13587.690587489305,10283.838254088465,60408.205524564095,32408.205524564095,null,{"$f":"IF(INT(F283-Z283)*INT(F283-BB283)<=0,1,0)","v":0},{"$f":"basics15!$P$3","v":"invalid"}]
[13,14,9,9,13,90000,null,3,20135.308673073541,19567.519347923502,14911.265366030777,825.89115271817661,14272.432052095704,null,1.5825207810848951E-9,1.57160684466362E-9,0,1.0231815394945443E-12,0,null,20135.30867306978,8548.5011487732208,14911.265366030786,825.89115271817684,3721.2489942421116,48142.215334834073,41857.784665165927,null,4,3,7,8,3,90000,null,3,13133.960949763536,10295.675031850276,26009.367819114334,13587.690587489305,10283.838254088447,null,-4.5474735088646412E-11,2.7284841053187847E-11,3.2741809263825417E-11,5815.4624748030019,-1.4551915228366852E-11,null,13133.960949763581,10295.675031850276,26009.367819114304,7772.2281126863036,10283.838254088447,67495.070167502912,22504.929832497088,null,0,{"$f":"basics15!$P$4","v":"invalid"}]
[10,12,14,8,7,66000,null,4,20135.308673071959,19567.519347921931,14911.265366030775,825.89115271817559,14272.43205209571,null,0,1.2369127944111824E-9,0,-1.0231815394945443E-12,1.2478267308324575E-9,null,20135.308673071959,8548.5011488566961,11396.536133849126,825.89115271817661,14272.432052094458,55178.66916059042,10821.33083940958,null,7,5,2,9,9,66000,null,4,13133.960949763581,10295.675031850249,26009.367819114301,7772.2281126863036,10283.838254088461,null,1.6370904631912708E-11,0,0,7.2759576141834259E-12,0,null,13133.960949763534,10295.67503185026,26009.367819114297,7772.228112686299,10283.838254088449,67495.070167502839,1495.0701675028395,null,1,{"$f":"basics15!$P$5","v":"valid"}]
[1,6,7,7,8,77000,null,5,20135.308673071966,19567.519347920694,14911.265366030786,825.89115271817661,14272.432052094462,null,0,1.2259988579899073E-9,0,0,0,null,20135.308673079191,19567.519347919468,14911.265366030782,825.89115271817661,14272.432052094462,69712.416591842077,7287.5834081579233,null,16,11,9,10,8,77000,null,5,13133.960949763565,10295.67503185026,26009.367819114319,7772.2281126862963,10283.838254088463,null,3.2741809263825417E-11,0,4.0017766878008842E-11,0,3.092281986027956E-11,null,231.63383202174012,10295.67503185026,26009.36781911433,7772.2281126862972,10283.838254088465,54592.743049761091,22407.256950238909,null,0,{"$f":"basics15!$P$6","v":"valid"}]
[5,8,13,12,3,51000,null,6,20135.30867307197,19567.519347919468,14911.265366030781,825.89115271817684,14272.432052094457,null,0,11019.018199062759,0,0,0,null,20135.308673071966,8548.5011488567197,11396.536133849122,825.89115270966283,14272.432052095704,55178.669160583173,4178.6691605831729,null,12,9,4,3,13,51000,null,6,13133.960949763532,10295.675031850247,26009.367819114279,7772.2281126863018,10283.838254088432,null,0,0,0,0,0,null,231.63383202174006,10295.675031850264,26009.367819114301,13587.690587489305,875.53417999372232,50999.901450469333,9.8549530666787177E-2,null,1,{"$f":"basics15!$P$7","v":"invalid"}]
[11,11,10,6,1,60000,null,7,20135.30867307197,8548.5011488567088,14911.265366030782,825.89115271817661,14272.432052094458,null,0,0,0,0,0,null,20135.308673076386,8548.5011488566961,14911.265366026659,825.89115271817684,14272.432052101338,58693.398392779251,1306.6016072207494,null,6,6,6,11,16,60000,null,7,13133.960949763534,10295.675031850256,26009.367819114304,7772.2281126863027,10283.838254088438,null,-1.8189894035458565E-11,0,0,0,-2.7284841053187847E-11,null,13133.960949763532,10295.675031850247,26009.367819114279,7772.2281126862999,286.72245771511069,57497.954371129468,2502.0456288705318,null,0,{"$f":"basics15!$P$8","v":"invalid"}]
[6,16,4,1,16,33000,null,8,20135.308673071962,8548.5011488567197,14911.265366030777,825.89115271817661,14272.432052094462,null,0,0,0,0,2577.1085698240913,null,20135.30867307197,4.0442661334361625E-12,14911.265366030775,825.89115271817661,0,35872.465191820927,2872.4651918209274,null,11,1,12,16,1,33000,null,8,13133.960949763552,10295.675031850264,26009.367819114326,7772.2281126863036,10283.838254088465,null,0,0,0,0,1.6370904631912708E-11,null,231.63383202174029,10295.675031850264,26009.367819114337,0,10283.838254088449,46820.514937074789,13820.514937074789,null,0,{"$f":"basics15!$P$9","v":"invalid"}]
[7,1,11,15,11,69000,null,9,20135.308673071962,8548.5011488567179,14911.265366030786,825.89115271817684,11695.323482270371,null,0,0,4.1272869566455483E-9,9.5997165772132576E-10,1.8826540326699615E-9,null,20135.30867307197,19567.519347929137,14911.26536601983,825.89115270966113,11695.323482268494,67135.308021999095,1864.6919780009048,null,10,16,5,2,5,69000,null,9,13133.960949763556,10295.675031850264,26009.36781911433,7772.228112686299,10283.838254088449,null,0,0,0,0,-1.6370904631912708E-11,null,13133.960949763561,286.72233789299349,26009.367819114319,13587.690587489336,10283.838254088463,63301.57994834867,5698.4200516513301,null,0,{"$f":"basics15!$P$10","v":"valid"}]
[3,15,3,2,10,48000,null,10,20135.308673071959,8548.5011488567088,14911.265366026659,825.89115271721687,11695.323482268488,null,-4.4274202082306147E-9,0,6.8284862209111452E-9,2.8377371563692577E-9,0,null,20135.308673073541,432.19990714006542,14911.265366030777,825.89115271817661,11695.323482268488,47999.988581231053,1.1418768946896307E-2,null,14,2,14,15,6,48000,null,10,13133.960949763561,10295.675031850276,26009.367819114334,7772.2281126862972,10283.838254088465,null,12902.327117741821,1.6370904631912708E-11,0,0,9408.3040740947436,null,231.63383202174046,10295.675031850271,2574.5008679997309,1336.2996890238967,10283.838254088432,24721.947674984069,23278.052325015931,null,1,{"$f":"basics15!$P$11","v":"invalid"}]
[2,2,6,4,2,75000,null,11,20135.308673076386,8548.5011488566961,14911.26536601983,825.89115271437913,11695.323482268494,null,6.4537744037806988E-9,0,3514.7292321707064,4.716298462881241E-9,7974.074488026381,null,20135.308673077296,19567.519347927253,14911.265366030781,825.89115271817559,14272.432052099462,69712.416591852976,5287.5834081470239,null,15,15,10,13,15,75000,null,11,231.63383202174029,10295.67503185026,26009.36781911433,7772.2281126862999,875.53417999372118,null,2.2737367544323206E-13,0,0,6435.9284236624007,0,null,231.63383202174015,307.85165590193378,26009.367819114334,1336.2996890238974,875.53417999372243,28760.687176055628,46239.312823944376,null,0,{"$f":"basics15!$P$12","v":"valid"}]
[16,9,14,10,15,21000,null,12,20135.308673069932,8548.5011488566961,11396.536133849124,825.89115270966283,3721.2489942421125,null,1.5279510989785194E-10,0,0,1.7053025658242404E-12,0,null,1.8424826262191009E-9,8548.5011488567179,11396.536133849126,825.89115271721687,229.01502632287799,20999.943461747782,5.6538252218160778E-2,null,1,8,2,7,2,21000,null,12,231.63383202174006,10295.675031850264,26009.367819114337,1336.2996890238992,875.53417999372164,null,0,9987.8233759483301,23434.866951114607,1.8189894035458565E-12,0,null,13133.960949763576,10295.675031850264,26009.367819114297,7772.2281126863027,10283.838254088463,67495.070167502912,46495.070167502912,null,1,{"$f":"basics15!$P$13","v":"valid"}]
[12,13,8,16,4,92000,null,13,20135.30867306978,8548.5011488566979,11396.536133849122,825.89115270966113,3721.2489942421116,null,20135.308673067622,8.3477061707526445E-8,0,0,3492.2339679192337,null,20135.308673069932,8548.5011488566979,14911.265366030777,293.13003016406122,14272.43205209571,58160.637270217179,33839.362729782821,null,5,4,8,1,12,92000,null,13,231.63383202174009,307.85165590193373,2574.5008679997309,1336.2996890238974,875.53417999372232,null,-3.694822225952521E-13,0,0,0,0,null,13133.960949763565,10295.675031850249,26009.367819114326,13587.690587489342,875.53417999372164,63902.228568211205,28097.771431788795,null,0,{"$f":"basics15!$P$14","v":"valid"}]
[14,4,4,11,9,47000,null,14,2.1580557323913048E-9,8548.5011487732208,11396.536133849126,825.8911527096609,229.01502632287804,null,3.1557310617220391E-10,8116.3012416331558,11396.536133849126,0,0,null,2.1580557323913048E-9,19567.519347921931,14911.265366030775,825.89115271437913,11695.323482270371,46999.999348939615,6.5106038528028876E-4,null,3,12,12,6,7,47000,null,14,231.63383202174046,307.85165590193384,2574.5008679997309,1336.2996890238969,875.53417999372255,null,3.1263880373444408E-13,0,2574.5008679997309,0,0,null,13133.960949763536,10295.675031850264,26009.367819114337,7772.2281126863018,10283.838254088438,67495.070167502883,20495.070167502883,null,1,{"$f":"basics15!$P$15","v":"invalid"}]
[9,4,2,3,5,41000,null,15,1.8424826262191009E-9,432.19990714006542,0,825.89115270966113,229.01502632287799,null,0,432.19990714006138,0,532.76112254559985,229.01502632287799,null,20135.308673071962,19567.519347921931,14911.265366030777,825.89115271817661,14272.432052094462,69712.416591837318,28712.416591837318,null,8,12,15,14,10,41000,null,15,231.63383202174015,307.85165590193378,0,1336.2996890238967,875.53417999372243,null,0,21.129318008940288,0,1336.2996890238967,588.8117222786118,null,13133.960949763552,10295.675031850264,0,1336.2996890238969,10283.838254088465,35049.773924726178,5950.2260752738221,null,1,{"$f":"basics15!$P$16","v":"valid"}]
[9,3,5,5,3,31000,null,16,1.8424826262191009E-9,4.0442661334361625E-12,0,293.13003016406122,0,null,null,null,null,null,null,null,20135.308673071962,19567.519347923502,14911.265366030786,825.89115271817661,14272.432052095704,69712.416591840127,38712.416591840127,null,8,14,11,12,13,31000,null,16,231.63383202174012,286.72233789299349,0,0,286.72245771511069,null,null,null,null,null,null,null,13133.960949763552,307.85165590193384,26009.36781911433,1336.2996890238992,875.53417999372232,41663.014293797438,10663.014293797438,null,0,{"$f":"basics15!$P$17","v":"invalid"}]
[null,null,null,null,null,845000,null,null,2,3,4,5,6,null,null,null,null,null,null,null,null,null,null,null,null,844999.99998068891,204530.0144686219,null,null,null,null,null,null,845000,null,null,2,3,4,5,6,null,null,null,null,null,null,null,null,null,null,null,null,844999.99641232518,313356.22374994797,null,{"$f":"SUM(BE282:BE297/16)","v":0.375},{"$f":"basics15!$P$19","v":0.4375}]
[null,null,null,null,null,null,null,null,null,null,null,null,null,null,null,null,null,null,null,null,null,null,null,null,null,null,{"$f":"models1!K1478","v":215099.49999999994},null,null,null,null,null,null,null,null,null,null,null,null,null,null,null,null,null,null,null,null,null,null,null,null,null,null,null,{"$f":"models1!Z1478","v":177896.5}]
[]
["basics16","direct",null,null,null,null,null,null,null,null,null,null,null,null,null,null,null,null,null,null,null,null,null,null,null,null,null,null,"inverse",null,null,null,null,null,null,null,null,null,null,null,null,null,null,null,null,null,null,null,null,null,null,null,null,null,null,null,"valid","online"]
[14,15,16,5,16,55000,null,1,30507.387929798559,15021.207748676807,18606.502170558975,17439.108401798345,17455.573686725886,null,0,0,0,0,0,null,559.25418649079052,358.98270663906618,69.991219088643803,17439.108481369643,69.9912193564749,18497.327812944619,36502.672187055381,null,3,2,1,12,1,55000,null,1,27534.690600616355,14673.298153470198,13583.104179750111,22777.520980226913,9154.6140801769743,null,-3.2741809263825417E-11,0,0,6.0883030528202653E-7,0,null,27534.690600616384,14673.298153470203,13583.104179750111,1859.9852828093831,9154.6140801769743,66805.692296823065,11805.692296823065,null,{"$f":"IF(INT(F302-Z302)*INT(F302-BB302)<=0,1,0)","v":1},{"$f":"basics16!$P$2","v":"valid"}]
[9,9,7,2,6,64000,null,2,30507.387929798573,15021.207748676799,18606.502170559001,17439.108401798319,17455.573686725882,null,0,0,0,-7.9571345850126818E-5,-1.0121262312168255E-4,null,7207.0992912062638,9361.3363003907543,18606.502170559001,17439.108401798319,11385.952195044252,63999.998358998586,1.6410014141001739E-3,null,8,8,9,14,10,64000,null,2,27534.690600616388,14673.298153470203,13583.104179750098,22777.520979618082,9154.614080176987,null,0,0,-2.9103830456733704E-11,1.7282000044360757E-6,0,null,27534.690600616381,14673.298152643916,7309.0849750955458,1859.9852828093822,8780.795844955368,60157.85485612059,3842.1451438794102,null,{"$f":"IF(INT(F303-Z303)*INT(F303-BB303)<=0,1,0)","v":1},{"$f":"basics16!$P$3","v":"invalid"}]
[5,2,14,1,8,52000,null,3,30507.387929798573,15021.207748676799,18606.502170558993,17439.108481369665,17455.573787938505,null,0,0,0,3.2741809263825417E-11,0,null,30507.38792979858,15021.207748676799,98.457377218750722,17439.108401798345,309.04419933675018,63375.205656829225,11375.205656829225,null,10,15,3,16,8,52000,null,3,27534.690600616384,14673.298153470208,13583.104179750128,22777.520977889882,9154.614080176978,null,0,1.6370904631912708E-11,3.2981188269332051E-7,0,373.81823522162631,null,27534.690600616352,293.40169072878717,13583.104179750128,73.850634812692604,8780.7958449553698,50265.842950863327,1734.1570491366729,null,1,{"$f":"basics16!$P$4","v":"valid"}]
[5,1,7,2,9,37000,null,4,30507.387929798584,15021.207748676807,18606.502170558993,17439.108481369632,17455.573787938523,null,0,0,0,0,6069.6215928942747,null,30507.38792979858,15021.207748676807,18606.502170559001,17439.108401798319,309.04419933674995,81883.250450169464,44883.250450169464,null,10,16,9,14,7,37000,null,4,27534.690600616384,14673.298153470192,13583.104179420316,22777.520977889879,8780.7958449553516,null,0,0,1.1178108252352104E-6,17462.269369292062,-1.8189894035458565E-11,null,27534.690600616352,0,7309.0849750955458,1859.9852828093822,8780.7958449553607,45484.556703476643,8484.5567034766427,null,0,{"$f":"basics16!$P$5","v":"valid"}]
[10,5,6,7,2,53000,null,5,30507.38792979858,15021.207748676798,18606.502170559001,17439.108481369643,11385.952195044249,null,5.2176619647070765E-7,0,0,0,0,null,7207.0992889632871,15021.207748676798,18606.502170559008,17439.108481369636,17455.573686725882,75729.491376294609,22729.491376294609,null,7,12,11,10,13,53000,null,5,27534.690600616381,14673.298153470201,13583.104178302505,5315.2516085978159,8780.7958449553698,null,0,6.5680433181114495E-7,2.4567325453972444E-6,0,0,null,27534.690600616381,3465.3382459283648,4988.8873591417532,5315.2516076117454,8780.795844103588,50084.96365740183,2915.0363425981704,null,1,{"$f":"basics16!$P$6","v":"invalid"}]
[13,11,11,10,5,13000,null,6,30507.387929276814,15021.207748676803,18606.502170559008,17439.108481369625,11385.952195044252,null,0,5659.8714482860432,0,0,0,null,559.25418649079074,701.48922629509434,3096.8197370520206,17439.108481369618,11385.952195044249,33182.623826251773,20182.623826251773,null,4,6,6,7,11,13000,null,6,27534.690600616374,14673.298152813397,13583.104175845772,5315.2516085978186,8780.795844955368,null,0,0,6.9469388108700514E-7,9.860741556622088E-7,0,null,27534.690600616384,14673.298152813397,13583.104175845772,5315.2516076117445,8780.7958444648575,69887.140381352161,56887.140381352161,null,0,{"$f":"basics16!$P$7","v":"invalid"}]
[1,12,1,16,10,50000,null,7,30507.38792927684,9361.3363003907598,18606.502170559001,17439.108481369636,11385.95219504425,null,0,0,15509.682434334558,0,11076.907995707501,null,30507.387929798559,701.48922629509445,18606.502170558975,37.492624469890458,309.0441993367499,50161.91615045927,161.91615045927028,null,16,5,16,1,6,50000,null,7,27534.690600616381,14673.298152813402,13583.104175151078,5315.2516076117445,8780.7958449553607,null,0,1.6948615666478872E-7,6274.0192000555389,0,0,null,121.33651289051282,14673.298153470201,67.8991412851842,22777.520980226913,8780.795844955368,46420.85063282818,3579.1493671718199,null,1,{"$f":"basics16!$P$8","v":"invalid"}]
[2,13,15,12,2,62000,null,8,30507.387929276822,9361.3363003907489,3096.8197362244423,17439.108481369611,309.04419933675018,null,23300.288638070557,0,-4.0927261579781771E-12,0,0,null,30507.387929798573,701.48922626745116,98.457377218750693,17439.108481369607,17455.573686725882,66202.016701380257,4202.0167013802566,null,14,4,2,4,13,62000,null,8,27534.690600616381,14673.298152643916,7309.0849750955394,5315.2516076117508,8780.7958449553698,null,0,1.5294772310880944E-6,0,0,0,null,2156.7769009357758,14673.298153470192,13583.104179750098,22777.520977889879,8780.795844103588,61971.496056149532,28.503943850468204,null,1,{"$f":"basics16!$P$9","v":"valid"}]
[4,6,5,8,7,93000,null,9,7207.0992912062638,9361.3363003907543,3096.8197362244464,17439.108481369629,309.04419933674995,null,2.2429767341236584E-6,0,-8.2757651398424059E-7,0,0,null,30507.387929798584,15021.207748676803,18606.502170559001,17439.108481369611,11385.95219504425,92960.158525448234,39.841474551765714,null,13,10,12,9,9,93000,null,9,27534.690600616355,14673.298151114439,7309.0849750955458,5315.2516076117499,8780.7958449553753,null,0,0,2320.1976159537908,0,0,null,2156.776901455501,14673.298151114435,3465.3382574829338,5315.2516076117499,8780.7958449553753,34391.460762619994,58608.539237380006,null,0,{"$f":"basics16!$P$10","v":"invalid"}]
[16,8,3,14,11,10000,null,10,7207.0992889632871,9361.3363003907543,3096.8197370520229,17439.108481369618,309.0441993367499,null,0,8659.84707409566,0,0,-1.853470052992634E-7,null,15.966564278477767,9361.3363003907489,18606.502170558993,244.18045436761827,309.0441995220969,28537.029689117939,18537.029689117939,null,1,9,14,3,5,10000,null,10,27534.690600616352,14673.298151114435,4988.887359141755,5315.2516076117454,8780.795844955368,null,25377.91369916085,11207.959905186068,0,2.9377133614616469E-7,4.905105015495792E-7,null,27534.690600616355,14673.298151114439,67.8991412851842,22777.520977889882,8780.7958449553698,73834.204715861226,63834.204715861226,null,0,{"$f":"basics16!$P$11","v":"valid"}]
[15,16,9,9,12,14000,null,11,7207.0992889632862,701.48922629509434,3096.8197370520206,17439.108481369596,309.0441995220969,null,3.5788070817943662E-7,0,0,0,1.52700749822543E-8,null,58.344142601958275,15.966585409411188,3096.8197362244464,17439.108481369629,309.04419950682683,20919.283145112273,6919.2831451122729,null,2,1,7,8,4,14000,null,11,2156.7769014555006,3465.3382459283666,4988.8873591417532,5315.251607317974,8780.7958444648575,null,0,0,1523.5491016588194,3455.266324508591,0,null,27534.690600616388,14673.298153470198,13583.104175151078,5315.2516076117508,8780.7958449553516,69887.140381804769,55887.140381804769,null,0,{"$f":"basics16!$P$12","v":"valid"}]
[2,4,4,4,2,99000,null,12,7207.0992886054055,701.48922629509445,3096.8197370520215,17439.108481369607,309.04419950682683,null,6647.8451021146147,2.7643295652524102E-8,-2.4409928300883621E-7,17194.928027001988,0,null,30507.387929798573,15021.207748676807,18606.502170558993,17439.108481369632,17455.573686725882,99029.780017129888,29.78001712988771,null,14,13,13,13,13,99000,null,12,2156.7769014555033,3465.3382459283648,3465.3382574829338,1859.9852828093831,8780.7958444648448,null,0,1246.7217268942463,1246.7217384488154,0,3.6125675251241773E-7,null,2156.7769009357758,2218.6165190341185,2218.6165190341185,1859.9852828093822,8780.795844103588,17234.791065916983,81765.208934083013,null,1,{"$f":"basics16!$P$13","v":"invalid"}]
[8,6,9,12,1,83000,null,13,559.25418649079074,701.48922626745116,3096.8197372961208,244.18045436761841,309.04419950682677,null,0,1.436845877833548E-7,2998.3623600773699,0,0,null,30507.387929276822,15021.207748676803,3096.8197362244464,17439.108481369607,17455.573686725886,83520.097582273549,520.09758227354905,null,9,10,7,4,16,83000,null,13,2156.776901455501,2218.6165190341185,2218.6165190341185,1859.9852828093822,8780.795844103588,null,5.197252903599292E-7,969.89492585995049,2150.7173777489343,0,8706.9452752013312,null,27534.690600616355,14673.298151114435,13583.104175151078,22777.520977889879,73.8505689022561,78642.464473674001,4357.5355263259989,null,1,{"$f":"basics16!$P$14","v":"invalid"}]
[11,10,2,15,14,75000,null,14,559.25418649079052,701.48922612376657,98.457377218750722,244.18045436761827,309.04419950682654,null,500.91004388883226,342.50651948470039,0,0,1.3829065892423387E-7,null,7207.0992889632862,9361.3363003907543,18606.502170559001,244.18045436761827,309.04419950682654,35728.162413787482,39271.837586212518,null,6,7,15,2,3,75000,null,14,2156.7769009357758,1248.721593174168,67.8991412851842,1859.9852828093822,73.850568902256086,null,2035.440388045263,955.31990244538088,0,1786.1346479966896,0,null,27534.690600616374,14673.298152813402,67.899141285184214,22777.520979618082,9154.614080176978,74208.022954510016,791.97704548998445,null,0,{"$f":"basics16!$P$15","v":"invalid"}]
[12,3,12,6,15,96000,null,15,58.344142601958275,358.98270663906618,98.457377218750693,244.18045436761827,309.04419936853589,null,42.377578323480506,343.01612122965497,28.466158130106891,206.6878298977278,239.05298001206097,null,7207.0992886054055,15021.207748676799,3096.8197370520215,17439.108481369625,309.04419936853589,43073.279455072392,52926.720544927608,null,5,14,5,11,2,96000,null,15,121.33651289051282,293.40169072878717,67.899141285184214,73.850634812692604,73.8505689022561,null,0,293.40169072878717,0,0,0,null,27534.690600616381,1248.721593174168,13583.104178302505,5315.251607317974,9154.614080176987,56836.38205958801,39163.61794041199,null,0,{"$f":"basics16!$P$16","v":"invalid"}]
[5,14,13,11,4,70000,null,16,15.966564278477767,15.966585409411188,69.991219088643803,37.492624469890458,69.9912193564749,null,null,null,null,null,null,null,30507.38792979858,701.48922612376657,3096.8197372961208,17439.108481369596,17455.573787938523,69200.379162526588,799.62083747341239,null,10,3,4,6,12,70000,null,16,121.33651289051282,0,67.8991412851842,73.850634812692604,73.8505689022561,null,null,null,null,null,null,null,27534.690600616352,14673.298153470208,13583.104179420316,5315.2516085978186,8780.7958444648448,69887.140386569547,112.85961343045346,null,0,{"$f":"basics16!$P$17","v":"valid"}]
[null,null,null,null,null,926000,null,null,2,3,4,5,6,null,null,null,null,null,null,null,null,null,null,null,null,926000.00032379583,259081.38886624033,null,null,null,null,null,null,926000,null,null,2,3,4,5,6,null,null,null,null,null,null,null,null,null,null,null,null,926000.0043355599,393797.46462307579,null,{"$f":"SUM(BE302:BE317/16)","v":0.5},{"$f":"basics16!$P$19","v":0.4375}]
[null,null,null,null,null,null,null,null,null,null,null,null,null,null,null,null,null,null,null,null,null,null,null,null,null,null,{"$f":"models1!K1578","v":205002.8},null,null,null,null,null,null,null,null,null,null,null,null,null,null,null,null,null,null,null,null,null,null,null,null,null,null,null,{"$f":"models1!Z1578","v":333538.3}]
[]
[null,null,null,null,null,null,null,null,null,null,null,null,null,null,null,null,null,null,null,null,null,"offline","offline","online","online","offline","online",null,null,null,null,null,null,null,null,null,null,null,null,null,null,null,null,null,null,null,null,null,null,null,null,null,null,null,null,"online better",21,32,"abs"]
[null,null,null,null,null,null,null,null,null,null,null,null,null,null,null,null,null,null,null,null,"basics","direct","inverse","direct","inverse","%","%",null,null,null,null,null,null,null,null,null,null,null,null,null,null,null,null,null,null,null,null,null,null,null,null,null,null,null,null,"online better",5,16,"%"]
[null,null,null,null,null,null,null,null,null,null,null,null,null,null,null,null,null,null,null,null,1,{"$f":"$AA$18","v":830157.15091549896},{"$f":"$BC$18","v":286367.15097542701},{"$f":"$AA$19","v":96230.900000000009},{"$f":"$BC$19","v":288026.70000000007},{"$f":"$BE$18","v":0.6875},{"$f":"$BF$18","v":0.3125},null,null,null,null,null,null,null,null,null,null,null,null,null,null,null,null,null,null,null,null,null,null,null,null,null,null,null,null,"alone",5,21]
[null,null,null,null,null,null,null,null,null,null,null,null,null,null,null,null,null,null,null,null,2,{"$f":"$AA$38","v":192456.14104129266},{"$f":"$BC$38","v":334515.86883816571},{"$f":"$AA$39","v":203074.00000000003},{"$f":"$BC$39","v":396717.2},{"$f":"$BE$38","v":0.3125},{"$f":"$BF$38","v":0.375},null,null,null,null,null,null,null,null,null,null,null,null,null,null,null,null,null,null,null,null,null,null,null,null,null,null,null,null,"alone/better",1,3,"%"]
[null,null,null,null,null,null,null,null,null,null,null,null,null,null,null,null,null,null,null,null,3,{"$f":"$AA$58","v":195119.89000032458},{"$f":"$BC$58","v":427893.73505031428},{"$f":"$AA$59","v":192753.7},{"$f":"$BC$59","v":365112.7},{"$f":"$BE$58","v":0.5},{"$f":"$BF$58","v":0.1875},null,null,null,null,null,null,null,null,null,null,null,null,null,null,null,null,null,null,null,null,null,null,null,null,null,null,null,null,"offline better",1,0,"%"]
[null,null,null,null,null,null,null,null,null,null,null,null,null,null,null,null,null,null,null,null,4,{"$f":"$AA$78","v":239498.59130938185},{"$f":"$BC$78","v":453240.18419539218},{"$f":"$AA$79","v":147852.60000000003},{"$f":"$BC$79","v":380347.39999999997},{"$f":"$BE$78","v":0.3125},{"$f":"$BF$78","v":0.375}]
[null,null,null,null,null,null,null,null,null,null,null,null,null,null,null,null,null,null,null,null,5,{"$f":"$AA$98","v":152522.81969968282},{"$f":"$BC$98","v":440612.18483673234},{"$f":"$AA$99","v":208986.19999999998},{"$f":"$BC$99","v":385789.10000000003},{"$f":"$BE$98","v":0.4375},{"$f":"$BF$98","v":0.375}]
[null,null,null,null,null,null,null,null,null,null,null,null,null,null,null,null,null,null,null,null,6,{"$f":"$AA$118","v":137094.00726389361},{"$f":"$BC$118","v":334363.9522169386},{"$f":"$AA$119","v":27582.2},{"$f":"$BC$119","v":316583.40000000002},{"$f":"$BE$118","v":0.4375},{"$f":"$BF$118","v":0.375}]
[null,null,null,null,null,null,null,null,null,null,null,null,null,null,null,null,null,null,null,null,7,{"$f":"$AA$138","v":85065.70839108841},{"$f":"$BC$138","v":325065.22423164314},{"$f":"$AA$139","v":87082.5},{"$f":"$BC$139","v":315196.00000000006},{"$f":"$BE$138","v":0.5},{"$f":"$BF$138","v":0.375}]
[null,null,null,null,null,null,null,null,null,null,null,null,null,null,null,null,null,null,null,null,8,{"$f":"$AA$158","v":108521.48028556482},{"$f":"$BC$158","v":434126.27193512832},{"$f":"$AA$159","v":78787.899999999994},{"$f":"$BC$159","v":287629.60000000003},{"$f":"$BE$158","v":0.4375},{"$f":"$BF$158","v":0.4375}]
[null,null,null,null,null,null,null,null,null,null,null,null,null,null,null,null,null,null,null,null,9,{"$f":"$AA$178","v":220073.51515838093},{"$f":"$BC$178","v":269634.95898024691},{"$f":"$AA$179","v":77236.899999999994},{"$f":"$BC$179","v":291615.90000000002},{"$f":"$BE$178","v":0.5},{"$f":"$BF$178","v":0.4375}]
[null,null,null,null,null,null,null,null,null,null,null,null,null,null,null,null,null,null,null,null,10,{"$f":"$AA$198","v":119350.567759868},{"$f":"$BC$198","v":316451.48644339829},{"$f":"$AA$199","v":157501.69999999998},{"$f":"$BC$199","v":343689.5},{"$f":"$BE$198","v":0.5625},{"$f":"$BF$198","v":0.375}]
[null,null,null,null,null,null,null,null,null,null,null,null,null,null,null,null,null,null,null,null,11,{"$f":"$AA$218","v":229603.67361096304},{"$f":"$BC$218","v":439949.75112594035},{"$f":"$AA$219","v":136919.79999999999},{"$f":"$BC$219","v":364078.30000000005},{"$f":"$BE$218","v":0.25},{"$f":"$BF$218","v":0.25}]
[null,null,null,null,null,null,null,null,null,null,null,null,null,null,null,null,null,null,null,null,12,{"$f":"$AA$238","v":172369.60041724486},{"$f":"$BC$238","v":288876.46702822845},{"$f":"$AA$239","v":131985.69999999998},{"$f":"$BC$239","v":316572.09999999998},{"$f":"$BE$238","v":0.5},{"$f":"$BF$238","v":0.375}]
[null,null,null,null,null,null,null,null,null,null,null,null,null,null,null,null,null,null,null,null,13,{"$f":"$AA$258","v":278582.65751370491},{"$f":"$BC$258","v":309670.30727828067},{"$f":"$AA$259","v":165177.69999999998},{"$f":"$BC$259","v":243720.1},{"$f":"$BE$258","v":0.4375},{"$f":"$BF$258","v":0.5}]
[null,null,null,null,null,null,null,null,null,null,null,null,null,null,null,null,null,null,null,null,14,{"$f":"$AA$278","v":146670.03671199011},{"$f":"$BC$278","v":382121.71947496192},{"$f":"$AA$279","v":6000},{"$f":"$BC$279","v":338553.3},{"$f":"$BE$278","v":0.4375},{"$f":"$BF$278","v":1}]
[null,null,null,null,null,null,null,null,null,null,null,null,null,null,null,null,null,null,null,null,15,{"$f":"$AA$298","v":204530.0144686219},{"$f":"$BC$298","v":313356.22374994797},{"$f":"$AA$299","v":215099.49999999994},{"$f":"$BC$299","v":177896.5},{"$f":"$BE$298","v":0.375},{"$f":"$BF$298","v":0.4375}]
[null,null,null,null,null,null,null,null,null,null,null,null,null,null,null,null,null,null,null,null,16,{"$f":"$AA$318","v":259081.38886624033},{"$f":"$BC$318","v":393797.46462307579},{"$f":"$AA$319","v":205002.8},{"$f":"$BC$319","v":333538.3},{"$f":"$BE$318","v":0.5},{"$f":"$BF$318","v":0.4375}]
[null,null,null,null,null,null,null,null,null,null,null,null,null,null,null,null,null,null,null,null,"avg",{"$f":"AVERAGE(V323:V338)","v":223168.57771335886},{"$f":"AVERAGE(W323:W338)","v":359377.6844364889},{"$f":"AVERAGE(X323:X338)","v":133579.63124999998},{"$f":"AVERAGE(Y323:Y338)","v":321566.63124999998},{"$f":"AVERAGE(Z323:Z338)","v":0.44921875},{"$f":"AVERAGE(AA323:AA338)","v":0.4140625}]

{"sheet":"solver_direct","index":25,"n_rows":36,"n_cols":27,"rows_kept":36,"cut":false,"hidden":false,"merged":[]}
[14,15,16,5,16,55000,null,1,30507.387929798559,15021.207748676807,18606.502170558975,17439.108401798345,17455.573686725886,null,{"$f":"I1-I2","v":0},{"$f":"J1-J2","v":0},{"$f":"K1-K2","v":0},{"$f":"L1-L2","v":0},{"$f":"M1-M2","v":0},null,{"$f":"VLOOKUP(A1,$H$1:$M$16,I$17,0)","v":559.25418649079052},{"$f":"VLOOKUP(B1,$H$1:$M$16,J$17,0)","v":358.98270663906618},{"$f":"VLOOKUP(C1,$H$1:$M$16,K$17,0)","v":69.991219088643803},{"$f":"VLOOKUP(D1,$H$1:$M$16,L$17,0)","v":17439.108481369643},{"$f":"VLOOKUP(E1,$H$1:$M$16,M$17,0)","v":69.9912193564749},{"$f":"SUM(U1:Y1)","v":18497.327812944619},{"$f":"ABS(F1-Z1)","v":36502.672187055381}]
[9,9,7,2,6,64000,null,2,30507.387929798573,15021.207748676799,18606.502170559001,17439.108401798319,17455.573686725882,null,{"$f":"I2-I3","v":0},0,0,-7.9571345850126818E-5,-1.0121262312168255E-4,null,{"$f":"VLOOKUP(A2,$H$1:$M$16,I$17,0)","v":7207.0992912062638},9361.3363003907543,18606.502170559001,17439.108401798319,11385.952195044252,{"$f":"SUM(U2:Y2)","v":63999.998358998586},{"$f":"ABS(F2-Z2)","v":1.6410014141001739E-3}]
[5,2,14,1,8,52000,null,3,30507.387929798573,15021.207748676799,18606.502170558993,17439.108481369665,17455.573787938505,null,0,0,0,3.2741809263825417E-11,0,null,30507.38792979858,15021.207748676799,98.457377218750722,17439.108401798345,309.04419933675018,63375.205656829225,11375.205656829225]
[5,1,7,2,9,37000,null,4,30507.387929798584,15021.207748676807,18606.502170558993,17439.108481369632,17455.573787938523,null,0,0,0,0,6069.6215928942747,null,30507.38792979858,15021.207748676807,18606.502170559001,17439.108401798319,309.04419933674995,81883.250450169464,44883.250450169464]
[10,5,6,7,2,53000,null,5,30507.38792979858,15021.207748676798,18606.502170559001,17439.108481369643,11385.952195044249,null,5.2176619647070765E-7,0,0,0,0,null,7207.0992889632871,15021.207748676798,18606.502170559008,17439.108481369636,17455.573686725882,75729.491376294609,22729.491376294609]
[13,11,11,10,5,13000,null,6,30507.387929276814,15021.207748676803,18606.502170559008,17439.108481369625,11385.952195044252,null,0,5659.8714482860432,0,0,0,null,559.25418649079074,701.48922629509434,3096.8197370520206,17439.108481369618,11385.952195044249,33182.623826251773,20182.623826251773]
[1,12,1,16,10,50000,null,7,30507.38792927684,9361.3363003907598,18606.502170559001,17439.108481369636,11385.95219504425,null,0,0,15509.682434334558,0,11076.907995707501,null,30507.387929798559,701.48922629509445,18606.502170558975,37.492624469890458,309.0441993367499,50161.91615045927,161.91615045927028]
[2,13,15,12,2,62000,null,8,30507.387929276822,9361.3363003907489,3096.8197362244423,17439.108481369611,309.04419933675018,null,23300.288638070557,0,-4.0927261579781771E-12,0,0,null,30507.387929798573,701.48922626745116,98.457377218750693,17439.108481369607,17455.573686725882,66202.016701380257,4202.0167013802566]
[4,6,5,8,7,93000,null,9,7207.0992912062638,9361.3363003907543,3096.8197362244464,17439.108481369629,309.04419933674995,null,2.2429767341236584E-6,0,-8.2757651398424059E-7,0,0,null,30507.387929798584,15021.207748676803,18606.502170559001,17439.108481369611,11385.95219504425,92960.158525448234,39.841474551765714]
[16,8,3,14,11,10000,null,10,7207.0992889632871,9361.3363003907543,3096.8197370520229,17439.108481369618,309.0441993367499,null,0,8659.84707409566,0,0,-1.853470052992634E-7,null,15.966564278477767,9361.3363003907489,18606.502170558993,244.18045436761827,309.0441995220969,28537.029689117939,18537.029689117939]
[15,16,9,9,12,14000,null,11,7207.0992889632862,701.48922629509434,3096.8197370520206,17439.108481369596,309.0441995220969,null,3.5788070817943662E-7,0,0,0,1.52700749822543E-8,null,58.344142601958275,15.966585409411188,3096.8197362244464,17439.108481369629,309.04419950682683,20919.283145112273,6919.2831451122729]
[2,4,4,4,2,99000,null,12,7207.0992886054055,701.48922629509445,3096.8197370520215,17439.108481369607,309.04419950682683,null,6647.8451021146147,2.7643295652524102E-8,-2.4409928300883621E-7,17194.928027001988,0,null,30507.387929798573,15021.207748676807,18606.502170558993,17439.108481369632,17455.573686725882,99029.780017129888,29.78001712988771]
[8,6,9,12,1,83000,null,13,559.25418649079074,701.48922626745116,3096.8197372961208,244.18045436761841,309.04419950682677,null,0,1.436845877833548E-7,2998.3623600773699,0,0,null,30507.387929276822,15021.207748676803,3096.8197362244464,17439.108481369607,17455.573686725886,83520.097582273549,520.09758227354905]
[11,10,2,15,14,75000,null,14,559.25418649079052,701.48922612376657,98.457377218750722,244.18045436761827,309.04419950682654,null,500.91004388883226,342.50651948470039,0,0,1.3829065892423387E-7,null,7207.0992889632862,9361.3363003907543,18606.502170559001,244.18045436761827,309.04419950682654,35728.162413787482,39271.837586212518]
[12,3,12,6,15,96000,null,15,58.344142601958275,358.98270663906618,98.457377218750693,244.18045436761827,309.04419936853589,null,42.377578323480506,343.01612122965497,28.466158130106891,206.6878298977278,239.05298001206097,null,7207.0992886054055,15021.207748676799,3096.8197370520215,17439.108481369625,309.04419936853589,43073.279455072392,52926.720544927608]
[5,14,13,11,4,70000,null,16,15.966564278477767,15.966585409411188,69.991219088643803,37.492624469890458,69.9912193564749,null,null,null,null,null,null,null,{"$f":"VLOOKUP(A16,$H$1:$M$16,I$17,0)","v":30507.38792979858},{"$f":"VLOOKUP(B16,$H$1:$M$16,J$17,0)","v":701.48922612376657},{"$f":"VLOOKUP(C16,$H$1:$M$16,K$17,0)","v":3096.8197372961208},{"$f":"VLOOKUP(D16,$H$1:$M$16,L$17,0)","v":17439.108481369596},{"$f":"VLOOKUP(E16,$H$1:$M$16,M$17,0)","v":17455.573787938523},{"$f":"SUM(U16:Y16)","v":69200.379162526588},{"$f":"ABS(F16-Z16)","v":799.62083747341239}]
[null,null,null,null,null,{"$f":"SUM(F1:F16)","v":926000},null,null,2,3,4,5,6,null,null,null,null,null,null,null,null,null,null,null,null,{"$f":"SUM(Z1:Z16)","v":926000.00032379583},{"$f":"SUM(AA1:AA16)","v":259081.38886624033}]
[]
[]
[null,null,null,null,null,null,null,1,16,16,16,16,16]
[null,null,null,null,null,null,null,2,15,15,15,15,15]
[null,null,null,null,null,null,null,3,14,14,14,14,14]
[null,null,null,null,null,null,null,4,13,13,13,13,13]
[null,null,null,null,null,null,null,5,12,12,12,12,12]
[null,null,null,null,null,null,null,6,11,11,11,11,11]
[null,null,null,null,null,null,null,7,10,10,10,10,10]
[null,null,null,null,null,null,null,8,9,9,9,9,9]
[null,null,null,null,null,null,null,9,8,8,8,8,8]
[null,null,null,null,null,null,null,10,7,7,7,7,7]
[null,null,null,null,null,null,null,11,6,6,6,6,6]
[null,null,null,null,null,null,null,12,5,5,5,5,5]
[null,null,null,null,null,null,null,13,4,4,4,4,4]
[null,null,null,null,null,null,null,14,3,3,3,3,3]
[null,null,null,null,null,null,null,15,2,2,2,2,2]
[null,null,null,null,null,null,null,16,1,1,1,1,1]
[null,null,null,null,null,null,null,null,2,3,4,5,6]

{"sheet":"solver_inverse","index":26,"n_rows":36,"n_cols":27,"rows_kept":36,"cut":false,"hidden":false,"merged":[]}
[3,2,1,12,1,55000,null,1,27534.690600616355,14673.298153470198,13583.104179750111,22777.520980226913,9154.6140801769743,null,{"$f":"I1-I2","v":-3.2741809263825417E-11},{"$f":"J1-J2","v":0},0,6.0883030528202653E-7,0,null,{"$f":"VLOOKUP(A1,$H$1:$M$16,I$17,0)","v":27534.690600616384},{"$f":"VLOOKUP(B1,$H$1:$M$16,J$17,0)","v":14673.298153470203},13583.104179750111,1859.9852828093831,9154.6140801769743,{"$f":"SUM(U1:Y1)","v":66805.692296823065},{"$f":"ABS(F1-Z1)","v":11805.692296823065}]
[8,8,9,14,10,64000,null,2,27534.690600616388,14673.298153470203,13583.104179750098,22777.520979618082,9154.614080176987,null,{"$f":"I2-I3","v":0},0,-2.9103830456733704E-11,1.7282000044360757E-6,0,null,{"$f":"VLOOKUP(A2,$H$1:$M$16,I$17,0)","v":27534.690600616381},14673.298152643916,7309.0849750955458,1859.9852828093822,8780.795844955368,{"$f":"SUM(U2:Y2)","v":60157.85485612059},{"$f":"ABS(F2-Z2)","v":3842.1451438794102}]
[10,15,3,16,8,52000,null,3,27534.690600616384,14673.298153470208,13583.104179750128,22777.520977889882,9154.614080176978,null,0,1.6370904631912708E-11,3.2981188269332051E-7,0,373.81823522162631,null,27534.690600616352,293.40169072878717,13583.104179750128,73.850634812692604,8780.7958449553698,50265.842950863327,1734.1570491366729]
[10,16,9,14,7,37000,null,4,27534.690600616384,14673.298153470192,13583.104179420316,22777.520977889879,8780.7958449553516,null,0,0,1.1178108252352104E-6,17462.269369292062,-1.8189894035458565E-11,null,27534.690600616352,0,7309.0849750955458,1859.9852828093822,8780.7958449553607,45484.556703476643,8484.5567034766427]
[7,12,11,10,13,53000,null,5,27534.690600616381,14673.298153470201,13583.104178302505,5315.2516085978159,8780.7958449553698,null,0,6.5680433181114495E-7,2.4567325453972444E-6,0,0,null,27534.690600616381,3465.3382459283648,4988.8873591417532,5315.2516076117454,8780.795844103588,50084.96365740183,2915.0363425981704]
[4,6,6,7,11,13000,null,6,27534.690600616374,14673.298152813397,13583.104175845772,5315.2516085978186,8780.795844955368,null,0,0,6.9469388108700514E-7,9.860741556622088E-7,0,null,27534.690600616384,14673.298152813397,13583.104175845772,5315.2516076117445,8780.7958444648575,69887.140381352161,56887.140381352161]
[16,5,16,1,6,50000,null,7,27534.690600616381,14673.298152813402,13583.104175151078,5315.2516076117445,8780.7958449553607,null,0,1.6948615666478872E-7,6274.0192000555389,0,0,null,121.33651289051282,14673.298153470201,67.8991412851842,22777.520980226913,8780.795844955368,46420.85063282818,3579.1493671718199]
[14,4,2,4,13,62000,null,8,27534.690600616381,14673.298152643916,7309.0849750955394,5315.2516076117508,8780.7958449553698,null,0,1.5294772310880944E-6,0,0,0,null,2156.7769009357758,14673.298153470192,13583.104179750098,22777.520977889879,8780.795844103588,61971.496056149532,28.503943850468204]
[13,10,12,9,9,93000,null,9,27534.690600616355,14673.298151114439,7309.0849750955458,5315.2516076117499,8780.7958449553753,null,0,0,2320.1976159537908,0,0,null,2156.776901455501,14673.298151114435,3465.3382574829338,5315.2516076117499,8780.7958449553753,34391.460762619994,58608.539237380006]
[1,9,14,3,5,10000,null,10,27534.690600616352,14673.298151114435,4988.887359141755,5315.2516076117454,8780.795844955368,null,25377.91369916085,11207.959905186068,0,2.9377133614616469E-7,4.905105015495792E-7,null,27534.690600616355,14673.298151114439,67.8991412851842,22777.520977889882,8780.7958449553698,73834.204715861226,63834.204715861226]
[2,1,7,8,4,14000,null,11,2156.7769014555006,3465.3382459283666,4988.8873591417532,5315.251607317974,8780.7958444648575,null,0,0,1523.5491016588194,3455.266324508591,0,null,27534.690600616388,14673.298153470198,13583.104175151078,5315.2516076117508,8780.7958449553516,69887.140381804769,55887.140381804769]
[14,13,13,13,13,99000,null,12,2156.7769014555033,3465.3382459283648,3465.3382574829338,1859.9852828093831,8780.7958444648448,null,0,1246.7217268942463,1246.7217384488154,0,3.6125675251241773E-7,null,2156.7769009357758,2218.6165190341185,2218.6165190341185,1859.9852828093822,8780.795844103588,17234.791065916983,81765.208934083013]
[9,10,7,4,16,83000,null,13,2156.776901455501,2218.6165190341185,2218.6165190341185,1859.9852828093822,8780.795844103588,null,5.197252903599292E-7,969.89492585995049,2150.7173777489343,0,8706.9452752013312,null,27534.690600616355,14673.298151114435,13583.104175151078,22777.520977889879,73.8505689022561,78642.464473674001,4357.5355263259989]
[6,7,15,2,3,75000,null,14,2156.7769009357758,1248.721593174168,67.8991412851842,1859.9852828093822,73.850568902256086,null,2035.440388045263,955.31990244538088,0,1786.1346479966896,0,null,27534.690600616374,14673.298152813402,67.899141285184214,22777.520979618082,9154.614080176978,74208.022954510016,791.97704548998445]
[5,14,5,11,2,96000,null,15,121.33651289051282,293.40169072878717,67.899141285184214,73.850634812692604,73.8505689022561,null,0,293.40169072878717,0,0,0,null,27534.690600616381,1248.721593174168,13583.104178302505,5315.251607317974,9154.614080176987,56836.38205958801,39163.61794041199]
[10,3,4,6,12,70000,null,16,121.33651289051282,0,67.8991412851842,73.850634812692604,73.8505689022561,null,null,null,null,null,null,null,{"$f":"VLOOKUP(A16,$H$1:$M$16,I$17,0)","v":27534.690600616352},{"$f":"VLOOKUP(B16,$H$1:$M$16,J$17,0)","v":14673.298153470208},{"$f":"VLOOKUP(C16,$H$1:$M$16,K$17,0)","v":13583.104179420316},{"$f":"VLOOKUP(D16,$H$1:$M$16,L$17,0)","v":5315.2516085978186},{"$f":"VLOOKUP(E16,$H$1:$M$16,M$17,0)","v":8780.7958444648448},{"$f":"SUM(U16:Y16)","v":69887.140386569547},{"$f":"ABS(F16-Z16)","v":112.85961343045346}]
[null,null,null,null,null,{"$f":"SUM(F1:F16)","v":926000},null,null,2,3,4,5,6,null,null,null,null,null,null,null,null,null,null,null,null,{"$f":"SUM(Z1:Z16)","v":926000.0043355599},{"$f":"SUM(AA1:AA16)","v":393797.46462307579}]
[]
[]
[null,null,null,null,null,null,null,1,16,16,16,16,16]
[null,null,null,null,null,null,null,2,15,15,15,15,15]
[null,null,null,null,null,null,null,3,14,14,14,14,14]
[null,null,null,null,null,null,null,4,13,13,13,13,13]
[null,null,null,null,null,null,null,5,12,12,12,12,12]
[null,null,null,null,null,null,null,6,11,11,11,11,11]
[null,null,null,null,null,null,null,7,10,10,10,10,10]
[null,null,null,null,null,null,null,8,9,9,9,9,9]
[null,null,null,null,null,null,null,9,8,8,8,8,8]
[null,null,null,null,null,null,null,10,7,7,7,7,7]
[null,null,null,null,null,null,null,11,6,6,6,6,6]
[null,null,null,null,null,null,null,12,5,5,5,5,5]
[null,null,null,null,null,null,null,13,4,4,4,4,4]
[null,null,null,null,null,null,null,14,3,3,3,3,3]
[null,null,null,null,null,null,null,15,2,2,2,2,2]
[null,null,null,null,null,null,null,16,1,1,1,1,1]
[null,null,null,null,null,null,null,null,2,3,4,5,6]

{"sheet":"2^n","index":27,"n_rows":39,"n_cols":27,"rows_kept":39,"cut":false,"hidden":false,"merged":[]}
["above",{"$f":"COUNTIFS(basics1!B$2:B$16,\">\"&basics1!B17)","v":14},{"$f":"COUNTIFS(basics1!C$2:C$16,\">\"&basics1!C17)","v":11},{"$f":"COUNTIFS(basics1!D$2:D$16,\">\"&basics1!D17)","v":7},{"$f":"COUNTIFS(basics1!E$2:E$16,\">\"&basics1!E17)","v":4},{"$f":"COUNTIFS(basics1!F$2:F$16,\">\"&basics1!F17)","v":0}]
["same",{"$f":"COUNTIFS(basics1!B$2:B$16,\"=\"&basics1!B17)","v":1},{"$f":"COUNTIFS(basics1!C$2:C$16,\"=\"&basics1!C17)","v":1},{"$f":"COUNTIFS(basics1!D$2:D$16,\"=\"&basics1!D17)","v":1},{"$f":"COUNTIFS(basics1!E$2:E$16,\"=\"&basics1!E17)","v":0},{"$f":"COUNTIFS(basics1!F$2:F$16,\"=\"&basics1!F17)","v":1}]
["below",{"$f":"COUNTIFS(basics1!B$2:B$16,\"<\"&basics1!B17)","v":0},{"$f":"COUNTIFS(basics1!C$2:C$16,\"<\"&basics1!C17)","v":3},{"$f":"COUNTIFS(basics1!D$2:D$16,\"<\"&basics1!D17)","v":7},{"$f":"COUNTIFS(basics1!E$2:E$16,\"<\"&basics1!E17)","v":11},{"$f":"COUNTIFS(basics1!F$2:F$16,\"<\"&basics1!F17)","v":14}]
["check",{"$f":"SUM(B1:B3)","v":15},{"$f":"SUM(C1:C3)","v":15},15,15,15,null,null,"direct","direct","direct","direct","direct","direct",null,"inverse","inverse","inverse","inverse","inverse","inverse"]
["higher ranks",{"$f":"B6-1","v":14},{"$f":"C6-1","v":11},7,4,0,null,null,2,3,4,5,6,null,null,{"$f":"I5","v":2},{"$f":"J5","v":3},{"$f":"K5","v":4},{"$f":"L5","v":5},{"$f":"M5","v":6}]
["lower ranks",{"$f":"B1+1","v":15},{"$f":"C1+1","v":12},8,5,1,null,null,"vlookup","vlookup","vlookup","vlookup","vlookup",null,null,{"$f":"I6","v":"vlookup"},"vlookup","vlookup","vlookup","vlookup",null,null,"inverse","inverse","inverse","inverse","inverse"]
["combinatorial space",{"$f":"basics1!J1","v":"A1"},{"$f":"basics1!K1","v":"A2"},{"$f":"basics1!L1","v":"A3"},{"$f":"basics1!M1","v":"A4"},{"$f":"basics1!N1","v":"A5"},"Y",null,{"$f":"B7","v":"A1"},{"$f":"C7","v":"A2"},"A3","A4","A5",{"$f":"G7","v":"Y"},null,"A1","A2","A3","A4","A5",{"$f":"N7","v":"Y"},null,{"$f":"P7","v":"A1"},{"$f":"Q7","v":"A2"},"A3","A4","A5"]
[1,{"$f":"B5","v":14},{"$f":"C5","v":11},7,4,0,"?",null,{"$f":"VLOOKUP(B8,models1!$A$43:$F$59,'2^n'!I$5,0)","v":0},{"$f":"VLOOKUP(C8,models1!$A$43:$F$59,'2^n'!J$5,0)","v":2051.4},{"$f":"VLOOKUP(D8,models1!$A$43:$F$59,'2^n'!K$5,0)","v":5128.5},{"$f":"VLOOKUP(E8,models1!$A$43:$F$59,'2^n'!L$5,0)","v":12992},{"$f":"VLOOKUP(F8,models1!$A$43:$F$59,'2^n'!M$5,0)","v":42395.8},{"$f":"SUM(I8:M8)","v":62567.700000000004},null,{"$f":"VLOOKUP(W8,models1!$P$43:$U$59,'2^n'!I$5,0)","v":13892.3},{"$f":"VLOOKUP(X8,models1!$P$43:$U$59,'2^n'!J$5,0)","v":16670.7},{"$f":"VLOOKUP(Y8,models1!$P$43:$U$59,'2^n'!K$5,0)","v":2222.8000000000002},{"$f":"VLOOKUP(Z8,models1!$P$43:$U$59,'2^n'!L$5,0)","v":22783.3},{"$f":"VLOOKUP(AA8,models1!$P$43:$U$59,'2^n'!M$5,0)","v":0},{"$f":"SUM(P8:T8)","v":55569.100000000006},null,{"$f":"16-B8","v":2},{"$f":"16-C8","v":5},{"$f":"16-D8","v":9},{"$f":"16-E8","v":12},{"$f":"16-F8","v":16}]
[2,{"$f":"B8","v":14},{"$f":"C8","v":11},{"$f":"D8","v":7},{"$f":"E8","v":4},{"$f":"F6","v":1},"?",null,{"$f":"VLOOKUP(B9,models1!$A$43:$F$59,'2^n'!I$5,0)","v":0},{"$f":"VLOOKUP(C9,models1!$A$43:$F$59,'2^n'!J$5,0)","v":2051.4},{"$f":"VLOOKUP(D9,models1!$A$43:$F$59,'2^n'!K$5,0)","v":5128.5},{"$f":"VLOOKUP(E9,models1!$A$43:$F$59,'2^n'!L$5,0)","v":12992},{"$f":"VLOOKUP(F9,models1!$A$43:$F$59,'2^n'!M$5,0)","v":42395.8},{"$f":"SUM(I9:M9)","v":62567.700000000004},null,{"$f":"VLOOKUP(W9,models1!$P$43:$U$59,'2^n'!I$5,0)","v":13892.3},{"$f":"VLOOKUP(X9,models1!$P$43:$U$59,'2^n'!J$5,0)","v":16670.7},{"$f":"VLOOKUP(Y9,models1!$P$43:$U$59,'2^n'!K$5,0)","v":2222.8000000000002},{"$f":"VLOOKUP(Z9,models1!$P$43:$U$59,'2^n'!L$5,0)","v":22783.3},{"$f":"VLOOKUP(AA9,models1!$P$43:$U$59,'2^n'!M$5,0)","v":0},{"$f":"SUM(P9:T9)","v":55569.100000000006},null,{"$f":"16-B9","v":2},5,9,12,15]
[3,{"$f":"B9","v":14},{"$f":"C9","v":11},{"$f":"D9","v":7},{"$f":"E6","v":5},{"$f":"F8","v":0},"?",null,{"$f":"VLOOKUP(B10,models1!$A$43:$F$59,'2^n'!I$5,0)","v":0},{"$f":"VLOOKUP(C10,models1!$A$43:$F$59,'2^n'!J$5,0)","v":2051.4},{"$f":"VLOOKUP(D10,models1!$A$43:$F$59,'2^n'!K$5,0)","v":5128.5},{"$f":"VLOOKUP(E10,models1!$A$43:$F$59,'2^n'!L$5,0)","v":12992},{"$f":"VLOOKUP(F10,models1!$A$43:$F$59,'2^n'!M$5,0)","v":42395.8},62567.700000000004,null,{"$f":"VLOOKUP(W10,models1!$P$43:$U$59,'2^n'!I$5,0)","v":13892.3},{"$f":"VLOOKUP(X10,models1!$P$43:$U$59,'2^n'!J$5,0)","v":16670.7},{"$f":"VLOOKUP(Y10,models1!$P$43:$U$59,'2^n'!K$5,0)","v":2222.8000000000002},{"$f":"VLOOKUP(Z10,models1!$P$43:$U$59,'2^n'!L$5,0)","v":22783.3},{"$f":"VLOOKUP(AA10,models1!$P$43:$U$59,'2^n'!M$5,0)","v":0},55569.100000000006,null,2,5,9,11,16]
[4,14,11,7,{"$f":"E10","v":5},{"$f":"F9","v":1},"?",null,{"$f":"VLOOKUP(B11,models1!$A$43:$F$59,'2^n'!I$5,0)","v":0},{"$f":"VLOOKUP(C11,models1!$A$43:$F$59,'2^n'!J$5,0)","v":2051.4},{"$f":"VLOOKUP(D11,models1!$A$43:$F$59,'2^n'!K$5,0)","v":5128.5},{"$f":"VLOOKUP(E11,models1!$A$43:$F$59,'2^n'!L$5,0)","v":12992},{"$f":"VLOOKUP(F11,models1!$A$43:$F$59,'2^n'!M$5,0)","v":42395.8},62567.700000000004,null,{"$f":"VLOOKUP(W11,models1!$P$43:$U$59,'2^n'!I$5,0)","v":13892.3},{"$f":"VLOOKUP(X11,models1!$P$43:$U$59,'2^n'!J$5,0)","v":16670.7},{"$f":"VLOOKUP(Y11,models1!$P$43:$U$59,'2^n'!K$5,0)","v":2222.8000000000002},{"$f":"VLOOKUP(Z11,models1!$P$43:$U$59,'2^n'!L$5,0)","v":22783.3},{"$f":"VLOOKUP(AA11,models1!$P$43:$U$59,'2^n'!M$5,0)","v":0},55569.100000000006,null,2,5,9,11,15]
[5,14,11,{"$f":"D6","v":8},{"$f":"E8","v":4},0,"?",null,{"$f":"VLOOKUP(B12,models1!$A$43:$F$59,'2^n'!I$5,0)","v":0},{"$f":"VLOOKUP(C12,models1!$A$43:$F$59,'2^n'!J$5,0)","v":2051.4},{"$f":"VLOOKUP(D12,models1!$A$43:$F$59,'2^n'!K$5,0)","v":5128.5},{"$f":"VLOOKUP(E12,models1!$A$43:$F$59,'2^n'!L$5,0)","v":12992},{"$f":"VLOOKUP(F12,models1!$A$43:$F$59,'2^n'!M$5,0)","v":42395.8},62567.700000000004,null,{"$f":"VLOOKUP(W12,models1!$P$43:$U$59,'2^n'!I$5,0)","v":13892.3},{"$f":"VLOOKUP(X12,models1!$P$43:$U$59,'2^n'!J$5,0)","v":16670.7},{"$f":"VLOOKUP(Y12,models1!$P$43:$U$59,'2^n'!K$5,0)","v":2222.8000000000002},{"$f":"VLOOKUP(Z12,models1!$P$43:$U$59,'2^n'!L$5,0)","v":22783.3},{"$f":"VLOOKUP(AA12,models1!$P$43:$U$59,'2^n'!M$5,0)","v":0},55569.100000000006,null,2,5,8,12,16]
[6,14,11,{"$f":"D12","v":8},{"$f":"E9","v":4},1,"?",null,{"$f":"VLOOKUP(B13,models1!$A$43:$F$59,'2^n'!I$5,0)","v":0},{"$f":"VLOOKUP(C13,models1!$A$43:$F$59,'2^n'!J$5,0)","v":2051.4},{"$f":"VLOOKUP(D13,models1!$A$43:$F$59,'2^n'!K$5,0)","v":5128.5},{"$f":"VLOOKUP(E13,models1!$A$43:$F$59,'2^n'!L$5,0)","v":12992},{"$f":"VLOOKUP(F13,models1!$A$43:$F$59,'2^n'!M$5,0)","v":42395.8},62567.700000000004,null,{"$f":"VLOOKUP(W13,models1!$P$43:$U$59,'2^n'!I$5,0)","v":13892.3},{"$f":"VLOOKUP(X13,models1!$P$43:$U$59,'2^n'!J$5,0)","v":16670.7},{"$f":"VLOOKUP(Y13,models1!$P$43:$U$59,'2^n'!K$5,0)","v":2222.8000000000002},{"$f":"VLOOKUP(Z13,models1!$P$43:$U$59,'2^n'!L$5,0)","v":22783.3},{"$f":"VLOOKUP(AA13,models1!$P$43:$U$59,'2^n'!M$5,0)","v":0},55569.100000000006,null,2,5,8,12,15]
[7,14,11,{"$f":"D13","v":8},5,0,"?",null,{"$f":"VLOOKUP(B14,models1!$A$43:$F$59,'2^n'!I$5,0)","v":0},{"$f":"VLOOKUP(C14,models1!$A$43:$F$59,'2^n'!J$5,0)","v":2051.4},{"$f":"VLOOKUP(D14,models1!$A$43:$F$59,'2^n'!K$5,0)","v":5128.5},{"$f":"VLOOKUP(E14,models1!$A$43:$F$59,'2^n'!L$5,0)","v":12992},{"$f":"VLOOKUP(F14,models1!$A$43:$F$59,'2^n'!M$5,0)","v":42395.8},62567.700000000004,null,{"$f":"VLOOKUP(W14,models1!$P$43:$U$59,'2^n'!I$5,0)","v":13892.3},{"$f":"VLOOKUP(X14,models1!$P$43:$U$59,'2^n'!J$5,0)","v":16670.7},{"$f":"VLOOKUP(Y14,models1!$P$43:$U$59,'2^n'!K$5,0)","v":2222.8000000000002},{"$f":"VLOOKUP(Z14,models1!$P$43:$U$59,'2^n'!L$5,0)","v":22783.3},{"$f":"VLOOKUP(AA14,models1!$P$43:$U$59,'2^n'!M$5,0)","v":0},55569.100000000006,null,2,5,8,11,16]
[8,14,11,8,5,1,"?",null,{"$f":"VLOOKUP(B15,models1!$A$43:$F$59,'2^n'!I$5,0)","v":0},{"$f":"VLOOKUP(C15,models1!$A$43:$F$59,'2^n'!J$5,0)","v":2051.4},{"$f":"VLOOKUP(D15,models1!$A$43:$F$59,'2^n'!K$5,0)","v":5128.5},{"$f":"VLOOKUP(E15,models1!$A$43:$F$59,'2^n'!L$5,0)","v":12992},{"$f":"VLOOKUP(F15,models1!$A$43:$F$59,'2^n'!M$5,0)","v":42395.8},62567.700000000004,null,{"$f":"VLOOKUP(W15,models1!$P$43:$U$59,'2^n'!I$5,0)","v":13892.3},{"$f":"VLOOKUP(X15,models1!$P$43:$U$59,'2^n'!J$5,0)","v":16670.7},{"$f":"VLOOKUP(Y15,models1!$P$43:$U$59,'2^n'!K$5,0)","v":2222.8000000000002},{"$f":"VLOOKUP(Z15,models1!$P$43:$U$59,'2^n'!L$5,0)","v":22783.3},{"$f":"VLOOKUP(AA15,models1!$P$43:$U$59,'2^n'!M$5,0)","v":0},55569.100000000006,null,2,5,8,11,15]
[9,14,{"$f":"C6","v":12},{"$f":"D8","v":7},4,0,"?",null,{"$f":"VLOOKUP(B16,models1!$A$43:$F$59,'2^n'!I$5,0)","v":0},{"$f":"VLOOKUP(C16,models1!$A$43:$F$59,'2^n'!J$5,0)","v":2051.4},{"$f":"VLOOKUP(D16,models1!$A$43:$F$59,'2^n'!K$5,0)","v":5128.5},{"$f":"VLOOKUP(E16,models1!$A$43:$F$59,'2^n'!L$5,0)","v":12992},{"$f":"VLOOKUP(F16,models1!$A$43:$F$59,'2^n'!M$5,0)","v":42395.8},62567.700000000004,null,{"$f":"VLOOKUP(W16,models1!$P$43:$U$59,'2^n'!I$5,0)","v":13892.3},{"$f":"VLOOKUP(X16,models1!$P$43:$U$59,'2^n'!J$5,0)","v":21116.2},{"$f":"VLOOKUP(Y16,models1!$P$43:$U$59,'2^n'!K$5,0)","v":2222.8000000000002},{"$f":"VLOOKUP(Z16,models1!$P$43:$U$59,'2^n'!L$5,0)","v":22783.3},{"$f":"VLOOKUP(AA16,models1!$P$43:$U$59,'2^n'!M$5,0)","v":0},60014.600000000006,null,2,4,9,12,16]
[10,14,{"$f":"C16","v":12},{"$f":"D9","v":7},4,1,"?",null,{"$f":"VLOOKUP(B17,models1!$A$43:$F$59,'2^n'!I$5,0)","v":0},{"$f":"VLOOKUP(C17,models1!$A$43:$F$59,'2^n'!J$5,0)","v":2051.4},{"$f":"VLOOKUP(D17,models1!$A$43:$F$59,'2^n'!K$5,0)","v":5128.5},{"$f":"VLOOKUP(E17,models1!$A$43:$F$59,'2^n'!L$5,0)","v":12992},{"$f":"VLOOKUP(F17,models1!$A$43:$F$59,'2^n'!M$5,0)","v":42395.8},62567.700000000004,null,{"$f":"VLOOKUP(W17,models1!$P$43:$U$59,'2^n'!I$5,0)","v":13892.3},{"$f":"VLOOKUP(X17,models1!$P$43:$U$59,'2^n'!J$5,0)","v":21116.2},{"$f":"VLOOKUP(Y17,models1!$P$43:$U$59,'2^n'!K$5,0)","v":2222.8000000000002},{"$f":"VLOOKUP(Z17,models1!$P$43:$U$59,'2^n'!L$5,0)","v":22783.3},{"$f":"VLOOKUP(AA17,models1!$P$43:$U$59,'2^n'!M$5,0)","v":0},60014.600000000006,null,2,4,9,12,15]
[11,14,{"$f":"C17","v":12},7,5,0,"?",null,{"$f":"VLOOKUP(B18,models1!$A$43:$F$59,'2^n'!I$5,0)","v":0},{"$f":"VLOOKUP(C18,models1!$A$43:$F$59,'2^n'!J$5,0)","v":2051.4},{"$f":"VLOOKUP(D18,models1!$A$43:$F$59,'2^n'!K$5,0)","v":5128.5},{"$f":"VLOOKUP(E18,models1!$A$43:$F$59,'2^n'!L$5,0)","v":12992},{"$f":"VLOOKUP(F18,models1!$A$43:$F$59,'2^n'!M$5,0)","v":42395.8},62567.700000000004,null,{"$f":"VLOOKUP(W18,models1!$P$43:$U$59,'2^n'!I$5,0)","v":13892.3},{"$f":"VLOOKUP(X18,models1!$P$43:$U$59,'2^n'!J$5,0)","v":21116.2},{"$f":"VLOOKUP(Y18,models1!$P$43:$U$59,'2^n'!K$5,0)","v":2222.8000000000002},{"$f":"VLOOKUP(Z18,models1!$P$43:$U$59,'2^n'!L$5,0)","v":22783.3},{"$f":"VLOOKUP(AA18,models1!$P$43:$U$59,'2^n'!M$5,0)","v":0},60014.600000000006,null,2,4,9,11,16]
[12,14,12,7,5,1,"?",null,{"$f":"VLOOKUP(B19,models1!$A$43:$F$59,'2^n'!I$5,0)","v":0},{"$f":"VLOOKUP(C19,models1!$A$43:$F$59,'2^n'!J$5,0)","v":2051.4},{"$f":"VLOOKUP(D19,models1!$A$43:$F$59,'2^n'!K$5,0)","v":5128.5},{"$f":"VLOOKUP(E19,models1!$A$43:$F$59,'2^n'!L$5,0)","v":12992},{"$f":"VLOOKUP(F19,models1!$A$43:$F$59,'2^n'!M$5,0)","v":42395.8},62567.700000000004,null,{"$f":"VLOOKUP(W19,models1!$P$43:$U$59,'2^n'!I$5,0)","v":13892.3},{"$f":"VLOOKUP(X19,models1!$P$43:$U$59,'2^n'!J$5,0)","v":21116.2},{"$f":"VLOOKUP(Y19,models1!$P$43:$U$59,'2^n'!K$5,0)","v":2222.8000000000002},{"$f":"VLOOKUP(Z19,models1!$P$43:$U$59,'2^n'!L$5,0)","v":22783.3},{"$f":"VLOOKUP(AA19,models1!$P$43:$U$59,'2^n'!M$5,0)","v":0},60014.600000000006,null,2,4,9,11,15]
[13,14,12,8,4,0,"?",null,{"$f":"VLOOKUP(B20,models1!$A$43:$F$59,'2^n'!I$5,0)","v":0},{"$f":"VLOOKUP(C20,models1!$A$43:$F$59,'2^n'!J$5,0)","v":2051.4},{"$f":"VLOOKUP(D20,models1!$A$43:$F$59,'2^n'!K$5,0)","v":5128.5},{"$f":"VLOOKUP(E20,models1!$A$43:$F$59,'2^n'!L$5,0)","v":12992},{"$f":"VLOOKUP(F20,models1!$A$43:$F$59,'2^n'!M$5,0)","v":42395.8},62567.700000000004,null,{"$f":"VLOOKUP(W20,models1!$P$43:$U$59,'2^n'!I$5,0)","v":13892.3},{"$f":"VLOOKUP(X20,models1!$P$43:$U$59,'2^n'!J$5,0)","v":21116.2},{"$f":"VLOOKUP(Y20,models1!$P$43:$U$59,'2^n'!K$5,0)","v":2222.8000000000002},{"$f":"VLOOKUP(Z20,models1!$P$43:$U$59,'2^n'!L$5,0)","v":22783.3},{"$f":"VLOOKUP(AA20,models1!$P$43:$U$59,'2^n'!M$5,0)","v":0},60014.600000000006,null,2,4,8,12,16]
[14,14,12,8,4,1,"?",null,{"$f":"VLOOKUP(B21,models1!$A$43:$F$59,'2^n'!I$5,0)","v":0},{"$f":"VLOOKUP(C21,models1!$A$43:$F$59,'2^n'!J$5,0)","v":2051.4},{"$f":"VLOOKUP(D21,models1!$A$43:$F$59,'2^n'!K$5,0)","v":5128.5},{"$f":"VLOOKUP(E21,models1!$A$43:$F$59,'2^n'!L$5,0)","v":12992},{"$f":"VLOOKUP(F21,models1!$A$43:$F$59,'2^n'!M$5,0)","v":42395.8},62567.700000000004,null,{"$f":"VLOOKUP(W21,models1!$P$43:$U$59,'2^n'!I$5,0)","v":13892.3},{"$f":"VLOOKUP(X21,models1!$P$43:$U$59,'2^n'!J$5,0)","v":21116.2},{"$f":"VLOOKUP(Y21,models1!$P$43:$U$59,'2^n'!K$5,0)","v":2222.8000000000002},{"$f":"VLOOKUP(Z21,models1!$P$43:$U$59,'2^n'!L$5,0)","v":22783.3},{"$f":"VLOOKUP(AA21,models1!$P$43:$U$59,'2^n'!M$5,0)","v":0},60014.600000000006,null,2,4,8,12,15]
[15,14,12,8,5,0,"?",null,{"$f":"VLOOKUP(B22,models1!$A$43:$F$59,'2^n'!I$5,0)","v":0},{"$f":"VLOOKUP(C22,models1!$A$43:$F$59,'2^n'!J$5,0)","v":2051.4},{"$f":"VLOOKUP(D22,models1!$A$43:$F$59,'2^n'!K$5,0)","v":5128.5},{"$f":"VLOOKUP(E22,models1!$A$43:$F$59,'2^n'!L$5,0)","v":12992},{"$f":"VLOOKUP(F22,models1!$A$43:$F$59,'2^n'!M$5,0)","v":42395.8},62567.700000000004,null,{"$f":"VLOOKUP(W22,models1!$P$43:$U$59,'2^n'!I$5,0)","v":13892.3},{"$f":"VLOOKUP(X22,models1!$P$43:$U$59,'2^n'!J$5,0)","v":21116.2},{"$f":"VLOOKUP(Y22,models1!$P$43:$U$59,'2^n'!K$5,0)","v":2222.8000000000002},{"$f":"VLOOKUP(Z22,models1!$P$43:$U$59,'2^n'!L$5,0)","v":22783.3},{"$f":"VLOOKUP(AA22,models1!$P$43:$U$59,'2^n'!M$5,0)","v":0},60014.600000000006,null,2,4,8,11,16]
[16,14,12,8,5,1,"?",null,{"$f":"VLOOKUP(B23,models1!$A$43:$F$59,'2^n'!I$5,0)","v":0},{"$f":"VLOOKUP(C23,models1!$A$43:$F$59,'2^n'!J$5,0)","v":2051.4},{"$f":"VLOOKUP(D23,models1!$A$43:$F$59,'2^n'!K$5,0)","v":5128.5},{"$f":"VLOOKUP(E23,models1!$A$43:$F$59,'2^n'!L$5,0)","v":12992},{"$f":"VLOOKUP(F23,models1!$A$43:$F$59,'2^n'!M$5,0)","v":42395.8},62567.700000000004,null,{"$f":"VLOOKUP(W23,models1!$P$43:$U$59,'2^n'!I$5,0)","v":13892.3},{"$f":"VLOOKUP(X23,models1!$P$43:$U$59,'2^n'!J$5,0)","v":21116.2},{"$f":"VLOOKUP(Y23,models1!$P$43:$U$59,'2^n'!K$5,0)","v":2222.8000000000002},{"$f":"VLOOKUP(Z23,models1!$P$43:$U$59,'2^n'!L$5,0)","v":22783.3},{"$f":"VLOOKUP(AA23,models1!$P$43:$U$59,'2^n'!M$5,0)","v":0},60014.600000000006,null,2,4,8,11,15]
[17,{"$f":"B$6","v":15},{"$f":"C8","v":11},7,4,0,"?",null,{"$f":"VLOOKUP(B24,models1!$A$43:$F$59,'2^n'!I$5,0)","v":0},{"$f":"VLOOKUP(C24,models1!$A$43:$F$59,'2^n'!J$5,0)","v":2051.4},{"$f":"VLOOKUP(D24,models1!$A$43:$F$59,'2^n'!K$5,0)","v":5128.5},{"$f":"VLOOKUP(E24,models1!$A$43:$F$59,'2^n'!L$5,0)","v":12992},{"$f":"VLOOKUP(F24,models1!$A$43:$F$59,'2^n'!M$5,0)","v":42395.8},62567.700000000004,null,{"$f":"VLOOKUP(W24,models1!$P$43:$U$59,'2^n'!I$5,0)","v":13892.3},{"$f":"VLOOKUP(X24,models1!$P$43:$U$59,'2^n'!J$5,0)","v":16670.7},{"$f":"VLOOKUP(Y24,models1!$P$43:$U$59,'2^n'!K$5,0)","v":2222.8000000000002},{"$f":"VLOOKUP(Z24,models1!$P$43:$U$59,'2^n'!L$5,0)","v":22783.3},{"$f":"VLOOKUP(AA24,models1!$P$43:$U$59,'2^n'!M$5,0)","v":0},55569.100000000006,null,1,5,9,12,16]
[18,{"$f":"B24","v":15},{"$f":"C9","v":11},7,4,1,"?",null,{"$f":"VLOOKUP(B25,models1!$A$43:$F$59,'2^n'!I$5,0)","v":0},{"$f":"VLOOKUP(C25,models1!$A$43:$F$59,'2^n'!J$5,0)","v":2051.4},{"$f":"VLOOKUP(D25,models1!$A$43:$F$59,'2^n'!K$5,0)","v":5128.5},{"$f":"VLOOKUP(E25,models1!$A$43:$F$59,'2^n'!L$5,0)","v":12992},{"$f":"VLOOKUP(F25,models1!$A$43:$F$59,'2^n'!M$5,0)","v":42395.8},62567.700000000004,null,{"$f":"VLOOKUP(W25,models1!$P$43:$U$59,'2^n'!I$5,0)","v":13892.3},{"$f":"VLOOKUP(X25,models1!$P$43:$U$59,'2^n'!J$5,0)","v":16670.7},{"$f":"VLOOKUP(Y25,models1!$P$43:$U$59,'2^n'!K$5,0)","v":2222.8000000000002},{"$f":"VLOOKUP(Z25,models1!$P$43:$U$59,'2^n'!L$5,0)","v":22783.3},{"$f":"VLOOKUP(AA25,models1!$P$43:$U$59,'2^n'!M$5,0)","v":0},55569.100000000006,null,1,5,9,12,15]
[19,{"$f":"B25","v":15},11,7,5,0,"?",null,{"$f":"VLOOKUP(B26,models1!$A$43:$F$59,'2^n'!I$5,0)","v":0},{"$f":"VLOOKUP(C26,models1!$A$43:$F$59,'2^n'!J$5,0)","v":2051.4},{"$f":"VLOOKUP(D26,models1!$A$43:$F$59,'2^n'!K$5,0)","v":5128.5},{"$f":"VLOOKUP(E26,models1!$A$43:$F$59,'2^n'!L$5,0)","v":12992},{"$f":"VLOOKUP(F26,models1!$A$43:$F$59,'2^n'!M$5,0)","v":42395.8},62567.700000000004,null,{"$f":"VLOOKUP(W26,models1!$P$43:$U$59,'2^n'!I$5,0)","v":13892.3},{"$f":"VLOOKUP(X26,models1!$P$43:$U$59,'2^n'!J$5,0)","v":16670.7},{"$f":"VLOOKUP(Y26,models1!$P$43:$U$59,'2^n'!K$5,0)","v":2222.8000000000002},{"$f":"VLOOKUP(Z26,models1!$P$43:$U$59,'2^n'!L$5,0)","v":22783.3},{"$f":"VLOOKUP(AA26,models1!$P$43:$U$59,'2^n'!M$5,0)","v":0},55569.100000000006,null,1,5,9,11,16]
[20,15,11,7,5,1,"?",null,{"$f":"VLOOKUP(B27,models1!$A$43:$F$59,'2^n'!I$5,0)","v":0},{"$f":"VLOOKUP(C27,models1!$A$43:$F$59,'2^n'!J$5,0)","v":2051.4},{"$f":"VLOOKUP(D27,models1!$A$43:$F$59,'2^n'!K$5,0)","v":5128.5},{"$f":"VLOOKUP(E27,models1!$A$43:$F$59,'2^n'!L$5,0)","v":12992},{"$f":"VLOOKUP(F27,models1!$A$43:$F$59,'2^n'!M$5,0)","v":42395.8},62567.700000000004,null,{"$f":"VLOOKUP(W27,models1!$P$43:$U$59,'2^n'!I$5,0)","v":13892.3},{"$f":"VLOOKUP(X27,models1!$P$43:$U$59,'2^n'!J$5,0)","v":16670.7},{"$f":"VLOOKUP(Y27,models1!$P$43:$U$59,'2^n'!K$5,0)","v":2222.8000000000002},{"$f":"VLOOKUP(Z27,models1!$P$43:$U$59,'2^n'!L$5,0)","v":22783.3},{"$f":"VLOOKUP(AA27,models1!$P$43:$U$59,'2^n'!M$5,0)","v":0},55569.100000000006,null,1,5,9,11,15]
[21,15,11,8,4,0,"?",null,{"$f":"VLOOKUP(B28,models1!$A$43:$F$59,'2^n'!I$5,0)","v":0},{"$f":"VLOOKUP(C28,models1!$A$43:$F$59,'2^n'!J$5,0)","v":2051.4},{"$f":"VLOOKUP(D28,models1!$A$43:$F$59,'2^n'!K$5,0)","v":5128.5},{"$f":"VLOOKUP(E28,models1!$A$43:$F$59,'2^n'!L$5,0)","v":12992},{"$f":"VLOOKUP(F28,models1!$A$43:$F$59,'2^n'!M$5,0)","v":42395.8},62567.700000000004,null,{"$f":"VLOOKUP(W28,models1!$P$43:$U$59,'2^n'!I$5,0)","v":13892.3},{"$f":"VLOOKUP(X28,models1!$P$43:$U$59,'2^n'!J$5,0)","v":16670.7},{"$f":"VLOOKUP(Y28,models1!$P$43:$U$59,'2^n'!K$5,0)","v":2222.8000000000002},{"$f":"VLOOKUP(Z28,models1!$P$43:$U$59,'2^n'!L$5,0)","v":22783.3},{"$f":"VLOOKUP(AA28,models1!$P$43:$U$59,'2^n'!M$5,0)","v":0},55569.100000000006,null,1,5,8,12,16]
[22,15,11,8,4,1,"?",null,{"$f":"VLOOKUP(B29,models1!$A$43:$F$59,'2^n'!I$5,0)","v":0},{"$f":"VLOOKUP(C29,models1!$A$43:$F$59,'2^n'!J$5,0)","v":2051.4},{"$f":"VLOOKUP(D29,models1!$A$43:$F$59,'2^n'!K$5,0)","v":5128.5},{"$f":"VLOOKUP(E29,models1!$A$43:$F$59,'2^n'!L$5,0)","v":12992},{"$f":"VLOOKUP(F29,models1!$A$43:$F$59,'2^n'!M$5,0)","v":42395.8},62567.700000000004,null,{"$f":"VLOOKUP(W29,models1!$P$43:$U$59,'2^n'!I$5,0)","v":13892.3},{"$f":"VLOOKUP(X29,models1!$P$43:$U$59,'2^n'!J$5,0)","v":16670.7},{"$f":"VLOOKUP(Y29,models1!$P$43:$U$59,'2^n'!K$5,0)","v":2222.8000000000002},{"$f":"VLOOKUP(Z29,models1!$P$43:$U$59,'2^n'!L$5,0)","v":22783.3},{"$f":"VLOOKUP(AA29,models1!$P$43:$U$59,'2^n'!M$5,0)","v":0},55569.100000000006,null,1,5,8,12,15]
[23,15,11,8,5,0,"?",null,{"$f":"VLOOKUP(B30,models1!$A$43:$F$59,'2^n'!I$5,0)","v":0},{"$f":"VLOOKUP(C30,models1!$A$43:$F$59,'2^n'!J$5,0)","v":2051.4},{"$f":"VLOOKUP(D30,models1!$A$43:$F$59,'2^n'!K$5,0)","v":5128.5},{"$f":"VLOOKUP(E30,models1!$A$43:$F$59,'2^n'!L$5,0)","v":12992},{"$f":"VLOOKUP(F30,models1!$A$43:$F$59,'2^n'!M$5,0)","v":42395.8},62567.700000000004,null,{"$f":"VLOOKUP(W30,models1!$P$43:$U$59,'2^n'!I$5,0)","v":13892.3},{"$f":"VLOOKUP(X30,models1!$P$43:$U$59,'2^n'!J$5,0)","v":16670.7},{"$f":"VLOOKUP(Y30,models1!$P$43:$U$59,'2^n'!K$5,0)","v":2222.8000000000002},{"$f":"VLOOKUP(Z30,models1!$P$43:$U$59,'2^n'!L$5,0)","v":22783.3},{"$f":"VLOOKUP(AA30,models1!$P$43:$U$59,'2^n'!M$5,0)","v":0},55569.100000000006,null,1,5,8,11,16]
[24,15,11,8,5,1,"?",null,{"$f":"VLOOKUP(B31,models1!$A$43:$F$59,'2^n'!I$5,0)","v":0},{"$f":"VLOOKUP(C31,models1!$A$43:$F$59,'2^n'!J$5,0)","v":2051.4},{"$f":"VLOOKUP(D31,models1!$A$43:$F$59,'2^n'!K$5,0)","v":5128.5},{"$f":"VLOOKUP(E31,models1!$A$43:$F$59,'2^n'!L$5,0)","v":12992},{"$f":"VLOOKUP(F31,models1!$A$43:$F$59,'2^n'!M$5,0)","v":42395.8},62567.700000000004,null,{"$f":"VLOOKUP(W31,models1!$P$43:$U$59,'2^n'!I$5,0)","v":13892.3},{"$f":"VLOOKUP(X31,models1!$P$43:$U$59,'2^n'!J$5,0)","v":16670.7},{"$f":"VLOOKUP(Y31,models1!$P$43:$U$59,'2^n'!K$5,0)","v":2222.8000000000002},{"$f":"VLOOKUP(Z31,models1!$P$43:$U$59,'2^n'!L$5,0)","v":22783.3},{"$f":"VLOOKUP(AA31,models1!$P$43:$U$59,'2^n'!M$5,0)","v":0},55569.100000000006,null,1,5,8,11,15]
[25,15,12,7,4,0,"?",null,{"$f":"VLOOKUP(B32,models1!$A$43:$F$59,'2^n'!I$5,0)","v":0},{"$f":"VLOOKUP(C32,models1!$A$43:$F$59,'2^n'!J$5,0)","v":2051.4},{"$f":"VLOOKUP(D32,models1!$A$43:$F$59,'2^n'!K$5,0)","v":5128.5},{"$f":"VLOOKUP(E32,models1!$A$43:$F$59,'2^n'!L$5,0)","v":12992},{"$f":"VLOOKUP(F32,models1!$A$43:$F$59,'2^n'!M$5,0)","v":42395.8},62567.700000000004,null,{"$f":"VLOOKUP(W32,models1!$P$43:$U$59,'2^n'!I$5,0)","v":13892.3},{"$f":"VLOOKUP(X32,models1!$P$43:$U$59,'2^n'!J$5,0)","v":21116.2},{"$f":"VLOOKUP(Y32,models1!$P$43:$U$59,'2^n'!K$5,0)","v":2222.8000000000002},{"$f":"VLOOKUP(Z32,models1!$P$43:$U$59,'2^n'!L$5,0)","v":22783.3},{"$f":"VLOOKUP(AA32,models1!$P$43:$U$59,'2^n'!M$5,0)","v":0},60014.600000000006,null,1,4,9,12,16]
[26,15,12,7,4,1,"?",null,{"$f":"VLOOKUP(B33,models1!$A$43:$F$59,'2^n'!I$5,0)","v":0},{"$f":"VLOOKUP(C33,models1!$A$43:$F$59,'2^n'!J$5,0)","v":2051.4},{"$f":"VLOOKUP(D33,models1!$A$43:$F$59,'2^n'!K$5,0)","v":5128.5},{"$f":"VLOOKUP(E33,models1!$A$43:$F$59,'2^n'!L$5,0)","v":12992},{"$f":"VLOOKUP(F33,models1!$A$43:$F$59,'2^n'!M$5,0)","v":42395.8},62567.700000000004,null,{"$f":"VLOOKUP(W33,models1!$P$43:$U$59,'2^n'!I$5,0)","v":13892.3},{"$f":"VLOOKUP(X33,models1!$P$43:$U$59,'2^n'!J$5,0)","v":21116.2},{"$f":"VLOOKUP(Y33,models1!$P$43:$U$59,'2^n'!K$5,0)","v":2222.8000000000002},{"$f":"VLOOKUP(Z33,models1!$P$43:$U$59,'2^n'!L$5,0)","v":22783.3},{"$f":"VLOOKUP(AA33,models1!$P$43:$U$59,'2^n'!M$5,0)","v":0},60014.600000000006,null,1,4,9,12,15]
[27,15,12,7,5,0,"?",null,{"$f":"VLOOKUP(B34,models1!$A$43:$F$59,'2^n'!I$5,0)","v":0},{"$f":"VLOOKUP(C34,models1!$A$43:$F$59,'2^n'!J$5,0)","v":2051.4},{"$f":"VLOOKUP(D34,models1!$A$43:$F$59,'2^n'!K$5,0)","v":5128.5},{"$f":"VLOOKUP(E34,models1!$A$43:$F$59,'2^n'!L$5,0)","v":12992},{"$f":"VLOOKUP(F34,models1!$A$43:$F$59,'2^n'!M$5,0)","v":42395.8},62567.700000000004,null,{"$f":"VLOOKUP(W34,models1!$P$43:$U$59,'2^n'!I$5,0)","v":13892.3},{"$f":"VLOOKUP(X34,models1!$P$43:$U$59,'2^n'!J$5,0)","v":21116.2},{"$f":"VLOOKUP(Y34,models1!$P$43:$U$59,'2^n'!K$5,0)","v":2222.8000000000002},{"$f":"VLOOKUP(Z34,models1!$P$43:$U$59,'2^n'!L$5,0)","v":22783.3},{"$f":"VLOOKUP(AA34,models1!$P$43:$U$59,'2^n'!M$5,0)","v":0},60014.600000000006,null,1,4,9,11,16]
[28,15,12,7,5,1,"?",null,{"$f":"VLOOKUP(B35,models1!$A$43:$F$59,'2^n'!I$5,0)","v":0},{"$f":"VLOOKUP(C35,models1!$A$43:$F$59,'2^n'!J$5,0)","v":2051.4},{"$f":"VLOOKUP(D35,models1!$A$43:$F$59,'2^n'!K$5,0)","v":5128.5},{"$f":"VLOOKUP(E35,models1!$A$43:$F$59,'2^n'!L$5,0)","v":12992},{"$f":"VLOOKUP(F35,models1!$A$43:$F$59,'2^n'!M$5,0)","v":42395.8},62567.700000000004,null,{"$f":"VLOOKUP(W35,models1!$P$43:$U$59,'2^n'!I$5,0)","v":13892.3},{"$f":"VLOOKUP(X35,models1!$P$43:$U$59,'2^n'!J$5,0)","v":21116.2},{"$f":"VLOOKUP(Y35,models1!$P$43:$U$59,'2^n'!K$5,0)","v":2222.8000000000002},{"$f":"VLOOKUP(Z35,models1!$P$43:$U$59,'2^n'!L$5,0)","v":22783.3},{"$f":"VLOOKUP(AA35,models1!$P$43:$U$59,'2^n'!M$5,0)","v":0},60014.600000000006,null,1,4,9,11,15]
[29,15,12,8,4,0,"?",null,{"$f":"VLOOKUP(B36,models1!$A$43:$F$59,'2^n'!I$5,0)","v":0},{"$f":"VLOOKUP(C36,models1!$A$43:$F$59,'2^n'!J$5,0)","v":2051.4},{"$f":"VLOOKUP(D36,models1!$A$43:$F$59,'2^n'!K$5,0)","v":5128.5},{"$f":"VLOOKUP(E36,models1!$A$43:$F$59,'2^n'!L$5,0)","v":12992},{"$f":"VLOOKUP(F36,models1!$A$43:$F$59,'2^n'!M$5,0)","v":42395.8},62567.700000000004,null,{"$f":"VLOOKUP(W36,models1!$P$43:$U$59,'2^n'!I$5,0)","v":13892.3},{"$f":"VLOOKUP(X36,models1!$P$43:$U$59,'2^n'!J$5,0)","v":21116.2},{"$f":"VLOOKUP(Y36,models1!$P$43:$U$59,'2^n'!K$5,0)","v":2222.8000000000002},{"$f":"VLOOKUP(Z36,models1!$P$43:$U$59,'2^n'!L$5,0)","v":22783.3},{"$f":"VLOOKUP(AA36,models1!$P$43:$U$59,'2^n'!M$5,0)","v":0},60014.600000000006,null,1,4,8,12,16]
[30,15,12,8,4,1,"?",null,{"$f":"VLOOKUP(B37,models1!$A$43:$F$59,'2^n'!I$5,0)","v":0},{"$f":"VLOOKUP(C37,models1!$A$43:$F$59,'2^n'!J$5,0)","v":2051.4},{"$f":"VLOOKUP(D37,models1!$A$43:$F$59,'2^n'!K$5,0)","v":5128.5},{"$f":"VLOOKUP(E37,models1!$A$43:$F$59,'2^n'!L$5,0)","v":12992},{"$f":"VLOOKUP(F37,models1!$A$43:$F$59,'2^n'!M$5,0)","v":42395.8},62567.700000000004,null,{"$f":"VLOOKUP(W37,models1!$P$43:$U$59,'2^n'!I$5,0)","v":13892.3},{"$f":"VLOOKUP(X37,models1!$P$43:$U$59,'2^n'!J$5,0)","v":21116.2},{"$f":"VLOOKUP(Y37,models1!$P$43:$U$59,'2^n'!K$5,0)","v":2222.8000000000002},{"$f":"VLOOKUP(Z37,models1!$P$43:$U$59,'2^n'!L$5,0)","v":22783.3},{"$f":"VLOOKUP(AA37,models1!$P$43:$U$59,'2^n'!M$5,0)","v":0},60014.600000000006,null,1,4,8,12,15]
[31,15,12,8,5,0,"?",null,{"$f":"VLOOKUP(B38,models1!$A$43:$F$59,'2^n'!I$5,0)","v":0},{"$f":"VLOOKUP(C38,models1!$A$43:$F$59,'2^n'!J$5,0)","v":2051.4},{"$f":"VLOOKUP(D38,models1!$A$43:$F$59,'2^n'!K$5,0)","v":5128.5},{"$f":"VLOOKUP(E38,models1!$A$43:$F$59,'2^n'!L$5,0)","v":12992},{"$f":"VLOOKUP(F38,models1!$A$43:$F$59,'2^n'!M$5,0)","v":42395.8},62567.700000000004,null,{"$f":"VLOOKUP(W38,models1!$P$43:$U$59,'2^n'!I$5,0)","v":13892.3},{"$f":"VLOOKUP(X38,models1!$P$43:$U$59,'2^n'!J$5,0)","v":21116.2},{"$f":"VLOOKUP(Y38,models1!$P$43:$U$59,'2^n'!K$5,0)","v":2222.8000000000002},{"$f":"VLOOKUP(Z38,models1!$P$43:$U$59,'2^n'!L$5,0)","v":22783.3},{"$f":"VLOOKUP(AA38,models1!$P$43:$U$59,'2^n'!M$5,0)","v":0},60014.600000000006,null,1,4,8,11,16]
[32,15,12,8,5,1,"?",null,{"$f":"VLOOKUP(B39,models1!$A$43:$F$59,'2^n'!I$5,0)","v":0},{"$f":"VLOOKUP(C39,models1!$A$43:$F$59,'2^n'!J$5,0)","v":2051.4},{"$f":"VLOOKUP(D39,models1!$A$43:$F$59,'2^n'!K$5,0)","v":5128.5},{"$f":"VLOOKUP(E39,models1!$A$43:$F$59,'2^n'!L$5,0)","v":12992},{"$f":"VLOOKUP(F39,models1!$A$43:$F$59,'2^n'!M$5,0)","v":42395.8},62567.700000000004,null,{"$f":"VLOOKUP(W39,models1!$P$43:$U$59,'2^n'!I$5,0)","v":13892.3},{"$f":"VLOOKUP(X39,models1!$P$43:$U$59,'2^n'!J$5,0)","v":21116.2},{"$f":"VLOOKUP(Y39,models1!$P$43:$U$59,'2^n'!K$5,0)","v":2222.8000000000002},{"$f":"VLOOKUP(Z39,models1!$P$43:$U$59,'2^n'!L$5,0)","v":22783.3},{"$f":"VLOOKUP(AA39,models1!$P$43:$U$59,'2^n'!M$5,0)","v":0},60014.600000000006,null,1,4,8,11,15]