{"text_format":"1","workbook":"xlsx","n_sheets":6,"sheets":["ini","Munka7","Munka7 (2)","Munka7 (3)","munkaterv","info"],"not_rendered":{"charts":0,"images":0,"macros":1,"external_links":0,"defined_names":0,"comments":0,"pivot_tables":0},"unopened":[],"bounds":{"document_bytes":16777216,"sheet_cells":100000,"rows_first":2000,"rows_last":500,"rows_between":2000,"halvings":0,"cell_chars":16384,"cell_head_chars":4096},"cells_cut":0,"cells_raw":0,"read":"whole","date_system":"1900"}

{"sheet":"ini","index":0,"n_rows":3,"n_cols":2,"rows_kept":3,"cut":false,"hidden":false,"merged":[]}
[0]
[null,"A1 legyen nulla minden játék kezdetén…"]
[null,"A munka7 legyen színtelen és üres…"]

{"sheet":"Munka7","index":1,"n_rows":10,"n_cols":10,"rows_kept":10,"cut":false,"hidden":false,"merged":[]}
[null,null,null,null,null,null,"_45",null,"_19"]
[null,null,null,"_47","_46","_8","_44","_18","_48"]
["_30",null,null,"_0","_5","_43","_10","_42","_20","_24"]
[null,"_29",null,"_1","_2","_6","_14","_12","_15"]
["_39",null,"_7","_33","_4","_3","_16","_23","_13"]
[null,"_38","_9","_11","_22","_21","_17"]
[null,null,"_32","_31","_27","_25"]
[null,"_37","_36","_34","_26","_28","_35"]
[null,null,null,null,"_40"]
[null,null,null,null,null,"_41"]

{"sheet":"Munka7 (2)","index":2,"n_rows":22,"n_cols":113,"rows_kept":22,"cut":false,"hidden":false,"merged":[[12,1,19,8]]}
[null,null,null,null,null,null,null,null,null,null,null,null,"a","b","c","d","e","f","g","h","i","j",{"$f":"M1","v":"a"},{"$f":"N1","v":"b"},"c","d","e","f","g","h","i","j","a","b","c","d","e","f","g","h","i","j","a","b","c","d","e","f","g","h","i","j","a","b","c","d","e","f","g","h","i","j","a","b","c","d","e","f","g","h","i","j","a","b","c","d","e","f","g","h","i","j","a","b","c","d","e",{"$f":"BZ1","v":"f"},"g","h","i","j","a","b","c","d","e","f","g","h","i","j","a","b","c","d","e","f","g","h","i","j"]
[null,null,null,null,null,null,17,null,null,null,null,"id",1,1,1,1,1,1,1,1,1,1,{"$f":"M2+1","v":2},{"$f":"N2+1","v":2},2,2,2,2,2,2,2,2,3,3,3,3,3,3,3,3,3,3,4,4,4,4,4,4,4,4,4,4,5,5,5,5,5,5,5,5,5,5,6,6,6,6,6,6,6,6,6,6,7,7,7,7,7,7,7,7,7,7,8,8,8,8,8,{"$f":"BZ2+1","v":8},8,8,8,8,9,9,9,9,9,9,9,9,9,9,10,10,10,10,10,10,10,10,10,10,"Y"]
[null,null,null,null,null,10,null,null,null,null,null,1,{"$f":"A1","v":0},{"$f":"B1","v":0},0,0,0,0,0,0,0,0,{"$f":"A2","v":0},{"$f":"B2","v":0},0,0,0,0,17,0,0,0,{"$f":"A3","v":0},{"$f":"B3","v":0},0,0,0,10,0,0,0,0,{"$f":"A4","v":0},{"$f":"B4","v":0},0,6,16,3,0,0,0,0,{"$f":"A5","v":0},{"$f":"B5","v":0},0,4,0,5,0,0,0,0,{"$f":"A6","v":0},{"$f":"B6","v":0},0,2,1,9,0,0,0,0,{"$f":"A7","v":0},{"$f":"B7","v":0},14,7,13,11,15,19,0,0,{"$f":"A8","v":0},{"$f":"B8","v":18},8,0,0,12,0,0,0,0,{"$f":"A9","v":0},{"$f":"B9","v":0},0,0,0,0,0,0,0,0,{"$f":"A10","v":0},{"$f":"B10","v":0},0,0,0,0,0,0,0,0,{"$f":"IF(MAX(M3:DH3)/2=INT(MAX(M3:DH3)/2),100-MAX(M3:DH3),MAX(M3:DH3)-100)","v":-81}]
[null,null,null,6,16,3,null,null,null,null,null,2,{"$f":"'Munka7 (3)'!M3","v":0},{"$f":"'Munka7 (3)'!N3","v":0},{"$f":"'Munka7 (3)'!O3","v":0},{"$f":"'Munka7 (3)'!P3","v":0},{"$f":"'Munka7 (3)'!Q3","v":0},{"$f":"'Munka7 (3)'!R3","v":0},{"$f":"'Munka7 (3)'!S3","v":45},{"$f":"'Munka7 (3)'!T3","v":0},{"$f":"'Munka7 (3)'!U3","v":19},{"$f":"'Munka7 (3)'!V3","v":0},{"$f":"'Munka7 (3)'!W3","v":0},{"$f":"'Munka7 (3)'!X3","v":0},{"$f":"'Munka7 (3)'!Y3","v":0},{"$f":"'Munka7 (3)'!Z3","v":47},{"$f":"'Munka7 (3)'!AA3","v":46},{"$f":"'Munka7 (3)'!AB3","v":8},{"$f":"'Munka7 (3)'!AC3","v":44},{"$f":"'Munka7 (3)'!AD3","v":18},{"$f":"'Munka7 (3)'!AE3","v":48},{"$f":"'Munka7 (3)'!AF3","v":0},{"$f":"'Munka7 (3)'!AG3","v":30},{"$f":"'Munka7 (3)'!AH3","v":0},{"$f":"'Munka7 (3)'!AI3","v":0},{"$f":"'Munka7 (3)'!AJ3","v":0},{"$f":"'Munka7 (3)'!AK3","v":5},{"$f":"'Munka7 (3)'!AL3","v":43},{"$f":"'Munka7 (3)'!AM3","v":10},{"$f":"'Munka7 (3)'!AN3","v":42},{"$f":"'Munka7 (3)'!AO3","v":20},{"$f":"'Munka7 (3)'!AP3","v":24},{"$f":"'Munka7 (3)'!AQ3","v":0},{"$f":"'Munka7 (3)'!AR3","v":29},{"$f":"'Munka7 (3)'!AS3","v":0},{"$f":"'Munka7 (3)'!AT3","v":1},{"$f":"'Munka7 (3)'!AU3","v":2},{"$f":"'Munka7 (3)'!AV3","v":6},{"$f":"'Munka7 (3)'!AW3","v":14},{"$f":"'Munka7 (3)'!AX3","v":12},{"$f":"'Munka7 (3)'!AY3","v":15},{"$f":"'Munka7 (3)'!AZ3","v":0},{"$f":"'Munka7 (3)'!BA3","v":39},{"$f":"'Munka7 (3)'!BB3","v":0},{"$f":"'Munka7 (3)'!BC3","v":7},{"$f":"'Munka7 (3)'!BD3","v":33},{"$f":"'Munka7 (3)'!BE3","v":4},{"$f":"'Munka7 (3)'!BF3","v":3},{"$f":"'Munka7 (3)'!BG3","v":16},{"$f":"'Munka7 (3)'!BH3","v":23},{"$f":"'Munka7 (3)'!BI3","v":13},{"$f":"'Munka7 (3)'!BJ3","v":0},{"$f":"'Munka7 (3)'!BK3","v":0},{"$f":"'Munka7 (3)'!BL3","v":38},{"$f":"'Munka7 (3)'!BM3","v":9},{"$f":"'Munka7 (3)'!BN3","v":11},{"$f":"'Munka7 (3)'!BO3","v":22},{"$f":"'Munka7 (3)'!BP3","v":21},{"$f":"'Munka7 (3)'!BQ3","v":17},{"$f":"'Munka7 (3)'!BR3","v":0},{"$f":"'Munka7 (3)'!BS3","v":0},{"$f":"'Munka7 (3)'!BT3","v":0},{"$f":"'Munka7 (3)'!BU3","v":0},{"$f":"'Munka7 (3)'!BV3","v":0},{"$f":"'Munka7 (3)'!BW3","v":32},{"$f":"'Munka7 (3)'!BX3","v":31},{"$f":"'Munka7 (3)'!BY3","v":27},{"$f":"'Munka7 (3)'!BZ3","v":25},{"$f":"'Munka7 (3)'!CA3","v":0},{"$f":"'Munka7 (3)'!CB3","v":0},{"$f":"'Munka7 (3)'!CC3","v":0},{"$f":"'Munka7 (3)'!CD3","v":0},{"$f":"'Munka7 (3)'!CE3","v":0},{"$f":"'Munka7 (3)'!CF3","v":37},{"$f":"'Munka7 (3)'!CG3","v":36},{"$f":"'Munka7 (3)'!CH3","v":34},{"$f":"'Munka7 (3)'!CI3","v":26},{"$f":"'Munka7 (3)'!CJ3","v":28},{"$f":"'Munka7 (3)'!CK3","v":35},{"$f":"'Munka7 (3)'!CL3","v":0},{"$f":"'Munka7 (3)'!CM3","v":0},{"$f":"'Munka7 (3)'!CN3","v":0},{"$f":"'Munka7 (3)'!CO3","v":0},{"$f":"'Munka7 (3)'!CP3","v":0},{"$f":"'Munka7 (3)'!CQ3","v":0},{"$f":"'Munka7 (3)'!CR3","v":0},{"$f":"'Munka7 (3)'!CS3","v":40},{"$f":"'Munka7 (3)'!CT3","v":0},{"$f":"'Munka7 (3)'!CU3","v":0},{"$f":"'Munka7 (3)'!CV3","v":0},{"$f":"'Munka7 (3)'!CW3","v":0},{"$f":"'Munka7 (3)'!CX3","v":0},{"$f":"'Munka7 (3)'!CY3","v":0},{"$f":"'Munka7 (3)'!CZ3","v":0},{"$f":"'Munka7 (3)'!DA3","v":0},{"$f":"'Munka7 (3)'!DB3","v":0},{"$f":"'Munka7 (3)'!DC3","v":0},{"$f":"'Munka7 (3)'!DD3","v":41},{"$f":"'Munka7 (3)'!DE3","v":0},{"$f":"'Munka7 (3)'!DF3","v":0},{"$f":"'Munka7 (3)'!DG3","v":0},{"$f":"'Munka7 (3)'!DH3","v":0},{"$f":"IF(MAX(M4:DH4)/MAX(M4:DH4)=INT(MAX(M4:DH4)/MAX(M4:DH4)),100-MAX(M4:DH4),MAX(M4:DH4)-100)","v":52}]
[null,null,null,4,0,5,null,null,null,null,null,3]
[null,null,null,2,1,9,null,null,null,null,null,4]
[null,null,14,7,13,11,15,19,null,null,null,5]
[null,18,8,null,null,12,null,null,null,null,null,6]
[null,null,null,null,null,null,null,null,null,null,null,7]
[null,null,null,null,null,null,null,null,null,null,null,8]
[null,null,null,null,null,null,null,null,null,null,null,9]
[null,null,null,null,null,null,null,null,null,null,null,10]
[null,"Vajon a színes cellák által kirajzolt síkidom középpontjához érdemes lesz-e viszonyítani (inkl. forgatások)?",null,null,null,null,null,null,null,null,null,11]
[null,null,null,null,null,null,null,null,null,null,null,12]
[null,null,null,null,null,null,null,null,null,null,null,13]
[null,null,null,null,null,null,null,null,null,null,null,14]
[null,null,null,null,null,null,null,null,null,null,null,15]
[null,null,null,null,null,null,null,null,null,null,null,16]
[null,null,null,null,null,null,null,null,null,null,null,17]
[null,null,null,null,null,null,null,null,null,null,null,18]
[null,null,null,null,null,null,null,null,null,null,null,19]
[null,null,null,null,null,null,null,null,null,null,null,20]

{"sheet":"Munka7 (3)","index":3,"n_rows":22,"n_cols":113,"rows_kept":22,"cut":false,"hidden":false,"merged":[[12,1,18,8]]}
[null,null,null,null,null,null,45,null,19,null,null,null,"a","b","c","d","e","f","g","h","i","j",{"$f":"M1","v":"a"},{"$f":"N1","v":"b"},"c","d","e","f","g","h","i","j","a","b","c","d","e","f","g","h","i","j","a","b","c","d","e","f","g","h","i","j","a","b","c","d","e","f","g","h","i","j","a","b","c","d","e","f","g","h","i","j","a","b","c","d","e","f","g","h","i","j","a","b","c","d","e",{"$f":"BZ1","v":"f"},"g","h","i","j","a","b","c","d","e","f","g","h","i","j","a","b","c","d","e","f","g","h","i","j"]
[null,null,null,47,46,8,44,18,48,null,null,"id",1,1,1,1,1,1,1,1,1,1,{"$f":"M2+1","v":2},{"$f":"N2+1","v":2},2,2,2,2,2,2,2,2,3,3,3,3,3,3,3,3,3,3,4,4,4,4,4,4,4,4,4,4,5,5,5,5,5,5,5,5,5,5,6,6,6,6,6,6,6,6,6,6,7,7,7,7,7,7,7,7,7,7,8,8,8,8,8,{"$f":"BZ2+1","v":8},8,8,8,8,9,9,9,9,9,9,9,9,9,9,10,10,10,10,10,10,10,10,10,10,"Y"]
[30,null,null,0,5,43,10,42,20,24,null,1,{"$f":"A1","v":0},{"$f":"B1","v":0},0,0,0,0,45,0,19,0,{"$f":"A2","v":0},{"$f":"B2","v":0},0,47,46,8,44,18,48,0,{"$f":"A3","v":30},{"$f":"B3","v":0},0,0,5,43,10,42,20,24,{"$f":"A4","v":0},{"$f":"B4","v":29},0,1,2,6,14,12,15,0,{"$f":"A5","v":39},{"$f":"B5","v":0},7,33,4,3,16,23,13,0,{"$f":"A6","v":0},{"$f":"B6","v":38},9,11,22,21,17,0,0,0,{"$f":"A7","v":0},{"$f":"B7","v":0},32,31,27,25,0,0,0,0,{"$f":"A8","v":0},{"$f":"B8","v":37},36,34,26,28,35,0,0,0,{"$f":"A9","v":0},{"$f":"B9","v":0},0,0,40,0,0,0,0,0,{"$f":"A10","v":0},{"$f":"B10","v":0},0,0,0,41,0,0,0,0,{"$f":"IF(MAX(M3:DH3)/2=INT(MAX(M3:DH3)/2),100-MAX(M3:DH3),MAX(M3:DH3)-100)","v":52}]
[null,29,null,1,2,6,14,12,15,null,null,2]
[39,null,7,33,4,3,16,23,13,null,null,3]
[null,38,9,11,22,21,17,null,null,null,null,4]
[null,null,32,31,27,25,null,null,null,null,null,5]
[null,37,36,34,26,28,35,null,null,null,null,6]
[null,null,null,null,40,null,null,null,null,null,null,7]
[null,null,null,null,null,41,null,null,null,null,null,8]
[null,null,null,null,null,null,null,null,null,null,null,9]
[null,null,null,null,null,null,null,null,null,null,null,10]
[null,"A tudásreprezentáció COCO MCM esetén vissza fog térni egy félkész játék n. lépésekor a még üres cellák várható előnyösségi értékével (m játszma alapján becsülve). Ezen visszatérési értékek maximuma (kék kezd, kék nyer szempontból) az ajánlott lépés. Azonosság esetén vizsgálható, vajon a későbbi lépések értéke hol a nagyobb (átlag, szórás, max, min, trend, stb. = önálló COCO Y0-probléma) az adott sorszámú lépés értékéhez mérten...",null,null,null,null,null,null,null,null,null,11]
[null,null,null,null,null,null,null,null,null,null,null,12]
[null,null,null,null,null,null,null,null,null,null,null,13]
[null,null,null,null,null,null,null,null,null,null,null,14]
[null,null,null,null,null,null,null,null,null,null,null,15]
[null,null,null,null,null,null,null,null,null,null,null,16]
[null,null,null,null,null,null,null,null,null,null,null,17]
[null,null,null,null,null,null,null,null,null,null,null,18]
[null,null,null,null,null,null,null,null,null,null,null,19]
[null,null,null,null,null,null,null,null,null,null,null,20]

{"sheet":"munkaterv","index":4,"n_rows":15,"n_cols":2,"rows_kept":15,"cut":false,"hidden":false,"merged":[]}
["Feladatok (automatizálási kihívások)"]
[1,"minden lépés után kerüljön kiértékelésre, győzött-e már valaki"]
[2,"másolatkészítés"]
[3,"adatrekord kialakítás"]
[4,"adatrekord OAM-ba integrálás"]
[5,"…"]
[]
[]
["Nyitott kérdések"]
[1,"Hasznos-e félkész játszákat kialakítani a készekből?"]
[2,"Mi legyen ezen félkész rekordok (esetek) Y értéke?"]
[]
["Célok"]
[1,"Amőbázni tanítani a számítógép mindennemű instrukció nélkül"]
[2,"Eltérő tudásreprezentációs formák tanulási sikerességre gyakorolt hatásának felmérése"]

{"sheet":"info","index":5,"n_rows":14,"n_cols":2,"rows_kept":14,"cut":false,"hidden":false,"merged":[]}
["Munkalap","Tartalom"]
["ini","a makró számára megadható nyitóérték a lépések számának vizualizálása érdekében"]
["Munka7","az eseményvezérelt makró munkalapja - minden új cella-kijelölés = esemény"]
["Munka7 (2)","archív játékállapotok a játék lefutásának egyre bővülő OAM-jával, ahol a következmény-változó jelzi ki nyert és mikor…"]
["Munka7 (3)","archív játékállapotok"]
["munkaterv","a fejlesztés lehetséges rétegei, céljai"]
[]
[]
["Szerző","Pitlik László"]
["Kiadó","MIAÚ"]
["Nr",289]
["Cím","Amőba-játék naplózása Excel-makró segítségével"]
["Title","(Macro-based game-logs)"]
["URL","https://miau.my-x.hu/miau/289/sheet7_amoba.xlsm"]