{"text_format":"1","workbook":"xlsx","n_sheets":10,"sheets":["nyers_adat","ab_számláló","ab","2015_régi","2015","2016","2017","2018","2019","2020"],"not_rendered":{"charts":0,"images":1,"macros":1,"external_links":1,"defined_names":0,"comments":0,"pivot_tables":0},"unopened":[],"bounds":{"document_bytes":16777216,"sheet_cells":100000,"rows_first":2000,"rows_last":500,"rows_between":2000,"halvings":0,"cell_chars":16384,"cell_head_chars":4096},"cells_cut":0,"cells_raw":0,"read":"whole","date_system":"1900"}

{"sheet":"nyers_adat","index":0,"n_rows":175,"n_cols":31,"rows_kept":175,"cut":false,"hidden":false,"merged":[]}
["Területi egység neve","Területi egység szintje","Év","Lakosság","Belgyógyászat","Sebészet","Baleseti sebészet","Szülészet és nőgyógyászat","Csecsemő- és gyermek-gyógyászat","Fül-orr-gégészet","Szemészet","Bőrgyógyászat és nemibeteg-ellátás","Neurológia","Ortopédia","Urológia","Onkológia","Fogászat","Reumatológia","Aneszteziológiai és intenzív betegellátás","Pszichiátria","Nukleáris medicina (izotóp-diagnosztika és \n-terápia)","Fizioterápia","Patológia és kórszövettan","Ultrahang-diagnosztika és -terápia","Tomográfia","Röntgen-diagnosztika és -terápia","Laboratóriumi diagnosztika","Sürgősségi betegellátás, oxyológia","Kardiológia","Orvosi rehabilitáció","Tüdő-gyógyászat"]
["Budapest + Pest","főváros, régió + megye, régió",2015,{"$f":"'[1]22.1.2.1'!Q68","v":2983733},1450019.9999999995,1082978.0000000002,507858.99999999994,1067647.9999999998,580747.00000000012,877184,932251.99999999977,777292.99999999988,458156.99999999983,450466.99999999988,592805,364592,2277599.0000000061,1193040.0000000005,115043.99999999999,840021,75220,2377062.0000000009,377570.00000000006,631520,266503.00000000017,1301911.9999999995,5634850.0000000009,236332,854074.00000000023,187816,850058.99999999988]
["Közép-Magyarország","nagyrégió",2015,{"$f":"'[1]22.1.2.1'!Q69","v":2983733},1450019.9999999995,1082978.0000000002,507858.99999999994,1067647.9999999998,580747.00000000012,877184,932251.99999999977,777292.99999999988,458156.99999999983,450466.99999999988,592805,364592,2277599.0000000061,1193040.0000000005,115043.99999999999,840021,75220,2377062.0000000009,377570.00000000006,631520,266503.00000000017,1301911.9999999995,5634850.0000000009,236332,854074.00000000023,187816,850058.99999999988]
["Fejér","megye",2015,{"$f":"'[1]22.1.2.1'!Q70","v":417651},132980.99999999997,85280,66207,114687,55903.000000000007,87168,82020,48480,42849,38893,39824,23715,305840.99999999977,91512,15595,59382,2780,283759,38200,93169.999999999985,27226.000000000011,171945.00000000003,491099,76534,56241,3949,75649]
["Komárom-Esztergom","megye",2015,{"$f":"'[1]22.1.2.1'!Q71","v":299110},94376.000000000015,77843,40451,83260,32636.000000000007,52186.999999999985,59931,57521.999999999985,34038,18170,39174,13464,174687,83210.999999999985,6408,52396.999999999993,6872,279466,25865,50900.000000000007,12958.000000000002,116594,285110,21054,33780,2696,55034.000000000007]
["Veszprém","megye",2015,{"$f":"'[1]22.1.2.1'!Q72","v":346647},98343.999999999985,75132.999999999985,76607,86158,33382,70424.000000000015,73804.999999999985,41633,35646,12264,43937.000000000007,19842,234783.00000000041,100689.00000000001,13310,73811,3849,249121.99999999997,28687,63837,26771.999999999993,116375.00000000001,303367,27950,49327,33310,80698]
["Közép-Dunántúl","régió",2015,{"$f":"'[1]22.1.2.1'!Q73","v":1063408},325701,238256,183265,284105,121921.00000000001,209779,215756,147635,112533,69327,122935,57021,715311.00000000023,275412,35313,185590,13501,812347,92752,207907,66956,404914,1079576,125538,139348,39955,211381]
["Győr-Moson-Sopron","megye",2015,{"$f":"'[1]22.1.2.1'!Q74","v":452638},108315.99999999997,96452.000000000015,89881,112753,50444.000000000007,65810,74184,44490,40197,30036,63061,35983,246390.00000000009,69679,11609,79205.000000000015,3790,279066,81727,77344,38245.000000000007,174996,426304,73743,49228.999999999993,6377,66126]
["Vas","megye",2015,{"$f":"'[1]22.1.2.1'!Q75","v":253997},73943,52107,23755,62474,19633,41129,48222,29887,25530,10810,30609,28277.000000000004,132193,76423,5745,31074,1191,126238,25108,21640,19200.000000000004,74795,300301,30228,14479.999999999998,12554,43117]
["Zala","megye",2015,{"$f":"'[1]22.1.2.1'!Q76","v":277290},87999,44303,64629,65648,26406.000000000004,49058,59198,35181,35666.999999999993,31790,35801,22759,174779.00000000009,89866,7460,34944.000000000007,2405,315907,26873,51036,22958.000000000004,91342,373036,28105,42109,13118.999999999998,58002.000000000007]
["Nyugat-Dunántúl","régió",2015,{"$f":"'[1]22.1.2.1'!Q77","v":983925},270258,192862,178265,240875,96483,155997,181604,109558,101394,72636,129471,87019,553362.00000000023,235968,24814,145223.00000000003,7386,721211,133708,150020,80403.000000000015,341133,1099641,132076,105818,32050,167245]
["Baranya","megye",2015,{"$f":"'[1]22.1.2.1'!Q78","v":371110},160025,111824,62087,125518.99999999997,101519.99999999999,83457,94033,85978,50578,32810,69852.999999999971,66574,359611.99999999936,103940,10800,112948.99999999997,4063,236183.99999999994,51310.000000000007,108305.00000000001,36562,148241.99999999997,687087,31761,109661,9974,99942.999999999985]
["Somogy","megye",2015,{"$f":"'[1]22.1.2.1'!Q79","v":312084},106199.99999999999,107710.99999999999,31306,81172,36626.000000000007,56729,65106,56850,38855,31713.999999999996,29444.000000000004,39154,190734.00000000006,55227,7410,70725.000000000015,2013,165210.99999999997,27390,68370.999999999985,34014.999999999993,109454,426173,54368,44315.999999999993,2148,59292]
["Tolna","megye",2015,{"$f":"'[1]22.1.2.1'!Q80","v":225936},86968,45793,42564,70262,40971.999999999993,46804,44509,33118,28551,23432,25477,18628,145729.99999999994,41591,8150,36388,3476,105977,20601,35961,11708.999999999995,76679,275892,18344,40315,3570,42310]
["Dél-Dunántúl","régió",2015,{"$f":"'[1]22.1.2.1'!Q81","v":909130},353193,265328,135957,276953,179118,186990,203648,175946,117984,87956,124773.99999999997,124356,696075.9999999993,200758,26360,220062,9552,507371.99999999988,99301,212637,82286,334375,1389152,104473,194292,15692,201545]
["Dunántúl","nagyrégió",2015,{"$f":"'[1]22.1.2.1'!Q82","v":2956463},949152,696446,497487,801933,397522,552766,601008,433139,331911,229919,377180,268396,1964748.9999999998,712138,86487,550875,30439,2040930,325761,570564,229645,1080422,3568369,362087,439458,87697,580171]
["Borsod-Abaúj-Zemplén","megye",2015,{"$f":"'[1]22.1.2.1'!Q83","v":667594},247805.00000000003,176648,94757,195881,98004,113577.99999999999,152256,104569,101589.99999999999,45932,69339,56758,464136.00000000081,121199,22541,99977.999999999985,4295,614189.99999999977,62958,198499.00000000003,51216.999999999978,241375.99999999997,760183,35201,84607,28948,211607]
["Heves","megye",2015,{"$f":"'[1]22.1.2.1'!Q84","v":301296},110610,70096,41270,98686,18981,39567,52583,25887,32745.999999999996,28058,27403,21926.000000000004,215834.00000000032,75068,12404,65327.999999999993,2436,111782,29343,48316,20890.000000000004,102091,364409.99999999994,54935,34544,8495,81680]
["Nógrád","megye",2015,{"$f":"'[1]22.1.2.1'!Q85","v":195923},62658.000000000015,37874,26038,41260,20056,25725,35778,27374.000000000007,24813.999999999996,11700,11751,8069,135021.00000000015,38747,3667,40476.000000000007,1562,107851,15388,34425,8860,62613,177633,30887,15189,1431,35962]
["Észak-Magyarország","régió",2015,{"$f":"'[1]22.1.2.1'!Q86","v":1164813},421073,284618,162065,335827,137041,178870,240617,157830,159149.99999999997,85690,108493,86753,814991.00000000128,235014,38612,205781.99999999997,8293,833822.99999999977,107689,281240,80966.999999999985,406080,1302226,121023,134340,38874,329249]
["Hajdú-Bihar","megye",2015,{"$f":"'[1]22.1.2.1'!Q87","v":537268},333593.99999999988,163232.99999999994,107348,207813.99999999997,85352.999999999985,131279,140787,85197,90627.999999999985,57811.000000000007,75103,91697,470855.00000000076,145526,25954,112429.99999999999,7842,415602.00000000006,63248.000000000007,186787.99999999997,48905,258037.00000000006,992020.00000000012,63666,97846,58235,129635]
["Jász-Nagykun-Szolnok","megye",2015,{"$f":"'[1]22.1.2.1'!Q88","v":379897},145437,73756,57864,86718.999999999971,26645,70072,47058,57558,28071,17693.000000000004,54129,22841,264626.99999999959,172112,6942,57516.999999999993,256,227791,26368,65651,28485.000000000004,134369,543464,57508,43308,9823.9999999999982,128675.00000000004]
["Szabolcs-Szatmár-Bereg","megye",2015,{"$f":"'[1]22.1.2.1'!Q89","v":562357},233215,73136,110579,123665,80688,107775,96157,68317,66950.000000000015,41092,56038.000000000007,33228,395970.99999999994,132875,17179,82955,7482,225453.00000000006,56250,115132,41122.000000000007,218076,739801,66745,53170.000000000007,22722,176945]
["Észak-Alföld","régió",2015,{"$f":"'[1]22.1.2.1'!Q90","v":1479522},712245.99999999988,310124.99999999994,275791,418197.99999999994,192686,309126,284002,211072,185649,116596.00000000001,185270,147766,1131453.0000000002,450513,50075,252901.99999999997,15580,868846,145866,367571,118512,610482,2275285,187919,194324,90781,435255.00000000006]
["Bács-Kiskun","megye",2015,{"$f":"'[1]22.1.2.1'!Q91","v":513687},199932,87898.000000000015,115084.00000000001,131674,31936.999999999996,81334,92386.000000000015,102500,57213.000000000015,26655,61988,53327,346617.00000000029,92963.000000000015,16615,100311.99999999999,55330.000000000007,360500.00000000006,48335,91347.999999999985,27082.000000000018,212488.00000000003,697360.99999999988,78426,69971.999999999985,1730,83060.999999999985]
["Békés","megye",2015,{"$f":"'[1]22.1.2.1'!Q92","v":351148},117889,70237,40217,87865,39538,94312,64490,61569,44059,27678,45821,36208,219059.99999999962,76811.000000000015,8143,79406,4968,214406.99999999997,33430,86121,28925.999999999993,136994.99999999994,458144.00000000012,59832,63679,3737,72986.999999999985]
["Csongrád-Csanád","megye",2015,{"$f":"'[1]22.1.2.1'!Q93","v":406205},240477.00000000006,125929.99999999999,70504,162956,104407,85582,106357,98463.999999999985,61317,42872,68525.999999999985,41517,310786.99999999965,76104,13283.999999999998,119244.99999999999,20422,329303.99999999994,57737,104089,41087.000000000015,153045.00000000003,861467.00000000012,64666,77967,9207,70503.000000000015]
["Dél-Alföld","régió",2015,{"$f":"'[1]22.1.2.1'!Q94","v":1271040},558298,284065,225805,382495,175882,261228,263233,262533,162589,97205,176335,131052,876463.99999999953,245878.00000000003,38042,298963,80720,904211,139502,281558,97095.000000000029,502528,2016972,202924,211618,14674,226551]
["Alföld és Észak","nagyrégió",2015,{"$f":"'[1]22.1.2.1'!Q95","v":3915375},1691617,878808,663661,1136520,505609,749224,787852,631435,507388,299491,470098,365571,2822908.0000000009,931405,126729,757647,104593,2606880,393057,930369,296574,1519090,5594483,511866,540282,144329,991055]
["Ország összesen","ország",2015,{"$f":"'[1]22.1.2.1'!Q96","v":9855571},4090788.9999999995,2658232,1669007,3006101,1483878,2179174,2321112,1841867,1297455.9999999998,979876.99999999988,1440083,998559,7065256.0000000065,2836583.0000000005,328260,2148543,210252,7024872.0000000009,1096388,2132453,792722.00000000023,3901423.9999999995,14797702,1110285,1833814.0000000002,419842,2421285]
["Budapest + Pest","főváros, régió + megye, régió",2016,{"$f":"'[1]22.1.2.1'!R68","v":2993948},1492872.000000007,1061668.9999999988,519519.99999999988,1018323.9999999979,581848.99999999872,844068.00000000012,936613.0000000007,745468.00000000093,643647.00000000081,442219.99999999965,582791.99999999965,371283.00000000052,2293688,1197409.0000000012,120298.00000000012,625311.9999999986,62112.999999999978,2363370.9999999991,341609.0000000007,630254.00000000023,321862,1308547.0000000016,5705917.9999999944,242462.99999999994,852068.99999999884,184266.99999999968,825710.9999999993]
["Közép-Magyarország","nagyrégió",2016,{"$f":"'[1]22.1.2.1'!R69","v":2993948},1492872.000000007,1061668.9999999988,519519.99999999988,1018323.9999999979,581848.99999999872,844068.00000000012,936613.0000000007,745468.00000000093,643647.00000000081,442219.99999999965,582791.99999999965,371283.00000000052,2293688,1197409.0000000012,120298.00000000012,625311.9999999986,62112.999999999978,2363370.9999999991,341609.0000000007,630254.00000000023,321862,1308547.0000000016,5705917.9999999944,242462.99999999994,852068.99999999884,184266.99999999968,825710.9999999993]
["Fejér","megye",2016,{"$f":"'[1]22.1.2.1'!R70","v":418487},135514,85134.000000000044,65866.999999999956,115268.99999999988,57205,84537.999999999985,81335.000000000029,47494.000000000036,57952.000000000036,39243,40240,24611.999999999985,295049,91838.000000000146,16175.000000000004,42199.999999999985,2740,288342.99999999977,38062.000000000015,95763.000000000058,27553.999999999996,172007.00000000012,498008.00000000017,78633.999999999971,53240.000000000022,3519,85538.000000000073]
["Komárom-Esztergom","megye",2016,{"$f":"'[1]22.1.2.1'!R71","v":297914},91308,73768.000000000029,30486,77016.000000000015,33496.000000000022,50832.000000000029,59640,56197.000000000007,47559.999999999956,17734,39307.000000000007,13777.999999999995,148205,81626.000000000015,6432.0000000000009,36065.999999999985,7326.0000000000009,296192.99999999965,23198,55345,17393,112721.0000000001,280969,32724.000000000011,34475.000000000007,2187.9999999999991,59325.000000000029]
["Veszprém","megye",2016,{"$f":"'[1]22.1.2.1'!R72","v":344302},97684.000000000044,78407.000000000015,79017.999999999985,85665,33108.000000000007,68453.999999999913,70392.000000000015,40545.000000000015,59878.999999999985,12062.999999999995,45730.999999999949,24464.999999999993,188106,88503,13147,44496.999999999978,3862.0000000000005,242148.00000000006,28717.999999999982,64681.000000000109,29427,117527.00000000006,252053.99999999991,27770.999999999985,51235.000000000029,31846.000000000004,74194.000000000029]
["Közép-Dunántúl","régió",2016,{"$f":"'[1]22.1.2.1'!R73","v":1060703},324506.00000000006,237309.00000000006,175370.99999999994,277949.99999999988,123809.00000000003,203823.99999999991,211367.00000000006,144236.00000000006,165391,69040,125277.99999999994,62854.999999999971,631360,261967.00000000017,35754,122762.99999999994,13928,826683.99999999953,89978,215789.00000000017,74374,402255.00000000029,1031031.0000000001,139128.99999999997,138950.00000000006,37553,219057.00000000015]
["Győr-Moson-Sopron","megye",2016,{"$f":"'[1]22.1.2.1'!R74","v":455217},112083.00000000015,100416.00000000004,97864.999999999913,119219.99999999993,49132.000000000029,67014.999999999927,74108.999999999956,45114.999999999964,58750.999999999993,31526,66913.000000000015,41260.000000000015,234209,71212.000000000015,12538.999999999998,61173,3089.0000000000009,280851.00000000012,76730.000000000029,79748.999999999985,22562,169525.00000000009,447329.99999999959,81307.000000000073,50938.999999999964,7565,68201.000000000044]
["Vas","megye",2016,{"$f":"'[1]22.1.2.1'!R75","v":253689},77670.000000000015,51912.999999999971,26578.000000000007,64316.999999999971,24063.000000000015,35514.000000000007,50188.999999999993,32086,35267.000000000044,9890,32465.999999999982,30892,129091,75179.000000000015,6521.0000000000018,17118,1321,142757.99999999985,25456.000000000004,22980.000000000007,20090,79655.000000000131,311796.99999999994,33355,14743.999999999996,12509.000000000004,41292.000000000029]
["Zala","megye",2016,{"$f":"'[1]22.1.2.1'!R76","v":275027},90746.000000000073,44305.999999999949,67074.000000000015,68937.000000000058,24390.000000000011,48485.000000000015,60051.000000000153,31450.999999999996,45293.000000000022,30560,37379.000000000015,23428,178184,93943.000000000073,8449,24994,2340,332077.99999999971,27148,51239.000000000007,23829,91990.000000000102,369808.99999999988,29140.999999999993,42798,12829.000000000002,56397.999999999956]
["Nyugat-Dunántúl","régió",2016,{"$f":"'[1]22.1.2.1'!R77","v":983933},280499.00000000023,196634.99999999994,191516.99999999994,252473.99999999994,97585.000000000058,151013.99999999994,184349.00000000009,108651.99999999997,139311.00000000006,71976,136758,95580.000000000015,541484,240334.00000000012,27509,103285,6750.0000000000009,755686.99999999977,129334.00000000003,153968,66481,341170.00000000035,1128935.9999999995,143803.00000000006,108480.99999999996,32903.000000000007,165891.00000000003]
["Baranya","megye",2016,{"$f":"'[1]22.1.2.1'!R78","v":368135},161856.00000000015,112643.00000000003,54552.000000000015,123489.00000000004,92175.000000000131,82919.000000000087,87913,79846.000000000073,76434,34539.999999999978,69355.000000000044,62578.999999999993,372420,106654.99999999996,12781.999999999995,84848.000000000102,3569.0000000000032,225033.00000000012,50314.999999999993,107643.00000000028,37856.999999999993,140409.00000000017,700715.9999999979,49255.999999999993,107570.99999999991,7830.9999999999991,97170.999999999956]
["Somogy","megye",2016,{"$f":"'[1]22.1.2.1'!R79","v":309115},107084.00000000019,114274.9999999999,31251.000000000018,80147.999999999898,36037.000000000007,54310.000000000022,63988.999999999993,52349.000000000029,60255.000000000044,33007.999999999993,29111.000000000004,40455,189939,56509.000000000065,7348.9999999999991,37944.999999999993,1794.9999999999995,174823.99999999968,26580.000000000015,68265.000000000058,34622.000000000015,109985,438297.00000000047,55856.000000000007,45292,2104,58845]
["Tolna","megye",2016,{"$f":"'[1]22.1.2.1'!R80","v":223618},84026.999999999956,42965.000000000007,45033.000000000007,69491.000000000015,40122.999999999985,43881.000000000007,45162,35043,41141.999999999993,22812.000000000011,24754.999999999978,18508.999999999996,135295,38518.999999999993,8085.0000000000018,20056.000000000007,3427.0000000000005,104059.99999999999,20960.999999999993,35876.999999999978,12235.000000000002,73233.000000000029,269390.99999999988,19737.999999999996,40402.999999999978,3706,44790.000000000029]
["Dél-Dunántúl","régió",2016,{"$f":"'[1]22.1.2.1'!R81","v":900868},352967.00000000029,269882.99999999994,130836.00000000003,273127.99999999994,168335.00000000012,181110.00000000012,197064,167238.00000000012,177831.00000000006,90359.999999999985,123221.00000000003,121543,697654,201683.00000000003,28215.999999999993,142849.00000000009,8791.0000000000036,503916.99999999977,97856,211785.00000000032,84714,323627.00000000023,1408403.9999999981,124850,193265.99999999988,13641,200805.99999999997]
["Dunántúl","nagyrégió",2016,{"$f":"'[1]22.1.2.1'!R82","v":2945504},957972.00000000047,703827,497723.99999999988,803551.99999999977,389729.00000000023,535948,592780.00000000012,420126.00000000012,482533.00000000012,231376,385257,279978,1870498,703984.00000000035,91479,368897,29469.000000000004,2086287.9999999991,317168,581542.00000000047,225569,1067052.0000000009,3568370.9999999977,407782,440696.99999999988,84097,585754.00000000012]
["Borsod-Abaúj-Zemplén","megye",2016,{"$f":"'[1]22.1.2.1'!R83","v":660549},238689.99999999997,174093.99999999994,102911.99999999987,190926.99999999994,102353.99999999994,109315.00000000015,146778.00000000006,104015.99999999981,116985,46920.000000000022,69920,60249.000000000015,446273,126510.0000000001,23461.999999999993,80543.999999999956,4557,636713.99999999919,62555.999999999971,196185.00000000017,71496.000000000029,248568.9999999998,728737.99999999942,37204,83151,28867.999999999989,206098.00000000015]
["Heves","megye",2016,{"$f":"'[1]22.1.2.1'!R84","v":299219},102738.00000000003,69264.999999999927,36741.000000000015,97130.999999999956,19505.000000000007,37836.999999999993,51048.999999999978,27202.999999999989,61696.000000000015,28233.000000000007,28199.000000000004,19765,206574,72627.000000000029,12848.999999999998,37591.000000000015,2403,122041.00000000003,28080.000000000007,52332.999999999956,23544.000000000007,110773.99999999997,419037.00000000012,73282.000000000029,33386,6573.9999999999982,70368.999999999971]
["Nógrád","megye",2016,{"$f":"'[1]22.1.2.1'!R85","v":193946},65759.000000000044,38262.000000000015,27088.000000000007,41161,20193.999999999996,25618.000000000007,35060.000000000044,27422.999999999989,44763.999999999993,11315,12339.999999999995,7991.0000000000009,119203,38074,3898,19584.999999999989,1523,105606.99999999997,15938,38362.000000000022,15238.000000000004,61202.999999999985,182116.00000000003,31366.000000000004,15514,1549.9999999999998,36131.999999999993]
["Észak-Magyarország","régió",2016,{"$f":"'[1]22.1.2.1'!R86","v":1153714},407187.00000000006,281620.99999999988,166740.99999999988,329218.99999999988,142052.99999999994,172770.00000000015,232887.00000000006,158641.9999999998,223445,86468.000000000029,110459,88005.000000000015,772050,237211.00000000012,40208.999999999993,137719.99999999997,8483,864361.99999999919,106573.99999999997,286880.00000000012,110278.00000000003,420545.99999999977,1329890.9999999995,141852.00000000003,132051,36991.999999999985,312599.00000000012]
["Hajdú-Bihar","megye",2016,{"$f":"'[1]22.1.2.1'!R87","v":534974},330646.9999999993,158915.00000000006,110664.00000000015,210037,77474.000000000044,129337.00000000006,134696.00000000006,80657.000000000029,129497.0000000001,54952.000000000022,72800.999999999971,92098.999999999927,523550,136866.99999999991,26194.000000000007,73372,7818,405162.00000000012,58607.999999999949,183005.99999999994,50625.999999999993,257744.00000000006,1005657.9999999986,64985,92492.999999999971,70500.999999999985,104992.00000000007]
["Jász-Nagykun-Szolnok","megye",2016,{"$f":"'[1]22.1.2.1'!R88","v":376334},146852.99999999977,83878.000000000058,57482,91258.999999999913,26061.999999999993,71749.999999999971,48463.000000000015,61427,53836.000000000007,20615.000000000015,57218.999999999978,23094.999999999993,253426,180802.00000000017,7161.0000000000018,38200.000000000044,2197.9999999999995,237859.99999999994,25435.999999999989,67998.000000000073,6692.9999999999973,146770.99999999988,503625.99999999971,60416.999999999993,49588.000000000015,9864.0000000000091,130675.99999999997]
["Szabolcs-Szatmár-Bereg","megye",2016,{"$f":"'[1]22.1.2.1'!R89","v":563075},231183.99999999971,73047.000000000116,113046.00000000006,121505.99999999994,83003.999999999971,107452.99999999999,94351.999999999927,66229.999999999985,77118.000000000044,41052.000000000015,56516.000000000036,35537.000000000007,382350,142321.00000000003,17776.000000000007,71785.000000000029,7379,240208.00000000006,54477.999999999971,115329.00000000006,42426,216696.99999999974,776562.99999999965,65231.000000000007,57666.999999999942,24036.000000000004,171830]
["Észak-Alföld","régió",2016,{"$f":"'[1]22.1.2.1'!R90","v":1474383},708683.99999999884,315840.00000000023,281192.00000000023,422801.99999999983,186540,308540,277511,208314,260451.00000000017,116619.00000000004,186535.99999999997,150730.99999999991,1159326,459990.00000000012,51131.000000000015,183357.00000000006,17395,883230,138521.99999999991,366333.00000000006,99745,621211.99999999965,2285846.9999999981,190633,199747.99999999994,104401,407498.00000000006]
["Bács-Kiskun","megye",2016,{"$f":"'[1]22.1.2.1'!R91","v":511419},196923.00000000012,89013.999999999942,113580.99999999996,132019.00000000006,31292.999999999978,75658.999999999985,87253.999999999942,103651.00000000001,75485.999999999971,26784.999999999993,62617.000000000015,53697.999999999978,346455,95742,15564.000000000005,75307.000000000015,59084.000000000022,360935.99999999953,45625.000000000022,91912.999999999913,27483.000000000007,202326.0000000002,694897.99999999965,79618,68299.999999999942,1791.0000000000005,77874.999999999898]
["Békés","megye",2016,{"$f":"'[1]22.1.2.1'!R92","v":347058},119986,71169,43594.999999999978,85542.000000000044,38719.000000000036,93274.999999999985,63664.000000000015,58304.999999999978,61952.999999999978,28058.000000000015,45616,38141.999999999978,219898,75499.000000000015,8580.0000000000018,60165.000000000022,5095,211010.00000000009,32552.999999999985,84969.999999999971,30794.000000000015,132411,456873.99999999977,57050.999999999985,58113.000000000065,3663.9999999999991,73000.000000000015]
["Csongrád-Csanád","megye",2016,{"$f":"'[1]22.1.2.1'!R93","v":404459},232188.00000000009,132917.99999999985,72691.000000000044,158920.00000000035,101302,85409.000000000015,106162.99999999993,101727.00000000001,91716.000000000029,44333.000000000015,71035.000000000029,43973.999999999985,310744,74127,13380.000000000013,89308.000000000015,20804.999999999989,329815.99999999988,58818.000000000007,104642.0000000002,40950.999999999993,150365.00000000003,864925.99999999884,65024.999999999942,78249.000000000029,8936.0000000000018,70533.999999999985]
["Dél-Alföld","régió",2016,{"$f":"'[1]22.1.2.1'!R94","v":1262936},549097.00000000023,293100.99999999977,229867,376481.00000000047,171314,254343,257080.99999999988,263683,229154.99999999997,99176.000000000029,179268.00000000006,135813.99999999994,877097,245368,37524.000000000022,224780.00000000006,84984.000000000015,901761.99999999953,136996,281525.00000000012,99228.000000000015,485102.00000000023,2016697.9999999984,201693.99999999994,204662.00000000003,14391.000000000002,221408.99999999988]
["Alföld és Észak","nagyrégió",2016,{"$f":"'[1]22.1.2.1'!R95","v":3891033},1664967.9999999991,890561.99999999988,677800.00000000012,1128502.0000000002,499906.99999999994,735653.00000000012,767479,630638.99999999977,713051.00000000012,302263.00000000012,476263.00000000006,374549.99999999988,2808473,942569.00000000023,128864.00000000003,545857,110862.00000000001,2649353.9999999986,382091.99999999988,934738.00000000035,309251.00000000006,1526859.9999999995,5632435.9999999963,534179,536461,155784,941506.00000000012]
["Ország összesen","ország",2016,{"$f":"'[1]22.1.2.1'!R96","v":9830485},4115812.0000000065,2656057.9999999986,1695044,2950377.9999999981,1471484.9999999988,2115669,2296872.0000000009,1796233.0000000007,1839231.0000000009,975858.99999999977,1444311.9999999998,1025811.0000000003,6972659,2843962.0000000019,340641.00000000012,1540065.9999999986,202444,7099012.9999999963,1040869.0000000006,2146534.0000000009,856682,3902459.0000000023,14906724.999999989,1184424,1829226.9999999986,424147.99999999965,2352970.9999999995]
["Budapest + Pest","főváros, régió + megye, régió",2017,{"$f":"'[1]22.1.2.1'!S68","v":3000076},1481359,1023214,519761,959963,571529,798557,900112,686087,630666,426740,569878,367359,2232882,1143643,123109,605063,60389,2326016,329288,605056,328828,1272672,5648495,247626,846907,172075,793310]
["Közép-Magyarország","nagyrégió",2017,{"$f":"'[1]22.1.2.1'!S69","v":3000076},1481359,1023214,519761,959963,571529,798557,900112,686087,630666,426740,569878,367359,2232882,1143643,123109,605063,60389,2326016,329288,605056,328828,1272672,5648495,247626,846907,172075,793310]
["Fejér","megye",2017,{"$f":"'[1]22.1.2.1'!S70","v":416215},133856,84018,65401,105294,57979,84762,81329,45035,57941,39372,41004,23847,286214,85028,16176,46290,2739,296533,36440,96407,28766,173664,494353,80455,50660,3015,87171]
["Komárom-Esztergom","megye",2017,{"$f":"'[1]22.1.2.1'!S71","v":297381},89018,71407,35502,72955,34423,50416,58432,52802,45404,17672,39633,12575,151030,75638,6457,36550,7382,288482,23269,52369,18784,114779,305852,31279,33550,1981,57245]
["Veszprém","megye",2017,{"$f":"'[1]22.1.2.1'!S72","v":342501},95745,77719,80611,81376,33037,67930,68398,38280,58153,11578,46154,25064,185608,92767,12481,43182,3751,250468,27166,61366,31123,118707,250664,28667,54172,30847,79185]
["Közép-Dunántúl","régió",2017,{"$f":"'[1]22.1.2.1'!S73","v":1056097},318619,233144,181514,259625,125439,203108,208159,136117,161498,68622,126791,61486,622852,253433,35114,126022,13872,835483,86875,210142,78673,407150,1050869,140401,138382,35843,223601]
["Győr-Moson-Sopron","megye",2017,{"$f":"'[1]22.1.2.1'!S74","v":457344},116188,99820,97099,117753,46088,67063,72809,42814,56709,30509,66639,41126,225571,68656,11979,53114,3047,281797,66801,78980,23887,165509,438994,82951,49440,7768,69345]
["Vas","megye",2017,{"$f":"'[1]22.1.2.1'!S75","v":253109},79390,54823,27904,63176,23889,34908,51054,30123,33571,10861,32887,32280,125167,70085,5928,15954,1089,138635,23769,23005,20856,77714,313013,33490,14505,11991,40871]
["Zala","megye",2017,{"$f":"'[1]22.1.2.1'!S76","v":272798},91249,45698,66376,62892,24638,46281,57912,28833,44916,30424,36847,23072,172032,86086,8480,27127,2192,323992,25237,48992,26012,90770,355299,30103,44246,11150,54885]
["Nyugat-Dunántúl","régió",2017,{"$f":"'[1]22.1.2.1'!S77","v":983251},286827,200341,191379,243821,94615,148252,181775,101770,135196,71794,136373,96478,522770,224827,26387,96195,6328,744424,115807,150977,70755,333993,1107306,146544,108191,30909,165101]
["Baranya","megye",2017,{"$f":"'[1]22.1.2.1'!S78","v":365726},162093,110294,55469,118614,89594,81738,82871,76662,74257,34217,68026,64684,366272,100397,12550,84665,3495,220819,49186,107374,40039,140929,696049,52563,104942,8290,88004]
["Somogy","megye",2017,{"$f":"'[1]22.1.2.1'!S79","v":306698},104042,112360,30122,74541,36268,51564,61277,51421,59386,31339,27492,41742,185695,56522,6791,36647,1688,177496,25542,61616,37492,112477,422431,55631,43924,2096,58027]
["Tolna","megye",2017,{"$f":"'[1]22.1.2.1'!S80","v":221799},85215,36034,52075,67874,38386,42101,45615,36000,40025,20736,24814,17553,131932,36977,8014,19385,3463,94600,20144,34502,12701,70160,259642,20566,39993,3779,43716]
["Dél-Dunántúl","régió",2017,{"$f":"'[1]22.1.2.1'!S81","v":894223},351350,258688,137666,261029,164248,175403,189763,164083,173668,86292,120332,123979,683899,193896,27355,140697,8646,492915,94872,203492,90232,323566,1378122,128760,188859,14165,189747]
["Dunántúl","nagyrégió",2017,{"$f":"'[1]22.1.2.1'!S82","v":2933571},956796,692173,510559,764475,384302,526763,579697,401970,470362,226708,383496,281943,1829521,672156,88856,362914,28846,2072822,297554,564611,239660,1064709,3536297,415705,435432,80917,578449]
["Borsod-Abaúj-Zemplén","megye",2017,{"$f":"'[1]22.1.2.1'!S83","v":654402},236449,170036,97025,183513,99759,103028,141235,92299,116093,49067,65771,60097,428537,116674,23522,75434,4626,608340,58395,188552,70794,249039,720113,36575,79757,27202,202466]
["Heves","megye",2017,{"$f":"'[1]22.1.2.1'!S84","v":296927},99750,67726,36858,95428,19349,35586,50626,26573,59938,27864,29796,19820,202668,69300,12718,36140,2383,129393,27159,51963,27826,118896,382168,80977,31281,7159,69343]
["Nógrád","megye",2017,{"$f":"'[1]22.1.2.1'!S85","v":192573},67655,37303,27335,38935,20197,24737,33450,25313,44714,10509,11052,7741,110585,35185,3548,16767,1609,105781,14214,39486,15106,61264,175342,30518,15314,1643,34367]
["Észak-Magyarország","régió",2017,{"$f":"'[1]22.1.2.1'!S86","v":1143902},403854,275065,161218,317876,139305,163351,225311,144185,220745,87440,106619,87658,741790,221159,39788,128341,8618,843514,99768,280001,113726,429199,1277623,148070,126352,36004,306176]
["Hajdú-Bihar","megye",2017,{"$f":"'[1]22.1.2.1'!S87","v":532399},313667,144280,112872,195468,79237,122579,131280,76683,127286,60110,70279,92112,528646,131120,25999,68353,6935,383131,53254,175256,50268,263804,995951,66770,92053,77298,100326]
["Jász-Nagykun-Szolnok","megye",2017,{"$f":"'[1]22.1.2.1'!S88","v":373631},145616,85045,62701,86876,25616,73545,48747,58188,53933,21092,53609,24638,239136,175626,7084,38185,2151,243812,23524,67167,6934,150551,508403,61179,49522,9376,127257]
["Szabolcs-Szatmár-Bereg","megye",2017,{"$f":"'[1]22.1.2.1'!S89","v":562058},225341,71926,113211,114712,79899,103265,89210,63969,74274,39273,57047,36080,368453,130531,17892,69536,7186,214471,51386,112663,44499,206027,777557,62516,61290,23580,168761]
["Észak-Alföld","régió",2017,{"$f":"'[1]22.1.2.1'!S90","v":1468088},684624,301251,288784,397056,184752,299389,269237,198840,255493,120475,180935,152830,1136235,437277,50975,176074,16272,841414,128164,355086,101701,620382,2281911,190465,202865,110254,396344]
["Bács-Kiskun","megye",2017,{"$f":"'[1]22.1.2.1'!S91","v":508017},193949,86479,111234,128565,31873,71644,84092,97164,73992,25264,60448,54021,324946,89790,15782,73069,43478,332604,43356,90910,27374,201911,675181,77047,64116,1503,77258]
["Békés","megye",2017,{"$f":"'[1]22.1.2.1'!S92","v":342438},119069,73640,42079,80641,36716,91140,62270,57532,61809,28127,44618,34493,211782,69201,8872,60444,4996,202176,31920,83825,30253,131363,448531,58127,58280,3646,71273]
["Csongrád-Csanád","megye",2017,{"$f":"'[1]22.1.2.1'!S93","v":401469},233270,131637,72834,158937,99856,83046,102932,95313,90091,43875,71366,42939,317791,72394,13805,86987,20746,331429,56094,100526,45222,143233,845361,66170,75574,9597,69185]
["Dél-Alföld","régió",2017,{"$f":"'[1]22.1.2.1'!S94","v":1251924},546288,291756,226147,368143,168445,245830,249294,250009,225892,97266,176432,131453,854519,231385,38459,220500,69220,866209,131370,275261,102849,476507,1969073,201344,197970,14746,217716]
["Alföld és Észak","nagyrégió",2017,{"$f":"'[1]22.1.2.1'!S95","v":3863914},1634766,868072,676149,1083075,492502,708570,743842,593034,702130,305181,463986,371941,2732544,889821,129222,524915,94110,2551137,359302,910348,318276,1526088,5528607,539879,527187,161004,920236]
["Ország összesen","ország",2017,{"$f":"'[1]22.1.2.1'!S96","v":9797561},4072921,2583459,1706469,2807513,1448333,2033890,2223651,1681091,1803158,958629,1417360,1021243,6794947,2705620,341187,1492892,183345,6949975,986144,2080015,886764,3863469,14713399,1203210,1809526,413996,2291995]
["Budapest + Pest","főváros, régió + megye, régió",2018,{"$f":"'[1]22.1.2.1'!T68","v":3011598},1468292,1027038,496683,899567,553343,774382,880637,656392,607487,424652,548459,366004,2185349,1033924,124998,562829,55703,2311572,318882,585481,339617,1268967,5604418,262262,903113,166267,767920]
["Közép-Magyarország","nagyrégió",2018,{"$f":"'[1]22.1.2.1'!T69","v":3011598},1468292,1027038,496683,899567,553343,774382,880637,656392,607487,424652,548459,366004,2185349,1033924,124998,562829,55703,2311572,318882,585481,339617,1268967,5604418,262262,903113,166267,767920]
["Fejér","megye",2018,{"$f":"'[1]22.1.2.1'!T70","v":416691},129485,83663,62121,99235,55110,82434,82113,39999,60689,38078,38917,22138,267002,79188,16437,47525,2427,300030,34909,94050,28830,175154,487712,82164,49687,2848,81646]
["Komárom-Esztergom","megye",2018,{"$f":"'[1]22.1.2.1'!T71","v":297454},87342,70831,38286,66442,35355,46544,53923,51512,42730,16540,38582,11772,145413,71804,6053,36314,7684,290053,21627,51602,19416,113560,286167,31590,33449,2083,52097]
["Veszprém","megye",2018,{"$f":"'[1]22.1.2.1'!T72","v":341425},96954,82104,76633,76614,32422,65965,67186,38085,61066,11493,45195,24661,177602,92374,11481,42138,3624,241026,25390,60766,32689,117284,250008,31158,54300,29788,80125]
["Közép-Dunántúl","régió",2018,{"$f":"'[1]22.1.2.1'!T73","v":1055570},313781,236598,177040,242291,122887,194943,203222,129596,164485,66111,122694,58571,590017,243366,33971,125977,13735,831109,81926,206418,80935,405998,1023887,144912,137436,34719,213868]
["Győr-Moson-Sopron","megye",2018,{"$f":"'[1]22.1.2.1'!T74","v":461518},117729,101296,95042,114187,43559,63620,71670,44277,56140,29361,67406,40845,218935,65076,12284,53216,2943,283424,61990,81781,26677,171992,442335,82394,50509,7781,67193]
["Vas","megye",2018,{"$f":"'[1]22.1.2.1'!T75","v":253305},79467,54215,30212,60311,24680,34816,49240,27700,32159,11499,33238,33694,119360,66277,5670,15549,964,143504,23415,22304,21485,80045,312453,35315,14254,12206,40810]
["Zala","megye",2018,{"$f":"'[1]22.1.2.1'!T76","v":270634},88406,43904,61919,59094,24187,45257,56202,26751,42161,29425,35025,21279,160400,95508,7990,25586,2075,318649,24039,46870,26684,85503,345287,29700,43425,3899,55279]
["Nyugat-Dunántúl","régió",2018,{"$f":"'[1]22.1.2.1'!T77","v":985457},285602,199415,187173,233592,92426,143693,177112,98728,130460,70285,135669,95818,498695,226861,25944,94351,5982,745577,109444,150955,74846,337540,1100075,147409,108188,23886,163282]
["Baranya","megye",2018,{"$f":"'[1]22.1.2.1'!T78","v":363721},163363,110643,55441,107076,88158,76684,82918,76811,73591,34538,68270,66024,361111,94512,12212,84892,3262,225819,46419,101081,40351,140132,698080,54003,97683,8200,86330]
["Somogy","megye",2018,{"$f":"'[1]22.1.2.1'!T79","v":303802},103631,111081,30344,75713,35354,48406,57370,50069,59286,30849,26912,40548,180342,54840,7179,35001,1509,164550,25060,60954,38475,117128,425906,58188,44306,1881,58971]
["Tolna","megye",2018,{"$f":"'[1]22.1.2.1'!T80","v":219317},87346,37325,50100,66175,35347,41009,46767,32830,38187,19594,23996,17162,123194,36802,8167,18793,3390,93902,19426,33718,13137,73282,266024,21466,40991,3789,41441]
["Dél-Dunántúl","régió",2018,{"$f":"'[1]22.1.2.1'!T81","v":886840},354340,259049,135885,248964,158859,166099,187055,159710,171064,84981,119178,123734,664647,186154,27558,138686,8161,484271,90905,195753,91963,330542,1390010,133657,182980,13870,186742]
["Dunántúl","nagyrégió",2018,{"$f":"'[1]22.1.2.1'!T82","v":2927867},953723,695062,500098,724847,374172,504735,567389,388034,466009,221377,377541,278123,1753359,656381,87473,359014,27878,2060957,282275,553126,247744,1074080,3513972,425978,428604,72475,563892]
["Borsod-Abaúj-Zemplén","megye",2018,{"$f":"'[1]22.1.2.1'!T83","v":648216},235776,166118,94156,175880,96381,103004,135559,82839,111846,49242,66017,62573,418257,111137,23276,74333,4505,593593,56819,181644,67774,246881,730003,38647,77205,24921,191784]
["Heves","megye",2018,{"$f":"'[1]22.1.2.1'!T84","v":295792},98551,66865,33408,88362,21151,35115,47609,25987,59921,28375,30812,20743,201781,67645,13055,35264,2026,129900,25191,51174,29546,115911,392899,83629,32537,7711,68893]
["Nógrád","megye",2018,{"$f":"'[1]22.1.2.1'!T85","v":190937},69052,35474,27301,37478,19759,24286,33271,23315,45355,10325,11573,7603,104910,34182,3542,14037,1545,108760,13124,38525,15177,65352,174146,31311,15241,1522,34402]
["Észak-Magyarország","régió",2018,{"$f":"'[1]22.1.2.1'!T86","v":1134945},403379,268457,154865,301720,137291,162405,216439,132141,217122,87942,108402,90919,724948,212964,39873,123634,8076,832253,95134,271343,112497,428144,1297048,153587,124983,34154,295079]
["Hajdú-Bihar","megye",2018,{"$f":"'[1]22.1.2.1'!T87","v":530464},309089,142236,111726,189697,76337,119760,125044,72758,120194,59257,68685,90694,515143,138931,26382,70188,7420,385183,50180,169626,53756,259996,997879,72271,64643,77143,102616]
["Jász-Nagykun-Szolnok","megye",2018,{"$f":"'[1]22.1.2.1'!T88","v":371271},143457,83694,61300,82272,25305,68839,46755,56547,50512,19389,51788,25537,228696,172171,6839,38080,2277,234939,21881,64296,8298,149088,541956,63533,49353,8835,115245]
["Szabolcs-Szatmár-Bereg","megye",2018,{"$f":"'[1]22.1.2.1'!T89","v":558361},223428,73311,110098,110099,80724,97278,86989,65000,73956,38252,56616,36608,351368,118269,18091,66792,7088,209497,49496,109487,48369,205512,777165,63396,63408,24976,161236]
["Észak-Alföld","régió",2018,{"$f":"'[1]22.1.2.1'!T90","v":1460096},675974,299241,283124,382068,182366,285877,258788,194305,244662,116898,177089,152839,1095207,429371,51312,175060,16785,829619,121557,343409,110423,614596,2317000,199200,177404,110954,379097]
["Bács-Kiskun","megye",2018,{"$f":"'[1]22.1.2.1'!T91","v":505602},181734,83579,107604,120499,31700,69585,78714,91476,72072,24165,57033,59492,314052,83274,14889,70741,55223,326412,40290,88338,28834,200362,602094,80120,61356,1564,79474]
["Békés","megye",2018,{"$f":"'[1]22.1.2.1'!T92","v":338025},117578,74117,42066,79944,35399,91248,59816,51259,59812,25435,45138,37136,216801,65155,9404,58903,4802,198196,31116,81994,30152,126843,448296,59762,56145,3543,67537]
["Csongrád-Csanád","megye",2018,{"$f":"'[1]22.1.2.1'!T93","v":400238},228723,135052,70143,151073,93076,82840,100877,87678,90294,41421,72106,41492,288014,69267,14283,85853,19095,324014,54697,100674,47551,143229,819756,67872,74827,9954,68683]
["Dél-Alföld","régió",2018,{"$f":"'[1]22.1.2.1'!T94","v":1243865},528035,292748,219813,351516,160175,243673,239407,230413,222178,91021,174277,138120,818867,217696,38576,215497,79120,848622,126103,271006,106537,470434,1870146,207754,192328,15061,215694]
["Alföld és Észak","nagyrégió",2018,{"$f":"'[1]22.1.2.1'!T95","v":3838906},1607388,860446,657802,1035304,479832,691955,714634,556859,683962,295861,459768,381878,2639022,860031,129761,514191,103981,2510494,342794,885758,329457,1513174,5484194,560541,494715,160169,889870]
["Ország összesen","ország",2018,{"$f":"'[1]22.1.2.1'!T96","v":9778371},4029403,2582546,1654583,2659718,1407347,1971072,2162660,1601285,1757458,941890,1385768,1026005,6577730,2550336,342232,1436034,187562,6883023,943951,2024365,916818,3856221,14602584,1248781,1826432,398911,2221682]
["Budapest + Pest","főváros, régió + megye, régió",2019,{"$f":"'[1]22.1.2.1'!U68","v":3031160},1445113,1016314,489287,877333,548663,761157,864364,638755,601560,419938,537373,369662,2134432,1002923,125933,554108,51923,2342666,311437,592127,351982,1256714,5647901,256016,957766,163533,771074]
["Közép-Magyarország","nagyrégió",2019,{"$f":"'[1]22.1.2.1'!U69","v":3031160},1445113,1016314,489287,877333,548663,761157,864364,638755,601560,419938,537373,369662,2134432,1002923,125933,554108,51923,2342666,311437,592127,351982,1256714,5647901,256016,957766,163533,771074]
["Fejér","megye",2019,{"$f":"'[1]22.1.2.1'!U70","v":417712},128062,81549,69004,96264,51340,78493,80281,37283,62600,38180,39873,21426,252857,78527,17586,49650,2114,293581,34443,87336,29080,173075,490952,75964,50190,3363,69988]
["Komárom-Esztergom","megye",2019,{"$f":"'[1]22.1.2.1'!U71","v":299207},85485,69588,39775,67211,36439,48693,53035,50368,42661,17099,40187,12285,135288,71833,6283,37122,6468,303957,21510,52407,21113,115982,296260,33243,32012,2053,52010]
["Veszprém","megye",2019,{"$f":"'[1]22.1.2.1'!U72","v":341317},98881,85829,69694,72413,30445,66523,67354,37138,62230,10969,46058,25427,174875,95283,11267,40125,3702,258697,25347,60289,34104,121472,249660,37950,55790,32419,80763]
["Közép-Dunántúl","régió",2019,{"$f":"'[1]22.1.2.1'!U73","v":1058236},312428,236966,178473,235888,118224,193709,200670,124789,167491,66248,126118,59138,563020,245643,35136,126897,12284,856235,81300,200032,84297,410529,1036872,147157,137992,37835,202761]
["Győr-Moson-Sopron","megye",2019,{"$f":"'[1]22.1.2.1'!U74","v":467144},121529,101647,95002,112485,44327,62586,72161,42955,54747,33152,68424,44180,226769,63146,11942,55284,2912,274729,59578,82899,27628,175801,455030,79483,51465,8929,68729]
["Vas","megye",2019,{"$f":"'[1]22.1.2.1'!U75","v":253551},80820,56218,35385,56753,24090,32368,53233,30347,29209,12053,33235,36216,117817,68043,6490,13891,1156,143256,22288,21855,21526,79639,317207,28172,14097,12504,42628]
["Zala","megye",2019,{"$f":"'[1]22.1.2.1'!U76","v":268648},87568,45432,53469,58078,25652,43914,53938,25807,41492,28721,33823,21445,153127,94611,8338,25569,1947,314772,24234,47495,27688,87718,343968,39261,46114,3791,54558]
["Nyugat-Dunántúl","régió",2019,{"$f":"'[1]22.1.2.1'!U77","v":989343},289917,203297,183856,227316,94069,138868,179332,99109,125448,73926,135482,101841,497713,225800,26770,94744,6015,732757,106100,152249,76842,343158,1116205,146916,111676,25224,165915]
["Baranya","megye",2019,{"$f":"'[1]22.1.2.1'!U78","v":360704},157258,114372,52019,105616,86674,72058,80247,76538,71449,35183,67650,67740,367820,91426,11554,81395,2954,229427,46442,97297,41426,140446,690606,47313,99432,7909,83830]
["Somogy","megye",2019,{"$f":"'[1]22.1.2.1'!U79","v":301429},104804,112399,29348,77705,34485,46495,57041,47334,60025,30117,26287,41201,183015,54357,6520,35416,1424,164129,24312,59268,37581,111963,425905,50332,45651,1996,55645]
["Tolna","megye",2019,{"$f":"'[1]22.1.2.1'!U80","v":217463},84754,40707,58041,63924,36660,40044,45963,34546,38082,20542,23452,17620,120771,35231,8331,18375,3221,96832,20112,35345,13083,72813,279017,11435,40310,3859,41806]
["Dél-Dunántúl","régió",2019,{"$f":"'[1]22.1.2.1'!U81","v":879596},346816,267478,139408,247245,157819,158597,183251,158418,169556,85842,117389,126561,671606,181014,26405,135186,7599,490388,90866,191910,92090,325222,1395528,109080,185393,13764,181281]
["Dunántúl","nagyrégió",2019,{"$f":"'[1]22.1.2.1'!U82","v":2927175},949161,707741,501737,710449,370112,491174,563253,382316,462495,226016,378989,287540,1732339,652457,88311,356827,25898,2079380,278266,544191,253229,1078909,3548605,403153,435061,76823,549957]
["Borsod-Abaúj-Zemplén","megye",2019,{"$f":"'[1]22.1.2.1'!U83","v":642447},231746,165501,93587,171543,94100,105692,133203,78165,104706,49382,64360,64484,418109,102853,23303,73810,4463,610807,56043,180407,69431,243730,740205,41236,71308,24380,192601]
["Heves","megye",2019,{"$f":"'[1]22.1.2.1'!U84","v":294609},94925,64266,40013,87345,21126,34336,45870,25306,61409,28787,30841,21263,193798,66377,13367,33072,2206,135032,24802,52243,30287,117780,397146,76746,32987,7386,64450]
["Nógrád","megye",2019,{"$f":"'[1]22.1.2.1'!U85","v":189304},68356,34827,27449,37575,18873,24573,33406,23145,44879,10806,11720,7729,106884,32017,3671,12622,1330,116490,13981,37949,16660,64643,176431,31211,16245,1673,35702]
["Észak-Magyarország","régió",2019,{"$f":"'[1]22.1.2.1'!U86","v":1126360},395027,264594,161049,296463,134099,164601,212479,126616,210994,88975,106921,93476,718791,201247,40341,119504,7999,862329,94826,270599,116378,426153,1313782,149193,120540,33439,292753]
["Hajdú-Bihar","megye",2019,{"$f":"'[1]22.1.2.1'!U87","v":527989},305432,138387,113659,187987,73947,116501,117165,73543,117659,57435,66765,89474,497245,134005,26649,69751,6860,405066,50305,168199,56194,255189,999179,72499,61037,67568,93931]
["Jász-Nagykun-Szolnok","megye",2019,{"$f":"'[1]22.1.2.1'!U88","v":370007},142431,81009,63369,79469,25385,66001,46623,49699,46805,17844,50835,25269,214257,169718,6962,37743,2228,230081,21477,62900,8453,148149,530194,61589,47671,8522,108808]
["Szabolcs-Szatmár-Bereg","megye",2019,{"$f":"'[1]22.1.2.1'!U89","v":552964},223442,74874,113474,110408,79200,94753,84698,64111,69383,38519,54513,38153,344655,110981,18495,62608,6835,210618,49997,109245,53827,207282,792249,86645,64114,25807,156735]
["Észak-Alföld","régió",2019,{"$f":"'[1]22.1.2.1'!U90","v":1450960},671305,294270,290502,377864,178532,277255,248486,187353,233847,113798,172113,152896,1056157,414704,52106,170102,15923,845765,121779,340344,118474,610620,2321622,220733,172822,101897,359474]
["Bács-Kiskun","megye",2019,{"$f":"'[1]22.1.2.1'!U91","v":503825},167671,81593,114552,117246,32555,68080,81057,89287,72291,24400,55368,59860,310148,79318,14134,70352,65516,327227,40334,90529,31532,203865,662729,79780,61571,1801,74256]
["Békés","megye",2019,{"$f":"'[1]22.1.2.1'!U92","v":334264},116666,74458,41628,76251,34650,88233,56139,45195,60503,24094,44692,34366,211847,64517,9838,59357,4407,196580,29567,82035,31220,125902,451132,59921,54148,3604,69761]
["Csongrád-Csanád","megye",2019,{"$f":"'[1]22.1.2.1'!U93","v":399012},225378,136354,67014,149619,88557,80066,100583,82192,87792,42037,73727,44239,290950,70508,14620,82471,21419,327038,52891,99718,46215,142080,841738,63124,73825,10733,68151]
["Dél-Alföld","régió",2019,{"$f":"'[1]22.1.2.1'!U94","v":1237101},509715,292405,223194,343116,155762,236379,237779,216674,220586,90531,173787,138465,812945,214343,38592,212180,91342,850845,122792,272282,108967,471847,1955599,202825,189544,16138,212168]
["Alföld és Észak","nagyrégió",2019,{"$f":"'[1]22.1.2.1'!U95","v":3814421},1576047,851269,674745,1017443,468393,678235,698744,530643,665427,293304,452821,384837,2587893,830294,131039,501786,115264,2558939,339397,883225,343819,1508620,5591003,572751,482906,151474,864395]
["Ország összesen","ország",2019,{"$f":"'[1]22.1.2.1'!U96","v":9772756},3970321,2575324,1665769,2605225,1387168,1930566,2126361,1551714,1729482,939258,1369183,1042039,6454664,2485674,345283,1412721,193085,6980985,929100,2019543,949030,3844243,14787509,1231920,1875733,391830,2185426]
["Budapest + Pest","főváros, régió + megye, régió",2020,{"$f":"'[1]22.1.2.1'!V68","v":3047318},1165026,760304,378183,719846,402617,521877,644655,471262,506622,289674,430077,308098,1344698,684956,91727,546682,35145,1441705,239375,438236,294916,907531,4557628,231622,743306,101714,602318]
["Közép-Magyarország","nagyrégió",2020,{"$f":"'[1]22.1.2.1'!V69","v":3047318},1165026,760304,378183,719846,402617,521877,644655,471262,506622,289674,430077,308098,1344698,684956,91727,546682,35145,1441705,239375,438236,294916,907531,4557628,231622,743306,101714,602318]
["Fejér","megye",2020,{"$f":"'[1]22.1.2.1'!V70","v":418603},97490,60692,58295,78658,34356,57043,60465,25855,51821,25304,31147,20598,148357,53556,12321,47899,1593,188572,25782,67840,25526,131868,366796,60542,32046,2176,52460]
["Komárom-Esztergom","megye",2020,{"$f":"'[1]22.1.2.1'!V71","v":300995},66667,51522,30754,54204,23330,37272,41453,32039,35408,12178,30857,11110,78020,47894,4329,36593,5481,185173,15236,39041,18192,82587,226672,30086,22714,1776,38821]
["Veszprém","megye",2020,{"$f":"'[1]22.1.2.1'!V72","v":341157},81469,64507,48917,55069,21206,46448,45927,27759,53550,7019,34166,25545,107788,68150,4611,37858,2957,146057,19469,46526,28651,88853,190969,38091,42966,21196,45855]
["Közép-Dunántúl","régió",2020,{"$f":"'[1]22.1.2.1'!V73","v":1060755},245626,176721,137966,187931,78892,140763,147845,85653,140779,44501,96170,57253,334165,169600,21261,122350,10031,519802,60487,153407,72369,303308,784437,128719,97726,25148,137136]
["Győr-Moson-Sopron","megye",2020,{"$f":"'[1]22.1.2.1'!V74","v":473141},96393,74406,75184,99322,29908,42927,49736,28973,44750,21360,53968,38254,132758,47967,8250,50450,2375,160444,43895,63741,23820,126679,350131,65811,39932,6337,51606]
["Vas","megye",2020,{"$f":"'[1]22.1.2.1'!V75","v":254137},66305,43239,27471,49046,17624,21768,41423,20076,23062,8617,24643,31273,79179,43760,3758,12338,917,86008,15964,14382,17193,57173,242538,22825,11171,7867,32895]
["Zala","megye",2020,{"$f":"'[1]22.1.2.1'!V76","v":267271},64918,31633,37415,49509,18519,27501,38301,14547,33051,16846,26155,20921,84853,59680,5092,24371,1450,182081,16727,36424,24393,66865,260235,38308,32909,2165,40198]
["Nyugat-Dunántúl","régió",2020,{"$f":"'[1]22.1.2.1'!V77","v":994549},227616,149278,140070,197877,66051,92196,129460,63596,100863,46823,104766,90448,296790,151407,17100,87159,4742,428533,76586,114547,65406,250717,852904,126944,84012,16369,124699]
["Baranya","megye",2020,{"$f":"'[1]22.1.2.1'!V78","v":359109},113911,84724,37596,87066,60668,45991,57668,51943,58113,25145,53282,61273,233957,65257,8370,77523,2052,142570,32210,68245,34939,101539,528737,44792,72440,5754,58950]
["Somogy","megye",2020,{"$f":"'[1]22.1.2.1'!V79","v":299950},84499,86100,22987,67496,25613,30880,45212,34610,58459,21565,21117,40267,109219,40109,4385,28772,1140,100947,18610,46670,34422,81351,332301,43820,34107,1419,43536]
["Tolna","megye",2020,{"$f":"'[1]22.1.2.1'!V80","v":215514},69349,30053,46226,48896,25625,25651,33877,24356,32613,14994,17781,16226,73393,24536,5570,17670,1714,54505,12249,25834,10733,51823,208384,11058,30570,2251,32436]
["Dél-Dunántúl","régió",2020,{"$f":"'[1]22.1.2.1'!V81","v":874573},267759,200877,106809,203458,111906,102522,136757,110909,149185,61704,92180,117766,416569,129902,18325,123965,4906,298022,63069,140749,80094,234713,1069422,99670,137117,9424,134922]
["Dunántúl","nagyrégió",2020,{"$f":"'[1]22.1.2.1'!V82","v":2929877},741001,526876,384845,589266,256849,335481,414062,260158,390827,153028,293116,265467,1047524,450909,56686,333474,19679,1246357,200142,408703,217869,788738,2706763,355333,318855,50941,396757]
["Borsod-Abaúj-Zemplén","megye",2020,{"$f":"'[1]22.1.2.1'!V83","v":637064},177645,120409,75184,149215,65119,67791,95901,57943,83133,34331,52164,58199,269478,73056,15921,65444,3613,378012,41902,137597,61969,185039,584006,43120,57724,18918,141611]
["Heves","megye",2020,{"$f":"'[1]22.1.2.1'!V84","v":293421},76459,46252,27439,72573,14853,22604,33952,15064,52045,20071,21071,16721,117384,42041,8884,31089,1648,79012,17047,35387,25899,87210,339864,70149,29139,5195,48192]
["Nógrád","megye",2020,{"$f":"'[1]22.1.2.1'!V85","v":188092},51024,26433,23004,31910,11496,16804,23311,16090,37743,7057,9606,6558,64386,20160,2304,11801,904,64570,10465,27612,14043,48055,130799,28835,10846,1091,23848]
["Észak-Magyarország","régió",2020,{"$f":"'[1]22.1.2.1'!V86","v":1118577},305128,193094,125627,253698,91468,107199,153164,89097,172921,61459,82841,81478,451248,135257,27109,108334,6165,521594,69414,200596,101911,320304,1054669,142104,97709,25204,213651]
["Hajdú-Bihar","megye",2020,{"$f":"'[1]22.1.2.1'!V87","v":526727},227607,99950,86222,140879,51508,79593,87601,50949,96769,38420,47360,78842,304111,96986,19347,61719,5820,274801,36369,119982,46714,185284,784338,68289,45607,44413,66061]
["Jász-Nagykun-Szolnok","megye",2020,{"$f":"'[1]22.1.2.1'!V88","v":366905},109106,58336,47318,64921,18623,43862,34135,33988,38233,12613,38693,20990,134617,117816,5200,36106,1745,157505,15789,45644,7237,103791,385739,53649,34721,7027,68406]
["Szabolcs-Szatmár-Bereg","megye",2020,{"$f":"'[1]22.1.2.1'!V89","v":549028},159066,56425,87481,90718,45316,65375,62041,40478,51930,28324,37933,34609,212945,67536,12886,55134,4804,133722,34954,79745,41079,149638,605051,69497,43217,16442,108512]
["Észak-Alföld","régió",2020,{"$f":"'[1]22.1.2.1'!V90","v":1442660},495779,214711,221021,296518,115447,188830,183777,125415,186932,79357,123986,134441,651673,282338,37433,152959,12369,566028,87112,245371,95030,438713,1775128,191435,123545,67882,242979]
["Bács-Kiskun","megye",2020,{"$f":"'[1]22.1.2.1'!V91","v":502220},127530,62321,86633,99068,22517,44681,57894,56938,58594,16170,43092,54162,195474,50563,8940,61686,49415,160052,27878,65313,28510,146500,515974,76341,42339,1223,55500]
["Békés","megye",2020,{"$f":"'[1]22.1.2.1'!V92","v":330542},95145,58479,31196,65699,25103,59439,44339,30833,52450,20245,35852,29412,137166,46619,7177,58548,3652,126286,23684,64993,27952,95754,357736,52566,40780,3275,55693]
["Csongrád-Csanád","megye",2020,{"$f":"'[1]22.1.2.1'!V93","v":398332},182376,108170,47801,127217,64897,50826,73260,59290,75845,29163,56677,50568,183293,49068,10840,77118,11684,185653,38431,73279,37471,97829,657435,62343,57979,6033,43918]
["Dél-Alföld","régió",2020,{"$f":"'[1]22.1.2.1'!V94","v":1231094},405051,228970,165630,291984,112517,154946,175493,147061,186889,65578,135621,134142,515933,146250,26957,197352,64751,471991,89993,203585,93933,340083,1531145,191250,141098,10531,155111]
["Alföld és Észak","nagyrégió",2020,{"$f":"'[1]22.1.2.1'!V95","v":3792331},1205958,636775,512278,842200,319432,450975,512434,361573,546742,206394,342448,350061,1618854,563845,91499,458645,83285,1559613,246519,649552,290874,1099100,4360942,524789,362352,103617,611741]
["Ország összesen","ország",2020,{"$f":"'[1]22.1.2.1'!V96","v":9769526},3111985,1923955,1275306,2151312,978898,1308333,1571151,1092993,1444191,649096,1065641,923626,4011076,1699710,239912,1338801,138109,4247675,686036,1496491,803659,2795369,11625333,1111744,1424513,256272,1610816]

{"sheet":"ab_számláló","index":1,"n_rows":696,"n_cols":4,"rows_kept":696,"cut":false,"hidden":false,"merged":[]}
["előző vége:",1]
[6960,2,null,6960]
[null,3,null,6264]
[null,4,null,{"$f":"D2-D3","v":696}]
[null,5,null,{"$f":"+D2+D4","v":7656}]
[null,6]
[null,7]
[null,8]
[null,9]
[null,10]
[null,11]
[null,12]
[null,13]
[null,14]
[null,15]
[null,16]
[null,17]
[null,18]
[null,19]
[null,20]
[null,21]
[null,22]
[null,23]
[null,24]
[null,25]
[null,26]
[null,27]
[null,28]
[null,29]
[null,30]
[null,31]
[null,32]
[null,33]
[null,34]
[null,35]
[null,36]
[null,37]
[null,38]
[null,39]
[null,40]
[null,41]
[null,42]
[null,43]
[null,44]
[null,45]
[null,46]
[null,47]
[null,48]
[null,49]
[null,50]
[null,51]
[null,52]
[null,53]
[null,54]
[null,55]
[null,56]
[null,57]
[null,58]
[null,59]
[null,60]
[null,61]
[null,62]
[null,63]
[null,64]
[null,65]
[null,66]
[null,67]
[null,68]
[null,69]
[null,70]
[null,71]
[null,72]
[null,73]
[null,74]
[null,75]
[null,76]
[null,77]
[null,78]
[null,79]
[null,80]
[null,81]
[null,82]
[null,83]
[null,84]
[null,85]
[null,86]
[null,87]
[null,88]
[null,89]
[null,90]
[null,91]
[null,92]
[null,93]
[null,94]
[null,95]
[null,96]
[null,97]
[null,98]
[null,99]
[null,100]
[null,101]
[null,102]
[null,103]
[null,104]
[null,105]
[null,106]
[null,107]
[null,108]
[null,109]
[null,110]
[null,111]
[null,112]
[null,113]
[null,114]
[null,115]
[null,116]
[null,117]
[null,118]
[null,119]
[null,120]
[null,121]
[null,122]
[null,123]
[null,124]
[null,125]
[null,126]
[null,127]
[null,128]
[null,129]
[null,130]
[null,131]
[null,132]
[null,133]
[null,134]
[null,135]
[null,136]
[null,137]
[null,138]
[null,139]
[null,140]
[null,141]
[null,142]
[null,143]
[null,144]
[null,145]
[null,146]
[null,147]
[null,148]
[null,149]
[null,150]
[null,151]
[null,152]
[null,153]
[null,154]
[null,155]
[null,156]
[null,157]
[null,158]
[null,159]
[null,160]
[null,161]
[null,162]
[null,163]
[null,164]
[null,165]
[null,166]
[null,167]
[null,168]
[null,169]
[null,170]
[null,171]
[null,172]
[null,173]
[null,174]
[null,175]
[null,176]
[null,177]
[null,178]
[null,179]
[null,180]
[null,181]
[null,182]
[null,183]
[null,184]
[null,185]
[null,186]
[null,187]
[null,188]
[null,189]
[null,190]
[null,191]
[null,192]
[null,193]
[null,194]
[null,195]
[null,196]
[null,197]
[null,198]
[null,199]
[null,200]
[null,201]
[null,202]
[null,203]
[null,204]
[null,205]
[null,206]
[null,207]
[null,208]
[null,209]
[null,210]
[null,211]
[null,212]
[null,213]
[null,214]
[null,215]
[null,216]
[null,217]
[null,218]
[null,219]
[null,220]
[null,221]
[null,222]
[null,223]
[null,224]
[null,225]
[null,226]
[null,227]
[null,228]
[null,229]
[null,230]
[null,231]
[null,232]
[null,233]
[null,234]
[null,235]
[null,236]
[null,237]
[null,238]
[null,239]
[null,240]
[null,241]
[null,242]
[null,243]
[null,244]
[null,245]
[null,246]
[null,247]
[null,248]
[null,249]
[null,250]
[null,251]
[null,252]
[null,253]
[null,254]
[null,255]
[null,256]
[null,257]
[null,258]
[null,259]
[null,260]
[null,261]
[null,262]
[null,263]
[null,264]
[null,265]
[null,266]
[null,267]
[null,268]
[null,269]
[null,270]
[null,271]
[null,272]
[null,273]
[null,274]
[null,275]
[null,276]
[null,277]
[null,278]
[null,279]
[null,280]
[null,281]
[null,282]
[null,283]
[null,284]
[null,285]
[null,286]
[null,287]
[null,288]
[null,289]
[null,290]
[null,291]
[null,292]
[null,293]
[null,294]
[null,295]
[null,296]
[null,297]
[null,298]
[null,299]
[null,300]
[null,301]
[null,302]
[null,303]
[null,304]
[null,305]
[null,306]
[null,307]
[null,308]
[null,309]
[null,310]
[null,311]
[null,312]
[null,313]
[null,314]
[null,315]
[null,316]
[null,317]
[null,318]
[null,319]
[null,320]
[null,321]
[null,322]
[null,323]
[null,324]
[null,325]
[null,326]
[null,327]
[null,328]
[null,329]
[null,330]
[null,331]
[null,332]
[null,333]
[null,334]
[null,335]
[null,336]
[null,337]
[null,338]
[null,339]
[null,340]
[null,341]
[null,342]
[null,343]
[null,344]
[null,345]
[null,346]
[null,347]
[null,348]
[null,349]
[null,350]
[null,351]
[null,352]
[null,353]
[null,354]
[null,355]
[null,356]
[null,357]
[null,358]
[null,359]
[null,360]
[null,361]
[null,362]
[null,363]
[null,364]
[null,365]
[null,366]
[null,367]
[null,368]
[null,369]
[null,370]
[null,371]
[null,372]
[null,373]
[null,374]
[null,375]
[null,376]
[null,377]
[null,378]
[null,379]
[null,380]
[null,381]
[null,382]
[null,383]
[null,384]
[null,385]
[null,386]
[null,387]
[null,388]
[null,389]
[null,390]
[null,391]
[null,392]
[null,393]
[null,394]
[null,395]
[null,396]
[null,397]
[null,398]
[null,399]
[null,400]
[null,401]
[null,402]
[null,403]
[null,404]
[null,405]
[null,406]
[null,407]
[null,408]
[null,409]
[null,410]
[null,411]
[null,412]
[null,413]
[null,414]
[null,415]
[null,416]
[null,417]
[null,418]
[null,419]
[null,420]
[null,421]
[null,422]
[null,423]
[null,424]
[null,425]
[null,426]
[null,427]
[null,428]
[null,429]
[null,430]
[null,431]
[null,432]
[null,433]
[null,434]
[null,435]
[null,436]
[null,437]
[null,438]
[null,439]
[null,440]
[null,441]
[null,442]
[null,443]
[null,444]
[null,445]
[null,446]
[null,447]
[null,448]
[null,449]
[null,450]
[null,451]
[null,452]
[null,453]
[null,454]
[null,455]
[null,456]
[null,457]
[null,458]
[null,459]
[null,460]
[null,461]
[null,462]
[null,463]
[null,464]
[null,465]
[null,466]
[null,467]
[null,468]
[null,469]
[null,470]
[null,471]
[null,472]
[null,473]
[null,474]
[null,475]
[null,476]
[null,477]
[null,478]
[null,479]
[null,480]
[null,481]
[null,482]
[null,483]
[null,484]
[null,485]
[null,486]
[null,487]
[null,488]
[null,489]
[null,490]
[null,491]
[null,492]
[null,493]
[null,494]
[null,495]
[null,496]
[null,497]
[null,498]
[null,499]
[null,500]
[null,501]
[null,502]
[null,503]
[null,504]
[null,505]
[null,506]
[null,507]
[null,508]
[null,509]
[null,510]
[null,511]
[null,512]
[null,513]
[null,514]
[null,515]
[null,516]
[null,517]
[null,518]
[null,519]
[null,520]
[null,521]
[null,522]
[null,523]
[null,524]
[null,525]
[null,526]
[null,527]
[null,528]
[null,529]
[null,530]
[null,531]
[null,532]
[null,533]
[null,534]
[null,535]
[null,536]
[null,537]
[null,538]
[null,539]
[null,540]
[null,541]
[null,542]
[null,543]
[null,544]
[null,545]
[null,546]
[null,547]
[null,548]
[null,549]
[null,550]
[null,551]
[null,552]
[null,553]
[null,554]
[null,555]
[null,556]
[null,557]
[null,558]
[null,559]
[null,560]
[null,561]
[null,562]
[null,563]
[null,564]
[null,565]
[null,566]
[null,567]
[null,568]
[null,569]
[null,570]
[null,571]
[null,572]
[null,573]
[null,574]
[null,575]
[null,576]
[null,577]
[null,578]
[null,579]
[null,580]
[null,581]
[null,582]
[null,583]
[null,584]
[null,585]
[null,586]
[null,587]
[null,588]
[null,589]
[null,590]
[null,591]
[null,592]
[null,593]
[null,594]
[null,595]
[null,596]
[null,597]
[null,598]
[null,599]
[null,600]
[null,601]
[null,602]
[null,603]
[null,604]
[null,605]
[null,606]
[null,607]
[null,608]
[null,609]
[null,610]
[null,611]
[null,612]
[null,613]
[null,614]
[null,615]
[null,616]
[null,617]
[null,618]
[null,619]
[null,620]
[null,621]
[null,622]
[null,623]
[null,624]
[null,625]
[null,626]
[null,627]
[null,628]
[null,629]
[null,630]
[null,631]
[null,632]
[null,633]
[null,634]
[null,635]
[null,636]
[null,637]
[null,638]
[null,639]
[null,640]
[null,641]
[null,642]
[null,643]
[null,644]
[null,645]
[null,646]
[null,647]
[null,648]
[null,649]
[null,650]
[null,651]
[null,652]
[null,653]
[null,654]
[null,655]
[null,656]
[null,657]
[null,658]
[null,659]
[null,660]
[null,661]
[null,662]
[null,663]
[null,664]
[null,665]
[null,666]
[null,667]
[null,668]
[null,669]
[null,670]
[null,671]
[null,672]
[null,673]
[null,674]
[null,675]
[null,676]
[null,677]
[null,678]
[null,679]
[null,680]
[null,681]
[null,682]
[null,683]
[null,684]
[null,685]
[null,686]
[null,687]
[null,688]
[null,689]
[null,690]
[null,691]
[null,692]
[null,693]
[null,694]
[null,695]
[null,696]

{"sheet":"ab","index":2,"n_rows":697,"n_cols":9,"rows_kept":697,"cut":false,"hidden":false,"merged":[]}
["Id","Objektum","Év","Attribútum","Típus","Érték","Mértékegység","Típus2","Típus3"]
[{"$f":"ab_számláló!$A$2+ab_számláló!B1","v":6961},"Budapest + Pest",2015,{"$f":"'2015_régi'!$AE$1","v":"Tüdő-gyógyászat"},"Tény",{"$f":"'2015'!AC194","v":1028490},"Pontszám","Direkt","Y-transz1"]
[{"$f":"ab_számláló!$A$2+ab_számláló!B2","v":6962},"Közép-Magyarország",2015,{"$f":"'2015_régi'!$AE$1","v":"Tüdő-gyógyászat"},"Tény",{"$f":"'2015'!AC195","v":1028490},"Pontszám","Direkt","Y-transz1"]
[{"$f":"ab_számláló!$A$2+ab_számláló!B3","v":6963},"Fejér",2015,{"$f":"'2015_régi'!$AE$1","v":"Tüdő-gyógyászat"},"Tény",{"$f":"'2015'!AC196","v":1018113},"Pontszám","Direkt","Y-transz1"]
[{"$f":"ab_számláló!$A$2+ab_számláló!B4","v":6964},"Komárom-Esztergom",2015,{"$f":"'2015_régi'!$AE$1","v":"Tüdő-gyógyászat"},"Tény",{"$f":"'2015'!AC197","v":1018399},"Pontszám","Direkt","Y-transz1"]
[{"$f":"ab_számláló!$A$2+ab_számláló!B5","v":6965},"Veszprém",2015,{"$f":"'2015_régi'!$AE$1","v":"Tüdő-gyógyászat"},"Tény",{"$f":"'2015'!AC198","v":1023280},"Pontszám","Direkt","Y-transz1"]
[{"$f":"ab_számláló!$A$2+ab_számláló!B6","v":6966},"Közép-Dunántúl",2015,{"$f":"'2015_régi'!$AE$1","v":"Tüdő-gyógyászat"},"Tény",{"$f":"'2015'!AC199","v":1019878},"Pontszám","Direkt","Y-transz1"]
[{"$f":"ab_számláló!$A$2+ab_számláló!B7","v":6967},"Győr-Moson-Sopron",2015,{"$f":"'2015_régi'!$AE$1","v":"Tüdő-gyógyászat"},"Tény",{"$f":"'2015'!AC200","v":1014609},"Pontszám","Direkt","Y-transz1"]
[{"$f":"ab_számláló!$A$2+ab_számláló!B8","v":6968},"Vas",2015,{"$f":"'2015_régi'!$AE$1","v":"Tüdő-gyógyászat"},"Tény",{"$f":"'2015'!AC201","v":1016975},"Pontszám","Direkt","Y-transz1"]
[{"$f":"ab_számláló!$A$2+ab_számláló!B9","v":6969},"Zala",2015,{"$f":"'2015_régi'!$AE$1","v":"Tüdő-gyógyászat"},"Tény",{"$f":"'2015'!AC202","v":1020917},"Pontszám","Direkt","Y-transz1"]
[{"$f":"ab_számláló!$A$2+ab_számláló!B10","v":6970},"Nyugat-Dunántúl",2015,{"$f":"'2015_régi'!$AE$1","v":"Tüdő-gyógyászat"},"Tény",{"$f":"'2015'!AC203","v":1016998},"Pontszám","Direkt","Y-transz1"]
[{"$f":"ab_számláló!$A$2+ab_számláló!B11","v":6971},"Baranya",2015,{"$f":"'2015_régi'!$AE$1","v":"Tüdő-gyógyászat"},"Tény",{"$f":"'2015'!AC204","v":1026931},"Pontszám","Direkt","Y-transz1"]
[{"$f":"ab_számláló!$A$2+ab_számláló!B12","v":6972},"Somogy",2015,{"$f":"'2015_régi'!$AE$1","v":"Tüdő-gyógyászat"},"Tény",{"$f":"'2015'!AC205","v":1018999},"Pontszám","Direkt","Y-transz1"]
[{"$f":"ab_számláló!$A$2+ab_számláló!B13","v":6973},"Tolna",2015,{"$f":"'2015_régi'!$AE$1","v":"Tüdő-gyógyászat"},"Tény",{"$f":"'2015'!AC206","v":1018727},"Pontszám","Direkt","Y-transz1"]
[{"$f":"ab_számláló!$A$2+ab_számláló!B14","v":6974},"Dél-Dunántúl",2015,{"$f":"'2015_régi'!$AE$1","v":"Tüdő-gyógyászat"},"Tény",{"$f":"'2015'!AC207","v":1022169},"Pontszám","Direkt","Y-transz1"]
[{"$f":"ab_számláló!$A$2+ab_számláló!B15","v":6975},"Dunántúl",2015,{"$f":"'2015_régi'!$AE$1","v":"Tüdő-gyógyászat"},"Tény",{"$f":"'2015'!AC208","v":1019624},"Pontszám","Direkt","Y-transz1"]
[{"$f":"ab_számláló!$A$2+ab_számláló!B16","v":6976},"Borsod-Abaúj-Zemplén",2015,{"$f":"'2015_régi'!$AE$1","v":"Tüdő-gyógyászat"},"Tény",{"$f":"'2015'!AC209","v":1031697},"Pontszám","Direkt","Y-transz1"]
[{"$f":"ab_számláló!$A$2+ab_számláló!B17","v":6977},"Heves",2015,{"$f":"'2015_régi'!$AE$1","v":"Tüdő-gyógyászat"},"Tény",{"$f":"'2015'!AC210","v":1027110},"Pontszám","Direkt","Y-transz1"]
[{"$f":"ab_számláló!$A$2+ab_számláló!B18","v":6978},"Nógrád",2015,{"$f":"'2015_régi'!$AE$1","v":"Tüdő-gyógyászat"},"Tény",{"$f":"'2015'!AC211","v":1018355},"Pontszám","Direkt","Y-transz1"]
[{"$f":"ab_számláló!$A$2+ab_számláló!B19","v":6979},"Észak-Magyarország",2015,{"$f":"'2015_régi'!$AE$1","v":"Tüdő-gyógyászat"},"Tény",{"$f":"'2015'!AC212","v":1028266},"Pontszám","Direkt","Y-transz1"]
[{"$f":"ab_számláló!$A$2+ab_számláló!B20","v":6980},"Hajdú-Bihar",2015,{"$f":"'2015_régi'!$AE$1","v":"Tüdő-gyógyászat"},"Tény",{"$f":"'2015'!AC213","v":1024129},"Pontszám","Direkt","Y-transz1"]
[{"$f":"ab_számláló!$A$2+ab_számláló!B21","v":6981},"Jász-Nagykun-Szolnok",2015,{"$f":"'2015_régi'!$AE$1","v":"Tüdő-gyógyászat"},"Tény",{"$f":"'2015'!AC214","v":1033871},"Pontszám","Direkt","Y-transz1"]
[{"$f":"ab_számláló!$A$2+ab_számláló!B22","v":6982},"Szabolcs-Szatmár-Bereg",2015,{"$f":"'2015_régi'!$AE$1","v":"Tüdő-gyógyászat"},"Tény",{"$f":"'2015'!AC215","v":1031465},"Pontszám","Direkt","Y-transz1"]
[{"$f":"ab_számláló!$A$2+ab_számláló!B23","v":6983},"Észak-Alföld",2015,{"$f":"'2015_régi'!$AE$1","v":"Tüdő-gyógyászat"},"Tény",{"$f":"'2015'!AC216","v":1029419},"Pontszám","Direkt","Y-transz1"]
[{"$f":"ab_számláló!$A$2+ab_számláló!B24","v":6984},"Bács-Kiskun",2015,{"$f":"'2015_régi'!$AE$1","v":"Tüdő-gyógyászat"},"Tény",{"$f":"'2015'!AC217","v":1016170},"Pontszám","Direkt","Y-transz1"]
[{"$f":"ab_számláló!$A$2+ab_számláló!B25","v":6985},"Békés",2015,{"$f":"'2015_régi'!$AE$1","v":"Tüdő-gyógyászat"},"Tény",{"$f":"'2015'!AC218","v":1020785},"Pontszám","Direkt","Y-transz1"]
[{"$f":"ab_számláló!$A$2+ab_számláló!B26","v":6986},"Csongrád-Csanád",2015,{"$f":"'2015_régi'!$AE$1","v":"Tüdő-gyógyászat"},"Tény",{"$f":"'2015'!AC219","v":1017357},"Pontszám","Direkt","Y-transz1"]
[{"$f":"ab_számláló!$A$2+ab_számláló!B27","v":6987},"Dél-Alföld",2015,{"$f":"'2015_régi'!$AE$1","v":"Tüdő-gyógyászat"},"Tény",{"$f":"'2015'!AC220","v":1017824},"Pontszám","Direkt","Y-transz1"]
[{"$f":"ab_számláló!$A$2+ab_számláló!B28","v":6988},"Alföld és Észak",2015,{"$f":"'2015_régi'!$AE$1","v":"Tüdő-gyógyászat"},"Tény",{"$f":"'2015'!AC221","v":1025312},"Pontszám","Direkt","Y-transz1"]
[{"$f":"ab_számláló!$A$2+ab_számláló!B29","v":6989},"Ország összesen",2015,{"$f":"'2015_régi'!$AE$1","v":"Tüdő-gyógyászat"},"Tény",{"$f":"'2015'!AC222","v":1024568},"Pontszám","Direkt","Y-transz1"]
[{"$f":"ab_számláló!$A$2+ab_számláló!B30","v":6990},"Budapest + Pest",2015,{"$f":"'2015_régi'!$AE$1","v":"Tüdő-gyógyászat"},"Becslés",{"$f":"'2015'!AB194","v":1028482.2},"Pontszám","Direkt","Y-transz1"]
[{"$f":"ab_számláló!$A$2+ab_számláló!B31","v":6991},"Közép-Magyarország",2015,{"$f":"'2015_régi'!$AE$1","v":"Tüdő-gyógyászat"},"Becslés",{"$f":"'2015'!AB195","v":1028482.2},"Pontszám","Direkt","Y-transz1"]
[{"$f":"ab_számláló!$A$2+ab_számláló!B32","v":6992},"Fejér",2015,{"$f":"'2015_régi'!$AE$1","v":"Tüdő-gyógyászat"},"Becslés",{"$f":"'2015'!AB196","v":1018106.7},"Pontszám","Direkt","Y-transz1"]
[{"$f":"ab_számláló!$A$2+ab_számláló!B33","v":6993},"Komárom-Esztergom",2015,{"$f":"'2015_régi'!$AE$1","v":"Tüdő-gyógyászat"},"Becslés",{"$f":"'2015'!AB197","v":1018392.7},"Pontszám","Direkt","Y-transz1"]
[{"$f":"ab_számláló!$A$2+ab_számláló!B34","v":6994},"Veszprém",2015,{"$f":"'2015_régi'!$AE$1","v":"Tüdő-gyógyászat"},"Becslés",{"$f":"'2015'!AB198","v":1023273.7},"Pontszám","Direkt","Y-transz1"]
[{"$f":"ab_számláló!$A$2+ab_számláló!B35","v":6995},"Közép-Dunántúl",2015,{"$f":"'2015_régi'!$AE$1","v":"Tüdő-gyógyászat"},"Becslés",{"$f":"'2015'!AB199","v":1019871.7},"Pontszám","Direkt","Y-transz1"]
[{"$f":"ab_számláló!$A$2+ab_számláló!B36","v":6996},"Győr-Moson-Sopron",2015,{"$f":"'2015_régi'!$AE$1","v":"Tüdő-gyógyászat"},"Becslés",{"$f":"'2015'!AB200","v":1014602.8},"Pontszám","Direkt","Y-transz1"]
[{"$f":"ab_számláló!$A$2+ab_számláló!B37","v":6997},"Vas",2015,{"$f":"'2015_régi'!$AE$1","v":"Tüdő-gyógyászat"},"Becslés",{"$f":"'2015'!AB201","v":1016968.7},"Pontszám","Direkt","Y-transz1"]
[{"$f":"ab_számláló!$A$2+ab_számláló!B38","v":6998},"Zala",2015,{"$f":"'2015_régi'!$AE$1","v":"Tüdő-gyógyászat"},"Becslés",{"$f":"'2015'!AB202","v":1022565.2},"Pontszám","Direkt","Y-transz1"]
[{"$f":"ab_számláló!$A$2+ab_számláló!B39","v":6999},"Nyugat-Dunántúl",2015,{"$f":"'2015_régi'!$AE$1","v":"Tüdő-gyógyászat"},"Becslés",{"$f":"'2015'!AB203","v":1016991.7},"Pontszám","Direkt","Y-transz1"]
[{"$f":"ab_számláló!$A$2+ab_számláló!B40","v":7000},"Baranya",2015,{"$f":"'2015_régi'!$AE$1","v":"Tüdő-gyógyászat"},"Becslés",{"$f":"'2015'!AB204","v":1026922.7},"Pontszám","Direkt","Y-transz1"]
[{"$f":"ab_számláló!$A$2+ab_számláló!B41","v":7001},"Somogy",2015,{"$f":"'2015_régi'!$AE$1","v":"Tüdő-gyógyászat"},"Becslés",{"$f":"'2015'!AB205","v":1018992.7},"Pontszám","Direkt","Y-transz1"]
[{"$f":"ab_számláló!$A$2+ab_számláló!B42","v":7002},"Tolna",2015,{"$f":"'2015_régi'!$AE$1","v":"Tüdő-gyógyászat"},"Becslés",{"$f":"'2015'!AB206","v":1017020.7},"Pontszám","Direkt","Y-transz1"]
[{"$f":"ab_számláló!$A$2+ab_számláló!B43","v":7003},"Dél-Dunántúl",2015,{"$f":"'2015_régi'!$AE$1","v":"Tüdő-gyógyászat"},"Becslés",{"$f":"'2015'!AB207","v":1020847.2},"Pontszám","Direkt","Y-transz1"]
[{"$f":"ab_számláló!$A$2+ab_számláló!B44","v":7004},"Dunántúl",2015,{"$f":"'2015_régi'!$AE$1","v":"Tüdő-gyógyászat"},"Becslés",{"$f":"'2015'!AB208","v":1019617.2},"Pontszám","Direkt","Y-transz1"]
[{"$f":"ab_számláló!$A$2+ab_számláló!B45","v":7005},"Borsod-Abaúj-Zemplén",2015,{"$f":"'2015_régi'!$AE$1","v":"Tüdő-gyógyászat"},"Becslés",{"$f":"'2015'!AB209","v":1030746.7},"Pontszám","Direkt","Y-transz1"]
[{"$f":"ab_számláló!$A$2+ab_számláló!B46","v":7006},"Heves",2015,{"$f":"'2015_régi'!$AE$1","v":"Tüdő-gyógyászat"},"Becslés",{"$f":"'2015'!AB210","v":1027103.7},"Pontszám","Direkt","Y-transz1"]
[{"$f":"ab_számláló!$A$2+ab_számláló!B47","v":7007},"Nógrád",2015,{"$f":"'2015_régi'!$AE$1","v":"Tüdő-gyógyászat"},"Becslés",{"$f":"'2015'!AB211","v":1018348.2},"Pontszám","Direkt","Y-transz1"]
[{"$f":"ab_számláló!$A$2+ab_számláló!B48","v":7008},"Észak-Magyarország",2015,{"$f":"'2015_régi'!$AE$1","v":"Tüdő-gyógyászat"},"Becslés",{"$f":"'2015'!AB212","v":1026191.2},"Pontszám","Direkt","Y-transz1"]
[{"$f":"ab_számláló!$A$2+ab_számláló!B49","v":7009},"Hajdú-Bihar",2015,{"$f":"'2015_régi'!$AE$1","v":"Tüdő-gyógyászat"},"Becslés",{"$f":"'2015'!AB213","v":1028977.7},"Pontszám","Direkt","Y-transz1"]
[{"$f":"ab_számláló!$A$2+ab_számláló!B50","v":7010},"Jász-Nagykun-Szolnok",2015,{"$f":"'2015_régi'!$AE$1","v":"Tüdő-gyógyászat"},"Becslés",{"$f":"'2015'!AB214","v":1033864.6},"Pontszám","Direkt","Y-transz1"]
[{"$f":"ab_számláló!$A$2+ab_számláló!B51","v":7011},"Szabolcs-Szatmár-Bereg",2015,{"$f":"'2015_régi'!$AE$1","v":"Tüdő-gyógyászat"},"Becslés",{"$f":"'2015'!AB215","v":1028382.2},"Pontszám","Direkt","Y-transz1"]
[{"$f":"ab_számláló!$A$2+ab_számláló!B52","v":7012},"Észak-Alföld",2015,{"$f":"'2015_régi'!$AE$1","v":"Tüdő-gyógyászat"},"Becslés",{"$f":"'2015'!AB216","v":1029412.7},"Pontszám","Direkt","Y-transz1"]
[{"$f":"ab_számláló!$A$2+ab_számláló!B53","v":7013},"Bács-Kiskun",2015,{"$f":"'2015_régi'!$AE$1","v":"Tüdő-gyógyászat"},"Becslés",{"$f":"'2015'!AB217","v":1016163.7},"Pontszám","Direkt","Y-transz1"]
[{"$f":"ab_számláló!$A$2+ab_számláló!B54","v":7014},"Békés",2015,{"$f":"'2015_régi'!$AE$1","v":"Tüdő-gyógyászat"},"Becslés",{"$f":"'2015'!AB218","v":1020778.2},"Pontszám","Direkt","Y-transz1"]
[{"$f":"ab_számláló!$A$2+ab_számláló!B55","v":7015},"Csongrád-Csanád",2015,{"$f":"'2015_régi'!$AE$1","v":"Tüdő-gyógyászat"},"Becslés",{"$f":"'2015'!AB219","v":1019433.2},"Pontszám","Direkt","Y-transz1"]
[{"$f":"ab_számláló!$A$2+ab_számláló!B56","v":7016},"Dél-Alföld",2015,{"$f":"'2015_régi'!$AE$1","v":"Tüdő-gyógyászat"},"Becslés",{"$f":"'2015'!AB220","v":1017817.7},"Pontszám","Direkt","Y-transz1"]
[{"$f":"ab_számláló!$A$2+ab_számláló!B57","v":7017},"Alföld és Észak",2015,{"$f":"'2015_régi'!$AE$1","v":"Tüdő-gyógyászat"},"Becslés",{"$f":"'2015'!AB221","v":1026007.2},"Pontszám","Direkt","Y-transz1"]
[{"$f":"ab_számláló!$A$2+ab_számláló!B58","v":7018},"Ország összesen",2015,{"$f":"'2015_régi'!$AE$1","v":"Tüdő-gyógyászat"},"Becslés",{"$f":"'2015'!AB222","v":1024561.7},"Pontszám","Direkt","Y-transz1"]
[{"$f":"ab_számláló!$A$2+ab_számláló!B59","v":7019},"Budapest + Pest",2015,{"$f":"'2015_régi'!$AE$1","v":"Tüdő-gyógyászat"},"Delta",{"$f":"'2015'!AD194","v":7.8},"Pontszám","Direkt","Y-transz1"]
[{"$f":"ab_számláló!$A$2+ab_számláló!B60","v":7020},"Közép-Magyarország",2015,{"$f":"'2015_régi'!$AE$1","v":"Tüdő-gyógyászat"},"Delta",{"$f":"'2015'!AD195","v":7.8},"Pontszám","Direkt","Y-transz1"]
[{"$f":"ab_számláló!$A$2+ab_számláló!B61","v":7021},"Fejér",2015,{"$f":"'2015_régi'!$AE$1","v":"Tüdő-gyógyászat"},"Delta",{"$f":"'2015'!AD196","v":6.3},"Pontszám","Direkt","Y-transz1"]
[{"$f":"ab_számláló!$A$2+ab_számláló!B62","v":7022},"Komárom-Esztergom",2015,{"$f":"'2015_régi'!$AE$1","v":"Tüdő-gyógyászat"},"Delta",{"$f":"'2015'!AD197","v":6.3},"Pontszám","Direkt","Y-transz1"]
[{"$f":"ab_számláló!$A$2+ab_számláló!B63","v":7023},"Veszprém",2015,{"$f":"'2015_régi'!$AE$1","v":"Tüdő-gyógyászat"},"Delta",{"$f":"'2015'!AD198","v":6.3},"Pontszám","Direkt","Y-transz1"]
[{"$f":"ab_számláló!$A$2+ab_számláló!B64","v":7024},"Közép-Dunántúl",2015,{"$f":"'2015_régi'!$AE$1","v":"Tüdő-gyógyászat"},"Delta",{"$f":"'2015'!AD199","v":6.3},"Pontszám","Direkt","Y-transz1"]
[{"$f":"ab_számláló!$A$2+ab_számláló!B65","v":7025},"Győr-Moson-Sopron",2015,{"$f":"'2015_régi'!$AE$1","v":"Tüdő-gyógyászat"},"Delta",{"$f":"'2015'!AD200","v":6.2},"Pontszám","Direkt","Y-transz1"]
[{"$f":"ab_számláló!$A$2+ab_számláló!B66","v":7026},"Vas",2015,{"$f":"'2015_régi'!$AE$1","v":"Tüdő-gyógyászat"},"Delta",{"$f":"'2015'!AD201","v":6.3},"Pontszám","Direkt","Y-transz1"]
[{"$f":"ab_számláló!$A$2+ab_számláló!B67","v":7027},"Zala",2015,{"$f":"'2015_régi'!$AE$1","v":"Tüdő-gyógyászat"},"Delta",{"$f":"'2015'!AD202","v":-1648.2},"Pontszám","Direkt","Y-transz1"]
[{"$f":"ab_számláló!$A$2+ab_számláló!B68","v":7028},"Nyugat-Dunántúl",2015,{"$f":"'2015_régi'!$AE$1","v":"Tüdő-gyógyászat"},"Delta",{"$f":"'2015'!AD203","v":6.3},"Pontszám","Direkt","Y-transz1"]
[{"$f":"ab_számláló!$A$2+ab_számláló!B69","v":7029},"Baranya",2015,{"$f":"'2015_régi'!$AE$1","v":"Tüdő-gyógyászat"},"Delta",{"$f":"'2015'!AD204","v":8.3000000000000007},"Pontszám","Direkt","Y-transz1"]
[{"$f":"ab_számláló!$A$2+ab_számláló!B70","v":7030},"Somogy",2015,{"$f":"'2015_régi'!$AE$1","v":"Tüdő-gyógyászat"},"Delta",{"$f":"'2015'!AD205","v":6.3},"Pontszám","Direkt","Y-transz1"]
[{"$f":"ab_számláló!$A$2+ab_számláló!B71","v":7031},"Tolna",2015,{"$f":"'2015_régi'!$AE$1","v":"Tüdő-gyógyászat"},"Delta",{"$f":"'2015'!AD206","v":1706.3},"Pontszám","Direkt","Y-transz1"]
[{"$f":"ab_számláló!$A$2+ab_számláló!B72","v":7032},"Dél-Dunántúl",2015,{"$f":"'2015_régi'!$AE$1","v":"Tüdő-gyógyászat"},"Delta",{"$f":"'2015'!AD207","v":1321.8},"Pontszám","Direkt","Y-transz1"]
[{"$f":"ab_számláló!$A$2+ab_számláló!B73","v":7033},"Dunántúl",2015,{"$f":"'2015_régi'!$AE$1","v":"Tüdő-gyógyászat"},"Delta",{"$f":"'2015'!AD208","v":6.8},"Pontszám","Direkt","Y-transz1"]
[{"$f":"ab_számláló!$A$2+ab_számláló!B74","v":7034},"Borsod-Abaúj-Zemplén",2015,{"$f":"'2015_régi'!$AE$1","v":"Tüdő-gyógyászat"},"Delta",{"$f":"'2015'!AD209","v":950.3},"Pontszám","Direkt","Y-transz1"]
[{"$f":"ab_számláló!$A$2+ab_számláló!B75","v":7035},"Heves",2015,{"$f":"'2015_régi'!$AE$1","v":"Tüdő-gyógyászat"},"Delta",{"$f":"'2015'!AD210","v":6.3},"Pontszám","Direkt","Y-transz1"]
[{"$f":"ab_számláló!$A$2+ab_számláló!B76","v":7036},"Nógrád",2015,{"$f":"'2015_régi'!$AE$1","v":"Tüdő-gyógyászat"},"Delta",{"$f":"'2015'!AD211","v":6.8},"Pontszám","Direkt","Y-transz1"]
[{"$f":"ab_számláló!$A$2+ab_számláló!B77","v":7037},"Észak-Magyarország",2015,{"$f":"'2015_régi'!$AE$1","v":"Tüdő-gyógyászat"},"Delta",{"$f":"'2015'!AD212","v":2074.8000000000002},"Pontszám","Direkt","Y-transz1"]
[{"$f":"ab_számláló!$A$2+ab_számláló!B78","v":7038},"Hajdú-Bihar",2015,{"$f":"'2015_régi'!$AE$1","v":"Tüdő-gyógyászat"},"Delta",{"$f":"'2015'!AD213","v":-4848.7},"Pontszám","Direkt","Y-transz1"]
[{"$f":"ab_számláló!$A$2+ab_számláló!B79","v":7039},"Jász-Nagykun-Szolnok",2015,{"$f":"'2015_régi'!$AE$1","v":"Tüdő-gyógyászat"},"Delta",{"$f":"'2015'!AD214","v":6.4},"Pontszám","Direkt","Y-transz1"]
[{"$f":"ab_számláló!$A$2+ab_számláló!B80","v":7040},"Szabolcs-Szatmár-Bereg",2015,{"$f":"'2015_régi'!$AE$1","v":"Tüdő-gyógyászat"},"Delta",{"$f":"'2015'!AD215","v":3082.8},"Pontszám","Direkt","Y-transz1"]
[{"$f":"ab_számláló!$A$2+ab_számláló!B81","v":7041},"Észak-Alföld",2015,{"$f":"'2015_régi'!$AE$1","v":"Tüdő-gyógyászat"},"Delta",{"$f":"'2015'!AD216","v":6.3},"Pontszám","Direkt","Y-transz1"]
[{"$f":"ab_számláló!$A$2+ab_számláló!B82","v":7042},"Bács-Kiskun",2015,{"$f":"'2015_régi'!$AE$1","v":"Tüdő-gyógyászat"},"Delta",{"$f":"'2015'!AD217","v":6.3},"Pontszám","Direkt","Y-transz1"]
[{"$f":"ab_számláló!$A$2+ab_számláló!B83","v":7043},"Békés",2015,{"$f":"'2015_régi'!$AE$1","v":"Tüdő-gyógyászat"},"Delta",{"$f":"'2015'!AD218","v":6.8},"Pontszám","Direkt","Y-transz1"]
[{"$f":"ab_számláló!$A$2+ab_számláló!B84","v":7044},"Csongrád-Csanád",2015,{"$f":"'2015_régi'!$AE$1","v":"Tüdő-gyógyászat"},"Delta",{"$f":"'2015'!AD219","v":-2076.1999999999998},"Pontszám","Direkt","Y-transz1"]
[{"$f":"ab_számláló!$A$2+ab_számláló!B85","v":7045},"Dél-Alföld",2015,{"$f":"'2015_régi'!$AE$1","v":"Tüdő-gyógyászat"},"Delta",{"$f":"'2015'!AD220","v":6.3},"Pontszám","Direkt","Y-transz1"]
[{"$f":"ab_számláló!$A$2+ab_számláló!B86","v":7046},"Alföld és Észak",2015,{"$f":"'2015_régi'!$AE$1","v":"Tüdő-gyógyászat"},"Delta",{"$f":"'2015'!AD221","v":-695.2},"Pontszám","Direkt","Y-transz1"]
[{"$f":"ab_számláló!$A$2+ab_számláló!B87","v":7047},"Ország összesen",2015,{"$f":"'2015_régi'!$AE$1","v":"Tüdő-gyógyászat"},"Delta",{"$f":"'2015'!AD222","v":6.3},"Pontszám","Direkt","Y-transz1"]
[{"$f":"ab_számláló!$A$2+ab_számláló!B88","v":7048},"Budapest + Pest",2015,{"$f":"'2015_régi'!$AE$1","v":"Tüdő-gyógyászat"},"Delta/Tény",{"$f":"'2015'!AE194","v":0},"%","Direkt","Y-transz1"]
[{"$f":"ab_számláló!$A$2+ab_számláló!B89","v":7049},"Közép-Magyarország",2015,{"$f":"'2015_régi'!$AE$1","v":"Tüdő-gyógyászat"},"Delta/Tény",{"$f":"'2015'!AE195","v":0},"%","Direkt","Y-transz1"]
[{"$f":"ab_számláló!$A$2+ab_számláló!B90","v":7050},"Fejér",2015,{"$f":"'2015_régi'!$AE$1","v":"Tüdő-gyógyászat"},"Delta/Tény",{"$f":"'2015'!AE196","v":0},"%","Direkt","Y-transz1"]
[{"$f":"ab_számláló!$A$2+ab_számláló!B91","v":7051},"Komárom-Esztergom",2015,{"$f":"'2015_régi'!$AE$1","v":"Tüdő-gyógyászat"},"Delta/Tény",{"$f":"'2015'!AE197","v":0},"%","Direkt","Y-transz1"]
[{"$f":"ab_számláló!$A$2+ab_számláló!B92","v":7052},"Veszprém",2015,{"$f":"'2015_régi'!$AE$1","v":"Tüdő-gyógyászat"},"Delta/Tény",{"$f":"'2015'!AE198","v":0},"%","Direkt","Y-transz1"]
[{"$f":"ab_számláló!$A$2+ab_számláló!B93","v":7053},"Közép-Dunántúl",2015,{"$f":"'2015_régi'!$AE$1","v":"Tüdő-gyógyászat"},"Delta/Tény",{"$f":"'2015'!AE199","v":0},"%","Direkt","Y-transz1"]
[{"$f":"ab_számláló!$A$2+ab_számláló!B94","v":7054},"Győr-Moson-Sopron",2015,{"$f":"'2015_régi'!$AE$1","v":"Tüdő-gyógyászat"},"Delta/Tény",{"$f":"'2015'!AE200","v":0},"%","Direkt","Y-transz1"]
[{"$f":"ab_számláló!$A$2+ab_számláló!B95","v":7055},"Vas",2015,{"$f":"'2015_régi'!$AE$1","v":"Tüdő-gyógyászat"},"Delta/Tény",{"$f":"'2015'!AE201","v":0},"%","Direkt","Y-transz1"]
[{"$f":"ab_számláló!$A$2+ab_számláló!B96","v":7056},"Zala",2015,{"$f":"'2015_régi'!$AE$1","v":"Tüdő-gyógyászat"},"Delta/Tény",{"$f":"'2015'!AE202","v":-0.16},"%","Direkt","Y-transz1"]
[{"$f":"ab_számláló!$A$2+ab_számláló!B97","v":7057},"Nyugat-Dunántúl",2015,{"$f":"'2015_régi'!$AE$1","v":"Tüdő-gyógyászat"},"Delta/Tény",{"$f":"'2015'!AE203","v":0},"%","Direkt","Y-transz1"]
[{"$f":"ab_számláló!$A$2+ab_számláló!B98","v":7058},"Baranya",2015,{"$f":"'2015_régi'!$AE$1","v":"Tüdő-gyógyászat"},"Delta/Tény",{"$f":"'2015'!AE204","v":0},"%","Direkt","Y-transz1"]
[{"$f":"ab_számláló!$A$2+ab_számláló!B99","v":7059},"Somogy",2015,{"$f":"'2015_régi'!$AE$1","v":"Tüdő-gyógyászat"},"Delta/Tény",{"$f":"'2015'!AE205","v":0},"%","Direkt","Y-transz1"]
[{"$f":"ab_számláló!$A$2+ab_számláló!B100","v":7060},"Tolna",2015,{"$f":"'2015_régi'!$AE$1","v":"Tüdő-gyógyászat"},"Delta/Tény",{"$f":"'2015'!AE206","v":0.17},"%","Direkt","Y-transz1"]
[{"$f":"ab_számláló!$A$2+ab_számláló!B101","v":7061},"Dél-Dunántúl",2015,{"$f":"'2015_régi'!$AE$1","v":"Tüdő-gyógyászat"},"Delta/Tény",{"$f":"'2015'!AE207","v":0.13},"%","Direkt","Y-transz1"]
[{"$f":"ab_számláló!$A$2+ab_számláló!B102","v":7062},"Dunántúl",2015,{"$f":"'2015_régi'!$AE$1","v":"Tüdő-gyógyászat"},"Delta/Tény",{"$f":"'2015'!AE208","v":0},"%","Direkt","Y-transz1"]
[{"$f":"ab_számláló!$A$2+ab_számláló!B103","v":7063},"Borsod-Abaúj-Zemplén",2015,{"$f":"'2015_régi'!$AE$1","v":"Tüdő-gyógyászat"},"Delta/Tény",{"$f":"'2015'!AE209","v":0.09},"%","Direkt","Y-transz1"]
[{"$f":"ab_számláló!$A$2+ab_számláló!B104","v":7064},"Heves",2015,{"$f":"'2015_régi'!$AE$1","v":"Tüdő-gyógyászat"},"Delta/Tény",{"$f":"'2015'!AE210","v":0},"%","Direkt","Y-transz1"]
[{"$f":"ab_számláló!$A$2+ab_számláló!B105","v":7065},"Nógrád",2015,{"$f":"'2015_régi'!$AE$1","v":"Tüdő-gyógyászat"},"Delta/Tény",{"$f":"'2015'!AE211","v":0},"%","Direkt","Y-transz1"]
[{"$f":"ab_számláló!$A$2+ab_számláló!B106","v":7066},"Észak-Magyarország",2015,{"$f":"'2015_régi'!$AE$1","v":"Tüdő-gyógyászat"},"Delta/Tény",{"$f":"'2015'!AE212","v":0.2},"%","Direkt","Y-transz1"]
[{"$f":"ab_számláló!$A$2+ab_számláló!B107","v":7067},"Hajdú-Bihar",2015,{"$f":"'2015_régi'!$AE$1","v":"Tüdő-gyógyászat"},"Delta/Tény",{"$f":"'2015'!AE213","v":-0.47},"%","Direkt","Y-transz1"]
[{"$f":"ab_számláló!$A$2+ab_számláló!B108","v":7068},"Jász-Nagykun-Szolnok",2015,{"$f":"'2015_régi'!$AE$1","v":"Tüdő-gyógyászat"},"Delta/Tény",{"$f":"'2015'!AE214","v":0},"%","Direkt","Y-transz1"]
[{"$f":"ab_számláló!$A$2+ab_számláló!B109","v":7069},"Szabolcs-Szatmár-Bereg",2015,{"$f":"'2015_régi'!$AE$1","v":"Tüdő-gyógyászat"},"Delta/Tény",{"$f":"'2015'!AE215","v":0.3},"%","Direkt","Y-transz1"]
[{"$f":"ab_számláló!$A$2+ab_számláló!B110","v":7070},"Észak-Alföld",2015,{"$f":"'2015_régi'!$AE$1","v":"Tüdő-gyógyászat"},"Delta/Tény",{"$f":"'2015'!AE216","v":0},"%","Direkt","Y-transz1"]
[{"$f":"ab_számláló!$A$2+ab_számláló!B111","v":7071},"Bács-Kiskun",2015,{"$f":"'2015_régi'!$AE$1","v":"Tüdő-gyógyászat"},"Delta/Tény",{"$f":"'2015'!AE217","v":0},"%","Direkt","Y-transz1"]
[{"$f":"ab_számláló!$A$2+ab_számláló!B112","v":7072},"Békés",2015,{"$f":"'2015_régi'!$AE$1","v":"Tüdő-gyógyászat"},"Delta/Tény",{"$f":"'2015'!AE218","v":0},"%","Direkt","Y-transz1"]
[{"$f":"ab_számláló!$A$2+ab_számláló!B113","v":7073},"Csongrád-Csanád",2015,{"$f":"'2015_régi'!$AE$1","v":"Tüdő-gyógyászat"},"Delta/Tény",{"$f":"'2015'!AE219","v":-0.2},"%","Direkt","Y-transz1"]
[{"$f":"ab_számláló!$A$2+ab_számláló!B114","v":7074},"Dél-Alföld",2015,{"$f":"'2015_régi'!$AE$1","v":"Tüdő-gyógyászat"},"Delta/Tény",{"$f":"'2015'!AE220","v":0},"%","Direkt","Y-transz1"]
[{"$f":"ab_számláló!$A$2+ab_számláló!B115","v":7075},"Alföld és Észak",2015,{"$f":"'2015_régi'!$AE$1","v":"Tüdő-gyógyászat"},"Delta/Tény",{"$f":"'2015'!AE221","v":-7.0000000000000007E-2},"%","Direkt","Y-transz1"]
[{"$f":"ab_számláló!$A$2+ab_számláló!B116","v":7076},"Ország összesen",2015,{"$f":"'2015_régi'!$AE$1","v":"Tüdő-gyógyászat"},"Delta/Tény",{"$f":"'2015'!AE222","v":0},"%","Direkt","Y-transz1"]
[{"$f":"ab_számláló!$A$2+ab_számláló!B117","v":7077},"Budapest + Pest",2016,{"$f":"'2015_régi'!$AE$1","v":"Tüdő-gyógyászat"},"Tény",{"$f":"'2016'!AC194","v":1027579},"Pontszám","Direkt","Y-transz1"]
[{"$f":"ab_számláló!$A$2+ab_számláló!B118","v":7078},"Közép-Magyarország",2016,{"$f":"'2015_régi'!$AE$1","v":"Tüdő-gyógyászat"},"Tény",{"$f":"'2016'!AC195","v":1027579},"Pontszám","Direkt","Y-transz1"]
[{"$f":"ab_számláló!$A$2+ab_számláló!B119","v":7079},"Fejér",2016,{"$f":"'2015_régi'!$AE$1","v":"Tüdő-gyógyászat"},"Tény",{"$f":"'2016'!AC196","v":1020440},"Pontszám","Direkt","Y-transz1"]
[{"$f":"ab_számláló!$A$2+ab_számláló!B120","v":7080},"Komárom-Esztergom",2016,{"$f":"'2015_régi'!$AE$1","v":"Tüdő-gyógyászat"},"Tény",{"$f":"'2016'!AC197","v":1019913},"Pontszám","Direkt","Y-transz1"]
[{"$f":"ab_számláló!$A$2+ab_számláló!B121","v":7081},"Veszprém",2016,{"$f":"'2015_régi'!$AE$1","v":"Tüdő-gyógyászat"},"Tény",{"$f":"'2016'!AC198","v":1021549},"Pontszám","Direkt","Y-transz1"]
[{"$f":"ab_számláló!$A$2+ab_számláló!B122","v":7082},"Közép-Dunántúl",2016,{"$f":"'2015_régi'!$AE$1","v":"Tüdő-gyógyászat"},"Tény",{"$f":"'2016'!AC199","v":1020652},"Pontszám","Direkt","Y-transz1"]
[{"$f":"ab_számláló!$A$2+ab_számláló!B123","v":7083},"Győr-Moson-Sopron",2016,{"$f":"'2015_régi'!$AE$1","v":"Tüdő-gyógyászat"},"Tény",{"$f":"'2016'!AC200","v":1014982},"Pontszám","Direkt","Y-transz1"]
[{"$f":"ab_számláló!$A$2+ab_számláló!B124","v":7084},"Vas",2016,{"$f":"'2015_régi'!$AE$1","v":"Tüdő-gyógyászat"},"Tény",{"$f":"'2016'!AC201","v":1016277},"Pontszám","Direkt","Y-transz1"]
[{"$f":"ab_számláló!$A$2+ab_számláló!B125","v":7085},"Zala",2016,{"$f":"'2015_régi'!$AE$1","v":"Tüdő-gyógyászat"},"Tény",{"$f":"'2016'!AC202","v":1020506},"Pontszám","Direkt","Y-transz1"]
[{"$f":"ab_számláló!$A$2+ab_számláló!B126","v":7086},"Nyugat-Dunántúl",2016,{"$f":"'2015_régi'!$AE$1","v":"Tüdő-gyógyászat"},"Tény",{"$f":"'2016'!AC203","v":1016860},"Pontszám","Direkt","Y-transz1"]
[{"$f":"ab_számláló!$A$2+ab_számláló!B127","v":7087},"Baranya",2016,{"$f":"'2015_régi'!$AE$1","v":"Tüdő-gyógyászat"},"Tény",{"$f":"'2016'!AC204","v":1026395},"Pontszám","Direkt","Y-transz1"]
[{"$f":"ab_számláló!$A$2+ab_számláló!B128","v":7088},"Somogy",2016,{"$f":"'2015_régi'!$AE$1","v":"Tüdő-gyógyászat"},"Tény",{"$f":"'2016'!AC205","v":1019037},"Pontszám","Direkt","Y-transz1"]
[{"$f":"ab_számláló!$A$2+ab_számláló!B129","v":7089},"Tolna",2016,{"$f":"'2015_régi'!$AE$1","v":"Tüdő-gyógyászat"},"Tény",{"$f":"'2016'!AC206","v":1020030},"Pontszám","Direkt","Y-transz1"]
[{"$f":"ab_számláló!$A$2+ab_számláló!B130","v":7090},"Dél-Dunántúl",2016,{"$f":"'2015_régi'!$AE$1","v":"Tüdő-gyógyászat"},"Tény",{"$f":"'2016'!AC207","v":1022290},"Pontszám","Direkt","Y-transz1"]
[{"$f":"ab_számláló!$A$2+ab_számláló!B131","v":7091},"Dunántúl",2016,{"$f":"'2015_régi'!$AE$1","v":"Tüdő-gyógyászat"},"Tény",{"$f":"'2016'!AC208","v":1019886},"Pontszám","Direkt","Y-transz1"]
[{"$f":"ab_számláló!$A$2+ab_számláló!B132","v":7092},"Borsod-Abaúj-Zemplén",2016,{"$f":"'2015_régi'!$AE$1","v":"Tüdő-gyógyászat"},"Tény",{"$f":"'2016'!AC209","v":1031201},"Pontszám","Direkt","Y-transz1"]
[{"$f":"ab_számláló!$A$2+ab_számláló!B133","v":7093},"Heves",2016,{"$f":"'2015_régi'!$AE$1","v":"Tüdő-gyógyászat"},"Tény",{"$f":"'2016'!AC210","v":1023518},"Pontszám","Direkt","Y-transz1"]
[{"$f":"ab_számláló!$A$2+ab_számláló!B134","v":7094},"Nógrád",2016,{"$f":"'2015_régi'!$AE$1","v":"Tüdő-gyógyászat"},"Tény",{"$f":"'2016'!AC211","v":1018630},"Pontszám","Direkt","Y-transz1"]
[{"$f":"ab_számláló!$A$2+ab_számláló!B135","v":7095},"Észak-Magyarország",2016,{"$f":"'2015_régi'!$AE$1","v":"Tüdő-gyógyászat"},"Tény",{"$f":"'2016'!AC212","v":1027095},"Pontszám","Direkt","Y-transz1"]
[{"$f":"ab_számláló!$A$2+ab_számláló!B136","v":7096},"Hajdú-Bihar",2016,{"$f":"'2015_régi'!$AE$1","v":"Tüdő-gyógyászat"},"Tény",{"$f":"'2016'!AC213","v":1019626},"Pontszám","Direkt","Y-transz1"]
[{"$f":"ab_számláló!$A$2+ab_számláló!B137","v":7097},"Jász-Nagykun-Szolnok",2016,{"$f":"'2015_régi'!$AE$1","v":"Tüdő-gyógyászat"},"Tény",{"$f":"'2016'!AC214","v":1034723},"Pontszám","Direkt","Y-transz1"]
[{"$f":"ab_számláló!$A$2+ab_számláló!B138","v":7098},"Szabolcs-Szatmár-Bereg",2016,{"$f":"'2015_régi'!$AE$1","v":"Tüdő-gyógyászat"},"Tény",{"$f":"'2016'!AC215","v":1030516},"Pontszám","Direkt","Y-transz1"]
[{"$f":"ab_számláló!$A$2+ab_számláló!B139","v":7099},"Észak-Alföld",2016,{"$f":"'2015_régi'!$AE$1","v":"Tüdő-gyógyászat"},"Tény",{"$f":"'2016'!AC216","v":1027639},"Pontszám","Direkt","Y-transz1"]
[{"$f":"ab_számláló!$A$2+ab_számláló!B140","v":7100},"Bács-Kiskun",2016,{"$f":"'2015_régi'!$AE$1","v":"Tüdő-gyógyászat"},"Tény",{"$f":"'2016'!AC217","v":1015227},"Pontszám","Direkt","Y-transz1"]
[{"$f":"ab_számláló!$A$2+ab_számláló!B141","v":7101},"Békés",2016,{"$f":"'2015_régi'!$AE$1","v":"Tüdő-gyógyászat"},"Tény",{"$f":"'2016'!AC218","v":1021034},"Pontszám","Direkt","Y-transz1"]
[{"$f":"ab_számláló!$A$2+ab_számláló!B142","v":7102},"Csongrád-Csanád",2016,{"$f":"'2015_régi'!$AE$1","v":"Tüdő-gyógyászat"},"Tény",{"$f":"'2016'!AC219","v":1017439},"Pontszám","Direkt","Y-transz1"]
[{"$f":"ab_számláló!$A$2+ab_számláló!B143","v":7103},"Dél-Alföld",2016,{"$f":"'2015_régi'!$AE$1","v":"Tüdő-gyógyászat"},"Tény",{"$f":"'2016'!AC220","v":1017531},"Pontszám","Direkt","Y-transz1"]
[{"$f":"ab_számláló!$A$2+ab_számláló!B144","v":7104},"Alföld és Észak",2016,{"$f":"'2015_régi'!$AE$1","v":"Tüdő-gyógyászat"},"Tény",{"$f":"'2016'!AC221","v":1024197},"Pontszám","Direkt","Y-transz1"]
[{"$f":"ab_számláló!$A$2+ab_számláló!B145","v":7105},"Ország összesen",2016,{"$f":"'2015_régi'!$AE$1","v":"Tüdő-gyógyászat"},"Tény",{"$f":"'2016'!AC222","v":1023935},"Pontszám","Direkt","Y-transz1"]
[{"$f":"ab_számláló!$A$2+ab_számláló!B146","v":7106},"Budapest + Pest",2016,{"$f":"'2015_régi'!$AE$1","v":"Tüdő-gyógyászat"},"Becslés",{"$f":"'2016'!AB194","v":1027578.9},"Pontszám","Direkt","Y-transz1"]
[{"$f":"ab_számláló!$A$2+ab_számláló!B147","v":7107},"Közép-Magyarország",2016,{"$f":"'2015_régi'!$AE$1","v":"Tüdő-gyógyászat"},"Becslés",{"$f":"'2016'!AB195","v":1027578.9},"Pontszám","Direkt","Y-transz1"]
[{"$f":"ab_számláló!$A$2+ab_számláló!B148","v":7108},"Fejér",2016,{"$f":"'2015_régi'!$AE$1","v":"Tüdő-gyógyászat"},"Becslés",{"$f":"'2016'!AB196","v":1020439.4},"Pontszám","Direkt","Y-transz1"]
[{"$f":"ab_számláló!$A$2+ab_számláló!B149","v":7109},"Komárom-Esztergom",2016,{"$f":"'2015_régi'!$AE$1","v":"Tüdő-gyógyászat"},"Becslés",{"$f":"'2016'!AB197","v":1019912.9},"Pontszám","Direkt","Y-transz1"]
[{"$f":"ab_számláló!$A$2+ab_számláló!B150","v":7110},"Veszprém",2016,{"$f":"'2015_régi'!$AE$1","v":"Tüdő-gyógyászat"},"Becslés",{"$f":"'2016'!AB198","v":1021548.4},"Pontszám","Direkt","Y-transz1"]
[{"$f":"ab_számláló!$A$2+ab_számláló!B151","v":7111},"Közép-Dunántúl",2016,{"$f":"'2015_régi'!$AE$1","v":"Tüdő-gyógyászat"},"Becslés",{"$f":"'2016'!AB199","v":1020651.9},"Pontszám","Direkt","Y-transz1"]
[{"$f":"ab_számláló!$A$2+ab_számláló!B152","v":7112},"Győr-Moson-Sopron",2016,{"$f":"'2015_régi'!$AE$1","v":"Tüdő-gyógyászat"},"Becslés",{"$f":"'2016'!AB200","v":1014981.9},"Pontszám","Direkt","Y-transz1"]
[{"$f":"ab_számláló!$A$2+ab_számláló!B153","v":7113},"Vas",2016,{"$f":"'2015_régi'!$AE$1","v":"Tüdő-gyógyászat"},"Becslés",{"$f":"'2016'!AB201","v":1016276.9},"Pontszám","Direkt","Y-transz1"]
[{"$f":"ab_számláló!$A$2+ab_számláló!B154","v":7114},"Zala",2016,{"$f":"'2015_régi'!$AE$1","v":"Tüdő-gyógyászat"},"Becslés",{"$f":"'2016'!AB202","v":1020505.9},"Pontszám","Direkt","Y-transz1"]
[{"$f":"ab_számláló!$A$2+ab_számláló!B155","v":7115},"Nyugat-Dunántúl",2016,{"$f":"'2015_régi'!$AE$1","v":"Tüdő-gyógyászat"},"Becslés",{"$f":"'2016'!AB203","v":1016860.4},"Pontszám","Direkt","Y-transz1"]
[{"$f":"ab_számláló!$A$2+ab_számláló!B156","v":7116},"Baranya",2016,{"$f":"'2015_régi'!$AE$1","v":"Tüdő-gyógyászat"},"Becslés",{"$f":"'2016'!AB204","v":1026394.9},"Pontszám","Direkt","Y-transz1"]
[{"$f":"ab_számláló!$A$2+ab_számláló!B157","v":7117},"Somogy",2016,{"$f":"'2015_régi'!$AE$1","v":"Tüdő-gyógyászat"},"Becslés",{"$f":"'2016'!AB205","v":1019036.9},"Pontszám","Direkt","Y-transz1"]
[{"$f":"ab_számláló!$A$2+ab_számláló!B158","v":7118},"Tolna",2016,{"$f":"'2015_régi'!$AE$1","v":"Tüdő-gyógyászat"},"Becslés",{"$f":"'2016'!AB206","v":1018604.9},"Pontszám","Direkt","Y-transz1"]
[{"$f":"ab_számláló!$A$2+ab_számláló!B159","v":7119},"Dél-Dunántúl",2016,{"$f":"'2015_régi'!$AE$1","v":"Tüdő-gyógyászat"},"Becslés",{"$f":"'2016'!AB207","v":1022289.9},"Pontszám","Direkt","Y-transz1"]
[{"$f":"ab_számláló!$A$2+ab_számláló!B160","v":7120},"Dunántúl",2016,{"$f":"'2015_régi'!$AE$1","v":"Tüdő-gyógyászat"},"Becslés",{"$f":"'2016'!AB208","v":1019885.9},"Pontszám","Direkt","Y-transz1"]
[{"$f":"ab_számláló!$A$2+ab_számláló!B161","v":7121},"Borsod-Abaúj-Zemplén",2016,{"$f":"'2015_régi'!$AE$1","v":"Tüdő-gyógyászat"},"Becslés",{"$f":"'2016'!AB209","v":1031200.9},"Pontszám","Direkt","Y-transz1"]
[{"$f":"ab_számláló!$A$2+ab_számláló!B162","v":7122},"Heves",2016,{"$f":"'2015_régi'!$AE$1","v":"Tüdő-gyógyászat"},"Becslés",{"$f":"'2016'!AB210","v":1023519.4},"Pontszám","Direkt","Y-transz1"]
[{"$f":"ab_számláló!$A$2+ab_számláló!B163","v":7123},"Nógrád",2016,{"$f":"'2015_régi'!$AE$1","v":"Tüdő-gyógyászat"},"Becslés",{"$f":"'2016'!AB211","v":1018629.9},"Pontszám","Direkt","Y-transz1"]
[{"$f":"ab_számláló!$A$2+ab_számláló!B164","v":7124},"Észak-Magyarország",2016,{"$f":"'2015_régi'!$AE$1","v":"Tüdő-gyógyászat"},"Becslés",{"$f":"'2016'!AB212","v":1027094.9},"Pontszám","Direkt","Y-transz1"]
[{"$f":"ab_számláló!$A$2+ab_számláló!B165","v":7125},"Hajdú-Bihar",2016,{"$f":"'2015_régi'!$AE$1","v":"Tüdő-gyógyászat"},"Becslés",{"$f":"'2016'!AB213","v":1021051.4},"Pontszám","Direkt","Y-transz1"]
[{"$f":"ab_számláló!$A$2+ab_számláló!B166","v":7126},"Jász-Nagykun-Szolnok",2016,{"$f":"'2015_régi'!$AE$1","v":"Tüdő-gyógyászat"},"Becslés",{"$f":"'2016'!AB214","v":1034723.4},"Pontszám","Direkt","Y-transz1"]
[{"$f":"ab_számláló!$A$2+ab_számláló!B167","v":7127},"Szabolcs-Szatmár-Bereg",2016,{"$f":"'2015_régi'!$AE$1","v":"Tüdő-gyógyászat"},"Becslés",{"$f":"'2016'!AB215","v":1030515.9},"Pontszám","Direkt","Y-transz1"]
[{"$f":"ab_számláló!$A$2+ab_számláló!B168","v":7128},"Észak-Alföld",2016,{"$f":"'2015_régi'!$AE$1","v":"Tüdő-gyógyászat"},"Becslés",{"$f":"'2016'!AB216","v":1027639.4},"Pontszám","Direkt","Y-transz1"]
[{"$f":"ab_számláló!$A$2+ab_számláló!B169","v":7129},"Bács-Kiskun",2016,{"$f":"'2015_régi'!$AE$1","v":"Tüdő-gyógyászat"},"Becslés",{"$f":"'2016'!AB217","v":1015226.9},"Pontszám","Direkt","Y-transz1"]
[{"$f":"ab_számláló!$A$2+ab_számláló!B170","v":7130},"Békés",2016,{"$f":"'2015_régi'!$AE$1","v":"Tüdő-gyógyászat"},"Becslés",{"$f":"'2016'!AB218","v":1021033.9},"Pontszám","Direkt","Y-transz1"]
[{"$f":"ab_számláló!$A$2+ab_számláló!B171","v":7131},"Csongrád-Csanád",2016,{"$f":"'2015_régi'!$AE$1","v":"Tüdő-gyógyászat"},"Becslés",{"$f":"'2016'!AB219","v":1017439.4},"Pontszám","Direkt","Y-transz1"]
[{"$f":"ab_számláló!$A$2+ab_számláló!B172","v":7132},"Dél-Alföld",2016,{"$f":"'2015_régi'!$AE$1","v":"Tüdő-gyógyászat"},"Becslés",{"$f":"'2016'!AB220","v":1017531.4},"Pontszám","Direkt","Y-transz1"]
[{"$f":"ab_számláló!$A$2+ab_számláló!B173","v":7133},"Alföld és Észak",2016,{"$f":"'2015_régi'!$AE$1","v":"Tüdő-gyógyászat"},"Becslés",{"$f":"'2016'!AB221","v":1024196.9},"Pontszám","Direkt","Y-transz1"]
[{"$f":"ab_számláló!$A$2+ab_számláló!B174","v":7134},"Ország összesen",2016,{"$f":"'2015_régi'!$AE$1","v":"Tüdő-gyógyászat"},"Becslés",{"$f":"'2016'!AB222","v":1023934.9},"Pontszám","Direkt","Y-transz1"]
[{"$f":"ab_számláló!$A$2+ab_számláló!B175","v":7135},"Budapest + Pest",2016,{"$f":"'2015_régi'!$AE$1","v":"Tüdő-gyógyászat"},"Delta",{"$f":"'2016'!AD194","v":0.1},"Pontszám","Direkt","Y-transz1"]
[{"$f":"ab_számláló!$A$2+ab_számláló!B176","v":7136},"Közép-Magyarország",2016,{"$f":"'2015_régi'!$AE$1","v":"Tüdő-gyógyászat"},"Delta",{"$f":"'2016'!AD195","v":0.1},"Pontszám","Direkt","Y-transz1"]
[{"$f":"ab_számláló!$A$2+ab_számláló!B177","v":7137},"Fejér",2016,{"$f":"'2015_régi'!$AE$1","v":"Tüdő-gyógyászat"},"Delta",{"$f":"'2016'!AD196","v":0.6},"Pontszám","Direkt","Y-transz1"]
[{"$f":"ab_számláló!$A$2+ab_számláló!B178","v":7138},"Komárom-Esztergom",2016,{"$f":"'2015_régi'!$AE$1","v":"Tüdő-gyógyászat"},"Delta",{"$f":"'2016'!AD197","v":0.1},"Pontszám","Direkt","Y-transz1"]
[{"$f":"ab_számláló!$A$2+ab_számláló!B179","v":7139},"Veszprém",2016,{"$f":"'2015_régi'!$AE$1","v":"Tüdő-gyógyászat"},"Delta",{"$f":"'2016'!AD198","v":0.6},"Pontszám","Direkt","Y-transz1"]
[{"$f":"ab_számláló!$A$2+ab_számláló!B180","v":7140},"Közép-Dunántúl",2016,{"$f":"'2015_régi'!$AE$1","v":"Tüdő-gyógyászat"},"Delta",{"$f":"'2016'!AD199","v":0.1},"Pontszám","Direkt","Y-transz1"]
[{"$f":"ab_számláló!$A$2+ab_számláló!B181","v":7141},"Győr-Moson-Sopron",2016,{"$f":"'2015_régi'!$AE$1","v":"Tüdő-gyógyászat"},"Delta",{"$f":"'2016'!AD200","v":0.1},"Pontszám","Direkt","Y-transz1"]
[{"$f":"ab_számláló!$A$2+ab_számláló!B182","v":7142},"Vas",2016,{"$f":"'2015_régi'!$AE$1","v":"Tüdő-gyógyászat"},"Delta",{"$f":"'2016'!AD201","v":0.1},"Pontszám","Direkt","Y-transz1"]
[{"$f":"ab_számláló!$A$2+ab_számláló!B183","v":7143},"Zala",2016,{"$f":"'2015_régi'!$AE$1","v":"Tüdő-gyógyászat"},"Delta",{"$f":"'2016'!AD202","v":0.1},"Pontszám","Direkt","Y-transz1"]
[{"$f":"ab_számláló!$A$2+ab_számláló!B184","v":7144},"Nyugat-Dunántúl",2016,{"$f":"'2015_régi'!$AE$1","v":"Tüdő-gyógyászat"},"Delta",{"$f":"'2016'!AD203","v":-0.4},"Pontszám","Direkt","Y-transz1"]
[{"$f":"ab_számláló!$A$2+ab_számláló!B185","v":7145},"Baranya",2016,{"$f":"'2015_régi'!$AE$1","v":"Tüdő-gyógyászat"},"Delta",{"$f":"'2016'!AD204","v":0.1},"Pontszám","Direkt","Y-transz1"]
[{"$f":"ab_számláló!$A$2+ab_számláló!B186","v":7146},"Somogy",2016,{"$f":"'2015_régi'!$AE$1","v":"Tüdő-gyógyászat"},"Delta",{"$f":"'2016'!AD205","v":0.1},"Pontszám","Direkt","Y-transz1"]
[{"$f":"ab_számláló!$A$2+ab_számláló!B187","v":7147},"Tolna",2016,{"$f":"'2015_régi'!$AE$1","v":"Tüdő-gyógyászat"},"Delta",{"$f":"'2016'!AD206","v":1425.1},"Pontszám","Direkt","Y-transz1"]
[{"$f":"ab_számláló!$A$2+ab_számláló!B188","v":7148},"Dél-Dunántúl",2016,{"$f":"'2015_régi'!$AE$1","v":"Tüdő-gyógyászat"},"Delta",{"$f":"'2016'!AD207","v":0.1},"Pontszám","Direkt","Y-transz1"]
[{"$f":"ab_számláló!$A$2+ab_számláló!B189","v":7149},"Dunántúl",2016,{"$f":"'2015_régi'!$AE$1","v":"Tüdő-gyógyászat"},"Delta",{"$f":"'2016'!AD208","v":0.1},"Pontszám","Direkt","Y-transz1"]
[{"$f":"ab_számláló!$A$2+ab_számláló!B190","v":7150},"Borsod-Abaúj-Zemplén",2016,{"$f":"'2015_régi'!$AE$1","v":"Tüdő-gyógyászat"},"Delta",{"$f":"'2016'!AD209","v":0.1},"Pontszám","Direkt","Y-transz1"]
[{"$f":"ab_számláló!$A$2+ab_számláló!B191","v":7151},"Heves",2016,{"$f":"'2015_régi'!$AE$1","v":"Tüdő-gyógyászat"},"Delta",{"$f":"'2016'!AD210","v":-1.4},"Pontszám","Direkt","Y-transz1"]
[{"$f":"ab_számláló!$A$2+ab_számláló!B192","v":7152},"Nógrád",2016,{"$f":"'2015_régi'!$AE$1","v":"Tüdő-gyógyászat"},"Delta",{"$f":"'2016'!AD211","v":0.1},"Pontszám","Direkt","Y-transz1"]
[{"$f":"ab_számláló!$A$2+ab_számláló!B193","v":7153},"Észak-Magyarország",2016,{"$f":"'2015_régi'!$AE$1","v":"Tüdő-gyógyászat"},"Delta",{"$f":"'2016'!AD212","v":0.1},"Pontszám","Direkt","Y-transz1"]
[{"$f":"ab_számláló!$A$2+ab_számláló!B194","v":7154},"Hajdú-Bihar",2016,{"$f":"'2015_régi'!$AE$1","v":"Tüdő-gyógyászat"},"Delta",{"$f":"'2016'!AD213","v":-1425.4},"Pontszám","Direkt","Y-transz1"]
[{"$f":"ab_számláló!$A$2+ab_számláló!B195","v":7155},"Jász-Nagykun-Szolnok",2016,{"$f":"'2015_régi'!$AE$1","v":"Tüdő-gyógyászat"},"Delta",{"$f":"'2016'!AD214","v":-0.4},"Pontszám","Direkt","Y-transz1"]
[{"$f":"ab_számláló!$A$2+ab_számláló!B196","v":7156},"Szabolcs-Szatmár-Bereg",2016,{"$f":"'2015_régi'!$AE$1","v":"Tüdő-gyógyászat"},"Delta",{"$f":"'2016'!AD215","v":0.1},"Pontszám","Direkt","Y-transz1"]
[{"$f":"ab_számláló!$A$2+ab_számláló!B197","v":7157},"Észak-Alföld",2016,{"$f":"'2015_régi'!$AE$1","v":"Tüdő-gyógyászat"},"Delta",{"$f":"'2016'!AD216","v":-0.4},"Pontszám","Direkt","Y-transz1"]
[{"$f":"ab_számláló!$A$2+ab_számláló!B198","v":7158},"Bács-Kiskun",2016,{"$f":"'2015_régi'!$AE$1","v":"Tüdő-gyógyászat"},"Delta",{"$f":"'2016'!AD217","v":0.1},"Pontszám","Direkt","Y-transz1"]
[{"$f":"ab_számláló!$A$2+ab_számláló!B199","v":7159},"Békés",2016,{"$f":"'2015_régi'!$AE$1","v":"Tüdő-gyógyászat"},"Delta",{"$f":"'2016'!AD218","v":0.1},"Pontszám","Direkt","Y-transz1"]
[{"$f":"ab_számláló!$A$2+ab_számláló!B200","v":7160},"Csongrád-Csanád",2016,{"$f":"'2015_régi'!$AE$1","v":"Tüdő-gyógyászat"},"Delta",{"$f":"'2016'!AD219","v":-0.4},"Pontszám","Direkt","Y-transz1"]
[{"$f":"ab_számláló!$A$2+ab_számláló!B201","v":7161},"Dél-Alföld",2016,{"$f":"'2015_régi'!$AE$1","v":"Tüdő-gyógyászat"},"Delta",{"$f":"'2016'!AD220","v":-0.4},"Pontszám","Direkt","Y-transz1"]
[{"$f":"ab_számláló!$A$2+ab_számláló!B202","v":7162},"Alföld és Észak",2016,{"$f":"'2015_régi'!$AE$1","v":"Tüdő-gyógyászat"},"Delta",{"$f":"'2016'!AD221","v":0.1},"Pontszám","Direkt","Y-transz1"]
[{"$f":"ab_számláló!$A$2+ab_számláló!B203","v":7163},"Ország összesen",2016,{"$f":"'2015_régi'!$AE$1","v":"Tüdő-gyógyászat"},"Delta",{"$f":"'2016'!AD222","v":0.1},"Pontszám","Direkt","Y-transz1"]
[{"$f":"ab_számláló!$A$2+ab_számláló!B204","v":7164},"Budapest + Pest",2016,{"$f":"'2015_régi'!$AE$1","v":"Tüdő-gyógyászat"},"Delta/Tény",{"$f":"'2016'!AE194","v":0},"%","Direkt","Y-transz1"]
[{"$f":"ab_számláló!$A$2+ab_számláló!B205","v":7165},"Közép-Magyarország",2016,{"$f":"'2015_régi'!$AE$1","v":"Tüdő-gyógyászat"},"Delta/Tény",{"$f":"'2016'!AE195","v":0},"%","Direkt","Y-transz1"]
[{"$f":"ab_számláló!$A$2+ab_számláló!B206","v":7166},"Fejér",2016,{"$f":"'2015_régi'!$AE$1","v":"Tüdő-gyógyászat"},"Delta/Tény",{"$f":"'2016'!AE196","v":0},"%","Direkt","Y-transz1"]
[{"$f":"ab_számláló!$A$2+ab_számláló!B207","v":7167},"Komárom-Esztergom",2016,{"$f":"'2015_régi'!$AE$1","v":"Tüdő-gyógyászat"},"Delta/Tény",{"$f":"'2016'!AE197","v":0},"%","Direkt","Y-transz1"]
[{"$f":"ab_számláló!$A$2+ab_számláló!B208","v":7168},"Veszprém",2016,{"$f":"'2015_régi'!$AE$1","v":"Tüdő-gyógyászat"},"Delta/Tény",{"$f":"'2016'!AE198","v":0},"%","Direkt","Y-transz1"]
[{"$f":"ab_számláló!$A$2+ab_számláló!B209","v":7169},"Közép-Dunántúl",2016,{"$f":"'2015_régi'!$AE$1","v":"Tüdő-gyógyászat"},"Delta/Tény",{"$f":"'2016'!AE199","v":0},"%","Direkt","Y-transz1"]
[{"$f":"ab_számláló!$A$2+ab_számláló!B210","v":7170},"Győr-Moson-Sopron",2016,{"$f":"'2015_régi'!$AE$1","v":"Tüdő-gyógyászat"},"Delta/Tény",{"$f":"'2016'!AE200","v":0},"%","Direkt","Y-transz1"]
[{"$f":"ab_számláló!$A$2+ab_számláló!B211","v":7171},"Vas",2016,{"$f":"'2015_régi'!$AE$1","v":"Tüdő-gyógyászat"},"Delta/Tény",{"$f":"'2016'!AE201","v":0},"%","Direkt","Y-transz1"]
[{"$f":"ab_számláló!$A$2+ab_számláló!B212","v":7172},"Zala",2016,{"$f":"'2015_régi'!$AE$1","v":"Tüdő-gyógyászat"},"Delta/Tény",{"$f":"'2016'!AE202","v":0},"%","Direkt","Y-transz1"]
[{"$f":"ab_számláló!$A$2+ab_számláló!B213","v":7173},"Nyugat-Dunántúl",2016,{"$f":"'2015_régi'!$AE$1","v":"Tüdő-gyógyászat"},"Delta/Tény",{"$f":"'2016'!AE203","v":0},"%","Direkt","Y-transz1"]
[{"$f":"ab_számláló!$A$2+ab_számláló!B214","v":7174},"Baranya",2016,{"$f":"'2015_régi'!$AE$1","v":"Tüdő-gyógyászat"},"Delta/Tény",{"$f":"'2016'!AE204","v":0},"%","Direkt","Y-transz1"]
[{"$f":"ab_számláló!$A$2+ab_számláló!B215","v":7175},"Somogy",2016,{"$f":"'2015_régi'!$AE$1","v":"Tüdő-gyógyászat"},"Delta/Tény",{"$f":"'2016'!AE205","v":0},"%","Direkt","Y-transz1"]
[{"$f":"ab_számláló!$A$2+ab_számláló!B216","v":7176},"Tolna",2016,{"$f":"'2015_régi'!$AE$1","v":"Tüdő-gyógyászat"},"Delta/Tény",{"$f":"'2016'!AE206","v":0.14000000000000001},"%","Direkt","Y-transz1"]
[{"$f":"ab_számláló!$A$2+ab_számláló!B217","v":7177},"Dél-Dunántúl",2016,{"$f":"'2015_régi'!$AE$1","v":"Tüdő-gyógyászat"},"Delta/Tény",{"$f":"'2016'!AE207","v":0},"%","Direkt","Y-transz1"]
[{"$f":"ab_számláló!$A$2+ab_számláló!B218","v":7178},"Dunántúl",2016,{"$f":"'2015_régi'!$AE$1","v":"Tüdő-gyógyászat"},"Delta/Tény",{"$f":"'2016'!AE208","v":0},"%","Direkt","Y-transz1"]
[{"$f":"ab_számláló!$A$2+ab_számláló!B219","v":7179},"Borsod-Abaúj-Zemplén",2016,{"$f":"'2015_régi'!$AE$1","v":"Tüdő-gyógyászat"},"Delta/Tény",{"$f":"'2016'!AE209","v":0},"%","Direkt","Y-transz1"]
[{"$f":"ab_számláló!$A$2+ab_számláló!B220","v":7180},"Heves",2016,{"$f":"'2015_régi'!$AE$1","v":"Tüdő-gyógyászat"},"Delta/Tény",{"$f":"'2016'!AE210","v":0},"%","Direkt","Y-transz1"]
[{"$f":"ab_számláló!$A$2+ab_számláló!B221","v":7181},"Nógrád",2016,{"$f":"'2015_régi'!$AE$1","v":"Tüdő-gyógyászat"},"Delta/Tény",{"$f":"'2016'!AE211","v":0},"%","Direkt","Y-transz1"]
[{"$f":"ab_számláló!$A$2+ab_számláló!B222","v":7182},"Észak-Magyarország",2016,{"$f":"'2015_régi'!$AE$1","v":"Tüdő-gyógyászat"},"Delta/Tény",{"$f":"'2016'!AE212","v":0},"%","Direkt","Y-transz1"]
[{"$f":"ab_számláló!$A$2+ab_számláló!B223","v":7183},"Hajdú-Bihar",2016,{"$f":"'2015_régi'!$AE$1","v":"Tüdő-gyógyászat"},"Delta/Tény",{"$f":"'2016'!AE213","v":-0.14000000000000001},"%","Direkt","Y-transz1"]
[{"$f":"ab_számláló!$A$2+ab_számláló!B224","v":7184},"Jász-Nagykun-Szolnok",2016,{"$f":"'2015_régi'!$AE$1","v":"Tüdő-gyógyászat"},"Delta/Tény",{"$f":"'2016'!AE214","v":0},"%","Direkt","Y-transz1"]
[{"$f":"ab_számláló!$A$2+ab_számláló!B225","v":7185},"Szabolcs-Szatmár-Bereg",2016,{"$f":"'2015_régi'!$AE$1","v":"Tüdő-gyógyászat"},"Delta/Tény",{"$f":"'2016'!AE215","v":0},"%","Direkt","Y-transz1"]
[{"$f":"ab_számláló!$A$2+ab_számláló!B226","v":7186},"Észak-Alföld",2016,{"$f":"'2015_régi'!$AE$1","v":"Tüdő-gyógyászat"},"Delta/Tény",{"$f":"'2016'!AE216","v":0},"%","Direkt","Y-transz1"]
[{"$f":"ab_számláló!$A$2+ab_számláló!B227","v":7187},"Bács-Kiskun",2016,{"$f":"'2015_régi'!$AE$1","v":"Tüdő-gyógyászat"},"Delta/Tény",{"$f":"'2016'!AE217","v":0},"%","Direkt","Y-transz1"]
[{"$f":"ab_számláló!$A$2+ab_számláló!B228","v":7188},"Békés",2016,{"$f":"'2015_régi'!$AE$1","v":"Tüdő-gyógyászat"},"Delta/Tény",{"$f":"'2016'!AE218","v":0},"%","Direkt","Y-transz1"]
[{"$f":"ab_számláló!$A$2+ab_számláló!B229","v":7189},"Csongrád-Csanád",2016,{"$f":"'2015_régi'!$AE$1","v":"Tüdő-gyógyászat"},"Delta/Tény",{"$f":"'2016'!AE219","v":0},"%","Direkt","Y-transz1"]
[{"$f":"ab_számláló!$A$2+ab_számláló!B230","v":7190},"Dél-Alföld",2016,{"$f":"'2015_régi'!$AE$1","v":"Tüdő-gyógyászat"},"Delta/Tény",{"$f":"'2016'!AE220","v":0},"%","Direkt","Y-transz1"]
[{"$f":"ab_számláló!$A$2+ab_számláló!B231","v":7191},"Alföld és Észak",2016,{"$f":"'2015_régi'!$AE$1","v":"Tüdő-gyógyászat"},"Delta/Tény",{"$f":"'2016'!AE221","v":0},"%","Direkt","Y-transz1"]
[{"$f":"ab_számláló!$A$2+ab_számláló!B232","v":7192},"Ország összesen",2016,{"$f":"'2015_régi'!$AE$1","v":"Tüdő-gyógyászat"},"Delta/Tény",{"$f":"'2016'!AE222","v":0},"%","Direkt","Y-transz1"]
[{"$f":"ab_számláló!$A$2+ab_számláló!B233","v":7193},"Budapest + Pest",2017,{"$f":"'2015_régi'!$AE$1","v":"Tüdő-gyógyászat"},"Tény",{"$f":"'2017'!AE194","v":1026443},"Pontszám","Direkt","Y-transz1"]
[{"$f":"ab_számláló!$A$2+ab_számláló!B234","v":7194},"Közép-Magyarország",2017,{"$f":"'2015_régi'!$AE$1","v":"Tüdő-gyógyászat"},"Tény",{"$f":"'2017'!AE195","v":1026443},"Pontszám","Direkt","Y-transz1"]
[{"$f":"ab_számláló!$A$2+ab_számláló!B235","v":7195},"Fejér",2017,{"$f":"'2015_régi'!$AE$1","v":"Tüdő-gyógyászat"},"Tény",{"$f":"'2017'!AE196","v":1020944},"Pontszám","Direkt","Y-transz1"]
[{"$f":"ab_számláló!$A$2+ab_számláló!B236","v":7196},"Komárom-Esztergom",2017,{"$f":"'2015_régi'!$AE$1","v":"Tüdő-gyógyászat"},"Tény",{"$f":"'2017'!AE197","v":1019250},"Pontszám","Direkt","Y-transz1"]
[{"$f":"ab_számláló!$A$2+ab_számláló!B237","v":7197},"Veszprém",2017,{"$f":"'2015_régi'!$AE$1","v":"Tüdő-gyógyászat"},"Tény",{"$f":"'2017'!AE198","v":1023120},"Pontszám","Direkt","Y-transz1"]
[{"$f":"ab_számláló!$A$2+ab_számláló!B238","v":7198},"Közép-Dunántúl",2017,{"$f":"'2015_régi'!$AE$1","v":"Tüdő-gyógyászat"},"Tény",{"$f":"'2017'!AE199","v":1021172},"Pontszám","Direkt","Y-transz1"]
[{"$f":"ab_számláló!$A$2+ab_számláló!B239","v":7199},"Győr-Moson-Sopron",2017,{"$f":"'2015_régi'!$AE$1","v":"Tüdő-gyógyászat"},"Tény",{"$f":"'2017'!AE200","v":1015163},"Pontszám","Direkt","Y-transz1"]
[{"$f":"ab_számláló!$A$2+ab_számláló!B240","v":7200},"Vas",2017,{"$f":"'2015_régi'!$AE$1","v":"Tüdő-gyógyászat"},"Tény",{"$f":"'2017'!AE201","v":1016148},"Pontszám","Direkt","Y-transz1"]
[{"$f":"ab_számláló!$A$2+ab_számláló!B241","v":7201},"Zala",2017,{"$f":"'2015_régi'!$AE$1","v":"Tüdő-gyógyászat"},"Tény",{"$f":"'2017'!AE202","v":1020119},"Pontszám","Direkt","Y-transz1"]
[{"$f":"ab_számláló!$A$2+ab_számláló!B242","v":7202},"Nyugat-Dunántúl",2017,{"$f":"'2015_régi'!$AE$1","v":"Tüdő-gyógyászat"},"Tény",{"$f":"'2017'!AE203","v":1016791},"Pontszám","Direkt","Y-transz1"]
[{"$f":"ab_számláló!$A$2+ab_számláló!B243","v":7203},"Baranya",2017,{"$f":"'2015_régi'!$AE$1","v":"Tüdő-gyógyászat"},"Tény",{"$f":"'2017'!AE204","v":1024063},"Pontszám","Direkt","Y-transz1"]
[{"$f":"ab_számláló!$A$2+ab_számláló!B244","v":7204},"Somogy",2017,{"$f":"'2015_régi'!$AE$1","v":"Tüdő-gyógyászat"},"Tény",{"$f":"'2017'!AE205","v":1018920},"Pontszám","Direkt","Y-transz1"]
[{"$f":"ab_számláló!$A$2+ab_számláló!B245","v":7205},"Tolna",2017,{"$f":"'2015_régi'!$AE$1","v":"Tüdő-gyógyászat"},"Tény",{"$f":"'2017'!AE206","v":1019710},"Pontszám","Direkt","Y-transz1"]
[{"$f":"ab_számláló!$A$2+ab_számláló!B246","v":7206},"Dél-Dunántúl",2017,{"$f":"'2015_régi'!$AE$1","v":"Tüdő-gyógyászat"},"Tény",{"$f":"'2017'!AE207","v":1021219},"Pontszám","Direkt","Y-transz1"]
[{"$f":"ab_számláló!$A$2+ab_számláló!B247","v":7207},"Dunántúl",2017,{"$f":"'2015_régi'!$AE$1","v":"Tüdő-gyógyászat"},"Tény",{"$f":"'2017'!AE208","v":1019718},"Pontszám","Direkt","Y-transz1"]
[{"$f":"ab_számláló!$A$2+ab_számláló!B248","v":7208},"Borsod-Abaúj-Zemplén",2017,{"$f":"'2015_régi'!$AE$1","v":"Tüdő-gyógyászat"},"Tény",{"$f":"'2017'!AE209","v":1030939},"Pontszám","Direkt","Y-transz1"]
[{"$f":"ab_számláló!$A$2+ab_számláló!B249","v":7209},"Heves",2017,{"$f":"'2015_régi'!$AE$1","v":"Tüdő-gyógyászat"},"Tény",{"$f":"'2017'!AE210","v":1023354},"Pontszám","Direkt","Y-transz1"]
[{"$f":"ab_számláló!$A$2+ab_számláló!B250","v":7210},"Nógrád",2017,{"$f":"'2015_régi'!$AE$1","v":"Tüdő-gyógyászat"},"Tény",{"$f":"'2017'!AE211","v":1017846},"Pontszám","Direkt","Y-transz1"]
[{"$f":"ab_számláló!$A$2+ab_számláló!B251","v":7211},"Észak-Magyarország",2017,{"$f":"'2015_régi'!$AE$1","v":"Tüdő-gyógyászat"},"Tény",{"$f":"'2017'!AE212","v":1026766},"Pontszám","Direkt","Y-transz1"]
[{"$f":"ab_számláló!$A$2+ab_számláló!B252","v":7212},"Hajdú-Bihar",2017,{"$f":"'2015_régi'!$AE$1","v":"Tüdő-gyógyászat"},"Tény",{"$f":"'2017'!AE213","v":1018844},"Pontszám","Direkt","Y-transz1"]
[{"$f":"ab_számláló!$A$2+ab_számláló!B253","v":7213},"Jász-Nagykun-Szolnok",2017,{"$f":"'2015_régi'!$AE$1","v":"Tüdő-gyógyászat"},"Tény",{"$f":"'2017'!AE214","v":1034060},"Pontszám","Direkt","Y-transz1"]
[{"$f":"ab_számláló!$A$2+ab_számláló!B254","v":7214},"Szabolcs-Szatmár-Bereg",2017,{"$f":"'2015_régi'!$AE$1","v":"Tüdő-gyógyászat"},"Tény",{"$f":"'2017'!AE215","v":1030026},"Pontszám","Direkt","Y-transz1"]
[{"$f":"ab_számláló!$A$2+ab_számláló!B255","v":7215},"Észak-Alföld",2017,{"$f":"'2015_régi'!$AE$1","v":"Tüdő-gyógyászat"},"Tény",{"$f":"'2017'!AE216","v":1026997},"Pontszám","Direkt","Y-transz1"]
[{"$f":"ab_számláló!$A$2+ab_számláló!B256","v":7216},"Bács-Kiskun",2017,{"$f":"'2015_régi'!$AE$1","v":"Tüdő-gyógyászat"},"Tény",{"$f":"'2017'!AE217","v":1015208},"Pontszám","Direkt","Y-transz1"]
[{"$f":"ab_számláló!$A$2+ab_számláló!B257","v":7217},"Békés",2017,{"$f":"'2015_régi'!$AE$1","v":"Tüdő-gyógyászat"},"Tény",{"$f":"'2017'!AE218","v":1020813},"Pontszám","Direkt","Y-transz1"]
[{"$f":"ab_számláló!$A$2+ab_számláló!B258","v":7218},"Csongrád-Csanád",2017,{"$f":"'2015_régi'!$AE$1","v":"Tüdő-gyógyászat"},"Tény",{"$f":"'2017'!AE219","v":1017233},"Pontszám","Direkt","Y-transz1"]
[{"$f":"ab_számláló!$A$2+ab_számláló!B259","v":7219},"Dél-Alföld",2017,{"$f":"'2015_régi'!$AE$1","v":"Tüdő-gyógyászat"},"Tény",{"$f":"'2017'!AE220","v":1017391},"Pontszám","Direkt","Y-transz1"]
[{"$f":"ab_számláló!$A$2+ab_számláló!B260","v":7220},"Alföld és Észak",2017,{"$f":"'2015_régi'!$AE$1","v":"Tüdő-gyógyászat"},"Tény",{"$f":"'2017'!AE221","v":1023816},"Pontszám","Direkt","Y-transz1"]
[{"$f":"ab_számláló!$A$2+ab_számláló!B261","v":7221},"Ország összesen",2017,{"$f":"'2015_régi'!$AE$1","v":"Tüdő-gyógyászat"},"Tény",{"$f":"'2017'!AE222","v":1023394},"Pontszám","Direkt","Y-transz1"]
[{"$f":"ab_számláló!$A$2+ab_számláló!B262","v":7222},"Budapest + Pest",2017,{"$f":"'2015_régi'!$AE$1","v":"Tüdő-gyógyászat"},"Becslés",{"$f":"'2017'!AD194","v":1026443},"Pontszám","Direkt","Y-transz1"]
[{"$f":"ab_számláló!$A$2+ab_számláló!B263","v":7223},"Közép-Magyarország",2017,{"$f":"'2015_régi'!$AE$1","v":"Tüdő-gyógyászat"},"Becslés",{"$f":"'2017'!AD195","v":1026443},"Pontszám","Direkt","Y-transz1"]
[{"$f":"ab_számláló!$A$2+ab_számláló!B264","v":7224},"Fejér",2017,{"$f":"'2015_régi'!$AE$1","v":"Tüdő-gyógyászat"},"Becslés",{"$f":"'2017'!AD196","v":1020944},"Pontszám","Direkt","Y-transz1"]
[{"$f":"ab_számláló!$A$2+ab_számláló!B265","v":7225},"Komárom-Esztergom",2017,{"$f":"'2015_régi'!$AE$1","v":"Tüdő-gyógyászat"},"Becslés",{"$f":"'2017'!AD197","v":1019250},"Pontszám","Direkt","Y-transz1"]
[{"$f":"ab_számláló!$A$2+ab_számláló!B266","v":7226},"Veszprém",2017,{"$f":"'2015_régi'!$AE$1","v":"Tüdő-gyógyászat"},"Becslés",{"$f":"'2017'!AD198","v":1023120},"Pontszám","Direkt","Y-transz1"]
[{"$f":"ab_számláló!$A$2+ab_számláló!B267","v":7227},"Közép-Dunántúl",2017,{"$f":"'2015_régi'!$AE$1","v":"Tüdő-gyógyászat"},"Becslés",{"$f":"'2017'!AD199","v":1021172},"Pontszám","Direkt","Y-transz1"]
[{"$f":"ab_számláló!$A$2+ab_számláló!B268","v":7228},"Győr-Moson-Sopron",2017,{"$f":"'2015_régi'!$AE$1","v":"Tüdő-gyógyászat"},"Becslés",{"$f":"'2017'!AD200","v":1015163},"Pontszám","Direkt","Y-transz1"]
[{"$f":"ab_számláló!$A$2+ab_számláló!B269","v":7229},"Vas",2017,{"$f":"'2015_régi'!$AE$1","v":"Tüdő-gyógyászat"},"Becslés",{"$f":"'2017'!AD201","v":1016148.5},"Pontszám","Direkt","Y-transz1"]
[{"$f":"ab_számláló!$A$2+ab_számláló!B270","v":7230},"Zala",2017,{"$f":"'2015_régi'!$AE$1","v":"Tüdő-gyógyászat"},"Becslés",{"$f":"'2017'!AD202","v":1020119},"Pontszám","Direkt","Y-transz1"]
[{"$f":"ab_számláló!$A$2+ab_számláló!B271","v":7231},"Nyugat-Dunántúl",2017,{"$f":"'2015_régi'!$AE$1","v":"Tüdő-gyógyászat"},"Becslés",{"$f":"'2017'!AD203","v":1016790.5},"Pontszám","Direkt","Y-transz1"]
[{"$f":"ab_számláló!$A$2+ab_számláló!B272","v":7232},"Baranya",2017,{"$f":"'2015_régi'!$AE$1","v":"Tüdő-gyógyászat"},"Becslés",{"$f":"'2017'!AD204","v":1024063},"Pontszám","Direkt","Y-transz1"]
[{"$f":"ab_számláló!$A$2+ab_számláló!B273","v":7233},"Somogy",2017,{"$f":"'2015_régi'!$AE$1","v":"Tüdő-gyógyászat"},"Becslés",{"$f":"'2017'!AD205","v":1018920},"Pontszám","Direkt","Y-transz1"]
[{"$f":"ab_számláló!$A$2+ab_számláló!B274","v":7234},"Tolna",2017,{"$f":"'2015_régi'!$AE$1","v":"Tüdő-gyógyászat"},"Becslés",{"$f":"'2017'!AD206","v":1019710},"Pontszám","Direkt","Y-transz1"]
[{"$f":"ab_számláló!$A$2+ab_számláló!B275","v":7235},"Dél-Dunántúl",2017,{"$f":"'2015_régi'!$AE$1","v":"Tüdő-gyógyászat"},"Becslés",{"$f":"'2017'!AD207","v":1021219},"Pontszám","Direkt","Y-transz1"]
[{"$f":"ab_számláló!$A$2+ab_számláló!B276","v":7236},"Dunántúl",2017,{"$f":"'2015_régi'!$AE$1","v":"Tüdő-gyógyászat"},"Becslés",{"$f":"'2017'!AD208","v":1019718},"Pontszám","Direkt","Y-transz1"]
[{"$f":"ab_számláló!$A$2+ab_számláló!B277","v":7237},"Borsod-Abaúj-Zemplén",2017,{"$f":"'2015_régi'!$AE$1","v":"Tüdő-gyógyászat"},"Becslés",{"$f":"'2017'!AD209","v":1030939},"Pontszám","Direkt","Y-transz1"]
[{"$f":"ab_számláló!$A$2+ab_számláló!B278","v":7238},"Heves",2017,{"$f":"'2015_régi'!$AE$1","v":"Tüdő-gyógyászat"},"Becslés",{"$f":"'2017'!AD210","v":1023354},"Pontszám","Direkt","Y-transz1"]
[{"$f":"ab_számláló!$A$2+ab_számláló!B279","v":7239},"Nógrád",2017,{"$f":"'2015_régi'!$AE$1","v":"Tüdő-gyógyászat"},"Becslés",{"$f":"'2017'!AD211","v":1017846},"Pontszám","Direkt","Y-transz1"]
[{"$f":"ab_számláló!$A$2+ab_számláló!B280","v":7240},"Észak-Magyarország",2017,{"$f":"'2015_régi'!$AE$1","v":"Tüdő-gyógyászat"},"Becslés",{"$f":"'2017'!AD212","v":1026766},"Pontszám","Direkt","Y-transz1"]
[{"$f":"ab_számláló!$A$2+ab_számláló!B281","v":7241},"Hajdú-Bihar",2017,{"$f":"'2015_régi'!$AE$1","v":"Tüdő-gyógyászat"},"Becslés",{"$f":"'2017'!AD213","v":1024662.5},"Pontszám","Direkt","Y-transz1"]
[{"$f":"ab_számláló!$A$2+ab_számláló!B282","v":7242},"Jász-Nagykun-Szolnok",2017,{"$f":"'2015_régi'!$AE$1","v":"Tüdő-gyógyászat"},"Becslés",{"$f":"'2017'!AD214","v":1034060},"Pontszám","Direkt","Y-transz1"]
[{"$f":"ab_számláló!$A$2+ab_számláló!B283","v":7243},"Szabolcs-Szatmár-Bereg",2017,{"$f":"'2015_régi'!$AE$1","v":"Tüdő-gyógyászat"},"Becslés",{"$f":"'2017'!AD215","v":1024207.5},"Pontszám","Direkt","Y-transz1"]
[{"$f":"ab_számláló!$A$2+ab_számláló!B284","v":7244},"Észak-Alföld",2017,{"$f":"'2015_régi'!$AE$1","v":"Tüdő-gyógyászat"},"Becslés",{"$f":"'2017'!AD216","v":1026997},"Pontszám","Direkt","Y-transz1"]
[{"$f":"ab_számláló!$A$2+ab_számláló!B285","v":7245},"Bács-Kiskun",2017,{"$f":"'2015_régi'!$AE$1","v":"Tüdő-gyógyászat"},"Becslés",{"$f":"'2017'!AD217","v":1015208},"Pontszám","Direkt","Y-transz1"]
[{"$f":"ab_számláló!$A$2+ab_számláló!B286","v":7246},"Békés",2017,{"$f":"'2015_régi'!$AE$1","v":"Tüdő-gyógyászat"},"Becslés",{"$f":"'2017'!AD218","v":1020813},"Pontszám","Direkt","Y-transz1"]
[{"$f":"ab_számláló!$A$2+ab_számláló!B287","v":7247},"Csongrád-Csanád",2017,{"$f":"'2015_régi'!$AE$1","v":"Tüdő-gyógyászat"},"Becslés",{"$f":"'2017'!AD219","v":1017233},"Pontszám","Direkt","Y-transz1"]
[{"$f":"ab_számláló!$A$2+ab_számláló!B288","v":7248},"Dél-Alföld",2017,{"$f":"'2015_régi'!$AE$1","v":"Tüdő-gyógyászat"},"Becslés",{"$f":"'2017'!AD220","v":1017391},"Pontszám","Direkt","Y-transz1"]
[{"$f":"ab_számláló!$A$2+ab_számláló!B289","v":7249},"Alföld és Észak",2017,{"$f":"'2015_régi'!$AE$1","v":"Tüdő-gyógyászat"},"Becslés",{"$f":"'2017'!AD221","v":1023816},"Pontszám","Direkt","Y-transz1"]
[{"$f":"ab_számláló!$A$2+ab_számláló!B290","v":7250},"Ország összesen",2017,{"$f":"'2015_régi'!$AE$1","v":"Tüdő-gyógyászat"},"Becslés",{"$f":"'2017'!AD222","v":1023394},"Pontszám","Direkt","Y-transz1"]
[{"$f":"ab_számláló!$A$2+ab_számláló!B291","v":7251},"Budapest + Pest",2017,{"$f":"'2015_régi'!$AE$1","v":"Tüdő-gyógyászat"},"Delta",{"$f":"'2017'!AF194","v":0},"Pontszám","Direkt","Y-transz1"]
[{"$f":"ab_számláló!$A$2+ab_számláló!B292","v":7252},"Közép-Magyarország",2017,{"$f":"'2015_régi'!$AE$1","v":"Tüdő-gyógyászat"},"Delta",{"$f":"'2017'!AF195","v":0},"Pontszám","Direkt","Y-transz1"]
[{"$f":"ab_számláló!$A$2+ab_számláló!B293","v":7253},"Fejér",2017,{"$f":"'2015_régi'!$AE$1","v":"Tüdő-gyógyászat"},"Delta",{"$f":"'2017'!AF196","v":0},"Pontszám","Direkt","Y-transz1"]
[{"$f":"ab_számláló!$A$2+ab_számláló!B294","v":7254},"Komárom-Esztergom",2017,{"$f":"'2015_régi'!$AE$1","v":"Tüdő-gyógyászat"},"Delta",{"$f":"'2017'!AF197","v":0},"Pontszám","Direkt","Y-transz1"]
[{"$f":"ab_számláló!$A$2+ab_számláló!B295","v":7255},"Veszprém",2017,{"$f":"'2015_régi'!$AE$1","v":"Tüdő-gyógyászat"},"Delta",{"$f":"'2017'!AF198","v":0},"Pontszám","Direkt","Y-transz1"]
[{"$f":"ab_számláló!$A$2+ab_számláló!B296","v":7256},"Közép-Dunántúl",2017,{"$f":"'2015_régi'!$AE$1","v":"Tüdő-gyógyászat"},"Delta",{"$f":"'2017'!AF199","v":0},"Pontszám","Direkt","Y-transz1"]
[{"$f":"ab_számláló!$A$2+ab_számláló!B297","v":7257},"Győr-Moson-Sopron",2017,{"$f":"'2015_régi'!$AE$1","v":"Tüdő-gyógyászat"},"Delta",{"$f":"'2017'!AF200","v":0},"Pontszám","Direkt","Y-transz1"]
[{"$f":"ab_számláló!$A$2+ab_számláló!B298","v":7258},"Vas",2017,{"$f":"'2015_régi'!$AE$1","v":"Tüdő-gyógyászat"},"Delta",{"$f":"'2017'!AF201","v":-0.5},"Pontszám","Direkt","Y-transz1"]
[{"$f":"ab_számláló!$A$2+ab_számláló!B299","v":7259},"Zala",2017,{"$f":"'2015_régi'!$AE$1","v":"Tüdő-gyógyászat"},"Delta",{"$f":"'2017'!AF202","v":0},"Pontszám","Direkt","Y-transz1"]
[{"$f":"ab_számláló!$A$2+ab_számláló!B300","v":7260},"Nyugat-Dunántúl",2017,{"$f":"'2015_régi'!$AE$1","v":"Tüdő-gyógyászat"},"Delta",{"$f":"'2017'!AF203","v":0.5},"Pontszám","Direkt","Y-transz1"]
[{"$f":"ab_számláló!$A$2+ab_számláló!B301","v":7261},"Baranya",2017,{"$f":"'2015_régi'!$AE$1","v":"Tüdő-gyógyászat"},"Delta",{"$f":"'2017'!AF204","v":0},"Pontszám","Direkt","Y-transz1"]
[{"$f":"ab_számláló!$A$2+ab_számláló!B302","v":7262},"Somogy",2017,{"$f":"'2015_régi'!$AE$1","v":"Tüdő-gyógyászat"},"Delta",{"$f":"'2017'!AF205","v":0},"Pontszám","Direkt","Y-transz1"]
[{"$f":"ab_számláló!$A$2+ab_számláló!B303","v":7263},"Tolna",2017,{"$f":"'2015_régi'!$AE$1","v":"Tüdő-gyógyászat"},"Delta",{"$f":"'2017'!AF206","v":0},"Pontszám","Direkt","Y-transz1"]
[{"$f":"ab_számláló!$A$2+ab_számláló!B304","v":7264},"Dél-Dunántúl",2017,{"$f":"'2015_régi'!$AE$1","v":"Tüdő-gyógyászat"},"Delta",{"$f":"'2017'!AF207","v":0},"Pontszám","Direkt","Y-transz1"]
[{"$f":"ab_számláló!$A$2+ab_számláló!B305","v":7265},"Dunántúl",2017,{"$f":"'2015_régi'!$AE$1","v":"Tüdő-gyógyászat"},"Delta",{"$f":"'2017'!AF208","v":0},"Pontszám","Direkt","Y-transz1"]
[{"$f":"ab_számláló!$A$2+ab_számláló!B306","v":7266},"Borsod-Abaúj-Zemplén",2017,{"$f":"'2015_régi'!$AE$1","v":"Tüdő-gyógyászat"},"Delta",{"$f":"'2017'!AF209","v":0},"Pontszám","Direkt","Y-transz1"]
[{"$f":"ab_számláló!$A$2+ab_számláló!B307","v":7267},"Heves",2017,{"$f":"'2015_régi'!$AE$1","v":"Tüdő-gyógyászat"},"Delta",{"$f":"'2017'!AF210","v":0},"Pontszám","Direkt","Y-transz1"]
[{"$f":"ab_számláló!$A$2+ab_számláló!B308","v":7268},"Nógrád",2017,{"$f":"'2015_régi'!$AE$1","v":"Tüdő-gyógyászat"},"Delta",{"$f":"'2017'!AF211","v":0},"Pontszám","Direkt","Y-transz1"]
[{"$f":"ab_számláló!$A$2+ab_számláló!B309","v":7269},"Észak-Magyarország",2017,{"$f":"'2015_régi'!$AE$1","v":"Tüdő-gyógyászat"},"Delta",{"$f":"'2017'!AF212","v":0},"Pontszám","Direkt","Y-transz1"]
[{"$f":"ab_számláló!$A$2+ab_számláló!B310","v":7270},"Hajdú-Bihar",2017,{"$f":"'2015_régi'!$AE$1","v":"Tüdő-gyógyászat"},"Delta",{"$f":"'2017'!AF213","v":-5818.5},"Pontszám","Direkt","Y-transz1"]
[{"$f":"ab_számláló!$A$2+ab_számláló!B311","v":7271},"Jász-Nagykun-Szolnok",2017,{"$f":"'2015_régi'!$AE$1","v":"Tüdő-gyógyászat"},"Delta",{"$f":"'2017'!AF214","v":0},"Pontszám","Direkt","Y-transz1"]
[{"$f":"ab_számláló!$A$2+ab_számláló!B312","v":7272},"Szabolcs-Szatmár-Bereg",2017,{"$f":"'2015_régi'!$AE$1","v":"Tüdő-gyógyászat"},"Delta",{"$f":"'2017'!AF215","v":5818.5},"Pontszám","Direkt","Y-transz1"]
[{"$f":"ab_számláló!$A$2+ab_számláló!B313","v":7273},"Észak-Alföld",2017,{"$f":"'2015_régi'!$AE$1","v":"Tüdő-gyógyászat"},"Delta",{"$f":"'2017'!AF216","v":0},"Pontszám","Direkt","Y-transz1"]
[{"$f":"ab_számláló!$A$2+ab_számláló!B314","v":7274},"Bács-Kiskun",2017,{"$f":"'2015_régi'!$AE$1","v":"Tüdő-gyógyászat"},"Delta",{"$f":"'2017'!AF217","v":0},"Pontszám","Direkt","Y-transz1"]
[{"$f":"ab_számláló!$A$2+ab_számláló!B315","v":7275},"Békés",2017,{"$f":"'2015_régi'!$AE$1","v":"Tüdő-gyógyászat"},"Delta",{"$f":"'2017'!AF218","v":0},"Pontszám","Direkt","Y-transz1"]
[{"$f":"ab_számláló!$A$2+ab_számláló!B316","v":7276},"Csongrád-Csanád",2017,{"$f":"'2015_régi'!$AE$1","v":"Tüdő-gyógyászat"},"Delta",{"$f":"'2017'!AF219","v":0},"Pontszám","Direkt","Y-transz1"]
[{"$f":"ab_számláló!$A$2+ab_számláló!B317","v":7277},"Dél-Alföld",2017,{"$f":"'2015_régi'!$AE$1","v":"Tüdő-gyógyászat"},"Delta",{"$f":"'2017'!AF220","v":0},"Pontszám","Direkt","Y-transz1"]
[{"$f":"ab_számláló!$A$2+ab_számláló!B318","v":7278},"Alföld és Észak",2017,{"$f":"'2015_régi'!$AE$1","v":"Tüdő-gyógyászat"},"Delta",{"$f":"'2017'!AF221","v":0},"Pontszám","Direkt","Y-transz1"]
[{"$f":"ab_számláló!$A$2+ab_számláló!B319","v":7279},"Ország összesen",2017,{"$f":"'2015_régi'!$AE$1","v":"Tüdő-gyógyászat"},"Delta",{"$f":"'2017'!AF222","v":0},"Pontszám","Direkt","Y-transz1"]
[{"$f":"ab_számláló!$A$2+ab_számláló!B320","v":7280},"Budapest + Pest",2017,{"$f":"'2015_régi'!$AE$1","v":"Tüdő-gyógyászat"},"Delta/Tény",{"$f":"'2017'!AG194","v":0},"%","Direkt","Y-transz1"]
[{"$f":"ab_számláló!$A$2+ab_számláló!B321","v":7281},"Közép-Magyarország",2017,{"$f":"'2015_régi'!$AE$1","v":"Tüdő-gyógyászat"},"Delta/Tény",{"$f":"'2017'!AG195","v":0},"%","Direkt","Y-transz1"]
[{"$f":"ab_számláló!$A$2+ab_számláló!B322","v":7282},"Fejér",2017,{"$f":"'2015_régi'!$AE$1","v":"Tüdő-gyógyászat"},"Delta/Tény",{"$f":"'2017'!AG196","v":0},"%","Direkt","Y-transz1"]
[{"$f":"ab_számláló!$A$2+ab_számláló!B323","v":7283},"Komárom-Esztergom",2017,{"$f":"'2015_régi'!$AE$1","v":"Tüdő-gyógyászat"},"Delta/Tény",{"$f":"'2017'!AG197","v":0},"%","Direkt","Y-transz1"]
[{"$f":"ab_számláló!$A$2+ab_számláló!B324","v":7284},"Veszprém",2017,{"$f":"'2015_régi'!$AE$1","v":"Tüdő-gyógyászat"},"Delta/Tény",{"$f":"'2017'!AG198","v":0},"%","Direkt","Y-transz1"]
[{"$f":"ab_számláló!$A$2+ab_számláló!B325","v":7285},"Közép-Dunántúl",2017,{"$f":"'2015_régi'!$AE$1","v":"Tüdő-gyógyászat"},"Delta/Tény",{"$f":"'2017'!AG199","v":0},"%","Direkt","Y-transz1"]
[{"$f":"ab_számláló!$A$2+ab_számláló!B326","v":7286},"Győr-Moson-Sopron",2017,{"$f":"'2015_régi'!$AE$1","v":"Tüdő-gyógyászat"},"Delta/Tény",{"$f":"'2017'!AG200","v":0},"%","Direkt","Y-transz1"]
[{"$f":"ab_számláló!$A$2+ab_számláló!B327","v":7287},"Vas",2017,{"$f":"'2015_régi'!$AE$1","v":"Tüdő-gyógyászat"},"Delta/Tény",{"$f":"'2017'!AG201","v":0},"%","Direkt","Y-transz1"]
[{"$f":"ab_számláló!$A$2+ab_számláló!B328","v":7288},"Zala",2017,{"$f":"'2015_régi'!$AE$1","v":"Tüdő-gyógyászat"},"Delta/Tény",{"$f":"'2017'!AG202","v":0},"%","Direkt","Y-transz1"]
[{"$f":"ab_számláló!$A$2+ab_számláló!B329","v":7289},"Nyugat-Dunántúl",2017,{"$f":"'2015_régi'!$AE$1","v":"Tüdő-gyógyászat"},"Delta/Tény",{"$f":"'2017'!AG203","v":0},"%","Direkt","Y-transz1"]
[{"$f":"ab_számláló!$A$2+ab_számláló!B330","v":7290},"Baranya",2017,{"$f":"'2015_régi'!$AE$1","v":"Tüdő-gyógyászat"},"Delta/Tény",{"$f":"'2017'!AG204","v":0},"%","Direkt","Y-transz1"]
[{"$f":"ab_számláló!$A$2+ab_számláló!B331","v":7291},"Somogy",2017,{"$f":"'2015_régi'!$AE$1","v":"Tüdő-gyógyászat"},"Delta/Tény",{"$f":"'2017'!AG205","v":0},"%","Direkt","Y-transz1"]
[{"$f":"ab_számláló!$A$2+ab_számláló!B332","v":7292},"Tolna",2017,{"$f":"'2015_régi'!$AE$1","v":"Tüdő-gyógyászat"},"Delta/Tény",{"$f":"'2017'!AG206","v":0},"%","Direkt","Y-transz1"]
[{"$f":"ab_számláló!$A$2+ab_számláló!B333","v":7293},"Dél-Dunántúl",2017,{"$f":"'2015_régi'!$AE$1","v":"Tüdő-gyógyászat"},"Delta/Tény",{"$f":"'2017'!AG207","v":0},"%","Direkt","Y-transz1"]
[{"$f":"ab_számláló!$A$2+ab_számláló!B334","v":7294},"Dunántúl",2017,{"$f":"'2015_régi'!$AE$1","v":"Tüdő-gyógyászat"},"Delta/Tény",{"$f":"'2017'!AG208","v":0},"%","Direkt","Y-transz1"]
[{"$f":"ab_számláló!$A$2+ab_számláló!B335","v":7295},"Borsod-Abaúj-Zemplén",2017,{"$f":"'2015_régi'!$AE$1","v":"Tüdő-gyógyászat"},"Delta/Tény",{"$f":"'2017'!AG209","v":0},"%","Direkt","Y-transz1"]
[{"$f":"ab_számláló!$A$2+ab_számláló!B336","v":7296},"Heves",2017,{"$f":"'2015_régi'!$AE$1","v":"Tüdő-gyógyászat"},"Delta/Tény",{"$f":"'2017'!AG210","v":0},"%","Direkt","Y-transz1"]
[{"$f":"ab_számláló!$A$2+ab_számláló!B337","v":7297},"Nógrád",2017,{"$f":"'2015_régi'!$AE$1","v":"Tüdő-gyógyászat"},"Delta/Tény",{"$f":"'2017'!AG211","v":0},"%","Direkt","Y-transz1"]
[{"$f":"ab_számláló!$A$2+ab_számláló!B338","v":7298},"Észak-Magyarország",2017,{"$f":"'2015_régi'!$AE$1","v":"Tüdő-gyógyászat"},"Delta/Tény",{"$f":"'2017'!AG212","v":0},"%","Direkt","Y-transz1"]
[{"$f":"ab_számláló!$A$2+ab_számláló!B339","v":7299},"Hajdú-Bihar",2017,{"$f":"'2015_régi'!$AE$1","v":"Tüdő-gyógyászat"},"Delta/Tény",{"$f":"'2017'!AG213","v":-0.56999999999999995},"%","Direkt","Y-transz1"]
[{"$f":"ab_számláló!$A$2+ab_számláló!B340","v":7300},"Jász-Nagykun-Szolnok",2017,{"$f":"'2015_régi'!$AE$1","v":"Tüdő-gyógyászat"},"Delta/Tény",{"$f":"'2017'!AG214","v":0},"%","Direkt","Y-transz1"]
[{"$f":"ab_számláló!$A$2+ab_számláló!B341","v":7301},"Szabolcs-Szatmár-Bereg",2017,{"$f":"'2015_régi'!$AE$1","v":"Tüdő-gyógyászat"},"Delta/Tény",{"$f":"'2017'!AG215","v":0.56000000000000005},"%","Direkt","Y-transz1"]
[{"$f":"ab_számláló!$A$2+ab_számláló!B342","v":7302},"Észak-Alföld",2017,{"$f":"'2015_régi'!$AE$1","v":"Tüdő-gyógyászat"},"Delta/Tény",{"$f":"'2017'!AG216","v":0},"%","Direkt","Y-transz1"]
[{"$f":"ab_számláló!$A$2+ab_számláló!B343","v":7303},"Bács-Kiskun",2017,{"$f":"'2015_régi'!$AE$1","v":"Tüdő-gyógyászat"},"Delta/Tény",{"$f":"'2017'!AG217","v":0},"%","Direkt","Y-transz1"]
[{"$f":"ab_számláló!$A$2+ab_számláló!B344","v":7304},"Békés",2017,{"$f":"'2015_régi'!$AE$1","v":"Tüdő-gyógyászat"},"Delta/Tény",{"$f":"'2017'!AG218","v":0},"%","Direkt","Y-transz1"]
[{"$f":"ab_számláló!$A$2+ab_számláló!B345","v":7305},"Csongrád-Csanád",2017,{"$f":"'2015_régi'!$AE$1","v":"Tüdő-gyógyászat"},"Delta/Tény",{"$f":"'2017'!AG219","v":0},"%","Direkt","Y-transz1"]
[{"$f":"ab_számláló!$A$2+ab_számláló!B346","v":7306},"Dél-Alföld",2017,{"$f":"'2015_régi'!$AE$1","v":"Tüdő-gyógyászat"},"Delta/Tény",{"$f":"'2017'!AG220","v":0},"%","Direkt","Y-transz1"]
[{"$f":"ab_számláló!$A$2+ab_számláló!B347","v":7307},"Alföld és Észak",2017,{"$f":"'2015_régi'!$AE$1","v":"Tüdő-gyógyászat"},"Delta/Tény",{"$f":"'2017'!AG221","v":0},"%","Direkt","Y-transz1"]
[{"$f":"ab_számláló!$A$2+ab_számláló!B348","v":7308},"Ország összesen",2017,{"$f":"'2015_régi'!$AE$1","v":"Tüdő-gyógyászat"},"Delta/Tény",{"$f":"'2017'!AG222","v":0},"%","Direkt","Y-transz1"]
[{"$f":"ab_számláló!$A$2+ab_számláló!B349","v":7309},"Budapest + Pest",2018,{"$f":"'2015_régi'!$AE$1","v":"Tüdő-gyógyászat"},"Tény",{"$f":"'2018'!AC194","v":1025499},"Pontszám","Direkt","Y-transz1"]
[{"$f":"ab_számláló!$A$2+ab_számláló!B350","v":7310},"Közép-Magyarország",2018,{"$f":"'2015_régi'!$AE$1","v":"Tüdő-gyógyászat"},"Tény",{"$f":"'2018'!AC195","v":1025499},"Pontszám","Direkt","Y-transz1"]
[{"$f":"ab_számláló!$A$2+ab_számláló!B351","v":7311},"Fejér",2018,{"$f":"'2015_régi'!$AE$1","v":"Tüdő-gyógyászat"},"Tény",{"$f":"'2018'!AC196","v":1019594},"Pontszám","Direkt","Y-transz1"]
[{"$f":"ab_számláló!$A$2+ab_számláló!B352","v":7312},"Komárom-Esztergom",2018,{"$f":"'2015_régi'!$AE$1","v":"Tüdő-gyógyászat"},"Tény",{"$f":"'2018'!AC197","v":1017514},"Pontszám","Direkt","Y-transz1"]
[{"$f":"ab_számláló!$A$2+ab_számláló!B353","v":7313},"Veszprém",2018,{"$f":"'2015_régi'!$AE$1","v":"Tüdő-gyógyászat"},"Tény",{"$f":"'2018'!AC198","v":1023468},"Pontszám","Direkt","Y-transz1"]
[{"$f":"ab_számláló!$A$2+ab_számláló!B354","v":7314},"Közép-Dunántúl",2018,{"$f":"'2015_régi'!$AE$1","v":"Tüdő-gyógyászat"},"Tény",{"$f":"'2018'!AC199","v":1020261},"Pontszám","Direkt","Y-transz1"]
[{"$f":"ab_számláló!$A$2+ab_számláló!B355","v":7315},"Győr-Moson-Sopron",2018,{"$f":"'2015_régi'!$AE$1","v":"Tüdő-gyógyászat"},"Tény",{"$f":"'2018'!AC200","v":1014559},"Pontszám","Direkt","Y-transz1"]
[{"$f":"ab_számláló!$A$2+ab_számláló!B356","v":7316},"Vas",2018,{"$f":"'2015_régi'!$AE$1","v":"Tüdő-gyógyászat"},"Tény",{"$f":"'2018'!AC201","v":1016111},"Pontszám","Direkt","Y-transz1"]
[{"$f":"ab_számláló!$A$2+ab_számláló!B357","v":7317},"Zala",2018,{"$f":"'2015_régi'!$AE$1","v":"Tüdő-gyógyászat"},"Tény",{"$f":"'2018'!AC202","v":1020426},"Pontszám","Direkt","Y-transz1"]
[{"$f":"ab_számláló!$A$2+ab_számláló!B358","v":7318},"Nyugat-Dunántúl",2018,{"$f":"'2015_régi'!$AE$1","v":"Tüdő-gyógyászat"},"Tény",{"$f":"'2018'!AC203","v":1016569},"Pontszám","Direkt","Y-transz1"]
[{"$f":"ab_számláló!$A$2+ab_számláló!B359","v":7319},"Baranya",2018,{"$f":"'2015_régi'!$AE$1","v":"Tüdő-gyógyászat"},"Tény",{"$f":"'2018'!AC204","v":1023735},"Pontszám","Direkt","Y-transz1"]
[{"$f":"ab_számláló!$A$2+ab_számláló!B360","v":7320},"Somogy",2018,{"$f":"'2015_régi'!$AE$1","v":"Tüdő-gyógyászat"},"Tény",{"$f":"'2018'!AC205","v":1019411},"Pontszám","Direkt","Y-transz1"]
[{"$f":"ab_számláló!$A$2+ab_számláló!B361","v":7321},"Tolna",2018,{"$f":"'2015_régi'!$AE$1","v":"Tüdő-gyógyászat"},"Tény",{"$f":"'2018'!AC206","v":1018895},"Pontszám","Direkt","Y-transz1"]
[{"$f":"ab_számláló!$A$2+ab_számláló!B362","v":7322},"Dél-Dunántúl",2018,{"$f":"'2015_régi'!$AE$1","v":"Tüdő-gyógyászat"},"Tény",{"$f":"'2018'!AC207","v":1021057},"Pontszám","Direkt","Y-transz1"]
[{"$f":"ab_számláló!$A$2+ab_számláló!B363","v":7323},"Dunántúl",2018,{"$f":"'2015_régi'!$AE$1","v":"Tüdő-gyógyászat"},"Tény",{"$f":"'2018'!AC208","v":1019259},"Pontszám","Direkt","Y-transz1"]
[{"$f":"ab_számláló!$A$2+ab_számláló!B364","v":7324},"Borsod-Abaúj-Zemplén",2018,{"$f":"'2015_régi'!$AE$1","v":"Tüdő-gyógyászat"},"Tény",{"$f":"'2018'!AC209","v":1029586},"Pontszám","Direkt","Y-transz1"]
[{"$f":"ab_számláló!$A$2+ab_számláló!B365","v":7325},"Heves",2018,{"$f":"'2015_régi'!$AE$1","v":"Tüdő-gyógyászat"},"Tény",{"$f":"'2018'!AC210","v":1023291},"Pontszám","Direkt","Y-transz1"]
[{"$f":"ab_számláló!$A$2+ab_számláló!B366","v":7326},"Nógrád",2018,{"$f":"'2015_régi'!$AE$1","v":"Tüdő-gyógyászat"},"Tény",{"$f":"'2018'!AC211","v":1018017},"Pontszám","Direkt","Y-transz1"]
[{"$f":"ab_számláló!$A$2+ab_számláló!B367","v":7327},"Észak-Magyarország",2018,{"$f":"'2015_régi'!$AE$1","v":"Tüdő-gyógyászat"},"Tény",{"$f":"'2018'!AC212","v":1025999},"Pontszám","Direkt","Y-transz1"]
[{"$f":"ab_számláló!$A$2+ab_számláló!B368","v":7328},"Hajdú-Bihar",2018,{"$f":"'2015_régi'!$AE$1","v":"Tüdő-gyógyászat"},"Tény",{"$f":"'2018'!AC213","v":1019345},"Pontszám","Direkt","Y-transz1"]
[{"$f":"ab_számláló!$A$2+ab_számláló!B369","v":7329},"Jász-Nagykun-Szolnok",2018,{"$f":"'2015_régi'!$AE$1","v":"Tüdő-gyógyászat"},"Tény",{"$f":"'2018'!AC214","v":1031041},"Pontszám","Direkt","Y-transz1"]
[{"$f":"ab_számláló!$A$2+ab_számláló!B370","v":7330},"Szabolcs-Szatmár-Bereg",2018,{"$f":"'2015_régi'!$AE$1","v":"Tüdő-gyógyászat"},"Tény",{"$f":"'2018'!AC215","v":1028877},"Pontszám","Direkt","Y-transz1"]
[{"$f":"ab_számláló!$A$2+ab_számláló!B371","v":7331},"Észak-Alföld",2018,{"$f":"'2015_régi'!$AE$1","v":"Tüdő-gyógyászat"},"Tény",{"$f":"'2018'!AC216","v":1025964},"Pontszám","Direkt","Y-transz1"]
[{"$f":"ab_számláló!$A$2+ab_számláló!B372","v":7332},"Bács-Kiskun",2018,{"$f":"'2015_régi'!$AE$1","v":"Tüdő-gyógyászat"},"Tény",{"$f":"'2018'!AC217","v":1015719},"Pontszám","Direkt","Y-transz1"]
[{"$f":"ab_számláló!$A$2+ab_számláló!B373","v":7333},"Békés",2018,{"$f":"'2015_régi'!$AE$1","v":"Tüdő-gyógyászat"},"Tény",{"$f":"'2018'!AC218","v":1019980},"Pontszám","Direkt","Y-transz1"]
[{"$f":"ab_számláló!$A$2+ab_számláló!B374","v":7334},"Csongrád-Csanád",2018,{"$f":"'2015_régi'!$AE$1","v":"Tüdő-gyógyászat"},"Tény",{"$f":"'2018'!AC219","v":1017161},"Pontszám","Direkt","Y-transz1"]
[{"$f":"ab_számláló!$A$2+ab_számláló!B375","v":7335},"Dél-Alföld",2018,{"$f":"'2015_régi'!$AE$1","v":"Tüdő-gyógyászat"},"Tény",{"$f":"'2018'!AC220","v":1017341},"Pontszám","Direkt","Y-transz1"]
[{"$f":"ab_számláló!$A$2+ab_számláló!B376","v":7336},"Alföld és Észak",2018,{"$f":"'2015_régi'!$AE$1","v":"Tüdő-gyógyászat"},"Tény",{"$f":"'2018'!AC221","v":1023180},"Pontszám","Direkt","Y-transz1"]
[{"$f":"ab_számláló!$A$2+ab_számláló!B377","v":7337},"Ország összesen",2018,{"$f":"'2015_régi'!$AE$1","v":"Tüdő-gyógyászat"},"Tény",{"$f":"'2018'!AC222","v":1022720},"Pontszám","Direkt","Y-transz1"]
[{"$f":"ab_számláló!$A$2+ab_számláló!B378","v":7338},"Budapest + Pest",2018,{"$f":"'2015_régi'!$AE$1","v":"Tüdő-gyógyászat"},"Becslés",{"$f":"'2018'!AB194","v":1025499.6},"Pontszám","Direkt","Y-transz1"]
[{"$f":"ab_számláló!$A$2+ab_számláló!B379","v":7339},"Közép-Magyarország",2018,{"$f":"'2015_régi'!$AE$1","v":"Tüdő-gyógyászat"},"Becslés",{"$f":"'2018'!AB195","v":1025499.6},"Pontszám","Direkt","Y-transz1"]
[{"$f":"ab_számláló!$A$2+ab_számláló!B380","v":7340},"Fejér",2018,{"$f":"'2015_régi'!$AE$1","v":"Tüdő-gyógyászat"},"Becslés",{"$f":"'2018'!AB196","v":1019593.6},"Pontszám","Direkt","Y-transz1"]
[{"$f":"ab_számláló!$A$2+ab_számláló!B381","v":7341},"Komárom-Esztergom",2018,{"$f":"'2015_régi'!$AE$1","v":"Tüdő-gyógyászat"},"Becslés",{"$f":"'2018'!AB197","v":1017512.6},"Pontszám","Direkt","Y-transz1"]
[{"$f":"ab_számláló!$A$2+ab_számláló!B382","v":7342},"Veszprém",2018,{"$f":"'2015_régi'!$AE$1","v":"Tüdő-gyógyászat"},"Becslés",{"$f":"'2018'!AB198","v":1023467.6},"Pontszám","Direkt","Y-transz1"]
[{"$f":"ab_számláló!$A$2+ab_számláló!B383","v":7343},"Közép-Dunántúl",2018,{"$f":"'2015_régi'!$AE$1","v":"Tüdő-gyógyászat"},"Becslés",{"$f":"'2018'!AB199","v":1020260.6},"Pontszám","Direkt","Y-transz1"]
[{"$f":"ab_számláló!$A$2+ab_számláló!B384","v":7344},"Győr-Moson-Sopron",2018,{"$f":"'2015_régi'!$AE$1","v":"Tüdő-gyógyászat"},"Becslés",{"$f":"'2018'!AB200","v":1014559.1},"Pontszám","Direkt","Y-transz1"]
[{"$f":"ab_számláló!$A$2+ab_számláló!B385","v":7345},"Vas",2018,{"$f":"'2015_régi'!$AE$1","v":"Tüdő-gyógyászat"},"Becslés",{"$f":"'2018'!AB201","v":1016111.1},"Pontszám","Direkt","Y-transz1"]
[{"$f":"ab_számláló!$A$2+ab_számláló!B386","v":7346},"Zala",2018,{"$f":"'2015_régi'!$AE$1","v":"Tüdő-gyógyászat"},"Becslés",{"$f":"'2018'!AB202","v":1020426.1},"Pontszám","Direkt","Y-transz1"]
[{"$f":"ab_számláló!$A$2+ab_számláló!B387","v":7347},"Nyugat-Dunántúl",2018,{"$f":"'2015_régi'!$AE$1","v":"Tüdő-gyógyászat"},"Becslés",{"$f":"'2018'!AB203","v":1016569.6},"Pontszám","Direkt","Y-transz1"]
[{"$f":"ab_számláló!$A$2+ab_számláló!B388","v":7348},"Baranya",2018,{"$f":"'2015_régi'!$AE$1","v":"Tüdő-gyógyászat"},"Becslés",{"$f":"'2018'!AB204","v":1023734.6},"Pontszám","Direkt","Y-transz1"]
[{"$f":"ab_számláló!$A$2+ab_számláló!B389","v":7349},"Somogy",2018,{"$f":"'2015_régi'!$AE$1","v":"Tüdő-gyógyászat"},"Becslés",{"$f":"'2018'!AB205","v":1019411.6},"Pontszám","Direkt","Y-transz1"]
[{"$f":"ab_számláló!$A$2+ab_számláló!B390","v":7350},"Tolna",2018,{"$f":"'2015_régi'!$AE$1","v":"Tüdő-gyógyászat"},"Becslés",{"$f":"'2018'!AB206","v":1018895.1},"Pontszám","Direkt","Y-transz1"]
[{"$f":"ab_számláló!$A$2+ab_számláló!B391","v":7351},"Dél-Dunántúl",2018,{"$f":"'2015_régi'!$AE$1","v":"Tüdő-gyógyászat"},"Becslés",{"$f":"'2018'!AB207","v":1021057.1},"Pontszám","Direkt","Y-transz1"]
[{"$f":"ab_számláló!$A$2+ab_számláló!B392","v":7352},"Dunántúl",2018,{"$f":"'2015_régi'!$AE$1","v":"Tüdő-gyógyászat"},"Becslés",{"$f":"'2018'!AB208","v":1019258.6},"Pontszám","Direkt","Y-transz1"]
[{"$f":"ab_számláló!$A$2+ab_számláló!B393","v":7353},"Borsod-Abaúj-Zemplén",2018,{"$f":"'2015_régi'!$AE$1","v":"Tüdő-gyógyászat"},"Becslés",{"$f":"'2018'!AB209","v":1029586.1},"Pontszám","Direkt","Y-transz1"]
[{"$f":"ab_számláló!$A$2+ab_számláló!B394","v":7354},"Heves",2018,{"$f":"'2015_régi'!$AE$1","v":"Tüdő-gyógyászat"},"Becslés",{"$f":"'2018'!AB210","v":1023291.1},"Pontszám","Direkt","Y-transz1"]
[{"$f":"ab_számláló!$A$2+ab_számláló!B395","v":7355},"Nógrád",2018,{"$f":"'2015_régi'!$AE$1","v":"Tüdő-gyógyászat"},"Becslés",{"$f":"'2018'!AB211","v":1018016.6},"Pontszám","Direkt","Y-transz1"]
[{"$f":"ab_számláló!$A$2+ab_számláló!B396","v":7356},"Észak-Magyarország",2018,{"$f":"'2015_régi'!$AE$1","v":"Tüdő-gyógyászat"},"Becslés",{"$f":"'2018'!AB212","v":1025999.1},"Pontszám","Direkt","Y-transz1"]
[{"$f":"ab_számláló!$A$2+ab_számláló!B397","v":7357},"Hajdú-Bihar",2018,{"$f":"'2015_régi'!$AE$1","v":"Tüdő-gyógyászat"},"Becslés",{"$f":"'2018'!AB213","v":1019345.1},"Pontszám","Direkt","Y-transz1"]
[{"$f":"ab_számláló!$A$2+ab_számláló!B398","v":7358},"Jász-Nagykun-Szolnok",2018,{"$f":"'2015_régi'!$AE$1","v":"Tüdő-gyógyászat"},"Becslés",{"$f":"'2018'!AB214","v":1031040.6},"Pontszám","Direkt","Y-transz1"]
[{"$f":"ab_számláló!$A$2+ab_számláló!B399","v":7359},"Szabolcs-Szatmár-Bereg",2018,{"$f":"'2015_régi'!$AE$1","v":"Tüdő-gyógyászat"},"Becslés",{"$f":"'2018'!AB215","v":1028877.1},"Pontszám","Direkt","Y-transz1"]
[{"$f":"ab_számláló!$A$2+ab_számláló!B400","v":7360},"Észak-Alföld",2018,{"$f":"'2015_régi'!$AE$1","v":"Tüdő-gyógyászat"},"Becslés",{"$f":"'2018'!AB216","v":1025964.1},"Pontszám","Direkt","Y-transz1"]
[{"$f":"ab_számláló!$A$2+ab_számláló!B401","v":7361},"Bács-Kiskun",2018,{"$f":"'2015_régi'!$AE$1","v":"Tüdő-gyógyászat"},"Becslés",{"$f":"'2018'!AB217","v":1015719.1},"Pontszám","Direkt","Y-transz1"]
[{"$f":"ab_számláló!$A$2+ab_számláló!B402","v":7362},"Békés",2018,{"$f":"'2015_régi'!$AE$1","v":"Tüdő-gyógyászat"},"Becslés",{"$f":"'2018'!AB218","v":1019980.1},"Pontszám","Direkt","Y-transz1"]
[{"$f":"ab_számláló!$A$2+ab_számláló!B403","v":7363},"Csongrád-Csanád",2018,{"$f":"'2015_régi'!$AE$1","v":"Tüdő-gyógyászat"},"Becslés",{"$f":"'2018'!AB219","v":1017161.6},"Pontszám","Direkt","Y-transz1"]
[{"$f":"ab_számláló!$A$2+ab_számláló!B404","v":7364},"Dél-Alföld",2018,{"$f":"'2015_régi'!$AE$1","v":"Tüdő-gyógyászat"},"Becslés",{"$f":"'2018'!AB220","v":1017341.1},"Pontszám","Direkt","Y-transz1"]
[{"$f":"ab_számláló!$A$2+ab_számláló!B405","v":7365},"Alföld és Észak",2018,{"$f":"'2015_régi'!$AE$1","v":"Tüdő-gyógyászat"},"Becslés",{"$f":"'2018'!AB221","v":1023179.6},"Pontszám","Direkt","Y-transz1"]
[{"$f":"ab_számláló!$A$2+ab_számláló!B406","v":7366},"Ország összesen",2018,{"$f":"'2015_régi'!$AE$1","v":"Tüdő-gyógyászat"},"Becslés",{"$f":"'2018'!AB222","v":1022720.1},"Pontszám","Direkt","Y-transz1"]
[{"$f":"ab_számláló!$A$2+ab_számláló!B407","v":7367},"Budapest + Pest",2018,{"$f":"'2015_régi'!$AE$1","v":"Tüdő-gyógyászat"},"Delta",{"$f":"'2018'!AD194","v":-0.6},"Pontszám","Direkt","Y-transz1"]
[{"$f":"ab_számláló!$A$2+ab_számláló!B408","v":7368},"Közép-Magyarország",2018,{"$f":"'2015_régi'!$AE$1","v":"Tüdő-gyógyászat"},"Delta",{"$f":"'2018'!AD195","v":-0.6},"Pontszám","Direkt","Y-transz1"]
[{"$f":"ab_számláló!$A$2+ab_számláló!B409","v":7369},"Fejér",2018,{"$f":"'2015_régi'!$AE$1","v":"Tüdő-gyógyászat"},"Delta",{"$f":"'2018'!AD196","v":0.4},"Pontszám","Direkt","Y-transz1"]
[{"$f":"ab_számláló!$A$2+ab_számláló!B410","v":7370},"Komárom-Esztergom",2018,{"$f":"'2015_régi'!$AE$1","v":"Tüdő-gyógyászat"},"Delta",{"$f":"'2018'!AD197","v":1.4},"Pontszám","Direkt","Y-transz1"]
[{"$f":"ab_számláló!$A$2+ab_számláló!B411","v":7371},"Veszprém",2018,{"$f":"'2015_régi'!$AE$1","v":"Tüdő-gyógyászat"},"Delta",{"$f":"'2018'!AD198","v":0.4},"Pontszám","Direkt","Y-transz1"]
[{"$f":"ab_számláló!$A$2+ab_számláló!B412","v":7372},"Közép-Dunántúl",2018,{"$f":"'2015_régi'!$AE$1","v":"Tüdő-gyógyászat"},"Delta",{"$f":"'2018'!AD199","v":0.4},"Pontszám","Direkt","Y-transz1"]
[{"$f":"ab_számláló!$A$2+ab_számláló!B413","v":7373},"Győr-Moson-Sopron",2018,{"$f":"'2015_régi'!$AE$1","v":"Tüdő-gyógyászat"},"Delta",{"$f":"'2018'!AD200","v":-0.1},"Pontszám","Direkt","Y-transz1"]
[{"$f":"ab_számláló!$A$2+ab_számláló!B414","v":7374},"Vas",2018,{"$f":"'2015_régi'!$AE$1","v":"Tüdő-gyógyászat"},"Delta",{"$f":"'2018'!AD201","v":-0.1},"Pontszám","Direkt","Y-transz1"]
[{"$f":"ab_számláló!$A$2+ab_számláló!B415","v":7375},"Zala",2018,{"$f":"'2015_régi'!$AE$1","v":"Tüdő-gyógyászat"},"Delta",{"$f":"'2018'!AD202","v":-0.1},"Pontszám","Direkt","Y-transz1"]
[{"$f":"ab_számláló!$A$2+ab_számláló!B416","v":7376},"Nyugat-Dunántúl",2018,{"$f":"'2015_régi'!$AE$1","v":"Tüdő-gyógyászat"},"Delta",{"$f":"'2018'!AD203","v":-0.6},"Pontszám","Direkt","Y-transz1"]
[{"$f":"ab_számláló!$A$2+ab_számláló!B417","v":7377},"Baranya",2018,{"$f":"'2015_régi'!$AE$1","v":"Tüdő-gyógyászat"},"Delta",{"$f":"'2018'!AD204","v":0.4},"Pontszám","Direkt","Y-transz1"]
[{"$f":"ab_számláló!$A$2+ab_számláló!B418","v":7378},"Somogy",2018,{"$f":"'2015_régi'!$AE$1","v":"Tüdő-gyógyászat"},"Delta",{"$f":"'2018'!AD205","v":-0.6},"Pontszám","Direkt","Y-transz1"]
[{"$f":"ab_számláló!$A$2+ab_számláló!B419","v":7379},"Tolna",2018,{"$f":"'2015_régi'!$AE$1","v":"Tüdő-gyógyászat"},"Delta",{"$f":"'2018'!AD206","v":-0.1},"Pontszám","Direkt","Y-transz1"]
[{"$f":"ab_számláló!$A$2+ab_számláló!B420","v":7380},"Dél-Dunántúl",2018,{"$f":"'2015_régi'!$AE$1","v":"Tüdő-gyógyászat"},"Delta",{"$f":"'2018'!AD207","v":-0.1},"Pontszám","Direkt","Y-transz1"]
[{"$f":"ab_számláló!$A$2+ab_számláló!B421","v":7381},"Dunántúl",2018,{"$f":"'2015_régi'!$AE$1","v":"Tüdő-gyógyászat"},"Delta",{"$f":"'2018'!AD208","v":0.4},"Pontszám","Direkt","Y-transz1"]
[{"$f":"ab_számláló!$A$2+ab_számláló!B422","v":7382},"Borsod-Abaúj-Zemplén",2018,{"$f":"'2015_régi'!$AE$1","v":"Tüdő-gyógyászat"},"Delta",{"$f":"'2018'!AD209","v":-0.1},"Pontszám","Direkt","Y-transz1"]
[{"$f":"ab_számláló!$A$2+ab_számláló!B423","v":7383},"Heves",2018,{"$f":"'2015_régi'!$AE$1","v":"Tüdő-gyógyászat"},"Delta",{"$f":"'2018'!AD210","v":-0.1},"Pontszám","Direkt","Y-transz1"]
[{"$f":"ab_számláló!$A$2+ab_számláló!B424","v":7384},"Nógrád",2018,{"$f":"'2015_régi'!$AE$1","v":"Tüdő-gyógyászat"},"Delta",{"$f":"'2018'!AD211","v":0.4},"Pontszám","Direkt","Y-transz1"]
[{"$f":"ab_számláló!$A$2+ab_számláló!B425","v":7385},"Észak-Magyarország",2018,{"$f":"'2015_régi'!$AE$1","v":"Tüdő-gyógyászat"},"Delta",{"$f":"'2018'!AD212","v":-0.1},"Pontszám","Direkt","Y-transz1"]
[{"$f":"ab_számláló!$A$2+ab_számláló!B426","v":7386},"Hajdú-Bihar",2018,{"$f":"'2015_régi'!$AE$1","v":"Tüdő-gyógyászat"},"Delta",{"$f":"'2018'!AD213","v":-0.1},"Pontszám","Direkt","Y-transz1"]
[{"$f":"ab_számláló!$A$2+ab_számláló!B427","v":7387},"Jász-Nagykun-Szolnok",2018,{"$f":"'2015_régi'!$AE$1","v":"Tüdő-gyógyászat"},"Delta",{"$f":"'2018'!AD214","v":0.4},"Pontszám","Direkt","Y-transz1"]
[{"$f":"ab_számláló!$A$2+ab_számláló!B428","v":7388},"Szabolcs-Szatmár-Bereg",2018,{"$f":"'2015_régi'!$AE$1","v":"Tüdő-gyógyászat"},"Delta",{"$f":"'2018'!AD215","v":-0.1},"Pontszám","Direkt","Y-transz1"]
[{"$f":"ab_számláló!$A$2+ab_számláló!B429","v":7389},"Észak-Alföld",2018,{"$f":"'2015_régi'!$AE$1","v":"Tüdő-gyógyászat"},"Delta",{"$f":"'2018'!AD216","v":-0.1},"Pontszám","Direkt","Y-transz1"]
[{"$f":"ab_számláló!$A$2+ab_számláló!B430","v":7390},"Bács-Kiskun",2018,{"$f":"'2015_régi'!$AE$1","v":"Tüdő-gyógyászat"},"Delta",{"$f":"'2018'!AD217","v":-0.1},"Pontszám","Direkt","Y-transz1"]
[{"$f":"ab_számláló!$A$2+ab_számláló!B431","v":7391},"Békés",2018,{"$f":"'2015_régi'!$AE$1","v":"Tüdő-gyógyászat"},"Delta",{"$f":"'2018'!AD218","v":-0.1},"Pontszám","Direkt","Y-transz1"]
[{"$f":"ab_számláló!$A$2+ab_számláló!B432","v":7392},"Csongrád-Csanád",2018,{"$f":"'2015_régi'!$AE$1","v":"Tüdő-gyógyászat"},"Delta",{"$f":"'2018'!AD219","v":-0.6},"Pontszám","Direkt","Y-transz1"]
[{"$f":"ab_számláló!$A$2+ab_számláló!B433","v":7393},"Dél-Alföld",2018,{"$f":"'2015_régi'!$AE$1","v":"Tüdő-gyógyászat"},"Delta",{"$f":"'2018'!AD220","v":-0.1},"Pontszám","Direkt","Y-transz1"]
[{"$f":"ab_számláló!$A$2+ab_számláló!B434","v":7394},"Alföld és Észak",2018,{"$f":"'2015_régi'!$AE$1","v":"Tüdő-gyógyászat"},"Delta",{"$f":"'2018'!AD221","v":0.4},"Pontszám","Direkt","Y-transz1"]
[{"$f":"ab_számláló!$A$2+ab_számláló!B435","v":7395},"Ország összesen",2018,{"$f":"'2015_régi'!$AE$1","v":"Tüdő-gyógyászat"},"Delta",{"$f":"'2018'!AD222","v":-0.1},"Pontszám","Direkt","Y-transz1"]
[{"$f":"ab_számláló!$A$2+ab_számláló!B436","v":7396},"Budapest + Pest",2018,{"$f":"'2015_régi'!$AE$1","v":"Tüdő-gyógyászat"},"Delta/Tény",{"$f":"'2018'!AE194","v":0},"%","Direkt","Y-transz1"]
[{"$f":"ab_számláló!$A$2+ab_számláló!B437","v":7397},"Közép-Magyarország",2018,{"$f":"'2015_régi'!$AE$1","v":"Tüdő-gyógyászat"},"Delta/Tény",{"$f":"'2018'!AE195","v":0},"%","Direkt","Y-transz1"]
[{"$f":"ab_számláló!$A$2+ab_számláló!B438","v":7398},"Fejér",2018,{"$f":"'2015_régi'!$AE$1","v":"Tüdő-gyógyászat"},"Delta/Tény",{"$f":"'2018'!AE196","v":0},"%","Direkt","Y-transz1"]
[{"$f":"ab_számláló!$A$2+ab_számláló!B439","v":7399},"Komárom-Esztergom",2018,{"$f":"'2015_régi'!$AE$1","v":"Tüdő-gyógyászat"},"Delta/Tény",{"$f":"'2018'!AE197","v":0},"%","Direkt","Y-transz1"]
[{"$f":"ab_számláló!$A$2+ab_számláló!B440","v":7400},"Veszprém",2018,{"$f":"'2015_régi'!$AE$1","v":"Tüdő-gyógyászat"},"Delta/Tény",{"$f":"'2018'!AE198","v":0},"%","Direkt","Y-transz1"]
[{"$f":"ab_számláló!$A$2+ab_számláló!B441","v":7401},"Közép-Dunántúl",2018,{"$f":"'2015_régi'!$AE$1","v":"Tüdő-gyógyászat"},"Delta/Tény",{"$f":"'2018'!AE199","v":0},"%","Direkt","Y-transz1"]
[{"$f":"ab_számláló!$A$2+ab_számláló!B442","v":7402},"Győr-Moson-Sopron",2018,{"$f":"'2015_régi'!$AE$1","v":"Tüdő-gyógyászat"},"Delta/Tény",{"$f":"'2018'!AE200","v":0},"%","Direkt","Y-transz1"]
[{"$f":"ab_számláló!$A$2+ab_számláló!B443","v":7403},"Vas",2018,{"$f":"'2015_régi'!$AE$1","v":"Tüdő-gyógyászat"},"Delta/Tény",{"$f":"'2018'!AE201","v":0},"%","Direkt","Y-transz1"]
[{"$f":"ab_számláló!$A$2+ab_számláló!B444","v":7404},"Zala",2018,{"$f":"'2015_régi'!$AE$1","v":"Tüdő-gyógyászat"},"Delta/Tény",{"$f":"'2018'!AE202","v":0},"%","Direkt","Y-transz1"]
[{"$f":"ab_számláló!$A$2+ab_számláló!B445","v":7405},"Nyugat-Dunántúl",2018,{"$f":"'2015_régi'!$AE$1","v":"Tüdő-gyógyászat"},"Delta/Tény",{"$f":"'2018'!AE203","v":0},"%","Direkt","Y-transz1"]
[{"$f":"ab_számláló!$A$2+ab_számláló!B446","v":7406},"Baranya",2018,{"$f":"'2015_régi'!$AE$1","v":"Tüdő-gyógyászat"},"Delta/Tény",{"$f":"'2018'!AE204","v":0},"%","Direkt","Y-transz1"]
[{"$f":"ab_számláló!$A$2+ab_számláló!B447","v":7407},"Somogy",2018,{"$f":"'2015_régi'!$AE$1","v":"Tüdő-gyógyászat"},"Delta/Tény",{"$f":"'2018'!AE205","v":0},"%","Direkt","Y-transz1"]
[{"$f":"ab_számláló!$A$2+ab_számláló!B448","v":7408},"Tolna",2018,{"$f":"'2015_régi'!$AE$1","v":"Tüdő-gyógyászat"},"Delta/Tény",{"$f":"'2018'!AE206","v":0},"%","Direkt","Y-transz1"]
[{"$f":"ab_számláló!$A$2+ab_számláló!B449","v":7409},"Dél-Dunántúl",2018,{"$f":"'2015_régi'!$AE$1","v":"Tüdő-gyógyászat"},"Delta/Tény",{"$f":"'2018'!AE207","v":0},"%","Direkt","Y-transz1"]
[{"$f":"ab_számláló!$A$2+ab_számláló!B450","v":7410},"Dunántúl",2018,{"$f":"'2015_régi'!$AE$1","v":"Tüdő-gyógyászat"},"Delta/Tény",{"$f":"'2018'!AE208","v":0},"%","Direkt","Y-transz1"]
[{"$f":"ab_számláló!$A$2+ab_számláló!B451","v":7411},"Borsod-Abaúj-Zemplén",2018,{"$f":"'2015_régi'!$AE$1","v":"Tüdő-gyógyászat"},"Delta/Tény",{"$f":"'2018'!AE209","v":0},"%","Direkt","Y-transz1"]
[{"$f":"ab_számláló!$A$2+ab_számláló!B452","v":7412},"Heves",2018,{"$f":"'2015_régi'!$AE$1","v":"Tüdő-gyógyászat"},"Delta/Tény",{"$f":"'2018'!AE210","v":0},"%","Direkt","Y-transz1"]
[{"$f":"ab_számláló!$A$2+ab_számláló!B453","v":7413},"Nógrád",2018,{"$f":"'2015_régi'!$AE$1","v":"Tüdő-gyógyászat"},"Delta/Tény",{"$f":"'2018'!AE211","v":0},"%","Direkt","Y-transz1"]
[{"$f":"ab_számláló!$A$2+ab_számláló!B454","v":7414},"Észak-Magyarország",2018,{"$f":"'2015_régi'!$AE$1","v":"Tüdő-gyógyászat"},"Delta/Tény",{"$f":"'2018'!AE212","v":0},"%","Direkt","Y-transz1"]
[{"$f":"ab_számláló!$A$2+ab_számláló!B455","v":7415},"Hajdú-Bihar",2018,{"$f":"'2015_régi'!$AE$1","v":"Tüdő-gyógyászat"},"Delta/Tény",{"$f":"'2018'!AE213","v":0},"%","Direkt","Y-transz1"]
[{"$f":"ab_számláló!$A$2+ab_számláló!B456","v":7416},"Jász-Nagykun-Szolnok",2018,{"$f":"'2015_régi'!$AE$1","v":"Tüdő-gyógyászat"},"Delta/Tény",{"$f":"'2018'!AE214","v":0},"%","Direkt","Y-transz1"]
[{"$f":"ab_számláló!$A$2+ab_számláló!B457","v":7417},"Szabolcs-Szatmár-Bereg",2018,{"$f":"'2015_régi'!$AE$1","v":"Tüdő-gyógyászat"},"Delta/Tény",{"$f":"'2018'!AE215","v":0},"%","Direkt","Y-transz1"]
[{"$f":"ab_számláló!$A$2+ab_számláló!B458","v":7418},"Észak-Alföld",2018,{"$f":"'2015_régi'!$AE$1","v":"Tüdő-gyógyászat"},"Delta/Tény",{"$f":"'2018'!AE216","v":0},"%","Direkt","Y-transz1"]
[{"$f":"ab_számláló!$A$2+ab_számláló!B459","v":7419},"Bács-Kiskun",2018,{"$f":"'2015_régi'!$AE$1","v":"Tüdő-gyógyászat"},"Delta/Tény",{"$f":"'2018'!AE217","v":0},"%","Direkt","Y-transz1"]
[{"$f":"ab_számláló!$A$2+ab_számláló!B460","v":7420},"Békés",2018,{"$f":"'2015_régi'!$AE$1","v":"Tüdő-gyógyászat"},"Delta/Tény",{"$f":"'2018'!AE218","v":0},"%","Direkt","Y-transz1"]
[{"$f":"ab_számláló!$A$2+ab_számláló!B461","v":7421},"Csongrád-Csanád",2018,{"$f":"'2015_régi'!$AE$1","v":"Tüdő-gyógyászat"},"Delta/Tény",{"$f":"'2018'!AE219","v":0},"%","Direkt","Y-transz1"]
[{"$f":"ab_számláló!$A$2+ab_számláló!B462","v":7422},"Dél-Alföld",2018,{"$f":"'2015_régi'!$AE$1","v":"Tüdő-gyógyászat"},"Delta/Tény",{"$f":"'2018'!AE220","v":0},"%","Direkt","Y-transz1"]
[{"$f":"ab_számláló!$A$2+ab_számláló!B463","v":7423},"Alföld és Észak",2018,{"$f":"'2015_régi'!$AE$1","v":"Tüdő-gyógyászat"},"Delta/Tény",{"$f":"'2018'!AE221","v":0},"%","Direkt","Y-transz1"]
[{"$f":"ab_számláló!$A$2+ab_számláló!B464","v":7424},"Ország összesen",2018,{"$f":"'2015_régi'!$AE$1","v":"Tüdő-gyógyászat"},"Delta/Tény",{"$f":"'2018'!AE222","v":0},"%","Direkt","Y-transz1"]
[{"$f":"ab_számláló!$A$2+ab_számláló!B465","v":7425},"Budapest + Pest",2019,{"$f":"'2015_régi'!$AE$1","v":"Tüdő-gyógyászat"},"Tény",{"$f":"'2019'!AC194","v":1025438},"Pontszám","Direkt","Y-transz1"]
[{"$f":"ab_számláló!$A$2+ab_számláló!B466","v":7426},"Közép-Magyarország",2019,{"$f":"'2015_régi'!$AE$1","v":"Tüdő-gyógyászat"},"Tény",{"$f":"'2019'!AC195","v":1025438},"Pontszám","Direkt","Y-transz1"]
[{"$f":"ab_számláló!$A$2+ab_számláló!B467","v":7427},"Fejér",2019,{"$f":"'2015_régi'!$AE$1","v":"Tüdő-gyógyászat"},"Tény",{"$f":"'2019'!AC196","v":1016755},"Pontszám","Direkt","Y-transz1"]
[{"$f":"ab_számláló!$A$2+ab_számláló!B468","v":7428},"Komárom-Esztergom",2019,{"$f":"'2015_régi'!$AE$1","v":"Tüdő-gyógyászat"},"Tény",{"$f":"'2019'!AC197","v":1017383},"Pontszám","Direkt","Y-transz1"]
[{"$f":"ab_számláló!$A$2+ab_számláló!B469","v":7429},"Veszprém",2019,{"$f":"'2015_régi'!$AE$1","v":"Tüdő-gyógyászat"},"Tény",{"$f":"'2019'!AC198","v":1023662},"Pontszám","Direkt","Y-transz1"]
[{"$f":"ab_számláló!$A$2+ab_számláló!B470","v":7430},"Közép-Dunántúl",2019,{"$f":"'2015_régi'!$AE$1","v":"Tüdő-gyógyászat"},"Tény",{"$f":"'2019'!AC199","v":1019160},"Pontszám","Direkt","Y-transz1"]
[{"$f":"ab_számláló!$A$2+ab_számláló!B471","v":7431},"Győr-Moson-Sopron",2019,{"$f":"'2015_régi'!$AE$1","v":"Tüdő-gyógyászat"},"Tény",{"$f":"'2019'!AC200","v":1014713},"Pontszám","Direkt","Y-transz1"]
[{"$f":"ab_számláló!$A$2+ab_számláló!B472","v":7432},"Vas",2019,{"$f":"'2015_régi'!$AE$1","v":"Tüdő-gyógyászat"},"Tény",{"$f":"'2019'!AC201","v":1016812},"Pontszám","Direkt","Y-transz1"]
[{"$f":"ab_számláló!$A$2+ab_számláló!B473","v":7433},"Zala",2019,{"$f":"'2015_régi'!$AE$1","v":"Tüdő-gyógyászat"},"Tény",{"$f":"'2019'!AC202","v":1020308},"Pontszám","Direkt","Y-transz1"]
[{"$f":"ab_számláló!$A$2+ab_számláló!B474","v":7434},"Nyugat-Dunántúl",2019,{"$f":"'2015_régi'!$AE$1","v":"Tüdő-gyógyászat"},"Tény",{"$f":"'2019'!AC203","v":1016770},"Pontszám","Direkt","Y-transz1"]
[{"$f":"ab_számláló!$A$2+ab_számláló!B475","v":7435},"Baranya",2019,{"$f":"'2015_régi'!$AE$1","v":"Tüdő-gyógyászat"},"Tény",{"$f":"'2019'!AC204","v":1023241},"Pontszám","Direkt","Y-transz1"]
[{"$f":"ab_számláló!$A$2+ab_számláló!B476","v":7436},"Somogy",2019,{"$f":"'2015_régi'!$AE$1","v":"Tüdő-gyógyászat"},"Tény",{"$f":"'2019'!AC205","v":1018460},"Pontszám","Direkt","Y-transz1"]
[{"$f":"ab_számláló!$A$2+ab_számláló!B477","v":7437},"Tolna",2019,{"$f":"'2015_régi'!$AE$1","v":"Tüdő-gyógyászat"},"Tény",{"$f":"'2019'!AC206","v":1019224},"Pontszám","Direkt","Y-transz1"]
[{"$f":"ab_számláló!$A$2+ab_számláló!B478","v":7438},"Dél-Dunántúl",2019,{"$f":"'2015_régi'!$AE$1","v":"Tüdő-gyógyászat"},"Tény",{"$f":"'2019'!AC207","v":1020610},"Pontszám","Direkt","Y-transz1"]
[{"$f":"ab_számláló!$A$2+ab_számláló!B479","v":7439},"Dunántúl",2019,{"$f":"'2015_régi'!$AE$1","v":"Tüdő-gyógyászat"},"Tény",{"$f":"'2019'!AC208","v":1018788},"Pontszám","Direkt","Y-transz1"]
[{"$f":"ab_számláló!$A$2+ab_számláló!B480","v":7440},"Borsod-Abaúj-Zemplén",2019,{"$f":"'2015_régi'!$AE$1","v":"Tüdő-gyógyászat"},"Tény",{"$f":"'2019'!AC209","v":1029979},"Pontszám","Direkt","Y-transz1"]
[{"$f":"ab_számláló!$A$2+ab_számláló!B481","v":7441},"Heves",2019,{"$f":"'2015_régi'!$AE$1","v":"Tüdő-gyógyászat"},"Tény",{"$f":"'2019'!AC210","v":1021876},"Pontszám","Direkt","Y-transz1"]
[{"$f":"ab_számláló!$A$2+ab_számláló!B482","v":7442},"Nógrád",2019,{"$f":"'2015_régi'!$AE$1","v":"Tüdő-gyógyászat"},"Tény",{"$f":"'2019'!AC211","v":1018860},"Pontszám","Direkt","Y-transz1"]
[{"$f":"ab_számláló!$A$2+ab_számláló!B483","v":7443},"Észak-Magyarország",2019,{"$f":"'2015_régi'!$AE$1","v":"Tüdő-gyógyászat"},"Tény",{"$f":"'2019'!AC212","v":1025991},"Pontszám","Direkt","Y-transz1"]
[{"$f":"ab_számláló!$A$2+ab_számláló!B484","v":7444},"Hajdú-Bihar",2019,{"$f":"'2015_régi'!$AE$1","v":"Tüdő-gyógyászat"},"Tény",{"$f":"'2019'!AC213","v":1017790},"Pontszám","Direkt","Y-transz1"]
[{"$f":"ab_számláló!$A$2+ab_számláló!B485","v":7445},"Jász-Nagykun-Szolnok",2019,{"$f":"'2015_régi'!$AE$1","v":"Tüdő-gyógyászat"},"Tény",{"$f":"'2019'!AC214","v":1029407},"Pontszám","Direkt","Y-transz1"]
[{"$f":"ab_számláló!$A$2+ab_számláló!B486","v":7446},"Szabolcs-Szatmár-Bereg",2019,{"$f":"'2015_régi'!$AE$1","v":"Tüdő-gyógyászat"},"Tény",{"$f":"'2019'!AC215","v":1028345},"Pontszám","Direkt","Y-transz1"]
[{"$f":"ab_számláló!$A$2+ab_számláló!B487","v":7447},"Észak-Alföld",2019,{"$f":"'2015_régi'!$AE$1","v":"Tüdő-gyógyászat"},"Tény",{"$f":"'2019'!AC216","v":1024775},"Pontszám","Direkt","Y-transz1"]
[{"$f":"ab_számláló!$A$2+ab_számláló!B488","v":7448},"Bács-Kiskun",2019,{"$f":"'2015_régi'!$AE$1","v":"Tüdő-gyógyászat"},"Tény",{"$f":"'2019'!AC217","v":1014738},"Pontszám","Direkt","Y-transz1"]
[{"$f":"ab_számláló!$A$2+ab_számláló!B489","v":7449},"Békés",2019,{"$f":"'2015_régi'!$AE$1","v":"Tüdő-gyógyászat"},"Tény",{"$f":"'2019'!AC218","v":1020870},"Pontszám","Direkt","Y-transz1"]
[{"$f":"ab_számláló!$A$2+ab_számláló!B490","v":7450},"Csongrád-Csanád",2019,{"$f":"'2015_régi'!$AE$1","v":"Tüdő-gyógyászat"},"Tény",{"$f":"'2019'!AC219","v":1017080},"Pontszám","Direkt","Y-transz1"]
[{"$f":"ab_számláló!$A$2+ab_számláló!B491","v":7451},"Dél-Alföld",2019,{"$f":"'2015_régi'!$AE$1","v":"Tüdő-gyógyászat"},"Tény",{"$f":"'2019'!AC220","v":1017150},"Pontszám","Direkt","Y-transz1"]
[{"$f":"ab_számláló!$A$2+ab_számláló!B492","v":7452},"Alföld és Észak",2019,{"$f":"'2015_régi'!$AE$1","v":"Tüdő-gyógyászat"},"Tény",{"$f":"'2019'!AC221","v":1022661},"Pontszám","Direkt","Y-transz1"]
[{"$f":"ab_számláló!$A$2+ab_számláló!B493","v":7453},"Ország összesen",2019,{"$f":"'2015_régi'!$AE$1","v":"Tüdő-gyógyászat"},"Tény",{"$f":"'2019'!AC222","v":1022362},"Pontszám","Direkt","Y-transz1"]
[{"$f":"ab_számláló!$A$2+ab_számláló!B494","v":7454},"Budapest + Pest",2019,{"$f":"'2015_régi'!$AE$1","v":"Tüdő-gyógyászat"},"Becslés",{"$f":"'2019'!AB194","v":1025437.9},"Pontszám","Direkt","Y-transz1"]
[{"$f":"ab_számláló!$A$2+ab_számláló!B495","v":7455},"Közép-Magyarország",2019,{"$f":"'2015_régi'!$AE$1","v":"Tüdő-gyógyászat"},"Becslés",{"$f":"'2019'!AB195","v":1025437.9},"Pontszám","Direkt","Y-transz1"]
[{"$f":"ab_számláló!$A$2+ab_számláló!B496","v":7456},"Fejér",2019,{"$f":"'2015_régi'!$AE$1","v":"Tüdő-gyógyászat"},"Becslés",{"$f":"'2019'!AB196","v":1016754.9},"Pontszám","Direkt","Y-transz1"]
[{"$f":"ab_számláló!$A$2+ab_számláló!B497","v":7457},"Komárom-Esztergom",2019,{"$f":"'2015_régi'!$AE$1","v":"Tüdő-gyógyászat"},"Becslés",{"$f":"'2019'!AB197","v":1017382.9},"Pontszám","Direkt","Y-transz1"]
[{"$f":"ab_számláló!$A$2+ab_számláló!B498","v":7458},"Veszprém",2019,{"$f":"'2015_régi'!$AE$1","v":"Tüdő-gyógyászat"},"Becslés",{"$f":"'2019'!AB198","v":1023661.9},"Pontszám","Direkt","Y-transz1"]
[{"$f":"ab_számláló!$A$2+ab_számláló!B499","v":7459},"Közép-Dunántúl",2019,{"$f":"'2015_régi'!$AE$1","v":"Tüdő-gyógyászat"},"Becslés",{"$f":"'2019'!AB199","v":1019159.9},"Pontszám","Direkt","Y-transz1"]
[{"$f":"ab_számláló!$A$2+ab_számláló!B500","v":7460},"Győr-Moson-Sopron",2019,{"$f":"'2015_régi'!$AE$1","v":"Tüdő-gyógyászat"},"Becslés",{"$f":"'2019'!AB200","v":1014712.9},"Pontszám","Direkt","Y-transz1"]
[{"$f":"ab_számláló!$A$2+ab_számláló!B501","v":7461},"Vas",2019,{"$f":"'2015_régi'!$AE$1","v":"Tüdő-gyógyászat"},"Becslés",{"$f":"'2019'!AB201","v":1016811.9},"Pontszám","Direkt","Y-transz1"]
[{"$f":"ab_számláló!$A$2+ab_számláló!B502","v":7462},"Zala",2019,{"$f":"'2015_régi'!$AE$1","v":"Tüdő-gyógyászat"},"Becslés",{"$f":"'2019'!AB202","v":1020307.9},"Pontszám","Direkt","Y-transz1"]
[{"$f":"ab_számláló!$A$2+ab_számláló!B503","v":7463},"Nyugat-Dunántúl",2019,{"$f":"'2015_régi'!$AE$1","v":"Tüdő-gyógyászat"},"Becslés",{"$f":"'2019'!AB203","v":1016769.9},"Pontszám","Direkt","Y-transz1"]
[{"$f":"ab_számláló!$A$2+ab_számláló!B504","v":7464},"Baranya",2019,{"$f":"'2015_régi'!$AE$1","v":"Tüdő-gyógyászat"},"Becslés",{"$f":"'2019'!AB204","v":1023241.4},"Pontszám","Direkt","Y-transz1"]
[{"$f":"ab_számláló!$A$2+ab_számláló!B505","v":7465},"Somogy",2019,{"$f":"'2015_régi'!$AE$1","v":"Tüdő-gyógyászat"},"Becslés",{"$f":"'2019'!AB205","v":1018460.4},"Pontszám","Direkt","Y-transz1"]
[{"$f":"ab_számláló!$A$2+ab_számláló!B506","v":7466},"Tolna",2019,{"$f":"'2015_régi'!$AE$1","v":"Tüdő-gyógyászat"},"Becslés",{"$f":"'2019'!AB206","v":1019223.4},"Pontszám","Direkt","Y-transz1"]
[{"$f":"ab_számláló!$A$2+ab_számláló!B507","v":7467},"Dél-Dunántúl",2019,{"$f":"'2015_régi'!$AE$1","v":"Tüdő-gyógyászat"},"Becslés",{"$f":"'2019'!AB207","v":1020610.4},"Pontszám","Direkt","Y-transz1"]
[{"$f":"ab_számláló!$A$2+ab_számláló!B508","v":7468},"Dunántúl",2019,{"$f":"'2015_régi'!$AE$1","v":"Tüdő-gyógyászat"},"Becslés",{"$f":"'2019'!AB208","v":1018788.4},"Pontszám","Direkt","Y-transz1"]
[{"$f":"ab_számláló!$A$2+ab_számláló!B509","v":7469},"Borsod-Abaúj-Zemplén",2019,{"$f":"'2015_régi'!$AE$1","v":"Tüdő-gyógyászat"},"Becslés",{"$f":"'2019'!AB209","v":1029978.9},"Pontszám","Direkt","Y-transz1"]
[{"$f":"ab_számláló!$A$2+ab_számláló!B510","v":7470},"Heves",2019,{"$f":"'2015_régi'!$AE$1","v":"Tüdő-gyógyászat"},"Becslés",{"$f":"'2019'!AB210","v":1021876.4},"Pontszám","Direkt","Y-transz1"]
[{"$f":"ab_számláló!$A$2+ab_számláló!B511","v":7471},"Nógrád",2019,{"$f":"'2015_régi'!$AE$1","v":"Tüdő-gyógyászat"},"Becslés",{"$f":"'2019'!AB211","v":1018859.9},"Pontszám","Direkt","Y-transz1"]
[{"$f":"ab_számláló!$A$2+ab_számláló!B512","v":7472},"Észak-Magyarország",2019,{"$f":"'2015_régi'!$AE$1","v":"Tüdő-gyógyászat"},"Becslés",{"$f":"'2019'!AB212","v":1021890.4},"Pontszám","Direkt","Y-transz1"]
[{"$f":"ab_számláló!$A$2+ab_számláló!B513","v":7473},"Hajdú-Bihar",2019,{"$f":"'2015_régi'!$AE$1","v":"Tüdő-gyógyászat"},"Becslés",{"$f":"'2019'!AB213","v":1021890.4},"Pontszám","Direkt","Y-transz1"]
[{"$f":"ab_számláló!$A$2+ab_számláló!B514","v":7474},"Jász-Nagykun-Szolnok",2019,{"$f":"'2015_régi'!$AE$1","v":"Tüdő-gyógyászat"},"Becslés",{"$f":"'2019'!AB214","v":1029407.4},"Pontszám","Direkt","Y-transz1"]
[{"$f":"ab_számláló!$A$2+ab_számláló!B515","v":7475},"Szabolcs-Szatmár-Bereg",2019,{"$f":"'2015_régi'!$AE$1","v":"Tüdő-gyógyászat"},"Becslés",{"$f":"'2019'!AB215","v":1028344.4},"Pontszám","Direkt","Y-transz1"]
[{"$f":"ab_számláló!$A$2+ab_számláló!B516","v":7476},"Észak-Alföld",2019,{"$f":"'2015_régi'!$AE$1","v":"Tüdő-gyógyászat"},"Becslés",{"$f":"'2019'!AB216","v":1024774.9},"Pontszám","Direkt","Y-transz1"]
[{"$f":"ab_számláló!$A$2+ab_számláló!B517","v":7477},"Bács-Kiskun",2019,{"$f":"'2015_régi'!$AE$1","v":"Tüdő-gyógyászat"},"Becslés",{"$f":"'2019'!AB217","v":1014737.9},"Pontszám","Direkt","Y-transz1"]
[{"$f":"ab_számláló!$A$2+ab_számláló!B518","v":7478},"Békés",2019,{"$f":"'2015_régi'!$AE$1","v":"Tüdő-gyógyászat"},"Becslés",{"$f":"'2019'!AB218","v":1020870.4},"Pontszám","Direkt","Y-transz1"]
[{"$f":"ab_számláló!$A$2+ab_számláló!B519","v":7479},"Csongrád-Csanád",2019,{"$f":"'2015_régi'!$AE$1","v":"Tüdő-gyógyászat"},"Becslés",{"$f":"'2019'!AB219","v":1017079.4},"Pontszám","Direkt","Y-transz1"]
[{"$f":"ab_számláló!$A$2+ab_számláló!B520","v":7480},"Dél-Alföld",2019,{"$f":"'2015_régi'!$AE$1","v":"Tüdő-gyógyászat"},"Becslés",{"$f":"'2019'!AB220","v":1017150.4},"Pontszám","Direkt","Y-transz1"]
[{"$f":"ab_számláló!$A$2+ab_számláló!B521","v":7481},"Alföld és Észak",2019,{"$f":"'2015_régi'!$AE$1","v":"Tüdő-gyógyászat"},"Becslés",{"$f":"'2019'!AB221","v":1022660.9},"Pontszám","Direkt","Y-transz1"]
[{"$f":"ab_számláló!$A$2+ab_számláló!B522","v":7482},"Ország összesen",2019,{"$f":"'2015_régi'!$AE$1","v":"Tüdő-gyógyászat"},"Becslés",{"$f":"'2019'!AB222","v":1022361.9},"Pontszám","Direkt","Y-transz1"]
[{"$f":"ab_számláló!$A$2+ab_számláló!B523","v":7483},"Budapest + Pest",2019,{"$f":"'2015_régi'!$AE$1","v":"Tüdő-gyógyászat"},"Delta",{"$f":"'2019'!AD194","v":0.1},"Pontszám","Direkt","Y-transz1"]
[{"$f":"ab_számláló!$A$2+ab_számláló!B524","v":7484},"Közép-Magyarország",2019,{"$f":"'2015_régi'!$AE$1","v":"Tüdő-gyógyászat"},"Delta",{"$f":"'2019'!AD195","v":0.1},"Pontszám","Direkt","Y-transz1"]
[{"$f":"ab_számláló!$A$2+ab_számláló!B525","v":7485},"Fejér",2019,{"$f":"'2015_régi'!$AE$1","v":"Tüdő-gyógyászat"},"Delta",{"$f":"'2019'!AD196","v":0.1},"Pontszám","Direkt","Y-transz1"]
[{"$f":"ab_számláló!$A$2+ab_számláló!B526","v":7486},"Komárom-Esztergom",2019,{"$f":"'2015_régi'!$AE$1","v":"Tüdő-gyógyászat"},"Delta",{"$f":"'2019'!AD197","v":0.1},"Pontszám","Direkt","Y-transz1"]
[{"$f":"ab_számláló!$A$2+ab_számláló!B527","v":7487},"Veszprém",2019,{"$f":"'2015_régi'!$AE$1","v":"Tüdő-gyógyászat"},"Delta",{"$f":"'2019'!AD198","v":0.1},"Pontszám","Direkt","Y-transz1"]
[{"$f":"ab_számláló!$A$2+ab_számláló!B528","v":7488},"Közép-Dunántúl",2019,{"$f":"'2015_régi'!$AE$1","v":"Tüdő-gyógyászat"},"Delta",{"$f":"'2019'!AD199","v":0.1},"Pontszám","Direkt","Y-transz1"]
[{"$f":"ab_számláló!$A$2+ab_számláló!B529","v":7489},"Győr-Moson-Sopron",2019,{"$f":"'2015_régi'!$AE$1","v":"Tüdő-gyógyászat"},"Delta",{"$f":"'2019'!AD200","v":0.1},"Pontszám","Direkt","Y-transz1"]
[{"$f":"ab_számláló!$A$2+ab_számláló!B530","v":7490},"Vas",2019,{"$f":"'2015_régi'!$AE$1","v":"Tüdő-gyógyászat"},"Delta",{"$f":"'2019'!AD201","v":0.1},"Pontszám","Direkt","Y-transz1"]
[{"$f":"ab_számláló!$A$2+ab_számláló!B531","v":7491},"Zala",2019,{"$f":"'2015_régi'!$AE$1","v":"Tüdő-gyógyászat"},"Delta",{"$f":"'2019'!AD202","v":0.1},"Pontszám","Direkt","Y-transz1"]
[{"$f":"ab_számláló!$A$2+ab_számláló!B532","v":7492},"Nyugat-Dunántúl",2019,{"$f":"'2015_régi'!$AE$1","v":"Tüdő-gyógyászat"},"Delta",{"$f":"'2019'!AD203","v":0.1},"Pontszám","Direkt","Y-transz1"]
[{"$f":"ab_számláló!$A$2+ab_számláló!B533","v":7493},"Baranya",2019,{"$f":"'2015_régi'!$AE$1","v":"Tüdő-gyógyászat"},"Delta",{"$f":"'2019'!AD204","v":-0.4},"Pontszám","Direkt","Y-transz1"]
[{"$f":"ab_számláló!$A$2+ab_számláló!B534","v":7494},"Somogy",2019,{"$f":"'2015_régi'!$AE$1","v":"Tüdő-gyógyászat"},"Delta",{"$f":"'2019'!AD205","v":-0.4},"Pontszám","Direkt","Y-transz1"]
[{"$f":"ab_számláló!$A$2+ab_számláló!B535","v":7495},"Tolna",2019,{"$f":"'2015_régi'!$AE$1","v":"Tüdő-gyógyászat"},"Delta",{"$f":"'2019'!AD206","v":0.6},"Pontszám","Direkt","Y-transz1"]
[{"$f":"ab_számláló!$A$2+ab_számláló!B536","v":7496},"Dél-Dunántúl",2019,{"$f":"'2015_régi'!$AE$1","v":"Tüdő-gyógyászat"},"Delta",{"$f":"'2019'!AD207","v":-0.4},"Pontszám","Direkt","Y-transz1"]
[{"$f":"ab_számláló!$A$2+ab_számláló!B537","v":7497},"Dunántúl",2019,{"$f":"'2015_régi'!$AE$1","v":"Tüdő-gyógyászat"},"Delta",{"$f":"'2019'!AD208","v":-0.4},"Pontszám","Direkt","Y-transz1"]
[{"$f":"ab_számláló!$A$2+ab_számláló!B538","v":7498},"Borsod-Abaúj-Zemplén",2019,{"$f":"'2015_régi'!$AE$1","v":"Tüdő-gyógyászat"},"Delta",{"$f":"'2019'!AD209","v":0.1},"Pontszám","Direkt","Y-transz1"]
[{"$f":"ab_számláló!$A$2+ab_számláló!B539","v":7499},"Heves",2019,{"$f":"'2015_régi'!$AE$1","v":"Tüdő-gyógyászat"},"Delta",{"$f":"'2019'!AD210","v":-0.4},"Pontszám","Direkt","Y-transz1"]
[{"$f":"ab_számláló!$A$2+ab_számláló!B540","v":7500},"Nógrád",2019,{"$f":"'2015_régi'!$AE$1","v":"Tüdő-gyógyászat"},"Delta",{"$f":"'2019'!AD211","v":0.1},"Pontszám","Direkt","Y-transz1"]
[{"$f":"ab_számláló!$A$2+ab_számláló!B541","v":7501},"Észak-Magyarország",2019,{"$f":"'2015_régi'!$AE$1","v":"Tüdő-gyógyászat"},"Delta",{"$f":"'2019'!AD212","v":4100.6000000000004},"Pontszám","Direkt","Y-transz1"]
[{"$f":"ab_számláló!$A$2+ab_számláló!B542","v":7502},"Hajdú-Bihar",2019,{"$f":"'2015_régi'!$AE$1","v":"Tüdő-gyógyászat"},"Delta",{"$f":"'2019'!AD213","v":-4100.3999999999996},"Pontszám","Direkt","Y-transz1"]
[{"$f":"ab_számláló!$A$2+ab_számláló!B543","v":7503},"Jász-Nagykun-Szolnok",2019,{"$f":"'2015_régi'!$AE$1","v":"Tüdő-gyógyászat"},"Delta",{"$f":"'2019'!AD214","v":-0.4},"Pontszám","Direkt","Y-transz1"]
[{"$f":"ab_számláló!$A$2+ab_számláló!B544","v":7504},"Szabolcs-Szatmár-Bereg",2019,{"$f":"'2015_régi'!$AE$1","v":"Tüdő-gyógyászat"},"Delta",{"$f":"'2019'!AD215","v":0.6},"Pontszám","Direkt","Y-transz1"]
[{"$f":"ab_számláló!$A$2+ab_számláló!B545","v":7505},"Észak-Alföld",2019,{"$f":"'2015_régi'!$AE$1","v":"Tüdő-gyógyászat"},"Delta",{"$f":"'2019'!AD216","v":0.1},"Pontszám","Direkt","Y-transz1"]
[{"$f":"ab_számláló!$A$2+ab_számláló!B546","v":7506},"Bács-Kiskun",2019,{"$f":"'2015_régi'!$AE$1","v":"Tüdő-gyógyászat"},"Delta",{"$f":"'2019'!AD217","v":0.1},"Pontszám","Direkt","Y-transz1"]
[{"$f":"ab_számláló!$A$2+ab_számláló!B547","v":7507},"Békés",2019,{"$f":"'2015_régi'!$AE$1","v":"Tüdő-gyógyászat"},"Delta",{"$f":"'2019'!AD218","v":-0.4},"Pontszám","Direkt","Y-transz1"]
[{"$f":"ab_számláló!$A$2+ab_számláló!B548","v":7508},"Csongrád-Csanád",2019,{"$f":"'2015_régi'!$AE$1","v":"Tüdő-gyógyászat"},"Delta",{"$f":"'2019'!AD219","v":0.6},"Pontszám","Direkt","Y-transz1"]
[{"$f":"ab_számláló!$A$2+ab_számláló!B549","v":7509},"Dél-Alföld",2019,{"$f":"'2015_régi'!$AE$1","v":"Tüdő-gyógyászat"},"Delta",{"$f":"'2019'!AD220","v":-0.4},"Pontszám","Direkt","Y-transz1"]
[{"$f":"ab_számláló!$A$2+ab_számláló!B550","v":7510},"Alföld és Észak",2019,{"$f":"'2015_régi'!$AE$1","v":"Tüdő-gyógyászat"},"Delta",{"$f":"'2019'!AD221","v":0.1},"Pontszám","Direkt","Y-transz1"]
[{"$f":"ab_számláló!$A$2+ab_számláló!B551","v":7511},"Ország összesen",2019,{"$f":"'2015_régi'!$AE$1","v":"Tüdő-gyógyászat"},"Delta",{"$f":"'2019'!AD222","v":0.1},"Pontszám","Direkt","Y-transz1"]
[{"$f":"ab_számláló!$A$2+ab_számláló!B552","v":7512},"Budapest + Pest",2019,{"$f":"'2015_régi'!$AE$1","v":"Tüdő-gyógyászat"},"Delta/Tény",{"$f":"'2019'!AE194","v":0},"%","Direkt","Y-transz1"]
[{"$f":"ab_számláló!$A$2+ab_számláló!B553","v":7513},"Közép-Magyarország",2019,{"$f":"'2015_régi'!$AE$1","v":"Tüdő-gyógyászat"},"Delta/Tény",{"$f":"'2019'!AE195","v":0},"%","Direkt","Y-transz1"]
[{"$f":"ab_számláló!$A$2+ab_számláló!B554","v":7514},"Fejér",2019,{"$f":"'2015_régi'!$AE$1","v":"Tüdő-gyógyászat"},"Delta/Tény",{"$f":"'2019'!AE196","v":0},"%","Direkt","Y-transz1"]
[{"$f":"ab_számláló!$A$2+ab_számláló!B555","v":7515},"Komárom-Esztergom",2019,{"$f":"'2015_régi'!$AE$1","v":"Tüdő-gyógyászat"},"Delta/Tény",{"$f":"'2019'!AE197","v":0},"%","Direkt","Y-transz1"]
[{"$f":"ab_számláló!$A$2+ab_számláló!B556","v":7516},"Veszprém",2019,{"$f":"'2015_régi'!$AE$1","v":"Tüdő-gyógyászat"},"Delta/Tény",{"$f":"'2019'!AE198","v":0},"%","Direkt","Y-transz1"]
[{"$f":"ab_számláló!$A$2+ab_számláló!B557","v":7517},"Közép-Dunántúl",2019,{"$f":"'2015_régi'!$AE$1","v":"Tüdő-gyógyászat"},"Delta/Tény",{"$f":"'2019'!AE199","v":0},"%","Direkt","Y-transz1"]
[{"$f":"ab_számláló!$A$2+ab_számláló!B558","v":7518},"Győr-Moson-Sopron",2019,{"$f":"'2015_régi'!$AE$1","v":"Tüdő-gyógyászat"},"Delta/Tény",{"$f":"'2019'!AE200","v":0},"%","Direkt","Y-transz1"]
[{"$f":"ab_számláló!$A$2+ab_számláló!B559","v":7519},"Vas",2019,{"$f":"'2015_régi'!$AE$1","v":"Tüdő-gyógyászat"},"Delta/Tény",{"$f":"'2019'!AE201","v":0},"%","Direkt","Y-transz1"]
[{"$f":"ab_számláló!$A$2+ab_számláló!B560","v":7520},"Zala",2019,{"$f":"'2015_régi'!$AE$1","v":"Tüdő-gyógyászat"},"Delta/Tény",{"$f":"'2019'!AE202","v":0},"%","Direkt","Y-transz1"]
[{"$f":"ab_számláló!$A$2+ab_számláló!B561","v":7521},"Nyugat-Dunántúl",2019,{"$f":"'2015_régi'!$AE$1","v":"Tüdő-gyógyászat"},"Delta/Tény",{"$f":"'2019'!AE203","v":0},"%","Direkt","Y-transz1"]
[{"$f":"ab_számláló!$A$2+ab_számláló!B562","v":7522},"Baranya",2019,{"$f":"'2015_régi'!$AE$1","v":"Tüdő-gyógyászat"},"Delta/Tény",{"$f":"'2019'!AE204","v":0},"%","Direkt","Y-transz1"]
[{"$f":"ab_számláló!$A$2+ab_számláló!B563","v":7523},"Somogy",2019,{"$f":"'2015_régi'!$AE$1","v":"Tüdő-gyógyászat"},"Delta/Tény",{"$f":"'2019'!AE205","v":0},"%","Direkt","Y-transz1"]
[{"$f":"ab_számláló!$A$2+ab_számláló!B564","v":7524},"Tolna",2019,{"$f":"'2015_régi'!$AE$1","v":"Tüdő-gyógyászat"},"Delta/Tény",{"$f":"'2019'!AE206","v":0},"%","Direkt","Y-transz1"]
[{"$f":"ab_számláló!$A$2+ab_számláló!B565","v":7525},"Dél-Dunántúl",2019,{"$f":"'2015_régi'!$AE$1","v":"Tüdő-gyógyászat"},"Delta/Tény",{"$f":"'2019'!AE207","v":0},"%","Direkt","Y-transz1"]
[{"$f":"ab_számláló!$A$2+ab_számláló!B566","v":7526},"Dunántúl",2019,{"$f":"'2015_régi'!$AE$1","v":"Tüdő-gyógyászat"},"Delta/Tény",{"$f":"'2019'!AE208","v":0},"%","Direkt","Y-transz1"]
[{"$f":"ab_számláló!$A$2+ab_számláló!B567","v":7527},"Borsod-Abaúj-Zemplén",2019,{"$f":"'2015_régi'!$AE$1","v":"Tüdő-gyógyászat"},"Delta/Tény",{"$f":"'2019'!AE209","v":0},"%","Direkt","Y-transz1"]
[{"$f":"ab_számláló!$A$2+ab_számláló!B568","v":7528},"Heves",2019,{"$f":"'2015_régi'!$AE$1","v":"Tüdő-gyógyászat"},"Delta/Tény",{"$f":"'2019'!AE210","v":0},"%","Direkt","Y-transz1"]
[{"$f":"ab_számláló!$A$2+ab_számláló!B569","v":7529},"Nógrád",2019,{"$f":"'2015_régi'!$AE$1","v":"Tüdő-gyógyászat"},"Delta/Tény",{"$f":"'2019'!AE211","v":0},"%","Direkt","Y-transz1"]
[{"$f":"ab_számláló!$A$2+ab_számláló!B570","v":7530},"Észak-Magyarország",2019,{"$f":"'2015_régi'!$AE$1","v":"Tüdő-gyógyászat"},"Delta/Tény",{"$f":"'2019'!AE212","v":0.4},"%","Direkt","Y-transz1"]
[{"$f":"ab_számláló!$A$2+ab_számláló!B571","v":7531},"Hajdú-Bihar",2019,{"$f":"'2015_régi'!$AE$1","v":"Tüdő-gyógyászat"},"Delta/Tény",{"$f":"'2019'!AE213","v":-0.4},"%","Direkt","Y-transz1"]
[{"$f":"ab_számláló!$A$2+ab_számláló!B572","v":7532},"Jász-Nagykun-Szolnok",2019,{"$f":"'2015_régi'!$AE$1","v":"Tüdő-gyógyászat"},"Delta/Tény",{"$f":"'2019'!AE214","v":0},"%","Direkt","Y-transz1"]
[{"$f":"ab_számláló!$A$2+ab_számláló!B573","v":7533},"Szabolcs-Szatmár-Bereg",2019,{"$f":"'2015_régi'!$AE$1","v":"Tüdő-gyógyászat"},"Delta/Tény",{"$f":"'2019'!AE215","v":0},"%","Direkt","Y-transz1"]
[{"$f":"ab_számláló!$A$2+ab_számláló!B574","v":7534},"Észak-Alföld",2019,{"$f":"'2015_régi'!$AE$1","v":"Tüdő-gyógyászat"},"Delta/Tény",{"$f":"'2019'!AE216","v":0},"%","Direkt","Y-transz1"]
[{"$f":"ab_számláló!$A$2+ab_számláló!B575","v":7535},"Bács-Kiskun",2019,{"$f":"'2015_régi'!$AE$1","v":"Tüdő-gyógyászat"},"Delta/Tény",{"$f":"'2019'!AE217","v":0},"%","Direkt","Y-transz1"]
[{"$f":"ab_számláló!$A$2+ab_számláló!B576","v":7536},"Békés",2019,{"$f":"'2015_régi'!$AE$1","v":"Tüdő-gyógyászat"},"Delta/Tény",{"$f":"'2019'!AE218","v":0},"%","Direkt","Y-transz1"]
[{"$f":"ab_számláló!$A$2+ab_számláló!B577","v":7537},"Csongrád-Csanád",2019,{"$f":"'2015_régi'!$AE$1","v":"Tüdő-gyógyászat"},"Delta/Tény",{"$f":"'2019'!AE219","v":0},"%","Direkt","Y-transz1"]
[{"$f":"ab_számláló!$A$2+ab_számláló!B578","v":7538},"Dél-Alföld",2019,{"$f":"'2015_régi'!$AE$1","v":"Tüdő-gyógyászat"},"Delta/Tény",{"$f":"'2019'!AE220","v":0},"%","Direkt","Y-transz1"]
[{"$f":"ab_számláló!$A$2+ab_számláló!B579","v":7539},"Alföld és Észak",2019,{"$f":"'2015_régi'!$AE$1","v":"Tüdő-gyógyászat"},"Delta/Tény",{"$f":"'2019'!AE221","v":0},"%","Direkt","Y-transz1"]
[{"$f":"ab_számláló!$A$2+ab_számláló!B580","v":7540},"Ország összesen",2019,{"$f":"'2015_régi'!$AE$1","v":"Tüdő-gyógyászat"},"Delta/Tény",{"$f":"'2019'!AE222","v":0},"%","Direkt","Y-transz1"]
[{"$f":"ab_számláló!$A$2+ab_számláló!B581","v":7541},"Budapest + Pest",2020,{"$f":"'2015_régi'!$AE$1","v":"Tüdő-gyógyászat"},"Tény",{"$f":"'2020'!AC194","v":1019766},"Pontszám","Direkt","Y-transz1"]
[{"$f":"ab_számláló!$A$2+ab_számláló!B582","v":7542},"Közép-Magyarország",2020,{"$f":"'2015_régi'!$AE$1","v":"Tüdő-gyógyászat"},"Tény",{"$f":"'2020'!AC195","v":1019766},"Pontszám","Direkt","Y-transz1"]
[{"$f":"ab_számláló!$A$2+ab_számláló!B583","v":7543},"Fejér",2020,{"$f":"'2015_régi'!$AE$1","v":"Tüdő-gyógyászat"},"Tény",{"$f":"'2020'!AC196","v":1012532},"Pontszám","Direkt","Y-transz1"]
[{"$f":"ab_számláló!$A$2+ab_számláló!B584","v":7544},"Komárom-Esztergom",2020,{"$f":"'2015_régi'!$AE$1","v":"Tüdő-gyógyászat"},"Tény",{"$f":"'2020'!AC197","v":1012898},"Pontszám","Direkt","Y-transz1"]
[{"$f":"ab_számláló!$A$2+ab_számláló!B585","v":7545},"Veszprém",2020,{"$f":"'2015_régi'!$AE$1","v":"Tüdő-gyógyászat"},"Tény",{"$f":"'2020'!AC198","v":1013441},"Pontszám","Direkt","Y-transz1"]
[{"$f":"ab_számláló!$A$2+ab_számláló!B586","v":7546},"Közép-Dunántúl",2020,{"$f":"'2015_régi'!$AE$1","v":"Tüdő-gyógyászat"},"Tény",{"$f":"'2020'!AC199","v":1012928},"Pontszám","Direkt","Y-transz1"]
[{"$f":"ab_számláló!$A$2+ab_számláló!B587","v":7547},"Győr-Moson-Sopron",2020,{"$f":"'2015_régi'!$AE$1","v":"Tüdő-gyógyászat"},"Tény",{"$f":"'2020'!AC200","v":1010907},"Pontszám","Direkt","Y-transz1"]
[{"$f":"ab_számláló!$A$2+ab_számláló!B588","v":7548},"Vas",2020,{"$f":"'2015_régi'!$AE$1","v":"Tüdő-gyógyászat"},"Tény",{"$f":"'2020'!AC201","v":1012944},"Pontszám","Direkt","Y-transz1"]
[{"$f":"ab_számláló!$A$2+ab_számláló!B589","v":7549},"Zala",2020,{"$f":"'2015_régi'!$AE$1","v":"Tüdő-gyógyászat"},"Tény",{"$f":"'2020'!AC202","v":1015040},"Pontszám","Direkt","Y-transz1"]
[{"$f":"ab_számláló!$A$2+ab_számláló!B590","v":7550},"Nyugat-Dunántúl",2020,{"$f":"'2015_régi'!$AE$1","v":"Tüdő-gyógyászat"},"Tény",{"$f":"'2020'!AC203","v":1012538},"Pontszám","Direkt","Y-transz1"]
[{"$f":"ab_számláló!$A$2+ab_számláló!B591","v":7551},"Baranya",2020,{"$f":"'2015_régi'!$AE$1","v":"Tüdő-gyógyászat"},"Tény",{"$f":"'2020'!AC204","v":1016416},"Pontszám","Direkt","Y-transz1"]
[{"$f":"ab_számláló!$A$2+ab_számláló!B592","v":7552},"Somogy",2020,{"$f":"'2015_régi'!$AE$1","v":"Tüdő-gyógyászat"},"Tény",{"$f":"'2020'!AC205","v":1014514},"Pontszám","Direkt","Y-transz1"]
[{"$f":"ab_számláló!$A$2+ab_számláló!B593","v":7553},"Tolna",2020,{"$f":"'2015_régi'!$AE$1","v":"Tüdő-gyógyászat"},"Tény",{"$f":"'2020'!AC206","v":1015051},"Pontszám","Direkt","Y-transz1"]
[{"$f":"ab_számláló!$A$2+ab_számláló!B594","v":7554},"Dél-Dunántúl",2020,{"$f":"'2015_régi'!$AE$1","v":"Tüdő-gyógyászat"},"Tény",{"$f":"'2020'!AC207","v":1015427},"Pontszám","Direkt","Y-transz1"]
[{"$f":"ab_számláló!$A$2+ab_számláló!B595","v":7555},"Dunántúl",2020,{"$f":"'2015_régi'!$AE$1","v":"Tüdő-gyógyászat"},"Tény",{"$f":"'2020'!AC208","v":1013542},"Pontszám","Direkt","Y-transz1"]
[{"$f":"ab_számláló!$A$2+ab_számláló!B596","v":7556},"Borsod-Abaúj-Zemplén",2020,{"$f":"'2015_régi'!$AE$1","v":"Tüdő-gyógyászat"},"Tény",{"$f":"'2020'!AC209","v":1022229},"Pontszám","Direkt","Y-transz1"]
[{"$f":"ab_számláló!$A$2+ab_számláló!B597","v":7557},"Heves",2020,{"$f":"'2015_régi'!$AE$1","v":"Tüdő-gyógyászat"},"Tény",{"$f":"'2020'!AC210","v":1016424},"Pontszám","Direkt","Y-transz1"]
[{"$f":"ab_számláló!$A$2+ab_számláló!B598","v":7558},"Nógrád",2020,{"$f":"'2015_régi'!$AE$1","v":"Tüdő-gyógyászat"},"Tény",{"$f":"'2020'!AC211","v":1012679},"Pontszám","Direkt","Y-transz1"]
[{"$f":"ab_számláló!$A$2+ab_számláló!B599","v":7559},"Észak-Magyarország",2020,{"$f":"'2015_régi'!$AE$1","v":"Tüdő-gyógyászat"},"Tény",{"$f":"'2020'!AC212","v":1019100},"Pontszám","Direkt","Y-transz1"]
[{"$f":"ab_számláló!$A$2+ab_számláló!B600","v":7560},"Hajdú-Bihar",2020,{"$f":"'2015_régi'!$AE$1","v":"Tüdő-gyógyászat"},"Tény",{"$f":"'2020'!AC213","v":1012542},"Pontszám","Direkt","Y-transz1"]
[{"$f":"ab_számláló!$A$2+ab_számláló!B601","v":7561},"Jász-Nagykun-Szolnok",2020,{"$f":"'2015_régi'!$AE$1","v":"Tüdő-gyógyászat"},"Tény",{"$f":"'2020'!AC214","v":1018644},"Pontszám","Direkt","Y-transz1"]
[{"$f":"ab_számláló!$A$2+ab_számláló!B602","v":7562},"Szabolcs-Szatmár-Bereg",2020,{"$f":"'2015_régi'!$AE$1","v":"Tüdő-gyógyászat"},"Tény",{"$f":"'2020'!AC215","v":1019764},"Pontszám","Direkt","Y-transz1"]
[{"$f":"ab_számláló!$A$2+ab_számláló!B603","v":7563},"Észak-Alföld",2020,{"$f":"'2015_régi'!$AE$1","v":"Tüdő-gyógyászat"},"Tény",{"$f":"'2020'!AC216","v":1016842},"Pontszám","Direkt","Y-transz1"]
[{"$f":"ab_számláló!$A$2+ab_számláló!B604","v":7564},"Bács-Kiskun",2020,{"$f":"'2015_régi'!$AE$1","v":"Tüdő-gyógyászat"},"Tény",{"$f":"'2020'!AC217","v":1011051},"Pontszám","Direkt","Y-transz1"]
[{"$f":"ab_számláló!$A$2+ab_számláló!B605","v":7565},"Békés",2020,{"$f":"'2015_régi'!$AE$1","v":"Tüdő-gyógyászat"},"Tény",{"$f":"'2020'!AC218","v":1016849},"Pontszám","Direkt","Y-transz1"]
[{"$f":"ab_számláló!$A$2+ab_számláló!B606","v":7566},"Csongrád-Csanád",2020,{"$f":"'2015_régi'!$AE$1","v":"Tüdő-gyógyászat"},"Tény",{"$f":"'2020'!AC219","v":1011025},"Pontszám","Direkt","Y-transz1"]
[{"$f":"ab_számláló!$A$2+ab_számláló!B607","v":7567},"Dél-Alföld",2020,{"$f":"'2015_régi'!$AE$1","v":"Tüdő-gyógyászat"},"Tény",{"$f":"'2020'!AC220","v":1012599},"Pontszám","Direkt","Y-transz1"]
[{"$f":"ab_számláló!$A$2+ab_számláló!B608","v":7568},"Alföld és Észak",2020,{"$f":"'2015_régi'!$AE$1","v":"Tüdő-gyógyászat"},"Tény",{"$f":"'2020'!AC221","v":1016131},"Pontszám","Direkt","Y-transz1"]
[{"$f":"ab_számláló!$A$2+ab_számláló!B609","v":7569},"Ország összesen",2020,{"$f":"'2015_régi'!$AE$1","v":"Tüdő-gyógyászat"},"Tény",{"$f":"'2020'!AC222","v":1016488},"Pontszám","Direkt","Y-transz1"]
[{"$f":"ab_számláló!$A$2+ab_számláló!B610","v":7570},"Budapest + Pest",2020,{"$f":"'2015_régi'!$AE$1","v":"Tüdő-gyógyászat"},"Becslés",{"$f":"'2020'!AB194","v":1019912.7},"Pontszám","Direkt","Y-transz1"]
[{"$f":"ab_számláló!$A$2+ab_számláló!B611","v":7571},"Közép-Magyarország",2020,{"$f":"'2015_régi'!$AE$1","v":"Tüdő-gyógyászat"},"Becslés",{"$f":"'2020'!AB195","v":1019912.7},"Pontszám","Direkt","Y-transz1"]
[{"$f":"ab_számláló!$A$2+ab_számláló!B612","v":7572},"Fejér",2020,{"$f":"'2015_régi'!$AE$1","v":"Tüdő-gyógyászat"},"Becslés",{"$f":"'2020'!AB196","v":1012211.1},"Pontszám","Direkt","Y-transz1"]
[{"$f":"ab_számláló!$A$2+ab_számláló!B613","v":7573},"Komárom-Esztergom",2020,{"$f":"'2015_régi'!$AE$1","v":"Tüdő-gyógyászat"},"Becslés",{"$f":"'2020'!AB197","v":1013043.7},"Pontszám","Direkt","Y-transz1"]
[{"$f":"ab_számláló!$A$2+ab_számláló!B614","v":7574},"Veszprém",2020,{"$f":"'2015_régi'!$AE$1","v":"Tüdő-gyógyászat"},"Becslés",{"$f":"'2020'!AB198","v":1013586.8},"Pontszám","Direkt","Y-transz1"]
[{"$f":"ab_számláló!$A$2+ab_számláló!B615","v":7575},"Közép-Dunántúl",2020,{"$f":"'2015_régi'!$AE$1","v":"Tüdő-gyógyászat"},"Becslés",{"$f":"'2020'!AB199","v":1013073.7},"Pontszám","Direkt","Y-transz1"]
[{"$f":"ab_számláló!$A$2+ab_számláló!B616","v":7576},"Győr-Moson-Sopron",2020,{"$f":"'2015_régi'!$AE$1","v":"Tüdő-gyógyászat"},"Becslés",{"$f":"'2020'!AB200","v":1011052.4},"Pontszám","Direkt","Y-transz1"]
[{"$f":"ab_számláló!$A$2+ab_számláló!B617","v":7577},"Vas",2020,{"$f":"'2015_régi'!$AE$1","v":"Tüdő-gyógyászat"},"Becslés",{"$f":"'2020'!AB201","v":1011639},"Pontszám","Direkt","Y-transz1"]
[{"$f":"ab_számláló!$A$2+ab_számláló!B618","v":7578},"Zala",2020,{"$f":"'2015_régi'!$AE$1","v":"Tüdő-gyógyászat"},"Becslés",{"$f":"'2020'!AB202","v":1015186},"Pontszám","Direkt","Y-transz1"]
[{"$f":"ab_számláló!$A$2+ab_számláló!B619","v":7579},"Nyugat-Dunántúl",2020,{"$f":"'2015_régi'!$AE$1","v":"Tüdő-gyógyászat"},"Becslés",{"$f":"'2020'!AB203","v":1012683.6},"Pontszám","Direkt","Y-transz1"]
[{"$f":"ab_számláló!$A$2+ab_számláló!B620","v":7580},"Baranya",2020,{"$f":"'2015_régi'!$AE$1","v":"Tüdő-gyógyászat"},"Becslés",{"$f":"'2020'!AB204","v":1016562.2},"Pontszám","Direkt","Y-transz1"]
[{"$f":"ab_számláló!$A$2+ab_számláló!B621","v":7581},"Somogy",2020,{"$f":"'2015_régi'!$AE$1","v":"Tüdő-gyógyászat"},"Becslés",{"$f":"'2020'!AB205","v":1014659.9},"Pontszám","Direkt","Y-transz1"]
[{"$f":"ab_számláló!$A$2+ab_számláló!B622","v":7582},"Tolna",2020,{"$f":"'2015_régi'!$AE$1","v":"Tüdő-gyógyászat"},"Becslés",{"$f":"'2020'!AB206","v":1015196.5},"Pontszám","Direkt","Y-transz1"]
[{"$f":"ab_számláló!$A$2+ab_számláló!B623","v":7583},"Dél-Dunántúl",2020,{"$f":"'2015_régi'!$AE$1","v":"Tüdő-gyógyászat"},"Becslés",{"$f":"'2020'!AB207","v":1015573.1},"Pontszám","Direkt","Y-transz1"]
[{"$f":"ab_számláló!$A$2+ab_számláló!B624","v":7584},"Dunántúl",2020,{"$f":"'2015_régi'!$AE$1","v":"Tüdő-gyógyászat"},"Becslés",{"$f":"'2020'!AB208","v":1013687.8},"Pontszám","Direkt","Y-transz1"]
[{"$f":"ab_számláló!$A$2+ab_számláló!B625","v":7585},"Borsod-Abaúj-Zemplén",2020,{"$f":"'2015_régi'!$AE$1","v":"Tüdő-gyógyászat"},"Becslés",{"$f":"'2020'!AB209","v":1022376},"Pontszám","Direkt","Y-transz1"]
[{"$f":"ab_számláló!$A$2+ab_számláló!B626","v":7586},"Heves",2020,{"$f":"'2015_régi'!$AE$1","v":"Tüdő-gyógyászat"},"Becslés",{"$f":"'2020'!AB210","v":1016570.2},"Pontszám","Direkt","Y-transz1"]
[{"$f":"ab_számláló!$A$2+ab_számláló!B627","v":7587},"Nógrád",2020,{"$f":"'2015_régi'!$AE$1","v":"Tüdő-gyógyászat"},"Becslés",{"$f":"'2020'!AB211","v":1012824.7},"Pontszám","Direkt","Y-transz1"]
[{"$f":"ab_számláló!$A$2+ab_számláló!B628","v":7588},"Észak-Magyarország",2020,{"$f":"'2015_régi'!$AE$1","v":"Tüdő-gyógyászat"},"Becslés",{"$f":"'2020'!AB212","v":1016930.3},"Pontszám","Direkt","Y-transz1"]
[{"$f":"ab_számláló!$A$2+ab_számláló!B629","v":7589},"Hajdú-Bihar",2020,{"$f":"'2015_régi'!$AE$1","v":"Tüdő-gyógyászat"},"Becslés",{"$f":"'2020'!AB213","v":1016299.2},"Pontszám","Direkt","Y-transz1"]
[{"$f":"ab_számláló!$A$2+ab_számláló!B630","v":7590},"Jász-Nagykun-Szolnok",2020,{"$f":"'2015_régi'!$AE$1","v":"Tüdő-gyógyászat"},"Becslés",{"$f":"'2020'!AB214","v":1018790.5},"Pontszám","Direkt","Y-transz1"]
[{"$f":"ab_számláló!$A$2+ab_számláló!B631","v":7591},"Szabolcs-Szatmár-Bereg",2020,{"$f":"'2015_régi'!$AE$1","v":"Tüdő-gyógyászat"},"Becslés",{"$f":"'2020'!AB215","v":1016299.2},"Pontszám","Direkt","Y-transz1"]
[{"$f":"ab_számláló!$A$2+ab_számláló!B632","v":7592},"Észak-Alföld",2020,{"$f":"'2015_régi'!$AE$1","v":"Tüdő-gyógyászat"},"Becslés",{"$f":"'2020'!AB216","v":1016988.3},"Pontszám","Direkt","Y-transz1"]
[{"$f":"ab_számláló!$A$2+ab_számláló!B633","v":7593},"Bács-Kiskun",2020,{"$f":"'2015_régi'!$AE$1","v":"Tüdő-gyógyászat"},"Becslés",{"$f":"'2020'!AB217","v":1011195.9},"Pontszám","Direkt","Y-transz1"]
[{"$f":"ab_számláló!$A$2+ab_számláló!B634","v":7594},"Békés",2020,{"$f":"'2015_régi'!$AE$1","v":"Tüdő-gyógyászat"},"Becslés",{"$f":"'2020'!AB218","v":1016995.3},"Pontszám","Direkt","Y-transz1"]
[{"$f":"ab_számláló!$A$2+ab_számláló!B635","v":7595},"Csongrád-Csanád",2020,{"$f":"'2015_régi'!$AE$1","v":"Tüdő-gyógyászat"},"Becslés",{"$f":"'2020'!AB219","v":1011170.4},"Pontszám","Direkt","Y-transz1"]
[{"$f":"ab_számláló!$A$2+ab_számláló!B636","v":7596},"Dél-Alföld",2020,{"$f":"'2015_régi'!$AE$1","v":"Tüdő-gyógyászat"},"Becslés",{"$f":"'2020'!AB220","v":1012744.7},"Pontszám","Direkt","Y-transz1"]
[{"$f":"ab_számláló!$A$2+ab_számláló!B637","v":7597},"Alföld és Észak",2020,{"$f":"'2015_régi'!$AE$1","v":"Tüdő-gyógyászat"},"Becslés",{"$f":"'2020'!AB221","v":1016277.2},"Pontszám","Direkt","Y-transz1"]
[{"$f":"ab_számláló!$A$2+ab_számláló!B638","v":7598},"Ország összesen",2020,{"$f":"'2015_régi'!$AE$1","v":"Tüdő-gyógyászat"},"Becslés",{"$f":"'2020'!AB222","v":1016634.2},"Pontszám","Direkt","Y-transz1"]
[{"$f":"ab_számláló!$A$2+ab_számláló!B639","v":7599},"Budapest + Pest",2020,{"$f":"'2015_régi'!$AE$1","v":"Tüdő-gyógyászat"},"Delta",{"$f":"'2020'!AD194","v":-146.69999999999999},"Pontszám","Direkt","Y-transz1"]
[{"$f":"ab_számláló!$A$2+ab_számláló!B640","v":7600},"Közép-Magyarország",2020,{"$f":"'2015_régi'!$AE$1","v":"Tüdő-gyógyászat"},"Delta",{"$f":"'2020'!AD195","v":-146.69999999999999},"Pontszám","Direkt","Y-transz1"]
[{"$f":"ab_számláló!$A$2+ab_számláló!B641","v":7601},"Fejér",2020,{"$f":"'2015_régi'!$AE$1","v":"Tüdő-gyógyászat"},"Delta",{"$f":"'2020'!AD196","v":320.89999999999998},"Pontszám","Direkt","Y-transz1"]
[{"$f":"ab_számláló!$A$2+ab_számláló!B642","v":7602},"Komárom-Esztergom",2020,{"$f":"'2015_régi'!$AE$1","v":"Tüdő-gyógyászat"},"Delta",{"$f":"'2020'!AD197","v":-145.69999999999999},"Pontszám","Direkt","Y-transz1"]
[{"$f":"ab_számláló!$A$2+ab_számláló!B643","v":7603},"Veszprém",2020,{"$f":"'2015_régi'!$AE$1","v":"Tüdő-gyógyászat"},"Delta",{"$f":"'2020'!AD198","v":-145.80000000000001},"Pontszám","Direkt","Y-transz1"]
[{"$f":"ab_számláló!$A$2+ab_számláló!B644","v":7604},"Közép-Dunántúl",2020,{"$f":"'2015_régi'!$AE$1","v":"Tüdő-gyógyászat"},"Delta",{"$f":"'2020'!AD199","v":-145.69999999999999},"Pontszám","Direkt","Y-transz1"]
[{"$f":"ab_számláló!$A$2+ab_számláló!B645","v":7605},"Győr-Moson-Sopron",2020,{"$f":"'2015_régi'!$AE$1","v":"Tüdő-gyógyászat"},"Delta",{"$f":"'2020'!AD200","v":-145.4},"Pontszám","Direkt","Y-transz1"]
[{"$f":"ab_számláló!$A$2+ab_számláló!B646","v":7606},"Vas",2020,{"$f":"'2015_régi'!$AE$1","v":"Tüdő-gyógyászat"},"Delta",{"$f":"'2020'!AD201","v":1305},"Pontszám","Direkt","Y-transz1"]
[{"$f":"ab_számláló!$A$2+ab_számláló!B647","v":7607},"Zala",2020,{"$f":"'2015_régi'!$AE$1","v":"Tüdő-gyógyászat"},"Delta",{"$f":"'2020'!AD202","v":-146},"Pontszám","Direkt","Y-transz1"]
[{"$f":"ab_számláló!$A$2+ab_számláló!B648","v":7608},"Nyugat-Dunántúl",2020,{"$f":"'2015_régi'!$AE$1","v":"Tüdő-gyógyászat"},"Delta",{"$f":"'2020'!AD203","v":-145.6},"Pontszám","Direkt","Y-transz1"]
[{"$f":"ab_számláló!$A$2+ab_számláló!B649","v":7609},"Baranya",2020,{"$f":"'2015_régi'!$AE$1","v":"Tüdő-gyógyászat"},"Delta",{"$f":"'2020'!AD204","v":-146.19999999999999},"Pontszám","Direkt","Y-transz1"]
[{"$f":"ab_számláló!$A$2+ab_számláló!B650","v":7610},"Somogy",2020,{"$f":"'2015_régi'!$AE$1","v":"Tüdő-gyógyászat"},"Delta",{"$f":"'2020'!AD205","v":-145.9},"Pontszám","Direkt","Y-transz1"]
[{"$f":"ab_számláló!$A$2+ab_számláló!B651","v":7611},"Tolna",2020,{"$f":"'2015_régi'!$AE$1","v":"Tüdő-gyógyászat"},"Delta",{"$f":"'2020'!AD206","v":-145.5},"Pontszám","Direkt","Y-transz1"]
[{"$f":"ab_számláló!$A$2+ab_számláló!B652","v":7612},"Dél-Dunántúl",2020,{"$f":"'2015_régi'!$AE$1","v":"Tüdő-gyógyászat"},"Delta",{"$f":"'2020'!AD207","v":-146.1},"Pontszám","Direkt","Y-transz1"]
[{"$f":"ab_számláló!$A$2+ab_számláló!B653","v":7613},"Dunántúl",2020,{"$f":"'2015_régi'!$AE$1","v":"Tüdő-gyógyászat"},"Delta",{"$f":"'2020'!AD208","v":-145.80000000000001},"Pontszám","Direkt","Y-transz1"]
[{"$f":"ab_számláló!$A$2+ab_számláló!B654","v":7614},"Borsod-Abaúj-Zemplén",2020,{"$f":"'2015_régi'!$AE$1","v":"Tüdő-gyógyászat"},"Delta",{"$f":"'2020'!AD209","v":-147},"Pontszám","Direkt","Y-transz1"]
[{"$f":"ab_számláló!$A$2+ab_számláló!B655","v":7615},"Heves",2020,{"$f":"'2015_régi'!$AE$1","v":"Tüdő-gyógyászat"},"Delta",{"$f":"'2020'!AD210","v":-146.19999999999999},"Pontszám","Direkt","Y-transz1"]
[{"$f":"ab_számláló!$A$2+ab_számláló!B656","v":7616},"Nógrád",2020,{"$f":"'2015_régi'!$AE$1","v":"Tüdő-gyógyászat"},"Delta",{"$f":"'2020'!AD211","v":-145.69999999999999},"Pontszám","Direkt","Y-transz1"]
[{"$f":"ab_számláló!$A$2+ab_számláló!B657","v":7617},"Észak-Magyarország",2020,{"$f":"'2015_régi'!$AE$1","v":"Tüdő-gyógyászat"},"Delta",{"$f":"'2020'!AD212","v":2169.6999999999998},"Pontszám","Direkt","Y-transz1"]
[{"$f":"ab_számláló!$A$2+ab_számláló!B658","v":7618},"Hajdú-Bihar",2020,{"$f":"'2015_régi'!$AE$1","v":"Tüdő-gyógyászat"},"Delta",{"$f":"'2020'!AD213","v":-3757.2},"Pontszám","Direkt","Y-transz1"]
[{"$f":"ab_számláló!$A$2+ab_számláló!B659","v":7619},"Jász-Nagykun-Szolnok",2020,{"$f":"'2015_régi'!$AE$1","v":"Tüdő-gyógyászat"},"Delta",{"$f":"'2020'!AD214","v":-146.5},"Pontszám","Direkt","Y-transz1"]
[{"$f":"ab_számláló!$A$2+ab_számláló!B660","v":7620},"Szabolcs-Szatmár-Bereg",2020,{"$f":"'2015_régi'!$AE$1","v":"Tüdő-gyógyászat"},"Delta",{"$f":"'2020'!AD215","v":3464.8},"Pontszám","Direkt","Y-transz1"]
[{"$f":"ab_számláló!$A$2+ab_számláló!B661","v":7621},"Észak-Alföld",2020,{"$f":"'2015_régi'!$AE$1","v":"Tüdő-gyógyászat"},"Delta",{"$f":"'2020'!AD216","v":-146.30000000000001},"Pontszám","Direkt","Y-transz1"]
[{"$f":"ab_számláló!$A$2+ab_számláló!B662","v":7622},"Bács-Kiskun",2020,{"$f":"'2015_régi'!$AE$1","v":"Tüdő-gyógyászat"},"Delta",{"$f":"'2020'!AD217","v":-144.9},"Pontszám","Direkt","Y-transz1"]
[{"$f":"ab_számláló!$A$2+ab_számláló!B663","v":7623},"Békés",2020,{"$f":"'2015_régi'!$AE$1","v":"Tüdő-gyógyászat"},"Delta",{"$f":"'2020'!AD218","v":-146.30000000000001},"Pontszám","Direkt","Y-transz1"]
[{"$f":"ab_számláló!$A$2+ab_számláló!B664","v":7624},"Csongrád-Csanád",2020,{"$f":"'2015_régi'!$AE$1","v":"Tüdő-gyógyászat"},"Delta",{"$f":"'2020'!AD219","v":-145.4},"Pontszám","Direkt","Y-transz1"]
[{"$f":"ab_számláló!$A$2+ab_számláló!B665","v":7625},"Dél-Alföld",2020,{"$f":"'2015_régi'!$AE$1","v":"Tüdő-gyógyászat"},"Delta",{"$f":"'2020'!AD220","v":-145.69999999999999},"Pontszám","Direkt","Y-transz1"]
[{"$f":"ab_számláló!$A$2+ab_számláló!B666","v":7626},"Alföld és Észak",2020,{"$f":"'2015_régi'!$AE$1","v":"Tüdő-gyógyászat"},"Delta",{"$f":"'2020'!AD221","v":-146.19999999999999},"Pontszám","Direkt","Y-transz1"]
[{"$f":"ab_számláló!$A$2+ab_számláló!B667","v":7627},"Ország összesen",2020,{"$f":"'2015_régi'!$AE$1","v":"Tüdő-gyógyászat"},"Delta",{"$f":"'2020'!AD222","v":-146.19999999999999},"Pontszám","Direkt","Y-transz1"]
[{"$f":"ab_számláló!$A$2+ab_számláló!B668","v":7628},"Budapest + Pest",2020,{"$f":"'2015_régi'!$AE$1","v":"Tüdő-gyógyászat"},"Delta/Tény",{"$f":"'2020'!AE194","v":-0.01},"%","Direkt","Y-transz1"]
[{"$f":"ab_számláló!$A$2+ab_számláló!B669","v":7629},"Közép-Magyarország",2020,{"$f":"'2015_régi'!$AE$1","v":"Tüdő-gyógyászat"},"Delta/Tény",{"$f":"'2020'!AE195","v":-0.01},"%","Direkt","Y-transz1"]
[{"$f":"ab_számláló!$A$2+ab_számláló!B670","v":7630},"Fejér",2020,{"$f":"'2015_régi'!$AE$1","v":"Tüdő-gyógyászat"},"Delta/Tény",{"$f":"'2020'!AE196","v":0.03},"%","Direkt","Y-transz1"]
[{"$f":"ab_számláló!$A$2+ab_számláló!B671","v":7631},"Komárom-Esztergom",2020,{"$f":"'2015_régi'!$AE$1","v":"Tüdő-gyógyászat"},"Delta/Tény",{"$f":"'2020'!AE197","v":-0.01},"%","Direkt","Y-transz1"]
[{"$f":"ab_számláló!$A$2+ab_számláló!B672","v":7632},"Veszprém",2020,{"$f":"'2015_régi'!$AE$1","v":"Tüdő-gyógyászat"},"Delta/Tény",{"$f":"'2020'!AE198","v":-0.01},"%","Direkt","Y-transz1"]
[{"$f":"ab_számláló!$A$2+ab_számláló!B673","v":7633},"Közép-Dunántúl",2020,{"$f":"'2015_régi'!$AE$1","v":"Tüdő-gyógyászat"},"Delta/Tény",{"$f":"'2020'!AE199","v":-0.01},"%","Direkt","Y-transz1"]
[{"$f":"ab_számláló!$A$2+ab_számláló!B674","v":7634},"Győr-Moson-Sopron",2020,{"$f":"'2015_régi'!$AE$1","v":"Tüdő-gyógyászat"},"Delta/Tény",{"$f":"'2020'!AE200","v":-0.01},"%","Direkt","Y-transz1"]
[{"$f":"ab_számláló!$A$2+ab_számláló!B675","v":7635},"Vas",2020,{"$f":"'2015_régi'!$AE$1","v":"Tüdő-gyógyászat"},"Delta/Tény",{"$f":"'2020'!AE201","v":0.13},"%","Direkt","Y-transz1"]
[{"$f":"ab_számláló!$A$2+ab_számláló!B676","v":7636},"Zala",2020,{"$f":"'2015_régi'!$AE$1","v":"Tüdő-gyógyászat"},"Delta/Tény",{"$f":"'2020'!AE202","v":-0.01},"%","Direkt","Y-transz1"]
[{"$f":"ab_számláló!$A$2+ab_számláló!B677","v":7637},"Nyugat-Dunántúl",2020,{"$f":"'2015_régi'!$AE$1","v":"Tüdő-gyógyászat"},"Delta/Tény",{"$f":"'2020'!AE203","v":-0.01},"%","Direkt","Y-transz1"]
[{"$f":"ab_számláló!$A$2+ab_számláló!B678","v":7638},"Baranya",2020,{"$f":"'2015_régi'!$AE$1","v":"Tüdő-gyógyászat"},"Delta/Tény",{"$f":"'2020'!AE204","v":-0.01},"%","Direkt","Y-transz1"]
[{"$f":"ab_számláló!$A$2+ab_számláló!B679","v":7639},"Somogy",2020,{"$f":"'2015_régi'!$AE$1","v":"Tüdő-gyógyászat"},"Delta/Tény",{"$f":"'2020'!AE205","v":-0.01},"%","Direkt","Y-transz1"]
[{"$f":"ab_számláló!$A$2+ab_számláló!B680","v":7640},"Tolna",2020,{"$f":"'2015_régi'!$AE$1","v":"Tüdő-gyógyászat"},"Delta/Tény",{"$f":"'2020'!AE206","v":-0.01},"%","Direkt","Y-transz1"]
[{"$f":"ab_számláló!$A$2+ab_számláló!B681","v":7641},"Dél-Dunántúl",2020,{"$f":"'2015_régi'!$AE$1","v":"Tüdő-gyógyászat"},"Delta/Tény",{"$f":"'2020'!AE207","v":-0.01},"%","Direkt","Y-transz1"]
[{"$f":"ab_számláló!$A$2+ab_számláló!B682","v":7642},"Dunántúl",2020,{"$f":"'2015_régi'!$AE$1","v":"Tüdő-gyógyászat"},"Delta/Tény",{"$f":"'2020'!AE208","v":-0.01},"%","Direkt","Y-transz1"]
[{"$f":"ab_számláló!$A$2+ab_számláló!B683","v":7643},"Borsod-Abaúj-Zemplén",2020,{"$f":"'2015_régi'!$AE$1","v":"Tüdő-gyógyászat"},"Delta/Tény",{"$f":"'2020'!AE209","v":-0.01},"%","Direkt","Y-transz1"]
[{"$f":"ab_számláló!$A$2+ab_számláló!B684","v":7644},"Heves",2020,{"$f":"'2015_régi'!$AE$1","v":"Tüdő-gyógyászat"},"Delta/Tény",{"$f":"'2020'!AE210","v":-0.01},"%","Direkt","Y-transz1"]
[{"$f":"ab_számláló!$A$2+ab_számláló!B685","v":7645},"Nógrád",2020,{"$f":"'2015_régi'!$AE$1","v":"Tüdő-gyógyászat"},"Delta/Tény",{"$f":"'2020'!AE211","v":-0.01},"%","Direkt","Y-transz1"]
[{"$f":"ab_számláló!$A$2+ab_számláló!B686","v":7646},"Észak-Magyarország",2020,{"$f":"'2015_régi'!$AE$1","v":"Tüdő-gyógyászat"},"Delta/Tény",{"$f":"'2020'!AE212","v":0.21},"%","Direkt","Y-transz1"]
[{"$f":"ab_számláló!$A$2+ab_számláló!B687","v":7647},"Hajdú-Bihar",2020,{"$f":"'2015_régi'!$AE$1","v":"Tüdő-gyógyászat"},"Delta/Tény",{"$f":"'2020'!AE213","v":-0.37},"%","Direkt","Y-transz1"]
[{"$f":"ab_számláló!$A$2+ab_számláló!B688","v":7648},"Jász-Nagykun-Szolnok",2020,{"$f":"'2015_régi'!$AE$1","v":"Tüdő-gyógyászat"},"Delta/Tény",{"$f":"'2020'!AE214","v":-0.01},"%","Direkt","Y-transz1"]
[{"$f":"ab_számláló!$A$2+ab_számláló!B689","v":7649},"Szabolcs-Szatmár-Bereg",2020,{"$f":"'2015_régi'!$AE$1","v":"Tüdő-gyógyászat"},"Delta/Tény",{"$f":"'2020'!AE215","v":0.34},"%","Direkt","Y-transz1"]
[{"$f":"ab_számláló!$A$2+ab_számláló!B690","v":7650},"Észak-Alföld",2020,{"$f":"'2015_régi'!$AE$1","v":"Tüdő-gyógyászat"},"Delta/Tény",{"$f":"'2020'!AE216","v":-0.01},"%","Direkt","Y-transz1"]
[{"$f":"ab_számláló!$A$2+ab_számláló!B691","v":7651},"Bács-Kiskun",2020,{"$f":"'2015_régi'!$AE$1","v":"Tüdő-gyógyászat"},"Delta/Tény",{"$f":"'2020'!AE217","v":-0.01},"%","Direkt","Y-transz1"]
[{"$f":"ab_számláló!$A$2+ab_számláló!B692","v":7652},"Békés",2020,{"$f":"'2015_régi'!$AE$1","v":"Tüdő-gyógyászat"},"Delta/Tény",{"$f":"'2020'!AE218","v":-0.01},"%","Direkt","Y-transz1"]
[{"$f":"ab_számláló!$A$2+ab_számláló!B693","v":7653},"Csongrád-Csanád",2020,{"$f":"'2015_régi'!$AE$1","v":"Tüdő-gyógyászat"},"Delta/Tény",{"$f":"'2020'!AE219","v":-0.01},"%","Direkt","Y-transz1"]
[{"$f":"ab_számláló!$A$2+ab_számláló!B694","v":7654},"Dél-Alföld",2020,{"$f":"'2015_régi'!$AE$1","v":"Tüdő-gyógyászat"},"Delta/Tény",{"$f":"'2020'!AE220","v":-0.01},"%","Direkt","Y-transz1"]
[{"$f":"ab_számláló!$A$2+ab_számláló!B695","v":7655},"Alföld és Észak",2020,{"$f":"'2015_régi'!$AE$1","v":"Tüdő-gyógyászat"},"Delta/Tény",{"$f":"'2020'!AE221","v":-0.01},"%","Direkt","Y-transz1"]
[{"$f":"ab_számláló!$A$2+ab_számláló!B696","v":7656},"Ország összesen",2020,{"$f":"'2015_régi'!$AE$1","v":"Tüdő-gyógyászat"},"Delta/Tény",{"$f":"'2020'!AE222","v":-0.01},"%","Direkt","Y-transz1"]

{"sheet":"2015_régi","index":3,"n_rows":236,"n_cols":33,"rows_kept":236,"cut":false,"hidden":false,"merged":[]}
[{"$f":"nyers_adat!A1","v":"Területi egység neve"},{"$f":"nyers_adat!B1","v":"Területi egység szintje"},{"$f":"nyers_adat!C1","v":"Év"},{"$f":"nyers_adat!D1","v":"Lakosság"},{"$f":"nyers_adat!E1","v":"Belgyógyászat"},{"$f":"nyers_adat!F1","v":"Sebészet"},{"$f":"nyers_adat!G1","v":"Baleseti sebészet"},{"$f":"nyers_adat!H1","v":"Szülészet és nőgyógyászat"},{"$f":"nyers_adat!I1","v":"Csecsemő- és gyermek-gyógyászat"},{"$f":"nyers_adat!J1","v":"Fül-orr-gégészet"},{"$f":"nyers_adat!K1","v":"Szemészet"},{"$f":"nyers_adat!L1","v":"Bőrgyógyászat és nemibeteg-ellátás"},{"$f":"nyers_adat!M1","v":"Neurológia"},{"$f":"nyers_adat!N1","v":"Ortopédia"},{"$f":"nyers_adat!O1","v":"Urológia"},{"$f":"nyers_adat!P1","v":"Onkológia"},{"$f":"nyers_adat!Q1","v":"Fogászat"},{"$f":"nyers_adat!R1","v":"Reumatológia"},{"$f":"nyers_adat!S1","v":"Aneszteziológiai és intenzív betegellátás"},{"$f":"nyers_adat!T1","v":"Pszichiátria"},{"$f":"nyers_adat!U1","v":"Nukleáris medicina (izotóp-diagnosztika és \n-terápia)"},{"$f":"nyers_adat!V1","v":"Fizioterápia"},{"$f":"nyers_adat!W1","v":"Patológia és kórszövettan"},{"$f":"nyers_adat!X1","v":"Ultrahang-diagnosztika és -terápia"},{"$f":"nyers_adat!Y1","v":"Tomográfia"},{"$f":"nyers_adat!Z1","v":"Röntgen-diagnosztika és -terápia"},{"$f":"nyers_adat!AA1","v":"Laboratóriumi diagnosztika"},{"$f":"nyers_adat!AB1","v":"Sürgősségi betegellátás, oxyológia"},{"$f":"nyers_adat!AC1","v":"Kardiológia"},{"$f":"nyers_adat!AD1","v":"Orvosi rehabilitáció"},{"$f":"nyers_adat!AE1","v":"Tüdő-gyógyászat"}]
[{"$f":"nyers_adat!A2","v":"Budapest + Pest"},{"$f":"nyers_adat!B2","v":"főváros, régió + megye, régió"},{"$f":"nyers_adat!C2","v":2015},{"$f":"nyers_adat!D2","v":2983733},{"$f":"nyers_adat!E2","v":1450019.9999999995},{"$f":"nyers_adat!F2","v":1082978.0000000002},{"$f":"nyers_adat!G2","v":507858.99999999994},{"$f":"nyers_adat!H2","v":1067647.9999999998},{"$f":"nyers_adat!I2","v":580747.00000000012},{"$f":"nyers_adat!J2","v":877184},{"$f":"nyers_adat!K2","v":932251.99999999977},{"$f":"nyers_adat!L2","v":777292.99999999988},{"$f":"nyers_adat!M2","v":458156.99999999983},{"$f":"nyers_adat!N2","v":450466.99999999988},{"$f":"nyers_adat!O2","v":592805},{"$f":"nyers_adat!P2","v":364592},{"$f":"nyers_adat!Q2","v":2277599.0000000061},{"$f":"nyers_adat!R2","v":1193040.0000000005},{"$f":"nyers_adat!S2","v":115043.99999999999},{"$f":"nyers_adat!T2","v":840021},{"$f":"nyers_adat!U2","v":75220},{"$f":"nyers_adat!V2","v":2377062.0000000009},{"$f":"nyers_adat!W2","v":377570.00000000006},{"$f":"nyers_adat!X2","v":631520},{"$f":"nyers_adat!Y2","v":266503.00000000017},{"$f":"nyers_adat!Z2","v":1301911.9999999995},{"$f":"nyers_adat!AA2","v":5634850.0000000009},{"$f":"nyers_adat!AB2","v":236332},{"$f":"nyers_adat!AC2","v":854074.00000000023},{"$f":"nyers_adat!AD2","v":187816},{"$f":"nyers_adat!AE2","v":850058.99999999988}]
[{"$f":"nyers_adat!A3","v":"Közép-Magyarország"},{"$f":"nyers_adat!B3","v":"nagyrégió"},{"$f":"nyers_adat!C3","v":2015},{"$f":"nyers_adat!D3","v":2983733},{"$f":"nyers_adat!E3","v":1450019.9999999995},{"$f":"nyers_adat!F3","v":1082978.0000000002},{"$f":"nyers_adat!G3","v":507858.99999999994},{"$f":"nyers_adat!H3","v":1067647.9999999998},{"$f":"nyers_adat!I3","v":580747.00000000012},{"$f":"nyers_adat!J3","v":877184},{"$f":"nyers_adat!K3","v":932251.99999999977},{"$f":"nyers_adat!L3","v":777292.99999999988},{"$f":"nyers_adat!M3","v":458156.99999999983},{"$f":"nyers_adat!N3","v":450466.99999999988},{"$f":"nyers_adat!O3","v":592805},{"$f":"nyers_adat!P3","v":364592},{"$f":"nyers_adat!Q3","v":2277599.0000000061},{"$f":"nyers_adat!R3","v":1193040.0000000005},{"$f":"nyers_adat!S3","v":115043.99999999999},{"$f":"nyers_adat!T3","v":840021},{"$f":"nyers_adat!U3","v":75220},{"$f":"nyers_adat!V3","v":2377062.0000000009},{"$f":"nyers_adat!W3","v":377570.00000000006},{"$f":"nyers_adat!X3","v":631520},{"$f":"nyers_adat!Y3","v":266503.00000000017},{"$f":"nyers_adat!Z3","v":1301911.9999999995},{"$f":"nyers_adat!AA3","v":5634850.0000000009},{"$f":"nyers_adat!AB3","v":236332},{"$f":"nyers_adat!AC3","v":854074.00000000023},{"$f":"nyers_adat!AD3","v":187816},{"$f":"nyers_adat!AE3","v":850058.99999999988}]
[{"$f":"nyers_adat!A4","v":"Fejér"},{"$f":"nyers_adat!B4","v":"megye"},{"$f":"nyers_adat!C4","v":2015},{"$f":"nyers_adat!D4","v":417651},{"$f":"nyers_adat!E4","v":132980.99999999997},{"$f":"nyers_adat!F4","v":85280},{"$f":"nyers_adat!G4","v":66207},{"$f":"nyers_adat!H4","v":114687},{"$f":"nyers_adat!I4","v":55903.000000000007},{"$f":"nyers_adat!J4","v":87168},{"$f":"nyers_adat!K4","v":82020},{"$f":"nyers_adat!L4","v":48480},{"$f":"nyers_adat!M4","v":42849},{"$f":"nyers_adat!N4","v":38893},{"$f":"nyers_adat!O4","v":39824},{"$f":"nyers_adat!P4","v":23715},{"$f":"nyers_adat!Q4","v":305840.99999999977},{"$f":"nyers_adat!R4","v":91512},{"$f":"nyers_adat!S4","v":15595},{"$f":"nyers_adat!T4","v":59382},{"$f":"nyers_adat!U4","v":2780},{"$f":"nyers_adat!V4","v":283759},{"$f":"nyers_adat!W4","v":38200},{"$f":"nyers_adat!X4","v":93169.999999999985},{"$f":"nyers_adat!Y4","v":27226.000000000011},{"$f":"nyers_adat!Z4","v":171945.00000000003},{"$f":"nyers_adat!AA4","v":491099},{"$f":"nyers_adat!AB4","v":76534},{"$f":"nyers_adat!AC4","v":56241},{"$f":"nyers_adat!AD4","v":3949},{"$f":"nyers_adat!AE4","v":75649}]
[{"$f":"nyers_adat!A5","v":"Komárom-Esztergom"},{"$f":"nyers_adat!B5","v":"megye"},{"$f":"nyers_adat!C5","v":2015},{"$f":"nyers_adat!D5","v":299110},{"$f":"nyers_adat!E5","v":94376.000000000015},{"$f":"nyers_adat!F5","v":77843},{"$f":"nyers_adat!G5","v":40451},{"$f":"nyers_adat!H5","v":83260},{"$f":"nyers_adat!I5","v":32636.000000000007},{"$f":"nyers_adat!J5","v":52186.999999999985},{"$f":"nyers_adat!K5","v":59931},{"$f":"nyers_adat!L5","v":57521.999999999985},{"$f":"nyers_adat!M5","v":34038},{"$f":"nyers_adat!N5","v":18170},{"$f":"nyers_adat!O5","v":39174},{"$f":"nyers_adat!P5","v":13464},{"$f":"nyers_adat!Q5","v":174687},{"$f":"nyers_adat!R5","v":83210.999999999985},{"$f":"nyers_adat!S5","v":6408},{"$f":"nyers_adat!T5","v":52396.999999999993},{"$f":"nyers_adat!U5","v":6872},{"$f":"nyers_adat!V5","v":279466},{"$f":"nyers_adat!W5","v":25865},{"$f":"nyers_adat!X5","v":50900.000000000007},{"$f":"nyers_adat!Y5","v":12958.000000000002},{"$f":"nyers_adat!Z5","v":116594},{"$f":"nyers_adat!AA5","v":285110},{"$f":"nyers_adat!AB5","v":21054},{"$f":"nyers_adat!AC5","v":33780},{"$f":"nyers_adat!AD5","v":2696},{"$f":"nyers_adat!AE5","v":55034.000000000007}]
[{"$f":"nyers_adat!A6","v":"Veszprém"},{"$f":"nyers_adat!B6","v":"megye"},{"$f":"nyers_adat!C6","v":2015},{"$f":"nyers_adat!D6","v":346647},{"$f":"nyers_adat!E6","v":98343.999999999985},{"$f":"nyers_adat!F6","v":75132.999999999985},{"$f":"nyers_adat!G6","v":76607},{"$f":"nyers_adat!H6","v":86158},{"$f":"nyers_adat!I6","v":33382},{"$f":"nyers_adat!J6","v":70424.000000000015},{"$f":"nyers_adat!K6","v":73804.999999999985},{"$f":"nyers_adat!L6","v":41633},{"$f":"nyers_adat!M6","v":35646},{"$f":"nyers_adat!N6","v":12264},{"$f":"nyers_adat!O6","v":43937.000000000007},{"$f":"nyers_adat!P6","v":19842},{"$f":"nyers_adat!Q6","v":234783.00000000041},{"$f":"nyers_adat!R6","v":100689.00000000001},{"$f":"nyers_adat!S6","v":13310},{"$f":"nyers_adat!T6","v":73811},{"$f":"nyers_adat!U6","v":3849},{"$f":"nyers_adat!V6","v":249121.99999999997},{"$f":"nyers_adat!W6","v":28687},{"$f":"nyers_adat!X6","v":63837},{"$f":"nyers_adat!Y6","v":26771.999999999993},{"$f":"nyers_adat!Z6","v":116375.00000000001},{"$f":"nyers_adat!AA6","v":303367},{"$f":"nyers_adat!AB6","v":27950},{"$f":"nyers_adat!AC6","v":49327},{"$f":"nyers_adat!AD6","v":33310},{"$f":"nyers_adat!AE6","v":80698}]
[{"$f":"nyers_adat!A7","v":"Közép-Dunántúl"},{"$f":"nyers_adat!B7","v":"régió"},{"$f":"nyers_adat!C7","v":2015},{"$f":"nyers_adat!D7","v":1063408},{"$f":"nyers_adat!E7","v":325701},{"$f":"nyers_adat!F7","v":238256},{"$f":"nyers_adat!G7","v":183265},{"$f":"nyers_adat!H7","v":284105},{"$f":"nyers_adat!I7","v":121921.00000000001},{"$f":"nyers_adat!J7","v":209779},{"$f":"nyers_adat!K7","v":215756},{"$f":"nyers_adat!L7","v":147635},{"$f":"nyers_adat!M7","v":112533},{"$f":"nyers_adat!N7","v":69327},{"$f":"nyers_adat!O7","v":122935},{"$f":"nyers_adat!P7","v":57021},{"$f":"nyers_adat!Q7","v":715311.00000000023},{"$f":"nyers_adat!R7","v":275412},{"$f":"nyers_adat!S7","v":35313},{"$f":"nyers_adat!T7","v":185590},{"$f":"nyers_adat!U7","v":13501},{"$f":"nyers_adat!V7","v":812347},{"$f":"nyers_adat!W7","v":92752},{"$f":"nyers_adat!X7","v":207907},{"$f":"nyers_adat!Y7","v":66956},{"$f":"nyers_adat!Z7","v":404914},{"$f":"nyers_adat!AA7","v":1079576},{"$f":"nyers_adat!AB7","v":125538},{"$f":"nyers_adat!AC7","v":139348},{"$f":"nyers_adat!AD7","v":39955},{"$f":"nyers_adat!AE7","v":211381}]
[{"$f":"nyers_adat!A8","v":"Győr-Moson-Sopron"},{"$f":"nyers_adat!B8","v":"megye"},{"$f":"nyers_adat!C8","v":2015},{"$f":"nyers_adat!D8","v":452638},{"$f":"nyers_adat!E8","v":108315.99999999997},{"$f":"nyers_adat!F8","v":96452.000000000015},{"$f":"nyers_adat!G8","v":89881},{"$f":"nyers_adat!H8","v":112753},{"$f":"nyers_adat!I8","v":50444.000000000007},{"$f":"nyers_adat!J8","v":65810},{"$f":"nyers_adat!K8","v":74184},{"$f":"nyers_adat!L8","v":44490},{"$f":"nyers_adat!M8","v":40197},{"$f":"nyers_adat!N8","v":30036},{"$f":"nyers_adat!O8","v":63061},{"$f":"nyers_adat!P8","v":35983},{"$f":"nyers_adat!Q8","v":246390.00000000009},{"$f":"nyers_adat!R8","v":69679},{"$f":"nyers_adat!S8","v":11609},{"$f":"nyers_adat!T8","v":79205.000000000015},{"$f":"nyers_adat!U8","v":3790},{"$f":"nyers_adat!V8","v":279066},{"$f":"nyers_adat!W8","v":81727},{"$f":"nyers_adat!X8","v":77344},{"$f":"nyers_adat!Y8","v":38245.000000000007},{"$f":"nyers_adat!Z8","v":174996},{"$f":"nyers_adat!AA8","v":426304},{"$f":"nyers_adat!AB8","v":73743},{"$f":"nyers_adat!AC8","v":49228.999999999993},{"$f":"nyers_adat!AD8","v":6377},{"$f":"nyers_adat!AE8","v":66126}]
[{"$f":"nyers_adat!A9","v":"Vas"},{"$f":"nyers_adat!B9","v":"megye"},{"$f":"nyers_adat!C9","v":2015},{"$f":"nyers_adat!D9","v":253997},{"$f":"nyers_adat!E9","v":73943},{"$f":"nyers_adat!F9","v":52107},{"$f":"nyers_adat!G9","v":23755},{"$f":"nyers_adat!H9","v":62474},{"$f":"nyers_adat!I9","v":19633},{"$f":"nyers_adat!J9","v":41129},{"$f":"nyers_adat!K9","v":48222},{"$f":"nyers_adat!L9","v":29887},{"$f":"nyers_adat!M9","v":25530},{"$f":"nyers_adat!N9","v":10810},{"$f":"nyers_adat!O9","v":30609},{"$f":"nyers_adat!P9","v":28277.000000000004},{"$f":"nyers_adat!Q9","v":132193},{"$f":"nyers_adat!R9","v":76423},{"$f":"nyers_adat!S9","v":5745},{"$f":"nyers_adat!T9","v":31074},{"$f":"nyers_adat!U9","v":1191},{"$f":"nyers_adat!V9","v":126238},{"$f":"nyers_adat!W9","v":25108},{"$f":"nyers_adat!X9","v":21640},{"$f":"nyers_adat!Y9","v":19200.000000000004},{"$f":"nyers_adat!Z9","v":74795},{"$f":"nyers_adat!AA9","v":300301},{"$f":"nyers_adat!AB9","v":30228},{"$f":"nyers_adat!AC9","v":14479.999999999998},{"$f":"nyers_adat!AD9","v":12554},{"$f":"nyers_adat!AE9","v":43117}]
[{"$f":"nyers_adat!A10","v":"Zala"},{"$f":"nyers_adat!B10","v":"megye"},{"$f":"nyers_adat!C10","v":2015},{"$f":"nyers_adat!D10","v":277290},{"$f":"nyers_adat!E10","v":87999},{"$f":"nyers_adat!F10","v":44303},{"$f":"nyers_adat!G10","v":64629},{"$f":"nyers_adat!H10","v":65648},{"$f":"nyers_adat!I10","v":26406.000000000004},{"$f":"nyers_adat!J10","v":49058},{"$f":"nyers_adat!K10","v":59198},{"$f":"nyers_adat!L10","v":35181},{"$f":"nyers_adat!M10","v":35666.999999999993},{"$f":"nyers_adat!N10","v":31790},{"$f":"nyers_adat!O10","v":35801},{"$f":"nyers_adat!P10","v":22759},{"$f":"nyers_adat!Q10","v":174779.00000000009},{"$f":"nyers_adat!R10","v":89866},{"$f":"nyers_adat!S10","v":7460},{"$f":"nyers_adat!T10","v":34944.000000000007},{"$f":"nyers_adat!U10","v":2405},{"$f":"nyers_adat!V10","v":315907},{"$f":"nyers_adat!W10","v":26873},{"$f":"nyers_adat!X10","v":51036},{"$f":"nyers_adat!Y10","v":22958.000000000004},{"$f":"nyers_adat!Z10","v":91342},{"$f":"nyers_adat!AA10","v":373036},{"$f":"nyers_adat!AB10","v":28105},{"$f":"nyers_adat!AC10","v":42109},{"$f":"nyers_adat!AD10","v":13118.999999999998},{"$f":"nyers_adat!AE10","v":58002.000000000007}]
[{"$f":"nyers_adat!A11","v":"Nyugat-Dunántúl"},{"$f":"nyers_adat!B11","v":"régió"},{"$f":"nyers_adat!C11","v":2015},{"$f":"nyers_adat!D11","v":983925},{"$f":"nyers_adat!E11","v":270258},{"$f":"nyers_adat!F11","v":192862},{"$f":"nyers_adat!G11","v":178265},{"$f":"nyers_adat!H11","v":240875},{"$f":"nyers_adat!I11","v":96483},{"$f":"nyers_adat!J11","v":155997},{"$f":"nyers_adat!K11","v":181604},{"$f":"nyers_adat!L11","v":109558},{"$f":"nyers_adat!M11","v":101394},{"$f":"nyers_adat!N11","v":72636},{"$f":"nyers_adat!O11","v":129471},{"$f":"nyers_adat!P11","v":87019},{"$f":"nyers_adat!Q11","v":553362.00000000023},{"$f":"nyers_adat!R11","v":235968},{"$f":"nyers_adat!S11","v":24814},{"$f":"nyers_adat!T11","v":145223.00000000003},{"$f":"nyers_adat!U11","v":7386},{"$f":"nyers_adat!V11","v":721211},{"$f":"nyers_adat!W11","v":133708},{"$f":"nyers_adat!X11","v":150020},{"$f":"nyers_adat!Y11","v":80403.000000000015},{"$f":"nyers_adat!Z11","v":341133},{"$f":"nyers_adat!AA11","v":1099641},{"$f":"nyers_adat!AB11","v":132076},{"$f":"nyers_adat!AC11","v":105818},{"$f":"nyers_adat!AD11","v":32050},{"$f":"nyers_adat!AE11","v":167245}]
[{"$f":"nyers_adat!A12","v":"Baranya"},{"$f":"nyers_adat!B12","v":"megye"},{"$f":"nyers_adat!C12","v":2015},{"$f":"nyers_adat!D12","v":371110},{"$f":"nyers_adat!E12","v":160025},{"$f":"nyers_adat!F12","v":111824},{"$f":"nyers_adat!G12","v":62087},{"$f":"nyers_adat!H12","v":125518.99999999997},{"$f":"nyers_adat!I12","v":101519.99999999999},{"$f":"nyers_adat!J12","v":83457},{"$f":"nyers_adat!K12","v":94033},{"$f":"nyers_adat!L12","v":85978},{"$f":"nyers_adat!M12","v":50578},{"$f":"nyers_adat!N12","v":32810},{"$f":"nyers_adat!O12","v":69852.999999999971},{"$f":"nyers_adat!P12","v":66574},{"$f":"nyers_adat!Q12","v":359611.99999999936},{"$f":"nyers_adat!R12","v":103940},{"$f":"nyers_adat!S12","v":10800},{"$f":"nyers_adat!T12","v":112948.99999999997},{"$f":"nyers_adat!U12","v":4063},{"$f":"nyers_adat!V12","v":236183.99999999994},{"$f":"nyers_adat!W12","v":51310.000000000007},{"$f":"nyers_adat!X12","v":108305.00000000001},{"$f":"nyers_adat!Y12","v":36562},{"$f":"nyers_adat!Z12","v":148241.99999999997},{"$f":"nyers_adat!AA12","v":687087},{"$f":"nyers_adat!AB12","v":31761},{"$f":"nyers_adat!AC12","v":109661},{"$f":"nyers_adat!AD12","v":9974},{"$f":"nyers_adat!AE12","v":99942.999999999985}]
[{"$f":"nyers_adat!A13","v":"Somogy"},{"$f":"nyers_adat!B13","v":"megye"},{"$f":"nyers_adat!C13","v":2015},{"$f":"nyers_adat!D13","v":312084},{"$f":"nyers_adat!E13","v":106199.99999999999},{"$f":"nyers_adat!F13","v":107710.99999999999},{"$f":"nyers_adat!G13","v":31306},{"$f":"nyers_adat!H13","v":81172},{"$f":"nyers_adat!I13","v":36626.000000000007},{"$f":"nyers_adat!J13","v":56729},{"$f":"nyers_adat!K13","v":65106},{"$f":"nyers_adat!L13","v":56850},{"$f":"nyers_adat!M13","v":38855},{"$f":"nyers_adat!N13","v":31713.999999999996},{"$f":"nyers_adat!O13","v":29444.000000000004},{"$f":"nyers_adat!P13","v":39154},{"$f":"nyers_adat!Q13","v":190734.00000000006},{"$f":"nyers_adat!R13","v":55227},{"$f":"nyers_adat!S13","v":7410},{"$f":"nyers_adat!T13","v":70725.000000000015},{"$f":"nyers_adat!U13","v":2013},{"$f":"nyers_adat!V13","v":165210.99999999997},{"$f":"nyers_adat!W13","v":27390},{"$f":"nyers_adat!X13","v":68370.999999999985},{"$f":"nyers_adat!Y13","v":34014.999999999993},{"$f":"nyers_adat!Z13","v":109454},{"$f":"nyers_adat!AA13","v":426173},{"$f":"nyers_adat!AB13","v":54368},{"$f":"nyers_adat!AC13","v":44315.999999999993},{"$f":"nyers_adat!AD13","v":2148},{"$f":"nyers_adat!AE13","v":59292}]
[{"$f":"nyers_adat!A14","v":"Tolna"},{"$f":"nyers_adat!B14","v":"megye"},{"$f":"nyers_adat!C14","v":2015},{"$f":"nyers_adat!D14","v":225936},{"$f":"nyers_adat!E14","v":86968},{"$f":"nyers_adat!F14","v":45793},{"$f":"nyers_adat!G14","v":42564},{"$f":"nyers_adat!H14","v":70262},{"$f":"nyers_adat!I14","v":40971.999999999993},{"$f":"nyers_adat!J14","v":46804},{"$f":"nyers_adat!K14","v":44509},{"$f":"nyers_adat!L14","v":33118},{"$f":"nyers_adat!M14","v":28551},{"$f":"nyers_adat!N14","v":23432},{"$f":"nyers_adat!O14","v":25477},{"$f":"nyers_adat!P14","v":18628},{"$f":"nyers_adat!Q14","v":145729.99999999994},{"$f":"nyers_adat!R14","v":41591},{"$f":"nyers_adat!S14","v":8150},{"$f":"nyers_adat!T14","v":36388},{"$f":"nyers_adat!U14","v":3476},{"$f":"nyers_adat!V14","v":105977},{"$f":"nyers_adat!W14","v":20601},{"$f":"nyers_adat!X14","v":35961},{"$f":"nyers_adat!Y14","v":11708.999999999995},{"$f":"nyers_adat!Z14","v":76679},{"$f":"nyers_adat!AA14","v":275892},{"$f":"nyers_adat!AB14","v":18344},{"$f":"nyers_adat!AC14","v":40315},{"$f":"nyers_adat!AD14","v":3570},{"$f":"nyers_adat!AE14","v":42310}]
[{"$f":"nyers_adat!A15","v":"Dél-Dunántúl"},{"$f":"nyers_adat!B15","v":"régió"},{"$f":"nyers_adat!C15","v":2015},{"$f":"nyers_adat!D15","v":909130},{"$f":"nyers_adat!E15","v":353193},{"$f":"nyers_adat!F15","v":265328},{"$f":"nyers_adat!G15","v":135957},{"$f":"nyers_adat!H15","v":276953},{"$f":"nyers_adat!I15","v":179118},{"$f":"nyers_adat!J15","v":186990},{"$f":"nyers_adat!K15","v":203648},{"$f":"nyers_adat!L15","v":175946},{"$f":"nyers_adat!M15","v":117984},{"$f":"nyers_adat!N15","v":87956},{"$f":"nyers_adat!O15","v":124773.99999999997},{"$f":"nyers_adat!P15","v":124356},{"$f":"nyers_adat!Q15","v":696075.9999999993},{"$f":"nyers_adat!R15","v":200758},{"$f":"nyers_adat!S15","v":26360},{"$f":"nyers_adat!T15","v":220062},{"$f":"nyers_adat!U15","v":9552},{"$f":"nyers_adat!V15","v":507371.99999999988},{"$f":"nyers_adat!W15","v":99301},{"$f":"nyers_adat!X15","v":212637},{"$f":"nyers_adat!Y15","v":82286},{"$f":"nyers_adat!Z15","v":334375},{"$f":"nyers_adat!AA15","v":1389152},{"$f":"nyers_adat!AB15","v":104473},{"$f":"nyers_adat!AC15","v":194292},{"$f":"nyers_adat!AD15","v":15692},{"$f":"nyers_adat!AE15","v":201545}]
[{"$f":"nyers_adat!A16","v":"Dunántúl"},{"$f":"nyers_adat!B16","v":"nagyrégió"},{"$f":"nyers_adat!C16","v":2015},{"$f":"nyers_adat!D16","v":2956463},{"$f":"nyers_adat!E16","v":949152},{"$f":"nyers_adat!F16","v":696446},{"$f":"nyers_adat!G16","v":497487},{"$f":"nyers_adat!H16","v":801933},{"$f":"nyers_adat!I16","v":397522},{"$f":"nyers_adat!J16","v":552766},{"$f":"nyers_adat!K16","v":601008},{"$f":"nyers_adat!L16","v":433139},{"$f":"nyers_adat!M16","v":331911},{"$f":"nyers_adat!N16","v":229919},{"$f":"nyers_adat!O16","v":377180},{"$f":"nyers_adat!P16","v":268396},{"$f":"nyers_adat!Q16","v":1964748.9999999998},{"$f":"nyers_adat!R16","v":712138},{"$f":"nyers_adat!S16","v":86487},{"$f":"nyers_adat!T16","v":550875},{"$f":"nyers_adat!U16","v":30439},{"$f":"nyers_adat!V16","v":2040930},{"$f":"nyers_adat!W16","v":325761},{"$f":"nyers_adat!X16","v":570564},{"$f":"nyers_adat!Y16","v":229645},{"$f":"nyers_adat!Z16","v":1080422},{"$f":"nyers_adat!AA16","v":3568369},{"$f":"nyers_adat!AB16","v":362087},{"$f":"nyers_adat!AC16","v":439458},{"$f":"nyers_adat!AD16","v":87697},{"$f":"nyers_adat!AE16","v":580171}]
[{"$f":"nyers_adat!A17","v":"Borsod-Abaúj-Zemplén"},{"$f":"nyers_adat!B17","v":"megye"},{"$f":"nyers_adat!C17","v":2015},{"$f":"nyers_adat!D17","v":667594},{"$f":"nyers_adat!E17","v":247805.00000000003},{"$f":"nyers_adat!F17","v":176648},{"$f":"nyers_adat!G17","v":94757},{"$f":"nyers_adat!H17","v":195881},{"$f":"nyers_adat!I17","v":98004},{"$f":"nyers_adat!J17","v":113577.99999999999},{"$f":"nyers_adat!K17","v":152256},{"$f":"nyers_adat!L17","v":104569},{"$f":"nyers_adat!M17","v":101589.99999999999},{"$f":"nyers_adat!N17","v":45932},{"$f":"nyers_adat!O17","v":69339},{"$f":"nyers_adat!P17","v":56758},{"$f":"nyers_adat!Q17","v":464136.00000000081},{"$f":"nyers_adat!R17","v":121199},{"$f":"nyers_adat!S17","v":22541},{"$f":"nyers_adat!T17","v":99977.999999999985},{"$f":"nyers_adat!U17","v":4295},{"$f":"nyers_adat!V17","v":614189.99999999977},{"$f":"nyers_adat!W17","v":62958},{"$f":"nyers_adat!X17","v":198499.00000000003},{"$f":"nyers_adat!Y17","v":51216.999999999978},{"$f":"nyers_adat!Z17","v":241375.99999999997},{"$f":"nyers_adat!AA17","v":760183},{"$f":"nyers_adat!AB17","v":35201},{"$f":"nyers_adat!AC17","v":84607},{"$f":"nyers_adat!AD17","v":28948},{"$f":"nyers_adat!AE17","v":211607}]
[{"$f":"nyers_adat!A18","v":"Heves"},{"$f":"nyers_adat!B18","v":"megye"},{"$f":"nyers_adat!C18","v":2015},{"$f":"nyers_adat!D18","v":301296},{"$f":"nyers_adat!E18","v":110610},{"$f":"nyers_adat!F18","v":70096},{"$f":"nyers_adat!G18","v":41270},{"$f":"nyers_adat!H18","v":98686},{"$f":"nyers_adat!I18","v":18981},{"$f":"nyers_adat!J18","v":39567},{"$f":"nyers_adat!K18","v":52583},{"$f":"nyers_adat!L18","v":25887},{"$f":"nyers_adat!M18","v":32745.999999999996},{"$f":"nyers_adat!N18","v":28058},{"$f":"nyers_adat!O18","v":27403},{"$f":"nyers_adat!P18","v":21926.000000000004},{"$f":"nyers_adat!Q18","v":215834.00000000032},{"$f":"nyers_adat!R18","v":75068},{"$f":"nyers_adat!S18","v":12404},{"$f":"nyers_adat!T18","v":65327.999999999993},{"$f":"nyers_adat!U18","v":2436},{"$f":"nyers_adat!V18","v":111782},{"$f":"nyers_adat!W18","v":29343},{"$f":"nyers_adat!X18","v":48316},{"$f":"nyers_adat!Y18","v":20890.000000000004},{"$f":"nyers_adat!Z18","v":102091},{"$f":"nyers_adat!AA18","v":364409.99999999994},{"$f":"nyers_adat!AB18","v":54935},{"$f":"nyers_adat!AC18","v":34544},{"$f":"nyers_adat!AD18","v":8495},{"$f":"nyers_adat!AE18","v":81680}]
[{"$f":"nyers_adat!A19","v":"Nógrád"},{"$f":"nyers_adat!B19","v":"megye"},{"$f":"nyers_adat!C19","v":2015},{"$f":"nyers_adat!D19","v":195923},{"$f":"nyers_adat!E19","v":62658.000000000015},{"$f":"nyers_adat!F19","v":37874},{"$f":"nyers_adat!G19","v":26038},{"$f":"nyers_adat!H19","v":41260},{"$f":"nyers_adat!I19","v":20056},{"$f":"nyers_adat!J19","v":25725},{"$f":"nyers_adat!K19","v":35778},{"$f":"nyers_adat!L19","v":27374.000000000007},{"$f":"nyers_adat!M19","v":24813.999999999996},{"$f":"nyers_adat!N19","v":11700},{"$f":"nyers_adat!O19","v":11751},{"$f":"nyers_adat!P19","v":8069},{"$f":"nyers_adat!Q19","v":135021.00000000015},{"$f":"nyers_adat!R19","v":38747},{"$f":"nyers_adat!S19","v":3667},{"$f":"nyers_adat!T19","v":40476.000000000007},{"$f":"nyers_adat!U19","v":1562},{"$f":"nyers_adat!V19","v":107851},{"$f":"nyers_adat!W19","v":15388},{"$f":"nyers_adat!X19","v":34425},{"$f":"nyers_adat!Y19","v":8860},{"$f":"nyers_adat!Z19","v":62613},{"$f":"nyers_adat!AA19","v":177633},{"$f":"nyers_adat!AB19","v":30887},{"$f":"nyers_adat!AC19","v":15189},{"$f":"nyers_adat!AD19","v":1431},{"$f":"nyers_adat!AE19","v":35962}]
[{"$f":"nyers_adat!A20","v":"Észak-Magyarország"},{"$f":"nyers_adat!B20","v":"régió"},{"$f":"nyers_adat!C20","v":2015},{"$f":"nyers_adat!D20","v":1164813},{"$f":"nyers_adat!E20","v":421073},{"$f":"nyers_adat!F20","v":284618},{"$f":"nyers_adat!G20","v":162065},{"$f":"nyers_adat!H20","v":335827},{"$f":"nyers_adat!I20","v":137041},{"$f":"nyers_adat!J20","v":178870},{"$f":"nyers_adat!K20","v":240617},{"$f":"nyers_adat!L20","v":157830},{"$f":"nyers_adat!M20","v":159149.99999999997},{"$f":"nyers_adat!N20","v":85690},{"$f":"nyers_adat!O20","v":108493},{"$f":"nyers_adat!P20","v":86753},{"$f":"nyers_adat!Q20","v":814991.00000000128},{"$f":"nyers_adat!R20","v":235014},{"$f":"nyers_adat!S20","v":38612},{"$f":"nyers_adat!T20","v":205781.99999999997},{"$f":"nyers_adat!U20","v":8293},{"$f":"nyers_adat!V20","v":833822.99999999977},{"$f":"nyers_adat!W20","v":107689},{"$f":"nyers_adat!X20","v":281240},{"$f":"nyers_adat!Y20","v":80966.999999999985},{"$f":"nyers_adat!Z20","v":406080},{"$f":"nyers_adat!AA20","v":1302226},{"$f":"nyers_adat!AB20","v":121023},{"$f":"nyers_adat!AC20","v":134340},{"$f":"nyers_adat!AD20","v":38874},{"$f":"nyers_adat!AE20","v":329249}]
[{"$f":"nyers_adat!A21","v":"Hajdú-Bihar"},{"$f":"nyers_adat!B21","v":"megye"},{"$f":"nyers_adat!C21","v":2015},{"$f":"nyers_adat!D21","v":537268},{"$f":"nyers_adat!E21","v":333593.99999999988},{"$f":"nyers_adat!F21","v":163232.99999999994},{"$f":"nyers_adat!G21","v":107348},{"$f":"nyers_adat!H21","v":207813.99999999997},{"$f":"nyers_adat!I21","v":85352.999999999985},{"$f":"nyers_adat!J21","v":131279},{"$f":"nyers_adat!K21","v":140787},{"$f":"nyers_adat!L21","v":85197},{"$f":"nyers_adat!M21","v":90627.999999999985},{"$f":"nyers_adat!N21","v":57811.000000000007},{"$f":"nyers_adat!O21","v":75103},{"$f":"nyers_adat!P21","v":91697},{"$f":"nyers_adat!Q21","v":470855.00000000076},{"$f":"nyers_adat!R21","v":145526},{"$f":"nyers_adat!S21","v":25954},{"$f":"nyers_adat!T21","v":112429.99999999999},{"$f":"nyers_adat!U21","v":7842},{"$f":"nyers_adat!V21","v":415602.00000000006},{"$f":"nyers_adat!W21","v":63248.000000000007},{"$f":"nyers_adat!X21","v":186787.99999999997},{"$f":"nyers_adat!Y21","v":48905},{"$f":"nyers_adat!Z21","v":258037.00000000006},{"$f":"nyers_adat!AA21","v":992020.00000000012},{"$f":"nyers_adat!AB21","v":63666},{"$f":"nyers_adat!AC21","v":97846},{"$f":"nyers_adat!AD21","v":58235},{"$f":"nyers_adat!AE21","v":129635}]
[{"$f":"nyers_adat!A22","v":"Jász-Nagykun-Szolnok"},{"$f":"nyers_adat!B22","v":"megye"},{"$f":"nyers_adat!C22","v":2015},{"$f":"nyers_adat!D22","v":379897},{"$f":"nyers_adat!E22","v":145437},{"$f":"nyers_adat!F22","v":73756},{"$f":"nyers_adat!G22","v":57864},{"$f":"nyers_adat!H22","v":86718.999999999971},{"$f":"nyers_adat!I22","v":26645},{"$f":"nyers_adat!J22","v":70072},{"$f":"nyers_adat!K22","v":47058},{"$f":"nyers_adat!L22","v":57558},{"$f":"nyers_adat!M22","v":28071},{"$f":"nyers_adat!N22","v":17693.000000000004},{"$f":"nyers_adat!O22","v":54129},{"$f":"nyers_adat!P22","v":22841},{"$f":"nyers_adat!Q22","v":264626.99999999959},{"$f":"nyers_adat!R22","v":172112},{"$f":"nyers_adat!S22","v":6942},{"$f":"nyers_adat!T22","v":57516.999999999993},{"$f":"nyers_adat!U22","v":256},{"$f":"nyers_adat!V22","v":227791},{"$f":"nyers_adat!W22","v":26368},{"$f":"nyers_adat!X22","v":65651},{"$f":"nyers_adat!Y22","v":28485.000000000004},{"$f":"nyers_adat!Z22","v":134369},{"$f":"nyers_adat!AA22","v":543464},{"$f":"nyers_adat!AB22","v":57508},{"$f":"nyers_adat!AC22","v":43308},{"$f":"nyers_adat!AD22","v":9823.9999999999982},{"$f":"nyers_adat!AE22","v":128675.00000000004}]
[{"$f":"nyers_adat!A23","v":"Szabolcs-Szatmár-Bereg"},{"$f":"nyers_adat!B23","v":"megye"},{"$f":"nyers_adat!C23","v":2015},{"$f":"nyers_adat!D23","v":562357},{"$f":"nyers_adat!E23","v":233215},{"$f":"nyers_adat!F23","v":73136},{"$f":"nyers_adat!G23","v":110579},{"$f":"nyers_adat!H23","v":123665},{"$f":"nyers_adat!I23","v":80688},{"$f":"nyers_adat!J23","v":107775},{"$f":"nyers_adat!K23","v":96157},{"$f":"nyers_adat!L23","v":68317},{"$f":"nyers_adat!M23","v":66950.000000000015},{"$f":"nyers_adat!N23","v":41092},{"$f":"nyers_adat!O23","v":56038.000000000007},{"$f":"nyers_adat!P23","v":33228},{"$f":"nyers_adat!Q23","v":395970.99999999994},{"$f":"nyers_adat!R23","v":132875},{"$f":"nyers_adat!S23","v":17179},{"$f":"nyers_adat!T23","v":82955},{"$f":"nyers_adat!U23","v":7482},{"$f":"nyers_adat!V23","v":225453.00000000006},{"$f":"nyers_adat!W23","v":56250},{"$f":"nyers_adat!X23","v":115132},{"$f":"nyers_adat!Y23","v":41122.000000000007},{"$f":"nyers_adat!Z23","v":218076},{"$f":"nyers_adat!AA23","v":739801},{"$f":"nyers_adat!AB23","v":66745},{"$f":"nyers_adat!AC23","v":53170.000000000007},{"$f":"nyers_adat!AD23","v":22722},{"$f":"nyers_adat!AE23","v":176945}]
[{"$f":"nyers_adat!A24","v":"Észak-Alföld"},{"$f":"nyers_adat!B24","v":"régió"},{"$f":"nyers_adat!C24","v":2015},{"$f":"nyers_adat!D24","v":1479522},{"$f":"nyers_adat!E24","v":712245.99999999988},{"$f":"nyers_adat!F24","v":310124.99999999994},{"$f":"nyers_adat!G24","v":275791},{"$f":"nyers_adat!H24","v":418197.99999999994},{"$f":"nyers_adat!I24","v":192686},{"$f":"nyers_adat!J24","v":309126},{"$f":"nyers_adat!K24","v":284002},{"$f":"nyers_adat!L24","v":211072},{"$f":"nyers_adat!M24","v":185649},{"$f":"nyers_adat!N24","v":116596.00000000001},{"$f":"nyers_adat!O24","v":185270},{"$f":"nyers_adat!P24","v":147766},{"$f":"nyers_adat!Q24","v":1131453.0000000002},{"$f":"nyers_adat!R24","v":450513},{"$f":"nyers_adat!S24","v":50075},{"$f":"nyers_adat!T24","v":252901.99999999997},{"$f":"nyers_adat!U24","v":15580},{"$f":"nyers_adat!V24","v":868846},{"$f":"nyers_adat!W24","v":145866},{"$f":"nyers_adat!X24","v":367571},{"$f":"nyers_adat!Y24","v":118512},{"$f":"nyers_adat!Z24","v":610482},{"$f":"nyers_adat!AA24","v":2275285},{"$f":"nyers_adat!AB24","v":187919},{"$f":"nyers_adat!AC24","v":194324},{"$f":"nyers_adat!AD24","v":90781},{"$f":"nyers_adat!AE24","v":435255.00000000006}]
[{"$f":"nyers_adat!A25","v":"Bács-Kiskun"},{"$f":"nyers_adat!B25","v":"megye"},{"$f":"nyers_adat!C25","v":2015},{"$f":"nyers_adat!D25","v":513687},{"$f":"nyers_adat!E25","v":199932},{"$f":"nyers_adat!F25","v":87898.000000000015},{"$f":"nyers_adat!G25","v":115084.00000000001},{"$f":"nyers_adat!H25","v":131674},{"$f":"nyers_adat!I25","v":31936.999999999996},{"$f":"nyers_adat!J25","v":81334},{"$f":"nyers_adat!K25","v":92386.000000000015},{"$f":"nyers_adat!L25","v":102500},{"$f":"nyers_adat!M25","v":57213.000000000015},{"$f":"nyers_adat!N25","v":26655},{"$f":"nyers_adat!O25","v":61988},{"$f":"nyers_adat!P25","v":53327},{"$f":"nyers_adat!Q25","v":346617.00000000029},{"$f":"nyers_adat!R25","v":92963.000000000015},{"$f":"nyers_adat!S25","v":16615},{"$f":"nyers_adat!T25","v":100311.99999999999},{"$f":"nyers_adat!U25","v":55330.000000000007},{"$f":"nyers_adat!V25","v":360500.00000000006},{"$f":"nyers_adat!W25","v":48335},{"$f":"nyers_adat!X25","v":91347.999999999985},{"$f":"nyers_adat!Y25","v":27082.000000000018},{"$f":"nyers_adat!Z25","v":212488.00000000003},{"$f":"nyers_adat!AA25","v":697360.99999999988},{"$f":"nyers_adat!AB25","v":78426},{"$f":"nyers_adat!AC25","v":69971.999999999985},{"$f":"nyers_adat!AD25","v":1730},{"$f":"nyers_adat!AE25","v":83060.999999999985}]
[{"$f":"nyers_adat!A26","v":"Békés"},{"$f":"nyers_adat!B26","v":"megye"},{"$f":"nyers_adat!C26","v":2015},{"$f":"nyers_adat!D26","v":351148},{"$f":"nyers_adat!E26","v":117889},{"$f":"nyers_adat!F26","v":70237},{"$f":"nyers_adat!G26","v":40217},{"$f":"nyers_adat!H26","v":87865},{"$f":"nyers_adat!I26","v":39538},{"$f":"nyers_adat!J26","v":94312},{"$f":"nyers_adat!K26","v":64490},{"$f":"nyers_adat!L26","v":61569},{"$f":"nyers_adat!M26","v":44059},{"$f":"nyers_adat!N26","v":27678},{"$f":"nyers_adat!O26","v":45821},{"$f":"nyers_adat!P26","v":36208},{"$f":"nyers_adat!Q26","v":219059.99999999962},{"$f":"nyers_adat!R26","v":76811.000000000015},{"$f":"nyers_adat!S26","v":8143},{"$f":"nyers_adat!T26","v":79406},{"$f":"nyers_adat!U26","v":4968},{"$f":"nyers_adat!V26","v":214406.99999999997},{"$f":"nyers_adat!W26","v":33430},{"$f":"nyers_adat!X26","v":86121},{"$f":"nyers_adat!Y26","v":28925.999999999993},{"$f":"nyers_adat!Z26","v":136994.99999999994},{"$f":"nyers_adat!AA26","v":458144.00000000012},{"$f":"nyers_adat!AB26","v":59832},{"$f":"nyers_adat!AC26","v":63679},{"$f":"nyers_adat!AD26","v":3737},{"$f":"nyers_adat!AE26","v":72986.999999999985}]
[{"$f":"nyers_adat!A27","v":"Csongrád-Csanád"},{"$f":"nyers_adat!B27","v":"megye"},{"$f":"nyers_adat!C27","v":2015},{"$f":"nyers_adat!D27","v":406205},{"$f":"nyers_adat!E27","v":240477.00000000006},{"$f":"nyers_adat!F27","v":125929.99999999999},{"$f":"nyers_adat!G27","v":70504},{"$f":"nyers_adat!H27","v":162956},{"$f":"nyers_adat!I27","v":104407},{"$f":"nyers_adat!J27","v":85582},{"$f":"nyers_adat!K27","v":106357},{"$f":"nyers_adat!L27","v":98463.999999999985},{"$f":"nyers_adat!M27","v":61317},{"$f":"nyers_adat!N27","v":42872},{"$f":"nyers_adat!O27","v":68525.999999999985},{"$f":"nyers_adat!P27","v":41517},{"$f":"nyers_adat!Q27","v":310786.99999999965},{"$f":"nyers_adat!R27","v":76104},{"$f":"nyers_adat!S27","v":13283.999999999998},{"$f":"nyers_adat!T27","v":119244.99999999999},{"$f":"nyers_adat!U27","v":20422},{"$f":"nyers_adat!V27","v":329303.99999999994},{"$f":"nyers_adat!W27","v":57737},{"$f":"nyers_adat!X27","v":104089},{"$f":"nyers_adat!Y27","v":41087.000000000015},{"$f":"nyers_adat!Z27","v":153045.00000000003},{"$f":"nyers_adat!AA27","v":861467.00000000012},{"$f":"nyers_adat!AB27","v":64666},{"$f":"nyers_adat!AC27","v":77967},{"$f":"nyers_adat!AD27","v":9207},{"$f":"nyers_adat!AE27","v":70503.000000000015}]
[{"$f":"nyers_adat!A28","v":"Dél-Alföld"},{"$f":"nyers_adat!B28","v":"régió"},{"$f":"nyers_adat!C28","v":2015},{"$f":"nyers_adat!D28","v":1271040},{"$f":"nyers_adat!E28","v":558298},{"$f":"nyers_adat!F28","v":284065},{"$f":"nyers_adat!G28","v":225805},{"$f":"nyers_adat!H28","v":382495},{"$f":"nyers_adat!I28","v":175882},{"$f":"nyers_adat!J28","v":261228},{"$f":"nyers_adat!K28","v":263233},{"$f":"nyers_adat!L28","v":262533},{"$f":"nyers_adat!M28","v":162589},{"$f":"nyers_adat!N28","v":97205},{"$f":"nyers_adat!O28","v":176335},{"$f":"nyers_adat!P28","v":131052},{"$f":"nyers_adat!Q28","v":876463.99999999953},{"$f":"nyers_adat!R28","v":245878.00000000003},{"$f":"nyers_adat!S28","v":38042},{"$f":"nyers_adat!T28","v":298963},{"$f":"nyers_adat!U28","v":80720},{"$f":"nyers_adat!V28","v":904211},{"$f":"nyers_adat!W28","v":139502},{"$f":"nyers_adat!X28","v":281558},{"$f":"nyers_adat!Y28","v":97095.000000000029},{"$f":"nyers_adat!Z28","v":502528},{"$f":"nyers_adat!AA28","v":2016972},{"$f":"nyers_adat!AB28","v":202924},{"$f":"nyers_adat!AC28","v":211618},{"$f":"nyers_adat!AD28","v":14674},{"$f":"nyers_adat!AE28","v":226551}]
[{"$f":"nyers_adat!A29","v":"Alföld és Észak"},{"$f":"nyers_adat!B29","v":"nagyrégió"},{"$f":"nyers_adat!C29","v":2015},{"$f":"nyers_adat!D29","v":3915375},{"$f":"nyers_adat!E29","v":1691617},{"$f":"nyers_adat!F29","v":878808},{"$f":"nyers_adat!G29","v":663661},{"$f":"nyers_adat!H29","v":1136520},{"$f":"nyers_adat!I29","v":505609},{"$f":"nyers_adat!J29","v":749224},{"$f":"nyers_adat!K29","v":787852},{"$f":"nyers_adat!L29","v":631435},{"$f":"nyers_adat!M29","v":507388},{"$f":"nyers_adat!N29","v":299491},{"$f":"nyers_adat!O29","v":470098},{"$f":"nyers_adat!P29","v":365571},{"$f":"nyers_adat!Q29","v":2822908.0000000009},{"$f":"nyers_adat!R29","v":931405},{"$f":"nyers_adat!S29","v":126729},{"$f":"nyers_adat!T29","v":757647},{"$f":"nyers_adat!U29","v":104593},{"$f":"nyers_adat!V29","v":2606880},{"$f":"nyers_adat!W29","v":393057},{"$f":"nyers_adat!X29","v":930369},{"$f":"nyers_adat!Y29","v":296574},{"$f":"nyers_adat!Z29","v":1519090},{"$f":"nyers_adat!AA29","v":5594483},{"$f":"nyers_adat!AB29","v":511866},{"$f":"nyers_adat!AC29","v":540282},{"$f":"nyers_adat!AD29","v":144329},{"$f":"nyers_adat!AE29","v":991055}]
[{"$f":"nyers_adat!A30","v":"Ország összesen"},{"$f":"nyers_adat!B30","v":"ország"},{"$f":"nyers_adat!C30","v":2015},{"$f":"nyers_adat!D30","v":9855571},{"$f":"nyers_adat!E30","v":4090788.9999999995},{"$f":"nyers_adat!F30","v":2658232},{"$f":"nyers_adat!G30","v":1669007},{"$f":"nyers_adat!H30","v":3006101},{"$f":"nyers_adat!I30","v":1483878},{"$f":"nyers_adat!J30","v":2179174},{"$f":"nyers_adat!K30","v":2321112},{"$f":"nyers_adat!L30","v":1841867},{"$f":"nyers_adat!M30","v":1297455.9999999998},{"$f":"nyers_adat!N30","v":979876.99999999988},{"$f":"nyers_adat!O30","v":1440083},{"$f":"nyers_adat!P30","v":998559},{"$f":"nyers_adat!Q30","v":7065256.0000000065},{"$f":"nyers_adat!R30","v":2836583.0000000005},{"$f":"nyers_adat!S30","v":328260},{"$f":"nyers_adat!T30","v":2148543},{"$f":"nyers_adat!U30","v":210252},{"$f":"nyers_adat!V30","v":7024872.0000000009},{"$f":"nyers_adat!W30","v":1096388},{"$f":"nyers_adat!X30","v":2132453},{"$f":"nyers_adat!Y30","v":792722.00000000023},{"$f":"nyers_adat!Z30","v":3901423.9999999995},{"$f":"nyers_adat!AA30","v":14797702},{"$f":"nyers_adat!AB30","v":1110285},{"$f":"nyers_adat!AC30","v":1833814.0000000002},{"$f":"nyers_adat!AD30","v":419842},{"$f":"nyers_adat!AE30","v":2421285}]
[]
[null,null,null,null,{"$f":"E2/$D2","v":0.4859751190873981},{"$f":"F2/$D2","v":0.36296076089918239},0.1702092647029744,0.35782290171406078,{"$f":"I2/$D2","v":0.19463772395184156},0.29398877178353428,0.31244484677415835,0.26051024002482792,0.15355160800245859,0.1509742996441035,0.19867897026979292,0.12219323914036544,0.76333874378170097,0.3998481097336794,3.8557069282003448E-2,0.28153356885485398,2.5210030522168036E-2,0.79667383107000556,0.12654282403955047,0.21165432697898906,8.9318648820119015E-2,{"$f":"Z2/$D2","v":0.43633662931636291},1.8885235374612945,7.9206819108814358E-2,0.28624344068319796,{"$f":"AD2/$D2","v":6.2946651057584582E-2},{"$f":"AE2/$D2","v":0.28489781089661836}]
[null,null,null,null,{"$f":"E3/$D3","v":0.4859751190873981},0.36296076089918239,0.1702092647029744,0.35782290171406078,0.19463772395184156,{"$f":"J3/$D3","v":0.29398877178353428},0.31244484677415835,0.26051024002482792,0.15355160800245859,0.1509742996441035,0.19867897026979292,0.12219323914036544,0.76333874378170097,0.3998481097336794,3.8557069282003448E-2,0.28153356885485398,2.5210030522168036E-2,0.79667383107000556,0.12654282403955047,0.21165432697898906,8.9318648820119015E-2,0.43633662931636291,1.8885235374612945,7.9206819108814358E-2,0.28624344068319796,6.2946651057584582E-2,0.28489781089661836]
[null,null,null,null,{"$f":"E4/$D4","v":0.31840220662706414},0.20418962243595729,0.15852230690217431,0.27460008475976355,0.13385099042023127,0.20871014315780401,0.19638406229124317,0.11607777785758923,0.10259522903093732,9.3123205738762746E-2,9.5352339632851349E-2,5.6781858537391268E-2,0.73228844178512631,0.21911117176781572,3.7339788483686139E-2,0.14218091181393078,6.6562752154310659E-3,0.67941654635090065,9.1463925622110323E-2,0.22308099346104759,6.5188398926376359E-2,0.41169541076161681,1.1758597489291298,0.18324869328697885,0.13466027855793475,9.455262886955855E-3,0.18112969919861319]
[null,null,null,null,{"$f":"E5/$D5","v":0.31552271739493837},0.26024873792250341,0.13523787235465212,0.27835913209187257,0.10911036073685269,0.17447427367857973,0.20036441442947411,0.19231052121293166,0.11379759954531778,6.0746882417839591E-2,0.13096854000200595,4.5013540169168531E-2,0.58402260038113074,0.27819531276119147,2.1423556551101602E-2,0.17517635652435556,2.2974825315101467E-2,0.93432516465514359,8.6473203838052889E-2,0.1701715088094681,4.3321854836013515E-2,0.38980308247801815,0.95319447694827986,7.0388820166493934E-2,0.11293504062050751,9.0134064391026707E-3,0.18399251111631174]
[null,null,null,null,{"$f":"E6/$D6","v":0.28370070994412178},0.21674210363857177,0.22099426794404683,0.24854679255842399,9.6299693924943822E-2,0.20315767913756649,0.21291111707298777,0.12010200578686675,0.10283083367229487,3.5378930150845096E-2,0.1267485366958318,5.7239785718612886E-2,0.67729707743035539,0.29046551679374122,3.8396409027050576E-2,0.21292842574722989,1.1103514526304857E-2,0.71866192408992424,8.2755656330503372E-2,0.18415563959878492,7.723130446823423E-2,0.33571616082066197,0.87514676313367779,{"$f":"AB6/$D6","v":8.0629574177765853E-2},0.14229749572331507,9.609198983403866E-2,0.23279589899811623]
[null,null,null,null,{"$f":"E7/$D7","v":0.30628037404270048},0.22404947113431534,0.17233742834358967,0.26716462543069075,0.11465119690654953,0.19727047379745122,0.20289108225629299,0.13883194408919247,0.10582297669379956,6.5193227810962484E-2,0.11560473496531905,5.3620999653942798E-2,0.67265903585453579,0.25898996434106192,3.3207386064426823E-2,0.17452379519431865,1.2695973699652438E-2,0.76390905466199244,8.7221461565081329E-2,0.19551009584279974,6.2963603809638446E-2,0.38077012774024643,1.0152039480613273,0.11805252546529649,0.1310390743722071,3.7572596783172589E-2,0.19877695108556639]
[null,null,null,null,{"$f":"E8/$D8","v":0.23929939598531269},0.21308860502211482,0.19857148538125388,0.24910193134469488,0.1114444655552561,0.14539212350708514,0.16389255873346914,9.8290466111992367E-2,8.8806065774415757E-2,6.6357663298264841E-2,0.13931883756997865,7.9496197844635227E-2,0.54434227793512713,0.15393979294712332,{"$f":"S8/$D8","v":2.5647426862084051E-2},0.17498530834795137,8.3731370322421006E-3,0.61653241663315939,0.18055708977151719,0.17087385504531213,8.4493568812163383E-2,0.38661358524913947,0.94182105788731829,0.16291827022918978,0.10876020130877212,1.4088521069817382E-2,0.14609025313826943]
[null,null,null,null,{"$f":"E9/$D9","v":0.29111761162533417},0.20514809230030276,9.3524726670000044E-2,0.24596353500238191,7.7296188537659891E-2,0.16192710937530758,0.18985263605475655,0.1176667440954027,0.10051299818501794,4.2559557790052639E-2,0.12050929735390575,0.11132808655220339,0.52045102894916084,0.30088150647448592,2.2618377382410029E-2,0.12234002763812171,4.6890317602176403E-3,0.49700587014807263,9.8851561238912269E-2,8.5197856667598437E-2,7.5591443993433011E-2,0.29447198195254276,1.1823013657641626,0.11900927963716107,5.7008547345047372E-2,4.9425780619456135E-2,0.16975397347212762]
[null,null,null,null,{"$f":"E10/$D10","v":0.31735367304987561},0.15977135850553573,0.23307367737747484,0.23674853041941649,9.5228821811100303E-2,0.17691947059035668,0.21348768437376031,0.12687439143135346,0.12862706913339822,0.11464531717696275,0.12911031771791265,8.2076526380323853E-2,0.63031122651375848,0.32408669623859498,2.6903242093115509E-2,0.12601969057665263,8.6732301922175341E-3,1.1392657506581558,9.6912979191460205E-2,0.18405279671102456,8.2794186591654953E-2,0.32940964333369399,1.3452919326337047,0.10135598110281654,0.15185906451729236,4.7311478957048569E-2,0.20917451044033325]
[null,null,null,null,{"$f":"E11/$D11","v":0.27467337449500723},0.19601290748786748,0.18117742714129634,0.24481032599029398,9.8059303300556441E-2,0.15854562085524812,0.18457097847905074,0.11134791777828594,0.10305053738852046,7.3822699900907077E-2,0.13158624895190182,8.8440683995223215E-2,0.56240262215107883,{"$f":"R11/$D11","v":0.2398231572528394},2.5219401885306299E-2,0.14759559925807356,7.5066697156795491E-3,0.73299387656579518,0.13589247147902533,0.15247097085651853,8.1716594252610728E-2,0.3467063038341337,1.1176065248875677,0.13423380847117414,0.10754681505196026,{"$f":"AD11/$D11","v":3.2573620956881877E-2},0.16997738648779123]
[null,null,null,null,{"$f":"E12/$D12","v":0.43120638085742774},0.30132305785346664,0.16730080030179731,0.33822586295168539,0.27355770526259054,0.22488480504432648,0.25338309396135916,0.23167793915550644,0.13628843200129342,8.8410444342647734E-2,0.18822721026110847,0.17939155506453613,0.96901727250680214,0.28007868287030802,2.9101883538573469E-2,0.30435450405540126,1.0948236371965186E-2,0.63642585756244763,0.13826089299668565,0.2918406941338148,9.8520654253455853E-2,0.39945568699307477,1.8514375791544286,8.5583789173021479E-2,0.29549459728921346,2.6876128371641831E-2,0.26930829134218959]
[null,null,null,null,{"$f":"E13/$D13","v":0.34029299803898944},0.34513464323707715,0.10031273631458197,0.26009664064803067,0.11735942887171405,0.18177477858525268,0.20861691083169917,0.18216249471296189,0.12450173671191089,0.10162007664603119,9.4346393919585769E-2,0.12545981210187002,0.61116237935940343,0.17696197177682932,2.3743607490291075E-2,0.22662167877879036,6.4501864882531628E-3,0.52937991053690658,8.7764832545084021E-2,0.21907883774881118,0.10899309160354262,0.35071967803540072,1.3655714487125261,0.17420950769664578,0.14200023070711729,6.8827623332179799E-3,0.18998731110854769]
[null,null,null,null,{"$f":"E14/$D14","v":0.38492316408186389},0.20268129027689258,0.18838963246229021,0.31098187097231073,0.18134338927837967,0.20715600878124779,0.19699826499539694,0.14658133276680121,0.12636764393456554,0.10371078535514482,0.1127620211033213,8.2448126903193822E-2,0.64500566532115267,0.18408310317966151,3.6072162028184973E-2,0.16105445789958217,1.5384887755824658E-2,0.46905760923447348,9.1180688336520072E-2,0.15916454217123432,5.1824410452517504E-2,0.33938371928333688,1.2211068621202466,8.1191133772395729E-2,0.17843548615537144,1.5800934777990227E-2,0.18726542029601304]
[null,null,null,null,{"$f":"E15/$D15","v":0.38849559468942835},0.29184825052522739,0.14954626951041106,0.30463520068637051,0.19702132808289244,0.20568015575330262,0.22400316786378185,0.19353227811204118,0.12977681959675733,{"$f":"N15/$D15","v":9.6747439860086021E-2},0.1372454984435669,0.13678571821411678,0.76565067702088729,0.22082430455490415,2.8994753225611299E-2,0.24205779151496484,1.0506748209826977E-2,0.55808520233629944,0.10922640326465961,0.23389064270236379,9.05107080395543E-2,0.36779668474255606,1.5280014959356747,0.1149153586395785,0.2137120103835535,1.7260457800314585E-2,0.22168996733140475]
[null,null,null,null,{"$f":"E16/$D16","v":0.32104308425304157},0.23556729781499042,0.16827100491364175,0.27124743316591482,0.13445864196507787,0.18696868521608423,0.20328615646466741,0.14650580778450467,0.11226624517201805,7.7768265660689812E-2,0.12757812291241258,9.0782803640701751E-2,0.66456065913897777,0.24087499150166938,2.9253537081302895E-2,0.18632906956724979,1.0295748669947839E-2,0.69032827402203245,0.11018605678474583,0.19298871658464861,7.7675587348801589E-2,0.36544411345584232,1.2069723179353167,0.12247303619223376,0.1486431590721751,2.9662809918473528E-2,0.19623820761497776]
[null,null,null,null,{"$f":"E17/$D17","v":0.37119117307824823},0.26460393592512815,0.1419380641527635,0.29341336201343932,0.14680179869801108,0.17013034868497917,0.22806675913803898,0.15663561985278476,0.15217332690227892,6.8802296006255301E-2,0.10386402514102883,8.5018738934142607E-2,0.69523692543671878,0.18154596955634711,3.3764533533854411E-2,0.14975868566823547,6.4335509306554586E-3,0.92000527266572163,9.430582060354048E-2,0.2973349071441625,7.6718784171217802E-2,0.36156106855364184,1.1386905814012709,5.2728155136205539E-2,0.12673421271012023,4.3361683897698303E-2,0.31696959529294749]
[null,null,null,null,{"$f":"E18/$D18","v":0.36711406722956824},0.23264829270883119,0.13697493494769264,0.32753836758536453,6.2997849291062613E-2,0.13132268599649513,0.17452272847963465,8.5918830651585149E-2,0.10868381923424141,9.3124369390897993E-2,9.0950427486591254E-2,7.2772290372258519E-2,0.71635202591471614,0.2491503372099198,4.1168817375604058E-2,0.21682332324358769,8.0850724868567793E-3,0.37100392969040413,9.738927831766768E-2,0.16036057564654027,6.9333811268652762E-2,0.33883954649248582,1.2094750677075035,0.18232900536349636,0.11465137273644523,2.8194864850512452E-2,0.27109553395995967]
[null,null,null,null,{"$f":"E19/$D19","v":0.31980931284229014},0.19331063734222118,0.13289914915553561,0.21059293702117668,0.10236674611964905,0.13130158276465753,0.18261255697391321,0.13971815458113651,0.12665179687938627,5.9717337933780104E-2,5.9977644278619659E-2,4.1184546990399293E-2,0.68915339189375491,0.19776646948035709,1.8716536598561678E-2,0.20659136497501573,7.9725198164585058E-3,0.55047646269197592,7.8541059497863955E-2,0.17570678276669915,4.5221847358401006E-2,0.31957963077331403,0.90664699907616764,0.15764866809920225,7.7525354348391973E-2,7.3038897934392596E-3,0.18355170143372651]
[null,null,null,null,{"$f":"E20/$D20","v":0.36149407673162987},0.24434651742382682,0.13913392106715841,0.28830979736661594,0.11765064435235527,0.15356112955470105,0.20657135523041037,0.1354981443373314,0.13663137344792681,7.3565456429486961E-2,9.3141989315023099E-2,7.4478049266277074E-2,0.69967539854036764,0.20176114105869355,3.3148668498720398E-2,0.17666526730041643,7.1195977380060149E-3,0.7158428005181946,9.2451749765842237E-2,0.24144648110898487,6.9510728331500404E-2,0.34862248275045005,1.1179700089198867,0.10389908079666006,0.11533181721014446,3.3373597307035548E-2,0.28266253896548199]
[null,null,null,null,{"$f":"E21/$D21","v":0.62090800122099188},0.30382043970606837,0.19980345004727623,0.38679765033465602,0.15886484957228048,0.24434546632220791,0.26204240714131494,0.15857449168757493,0.16868304086601096,0.10760179277381123,0.13978684753233023,0.17067273688364093,0.87638757566056558,0.27086295852349296,4.8307362433645779E-2,0.20926241652210811,1.4596067511930731E-2,0.77354690768852796,0.11772150956319752,0.34766261902812001,9.1025335586709055E-2,0.48027613779342909,1.8464155691386797,0.11849951979272914,0.18211767683911939,0.10839097061429305,0.24128554092184906]
[null,null,null,null,{"$f":"E22/$D22","v":0.38283271518332601},0.19414736099521712,0.1523149695838609,0.22826976785812989,7.013743198814415E-2,0.18444999565671749,0.12387041750790345,0.15150948809808976,7.389108100353517E-2,4.6573150090682483E-2,0.14248335733106604,6.0124191557185236E-2,0.6965756507684967,0.45304911594458497,1.8273374098768877E-2,0.15140156410816613,6.7386686391311332E-4,0.59961252655324992,6.9408286983050668E-2,0.17281263079203046,7.4980850072519672E-2,0.3536985024888325,1.4305561770690476,0.15137787347623172,0.11399932086855122,2.5859640902665716E-2,0.33871022935164019]
[null,null,null,null,{"$f":"E23/$D23","v":0.41470987290991312},0.13005261782106384,0.1966348778445009,0.21990479357418863,0.14348180959781776,0.19164872136383115,0.17098924704413745,0.12148332820610395,0.11905248801028531,7.3071020721712371E-2,9.9648443959975616E-2,5.908702123384256E-2,0.70412744928933035,0.23628229043116739,3.0548210478397175E-2,0.14751305665262457,1.3304715687721501E-2,0.40090725286606205,0.10002542868675948,0.20473115832113764,7.3124367617011979E-2,0.38778925131188907,1.3155362163181039,0.11868795089240465,9.4548480769333379E-2,4.040493849992087E-2,0.31464887962628724]
[null,null,null,null,{"$f":"E24/$D24","v":0.48140277738350623},0.20961161780629145,0.18640547420045123,0.28265750695156944,0.13023530572711997,0.20893639972910169,0.19195523959765384,0.14266229228088531,0.12547903985206033,7.8806533461482836E-2,0.12522287603699034,9.9874148542569832E-2,0.76474226135197731,0.3044990206296358,3.3845390605884873E-2,0.17093493709454807,1.0530428070687695E-2,0.58724777326731203,9.8589949997364007E-2,0.24843902287360378,8.0101546310227228E-2,0.41262110330228274,1.5378514141729558,0.1270133191665957,0.13134242005188163,6.1358330595962747E-2,0.29418623041766195]
[null,null,null,null,{"$f":"E25/$D25","v":0.38920977170923149},0.17111198064190844,0.2240352588249265,0.25633119000480836,6.2172100909697922E-2,0.15833377134324988,0.17984881844391626,0.19953785087027703,0.11137716157893818,5.1889574779973018E-2,0.12067270536338276,0.1038122436425294,0.67476303663515003,0.18097207054101042,3.2344598948386857E-2,0.19527844777072417,0.10771150525514565,0.70178922184131598,9.4094263627461858E-2,0.17782813269559086,5.2720820266037527E-2,0.41365267176315546,1.357560148495095,0.15267273651075461,0.13621524391312217,3.3678095805422369E-3,0.16169574079157148]
[null,null,null,null,{"$f":"E26/$D26","v":0.33572453780172462},0.2000210737352911,0.11453005570300842,0.25022212856117648,0.11259639809994647,0.26858190848303282,0.18365475525989042,0.17533632542403774,0.12547131124198344,7.8821465592855439E-2,0.13048913848291888,0.10311321721895042,0.62383952065795512,0.21874252451957582,2.3189652226411655E-2,0.22613257088179342,1.414788066570221E-2,0.61058869764315893,9.5202023078587952E-2,0.24525556175743563,8.2375522571679155E-2,0.39013464408169757,1.3047034298928091,0.17038969323476141,0.18134518778406825,1.0642236322006676E-2,0.20785252941779531]
[null,null,null,null,{"$f":"E27/$D27","v":0.59200896099260236},0.3100158786819463,0.1735675336344949,0.40116689848721704,0.25703031720436725,0.21068672222153839,0.26183084895557662,0.24239977351337375,0.15095087455841263,0.10554276781428097,0.16869807117096045,0.10220701369997907,0.76509890326312979,0.1873536760995064,3.2702699375930865E-2,0.29355867111433881,5.0275107396511615E-2,0.81068426041038377,0.14213759062542311,0.25624746125724696,0.10114843490355858,0.37676788813530121,2.1207690698046555,0.1591954801147204,0.1919400302802772,2.2665895299171599E-2,0.17356507182334047]
[null,null,null,null,{"$f":"E28/$D28","v":0.43924502769385698},0.22349021273917422,0.17765373237663645,0.30093073388721048,0.13837644763343404,0.20552303625377644,0.20710048464249747,0.20654975453172206,0.12791808282980865,7.647674345417925E-2,0.13873284869083585,0.10310611782477341,0.68956445115810638,0.19344631168177243,2.992982124874119E-2,0.23521132301107756,6.3507049345417926E-2,0.7113946059919436,0.10975421701913393,0.22151781218529709,7.6390200151057422E-2,0.39536757301107756,1.5868674471299093,0.15965193856998994,0.16649200654582075,1.1544876636455186E-2,0.17824065332326283]
[null,null,null,null,{"$f":"E29/$D29","v":0.4320446955910992},0.22445053155827985,0.16950126105417745,0.29027104683459437,0.12913424640040866,0.19135434026114995,0.20122006193531911,0.16127063180410561,0.12958860900935415,7.6491012993646842E-2,0.12006461705456055,9.3368068192701853E-2,0.72098023816364998,0.23788398301567537,3.2367014653768796E-2,0.19350560291159852,2.6713405484787536E-2,0.66580595728378511,0.10038808543242984,0.23761938511636815,7.574600134086773E-2,0.38798071704498294,1.4288498547393289,{"$f":"AB29/$D29","v":0.13073230533473806},0.13798984771573605,3.6862114101458988E-2,0.25311879449605723]
[null,null,null,null,{"$f":"E30/$D30","v":0.41507376893738573},0.26971872050843121,0.16934655536447354,0.30501540702207919,0.15056235706688126,0.22111088236287882,0.23551268617515922,0.18688587398944212,0.13164696393542288,9.9423666066633776E-2,0.14611867744649193,0.10131924370490558,0.71687941774251396,0.28781518594914496,3.3307050398196106E-2,0.21800289399771966,2.1333314934264082E-2,0.71278183679058282,0.11124550774379283,0.21637031481991251,8.0433898756348085E-2,0.39585976297060815,1.5014555726908161,0.11265557317785037,0.18606877267689514,4.2599459737036036E-2,{"$f":"AE30/$D30","v":0.24567678524156542}]
[null,null,null,"irány",0,0,0,0,0,0,0,0,0,0,0,0,0,0,0,0,0,0,0,0,0,0,0,0,0,0]
[null,null,null,null,null,null,null,null,null,null,null,null,null,null,null,null,null,null,null,null,null,null,null,null,null,null,null,null,null,null,"y",100000,"új:"]
[null,null,null,null,{"$f":"RANK(E32,E$32:E$60,E$61)","v":3},{"$f":"RANK(F32,F$32:F$60,F$61)","v":1},13,3,4,1,1,1,2,1,1,5,6,2,3,3,5,5,5,14,6,2,2,26,{"$f":"RANK(AC32,AC$32:AC$60,AC$61)","v":2},{"$f":"RANK(AD32,AD$32:AD$60,AD$61)","v":3},{"$f":"(AE32*$AF$62)+$AF$63","v":1028489.7810896619},1000000,{"$f":"'2015'!AE63","v":1028489.7810896619}]
[null,null,null,null,{"$f":"RANK(E33,E$32:E$60,E$61)","v":3},1,13,3,4,1,1,1,2,1,1,5,6,2,3,3,5,5,5,14,6,2,2,26,2,3,{"$f":"(AE33*$AF$62)+$AF$63","v":1028489.7810896619},null,{"$f":"'2015'!AE64","v":1028489.7810896619}]
[null,null,null,null,{"$f":"RANK(E34,E$32:E$60,E$61)","v":22},{"$f":"RANK(F34,F$32:F$60,F$61)","v":21},19,16,13,9,19,26,26,11,25,26,8,19,6,27,25,16,22,10,24,6,21,1,{"$f":"RANK(AC34,AC$32:AC$60,AC$61)","v":17},25,{"$f":"(AE34*$AF$62)+$AF$63","v":1018112.9699198613},null,{"$f":"'2015'!AE65","v":1018112.9699198613}]
[null,null,null,null,{"$f":"RANK(E35,E$32:E$60,E$61)","v":24},10,25,15,21,21,17,8,19,24,12,28,26,10,27,18,7,2,26,25,29,11,26,28,{"$f":"RANK(AC35,AC$32:AC$60,AC$61)","v":24},{"$f":"RANK(AD35,AD$32:AD$60,AD$61)","v":26},1018399.2511116312,null,{"$f":"'2015'!AE66","v":1018399.2511116312}]
[null,null,null,null,{"$f":"RANK(E36,E$32:E$60,E$61)","v":27},17,3,23,24,13,10,24,25,29,16,25,18,7,5,11,14,10,27,19,15,26,29,25,13,2,1023279.5898998117,null,{"$f":"'2015'!AE67","v":1023279.5898998117}]
[null,null,null,null,{"$f":"RANK(E37,E$32:E$60,E$61)","v":25},15,12,18,18,14,15,20,23,23,21,27,20,12,11,20,13,8,25,17,25,15,25,18,19,11,1019877.6951085567,null,{"$f":"'2015'!AE68","v":1019877.6951085567}]
[null,null,null,null,{"$f":"RANK(E38,E$32:E$60,E$61)","v":29},18,5,22,20,27,28,28,28,22,8,20,{"$f":"RANK(Q38,Q$32:Q$60,Q$61)","v":28},29,22,19,20,19,1,24,8,14,27,5,25,22,1014609.025313827,null,{"$f":"'2015'!AE69","v":1014609.025313827}]
[null,null,null,null,{"$f":"RANK(E39,E$32:E$60,E$61)","v":26},20,29,24,26,23,21,25,27,28,19,7,29,6,26,29,28,26,14,29,19,29,20,15,29,6,1016975.3973472128,null,{"$f":"'2015'!AE70","v":1016975.3973472128}]
[null,null,null,null,{"$f":"RANK(E40,E$32:E$60,E$61)","v":23},28,1,26,25,20,9,22,11,3,14,19,23,4,21,28,19,1,17,20,9,27,14,22,11,7,1020917.4510440333,null,{"$f":"'2015'!AE71","v":1020917.4510440333}]
[null,null,null,null,{"$f":"RANK(E41,E$32:E$60,E$61)","v":28},24,9,25,23,24,22,27,24,18,11,16,27,15,23,25,23,9,4,28,11,23,24,11,26,14,1016997.7386487791,null,{"$f":"'2015'!AE72","v":1016997.7386487791}]
[null,null,null,null,{"$f":"RANK(E42,E$32:E$60,E$61)","v":8},6,18,5,1,5,5,4,7,12,3,{"$f":"RANK(P42,P$32:P$60,P$61)","v":1},1,9,19,1,15,18,3,3,3,7,4,23,1,17,1026930.829134219,null,{"$f":"'2015'!AE73","v":1026930.829134219}]
[null,null,null,null,{"$f":"RANK(E43,E$32:E$60,E$61)","v":18},3,28,19,17,19,11,10,17,7,26,4,25,28,24,7,26,25,24,12,1,21,12,3,14,28,1018998.7311108548,null,{"$f":"'2015'!AE74","v":1018998.7311108548}]
[null,null,null,null,{"$f":"RANK(E44,E$32:E$60,E$61)","v":13},22,7,7,6,10,18,16,14,6,22,18,22,25,7,22,9,27,23,27,27,24,17,24,9,21,1018726.5420296013,null,{"$f":"'2015'!AE75","v":1018726.5420296013}]
[null,null,null,null,{"$f":"RANK(E45,E$32:E$60,E$61)","v":12},7,21,9,3,11,8,7,9,9,10,3,3,18,20,5,17,23,11,9,5,17,8,19,4,20,1022168.9967331404,null,{"$f":"'2015'!AE76","v":1022168.9967331404}]
[null,null,null,null,{"$f":"RANK(E46,E$32:E$60,E$61)","v":20},12,17,17,12,17,14,17,20,15,15,15,21,14,18,16,18,15,9,18,14,18,19,14,12,15,1019623.8207614978,null,{"$f":"'2015'!AE77","v":1019623.8207614978}]
[null,null,null,null,{"$f":"RANK(E47,E$32:E$60,E$61)","v":15},9,22,11,9,22,7,14,4,21,23,17,15,26,9,24,27,3,19,2,16,19,22,29,20,8,1031696.9595292947,null,{"$f":"'2015'!AE78","v":1031696.9595292947}]
[null,null,null,null,{"$f":"RANK(E48,E$32:E$60,E$61)","v":16},13,24,6,28,28,26,29,22,10,28,22,11,13,2,10,21,29,16,26,23,25,18,2,22,16,1027109.553395996,null,{"$f":"'2015'!AE79","v":1027109.553395996}]
[null,null,null,null,{"$f":"RANK(E49,E$32:E$60,E$61)","v":21},26,26,29,22,29,24,19,13,25,29,29,17,22,28,13,22,24,28,22,28,28,28,8,28,27,1018355.1701433726,null,{"$f":"'2015'!AE80","v":1018355.1701433726}]
[null,null,null,null,{"$f":"RANK(E50,E$32:E$60,E$61)","v":17},11,23,13,16,26,13,21,6,19,27,21,13,21,12,17,24,11,21,7,22,22,23,21,21,13,1028266.2538965482,null,{"$f":"'2015'!AE81","v":1028266.2538965482}]
[null,null,null,null,{"$f":"RANK(E51,E$32:E$60,E$61)","v":1},5,4,2,7,4,3,13,1,4,7,2,2,11,1,12,10,7,7,1,4,1,5,17,7,1,1024128.5540921849,null,{"$f":"'2015'!AE82","v":1024128.5540921849}]
[null,null,null,null,{"$f":"RANK(E52,E$32:E$60,E$61)","v":14},25,20,27,27,18,29,15,29,27,6,23,14,1,29,23,29,21,29,23,20,20,10,10,23,18,1033871.022935164,null,{"$f":"'2015'!AE83","v":1033871.022935164}]
[null,null,null,null,{"$f":"RANK(E53,E$32:E$60,E$61)","v":10},29,6,28,10,15,27,23,18,20,24,24,12,17,16,26,12,28,13,16,21,13,15,16,27,10,1031464.8879626287,null,{"$f":"'2015'!AE84","v":1031464.8879626287}]
[null,null,null,null,{"$f":"RANK(E54,E$32:E$60,E$61)","v":5},19,8,14,14,8,20,18,15,14,17,13,5,5,8,21,16,22,15,5,13,5,7,13,18,5,1029418.6230417662,null,{"$f":"'2015'!AE85","v":1029418.6230417662}]
[null,null,null,null,{"$f":"RANK(E55,E$32:E$60,E$61)","v":11},27,2,20,29,25,25,6,21,26,18,8,19,27,15,14,1,14,20,21,26,4,13,9,16,29,1016169.5740791572,null,{"$f":"'2015'!AE86","v":1016169.5740791572}]
[null,null,null,null,{"$f":"RANK(E56,E$32:E$60,E$61)","v":19},23,27,21,19,3,23,11,16,13,13,9,24,20,25,8,11,20,18,6,10,10,16,4,8,24,1020785.2529417796,null,{"$f":"'2015'!AE87","v":1020785.2529417796}]
[null,null,null,null,{"$f":"RANK(E57,E$32:E$60,E$61)","v":2},4,11,1,2,7,4,3,5,5,4,11,4,24,13,2,3,4,2,4,2,16,1,7,5,19,1017356.5071823341,null,{"$f":"'2015'!AE88","v":1017356.5071823341}]
[null,null,null,null,{"$f":"RANK(E58,E$32:E$60,E$61)","v":6},16,10,10,11,12,12,5,12,17,9,10,16,23,17,6,2,13,10,11,17,9,6,6,10,23,1017824.0653323263,null,{"$f":"'2015'!AE89","v":1017824.0653323263}]
[null,null,null,null,{"$f":"RANK(E59,E$32:E$60,E$61)","v":7},14,15,12,15,16,16,12,10,16,20,14,9,16,14,15,4,17,12,8,18,12,11,12,15,12,1025311.8794496057,null,{"$f":"'2015'!AE90","v":1025311.8794496057}]
[null,null,null,null,{"$f":"RANK(E60,E$32:E$60,E$61)","v":9},8,16,8,8,6,6,9,8,8,5,12,10,8,10,9,8,12,8,13,12,8,9,20,6,{"$f":"RANK(AD60,AD$32:AD$60,AD$61)","v":9},{"$f":"(AE60*$AF$62)+$AF$63","v":1024567.6785241566},null,{"$f":"'2015'!AE91","v":1024567.6785241566}]
[]
[]
[]
[]
[]
["Azonosító:",2248788,"Objektumok:",29,"Attribútumok:",26,"Lépcsôk:",29,"Eltolás:",0,"Leírás:","COCO STD: 2248788"]
[]
["Rangsor","X(A1)","X(A2)","X(A3)","X(A4)","X(A5)","X(A6)","X(A7)","X(A8)","X(A9)","X(A10)","X(A11)","X(A12)","X(A13)","X(A14)","X(A15)","X(A16)","X(A17)","X(A18)","X(A19)","X(A20)","X(A21)","X(A22)","X(A23)","X(A24)","X(A25)","X(A26)","Y(A27)"]
["O1",3,1,13,3,4,1,1,1,2,1,1,5,6,2,3,3,5,5,5,5,14,6,2,2,26,2,1006295]
["O2",3,1,13,3,4,1,1,1,2,1,1,5,6,2,3,3,5,5,5,5,14,6,2,2,26,2,1006295]
["O3",22,21,19,16,13,9,19,26,26,11,25,26,8,19,6,27,23,25,16,22,10,24,6,21,1,17,1000946]
["O4",24,10,25,15,21,21,17,8,19,24,12,28,26,10,27,18,21,7,2,26,25,29,11,26,28,24,1000901]
["O5",27,17,3,23,24,13,10,24,25,29,16,25,18,7,5,11,13,14,10,27,19,15,26,29,25,13,1009609]
["O6",25,15,12,18,18,14,15,20,23,23,21,27,20,12,11,20,17,13,8,25,17,25,15,25,18,19,1003757]
["O7",29,18,5,22,20,27,28,28,28,22,8,20,28,29,22,19,29,20,19,1,24,8,14,27,5,25,1001409]
["O8",26,20,29,24,26,23,21,25,27,28,19,7,29,6,26,29,27,28,26,14,29,19,29,20,15,29,1004943]
["O9",23,28,1,26,25,20,9,22,11,3,14,19,23,4,21,28,15,19,1,17,20,9,27,14,22,11,1004731]
["O10",28,24,9,25,23,24,22,27,24,18,11,16,27,15,23,25,26,23,9,4,28,11,23,24,11,26,1003257]
["O11",8,6,18,5,1,5,5,4,7,12,3,1,1,9,19,1,9,15,18,3,3,3,7,4,23,1,1002688]
["O12",18,3,28,19,17,19,11,10,17,7,26,4,25,28,24,7,19,26,25,24,12,1,21,12,3,14,1000688]
["O13",13,22,7,7,6,10,18,16,14,6,22,18,22,25,7,22,20,9,27,23,27,27,24,17,24,9,1001580]
["O14",12,7,21,9,3,11,8,7,9,9,10,3,3,18,20,5,14,17,23,11,9,5,17,8,19,4,1001726]
["O15",20,12,17,17,12,17,14,17,20,15,15,15,21,14,18,16,18,18,15,9,18,14,18,19,14,12,1002966]
["O16",15,9,22,11,9,22,7,14,4,21,23,17,15,26,9,24,2,27,3,19,2,16,19,22,29,20,1004336]
["O17",16,13,24,6,28,28,26,29,22,10,28,22,11,13,2,10,8,21,29,16,26,23,25,18,2,22,1002819]
["O18",21,26,26,29,22,29,24,19,13,25,29,29,17,22,28,13,22,22,24,28,22,28,28,28,8,28,1000730]
["O19",17,11,23,13,16,26,13,21,6,19,27,21,13,21,12,17,7,24,11,21,7,22,22,23,21,21,1003337]
["O20",1,5,4,2,7,4,3,13,1,4,7,2,2,11,1,12,12,10,7,7,1,4,1,5,17,7,1010839]
["O21",14,25,20,27,27,18,29,15,29,27,6,23,14,1,29,23,1,29,21,29,23,20,20,10,10,23,1002586]
["O22",10,29,6,28,10,15,27,23,18,20,24,24,12,17,16,26,3,12,28,13,16,21,13,15,16,27,1004040]
["O23",5,19,8,14,14,8,20,18,15,14,17,13,5,5,8,21,4,16,22,15,5,13,5,7,13,18,1006136]
["O24",11,27,2,20,29,25,25,6,21,26,18,8,19,27,15,14,28,1,14,20,21,26,4,13,9,16,1000337]
["O25",19,23,27,21,19,3,23,11,16,13,13,9,24,20,25,8,16,11,20,18,6,10,10,16,4,8,1001064]
["O26",2,4,11,1,2,7,4,3,5,5,4,11,4,24,13,2,25,3,4,2,4,2,16,1,7,5,1002267]
["O27",6,16,10,10,11,12,12,5,12,17,9,10,16,23,17,6,24,2,13,10,11,17,9,6,6,10,1001154]
["O28",7,14,15,12,15,16,16,12,10,16,20,14,9,16,14,15,10,4,17,12,8,18,12,11,12,15,1003686]
["O29",9,8,16,8,8,6,6,9,8,8,5,12,10,8,10,9,11,8,12,8,13,12,8,9,20,6,1004260]
[]
["Lépcsôk(1)","X(A1)","X(A2)","X(A3)","X(A4)","X(A5)","X(A6)","X(A7)","X(A8)","X(A9)","X(A10)","X(A11)","X(A12)","X(A13)","X(A14)","X(A15)","X(A16)","X(A17)","X(A18)","X(A19)","X(A20)","X(A21)","X(A22)","X(A23)","X(A24)","X(A25)","X(A26)"]
["S1","(0+0)/(2)=0","(4682+5453)/(2)=5067.5","(4013+5607)/(2)=4810","(0+987269)/(2)=493634.5","(0+0)/(2)=0","(0+0)/(2)=0","(98+1116)/(2)=607","(0+0)/(2)=0","(1859+4781)/(2)=3320","(0+0)/(2)=0","(0+0)/(2)=0","(0+0)/(2)=0","(0+0)/(2)=0","(5591+5072)/(2)=5331.5","(0+464)/(2)=232","(0+0)/(2)=0","(1507+5437)/(2)=3472","(1801+393)/(2)=1097","(1516+742)/(2)=1129","(50+1821)/(2)=935.5","(3020+0)/(2)=1510","(4972+0)/(2)=2486","(0+0)/(2)=0","(0+0)/(2)=0","(1009+2392)/(2)=1700.5","(988068+0)/(2)=494034"]
["S2","(0+0)/(2)=0","(4682+5453)/(2)=5067.5","(4013+5607)/(2)=4810","(0+987269)/(2)=493634.5","(0+0)/(2)=0","(0+0)/(2)=0","(98+1116)/(2)=607","(0+0)/(2)=0","(1859+4781)/(2)=3320","(0+0)/(2)=0","(0+0)/(2)=0","(0+0)/(2)=0","(0+0)/(2)=0","(5591+5072)/(2)=5331.5","(0+464)/(2)=232","(0+0)/(2)=0","(1507+5437)/(2)=3472","(720+393)/(2)=556.5","(1516+742)/(2)=1129","(50+1821)/(2)=935.5","(3020+0)/(2)=1510","(3587+0)/(2)=1793.5","(0+0)/(2)=0","(0+0)/(2)=0","(1009+2392)/(2)=1700.5","(988069+0)/(2)=494034.5"]
["S3","(0+0)/(2)=0","(4682+5453)/(2)=5067.5","(4013+5607)/(2)=4810","(0+987269)/(2)=493634.5","(0+0)/(2)=0","(0+0)/(2)=0","(98+1116)/(2)=607","(0+0)/(2)=0","(1859+4781)/(2)=3320","(0+0)/(2)=0","(0+0)/(2)=0","(0+0)/(2)=0","(0+0)/(2)=0","(5591+5072)/(2)=5331.5","(0+464)/(2)=232","(0+0)/(2)=0","(1507+703)/(2)=1105","(720+189)/(2)=454.5","(1516+742)/(2)=1129","(50+1821)/(2)=935.5","(0+0)/(2)=0","(3587+0)/(2)=1793.5","(0+0)/(2)=0","(0+0)/(2)=0","(1009+2392)/(2)=1700.5","(988068+0)/(2)=494034"]
["S4","(0+0)/(2)=0","(4682+4219)/(2)=4450.5","(4013+5607)/(2)=4810","(0+987269)/(2)=493634.5","(0+0)/(2)=0","(0+0)/(2)=0","(98+1116)/(2)=607","(0+0)/(2)=0","(1859+4781)/(2)=3320","(0+0)/(2)=0","(0+0)/(2)=0","(0+0)/(2)=0","(0+0)/(2)=0","(5591+5072)/(2)=5331.5","(0+464)/(2)=232","(0+0)/(2)=0","(512+703)/(2)=607.5","(720+189)/(2)=454.5","(1516+742)/(2)=1129","(50+1821)/(2)=935.5","(0+0)/(2)=0","(3587+0)/(2)=1793.5","(0+0)/(2)=0","(0+0)/(2)=0","(1009+2392)/(2)=1700.5","(988068+0)/(2)=494034"]
["S5","(0+0)/(2)=0","(4682+4219)/(2)=4450.5","(4013+5607)/(2)=4810","(0+987269)/(2)=493634.5","(0+0)/(2)=0","(0+0)/(2)=0","(98+1116)/(2)=607","(0+0)/(2)=0","(1859+4518)/(2)=3188.5","(0+0)/(2)=0","(0+0)/(2)=0","(0+0)/(2)=0","(0+0)/(2)=0","(5591+5072)/(2)=5331.5","(0+464)/(2)=232","(0+0)/(2)=0","(512+703)/(2)=607.5","(334+189)/(2)=261.5","(1516+742)/(2)=1129","(50+504)/(2)=277","(0+0)/(2)=0","(3587+0)/(2)=1793.5","(0+0)/(2)=0","(0+0)/(2)=0","(1009+2392)/(2)=1700.5","(988068+0)/(2)=494034"]
["S6","(0+0)/(2)=0","(4682+4219)/(2)=4450.5","(4013+5607)/(2)=4810","(0+987269)/(2)=493634.5","(0+0)/(2)=0","(0+0)/(2)=0","(98+1116)/(2)=607","(0+0)/(2)=0","(1859+4518)/(2)=3188.5","(0+0)/(2)=0","(0+0)/(2)=0","(0+0)/(2)=0","(0+0)/(2)=0","(5591+5072)/(2)=5331.5","(0+464)/(2)=232","(0+0)/(2)=0","(512+703)/(2)=607.5","(334+189)/(2)=261.5","(1516+742)/(2)=1129","(50+504)/(2)=277","(0+0)/(2)=0","(3587+0)/(2)=1793.5","(0+0)/(2)=0","(0+0)/(2)=0","(1009+2392)/(2)=1700.5","(988068+0)/(2)=494034"]
["S7","(0+0)/(2)=0","(4682+4219)/(2)=4450.5","(4013+5607)/(2)=4810","(0+987269)/(2)=493634.5","(0+0)/(2)=0","(0+0)/(2)=0","(98+1116)/(2)=607","(0+0)/(2)=0","(1859+4518)/(2)=3188.5","(0+0)/(2)=0","(0+0)/(2)=0","(0+0)/(2)=0","(0+0)/(2)=0","(5453+5072)/(2)=5262.5","(0+464)/(2)=232","(0+0)/(2)=0","(145+703)/(2)=424","(334+189)/(2)=261.5","(1516+742)/(2)=1129","(50+504)/(2)=277","(0+0)/(2)=0","(3587+0)/(2)=1793.5","(0+0)/(2)=0","(0+0)/(2)=0","(1009+2392)/(2)=1700.5","(988068+0)/(2)=494034"]
["S8","(0+0)/(2)=0","(4682+4219)/(2)=4450.5","(731+36)/(2)=383.5","(0+987269)/(2)=493634.5","(0+0)/(2)=0","(0+0)/(2)=0","(98+1116)/(2)=607","(0+0)/(2)=0","(1859+4518)/(2)=3188.5","(0+0)/(2)=0","(0+0)/(2)=0","(0+0)/(2)=0","(0+0)/(2)=0","(4345+3598)/(2)=3971.5","(0+464)/(2)=232","(0+0)/(2)=0","(0+703)/(2)=351.5","(334+189)/(2)=261.5","(1516+742)/(2)=1129","(50+504)/(2)=277","(0+0)/(2)=0","(3587+0)/(2)=1793.5","(0+0)/(2)=0","(0+0)/(2)=0","(1009+2392)/(2)=1700.5","(988068+0)/(2)=494034"]
["S9","(0+0)/(2)=0","(4682+4219)/(2)=4450.5","(731+36)/(2)=383.5","(0+987269)/(2)=493634.5","(0+0)/(2)=0","(0+0)/(2)=0","(98+1116)/(2)=607","(0+0)/(2)=0","(1859+4518)/(2)=3188.5","(0+0)/(2)=0","(0+0)/(2)=0","(0+0)/(2)=0","(0+0)/(2)=0","(4345+2995)/(2)=3670","(0+464)/(2)=232","(0+0)/(2)=0","(0+559)/(2)=279.5","(334+189)/(2)=261.5","(1516+742)/(2)=1129","(50+504)/(2)=277","(0+0)/(2)=0","(3587+0)/(2)=1793.5","(0+0)/(2)=0","(0+0)/(2)=0","(1009+2392)/(2)=1700.5","(988068+0)/(2)=494034"]
["S10","(0+0)/(2)=0","(4682+4219)/(2)=4450.5","(0+0)/(2)=0","(0+987269)/(2)=493634.5","(0+0)/(2)=0","(0+0)/(2)=0","(98+1116)/(2)=607","(0+0)/(2)=0","(1859+4518)/(2)=3188.5","(0+0)/(2)=0","(0+0)/(2)=0","(0+0)/(2)=0","(0+0)/(2)=0","(4345+2995)/(2)=3670","(0+464)/(2)=232","(0+0)/(2)=0","(0+559)/(2)=279.5","(334+189)/(2)=261.5","(1516+742)/(2)=1129","(50+504)/(2)=277","(0+0)/(2)=0","(3587+0)/(2)=1793.5","(0+0)/(2)=0","(0+0)/(2)=0","(1009+2392)/(2)=1700.5","(988068+0)/(2)=494034"]
["S11","(0+0)/(2)=0","(4682+4219)/(2)=4450.5","(0+0)/(2)=0","(0+987269)/(2)=493634.5","(0+0)/(2)=0","(0+0)/(2)=0","(98+1116)/(2)=607","(0+0)/(2)=0","(1859+4518)/(2)=3188.5","(0+0)/(2)=0","(0+0)/(2)=0","(0+0)/(2)=0","(0+0)/(2)=0","(3614+2995)/(2)=3304.5","(0+464)/(2)=232","(0+0)/(2)=0","(0+559)/(2)=279.5","(334+189)/(2)=261.5","(1516+742)/(2)=1129","(50+504)/(2)=277","(0+0)/(2)=0","(3587+0)/(2)=1793.5","(0+0)/(2)=0","(0+0)/(2)=0","(1009+2392)/(2)=1700.5","(988069+0)/(2)=494034.5"]
["S12","(0+0)/(2)=0","(4682+4219)/(2)=4450.5","(0+0)/(2)=0","(0+987269)/(2)=493634.5","(0+0)/(2)=0","(0+0)/(2)=0","(98+1116)/(2)=607","(0+0)/(2)=0","(1859+4518)/(2)=3188.5","(0+0)/(2)=0","(0+0)/(2)=0","(0+0)/(2)=0","(0+0)/(2)=0","(3614+2995)/(2)=3304.5","(0+464)/(2)=232","(0+0)/(2)=0","(0+559)/(2)=279.5","(334+189)/(2)=261.5","(1238+742)/(2)=990","(50+504)/(2)=277","(0+0)/(2)=0","(3587+0)/(2)=1793.5","(0+0)/(2)=0","(0+0)/(2)=0","(1009+2392)/(2)=1700.5","(988068+0)/(2)=494034"]
["S13","(0+0)/(2)=0","(4682+4219)/(2)=4450.5","(0+0)/(2)=0","(0+987269)/(2)=493634.5","(0+0)/(2)=0","(0+0)/(2)=0","(98+1116)/(2)=607","(0+0)/(2)=0","(1859+4518)/(2)=3188.5","(0+0)/(2)=0","(0+0)/(2)=0","(0+0)/(2)=0","(0+0)/(2)=0","(3614+2995)/(2)=3304.5","(0+0)/(2)=0","(0+0)/(2)=0","(0+559)/(2)=279.5","(334+189)/(2)=261.5","(403+742)/(2)=572.5","(50+504)/(2)=277","(0+0)/(2)=0","(3587+0)/(2)=1793.5","(0+0)/(2)=0","(0+0)/(2)=0","(1009+2392)/(2)=1700.5","(988068+0)/(2)=494034"]
["S14","(0+0)/(2)=0","(4682+4219)/(2)=4450.5","(0+0)/(2)=0","(0+987269)/(2)=493634.5","(0+0)/(2)=0","(0+0)/(2)=0","(98+1116)/(2)=607","(0+0)/(2)=0","(1859+4518)/(2)=3188.5","(0+0)/(2)=0","(0+0)/(2)=0","(0+0)/(2)=0","(0+0)/(2)=0","(3614+2995)/(2)=3304.5","(0+0)/(2)=0","(0+0)/(2)=0","(0+0)/(2)=0","(334+189)/(2)=261.5","(0+0)/(2)=0","(50+504)/(2)=277","(0+0)/(2)=0","(3587+0)/(2)=1793.5","(0+0)/(2)=0","(0+0)/(2)=0","(1009+2392)/(2)=1700.5","(988068+0)/(2)=494034"]
["S15","(0+0)/(2)=0","(4682+4219)/(2)=4450.5","(0+0)/(2)=0","(0+987269)/(2)=493634.5","(0+0)/(2)=0","(0+0)/(2)=0","(98+1116)/(2)=607","(0+0)/(2)=0","(1859+4457)/(2)=3158","(0+0)/(2)=0","(0+0)/(2)=0","(0+0)/(2)=0","(0+0)/(2)=0","(3614+2995)/(2)=3304.5","(0+0)/(2)=0","(0+0)/(2)=0","(0+0)/(2)=0","(0+189)/(2)=94.5","(0+0)/(2)=0","(0+306)/(2)=153","(0+0)/(2)=0","(3587+0)/(2)=1793.5","(0+0)/(2)=0","(0+0)/(2)=0","(1009+2392)/(2)=1700.5","(988068+0)/(2)=494034"]
["S16","(0+0)/(2)=0","(4682+4219)/(2)=4450.5","(0+0)/(2)=0","(0+987269)/(2)=493634.5","(0+0)/(2)=0","(0+0)/(2)=0","(98+1116)/(2)=607","(0+0)/(2)=0","(1859+4457)/(2)=3158","(0+0)/(2)=0","(0+0)/(2)=0","(0+0)/(2)=0","(0+0)/(2)=0","(3614+2919)/(2)=3266.5","(0+0)/(2)=0","(0+0)/(2)=0","(0+0)/(2)=0","(0+100)/(2)=50","(0+0)/(2)=0","(0+306)/(2)=153","(0+0)/(2)=0","(3587+0)/(2)=1793.5","(0+0)/(2)=0","(0+0)/(2)=0","(1009+2392)/(2)=1700.5","(988068+0)/(2)=494034"]
["S17","(0+0)/(2)=0","(4682+4219)/(2)=4450.5","(0+0)/(2)=0","(0+987269)/(2)=493634.5","(0+0)/(2)=0","(0+0)/(2)=0","(98+1116)/(2)=607","(0+0)/(2)=0","(1859+4457)/(2)=3158","(0+0)/(2)=0","(0+0)/(2)=0","(0+0)/(2)=0","(0+0)/(2)=0","(3614+2919)/(2)=3266.5","(0+0)/(2)=0","(0+0)/(2)=0","(0+0)/(2)=0","(0+100)/(2)=50","(0+0)/(2)=0","(0+306)/(2)=153","(0+0)/(2)=0","(3587+0)/(2)=1793.5","(0+0)/(2)=0","(0+0)/(2)=0","(0+2392)/(2)=1196","(988068+0)/(2)=494034"]
["S18","(0+0)/(2)=0","(4682+4219)/(2)=4450.5","(0+0)/(2)=0","(0+987269)/(2)=493634.5","(0+0)/(2)=0","(0+0)/(2)=0","(98+1116)/(2)=607","(0+0)/(2)=0","(1859+4457)/(2)=3158","(0+0)/(2)=0","(0+0)/(2)=0","(0+0)/(2)=0","(0+0)/(2)=0","(3383+2919)/(2)=3151","(0+0)/(2)=0","(0+0)/(2)=0","(0+0)/(2)=0","(0+100)/(2)=50","(0+0)/(2)=0","(0+306)/(2)=153","(0+0)/(2)=0","(3587+0)/(2)=1793.5","(0+0)/(2)=0","(0+0)/(2)=0","(0+2392)/(2)=1196","(988068+0)/(2)=494034"]
["S19","(0+0)/(2)=0","(4682+4219)/(2)=4450.5","(0+0)/(2)=0","(0+987269)/(2)=493634.5","(0+0)/(2)=0","(0+0)/(2)=0","(98+1116)/(2)=607","(0+0)/(2)=0","(1859+4370)/(2)=3114.5","(0+0)/(2)=0","(0+0)/(2)=0","(0+0)/(2)=0","(0+0)/(2)=0","(3383+2919)/(2)=3151","(0+0)/(2)=0","(0+0)/(2)=0","(0+0)/(2)=0","(0+100)/(2)=50","(0+0)/(2)=0","(0+306)/(2)=153","(0+0)/(2)=0","(3587+0)/(2)=1793.5","(0+0)/(2)=0","(0+0)/(2)=0","(0+1080)/(2)=540","(988068+0)/(2)=494034"]
["S20","(0+0)/(2)=0","(4682+4219)/(2)=4450.5","(0+0)/(2)=0","(0+987269)/(2)=493634.5","(0+0)/(2)=0","(0+0)/(2)=0","(98+1116)/(2)=607","(0+0)/(2)=0","(1859+4370)/(2)=3114.5","(0+0)/(2)=0","(0+0)/(2)=0","(0+0)/(2)=0","(0+0)/(2)=0","(3383+2919)/(2)=3151","(0+0)/(2)=0","(0+0)/(2)=0","(0+0)/(2)=0","(0+100)/(2)=50","(0+0)/(2)=0","(0+306)/(2)=153","(0+0)/(2)=0","(3587+0)/(2)=1793.5","(0+0)/(2)=0","(0+0)/(2)=0","(0+1080)/(2)=540","(988068+0)/(2)=494034"]
["S21","(0+0)/(2)=0","(2942+2416)/(2)=2679","(0+0)/(2)=0","(0+987269)/(2)=493634.5","(0+0)/(2)=0","(0+0)/(2)=0","(98+1116)/(2)=607","(0+0)/(2)=0","(1859+4370)/(2)=3114.5","(0+0)/(2)=0","(0+0)/(2)=0","(0+0)/(2)=0","(0+0)/(2)=0","(3383+2919)/(2)=3151","(0+0)/(2)=0","(0+0)/(2)=0","(0+0)/(2)=0","(0+100)/(2)=50","(0+0)/(2)=0","(0+306)/(2)=153","(0+0)/(2)=0","(3587+0)/(2)=1793.5","(0+0)/(2)=0","(0+0)/(2)=0","(0+1080)/(2)=540","(988068+0)/(2)=494034"]
["S22","(0+0)/(2)=0","(2942+2416)/(2)=2679","(0+0)/(2)=0","(0+987269)/(2)=493634.5","(0+0)/(2)=0","(0+0)/(2)=0","(0+1116)/(2)=558","(0+0)/(2)=0","(1859+4370)/(2)=3114.5","(0+0)/(2)=0","(0+0)/(2)=0","(0+0)/(2)=0","(0+0)/(2)=0","(3383+2919)/(2)=3151","(0+0)/(2)=0","(0+0)/(2)=0","(0+0)/(2)=0","(0+100)/(2)=50","(0+0)/(2)=0","(0+0)/(2)=0","(0+0)/(2)=0","(3587+0)/(2)=1793.5","(0+0)/(2)=0","(0+0)/(2)=0","(0+0)/(2)=0","(988069+0)/(2)=494034.5"]
["S23","(0+0)/(2)=0","(2824+2416)/(2)=2620","(0+0)/(2)=0","(0+987269)/(2)=493634.5","(0+0)/(2)=0","(0+0)/(2)=0","(0+1116)/(2)=558","(0+0)/(2)=0","(1859+4370)/(2)=3114.5","(0+0)/(2)=0","(0+0)/(2)=0","(0+0)/(2)=0","(0+0)/(2)=0","(679+0)/(2)=339.5","(0+0)/(2)=0","(0+0)/(2)=0","(0+0)/(2)=0","(0+100)/(2)=50","(0+0)/(2)=0","(0+0)/(2)=0","(0+0)/(2)=0","(3587+0)/(2)=1793.5","(0+0)/(2)=0","(0+0)/(2)=0","(0+0)/(2)=0","(988069+0)/(2)=494034.5"]
["S24","(0+0)/(2)=0","(2824+2416)/(2)=2620","(0+0)/(2)=0","(0+987269)/(2)=493634.5","(0+0)/(2)=0","(0+0)/(2)=0","(0+1116)/(2)=558","(0+0)/(2)=0","(1859+4370)/(2)=3114.5","(0+0)/(2)=0","(0+0)/(2)=0","(0+0)/(2)=0","(0+0)/(2)=0","(679+0)/(2)=339.5","(0+0)/(2)=0","(0+0)/(2)=0","(0+0)/(2)=0","(0+0)/(2)=0","(0+0)/(2)=0","(0+0)/(2)=0","(0+0)/(2)=0","(3587+0)/(2)=1793.5","(0+0)/(2)=0","(0+0)/(2)=0","(0+0)/(2)=0","(988068+0)/(2)=494034"]
["S25","(0+0)/(2)=0","(2824+2416)/(2)=2620","(0+0)/(2)=0","(0+987269)/(2)=493634.5","(0+0)/(2)=0","(0+0)/(2)=0","(0+0)/(2)=0","(0+0)/(2)=0","(1859+4370)/(2)=3114.5","(0+0)/(2)=0","(0+0)/(2)=0","(0+0)/(2)=0","(0+0)/(2)=0","(679+0)/(2)=339.5","(0+0)/(2)=0","(0+0)/(2)=0","(0+0)/(2)=0","(0+0)/(2)=0","(0+0)/(2)=0","(0+0)/(2)=0","(0+0)/(2)=0","(3587+0)/(2)=1793.5","(0+0)/(2)=0","(0+0)/(2)=0","(0+0)/(2)=0","(988068+0)/(2)=494034"]
["S26","(0+0)/(2)=0","(2824+2416)/(2)=2620","(0+0)/(2)=0","(0+987269)/(2)=493634.5","(0+0)/(2)=0","(0+0)/(2)=0","(0+0)/(2)=0","(0+0)/(2)=0","(1859+4370)/(2)=3114.5","(0+0)/(2)=0","(0+0)/(2)=0","(0+0)/(2)=0","(0+0)/(2)=0","(0+0)/(2)=0","(0+0)/(2)=0","(0+0)/(2)=0","(0+0)/(2)=0","(0+0)/(2)=0","(0+0)/(2)=0","(0+0)/(2)=0","(0+0)/(2)=0","(3587+0)/(2)=1793.5","(0+0)/(2)=0","(0+0)/(2)=0","(0+0)/(2)=0","(988069+0)/(2)=494034.5"]
["S27","(0+0)/(2)=0","(0+0)/(2)=0","(0+0)/(2)=0","(0+987269)/(2)=493634.5","(0+0)/(2)=0","(0+0)/(2)=0","(0+0)/(2)=0","(0+0)/(2)=0","(1859+4370)/(2)=3114.5","(0+0)/(2)=0","(0+0)/(2)=0","(0+0)/(2)=0","(0+0)/(2)=0","(0+0)/(2)=0","(0+0)/(2)=0","(0+0)/(2)=0","(0+0)/(2)=0","(0+0)/(2)=0","(0+0)/(2)=0","(0+0)/(2)=0","(0+0)/(2)=0","(3587+0)/(2)=1793.5","(0+0)/(2)=0","(0+0)/(2)=0","(0+0)/(2)=0","(988068+0)/(2)=494034"]
["S28","(0+0)/(2)=0","(0+0)/(2)=0","(0+0)/(2)=0","(0+987269)/(2)=493634.5","(0+0)/(2)=0","(0+0)/(2)=0","(0+0)/(2)=0","(0+0)/(2)=0","(0+0)/(2)=0","(0+0)/(2)=0","(0+0)/(2)=0","(0+0)/(2)=0","(0+0)/(2)=0","(0+0)/(2)=0","(0+0)/(2)=0","(0+0)/(2)=0","(0+0)/(2)=0","(0+0)/(2)=0","(0+0)/(2)=0","(0+0)/(2)=0","(0+0)/(2)=0","(3587+0)/(2)=1793.5","(0+0)/(2)=0","(0+0)/(2)=0","(0+0)/(2)=0","(988068+0)/(2)=494034"]
["S29","(0+0)/(2)=0","(0+0)/(2)=0","(0+0)/(2)=0","(0+987269)/(2)=493634.5","(0+0)/(2)=0","(0+0)/(2)=0","(0+0)/(2)=0","(0+0)/(2)=0","(0+0)/(2)=0","(0+0)/(2)=0","(0+0)/(2)=0","(0+0)/(2)=0","(0+0)/(2)=0","(0+0)/(2)=0","(0+0)/(2)=0","(0+0)/(2)=0","(0+0)/(2)=0","(0+0)/(2)=0","(0+0)/(2)=0","(0+0)/(2)=0","(0+0)/(2)=0","(0+0)/(2)=0","(0+0)/(2)=0","(0+0)/(2)=0","(0+0)/(2)=0","(988068+0)/(2)=494034"]
[]
["Lépcsôk(2)","X(A1)","X(A2)","X(A3)","X(A4)","X(A5)","X(A6)","X(A7)","X(A8)","X(A9)","X(A10)","X(A11)","X(A12)","X(A13)","X(A14)","X(A15)","X(A16)","X(A17)","X(A18)","X(A19)","X(A20)","X(A21)","X(A22)","X(A23)","X(A24)","X(A25)","X(A26)"]
["S1",0,5067.5,4810,493634.5,0,0,607,0,3320,0,0,0,0,5331.5,232,0,3472,1097,1129,935.5,1510,2486,0,0,1700.5,494034]
["S2",0,5067.5,4810,493634.5,0,0,607,0,3320,0,0,0,0,5331.5,232,0,3472,556.5,1129,935.5,1510,1793.5,0,0,1700.5,494034.5]
["S3",0,5067.5,4810,493634.5,0,0,607,0,3320,0,0,0,0,5331.5,232,0,1105,454.5,1129,935.5,0,1793.5,0,0,1700.5,494034]
["S4",0,4450.5,4810,493634.5,0,0,607,0,3320,0,0,0,0,5331.5,232,0,607.5,454.5,1129,935.5,0,1793.5,0,0,1700.5,494034]
["S5",0,4450.5,4810,493634.5,0,0,607,0,3188.5,0,0,0,0,5331.5,232,0,607.5,261.5,1129,277,0,1793.5,0,0,1700.5,494034]
["S6",0,4450.5,4810,493634.5,0,0,607,0,3188.5,0,0,0,0,5331.5,232,0,607.5,261.5,1129,277,0,1793.5,0,0,1700.5,494034]
["S7",0,4450.5,4810,493634.5,0,0,607,0,3188.5,0,0,0,0,5262.5,232,0,424,261.5,1129,277,0,1793.5,0,0,1700.5,494034]
["S8",0,4450.5,383.5,493634.5,0,0,607,0,3188.5,0,0,0,0,3971.5,232,0,351.5,261.5,1129,277,0,1793.5,0,0,1700.5,494034]
["S9",0,4450.5,383.5,493634.5,0,0,607,0,3188.5,0,0,0,0,3670,232,0,279.5,261.5,1129,277,0,1793.5,0,0,1700.5,494034]
["S10",0,4450.5,0,493634.5,0,0,607,0,3188.5,0,0,0,0,3670,232,0,279.5,261.5,1129,277,0,1793.5,0,0,1700.5,494034]
["S11",0,4450.5,0,493634.5,0,0,607,0,3188.5,0,0,0,0,3304.5,232,0,279.5,261.5,1129,277,0,1793.5,0,0,1700.5,494034.5]
["S12",0,4450.5,0,493634.5,0,0,607,0,3188.5,0,0,0,0,3304.5,232,0,279.5,261.5,990,277,0,1793.5,0,0,1700.5,494034]
["S13",0,4450.5,0,493634.5,0,0,607,0,3188.5,0,0,0,0,3304.5,0,0,279.5,261.5,572.5,277,0,1793.5,0,0,1700.5,494034]
["S14",0,4450.5,0,493634.5,0,0,607,0,3188.5,0,0,0,0,3304.5,0,0,0,261.5,0,277,0,1793.5,0,0,1700.5,494034]
["S15",0,4450.5,0,493634.5,0,0,607,0,3158,0,0,0,0,3304.5,0,0,0,94.5,0,153,0,1793.5,0,0,1700.5,494034]
["S16",0,4450.5,0,493634.5,0,0,607,0,3158,0,0,0,0,3266.5,0,0,0,50,0,153,0,1793.5,0,0,1700.5,494034]
["S17",0,4450.5,0,493634.5,0,0,607,0,3158,0,0,0,0,3266.5,0,0,0,50,0,153,0,1793.5,0,0,1196,494034]
["S18",0,4450.5,0,493634.5,0,0,607,0,3158,0,0,0,0,3151,0,0,0,50,0,153,0,1793.5,0,0,1196,494034]
["S19",0,4450.5,0,493634.5,0,0,607,0,3114.5,0,0,0,0,3151,0,0,0,50,0,153,0,1793.5,0,0,540,494034]
["S20",0,4450.5,0,493634.5,0,0,607,0,3114.5,0,0,0,0,3151,0,0,0,50,0,153,0,1793.5,0,0,540,494034]
["S21",0,2679,0,493634.5,0,0,607,0,3114.5,0,0,0,0,3151,0,0,0,50,0,153,0,1793.5,0,0,540,494034]
["S22",0,2679,0,493634.5,0,0,558,0,3114.5,0,0,0,0,3151,0,0,0,50,0,0,0,1793.5,0,0,0,494034.5]
["S23",0,2620,0,493634.5,0,0,558,0,3114.5,0,0,0,0,339.5,0,0,0,50,0,0,0,1793.5,0,0,0,494034.5]
["S24",0,2620,0,493634.5,0,0,558,0,3114.5,0,0,0,0,339.5,0,0,0,0,0,0,0,1793.5,0,0,0,494034]
["S25",0,2620,0,493634.5,0,0,0,0,3114.5,0,0,0,0,339.5,0,0,0,0,0,0,0,1793.5,0,0,0,494034]
["S26",0,2620,0,493634.5,0,0,0,0,3114.5,0,0,0,0,0,0,0,0,0,0,0,0,1793.5,0,0,0,494034.5]
["S27",0,0,0,493634.5,0,0,0,0,3114.5,0,0,0,0,0,0,0,0,0,0,0,0,1793.5,0,0,0,494034]
["S28",0,0,0,493634.5,0,0,0,0,0,0,0,0,0,0,0,0,0,0,0,0,0,1793.5,0,0,0,494034]
["S29",0,0,0,493634.5,0,0,0,0,0,0,0,0,0,0,0,0,0,0,0,0,0,0,0,0,0,494034]
[]
["COCO:STD","X(A1)","X(A2)","X(A3)","X(A4)","X(A5)","X(A6)","X(A7)","X(A8)","X(A9)","X(A10)","X(A11)","X(A12)","X(A13)","X(A14)","X(A15)","X(A16)","X(A17)","X(A18)","X(A19)","X(A20)","X(A21)","X(A22)","X(A23)","X(A24)","X(A25)","X(A26)","Becslés","Tény+0","Delta","Delta/Tény"]
["O1",0,5067.5,0,493634.5,0,0,607,0,3320,0,0,0,0,5331.5,232,0,607.5,261.5,1129,277,0,1793.5,0,0,0,494034.5,1006295.5,1006295,-0.5,0]
["O2",0,5067.5,0,493634.5,0,0,607,0,3320,0,0,0,0,5331.5,232,0,607.5,261.5,1129,277,0,1793.5,0,0,0,494034.5,1006295.5,1006295,-0.5,0]
["O3",0,2679,0,493634.5,0,0,607,0,3114.5,0,0,0,0,3151,232,0,0,0,0,0,0,1793.5,0,0,1700.5,494034,1000946,1000946,0,0]
["O4",0,4450.5,0,493634.5,0,0,607,0,3114.5,0,0,0,0,3670,0,0,0,261.5,1129,0,0,0,0,0,0,494034,1000901,1000901,0,0]
["O5",0,4450.5,4810,493634.5,0,0,607,0,3114.5,0,0,0,0,5262.5,232,0,279.5,261.5,1129,0,0,1793.5,0,0,0,494034,1009608.5,1009609,0.5,0]
["O6",0,4450.5,0,493634.5,0,0,607,0,3114.5,0,0,0,0,3304.5,232,0,0,261.5,1129,0,0,1793.5,0,0,1196,494034,1003757,1003757,0,0]
["O7",0,4450.5,4810,493634.5,0,0,0,0,0,0,0,0,0,0,0,0,0,50,0,935.5,0,1793.5,0,0,1700.5,494034,1001408.5,1001409,0.5,0]
["O8",0,4450.5,0,493634.5,0,0,607,0,3114.5,0,0,0,0,5331.5,0,0,0,0,0,277,0,1793.5,0,0,1700.5,494034,1004943,1004943,0,0]
["O9",0,0,4810,493634.5,0,0,607,0,3188.5,0,0,0,0,5331.5,0,0,0,50,1129,153,0,1793.5,0,0,0,494034.5,1004731.5,1004731,-0.5,0]
["O10",0,2620,383.5,493634.5,0,0,558,0,3114.5,0,0,0,0,3304.5,0,0,0,50,1129,935.5,0,1793.5,0,0,1700.5,494034.5,1003258,1003257,-1,0]
["O11",0,4450.5,0,493634.5,0,0,607,0,3188.5,0,0,0,0,3670,0,0,279.5,94.5,0,935.5,0,1793.5,0,0,0,494034,1002687.5,1002688,0.5,0]
["O12",0,5067.5,0,493634.5,0,0,607,0,3158,0,0,0,0,0,0,0,0,0,0,0,0,2486,0,0,1700.5,494034,1000687.5,1000688,0.5,0]
["O13",0,2679,4810,493634.5,0,0,607,0,3188.5,0,0,0,0,339.5,232,0,0,261.5,0,0,0,1793.5,0,0,0,494034,1001579.5,1001580,0.5,0]
["O14",0,4450.5,0,493634.5,0,0,607,0,3188.5,0,0,0,0,3151,0,0,0,50,0,277,0,1793.5,0,0,540,494034,1001726,1001726,0,0]
["O15",0,4450.5,0,493634.5,0,0,607,0,3114.5,0,0,0,0,3304.5,0,0,0,50,0,277,0,1793.5,0,0,1700.5,494034,1002966,1002966,0,0]
["O16",0,4450.5,0,493634.5,0,0,607,0,3320,0,0,0,0,0,232,0,3472,0,1129,153,1510,1793.5,0,0,0,494034,1004335.5,1004336,0.5,0]
["O17",0,4450.5,0,493634.5,0,0,0,0,3114.5,0,0,0,0,3304.5,232,0,351.5,50,0,153,0,1793.5,0,0,1700.5,494034.5,1002819,1002819,0,0]
["O18",0,2620,0,493634.5,0,0,558,0,3188.5,0,0,0,0,3151,0,0,0,50,0,0,0,1793.5,0,0,1700.5,494034,1000730,1000730,0,0]
["O19",0,4450.5,0,493634.5,0,0,607,0,3188.5,0,0,0,0,3151,232,0,424,0,1129,153,0,1793.5,0,0,540,494034,1003337,1003337,0,0]
["O20",0,4450.5,4810,493634.5,0,0,607,0,3320,0,0,0,0,3304.5,232,0,279.5,261.5,1129,277,1510,1793.5,0,0,1196,494034,1010839,1010839,0,0]
["O21",0,2620,0,493634.5,0,0,0,0,0,0,0,0,0,5331.5,0,0,3472,0,0,0,0,1793.5,0,0,1700.5,494034.5,1002586.5,1002586,-0.5,0]
["O22",0,0,4810,493634.5,0,0,0,0,3158,0,0,0,0,3266.5,0,0,1105,261.5,0,277,0,1793.5,0,0,1700.5,494034,1004040.5,1004040,-0.5,0]
["O23",0,4450.5,383.5,493634.5,0,0,607,0,3158,0,0,0,0,5331.5,232,0,607.5,50,0,153,0,1793.5,0,0,1700.5,494034,1006135.5,1006136,0.5,0]
["O24",0,0,4810,493634.5,0,0,0,0,3114.5,0,0,0,0,0,0,0,0,1097,0,153,0,1793.5,0,0,1700.5,494034,1000337,1000337,0,0]
["O25",0,2620,0,493634.5,0,0,558,0,3158,0,0,0,0,3151,0,0,0,261.5,0,153,0,1793.5,0,0,1700.5,494034,1001064,1001064,0,0]
["O26",0,4450.5,0,493634.5,0,0,607,0,3188.5,0,0,0,0,339.5,0,0,0,454.5,1129,935.5,0,1793.5,0,0,1700.5,494034,1002267,1002267,0,0]
["O27",0,4450.5,0,493634.5,0,0,607,0,3188.5,0,0,0,0,339.5,0,0,0,556.5,572.5,277,0,1793.5,0,0,1700.5,494034,1001154,1001154,0,0]
["O28",0,4450.5,0,493634.5,0,0,607,0,3188.5,0,0,0,0,3266.5,0,0,279.5,454.5,0,277,0,1793.5,0,0,1700.5,494034,1003686,1003686,0,0]
["O29",0,4450.5,0,493634.5,0,0,607,0,3188.5,0,0,0,0,3971.5,232,0,279.5,261.5,990,277,0,1793.5,0,0,540,494034,1004259.5,1004260,0.5,0]
[]
["S1 összeg:",1019366.5]
["S29 összeg:",987668.5]
["Becslés összeg:",29099381.5]
["Tény összeg:",29099382]
["Tény-becslés eltérés:",-0.5]
["Tény négyzetösszeg:"]
["Becslés négyzetösszeg:"]
["Négyzetösszeg hiba:",0]
[]
["Open url"]
[]
["Maximális memória használat: 1.52 Mb"]
["A futtatás idôtartama: 0.49 mp (0.01 p)"]
[null,null,null,null,null,null,null,null,null,null,null,null,null,null,null,null,null,null,null,null,null,null,null,null,null,null,null,"korrel",{"$f":"CORREL(AC193:AC221,AB193:AB221)","v":0.99999998852580996}]

{"sheet":"2015","index":4,"n_rows":236,"n_cols":32,"rows_kept":236,"cut":false,"hidden":false,"merged":[]}
["Területi egység neve","Területi egység szintje","Év","Lakosság","Belgyógyászat","Sebészet","Baleseti sebészet","Szülészet és nőgyógyászat","Csecsemő- és gyermek-gyógyászat","Fül-orr-gégészet","Szemészet","Bőrgyógyászat és nemibeteg-ellátás","Neurológia","Ortopédia","Urológia","Onkológia","Fogászat","Reumatológia","Aneszteziológiai és intenzív betegellátás","Pszichiátria","Nukleáris medicina (izotóp-diagnosztika és \n-terápia)","Fizioterápia","Patológia és kórszövettan","Ultrahang-diagnosztika és -terápia","Tomográfia","Röntgen-diagnosztika és -terápia","Laboratóriumi diagnosztika","Sürgősségi betegellátás, oxyológia","Kardiológia","Orvosi rehabilitáció","Tüdő-gyógyászat"]
["Budapest + Pest","főváros, régió + megye, régió",2015,2983733,1450019.9999999995,1082978.0000000002,507858.99999999994,1067647.9999999998,580747.00000000012,877184,932251.99999999977,777292.99999999988,458156.99999999983,450466.99999999988,592805,364592,2277599.0000000061,1193040.0000000005,115043.99999999999,840021,75220,2377062.0000000009,377570.00000000006,631520,266503.00000000017,1301911.9999999995,5634850.0000000009,236332,854074.00000000023,187816,850058.99999999988]
["Közép-Magyarország","nagyrégió",2015,2983733,1450019.9999999995,1082978.0000000002,507858.99999999994,1067647.9999999998,580747.00000000012,877184,932251.99999999977,777292.99999999988,458156.99999999983,450466.99999999988,592805,364592,2277599.0000000061,1193040.0000000005,115043.99999999999,840021,75220,2377062.0000000009,377570.00000000006,631520,266503.00000000017,1301911.9999999995,5634850.0000000009,236332,854074.00000000023,187816,850058.99999999988]
["Fejér","megye",2015,417651,132980.99999999997,85280,66207,114687,55903.000000000007,87168,82020,48480,42849,38893,39824,23715,305840.99999999977,91512,15595,59382,2780,283759,38200,93169.999999999985,27226.000000000011,171945.00000000003,491099,76534,56241,3949,75649]
["Komárom-Esztergom","megye",2015,299110,94376.000000000015,77843,40451,83260,32636.000000000007,52186.999999999985,59931,57521.999999999985,34038,18170,39174,13464,174687,83210.999999999985,6408,52396.999999999993,6872,279466,25865,50900.000000000007,12958.000000000002,116594,285110,21054,33780,2696,55034.000000000007]
["Veszprém","megye",2015,346647,98343.999999999985,75132.999999999985,76607,86158,33382,70424.000000000015,73804.999999999985,41633,35646,12264,43937.000000000007,19842,234783.00000000041,100689.00000000001,13310,73811,3849,249121.99999999997,28687,63837,26771.999999999993,116375.00000000001,303367,27950,49327,33310,80698]
["Közép-Dunántúl","régió",2015,1063408,325701,238256,183265,284105,121921.00000000001,209779,215756,147635,112533,69327,122935,57021,715311.00000000023,275412,35313,185590,13501,812347,92752,207907,66956,404914,1079576,125538,139348,39955,211381]
["Győr-Moson-Sopron","megye",2015,452638,108315.99999999997,96452.000000000015,89881,112753,50444.000000000007,65810,74184,44490,40197,30036,63061,35983,246390.00000000009,69679,11609,79205.000000000015,3790,279066,81727,77344,38245.000000000007,174996,426304,73743,49228.999999999993,6377,66126]
["Vas","megye",2015,253997,73943,52107,23755,62474,19633,41129,48222,29887,25530,10810,30609,28277.000000000004,132193,76423,5745,31074,1191,126238,25108,21640,19200.000000000004,74795,300301,30228,14479.999999999998,12554,43117]
["Zala","megye",2015,277290,87999,44303,64629,65648,26406.000000000004,49058,59198,35181,35666.999999999993,31790,35801,22759,174779.00000000009,89866,7460,34944.000000000007,2405,315907,26873,51036,22958.000000000004,91342,373036,28105,42109,13118.999999999998,58002.000000000007]
["Nyugat-Dunántúl","régió",2015,983925,270258,192862,178265,240875,96483,155997,181604,109558,101394,72636,129471,87019,553362.00000000023,235968,24814,145223.00000000003,7386,721211,133708,150020,80403.000000000015,341133,1099641,132076,105818,32050,167245]
["Baranya","megye",2015,371110,160025,111824,62087,125518.99999999997,101519.99999999999,83457,94033,85978,50578,32810,69852.999999999971,66574,359611.99999999936,103940,10800,112948.99999999997,4063,236183.99999999994,51310.000000000007,108305.00000000001,36562,148241.99999999997,687087,31761,109661,9974,99942.999999999985]
["Somogy","megye",2015,312084,106199.99999999999,107710.99999999999,31306,81172,36626.000000000007,56729,65106,56850,38855,31713.999999999996,29444.000000000004,39154,190734.00000000006,55227,7410,70725.000000000015,2013,165210.99999999997,27390,68370.999999999985,34014.999999999993,109454,426173,54368,44315.999999999993,2148,59292]
["Tolna","megye",2015,225936,86968,45793,42564,70262,40971.999999999993,46804,44509,33118,28551,23432,25477,18628,145729.99999999994,41591,8150,36388,3476,105977,20601,35961,11708.999999999995,76679,275892,18344,40315,3570,42310]
["Dél-Dunántúl","régió",2015,909130,353193,265328,135957,276953,179118,186990,203648,175946,117984,87956,124773.99999999997,124356,696075.9999999993,200758,26360,220062,9552,507371.99999999988,99301,212637,82286,334375,1389152,104473,194292,15692,201545]
["Dunántúl","nagyrégió",2015,2956463,949152,696446,497487,801933,397522,552766,601008,433139,331911,229919,377180,268396,1964748.9999999998,712138,86487,550875,30439,2040930,325761,570564,229645,1080422,3568369,362087,439458,87697,580171]
["Borsod-Abaúj-Zemplén","megye",2015,667594,247805.00000000003,176648,94757,195881,98004,113577.99999999999,152256,104569,101589.99999999999,45932,69339,56758,464136.00000000081,121199,22541,99977.999999999985,4295,614189.99999999977,62958,198499.00000000003,51216.999999999978,241375.99999999997,760183,35201,84607,28948,211607]
["Heves","megye",2015,301296,110610,70096,41270,98686,18981,39567,52583,25887,32745.999999999996,28058,27403,21926.000000000004,215834.00000000032,75068,12404,65327.999999999993,2436,111782,29343,48316,20890.000000000004,102091,364409.99999999994,54935,34544,8495,81680]
["Nógrád","megye",2015,195923,62658.000000000015,37874,26038,41260,20056,25725,35778,27374.000000000007,24813.999999999996,11700,11751,8069,135021.00000000015,38747,3667,40476.000000000007,1562,107851,15388,34425,8860,62613,177633,30887,15189,1431,35962]
["Észak-Magyarország","régió",2015,1164813,421073,284618,162065,335827,137041,178870,240617,157830,159149.99999999997,85690,108493,86753,814991.00000000128,235014,38612,205781.99999999997,8293,833822.99999999977,107689,281240,80966.999999999985,406080,1302226,121023,134340,38874,329249]
["Hajdú-Bihar","megye",2015,537268,333593.99999999988,163232.99999999994,107348,207813.99999999997,85352.999999999985,131279,140787,85197,90627.999999999985,57811.000000000007,75103,91697,470855.00000000076,145526,25954,112429.99999999999,7842,415602.00000000006,63248.000000000007,186787.99999999997,48905,258037.00000000006,992020.00000000012,63666,97846,58235,129635]
["Jász-Nagykun-Szolnok","megye",2015,379897,145437,73756,57864,86718.999999999971,26645,70072,47058,57558,28071,17693.000000000004,54129,22841,264626.99999999959,172112,6942,57516.999999999993,256,227791,26368,65651,28485.000000000004,134369,543464,57508,43308,9823.9999999999982,128675.00000000004]
["Szabolcs-Szatmár-Bereg","megye",2015,562357,233215,73136,110579,123665,80688,107775,96157,68317,66950.000000000015,41092,56038.000000000007,33228,395970.99999999994,132875,17179,82955,7482,225453.00000000006,56250,115132,41122.000000000007,218076,739801,66745,53170.000000000007,22722,176945]
["Észak-Alföld","régió",2015,1479522,712245.99999999988,310124.99999999994,275791,418197.99999999994,192686,309126,284002,211072,185649,116596.00000000001,185270,147766,1131453.0000000002,450513,50075,252901.99999999997,15580,868846,145866,367571,118512,610482,2275285,187919,194324,90781,435255.00000000006]
["Bács-Kiskun","megye",2015,513687,199932,87898.000000000015,115084.00000000001,131674,31936.999999999996,81334,92386.000000000015,102500,57213.000000000015,26655,61988,53327,346617.00000000029,92963.000000000015,16615,100311.99999999999,55330.000000000007,360500.00000000006,48335,91347.999999999985,27082.000000000018,212488.00000000003,697360.99999999988,78426,69971.999999999985,1730,83060.999999999985]
["Békés","megye",2015,351148,117889,70237,40217,87865,39538,94312,64490,61569,44059,27678,45821,36208,219059.99999999962,76811.000000000015,8143,79406,4968,214406.99999999997,33430,86121,28925.999999999993,136994.99999999994,458144.00000000012,59832,63679,3737,72986.999999999985]
["Csongrád-Csanád","megye",2015,406205,240477.00000000006,125929.99999999999,70504,162956,104407,85582,106357,98463.999999999985,61317,42872,68525.999999999985,41517,310786.99999999965,76104,13283.999999999998,119244.99999999999,20422,329303.99999999994,57737,104089,41087.000000000015,153045.00000000003,861467.00000000012,64666,77967,9207,70503.000000000015]
["Dél-Alföld","régió",2015,1271040,558298,284065,225805,382495,175882,261228,263233,262533,162589,97205,176335,131052,876463.99999999953,245878.00000000003,38042,298963,80720,904211,139502,281558,97095.000000000029,502528,2016972,202924,211618,14674,226551]
["Alföld és Észak","nagyrégió",2015,3915375,1691617,878808,663661,1136520,505609,749224,787852,631435,507388,299491,470098,365571,2822908.0000000009,931405,126729,757647,104593,2606880,393057,930369,296574,1519090,5594483,511866,540282,144329,991055]
["Ország összesen","ország",2015,9855571,4090788.9999999995,2658232,1669007,3006101,1483878,2179174,2321112,1841867,1297455.9999999998,979876.99999999988,1440083,998559,7065256.0000000065,2836583.0000000005,328260,2148543,210252,7024872.0000000009,1096388,2132453,792722.00000000023,3901423.9999999995,14797702,1110285,1833814.0000000002,419842,2421285]
[]
[null,null,null,null,{"$f":"E2/$D2","v":0.4859751190873981},{"$f":"F2/$D2","v":0.36296076089918239},0.1702092647029744,0.35782290171406078,0.19463772395184156,0.29398877178353428,0.31244484677415835,0.26051024002482792,0.15355160800245859,0.1509742996441035,0.19867897026979292,0.12219323914036544,0.76333874378170097,0.3998481097336794,3.8557069282003448E-2,0.28153356885485398,2.5210030522168036E-2,0.79667383107000556,0.12654282403955047,0.21165432697898906,8.9318648820119015E-2,0.43633662931636291,1.8885235374612945,7.9206819108814358E-2,0.28624344068319796,6.2946651057584582E-2,0.28489781089661836]
[null,null,null,null,{"$f":"E3/$D3","v":0.4859751190873981},0.36296076089918239,0.1702092647029744,0.35782290171406078,0.19463772395184156,0.29398877178353428,0.31244484677415835,0.26051024002482792,0.15355160800245859,0.1509742996441035,0.19867897026979292,0.12219323914036544,0.76333874378170097,0.3998481097336794,3.8557069282003448E-2,0.28153356885485398,2.5210030522168036E-2,0.79667383107000556,0.12654282403955047,0.21165432697898906,8.9318648820119015E-2,0.43633662931636291,1.8885235374612945,7.9206819108814358E-2,0.28624344068319796,6.2946651057584582E-2,0.28489781089661836]
[null,null,null,null,{"$f":"E4/$D4","v":0.31840220662706414},0.20418962243595729,0.15852230690217431,0.27460008475976355,0.13385099042023127,0.20871014315780401,0.19638406229124317,0.11607777785758923,0.10259522903093732,9.3123205738762746E-2,9.5352339632851349E-2,5.6781858537391268E-2,0.73228844178512631,0.21911117176781572,3.7339788483686139E-2,0.14218091181393078,6.6562752154310659E-3,0.67941654635090065,9.1463925622110323E-2,0.22308099346104759,6.5188398926376359E-2,0.41169541076161681,1.1758597489291298,0.18324869328697885,0.13466027855793475,9.455262886955855E-3,0.18112969919861319]
[null,null,null,null,{"$f":"E5/$D5","v":0.31552271739493837},0.26024873792250341,0.13523787235465212,0.27835913209187257,0.10911036073685269,0.17447427367857973,0.20036441442947411,0.19231052121293166,0.11379759954531778,6.0746882417839591E-2,0.13096854000200595,4.5013540169168531E-2,0.58402260038113074,0.27819531276119147,2.1423556551101602E-2,0.17517635652435556,2.2974825315101467E-2,0.93432516465514359,8.6473203838052889E-2,0.1701715088094681,4.3321854836013515E-2,0.38980308247801815,0.95319447694827986,7.0388820166493934E-2,0.11293504062050751,9.0134064391026707E-3,0.18399251111631174]
[null,null,null,null,{"$f":"E6/$D6","v":0.28370070994412178},0.21674210363857177,0.22099426794404683,0.24854679255842399,9.6299693924943822E-2,0.20315767913756649,0.21291111707298777,0.12010200578686675,0.10283083367229487,3.5378930150845096E-2,0.1267485366958318,5.7239785718612886E-2,0.67729707743035539,0.29046551679374122,3.8396409027050576E-2,0.21292842574722989,1.1103514526304857E-2,0.71866192408992424,8.2755656330503372E-2,0.18415563959878492,7.723130446823423E-2,0.33571616082066197,0.87514676313367779,8.0629574177765853E-2,0.14229749572331507,9.609198983403866E-2,0.23279589899811623]
[null,null,null,null,{"$f":"E7/$D7","v":0.30628037404270048},0.22404947113431534,0.17233742834358967,0.26716462543069075,0.11465119690654953,0.19727047379745122,0.20289108225629299,0.13883194408919247,0.10582297669379956,6.5193227810962484E-2,0.11560473496531905,5.3620999653942798E-2,0.67265903585453579,0.25898996434106192,3.3207386064426823E-2,0.17452379519431865,1.2695973699652438E-2,0.76390905466199244,8.7221461565081329E-2,0.19551009584279974,6.2963603809638446E-2,0.38077012774024643,1.0152039480613273,0.11805252546529649,0.1310390743722071,3.7572596783172589E-2,0.19877695108556639]
[null,null,null,null,{"$f":"E8/$D8","v":0.23929939598531269},0.21308860502211482,0.19857148538125388,0.24910193134469488,0.1114444655552561,0.14539212350708514,0.16389255873346914,9.8290466111992367E-2,8.8806065774415757E-2,6.6357663298264841E-2,0.13931883756997865,7.9496197844635227E-2,0.54434227793512713,0.15393979294712332,2.5647426862084051E-2,0.17498530834795137,8.3731370322421006E-3,0.61653241663315939,0.18055708977151719,0.17087385504531213,8.4493568812163383E-2,0.38661358524913947,0.94182105788731829,0.16291827022918978,0.10876020130877212,1.4088521069817382E-2,0.14609025313826943]
[null,null,null,null,{"$f":"E9/$D9","v":0.29111761162533417},0.20514809230030276,9.3524726670000044E-2,0.24596353500238191,7.7296188537659891E-2,0.16192710937530758,0.18985263605475655,0.1176667440954027,0.10051299818501794,4.2559557790052639E-2,0.12050929735390575,0.11132808655220339,0.52045102894916084,0.30088150647448592,2.2618377382410029E-2,0.12234002763812171,4.6890317602176403E-3,0.49700587014807263,9.8851561238912269E-2,8.5197856667598437E-2,7.5591443993433011E-2,0.29447198195254276,1.1823013657641626,0.11900927963716107,5.7008547345047372E-2,4.9425780619456135E-2,0.16975397347212762]
[null,null,null,null,{"$f":"E10/$D10","v":0.31735367304987561},0.15977135850553573,0.23307367737747484,0.23674853041941649,9.5228821811100303E-2,0.17691947059035668,0.21348768437376031,0.12687439143135346,0.12862706913339822,0.11464531717696275,0.12911031771791265,8.2076526380323853E-2,0.63031122651375848,0.32408669623859498,2.6903242093115509E-2,0.12601969057665263,8.6732301922175341E-3,1.1392657506581558,9.6912979191460205E-2,0.18405279671102456,8.2794186591654953E-2,0.32940964333369399,1.3452919326337047,0.10135598110281654,0.15185906451729236,4.7311478957048569E-2,0.20917451044033325]
[null,null,null,null,{"$f":"E11/$D11","v":0.27467337449500723},0.19601290748786748,0.18117742714129634,0.24481032599029398,9.8059303300556441E-2,0.15854562085524812,0.18457097847905074,0.11134791777828594,0.10305053738852046,7.3822699900907077E-2,0.13158624895190182,8.8440683995223215E-2,0.56240262215107883,0.2398231572528394,2.5219401885306299E-2,0.14759559925807356,7.5066697156795491E-3,0.73299387656579518,0.13589247147902533,0.15247097085651853,8.1716594252610728E-2,0.3467063038341337,1.1176065248875677,0.13423380847117414,0.10754681505196026,3.2573620956881877E-2,0.16997738648779123]
[null,null,null,null,{"$f":"E12/$D12","v":0.43120638085742774},0.30132305785346664,0.16730080030179731,0.33822586295168539,0.27355770526259054,0.22488480504432648,0.25338309396135916,0.23167793915550644,0.13628843200129342,8.8410444342647734E-2,0.18822721026110847,0.17939155506453613,0.96901727250680214,0.28007868287030802,2.9101883538573469E-2,0.30435450405540126,1.0948236371965186E-2,0.63642585756244763,0.13826089299668565,0.2918406941338148,9.8520654253455853E-2,0.39945568699307477,1.8514375791544286,8.5583789173021479E-2,0.29549459728921346,2.6876128371641831E-2,0.26930829134218959]
[null,null,null,null,{"$f":"E13/$D13","v":0.34029299803898944},0.34513464323707715,0.10031273631458197,0.26009664064803067,0.11735942887171405,0.18177477858525268,0.20861691083169917,0.18216249471296189,0.12450173671191089,0.10162007664603119,9.4346393919585769E-2,0.12545981210187002,0.61116237935940343,0.17696197177682932,2.3743607490291075E-2,0.22662167877879036,6.4501864882531628E-3,0.52937991053690658,8.7764832545084021E-2,0.21907883774881118,0.10899309160354262,0.35071967803540072,1.3655714487125261,0.17420950769664578,0.14200023070711729,6.8827623332179799E-3,0.18998731110854769]
[null,null,null,null,{"$f":"E14/$D14","v":0.38492316408186389},0.20268129027689258,0.18838963246229021,0.31098187097231073,0.18134338927837967,0.20715600878124779,0.19699826499539694,0.14658133276680121,0.12636764393456554,0.10371078535514482,0.1127620211033213,8.2448126903193822E-2,0.64500566532115267,0.18408310317966151,3.6072162028184973E-2,0.16105445789958217,1.5384887755824658E-2,0.46905760923447348,9.1180688336520072E-2,0.15916454217123432,5.1824410452517504E-2,0.33938371928333688,1.2211068621202466,8.1191133772395729E-2,0.17843548615537144,1.5800934777990227E-2,0.18726542029601304]
[null,null,null,null,{"$f":"E15/$D15","v":0.38849559468942835},0.29184825052522739,0.14954626951041106,0.30463520068637051,0.19702132808289244,0.20568015575330262,0.22400316786378185,0.19353227811204118,0.12977681959675733,9.6747439860086021E-2,0.1372454984435669,0.13678571821411678,0.76565067702088729,0.22082430455490415,2.8994753225611299E-2,0.24205779151496484,1.0506748209826977E-2,0.55808520233629944,0.10922640326465961,0.23389064270236379,9.05107080395543E-2,0.36779668474255606,1.5280014959356747,0.1149153586395785,0.2137120103835535,1.7260457800314585E-2,0.22168996733140475]
[null,null,null,null,{"$f":"E16/$D16","v":0.32104308425304157},0.23556729781499042,0.16827100491364175,0.27124743316591482,0.13445864196507787,0.18696868521608423,0.20328615646466741,0.14650580778450467,0.11226624517201805,7.7768265660689812E-2,0.12757812291241258,9.0782803640701751E-2,0.66456065913897777,0.24087499150166938,2.9253537081302895E-2,0.18632906956724979,1.0295748669947839E-2,0.69032827402203245,0.11018605678474583,0.19298871658464861,7.7675587348801589E-2,0.36544411345584232,1.2069723179353167,0.12247303619223376,0.1486431590721751,2.9662809918473528E-2,0.19623820761497776]
[null,null,null,null,{"$f":"E17/$D17","v":0.37119117307824823},0.26460393592512815,0.1419380641527635,0.29341336201343932,0.14680179869801108,0.17013034868497917,0.22806675913803898,0.15663561985278476,0.15217332690227892,6.8802296006255301E-2,0.10386402514102883,8.5018738934142607E-2,0.69523692543671878,0.18154596955634711,3.3764533533854411E-2,0.14975868566823547,6.4335509306554586E-3,0.92000527266572163,9.430582060354048E-2,0.2973349071441625,7.6718784171217802E-2,0.36156106855364184,1.1386905814012709,5.2728155136205539E-2,0.12673421271012023,4.3361683897698303E-2,0.31696959529294749]
[null,null,null,null,{"$f":"E18/$D18","v":0.36711406722956824},0.23264829270883119,0.13697493494769264,0.32753836758536453,6.2997849291062613E-2,0.13132268599649513,0.17452272847963465,8.5918830651585149E-2,0.10868381923424141,9.3124369390897993E-2,9.0950427486591254E-2,7.2772290372258519E-2,0.71635202591471614,0.2491503372099198,4.1168817375604058E-2,0.21682332324358769,8.0850724868567793E-3,0.37100392969040413,9.738927831766768E-2,0.16036057564654027,6.9333811268652762E-2,0.33883954649248582,1.2094750677075035,0.18232900536349636,0.11465137273644523,2.8194864850512452E-2,0.27109553395995967]
[null,null,null,null,{"$f":"E19/$D19","v":0.31980931284229014},0.19331063734222118,0.13289914915553561,0.21059293702117668,0.10236674611964905,0.13130158276465753,0.18261255697391321,0.13971815458113651,0.12665179687938627,5.9717337933780104E-2,5.9977644278619659E-2,4.1184546990399293E-2,0.68915339189375491,0.19776646948035709,1.8716536598561678E-2,0.20659136497501573,7.9725198164585058E-3,0.55047646269197592,7.8541059497863955E-2,0.17570678276669915,4.5221847358401006E-2,0.31957963077331403,0.90664699907616764,0.15764866809920225,7.7525354348391973E-2,7.3038897934392596E-3,0.18355170143372651]
[null,null,null,null,{"$f":"E20/$D20","v":0.36149407673162987},0.24434651742382682,0.13913392106715841,0.28830979736661594,0.11765064435235527,0.15356112955470105,0.20657135523041037,0.1354981443373314,0.13663137344792681,7.3565456429486961E-2,9.3141989315023099E-2,7.4478049266277074E-2,0.69967539854036764,0.20176114105869355,3.3148668498720398E-2,0.17666526730041643,7.1195977380060149E-3,0.7158428005181946,9.2451749765842237E-2,0.24144648110898487,6.9510728331500404E-2,0.34862248275045005,1.1179700089198867,0.10389908079666006,0.11533181721014446,3.3373597307035548E-2,0.28266253896548199]
[null,null,null,null,{"$f":"E21/$D21","v":0.62090800122099188},0.30382043970606837,0.19980345004727623,0.38679765033465602,0.15886484957228048,0.24434546632220791,0.26204240714131494,0.15857449168757493,0.16868304086601096,0.10760179277381123,0.13978684753233023,0.17067273688364093,0.87638757566056558,0.27086295852349296,4.8307362433645779E-2,0.20926241652210811,1.4596067511930731E-2,0.77354690768852796,0.11772150956319752,0.34766261902812001,9.1025335586709055E-2,0.48027613779342909,1.8464155691386797,0.11849951979272914,0.18211767683911939,0.10839097061429305,0.24128554092184906]
[null,null,null,null,{"$f":"E22/$D22","v":0.38283271518332601},0.19414736099521712,0.1523149695838609,0.22826976785812989,7.013743198814415E-2,0.18444999565671749,0.12387041750790345,0.15150948809808976,7.389108100353517E-2,4.6573150090682483E-2,0.14248335733106604,6.0124191557185236E-2,0.6965756507684967,0.45304911594458497,1.8273374098768877E-2,0.15140156410816613,6.7386686391311332E-4,0.59961252655324992,6.9408286983050668E-2,0.17281263079203046,7.4980850072519672E-2,0.3536985024888325,1.4305561770690476,0.15137787347623172,0.11399932086855122,2.5859640902665716E-2,0.33871022935164019]
[null,null,null,null,{"$f":"E23/$D23","v":0.41470987290991312},0.13005261782106384,0.1966348778445009,0.21990479357418863,0.14348180959781776,0.19164872136383115,0.17098924704413745,0.12148332820610395,0.11905248801028531,7.3071020721712371E-2,9.9648443959975616E-2,5.908702123384256E-2,0.70412744928933035,0.23628229043116739,3.0548210478397175E-2,0.14751305665262457,1.3304715687721501E-2,0.40090725286606205,0.10002542868675948,0.20473115832113764,7.3124367617011979E-2,0.38778925131188907,1.3155362163181039,0.11868795089240465,9.4548480769333379E-2,4.040493849992087E-2,0.31464887962628724]
[null,null,null,null,{"$f":"E24/$D24","v":0.48140277738350623},0.20961161780629145,0.18640547420045123,0.28265750695156944,0.13023530572711997,0.20893639972910169,0.19195523959765384,0.14266229228088531,0.12547903985206033,7.8806533461482836E-2,0.12522287603699034,9.9874148542569832E-2,0.76474226135197731,0.3044990206296358,3.3845390605884873E-2,0.17093493709454807,1.0530428070687695E-2,0.58724777326731203,9.8589949997364007E-2,0.24843902287360378,8.0101546310227228E-2,0.41262110330228274,1.5378514141729558,0.1270133191665957,0.13134242005188163,6.1358330595962747E-2,0.29418623041766195]
[null,null,null,null,{"$f":"E25/$D25","v":0.38920977170923149},0.17111198064190844,0.2240352588249265,0.25633119000480836,6.2172100909697922E-2,0.15833377134324988,0.17984881844391626,0.19953785087027703,0.11137716157893818,5.1889574779973018E-2,0.12067270536338276,0.1038122436425294,0.67476303663515003,0.18097207054101042,3.2344598948386857E-2,0.19527844777072417,0.10771150525514565,0.70178922184131598,9.4094263627461858E-2,0.17782813269559086,5.2720820266037527E-2,0.41365267176315546,1.357560148495095,0.15267273651075461,0.13621524391312217,3.3678095805422369E-3,0.16169574079157148]
[null,null,null,null,{"$f":"E26/$D26","v":0.33572453780172462},0.2000210737352911,0.11453005570300842,0.25022212856117648,0.11259639809994647,0.26858190848303282,0.18365475525989042,0.17533632542403774,0.12547131124198344,7.8821465592855439E-2,0.13048913848291888,0.10311321721895042,0.62383952065795512,0.21874252451957582,2.3189652226411655E-2,0.22613257088179342,1.414788066570221E-2,0.61058869764315893,9.5202023078587952E-2,0.24525556175743563,8.2375522571679155E-2,0.39013464408169757,1.3047034298928091,0.17038969323476141,0.18134518778406825,1.0642236322006676E-2,0.20785252941779531]
[null,null,null,null,{"$f":"E27/$D27","v":0.59200896099260236},0.3100158786819463,0.1735675336344949,0.40116689848721704,0.25703031720436725,0.21068672222153839,0.26183084895557662,0.24239977351337375,0.15095087455841263,0.10554276781428097,0.16869807117096045,0.10220701369997907,0.76509890326312979,0.1873536760995064,3.2702699375930865E-2,0.29355867111433881,5.0275107396511615E-2,0.81068426041038377,0.14213759062542311,0.25624746125724696,0.10114843490355858,0.37676788813530121,2.1207690698046555,0.1591954801147204,0.1919400302802772,2.2665895299171599E-2,0.17356507182334047]
[null,null,null,null,{"$f":"E28/$D28","v":0.43924502769385698},0.22349021273917422,0.17765373237663645,0.30093073388721048,0.13837644763343404,0.20552303625377644,0.20710048464249747,0.20654975453172206,0.12791808282980865,7.647674345417925E-2,0.13873284869083585,0.10310611782477341,0.68956445115810638,0.19344631168177243,2.992982124874119E-2,0.23521132301107756,6.3507049345417926E-2,0.7113946059919436,0.10975421701913393,0.22151781218529709,7.6390200151057422E-2,0.39536757301107756,1.5868674471299093,0.15965193856998994,0.16649200654582075,1.1544876636455186E-2,0.17824065332326283]
[null,null,null,null,{"$f":"E29/$D29","v":0.4320446955910992},0.22445053155827985,0.16950126105417745,0.29027104683459437,0.12913424640040866,0.19135434026114995,0.20122006193531911,0.16127063180410561,0.12958860900935415,7.6491012993646842E-2,0.12006461705456055,9.3368068192701853E-2,0.72098023816364998,0.23788398301567537,3.2367014653768796E-2,0.19350560291159852,2.6713405484787536E-2,0.66580595728378511,0.10038808543242984,0.23761938511636815,7.574600134086773E-2,0.38798071704498294,1.4288498547393289,0.13073230533473806,0.13798984771573605,3.6862114101458988E-2,0.25311879449605723]
[null,null,null,null,{"$f":"E30/$D30","v":0.41507376893738573},0.26971872050843121,0.16934655536447354,0.30501540702207919,0.15056235706688126,0.22111088236287882,0.23551268617515922,0.18688587398944212,0.13164696393542288,9.9423666066633776E-2,0.14611867744649193,0.10131924370490558,0.71687941774251396,0.28781518594914496,3.3307050398196106E-2,0.21800289399771966,2.1333314934264082E-2,0.71278183679058282,0.11124550774379283,0.21637031481991251,8.0433898756348085E-2,0.39585976297060815,1.5014555726908161,0.11265557317785037,0.18606877267689514,4.2599459737036036E-2,0.24567678524156542]
[]
[null,null,null,null,null,null,null,null,null,null,null,null,null,null,null,null,null,null,null,null,null,null,null,null,null,null,null,null,null,null,"y",100000]
[null,null,null,null,{"$f":"RANK(E32,E$32:E$60,0)","v":3},{"$f":"RANK(F32,F$32:F$60,0)","v":1},13,3,4,1,1,1,2,1,1,5,6,2,3,3,5,5,5,14,6,2,2,26,2,3,{"$f":"AE32*$AF$62+$AF$63","v":1028489.7810896619},1000000]
[null,null,null,null,{"$f":"RANK(E33,E$32:E$60,0)","v":3},1,13,3,4,1,1,1,2,1,1,5,6,2,3,3,5,5,5,14,6,2,2,26,2,3,{"$f":"AE33*$AF$62+$AF$63","v":1028489.7810896619}]
[null,null,null,null,{"$f":"RANK(E34,E$32:E$60,0)","v":22},21,19,16,13,9,19,26,26,11,25,26,8,19,6,27,25,16,22,10,24,6,21,1,17,25,1018112.9699198613]
[null,null,null,null,{"$f":"RANK(E35,E$32:E$60,0)","v":24},10,25,15,21,21,17,8,19,24,12,28,26,10,27,18,7,2,26,25,29,11,26,28,24,26,1018399.2511116312]
[null,null,null,null,{"$f":"RANK(E36,E$32:E$60,0)","v":27},17,3,23,24,13,10,24,25,29,16,25,18,7,5,11,14,10,27,19,15,26,29,25,13,2,1023279.5898998117]
[null,null,null,null,{"$f":"RANK(E37,E$32:E$60,0)","v":25},15,12,18,18,14,15,20,23,23,21,27,20,12,11,20,13,8,25,17,25,15,25,18,19,11,1019877.6951085567]
[null,null,null,null,{"$f":"RANK(E38,E$32:E$60,0)","v":29},18,5,22,20,27,28,28,28,22,8,20,28,29,22,19,20,19,1,24,8,14,27,5,25,22,1014609.025313827]
[null,null,null,null,{"$f":"RANK(E39,E$32:E$60,0)","v":26},20,29,24,26,23,21,25,27,28,19,7,29,6,26,29,28,26,14,29,19,29,20,15,29,6,1016975.3973472128]
[null,null,null,null,{"$f":"RANK(E40,E$32:E$60,0)","v":23},28,1,26,25,20,9,22,11,3,14,19,23,4,21,28,19,1,17,20,9,27,14,22,11,7,1020917.4510440333]
[null,null,null,null,{"$f":"RANK(E41,E$32:E$60,0)","v":28},24,9,25,23,24,22,27,24,18,11,16,27,15,23,25,23,9,4,28,11,23,24,11,26,14,1016997.7386487791]
[null,null,null,null,{"$f":"RANK(E42,E$32:E$60,0)","v":8},6,18,5,1,5,5,4,7,12,3,1,1,9,19,1,15,18,3,3,3,7,4,23,1,17,1026930.829134219]
[null,null,null,null,{"$f":"RANK(E43,E$32:E$60,0)","v":18},3,28,19,17,19,11,10,17,7,26,4,25,28,24,7,26,25,24,12,1,21,12,3,14,28,1018998.7311108548]
[null,null,null,null,{"$f":"RANK(E44,E$32:E$60,0)","v":13},22,7,7,6,10,18,16,14,6,22,18,22,25,7,22,9,27,23,27,27,24,17,24,9,21,1018726.5420296013]
[null,null,null,null,{"$f":"RANK(E45,E$32:E$60,0)","v":12},7,21,9,3,11,8,7,9,9,10,3,3,18,20,5,17,23,11,9,5,17,8,19,4,20,1022168.9967331404]
[null,null,null,null,{"$f":"RANK(E46,E$32:E$60,0)","v":20},12,17,17,12,17,14,17,20,15,15,15,21,14,18,16,18,15,9,18,14,18,19,14,12,15,1019623.8207614978]
[null,null,null,null,{"$f":"RANK(E47,E$32:E$60,0)","v":15},9,22,11,9,22,7,14,4,21,23,17,15,26,9,24,27,3,19,2,16,19,22,29,20,8,1031696.9595292947]
[null,null,null,null,{"$f":"RANK(E48,E$32:E$60,0)","v":16},13,24,6,28,28,26,29,22,10,28,22,11,13,2,10,21,29,16,26,23,25,18,2,22,16,1027109.553395996]
[null,null,null,null,{"$f":"RANK(E49,E$32:E$60,0)","v":21},26,26,29,22,29,24,19,13,25,29,29,17,22,28,13,22,24,28,22,28,28,28,8,28,27,1018355.1701433726]
[null,null,null,null,{"$f":"RANK(E50,E$32:E$60,0)","v":17},11,23,13,16,26,13,21,6,19,27,21,13,21,12,17,24,11,21,7,22,22,23,21,21,13,1028266.2538965482]
[null,null,null,null,{"$f":"RANK(E51,E$32:E$60,0)","v":1},5,4,2,7,4,3,13,1,4,7,2,2,11,1,12,10,7,7,1,4,1,5,17,7,1,1024128.5540921849]
[null,null,null,null,{"$f":"RANK(E52,E$32:E$60,0)","v":14},25,20,27,27,18,29,15,29,27,6,23,14,1,29,23,29,21,29,23,20,20,10,10,23,18,1033871.022935164]
[null,null,null,null,{"$f":"RANK(E53,E$32:E$60,0)","v":10},29,6,28,10,15,27,23,18,20,24,24,12,17,16,26,12,28,13,16,21,13,15,16,27,10,1031464.8879626287]
[null,null,null,null,{"$f":"RANK(E54,E$32:E$60,0)","v":5},19,8,14,14,8,20,18,15,14,17,13,5,5,8,21,16,22,15,5,13,5,7,13,18,5,1029418.6230417662]
[null,null,null,null,{"$f":"RANK(E55,E$32:E$60,0)","v":11},27,2,20,29,25,25,6,21,26,18,8,19,27,15,14,1,14,20,21,26,4,13,9,16,29,1016169.5740791572]
[null,null,null,null,{"$f":"RANK(E56,E$32:E$60,0)","v":19},23,27,21,19,3,23,11,16,13,13,9,24,20,25,8,11,20,18,6,10,10,16,4,8,24,1020785.2529417796]
[null,null,null,null,{"$f":"RANK(E57,E$32:E$60,0)","v":2},4,11,1,2,7,4,3,5,5,4,11,4,24,13,2,3,4,2,4,2,16,1,7,5,19,1017356.5071823341]
[null,null,null,null,{"$f":"RANK(E58,E$32:E$60,0)","v":6},16,10,10,11,12,12,5,12,17,9,10,16,23,17,6,2,13,10,11,17,9,6,6,10,23,1017824.0653323263]
[null,null,null,null,{"$f":"RANK(E59,E$32:E$60,0)","v":7},14,15,12,15,16,16,12,10,16,20,14,9,16,14,15,4,17,12,8,18,12,11,12,15,12,1025311.8794496057]
[null,null,null,null,{"$f":"RANK(E60,E$32:E$60,0)","v":9},8,16,8,8,6,6,9,8,8,5,12,10,8,10,9,8,12,8,13,12,8,9,20,6,9,1024567.6785241566]
[]
[]
[]
[]
[]
[]
["Azonosító:",3498570,"Objektumok:",29,"Attribútumok:",26,"Lépcsôk:",29,"Eltolás:",0,"Leírás:","COCO STD: 3498570"]
[]
["Rangsor","X(A1)","X(A2)","X(A3)","X(A4)","X(A5)","X(A6)","X(A7)","X(A8)","X(A9)","X(A10)","X(A11)","X(A12)","X(A13)","X(A14)","X(A15)","X(A16)","X(A17)","X(A18)","X(A19)","X(A20)","X(A21)","X(A22)","X(A23)","X(A24)","X(A25)","X(A26)","Y(A27)"]
["O1",3,1,13,3,4,1,1,1,2,1,1,5,6,2,3,3,5,5,5,14,6,2,2,26,2,3,1028490]
["O2",3,1,13,3,4,1,1,1,2,1,1,5,6,2,3,3,5,5,5,14,6,2,2,26,2,3,1028490]
["O3",22,21,19,16,13,9,19,26,26,11,25,26,8,19,6,27,25,16,22,10,24,6,21,1,17,25,1018113]
["O4",24,10,25,15,21,21,17,8,19,24,12,28,26,10,27,18,7,2,26,25,29,11,26,28,24,26,1018399]
["O5",27,17,3,23,24,13,10,24,25,29,16,25,18,7,5,11,14,10,27,19,15,26,29,25,13,2,1023280]
["O6",25,15,12,18,18,14,15,20,23,23,21,27,20,12,11,20,13,8,25,17,25,15,25,18,19,11,1019878]
["O7",29,18,5,22,20,27,28,28,28,22,8,20,28,29,22,19,20,19,1,24,8,14,27,5,25,22,1014609]
["O8",26,20,29,24,26,23,21,25,27,28,19,7,29,6,26,29,28,26,14,29,19,29,20,15,29,6,1016975]
["O9",23,28,1,26,25,20,9,22,11,3,14,19,23,4,21,28,19,1,17,20,9,27,14,22,11,7,1020917]
["O10",28,24,9,25,23,24,22,27,24,18,11,16,27,15,23,25,23,9,4,28,11,23,24,11,26,14,1016998]
["O11",8,6,18,5,1,5,5,4,7,12,3,1,1,9,19,1,15,18,3,3,3,7,4,23,1,17,1026931]
["O12",18,3,28,19,17,19,11,10,17,7,26,4,25,28,24,7,26,25,24,12,1,21,12,3,14,28,1018999]
["O13",13,22,7,7,6,10,18,16,14,6,22,18,22,25,7,22,9,27,23,27,27,24,17,24,9,21,1018727]
["O14",12,7,21,9,3,11,8,7,9,9,10,3,3,18,20,5,17,23,11,9,5,17,8,19,4,20,1022169]
["O15",20,12,17,17,12,17,14,17,20,15,15,15,21,14,18,16,18,15,9,18,14,18,19,14,12,15,1019624]
["O16",15,9,22,11,9,22,7,14,4,21,23,17,15,26,9,24,27,3,19,2,16,19,22,29,20,8,1031697]
["O17",16,13,24,6,28,28,26,29,22,10,28,22,11,13,2,10,21,29,16,26,23,25,18,2,22,16,1027110]
["O18",21,26,26,29,22,29,24,19,13,25,29,29,17,22,28,13,22,24,28,22,28,28,28,8,28,27,1018355]
["O19",17,11,23,13,16,26,13,21,6,19,27,21,13,21,12,17,24,11,21,7,22,22,23,21,21,13,1028266]
["O20",1,5,4,2,7,4,3,13,1,4,7,2,2,11,1,12,10,7,7,1,4,1,5,17,7,1,1024129]
["O21",14,25,20,27,27,18,29,15,29,27,6,23,14,1,29,23,29,21,29,23,20,20,10,10,23,18,1033871]
["O22",10,29,6,28,10,15,27,23,18,20,24,24,12,17,16,26,12,28,13,16,21,13,15,16,27,10,1031465]
["O23",5,19,8,14,14,8,20,18,15,14,17,13,5,5,8,21,16,22,15,5,13,5,7,13,18,5,1029419]
["O24",11,27,2,20,29,25,25,6,21,26,18,8,19,27,15,14,1,14,20,21,26,4,13,9,16,29,1016170]
["O25",19,23,27,21,19,3,23,11,16,13,13,9,24,20,25,8,11,20,18,6,10,10,16,4,8,24,1020785]
["O26",2,4,11,1,2,7,4,3,5,5,4,11,4,24,13,2,3,4,2,4,2,16,1,7,5,19,1017357]
["O27",6,16,10,10,11,12,12,5,12,17,9,10,16,23,17,6,2,13,10,11,17,9,6,6,10,23,1017824]
["O28",7,14,15,12,15,16,16,12,10,16,20,14,9,16,14,15,4,17,12,8,18,12,11,12,15,12,1025312]
["O29",9,8,16,8,8,6,6,9,8,8,5,12,10,8,10,9,8,12,8,13,12,8,9,20,6,9,1024568]
[]
["Lépcsôk(1)","X(A1)","X(A2)","X(A3)","X(A4)","X(A5)","X(A6)","X(A7)","X(A8)","X(A9)","X(A10)","X(A11)","X(A12)","X(A13)","X(A14)","X(A15)","X(A16)","X(A17)","X(A18)","X(A19)","X(A20)","X(A21)","X(A22)","X(A23)","X(A24)","X(A25)","X(A26)"]
["S1","(2626+4514)/(2)=3570","(0+0)/(2)=0","(0+4750)/(2)=2375","(0+0)/(2)=0","(6950+3582)/(2)=5265.95","(0+0)/(2)=0","(0+0)/(2)=0","(0+0)/(2)=0","(0+4171)/(2)=2085.5","(0+0)/(2)=0","(0+0)/(2)=0","(2116+823)/(2)=1469.5","(847+274)/(2)=560.5","(16995.9+19223.9)/(2)=18109.9","(3668+0)/(2)=1834","(6641+5775)/(2)=6207.95","(142+0)/(2)=71","(8792.9+8286.9)/(2)=8539.95","(46+0)/(2)=23","(0+2704)/(2)=1352","(1763+992710.9)/(2)=497236.95","(0+0)/(2)=0","(0+0)/(2)=0","(8869.9+12209.9)/(2)=10539.95","(1001943.8+3629)/(2)=502786.4","(4841+13255.9)/(2)=9048.45"]
["S2","(2626+4514)/(2)=3570","(0+0)/(2)=0","(0+4750)/(2)=2375","(0+0)/(2)=0","(0+0)/(2)=0","(0+0)/(2)=0","(0+0)/(2)=0","(0+0)/(2)=0","(0+4171)/(2)=2085.5","(0+0)/(2)=0","(0+0)/(2)=0","(2116+823)/(2)=1469.5","(847+274)/(2)=560.5","(4035+2039)/(2)=3037","(3668+0)/(2)=1834","(6641+5775)/(2)=6207.95","(142+0)/(2)=71","(8792.9+8286.9)/(2)=8539.95","(0+0)/(2)=0","(0+2704)/(2)=1352","(1763+992710.9)/(2)=497236.95","(0+0)/(2)=0","(0+0)/(2)=0","(7822+12209.9)/(2)=10015.95","(1001943.8+3629)/(2)=502786.4","(4841+13255.9)/(2)=9048.45"]
["S3","(2626+4514)/(2)=3570","(0+0)/(2)=0","(0+4750)/(2)=2375","(0+0)/(2)=0","(0+0)/(2)=0","(0+0)/(2)=0","(0+0)/(2)=0","(0+0)/(2)=0","(0+4171)/(2)=2085.5","(0+0)/(2)=0","(0+0)/(2)=0","(2116+823)/(2)=1469.5","(847+274)/(2)=560.5","(4035+2039)/(2)=3037","(3668+0)/(2)=1834","(6641+5775)/(2)=6207.95","(0+0)/(2)=0","(8792.9+8286.9)/(2)=8539.95","(0+0)/(2)=0","(0+2704)/(2)=1352","(1763+992710.9)/(2)=497236.95","(0+0)/(2)=0","(0+0)/(2)=0","(7822+12209.9)/(2)=10015.95","(1001943.8+3629)/(2)=502786.4","(4841+13255.9)/(2)=9048.45"]
["S4","(2626+4514)/(2)=3570","(0+0)/(2)=0","(0+4750)/(2)=2375","(0+0)/(2)=0","(0+0)/(2)=0","(0+0)/(2)=0","(0+0)/(2)=0","(0+0)/(2)=0","(0+4171)/(2)=2085.5","(0+0)/(2)=0","(0+0)/(2)=0","(2116+823)/(2)=1469.5","(847+274)/(2)=560.5","(4035+2039)/(2)=3037","(3668+0)/(2)=1834","(6641+5775)/(2)=6207.95","(0+0)/(2)=0","(0+1292)/(2)=646","(0+0)/(2)=0","(0+2704)/(2)=1352","(1763+992710.9)/(2)=497236.95","(0+0)/(2)=0","(0+0)/(2)=0","(6012+3671)/(2)=4841.45","(1001943.8+3629)/(2)=502786.4","(4841+13255.9)/(2)=9048.45"]
["S5","(2626+4514)/(2)=3570","(0+0)/(2)=0","(0+4750)/(2)=2375","(0+0)/(2)=0","(0+0)/(2)=0","(0+0)/(2)=0","(0+0)/(2)=0","(0+0)/(2)=0","(0+4171)/(2)=2085.5","(0+0)/(2)=0","(0+0)/(2)=0","(2116+823)/(2)=1469.5","(847+274)/(2)=560.5","(4035+2039)/(2)=3037","(3668+0)/(2)=1834","(6641+5775)/(2)=6207.95","(0+0)/(2)=0","(0+1292)/(2)=646","(0+0)/(2)=0","(0+2704)/(2)=1352","(1763+992710.9)/(2)=497236.95","(0+0)/(2)=0","(0+0)/(2)=0","(6012+3671)/(2)=4841.45","(998024.9+0)/(2)=499012.45","(4841+13255.9)/(2)=9048.45"]
["S6","(2626+4514)/(2)=3570","(0+0)/(2)=0","(0+4750)/(2)=2375","(0+0)/(2)=0","(0+0)/(2)=0","(0+0)/(2)=0","(0+0)/(2)=0","(0+0)/(2)=0","(0+4171)/(2)=2085.5","(0+0)/(2)=0","(0+0)/(2)=0","(2116+823)/(2)=1469.5","(847+274)/(2)=560.5","(4035+2039)/(2)=3037","(3668+0)/(2)=1834","(6641+5775)/(2)=6207.95","(0+0)/(2)=0","(0+1292)/(2)=646","(0+0)/(2)=0","(0+2704)/(2)=1352","(1763+992710.9)/(2)=497236.95","(0+0)/(2)=0","(0+0)/(2)=0","(4851+3671)/(2)=4260.95","(998024.9+0)/(2)=499012.45","(4841+13255.9)/(2)=9048.45"]
["S7","(2626+4514)/(2)=3570","(0+0)/(2)=0","(0+4750)/(2)=2375","(0+0)/(2)=0","(0+0)/(2)=0","(0+0)/(2)=0","(0+0)/(2)=0","(0+0)/(2)=0","(0+3177)/(2)=1588.5","(0+0)/(2)=0","(0+0)/(2)=0","(2116+823)/(2)=1469.5","(847+274)/(2)=560.5","(4035+2039)/(2)=3037","(3668+0)/(2)=1834","(6641+5775)/(2)=6207.95","(0+0)/(2)=0","(0+1292)/(2)=646","(0+0)/(2)=0","(0+2704)/(2)=1352","(1763+992710.9)/(2)=497236.95","(0+0)/(2)=0","(0+0)/(2)=0","(4851+3671)/(2)=4260.95","(998024.9+0)/(2)=499012.45","(4841+13255.9)/(2)=9048.45"]
["S8","(2626+4514)/(2)=3570","(0+0)/(2)=0","(0+0)/(2)=0","(0+0)/(2)=0","(0+0)/(2)=0","(0+0)/(2)=0","(0+0)/(2)=0","(0+0)/(2)=0","(0+3177)/(2)=1588.5","(0+0)/(2)=0","(0+0)/(2)=0","(2116+0)/(2)=1058","(847+274)/(2)=560.5","(4035+2039)/(2)=3037","(3668+0)/(2)=1834","(6641+5775)/(2)=6207.95","(0+0)/(2)=0","(0+1292)/(2)=646","(0+0)/(2)=0","(0+0)/(2)=0","(1763+992710.9)/(2)=497236.95","(0+0)/(2)=0","(0+0)/(2)=0","(4851+3671)/(2)=4260.95","(998024.9+0)/(2)=499012.45","(4841+13255.9)/(2)=9048.45"]
["S9","(2626+4514)/(2)=3570","(0+0)/(2)=0","(0+0)/(2)=0","(0+0)/(2)=0","(0+0)/(2)=0","(0+0)/(2)=0","(0+0)/(2)=0","(0+0)/(2)=0","(0+3177)/(2)=1588.5","(0+0)/(2)=0","(0+0)/(2)=0","(2116+0)/(2)=1058","(847+274)/(2)=560.5","(4035+2039)/(2)=3037","(3668+0)/(2)=1834","(6641+5775)/(2)=6207.95","(0+0)/(2)=0","(0+1292)/(2)=646","(0+0)/(2)=0","(0+0)/(2)=0","(1763+992710.9)/(2)=497236.95","(0+0)/(2)=0","(0+0)/(2)=0","(4851+3671)/(2)=4260.95","(998024.9+0)/(2)=499012.45","(4841+13255.9)/(2)=9048.45"]
["S10","(2626+4514)/(2)=3570","(0+0)/(2)=0","(0+0)/(2)=0","(0+0)/(2)=0","(0+0)/(2)=0","(0+0)/(2)=0","(0+0)/(2)=0","(0+0)/(2)=0","(0+3177)/(2)=1588.5","(0+0)/(2)=0","(0+0)/(2)=0","(2116+0)/(2)=1058","(847+274)/(2)=560.5","(3596+2039)/(2)=2817.5","(3668+0)/(2)=1834","(6641+5775)/(2)=6207.95","(0+0)/(2)=0","(0+1292)/(2)=646","(0+0)/(2)=0","(0+0)/(2)=0","(1763+992710.9)/(2)=497236.95","(0+0)/(2)=0","(0+0)/(2)=0","(4851+3671)/(2)=4260.95","(998024.9+0)/(2)=499012.45","(4841+13255.9)/(2)=9048.45"]
["S11","(2626+4514)/(2)=3570","(0+0)/(2)=0","(0+0)/(2)=0","(0+0)/(2)=0","(0+0)/(2)=0","(0+0)/(2)=0","(0+0)/(2)=0","(0+0)/(2)=0","(0+3177)/(2)=1588.5","(0+0)/(2)=0","(0+0)/(2)=0","(2116+0)/(2)=1058","(847+274)/(2)=560.5","(3596+2039)/(2)=2817.5","(3668+0)/(2)=1834","(6641+5775)/(2)=6207.95","(0+0)/(2)=0","(0+1292)/(2)=646","(0+0)/(2)=0","(0+0)/(2)=0","(1763+992710.9)/(2)=497236.95","(0+0)/(2)=0","(0+0)/(2)=0","(4851+3671)/(2)=4260.95","(998024.9+0)/(2)=499012.45","(4841+13255.9)/(2)=9048.45"]
["S12","(2626+4514)/(2)=3570","(0+0)/(2)=0","(0+0)/(2)=0","(0+0)/(2)=0","(0+0)/(2)=0","(0+0)/(2)=0","(0+0)/(2)=0","(0+0)/(2)=0","(0+3177)/(2)=1588.5","(0+0)/(2)=0","(0+0)/(2)=0","(2116+0)/(2)=1058","(847+274)/(2)=560.5","(3596+2039)/(2)=2817.5","(3668+0)/(2)=1834","(6641+5775)/(2)=6207.95","(0+0)/(2)=0","(0+1292)/(2)=646","(0+0)/(2)=0","(0+0)/(2)=0","(1763+992710.9)/(2)=497236.95","(0+0)/(2)=0","(0+0)/(2)=0","(4851+3671)/(2)=4260.95","(998024.9+0)/(2)=499012.45","(4841+13255.9)/(2)=9048.45"]
["S13","(2626+4514)/(2)=3570","(0+0)/(2)=0","(0+0)/(2)=0","(0+0)/(2)=0","(0+0)/(2)=0","(0+0)/(2)=0","(0+0)/(2)=0","(0+0)/(2)=0","(0+3177)/(2)=1588.5","(0+0)/(2)=0","(0+0)/(2)=0","(2116+0)/(2)=1058","(847+274)/(2)=560.5","(3596+2039)/(2)=2817.5","(0+0)/(2)=0","(6641+5775)/(2)=6207.95","(0+0)/(2)=0","(0+1292)/(2)=646","(0+0)/(2)=0","(0+0)/(2)=0","(1763+992710.9)/(2)=497236.95","(0+0)/(2)=0","(0+0)/(2)=0","(4851+3671)/(2)=4260.95","(998024.9+0)/(2)=499012.45","(4841+13255.9)/(2)=9048.45"]
["S14","(2626+4514)/(2)=3570","(0+0)/(2)=0","(0+0)/(2)=0","(0+0)/(2)=0","(0+0)/(2)=0","(0+0)/(2)=0","(0+0)/(2)=0","(0+0)/(2)=0","(0+3177)/(2)=1588.5","(0+0)/(2)=0","(0+0)/(2)=0","(2116+0)/(2)=1058","(847+274)/(2)=560.5","(3596+2039)/(2)=2817.5","(0+0)/(2)=0","(6641+5775)/(2)=6207.95","(0+0)/(2)=0","(0+1292)/(2)=646","(0+0)/(2)=0","(0+0)/(2)=0","(1763+992710.9)/(2)=497236.95","(0+0)/(2)=0","(0+0)/(2)=0","(4851+3671)/(2)=4260.95","(998024.9+0)/(2)=499012.45","(0+8326.9)/(2)=4163.45"]
["S15","(2626+4514)/(2)=3570","(0+0)/(2)=0","(0+0)/(2)=0","(0+0)/(2)=0","(0+0)/(2)=0","(0+0)/(2)=0","(0+0)/(2)=0","(0+0)/(2)=0","(0+3177)/(2)=1588.5","(0+0)/(2)=0","(0+0)/(2)=0","(2116+0)/(2)=1058","(847+274)/(2)=560.5","(3596+2039)/(2)=2817.5","(0+0)/(2)=0","(6641+5775)/(2)=6207.95","(0+0)/(2)=0","(0+1292)/(2)=646","(0+0)/(2)=0","(0+0)/(2)=0","(1763+992710.9)/(2)=497236.95","(0+0)/(2)=0","(0+0)/(2)=0","(4851+3671)/(2)=4260.95","(998024.9+0)/(2)=499012.45","(0+7849)/(2)=3924.5"]
["S16","(2626+4514)/(2)=3570","(0+0)/(2)=0","(0+0)/(2)=0","(0+0)/(2)=0","(0+0)/(2)=0","(0+0)/(2)=0","(0+0)/(2)=0","(0+0)/(2)=0","(0+3177)/(2)=1588.5","(0+0)/(2)=0","(0+0)/(2)=0","(2116+0)/(2)=1058","(847+274)/(2)=560.5","(3596+2039)/(2)=2817.5","(0+0)/(2)=0","(6641+5775)/(2)=6207.95","(0+0)/(2)=0","(0+1292)/(2)=646","(0+0)/(2)=0","(0+0)/(2)=0","(1763+992710.9)/(2)=497236.95","(0+0)/(2)=0","(0+0)/(2)=0","(4851+3671)/(2)=4260.95","(998024.9+0)/(2)=499012.45","(0+6404)/(2)=3202"]
["S17","(2626+4514)/(2)=3570","(0+0)/(2)=0","(0+0)/(2)=0","(0+0)/(2)=0","(0+0)/(2)=0","(0+0)/(2)=0","(0+0)/(2)=0","(0+0)/(2)=0","(0+3177)/(2)=1588.5","(0+0)/(2)=0","(0+0)/(2)=0","(2116+0)/(2)=1058","(847+274)/(2)=560.5","(3596+2039)/(2)=2817.5","(0+0)/(2)=0","(6641+5775)/(2)=6207.95","(0+0)/(2)=0","(0+1292)/(2)=646","(0+0)/(2)=0","(0+0)/(2)=0","(1763+992710.9)/(2)=497236.95","(0+0)/(2)=0","(0+0)/(2)=0","(0+1524)/(2)=762","(998024.9+0)/(2)=499012.45","(0+6404)/(2)=3202"]
["S18","(2626+3005)/(2)=2815.5","(0+0)/(2)=0","(0+0)/(2)=0","(0+0)/(2)=0","(0+0)/(2)=0","(0+0)/(2)=0","(0+0)/(2)=0","(0+0)/(2)=0","(0+3177)/(2)=1588.5","(0+0)/(2)=0","(0+0)/(2)=0","(2116+0)/(2)=1058","(847+274)/(2)=560.5","(3596+2039)/(2)=2817.5","(0+0)/(2)=0","(6641+5775)/(2)=6207.95","(0+0)/(2)=0","(0+1292)/(2)=646","(0+0)/(2)=0","(0+0)/(2)=0","(1763+992710.9)/(2)=497236.95","(0+0)/(2)=0","(0+0)/(2)=0","(0+1524)/(2)=762","(998024.9+0)/(2)=499012.45","(0+6404)/(2)=3202"]
["S19","(2626+3005)/(2)=2815.5","(0+0)/(2)=0","(0+0)/(2)=0","(0+0)/(2)=0","(0+0)/(2)=0","(0+0)/(2)=0","(0+0)/(2)=0","(0+0)/(2)=0","(0+3177)/(2)=1588.5","(0+0)/(2)=0","(0+0)/(2)=0","(2116+0)/(2)=1058","(0+274)/(2)=137","(3596+2039)/(2)=2817.5","(0+0)/(2)=0","(6641+5775)/(2)=6207.95","(0+0)/(2)=0","(0+1292)/(2)=646","(0+0)/(2)=0","(0+0)/(2)=0","(1763+992710.9)/(2)=497236.95","(0+0)/(2)=0","(0+0)/(2)=0","(0+1524)/(2)=762","(998024.9+0)/(2)=499012.45","(0+6404)/(2)=3202"]
["S20","(2626+3005)/(2)=2815.5","(0+0)/(2)=0","(0+0)/(2)=0","(0+0)/(2)=0","(0+0)/(2)=0","(0+0)/(2)=0","(0+0)/(2)=0","(0+0)/(2)=0","(0+3177)/(2)=1588.5","(0+0)/(2)=0","(0+0)/(2)=0","(2116+0)/(2)=1058","(0+98)/(2)=49","(3596+2039)/(2)=2817.5","(0+0)/(2)=0","(6641+5775)/(2)=6207.95","(0+0)/(2)=0","(0+1292)/(2)=646","(0+0)/(2)=0","(0+0)/(2)=0","(1763+992710.9)/(2)=497236.95","(0+0)/(2)=0","(0+0)/(2)=0","(0+1524)/(2)=762","(998024.9+0)/(2)=499012.45","(0+6404)/(2)=3202"]
["S21","(2626+3005)/(2)=2815.5","(0+0)/(2)=0","(0+0)/(2)=0","(0+0)/(2)=0","(0+0)/(2)=0","(0+0)/(2)=0","(0+0)/(2)=0","(0+0)/(2)=0","(0+3177)/(2)=1588.5","(0+0)/(2)=0","(0+0)/(2)=0","(2116+0)/(2)=1058","(0+98)/(2)=49","(3596+2039)/(2)=2817.5","(0+0)/(2)=0","(6641+5775)/(2)=6207.95","(0+0)/(2)=0","(0+1292)/(2)=646","(0+0)/(2)=0","(0+0)/(2)=0","(1763+992710.9)/(2)=497236.95","(0+0)/(2)=0","(0+0)/(2)=0","(0+1524)/(2)=762","(998024.9+0)/(2)=499012.45","(0+6404)/(2)=3202"]
["S22","(1338+0)/(2)=669","(0+0)/(2)=0","(0+0)/(2)=0","(0+0)/(2)=0","(0+0)/(2)=0","(0+0)/(2)=0","(0+0)/(2)=0","(0+0)/(2)=0","(0+3177)/(2)=1588.5","(0+0)/(2)=0","(0+0)/(2)=0","(2116+0)/(2)=1058","(0+98)/(2)=49","(3596+2039)/(2)=2817.5","(0+0)/(2)=0","(6641+5775)/(2)=6207.95","(0+0)/(2)=0","(0+1292)/(2)=646","(0+0)/(2)=0","(0+0)/(2)=0","(1763+992710.9)/(2)=497236.95","(0+0)/(2)=0","(0+0)/(2)=0","(0+0)/(2)=0","(998024.9+0)/(2)=499012.45","(0+6404)/(2)=3202"]
["S23","(1338+0)/(2)=669","(0+0)/(2)=0","(0+0)/(2)=0","(0+0)/(2)=0","(0+0)/(2)=0","(0+0)/(2)=0","(0+0)/(2)=0","(0+0)/(2)=0","(0+3177)/(2)=1588.5","(0+0)/(2)=0","(0+0)/(2)=0","(2116+0)/(2)=1058","(0+0)/(2)=0","(807+0)/(2)=403.5","(0+0)/(2)=0","(6641+5775)/(2)=6207.95","(0+0)/(2)=0","(0+1292)/(2)=646","(0+0)/(2)=0","(0+0)/(2)=0","(1763+992710.9)/(2)=497236.95","(0+0)/(2)=0","(0+0)/(2)=0","(0+0)/(2)=0","(998024.9+0)/(2)=499012.45","(0+6404)/(2)=3202"]
["S24","(1338+0)/(2)=669","(0+0)/(2)=0","(0+0)/(2)=0","(0+0)/(2)=0","(0+0)/(2)=0","(0+0)/(2)=0","(0+0)/(2)=0","(0+0)/(2)=0","(0+3177)/(2)=1588.5","(0+0)/(2)=0","(0+0)/(2)=0","(2116+0)/(2)=1058","(0+0)/(2)=0","(482+0)/(2)=241","(0+0)/(2)=0","(6641+5775)/(2)=6207.95","(0+0)/(2)=0","(0+1292)/(2)=646","(0+0)/(2)=0","(0+0)/(2)=0","(1763+992710.9)/(2)=497236.95","(0+0)/(2)=0","(0+0)/(2)=0","(0+0)/(2)=0","(998024.9+0)/(2)=499012.45","(0+6404)/(2)=3202"]
["S25","(1338+0)/(2)=669","(0+0)/(2)=0","(0+0)/(2)=0","(0+0)/(2)=0","(0+0)/(2)=0","(0+0)/(2)=0","(0+0)/(2)=0","(0+0)/(2)=0","(0+3177)/(2)=1588.5","(0+0)/(2)=0","(0+0)/(2)=0","(2116+0)/(2)=1058","(0+0)/(2)=0","(482+0)/(2)=241","(0+0)/(2)=0","(6641+5775)/(2)=6207.95","(0+0)/(2)=0","(0+1292)/(2)=646","(0+0)/(2)=0","(0+0)/(2)=0","(1763+992710.9)/(2)=497236.95","(0+0)/(2)=0","(0+0)/(2)=0","(0+0)/(2)=0","(998024.9+0)/(2)=499012.45","(0+6404)/(2)=3202"]
["S26","(1338+0)/(2)=669","(0+0)/(2)=0","(0+0)/(2)=0","(0+0)/(2)=0","(0+0)/(2)=0","(0+0)/(2)=0","(0+0)/(2)=0","(0+0)/(2)=0","(0+3177)/(2)=1588.5","(0+0)/(2)=0","(0+0)/(2)=0","(0+0)/(2)=0","(0+0)/(2)=0","(482+0)/(2)=241","(0+0)/(2)=0","(6641+5775)/(2)=6207.95","(0+0)/(2)=0","(0+1292)/(2)=646","(0+0)/(2)=0","(0+0)/(2)=0","(1763+992710.9)/(2)=497236.95","(0+0)/(2)=0","(0+0)/(2)=0","(0+0)/(2)=0","(998024.9+0)/(2)=499012.45","(0+6404)/(2)=3202"]
["S27","(1338+0)/(2)=669","(0+0)/(2)=0","(0+0)/(2)=0","(0+0)/(2)=0","(0+0)/(2)=0","(0+0)/(2)=0","(0+0)/(2)=0","(0+0)/(2)=0","(0+3177)/(2)=1588.5","(0+0)/(2)=0","(0+0)/(2)=0","(0+0)/(2)=0","(0+0)/(2)=0","(0+0)/(2)=0","(0+0)/(2)=0","(0+0)/(2)=0","(0+0)/(2)=0","(0+1292)/(2)=646","(0+0)/(2)=0","(0+0)/(2)=0","(1763+992710.9)/(2)=497236.95","(0+0)/(2)=0","(0+0)/(2)=0","(0+0)/(2)=0","(998024.9+0)/(2)=499012.45","(0+6404)/(2)=3202"]
["S28","(0+0)/(2)=0","(0+0)/(2)=0","(0+0)/(2)=0","(0+0)/(2)=0","(0+0)/(2)=0","(0+0)/(2)=0","(0+0)/(2)=0","(0+0)/(2)=0","(0+0)/(2)=0","(0+0)/(2)=0","(0+0)/(2)=0","(0+0)/(2)=0","(0+0)/(2)=0","(0+0)/(2)=0","(0+0)/(2)=0","(0+0)/(2)=0","(0+0)/(2)=0","(0+1292)/(2)=646","(0+0)/(2)=0","(0+0)/(2)=0","(1763+992710.9)/(2)=497236.95","(0+0)/(2)=0","(0+0)/(2)=0","(0+0)/(2)=0","(998024.9+0)/(2)=499012.45","(0+0)/(2)=0"]
["S29","(0+0)/(2)=0","(0+0)/(2)=0","(0+0)/(2)=0","(0+0)/(2)=0","(0+0)/(2)=0","(0+0)/(2)=0","(0+0)/(2)=0","(0+0)/(2)=0","(0+0)/(2)=0","(0+0)/(2)=0","(0+0)/(2)=0","(0+0)/(2)=0","(0+0)/(2)=0","(0+0)/(2)=0","(0+0)/(2)=0","(0+0)/(2)=0","(0+0)/(2)=0","(0+0)/(2)=0","(0+0)/(2)=0","(0+0)/(2)=0","(0+992710.9)/(2)=496355.45","(0+0)/(2)=0","(0+0)/(2)=0","(0+0)/(2)=0","(998024.9+0)/(2)=499012.45","(0+0)/(2)=0"]
[]
["Lépcsôk(2)","X(A1)","X(A2)","X(A3)","X(A4)","X(A5)","X(A6)","X(A7)","X(A8)","X(A9)","X(A10)","X(A11)","X(A12)","X(A13)","X(A14)","X(A15)","X(A16)","X(A17)","X(A18)","X(A19)","X(A20)","X(A21)","X(A22)","X(A23)","X(A24)","X(A25)","X(A26)"]
["S1",3570,0,2375,0,5266,0,0,0,2085.5,0,0,1469.5,560.5,18109.900000000001,1834,6208,71,8539.9,23,1352,497236.9,0,0,10539.9,502786.4,9048.4]
["S2",3570,0,2375,0,0,0,0,0,2085.5,0,0,1469.5,560.5,3037,1834,6208,71,8539.9,0,1352,497236.9,0,0,10015.9,502786.4,9048.4]
["S3",3570,0,2375,0,0,0,0,0,2085.5,0,0,1469.5,560.5,3037,1834,6208,0,8539.9,0,1352,497236.9,0,0,10015.9,502786.4,9048.4]
["S4",3570,0,2375,0,0,0,0,0,2085.5,0,0,1469.5,560.5,3037,1834,6208,0,646,0,1352,497236.9,0,0,4841.5,502786.4,9048.4]
["S5",3570,0,2375,0,0,0,0,0,2085.5,0,0,1469.5,560.5,3037,1834,6208,0,646,0,1352,497236.9,0,0,4841.5,499012.4,9048.4]
["S6",3570,0,2375,0,0,0,0,0,2085.5,0,0,1469.5,560.5,3037,1834,6208,0,646,0,1352,497236.9,0,0,4261,499012.4,9048.4]
["S7",3570,0,2375,0,0,0,0,0,1588.5,0,0,1469.5,560.5,3037,1834,6208,0,646,0,1352,497236.9,0,0,4261,499012.4,9048.4]
["S8",3570,0,0,0,0,0,0,0,1588.5,0,0,1058,560.5,3037,1834,6208,0,646,0,0,497236.9,0,0,4261,499012.4,9048.4]
["S9",3570,0,0,0,0,0,0,0,1588.5,0,0,1058,560.5,3037,1834,6208,0,646,0,0,497236.9,0,0,4261,499012.4,9048.4]
["S10",3570,0,0,0,0,0,0,0,1588.5,0,0,1058,560.5,2817.5,1834,6208,0,646,0,0,497236.9,0,0,4261,499012.4,9048.4]
["S11",3570,0,0,0,0,0,0,0,1588.5,0,0,1058,560.5,2817.5,1834,6208,0,646,0,0,497236.9,0,0,4261,499012.4,9048.4]
["S12",3570,0,0,0,0,0,0,0,1588.5,0,0,1058,560.5,2817.5,1834,6208,0,646,0,0,497236.9,0,0,4261,499012.4,9048.4]
["S13",3570,0,0,0,0,0,0,0,1588.5,0,0,1058,560.5,2817.5,0,6208,0,646,0,0,497236.9,0,0,4261,499012.4,9048.4]
["S14",3570,0,0,0,0,0,0,0,1588.5,0,0,1058,560.5,2817.5,0,6208,0,646,0,0,497236.9,0,0,4261,499012.4,4163.5]
["S15",3570,0,0,0,0,0,0,0,1588.5,0,0,1058,560.5,2817.5,0,6208,0,646,0,0,497236.9,0,0,4261,499012.4,3924.5]
["S16",3570,0,0,0,0,0,0,0,1588.5,0,0,1058,560.5,2817.5,0,6208,0,646,0,0,497236.9,0,0,4261,499012.4,3202]
["S17",3570,0,0,0,0,0,0,0,1588.5,0,0,1058,560.5,2817.5,0,6208,0,646,0,0,497236.9,0,0,762,499012.4,3202]
["S18",2815.5,0,0,0,0,0,0,0,1588.5,0,0,1058,560.5,2817.5,0,6208,0,646,0,0,497236.9,0,0,762,499012.4,3202]
["S19",2815.5,0,0,0,0,0,0,0,1588.5,0,0,1058,137,2817.5,0,6208,0,646,0,0,497236.9,0,0,762,499012.4,3202]
["S20",2815.5,0,0,0,0,0,0,0,1588.5,0,0,1058,49,2817.5,0,6208,0,646,0,0,497236.9,0,0,762,499012.4,3202]
["S21",2815.5,0,0,0,0,0,0,0,1588.5,0,0,1058,49,2817.5,0,6208,0,646,0,0,497236.9,0,0,762,499012.4,3202]
["S22",669,0,0,0,0,0,0,0,1588.5,0,0,1058,49,2817.5,0,6208,0,646,0,0,497236.9,0,0,0,499012.4,3202]
["S23",669,0,0,0,0,0,0,0,1588.5,0,0,1058,0,403.5,0,6208,0,646,0,0,497236.9,0,0,0,499012.4,3202]
["S24",669,0,0,0,0,0,0,0,1588.5,0,0,1058,0,241,0,6208,0,646,0,0,497236.9,0,0,0,499012.4,3202]
["S25",669,0,0,0,0,0,0,0,1588.5,0,0,1058,0,241,0,6208,0,646,0,0,497236.9,0,0,0,499012.4,3202]
["S26",669,0,0,0,0,0,0,0,1588.5,0,0,0,0,241,0,6208,0,646,0,0,497236.9,0,0,0,499012.4,3202]
["S27",669,0,0,0,0,0,0,0,1588.5,0,0,0,0,0,0,0,0,646,0,0,497236.9,0,0,0,499012.4,3202]
["S28",0,0,0,0,0,0,0,0,0,0,0,0,0,0,0,0,0,646,0,0,497236.9,0,0,0,499012.4,0]
["S29",0,0,0,0,0,0,0,0,0,0,0,0,0,0,0,0,0,0,0,0,496355.4,0,0,0,499012.4,0]
[]
["COCO:STD","X(A1)","X(A2)","X(A3)","X(A4)","X(A5)","X(A6)","X(A7)","X(A8)","X(A9)","X(A10)","X(A11)","X(A12)","X(A13)","X(A14)","X(A15)","X(A16)","X(A17)","X(A18)","X(A19)","X(A20)","X(A21)","X(A22)","X(A23)","X(A24)","X(A25)","X(A26)","Becslés","Tény+0","Delta","Delta/Tény"]
["O1",3570,0,0,0,0,0,0,0,2085.5,0,0,1469.5,560.5,3037,1834,6208,0,646,0,0,497236.9,0,0,0,502786.4,9048.4,1028482.2,1028490,7.8,0]
["O2",3570,0,0,0,0,0,0,0,2085.5,0,0,1469.5,560.5,3037,1834,6208,0,646,0,0,497236.9,0,0,0,502786.4,9048.4,1028482.2,1028490,7.8,0]
["O3",669,0,0,0,0,0,0,0,1588.5,0,0,0,560.5,2817.5,1834,0,0,646,0,0,497236.9,0,0,10539.9,499012.4,3202,1018106.7,1018113,6.3,0]
["O4",669,0,0,0,0,0,0,0,1588.5,0,0,0,0,2817.5,0,6208,0,8539.9,0,0,496355.4,0,0,0,499012.4,3202,1018392.7,1018399,6.3,0]
["O5",669,0,2375,0,0,0,0,0,1588.5,0,0,1058,560.5,3037,1834,6208,0,646,0,0,497236.9,0,0,0,499012.4,9048.4,1023273.7,1023280,6.3,0]
["O6",669,0,0,0,0,0,0,0,1588.5,0,0,0,49,2817.5,1834,6208,0,646,0,0,497236.9,0,0,762,499012.4,9048.4,1019871.7,1019878,6.3,0]
["O7",0,0,2375,0,0,0,0,0,0,0,0,1058,0,0,0,6208,0,646,23,0,497236.9,0,0,4841.5,499012.4,3202,1014602.8,1014609,6.2,0]
["O8",669,0,0,0,0,0,0,0,1588.5,0,0,1469.5,0,3037,0,0,0,646,0,0,497236.9,0,0,4261,499012.4,9048.4,1016968.7,1016975,6.3,0]
["O9",669,0,2375,0,0,0,0,0,1588.5,0,0,1058,0,3037,0,0,0,8539.9,0,0,497236.9,0,0,0,499012.4,9048.4,1022565.2,1020917,-1648.2,-0.16]
["O10",0,0,0,0,0,0,0,0,1588.5,0,0,1058,0,2817.5,0,6208,0,646,0,0,497236.9,0,0,4261,499012.4,4163.5,1016991.7,1016998,6.3,0]
["O11",3570,0,0,0,5266,0,0,0,1588.5,0,0,1469.5,560.5,3037,0,6208,0,646,0,1352,497236.9,0,0,0,502786.4,3202,1026922.7,1026931,8.3000000000000007,0]
["O12",2815.5,0,0,0,0,0,0,0,1588.5,0,0,1469.5,0,0,0,6208,0,646,0,0,497236.9,0,0,10015.9,499012.4,0,1018992.7,1018999,6.3,0]
["O13",3570,0,2375,0,0,0,0,0,1588.5,0,0,1058,49,241,1834,6208,0,646,0,0,497236.9,0,0,0,499012.4,3202,1017020.7,1018727,1706.3,0.17]
["O14",3570,0,0,0,0,0,0,0,1588.5,0,0,1469.5,560.5,2817.5,0,6208,0,646,0,0,497236.9,0,0,762,502786.4,3202,1020847.2,1022169,1321.8,0.13]
["O15",2815.5,0,0,0,0,0,0,0,1588.5,0,0,1058,49,2817.5,0,6208,0,646,0,0,497236.9,0,0,4261,499012.4,3924.5,1019617.2,1019624,6.8,0]
["O16",3570,0,0,0,0,0,0,0,2085.5,0,0,1058,560.5,241,1834,6208,0,8539.9,0,1352,497236.9,0,0,0,499012.4,9048.4,1030746.7,1031697,950.3,0.09]
["O17",3570,0,0,0,0,0,0,0,1588.5,0,0,1058,560.5,2817.5,1834,6208,0,0,0,0,497236.9,0,0,10015.9,499012.4,3202,1027103.7,1027110,6.3,0]
["O18",2815.5,0,0,0,0,0,0,0,1588.5,0,0,0,560.5,2817.5,0,6208,0,646,0,0,497236.9,0,0,4261,499012.4,3202,1018348.2,1018355,6.8,0]
["O19",3570,0,0,0,0,0,0,0,2085.5,0,0,1058,560.5,2817.5,1834,6208,0,646,0,1352,497236.9,0,0,762,499012.4,9048.4,1026191.2,1028266,2074.8000000000002,0.2]
["O20",3570,0,2375,0,0,0,0,0,2085.5,0,0,1469.5,560.5,2817.5,1834,6208,0,646,0,1352,497236.9,0,0,762,499012.4,9048.4,1028977.7,1024129,-4848.7,-0.47]
["O21",3570,0,0,0,0,0,0,0,0,0,0,1058,560.5,18109.900000000001,0,6208,0,646,0,0,497236.9,0,0,4261,499012.4,3202,1033864.6,1033871,6.4,0]
["O22",3570,0,2375,0,0,0,0,0,1588.5,0,0,1058,560.5,2817.5,0,6208,0,646,0,0,497236.9,0,0,4261,499012.4,9048.4,1028382.2,1031465,3082.8,0.3]
["O23",3570,0,0,0,0,0,0,0,1588.5,0,0,1058,560.5,3037,1834,6208,0,646,0,1352,497236.9,0,0,4261,499012.4,9048.4,1029412.7,1029419,6.3,0]
["O24",3570,0,2375,0,0,0,0,0,1588.5,0,0,1058,137,0,0,6208,71,646,0,0,497236.9,0,0,4261,499012.4,0,1016163.7,1016170,6.3,0]
["O25",2815.5,0,0,0,0,0,0,0,1588.5,0,0,1058,0,2817.5,0,6208,0,646,0,1352,497236.9,0,0,4841.5,499012.4,3202,1020778.2,1020785,6.8,0]
["O26",3570,0,0,0,0,0,0,0,2085.5,0,0,1058,560.5,241,0,6208,0,646,0,1352,497236.9,0,0,4261,499012.4,3202,1019433.2,1017357,-2076.1999999999998,-0.2]
["O27",3570,0,0,0,0,0,0,0,1588.5,0,0,1058,560.5,403.5,0,6208,71,646,0,0,497236.9,0,0,4261,499012.4,3202,1017817.7,1017824,6.3,0]
["O28",3570,0,0,0,0,0,0,0,1588.5,0,0,1058,560.5,2817.5,0,6208,0,646,0,0,497236.9,0,0,4261,499012.4,9048.4,1026007.2,1025312,-695.2,-7.0000000000000007E-2]
["O29",3570,0,0,0,0,0,0,0,1588.5,0,0,1058,560.5,3037,1834,6208,0,646,0,0,497236.9,0,0,762,499012.4,9048.4,1024561.7,1024568,6.3,0]
[]
["S1 összeg:",1071075.8999999999]
["S29 összeg:",995367.8]
["Becslés összeg:",29658926.800000001]
["Tény összeg:",29658927]
["Tény-becslés eltérés:",-0.2]
["Tény négyzetösszeg:"]
["Becslés négyzetösszeg:"]
["Négyzetösszeg hiba:",0]
[]
["Open url"]
[]
["Maximális memória használat: 1.52 Mb"]
["A futtatás idôtartama: 0.46 mp (0.01 p)"]

{"sheet":"2016","index":5,"n_rows":236,"n_cols":32,"rows_kept":236,"cut":false,"hidden":false,"merged":[]}
["Területi egység neve","Területi egység szintje","Év","Lakosság","Belgyógyászat","Sebészet","Baleseti sebészet","Szülészet és nőgyógyászat","Csecsemő- és gyermek-gyógyászat","Fül-orr-gégészet","Szemészet","Bőrgyógyászat és nemibeteg-ellátás","Neurológia","Ortopédia","Urológia","Onkológia","Fogászat","Reumatológia","Aneszteziológiai és intenzív betegellátás","Pszichiátria","Nukleáris medicina (izotóp-diagnosztika és \n-terápia)","Fizioterápia","Patológia és kórszövettan","Ultrahang-diagnosztika és -terápia","Tomográfia","Röntgen-diagnosztika és -terápia","Laboratóriumi diagnosztika","Sürgősségi betegellátás, oxyológia","Kardiológia","Orvosi rehabilitáció","Tüdő-gyógyászat"]
["Budapest + Pest","főváros, régió + megye, régió",2016,2993948,1492872.000000007,1061668.9999999988,519519.99999999988,1018323.9999999979,581848.99999999872,844068.00000000012,936613.0000000007,745468.00000000093,643647.00000000081,442219.99999999965,582791.99999999965,371283.00000000052,2293688,1197409.0000000012,120298.00000000012,625311.9999999986,62112.999999999978,2363370.9999999991,341609.0000000007,630254.00000000023,321862,1308547.0000000016,5705917.9999999944,242462.99999999994,852068.99999999884,184266.99999999968,825710.9999999993]
["Közép-Magyarország","nagyrégió",2016,2993948,1492872.000000007,1061668.9999999988,519519.99999999988,1018323.9999999979,581848.99999999872,844068.00000000012,936613.0000000007,745468.00000000093,643647.00000000081,442219.99999999965,582791.99999999965,371283.00000000052,2293688,1197409.0000000012,120298.00000000012,625311.9999999986,62112.999999999978,2363370.9999999991,341609.0000000007,630254.00000000023,321862,1308547.0000000016,5705917.9999999944,242462.99999999994,852068.99999999884,184266.99999999968,825710.9999999993]
["Fejér","megye",2016,418487,135514,85134.000000000044,65866.999999999956,115268.99999999988,57205,84537.999999999985,81335.000000000029,47494.000000000036,57952.000000000036,39243,40240,24611.999999999985,295049,91838.000000000146,16175.000000000004,42199.999999999985,2740,288342.99999999977,38062.000000000015,95763.000000000058,27553.999999999996,172007.00000000012,498008.00000000017,78633.999999999971,53240.000000000022,3519,85538.000000000073]
["Komárom-Esztergom","megye",2016,297914,91308,73768.000000000029,30486,77016.000000000015,33496.000000000022,50832.000000000029,59640,56197.000000000007,47559.999999999956,17734,39307.000000000007,13777.999999999995,148205,81626.000000000015,6432.0000000000009,36065.999999999985,7326.0000000000009,296192.99999999965,23198,55345,17393,112721.0000000001,280969,32724.000000000011,34475.000000000007,2187.9999999999991,59325.000000000029]
["Veszprém","megye",2016,344302,97684.000000000044,78407.000000000015,79017.999999999985,85665,33108.000000000007,68453.999999999913,70392.000000000015,40545.000000000015,59878.999999999985,12062.999999999995,45730.999999999949,24464.999999999993,188106,88503,13147,44496.999999999978,3862.0000000000005,242148.00000000006,28717.999999999982,64681.000000000109,29427,117527.00000000006,252053.99999999991,27770.999999999985,51235.000000000029,31846.000000000004,74194.000000000029]
["Közép-Dunántúl","régió",2016,1060703,324506.00000000006,237309.00000000006,175370.99999999994,277949.99999999988,123809.00000000003,203823.99999999991,211367.00000000006,144236.00000000006,165391,69040,125277.99999999994,62854.999999999971,631360,261967.00000000017,35754,122762.99999999994,13928,826683.99999999953,89978,215789.00000000017,74374,402255.00000000029,1031031.0000000001,139128.99999999997,138950.00000000006,37553,219057.00000000015]
["Győr-Moson-Sopron","megye",2016,455217,112083.00000000015,100416.00000000004,97864.999999999913,119219.99999999993,49132.000000000029,67014.999999999927,74108.999999999956,45114.999999999964,58750.999999999993,31526,66913.000000000015,41260.000000000015,234209,71212.000000000015,12538.999999999998,61173,3089.0000000000009,280851.00000000012,76730.000000000029,79748.999999999985,22562,169525.00000000009,447329.99999999959,81307.000000000073,50938.999999999964,7565,68201.000000000044]
["Vas","megye",2016,253689,77670.000000000015,51912.999999999971,26578.000000000007,64316.999999999971,24063.000000000015,35514.000000000007,50188.999999999993,32086,35267.000000000044,9890,32465.999999999982,30892,129091,75179.000000000015,6521.0000000000018,17118,1321,142757.99999999985,25456.000000000004,22980.000000000007,20090,79655.000000000131,311796.99999999994,33355,14743.999999999996,12509.000000000004,41292.000000000029]
["Zala","megye",2016,275027,90746.000000000073,44305.999999999949,67074.000000000015,68937.000000000058,24390.000000000011,48485.000000000015,60051.000000000153,31450.999999999996,45293.000000000022,30560,37379.000000000015,23428,178184,93943.000000000073,8449,24994,2340,332077.99999999971,27148,51239.000000000007,23829,91990.000000000102,369808.99999999988,29140.999999999993,42798,12829.000000000002,56397.999999999956]
["Nyugat-Dunántúl","régió",2016,983933,280499.00000000023,196634.99999999994,191516.99999999994,252473.99999999994,97585.000000000058,151013.99999999994,184349.00000000009,108651.99999999997,139311.00000000006,71976,136758,95580.000000000015,541484,240334.00000000012,27509,103285,6750.0000000000009,755686.99999999977,129334.00000000003,153968,66481,341170.00000000035,1128935.9999999995,143803.00000000006,108480.99999999996,32903.000000000007,165891.00000000003]
["Baranya","megye",2016,368135,161856.00000000015,112643.00000000003,54552.000000000015,123489.00000000004,92175.000000000131,82919.000000000087,87913,79846.000000000073,76434,34539.999999999978,69355.000000000044,62578.999999999993,372420,106654.99999999996,12781.999999999995,84848.000000000102,3569.0000000000032,225033.00000000012,50314.999999999993,107643.00000000028,37856.999999999993,140409.00000000017,700715.9999999979,49255.999999999993,107570.99999999991,7830.9999999999991,97170.999999999956]
["Somogy","megye",2016,309115,107084.00000000019,114274.9999999999,31251.000000000018,80147.999999999898,36037.000000000007,54310.000000000022,63988.999999999993,52349.000000000029,60255.000000000044,33007.999999999993,29111.000000000004,40455,189939,56509.000000000065,7348.9999999999991,37944.999999999993,1794.9999999999995,174823.99999999968,26580.000000000015,68265.000000000058,34622.000000000015,109985,438297.00000000047,55856.000000000007,45292,2104,58845]
["Tolna","megye",2016,223618,84026.999999999956,42965.000000000007,45033.000000000007,69491.000000000015,40122.999999999985,43881.000000000007,45162,35043,41141.999999999993,22812.000000000011,24754.999999999978,18508.999999999996,135295,38518.999999999993,8085.0000000000018,20056.000000000007,3427.0000000000005,104059.99999999999,20960.999999999993,35876.999999999978,12235.000000000002,73233.000000000029,269390.99999999988,19737.999999999996,40402.999999999978,3706,44790.000000000029]
["Dél-Dunántúl","régió",2016,900868,352967.00000000029,269882.99999999994,130836.00000000003,273127.99999999994,168335.00000000012,181110.00000000012,197064,167238.00000000012,177831.00000000006,90359.999999999985,123221.00000000003,121543,697654,201683.00000000003,28215.999999999993,142849.00000000009,8791.0000000000036,503916.99999999977,97856,211785.00000000032,84714,323627.00000000023,1408403.9999999981,124850,193265.99999999988,13641,200805.99999999997]
["Dunántúl","nagyrégió",2016,2945504,957972.00000000047,703827,497723.99999999988,803551.99999999977,389729.00000000023,535948,592780.00000000012,420126.00000000012,482533.00000000012,231376,385257,279978,1870498,703984.00000000035,91479,368897,29469.000000000004,2086287.9999999991,317168,581542.00000000047,225569,1067052.0000000009,3568370.9999999977,407782,440696.99999999988,84097,585754.00000000012]
["Borsod-Abaúj-Zemplén","megye",2016,660549,238689.99999999997,174093.99999999994,102911.99999999987,190926.99999999994,102353.99999999994,109315.00000000015,146778.00000000006,104015.99999999981,116985,46920.000000000022,69920,60249.000000000015,446273,126510.0000000001,23461.999999999993,80543.999999999956,4557,636713.99999999919,62555.999999999971,196185.00000000017,71496.000000000029,248568.9999999998,728737.99999999942,37204,83151,28867.999999999989,206098.00000000015]
["Heves","megye",2016,299219,102738.00000000003,69264.999999999927,36741.000000000015,97130.999999999956,19505.000000000007,37836.999999999993,51048.999999999978,27202.999999999989,61696.000000000015,28233.000000000007,28199.000000000004,19765,206574,72627.000000000029,12848.999999999998,37591.000000000015,2403,122041.00000000003,28080.000000000007,52332.999999999956,23544.000000000007,110773.99999999997,419037.00000000012,73282.000000000029,33386,6573.9999999999982,70368.999999999971]
["Nógrád","megye",2016,193946,65759.000000000044,38262.000000000015,27088.000000000007,41161,20193.999999999996,25618.000000000007,35060.000000000044,27422.999999999989,44763.999999999993,11315,12339.999999999995,7991.0000000000009,119203,38074,3898,19584.999999999989,1523,105606.99999999997,15938,38362.000000000022,15238.000000000004,61202.999999999985,182116.00000000003,31366.000000000004,15514,1549.9999999999998,36131.999999999993]
["Észak-Magyarország","régió",2016,1153714,407187.00000000006,281620.99999999988,166740.99999999988,329218.99999999988,142052.99999999994,172770.00000000015,232887.00000000006,158641.9999999998,223445,86468.000000000029,110459,88005.000000000015,772050,237211.00000000012,40208.999999999993,137719.99999999997,8483,864361.99999999919,106573.99999999997,286880.00000000012,110278.00000000003,420545.99999999977,1329890.9999999995,141852.00000000003,132051,36991.999999999985,312599.00000000012]
["Hajdú-Bihar","megye",2016,534974,330646.9999999993,158915.00000000006,110664.00000000015,210037,77474.000000000044,129337.00000000006,134696.00000000006,80657.000000000029,129497.0000000001,54952.000000000022,72800.999999999971,92098.999999999927,523550,136866.99999999991,26194.000000000007,73372,7818,405162.00000000012,58607.999999999949,183005.99999999994,50625.999999999993,257744.00000000006,1005657.9999999986,64985,92492.999999999971,70500.999999999985,104992.00000000007]
["Jász-Nagykun-Szolnok","megye",2016,376334,146852.99999999977,83878.000000000058,57482,91258.999999999913,26061.999999999993,71749.999999999971,48463.000000000015,61427,53836.000000000007,20615.000000000015,57218.999999999978,23094.999999999993,253426,180802.00000000017,7161.0000000000018,38200.000000000044,2197.9999999999995,237859.99999999994,25435.999999999989,67998.000000000073,6692.9999999999973,146770.99999999988,503625.99999999971,60416.999999999993,49588.000000000015,9864.0000000000091,130675.99999999997]
["Szabolcs-Szatmár-Bereg","megye",2016,563075,231183.99999999971,73047.000000000116,113046.00000000006,121505.99999999994,83003.999999999971,107452.99999999999,94351.999999999927,66229.999999999985,77118.000000000044,41052.000000000015,56516.000000000036,35537.000000000007,382350,142321.00000000003,17776.000000000007,71785.000000000029,7379,240208.00000000006,54477.999999999971,115329.00000000006,42426,216696.99999999974,776562.99999999965,65231.000000000007,57666.999999999942,24036.000000000004,171830]
["Észak-Alföld","régió",2016,1474383,708683.99999999884,315840.00000000023,281192.00000000023,422801.99999999983,186540,308540,277511,208314,260451.00000000017,116619.00000000004,186535.99999999997,150730.99999999991,1159326,459990.00000000012,51131.000000000015,183357.00000000006,17395,883230,138521.99999999991,366333.00000000006,99745,621211.99999999965,2285846.9999999981,190633,199747.99999999994,104401,407498.00000000006]
["Bács-Kiskun","megye",2016,511419,196923.00000000012,89013.999999999942,113580.99999999996,132019.00000000006,31292.999999999978,75658.999999999985,87253.999999999942,103651.00000000001,75485.999999999971,26784.999999999993,62617.000000000015,53697.999999999978,346455,95742,15564.000000000005,75307.000000000015,59084.000000000022,360935.99999999953,45625.000000000022,91912.999999999913,27483.000000000007,202326.0000000002,694897.99999999965,79618,68299.999999999942,1791.0000000000005,77874.999999999898]
["Békés","megye",2016,347058,119986,71169,43594.999999999978,85542.000000000044,38719.000000000036,93274.999999999985,63664.000000000015,58304.999999999978,61952.999999999978,28058.000000000015,45616,38141.999999999978,219898,75499.000000000015,8580.0000000000018,60165.000000000022,5095,211010.00000000009,32552.999999999985,84969.999999999971,30794.000000000015,132411,456873.99999999977,57050.999999999985,58113.000000000065,3663.9999999999991,73000.000000000015]
["Csongrád-Csanád","megye",2016,404459,232188.00000000009,132917.99999999985,72691.000000000044,158920.00000000035,101302,85409.000000000015,106162.99999999993,101727.00000000001,91716.000000000029,44333.000000000015,71035.000000000029,43973.999999999985,310744,74127,13380.000000000013,89308.000000000015,20804.999999999989,329815.99999999988,58818.000000000007,104642.0000000002,40950.999999999993,150365.00000000003,864925.99999999884,65024.999999999942,78249.000000000029,8936.0000000000018,70533.999999999985]
["Dél-Alföld","régió",2016,1262936,549097.00000000023,293100.99999999977,229867,376481.00000000047,171314,254343,257080.99999999988,263683,229154.99999999997,99176.000000000029,179268.00000000006,135813.99999999994,877097,245368,37524.000000000022,224780.00000000006,84984.000000000015,901761.99999999953,136996,281525.00000000012,99228.000000000015,485102.00000000023,2016697.9999999984,201693.99999999994,204662.00000000003,14391.000000000002,221408.99999999988]
["Alföld és Észak","nagyrégió",2016,3891033,1664967.9999999991,890561.99999999988,677800.00000000012,1128502.0000000002,499906.99999999994,735653.00000000012,767479,630638.99999999977,713051.00000000012,302263.00000000012,476263.00000000006,374549.99999999988,2808473,942569.00000000023,128864.00000000003,545857,110862.00000000001,2649353.9999999986,382091.99999999988,934738.00000000035,309251.00000000006,1526859.9999999995,5632435.9999999963,534179,536461,155784,941506.00000000012]
["Ország összesen","ország",2016,9830485,4115812.0000000065,2656057.9999999986,1695044,2950377.9999999981,1471484.9999999988,2115669,2296872.0000000009,1796233.0000000007,1839231.0000000009,975858.99999999977,1444311.9999999998,1025811.0000000003,6972659,2843962.0000000019,340641.00000000012,1540065.9999999986,202444,7099012.9999999963,1040869.0000000006,2146534.0000000009,856682,3902459.0000000023,14906724.999999989,1184424,1829226.9999999986,424147.99999999965,2352970.9999999995]
[]
[null,null,null,null,{"$f":"E2/$D2","v":0.49862990272376373},{"$f":"F2/$D2","v":0.35460502320013537},0.17352338784775148,0.3401274838440741,0.19434171869384462,0.28192473616776248,0.31283542666739728,0.24899163245320258,0.21498269175015758,0.14770463615266519,0.19465668742409675,0.12401117187072071,0.76610816219920985,0.39994315198527203,4.0180390574585834E-2,0.20885867089207916,2.0746185304487578E-2,0.7893827815312755,0.11409984408546865,0.21050933416345249,0.10750420514985565,0.43706403718434711,1.9058173355048231,8.0984372474071004E-2,0.28459712727141517,6.1546493125465E-2,0.27579336715266911]
[null,null,null,null,{"$f":"E3/$D3","v":0.49862990272376373},0.35460502320013537,0.17352338784775148,0.3401274838440741,0.19434171869384462,0.28192473616776248,0.31283542666739728,0.24899163245320258,0.21498269175015758,0.14770463615266519,0.19465668742409675,0.12401117187072071,0.76610816219920985,0.39994315198527203,4.0180390574585834E-2,0.20885867089207916,2.0746185304487578E-2,0.7893827815312755,0.11409984408546865,0.21050933416345249,0.10750420514985565,0.43706403718434711,1.9058173355048231,8.0984372474071004E-2,0.28459712727141517,6.1546493125465E-2,0.27579336715266911]
[null,null,null,null,{"$f":"E4/$D4","v":0.32381889998972491},0.20343284259726119,0.15739318067227884,0.27544224790734212,0.13669480772401532,0.20200866454632996,0.19435490230281952,0.11348978582369354,0.13847980940865556,9.3773522236055118E-2,9.615591404273012E-2,5.8811862734087283E-2,0.70503743246504669,0.21945245610974809,3.8651140895655071E-2,0.10083945259948335,6.5473957375020014E-3,0.68901303983158324,9.0951451299562502E-2,0.22883148102569509,6.5841949690193469E-2,0.41102113088339687,1.1900202395773349,0.18790069942435481,0.12722020038854259,8.4088633577626068E-3,0.20439822503446958]
[null,null,null,null,{"$f":"E5/$D5","v":0.30649113502554426},0.24761508354760109,0.10233154534530099,0.25851755875856797,0.11243513228649886,0.17062642239035436,0.20019200171861679,0.18863497519418357,0.15964338701772982,5.9527246118007207E-2,0.13194076142779462,4.624824613814723E-2,0.49747578160140177,0.27399182314359183,2.1590123324180806E-2,0.12106178293064436,2.4590989345918624E-2,0.99422316507448338,7.786810958867324E-2,0.18577508945534618,5.8382620487791775E-2,0.37836758259094938,0.94312116919647948,0.10984378041985275,0.11572131554743989,7.3444014044321488E-3,0.19913464959686361]
[null,null,null,null,{"$f":"E6/$D6","v":0.28371603998815004},0.22772740210629044,0.22950200695900688,0.24880773274625184,9.6159766716429201E-2,0.19881964089665444,0.20444842028219415,0.11775998977641726,0.17391417999314551,3.5036102026709093E-2,0.13282234782255098,7.1056804781848476E-2,0.54634013162862838,0.25705049636656191,3.8184500816143968E-2,0.12923828499398776,1.1216896794093559E-2,0.70330117164582273,8.3409332504603459E-2,0.18786123809911098,8.5468571196217272E-2,0.34134858351098762,0.73207242478986445,8.065884020423926E-2,0.14880831363163743,9.2494379933895254E-2,0.21549105146063638]
[null,null,null,null,{"$f":"E7/$D7","v":0.30593483755584744},0.22372803697170657,0.16533468840947932,0.26204319210938393,0.11672353146922373,0.19215935092104003,0.1992706723748307,0.13598151414674989,0.15592583409304961,6.5088908016664421E-2,0.1181084620294276,5.9257869545009272E-2,0.59522788188588138,0.24697488363849274,3.370783338974246E-2,0.11573739303084836,1.3130914120163702E-2,0.77937367953140468,8.4828646661695123E-2,0.20343960562004648,7.0117648389794313E-2,0.37923433798150874,0.972026099671633,0.13116678278462487,0.13099802678035233,3.5403878371231157E-2,0.2065205811617391]
[null,null,null,null,{"$f":"E8/$D8","v":0.24621883629126362},0.22058930136616173,0.21498538059870329,0.26189707326395967,0.10793094282507031,0.14721550381466406,0.16279928034322083,9.9106579938798345E-2,0.12906152450369823,6.9254882836097945E-2,0.14699143485414651,9.0638091283937142E-2,0.5144996781754636,0.15643528251361441,2.7545104862076765E-2,0.13438206393873692,6.7857746964634473E-3,0.61696070225848354,0.16855697392672073,0.17518897580714249,4.9563175364716168E-2,0.37240480913498419,0.98267419714114279,0.1786115193413253,0.11190047823345781,1.6618447905065056E-2,0.14982085466931166]
[null,null,null,null,{"$f":"E9/$D9","v":0.30616226955051268},0.20463244366133326,0.10476607184387185,0.25352695623381372,9.4852358596549377E-2,0.13999030308763882,0.19783672133990829,0.1264776951306521,0.13901667001722598,3.8984741159451136E-2,0.12797559216205662,0.12177114498460714,0.50885533073960632,0.29634316032622626,2.5704701425761471E-2,6.747631943048378E-2,5.2071631012775487E-3,0.56272838002435999,0.10034333376693512,9.0583352057046249E-2,7.9191450949784969E-2,0.31398681062245559,1.2290521071075211,0.13147988284868481,5.8118404818498226E-2,4.9308405173263341E-2,0.16276622163357507]
[null,null,null,null,{"$f":"E10/$D10","v":0.32995305915419237},0.16109691048515218,0.24388150981539999,0.2506553901980535,8.8682202111065492E-2,0.17629178226137804,0.21834583513618719,0.11435604504285032,0.16468564904536653,0.11111636312071178,0.13591029244401465,8.5184363717016875E-2,0.64787820832136478,0.341577372403437,3.0720620157293647E-2,9.0878350125624036E-2,8.5082555530911503E-3,1.2074378151963252,9.8710308442443828E-2,0.1863053445661699,8.6642402382311551E-2,0.33447625142258797,1.3446279819799507,0.10595686968915777,0.15561381246204917,4.664632926948991E-2,0.20506350285608307]
[null,null,null,null,{"$f":"E11/$D11","v":0.28507937024167318},0.19984592446843427,0.19464435078404724,0.25659673981866643,9.9178500975168088E-2,0.15347996255842616,0.18735930190368663,0.11042621804533435,0.14158586001282614,7.3151322295318885E-2,0.13899117114681589,9.7140760600569365E-2,0.55032608927640403,0.24425850134104671,2.7958204471239402E-2,0.10497157834933883,6.8602232062548981E-3,0.7680268880096508,0.13144594194929943,0.15648219949935616,6.7566592440745463E-2,0.3467410890782201,1.1473708067520854,0.14615121151541829,0.11025242572410922,3.3440285060059992E-2,0.16859989450501206]
[null,null,null,null,{"$f":"E12/$D12","v":0.43966479688157917},0.30598285954880688,0.14818476917435183,0.3354448775585045,0.25038369076561623,0.22524074048922293,0.23880641612451953,0.21689325926630196,0.20762492020590273,9.3824276420334876E-2,0.18839556141089558,0.16998927024053673,1.0116397517215152,0.28971708748149444,3.4720958344085714E-2,0.23048066606000545,9.694813044127842E-3,0.61127847121300638,0.13667540440327594,0.29240088554470584,0.10283455797465602,0.38140627758838519,1.9034212992516275,0.13379874230920721,0.29220530511904574,2.1272087685224168E-2,0.26395479919051423]
[null,null,null,null,{"$f":"E13/$D13","v":0.34642123481552234},0.36968442165537063,0.1010982967504004,0.25928214418582046,0.11658120764116917,0.1756951296443072,0.20700710091713437,0.16935121233198011,0.19492745418371818,0.10678226549989484,9.4175306924607363E-2,0.13087362308525954,0.61446063762677317,0.18280898694660586,2.3774323471847044E-2,0.12275366772883876,5.8069003445319692E-3,0.56556297817964085,8.5987415686718582E-2,0.22084014040082189,0.11200362324701167,0.35580609158403831,1.4179091923717726,0.18069650453714639,0.1465215211167365,6.8065283147048829E-3,0.19036604499943388]
[null,null,null,null,{"$f":"E14/$D14","v":0.37576134300458797},0.19213569569533762,0.20138360954842638,0.31075763131769363,0.17942652201522233,0.1962319670151777,0.20196048618626408,0.15670920945541056,0.18398340026294838,0.10201325474693455,0.1107021796098703,8.2770617749912775E-2,0.60502732338183862,0.17225357529358098,3.6155407883086341E-2,8.9688665492044503E-2,1.5325242154030536E-2,0.46534715452244446,9.373574578075107E-2,0.16043878399771028,5.471384235616096E-2,0.32749152572690943,1.2046928243701307,8.8266597501095598E-2,0.18067865735316468,1.6572905580051697E-2,0.20029693495156933]
[null,null,null,null,{"$f":"E15/$D15","v":0.39180767881643069},0.29958107070070195,0.14523326391879834,0.30318315224872006,0.18685867407877749,0.20103944196042053,0.21874902871452864,0.18564095960784502,0.19739961903408718,0.10030326307516749,0.13678030521674656,0.13491765719284068,0.77442422197258642,0.22387630596269378,3.1320903839408207E-2,0.15856818090996694,9.7583663755400393E-3,0.55936829813024747,0.10862412695311632,0.23508993548444423,9.4035974193777558E-2,0.35923908941154559,1.5633855348397303,0.138588561254257,0.21453309474862009,1.5142062988140326E-2,0.22290280041027094]
[null,null,null,null,{"$f":"E16/$D16","v":0.32523194672286998},0.23894959911784197,0.16897753321672621,0.27280628374634691,0.13231317967994619,0.18195459928080221,0.20124909013873352,0.14263297554510199,0.16382018153769273,7.8552261344747798E-2,0.13079493356654753,9.5052663313307334E-2,0.63503495496865736,0.23900290069203789,3.1057163731571913E-2,0.12524070583506253,1.0004739426597284E-2,0.70829576194770028,0.10767868588873075,0.19743378382782725,7.6580782100448677E-2,0.36226465827240462,1.2114636408573873,0.13844218171151695,0.14961683976664092,2.8550971242951969E-2,0.19886375981835372]
[null,null,null,null,{"$f":"E17/$D17","v":0.36135093687220776},0.26355955424957112,0.15579767738653735,0.28904290219196449,0.15495292552104378,0.16549112934846641,0.22220607403841358,0.15746901441073988,0.17710268276842445,7.103182352861033E-2,0.10585134486616436,9.1210493089838932E-2,0.67560922808148982,0.19152250627886819,3.5518939548769272E-2,0.12193493593965013,6.8988069015319077E-3,0.9639163786486683,9.4703042469218748E-2,0.29700294754817608,0.10823723902390289,0.376306678232803,1.1032307974124544,5.6322846601841801E-2,0.12588165298865034,4.3703040955326539E-2,0.31201016124466185]
[null,null,null,null,{"$f":"E18/$D18","v":0.34335386456073991},0.23148596847125325,0.12278966242116983,0.32461508126155075,6.5186368512694742E-2,0.1264525314234724,0.17060748147677782,9.0913344406605159E-2,0.20619011493254111,9.4355639180667028E-2,9.4242010032785359E-2,6.6055297290613227E-2,0.69037728219130468,0.24272188597649222,4.2941791797980737E-2,0.12563039111821112,8.0309071282238086E-3,0.40786514225366716,9.3844308015199593E-2,0.17489865282619071,7.8684842874282734E-2,0.37021044786594426,1.400435801202464,0.24491091809009463,0.11157713915225971,2.1970529946293511E-2,0.23517557374364587]
[null,null,null,null,{"$f":"E19/$D19","v":0.33905829457684122},0.19728171759149463,0.13966774256751882,0.21222917719365184,0.10412176585235064,0.13208831324183024,0.1807719674548588,0.14139502748187635,0.23080651315314568,5.8340981510317302E-2,6.3625957740814421E-2,4.1202190300392898E-2,0.61461953327214791,0.1963123756097058,2.0098377899002814E-2,0.10098171656027961,7.8527012673630797E-3,0.54451754612108505,8.2177513328452245E-2,0.19779732502861633,7.8568261268600559E-2,0.31556721974157748,0.93900364018850624,0.161725428727584,7.999133779505635E-2,7.9919152753859315E-3,0.18629927918080286]
[null,null,null,null,{"$f":"E20/$D20","v":0.35293582291625142},0.24409949086168659,0.14452541964472987,0.28535581608613564,0.12312670211161514,0.14975115149855175,0.20185851952910344,0.13750548229457196,0.1936745155211777,7.4947517322317345E-2,9.5742098995071565E-2,7.6279736572495455E-2,0.66918664417697971,0.20560641545478353,3.4851791691875106E-2,0.11937100529247281,7.3527754712173037E-3,0.74919954165417013,9.2374713317165236E-2,0.24865781294150902,9.5585214359884707E-2,0.36451494911217147,1.1527042230570137,0.12295248215762314,0.11445730917714442,3.2063405662061818E-2,0.27095016615903084]
[null,null,null,null,{"$f":"E21/$D21","v":0.61806181234975777},0.29705181934075314,0.20685865107463194,0.39261160355456526,0.14481825284967129,0.24176315110640903,0.25178046035882129,0.15076807471017289,0.24206223106169664,0.10271901064350795,0.13608324890555423,0.17215603001267338,0.97864569119246914,0.25583860150212889,4.89631271800125E-2,0.13715059049598671,1.461379431523775E-2,0.75734895527633139,0.10955298762182826,0.3420839143584547,9.4632636352420849E-2,0.48178789997270904,1.8798259354660201,0.12147319308975764,0.17289251440256903,0.13178397454829577,0.19625626665968826]
[null,null,null,null,{"$f":"E22/$D22","v":0.39021985789219088},0.22288180180371706,0.15274197919932825,0.24249469885792915,6.9252313104848334E-2,0.19065510955693604,0.12877656549766966,0.16322468870737164,0.14305377669835839,5.4778468062944126E-2,0.15204313189879198,6.1368358957734334E-2,0.67340713302545074,0.48042961837091563,1.9028309958706899E-2,0.10150557749233405,5.8405565269149199E-3,0.63204493880435986,6.7588897096727871E-2,0.18068524236449557,1.7784733773722271E-2,0.39000196633841183,1.3382420934595325,0.16054090249618688,0.1317659313269596,2.6210759591214213E-2,0.34723410587403736]
[null,null,null,null,{"$f":"E23/$D23","v":0.41057407982950711},0.12972872175109909,0.20076543977267691,0.2157900812502774,0.14741197886604798,0.19083248235137412,0.16756559960928816,0.11762198641388801,0.13695866447631319,7.2906806375704861E-2,0.10037028814989128,6.3112374017670836E-2,0.67903920436886733,0.25275673755716382,3.1569506726457412E-2,0.12748745726590602,1.3104826177685033E-2,0.42660036407228175,9.6750876881410056E-2,0.20481996181680959,7.5346978644052751E-2,0.38484571327087819,1.3791466500910174,0.11584780002663944,0.10241442081427864,4.2687031034942063E-2,0.30516361053145674]
[null,null,null,null,{"$f":"E24/$D24","v":0.48066479334067119},0.21421842221458076,0.19071842255370566,0.28676537914503886,0.12652072087103555,0.2092671985501732,0.18822178497717351,0.1412889323873105,0.17665084309843521,7.9096815413634072E-2,0.12651800787176737,0.1022332731725745,0.78631264739216333,0.31198813334120112,3.4679591395180231E-2,0.12436185170339054,1.1798155567447536E-2,0.59905058590610449,9.3952521156307353E-2,0.248465290226488,6.765202800086545E-2,0.42133692534436418,1.5503753095362589,0.12929679737218891,0.13547904445452771,7.0809959149013516E-2,0.27638544394502651]
[null,null,null,null,{"$f":"E25/$D25","v":0.38505217835082411},0.17405297808646128,0.22208991062123221,0.25814254065648728,6.1188575316912311E-2,0.14793936087630688,0.1706115728981519,0.20267334612128218,0.1476010863890469,5.2373885209583519E-2,0.12243776629339155,0.10499805443286225,0.67743865597484643,0.18720853155631684,3.0432971790254185E-2,0.14725107983864505,0.11552953644663186,0.70575399036797526,8.9212563475350004E-2,0.17972151992788674,5.3738715221765335E-2,0.39561690121016269,1.3587645355373963,0.15568056720614604,0.13354998543268815,3.5020208478762044E-3,0.15227240286340535]
[null,null,null,null,{"$f":"E26/$D26","v":0.34572319324147549},0.20506370693083001,0.12561300992917604,0.24647753401448763,0.11156348506589688,0.26875911230975796,0.18343907934696799,0.16799785626609956,0.17850906764863503,8.0845276582012265E-2,0.13143624408600291,0.10990093874799019,0.63360591025131241,0.21754000772205226,2.4722092560897607E-2,0.17335719101706348,1.4680543309763787E-2,0.60799635795745977,9.3797002230174745E-2,0.24482939451042757,8.872868511891388E-2,0.38152412565046767,1.316419733877334,0.16438462735335299,0.16744463461438741,1.0557313186844847E-2,0.21033948216148313]
[null,null,null,null,{"$f":"E27/$D27","v":0.57407054855992845},0.32863157946788141,0.17972402641553295,0.39291992513456331,0.25046296410761043,0.2111684991556623,0.26248148761679163,0.25151375046667279,0.22676216872414764,0.10961061566190891,0.17562966827292761,0.10872301024331264,0.76829542673052154,0.18327444808991764,3.3081227021774795E-2,0.2208085368356249,5.1439082824217011E-2,0.81544977364825577,0.14542388721724578,0.25872090867059505,0.10124882868226444,0.37176821383626035,2.1384763350549716,0.16077031293653979,0.19346583955357657,2.2093710363720431E-2,0.17439097658847988]
[null,null,null,null,{"$f":"E28/$D28","v":0.43477816769812583},0.23207906022157873,0.18201001475925938,0.29809982453584383,0.13564741206205225,0.20139025255436538,0.20355821672673824,0.2087857183578582,0.18144624905775111,7.852812810783763E-2,0.14194543508142934,0.10753830756269514,0.69449045715697388,0.19428379585347158,2.9711719358700695E-2,0.17798209885536564,6.7290820754179165E-2,0.71402034624082256,0.10847422197165969,0.22291311673750699,7.8569302007385974E-2,0.38410655805203131,1.5968330936801218,0.15970247106741747,0.1620525505647159,1.1394876700006969E-2,0.17531292163656739]
[null,null,null,null,{"$f":"E29/$D29","v":0.4278987096742688},0.22887546828824115,0.17419538718895475,0.29002632462896105,0.12847667958611503,0.18906367537874907,0.19724299434109144,0.16207495541672348,0.18325493512905189,7.7681942044696126E-2,0.12240014412625132,9.6259784997968376E-2,0.72178082272753785,0.24224132768855988,3.3118197661135239E-2,0.14028588295190506,2.8491662753823987E-2,0.68088705492860091,9.8198087757158548E-2,0.24022875159372853,7.9477866160477195E-2,0.39240479327726069,1.4475425934449788,0.1372846233892131,0.13787110003950107,4.0036668925706877E-2,0.24196813545400414]
[null,null,null,null,{"$f":"E30/$D30","v":0.41867842736141775},0.27018585553001695,0.17242730139967663,0.30012537529938738,0.1496859005430555,0.21521511909127575,0.23364788207295986,0.18272068977268169,0.18709463470011917,9.9268652563937562E-2,0.14692174394244026,0.10434998883574924,0.70928941959628644,0.28930027358772248,3.4651494814345388E-2,0.15666226030556973,2.059349055514555E-2,0.72214270201317599,0.10588175456246569,0.21835484210595926,8.7145446028349574E-2,0.39697522553566811,1.5163773710045831,0.12048479805421604,0.18607698399417716,4.314619268530491E-2,0.23935451811380615]
[]
[null,null,null,null,null,null,null,null,null,null,null,null,null,null,null,null,null,null,null,null,null,null,null,null,null,null,null,null,null,null,"y",100000]
[null,null,null,null,{"$f":"RANK(E32,E$32:E$60,0)","v":3},{"$f":"RANK(F32,F$32:F$60,0)","v":2},13,3,3,1,1,2,4,1,1,5,6,2,3,3,6,5,5,14,3,2,2,26,2,4,{"$f":"AE32*$AF$62+$AF$63","v":1027579.3367152669},1000000]
[null,null,null,null,{"$f":"RANK(E33,E$32:E$60,0)","v":3},2,13,3,3,1,1,2,4,1,1,5,6,2,3,3,6,5,5,14,3,2,2,26,2,4,{"$f":"AE33*$AF$62+$AF$63","v":1027579.3367152669}]
[null,null,null,null,{"$f":"RANK(E34,E$32:E$60,0)","v":23},23,18,15,11,9,20,26,27,12,25,27,10,19,5,26,26,16,22,10,24,5,21,2,20,25,1020439.822503447]
[null,null,null,null,{"$f":"RANK(E35,E$32:E$60,0)","v":24},10,28,20,19,21,16,7,21,24,14,28,29,9,27,20,5,2,28,22,25,15,27,23,22,27,1019913.4649596864]
[null,null,null,null,{"$f":"RANK(E36,E$32:E$60,0)","v":28},16,2,25,24,12,11,23,18,29,13,22,26,10,6,13,15,15,26,20,13,25,29,28,13,2,1021549.1051460636]
[null,null,null,null,{"$f":"RANK(E37,E$32:E$60,0)","v":26},17,17,17,17,14,17,21,22,23,21,26,24,13,13,22,12,7,25,17,21,14,26,17,19,12,1020652.058116174]
[null,null,null,null,{"$f":"RANK(E38,E$32:E$60,0)","v":29},19,4,18,21,26,28,28,29,22,6,18,27,29,23,12,25,19,1,25,28,17,25,4,24,20,1014982.0854669311]
[null,null,null,null,{"$f":"RANK(E39,E$32:E$60,0)","v":25},22,27,23,25,27,18,22,26,28,17,7,28,6,24,29,29,24,12,29,15,29,18,16,29,6,1016276.6221633576]
[null,null,null,null,{"$f":"RANK(E40,E$32:E$60,0)","v":21},28,1,24,26,19,9,25,19,3,12,19,18,4,19,27,19,1,13,21,12,26,15,24,11,7,1020506.3502856083]
[null,null,null,null,{"$f":"RANK(E41,E$32:E$60,0)","v":27},24,8,22,23,23,22,27,25,19,9,14,25,14,22,23,24,8,4,28,23,24,23,11,26,13,1016859.9894505012]
[null,null,null,null,{"$f":"RANK(E42,E$32:E$60,0)","v":6},5,21,5,2,5,5,4,6,11,3,2,1,7,10,1,18,20,3,3,5,13,4,15,1,19,1026395.4799190514]
[null,null,null,null,{"$f":"RANK(E43,E$32:E$60,0)","v":17},1,29,19,18,20,10,10,9,5,28,4,22,27,26,18,28,23,24,12,1,23,11,3,14,28,1019036.6044999434]
[null,null,null,null,{"$f":"RANK(E44,E$32:E$60,0)","v":14},26,6,7,6,13,13,15,12,7,22,20,23,28,7,28,9,27,20,27,26,27,20,25,7,21,1020029.6934951569]
[null,null,null,null,{"$f":"RANK(E45,E$32:E$60,0)","v":11},6,22,8,5,11,8,8,8,8,10,3,4,18,17,7,17,25,8,9,9,22,7,12,4,22,1022290.2800410271]
[null,null,null,null,{"$f":"RANK(E46,E$32:E$60,0)","v":22},12,16,16,13,18,15,17,20,15,16,16,19,17,18,16,16,13,10,19,19,21,19,13,12,15,1019886.3759818354]
[null,null,null,null,{"$f":"RANK(E47,E$32:E$60,0)","v":15},9,19,12,7,22,7,14,16,21,23,17,15,24,8,19,23,3,16,2,2,16,24,29,21,8,1031201.0161244662]
[null,null,null,null,{"$f":"RANK(E48,E$32:E$60,0)","v":19},14,26,6,28,29,26,29,7,10,27,23,12,15,2,15,20,29,18,26,16,19,12,1,25,18,1023517.5573743646]
[null,null,null,null,{"$f":"RANK(E49,E$32:E$60,0)","v":20},25,24,29,22,28,24,18,2,25,29,29,21,22,28,25,21,26,27,18,18,28,28,6,28,26,1018629.9279180802]
[null,null,null,null,{"$f":"RANK(E50,E$32:E$60,0)","v":16},11,23,14,16,24,14,20,10,18,26,21,17,21,9,21,22,10,21,5,7,20,22,19,23,14,1027095.0166159031]
[null,null,null,null,{"$f":"RANK(E51,E$32:E$60,0)","v":1},7,5,2,10,4,4,16,1,6,11,1,2,11,1,11,11,9,7,1,8,1,5,20,8,1,1019625.6266659688]
[null,null,null,null,{"$f":"RANK(E52,E$32:E$60,0)","v":12},18,20,27,27,16,29,12,24,26,5,25,16,1,29,24,27,18,29,23,29,9,16,8,18,16,1034723.4105874037]
[null,null,null,null,{"$f":"RANK(E53,E$32:E$60,0)","v":10},29,7,28,9,15,27,24,28,20,24,24,13,12,16,14,13,28,15,16,20,10,13,22,27,10,1030516.3610531457]
[null,null,null,null,{"$f":"RANK(E54,E$32:E$60,0)","v":5},20,9,13,15,8,21,19,17,14,18,13,3,5,11,17,14,22,17,6,22,4,8,18,16,3,1027638.5443945026]
[null,null,null,null,{"$f":"RANK(E55,E$32:E$60,0)","v":13},27,3,21,29,25,25,6,23,27,19,11,14,25,20,9,1,14,23,24,27,7,14,10,17,29,1015227.2402863406]
[null,null,null,null,{"$f":"RANK(E56,E$32:E$60,0)","v":18},21,25,26,20,3,23,11,15,13,15,8,20,20,25,6,10,21,19,7,10,12,17,5,9,24,1021033.9482161483]
[null,null,null,null,{"$f":"RANK(E57,E$32:E$60,0)","v":2},4,11,1,1,7,3,1,3,4,4,9,5,26,15,2,3,4,2,4,6,18,1,7,5,17,1017439.097658848]
[null,null,null,null,{"$f":"RANK(E58,E$32:E$60,0)","v":7},13,10,10,12,10,12,5,14,16,8,10,11,23,21,5,2,12,9,11,17,11,6,9,10,23,1017531.2921636568]
[null,null,null,null,{"$f":"RANK(E59,E$32:E$60,0)","v":8},15,12,11,14,17,19,13,13,17,20,15,8,16,14,10,4,17,14,8,14,8,10,14,15,11,1024196.8135454004]
[null,null,null,null,{"$f":"RANK(E60,E$32:E$60,0)","v":9},8,15,9,8,6,6,9,11,9,7,12,9,8,12,8,8,11,11,13,11,6,9,21,6,9,1023935.4518113806]
[]
[]
[]
[]
[]
[]
["Azonosító:",6734949,"Objektumok:",29,"Attribútumok:",26,"Lépcsôk:",29,"Eltolás:",0,"Leírás:","COCO STD: 6734949"]
[]
["Rangsor","X(A1)","X(A2)","X(A3)","X(A4)","X(A5)","X(A6)","X(A7)","X(A8)","X(A9)","X(A10)","X(A11)","X(A12)","X(A13)","X(A14)","X(A15)","X(A16)","X(A17)","X(A18)","X(A19)","X(A20)","X(A21)","X(A22)","X(A23)","X(A24)","X(A25)","X(A26)","Y(A27)"]
["O1",3,2,13,3,3,1,1,2,4,1,1,5,6,2,3,3,6,5,5,14,3,2,2,26,2,4,1027579]
["O2",3,2,13,3,3,1,1,2,4,1,1,5,6,2,3,3,6,5,5,14,3,2,2,26,2,4,1027579]
["O3",23,23,18,15,11,9,20,26,27,12,25,27,10,19,5,26,26,16,22,10,24,5,21,2,20,25,1020440]
["O4",24,10,28,20,19,21,16,7,21,24,14,28,29,9,27,20,5,2,28,22,25,15,27,23,22,27,1019913]
["O5",28,16,2,25,24,12,11,23,18,29,13,22,26,10,6,13,15,15,26,20,13,25,29,28,13,2,1021549]
["O6",26,17,17,17,17,14,17,21,22,23,21,26,24,13,13,22,12,7,25,17,21,14,26,17,19,12,1020652]
["O7",29,19,4,18,21,26,28,28,29,22,6,18,27,29,23,12,25,19,1,25,28,17,25,4,24,20,1014982]
["O8",25,22,27,23,25,27,18,22,26,28,17,7,28,6,24,29,29,24,12,29,15,29,18,16,29,6,1016277]
["O9",21,28,1,24,26,19,9,25,19,3,12,19,18,4,19,27,19,1,13,21,12,26,15,24,11,7,1020506]
["O10",27,24,8,22,23,23,22,27,25,19,9,14,25,14,22,23,24,8,4,28,23,24,23,11,26,13,1016860]
["O11",6,5,21,5,2,5,5,4,6,11,3,2,1,7,10,1,18,20,3,3,5,13,4,15,1,19,1026395]
["O12",17,1,29,19,18,20,10,10,9,5,28,4,22,27,26,18,28,23,24,12,1,23,11,3,14,28,1019037]
["O13",14,26,6,7,6,13,13,15,12,7,22,20,23,28,7,28,9,27,20,27,26,27,20,25,7,21,1020030]
["O14",11,6,22,8,5,11,8,8,8,8,10,3,4,18,17,7,17,25,8,9,9,22,7,12,4,22,1022290]
["O15",22,12,16,16,13,18,15,17,20,15,16,16,19,17,18,16,16,13,10,19,19,21,19,13,12,15,1019886]
["O16",15,9,19,12,7,22,7,14,16,21,23,17,15,24,8,19,23,3,16,2,2,16,24,29,21,8,1031201]
["O17",19,14,26,6,28,29,26,29,7,10,27,23,12,15,2,15,20,29,18,26,16,19,12,1,25,18,1023518]
["O18",20,25,24,29,22,28,24,18,2,25,29,29,21,22,28,25,21,26,27,18,18,28,28,6,28,26,1018630]
["O19",16,11,23,14,16,24,14,20,10,18,26,21,17,21,9,21,22,10,21,5,7,20,22,19,23,14,1027095]
["O20",1,7,5,2,10,4,4,16,1,6,11,1,2,11,1,11,11,9,7,1,8,1,5,20,8,1,1019626]
["O21",12,18,20,27,27,16,29,12,24,26,5,25,16,1,29,24,27,18,29,23,29,9,16,8,18,16,1034723]
["O22",10,29,7,28,9,15,27,24,28,20,24,24,13,12,16,14,13,28,15,16,20,10,13,22,27,10,1030516]
["O23",5,20,9,13,15,8,21,19,17,14,18,13,3,5,11,17,14,22,17,6,22,4,8,18,16,3,1027639]
["O24",13,27,3,21,29,25,25,6,23,27,19,11,14,25,20,9,1,14,23,24,27,7,14,10,17,29,1015227]
["O25",18,21,25,26,20,3,23,11,15,13,15,8,20,20,25,6,10,21,19,7,10,12,17,5,9,24,1021034]
["O26",2,4,11,1,1,7,3,1,3,4,4,9,5,26,15,2,3,4,2,4,6,18,1,7,5,17,1017439]
["O27",7,13,10,10,12,10,12,5,14,16,8,10,11,23,21,5,2,12,9,11,17,11,6,9,10,23,1017531]
["O28",8,15,12,11,14,17,19,13,13,17,20,15,8,16,14,10,4,17,14,8,14,8,10,14,15,11,1024197]
["O29",9,8,15,9,8,6,6,9,11,9,7,12,9,8,12,8,8,11,11,13,11,6,9,21,6,9,1023935]
[]
["Lépcsôk(1)","X(A1)","X(A2)","X(A3)","X(A4)","X(A5)","X(A6)","X(A7)","X(A8)","X(A9)","X(A10)","X(A11)","X(A12)","X(A13)","X(A14)","X(A15)","X(A16)","X(A17)","X(A18)","X(A19)","X(A20)","X(A21)","X(A22)","X(A23)","X(A24)","X(A25)","X(A26)"]
["S1","(0+0)/(2)=0","(0+0)/(2)=0","(16380+260708.7)/(2)=138544.35","(0+0)/(2)=0","(28775+326422.6)/(2)=177598.8","(940036+0)/(2)=470018","(0+44108)/(2)=22054","(16496+131850.9)/(2)=74173.4","(2557+0)/(2)=1278.5","(0+0)/(2)=0","(0+0)/(2)=0","(0+0)/(2)=0","(0+0)/(2)=0","(50369.9+447752.5)/(2)=249061.25","(7209+64014.9)/(2)=35611.95","(0+0)/(2)=0","(16021+216105.8)/(2)=116063.35","(30538+264644.7)/(2)=147591.35","(0+0)/(2)=0","(0+0)/(2)=0","(0+0)/(2)=0","(0+0)/(2)=0","(0+0)/(2)=0","(1001538.9+765994.2)/(2)=883766.55","(0+0)/(2)=0","(15695+102709.9)/(2)=59202.45"]
["S2","(0+0)/(2)=0","(0+0)/(2)=0","(16380+260708.7)/(2)=138544.35","(0+0)/(2)=0","(28775+326422.6)/(2)=177598.8","(940036+0)/(2)=470018","(0+44108)/(2)=22054","(16496+131850.9)/(2)=74173.4","(2557+0)/(2)=1278.5","(0+0)/(2)=0","(0+0)/(2)=0","(0+0)/(2)=0","(0+0)/(2)=0","(12501+249975.7)/(2)=131238.35","(7209+64014.9)/(2)=35611.95","(0+0)/(2)=0","(16021+216105.8)/(2)=116063.35","(30538+264644.7)/(2)=147591.35","(0+0)/(2)=0","(0+0)/(2)=0","(0+0)/(2)=0","(0+0)/(2)=0","(0+0)/(2)=0","(49272.9+544011.4)/(2)=296642.15","(0+0)/(2)=0","(15695+102709.9)/(2)=59202.45"]
["S3","(0+0)/(2)=0","(0+0)/(2)=0","(16380+260708.7)/(2)=138544.35","(0+0)/(2)=0","(28775+326422.6)/(2)=177598.8","(940036+0)/(2)=470018","(0+44108)/(2)=22054","(16496+131850.9)/(2)=74173.4","(2557+0)/(2)=1278.5","(0+0)/(2)=0","(0+0)/(2)=0","(0+0)/(2)=0","(0+0)/(2)=0","(12501+249975.7)/(2)=131238.35","(7209+64014.9)/(2)=35611.95","(0+0)/(2)=0","(4311+99851.9)/(2)=52081.45","(20434+264644.7)/(2)=142539.35","(0+0)/(2)=0","(0+0)/(2)=0","(0+0)/(2)=0","(0+0)/(2)=0","(0+0)/(2)=0","(49272.9+544011.4)/(2)=296642.15","(0+0)/(2)=0","(15695+102709.9)/(2)=59202.45"]
["S4","(0+0)/(2)=0","(0+0)/(2)=0","(13470+260708.7)/(2)=137089.35","(0+0)/(2)=0","(28775+326422.6)/(2)=177598.8","(940036+0)/(2)=470018","(0+44108)/(2)=22054","(16496+131850.9)/(2)=74173.4","(2557+0)/(2)=1278.5","(0+0)/(2)=0","(0+0)/(2)=0","(0+0)/(2)=0","(0+0)/(2)=0","(12501+249975.7)/(2)=131238.35","(7209+64014.9)/(2)=35611.95","(0+0)/(2)=0","(4311+99851.9)/(2)=52081.45","(0+0)/(2)=0","(0+0)/(2)=0","(0+0)/(2)=0","(0+0)/(2)=0","(0+0)/(2)=0","(0+0)/(2)=0","(49272.9+544011.4)/(2)=296642.15","(0+0)/(2)=0","(15695+102709.9)/(2)=59202.45"]
["S5","(0+0)/(2)=0","(0+0)/(2)=0","(13470+192625.8)/(2)=103047.9","(0+0)/(2)=0","(28775+326422.6)/(2)=177598.8","(940036+0)/(2)=470018","(0+44108)/(2)=22054","(16496+131850.9)/(2)=74173.4","(2557+0)/(2)=1278.5","(0+0)/(2)=0","(0+0)/(2)=0","(0+0)/(2)=0","(0+0)/(2)=0","(12501+249975.7)/(2)=131238.35","(7209+64014.9)/(2)=35611.95","(0+0)/(2)=0","(4311+99851.9)/(2)=52081.45","(0+0)/(2)=0","(0+0)/(2)=0","(0+0)/(2)=0","(0+0)/(2)=0","(0+0)/(2)=0","(0+0)/(2)=0","(40581+474365.5)/(2)=257473.2","(0+0)/(2)=0","(15695+102709.9)/(2)=59202.45"]
["S6","(0+0)/(2)=0","(0+0)/(2)=0","(13470+192625.8)/(2)=103047.9","(0+0)/(2)=0","(28775+326422.6)/(2)=177598.8","(940036+0)/(2)=470018","(0+44108)/(2)=22054","(16496+131850.9)/(2)=74173.4","(2557+0)/(2)=1278.5","(0+0)/(2)=0","(0+0)/(2)=0","(0+0)/(2)=0","(0+0)/(2)=0","(12501+249975.7)/(2)=131238.35","(7209+64014.9)/(2)=35611.95","(0+0)/(2)=0","(4311+99851.9)/(2)=52081.45","(0+0)/(2)=0","(0+0)/(2)=0","(0+0)/(2)=0","(0+0)/(2)=0","(0+0)/(2)=0","(0+0)/(2)=0","(40581+474365.5)/(2)=257473.2","(0+0)/(2)=0","(15695+102709.9)/(2)=59202.45"]
["S7","(0+0)/(2)=0","(0+0)/(2)=0","(13470+192625.8)/(2)=103047.9","(0+0)/(2)=0","(28775+326422.6)/(2)=177598.8","(940036+0)/(2)=470018","(0+44108)/(2)=22054","(16496+131850.9)/(2)=74173.4","(2557+0)/(2)=1278.5","(0+0)/(2)=0","(0+0)/(2)=0","(0+0)/(2)=0","(0+0)/(2)=0","(12501+196845.8)/(2)=104673.4","(7209+64014.9)/(2)=35611.95","(0+0)/(2)=0","(4311+99851.9)/(2)=52081.45","(0+0)/(2)=0","(0+0)/(2)=0","(0+0)/(2)=0","(0+0)/(2)=0","(0+0)/(2)=0","(0+0)/(2)=0","(23738+317755.7)/(2)=170746.8","(0+0)/(2)=0","(15695+102709.9)/(2)=59202.45"]
["S8","(0+0)/(2)=0","(0+0)/(2)=0","(13470+192625.8)/(2)=103047.9","(0+0)/(2)=0","(28775+326422.6)/(2)=177598.8","(940036+0)/(2)=470018","(0+44108)/(2)=22054","(16496+131850.9)/(2)=74173.4","(2557+0)/(2)=1278.5","(0+0)/(2)=0","(0+0)/(2)=0","(0+0)/(2)=0","(0+0)/(2)=0","(12501+196845.8)/(2)=104673.4","(7209+64014.9)/(2)=35611.95","(0+0)/(2)=0","(4311+99851.9)/(2)=52081.45","(0+0)/(2)=0","(0+0)/(2)=0","(0+0)/(2)=0","(0+0)/(2)=0","(0+0)/(2)=0","(0+0)/(2)=0","(23738+317755.7)/(2)=170746.8","(0+0)/(2)=0","(15695+102709.9)/(2)=59202.45"]
["S9","(0+0)/(2)=0","(0+0)/(2)=0","(5176+8644)/(2)=6910","(0+0)/(2)=0","(28775+326422.6)/(2)=177598.8","(940036+0)/(2)=470018","(0+44108)/(2)=22054","(16496+131850.9)/(2)=74173.4","(2557+0)/(2)=1278.5","(0+0)/(2)=0","(0+0)/(2)=0","(0+0)/(2)=0","(0+0)/(2)=0","(12501+196845.8)/(2)=104673.4","(7209+64014.9)/(2)=35611.95","(0+0)/(2)=0","(4311+99851.9)/(2)=52081.45","(0+0)/(2)=0","(0+0)/(2)=0","(0+0)/(2)=0","(0+0)/(2)=0","(0+0)/(2)=0","(0+0)/(2)=0","(23738+317755.7)/(2)=170746.8","(0+0)/(2)=0","(15695+102709.9)/(2)=59202.45"]
["S10","(0+0)/(2)=0","(0+0)/(2)=0","(5176+8644)/(2)=6910","(0+0)/(2)=0","(10676+210260.8)/(2)=110468.4","(940036+0)/(2)=470018","(0+44108)/(2)=22054","(16496+131850.9)/(2)=74173.4","(2557+0)/(2)=1278.5","(0+0)/(2)=0","(0+0)/(2)=0","(0+0)/(2)=0","(0+0)/(2)=0","(12501+196845.8)/(2)=104673.4","(766+41151)/(2)=20958.5","(0+0)/(2)=0","(0+11048)/(2)=5524","(0+0)/(2)=0","(0+0)/(2)=0","(0+0)/(2)=0","(0+0)/(2)=0","(0+0)/(2)=0","(0+0)/(2)=0","(23738+317755.7)/(2)=170746.8","(0+0)/(2)=0","(15695+102709.9)/(2)=59202.45"]
["S11","(0+0)/(2)=0","(0+0)/(2)=0","(0+8644)/(2)=4322","(0+0)/(2)=0","(10676+210260.8)/(2)=110468.4","(940036+0)/(2)=470018","(0+44108)/(2)=22054","(16496+131850.9)/(2)=74173.4","(2557+0)/(2)=1278.5","(0+0)/(2)=0","(0+0)/(2)=0","(0+0)/(2)=0","(0+0)/(2)=0","(10690+193506.8)/(2)=102098.4","(766+41151)/(2)=20958.5","(0+0)/(2)=0","(0+11048)/(2)=5524","(0+0)/(2)=0","(0+0)/(2)=0","(0+0)/(2)=0","(0+0)/(2)=0","(0+0)/(2)=0","(0+0)/(2)=0","(23738+317755.7)/(2)=170746.8","(0+0)/(2)=0","(15695+102709.9)/(2)=59202.45"]
["S12","(0+0)/(2)=0","(0+0)/(2)=0","(0+8644)/(2)=4322","(0+0)/(2)=0","(10676+210260.8)/(2)=110468.4","(940036+0)/(2)=470018","(0+44108)/(2)=22054","(16496+131850.9)/(2)=74173.4","(2557+0)/(2)=1278.5","(0+0)/(2)=0","(0+0)/(2)=0","(0+0)/(2)=0","(0+0)/(2)=0","(10690+193506.8)/(2)=102098.4","(766+41151)/(2)=20958.5","(0+0)/(2)=0","(0+11048)/(2)=5524","(0+0)/(2)=0","(0+0)/(2)=0","(0+0)/(2)=0","(0+0)/(2)=0","(0+0)/(2)=0","(0+0)/(2)=0","(23738+317755.7)/(2)=170746.8","(0+0)/(2)=0","(15695+102709.9)/(2)=59202.45"]
["S13","(0+0)/(2)=0","(0+0)/(2)=0","(0+8644)/(2)=4322","(0+0)/(2)=0","(10676+210260.8)/(2)=110468.4","(940036+0)/(2)=470018","(0+44108)/(2)=22054","(16496+131850.9)/(2)=74173.4","(2557+0)/(2)=1278.5","(0+0)/(2)=0","(0+0)/(2)=0","(0+0)/(2)=0","(0+0)/(2)=0","(10690+193506.8)/(2)=102098.4","(766+41151)/(2)=20958.5","(0+0)/(2)=0","(0+11048)/(2)=5524","(0+0)/(2)=0","(0+0)/(2)=0","(0+0)/(2)=0","(0+0)/(2)=0","(0+0)/(2)=0","(0+0)/(2)=0","(23738+317755.7)/(2)=170746.8","(0+0)/(2)=0","(15695+102709.9)/(2)=59202.45"]
["S14","(0+0)/(2)=0","(0+0)/(2)=0","(0+8644)/(2)=4322","(0+0)/(2)=0","(10676+210260.8)/(2)=110468.4","(940036+0)/(2)=470018","(0+44108)/(2)=22054","(16496+131850.9)/(2)=74173.4","(2557+0)/(2)=1278.5","(0+0)/(2)=0","(0+0)/(2)=0","(0+0)/(2)=0","(0+0)/(2)=0","(10690+193506.8)/(2)=102098.4","(0+0)/(2)=0","(0+0)/(2)=0","(0+11048)/(2)=5524","(0+0)/(2)=0","(0+0)/(2)=0","(0+0)/(2)=0","(0+0)/(2)=0","(0+0)/(2)=0","(0+0)/(2)=0","(23738+277370.7)/(2)=150554.35","(0+0)/(2)=0","(15695+102709.9)/(2)=59202.45"]
["S15","(0+0)/(2)=0","(0+0)/(2)=0","(0+8644)/(2)=4322","(0+0)/(2)=0","(10676+210260.8)/(2)=110468.4","(940036+0)/(2)=470018","(0+44108)/(2)=22054","(16496+131850.9)/(2)=74173.4","(2557+0)/(2)=1278.5","(0+0)/(2)=0","(0+0)/(2)=0","(0+0)/(2)=0","(0+0)/(2)=0","(10690+193506.8)/(2)=102098.4","(0+0)/(2)=0","(0+0)/(2)=0","(0+11048)/(2)=5524","(0+0)/(2)=0","(0+0)/(2)=0","(0+0)/(2)=0","(0+0)/(2)=0","(0+0)/(2)=0","(0+0)/(2)=0","(23738+277370.7)/(2)=150554.35","(0+0)/(2)=0","(15695+102709.9)/(2)=59202.45"]
["S16","(0+0)/(2)=0","(0+0)/(2)=0","(0+8644)/(2)=4322","(0+0)/(2)=0","(10676+210260.8)/(2)=110468.4","(940036+0)/(2)=470018","(0+44108)/(2)=22054","(16496+131850.9)/(2)=74173.4","(2557+0)/(2)=1278.5","(0+0)/(2)=0","(0+0)/(2)=0","(0+0)/(2)=0","(0+0)/(2)=0","(10690+193506.8)/(2)=102098.4","(0+0)/(2)=0","(0+0)/(2)=0","(0+11048)/(2)=5524","(0+0)/(2)=0","(0+0)/(2)=0","(0+0)/(2)=0","(0+0)/(2)=0","(0+0)/(2)=0","(0+0)/(2)=0","(23738+277370.7)/(2)=150554.35","(0+0)/(2)=0","(1528+102709.9)/(2)=52118.95"]
["S17","(0+0)/(2)=0","(0+0)/(2)=0","(0+8644)/(2)=4322","(0+0)/(2)=0","(10676+210260.8)/(2)=110468.4","(940036+0)/(2)=470018","(0+44108)/(2)=22054","(16496+131850.9)/(2)=74173.4","(2557+0)/(2)=1278.5","(0+0)/(2)=0","(0+0)/(2)=0","(0+0)/(2)=0","(0+0)/(2)=0","(10690+193506.8)/(2)=102098.4","(0+0)/(2)=0","(0+0)/(2)=0","(0+0)/(2)=0","(0+0)/(2)=0","(0+0)/(2)=0","(0+0)/(2)=0","(0+0)/(2)=0","(0+0)/(2)=0","(0+0)/(2)=0","(23738+277370.7)/(2)=150554.35","(0+0)/(2)=0","(1528+0)/(2)=764"]
["S18","(0+0)/(2)=0","(0+0)/(2)=0","(0+8644)/(2)=4322","(0+0)/(2)=0","(10676+210260.8)/(2)=110468.4","(940036+0)/(2)=470018","(0+44108)/(2)=22054","(16496+131850.9)/(2)=74173.4","(2557+0)/(2)=1278.5","(0+0)/(2)=0","(0+0)/(2)=0","(0+0)/(2)=0","(0+0)/(2)=0","(10690+193506.8)/(2)=102098.4","(0+0)/(2)=0","(0+0)/(2)=0","(0+0)/(2)=0","(0+0)/(2)=0","(0+0)/(2)=0","(0+0)/(2)=0","(0+0)/(2)=0","(0+0)/(2)=0","(0+0)/(2)=0","(23738+271997.7)/(2)=147867.85","(0+0)/(2)=0","(1528+0)/(2)=764"]
["S19","(0+0)/(2)=0","(0+0)/(2)=0","(0+8644)/(2)=4322","(0+0)/(2)=0","(10676+210260.8)/(2)=110468.4","(940036+0)/(2)=470018","(0+0)/(2)=0","(16496+131850.9)/(2)=74173.4","(2557+0)/(2)=1278.5","(0+0)/(2)=0","(0+0)/(2)=0","(0+0)/(2)=0","(0+0)/(2)=0","(10690+193506.8)/(2)=102098.4","(0+0)/(2)=0","(0+0)/(2)=0","(0+0)/(2)=0","(0+0)/(2)=0","(0+0)/(2)=0","(0+0)/(2)=0","(0+0)/(2)=0","(0+0)/(2)=0","(0+0)/(2)=0","(23738+271997.7)/(2)=147867.85","(0+0)/(2)=0","(1528+0)/(2)=764"]
["S20","(0+0)/(2)=0","(0+0)/(2)=0","(0+8644)/(2)=4322","(0+0)/(2)=0","(10676+210260.8)/(2)=110468.4","(940036+0)/(2)=470018","(0+0)/(2)=0","(16496+131850.9)/(2)=74173.4","(2557+0)/(2)=1278.5","(0+0)/(2)=0","(0+0)/(2)=0","(0+0)/(2)=0","(0+0)/(2)=0","(10690+193506.8)/(2)=102098.4","(0+0)/(2)=0","(0+0)/(2)=0","(0+0)/(2)=0","(0+0)/(2)=0","(0+0)/(2)=0","(0+0)/(2)=0","(0+0)/(2)=0","(0+0)/(2)=0","(0+0)/(2)=0","(2799+72349.9)/(2)=37574.45","(0+0)/(2)=0","(1528+0)/(2)=764"]
["S21","(0+0)/(2)=0","(0+0)/(2)=0","(0+8644)/(2)=4322","(0+0)/(2)=0","(10676+210260.8)/(2)=110468.4","(940036+0)/(2)=470018","(0+0)/(2)=0","(16496+131850.9)/(2)=74173.4","(2557+0)/(2)=1278.5","(0+0)/(2)=0","(0+0)/(2)=0","(0+0)/(2)=0","(0+0)/(2)=0","(10690+193506.8)/(2)=102098.4","(0+0)/(2)=0","(0+0)/(2)=0","(0+0)/(2)=0","(0+0)/(2)=0","(0+0)/(2)=0","(0+0)/(2)=0","(0+0)/(2)=0","(0+0)/(2)=0","(0+0)/(2)=0","(2799+72349.9)/(2)=37574.45","(0+0)/(2)=0","(1528+0)/(2)=764"]
["S22","(0+0)/(2)=0","(0+0)/(2)=0","(0+8644)/(2)=4322","(0+0)/(2)=0","(10676+210260.8)/(2)=110468.4","(940036+0)/(2)=470018","(0+0)/(2)=0","(16496+131850.9)/(2)=74173.4","(2557+0)/(2)=1278.5","(0+0)/(2)=0","(0+0)/(2)=0","(0+0)/(2)=0","(0+0)/(2)=0","(8286+193506.8)/(2)=100896.4","(0+0)/(2)=0","(0+0)/(2)=0","(0+0)/(2)=0","(0+0)/(2)=0","(0+0)/(2)=0","(0+0)/(2)=0","(0+0)/(2)=0","(0+0)/(2)=0","(0+0)/(2)=0","(2799+72349.9)/(2)=37574.45","(0+0)/(2)=0","(0+0)/(2)=0"]
["S23","(0+0)/(2)=0","(0+0)/(2)=0","(0+8644)/(2)=4322","(0+0)/(2)=0","(10676+210260.8)/(2)=110468.4","(940036+0)/(2)=470018","(0+0)/(2)=0","(16496+131850.9)/(2)=74173.4","(2557+0)/(2)=1278.5","(0+0)/(2)=0","(0+0)/(2)=0","(0+0)/(2)=0","(0+0)/(2)=0","(2833+88804.9)/(2)=45818.95","(0+0)/(2)=0","(0+0)/(2)=0","(0+0)/(2)=0","(0+0)/(2)=0","(0+0)/(2)=0","(0+0)/(2)=0","(0+0)/(2)=0","(0+0)/(2)=0","(0+0)/(2)=0","(2799+72349.9)/(2)=37574.45","(0+0)/(2)=0","(0+0)/(2)=0"]
["S24","(0+0)/(2)=0","(0+0)/(2)=0","(0+8644)/(2)=4322","(0+0)/(2)=0","(10676+210260.8)/(2)=110468.4","(940036+0)/(2)=470018","(0+0)/(2)=0","(16496+131850.9)/(2)=74173.4","(2557+0)/(2)=1278.5","(0+0)/(2)=0","(0+0)/(2)=0","(0+0)/(2)=0","(0+0)/(2)=0","(0+88804.9)/(2)=44402.45","(0+0)/(2)=0","(0+0)/(2)=0","(0+0)/(2)=0","(0+0)/(2)=0","(0+0)/(2)=0","(0+0)/(2)=0","(0+0)/(2)=0","(0+0)/(2)=0","(0+0)/(2)=0","(2799+72349.9)/(2)=37574.45","(0+0)/(2)=0","(0+0)/(2)=0"]
["S25","(0+0)/(2)=0","(0+0)/(2)=0","(0+0)/(2)=0","(0+0)/(2)=0","(5255+210260.8)/(2)=107757.9","(940036+0)/(2)=470018","(0+0)/(2)=0","(0+0)/(2)=0","(2557+0)/(2)=1278.5","(0+0)/(2)=0","(0+0)/(2)=0","(0+0)/(2)=0","(0+0)/(2)=0","(0+88804.9)/(2)=44402.45","(0+0)/(2)=0","(0+0)/(2)=0","(0+0)/(2)=0","(0+0)/(2)=0","(0+0)/(2)=0","(0+0)/(2)=0","(0+0)/(2)=0","(0+0)/(2)=0","(0+0)/(2)=0","(2799+72349.9)/(2)=37574.45","(0+0)/(2)=0","(0+0)/(2)=0"]
["S26","(0+0)/(2)=0","(0+0)/(2)=0","(0+0)/(2)=0","(0+0)/(2)=0","(0+26009)/(2)=13004.5","(940036+0)/(2)=470018","(0+0)/(2)=0","(0+0)/(2)=0","(2557+0)/(2)=1278.5","(0+0)/(2)=0","(0+0)/(2)=0","(0+0)/(2)=0","(0+0)/(2)=0","(0+88804.9)/(2)=44402.45","(0+0)/(2)=0","(0+0)/(2)=0","(0+0)/(2)=0","(0+0)/(2)=0","(0+0)/(2)=0","(0+0)/(2)=0","(0+0)/(2)=0","(0+0)/(2)=0","(0+0)/(2)=0","(0+0)/(2)=0","(0+0)/(2)=0","(0+0)/(2)=0"]
["S27","(0+0)/(2)=0","(0+0)/(2)=0","(0+0)/(2)=0","(0+0)/(2)=0","(0+26009)/(2)=13004.5","(940036+0)/(2)=470018","(0+0)/(2)=0","(0+0)/(2)=0","(2557+0)/(2)=1278.5","(0+0)/(2)=0","(0+0)/(2)=0","(0+0)/(2)=0","(0+0)/(2)=0","(0+88804.9)/(2)=44402.45","(0+0)/(2)=0","(0+0)/(2)=0","(0+0)/(2)=0","(0+0)/(2)=0","(0+0)/(2)=0","(0+0)/(2)=0","(0+0)/(2)=0","(0+0)/(2)=0","(0+0)/(2)=0","(0+0)/(2)=0","(0+0)/(2)=0","(0+0)/(2)=0"]
["S28","(0+0)/(2)=0","(0+0)/(2)=0","(0+0)/(2)=0","(0+0)/(2)=0","(0+0)/(2)=0","(940036+0)/(2)=470018","(0+0)/(2)=0","(0+0)/(2)=0","(2557+0)/(2)=1278.5","(0+0)/(2)=0","(0+0)/(2)=0","(0+0)/(2)=0","(0+0)/(2)=0","(0+88804.9)/(2)=44402.45","(0+0)/(2)=0","(0+0)/(2)=0","(0+0)/(2)=0","(0+0)/(2)=0","(0+0)/(2)=0","(0+0)/(2)=0","(0+0)/(2)=0","(0+0)/(2)=0","(0+0)/(2)=0","(0+0)/(2)=0","(0+0)/(2)=0","(0+0)/(2)=0"]
["S29","(0+0)/(2)=0","(0+0)/(2)=0","(0+0)/(2)=0","(0+0)/(2)=0","(0+0)/(2)=0","(0+0)/(2)=0","(0+0)/(2)=0","(0+0)/(2)=0","(0+0)/(2)=0","(0+0)/(2)=0","(0+0)/(2)=0","(0+0)/(2)=0","(0+0)/(2)=0","(0+0)/(2)=0","(0+0)/(2)=0","(0+0)/(2)=0","(0+0)/(2)=0","(0+0)/(2)=0","(0+0)/(2)=0","(0+0)/(2)=0","(0+0)/(2)=0","(0+0)/(2)=0","(0+0)/(2)=0","(0+0)/(2)=0","(0+0)/(2)=0","(0+0)/(2)=0"]
[]
["Lépcsôk(2)","X(A1)","X(A2)","X(A3)","X(A4)","X(A5)","X(A6)","X(A7)","X(A8)","X(A9)","X(A10)","X(A11)","X(A12)","X(A13)","X(A14)","X(A15)","X(A16)","X(A17)","X(A18)","X(A19)","X(A20)","X(A21)","X(A22)","X(A23)","X(A24)","X(A25)","X(A26)"]
["S1",0,0,138544.29999999999,0,177598.8,470018,22054,74173.399999999994,1278.5,0,0,0,0,249061.2,35612,0,116063.4,147591.29999999999,0,0,0,0,0,883766.5,0,59202.400000000001]
["S2",0,0,138544.29999999999,0,177598.8,470018,22054,74173.399999999994,1278.5,0,0,0,0,131238.39999999999,35612,0,116063.4,147591.29999999999,0,0,0,0,0,296642.2,0,59202.400000000001]
["S3",0,0,138544.29999999999,0,177598.8,470018,22054,74173.399999999994,1278.5,0,0,0,0,131238.39999999999,35612,0,52081.4,142539.29999999999,0,0,0,0,0,296642.2,0,59202.400000000001]
["S4",0,0,137089.29999999999,0,177598.8,470018,22054,74173.399999999994,1278.5,0,0,0,0,131238.39999999999,35612,0,52081.4,0,0,0,0,0,0,296642.2,0,59202.400000000001]
["S5",0,0,103047.9,0,177598.8,470018,22054,74173.399999999994,1278.5,0,0,0,0,131238.39999999999,35612,0,52081.4,0,0,0,0,0,0,257473.2,0,59202.400000000001]
["S6",0,0,103047.9,0,177598.8,470018,22054,74173.399999999994,1278.5,0,0,0,0,131238.39999999999,35612,0,52081.4,0,0,0,0,0,0,257473.2,0,59202.400000000001]
["S7",0,0,103047.9,0,177598.8,470018,22054,74173.399999999994,1278.5,0,0,0,0,104673.4,35612,0,52081.4,0,0,0,0,0,0,170746.8,0,59202.400000000001]
["S8",0,0,103047.9,0,177598.8,470018,22054,74173.399999999994,1278.5,0,0,0,0,104673.4,35612,0,52081.4,0,0,0,0,0,0,170746.8,0,59202.400000000001]
["S9",0,0,6910,0,177598.8,470018,22054,74173.399999999994,1278.5,0,0,0,0,104673.4,35612,0,52081.4,0,0,0,0,0,0,170746.8,0,59202.400000000001]
["S10",0,0,6910,0,110468.4,470018,22054,74173.399999999994,1278.5,0,0,0,0,104673.4,20958.5,0,5524,0,0,0,0,0,0,170746.8,0,59202.400000000001]
["S11",0,0,4322,0,110468.4,470018,22054,74173.399999999994,1278.5,0,0,0,0,102098.4,20958.5,0,5524,0,0,0,0,0,0,170746.8,0,59202.400000000001]
["S12",0,0,4322,0,110468.4,470018,22054,74173.399999999994,1278.5,0,0,0,0,102098.4,20958.5,0,5524,0,0,0,0,0,0,170746.8,0,59202.400000000001]
["S13",0,0,4322,0,110468.4,470018,22054,74173.399999999994,1278.5,0,0,0,0,102098.4,20958.5,0,5524,0,0,0,0,0,0,170746.8,0,59202.400000000001]
["S14",0,0,4322,0,110468.4,470018,22054,74173.399999999994,1278.5,0,0,0,0,102098.4,0,0,5524,0,0,0,0,0,0,150554.29999999999,0,59202.400000000001]
["S15",0,0,4322,0,110468.4,470018,22054,74173.399999999994,1278.5,0,0,0,0,102098.4,0,0,5524,0,0,0,0,0,0,150554.29999999999,0,59202.400000000001]
["S16",0,0,4322,0,110468.4,470018,22054,74173.399999999994,1278.5,0,0,0,0,102098.4,0,0,5524,0,0,0,0,0,0,150554.29999999999,0,52118.9]
["S17",0,0,4322,0,110468.4,470018,22054,74173.399999999994,1278.5,0,0,0,0,102098.4,0,0,0,0,0,0,0,0,0,150554.29999999999,0,764]
["S18",0,0,4322,0,110468.4,470018,22054,74173.399999999994,1278.5,0,0,0,0,102098.4,0,0,0,0,0,0,0,0,0,147867.79999999999,0,764]
["S19",0,0,4322,0,110468.4,470018,0,74173.399999999994,1278.5,0,0,0,0,102098.4,0,0,0,0,0,0,0,0,0,147867.79999999999,0,764]
["S20",0,0,4322,0,110468.4,470018,0,74173.399999999994,1278.5,0,0,0,0,102098.4,0,0,0,0,0,0,0,0,0,37574.5,0,764]
["S21",0,0,4322,0,110468.4,470018,0,74173.399999999994,1278.5,0,0,0,0,102098.4,0,0,0,0,0,0,0,0,0,37574.5,0,764]
["S22",0,0,4322,0,110468.4,470018,0,74173.399999999994,1278.5,0,0,0,0,100896.4,0,0,0,0,0,0,0,0,0,37574.5,0,0]
["S23",0,0,4322,0,110468.4,470018,0,74173.399999999994,1278.5,0,0,0,0,45818.9,0,0,0,0,0,0,0,0,0,37574.5,0,0]
["S24",0,0,4322,0,110468.4,470018,0,74173.399999999994,1278.5,0,0,0,0,44402.5,0,0,0,0,0,0,0,0,0,37574.5,0,0]
["S25",0,0,0,0,107757.9,470018,0,0,1278.5,0,0,0,0,44402.5,0,0,0,0,0,0,0,0,0,37574.5,0,0]
["S26",0,0,0,0,13004.5,470018,0,0,1278.5,0,0,0,0,44402.5,0,0,0,0,0,0,0,0,0,0,0,0]
["S27",0,0,0,0,13004.5,470018,0,0,1278.5,0,0,0,0,44402.5,0,0,0,0,0,0,0,0,0,0,0,0]
["S28",0,0,0,0,0,470018,0,0,1278.5,0,0,0,0,44402.5,0,0,0,0,0,0,0,0,0,0,0,0]
["S29",0,0,0,0,0,0,0,0,0,0,0,0,0,0,0,0,0,0,0,0,0,0,0,0,0,0]
[]
["COCO:STD","X(A1)","X(A2)","X(A3)","X(A4)","X(A5)","X(A6)","X(A7)","X(A8)","X(A9)","X(A10)","X(A11)","X(A12)","X(A13)","X(A14)","X(A15)","X(A16)","X(A17)","X(A18)","X(A19)","X(A20)","X(A21)","X(A22)","X(A23)","X(A24)","X(A25)","X(A26)","Becslés","Tény+0","Delta","Delta/Tény"]
["O1",0,0,4322,0,177598.8,470018,22054,74173.399999999994,1278.5,0,0,0,0,131238.39999999999,35612,0,52081.4,0,0,0,0,0,0,0,0,59202.400000000001,1027578.9,1027579,0.1,0]
["O2",0,0,4322,0,177598.8,470018,22054,74173.399999999994,1278.5,0,0,0,0,131238.39999999999,35612,0,52081.4,0,0,0,0,0,0,0,0,59202.400000000001,1027578.9,1027579,0.1,0]
["O3",0,0,4322,0,110468.4,470018,0,0,1278.5,0,0,0,0,102098.4,35612,0,0,0,0,0,0,0,0,296642.2,0,0,1020439.4,1020440,0.6,0]
["O4",0,0,0,0,110468.4,470018,22054,74173.399999999994,1278.5,0,0,0,0,104673.4,0,0,52081.4,147591.29999999999,0,0,0,0,0,37574.5,0,0,1019912.9,1019913,0.1,0]
["O5",0,0,138544.29999999999,0,110468.4,470018,22054,74173.399999999994,1278.5,0,0,0,0,104673.4,35612,0,5524,0,0,0,0,0,0,0,0,59202.400000000001,1021548.4,1021549,0.6,0]
["O6",0,0,4322,0,110468.4,470018,22054,74173.399999999994,1278.5,0,0,0,0,102098.4,20958.5,0,5524,0,0,0,0,0,0,150554.29999999999,0,59202.400000000001,1020651.9,1020652,0.1,0]
["O7",0,0,137089.29999999999,0,110468.4,470018,0,0,0,0,0,0,0,0,0,0,0,0,0,0,0,0,0,296642.2,0,764,1014981.9,1014982,0.1,0]
["O8",0,0,0,0,107757.9,470018,22054,74173.399999999994,1278.5,0,0,0,0,131238.39999999999,0,0,0,0,0,0,0,0,0,150554.29999999999,0,59202.400000000001,1016276.9,1016277,0.1,0]
["O9",0,0,138544.29999999999,0,13004.5,470018,22054,0,1278.5,0,0,0,0,131238.39999999999,0,0,0,147591.29999999999,0,0,0,0,0,37574.5,0,59202.400000000001,1020505.9,1020506,0.1,0]
["O10",0,0,103047.9,0,110468.4,470018,0,0,1278.5,0,0,0,0,102098.4,0,0,0,0,0,0,0,0,0,170746.8,0,59202.400000000001,1016860.4,1016860,-0.4,0]
["O11",0,0,4322,0,177598.8,470018,22054,74173.399999999994,1278.5,0,0,0,0,104673.4,20958.5,0,0,0,0,0,0,0,0,150554.29999999999,0,764,1026394.9,1026395,0.1,0]
["O12",0,0,0,0,110468.4,470018,22054,74173.399999999994,1278.5,0,0,0,0,44402.5,0,0,0,0,0,0,0,0,0,296642.2,0,0,1019036.9,1019037,0.1,0]
["O13",0,0,103047.9,0,177598.8,470018,22054,74173.399999999994,1278.5,0,0,0,0,44402.5,35612,0,52081.4,0,0,0,0,0,0,37574.5,0,764,1018604.9,1020030,1425.1,0.14000000000000001]
["O14",0,0,4322,0,177598.8,470018,22054,74173.399999999994,1278.5,0,0,0,0,102098.4,0,0,0,0,0,0,0,0,0,170746.8,0,0,1022289.9,1022290,0.1,0]
["O15",0,0,4322,0,110468.4,470018,22054,74173.399999999994,1278.5,0,0,0,0,102098.4,0,0,5524,0,0,0,0,0,0,170746.8,0,59202.400000000001,1019885.9,1019886,0.1,0]
["O16",0,0,4322,0,177598.8,470018,22054,74173.399999999994,1278.5,0,0,0,0,44402.5,35612,0,0,142539.29999999999,0,0,0,0,0,0,0,59202.400000000001,1031200.9,1031201,0.1,0]
["O17",0,0,0,0,0,0,0,0,1278.5,0,0,0,0,102098.4,35612,0,0,0,0,0,0,0,0,883766.5,0,764,1023519.4,1023518,-1.4,0]
["O18",0,0,4322,0,110468.4,470018,0,74173.399999999994,1278.5,0,0,0,0,100896.4,0,0,0,0,0,0,0,0,0,257473.2,0,0,1018629.9,1018630,0.1,0]
["O19",0,0,4322,0,110468.4,470018,22054,74173.399999999994,1278.5,0,0,0,0,102098.4,35612,0,0,0,0,0,0,0,0,147867.79999999999,0,59202.400000000001,1027094.9,1027095,0.1,0]
["O20",0,0,103047.9,0,110468.4,470018,22054,74173.399999999994,1278.5,0,0,0,0,102098.4,35612,0,5524,0,0,0,0,0,0,37574.5,0,59202.400000000001,1021051.4,1019626,-1425.4,-0.14000000000000001]
["O21",0,0,4322,0,13004.5,470018,0,74173.399999999994,1278.5,0,0,0,0,249061.2,0,0,0,0,0,0,0,0,0,170746.8,0,52118.9,1034723.4,1034723,-0.4,0]
["O22",0,0,103047.9,0,177598.8,470018,0,74173.399999999994,1278.5,0,0,0,0,102098.4,0,0,5524,0,0,0,0,0,0,37574.5,0,59202.400000000001,1030515.9,1030516,0.1,0]
["O23",0,0,6910,0,110468.4,470018,0,74173.399999999994,1278.5,0,0,0,0,131238.39999999999,20958.5,0,5524,0,0,0,0,0,0,147867.79999999999,0,59202.400000000001,1027639.4,1027639,-0.4,0]
["O24",0,0,138544.29999999999,0,0,470018,0,74173.399999999994,1278.5,0,0,0,0,44402.5,0,0,116063.4,0,0,0,0,0,0,170746.8,0,0,1015226.9,1015227,0.1,0]
["O25",0,0,0,0,110468.4,470018,0,74173.399999999994,1278.5,0,0,0,0,102098.4,0,0,5524,0,0,0,0,0,0,257473.2,0,0,1021033.9,1021034,0.1,0]
["O26",0,0,4322,0,177598.8,470018,22054,74173.399999999994,1278.5,0,0,0,0,44402.5,0,0,52081.4,0,0,0,0,0,0,170746.8,0,764,1017439.4,1017439,-0.4,0]
["O27",0,0,6910,0,110468.4,470018,22054,74173.399999999994,1278.5,0,0,0,0,45818.9,0,0,116063.4,0,0,0,0,0,0,170746.8,0,0,1017531.4,1017531,-0.4,0]
["O28",0,0,4322,0,110468.4,470018,0,74173.399999999994,1278.5,0,0,0,0,102098.4,0,0,52081.4,0,0,0,0,0,0,150554.29999999999,0,59202.400000000001,1024196.9,1024197,0.1,0]
["O29",0,0,4322,0,177598.8,470018,22054,74173.399999999994,1278.5,0,0,0,0,104673.4,20958.5,0,52081.4,0,0,0,0,0,0,37574.5,0,59202.400000000001,1023934.9,1023935,0.1,0]
[]
["S1 összeg:",2374963.7999999998]
["S29 összeg:",0]
["Becslés összeg:",29646286.600000001]
["Tény összeg:",29646286]
["Tény-becslés eltérés:",0.6]
["Tény négyzetösszeg:"]
["Becslés négyzetösszeg:"]
["Négyzetösszeg hiba:",0]
[]
["Open url"]
[]
["Maximális memória használat: 1.52 Mb"]
["A futtatás idôtartama: 0.45 mp (0.01 p)"]

{"sheet":"2017","index":6,"n_rows":236,"n_cols":34,"rows_kept":236,"cut":false,"hidden":false,"merged":[]}
["Területi egység neve","Területi egység szintje","Év","Lakosság","Belgyógyászat","Sebészet","Baleseti sebészet","Szülészet és nőgyógyászat","Csecsemő- és gyermek-gyógyászat","Fül-orr-gégészet","Szemészet","Bőrgyógyászat és nemibeteg-ellátás","Neurológia","Ortopédia","Urológia","Onkológia","Fogászat","Reumatológia","Aneszteziológiai és intenzív betegellátás","Pszichiátria","Nukleáris medicina (izotóp-diagnosztika és \n-terápia)","Fizioterápia","Patológia és kórszövettan","Ultrahang-diagnosztika és -terápia","Tomográfia","Röntgen-diagnosztika és -terápia","Laboratóriumi diagnosztika","Sürgősségi betegellátás, oxyológia","Kardiológia","Orvosi rehabilitáció","Tüdő-gyógyászat"]
["Budapest + Pest","főváros, régió + megye, régió",2017,3000076,1481359,1023214,519761,959963,571529,798557,900112,686087,630666,426740,569878,367359,2232882,1143643,123109,605063,60389,2326016,329288,605056,328828,1272672,5648495,247626,846907,172075,793310]
["Közép-Magyarország","nagyrégió",2017,3000076,1481359,1023214,519761,959963,571529,798557,900112,686087,630666,426740,569878,367359,2232882,1143643,123109,605063,60389,2326016,329288,605056,328828,1272672,5648495,247626,846907,172075,793310]
["Fejér","megye",2017,416215,133856,84018,65401,105294,57979,84762,81329,45035,57941,39372,41004,23847,286214,85028,16176,46290,2739,296533,36440,96407,28766,173664,494353,80455,50660,3015,87171]
["Komárom-Esztergom","megye",2017,297381,89018,71407,35502,72955,34423,50416,58432,52802,45404,17672,39633,12575,151030,75638,6457,36550,7382,288482,23269,52369,18784,114779,305852,31279,33550,1981,57245]
["Veszprém","megye",2017,342501,95745,77719,80611,81376,33037,67930,68398,38280,58153,11578,46154,25064,185608,92767,12481,43182,3751,250468,27166,61366,31123,118707,250664,28667,54172,30847,79185]
["Közép-Dunántúl","régió",2017,1056097,318619,233144,181514,259625,125439,203108,208159,136117,161498,68622,126791,61486,622852,253433,35114,126022,13872,835483,86875,210142,78673,407150,1050869,140401,138382,35843,223601]
["Győr-Moson-Sopron","megye",2017,457344,116188,99820,97099,117753,46088,67063,72809,42814,56709,30509,66639,41126,225571,68656,11979,53114,3047,281797,66801,78980,23887,165509,438994,82951,49440,7768,69345]
["Vas","megye",2017,253109,79390,54823,27904,63176,23889,34908,51054,30123,33571,10861,32887,32280,125167,70085,5928,15954,1089,138635,23769,23005,20856,77714,313013,33490,14505,11991,40871]
["Zala","megye",2017,272798,91249,45698,66376,62892,24638,46281,57912,28833,44916,30424,36847,23072,172032,86086,8480,27127,2192,323992,25237,48992,26012,90770,355299,30103,44246,11150,54885]
["Nyugat-Dunántúl","régió",2017,983251,286827,200341,191379,243821,94615,148252,181775,101770,135196,71794,136373,96478,522770,224827,26387,96195,6328,744424,115807,150977,70755,333993,1107306,146544,108191,30909,165101]
["Baranya","megye",2017,365726,162093,110294,55469,118614,89594,81738,82871,76662,74257,34217,68026,64684,366272,100397,12550,84665,3495,220819,49186,107374,40039,140929,696049,52563,104942,8290,88004]
["Somogy","megye",2017,306698,104042,112360,30122,74541,36268,51564,61277,51421,59386,31339,27492,41742,185695,56522,6791,36647,1688,177496,25542,61616,37492,112477,422431,55631,43924,2096,58027]
["Tolna","megye",2017,221799,85215,36034,52075,67874,38386,42101,45615,36000,40025,20736,24814,17553,131932,36977,8014,19385,3463,94600,20144,34502,12701,70160,259642,20566,39993,3779,43716]
["Dél-Dunántúl","régió",2017,894223,351350,258688,137666,261029,164248,175403,189763,164083,173668,86292,120332,123979,683899,193896,27355,140697,8646,492915,94872,203492,90232,323566,1378122,128760,188859,14165,189747]
["Dunántúl","nagyrégió",2017,2933571,956796,692173,510559,764475,384302,526763,579697,401970,470362,226708,383496,281943,1829521,672156,88856,362914,28846,2072822,297554,564611,239660,1064709,3536297,415705,435432,80917,578449]
["Borsod-Abaúj-Zemplén","megye",2017,654402,236449,170036,97025,183513,99759,103028,141235,92299,116093,49067,65771,60097,428537,116674,23522,75434,4626,608340,58395,188552,70794,249039,720113,36575,79757,27202,202466]
["Heves","megye",2017,296927,99750,67726,36858,95428,19349,35586,50626,26573,59938,27864,29796,19820,202668,69300,12718,36140,2383,129393,27159,51963,27826,118896,382168,80977,31281,7159,69343]
["Nógrád","megye",2017,192573,67655,37303,27335,38935,20197,24737,33450,25313,44714,10509,11052,7741,110585,35185,3548,16767,1609,105781,14214,39486,15106,61264,175342,30518,15314,1643,34367]
["Észak-Magyarország","régió",2017,1143902,403854,275065,161218,317876,139305,163351,225311,144185,220745,87440,106619,87658,741790,221159,39788,128341,8618,843514,99768,280001,113726,429199,1277623,148070,126352,36004,306176]
["Hajdú-Bihar","megye",2017,532399,313667,144280,112872,195468,79237,122579,131280,76683,127286,60110,70279,92112,528646,131120,25999,68353,6935,383131,53254,175256,50268,263804,995951,66770,92053,77298,100326]
["Jász-Nagykun-Szolnok","megye",2017,373631,145616,85045,62701,86876,25616,73545,48747,58188,53933,21092,53609,24638,239136,175626,7084,38185,2151,243812,23524,67167,6934,150551,508403,61179,49522,9376,127257]
["Szabolcs-Szatmár-Bereg","megye",2017,562058,225341,71926,113211,114712,79899,103265,89210,63969,74274,39273,57047,36080,368453,130531,17892,69536,7186,214471,51386,112663,44499,206027,777557,62516,61290,23580,168761]
["Észak-Alföld","régió",2017,1468088,684624,301251,288784,397056,184752,299389,269237,198840,255493,120475,180935,152830,1136235,437277,50975,176074,16272,841414,128164,355086,101701,620382,2281911,190465,202865,110254,396344]
["Bács-Kiskun","megye",2017,508017,193949,86479,111234,128565,31873,71644,84092,97164,73992,25264,60448,54021,324946,89790,15782,73069,43478,332604,43356,90910,27374,201911,675181,77047,64116,1503,77258]
["Békés","megye",2017,342438,119069,73640,42079,80641,36716,91140,62270,57532,61809,28127,44618,34493,211782,69201,8872,60444,4996,202176,31920,83825,30253,131363,448531,58127,58280,3646,71273]
["Csongrád-Csanád","megye",2017,401469,233270,131637,72834,158937,99856,83046,102932,95313,90091,43875,71366,42939,317791,72394,13805,86987,20746,331429,56094,100526,45222,143233,845361,66170,75574,9597,69185]
["Dél-Alföld","régió",2017,1251924,546288,291756,226147,368143,168445,245830,249294,250009,225892,97266,176432,131453,854519,231385,38459,220500,69220,866209,131370,275261,102849,476507,1969073,201344,197970,14746,217716]
["Alföld és Észak","nagyrégió",2017,3863914,1634766,868072,676149,1083075,492502,708570,743842,593034,702130,305181,463986,371941,2732544,889821,129222,524915,94110,2551137,359302,910348,318276,1526088,5528607,539879,527187,161004,920236]
["Ország összesen","ország",2017,9797561,4072921,2583459,1706469,2807513,1448333,2033890,2223651,1681091,1803158,958629,1417360,1021243,6794947,2705620,341187,1492892,183345,6949975,986144,2080015,886764,3863469,14713399,1203210,1809526,413996,2291995]
[]
[null,null,null,null,{"$f":"E2/$D2","v":0.49377382439644862},{"$f":"F2/$D2","v":0.341062693078442},0.17324927768496531,0.31997956051780024,0.19050484054403954,0.26617892346727218,0.30002973258010796,0.22868987318987918,0.21021667451091239,0.14224306317573288,0.18995452115213082,0.12244989793591896,0.7442751450296593,0.38120467614820425,4.1035293772557761E-2,0.20168255737521315,2.0129156728029556E-2,0.77531902525136032,0.10975988608288589,0.20168022410098943,0.10960655663389861,0.42421325326425063,1.8827839694727733,8.2539908988972274E-2,0.28229518185539298,5.7356880292365929E-2,0.26442996777414973]
[null,null,null,null,{"$f":"E3/$D3","v":0.49377382439644862},0.341062693078442,0.17324927768496531,0.31997956051780024,0.19050484054403954,0.26617892346727218,0.30002973258010796,0.22868987318987918,0.21021667451091239,0.14224306317573288,0.18995452115213082,0.12244989793591896,0.7442751450296593,0.38120467614820425,4.1035293772557761E-2,0.20168255737521315,2.0129156728029556E-2,0.77531902525136032,0.10975988608288589,0.20168022410098943,0.10960655663389861,0.42421325326425063,1.8827839694727733,8.2539908988972274E-2,0.28229518185539298,5.7356880292365929E-2,0.26442996777414973]
[null,null,null,null,{"$f":"E4/$D4","v":0.32160301767115551},0.20186201842797594,0.1571327318813594,0.25297983013586728,0.139300601852408,0.20364955611883281,0.19540141513400527,0.10820129019857526,0.13920930288432662,9.4595341350023426E-2,9.8516391768677242E-2,5.7294907679925039E-2,0.68765902238026022,{"$f":"R4/$D4","v":0.20428864889540263},3.8864529149598162E-2,0.11121655874968465,6.5807335151304011E-3,0.71245149742320679,8.7550905181216443E-2,0.23162788462693559,6.911331883761998E-2,0.41724589454969185,1.1877347044195907,0.19330153886813306,0.12171594007904568,7.2438523359321504E-3,0.20943743017430896]
[null,null,null,null,{"$f":"E5/$D5","v":0.29933990402883842},0.24011957724266178,0.11938220666417827,0.24532502076460835,0.11575386457103851,0.16953335956231233,0.19648867950541563,0.1775567369805065,0.15267955921864543,5.9425450852609953E-2,0.13327347745821017,4.228582189178192E-2,0.50786701235115894,0.25434711699805973,2.1712886835406432E-2,0.12290630537929458,2.4823374728042479E-2,0.97007542512803435,7.8246424620268276E-2,0.17610069237779144,6.3164761703000533E-2,0.38596615116634891,1.0284853437173189,0.1051815684256896,0.1128182365383128,6.6614881246616292E-3,0.19249716693400049]
[null,null,null,null,{"$f":"E6/$D6","v":0.27954662906093702},0.22691612579233345,0.23535989675942551,0.23759346688038868,9.6458112531058307E-2,0.1983351873425187,0.19970160671063733,0.11176609703329334,0.1697892852867583,3.3804280863413534E-2,0.13475581093193889,7.3179348381464573E-2,0.54191958563624631,0.27085176393645566,3.6440769516001413E-2,0.12607846400448466,1.0951792841480755E-2,0.73129129549986716,7.9316556739980323E-2,0.17917027979480352,9.0869807679393635E-2,0.34658876908388586,0.73186355660275448,8.3699025696275339E-2,0.15816596155923632,9.0063970616144184E-2,0.23119640526597002]
[null,null,null,null,{"$f":"E7/$D7","v":0.3016948253806232},0.22076002488407789,0.17187247004773235,0.24583442619380605,0.11877602152075047,0.19231945550456067,0.19710216012354925,0.12888683520547828,0.15291966552314798,6.497698601548911E-2,0.12005620695826236,5.8220030925189639E-2,0.58976779595056139,0.23997132839123678,3.3248839831947256E-2,0.11932805414654146,1.3135157092577671E-2,0.79110441559818845,8.2260436304619752E-2,0.1989798285574147,7.4494104234743591E-2,0.38552329946965097,0.99504969713956204,0.1329432807781861,0.13103152456639874,3.3939117334866022E-2,0.21172392308661042]
[null,null,null,null,{"$f":"E8/$D8","v":0.25404946823397706},0.21826021550517771,0.21231064581584103,0.25747140008396308,0.10077315980968374,0.14663579275118949,0.15919963965855025,9.3614434648754546E-2,0.12399637909319899,6.6709085502378959E-2,0.14570870067170444,8.9923558634200956E-2,0.4932195458998041,0.15011894766302827,2.6192537783375314E-2,0.11613577525888609,6.6623810523369718E-3,0.61615982717604256,0.14606291981528127,0.17269276518331933,5.2229831374195353E-2,0.36189170514973412,0.95987702910719286,0.18137550727679821,0.10810243492863141,1.6985026588301148E-2,0.15162547229219145]
[null,null,null,null,{"$f":"E9/$D9","v":0.31365933254052603},0.21659838251504293,0.11024499326377174,0.24959997471445108,9.4382262187437033E-2,0.13791686585621216,0.20170756472507892,0.11901196717619682,0.13263455665345761,4.2910366679967921E-2,0.12993216361330495,0.12753398733352034,0.4945181720128482,0.27689651494020362,2.3420739681323067E-2,6.3032132401455498E-2,4.3024941823483166E-3,0.54772844900813489,9.3908158145304982E-2,9.0889695743730958E-2,8.2399282522549577E-2,0.30703767941874843,1.2366727378323172,0.13231453642501848,5.7307326092711046E-2,4.7374846410044684E-2,0.16147588588315706]
[null,null,null,null,{"$f":"E10/$D10","v":0.33449292150235704},0.1675158908789654,0.24331556682966884,0.23054421220096921,9.0315911406975119E-2,0.16965300332113872,0.21228894639990029,0.10569359012895989,0.16464930094795416,0.11152574432363874,0.13507063834778849,8.4575400112904056E-2,0.63062045909427489,0.3155668296688392,3.1085271886157523E-2,9.9439878591485273E-2,8.0352495252897747E-3,1.1876626661485787,9.251167530553743E-2,0.17959075946304592,9.5352605224378481E-2,0.33273704352671207,1.3024252377216843,0.1103490494798349,0.16219327121166577,4.0872733671067966E-2,0.20119282399431082]
[null,null,null,null,{"$f":"E11/$D11","v":0.29171289935123379},0.20375367022255761,0.19463900875768242,0.24797432191780125,9.6226701015305352E-2,0.15077737017302806,0.18487141126731629,0.10350358148631428,0.13749897025276353,7.3016961081148149E-2,0.13869601963283026,9.8121435930398238E-2,0.53167502499361807,0.22865677227889927,2.6836484275124053E-2,9.7833615221342263E-2,6.4357930986085957E-3,0.75710474741444456,0.11777969206235234,0.1535487886612879,7.1960262435532732E-2,0.3396823395043585,1.1261681910315882,0.149040275575616,0.11003395877553138,3.1435513414173999E-2,0.16791338122208876]
[null,null,null,null,{"$f":"E12/$D12","v":0.44320885034151247},0.30157549640988063,0.15166818875332899,0.32432476772228391,0.24497574687060805,0.22349518491985804,0.22659313256372257,0.20961594198935815,0.20303998075061658,9.3559112559675819E-2,0.18600263585307034,0.17686464730426604,1.0014929209298764,0.2745142538403067,3.4315307087819845E-2,0.23149844419045953,9.5563345236597888E-3,0.6037826132131705,0.13448866091008022,0.29359137715120065,0.1094781339035234,0.38534039144058668,1.9031980225633398,0.143722349518492,0.28694159015219045,2.2667242689882589E-2,0.24062822987701174]
[null,null,null,null,{"$f":"E13/$D13","v":0.33923273056883319},0.36635387253911011,9.8213878147232786E-2,0.24304364554056435,0.11825313500577114,0.16812630013889884,0.19979589041989188,0.16766004343034516,0.19363021604314343,0.10218195097457433,8.9638667353553012E-2,0.1361013113877495,0.60546531115299085,0.18429203972637578,2.2142302851665158E-2,0.1194888783102596,5.5037854827876282E-3,0.57873217301710478,8.3280621327820853E-2,0.20090121226744223,0.12224403158807687,0.36673535530065404,1.3773516618954151,0.1813869017730797,0.14321580186372262,6.8340843435562015E-3,0.18919914704367163]
[null,null,null,null,{"$f":"E14/$D14","v":0.38419920739047514},0.16246240965919595,0.23478464736089882,0.30601580710463078,0.17306660534988885,0.18981600458072398,0.20565917790431879,0.16230911771468762,0.18045617879251033,9.3490051803660074E-2,0.11187606797145162,7.9139220645719779E-2,0.59482684773150463,0.16671400682600013,3.6131813037930741E-2,8.73989513027561E-2,1.5613235406832312E-2,0.42651229266137358,9.0820968534574095E-2,0.15555525498311534,5.7263558447062428E-2,0.31632243607951344,1.1706184428243589,9.2723592081118494E-2,0.18031190402120839,1.7037948773439015E-2,0.19709737194486901]
[null,null,null,null,{"$f":"E15/$D15","v":0.3929109405595696},0.28928801876042104,0.15395041281648986,0.29190593397843717,0.18367677861115181,0.19615129559405203,0.21220992973788416,0.18349226087899775,0.19421106368321997,9.6499419048716034E-2,0.13456598633674149,0.13864438736198911,0.7647969242571484,0.21683181935602194,3.0590803412571584E-2,0.15733994764169565,9.6687291648727448E-3,0.55122156330132421,0.10609434112072716,0.22756292334238776,0.10090547883469783,0.36184039104339744,1.5411390671007119,0.14399092843731373,0.21119899622353708,1.5840567733104605E-2,0.21219203710931167]
[null,null,null,null,{"$f":"E16/$D16","v":0.32615402865654181},0.23594895095431473,0.17404010334162698,0.2605953631256922,0.13100143136129994,0.1795637467100677,0.19760796653634768,0.13702412520440105,0.16033769082118687,7.7280556700349168E-2,0.13072668089505929,9.6109144793154827E-2,0.62364981110053241,0.22912552653404333,3.0289364054935094E-2,0.12371065844324204,9.8330669344631506E-3,0.70658661406183798,0.10143064544884034,0.19246542865333752,8.1695653522617998E-2,0.36293957091885626,1.205458125949568,0.14170613221905998,0.14843070101252023,2.7583106050612035E-2,0.19718254645958799]
[null,null,null,null,{"$f":"E17/$D17","v":0.36132071723497178},0.2598341692109743,0.14826513366401692,0.28042854392254302,0.15244299375613155,0.15743839413693722,0.21582299565099128,0.14104327309513112,0.1774031864205794,7.4979905318137779E-2,0.10050549967756822,9.1834988279375668E-2,0.65485282746690876,0.178291019892971,3.5944266674001607E-2,0.1152716525927488,7.0690492999715771E-3,0.92961207331273432,8.9234140482455732E-2,0.28812870376313032,0.10818120971512923,0.38055965599127139,1.1004138129162198,5.5890721605374068E-2,0.1218776837479103,4.1567721370044712E-2,0.30939086371985414]
[null,null,null,null,{"$f":"E18/$D18","v":0.33594115725413992},0.22808973249317172,0.12413152054208611,0.32138539102203573,6.5164164929427101E-2,0.11984763931875511,0.17049981982103346,8.94933771600427E-2,0.20186106349372068,9.3841247175231624E-2,0.10034789695783812,6.6750413401273717E-2,0.68255160359280231,0.23339069872392879,4.2832076571009035E-2,0.12171341777608638,8.0255416314447652E-3,0.43577377604596418,9.1466926214187325E-2,0.17500261006914158,9.3713269591515755E-2,0.40042165246003225,1.2870772950927332,0.27271686306735327,0.10534912621620802,2.4110303205838471E-2,0.23353551546339674]
[null,null,null,null,{"$f":"E19/$D19","v":0.3513213171109138},0.19370835994661764,0.14194617106240232,0.20218306823905741,0.10487970795490541,0.12845518322921698,0.17370036297923386,0.13144625674419572,0.23219246727215134,5.4571513140471407E-2,5.7391223068654483E-2,4.019774319349026E-2,0.57424976502417269,0.1827099333759146,1.8424181998514848E-2,8.7068280600084119E-2,8.3552730652791413E-3,0.54930338105549581,7.3810970385256497E-2,0.2050443208549485,7.8442980064702739E-2,0.31813390246815493,0.91052224351284972,0.15847496793423793,7.952308994511173E-2,8.5318294880383019E-3,0.17846219355776771]
[null,null,null,null,{"$f":"E20/$D20","v":0.35304947451792201},0.24046203258670759,0.14093689844060067,0.27788744140669391,0.12178053714391618,0.14280156866584726,0.19696704787647892,0.12604663686224868,0.19297544719739979,7.6440114625203906E-2,9.3206411038707859E-2,7.663069039130975E-2,0.64847338320940084,0.19333736631284848,3.4782699916601247E-2,0.11219579998985928,7.5338621665142647E-3,0.73740058151834686,8.7217261618565231E-2,0.24477708754770949,9.9419355853910568E-2,0.37520609282963052,1.1168990000891685,0.12944290682243759,0.11045701467433398,3.1474724233369639E-2,0.26765929249183934,null,null,100000]
[null,null,null,null,{"$f":"E21/$D21","v":0.58915775574334284},0.27099975770052159,0.21200640872728913,0.36714569336155778,0.14883010674325084,0.23023897490416023,0.24658198080762736,0.14403295272906222,0.23908008842991815,0.11290404377168252,0.13200438017351648,0.17301309731986725,0.9929507756400745,0.24628145432279175,4.8833675495258258E-2,0.12838679261230768,1.3025944827093966E-2,0.71963132913472794,0.10002648389647614,0.32918168516469792,9.4417908373231357E-2,0.49550055503485169,1.8706853318657624,0.12541345870296525,0.17290227817858411,0.14518810140514915,0.18844137573511596]
[null,null,null,null,{"$f":"E22/$D22","v":0.3897321153758655},0.22761762273473027,0.16781530440461312,0.2325181797013631,6.8559621658802403E-2,0.19683859208684504,0.13046829626021395,0.15573654220340388,0.14434830086368636,5.6451418645669126E-2,0.14348113513065031,6.5942065835008334E-2,0.64003254547936328,0.47005200317960771,1.8959882879097292E-2,0.10219976393821711,5.7570169498783559E-3,0.6525475669845382,6.296051451833494E-2,0.17976827404578313,1.8558417261950962E-2,0.40294033417997971,1.3607088276936337,0.1637417666093017,0.13254253528213666,2.5094277509093196E-2,0.3405954002746025]
[null,null,null,null,{"$f":"E23/$D23","v":0.40092125723679761},0.12796899964060648,0.20142227314618777,0.20409281604389581,0.14215436841037757,0.18372659049421947,0.15872027442007763,0.11381209768386892,0.13214650445327705,6.9873571766614836E-2,0.10149664269523785,6.419266339061093E-2,0.65554266641520986,0.23223759825498436,3.1833013674745309E-2,0.1237167694437229,1.2785157403684317E-2,0.38158161613214292,9.1424728408811898E-2,0.20044728479978935,7.9171544573691688E-2,0.36655825555369731,1.3834106088695473,0.11122695522526145,0.10904568567656718,4.1952965708165348E-2,0.30025548964697596]
[null,null,null,null,{"$f":"E24/$D24","v":0.46633716779920548},0.2051995520704481,0.19670755431554512,0.27045790170616474,0.1258453171744473,0.20393123572973826,0.18339295737040287,0.13544147217333022,0.17403112075025476,8.2062519413005214E-2,0.12324533679179994,0.10410138901755209,0.77395564843524367,0.29785476075003681,3.472203301164508E-2,0.11993422737601561,1.1083804240617728E-2,0.57313594280451852,8.7299943872574393E-2,0.24186969718436496,6.9274457661938516E-2,0.4225782105704835,1.5543421102822175,0.12973677327244687,0.1381831334361428,7.5100402700655544E-2,0.26997291715482996]
[null,null,null,null,{"$f":"E25/$D25","v":0.38177659409035525},0.17022855534362039,0.21895723961993399,0.25307223970851367,6.2740026416438818E-2,0.14102677666298569,0.16552989368466015,0.19126131605832089,0.14564866923744677,4.9730619250930579E-2,0.11898814409754005,0.10633699265969446,0.63963607517071275,0.17674605377379105,3.1065889527318969E-2,0.14383180090430045,8.5583750150093396E-2,0.65471037386544151,8.5343600706275571E-2,0.17895070440556124,5.3884023566140506E-2,0.39744929795656442,1.3290519805439582,0.15166224752321281,0.12620837491658743,2.9585624103130406E-3,0.15207758795473381]
[null,null,null,null,{"$f":"E26/$D26","v":0.34770965839071599},0.21504622734626413,0.12288063824692354,0.23549080417477034,0.10721940906091029,0.26615036882588966,0.18184313656778744,0.16800705529176085,0.18049690746938132,8.2137496422710093E-2,0.1302951191164532,0.10072772297466986,0.61845355947645997,0.20208329683037513,2.5908339611842145E-2,0.17651078443397053,1.4589502333269088E-2,0.59040176615912954,9.3213954058836923E-2,0.2447888376874062,8.8345919553320607E-2,0.38361104783931688,1.3098166675427376,0.1697445961020681,0.17019139231043284,1.0647182847697978E-2,0.20813402718156279]
[null,null,null,null,{"$f":"E27/$D27","v":0.58104112646306438},0.32788833010767954,0.18141873967853059,0.39588859911973279,0.24872655173873948,0.20685532382325908,0.2563884135512331,0.23741060953647727,0.22440337859212045,0.10928614662651413,0.17776216843641726,0.10695470883181515,0.79157045749485011,0.1803227646468345,3.4386216619465018E-2,0.21667177291397344,5.1675222744470929E-2,0.82554070177273964,0.13972187142718367,0.25039542280973126,0.11264132473491104,0.35677225389756123,2.1056694290219169,0.16481969965302426,0.18824367510318357,2.3904709952698715E-2,0.17232961947248729]
[null,null,null,null,{"$f":"E28/$D28","v":0.43635875660183843},0.23304609544988353,0.18063955958987926,0.29406178010805767,0.13454890232953437,0.19636175997904026,0.19912870110326186,0.19969982203392539,0.18043587310411816,7.7693214604081393E-2,0.14092868257178551,0.10500078279512175,0.68256459657295487,0.1848235196385723,3.071991590543835E-2,0.17612890239343601,5.5290896252488168E-2,0.69190222409667046,0.10493448484093283,0.2198703755180027,8.2152750486451251E-2,0.38061975008067583,1.5728374885376428,0.160827654074848,0.15813260229854209,1.177867027071931E-2,0.17390512523124407]
[null,null,null,null,{"$f":"E29/$D29","v":0.42308550345582224},0.22466131492574629,0.17499069596269481,0.28030515171921527,0.12746194661682428,0.18338141066286673,0.19250997822415303,0.15348012404002781,0.18171470690082647,7.8982347950808426E-2,0.12008186517608829,9.6260165210716384E-2,0.70719586409014279,0.23029006339168004,3.3443290922106447E-2,0.13585059087754023,2.4356132149939154E-2,0.66024683779193838,9.298912967524639E-2,0.23560255223071735,8.2371398535267606E-2,0.39495910105659704,1.4308307586556015,0.13972334787989588,0.13643859568303021,4.1668629270734288E-2,0.23816161539827232]
[null,null,null,null,{"$f":"E30/$D30","v":0.41570764397384208},0.26368389030698558,0.17417283750517093,0.28655223478577985,0.14782587217369711,0.20759146077273721,0.22695964842678704,0.17158260101672243,0.1840415180880221,9.7843636798995173E-2,0.14466457519376505,0.10423441099269502,0.69353454395435765,0.27615240160280707,3.482366682891793E-2,0.15237384079568375,1.871333079732803E-2,0.7093576656476035,0.10065198879598708,0.21229926509260824,9.0508648019644894E-2,0.39432967041491246,1.5017409945189419,0.12280709454118224,0.18469147576626468,4.2255006118359459E-2,0.23393526205144322]
[]
[null,null,null,null,null,null,null,null,null,null,null,null,null,null,null,null,null,null,null,null,null,null,null,null,null,null,null,null,null,null,"y",100000]
[null,null,null,null,{"$f":"RANK(E32,E$32:E$60,0)","v":3},{"$f":"RANK(F32,F$32:F$60,0)","v":2},15,5,3,1,1,2,4,1,1,6,6,2,3,3,6,6,5,14,3,2,3,27,2,4,{"$f":"(AE32*$AF$62)+$AF$63","v":1026442.9967774149},1000000]
[null,null,null,null,{"$f":"RANK(E33,E$32:E$60,0)","v":3},2,15,5,3,1,1,2,4,1,1,6,6,2,3,3,6,6,5,14,3,2,3,27,2,4,1026442.9967774149]
[null,null,null,null,{"$f":"RANK(E34,E$32:E$60,0)","v":23},24,19,18,11,9,19,25,25,9,26,27,10,19,5,23,25,12,20,9,24,5,20,2,21,26,1020943.7430174309]
[null,null,null,null,{"$f":"RANK(E35,E$32:E$60,0)","v":26},11,27,22,19,20,18,8,22,24,13,28,27,10,27,15,4,2,27,24,25,11,25,24,22,28,1019249.7166934001]
[null,null,null,null,{"$f":"RANK(E36,E$32:E$60,0)","v":28},16,2,24,23,10,13,24,18,29,11,22,25,9,6,12,15,10,26,22,12,24,29,26,11,2,1023119.640526597]
[null,null,null,null,{"$f":"RANK(E37,E$32:E$60,0)","v":25},18,17,21,17,14,16,20,21,23,20,26,23,12,15,19,11,5,25,18,21,12,26,16,18,12,1021172.392308661]
[null,null,null,null,{"$f":"RANK(E38,E$32:E$60,0)","v":29},19,5,16,22,24,27,28,29,22,5,18,29,29,23,20,24,19,1,26,28,21,27,4,26,21,1015162.5472292191]
[null,null,null,null,{"$f":"RANK(E39,E$32:E$60,0)","v":24},20,28,19,25,27,11,22,27,28,17,5,28,6,25,29,29,26,12,29,15,29,18,17,29,6,1016147.5885883158]
[null,null,null,null,{"$f":"RANK(E40,E$32:E$60,0)","v":21},27,1,27,26,19,8,26,19,4,10,19,18,4,17,25,20,1,15,21,9,26,16,23,10,11,1020119.2823994311]
[null,null,null,null,{"$f":"RANK(E41,E$32:E$60,0)","v":27},23,9,20,24,23,21,27,26,20,9,14,26,17,22,26,26,8,4,28,22,25,22,11,24,14,1016791.3381222088]
[null,null,null,null,{"$f":"RANK(E42,E$32:E$60,0)","v":6},5,21,3,2,5,6,4,6,11,3,1,1,8,13,1,18,20,3,2,5,13,2,13,1,19,1024062.8229877012]
[null,null,null,null,{"$f":"RANK(E43,E$32:E$60,0)","v":19},1,29,23,18,21,12,11,9,6,28,4,21,23,26,18,28,22,24,16,1,18,12,3,14,27,1018919.9147043672]
[null,null,null,null,{"$f":"RANK(E44,E$32:E$60,0)","v":13},28,3,7,6,15,10,12,14,12,22,20,22,28,7,27,9,28,18,27,26,28,21,25,7,20,1019709.7371944869]
[null,null,null,null,{"$f":"RANK(E45,E$32:E$60,0)","v":11},6,20,9,5,13,9,7,8,8,12,3,5,18,20,7,17,24,7,10,7,22,8,12,4,22,1021219.2037109311]
[null,null,null,null,{"$f":"RANK(E46,E$32:E$60,0)","v":22},12,14,15,13,18,15,17,20,17,15,16,19,16,21,14,16,14,9,19,18,20,19,14,13,15,1019718.2546459588]
[null,null,null,null,{"$f":"RANK(E47,E$32:E$60,0)","v":15},9,22,11,7,22,7,16,16,19,24,17,14,26,8,21,23,3,19,3,6,16,24,29,20,10,1030939.0863719854]
[null,null,null,null,{"$f":"RANK(E48,E$32:E$60,0)","v":20},14,25,4,28,29,25,29,7,10,25,23,12,13,2,16,21,27,16,25,11,7,17,1,27,17,1023353.5515463396]
[null,null,null,null,{"$f":"RANK(E49,E$32:E$60,0)","v":17},25,23,29,21,28,24,19,2,26,29,29,24,24,29,28,19,25,28,13,20,27,28,9,28,25,1017846.2193557768]
[null,null,null,null,{"$f":"RANK(E50,E$32:E$60,0)","v":16},10,24,13,16,25,17,21,10,18,27,21,15,21,10,22,22,9,22,6,8,17,23,19,23,13,1026765.929249184]
[null,null,null,null,{"$f":"RANK(E51,E$32:E$60,0)","v":1},7,6,2,8,4,4,15,1,3,14,2,2,11,1,11,12,11,11,1,10,1,5,20,8,1,1018844.1375735116]
[null,null,null,null,{"$f":"RANK(E52,E$32:E$60,0)","v":12},15,18,26,27,11,29,13,24,25,7,24,16,1,28,24,27,18,29,20,29,6,13,7,17,16,1034059.5400274602]
[null,null,null,null,{"$f":"RANK(E53,E$32:E$60,0)","v":10},29,7,28,10,16,28,23,28,21,23,25,13,14,16,13,13,29,17,17,19,19,11,22,25,8,1030025.5489646976]
[null,null,null,null,{"$f":"RANK(E54,E$32:E$60,0)","v":5},22,8,14,15,8,22,18,17,14,18,12,4,5,11,17,14,23,21,7,23,4,7,18,15,3,1026997.2917154829]
[null,null,null,null,{"$f":"RANK(E55,E$32:E$60,0)","v":14},26,4,17,29,26,26,6,23,27,21,9,17,27,18,9,1,17,23,23,27,8,14,10,19,29,1015207.7587954734]
[null,null,null,null,{"$f":"RANK(E56,E$32:E$60,0)","v":18},21,26,25,20,3,23,10,13,13,16,13,20,20,24,5,10,21,13,5,14,14,15,5,9,24,1020813.4027181562]
[null,null,null,null,{"$f":"RANK(E57,E$32:E$60,0)","v":2},4,10,1,1,7,3,1,3,5,4,8,3,25,12,2,3,4,2,4,2,23,1,6,5,18,1017232.9619472488]
[null,null,null,null,{"$f":"RANK(E58,E$32:E$60,0)","v":7},13,11,8,12,12,14,5,15,16,8,10,11,22,19,6,2,15,8,11,17,15,6,8,12,23,1017390.5125231245]
[null,null,null,null,{"$f":"RANK(E59,E$32:E$60,0)","v":8},17,12,12,14,17,20,14,12,15,19,15,8,15,14,10,5,16,14,8,16,9,10,15,16,9,1023816.1615398272]
[null,null,null,null,{"$f":"RANK(E60,E$32:E$60,0)","v":9},8,13,10,9,6,5,9,11,7,6,11,9,7,9,8,8,13,10,12,13,10,9,21,6,7,1023393.5262051444]
[]
[]
[]
[]
[]
[]
[null,"Azonosító:","Azonosító:",6350354,"Objektumok:",29,"Attribútumok:",26,"Lépcsôk:",29,"Eltolás:",0,"Leírás:","COCO STD: 6350354"]
[]
[null,"Rangsor","Rangsor","X(A1)","X(A2)","X(A3)","X(A4)","X(A5)","X(A6)","X(A7)","X(A8)","X(A9)","X(A10)","X(A11)","X(A12)","X(A13)","X(A14)","X(A15)","X(A16)","X(A17)","X(A18)","X(A19)","X(A20)","X(A21)","X(A22)","X(A23)","X(A24)","X(A25)","X(A26)","Y(A27)"]
[null,"O1","O1",3,2,15,5,3,1,1,2,4,1,1,6,6,2,3,3,6,6,5,14,3,2,3,27,2,4,1026443]
[null,"O2","O2",3,2,15,5,3,1,1,2,4,1,1,6,6,2,3,3,6,6,5,14,3,2,3,27,2,4,1026443]
[null,"O3","O3",23,24,19,18,11,9,19,25,25,9,26,27,10,19,5,23,25,12,20,9,24,5,20,2,21,26,1020944]
[null,"O4","O4",26,11,27,22,19,20,18,8,22,24,13,28,27,10,27,15,4,2,27,24,25,11,25,24,22,28,1019250]
[null,"O5","O5",28,16,2,24,23,10,13,24,18,29,11,22,25,9,6,12,15,10,26,22,12,24,29,26,11,2,1023120]
[null,"O6","O6",25,18,17,21,17,14,16,20,21,23,20,26,23,12,15,19,11,5,25,18,21,12,26,16,18,12,1021172]
[null,"O7","O7",29,19,5,16,22,24,27,28,29,22,5,18,29,29,23,20,24,19,1,26,28,21,27,4,26,21,1015163]
[null,"O8","O8",24,20,28,19,25,27,11,22,27,28,17,5,28,6,25,29,29,26,12,29,15,29,18,17,29,6,1016148]
[null,"O9","O9",21,27,1,27,26,19,8,26,19,4,10,19,18,4,17,25,20,1,15,21,9,26,16,23,10,11,1020119]
[null,"O10","O10",27,23,9,20,24,23,21,27,26,20,9,14,26,17,22,26,26,8,4,28,22,25,22,11,24,14,1016791]
[null,"O11","O11",6,5,21,3,2,5,6,4,6,11,3,1,1,8,13,1,18,20,3,2,5,13,2,13,1,19,1024063]
[null,"O12","O12",19,1,29,23,18,21,12,11,9,6,28,4,21,23,26,18,28,22,24,16,1,18,12,3,14,27,1018920]
[null,"O13","O13",13,28,3,7,6,15,10,12,14,12,22,20,22,28,7,27,9,28,18,27,26,28,21,25,7,20,1019710]
[null,"O14","O14",11,6,20,9,5,13,9,7,8,8,12,3,5,18,20,7,17,24,7,10,7,22,8,12,4,22,1021219]
[null,"O15","O15",22,12,14,15,13,18,15,17,20,17,15,16,19,16,21,14,16,14,9,19,18,20,19,14,13,15,1019718]
[null,"O16","O16",15,9,22,11,7,22,7,16,16,19,24,17,14,26,8,21,23,3,19,3,6,16,24,29,20,10,1030939]
[null,"O17","O17",20,14,25,4,28,29,25,29,7,10,25,23,12,13,2,16,21,27,16,25,11,7,17,1,27,17,1023354]
[null,"O18","O18",17,25,23,29,21,28,24,19,2,26,29,29,24,24,29,28,19,25,28,13,20,27,28,9,28,25,1017846]
[null,"O19","O19",16,10,24,13,16,25,17,21,10,18,27,21,15,21,10,22,22,9,22,6,8,17,23,19,23,13,1026766]
[null,"O20","O20",1,7,6,2,8,4,4,15,1,3,14,2,2,11,1,11,12,11,11,1,10,1,5,20,8,1,1018844]
[null,"O21","O21",12,15,18,26,27,11,29,13,24,25,7,24,16,1,28,24,27,18,29,20,29,6,13,7,17,16,1034060]
[null,"O22","O22",10,29,7,28,10,16,28,23,28,21,23,25,13,14,16,13,13,29,17,17,19,19,11,22,25,8,1030026]
[null,"O23","O23",5,22,8,14,15,8,22,18,17,14,18,12,4,5,11,17,14,23,21,7,23,4,7,18,15,3,1026997]
[null,"O24","O24",14,26,4,17,29,26,26,6,23,27,21,9,17,27,18,9,1,17,23,23,27,8,14,10,19,29,1015208]
[null,"O25","O25",18,21,26,25,20,3,23,10,13,13,16,13,20,20,24,5,10,21,13,5,14,14,15,5,9,24,1020813]
[null,"O26","O26",2,4,10,1,1,7,3,1,3,5,4,8,3,25,12,2,3,4,2,4,2,23,1,6,5,18,1017233]
[null,"O27","O27",7,13,11,8,12,12,14,5,15,16,8,10,11,22,19,6,2,15,8,11,17,15,6,8,12,23,1017391]
[null,"O28","O28",8,17,12,12,14,17,20,14,12,15,19,15,8,15,14,10,5,16,14,8,16,9,10,15,16,9,1023816]
[null,"O29","O29",9,8,13,10,9,6,5,9,11,7,6,11,9,7,9,8,8,13,10,12,13,10,9,21,6,7,1023394]
[]
[null,"Lépcsôk(1)","Lépcsôk(1)","X(A1)","X(A2)","X(A3)","X(A4)","X(A5)","X(A6)","X(A7)","X(A8)","X(A9)","X(A10)","X(A11)","X(A12)","X(A13)","X(A14)","X(A15)","X(A16)","X(A17)","X(A18)","X(A19)","X(A20)","X(A21)","X(A22)","X(A23)","X(A24)","X(A25)","X(A26)"]
[null,"S1","S1","(2382+3033)/(2)=2707.5","(0+0)/(2)=0","(43389+12893)/(2)=28141","(0+0)/(2)=0","(49833+11814)/(2)=30823.5","(0+0)/(2)=0","(906014+0)/(2)=453007","(4371+11135)/(2)=7753","(455+981136)/(2)=490795.5","(0+0)/(2)=0","(0+0)/(2)=0","(0+8457)/(2)=4228.5","(0+0)/(2)=0","(72168+21885)/(2)=47026.5","(0+0)/(2)=0","(0+0)/(2)=0","(58853+0)/(2)=29426.5","(20213+11245)/(2)=15729","(13184+0)/(2)=6592","(0+0)/(2)=0","(10590+2106)/(2)=6348","(0+0)/(2)=0","(13721+0)/(2)=6860.5","(68984+27983)/(2)=48483.5","(0+0)/(2)=0","(7253+11901)/(2)=9577"]
[null,"S2","S2","(2382+3033)/(2)=2707.5","(0+0)/(2)=0","(43389+12893)/(2)=28141","(0+0)/(2)=0","(49833+11814)/(2)=30823.5","(0+0)/(2)=0","(906014+0)/(2)=453007","(4371+11135)/(2)=7753","(455+981136)/(2)=490795.5","(0+0)/(2)=0","(0+0)/(2)=0","(0+0)/(2)=0","(0+0)/(2)=0","(15262+4929)/(2)=10095.5","(0+0)/(2)=0","(0+0)/(2)=0","(0+0)/(2)=0","(20213+11245)/(2)=15729","(0+0)/(2)=0","(0+0)/(2)=0","(10590+2106)/(2)=6348","(0+0)/(2)=0","(13721+0)/(2)=6860.5","(30828+24074)/(2)=27451","(0+0)/(2)=0","(7253+11901)/(2)=9577"]
[null,"S3","S3","(2382+3033)/(2)=2707.5","(0+0)/(2)=0","(43389+12893)/(2)=28141","(0+0)/(2)=0","(49833+11814)/(2)=30823.5","(0+0)/(2)=0","(906014+0)/(2)=453007","(4371+11135)/(2)=7753","(455+981136)/(2)=490795.5","(0+0)/(2)=0","(0+0)/(2)=0","(0+0)/(2)=0","(0+0)/(2)=0","(15262+4929)/(2)=10095.5","(0+0)/(2)=0","(0+0)/(2)=0","(0+0)/(2)=0","(20213+11245)/(2)=15729","(0+0)/(2)=0","(0+0)/(2)=0","(10590+2106)/(2)=6348","(0+0)/(2)=0","(13721+0)/(2)=6860.5","(30828+9621)/(2)=20224.5","(0+0)/(2)=0","(7253+11901)/(2)=9577"]
[null,"S4","S4","(2382+3033)/(2)=2707.5","(0+0)/(2)=0","(16562+12893)/(2)=14727.5","(0+0)/(2)=0","(49833+11814)/(2)=30823.5","(0+0)/(2)=0","(906014+0)/(2)=453007","(4371+11135)/(2)=7753","(455+981136)/(2)=490795.5","(0+0)/(2)=0","(0+0)/(2)=0","(0+0)/(2)=0","(0+0)/(2)=0","(15262+4375)/(2)=9818.5","(0+0)/(2)=0","(0+0)/(2)=0","(0+0)/(2)=0","(0+389)/(2)=194.5","(0+0)/(2)=0","(0+0)/(2)=0","(10590+2106)/(2)=6348","(0+0)/(2)=0","(13721+0)/(2)=6860.5","(15849+9621)/(2)=12735","(0+0)/(2)=0","(7253+11901)/(2)=9577"]
[null,"S5","S5","(2382+3033)/(2)=2707.5","(0+0)/(2)=0","(16562+12893)/(2)=14727.5","(0+0)/(2)=0","(49833+11814)/(2)=30823.5","(0+0)/(2)=0","(906014+0)/(2)=453007","(4371+11135)/(2)=7753","(455+981136)/(2)=490795.5","(0+0)/(2)=0","(0+0)/(2)=0","(0+0)/(2)=0","(0+0)/(2)=0","(15262+4375)/(2)=9818.5","(0+0)/(2)=0","(0+0)/(2)=0","(0+0)/(2)=0","(0+389)/(2)=194.5","(0+0)/(2)=0","(0+0)/(2)=0","(10590+2106)/(2)=6348","(0+0)/(2)=0","(13721+0)/(2)=6860.5","(15849+9621)/(2)=12735","(0+0)/(2)=0","(7253+11901)/(2)=9577"]
[null,"S6","S6","(2382+3033)/(2)=2707.5","(0+0)/(2)=0","(16562+7087)/(2)=11824.5","(0+0)/(2)=0","(49833+11814)/(2)=30823.5","(0+0)/(2)=0","(906014+0)/(2)=453007","(4371+11135)/(2)=7753","(455+981136)/(2)=490795.5","(0+0)/(2)=0","(0+0)/(2)=0","(0+0)/(2)=0","(0+0)/(2)=0","(15262+4375)/(2)=9818.5","(0+0)/(2)=0","(0+0)/(2)=0","(0+0)/(2)=0","(0+389)/(2)=194.5","(0+0)/(2)=0","(0+0)/(2)=0","(10590+2106)/(2)=6348","(0+0)/(2)=0","(13721+0)/(2)=6860.5","(13305+7466)/(2)=10385.5","(0+0)/(2)=0","(7253+11901)/(2)=9577"]
[null,"S7","S7","(2382+3033)/(2)=2707.5","(0+0)/(2)=0","(16562+7087)/(2)=11824.5","(0+0)/(2)=0","(49833+11814)/(2)=30823.5","(0+0)/(2)=0","(906014+0)/(2)=453007","(4371+11135)/(2)=7753","(455+981136)/(2)=490795.5","(0+0)/(2)=0","(0+0)/(2)=0","(0+0)/(2)=0","(0+0)/(2)=0","(8536+4375)/(2)=6455.5","(0+0)/(2)=0","(0+0)/(2)=0","(0+0)/(2)=0","(0+389)/(2)=194.5","(0+0)/(2)=0","(0+0)/(2)=0","(10590+2106)/(2)=6348","(0+0)/(2)=0","(13721+0)/(2)=6860.5","(13305+7466)/(2)=10385.5","(0+0)/(2)=0","(7253+11901)/(2)=9577"]
[null,"S8","S8","(2382+3033)/(2)=2707.5","(0+0)/(2)=0","(16562+2205)/(2)=9383.5","(0+0)/(2)=0","(49833+11814)/(2)=30823.5","(0+0)/(2)=0","(906014+0)/(2)=453007","(4371+11135)/(2)=7753","(455+981136)/(2)=490795.5","(0+0)/(2)=0","(0+0)/(2)=0","(0+0)/(2)=0","(0+0)/(2)=0","(8536+4375)/(2)=6455.5","(0+0)/(2)=0","(0+0)/(2)=0","(0+0)/(2)=0","(0+389)/(2)=194.5","(0+0)/(2)=0","(0+0)/(2)=0","(10590+2106)/(2)=6348","(0+0)/(2)=0","(13721+0)/(2)=6860.5","(13305+7466)/(2)=10385.5","(0+0)/(2)=0","(7253+11901)/(2)=9577"]
[null,"S9","S9","(2382+3033)/(2)=2707.5","(0+0)/(2)=0","(16562+2205)/(2)=9383.5","(0+0)/(2)=0","(49833+11814)/(2)=30823.5","(0+0)/(2)=0","(906014+0)/(2)=453007","(4371+11135)/(2)=7753","(455+981136)/(2)=490795.5","(0+0)/(2)=0","(0+0)/(2)=0","(0+0)/(2)=0","(0+0)/(2)=0","(8536+4375)/(2)=6455.5","(0+0)/(2)=0","(0+0)/(2)=0","(0+0)/(2)=0","(0+389)/(2)=194.5","(0+0)/(2)=0","(0+0)/(2)=0","(8095+0)/(2)=4047.5","(0+0)/(2)=0","(13721+0)/(2)=6860.5","(13305+7466)/(2)=10385.5","(0+0)/(2)=0","(7253+10925)/(2)=9089"]
[null,"S10","S10","(2382+3033)/(2)=2707.5","(0+0)/(2)=0","(16562+0)/(2)=8281","(0+0)/(2)=0","(49833+11814)/(2)=30823.5","(0+0)/(2)=0","(906014+0)/(2)=453007","(4371+11135)/(2)=7753","(455+981136)/(2)=490795.5","(0+0)/(2)=0","(0+0)/(2)=0","(0+0)/(2)=0","(0+0)/(2)=0","(8536+4375)/(2)=6455.5","(0+0)/(2)=0","(0+0)/(2)=0","(0+0)/(2)=0","(0+0)/(2)=0","(0+0)/(2)=0","(0+0)/(2)=0","(8095+0)/(2)=4047.5","(0+0)/(2)=0","(13721+0)/(2)=6860.5","(13305+7466)/(2)=10385.5","(0+0)/(2)=0","(7253+10925)/(2)=9089"]
[null,"S11","S11","(2382+3033)/(2)=2707.5","(0+0)/(2)=0","(16562+0)/(2)=8281","(0+0)/(2)=0","(49833+11814)/(2)=30823.5","(0+0)/(2)=0","(906014+0)/(2)=453007","(4371+11135)/(2)=7753","(455+981136)/(2)=490795.5","(0+0)/(2)=0","(0+0)/(2)=0","(0+0)/(2)=0","(0+0)/(2)=0","(3986+4375)/(2)=4180.5","(0+0)/(2)=0","(0+0)/(2)=0","(0+0)/(2)=0","(0+0)/(2)=0","(0+0)/(2)=0","(0+0)/(2)=0","(8095+0)/(2)=4047.5","(0+0)/(2)=0","(13721+0)/(2)=6860.5","(13305+7466)/(2)=10385.5","(0+0)/(2)=0","(7253+10925)/(2)=9089"]
[null,"S12","S12","(2382+3033)/(2)=2707.5","(0+0)/(2)=0","(16562+0)/(2)=8281","(0+0)/(2)=0","(49833+11814)/(2)=30823.5","(0+0)/(2)=0","(906014+0)/(2)=453007","(4371+11135)/(2)=7753","(0+980681)/(2)=490340.5","(0+0)/(2)=0","(0+0)/(2)=0","(0+0)/(2)=0","(0+0)/(2)=0","(3986+4375)/(2)=4180.5","(0+0)/(2)=0","(0+0)/(2)=0","(0+0)/(2)=0","(0+0)/(2)=0","(0+0)/(2)=0","(0+0)/(2)=0","(8095+0)/(2)=4047.5","(0+0)/(2)=0","(13721+0)/(2)=6860.5","(13305+7466)/(2)=10385.5","(0+0)/(2)=0","(7253+10925)/(2)=9089"]
[null,"S13","S13","(2382+3033)/(2)=2707.5","(0+0)/(2)=0","(16562+0)/(2)=8281","(0+0)/(2)=0","(49833+11814)/(2)=30823.5","(0+0)/(2)=0","(906014+0)/(2)=453007","(4371+11135)/(2)=7753","(0+980681)/(2)=490340.5","(0+0)/(2)=0","(0+0)/(2)=0","(0+0)/(2)=0","(0+0)/(2)=0","(3986+4375)/(2)=4180.5","(0+0)/(2)=0","(0+0)/(2)=0","(0+0)/(2)=0","(0+0)/(2)=0","(0+0)/(2)=0","(0+0)/(2)=0","(8095+0)/(2)=4047.5","(0+0)/(2)=0","(13721+0)/(2)=6860.5","(11599+1853)/(2)=6726","(0+0)/(2)=0","(7253+10925)/(2)=9089"]
[null,"S14","S14","(2382+3033)/(2)=2707.5","(0+0)/(2)=0","(16562+0)/(2)=8281","(0+0)/(2)=0","(49833+11814)/(2)=30823.5","(0+0)/(2)=0","(906014+0)/(2)=453007","(4371+11135)/(2)=7753","(0+980681)/(2)=490340.5","(0+0)/(2)=0","(0+0)/(2)=0","(0+0)/(2)=0","(0+0)/(2)=0","(3986+4375)/(2)=4180.5","(0+0)/(2)=0","(0+0)/(2)=0","(0+0)/(2)=0","(0+0)/(2)=0","(0+0)/(2)=0","(0+0)/(2)=0","(8095+0)/(2)=4047.5","(0+0)/(2)=0","(13721+0)/(2)=6860.5","(11599+1853)/(2)=6726","(0+0)/(2)=0","(5537+9860)/(2)=7698.5"]
[null,"S15","S15","(2382+3033)/(2)=2707.5","(0+0)/(2)=0","(16562+0)/(2)=8281","(0+0)/(2)=0","(49833+11814)/(2)=30823.5","(0+0)/(2)=0","(906014+0)/(2)=453007","(4371+11135)/(2)=7753","(0+980681)/(2)=490340.5","(0+0)/(2)=0","(0+0)/(2)=0","(0+0)/(2)=0","(0+0)/(2)=0","(3986+4375)/(2)=4180.5","(0+0)/(2)=0","(0+0)/(2)=0","(0+0)/(2)=0","(0+0)/(2)=0","(0+0)/(2)=0","(0+0)/(2)=0","(8095+0)/(2)=4047.5","(0+0)/(2)=0","(13721+0)/(2)=6860.5","(11599+1853)/(2)=6726","(0+0)/(2)=0","(5537+9860)/(2)=7698.5"]
[null,"S16","S16","(2382+3033)/(2)=2707.5","(0+0)/(2)=0","(16562+0)/(2)=8281","(0+0)/(2)=0","(49833+11814)/(2)=30823.5","(0+0)/(2)=0","(906014+0)/(2)=453007","(4371+11135)/(2)=7753","(0+980681)/(2)=490340.5","(0+0)/(2)=0","(0+0)/(2)=0","(0+0)/(2)=0","(0+0)/(2)=0","(3986+4375)/(2)=4180.5","(0+0)/(2)=0","(0+0)/(2)=0","(0+0)/(2)=0","(0+0)/(2)=0","(0+0)/(2)=0","(0+0)/(2)=0","(8095+0)/(2)=4047.5","(0+0)/(2)=0","(13721+0)/(2)=6860.5","(11599+1853)/(2)=6726","(0+0)/(2)=0","(5537+9860)/(2)=7698.5"]
[null,"S17","S17","(2382+3033)/(2)=2707.5","(0+0)/(2)=0","(16562+0)/(2)=8281","(0+0)/(2)=0","(49833+11814)/(2)=30823.5","(0+0)/(2)=0","(906014+0)/(2)=453007","(4371+11135)/(2)=7753","(0+980681)/(2)=490340.5","(0+0)/(2)=0","(0+0)/(2)=0","(0+0)/(2)=0","(0+0)/(2)=0","(3986+4375)/(2)=4180.5","(0+0)/(2)=0","(0+0)/(2)=0","(0+0)/(2)=0","(0+0)/(2)=0","(0+0)/(2)=0","(0+0)/(2)=0","(8095+0)/(2)=4047.5","(0+0)/(2)=0","(13721+0)/(2)=6860.5","(11599+1853)/(2)=6726","(0+0)/(2)=0","(5537+9860)/(2)=7698.5"]
[null,"S18","S18","(2382+3033)/(2)=2707.5","(0+0)/(2)=0","(16562+0)/(2)=8281","(0+0)/(2)=0","(49833+11814)/(2)=30823.5","(0+0)/(2)=0","(906014+0)/(2)=453007","(4371+11135)/(2)=7753","(0+980681)/(2)=490340.5","(0+0)/(2)=0","(0+0)/(2)=0","(0+0)/(2)=0","(0+0)/(2)=0","(3986+4375)/(2)=4180.5","(0+0)/(2)=0","(0+0)/(2)=0","(0+0)/(2)=0","(0+0)/(2)=0","(0+0)/(2)=0","(0+0)/(2)=0","(8095+0)/(2)=4047.5","(0+0)/(2)=0","(13721+0)/(2)=6860.5","(11599+1853)/(2)=6726","(0+0)/(2)=0","(0+154)/(2)=77"]
[null,"S19","S19","(0+0)/(2)=0","(0+0)/(2)=0","(16562+0)/(2)=8281","(0+0)/(2)=0","(49833+11814)/(2)=30823.5","(0+0)/(2)=0","(906014+0)/(2)=453007","(4371+11135)/(2)=7753","(0+980681)/(2)=490340.5","(0+0)/(2)=0","(0+0)/(2)=0","(0+0)/(2)=0","(0+0)/(2)=0","(3986+4375)/(2)=4180.5","(0+0)/(2)=0","(0+0)/(2)=0","(0+0)/(2)=0","(0+0)/(2)=0","(0+0)/(2)=0","(0+0)/(2)=0","(8095+0)/(2)=4047.5","(0+0)/(2)=0","(13721+0)/(2)=6860.5","(11599+1853)/(2)=6726","(0+0)/(2)=0","(0+154)/(2)=77"]
[null,"S20","S20","(0+0)/(2)=0","(0+0)/(2)=0","(16562+0)/(2)=8281","(0+0)/(2)=0","(49833+11814)/(2)=30823.5","(0+0)/(2)=0","(906014+0)/(2)=453007","(4371+11135)/(2)=7753","(0+980681)/(2)=490340.5","(0+0)/(2)=0","(0+0)/(2)=0","(0+0)/(2)=0","(0+0)/(2)=0","(3986+4375)/(2)=4180.5","(0+0)/(2)=0","(0+0)/(2)=0","(0+0)/(2)=0","(0+0)/(2)=0","(0+0)/(2)=0","(0+0)/(2)=0","(8095+0)/(2)=4047.5","(0+0)/(2)=0","(13721+0)/(2)=6860.5","(6172+0)/(2)=3086","(0+0)/(2)=0","(0+154)/(2)=77"]
[null,"S21","S21","(0+0)/(2)=0","(0+0)/(2)=0","(16562+0)/(2)=8281","(0+0)/(2)=0","(49833+11814)/(2)=30823.5","(0+0)/(2)=0","(906014+0)/(2)=453007","(4371+11135)/(2)=7753","(0+980681)/(2)=490340.5","(0+0)/(2)=0","(0+0)/(2)=0","(0+0)/(2)=0","(0+0)/(2)=0","(3986+4375)/(2)=4180.5","(0+0)/(2)=0","(0+0)/(2)=0","(0+0)/(2)=0","(0+0)/(2)=0","(0+0)/(2)=0","(0+0)/(2)=0","(7833+0)/(2)=3916.5","(0+0)/(2)=0","(13721+0)/(2)=6860.5","(6172+0)/(2)=3086","(0+0)/(2)=0","(0+154)/(2)=77"]
[null,"S22","S22","(0+0)/(2)=0","(0+0)/(2)=0","(16562+0)/(2)=8281","(0+0)/(2)=0","(49833+11814)/(2)=30823.5","(0+0)/(2)=0","(906014+0)/(2)=453007","(4371+11135)/(2)=7753","(0+980681)/(2)=490340.5","(0+0)/(2)=0","(0+0)/(2)=0","(0+0)/(2)=0","(0+0)/(2)=0","(3108+3108)/(2)=3108","(0+0)/(2)=0","(0+0)/(2)=0","(0+0)/(2)=0","(0+0)/(2)=0","(0+0)/(2)=0","(0+0)/(2)=0","(7833+0)/(2)=3916.5","(0+0)/(2)=0","(13721+0)/(2)=6860.5","(6172+0)/(2)=3086","(0+0)/(2)=0","(0+154)/(2)=77"]
[null,"S23","S23","(0+0)/(2)=0","(0+0)/(2)=0","(16562+0)/(2)=8281","(0+0)/(2)=0","(49833+11814)/(2)=30823.5","(0+0)/(2)=0","(906014+0)/(2)=453007","(4371+11135)/(2)=7753","(0+980681)/(2)=490340.5","(0+0)/(2)=0","(0+0)/(2)=0","(0+0)/(2)=0","(0+0)/(2)=0","(3108+3108)/(2)=3108","(0+0)/(2)=0","(0+0)/(2)=0","(0+0)/(2)=0","(0+0)/(2)=0","(0+0)/(2)=0","(0+0)/(2)=0","(0+0)/(2)=0","(0+0)/(2)=0","(13721+0)/(2)=6860.5","(6172+0)/(2)=3086","(0+0)/(2)=0","(0+154)/(2)=77"]
[null,"S24","S24","(0+0)/(2)=0","(0+0)/(2)=0","(16562+0)/(2)=8281","(0+0)/(2)=0","(49833+11814)/(2)=30823.5","(0+0)/(2)=0","(906014+0)/(2)=453007","(0+1456)/(2)=728","(0+980681)/(2)=490340.5","(0+0)/(2)=0","(0+0)/(2)=0","(0+0)/(2)=0","(0+0)/(2)=0","(3108+3108)/(2)=3108","(0+0)/(2)=0","(0+0)/(2)=0","(0+0)/(2)=0","(0+0)/(2)=0","(0+0)/(2)=0","(0+0)/(2)=0","(0+0)/(2)=0","(0+0)/(2)=0","(13721+0)/(2)=6860.5","(0+0)/(2)=0","(0+0)/(2)=0","(0+154)/(2)=77"]
[null,"S25","S25","(0+0)/(2)=0","(0+0)/(2)=0","(16562+0)/(2)=8281","(0+0)/(2)=0","(49833+6204)/(2)=28018.5","(0+0)/(2)=0","(906014+0)/(2)=453007","(0+0)/(2)=0","(0+980681)/(2)=490340.5","(0+0)/(2)=0","(0+0)/(2)=0","(0+0)/(2)=0","(0+0)/(2)=0","(0+0)/(2)=0","(0+0)/(2)=0","(0+0)/(2)=0","(0+0)/(2)=0","(0+0)/(2)=0","(0+0)/(2)=0","(0+0)/(2)=0","(0+0)/(2)=0","(0+0)/(2)=0","(13721+0)/(2)=6860.5","(0+0)/(2)=0","(0+0)/(2)=0","(0+154)/(2)=77"]
[null,"S26","S26","(0+0)/(2)=0","(0+0)/(2)=0","(16562+0)/(2)=8281","(0+0)/(2)=0","(0+0)/(2)=0","(0+0)/(2)=0","(906014+0)/(2)=453007","(0+0)/(2)=0","(0+980681)/(2)=490340.5","(0+0)/(2)=0","(0+0)/(2)=0","(0+0)/(2)=0","(0+0)/(2)=0","(0+0)/(2)=0","(0+0)/(2)=0","(0+0)/(2)=0","(0+0)/(2)=0","(0+0)/(2)=0","(0+0)/(2)=0","(0+0)/(2)=0","(0+0)/(2)=0","(0+0)/(2)=0","(13721+0)/(2)=6860.5","(0+0)/(2)=0","(0+0)/(2)=0","(0+0)/(2)=0"]
[null,"S27","S27","(0+0)/(2)=0","(0+0)/(2)=0","(16562+0)/(2)=8281","(0+0)/(2)=0","(0+0)/(2)=0","(0+0)/(2)=0","(906014+0)/(2)=453007","(0+0)/(2)=0","(0+980681)/(2)=490340.5","(0+0)/(2)=0","(0+0)/(2)=0","(0+0)/(2)=0","(0+0)/(2)=0","(0+0)/(2)=0","(0+0)/(2)=0","(0+0)/(2)=0","(0+0)/(2)=0","(0+0)/(2)=0","(0+0)/(2)=0","(0+0)/(2)=0","(0+0)/(2)=0","(0+0)/(2)=0","(13721+0)/(2)=6860.5","(0+0)/(2)=0","(0+0)/(2)=0","(0+0)/(2)=0"]
[null,"S28","S28","(0+0)/(2)=0","(0+0)/(2)=0","(0+0)/(2)=0","(0+0)/(2)=0","(0+0)/(2)=0","(0+0)/(2)=0","(906014+0)/(2)=453007","(0+0)/(2)=0","(0+980681)/(2)=490340.5","(0+0)/(2)=0","(0+0)/(2)=0","(0+0)/(2)=0","(0+0)/(2)=0","(0+0)/(2)=0","(0+0)/(2)=0","(0+0)/(2)=0","(0+0)/(2)=0","(0+0)/(2)=0","(0+0)/(2)=0","(0+0)/(2)=0","(0+0)/(2)=0","(0+0)/(2)=0","(13721+0)/(2)=6860.5","(0+0)/(2)=0","(0+0)/(2)=0","(0+0)/(2)=0"]
[null,"S29","S29","(0+0)/(2)=0","(0+0)/(2)=0","(0+0)/(2)=0","(0+0)/(2)=0","(0+0)/(2)=0","(0+0)/(2)=0","(906014+0)/(2)=453007","(0+0)/(2)=0","(0+980681)/(2)=490340.5","(0+0)/(2)=0","(0+0)/(2)=0","(0+0)/(2)=0","(0+0)/(2)=0","(0+0)/(2)=0","(0+0)/(2)=0","(0+0)/(2)=0","(0+0)/(2)=0","(0+0)/(2)=0","(0+0)/(2)=0","(0+0)/(2)=0","(0+0)/(2)=0","(0+0)/(2)=0","(0+0)/(2)=0","(0+0)/(2)=0","(0+0)/(2)=0","(0+0)/(2)=0"]
[]
[null,"Lépcsôk(2)","Lépcsôk(2)","X(A1)","X(A2)","X(A3)","X(A4)","X(A5)","X(A6)","X(A7)","X(A8)","X(A9)","X(A10)","X(A11)","X(A12)","X(A13)","X(A14)","X(A15)","X(A16)","X(A17)","X(A18)","X(A19)","X(A20)","X(A21)","X(A22)","X(A23)","X(A24)","X(A25)","X(A26)"]
[null,"S1","S1",2707.5,0,28141,0,30823.5,0,453007,7753,490795.5,0,0,4228.5,0,47026.5,0,0,29426.5,15729,6592,0,6348,0,6860.5,48483.5,0,9577]
[null,"S2","S2",2707.5,0,28141,0,30823.5,0,453007,7753,490795.5,0,0,0,0,10095.5,0,0,0,15729,0,0,6348,0,6860.5,27451,0,9577]
[null,"S3","S3",2707.5,0,28141,0,30823.5,0,453007,7753,490795.5,0,0,0,0,10095.5,0,0,0,15729,0,0,6348,0,6860.5,20224.5,0,9577]
[null,"S4","S4",2707.5,0,14727.5,0,30823.5,0,453007,7753,490795.5,0,0,0,0,9818.5,0,0,0,194.5,0,0,6348,0,6860.5,12735,0,9577]
[null,"S5","S5",2707.5,0,14727.5,0,30823.5,0,453007,7753,490795.5,0,0,0,0,9818.5,0,0,0,194.5,0,0,6348,0,6860.5,12735,0,9577]
[null,"S6","S6",2707.5,0,11824.5,0,30823.5,0,453007,7753,490795.5,0,0,0,0,9818.5,0,0,0,194.5,0,0,6348,0,6860.5,10385.5,0,9577]
[null,"S7","S7",2707.5,0,11824.5,0,30823.5,0,453007,7753,490795.5,0,0,0,0,6455.5,0,0,0,194.5,0,0,6348,0,6860.5,10385.5,0,9577]
[null,"S8","S8",2707.5,0,9383.5,0,30823.5,0,453007,7753,490795.5,0,0,0,0,6455.5,0,0,0,194.5,0,0,6348,0,6860.5,10385.5,0,9577]
[null,"S9","S9",2707.5,0,9383.5,0,30823.5,0,453007,7753,490795.5,0,0,0,0,6455.5,0,0,0,194.5,0,0,4047.5,0,6860.5,10385.5,0,9089]
[null,"S10","S10",2707.5,0,8281,0,30823.5,0,453007,7753,490795.5,0,0,0,0,6455.5,0,0,0,0,0,0,4047.5,0,6860.5,10385.5,0,9089]
[null,"S11","S11",2707.5,0,8281,0,30823.5,0,453007,7753,490795.5,0,0,0,0,4180.5,0,0,0,0,0,0,4047.5,0,6860.5,10385.5,0,9089]
[null,"S12","S12",2707.5,0,8281,0,30823.5,0,453007,7753,490340.5,0,0,0,0,4180.5,0,0,0,0,0,0,4047.5,0,6860.5,10385.5,0,9089]
[null,"S13","S13",2707.5,0,8281,0,30823.5,0,453007,7753,490340.5,0,0,0,0,4180.5,0,0,0,0,0,0,4047.5,0,6860.5,6726,0,9089]
[null,"S14","S14",2707.5,0,8281,0,30823.5,0,453007,7753,490340.5,0,0,0,0,4180.5,0,0,0,0,0,0,4047.5,0,6860.5,6726,0,7698.5]
[null,"S15","S15",2707.5,0,8281,0,30823.5,0,453007,7753,490340.5,0,0,0,0,4180.5,0,0,0,0,0,0,4047.5,0,6860.5,6726,0,7698.5]
[null,"S16","S16",2707.5,0,8281,0,30823.5,0,453007,7753,490340.5,0,0,0,0,4180.5,0,0,0,0,0,0,4047.5,0,6860.5,6726,0,7698.5]
[null,"S17","S17",2707.5,0,8281,0,30823.5,0,453007,7753,490340.5,0,0,0,0,4180.5,0,0,0,0,0,0,4047.5,0,6860.5,6726,0,7698.5]
[null,"S18","S18",2707.5,0,8281,0,30823.5,0,453007,7753,490340.5,0,0,0,0,4180.5,0,0,0,0,0,0,4047.5,0,6860.5,6726,0,77]
[null,"S19","S19",0,0,8281,0,30823.5,0,453007,7753,490340.5,0,0,0,0,4180.5,0,0,0,0,0,0,4047.5,0,6860.5,6726,0,77]
[null,"S20","S20",0,0,8281,0,30823.5,0,453007,7753,490340.5,0,0,0,0,4180.5,0,0,0,0,0,0,4047.5,0,6860.5,3086,0,77]
[null,"S21","S21",0,0,8281,0,30823.5,0,453007,7753,490340.5,0,0,0,0,4180.5,0,0,0,0,0,0,3916.5,0,6860.5,3086,0,77]
[null,"S22","S22",0,0,8281,0,30823.5,0,453007,7753,490340.5,0,0,0,0,3108,0,0,0,0,0,0,3916.5,0,6860.5,3086,0,77]
[null,"S23","S23",0,0,8281,0,30823.5,0,453007,7753,490340.5,0,0,0,0,3108,0,0,0,0,0,0,0,0,6860.5,3086,0,77]
[null,"S24","S24",0,0,8281,0,30823.5,0,453007,728,490340.5,0,0,0,0,3108,0,0,0,0,0,0,0,0,6860.5,0,0,77]
[null,"S25","S25",0,0,8281,0,28018.5,0,453007,0,490340.5,0,0,0,0,0,0,0,0,0,0,0,0,0,6860.5,0,0,77]
[null,"S26","S26",0,0,8281,0,0,0,453007,0,490340.5,0,0,0,0,0,0,0,0,0,0,0,0,0,6860.5,0,0,0]
[null,"S27","S27",0,0,8281,0,0,0,453007,0,490340.5,0,0,0,0,0,0,0,0,0,0,0,0,0,6860.5,0,0,0]
[null,"S28","S28",0,0,0,0,0,0,453007,0,490340.5,0,0,0,0,0,0,0,0,0,0,0,0,0,6860.5,0,0,0]
[null,"S29","S29",0,0,0,0,0,0,453007,0,490340.5,0,0,0,0,0,0,0,0,0,0,0,0,0,0,0,0,0]
[]
[null,"COCO:STD","COCO:STD","X(A1)","X(A2)","X(A3)","X(A4)","X(A5)","X(A6)","X(A7)","X(A8)","X(A9)","X(A10)","X(A11)","X(A12)","X(A13)","X(A14)","X(A15)","X(A16)","X(A17)","X(A18)","X(A19)","X(A20)","X(A21)","X(A22)","X(A23)","X(A24)","X(A25)","X(A26)","Becslés","Tény+0","Delta","Delta/Tény"]
[null,"O1","O1",2707.5,0,8281,0,30823.5,0,453007,7753,490795.5,0,0,0,0,10095.5,0,0,0,194.5,0,0,6348,0,6860.5,0,0,9577,1026443,1026443,0,0]
[null,"O2","O2",2707.5,0,8281,0,30823.5,0,453007,7753,490795.5,0,0,0,0,10095.5,0,0,0,194.5,0,0,6348,0,6860.5,0,0,9577,1026443,1026443,0,0]
[null,"O3","O3",0,0,8281,0,30823.5,0,453007,0,490340.5,0,0,0,0,4180.5,0,0,0,0,0,0,0,0,6860.5,27451,0,0,1020944,1020944,0,0]
[null,"O4","O4",0,0,8281,0,30823.5,0,453007,7753,490340.5,0,0,0,0,6455.5,0,0,0,15729,0,0,0,0,6860.5,0,0,0,1019250,1019250,0,0]
[null,"O5","O5",0,0,28141,0,30823.5,0,453007,728,490340.5,0,0,0,0,6455.5,0,0,0,0,0,0,4047.5,0,0,0,0,9577,1023120,1023120,0,0]
[null,"O6","O6",0,0,8281,0,30823.5,0,453007,7753,490340.5,0,0,0,0,4180.5,0,0,0,194.5,0,0,3916.5,0,6860.5,6726,0,9089,1021172,1021172,0,0]
[null,"O7","O7",0,0,14727.5,0,30823.5,0,453007,0,490340.5,0,0,0,0,0,0,0,0,0,6592,0,0,0,6860.5,12735,0,77,1015163,1015163,0,0]
[null,"O8","O8",0,0,0,0,28018.5,0,453007,7753,490340.5,0,0,0,0,9818.5,0,0,0,0,0,0,4047.5,0,6860.5,6726,0,9577,1016148.5,1016148,-0.5,0]
[null,"O9","O9",0,0,28141,0,0,0,453007,0,490340.5,0,0,0,0,9818.5,0,0,0,15729,0,0,4047.5,0,6860.5,3086,0,9089,1020119,1020119,0,0]
[null,"O10","O10",0,0,9383.5,0,30823.5,0,453007,0,490340.5,0,0,0,0,4180.5,0,0,0,194.5,0,0,3916.5,0,6860.5,10385.5,0,7698.5,1016790.5,1016791,0.5,0]
[null,"O11","O11",2707.5,0,8281,0,30823.5,0,453007,7753,490795.5,0,0,4228.5,0,6455.5,0,0,0,0,0,0,6348,0,6860.5,6726,0,77,1024063,1024063,0,0]
[null,"O12","O12",0,0,0,0,30823.5,0,453007,7753,490795.5,0,0,0,0,3108,0,0,0,0,0,0,6348,0,6860.5,20224.5,0,0,1018920,1018920,0,0]
[null,"O13","O13",2707.5,0,28141,0,30823.5,0,453007,7753,490340.5,0,0,0,0,0,0,0,0,0,0,0,0,0,6860.5,0,0,77,1019710,1019710,0,0]
[null,"O14","O14",2707.5,0,8281,0,30823.5,0,453007,7753,490795.5,0,0,0,0,4180.5,0,0,0,0,0,0,6348,0,6860.5,10385.5,0,77,1021219,1021219,0,0]
[null,"O15","O15",0,0,8281,0,30823.5,0,453007,7753,490340.5,0,0,0,0,4180.5,0,0,0,0,0,0,4047.5,0,6860.5,6726,0,7698.5,1019718,1019718,0,0]
[null,"O16","O16",2707.5,0,8281,0,30823.5,0,453007,7753,490340.5,0,0,0,0,0,0,0,0,15729,0,0,6348,0,6860.5,0,0,9089,1030939,1030939,0,0]
[null,"O17","O17",0,0,8281,0,0,0,453007,0,490795.5,0,0,0,0,4180.5,0,0,0,0,0,0,4047.5,0,6860.5,48483.5,0,7698.5,1023354,1023354,0,0]
[null,"O18","O18",2707.5,0,8281,0,30823.5,0,453007,7753,490795.5,0,0,0,0,3108,0,0,0,0,0,0,4047.5,0,6860.5,10385.5,0,77,1017846,1017846,0,0]
[null,"O19","O19",2707.5,0,8281,0,30823.5,0,453007,7753,490795.5,0,0,0,0,4180.5,0,0,0,194.5,0,0,6348,0,6860.5,6726,0,9089,1026766,1026766,0,0]
[null,"O20","O20",2707.5,0,11824.5,0,30823.5,0,453007,7753,490795.5,0,0,0,0,4180.5,0,0,0,0,0,0,4047.5,0,6860.5,3086,0,9577,1024662.5,1018844,-5818.5,-0.56999999999999995]
[null,"O21","O21",2707.5,0,8281,0,0,0,453007,7753,490340.5,0,0,0,0,47026.5,0,0,0,0,0,0,0,0,6860.5,10385.5,0,7698.5,1034060,1034060,0,0]
[null,"O22","O22",2707.5,0,11824.5,0,30823.5,0,453007,7753,490340.5,0,0,0,0,4180.5,0,0,0,0,0,0,4047.5,0,6860.5,3086,0,9577,1024207.5,1030026,5818.5,0.56000000000000005]
[null,"O23","O23",2707.5,0,9383.5,0,30823.5,0,453007,7753,490340.5,0,0,0,0,9818.5,0,0,0,0,0,0,0,0,6860.5,6726,0,9577,1026997,1026997,0,0]
[null,"O24","O24",2707.5,0,14727.5,0,0,0,453007,7753,490340.5,0,0,0,0,0,0,0,29426.5,0,0,0,0,0,6860.5,10385.5,0,0,1015208,1015208,0,0]
[null,"O25","O25",2707.5,0,8281,0,30823.5,0,453007,7753,490340.5,0,0,0,0,4180.5,0,0,0,0,0,0,4047.5,0,6860.5,12735,0,77,1020813,1020813,0,0]
[null,"O26","O26",2707.5,0,8281,0,30823.5,0,453007,7753,490795.5,0,0,0,0,0,0,0,0,194.5,0,0,6348,0,6860.5,10385.5,0,77,1017233,1017233,0,0]
[null,"O27","O27",2707.5,0,8281,0,30823.5,0,453007,7753,490340.5,0,0,0,0,3108,0,0,0,0,0,0,4047.5,0,6860.5,10385.5,0,77,1017391,1017391,0,0]
[null,"O28","O28",2707.5,0,8281,0,30823.5,0,453007,7753,490340.5,0,0,0,0,4180.5,0,0,0,0,0,0,4047.5,0,6860.5,6726,0,9089,1023816,1023816,0,0]
[null,"O29","O29",2707.5,0,8281,0,30823.5,0,453007,7753,490795.5,0,0,0,0,6455.5,0,0,0,0,0,0,4047.5,0,6860.5,3086,0,9577,1023394,1023394,0,0]
[]
[null,"S1 összeg:","S1 összeg:",1187499]
[null,"S29 összeg:","S29 összeg:",943347.5]
[null,"Becslés összeg:","Becslés összeg:",29635910]
[null,"Tény összeg:","Tény összeg:",29635910]
[null,"Tény-becslés eltérés:","Tény-becslés eltérés:",0]
[null,"Tény négyzetösszeg:","Tény négyzetösszeg:"]
[null,"Becslés négyzetösszeg:","Becslés négyzetösszeg:"]
[null,"Négyzetösszeg hiba:","Négyzetösszeg hiba:",0]
[]
[null,"Open url","Open url"]
[]
[null,"Maximális memória használat: 1.52 Mb","Maximális memória használat: 1.52 Mb"]
[null,"A futtatás idôtartama: 0.43 mp (0.01 p)","A futtatás idôtartama: 0.41 mp (0.01 p)"]

{"sheet":"2018","index":7,"n_rows":236,"n_cols":32,"rows_kept":236,"cut":false,"hidden":false,"merged":[]}
["Területi egység neve","Területi egység szintje","Év","Lakosság","Belgyógyászat","Sebészet","Baleseti sebészet","Szülészet és nőgyógyászat","Csecsemő- és gyermek-gyógyászat","Fül-orr-gégészet","Szemészet","Bőrgyógyászat és nemibeteg-ellátás","Neurológia","Ortopédia","Urológia","Onkológia","Fogászat","Reumatológia","Aneszteziológiai és intenzív betegellátás","Pszichiátria","Nukleáris medicina (izotóp-diagnosztika és \n-terápia)","Fizioterápia","Patológia és kórszövettan","Ultrahang-diagnosztika és -terápia","Tomográfia","Röntgen-diagnosztika és -terápia","Laboratóriumi diagnosztika","Sürgősségi betegellátás, oxyológia","Kardiológia","Orvosi rehabilitáció","Tüdő-gyógyászat"]
["Budapest + Pest","főváros, régió + megye, régió",2018,3011598,1468292,1027038,496683,899567,553343,774382,880637,656392,607487,424652,548459,366004,2185349,1033924,124998,562829,55703,2311572,318882,585481,339617,1268967,5604418,262262,903113,166267,767920]
["Közép-Magyarország","nagyrégió",2018,3011598,1468292,1027038,496683,899567,553343,774382,880637,656392,607487,424652,548459,366004,2185349,1033924,124998,562829,55703,2311572,318882,585481,339617,1268967,5604418,262262,903113,166267,767920]
["Fejér","megye",2018,416691,129485,83663,62121,99235,55110,82434,82113,39999,60689,38078,38917,22138,267002,79188,16437,47525,2427,300030,34909,94050,28830,175154,487712,82164,49687,2848,81646]
["Komárom-Esztergom","megye",2018,297454,87342,70831,38286,66442,35355,46544,53923,51512,42730,16540,38582,11772,145413,71804,6053,36314,7684,290053,21627,51602,19416,113560,286167,31590,33449,2083,52097]
["Veszprém","megye",2018,341425,96954,82104,76633,76614,32422,65965,67186,38085,61066,11493,45195,24661,177602,92374,11481,42138,3624,241026,25390,60766,32689,117284,250008,31158,54300,29788,80125]
["Közép-Dunántúl","régió",2018,1055570,313781,236598,177040,242291,122887,194943,203222,129596,164485,66111,122694,58571,590017,243366,33971,125977,13735,831109,81926,206418,80935,405998,1023887,144912,137436,34719,213868]
["Győr-Moson-Sopron","megye",2018,461518,117729,101296,95042,114187,43559,63620,71670,44277,56140,29361,67406,40845,218935,65076,12284,53216,2943,283424,61990,81781,26677,171992,442335,82394,50509,7781,67193]
["Vas","megye",2018,253305,79467,54215,30212,60311,24680,34816,49240,27700,32159,11499,33238,33694,119360,66277,5670,15549,964,143504,23415,22304,21485,80045,312453,35315,14254,12206,40810]
["Zala","megye",2018,270634,88406,43904,61919,59094,24187,45257,56202,26751,42161,29425,35025,21279,160400,95508,7990,25586,2075,318649,24039,46870,26684,85503,345287,29700,43425,3899,55279]
["Nyugat-Dunántúl","régió",2018,985457,285602,199415,187173,233592,92426,143693,177112,98728,130460,70285,135669,95818,498695,226861,25944,94351,5982,745577,109444,150955,74846,337540,1100075,147409,108188,23886,163282]
["Baranya","megye",2018,363721,163363,110643,55441,107076,88158,76684,82918,76811,73591,34538,68270,66024,361111,94512,12212,84892,3262,225819,46419,101081,40351,140132,698080,54003,97683,8200,86330]
["Somogy","megye",2018,303802,103631,111081,30344,75713,35354,48406,57370,50069,59286,30849,26912,40548,180342,54840,7179,35001,1509,164550,25060,60954,38475,117128,425906,58188,44306,1881,58971]
["Tolna","megye",2018,219317,87346,37325,50100,66175,35347,41009,46767,32830,38187,19594,23996,17162,123194,36802,8167,18793,3390,93902,19426,33718,13137,73282,266024,21466,40991,3789,41441]
["Dél-Dunántúl","régió",2018,886840,354340,259049,135885,248964,158859,166099,187055,159710,171064,84981,119178,123734,664647,186154,27558,138686,8161,484271,90905,195753,91963,330542,1390010,133657,182980,13870,186742]
["Dunántúl","nagyrégió",2018,2927867,953723,695062,500098,724847,374172,504735,567389,388034,466009,221377,377541,278123,1753359,656381,87473,359014,27878,2060957,282275,553126,247744,1074080,3513972,425978,428604,72475,563892]
["Borsod-Abaúj-Zemplén","megye",2018,648216,235776,166118,94156,175880,96381,103004,135559,82839,111846,49242,66017,62573,418257,111137,23276,74333,4505,593593,56819,181644,67774,246881,730003,38647,77205,24921,191784]
["Heves","megye",2018,295792,98551,66865,33408,88362,21151,35115,47609,25987,59921,28375,30812,20743,201781,67645,13055,35264,2026,129900,25191,51174,29546,115911,392899,83629,32537,7711,68893]
["Nógrád","megye",2018,190937,69052,35474,27301,37478,19759,24286,33271,23315,45355,10325,11573,7603,104910,34182,3542,14037,1545,108760,13124,38525,15177,65352,174146,31311,15241,1522,34402]
["Észak-Magyarország","régió",2018,1134945,403379,268457,154865,301720,137291,162405,216439,132141,217122,87942,108402,90919,724948,212964,39873,123634,8076,832253,95134,271343,112497,428144,1297048,153587,124983,34154,295079]
["Hajdú-Bihar","megye",2018,530464,309089,142236,111726,189697,76337,119760,125044,72758,120194,59257,68685,90694,515143,138931,26382,70188,7420,385183,50180,169626,53756,259996,997879,72271,64643,77143,102616]
["Jász-Nagykun-Szolnok","megye",2018,371271,143457,83694,61300,82272,25305,68839,46755,56547,50512,19389,51788,25537,228696,172171,6839,38080,2277,234939,21881,64296,8298,149088,541956,63533,49353,8835,115245]
["Szabolcs-Szatmár-Bereg","megye",2018,558361,223428,73311,110098,110099,80724,97278,86989,65000,73956,38252,56616,36608,351368,118269,18091,66792,7088,209497,49496,109487,48369,205512,777165,63396,63408,24976,161236]
["Észak-Alföld","régió",2018,1460096,675974,299241,283124,382068,182366,285877,258788,194305,244662,116898,177089,152839,1095207,429371,51312,175060,16785,829619,121557,343409,110423,614596,2317000,199200,177404,110954,379097]
["Bács-Kiskun","megye",2018,505602,181734,83579,107604,120499,31700,69585,78714,91476,72072,24165,57033,59492,314052,83274,14889,70741,55223,326412,40290,88338,28834,200362,602094,80120,61356,1564,79474]
["Békés","megye",2018,338025,117578,74117,42066,79944,35399,91248,59816,51259,59812,25435,45138,37136,216801,65155,9404,58903,4802,198196,31116,81994,30152,126843,448296,59762,56145,3543,67537]
["Csongrád-Csanád","megye",2018,400238,228723,135052,70143,151073,93076,82840,100877,87678,90294,41421,72106,41492,288014,69267,14283,85853,19095,324014,54697,100674,47551,143229,819756,67872,74827,9954,68683]
["Dél-Alföld","régió",2018,1243865,528035,292748,219813,351516,160175,243673,239407,230413,222178,91021,174277,138120,818867,217696,38576,215497,79120,848622,126103,271006,106537,470434,1870146,207754,192328,15061,215694]
["Alföld és Észak","nagyrégió",2018,3838906,1607388,860446,657802,1035304,479832,691955,714634,556859,683962,295861,459768,381878,2639022,860031,129761,514191,103981,2510494,342794,885758,329457,1513174,5484194,560541,494715,160169,889870]
["Ország összesen","ország",2018,9778371,4029403,2582546,1654583,2659718,1407347,1971072,2162660,1601285,1757458,941890,1385768,1026005,6577730,2550336,342232,1436034,187562,6883023,943951,2024365,916818,3856221,14602584,1248781,1826432,398911,2221682]
[]
[null,null,null,null,{"$f":"E2/$D2","v":0.48754581454762552},{"$f":"F2/$D2","v":0.34102758734731525},0.16492340611197112,0.29870088902967795,0.1837373381175044,0.25713325616499944,0.29241518954389001,0.21795472038432753,0.20171583325530168,0.14100553925191875,0.18211560772719335,0.12153149258300742,0.72564432570349691,0.3433140810958169,4.1505539583968382E-2,0.18688716090261714,1.8496160510134488E-2,{"$f":"V2/$D2","v":0.7675566260835609},0.10588464994331913,0.19440874910927686,0.11276969901029288,0.42136002215435125,1.8609449202715636,8.7083999922964492E-2,0.29987833701576372,5.5208895742393238E-2,0.25498755145939134]
[null,null,null,null,{"$f":"E3/$D3","v":0.48754581454762552},0.34102758734731525,0.16492340611197112,0.29870088902967795,0.1837373381175044,0.25713325616499944,0.29241518954389001,0.21795472038432753,0.20171583325530168,0.14100553925191875,0.18211560772719335,0.12153149258300742,0.72564432570349691,0.3433140810958169,4.1505539583968382E-2,0.18688716090261714,1.8496160510134488E-2,0.7675566260835609,0.10588464994331913,0.19440874910927686,0.11276969901029288,0.42136002215435125,1.8609449202715636,8.7083999922964492E-2,0.29987833701576372,5.5208895742393238E-2,0.25498755145939134]
[null,null,null,null,{"$f":"E4/$D4","v":0.31074585244221736},0.20077947447869043,0.14908169362909207,0.23815009203462517,0.13225627623346797,0.19783004672527124,0.19705969171400389,9.5991994067546452E-2,0.14564509432649134,9.1381863299183325E-2,9.3395345711810435E-2,5.3128097319116566E-2,0.64076737918505555,0.19004010165806318,3.9446496324614645E-2,0.11405333928498576,5.8244598515446696E-3,0.72002995025090533,8.3776707440285481E-2,0.22570681872178663,6.9187959423169687E-2,0.42034505184897203,1.1704404462779374,0.19718208456626132,0.11924183627676144,6.8348008476304982E-3,0.19593895716490156]
[null,null,null,null,{"$f":"E5/$D5","v":0.2936319565378176},0.2381242141642069,0.12871233871455753,0.22336899150793063,0.11885871428859589,0.15647461456225165,0.1812818116414639,0.17317635668036066,0.14365246391038614,5.5605236439920123E-2,0.12970745056378466,3.9575867192910501E-2,0.48885878152588297,0.24139530818210547,2.0349364943823247E-2,0.12208274220551749,2.5832565707638828E-2,0.97511884190496678,7.2707040416333288E-2,0.17347892447235538,6.5273958326329443E-2,0.38177331621023752,0.96205463701950555,0.10620129499014974,0.11245100082701863,7.0027634525002182E-3,0.17514304732832639]
[null,null,null,null,{"$f":"E6/$D6","v":0.28396866076004978},0.24047448195064802,0.22445046496302262,0.22439481584535403,9.4960825950062236E-2,0.19320494984257158,0.19678113787801127,0.11154719191623344,0.17885626418686387,3.3661858387640041E-2,0.1323716775280076,7.2229625832906208E-2,0.52017866295672543,0.2705542945009885,3.3626711576480922E-2,0.1234180273852237,1.0614336970051989E-2,0.705941275536355,7.4364794610822293E-2,0.17797759390788606,9.5742842498352493E-2,0.34351321666544626,0.7322486636889507,9.1258695174635723E-2,0.15903932049498426,8.724610090063703E-2,0.23467818701032436]
[null,null,null,null,{"$f":"E7/$D7","v":0.29726214272857321},0.22414240647233249,0.16771981014996637,0.22953570109040614,0.11641767007398846,0.18468031490095399,0.19252347073145315,0.12277347783661907,0.15582576238430421,6.2630616633667119E-2,0.11623483047074093,5.5487556486069137E-2,0.55895582481502881,0.23055410820694033,3.2182612237937794E-2,0.1193449984368635,1.3011927205206665E-2,0.78735564671220293,7.7613043189935296E-2,0.19555121877279574,7.6674213931809357E-2,0.38462442092897675,0.96998493704822986,0.13728317401972395,0.13020074462138939,3.2891234119954149E-2,0.20260901692924202]
[null,null,null,null,{"$f":"E8/$D8","v":0.25509080902586684},0.21948439714160661,0.20593346305019522,0.24741613544867155,9.4382017602780394E-2,0.13784944465871321,0.15529188460688423,9.5937753240393664E-2,0.12164205946463627,6.3618320412204943E-2,0.14605280834116979,8.8501423563111303E-2,0.47438019752209015,0.14100425118846935,2.6616513332091057E-2,0.11530644525240619,6.376782704033212E-3,0.61411255899011519,0.13431762141454937,0.17720002253433237,5.7802729254330276E-2,0.37266585485289849,0.95843499061791737,0.17852824808566514,0.10944101855182246,1.6859580774747682E-2,0.14559128788042935]
[null,null,null,null,{"$f":"E9/$D9","v":0.31372061348966662},0.21403051657093228,0.11927123428278162,0.23809636604093878,9.7431949625945008E-2,0.13744695130376425,0.19439016205759854,0.10935433568228026,0.12695762026016066,4.5395866642979808E-2,0.13121730719883146,0.13301750853713903,0.47121059592191233,0.26164900021712956,2.2384082430271807E-2,6.1384496950316815E-2,3.8056887941414499E-3,0.56652651941335541,9.243797003612246E-2,8.8051953178973963E-2,8.4818696827934706E-2,0.3160024476421705,1.2335050630662641,0.13941690847002625,5.6272083061921399E-2,4.8186968279347035E-2,0.161110124158623]
[null,null,null,null,{"$f":"E10/$D10","v":0.32666257750319622},0.16222647560912523,0.22879239119992315,0.21835393926853242,8.9371623668866446E-2,0.16722584745449573,0.20766792051257418,9.8845673492613639E-2,0.15578604314313796,0.10872617631191941,0.12941832881308335,7.8626484477190603E-2,0.59268236806905272,0.3529046609073509,2.9523267586482112E-2,9.4540966766925069E-2,7.6671815071277074E-3,1.177416732561319,8.8824759638478537E-2,0.17318592638027741,9.8598106668046137E-2,0.31593591344768213,1.275844867976677,0.10974230880081587,0.16045655756482927,1.4406911178935389E-2,0.20425741037711448]
[null,null,null,null,{"$f":"E11/$D11","v":0.28981680580684899},0.20235789080599154,0.18993522802111101,0.23703926198707809,9.3789987792465834E-2,0.14581356670052575,0.17972575160560025,0.10018499031413852,0.13238527911415718,7.1322239326525663E-2,0.13767115155709483,9.7232045639738723E-2,0.50605455134013966,0.23020892844639593,2.6326871695061278E-2,9.5743396211097995E-2,6.0702800832507153E-3,0.75657994209793022,0.11105913297079426,0.15318273653746434,7.5950548831658818E-2,0.34252128707797497,1.1163094888970295,0.14958440601670089,0.10978459739998803,2.4238500512959976E-2,0.16569165372005071]
[null,null,null,null,{"$f":"E12/$D12","v":0.44914371180107832},0.30419744804396776,0.15242727255231345,0.29439048061563672,0.24237808650036705,0.21083192886855584,0.22797143964742206,0.21118109759953371,0.20232815812119728,9.4957398665460616E-2,0.18769881310125069,0.18152375034710672,0.99282417017439195,0.25984752048960602,3.3575185375603826E-2,0.2333986764580544,8.9684126019668915E-3,0.62085774535976757,0.12762254585245283,0.27790806689742964,0.11093942884793564,0.38527332763299343,1.9192732891419522,0.14847369274801289,0.26856574132370692,2.2544752708807025E-2,0.23735225626235493]
[null,null,null,null,{"$f":"E13/$D13","v":0.34111362005516749},0.36563617092711698,9.9880843444085293E-2,0.24921824082790764,0.11637184745327549,0.15933403993390433,0.18884009980184463,0.16480799994733411,0.19514683905965069,0.10154311031527113,8.8584011955155001E-2,0.13346850909473934,0.59361689521464633,0.18051230735808191,2.3630522511372539E-2,0.11520990645222876,4.967050908157287E-3,0.54163567060124684,8.2487936221618027E-2,0.20063725716091402,0.12664498587896064,0.38554058235297989,1.401919671364902,0.19153264297140901,0.14583840791041533,6.1915326429714092E-3,0.19410997952613873]
[null,null,null,null,{"$f":"E14/$D14","v":0.39826370048833426},0.17018744556965487,0.22843646411358901,0.30173219586260985,0.16116853686672716,0.18698504903860622,0.21323928377645143,0.14969199834030195,0.17411782944322601,8.9340999557717821E-2,0.10941240305129106,7.8252027886575135E-2,0.56171660199619733,0.16780276950715176,3.723833537755851E-2,8.568875189793769E-2,1.5457078110679975E-2,0.42815650405577316,8.857498506727704E-2,0.15374093207548892,5.9899597386431511E-2,0.33413734457429201,1.2129657071727227,9.7876589594057914E-2,0.18690297605748757,1.7276362525476822E-2,0.18895480058545394]
[null,null,null,null,{"$f":"E15/$D15","v":0.39955347075007891},0.29210342339091605,0.1532238058725362,0.28073158630643635,0.17912926796265391,0.18729308556222091,0.21092305263632674,0.18008885481033782,0.19289161517297371,9.5824500473591631E-2,0.13438500744215418,0.13952234901447838,0.74945536962699022,0.2099070858328447,3.1074376437688872E-2,0.15638221099634658,9.2023363853682739E-3,0.54606355148617558,0.10250439763655225,0.22073090974696677,0.10369739750124037,0.37271886698840828,1.567374047178747,0.1507115150421722,0.20632808623878038,1.5639799738397006E-2,0.21057011411303053]
[null,null,null,null,{"$f":"E16/$D16","v":0.32573986454985832},0.23739534616838812,0.17080625588525708,0.24756828093625838,0.12779678858363444,0.17239000268796362,0.19378919875800368,0.13253129325888097,0.15916330898910366,7.5610333392876108E-2,0.12894745560505311,9.4991678242215244E-2,0.59885199703401826,0.22418402202012591,2.9876015543055745E-2,0.12261964085117254,9.5216073680942474E-3,0.70391073091776368,9.6409775444034854E-2,0.18891773430965272,8.4615865406454591E-2,0.36684726457861644,1.2001815656243948,0.14549089832290879,0.14638779698668006,2.4753515101608101E-2,0.19259481390377364]
[null,null,null,null,{"$f":"E17/$D17","v":0.36373060831574661},0.25626951509990498,0.14525405111876288,0.27132930998309207,0.14868654892813507,0.15890382218272922,0.20912627889468943,0.12779536450812692,0.17254433707282757,7.5965418934429263E-2,0.10184413837362855,9.65310945734138E-2,0.64524325224925028,0.17145056586076246,3.5907783825144708E-2,0.11467319535463487,6.9498438792007606E-3,0.9157333358016464,8.7654423834030631E-2,0.28022140767892184,0.10455465462129908,0.38086224344971431,1.1261724486899429,5.9620558579239022E-2,0.11910381724610315,3.8445518160613132E-2,0.29586434151579105]
[null,null,null,null,{"$f":"E18/$D18","v":0.33317669172932329},0.22605411911072645,0.11294423108130038,0.29873018878130581,7.1506328771569205E-2,0.11871517823335316,0.16095431925136583,8.7855655325363768E-2,0.202578163033483,9.5928895980959591E-2,0.10416779358468113,7.0126981121869422E-2,0.68217193162763023,0.22869110726456429,4.4135744036349865E-2,0.11921891058581706,6.8494076918915996E-3,0.43915995023530047,8.5164575106831827E-2,0.17300670741602206,9.9887758965759729E-2,0.39186658192243196,1.32829488289068,0.28272907989397955,0.10999959430951479,2.6068994428517338E-2,0.23291028831070482]
[null,null,null,null,{"$f":"E19/$D19","v":0.36164808287550343},0.18578902988943996,0.14298433514719514,0.19628463838857843,0.10348439537648543,0.12719378643217397,0.1742511928018142,0.12210833939990677,0.23753908357206827,5.4075428020760777E-2,6.0611615349565565E-2,3.9819416875723407E-2,0.54944824732765263,0.1790224000586581,1.85506214091559E-2,7.3516395460282713E-2,8.0916742171501591E-3,0.56961196625064814,6.8734713544258058E-2,0.20176812246971515,7.948695119332555E-2,0.34226996339106619,0.91205999884778755,0.16398602680465285,7.9822140287110405E-2,7.9712156365712248E-3,0.18017461256854356]
[null,null,null,null,{"$f":"E20/$D20","v":0.35541722286101968},0.23653745335677059,0.13645154611016394,0.26584548149910348,0.12096709532179974,0.14309503984774594,0.19070439536717637,0.11642943050103749,0.19130618664340562,7.7485693139315123E-2,9.5512998427236567E-2,8.0108727735705251E-2,0.63875165756930952,0.18764257298811837,3.5132098912282091E-2,0.10893391309711044,7.1157633189273487E-3,0.73329808933472551,8.3822564089008719E-2,0.23908030785632783,9.9121102784716433E-2,0.37723766349911231,1.1428289476582565,0.13532550035464275,0.11012251695016058,3.0093088211323015E-2,0.25999409663023321]
[null,null,null,null,{"$f":"E21/$D21","v":0.58267667551426672},0.26813506665862341,0.21061938227664836,0.35760579417264887,0.14390608976292454,0.2257646136212825,0.23572570428907522,0.13715916631477348,0.22658276527719129,0.11170786330457863,0.12948098268685529,0.17097107438016529,0.97111773843276827,0.2619046721360922,4.9733817940519995E-2,0.13231435120950716,1.3987754117150268E-2,0.72612467575556494,9.4596428786873382E-2,0.31976910779996381,0.10133769680883151,0.49012939615129397,1.8811436779875732,0.13624110212945648,0.12186123846293057,0.14542551426675515,0.19344573807082102]
[null,null,null,null,{"$f":"E22/$D22","v":0.38639430496860783},0.22542563248947534,0.16510850564681864,0.22159554611052304,6.815776077312799E-2,0.18541442773607419,0.12593227049783043,0.15230653619593235,0.13605156341324801,5.2223308580524735E-2,0.13948840604302518,6.8782641251269289E-2,0.6159813182284638,0.46373403793994145,1.8420506853484384E-2,0.10256658882595193,6.1329864169299515E-3,0.63279652868120595,5.8935386819870123E-2,0.17317808285591926,2.2350250894898876E-2,0.40156112381521852,1.4597315707394329,0.17112298024892869,0.13292985447287831,2.3796633725769047E-2,0.31040668406635585]
[null,null,null,null,{"$f":"E23/$D23","v":0.40014972392412795},0.1312967775328148,0.19718067701719855,0.19718246797322878,0.14457313458497281,0.17422062070954095,0.15579347411441702,0.11641214196550261,0.13245194417231862,6.850765006868316E-2,0.10139676660798301,6.5563318354971062E-2,0.62928463843284188,0.21181457874027734,3.2400185543044732E-2,0.11962153517169,1.26942963423305E-2,0.37519991546687537,8.8645159672684881E-2,0.19608640288272283,8.6626752226606082E-2,0.36806295568637493,1.3918683432403052,0.11353944849300004,0.11356093996536291,4.4730917811236816E-2,0.28876658649153503]
[null,null,null,null,{"$f":"E24/$D24","v":0.46296544884719909},0.20494611313228719,0.19390779784342949,0.26167320504953101,0.12490000657491014,0.19579329030419917,0.17724040063119137,0.13307686617866221,0.16756569431051108,8.0061858946261069E-2,0.12128586065573771,0.10467736368019637,0.75009245967388449,0.29407038989217149,3.5142894713772244E-2,0.11989622600157798,1.1495819452967477E-2,0.56819483102480928,8.3252745024984656E-2,0.23519617888138863,7.5627219032173232E-2,0.42092848689401247,1.5868819584465679,0.13642938546506531,0.12150159989480144,7.5990893749452088E-2,0.25963840733759974]
[null,null,null,null,{"$f":"E25/$D25","v":0.35944082499673657},0.16530591255572566,0.21282352522339706,0.23832777560215349,6.2697536797718362E-2,0.13762801571196318,0.15568371960553953,0.18092491722738438,0.14254690448218163,4.7794510306525685E-2,0.11280216454839972,0.11766567379084734,0.62114469483902357,0.16470267127107882,2.9448063892152324E-2,0.13991439907278846,0.10922227364606944,0.64559080066930119,7.9687184781705764E-2,0.17471845443649353,5.7029046562315812E-2,0.39628403368657561,1.1908457640594776,0.15846456303574749,0.12135236806816428,3.0933421940577766E-3,0.15718687821646274]
[null,null,null,null,{"$f":"E26/$D26","v":0.34783817764958214},0.21926484727460988,0.12444641668515642,0.2365032172176614,0.10472302344501147,0.2699445307299756,0.17695732564159455,0.15164262998298941,0.1769454921973227,7.5245913763774874E-2,0.13353450188595517,0.10986169662007247,0.64137563789660523,0.19275201538347755,2.7820427483174322E-2,0.17425634198653947,1.4206049848383995E-2,0.5863353302270542,9.2052362990903039E-2,0.24256785740699652,8.9200502921381555E-2,0.37524739294430887,1.3262214333259374,0.17679757414392427,0.16609718216108277,1.0481473263811849E-2,0.19979883144737814]
[null,null,null,null,{"$f":"E27/$D27","v":0.57146747685127353},0.33742922960838301,0.17525322433152274,0.37745791254203748,0.23255163177909144,0.20697684877497888,0.25204253469185833,0.21906465652936502,0.22560076754331174,0.10349092290087399,0.1801578061053673,0.10366831735117606,0.71960683393380942,0.17306452660666904,3.5686266671330555E-2,0.21450486960258647,4.7709113077718759E-2,0.80955331577711265,0.13666118659397658,0.25153533647479748,0.11880680994808089,0.35785957355373554,2.0481713380538578,0.16957910043524102,0.18695626102469032,2.4870202229673344E-2,0.1716053947900999]
[null,null,null,null,{"$f":"E28/$D28","v":0.42451150245404445},0.2353535150518746,0.17671773062189225,0.28259979981750433,0.12877201304000033,0.19589987659432495,0.19247024395734263,0.18523955573956982,0.17861906235805333,7.3175947550578241E-2,0.14010925622957476,0.11104098917487026,0.65832465741861057,0.17501577743565419,3.1013011862219775E-2,0.17324790069661899,6.3608188991570627E-2,0.68224606368054408,0.10137997290702769,0.21787412621144578,8.5649970053020219E-2,0.37820342239712507,1.5034959581626623,0.1670229486318853,0.15462128124836699,1.2108227178994504E-2,0.17340627801248529]
[null,null,null,null,{"$f":"E29/$D29","v":0.41870991370979127},0.22413833524446808,0.17135142147267998,0.26968724944033534,0.12499185966001772,0.18024796647794972,0.18615563913260705,0.14505669063009097,0.17816586287864303,7.7069092079879012E-2,0.11976537065507725,9.9475736056053463E-2,0.68744116162260815,0.22403023152950347,3.3801557006084545E-2,0.13394206578645063,2.708610213430597E-2,0.65396078987086426,8.9294710524300408E-2,0.2307318803846721,8.5820543665304644E-2,0.39416802599490586,1.4285825180402958,0.14601581804816269,0.12886874541861665,4.1722563667878299E-2,0.23180301888089994]
[null,null,null,null,{"$f":"E30/$D30","v":0.41207303343266483},0.26410799917491368,0.16920844995551917,0.27200011126597673,0.14392448394522972,0.20157467946348118,0.22116771801765345,0.16375784882778532,0.17972911847995948,9.6323815081264558E-2,0.14171767465153448,0.10492596363954691,0.67268157446674914,0.26081399447822134,3.4998876602247958E-2,0.1468582036823925,1.9181313533716403E-2,0.70390282798637938,9.6534586384582871E-2,0.20702476925860147,9.3759788823721255E-2,0.39436231249560894,1.4933554883528146,0.12770849050419544,0.18678284961779421,4.0795240843285653E-2,0.22720369272141547]
[]
[null,null,null,null,null,null,null,null,null,null,null,null,null,null,null,null,null,null,null,null,null,null,null,null,null,null,null,null,null,null,"y",100000]
[null,null,null,null,{"$f":"RANK(E32,E$32:E$60,0)","v":3},{"$f":"RANK(F32,F$32:F$60,0)","v":2},17,5,3,2,1,2,6,1,2,6,5,3,3,3,7,6,5,17,3,2,4,27,1,4,{"$f":"(AE32*$AF$62)+$AF$63","v":1025498.7551459392},1000000]
[null,null,null,null,{"$f":"RANK(E33,E$32:E$60,0)","v":3},2,17,5,3,2,1,2,6,1,2,6,5,3,3,3,7,6,5,17,3,2,4,27,1,4,{"$f":"(AE33*$AF$62)+$AF$63","v":1025498.7551459392}]
[null,null,null,null,{"$f":"RANK(E34,E$32:E$60,0)","v":24},24,21,19,11,8,11,27,22,11,27,27,14,20,5,22,27,11,21,9,24,5,21,2,20,27,1019593.8957164901]
[null,null,null,null,{"$f":"RANK(E35,E$32:E$60,0)","v":26},11,25,25,17,22,20,8,23,24,14,29,27,11,27,14,5,2,27,23,25,14,26,24,23,26,1017514.3047328326]
[null,null,null,null,{"$f":"RANK(E36,E$32:E$60,0)","v":28},10,3,24,23,11,12,23,12,29,12,22,25,6,13,12,15,12,26,20,12,24,29,26,10,2,1023467.8187010324]
[null,null,null,null,{"$f":"RANK(E37,E$32:E$60,0)","v":25},17,15,23,18,15,15,19,20,23,20,26,23,12,16,17,12,5,25,16,21,13,25,17,15,11,1020260.9016929242]
[null,null,null,null,{"$f":"RANK(E38,E$32:E$60,0)","v":29},19,6,17,24,25,28,28,29,22,5,18,28,29,23,19,24,20,2,21,27,20,27,4,27,20,1014559.1287880429]
[null,null,null,null,{"$f":"RANK(E39,E$32:E$60,0)","v":23},21,27,20,22,27,13,24,28,28,13,5,29,8,26,29,29,24,12,29,18,28,17,16,29,6,1016111.0124158623]
[null,null,null,null,{"$f":"RANK(E40,E$32:E$60,0)","v":21},28,1,27,26,19,10,26,21,4,16,20,21,2,20,26,20,1,15,24,11,29,16,23,9,22,1020425.7410377115]
[null,null,null,null,{"$f":"RANK(E41,E$32:E$60,0)","v":27},23,9,21,25,23,21,25,27,20,9,15,26,13,24,25,26,8,4,28,22,25,24,12,26,16,1016569.1653720051]
[null,null,null,null,{"$f":"RANK(E42,E$32:E$60,0)","v":6},5,20,7,1,5,5,4,5,10,1,1,1,10,14,1,18,19,3,3,5,12,2,13,3,18,1023735.2256262355]
[null,null,null,null,{"$f":"RANK(E43,E$32:E$60,0)","v":19},1,29,15,19,20,18,9,8,6,28,4,20,22,25,20,28,26,23,14,1,11,12,3,13,28,1019410.9979526139]
[null,null,null,null,{"$f":"RANK(E44,E$32:E$60,0)","v":12},26,2,3,6,13,7,13,16,12,22,21,22,27,6,27,9,28,17,27,26,27,18,25,6,19,1018895.4800585454]
[null,null,null,null,{"$f":"RANK(E45,E$32:E$60,0)","v":11},6,19,9,5,12,8,7,9,9,10,3,4,18,17,7,17,25,7,10,7,19,7,11,4,21,1021057.0114113031]
[null,null,null,null,{"$f":"RANK(E46,E$32:E$60,0)","v":22},12,13,16,13,18,14,17,19,17,17,17,19,15,19,13,16,13,10,19,19,22,19,15,12,15,1019259.4813903774]
[null,null,null,null,{"$f":"RANK(E47,E$32:E$60,0)","v":14},9,22,11,7,21,9,18,17,16,24,16,12,26,7,21,22,3,18,2,6,15,23,29,21,10,1029586.4341515792]
[null,null,null,null,{"$f":"RANK(E48,E$32:E$60,0)","v":20},15,28,4,27,29,25,29,4,8,23,23,9,14,2,18,23,27,19,26,9,10,14,1,25,13,1023291.0288310705]
[null,null,null,null,{"$f":"RANK(E49,E$32:E$60,0)","v":15},25,23,29,21,28,24,20,1,25,29,28,24,23,28,28,19,22,28,13,20,26,28,9,28,25,1018017.4612568544]
[null,null,null,null,{"$f":"RANK(E50,E$32:E$60,0)","v":17},13,24,13,16,24,17,21,10,14,26,19,15,21,10,23,21,9,20,6,10,17,22,20,24,12,1025999.4096630233]
[null,null,null,null,{"$f":"RANK(E51,E$32:E$60,0)","v":1},7,5,2,10,4,4,15,2,3,15,2,2,7,1,11,11,10,11,1,8,1,3,19,17,1,1019344.5738070821]
[null,null,null,null,{"$f":"RANK(E52,E$32:E$60,0)","v":13},16,16,26,28,14,29,11,25,26,8,24,18,1,29,24,25,18,29,25,29,6,10,6,14,17,1031040.6684066356]
[null,null,null,null,{"$f":"RANK(E53,E$32:E$60,0)","v":10},29,7,28,8,17,26,22,26,21,25,25,16,17,15,16,13,29,16,15,15,21,13,22,22,7,1028876.6586491535]
[null,null,null,null,{"$f":"RANK(E54,E$32:E$60,0)","v":5},22,8,14,15,10,22,16,18,13,18,12,3,5,9,15,14,23,22,7,23,4,6,18,18,3,1025963.8407337599]
[null,null,null,null,{"$f":"RANK(E55,E$32:E$60,0)","v":16},27,4,18,29,26,27,6,24,27,21,8,17,28,21,9,1,17,24,22,28,7,{"$f":"RANK(AA55,AA$32:AA$60,0)","v":20},10,19,29,1015718.6878216462]
[null,null,null,null,{"$f":"RANK(E56,E$32:E$60,0)","v":18},20,26,22,20,1,23,12,15,18,11,10,13,19,22,5,10,21,13,5,14,18,15,5,8,24,1019979.8831447378]
[null,null,null,null,{"$f":"RANK(E57,E$32:E$60,0)","v":2},4,11,1,2,6,3,1,3,5,4,13,7,25,8,2,3,4,1,4,2,23,1,7,5,14,1017160.53947901]
[null,null,null,null,{"$f":"RANK(E58,E$32:E$60,0)","v":7},14,10,8,12,9,16,5,13,19,7,9,11,24,18,6,2,15,8,11,17,16,8,8,11,23,1017340.6278012486]
[null,null,null,null,{"$f":"RANK(E59,E$32:E$60,0)","v":8},18,12,12,14,16,19,14,14,15,19,14,8,16,12,10,4,16,14,8,16,9,11,14,16,8,1023180.30188809]
[null,null,null,null,{"$f":"RANK(E60,E$32:E$60,0)","v":9},8,14,10,9,7,6,10,11,7,6,11,10,9,11,8,6,14,9,12,13,8,9,21,7,9,1022720.3692721416]
[]
[]
[]
[]
[]
[]
["Azonosító:",6526339,"Objektumok:",29,"Attribútumok:",26,"Lépcsôk:",29,"Eltolás:",0,"Leírás:","COCO STD: 6526339"]
[]
["Rangsor","X(A1)","X(A2)","X(A3)","X(A4)","X(A5)","X(A6)","X(A7)","X(A8)","X(A9)","X(A10)","X(A11)","X(A12)","X(A13)","X(A14)","X(A15)","X(A16)","X(A17)","X(A18)","X(A19)","X(A20)","X(A21)","X(A22)","X(A23)","X(A24)","X(A25)","X(A26)","Y(A27)"]
["O1",3,2,17,5,3,2,1,2,6,1,2,6,5,3,3,3,7,6,5,17,3,2,4,27,1,4,1025499]
["O2",3,2,17,5,3,2,1,2,6,1,2,6,5,3,3,3,7,6,5,17,3,2,4,27,1,4,1025499]
["O3",24,24,21,19,11,8,11,27,22,11,27,27,14,20,5,22,27,11,21,9,24,5,21,2,20,27,1019594]
["O4",26,11,25,25,17,22,20,8,23,24,14,29,27,11,27,14,5,2,27,23,25,14,26,24,23,26,1017514]
["O5",28,10,3,24,23,11,12,23,12,29,12,22,25,6,13,12,15,12,26,20,12,24,29,26,10,2,1023468]
["O6",25,17,15,23,18,15,15,19,20,23,20,26,23,12,16,17,12,5,25,16,21,13,25,17,15,11,1020261]
["O7",29,19,6,17,24,25,28,28,29,22,5,18,28,29,23,19,24,20,2,21,27,20,27,4,27,20,1014559]
["O8",23,21,27,20,22,27,13,24,28,28,13,5,29,8,26,29,29,24,12,29,18,28,17,16,29,6,1016111]
["O9",21,28,1,27,26,19,10,26,21,4,16,20,21,2,20,26,20,1,15,24,11,29,16,23,9,22,1020426]
["O10",27,23,9,21,25,23,21,25,27,20,9,15,26,13,24,25,26,8,4,28,22,25,24,12,26,16,1016569]
["O11",6,5,20,7,1,5,5,4,5,10,1,1,1,10,14,1,18,19,3,3,5,12,2,13,3,18,1023735]
["O12",19,1,29,15,19,20,18,9,8,6,28,4,20,22,25,20,28,26,23,14,1,11,12,3,13,28,1019411]
["O13",12,26,2,3,6,13,7,13,16,12,22,21,22,27,6,27,9,28,17,27,26,27,18,25,6,19,1018895]
["O14",11,6,19,9,5,12,8,7,9,9,10,3,4,18,17,7,17,25,7,10,7,19,7,11,4,21,1021057]
["O15",22,12,13,16,13,18,14,17,19,17,17,17,19,15,19,13,16,13,10,19,19,22,19,15,12,15,1019259]
["O16",14,9,22,11,7,21,9,18,17,16,24,16,12,26,7,21,22,3,18,2,6,15,23,29,21,10,1029586]
["O17",20,15,28,4,27,29,25,29,4,8,23,23,9,14,2,18,23,27,19,26,9,10,14,1,25,13,1023291]
["O18",15,25,23,29,21,28,24,20,1,25,29,28,24,23,28,28,19,22,28,13,20,26,28,9,28,25,1018017]
["O19",17,13,24,13,16,24,17,21,10,14,26,19,15,21,10,23,21,9,20,6,10,17,22,20,24,12,1025999]
["O20",1,7,5,2,10,4,4,15,2,3,15,2,2,7,1,11,11,10,11,1,8,1,3,19,17,1,1019345]
["O21",13,16,16,26,28,14,29,11,25,26,8,24,18,1,29,24,25,18,29,25,29,6,10,6,14,17,1031041]
["O22",10,29,7,28,8,17,26,22,26,21,25,25,16,17,15,16,13,29,16,15,15,21,13,22,22,7,1028877]
["O23",5,22,8,14,15,10,22,16,18,13,18,12,3,5,9,15,14,23,22,7,23,4,6,18,18,3,1025964]
["O24",16,27,4,18,29,26,27,6,24,27,21,8,17,28,21,9,1,17,24,22,28,7,20,10,19,29,1015719]
["O25",18,20,26,22,20,1,23,12,15,18,11,10,13,19,22,5,10,21,13,5,14,18,15,5,8,24,1019980]
["O26",2,4,11,1,2,6,3,1,3,5,4,13,7,25,8,2,3,4,1,4,2,23,1,7,5,14,1017161]
["O27",7,14,10,8,12,9,16,5,13,19,7,9,11,24,18,6,2,15,8,11,17,16,8,8,11,23,1017341]
["O28",8,18,12,12,14,16,19,14,14,15,19,14,8,16,12,10,4,16,14,8,16,9,11,14,16,8,1023180]
["O29",9,8,14,10,9,7,6,10,11,7,6,11,10,9,11,8,6,14,9,12,13,8,9,21,7,9,1022720]
[]
["Lépcsôk(1)","X(A1)","X(A2)","X(A3)","X(A4)","X(A5)","X(A6)","X(A7)","X(A8)","X(A9)","X(A10)","X(A11)","X(A12)","X(A13)","X(A14)","X(A15)","X(A16)","X(A17)","X(A18)","X(A19)","X(A20)","X(A21)","X(A22)","X(A23)","X(A24)","X(A25)","X(A26)"]
["S1","(0+0)/(2)=0","(0+0)/(2)=0","(30095+311144.6)/(2)=170619.75","(923970.7+15612)/(2)=469791.35","(9532+388240.5)/(2)=198886.25","(10575+0)/(2)=5287.5","(0+0)/(2)=0","(0+0)/(2)=0","(43301.9+498703.3)/(2)=271002.65","(0+0)/(2)=0","(0+244318.7)/(2)=122159.35","(6538+0)/(2)=3269","(0+0)/(2)=0","(28053+545602.3)/(2)=286827.6","(0+0)/(2)=0","(0+0)/(2)=0","(15409+275368.6)/(2)=145388.8","(32213+261007.6)/(2)=146610.3","(0+24273)/(2)=12136.5","(0+0)/(2)=0","(2873+180233.8)/(2)=91553.35","(39539.9+0)/(2)=19769.95","(3036+0)/(2)=1518","(31258+491795.3)/(2)=261526.65","(0+0)/(2)=0","(11655+108412.9)/(2)=60033.9"]
["S2","(0+0)/(2)=0","(0+0)/(2)=0","(30095+311144.6)/(2)=170619.75","(923970.7+15612)/(2)=469791.35","(9532+388240.5)/(2)=198886.25","(10575+0)/(2)=5287.5","(0+0)/(2)=0","(0+0)/(2)=0","(0+0)/(2)=0","(0+0)/(2)=0","(0+244318.7)/(2)=122159.35","(6538+0)/(2)=3269","(0+0)/(2)=0","(13999+191960.7)/(2)=102979.85","(0+0)/(2)=0","(0+0)/(2)=0","(15409+188486.7)/(2)=101947.85","(32213+261007.6)/(2)=146610.3","(0+24273)/(2)=12136.5","(0+0)/(2)=0","(0+5990)/(2)=2995","(39539.9+0)/(2)=19769.95","(3036+0)/(2)=1518","(31258+491795.3)/(2)=261526.65","(0+0)/(2)=0","(11655+108412.9)/(2)=60033.9"]
["S3","(0+0)/(2)=0","(0+0)/(2)=0","(24260+311144.6)/(2)=167702.25","(923970.7+15612)/(2)=469791.35","(9532+388240.5)/(2)=198886.25","(10575+0)/(2)=5287.5","(0+0)/(2)=0","(0+0)/(2)=0","(0+0)/(2)=0","(0+0)/(2)=0","(0+244318.7)/(2)=122159.35","(6538+0)/(2)=3269","(0+0)/(2)=0","(13999+191960.7)/(2)=102979.85","(0+0)/(2)=0","(0+0)/(2)=0","(0+0)/(2)=0","(24740+261007.6)/(2)=142873.8","(0+24273)/(2)=12136.5","(0+0)/(2)=0","(0+5990)/(2)=2995","(39539.9+0)/(2)=19769.95","(3036+0)/(2)=1518","(31258+491795.3)/(2)=261526.65","(0+0)/(2)=0","(11655+108412.9)/(2)=60033.9"]
["S4","(0+0)/(2)=0","(0+0)/(2)=0","(0+311144.6)/(2)=155572.3","(923970.7+15612)/(2)=469791.35","(9532+388240.5)/(2)=198886.25","(10575+0)/(2)=5287.5","(0+0)/(2)=0","(0+0)/(2)=0","(0+0)/(2)=0","(0+0)/(2)=0","(0+244318.7)/(2)=122159.35","(6538+0)/(2)=3269","(0+0)/(2)=0","(13999+191960.7)/(2)=102979.85","(0+0)/(2)=0","(0+0)/(2)=0","(0+0)/(2)=0","(6654+46691.9)/(2)=26672.95","(0+24273)/(2)=12136.5","(0+0)/(2)=0","(0+5990)/(2)=2995","(39539.9+0)/(2)=19769.95","(3036+0)/(2)=1518","(31258+491795.3)/(2)=261526.65","(0+0)/(2)=0","(11655+108412.9)/(2)=60033.9"]
["S5","(0+0)/(2)=0","(0+0)/(2)=0","(0+40037.9)/(2)=20018.95","(923970.7+15612)/(2)=469791.35","(9532+388240.5)/(2)=198886.25","(10575+0)/(2)=5287.5","(0+0)/(2)=0","(0+0)/(2)=0","(0+0)/(2)=0","(0+0)/(2)=0","(0+244318.7)/(2)=122159.35","(6538+0)/(2)=3269","(0+0)/(2)=0","(13999+191960.7)/(2)=102979.85","(0+0)/(2)=0","(0+0)/(2)=0","(0+0)/(2)=0","(6654+46691.9)/(2)=26672.95","(0+24273)/(2)=12136.5","(0+0)/(2)=0","(0+5990)/(2)=2995","(39539.9+0)/(2)=19769.95","(3036+0)/(2)=1518","(25106+248927.7)/(2)=137016.8","(0+0)/(2)=0","(11655+108412.9)/(2)=60033.9"]
["S6","(0+0)/(2)=0","(0+0)/(2)=0","(0+40037.9)/(2)=20018.95","(923970.7+15612)/(2)=469791.35","(9532+388240.5)/(2)=198886.25","(10575+0)/(2)=5287.5","(0+0)/(2)=0","(0+0)/(2)=0","(0+0)/(2)=0","(0+0)/(2)=0","(0+244318.7)/(2)=122159.35","(6538+0)/(2)=3269","(0+0)/(2)=0","(13999+155078.8)/(2)=84538.9","(0+0)/(2)=0","(0+0)/(2)=0","(0+0)/(2)=0","(6654+46691.9)/(2)=26672.95","(0+24273)/(2)=12136.5","(0+0)/(2)=0","(0+5990)/(2)=2995","(39539.9+0)/(2)=19769.95","(3036+0)/(2)=1518","(16651+187543.7)/(2)=102097.35","(0+0)/(2)=0","(11655+108412.9)/(2)=60033.9"]
["S7","(0+0)/(2)=0","(0+0)/(2)=0","(0+40037.9)/(2)=20018.95","(923970.7+15612)/(2)=469791.35","(9532+388240.5)/(2)=198886.25","(10575+0)/(2)=5287.5","(0+0)/(2)=0","(0+0)/(2)=0","(0+0)/(2)=0","(0+0)/(2)=0","(0+244318.7)/(2)=122159.35","(6538+0)/(2)=3269","(0+0)/(2)=0","(11215+155078.8)/(2)=83146.9","(0+0)/(2)=0","(0+0)/(2)=0","(0+0)/(2)=0","(6654+46691.9)/(2)=26672.95","(0+24273)/(2)=12136.5","(0+0)/(2)=0","(0+5990)/(2)=2995","(39539.9+0)/(2)=19769.95","(3036+0)/(2)=1518","(16651+187543.7)/(2)=102097.35","(0+0)/(2)=0","(11655+108412.9)/(2)=60033.9"]
["S8","(0+0)/(2)=0","(0+0)/(2)=0","(0+40037.9)/(2)=20018.95","(923970.7+15612)/(2)=469791.35","(9532+388240.5)/(2)=198886.25","(10575+0)/(2)=5287.5","(0+0)/(2)=0","(0+0)/(2)=0","(0+0)/(2)=0","(0+0)/(2)=0","(0+244318.7)/(2)=122159.35","(6538+0)/(2)=3269","(0+0)/(2)=0","(11215+155078.8)/(2)=83146.9","(0+0)/(2)=0","(0+0)/(2)=0","(0+0)/(2)=0","(6654+46691.9)/(2)=26672.95","(0+24273)/(2)=12136.5","(0+0)/(2)=0","(0+5990)/(2)=2995","(39539.9+0)/(2)=19769.95","(3036+0)/(2)=1518","(16651+187543.7)/(2)=102097.35","(0+0)/(2)=0","(11655+108412.9)/(2)=60033.9"]
["S9","(0+0)/(2)=0","(0+0)/(2)=0","(0+40037.9)/(2)=20018.95","(923970.7+15612)/(2)=469791.35","(3375+388240.5)/(2)=195807.75","(10575+0)/(2)=5287.5","(0+0)/(2)=0","(0+0)/(2)=0","(0+0)/(2)=0","(0+0)/(2)=0","(0+244318.7)/(2)=122159.35","(6538+0)/(2)=3269","(0+0)/(2)=0","(11215+155078.8)/(2)=83146.9","(0+0)/(2)=0","(0+0)/(2)=0","(0+0)/(2)=0","(6654+46691.9)/(2)=26672.95","(0+24273)/(2)=12136.5","(0+0)/(2)=0","(0+5990)/(2)=2995","(39539.9+0)/(2)=19769.95","(3036+0)/(2)=1518","(16651+187543.7)/(2)=102097.35","(0+0)/(2)=0","(11655+108412.9)/(2)=60033.9"]
["S10","(0+0)/(2)=0","(0+0)/(2)=0","(0+0)/(2)=0","(923970.7+15612)/(2)=469791.35","(0+357106.5)/(2)=178553.25","(10575+0)/(2)=5287.5","(0+0)/(2)=0","(0+0)/(2)=0","(0+0)/(2)=0","(0+0)/(2)=0","(0+244318.7)/(2)=122159.35","(6538+0)/(2)=3269","(0+0)/(2)=0","(11215+155078.8)/(2)=83146.9","(0+0)/(2)=0","(0+0)/(2)=0","(0+0)/(2)=0","(0+0)/(2)=0","(0+24273)/(2)=12136.5","(0+0)/(2)=0","(0+5990)/(2)=2995","(39539.9+0)/(2)=19769.95","(3036+0)/(2)=1518","(16651+187543.7)/(2)=102097.35","(0+0)/(2)=0","(11655+108412.9)/(2)=60033.9"]
["S11","(0+0)/(2)=0","(0+0)/(2)=0","(0+0)/(2)=0","(923970.7+15612)/(2)=469791.35","(0+357106.5)/(2)=178553.25","(10575+0)/(2)=5287.5","(0+0)/(2)=0","(0+0)/(2)=0","(0+0)/(2)=0","(0+0)/(2)=0","(0+244318.7)/(2)=122159.35","(6538+0)/(2)=3269","(0+0)/(2)=0","(11215+155078.8)/(2)=83146.9","(0+0)/(2)=0","(0+0)/(2)=0","(0+0)/(2)=0","(0+0)/(2)=0","(0+24273)/(2)=12136.5","(0+0)/(2)=0","(0+5990)/(2)=2995","(39539.9+0)/(2)=19769.95","(3036+0)/(2)=1518","(16651+187543.7)/(2)=102097.35","(0+0)/(2)=0","(11655+108412.9)/(2)=60033.9"]
["S12","(0+0)/(2)=0","(0+0)/(2)=0","(0+0)/(2)=0","(923970.7+15612)/(2)=469791.35","(0+357106.5)/(2)=178553.25","(10575+0)/(2)=5287.5","(0+0)/(2)=0","(0+0)/(2)=0","(0+0)/(2)=0","(0+0)/(2)=0","(0+244318.7)/(2)=122159.35","(6538+0)/(2)=3269","(0+0)/(2)=0","(11215+155078.8)/(2)=83146.9","(0+0)/(2)=0","(0+0)/(2)=0","(0+0)/(2)=0","(0+0)/(2)=0","(0+24273)/(2)=12136.5","(0+0)/(2)=0","(0+5990)/(2)=2995","(39539.9+0)/(2)=19769.95","(3036+0)/(2)=1518","(16651+187543.7)/(2)=102097.35","(0+0)/(2)=0","(11655+108412.9)/(2)=60033.9"]
["S13","(0+0)/(2)=0","(0+0)/(2)=0","(0+0)/(2)=0","(923970.7+15612)/(2)=469791.35","(0+357106.5)/(2)=178553.25","(10575+0)/(2)=5287.5","(0+0)/(2)=0","(0+0)/(2)=0","(0+0)/(2)=0","(0+0)/(2)=0","(0+244318.7)/(2)=122159.35","(6538+0)/(2)=3269","(0+0)/(2)=0","(11215+155078.8)/(2)=83146.9","(0+0)/(2)=0","(0+0)/(2)=0","(0+0)/(2)=0","(0+0)/(2)=0","(0+24273)/(2)=12136.5","(0+0)/(2)=0","(0+0)/(2)=0","(39539.9+0)/(2)=19769.95","(3036+0)/(2)=1518","(16651+136645.8)/(2)=76648.4","(0+0)/(2)=0","(7734+104491.9)/(2)=56112.9"]
["S14","(0+0)/(2)=0","(0+0)/(2)=0","(0+0)/(2)=0","(923970.7+15612)/(2)=469791.35","(0+357106.5)/(2)=178553.25","(10575+0)/(2)=5287.5","(0+0)/(2)=0","(0+0)/(2)=0","(0+0)/(2)=0","(0+0)/(2)=0","(0+244318.7)/(2)=122159.35","(6538+0)/(2)=3269","(0+0)/(2)=0","(11215+155078.8)/(2)=83146.9","(0+0)/(2)=0","(0+0)/(2)=0","(0+0)/(2)=0","(0+0)/(2)=0","(0+24273)/(2)=12136.5","(0+0)/(2)=0","(0+0)/(2)=0","(39539.9+0)/(2)=19769.95","(3036+0)/(2)=1518","(16651+136645.8)/(2)=76648.4","(0+0)/(2)=0","(7734+104491.9)/(2)=56112.9"]
["S15","(0+0)/(2)=0","(0+0)/(2)=0","(0+0)/(2)=0","(923970.7+15612)/(2)=469791.35","(0+357106.5)/(2)=178553.25","(10575+0)/(2)=5287.5","(0+0)/(2)=0","(0+0)/(2)=0","(0+0)/(2)=0","(0+0)/(2)=0","(0+226049.7)/(2)=113024.85","(6538+0)/(2)=3269","(0+0)/(2)=0","(11215+155078.8)/(2)=83146.9","(0+0)/(2)=0","(0+0)/(2)=0","(0+0)/(2)=0","(0+0)/(2)=0","(0+24273)/(2)=12136.5","(0+0)/(2)=0","(0+0)/(2)=0","(39539.9+0)/(2)=19769.95","(3036+0)/(2)=1518","(16651+136645.8)/(2)=76648.4","(0+0)/(2)=0","(7734+104491.9)/(2)=56112.9"]
["S16","(0+0)/(2)=0","(0+0)/(2)=0","(0+0)/(2)=0","(923970.7+15612)/(2)=469791.35","(0+357106.5)/(2)=178553.25","(10575+0)/(2)=5287.5","(0+0)/(2)=0","(0+0)/(2)=0","(0+0)/(2)=0","(0+0)/(2)=0","(0+226049.7)/(2)=113024.85","(6538+0)/(2)=3269","(0+0)/(2)=0","(11215+155078.8)/(2)=83146.9","(0+0)/(2)=0","(0+0)/(2)=0","(0+0)/(2)=0","(0+0)/(2)=0","(0+24273)/(2)=12136.5","(0+0)/(2)=0","(0+0)/(2)=0","(39539.9+0)/(2)=19769.95","(3036+0)/(2)=1518","(16651+136645.8)/(2)=76648.4","(0+0)/(2)=0","(5459+104491.9)/(2)=54975.4"]
["S17","(0+0)/(2)=0","(0+0)/(2)=0","(0+0)/(2)=0","(923970.7+15612)/(2)=469791.35","(0+357106.5)/(2)=178553.25","(10575+0)/(2)=5287.5","(0+0)/(2)=0","(0+0)/(2)=0","(0+0)/(2)=0","(0+0)/(2)=0","(0+226049.7)/(2)=113024.85","(6538+0)/(2)=3269","(0+0)/(2)=0","(11215+155078.8)/(2)=83146.9","(0+0)/(2)=0","(0+0)/(2)=0","(0+0)/(2)=0","(0+0)/(2)=0","(0+24273)/(2)=12136.5","(0+0)/(2)=0","(0+0)/(2)=0","(39539.9+0)/(2)=19769.95","(3036+0)/(2)=1518","(16651+136645.8)/(2)=76648.4","(0+0)/(2)=0","(2678+53574.9)/(2)=28126.45"]
["S18","(0+0)/(2)=0","(0+0)/(2)=0","(0+0)/(2)=0","(923970.7+15612)/(2)=469791.35","(0+331769.5)/(2)=165884.75","(10575+0)/(2)=5287.5","(0+0)/(2)=0","(0+0)/(2)=0","(0+0)/(2)=0","(0+0)/(2)=0","(0+226049.7)/(2)=113024.85","(6538+0)/(2)=3269","(0+0)/(2)=0","(11215+155078.8)/(2)=83146.9","(0+0)/(2)=0","(0+0)/(2)=0","(0+0)/(2)=0","(0+0)/(2)=0","(0+24273)/(2)=12136.5","(0+0)/(2)=0","(0+0)/(2)=0","(39539.9+0)/(2)=19769.95","(3036+0)/(2)=1518","(16651+86783.9)/(2)=51717.45","(0+0)/(2)=0","(2678+53574.9)/(2)=28126.45"]
["S19","(0+0)/(2)=0","(0+0)/(2)=0","(0+0)/(2)=0","(923970.7+15612)/(2)=469791.35","(0+331769.5)/(2)=165884.75","(10575+0)/(2)=5287.5","(0+0)/(2)=0","(0+0)/(2)=0","(0+0)/(2)=0","(0+0)/(2)=0","(0+226049.7)/(2)=113024.85","(6538+0)/(2)=3269","(0+0)/(2)=0","(11215+155078.8)/(2)=83146.9","(0+0)/(2)=0","(0+0)/(2)=0","(0+0)/(2)=0","(0+0)/(2)=0","(0+24273)/(2)=12136.5","(0+0)/(2)=0","(0+0)/(2)=0","(39539.9+0)/(2)=19769.95","(3036+0)/(2)=1518","(12816+86783.9)/(2)=49799.95","(0+0)/(2)=0","(2678+53574.9)/(2)=28126.45"]
["S20","(0+0)/(2)=0","(0+0)/(2)=0","(0+0)/(2)=0","(923970.7+15612)/(2)=469791.35","(0+331769.5)/(2)=165884.75","(10575+0)/(2)=5287.5","(0+0)/(2)=0","(0+0)/(2)=0","(0+0)/(2)=0","(0+0)/(2)=0","(0+226049.7)/(2)=113024.85","(6538+0)/(2)=3269","(0+0)/(2)=0","(11215+155078.8)/(2)=83146.9","(0+0)/(2)=0","(0+0)/(2)=0","(0+0)/(2)=0","(0+0)/(2)=0","(0+24273)/(2)=12136.5","(0+0)/(2)=0","(0+0)/(2)=0","(39539.9+0)/(2)=19769.95","(3036+0)/(2)=1518","(12816+86783.9)/(2)=49799.95","(0+0)/(2)=0","(2678+0)/(2)=1339"]
["S21","(0+0)/(2)=0","(0+0)/(2)=0","(0+0)/(2)=0","(923970.7+15612)/(2)=469791.35","(0+331769.5)/(2)=165884.75","(10575+0)/(2)=5287.5","(0+0)/(2)=0","(0+0)/(2)=0","(0+0)/(2)=0","(0+0)/(2)=0","(0+226049.7)/(2)=113024.85","(6538+0)/(2)=3269","(0+0)/(2)=0","(11215+155078.8)/(2)=83146.9","(0+0)/(2)=0","(0+0)/(2)=0","(0+0)/(2)=0","(0+0)/(2)=0","(0+0)/(2)=0","(0+0)/(2)=0","(0+0)/(2)=0","(39539.9+0)/(2)=19769.95","(3036+0)/(2)=1518","(12816+86783.9)/(2)=49799.95","(0+0)/(2)=0","(0+0)/(2)=0"]
["S22","(0+0)/(2)=0","(0+0)/(2)=0","(0+0)/(2)=0","(923970.7+15612)/(2)=469791.35","(0+331769.5)/(2)=165884.75","(10575+0)/(2)=5287.5","(0+0)/(2)=0","(0+0)/(2)=0","(0+0)/(2)=0","(0+0)/(2)=0","(0+226049.7)/(2)=113024.85","(6538+0)/(2)=3269","(0+0)/(2)=0","(1622+0)/(2)=811","(0+0)/(2)=0","(0+0)/(2)=0","(0+0)/(2)=0","(0+0)/(2)=0","(0+0)/(2)=0","(0+0)/(2)=0","(0+0)/(2)=0","(39539.9+0)/(2)=19769.95","(3036+0)/(2)=1518","(12816+86783.9)/(2)=49799.95","(0+0)/(2)=0","(0+0)/(2)=0"]
["S23","(0+0)/(2)=0","(0+0)/(2)=0","(0+0)/(2)=0","(923970.7+15612)/(2)=469791.35","(0+198521.7)/(2)=99260.85","(10575+0)/(2)=5287.5","(0+0)/(2)=0","(0+0)/(2)=0","(0+0)/(2)=0","(0+0)/(2)=0","(0+226049.7)/(2)=113024.85","(6538+0)/(2)=3269","(0+0)/(2)=0","(1622+0)/(2)=811","(0+0)/(2)=0","(0+0)/(2)=0","(0+0)/(2)=0","(0+0)/(2)=0","(0+0)/(2)=0","(0+0)/(2)=0","(0+0)/(2)=0","(32471+0)/(2)=16235.5","(3036+0)/(2)=1518","(0+0)/(2)=0","(0+0)/(2)=0","(0+0)/(2)=0"]
["S24","(0+0)/(2)=0","(0+0)/(2)=0","(0+0)/(2)=0","(923970.7+0)/(2)=461985.35","(0+198521.7)/(2)=99260.85","(10575+0)/(2)=5287.5","(0+0)/(2)=0","(0+0)/(2)=0","(0+0)/(2)=0","(0+0)/(2)=0","(0+226049.7)/(2)=113024.85","(6538+0)/(2)=3269","(0+0)/(2)=0","(1622+0)/(2)=811","(0+0)/(2)=0","(0+0)/(2)=0","(0+0)/(2)=0","(0+0)/(2)=0","(0+0)/(2)=0","(0+0)/(2)=0","(0+0)/(2)=0","(32471+0)/(2)=16235.5","(3036+0)/(2)=1518","(0+0)/(2)=0","(0+0)/(2)=0","(0+0)/(2)=0"]
["S25","(0+0)/(2)=0","(0+0)/(2)=0","(0+0)/(2)=0","(923970.7+0)/(2)=461985.35","(0+198521.7)/(2)=99260.85","(10575+0)/(2)=5287.5","(0+0)/(2)=0","(0+0)/(2)=0","(0+0)/(2)=0","(0+0)/(2)=0","(0+226049.7)/(2)=113024.85","(6538+0)/(2)=3269","(0+0)/(2)=0","(0+0)/(2)=0","(0+0)/(2)=0","(0+0)/(2)=0","(0+0)/(2)=0","(0+0)/(2)=0","(0+0)/(2)=0","(0+0)/(2)=0","(0+0)/(2)=0","(32471+0)/(2)=16235.5","(0+0)/(2)=0","(0+0)/(2)=0","(0+0)/(2)=0","(0+0)/(2)=0"]
["S26","(0+0)/(2)=0","(0+0)/(2)=0","(0+0)/(2)=0","(923970.7+0)/(2)=461985.35","(0+0)/(2)=0","(10575+0)/(2)=5287.5","(0+0)/(2)=0","(0+0)/(2)=0","(0+0)/(2)=0","(0+0)/(2)=0","(0+226049.7)/(2)=113024.85","(0+0)/(2)=0","(0+0)/(2)=0","(0+0)/(2)=0","(0+0)/(2)=0","(0+0)/(2)=0","(0+0)/(2)=0","(0+0)/(2)=0","(0+0)/(2)=0","(0+0)/(2)=0","(0+0)/(2)=0","(32471+0)/(2)=16235.5","(0+0)/(2)=0","(0+0)/(2)=0","(0+0)/(2)=0","(0+0)/(2)=0"]
["S27","(0+0)/(2)=0","(0+0)/(2)=0","(0+0)/(2)=0","(923970.7+0)/(2)=461985.35","(0+0)/(2)=0","(10575+0)/(2)=5287.5","(0+0)/(2)=0","(0+0)/(2)=0","(0+0)/(2)=0","(0+0)/(2)=0","(0+0)/(2)=0","(0+0)/(2)=0","(0+0)/(2)=0","(0+0)/(2)=0","(0+0)/(2)=0","(0+0)/(2)=0","(0+0)/(2)=0","(0+0)/(2)=0","(0+0)/(2)=0","(0+0)/(2)=0","(0+0)/(2)=0","(32471+0)/(2)=16235.5","(0+0)/(2)=0","(0+0)/(2)=0","(0+0)/(2)=0","(0+0)/(2)=0"]
["S28","(0+0)/(2)=0","(0+0)/(2)=0","(0+0)/(2)=0","(923970.7+0)/(2)=461985.35","(0+0)/(2)=0","(0+0)/(2)=0","(0+0)/(2)=0","(0+0)/(2)=0","(0+0)/(2)=0","(0+0)/(2)=0","(0+0)/(2)=0","(0+0)/(2)=0","(0+0)/(2)=0","(0+0)/(2)=0","(0+0)/(2)=0","(0+0)/(2)=0","(0+0)/(2)=0","(0+0)/(2)=0","(0+0)/(2)=0","(0+0)/(2)=0","(0+0)/(2)=0","(32471+0)/(2)=16235.5","(0+0)/(2)=0","(0+0)/(2)=0","(0+0)/(2)=0","(0+0)/(2)=0"]
["S29","(0+0)/(2)=0","(0+0)/(2)=0","(0+0)/(2)=0","(923970.7+0)/(2)=461985.35","(0+0)/(2)=0","(0+0)/(2)=0","(0+0)/(2)=0","(0+0)/(2)=0","(0+0)/(2)=0","(0+0)/(2)=0","(0+0)/(2)=0","(0+0)/(2)=0","(0+0)/(2)=0","(0+0)/(2)=0","(0+0)/(2)=0","(0+0)/(2)=0","(0+0)/(2)=0","(0+0)/(2)=0","(0+0)/(2)=0","(0+0)/(2)=0","(0+0)/(2)=0","(0+0)/(2)=0","(0+0)/(2)=0","(0+0)/(2)=0","(0+0)/(2)=0","(0+0)/(2)=0"]
[]
["Lépcsôk(2)","X(A1)","X(A2)","X(A3)","X(A4)","X(A5)","X(A6)","X(A7)","X(A8)","X(A9)","X(A10)","X(A11)","X(A12)","X(A13)","X(A14)","X(A15)","X(A16)","X(A17)","X(A18)","X(A19)","X(A20)","X(A21)","X(A22)","X(A23)","X(A24)","X(A25)","X(A26)"]
["S1",0,0,170619.8,469791.4,198886.2,5287.5,0,0,271002.59999999998,0,122159.3,3269,0,286827.59999999998,0,0,145388.79999999999,146610.29999999999,12136.5,0,91553.4,19770,1518,261526.6,0,60033.9]
["S2",0,0,170619.8,469791.4,198886.2,5287.5,0,0,0,0,122159.3,3269,0,102979.9,0,0,101947.9,146610.29999999999,12136.5,0,2995,19770,1518,261526.6,0,60033.9]
["S3",0,0,167702.29999999999,469791.4,198886.2,5287.5,0,0,0,0,122159.3,3269,0,102979.9,0,0,0,142873.79999999999,12136.5,0,2995,19770,1518,261526.6,0,60033.9]
["S4",0,0,155572.29999999999,469791.4,198886.2,5287.5,0,0,0,0,122159.3,3269,0,102979.9,0,0,0,26673,12136.5,0,2995,19770,1518,261526.6,0,60033.9]
["S5",0,0,20019,469791.4,198886.2,5287.5,0,0,0,0,122159.3,3269,0,102979.9,0,0,0,26673,12136.5,0,2995,19770,1518,137016.79999999999,0,60033.9]
["S6",0,0,20019,469791.4,198886.2,5287.5,0,0,0,0,122159.3,3269,0,84538.9,0,0,0,26673,12136.5,0,2995,19770,1518,102097.4,0,60033.9]
["S7",0,0,20019,469791.4,198886.2,5287.5,0,0,0,0,122159.3,3269,0,83146.899999999994,0,0,0,26673,12136.5,0,2995,19770,1518,102097.4,0,60033.9]
["S8",0,0,20019,469791.4,198886.2,5287.5,0,0,0,0,122159.3,3269,0,83146.899999999994,0,0,0,26673,12136.5,0,2995,19770,1518,102097.4,0,60033.9]
["S9",0,0,20019,469791.4,195807.7,5287.5,0,0,0,0,122159.3,3269,0,83146.899999999994,0,0,0,26673,12136.5,0,2995,19770,1518,102097.4,0,60033.9]
["S10",0,0,0,469791.4,178553.3,5287.5,0,0,0,0,122159.3,3269,0,83146.899999999994,0,0,0,0,12136.5,0,2995,19770,1518,102097.4,0,60033.9]
["S11",0,0,0,469791.4,178553.3,5287.5,0,0,0,0,122159.3,3269,0,83146.899999999994,0,0,0,0,12136.5,0,2995,19770,1518,102097.4,0,60033.9]
["S12",0,0,0,469791.4,178553.3,5287.5,0,0,0,0,122159.3,3269,0,83146.899999999994,0,0,0,0,12136.5,0,2995,19770,1518,102097.4,0,60033.9]
["S13",0,0,0,469791.4,178553.3,5287.5,0,0,0,0,122159.3,3269,0,83146.899999999994,0,0,0,0,12136.5,0,0,19770,1518,76648.399999999994,0,56112.9]
["S14",0,0,0,469791.4,178553.3,5287.5,0,0,0,0,122159.3,3269,0,83146.899999999994,0,0,0,0,12136.5,0,0,19770,1518,76648.399999999994,0,56112.9]
["S15",0,0,0,469791.4,178553.3,5287.5,0,0,0,0,113024.8,3269,0,83146.899999999994,0,0,0,0,12136.5,0,0,19770,1518,76648.399999999994,0,56112.9]
["S16",0,0,0,469791.4,178553.3,5287.5,0,0,0,0,113024.8,3269,0,83146.899999999994,0,0,0,0,12136.5,0,0,19770,1518,76648.399999999994,0,54975.4]
["S17",0,0,0,469791.4,178553.3,5287.5,0,0,0,0,113024.8,3269,0,83146.899999999994,0,0,0,0,12136.5,0,0,19770,1518,76648.399999999994,0,28126.5]
["S18",0,0,0,469791.4,165884.79999999999,5287.5,0,0,0,0,113024.8,3269,0,83146.899999999994,0,0,0,0,12136.5,0,0,19770,1518,51717.4,0,28126.5]
["S19",0,0,0,469791.4,165884.79999999999,5287.5,0,0,0,0,113024.8,3269,0,83146.899999999994,0,0,0,0,12136.5,0,0,19770,1518,49799.9,0,28126.5]
["S20",0,0,0,469791.4,165884.79999999999,5287.5,0,0,0,0,113024.8,3269,0,83146.899999999994,0,0,0,0,12136.5,0,0,19770,1518,49799.9,0,1339]
["S21",0,0,0,469791.4,165884.79999999999,5287.5,0,0,0,0,113024.8,3269,0,83146.899999999994,0,0,0,0,0,0,0,19770,1518,49799.9,0,0]
["S22",0,0,0,469791.4,165884.79999999999,5287.5,0,0,0,0,113024.8,3269,0,811,0,0,0,0,0,0,0,19770,1518,49799.9,0,0]
["S23",0,0,0,469791.4,99260.9,5287.5,0,0,0,0,113024.8,3269,0,811,0,0,0,0,0,0,0,16235.5,1518,0,0,0]
["S24",0,0,0,461985.4,99260.9,5287.5,0,0,0,0,113024.8,3269,0,811,0,0,0,0,0,0,0,16235.5,1518,0,0,0]
["S25",0,0,0,461985.4,99260.9,5287.5,0,0,0,0,113024.8,3269,0,0,0,0,0,0,0,0,0,16235.5,0,0,0,0]
["S26",0,0,0,461985.4,0,5287.5,0,0,0,0,113024.8,0,0,0,0,0,0,0,0,0,0,16235.5,0,0,0,0]
["S27",0,0,0,461985.4,0,5287.5,0,0,0,0,0,0,0,0,0,0,0,0,0,0,0,16235.5,0,0,0,0]
["S28",0,0,0,461985.4,0,0,0,0,0,0,0,0,0,0,0,0,0,0,0,0,0,16235.5,0,0,0,0]
["S29",0,0,0,461985.4,0,0,0,0,0,0,0,0,0,0,0,0,0,0,0,0,0,0,0,0,0,0]
[]
["COCO:STD","X(A1)","X(A2)","X(A3)","X(A4)","X(A5)","X(A6)","X(A7)","X(A8)","X(A9)","X(A10)","X(A11)","X(A12)","X(A13)","X(A14)","X(A15)","X(A16)","X(A17)","X(A18)","X(A19)","X(A20)","X(A21)","X(A22)","X(A23)","X(A24)","X(A25)","X(A26)","Becslés","Tény+0","Delta","Delta/Tény"]
["O1",0,0,0,469791.4,198886.2,5287.5,0,0,0,0,122159.3,3269,0,102979.9,0,0,0,26673,12136.5,0,2995,19770,1518,0,0,60033.9,1025499.6,1025499,-0.6,0]
["O2",0,0,0,469791.4,198886.2,5287.5,0,0,0,0,122159.3,3269,0,102979.9,0,0,0,26673,12136.5,0,2995,19770,1518,0,0,60033.9,1025499.6,1025499,-0.6,0]
["O3",0,0,0,469791.4,178553.3,5287.5,0,0,0,0,0,0,0,83146.899999999994,0,0,0,0,0,0,0,19770,1518,261526.6,0,0,1019593.6,1019594,0.4,0]
["O4",0,0,0,461985.4,178553.3,5287.5,0,0,0,0,122159.3,0,0,83146.899999999994,0,0,0,146610.29999999999,0,0,0,19770,0,0,0,0,1017512.6,1017514,1.4,0]
["O5",0,0,167702.29999999999,461985.4,99260.9,5287.5,0,0,0,0,122159.3,3269,0,84538.9,0,0,0,0,0,0,2995,16235.5,0,0,0,60033.9,1023467.6,1023468,0.4,0]
["O6",0,0,0,469791.4,165884.79999999999,5287.5,0,0,0,0,113024.8,0,0,83146.899999999994,0,0,0,26673,0,0,0,19770,0,76648.399999999994,0,60033.9,1020260.6,1020261,0.4,0]
["O7",0,0,20019,469791.4,99260.9,5287.5,0,0,0,0,122159.3,3269,0,0,0,0,0,0,12136.5,0,0,19770,0,261526.6,0,1339,1014559.1,1014559,-0.1,0]
["O8",0,0,0,469791.4,165884.79999999999,5287.5,0,0,0,0,122159.3,3269,0,83146.899999999994,0,0,0,0,12136.5,0,0,16235.5,1518,76648.399999999994,0,60033.9,1016111.1,1016111,-0.1,0]
["O9",0,0,170619.8,461985.4,0,5287.5,0,0,0,0,113024.8,3269,0,102979.9,0,0,0,146610.29999999999,12136.5,0,2995,0,1518,0,0,0,1020426.1,1020426,-0.1,0]
["O10",0,0,20019,469791.4,99260.9,5287.5,0,0,0,0,122159.3,3269,0,83146.899999999994,0,0,0,26673,12136.5,0,0,16235.5,1518,102097.4,0,54975.4,1016569.6,1016569,-0.6,0]
["O11",0,0,0,469791.4,198886.2,5287.5,0,0,0,0,122159.3,3269,0,83146.899999999994,0,0,0,0,12136.5,0,2995,19770,1518,76648.399999999994,0,28126.5,1023734.6,1023735,0.4,0]
["O12",0,0,0,469791.4,165884.79999999999,5287.5,0,0,0,0,0,3269,0,811,0,0,0,0,0,0,91553.4,19770,1518,261526.6,0,0,1019411.6,1019411,-0.6,0]
["O13",0,0,170619.8,469791.4,198886.2,5287.5,0,0,0,0,113024.8,3269,0,0,0,0,0,0,12136.5,0,0,16235.5,1518,0,0,28126.5,1018895.1,1018895,-0.1,0]
["O14",0,0,0,469791.4,198886.2,5287.5,0,0,0,0,122159.3,3269,0,83146.899999999994,0,0,0,0,12136.5,0,2995,19770,1518,102097.4,0,0,1021057.1,1021057,-0.1,0]
["O15",0,0,0,469791.4,178553.3,5287.5,0,0,0,0,113024.8,3269,0,83146.899999999994,0,0,0,0,12136.5,0,0,19770,1518,76648.399999999994,0,56112.9,1019258.6,1019259,0.4,0]
["O16",0,0,0,469791.4,198886.2,5287.5,0,0,0,0,113024.8,3269,0,0,0,0,0,142873.79999999999,12136.5,0,2995,19770,1518,0,0,60033.9,1029586.1,1029586,-0.1,0]
["O17",0,0,0,469791.4,0,0,0,0,0,0,113024.8,3269,0,83146.899999999994,0,0,0,0,12136.5,0,2995,19770,1518,261526.6,0,56112.9,1023291.1,1023291,-0.1,0]
["O18",0,0,0,461985.4,165884.79999999999,0,0,0,271002.59999999998,0,0,0,0,811,0,0,0,0,0,0,0,16235.5,0,102097.4,0,0,1018016.6,1018017,0.4,0]
["O19",0,0,0,469791.4,178553.3,5287.5,0,0,0,0,113024.8,3269,0,83146.899999999994,0,0,0,26673,12136.5,0,2995,19770,1518,49799.9,0,60033.9,1025999.1,1025999,-0.1,0]
["O20",0,0,20019,469791.4,178553.3,5287.5,0,0,0,0,113024.8,3269,0,83146.899999999994,0,0,0,0,12136.5,0,2995,19770,1518,49799.9,0,60033.9,1019345.1,1019345,-0.1,0]
["O21",0,0,0,461985.4,0,5287.5,0,0,0,0,122159.3,3269,0,286827.59999999998,0,0,0,0,0,0,0,19770,1518,102097.4,0,28126.5,1031040.6,1031041,0.4,0]
["O22",0,0,20019,461985.4,198886.2,5287.5,0,0,0,0,113024.8,3269,0,83146.899999999994,0,0,0,0,12136.5,0,0,19770,1518,49799.9,0,60033.9,1028877.1,1028877,-0.1,0]
["O23",0,0,20019,469791.4,178553.3,5287.5,0,0,0,0,113024.8,3269,0,102979.9,0,0,0,0,0,0,0,19770,1518,51717.4,0,60033.9,1025964.1,1025964,-0.1,0]
["O24",0,0,155572.29999999999,469791.4,0,5287.5,0,0,0,0,113024.8,3269,0,0,0,0,145388.79999999999,0,0,0,0,19770,1518,102097.4,0,0,1015719.1,1015719,-0.1,0]
["O25",0,0,0,469791.4,165884.79999999999,5287.5,0,0,0,0,122159.3,3269,0,83146.899999999994,0,0,0,0,12136.5,0,0,19770,1518,137016.79999999999,0,0,1019980.1,1019980,-0.1,0]
["O26",0,0,0,469791.4,198886.2,5287.5,0,0,0,0,122159.3,3269,0,0,0,0,0,26673,12136.5,0,2995,16235.5,1518,102097.4,0,56112.9,1017161.6,1017161,-0.6,0]
["O27",0,0,0,469791.4,178553.3,5287.5,0,0,0,0,122159.3,3269,0,811,0,0,101947.9,0,12136.5,0,0,19770,1518,102097.4,0,0,1017341.1,1017341,-0.1,0]
["O28",0,0,0,469791.4,178553.3,5287.5,0,0,0,0,113024.8,3269,0,83146.899999999994,0,0,0,0,12136.5,0,0,19770,1518,76648.399999999994,0,60033.9,1023179.6,1023180,0.4,0]
["O29",0,0,0,469791.4,195807.7,5287.5,0,0,0,0,122159.3,3269,0,83146.899999999994,0,0,0,0,12136.5,0,0,19770,1518,49799.9,0,60033.9,1022720.1,1022720,-0.1,0]
[]
["S1 összeg:",2266380.9]
["S29 összeg:",461985.4]
["Becslés összeg:",29620077.899999999]
["Tény összeg:",29620078]
["Tény-becslés eltérés:",-0.1]
["Tény négyzetösszeg:"]
["Becslés négyzetösszeg:"]
["Négyzetösszeg hiba:",0]
[]
["Open url"]
[]
["Maximális memória használat: 1.52 Mb"]
["A futtatás idôtartama: 0.39 mp (0.01 p)"]

{"sheet":"2019","index":8,"n_rows":236,"n_cols":32,"rows_kept":236,"cut":false,"hidden":false,"merged":[]}
["Területi egység neve","Területi egység szintje","Év","Lakosság","Belgyógyászat","Sebészet","Baleseti sebészet","Szülészet és nőgyógyászat","Csecsemő- és gyermek-gyógyászat","Fül-orr-gégészet","Szemészet","Bőrgyógyászat és nemibeteg-ellátás","Neurológia","Ortopédia","Urológia","Onkológia","Fogászat","Reumatológia","Aneszteziológiai és intenzív betegellátás","Pszichiátria","Nukleáris medicina (izotóp-diagnosztika és \n-terápia)","Fizioterápia","Patológia és kórszövettan","Ultrahang-diagnosztika és -terápia","Tomográfia","Röntgen-diagnosztika és -terápia","Laboratóriumi diagnosztika","Sürgősségi betegellátás, oxyológia","Kardiológia","Orvosi rehabilitáció","Tüdő-gyógyászat"]
["Budapest + Pest","főváros, régió + megye, régió",2019,3031160,1445113,1016314,489287,877333,548663,761157,864364,638755,601560,419938,537373,369662,2134432,1002923,125933,554108,51923,2342666,311437,592127,351982,1256714,5647901,256016,957766,163533,771074]
["Közép-Magyarország","nagyrégió",2019,3031160,1445113,1016314,489287,877333,548663,761157,864364,638755,601560,419938,537373,369662,2134432,1002923,125933,554108,51923,2342666,311437,592127,351982,1256714,5647901,256016,957766,163533,771074]
["Fejér","megye",2019,417712,128062,81549,69004,96264,51340,78493,80281,37283,62600,38180,39873,21426,252857,78527,17586,49650,2114,293581,34443,87336,29080,173075,490952,75964,50190,3363,69988]
["Komárom-Esztergom","megye",2019,299207,85485,69588,39775,67211,36439,48693,53035,50368,42661,17099,40187,12285,135288,71833,6283,37122,6468,303957,21510,52407,21113,115982,296260,33243,32012,2053,52010]
["Veszprém","megye",2019,341317,98881,85829,69694,72413,30445,66523,67354,37138,62230,10969,46058,25427,174875,95283,11267,40125,3702,258697,25347,60289,34104,121472,249660,37950,55790,32419,80763]
["Közép-Dunántúl","régió",2019,1058236,312428,236966,178473,235888,118224,193709,200670,124789,167491,66248,126118,59138,563020,245643,35136,126897,12284,856235,81300,200032,84297,410529,1036872,147157,137992,37835,202761]
["Győr-Moson-Sopron","megye",2019,467144,121529,101647,95002,112485,44327,62586,72161,42955,54747,33152,68424,44180,226769,63146,11942,55284,2912,274729,59578,82899,27628,175801,455030,79483,51465,8929,68729]
["Vas","megye",2019,253551,80820,56218,35385,56753,24090,32368,53233,30347,29209,12053,33235,36216,117817,68043,6490,13891,1156,143256,22288,21855,21526,79639,317207,28172,14097,12504,42628]
["Zala","megye",2019,268648,87568,45432,53469,58078,25652,43914,53938,25807,41492,28721,33823,21445,153127,94611,8338,25569,1947,314772,24234,47495,27688,87718,343968,39261,46114,3791,54558]
["Nyugat-Dunántúl","régió",2019,989343,289917,203297,183856,227316,94069,138868,179332,99109,125448,73926,135482,101841,497713,225800,26770,94744,6015,732757,106100,152249,76842,343158,1116205,146916,111676,25224,165915]
["Baranya","megye",2019,360704,157258,114372,52019,105616,86674,72058,80247,76538,71449,35183,67650,67740,367820,91426,11554,81395,2954,229427,46442,97297,41426,140446,690606,47313,99432,7909,83830]
["Somogy","megye",2019,301429,104804,112399,29348,77705,34485,46495,57041,47334,60025,30117,26287,41201,183015,54357,6520,35416,1424,164129,24312,59268,37581,111963,425905,50332,45651,1996,55645]
["Tolna","megye",2019,217463,84754,40707,58041,63924,36660,40044,45963,34546,38082,20542,23452,17620,120771,35231,8331,18375,3221,96832,20112,35345,13083,72813,279017,11435,40310,3859,41806]
["Dél-Dunántúl","régió",2019,879596,346816,267478,139408,247245,157819,158597,183251,158418,169556,85842,117389,126561,671606,181014,26405,135186,7599,490388,90866,191910,92090,325222,1395528,109080,185393,13764,181281]
["Dunántúl","nagyrégió",2019,2927175,949161,707741,501737,710449,370112,491174,563253,382316,462495,226016,378989,287540,1732339,652457,88311,356827,25898,2079380,278266,544191,253229,1078909,3548605,403153,435061,76823,549957]
["Borsod-Abaúj-Zemplén","megye",2019,642447,231746,165501,93587,171543,94100,105692,133203,78165,104706,49382,64360,64484,418109,102853,23303,73810,4463,610807,56043,180407,69431,243730,740205,41236,71308,24380,192601]
["Heves","megye",2019,294609,94925,64266,40013,87345,21126,34336,45870,25306,61409,28787,30841,21263,193798,66377,13367,33072,2206,135032,24802,52243,30287,117780,397146,76746,32987,7386,64450]
["Nógrád","megye",2019,189304,68356,34827,27449,37575,18873,24573,33406,23145,44879,10806,11720,7729,106884,32017,3671,12622,1330,116490,13981,37949,16660,64643,176431,31211,16245,1673,35702]
["Észak-Magyarország","régió",2019,1126360,395027,264594,161049,296463,134099,164601,212479,126616,210994,88975,106921,93476,718791,201247,40341,119504,7999,862329,94826,270599,116378,426153,1313782,149193,120540,33439,292753]
["Hajdú-Bihar","megye",2019,527989,305432,138387,113659,187987,73947,116501,117165,73543,117659,57435,66765,89474,497245,134005,26649,69751,6860,405066,50305,168199,56194,255189,999179,72499,61037,67568,93931]
["Jász-Nagykun-Szolnok","megye",2019,370007,142431,81009,63369,79469,25385,66001,46623,49699,46805,17844,50835,25269,214257,169718,6962,37743,2228,230081,21477,62900,8453,148149,530194,61589,47671,8522,108808]
["Szabolcs-Szatmár-Bereg","megye",2019,552964,223442,74874,113474,110408,79200,94753,84698,64111,69383,38519,54513,38153,344655,110981,18495,62608,6835,210618,49997,109245,53827,207282,792249,86645,64114,25807,156735]
["Észak-Alföld","régió",2019,1450960,671305,294270,290502,377864,178532,277255,248486,187353,233847,113798,172113,152896,1056157,414704,52106,170102,15923,845765,121779,340344,118474,610620,2321622,220733,172822,101897,359474]
["Bács-Kiskun","megye",2019,503825,167671,81593,114552,117246,32555,68080,81057,89287,72291,24400,55368,59860,310148,79318,14134,70352,65516,327227,40334,90529,31532,203865,662729,79780,61571,1801,74256]
["Békés","megye",2019,334264,116666,74458,41628,76251,34650,88233,56139,45195,60503,24094,44692,34366,211847,64517,9838,59357,4407,196580,29567,82035,31220,125902,451132,59921,54148,3604,69761]
["Csongrád-Csanád","megye",2019,399012,225378,136354,67014,149619,88557,80066,100583,82192,87792,42037,73727,44239,290950,70508,14620,82471,21419,327038,52891,99718,46215,142080,841738,63124,73825,10733,68151]
["Dél-Alföld","régió",2019,1237101,509715,292405,223194,343116,155762,236379,237779,216674,220586,90531,173787,138465,812945,214343,38592,212180,91342,850845,122792,272282,108967,471847,1955599,202825,189544,16138,212168]
["Alföld és Észak","nagyrégió",2019,3814421,1576047,851269,674745,1017443,468393,678235,698744,530643,665427,293304,452821,384837,2587893,830294,131039,501786,115264,2558939,339397,883225,343819,1508620,5591003,572751,482906,151474,864395]
["Ország összesen","ország",2019,9772756,3970321,2575324,1665769,2605225,1387168,1930566,2126361,1551714,1729482,939258,1369183,1042039,6454664,2485674,345283,1412721,193085,6980985,929100,2019543,949030,3844243,14787509,1231920,1875733,391830,2185426]
[]
[null,null,null,null,{"$f":"E2/$D2","v":0.47675246440306679},{"$f":"F2/$D2","v":0.33528880032726743},0.16141906068963696,0.28943803692315812,0.18100760105042293,0.25111079586692886,0.28515947689993271,0.21072955568165322,0.1984586758864593,0.13854036078596974,0.17728295438050121,0.1219539714168833,0.70416342258409326,0.3308710196756357,4.1546140751395504E-2,0.18280394304490691,1.7129745707913802E-2,0.77286121484844084,0.10274515367054197,0.19534666596286571,0.11612122091872419,0.41459837158051704,1.8632803943044907,8.4461394317686955E-2,0.31597342271605589,5.3950632761055176E-2,0.25438248063447655,{"$f":"RANK(AF1,AF$32:AF$60,0)","v":0}]
[null,null,null,null,{"$f":"E3/$D3","v":0.47675246440306679},0.33528880032726743,0.16141906068963696,0.28943803692315812,0.18100760105042293,0.25111079586692886,0.28515947689993271,0.21072955568165322,0.1984586758864593,0.13854036078596974,0.17728295438050121,0.1219539714168833,0.70416342258409326,0.3308710196756357,4.1546140751395504E-2,0.18280394304490691,1.7129745707913802E-2,0.77286121484844084,0.10274515367054197,0.19534666596286571,0.11612122091872419,0.41459837158051704,1.8632803943044907,8.4461394317686955E-2,0.31597342271605589,5.3950632761055176E-2,0.25438248063447655]
[null,null,null,null,{"$f":"E4/$D4","v":0.30657965296663731},0.1952278124640901,0.16519515838663959,0.23045543340866434,0.1229076492894626,0.18791176695905312,0.19219222813804726,8.9255276362661354E-2,0.14986402114375455,9.1402688934002371E-2,9.5455720687938103E-2,5.1293714329490175E-2,0.60533812770521311,0.18799316275328457,4.2100777569234304E-2,0.11886179951737082,5.0609032060366949E-3,0.70283113724288504,8.2456333550388783E-2,0.20908185544106944,6.9617344007354351E-2,0.41434050254720955,1.1753361167502969,0.18185735626460336,0.1201545562492818,8.0510016470678354E-3,0.16755084843145515]
[null,null,null,null,{"$f":"E5/$D5","v":0.28570521411597993},0.23257477264903562,0.13293472412075921,0.22463043979586039,0.1217852523503795,0.16274017653330303,0.17725186910734039,0.16833830759307103,0.14258022038254453,5.7147727158789734E-2,0.13431169725307229,4.1058531384626694E-2,0.45215519690381573,0.24007793935302316,2.0998840267774484E-2,0.12406795295564609,2.1617141310196621E-2,1.015875297035163,7.1890029310811579E-2,0.17515298773090202,7.056318869545164E-2,0.38763130541731977,0.99015063150260518,0.1111036840715625,0.10698947551360764,6.8614704869872697E-3,0.17382614711554209]
[null,null,null,null,{"$f":"E6/$D6","v":0.28970429249055862},0.25146418139149235,0.2041914115030895,0.21215761301077884,8.9198604230085229E-2,0.1949009278764316,0.19733561469249994,0.1088079410049895,0.18232317757392688,3.2137280006562817E-2,0.13494200406074119,7.4496728847376487E-2,0.51235361848369698,0.27916277243735294,3.3010368660219093E-2,0.11755933633543011,1.0846222133676319E-2,0.75793763568764516,7.4262342631629841E-2,0.17663638201437373,9.9918843772797722E-2,0.35589202998971631,0.73146078279136406,0.11118696109481802,0.1634550872063214,9.498208410363386E-2,0.23662167427933564]
[null,null,null,null,{"$f":"E7/$D7","v":0.2952347113498312},0.22392547598078311,0.16865141613023937,0.22290679961747664,0.11171799107193481,0.18304896072331692,0.18962688852014106,0.11792171122509534,0.15827376880015423,6.2602292872289356E-2,0.11917757475648154,5.5883564724692789E-2,0.5320363321603121,0.23212497023348289,3.3202423655970877E-2,0.11991370544944606,1.1607996703948836E-2,0.80911535801087853,7.6825963206694908E-2,0.18902399842757192,7.9658034691694482E-2,0.38793709531711262,0.97981168661810791,0.13905877327930632,0.13039813425360694,3.5752894439425607E-2,0.19160281827494055]
[null,null,null,null,{"$f":"E8/$D8","v":0.26015318616957511},0.21759243402462625,0.20336769818300138,0.24079298888565409,9.4889370301234732E-2,0.133975819019403,0.15447271077012656,9.1952374428441772E-2,0.11719512612813179,7.0967410477283235E-2,0.14647303615159352,9.4574692172006924E-2,0.48543703868614391,0.1351745928450328,2.5563851831555153E-2,0.11834466460020893,6.2336238932748792E-3,0.58810345418115184,0.12753669104173446,0.17745919887657768,5.914236295446372E-2,0.37633149521346737,0.97406795335057283,0.17014667854023599,0.11016945524292296,1.9114020516157758E-2,0.1471259397530526]
[null,null,null,null,{"$f":"E9/$D9","v":0.31875244033744693},0.22172265145868089,0.13955772211507744,0.22383268060469097,9.5010471266135807E-2,0.1276587353234655,0.20994987201785834,0.11968795232517324,0.11519970341272565,4.753678747076525E-2,0.13107816573391545,0.14283516925588935,0.46466785774853975,0.26836021155507178,2.5596428331972659E-2,5.4785822181730698E-2,4.5592405472666252E-3,0.56499875764639063,8.7903419824808426E-2,8.6195676609439525E-2,8.4898107284136132E-2,0.31409460029737607,1.2510579725577891,0.11110979645120705,5.5598282002437382E-2,4.9315522320953181E-2,0.16812396717031289]
[null,null,null,null,{"$f":"E10/$D10","v":0.32595813108603078},0.16911348679312707,0.19902995741639617,0.21618623626455435,9.5485542419820726E-2,0.16346297013191985,0.20077573627944373,9.6062505583514493E-2,0.15444745540633095,0.1069094130609571,0.12590080700396059,7.9825645454274743E-2,0.56999121527053986,0.3521745927756767,3.1036895863732469E-2,9.5176587951520203E-2,7.2474018045918824E-3,1.1716893481432953,9.0207260057770758E-2,0.17679268038474139,0.10306423275066258,0.32651648253476667,1.2803668741252494,0.14614290819213246,0.17165212471337959,1.4111402281051785E-2,0.20308358893421877]
[null,null,null,null,{"$f":"E11/$D11","v":0.29303992649667504},0.20548687361208398,0.18583645914510943,0.22976460135665791,9.5082291985691514E-2,0.14036385763077114,0.18126372754444112,0.10017658183258991,0.12679930014160912,7.4722315718613264E-2,0.13694138433283504,0.10293801037658325,0.50307426241455189,0.2282322713154083,2.7058360952672632E-2,9.5764562947329698E-2,6.0797923470424309E-3,0.74065010820312061,0.1072428874515714,0.15388899501992737,7.7669726272890191E-2,0.34685442763530949,1.1282285314597666,0.14849854903708826,0.11287895098060026,2.5495707757572449E-2,0.16770220237066416]
[null,null,null,null,{"$f":"E12/$D12","v":0.43597520404542228},0.31707993257629524,0.14421520138396027,0.29280518097941804,0.24029120830376152,0.19977044889992904,0.22247327448545068,0.21219060503903478,0.19808208392476934,9.7539811036195884E-2,0.18754990241305891,0.18779941447835344,1.0197280872959547,0.25346544535131299,3.2031804471256212E-2,0.22565593949609652,8.1895404542228524E-3,0.63605338449254789,0.12875377040454222,0.26974194907735982,0.11484763129879347,0.3893663502484031,1.9146058818310858,0.13116849272533712,0.27566092973740242,2.1926565826827536E-2,0.23240662704045423]
[null,null,null,null,{"$f":"E13/$D13","v":0.34769050091397974},0.37288714755381863,9.7362894744699419E-2,0.25778873300180144,0.11440505060893279,0.15424859585507697,0.18923527596880194,0.15703200421989921,0.19913478796001713,9.9914075951550774E-2,8.7207932879716288E-2,0.13668558765082325,0.60715790451482765,0.18033102322603334,2.1630300999572038E-2,0.1174936718099453,4.7241638992930341E-3,0.54450301729428818,8.065580949410972E-2,0.19662341712310361,0.12467612605290135,0.37144070411274299,1.4129529673654493,0.16697796164270856,0.15144859983611397,6.6217915329978205E-3,0.18460400293269724]
[null,null,null,null,{"$f":"E14/$D14","v":0.38973986379292108},0.18719046458477995,0.26690057618997254,0.29395345415082108,0.16858040218335993,0.18414167007720852,0.21136009344118309,0.15885920823312472,0.17511944560683887,9.4462046417091647E-2,0.1078436331697806,8.1025277863360667E-2,0.555363441137113,0.16200916937593982,3.8309965373419845E-2,8.4497132845587519E-2,1.4811715096361221E-2,0.44528034654171056,9.2484698546419386E-2,0.16253339648583898,6.0161958586058321E-2,0.33482937327269469,1.2830550484450229,5.2583657909621405E-2,0.18536486666697324,1.7745547518428422E-2,0.1922441978635446]
[null,null,null,null,{"$f":"E15/$D15","v":0.39429010591225971},0.30409187854424075,0.15849094356954785,0.28108927280251389,0.179422143802382,0.18030664077599262,0.20833541762354535,0.18010313825892796,0.19276576973974416,9.7592531116558051E-2,0.13345786019945521,0.14388537464927081,0.7635391702554355,0.20579220460302231,3.0019463480961715E-2,0.15369101269219052,8.6391934479010824E-3,0.55751504099609361,0.10330424422121065,0.21817970977585163,0.1046957921591276,0.36974019890949938,1.5865556460011188,0.12401147799671668,0.21077062651490003,1.5648092988144558E-2,0.20609575305026398]
[null,null,null,null,{"$f":"E16/$D16","v":0.32425837197980989},0.24178294772263359,0.17140656093332307,0.24270807177568815,0.12643999760861582,0.16779796219904858,0.19242204514591713,0.13060920512097843,0.15800046119552127,7.7213012546226312E-2,0.1294726143807596,9.8231229769316836E-2,0.59181258380520463,0.22289647868678847,3.0169361244203028E-2,0.12190149205291792,8.8474382296924517E-3,0.71037092076831754,9.5062987351285794E-2,0.18590996438545696,8.6509689376275761E-2,0.36858370271678326,1.2122968391025477,0.13772767258534252,0.14862828495050689,2.6244758171274352E-2,0.18787978170078659]
[null,null,null,null,{"$f":"E17/$D17","v":0.36072391963850714},0.25761035540674948,0.1456727169712054,0.26701502225086271,0.14647122642023389,0.16451473818073709,0.20733694763926053,0.12166762394407632,0.16297998122802348,7.6865484623634323E-2,0.10017947005745222,0.10037248208801659,0.65080699263908148,0.16009569660999273,3.627225280840287E-2,0.11488885464481895,6.9468765516844189E-3,0.95075080123340916,8.7233655071935895E-2,0.28081226933894937,0.10807272817835557,0.37937759846337521,1.1521650813218833,6.4185839454460838E-2,0.11099436996359233,3.7948655686772609E-2,0.29979282337687002]
[null,null,null,null,{"$f":"E18/$D18","v":0.32220672145114371},0.21813997535716831,0.13581730361258482,0.29647770434711773,7.1708603606814456E-2,0.11654769542003129,0.15569789110312313,8.5896900637794496E-2,0.20844237616637645,9.7712561394933631E-2,0.10468451405082668,7.217362673916955E-2,0.65781425550475381,0.22530540479075656,4.5372001534236907E-2,0.11225726301640479,7.487890729746885E-3,0.45834309203045392,8.4186158603437103E-2,0.17732995258121781,0.10280405554480684,0.39978412064804536,1.3480443570970337,0.26050120668411353,0.11196874501457864,2.5070517193975746E-2,0.21876453197288609]
[null,null,null,null,{"$f":"E19/$D19","v":0.36109115496767102},0.18397392553775938,0.14499957739931538,0.19849025905421966,9.969678400879009E-2,0.1298070827874741,0.17646748087731903,0.12226366056713012,0.23707370155939653,5.7082787474115708E-2,6.191100029582048E-2,4.0828508642184E-2,0.56461564467734437,0.16913007649072392,1.9392088915184041E-2,6.6675823014833283E-2,7.025736381692938E-3,0.61535942188226345,7.3854752144698471E-2,0.20046591725478596,8.800659257067997E-2,0.34147720069306514,0.93199826733719304,0.16487237459324683,8.581435151924946E-2,8.8376368169716443E-3,0.18859612052571526]
[null,null,null,null,{"$f":"E20/$D20","v":0.35071114031038036},0.23491068574878368,0.14298181753613409,0.26320448169324195,0.119055186618843,0.14613533861287686,0.18864217479313897,0.11241166234596399,0.18732376859973721,7.8993394651798721E-2,9.492613374054476E-2,8.2989452750452788E-2,0.63815387620299013,0.17867022976668206,3.5815369863986646E-2,0.10609751766753081,7.1016371320004263E-3,0.76558915444440501,8.418800383536347E-2,0.24024201853759011,0.10332220604424873,0.37834528925032851,1.1663961788415782,0.13245587556376293,0.10701729464824745,2.9687666465428461E-2,0.25991068574878368]
[null,null,null,null,{"$f":"E21/$D21","v":0.57848174867279434},0.2621020513684944,0.21526774232038925,0.3560434024193686,0.1400540541564313,0.22065043021729619,0.22190803217491273,0.1392888867002911,0.2228436577277178,0.10878067535497898,0.12645149804257286,0.16946186378882894,0.94177151417927263,0.25380263603976599,5.0472642422474713E-2,0.13210691889414364,1.2992694923568483E-2,0.76718643759623784,9.5276606141415823E-2,0.3185653488993142,0.1064302475998553,0.48332256922019207,1.8924238951947863,0.13731157277897835,0.11560278717927835,0.12797236306059406,0.17790332753144478]
[null,null,null,null,{"$f":"E22/$D22","v":0.38494136597415723},0.21893910115214035,0.17126432743164319,0.21477701773209695,6.8606810141429761E-2,0.17837770636771738,0.12600572421602835,0.13431908044982932,0.12649760680203348,4.8226114641074361E-2,0.13738929263500421,6.8293302559140776E-2,0.57906201774561017,0.45868861940449773,1.8815860240481937E-2,0.10200617826149234,6.0215077012056532E-3,0.62182877621234189,5.8044847800176755E-2,0.16999678384462996,2.2845513733523962E-2,0.400395127659747,1.4329296472769435,0.16645360763445016,0.12883810306291502,2.3031996691954475E-2,0.29407011218706675]
[null,null,null,null,{"$f":"E23/$D23","v":0.40408055497283729},0.13540483648121759,0.20521046578077415,0.1996658010286384,0.14322813058354614,0.17135473557048922,0.15317091166875241,0.11594063989699148,0.12547471444795683,6.9659145984187029E-2,9.8583271243697604E-2,6.8997258411035794E-2,0.62328650689737486,0.20070203485217844,3.3447023676044012E-2,0.11322256060069009,1.236066000679972E-2,0.380889171808653,9.0416374302847921E-2,0.19756258996969062,9.7342684153037082E-2,0.37485622933861878,1.4327316063975231,0.1566919365455979,0.11594606520496814,4.6670307651130997E-2,0.28344521524005178]
[null,null,null,null,{"$f":"E24/$D24","v":0.46266265093455367},0.20281055301317749,0.20021365165132052,0.26042344378893972,0.12304405359210453,0.19108383415118266,0.17125627170976457,0.12912347687048575,0.16116708937531013,7.8429453603131721E-2,0.11862008601201963,0.10537575122677399,0.72790221646358277,0.28581353035231849,3.5911396592600758E-2,0.11723410707393725,1.0974113690246458E-2,0.58290028670673211,8.392994982632189E-2,0.23456470199040635,8.1652147543695208E-2,0.42083861719137672,1.6000592711032695,0.15212893532557756,0.11910872801455588,7.0227297789050014E-2,0.24774907647350719]
[null,null,null,null,{"$f":"E25/$D25","v":0.33279610976033347},0.16194710464943185,0.22736466034833525,0.2327117550736863,6.4615689971716364E-2,0.13512628392795117,0.16088324318959957,0.17721828015680047,0.14348434476256636,4.8429514216245723E-2,0.10989530094774971,0.11881109512231429,0.61558676127623679,0.15743164789361386,2.8053391554607253E-2,0.13963578623529996,0.13003721530293258,0.6494854364114524,8.0055574852379296E-2,0.17968342182305364,6.2585223043715582E-2,0.40463454572520219,1.3153952265171438,0.15834863295787227,0.1222071155659207,3.5746538976827273E-3,0.14738450850989926]
[null,null,null,null,{"$f":"E26/$D26","v":0.34902352631452982},0.22275207620324056,0.12453629466529449,0.22811609984922099,0.10366057966158486,0.26396201804561664,0.16794808893569155,0.13520750065816242,0.18100363784314194,7.2080750544479807E-2,0.13370270205586005,0.10281095182251154,0.6337715099442357,0.19301211018835412,2.943182634085633E-2,0.1775752100136419,1.3184189742239666E-2,0.58809803029940411,8.8454036330565061E-2,0.24541978795203792,9.3399229351650195E-2,0.37665438096833642,1.3496278390733074,0.1792624991025058,0.16199171912021634,1.0781896943733098E-2,0.20870030873800349]
[null,null,null,null,{"$f":"E27/$D27","v":0.56484015518330277},0.34172907080488807,0.16794983609515504,0.37497368500195483,0.22194069351297704,0.20066063176044829,0.25208013794071354,0.20598879231702305,0.22002345794111455,0.1053527212214169,0.18477389151203472,0.11087135224003287,0.72917606488025422,0.17670646496847212,3.6640502040038894E-2,0.2066880194079376,5.3680089821859997E-2,0.81961946006636388,0.13255491062925426,0.24991228333984944,0.11582358425310517,0.35607951640552166,2.1095556023377742,0.15820075586699148,0.18501949816045632,2.689894038274538E-2,0.17079937445490362]
[null,null,null,null,{"$f":"E28/$D28","v":0.41202375553814929},0.23636307787318903,0.18041695868001076,0.27735488048267681,0.12590887890317767,0.19107494052627877,0.19220661853801752,0.17514657251105609,0.1783088042124289,7.3179958629085259E-2,0.14047923330431389,0.11192699706814561,0.65713712946638958,0.17326232862151109,3.1195512735015168E-2,0.17151388609337476,7.3835523534456771E-2,0.68777326992703103,9.925786172673047E-2,0.22009682313731863,8.8082541360810479E-2,0.3814134820034904,1.5807917057701837,0.16395185195064915,0.15321626932643334,1.3045014109599781E-2,0.17150418599613126]
[null,null,null,null,{"$f":"E29/$D29","v":0.41318118791816633},0.22317122310306073,0.17689316412635103,0.26673589517255697,0.12279530759714252,0.17780811294820367,0.18318481363226555,0.13911495348835382,0.1744503294209003,7.6893452505635854E-2,0.11871290557597076,0.10089001712186463,0.67844975685693842,0.21767235446742769,3.4353575549211791E-2,0.13154971619545927,3.0217954441840583E-2,0.67085908975438213,8.8977331028745915E-2,0.23154890349020205,9.0136615753740865E-2,0.39550432424737597,1.4657540423566251,0.15015411251144015,0.12660007901592404,3.9710876172294567E-2,0.22661237445997701]
[null,null,null,null,{"$f":"E30/$D30","v":0.40626421042334426},0.26352075095295535,0.17045028035080381,0.26658037916837379,0.14194235484851969,0.19754570767959417,0.21758048599596674,0.1587795704712161,0.17696973095409319,9.6109838412009874E-2,0.14010203467680971,0.10662693307803858,0.66047530502142893,0.2543472895465721,3.5331179863694537E-2,0.14455707274386059,1.9757476805928646E-2,0.7143312490355842,9.507041821160786E-2,0.20665030417212912,9.7109761054097743E-2,0.39336324369502318,1.5131360078978744,0.12605655968490362,0.19193490556809154,4.0094114700090742E-2,0.22362432869499657]
[]
[null,null,null,null,null,null,null,null,null,null,null,null,null,null,null,null,null,null,null,null,null,null,null,null,null,null,null,null,null,null,"y",100000]
[null,null,null,null,{"$f":"RANK(E32,E$32:E$60,0)","v":3},{"$f":"RANK(F32,F$32:F$60,0)","v":3},18,6,3,2,1,2,6,1,3,6,6,3,4,3,7,6,6,16,2,3,4,26,1,4,{"$f":"(AE32*$AF$62)+$AF$63","v":1025438.2480634477},1000000]
[null,null,null,null,{"$f":"RANK(E33,E$32:E$60,0)","v":3},3,18,6,3,2,1,2,6,1,3,6,6,3,4,3,7,6,6,16,2,3,4,26,1,4,{"$f":"(AE33*$AF$62)+$AF$63","v":1025438.2480634477}]
[null,null,null,null,{"$f":"RANK(E34,E$32:E$60,0)","v":24},24,17,19,14,11,15,28,22,12,26,27,18,20,3,15,27,14,22,11,25,5,21,2,18,26,1016755.0848431456]
[null,null,null,null,{"$f":"RANK(E35,E$32:E$60,0)","v":28},14,27,22,16,21,21,8,24,24,11,28,29,11,27,12,5,2,28,25,24,13,25,25,27,27,1017382.6147115543]
[null,null,null,null,{"$f":"RANK(E36,E$32:E$60,0)","v":27},10,5,27,26,8,12,24,11,29,10,22,25,6,15,17,15,10,26,24,12,24,29,23,9,2,1023662.1674279335]
[null,null,null,null,{"$f":"RANK(E37,E$32:E$60,0)","v":25},15,15,24,19,13,16,21,19,23,18,26,24,12,14,14,13,5,25,18,22,12,26,16,14,11,1019160.281827494]
[null,null,null,null,{"$f":"RANK(E38,E$32:E$60,0)","v":29},21,6,17,25,26,27,27,28,21,5,18,27,29,25,16,24,21,3,21,28,18,27,4,25,19,1014712.5939753052]
[null,null,null,null,{"$f":"RANK(E39,E$32:E$60,0)","v":23},18,25,23,24,28,8,20,29,28,14,4,28,7,24,29,29,24,17,29,20,29,19,24,29,6,1016812.3967170313]
[null,null,null,null,{"$f":"RANK(E40,E$32:E$60,0)","v":20},27,8,25,22,20,11,26,21,4,17,21,21,2,18,26,20,1,14,23,10,28,18,15,8,22,1020308.3588934218]
[null,null,null,null,{"$f":"RANK(E41,E$32:E$60,0)","v":26},22,9,20,23,24,20,25,25,18,9,13,26,13,23,25,25,11,4,28,23,25,24,14,22,15,1016770.2202370664]
[null,null,null,null,{"$f":"RANK(E42,E$32:E$60,0)","v":6},5,23,5,1,6,4,1,8,9,1,1,1,10,16,1,18,18,2,3,5,11,2,20,3,18,1023240.6627040454]
[null,null,null,null,{"$f":"RANK(E43,E$32:E$60,0)","v":18},1,29,15,18,22,17,11,5,6,28,5,17,21,26,18,28,26,23,15,1,20,13,5,12,28,1018460.4002932698]
[null,null,null,null,{"$f":"RANK(E44,E$32:E$60,0)","v":12},25,1,4,6,12,7,9,15,11,22,20,23,26,6,27,9,28,12,27,27,27,17,29,6,20,1019224.4197863544]
[null,null,null,null,{"$f":"RANK(E45,E$32:E$60,0)","v":11},6,20,8,5,14,9,5,9,8,13,3,3,17,20,7,17,25,5,10,8,21,7,22,4,21,1020609.5753050264]
[null,null,null,null,{"$f":"RANK(E46,E$32:E$60,0)","v":21},11,12,16,11,18,13,16,20,15,15,17,19,15,19,13,16,13,11,19,19,22,20,17,13,14,1018787.9781700787]
[null,null,null,null,{"$f":"RANK(E47,E$32:E$60,0)","v":15},9,21,10,7,19,10,19,17,17,24,16,12,27,8,20,23,3,18,2,6,15,23,28,24,10,1029979.282337687]
[null,null,null,null,{"$f":"RANK(E48,E$32:E$60,0)","v":22},20,26,3,27,29,26,29,4,7,23,23,10,14,2,22,19,27,20,22,11,8,15,1,23,16,1021876.4531972886]
[null,null,null,null,{"$f":"RANK(E49,E$32:E$60,0)","v":14},26,22,29,21,27,22,18,1,25,29,29,22,25,28,28,22,20,27,13,18,26,28,7,28,25,1018859.6120525715]
[null,null,null,null,{"$f":"RANK(E50,E$32:E$60,0)","v":16},13,24,13,17,23,18,23,10,13,27,19,13,22,10,23,21,9,19,6,9,16,22,19,26,12,1025991.0685748784]
[null,null,null,null,{"$f":"RANK(E51,E$32:E$60,0)","v":1},8,3,2,10,4,5,12,2,3,16,2,2,9,1,10,11,8,9,1,7,1,3,18,21,1,1017790.3327531444]
[null,null,null,null,{"$f":"RANK(E52,E$32:E$60,0)","v":13},19,13,26,28,15,29,15,26,27,8,25,20,1,29,24,26,19,29,26,29,7,11,6,15,17,1029407.0112187067]
[null,null,null,null,{"$f":"RANK(E53,E$32:E$60,0)","v":10},29,4,28,8,17,28,22,27,22,25,24,15,18,13,21,12,29,13,14,13,19,12,11,20,7,1028344.5215240052]
[null,null,null,null,{"$f":"RANK(E54,E$32:E$60,0)","v":5},23,7,14,13,9,23,17,18,14,20,12,5,5,9,19,14,23,21,7,21,2,6,12,19,3,1024774.9076473507]
[null,null,null,null,{"$f":"RANK(E55,E$32:E$60,0)","v":19},28,2,18,29,25,25,6,23,26,21,8,16,28,22,9,1,17,24,20,26,6,16,9,17,29,1014738.4508509899]
[null,null,null,null,{"$f":"RANK(E56,E$32:E$60,0)","v":17},17,28,21,20,1,24,14,12,20,12,14,14,19,21,5,10,22,16,5,15,17,14,3,10,24,1020870.0308738004]
[null,null,null,null,{"$f":"RANK(E57,E$32:E$60,0)","v":2},2,16,1,2,5,3,4,3,5,2,10,4,23,7,2,3,4,1,4,4,23,1,10,7,13,1017079.9374454904]
[null,null,null,null,{"$f":"RANK(E58,E$32:E$60,0)","v":8},12,10,9,12,10,14,7,13,19,6,9,11,24,17,6,2,15,8,9,17,14,8,8,11,23,1017150.4185996131]
[null,null,null,null,{"$f":"RANK(E59,E$32:E$60,0)","v":7},16,11,11,15,16,19,13,16,16,19,15,8,16,12,11,4,16,15,8,16,9,10,13,16,9,1022661.2374459977]
[null,null,null,null,{"$f":"RANK(E60,E$32:E$60,0)","v":9},7,14,12,9,7,6,10,14,10,7,11,9,8,11,8,6,12,10,12,14,10,9,21,5,8,1022362.4328694997]
[]
[]
[]
[]
[]
[]
["Azonosító:",7350160,"Objektumok:",29,"Attribútumok:",26,"Lépcsôk:",29,"Eltolás:",0,"Leírás:","COCO STD: 7350160"]
[]
["Rangsor","X(A1)","X(A2)","X(A3)","X(A4)","X(A5)","X(A6)","X(A7)","X(A8)","X(A9)","X(A10)","X(A11)","X(A12)","X(A13)","X(A14)","X(A15)","X(A16)","X(A17)","X(A18)","X(A19)","X(A20)","X(A21)","X(A22)","X(A23)","X(A24)","X(A25)","X(A26)","Y(A27)"]
["O1",3,3,18,6,3,2,1,2,6,1,3,6,6,3,4,3,7,6,6,16,2,3,4,26,1,4,1025438]
["O2",3,3,18,6,3,2,1,2,6,1,3,6,6,3,4,3,7,6,6,16,2,3,4,26,1,4,1025438]
["O3",24,24,17,19,14,11,15,28,22,12,26,27,18,20,3,15,27,14,22,11,25,5,21,2,18,26,1016755]
["O4",28,14,27,22,16,21,21,8,24,24,11,28,29,11,27,12,5,2,28,25,24,13,25,25,27,27,1017383]
["O5",27,10,5,27,26,8,12,24,11,29,10,22,25,6,15,17,15,10,26,24,12,24,29,23,9,2,1023662]
["O6",25,15,15,24,19,13,16,21,19,23,18,26,24,12,14,14,13,5,25,18,22,12,26,16,14,11,1019160]
["O7",29,21,6,17,25,26,27,27,28,21,5,18,27,29,25,16,24,21,3,21,28,18,27,4,25,19,1014713]
["O8",23,18,25,23,24,28,8,20,29,28,14,4,28,7,24,29,29,24,17,29,20,29,19,24,29,6,1016812]
["O9",20,27,8,25,22,20,11,26,21,4,17,21,21,2,18,26,20,1,14,23,10,28,18,15,8,22,1020308]
["O10",26,22,9,20,23,24,20,25,25,18,9,13,26,13,23,25,25,11,4,28,23,25,24,14,22,15,1016770]
["O11",6,5,23,5,1,6,4,1,8,9,1,1,1,10,16,1,18,18,2,3,5,11,2,20,3,18,1023241]
["O12",18,1,29,15,18,22,17,11,5,6,28,5,17,21,26,18,28,26,23,15,1,20,13,5,12,28,1018460]
["O13",12,25,1,4,6,12,7,9,15,11,22,20,23,26,6,27,9,28,12,27,27,27,17,29,6,20,1019224]
["O14",11,6,20,8,5,14,9,5,9,8,13,3,3,17,20,7,17,25,5,10,8,21,7,22,4,21,1020610]
["O15",21,11,12,16,11,18,13,16,20,15,15,17,19,15,19,13,16,13,11,19,19,22,20,17,13,14,1018788]
["O16",15,9,21,10,7,19,10,19,17,17,24,16,12,27,8,20,23,3,18,2,6,15,23,28,24,10,1029979]
["O17",22,20,26,3,27,29,26,29,4,7,23,23,10,14,2,22,19,27,20,22,11,8,15,1,23,16,1021876]
["O18",14,26,22,29,21,27,22,18,1,25,29,29,22,25,28,28,22,20,27,13,18,26,28,7,28,25,1018860]
["O19",16,13,24,13,17,23,18,23,10,13,27,19,13,22,10,23,21,9,19,6,9,16,22,19,26,12,1025991]
["O20",1,8,3,2,10,4,5,12,2,3,16,2,2,9,1,10,11,8,9,1,7,1,3,18,21,1,1017790]
["O21",13,19,13,26,28,15,29,15,26,27,8,25,20,1,29,24,26,19,29,26,29,7,11,6,15,17,1029407]
["O22",10,29,4,28,8,17,28,22,27,22,25,24,15,18,13,21,12,29,13,14,13,19,12,11,20,7,1028345]
["O23",5,23,7,14,13,9,23,17,18,14,20,12,5,5,9,19,14,23,21,7,21,2,6,12,19,3,1024775]
["O24",19,28,2,18,29,25,25,6,23,26,21,8,16,28,22,9,1,17,24,20,26,6,16,9,17,29,1014738]
["O25",17,17,28,21,20,1,24,14,12,20,12,14,14,19,21,5,10,22,16,5,15,17,14,3,10,24,1020870]
["O26",2,2,16,1,2,5,3,4,3,5,2,10,4,23,7,2,3,4,1,4,4,23,1,10,7,13,1017080]
["O27",8,12,10,9,12,10,14,7,13,19,6,9,11,24,17,6,2,15,8,9,17,14,8,8,11,23,1017150]
["O28",7,16,11,11,15,16,19,13,16,16,19,15,8,16,12,11,4,16,15,8,16,9,10,13,16,9,1022661]
["O29",9,7,14,12,9,7,6,10,14,10,7,11,9,8,11,8,6,12,10,12,14,10,9,21,5,8,1022362]
[]
["Lépcsôk(1)","X(A1)","X(A2)","X(A3)","X(A4)","X(A5)","X(A6)","X(A7)","X(A8)","X(A9)","X(A10)","X(A11)","X(A12)","X(A13)","X(A14)","X(A15)","X(A16)","X(A17)","X(A18)","X(A19)","X(A20)","X(A21)","X(A22)","X(A23)","X(A24)","X(A25)","X(A26)"]
["S1","(0+0)/(2)=0","(8423+0)/(2)=4211.5","(21263+435780.7)/(2)=228521.85","(965526.4+56863)/(2)=511194.7","(11473+200867.9)/(2)=106170.45","(3988+0)/(2)=1994","(0+36934)/(2)=18467","(3644+50079)/(2)=26861.5","(18316+364340.8)/(2)=191328.4","(0+0)/(2)=0","(0+30401)/(2)=15200.5","(253+0)/(2)=126.5","(0+0)/(2)=0","(16746+312938.8)/(2)=164842.4","(0+0)/(2)=0","(0+21651)/(2)=10825.5","(19384+210470.9)/(2)=114927.45","(23422+380999.8)/(2)=202210.9","(0+62659)/(2)=31329.5","(0+15225)/(2)=7612.5","(0+0)/(2)=0","(4715+0)/(2)=2357.5","(0+0)/(2)=0","(21046+456169.7)/(2)=238607.85","(1902+0)/(2)=951","(18184+267359.8)/(2)=142771.9"]
["S2","(0+0)/(2)=0","(0+0)/(2)=0","(5159+435780.7)/(2)=220469.85","(965526.4+56863)/(2)=511194.7","(9075+200867.9)/(2)=104971.45","(0+0)/(2)=0","(0+36934)/(2)=18467","(3644+50079)/(2)=26861.5","(0+0)/(2)=0","(0+0)/(2)=0","(0+30401)/(2)=15200.5","(253+0)/(2)=126.5","(0+0)/(2)=0","(16746+312938.8)/(2)=164842.4","(0+0)/(2)=0","(0+21651)/(2)=10825.5","(14497+210470.9)/(2)=112483.95","(23422+380999.8)/(2)=202210.9","(0+62659)/(2)=31329.5","(0+15225)/(2)=7612.5","(0+0)/(2)=0","(4715+0)/(2)=2357.5","(0+0)/(2)=0","(21046+397289.8)/(2)=209167.9","(1902+0)/(2)=951","(18184+267359.8)/(2)=142771.9"]
["S3","(0+0)/(2)=0","(0+0)/(2)=0","(5159+0)/(2)=2579.5","(965526.4+56863)/(2)=511194.7","(9075+200867.9)/(2)=104971.45","(0+0)/(2)=0","(0+36934)/(2)=18467","(3644+50079)/(2)=26861.5","(0+0)/(2)=0","(0+0)/(2)=0","(0+30401)/(2)=15200.5","(253+0)/(2)=126.5","(0+0)/(2)=0","(16746+312938.8)/(2)=164842.4","(0+0)/(2)=0","(0+21651)/(2)=10825.5","(0+28028)/(2)=14014","(23422+380999.8)/(2)=202210.9","(0+62659)/(2)=31329.5","(0+15225)/(2)=7612.5","(0+0)/(2)=0","(4715+0)/(2)=2357.5","(0+0)/(2)=0","(21046+397289.8)/(2)=209167.9","(1902+0)/(2)=951","(18184+267359.8)/(2)=142771.9"]
["S4","(0+0)/(2)=0","(0+0)/(2)=0","(5159+0)/(2)=2579.5","(965526.4+56863)/(2)=511194.7","(9075+200867.9)/(2)=104971.45","(0+0)/(2)=0","(0+36934)/(2)=18467","(3644+50079)/(2)=26861.5","(0+0)/(2)=0","(0+0)/(2)=0","(0+30401)/(2)=15200.5","(253+0)/(2)=126.5","(0+0)/(2)=0","(16746+312938.8)/(2)=164842.4","(0+0)/(2)=0","(0+21651)/(2)=10825.5","(0+28028)/(2)=14014","(233+42062)/(2)=21147.5","(0+62659)/(2)=31329.5","(0+15225)/(2)=7612.5","(0+0)/(2)=0","(4715+0)/(2)=2357.5","(0+0)/(2)=0","(14201+397289.8)/(2)=205745.4","(1902+0)/(2)=951","(18184+267359.8)/(2)=142771.9"]
["S5","(0+0)/(2)=0","(0+0)/(2)=0","(5159+0)/(2)=2579.5","(965526.4+56863)/(2)=511194.7","(9075+200867.9)/(2)=104971.45","(0+0)/(2)=0","(0+36934)/(2)=18467","(3644+50079)/(2)=26861.5","(0+0)/(2)=0","(0+0)/(2)=0","(0+30401)/(2)=15200.5","(253+0)/(2)=126.5","(0+0)/(2)=0","(16746+312938.8)/(2)=164842.4","(0+0)/(2)=0","(0+21651)/(2)=10825.5","(0+28028)/(2)=14014","(233+42062)/(2)=21147.5","(0+62659)/(2)=31329.5","(0+15225)/(2)=7612.5","(0+0)/(2)=0","(4715+0)/(2)=2357.5","(0+0)/(2)=0","(14201+397289.8)/(2)=205745.4","(1902+0)/(2)=951","(18184+267359.8)/(2)=142771.9"]
["S6","(0+0)/(2)=0","(0+0)/(2)=0","(5159+0)/(2)=2579.5","(965526.4+56863)/(2)=511194.7","(9075+200867.9)/(2)=104971.45","(0+0)/(2)=0","(0+36934)/(2)=18467","(3644+50079)/(2)=26861.5","(0+0)/(2)=0","(0+0)/(2)=0","(0+30401)/(2)=15200.5","(253+0)/(2)=126.5","(0+0)/(2)=0","(16746+312938.8)/(2)=164842.4","(0+0)/(2)=0","(0+21651)/(2)=10825.5","(0+0)/(2)=0","(233+42062)/(2)=21147.5","(0+0)/(2)=0","(0+15225)/(2)=7612.5","(0+0)/(2)=0","(4715+0)/(2)=2357.5","(0+0)/(2)=0","(14201+397289.8)/(2)=205745.4","(1902+0)/(2)=951","(18184+267359.8)/(2)=142771.9"]
["S7","(0+0)/(2)=0","(0+0)/(2)=0","(5159+0)/(2)=2579.5","(965526.4+56863)/(2)=511194.7","(9075+200867.9)/(2)=104971.45","(0+0)/(2)=0","(0+36934)/(2)=18467","(3644+50079)/(2)=26861.5","(0+0)/(2)=0","(0+0)/(2)=0","(0+30401)/(2)=15200.5","(253+0)/(2)=126.5","(0+0)/(2)=0","(16746+312938.8)/(2)=164842.4","(0+0)/(2)=0","(0+21651)/(2)=10825.5","(0+0)/(2)=0","(233+42062)/(2)=21147.5","(0+0)/(2)=0","(0+15225)/(2)=7612.5","(0+0)/(2)=0","(4715+0)/(2)=2357.5","(0+0)/(2)=0","(14201+397289.8)/(2)=205745.4","(1902+0)/(2)=951","(18184+267359.8)/(2)=142771.9"]
["S8","(0+0)/(2)=0","(0+0)/(2)=0","(5159+0)/(2)=2579.5","(965526.4+56863)/(2)=511194.7","(9075+200867.9)/(2)=104971.45","(0+0)/(2)=0","(0+36934)/(2)=18467","(3644+50079)/(2)=26861.5","(0+0)/(2)=0","(0+0)/(2)=0","(0+30401)/(2)=15200.5","(253+0)/(2)=126.5","(0+0)/(2)=0","(15446+248493.9)/(2)=131969.9","(0+0)/(2)=0","(0+21651)/(2)=10825.5","(0+0)/(2)=0","(233+42062)/(2)=21147.5","(0+0)/(2)=0","(0+12594)/(2)=6297","(0+0)/(2)=0","(4715+0)/(2)=2357.5","(0+0)/(2)=0","(14201+397289.8)/(2)=205745.4","(1902+0)/(2)=951","(18184+267359.8)/(2)=142771.9"]
["S9","(0+0)/(2)=0","(0+0)/(2)=0","(5159+0)/(2)=2579.5","(965526.4+56863)/(2)=511194.7","(7299+200867.9)/(2)=104083.45","(0+0)/(2)=0","(0+36934)/(2)=18467","(3644+50079)/(2)=26861.5","(0+0)/(2)=0","(0+0)/(2)=0","(0+30401)/(2)=15200.5","(253+0)/(2)=126.5","(0+0)/(2)=0","(12776+248493.9)/(2)=130634.9","(0+0)/(2)=0","(0+21651)/(2)=10825.5","(0+0)/(2)=0","(233+42062)/(2)=21147.5","(0+0)/(2)=0","(0+12594)/(2)=6297","(0+0)/(2)=0","(4715+0)/(2)=2357.5","(0+0)/(2)=0","(14201+233610.9)/(2)=123905.95","(1902+0)/(2)=951","(18184+267359.8)/(2)=142771.9"]
["S10","(0+0)/(2)=0","(0+0)/(2)=0","(5159+0)/(2)=2579.5","(965526.4+56863)/(2)=511194.7","(7299+200867.9)/(2)=104083.45","(0+0)/(2)=0","(0+36934)/(2)=18467","(3644+50079)/(2)=26861.5","(0+0)/(2)=0","(0+0)/(2)=0","(0+30401)/(2)=15200.5","(253+0)/(2)=126.5","(0+0)/(2)=0","(12776+248493.9)/(2)=130634.9","(0+0)/(2)=0","(0+21651)/(2)=10825.5","(0+0)/(2)=0","(233+42062)/(2)=21147.5","(0+0)/(2)=0","(0+12594)/(2)=6297","(0+0)/(2)=0","(4715+0)/(2)=2357.5","(0+0)/(2)=0","(9012+233610.9)/(2)=121311.45","(1623+0)/(2)=811.5","(18184+267359.8)/(2)=142771.9"]
["S11","(0+0)/(2)=0","(0+0)/(2)=0","(5159+0)/(2)=2579.5","(965526.4+56863)/(2)=511194.7","(7299+200867.9)/(2)=104083.45","(0+0)/(2)=0","(0+36934)/(2)=18467","(3644+50079)/(2)=26861.5","(0+0)/(2)=0","(0+0)/(2)=0","(0+30401)/(2)=15200.5","(253+0)/(2)=126.5","(0+0)/(2)=0","(12776+248493.9)/(2)=130634.9","(0+0)/(2)=0","(0+21651)/(2)=10825.5","(0+0)/(2)=0","(233+42062)/(2)=21147.5","(0+0)/(2)=0","(0+12594)/(2)=6297","(0+0)/(2)=0","(4715+0)/(2)=2357.5","(0+0)/(2)=0","(9012+233610.9)/(2)=121311.45","(1623+0)/(2)=811.5","(18184+267359.8)/(2)=142771.9"]
["S12","(0+0)/(2)=0","(0+0)/(2)=0","(5159+0)/(2)=2579.5","(965526.4+56863)/(2)=511194.7","(7299+200867.9)/(2)=104083.45","(0+0)/(2)=0","(0+36934)/(2)=18467","(3644+50079)/(2)=26861.5","(0+0)/(2)=0","(0+0)/(2)=0","(0+30401)/(2)=15200.5","(253+0)/(2)=126.5","(0+0)/(2)=0","(12776+248493.9)/(2)=130634.9","(0+0)/(2)=0","(0+21651)/(2)=10825.5","(0+0)/(2)=0","(233+42062)/(2)=21147.5","(0+0)/(2)=0","(0+6282)/(2)=3141","(0+0)/(2)=0","(4715+0)/(2)=2357.5","(0+0)/(2)=0","(3248+99790.9)/(2)=51519.45","(1623+0)/(2)=811.5","(18184+267359.8)/(2)=142771.9"]
["S13","(0+0)/(2)=0","(0+0)/(2)=0","(5159+0)/(2)=2579.5","(965526.4+56863)/(2)=511194.7","(7299+200867.9)/(2)=104083.45","(0+0)/(2)=0","(0+36934)/(2)=18467","(3644+50079)/(2)=26861.5","(0+0)/(2)=0","(0+0)/(2)=0","(0+30401)/(2)=15200.5","(253+0)/(2)=126.5","(0+0)/(2)=0","(12776+248493.9)/(2)=130634.9","(0+0)/(2)=0","(0+21651)/(2)=10825.5","(0+0)/(2)=0","(233+42062)/(2)=21147.5","(0+0)/(2)=0","(0+6282)/(2)=3141","(0+0)/(2)=0","(4715+0)/(2)=2357.5","(0+0)/(2)=0","(3248+99790.9)/(2)=51519.45","(1623+0)/(2)=811.5","(17560+238698.9)/(2)=128129.45"]
["S14","(0+0)/(2)=0","(0+0)/(2)=0","(5159+0)/(2)=2579.5","(965526.4+56863)/(2)=511194.7","(7299+200867.9)/(2)=104083.45","(0+0)/(2)=0","(0+36934)/(2)=18467","(3644+50079)/(2)=26861.5","(0+0)/(2)=0","(0+0)/(2)=0","(0+30401)/(2)=15200.5","(253+0)/(2)=126.5","(0+0)/(2)=0","(12776+248493.9)/(2)=130634.9","(0+0)/(2)=0","(0+21651)/(2)=10825.5","(0+0)/(2)=0","(233+42062)/(2)=21147.5","(0+0)/(2)=0","(0+6282)/(2)=3141","(0+0)/(2)=0","(4715+0)/(2)=2357.5","(0+0)/(2)=0","(3248+99790.9)/(2)=51519.45","(1623+0)/(2)=811.5","(17560+238698.9)/(2)=128129.45"]
["S15","(0+0)/(2)=0","(0+0)/(2)=0","(5159+0)/(2)=2579.5","(965526.4+56863)/(2)=511194.7","(7299+200867.9)/(2)=104083.45","(0+0)/(2)=0","(0+36934)/(2)=18467","(3644+50079)/(2)=26861.5","(0+0)/(2)=0","(0+0)/(2)=0","(0+30401)/(2)=15200.5","(253+0)/(2)=126.5","(0+0)/(2)=0","(12776+248493.9)/(2)=130634.9","(0+0)/(2)=0","(0+21651)/(2)=10825.5","(0+0)/(2)=0","(233+0)/(2)=116.5","(0+0)/(2)=0","(0+6282)/(2)=3141","(0+0)/(2)=0","(4715+0)/(2)=2357.5","(0+0)/(2)=0","(0+88567.9)/(2)=44283.95","(1623+0)/(2)=811.5","(17560+238698.9)/(2)=128129.45"]
["S16","(0+0)/(2)=0","(0+0)/(2)=0","(5159+0)/(2)=2579.5","(965526.4+56863)/(2)=511194.7","(7299+200867.9)/(2)=104083.45","(0+0)/(2)=0","(0+36934)/(2)=18467","(3644+50079)/(2)=26861.5","(0+0)/(2)=0","(0+0)/(2)=0","(0+0)/(2)=0","(253+0)/(2)=126.5","(0+0)/(2)=0","(12776+248493.9)/(2)=130634.9","(0+0)/(2)=0","(0+21651)/(2)=10825.5","(0+0)/(2)=0","(233+0)/(2)=116.5","(0+0)/(2)=0","(0+6282)/(2)=3141","(0+0)/(2)=0","(4715+0)/(2)=2357.5","(0+0)/(2)=0","(0+88567.9)/(2)=44283.95","(1623+0)/(2)=811.5","(17560+238698.9)/(2)=128129.45"]
["S17","(0+0)/(2)=0","(0+0)/(2)=0","(5159+0)/(2)=2579.5","(965526.4+56863)/(2)=511194.7","(7299+200867.9)/(2)=104083.45","(0+0)/(2)=0","(0+36934)/(2)=18467","(3644+50079)/(2)=26861.5","(0+0)/(2)=0","(0+0)/(2)=0","(0+0)/(2)=0","(253+0)/(2)=126.5","(0+0)/(2)=0","(12776+248493.9)/(2)=130634.9","(0+0)/(2)=0","(0+21651)/(2)=10825.5","(0+0)/(2)=0","(233+0)/(2)=116.5","(0+0)/(2)=0","(0+6282)/(2)=3141","(0+0)/(2)=0","(4715+0)/(2)=2357.5","(0+0)/(2)=0","(0+86456)/(2)=43228","(1623+0)/(2)=811.5","(17560+238698.9)/(2)=128129.45"]
["S18","(0+0)/(2)=0","(0+0)/(2)=0","(5159+0)/(2)=2579.5","(965526.4+56863)/(2)=511194.7","(7299+200867.9)/(2)=104083.45","(0+0)/(2)=0","(0+36934)/(2)=18467","(3644+50079)/(2)=26861.5","(0+0)/(2)=0","(0+0)/(2)=0","(0+0)/(2)=0","(253+0)/(2)=126.5","(0+0)/(2)=0","(12776+248493.9)/(2)=130634.9","(0+0)/(2)=0","(0+21651)/(2)=10825.5","(0+0)/(2)=0","(233+0)/(2)=116.5","(0+0)/(2)=0","(0+6282)/(2)=3141","(0+0)/(2)=0","(4715+0)/(2)=2357.5","(0+0)/(2)=0","(0+86456)/(2)=43228","(0+0)/(2)=0","(17560+238698.9)/(2)=128129.45"]
["S19","(0+0)/(2)=0","(0+0)/(2)=0","(5159+0)/(2)=2579.5","(965526.4+56863)/(2)=511194.7","(7299+200867.9)/(2)=104083.45","(0+0)/(2)=0","(0+36934)/(2)=18467","(3644+50079)/(2)=26861.5","(0+0)/(2)=0","(0+0)/(2)=0","(0+0)/(2)=0","(253+0)/(2)=126.5","(0+0)/(2)=0","(12776+248493.9)/(2)=130634.9","(0+0)/(2)=0","(0+21651)/(2)=10825.5","(0+0)/(2)=0","(233+0)/(2)=116.5","(0+0)/(2)=0","(0+6282)/(2)=3141","(0+0)/(2)=0","(4715+0)/(2)=2357.5","(0+0)/(2)=0","(0+86456)/(2)=43228","(0+0)/(2)=0","(17560+238698.9)/(2)=128129.45"]
["S20","(0+0)/(2)=0","(0+0)/(2)=0","(5159+0)/(2)=2579.5","(965526.4+56863)/(2)=511194.7","(7299+200867.9)/(2)=104083.45","(0+0)/(2)=0","(0+36934)/(2)=18467","(3644+50079)/(2)=26861.5","(0+0)/(2)=0","(0+0)/(2)=0","(0+0)/(2)=0","(253+0)/(2)=126.5","(0+0)/(2)=0","(12776+248493.9)/(2)=130634.9","(0+0)/(2)=0","(0+21651)/(2)=10825.5","(0+0)/(2)=0","(0+0)/(2)=0","(0+0)/(2)=0","(0+6282)/(2)=3141","(0+0)/(2)=0","(4715+0)/(2)=2357.5","(0+0)/(2)=0","(0+61369)/(2)=30684.5","(0+0)/(2)=0","(17560+238698.9)/(2)=128129.45"]
["S21","(0+0)/(2)=0","(0+0)/(2)=0","(5159+0)/(2)=2579.5","(965526.4+56863)/(2)=511194.7","(7299+200867.9)/(2)=104083.45","(0+0)/(2)=0","(0+0)/(2)=0","(3644+50079)/(2)=26861.5","(0+0)/(2)=0","(0+0)/(2)=0","(0+0)/(2)=0","(253+0)/(2)=126.5","(0+0)/(2)=0","(12776+248493.9)/(2)=130634.9","(0+0)/(2)=0","(0+21651)/(2)=10825.5","(0+0)/(2)=0","(0+0)/(2)=0","(0+0)/(2)=0","(0+6282)/(2)=3141","(0+0)/(2)=0","(4715+0)/(2)=2357.5","(0+0)/(2)=0","(0+61369)/(2)=30684.5","(0+0)/(2)=0","(17560+238698.9)/(2)=128129.45"]
["S22","(0+0)/(2)=0","(0+0)/(2)=0","(5159+0)/(2)=2579.5","(965526.4+56863)/(2)=511194.7","(7299+200867.9)/(2)=104083.45","(0+0)/(2)=0","(0+0)/(2)=0","(3644+50079)/(2)=26861.5","(0+0)/(2)=0","(0+0)/(2)=0","(0+0)/(2)=0","(253+0)/(2)=126.5","(0+0)/(2)=0","(12776+248493.9)/(2)=130634.9","(0+0)/(2)=0","(0+21651)/(2)=10825.5","(0+0)/(2)=0","(0+0)/(2)=0","(0+0)/(2)=0","(0+0)/(2)=0","(0+0)/(2)=0","(4715+0)/(2)=2357.5","(0+0)/(2)=0","(0+61369)/(2)=30684.5","(0+0)/(2)=0","(0+0)/(2)=0"]
["S23","(0+0)/(2)=0","(0+0)/(2)=0","(5159+0)/(2)=2579.5","(965526.4+56863)/(2)=511194.7","(7299+200867.9)/(2)=104083.45","(0+0)/(2)=0","(0+0)/(2)=0","(3644+50079)/(2)=26861.5","(0+0)/(2)=0","(0+0)/(2)=0","(0+0)/(2)=0","(253+0)/(2)=126.5","(0+0)/(2)=0","(0+0)/(2)=0","(0+0)/(2)=0","(0+21651)/(2)=10825.5","(0+0)/(2)=0","(0+0)/(2)=0","(0+0)/(2)=0","(0+0)/(2)=0","(0+0)/(2)=0","(4715+0)/(2)=2357.5","(0+0)/(2)=0","(0+61369)/(2)=30684.5","(0+0)/(2)=0","(0+0)/(2)=0"]
["S24","(0+0)/(2)=0","(0+0)/(2)=0","(5159+0)/(2)=2579.5","(965526.4+56863)/(2)=511194.7","(7299+200867.9)/(2)=104083.45","(0+0)/(2)=0","(0+0)/(2)=0","(3644+50079)/(2)=26861.5","(0+0)/(2)=0","(0+0)/(2)=0","(0+0)/(2)=0","(253+0)/(2)=126.5","(0+0)/(2)=0","(0+0)/(2)=0","(0+0)/(2)=0","(0+0)/(2)=0","(0+0)/(2)=0","(0+0)/(2)=0","(0+0)/(2)=0","(0+0)/(2)=0","(0+0)/(2)=0","(4715+0)/(2)=2357.5","(0+0)/(2)=0","(0+61369)/(2)=30684.5","(0+0)/(2)=0","(0+0)/(2)=0"]
["S25","(0+0)/(2)=0","(0+0)/(2)=0","(5159+0)/(2)=2579.5","(965526.4+0)/(2)=482763.2","(7299+200867.9)/(2)=104083.45","(0+0)/(2)=0","(0+0)/(2)=0","(0+0)/(2)=0","(0+0)/(2)=0","(0+0)/(2)=0","(0+0)/(2)=0","(0+0)/(2)=0","(0+0)/(2)=0","(0+0)/(2)=0","(0+0)/(2)=0","(0+0)/(2)=0","(0+0)/(2)=0","(0+0)/(2)=0","(0+0)/(2)=0","(0+0)/(2)=0","(0+0)/(2)=0","(4715+0)/(2)=2357.5","(0+0)/(2)=0","(0+0)/(2)=0","(0+0)/(2)=0","(0+0)/(2)=0"]
["S26","(0+0)/(2)=0","(0+0)/(2)=0","(0+0)/(2)=0","(965526.4+0)/(2)=482763.2","(7299+200867.9)/(2)=104083.45","(0+0)/(2)=0","(0+0)/(2)=0","(0+0)/(2)=0","(0+0)/(2)=0","(0+0)/(2)=0","(0+0)/(2)=0","(0+0)/(2)=0","(0+0)/(2)=0","(0+0)/(2)=0","(0+0)/(2)=0","(0+0)/(2)=0","(0+0)/(2)=0","(0+0)/(2)=0","(0+0)/(2)=0","(0+0)/(2)=0","(0+0)/(2)=0","(4715+0)/(2)=2357.5","(0+0)/(2)=0","(0+0)/(2)=0","(0+0)/(2)=0","(0+0)/(2)=0"]
["S27","(0+0)/(2)=0","(0+0)/(2)=0","(0+0)/(2)=0","(965526.4+0)/(2)=482763.2","(0+0)/(2)=0","(0+0)/(2)=0","(0+0)/(2)=0","(0+0)/(2)=0","(0+0)/(2)=0","(0+0)/(2)=0","(0+0)/(2)=0","(0+0)/(2)=0","(0+0)/(2)=0","(0+0)/(2)=0","(0+0)/(2)=0","(0+0)/(2)=0","(0+0)/(2)=0","(0+0)/(2)=0","(0+0)/(2)=0","(0+0)/(2)=0","(0+0)/(2)=0","(0+0)/(2)=0","(0+0)/(2)=0","(0+0)/(2)=0","(0+0)/(2)=0","(0+0)/(2)=0"]
["S28","(0+0)/(2)=0","(0+0)/(2)=0","(0+0)/(2)=0","(965526.4+0)/(2)=482763.2","(0+0)/(2)=0","(0+0)/(2)=0","(0+0)/(2)=0","(0+0)/(2)=0","(0+0)/(2)=0","(0+0)/(2)=0","(0+0)/(2)=0","(0+0)/(2)=0","(0+0)/(2)=0","(0+0)/(2)=0","(0+0)/(2)=0","(0+0)/(2)=0","(0+0)/(2)=0","(0+0)/(2)=0","(0+0)/(2)=0","(0+0)/(2)=0","(0+0)/(2)=0","(0+0)/(2)=0","(0+0)/(2)=0","(0+0)/(2)=0","(0+0)/(2)=0","(0+0)/(2)=0"]
["S29","(0+0)/(2)=0","(0+0)/(2)=0","(0+0)/(2)=0","(965526.4+0)/(2)=482763.2","(0+0)/(2)=0","(0+0)/(2)=0","(0+0)/(2)=0","(0+0)/(2)=0","(0+0)/(2)=0","(0+0)/(2)=0","(0+0)/(2)=0","(0+0)/(2)=0","(0+0)/(2)=0","(0+0)/(2)=0","(0+0)/(2)=0","(0+0)/(2)=0","(0+0)/(2)=0","(0+0)/(2)=0","(0+0)/(2)=0","(0+0)/(2)=0","(0+0)/(2)=0","(0+0)/(2)=0","(0+0)/(2)=0","(0+0)/(2)=0","(0+0)/(2)=0","(0+0)/(2)=0"]
[]
["Lépcsôk(2)","X(A1)","X(A2)","X(A3)","X(A4)","X(A5)","X(A6)","X(A7)","X(A8)","X(A9)","X(A10)","X(A11)","X(A12)","X(A13)","X(A14)","X(A15)","X(A16)","X(A17)","X(A18)","X(A19)","X(A20)","X(A21)","X(A22)","X(A23)","X(A24)","X(A25)","X(A26)"]
["S1",0,4211.5,228521.9,511194.7,106170.4,1994,18467,26861.5,191328.4,0,15200.5,126.5,0,164842.4,0,10825.5,114927.4,202210.9,31329.5,7612.5,0,2357.5,0,238607.9,951,142771.9]
["S2",0,0,220469.9,511194.7,104971.4,0,18467,26861.5,0,0,15200.5,126.5,0,164842.4,0,10825.5,112483.9,202210.9,31329.5,7612.5,0,2357.5,0,209167.9,951,142771.9]
["S3",0,0,2579.5,511194.7,104971.4,0,18467,26861.5,0,0,15200.5,126.5,0,164842.4,0,10825.5,14014,202210.9,31329.5,7612.5,0,2357.5,0,209167.9,951,142771.9]
["S4",0,0,2579.5,511194.7,104971.4,0,18467,26861.5,0,0,15200.5,126.5,0,164842.4,0,10825.5,14014,21147.5,31329.5,7612.5,0,2357.5,0,205745.4,951,142771.9]
["S5",0,0,2579.5,511194.7,104971.4,0,18467,26861.5,0,0,15200.5,126.5,0,164842.4,0,10825.5,14014,21147.5,31329.5,7612.5,0,2357.5,0,205745.4,951,142771.9]
["S6",0,0,2579.5,511194.7,104971.4,0,18467,26861.5,0,0,15200.5,126.5,0,164842.4,0,10825.5,0,21147.5,0,7612.5,0,2357.5,0,205745.4,951,142771.9]
["S7",0,0,2579.5,511194.7,104971.4,0,18467,26861.5,0,0,15200.5,126.5,0,164842.4,0,10825.5,0,21147.5,0,7612.5,0,2357.5,0,205745.4,951,142771.9]
["S8",0,0,2579.5,511194.7,104971.4,0,18467,26861.5,0,0,15200.5,126.5,0,131969.9,0,10825.5,0,21147.5,0,6297,0,2357.5,0,205745.4,951,142771.9]
["S9",0,0,2579.5,511194.7,104083.4,0,18467,26861.5,0,0,15200.5,126.5,0,130634.9,0,10825.5,0,21147.5,0,6297,0,2357.5,0,123905.9,951,142771.9]
["S10",0,0,2579.5,511194.7,104083.4,0,18467,26861.5,0,0,15200.5,126.5,0,130634.9,0,10825.5,0,21147.5,0,6297,0,2357.5,0,121311.4,811.5,142771.9]
["S11",0,0,2579.5,511194.7,104083.4,0,18467,26861.5,0,0,15200.5,126.5,0,130634.9,0,10825.5,0,21147.5,0,6297,0,2357.5,0,121311.4,811.5,142771.9]
["S12",0,0,2579.5,511194.7,104083.4,0,18467,26861.5,0,0,15200.5,126.5,0,130634.9,0,10825.5,0,21147.5,0,3141,0,2357.5,0,51519.5,811.5,142771.9]
["S13",0,0,2579.5,511194.7,104083.4,0,18467,26861.5,0,0,15200.5,126.5,0,130634.9,0,10825.5,0,21147.5,0,3141,0,2357.5,0,51519.5,811.5,128129.4]
["S14",0,0,2579.5,511194.7,104083.4,0,18467,26861.5,0,0,15200.5,126.5,0,130634.9,0,10825.5,0,21147.5,0,3141,0,2357.5,0,51519.5,811.5,128129.4]
["S15",0,0,2579.5,511194.7,104083.4,0,18467,26861.5,0,0,15200.5,126.5,0,130634.9,0,10825.5,0,116.5,0,3141,0,2357.5,0,44284,811.5,128129.4]
["S16",0,0,2579.5,511194.7,104083.4,0,18467,26861.5,0,0,0,126.5,0,130634.9,0,10825.5,0,116.5,0,3141,0,2357.5,0,44284,811.5,128129.4]
["S17",0,0,2579.5,511194.7,104083.4,0,18467,26861.5,0,0,0,126.5,0,130634.9,0,10825.5,0,116.5,0,3141,0,2357.5,0,43228,811.5,128129.4]
["S18",0,0,2579.5,511194.7,104083.4,0,18467,26861.5,0,0,0,126.5,0,130634.9,0,10825.5,0,116.5,0,3141,0,2357.5,0,43228,0,128129.4]
["S19",0,0,2579.5,511194.7,104083.4,0,18467,26861.5,0,0,0,126.5,0,130634.9,0,10825.5,0,116.5,0,3141,0,2357.5,0,43228,0,128129.4]
["S20",0,0,2579.5,511194.7,104083.4,0,18467,26861.5,0,0,0,126.5,0,130634.9,0,10825.5,0,0,0,3141,0,2357.5,0,30684.5,0,128129.4]
["S21",0,0,2579.5,511194.7,104083.4,0,0,26861.5,0,0,0,126.5,0,130634.9,0,10825.5,0,0,0,3141,0,2357.5,0,30684.5,0,128129.4]
["S22",0,0,2579.5,511194.7,104083.4,0,0,26861.5,0,0,0,126.5,0,130634.9,0,10825.5,0,0,0,0,0,2357.5,0,30684.5,0,0]
["S23",0,0,2579.5,511194.7,104083.4,0,0,26861.5,0,0,0,126.5,0,0,0,10825.5,0,0,0,0,0,2357.5,0,30684.5,0,0]
["S24",0,0,2579.5,511194.7,104083.4,0,0,26861.5,0,0,0,126.5,0,0,0,0,0,0,0,0,0,2357.5,0,30684.5,0,0]
["S25",0,0,2579.5,482763.2,104083.4,0,0,0,0,0,0,0,0,0,0,0,0,0,0,0,0,2357.5,0,0,0,0]
["S26",0,0,0,482763.2,104083.4,0,0,0,0,0,0,0,0,0,0,0,0,0,0,0,0,2357.5,0,0,0,0]
["S27",0,0,0,482763.2,0,0,0,0,0,0,0,0,0,0,0,0,0,0,0,0,0,0,0,0,0,0]
["S28",0,0,0,482763.2,0,0,0,0,0,0,0,0,0,0,0,0,0,0,0,0,0,0,0,0,0,0]
["S29",0,0,0,482763.2,0,0,0,0,0,0,0,0,0,0,0,0,0,0,0,0,0,0,0,0,0,0]
[]
["COCO:STD","X(A1)","X(A2)","X(A3)","X(A4)","X(A5)","X(A6)","X(A7)","X(A8)","X(A9)","X(A10)","X(A11)","X(A12)","X(A13)","X(A14)","X(A15)","X(A16)","X(A17)","X(A18)","X(A19)","X(A20)","X(A21)","X(A22)","X(A23)","X(A24)","X(A25)","X(A26)","Becslés","Tény+0","Delta","Delta/Tény"]
["O1",0,0,2579.5,511194.7,104971.4,0,18467,26861.5,0,0,15200.5,126.5,0,164842.4,0,10825.5,0,21147.5,0,3141,0,2357.5,0,0,951,142771.9,1025437.9,1025438,0.1,0]
["O2",0,0,2579.5,511194.7,104971.4,0,18467,26861.5,0,0,15200.5,126.5,0,164842.4,0,10825.5,0,21147.5,0,3141,0,2357.5,0,0,951,142771.9,1025437.9,1025438,0.1,0]
["O3",0,0,2579.5,511194.7,104083.4,0,18467,0,0,0,0,0,0,130634.9,0,10825.5,0,21147.5,0,6297,0,2357.5,0,209167.9,0,0,1016754.9,1016755,0.1,0]
["O4",0,0,0,511194.7,104083.4,0,0,26861.5,0,0,15200.5,0,0,130634.9,0,10825.5,14014,202210.9,0,0,0,2357.5,0,0,0,0,1017382.9,1017383,0.1,0]
["O5",0,0,2579.5,482763.2,104083.4,0,18467,26861.5,0,0,15200.5,126.5,0,164842.4,0,10825.5,0,21147.5,0,0,0,2357.5,0,30684.5,951,142771.9,1023661.9,1023662,0.1,0]
["O6",0,0,2579.5,511194.7,104083.4,0,18467,26861.5,0,0,0,0,0,130634.9,0,10825.5,0,21147.5,0,3141,0,2357.5,0,44284,811.5,142771.9,1019159.9,1019160,0.1,0]
["O7",0,0,2579.5,511194.7,104083.4,0,0,0,0,0,15200.5,126.5,0,0,0,10825.5,0,0,31329.5,3141,0,2357.5,0,205745.4,0,128129.4,1014712.9,1014713,0.1,0]
["O8",0,0,2579.5,511194.7,104083.4,0,18467,26861.5,0,0,15200.5,126.5,0,164842.4,0,0,0,0,0,0,0,0,0,30684.5,0,142771.9,1016811.9,1016812,0.1,0]
["O9",0,0,2579.5,482763.2,104083.4,0,18467,0,0,0,0,126.5,0,164842.4,0,0,0,202210.9,0,0,0,0,0,44284,951,0,1020307.9,1020308,0.1,0]
["O10",0,0,2579.5,511194.7,104083.4,0,18467,0,0,0,15200.5,126.5,0,130634.9,0,0,0,21147.5,31329.5,0,0,2357.5,0,51519.5,0,128129.4,1016769.9,1016770,0.1,0]
["O11",0,0,2579.5,511194.7,106170.4,0,18467,26861.5,0,0,15200.5,126.5,0,130634.9,0,10825.5,0,116.5,31329.5,7612.5,0,2357.5,0,30684.5,951,128129.4,1023241.4,1023241,-0.4,0]
["O12",0,4211.5,0,511194.7,104083.4,0,18467,26861.5,0,0,0,126.5,0,130634.9,0,10825.5,0,0,0,3141,0,2357.5,0,205745.4,811.5,0,1018460.4,1018460,-0.4,0]
["O13",0,0,228521.9,511194.7,104971.4,0,18467,26861.5,0,0,0,126.5,0,0,0,0,0,0,0,0,0,0,0,0,951,128129.4,1019223.4,1019224,0.6,0]
["O14",0,0,2579.5,511194.7,104971.4,0,18467,26861.5,0,0,15200.5,126.5,0,130634.9,0,10825.5,0,0,31329.5,6297,0,2357.5,0,30684.5,951,128129.4,1020610.4,1020610,-0.4,0]
["O15",0,0,2579.5,511194.7,104083.4,0,18467,26861.5,0,0,15200.5,126.5,0,130634.9,0,10825.5,0,21147.5,0,3141,0,2357.5,0,43228,811.5,128129.4,1018788.4,1018788,-0.4,0]
["O16",0,0,2579.5,511194.7,104971.4,0,18467,26861.5,0,0,0,126.5,0,0,0,10825.5,0,202210.9,0,7612.5,0,2357.5,0,0,0,142771.9,1029978.9,1029979,0.1,0]
["O17",0,0,0,511194.7,0,0,0,0,0,0,0,126.5,0,130634.9,0,10825.5,0,0,0,0,0,2357.5,0,238607.9,0,128129.4,1021876.4,1021876,-0.4,0]
["O18",0,0,2579.5,482763.2,104083.4,0,0,26861.5,191328.4,0,0,0,0,0,0,0,0,0,0,3141,0,2357.5,0,205745.4,0,0,1018859.9,1018860,0.1,0]
["O19",0,0,2579.5,511194.7,104083.4,0,18467,26861.5,0,0,0,126.5,0,130634.9,0,10825.5,0,21147.5,0,7612.5,0,2357.5,0,43228,0,142771.9,1021890.4,1025991,4100.6000000000004,0.4]
["O20",0,0,2579.5,511194.7,104083.4,0,18467,26861.5,0,0,0,126.5,0,130634.9,0,10825.5,0,21147.5,0,7612.5,0,2357.5,0,43228,0,142771.9,1021890.4,1017790,-4100.3999999999996,-0.4]
["O21",0,0,2579.5,482763.2,0,0,0,26861.5,0,0,15200.5,0,0,164842.4,0,0,0,116.5,0,0,0,2357.5,0,205745.4,811.5,128129.4,1029407.4,1029407,-0.4,0]
["O22",0,0,2579.5,482763.2,104971.4,0,0,26861.5,0,0,0,126.5,0,130634.9,0,10825.5,0,0,0,3141,0,2357.5,0,121311.4,0,142771.9,1028344.4,1028345,0.6,0]
["O23",0,0,2579.5,511194.7,104083.4,0,0,26861.5,0,0,0,126.5,0,164842.4,0,10825.5,0,0,0,7612.5,0,2357.5,0,51519.5,0,142771.9,1024774.9,1024775,0.1,0]
["O24",0,0,220469.9,511194.7,0,0,0,26861.5,0,0,0,126.5,0,0,0,10825.5,114927.4,116.5,0,3141,0,2357.5,0,123905.9,811.5,0,1014737.9,1014738,0.1,0]
["O25",0,0,0,511194.7,104083.4,1994,0,26861.5,0,0,15200.5,126.5,0,130634.9,0,10825.5,0,0,0,7612.5,0,2357.5,0,209167.9,811.5,0,1020870.4,1020870,-0.4,0]
["O26",0,0,2579.5,511194.7,104971.4,0,18467,26861.5,0,0,15200.5,126.5,0,0,0,10825.5,14014,21147.5,31329.5,7612.5,0,2357.5,0,121311.4,951,128129.4,1017079.4,1017080,0.6,0]
["O27",0,0,2579.5,511194.7,104083.4,0,18467,26861.5,0,0,15200.5,126.5,0,0,0,10825.5,112483.9,116.5,0,6297,0,2357.5,0,205745.4,811.5,0,1017150.4,1017150,-0.4,0]
["O28",0,0,2579.5,511194.7,104083.4,0,18467,26861.5,0,0,0,126.5,0,130634.9,0,10825.5,14014,116.5,0,6297,0,2357.5,0,51519.5,811.5,142771.9,1022660.9,1022661,0.1,0]
["O29",0,0,2579.5,511194.7,104083.4,0,18467,26861.5,0,0,15200.5,126.5,0,131969.9,0,10825.5,0,21147.5,0,3141,0,2357.5,0,30684.5,951,142771.9,1022361.9,1022362,0.1,0]
[]
["S1 összeg:",2020512.9]
["S29 összeg:",482763.2]
["Becslés összeg:",29608645.600000001]
["Tény összeg:",29608646]
["Tény-becslés eltérés:",-0.4]
["Tény négyzetösszeg:"]
["Becslés négyzetösszeg:"]
["Négyzetösszeg hiba:",0]
[]
["Open url"]
[]
["Maximális memória használat: 1.52 Mb"]
["A futtatás idôtartama: 0.42 mp (0.01 p)"]

{"sheet":"2020","index":9,"n_rows":236,"n_cols":32,"rows_kept":236,"cut":false,"hidden":false,"merged":[]}
["Területi egység neve","Területi egység szintje","Év","Lakosság","Belgyógyászat","Sebészet","Baleseti sebészet","Szülészet és nőgyógyászat","Csecsemő- és gyermek-gyógyászat","Fül-orr-gégészet","Szemészet","Bőrgyógyászat és nemibeteg-ellátás","Neurológia","Ortopédia","Urológia","Onkológia","Fogászat","Reumatológia","Aneszteziológiai és intenzív betegellátás","Pszichiátria","Nukleáris medicina (izotóp-diagnosztika és \n-terápia)","Fizioterápia","Patológia és kórszövettan","Ultrahang-diagnosztika és -terápia","Tomográfia","Röntgen-diagnosztika és -terápia","Laboratóriumi diagnosztika","Sürgősségi betegellátás, oxyológia","Kardiológia","Orvosi rehabilitáció","Tüdő-gyógyászat"]
["Budapest + Pest","főváros, régió + megye, régió",2020,3047318,1165026,760304,378183,719846,402617,521877,644655,471262,506622,289674,430077,308098,1344698,684956,91727,546682,35145,1441705,239375,438236,294916,907531,4557628,231622,743306,101714,602318]
["Közép-Magyarország","nagyrégió",2020,3047318,1165026,760304,378183,719846,402617,521877,644655,471262,506622,289674,430077,308098,1344698,684956,91727,546682,35145,1441705,239375,438236,294916,907531,4557628,231622,743306,101714,602318]
["Fejér","megye",2020,418603,97490,60692,58295,78658,34356,57043,60465,25855,51821,25304,31147,20598,148357,53556,12321,47899,1593,188572,25782,67840,25526,131868,366796,60542,32046,2176,52460]
["Komárom-Esztergom","megye",2020,300995,66667,51522,30754,54204,23330,37272,41453,32039,35408,12178,30857,11110,78020,47894,4329,36593,5481,185173,15236,39041,18192,82587,226672,30086,22714,1776,38821]
["Veszprém","megye",2020,341157,81469,64507,48917,55069,21206,46448,45927,27759,53550,7019,34166,25545,107788,68150,4611,37858,2957,146057,19469,46526,28651,88853,190969,38091,42966,21196,45855]
["Közép-Dunántúl","régió",2020,1060755,245626,176721,137966,187931,78892,140763,147845,85653,140779,44501,96170,57253,334165,169600,21261,122350,10031,519802,60487,153407,72369,303308,784437,128719,97726,25148,137136]
["Győr-Moson-Sopron","megye",2020,473141,96393,74406,75184,99322,29908,42927,49736,28973,44750,21360,53968,38254,132758,47967,8250,50450,2375,160444,43895,63741,23820,126679,350131,65811,39932,6337,51606]
["Vas","megye",2020,254137,66305,43239,27471,49046,17624,21768,41423,20076,23062,8617,24643,31273,79179,43760,3758,12338,917,86008,15964,14382,17193,57173,242538,22825,11171,7867,32895]
["Zala","megye",2020,267271,64918,31633,37415,49509,18519,27501,38301,14547,33051,16846,26155,20921,84853,59680,5092,24371,1450,182081,16727,36424,24393,66865,260235,38308,32909,2165,40198]
["Nyugat-Dunántúl","régió",2020,994549,227616,149278,140070,197877,66051,92196,129460,63596,100863,46823,104766,90448,296790,151407,17100,87159,4742,428533,76586,114547,65406,250717,852904,126944,84012,16369,124699]
["Baranya","megye",2020,359109,113911,84724,37596,87066,60668,45991,57668,51943,58113,25145,53282,61273,233957,65257,8370,77523,2052,142570,32210,68245,34939,101539,528737,44792,72440,5754,58950]
["Somogy","megye",2020,299950,84499,86100,22987,67496,25613,30880,45212,34610,58459,21565,21117,40267,109219,40109,4385,28772,1140,100947,18610,46670,34422,81351,332301,43820,34107,1419,43536]
["Tolna","megye",2020,215514,69349,30053,46226,48896,25625,25651,33877,24356,32613,14994,17781,16226,73393,24536,5570,17670,1714,54505,12249,25834,10733,51823,208384,11058,30570,2251,32436]
["Dél-Dunántúl","régió",2020,874573,267759,200877,106809,203458,111906,102522,136757,110909,149185,61704,92180,117766,416569,129902,18325,123965,4906,298022,63069,140749,80094,234713,1069422,99670,137117,9424,134922]
["Dunántúl","nagyrégió",2020,2929877,741001,526876,384845,589266,256849,335481,414062,260158,390827,153028,293116,265467,1047524,450909,56686,333474,19679,1246357,200142,408703,217869,788738,2706763,355333,318855,50941,396757]
["Borsod-Abaúj-Zemplén","megye",2020,637064,177645,120409,75184,149215,65119,67791,95901,57943,83133,34331,52164,58199,269478,73056,15921,65444,3613,378012,41902,137597,61969,185039,584006,43120,57724,18918,141611]
["Heves","megye",2020,293421,76459,46252,27439,72573,14853,22604,33952,15064,52045,20071,21071,16721,117384,42041,8884,31089,1648,79012,17047,35387,25899,87210,339864,70149,29139,5195,48192]
["Nógrád","megye",2020,188092,51024,26433,23004,31910,11496,16804,23311,16090,37743,7057,9606,6558,64386,20160,2304,11801,904,64570,10465,27612,14043,48055,130799,28835,10846,1091,23848]
["Észak-Magyarország","régió",2020,1118577,305128,193094,125627,253698,91468,107199,153164,89097,172921,61459,82841,81478,451248,135257,27109,108334,6165,521594,69414,200596,101911,320304,1054669,142104,97709,25204,213651]
["Hajdú-Bihar","megye",2020,526727,227607,99950,86222,140879,51508,79593,87601,50949,96769,38420,47360,78842,304111,96986,19347,61719,5820,274801,36369,119982,46714,185284,784338,68289,45607,44413,66061]
["Jász-Nagykun-Szolnok","megye",2020,366905,109106,58336,47318,64921,18623,43862,34135,33988,38233,12613,38693,20990,134617,117816,5200,36106,1745,157505,15789,45644,7237,103791,385739,53649,34721,7027,68406]
["Szabolcs-Szatmár-Bereg","megye",2020,549028,159066,56425,87481,90718,45316,65375,62041,40478,51930,28324,37933,34609,212945,67536,12886,55134,4804,133722,34954,79745,41079,149638,605051,69497,43217,16442,108512]
["Észak-Alföld","régió",2020,1442660,495779,214711,221021,296518,115447,188830,183777,125415,186932,79357,123986,134441,651673,282338,37433,152959,12369,566028,87112,245371,95030,438713,1775128,191435,123545,67882,242979]
["Bács-Kiskun","megye",2020,502220,127530,62321,86633,99068,22517,44681,57894,56938,58594,16170,43092,54162,195474,50563,8940,61686,49415,160052,27878,65313,28510,146500,515974,76341,42339,1223,55500]
["Békés","megye",2020,330542,95145,58479,31196,65699,25103,59439,44339,30833,52450,20245,35852,29412,137166,46619,7177,58548,3652,126286,23684,64993,27952,95754,357736,52566,40780,3275,55693]
["Csongrád-Csanád","megye",2020,398332,182376,108170,47801,127217,64897,50826,73260,59290,75845,29163,56677,50568,183293,49068,10840,77118,11684,185653,38431,73279,37471,97829,657435,62343,57979,6033,43918]
["Dél-Alföld","régió",2020,1231094,405051,228970,165630,291984,112517,154946,175493,147061,186889,65578,135621,134142,515933,146250,26957,197352,64751,471991,89993,203585,93933,340083,1531145,191250,141098,10531,155111]
["Alföld és Észak","nagyrégió",2020,3792331,1205958,636775,512278,842200,319432,450975,512434,361573,546742,206394,342448,350061,1618854,563845,91499,458645,83285,1559613,246519,649552,290874,1099100,4360942,524789,362352,103617,611741]
["Ország összesen","ország",2020,9769526,3111985,1923955,1275306,2151312,978898,1308333,1571151,1092993,1444191,649096,1065641,923626,4011076,1699710,239912,1338801,138109,4247675,686036,1496491,803659,2795369,11625333,1111744,1424513,256272,1610816]
[]
[null,null,null,null,{"$f":"E2/$D2","v":0.38231192149949561},{"$f":"F2/$D2","v":0.24949939586219752},0.12410355597938909,0.23622280313377206,0.13212175427703968,0.17125780768531543,0.2115483188823746,0.1546481200846121,0.16625176630729055,9.5058671264370828E-2,0.14113295691490024,0.10110464349306506,0.4412726207110646,0.22477339089651949,3.0100895279061783E-2,0.1793977523842277,1.1533092378281493E-2,0.47310618714554897,7.8552681407060246E-2,0.14381039327041023,9.6778872437993019E-2,0.29781302771814427,1.4956194266564895,7.6008476962364943E-2,0.2439213761084337,3.3378203390653685E-2,0.19765511836966146,{"$f":"RANK(AF1,AF$32:AF$60,0)","v":0}]
[null,null,null,null,{"$f":"E3/$D3","v":0.38231192149949561},0.24949939586219752,0.12410355597938909,0.23622280313377206,0.13212175427703968,0.17125780768531543,0.2115483188823746,0.1546481200846121,0.16625176630729055,9.5058671264370828E-2,0.14113295691490024,0.10110464349306506,0.4412726207110646,0.22477339089651949,3.0100895279061783E-2,0.1793977523842277,1.1533092378281493E-2,0.47310618714554897,7.8552681407060246E-2,0.14381039327041023,9.6778872437993019E-2,0.29781302771814427,1.4956194266564895,7.6008476962364943E-2,0.2439213761084337,3.3378203390653685E-2,0.19765511836966146]
[null,null,null,null,{"$f":"E4/$D4","v":0.23289369641402474},0.14498701633767555,0.13926082708437351,0.18790596340685567,8.2072990399017678E-2,0.136269926398043,0.14444473642090477,6.1764965850698635E-2,0.12379509941400324,6.0448682880915809E-2,7.4407015716561997E-2,4.9206527425747069E-2,0.35440978683860364,0.12793983798491648,2.9433616099263503E-2,0.1144258402352587,3.8055150106425422E-3,0.45047933244625576,6.1590576273939747E-2,0.16206286147017579,6.0979018306127765E-2,0.31501924257590125,0.87623834516236143,0.14462868159091072,7.6554635298839241E-2,5.1982427264018654E-3,0.12532160543522144]
[null,null,null,null,{"$f":"E5/$D5","v":0.2214887290486553},0.17117227860927922,0.10217445472516155,0.18008272562667155,7.7509593182611011E-2,0.12382929949002475,0.13771989567933021,0.10644362863170484,0.11763650558979385,4.0459143839598664E-2,0.10251665310054985,3.6910912141397696E-2,0.25920696357082346,0.15911892224123325,1.4382298709280886E-2,0.12157344806392133,1.8209604810711141E-2,0.61520291034734798,5.0618781042874469E-2,0.12970647352946063,6.0439542185086133E-2,0.27437997308925399,0.75307563248558951,9.9955148756623868E-2,7.5463047558929547E-2,5.9004302397049789E-3,0.12897556437814581]
[null,null,null,null,{"$f":"E6/$D6","v":0.23880207646332921},0.18908303215235214,0.14338559666077494,0.16141834990927931,6.215906459489326E-2,0.13614845950691323,0.13462130338817613,8.1367229750525419E-2,0.15696585443065803,2.0574105177381674E-2,0.10014743944869957,7.4877549046333508E-2,0.31594837567454281,0.19976140017645835,1.3515771331088033E-2,0.11096943635921291,8.6675636144062703E-3,0.42812253595851762,5.7067567131848386E-2,0.13637709324445929,8.398186172348801E-2,0.2604460702843559,0.55976866955683158,0.11165240637008768,0.1259420149667162,6.2129752577259154E-2,0.13441025686121053]
[null,null,null,null,{"$f":"E7/$D7","v":0.23155771125283406},0.166599261846515,0.1300639638747873,0.17716720637659025,7.4373441558135481E-2,0.13270076502114062,0.13937714175280813,8.0747203642688462E-2,0.13271584861725846,4.1952194427553963E-2,9.0661839915908954E-2,5.397382053348794E-2,0.31502561854528144,0.15988611884931017,2.0043271066363111E-2,0.11534237406375647,9.4564720411405082E-3,0.4900302143284736,5.702259239881028E-2,0.14462057685327903,6.8224047965835657E-2,0.2859359607072321,0.73950818049408207,0.1213465880434219,9.2128719638370785E-2,2.3707642198245588E-2,0.12928150232617333]
[null,null,null,null,{"$f":"E8/$D8","v":0.20372996633138959},0.15725967523423251,0.15890400535992441,0.20992050995369246,6.3211600770172099E-2,9.0727711189687643E-2,0.10511877009179083,6.1235445670529506E-2,9.458068525027423E-2,4.5145104736220285E-2,0.11406324964439776,8.0851162761206491E-2,0.28058866173085822,0.10137992691396433,1.7436662643905306E-2,0.10662783398606335,5.0196453065788002E-3,0.33910398802893854,9.2773612939905867E-2,0.13471882588911127,5.0344400506402952E-2,0.26774048328088246,0.74001407614220704,0.13909384306158207,8.4397674266233527E-2,1.3393470445385202E-2,0.10907108029107603]
[null,null,null,null,{"$f":"E9/$D9","v":0.26090258403931738},0.17014051476172301,0.1080952399689931,0.1929903949444591,6.9348422307652965E-2,8.565458787976564E-2,0.16299476266738019,7.8996761589221559E-2,9.0746329735536341E-2,3.3906908478497817E-2,9.6967383733970264E-2,0.12305567469514475,0.31156030015306707,0.17219059011478061,1.4787299763513381E-2,4.8548617477974482E-2,3.608290016801961E-3,0.33843163333162823,6.2816512353573078E-2,5.6591523469624649E-2,6.7652486650900887E-2,0.22496920952084898,0.95435926291724538,8.9813761868598435E-2,4.3956606082546028E-2,3.0955744342618351E-2,0.12943805899967339]
[null,null,null,null,{"$f":"E10/$D10","v":0.24289204590097691},0.11835552678741801,0.13998899992891112,0.18523895222452119,6.9289223297701583E-2,0.10289556293050874,0.14330398733869368,5.4427902765358006E-2,0.12366100325138156,6.3029659035211447E-2,9.7859475962599765E-2,7.8276356207744202E-2,0.31747926262108495,0.2232939600630072,1.9051823804303498E-2,9.1184602893692165E-2,5.4252051288766834E-3,0.68125984487654856,6.2584418062565705E-2,0.13628115283738229,9.126691635081996E-2,0.25017678685678579,0.97367465980222323,0.14333017798414344,0.12312970730082949,8.1003924855296682E-3,0.15040165225557581]
[null,null,null,null,{"$f":"E11/$D11","v":0.22886353512999361},0.15009617424581392,0.14083770633724432,0.1989615393510023,6.6413017357616372E-2,9.2701314867341886E-2,0.13016955424016313,6.3944561806406716E-2,0.10141581762185674,4.7079631068956886E-2,0.10534020948188576,9.0943734295645562E-2,0.29841666926415894,0.15223684303136398,1.7193722983985707E-2,8.7636707693638016E-2,4.7679903152081995E-3,0.43088173634481558,7.7005758388978315E-2,0.11517481793255033,6.5764482192430945E-2,0.25209114885239442,0.8575786612826517,0.12763976435550184,8.4472459376058892E-2,1.6458716463442224E-2,0.12538245978830606]
[null,null,null,null,{"$f":"E12/$D12","v":0.31720452564541685},0.23592836715314849,0.10469244714000485,0.24245006390817272,0.16894034958745116,0.12806975041004262,0.16058634008058834,0.14464410527165847,0.16182551815743967,7.0020523016688527E-2,0.14837277818155489,0.17062507483800182,0.65149300073236815,0.18171919946311565,2.3307686524147265E-2,0.21587595966684209,5.7141425026941677E-3,0.39701037846447734,8.9694215405350469E-2,0.19003979293195103,9.7293579386760004E-2,0.2827525904391146,1.4723579748767088,0.12473093127713313,0.20172148289238087,1.6022990234162888E-2,0.16415628680985439]
[null,null,null,null,{"$f":"E13/$D13","v":0.28171028504750789},0.28704784130688449,7.6636106017669611E-2,0.22502417069511585,8.5390898483080513E-2,0.10295049174862476,0.15073178863143857,0.11538589764960827,0.19489581596932823,7.1895315885980998E-2,7.0401733622270382E-2,0.13424570761793633,0.36412402067011168,0.13371895315885982,1.4619103183863977E-2,9.5922653775629266E-2,3.8006334389064844E-3,0.33654609101516919,6.2043673945657608E-2,0.15559259876646109,0.11475912652108684,0.27121520253375564,1.1078546424404068,0.14609101516919487,0.11370895149191532,4.7307884647441239E-3,0.14514419069844975]
[null,null,null,null,{"$f":"E14/$D14","v":0.3217841996343625},0.13944801729818015,0.21449186595766401,0.22688085228801841,0.11890178828289577,0.11902243009734867,0.1571916441623282,0.11301353972363744,0.15132659595200312,6.9573206381023975E-2,8.2505080876416378E-2,7.5289772358176271E-2,0.34054864185157346,0.11384875228523438,2.5845188711638222E-2,8.1990033130098283E-2,7.9530796143173991E-3,0.25290700372133595,5.6836214816670845E-2,0.11987156286830554,4.9801869020110065E-2,0.24046233655354177,0.96691630242118842,5.1309891700771181E-2,0.14184693337787802,1.044479708974823E-2,0.15050530359976613]
[null,null,null,null,{"$f":"E15/$D15","v":0.30615969164380791},0.22968580095658109,0.12212702656039004,0.23263695540566653,0.12795501347514729,0.11722520590047944,0.15637002285686843,0.12681502859109531,0.17058038608555259,7.0553287146984875E-2,0.10540000663180775,0.13465542613366752,0.47631129705582037,0.14853191214455511,2.0953082246993677E-2,0.14174345652106798,5.6095946250341597E-3,0.34076286370605996,7.2114048798670893E-2,0.16093453605359415,9.1580691377392165E-2,0.2683743952763234,1.2227932945563149,0.11396418595131567,0.15678165230346694,1.0775544179845479E-2,0.15427185609434546]
[null,null,null,null,{"$f":"E16/$D16","v":0.25291198231188544},0.17982870953285751,0.13135193047353183,0.20112311882034639,8.7665454897935993E-2,0.11450344161205402,0.14132402145209508,8.879485384540034E-2,0.13339365440938306,5.223017894607862E-2,0.10004379023419754,9.0606875305686896E-2,0.35753173256078669,0.1539003173170751,1.9347569880919915E-2,0.11381842992043693,6.7166642149141418E-3,0.42539567360677599,6.8310717480631444E-2,0.13949493442898797,7.4361142123031104E-2,0.26920515775918236,0.92384868033709266,0.12127915267432729,0.10882880066296298,1.7386736712838115E-2,0.13541763015990091]
[null,null,null,null,{"$f":"E17/$D17","v":0.27884953474062263},0.18900612811271708,0.11801640023608304,0.23422293521530019,0.10221735963733627,0.10641160071829518,0.15053589592254468,9.095318523727601E-2,0.13049395351173509,5.3889405146107766E-2,8.18818831388997E-2,9.1355028694134338E-2,0.42299988698152774,0.1146760765009481,2.4991209674381225E-2,0.10272751246342597,5.6713297251139603E-3,0.59336581567942936,6.5773611442492427E-2,0.21598614895834642,9.7272801476774709E-2,0.29045590395941379,0.91671480416410278,6.7685507264576242E-2,9.0609420717541717E-2,2.9695603581429808E-2,0.22228692878580489]
[null,null,null,null,{"$f":"E18/$D18","v":0.26057780458794699},0.15763016280361664,9.3514097491317935E-2,0.24733403539623952,5.0620098765936997E-2,7.7036067629787916E-2,0.11571087277325072,5.1339202033937582E-2,0.17737312598621094,6.840342034142069E-2,7.1811492701613036E-2,5.698637793477631E-2,0.40005316592881901,0.14327877009484666,3.0277314847948853E-2,0.10595356160602001,5.6165032495969951E-3,0.2692786133235181,5.809740952419902E-2,0.12060145661012675,8.8265666056621714E-2,0.29721799053237496,1.1582811046244135,0.23907286799513328,9.9307820503644936E-2,1.7704935911199267E-2,0.16424182318238981]
[null,null,null,null,{"$f":"E19/$D19","v":0.27127150543351125},0.14053229270782383,0.122301852285052,0.16965102184037598,6.1119026859196561E-2,8.9339259511302976E-2,0.12393403228207472,8.5543244795100268E-2,0.20066244178380793,3.7518873742636585E-2,5.1070752610424687E-2,3.4865916679071941E-2,0.34231120940816195,0.10718159198690003,1.224932479850286E-2,6.274057376177615E-2,4.8061586883014693E-3,0.34328945409693129,5.5637666673755394E-2,0.1468005018820577,7.4660272632541519E-2,0.25548667673266273,0.69539906003445118,0.1533026391340408,5.7663271165174487E-2,5.8003530187355126E-3,0.12678901814005911]
[null,null,null,null,{"$f":"E20/$D20","v":0.27278229393238018},0.17262468296773489,0.11230965771690281,0.22680423430841148,8.1771751073015084E-2,9.5835154844056331E-2,0.13692754276191982,7.9652093686889677E-2,0.15459016232230771,5.4943915349591491E-2,7.4059273523414126E-2,7.2840761074114704E-2,0.40341255005243271,0.12091881023836536,2.4235256044063128E-2,9.6849836890978452E-2,5.5114668011232125E-3,0.46630138112977471,6.205562960797513E-2,0.17933141840034258,9.1107719897691439E-2,0.28634953159237136,0.94286669581083826,0.12703998026063471,8.73511613415974E-2,2.2532199392621161E-2,0.19100249692242913]
[null,null,null,null,{"$f":"E21/$D21","v":0.43211568801295547},0.18975674305664983,0.16369390595128028,0.26746113261708626,9.7788797612425413E-2,0.15110863882048955,0.16631196046528848,9.6727526783324191E-2,0.18371756146922411,7.2941011187958843E-2,8.9913750386822769E-2,0.14968285278711743,0.57735980878139914,0.18412953959071776,3.6730602380360224E-2,0.11717455152289516,1.1049367129461751E-2,0.52171428462941905,6.9047153459002475E-2,0.22778782936891406,8.8687308605786302E-2,0.3517647661881772,1.4890787827470398,0.12964780616904012,8.6585650631161873E-2,8.4318821704602198E-2,0.12541791098614652]
[null,null,null,null,{"$f":"E22/$D22","v":0.29736852863820334},0.15899483517531787,0.12896526348782383,0.17694226025810497,5.0757007944835855E-2,0.11954593150815607,9.3034981807279815E-2,9.2634333138005745E-2,0.10420408552622613,3.4376746024175196E-2,0.10545781605592729,5.7208269170493722E-2,0.36689878851473817,0.32110764366797945,1.417260598792603E-2,9.840694457693408E-2,4.7559995094097925E-3,0.42928005887082488,4.3032937681416174E-2,0.12440277456017225,1.9724451833580899E-2,0.28288249001785204,1.0513320886878075,0.14622041127812377,9.4632125482073018E-2,1.9152096591760811E-2,0.18644063177116693]
[null,null,null,null,{"$f":"E23/$D23","v":0.28972292852094977},0.1027725361912325,0.15933795726265326,0.16523383142571962,8.2538595481469065E-2,0.11907407272488835,0.1130015226910103,7.3726658749644833E-2,9.4585339909804236E-2,5.1589354277013194E-2,6.9091193891750516E-2,6.303685786517263E-2,0.38785817845355791,0.12301011970245598,2.347056980700438E-2,0.10042110784878003,8.7500091070036503E-3,0.24356134841938845,6.3665241117028634E-2,0.14524760121523858,7.4821320588385296E-2,0.27255076243834558,1.1020403330977655,0.12658188653402011,7.8715475349162525E-2,2.9947470802946297E-2,0.19764383601564947]
[null,null,null,null,{"$f":"E24/$D24","v":0.34365616292127044},0.14882993914019935,0.15320380408412237,0.20553560783552605,8.0023706209363263E-2,0.13089016122995023,0.12738760345472946,8.6933165125532008E-2,0.12957453592669096,5.5007416854976225E-2,8.5942633745996977E-2,9.3189663538186404E-2,0.45171627410477866,0.19570654208198743,2.5947208628505677E-2,0.10602567479517003,8.5737457197121985E-3,0.39235024191424173,6.0382903802697792E-2,0.17008234788515658,6.5871376485103911E-2,0.30410006515741755,1.2304548542276073,0.13269585349285348,8.5636948414733891E-2,4.7053359765987825E-2,0.16842429955776136]
[null,null,null,null,{"$f":"E25/$D25","v":0.25393253952451117},0.12409103580104337,0.17250009955796264,0.19726016486798614,4.483493289793318E-2,8.896698657958664E-2,0.11527617378837959,0.11337262554259089,0.11666998526542152,3.2197045119668671E-2,8.5803034526701447E-2,0.10784516745649317,0.38921986380470708,0.10067898530524472,1.7800963721078412E-2,0.12282664967544105,9.8393134482895939E-2,0.31868902074787941,5.5509537652821475E-2,0.13004858428577118,5.6767950300665046E-2,0.29170483055234758,1.027386404364621,0.15200708852694039,8.430369160925491E-2,2.4351877663175499E-3,0.11050933853689618]
[null,null,null,null,{"$f":"E26/$D26","v":0.28784541752636578},0.17691851565005354,9.437832408589529E-2,0.19876142819974466,7.594496312117674E-2,0.17982283643228394,0.13414029079511833,9.3280127790114423E-2,0.15867877607081701,6.1247889829431662E-2,0.10846427987971272,8.8981127965583801E-2,0.41497298376605696,0.14103805265291552,2.1712823181320378E-2,0.17712726370627635,1.1048520309068137E-2,0.38205734823411247,7.1652013964942432E-2,0.19662554229114607,8.4564140109275071E-2,0.28968784602259318,1.0822709368249723,0.15902971483200321,0.12337312656182875,9.9079693352130734E-3,0.16848993471328907]
[null,null,null,null,{"$f":"E27/$D27","v":0.45784923129449806},0.27155739433437431,0.12000291214363898,0.31937429079260515,0.16292188425735316,0.12759707982286134,0.18391693361316691,0.1488456865127582,0.19040649508450239,7.32127973650121E-2,0.14228583191910266,0.12694937891005492,0.46015133105048051,0.12318367592862235,2.7213480212486069E-2,0.19360232168141148,2.9332315756705463E-2,0.4660760370746011,9.6479820852956824E-2,0.1839646325175984,9.4069770944839981E-2,0.24559663798037817,1.6504699597320829,0.15651014731430063,0.14555446210698614,1.5145657391321812E-2,0.11025476235903718]
[null,null,null,null,{"$f":"E28/$D28","v":0.32901711810795925},0.18598904714018588,0.13453887355474076,0.23717441560108327,9.1395945394908917E-2,0.12586041358336569,0.14255044700079766,0.11945554116907402,0.15180725436075557,5.3268068888322091E-2,0.11016299324015875,0.10896162275179637,0.41908497645183879,0.1187967775003371,2.1896784485993758E-2,0.16030619920168565,5.2596308649055228E-2,0.38339152006264349,7.3100023231369826E-2,0.16536917570875986,7.6300428724370359E-2,0.27624454347109156,1.2437271240051531,0.15534963211582545,0.11461188178969274,8.5541802656823925E-3,0.12599444071695581]
[null,null,null,null,{"$f":"E29/$D29","v":0.31799914089777503},0.16791123981530093,0.13508261805206348,0.22207977099045415,8.4231044178369449E-2,0.11891762612493477,0.13512375370187887,9.5343207119842649E-2,0.14417043238050686,5.4424046846121815E-2,9.0300134666515139E-2,9.2307607115518137E-2,0.42687571311681388,0.14868032352661201,2.4127377067033443E-2,0.12094012890752416,2.196142689021607E-2,0.41125445009942435,6.5004610620750136E-2,0.1712804077492181,7.6700583361526201E-2,0.28982174815436734,1.1499370703664844,0.13838164442924417,9.5548621678856624E-2,2.7322773249486926E-2,0.16131002278018453]
[null,null,null,null,{"$f":"E30/$D30","v":0.31854001923941855},0.19693432414223577,0.13053918890230704,0.22020638462910075,0.10019912941528586,0.13391980327397665,0.16082162020961918,0.11187779222860966,0.14782610742834401,6.6440889762717253E-2,0.10907806581404257,9.4541536610885726E-2,0.41057017505250509,0.17398080520999687,2.4557179130287387E-2,0.13703848067961535,1.4136714514092086E-2,0.43478823844677827,7.0222035337231301E-2,0.15317948895371178,8.2261821095516816E-2,0.28613148682955547,1.1899587554196591,0.1137971279261655,0.14581188483453547,2.6231774192524798E-2,0.16488169436265382]
[]
[null,null,null,null,null,null,null,null,null,null,null,null,null,null,null,null,null,null,null,null,null,null,null,null,null,null,null,null,null,null,"y",100000]
[null,null,null,null,{"$f":"RANK(E32,E$32:E$60,0)","v":3},{"$f":"RANK(F32,F$32:F$60,0)","v":3},17,6,3,2,1,1,7,1,3,9,6,2,3,3,7,6,4,17,4,4,2,26,1,4,{"$f":"(AE32*$AF$62)+$AF$63","v":1019765.5118369662},1000000]
[null,null,null,null,{"$f":"RANK(E33,E$32:E$60,0)","v":3},3,17,6,3,2,1,1,7,1,3,9,6,2,3,3,7,6,4,17,4,4,2,26,1,4,{"$f":"(AE33*$AF$62)+$AF$63","v":1019765.5118369662}]
[null,null,null,null,{"$f":"RANK(E34,E$32:E$60,0)","v":25},24,10,22,15,5,12,26,21,13,24,27,20,20,5,14,27,10,20,10,24,2,23,9,26,27,1012532.1605435221]
[null,null,null,null,{"$f":"RANK(E35,E$32:E$60,0)","v":28},15,26,24,18,13,17,11,23,24,12,28,29,12,26,10,5,2,28,24,25,17,25,24,27,25,1012897.5564378146]
[null,null,null,null,{"$f":"RANK(E36,E$32:E$60,0)","v":24},9,7,29,25,6,20,20,11,29,13,21,24,5,28,16,13,14,23,20,13,23,29,23,8,2,1013441.0256861211]
[null,null,null,null,{"$f":"RANK(E37,E$32:E$60,0)","v":26},18,15,25,20,8,16,21,18,23,17,26,25,11,18,13,11,5,24,16,20,13,27,19,17,11,1012928.1502326173]
[null,null,null,null,{"$f":"RANK(E38,E$32:E$60,0)","v":29},21,5,15,24,25,28,27,28,22,5,18,28,28,22,17,23,23,2,22,27,22,26,11,23,19,1010907.1080291076]
[null,null,null,null,{"$f":"RANK(E39,E$32:E$60,0)","v":19},16,24,21,21,28,5,23,29,27,16,6,26,10,24,29,29,24,16,29,21,29,19,25,29,6,1012943.8058999673]
[null,null,null,null,{"$f":"RANK(E40,E$32:E$60,0)","v":23},28,9,23,22,22,13,28,22,11,15,19,23,4,20,25,22,1,17,21,8,26,17,10,10,24,1015040.1652255576]
[null,null,null,null,{"$f":"RANK(E41,E$32:E$60,0)","v":27},22,8,18,23,24,22,25,26,21,11,15,27,14,23,26,25,12,6,28,23,25,24,15,22,16,1012538.2459788306]
[null,null,null,null,{"$f":"RANK(E42,E$32:E$60,0)","v":10},5,25,4,1,10,7,4,9,7,1,1,1,8,14,1,17,17,3,4,2,15,5,18,3,17,1016415.6286809854]
[null,null,null,null,{"$f":"RANK(E43,E$32:E$60,0)","v":15},1,29,12,12,21,10,7,2,5,27,4,18,19,25,24,28,25,19,12,1,19,12,8,12,28,1014514.419069845]
[null,null,null,null,{"$f":"RANK(E44,E$32:E$60,0)","v":7},26,1,10,6,16,8,9,14,8,22,20,22,26,8,27,15,28,25,27,28,28,18,29,7,21,1015050.5303599766]
[null,null,null,null,{"$f":"RANK(E45,E$32:E$60,0)","v":11},6,20,9,5,18,9,5,6,6,10,3,3,16,17,7,20,22,8,11,7,21,8,21,4,20,1015427.1856094345]
[null,null,null,null,{"$f":"RANK(E46,E$32:E$60,0)","v":22},12,13,17,11,19,15,17,17,19,14,16,19,13,19,15,16,15,12,19,19,20,21,20,13,15,1013541.7630159901]
[null,null,null,null,{"$f":"RANK(E47,E$32:E$60,0)","v":16},10,22,8,7,20,11,16,19,17,23,14,9,25,9,20,18,3,13,2,3,8,22,28,18,8,1022228.6928785805]
[null,null,null,null,{"$f":"RANK(E48,E$32:E$60,0)","v":20},20,28,3,28,29,25,29,5,9,26,25,14,17,2,19,19,27,22,26,11,6,10,1,14,14,1016424.182318239]
[null,null,null,null,{"$f":"RANK(E49,E$32:E$60,0)","v":18},25,19,27,26,26,24,19,1,25,29,29,21,27,29,28,24,21,26,14,18,24,28,5,28,26,1012678.9018140059]
[null,null,null,null,{"$f":"RANK(E50,E$32:E$60,0)","v":17},14,23,11,16,23,18,22,12,15,25,22,13,23,11,23,21,8,18,6,9,11,20,16,19,12,1019100.2496922429]
[null,null,null,null,{"$f":"RANK(E51,E$32:E$60,0)","v":2},8,3,2,9,4,4,12,4,4,19,2,2,7,1,12,9,4,11,1,10,1,4,14,20,1,1012541.7910986147]
[null,null,null,null,{"$f":"RANK(E52,E$32:E$60,0)","v":12},19,16,26,27,14,29,15,25,26,9,24,17,1,27,22,26,13,29,25,29,14,15,7,16,13,1018644.0631771167]
[null,null,null,null,{"$f":"RANK(E53,E$32:E$60,0)","v":13},29,4,28,14,15,27,24,27,20,28,23,16,22,13,21,12,29,15,15,17,18,13,17,25,7,1019764.3836015649]
[null,null,null,null,{"$f":"RANK(E54,E$32:E$60,0)","v":5},23,6,16,17,9,23,18,20,14,20,12,5,6,7,18,14,18,21,8,22,3,7,13,21,3,1016842.4299557761]
[null,null,null,null,{"$f":"RANK(E55,E$32:E$60,0)","v":21},27,2,20,29,27,26,8,24,28,21,8,15,29,21,9,1,26,27,23,26,7,16,6,24,29,1011050.9338536896]
[null,null,null,null,{"$f":"RANK(E56,E$32:E$60,0)","v":14},13,27,19,19,1,21,14,10,12,8,17,11,18,16,5,10,20,9,3,12,10,14,2,9,22,1016848.9934713289]
[null,null,null,null,{"$f":"RANK(E57,E$32:E$60,0)","v":1},2,21,1,2,11,3,3,3,3,2,5,4,21,6,2,3,9,1,5,6,27,1,3,6,18,1011025.4762359037]
[null,null,null,null,{"$f":"RANK(E58,E$32:E$60,0)","v":6},11,12,5,10,12,14,6,13,18,6,7,10,24,15,6,2,19,7,9,16,16,6,4,11,23,1012599.4440716956]
[null,null,null,null,{"$f":"RANK(E59,E$32:E$60,0)","v":9},17,11,13,13,17,19,13,16,16,18,13,8,15,12,11,4,16,14,7,15,9,11,12,15,9,1016131.0022780185]
[null,null,null,null,{"$f":"RANK(E60,E$32:E$60,0)","v":8},7,14,14,8,7,6,10,15,10,7,11,12,9,10,8,6,11,10,13,14,12,9,22,5,10,1016488.1694362654]
[]
[]
[]
[]
[]
[]
["Azonosító:",9067745,"Objektumok:",29,"Attribútumok:",26,"Lépcsôk:",29,"Eltolás:",0,"Leírás:","COCO STD: 9067745"]
[]
["Rangsor","X(A1)","X(A2)","X(A3)","X(A4)","X(A5)","X(A6)","X(A7)","X(A8)","X(A9)","X(A10)","X(A11)","X(A12)","X(A13)","X(A14)","X(A15)","X(A16)","X(A17)","X(A18)","X(A19)","X(A20)","X(A21)","X(A22)","X(A23)","X(A24)","X(A25)","X(A26)","Y(A27)"]
["O1",3,3,17,6,3,2,1,1,7,1,3,9,6,2,3,3,7,6,4,17,4,4,2,26,1,4,1019766]
["O2",3,3,17,6,3,2,1,1,7,1,3,9,6,2,3,3,7,6,4,17,4,4,2,26,1,4,1019766]
["O3",25,24,10,22,15,5,12,26,21,13,24,27,20,20,5,14,27,10,20,10,24,2,23,9,26,27,1012532]
["O4",28,15,26,24,18,13,17,11,23,24,12,28,29,12,26,10,5,2,28,24,25,17,25,24,27,25,1012898]
["O5",24,9,7,29,25,6,20,20,11,29,13,21,24,5,28,16,13,14,23,20,13,23,29,23,8,2,1013441]
["O6",26,18,15,25,20,8,16,21,18,23,17,26,25,11,18,13,11,5,24,16,20,13,27,19,17,11,1012928]
["O7",29,21,5,15,24,25,28,27,28,22,5,18,28,28,22,17,23,23,2,22,27,22,26,11,23,19,1010907]
["O8",19,16,24,21,21,28,5,23,29,27,16,6,26,10,24,29,29,24,16,29,21,29,19,25,29,6,1012944]
["O9",23,28,9,23,22,22,13,28,22,11,15,19,23,4,20,25,22,1,17,21,8,26,17,10,10,24,1015040]
["O10",27,22,8,18,23,24,22,25,26,21,11,15,27,14,23,26,25,12,6,28,23,25,24,15,22,16,1012538]
["O11",10,5,25,4,1,10,7,4,9,7,1,1,1,8,14,1,17,17,3,4,2,15,5,18,3,17,1016416]
["O12",15,1,29,12,12,21,10,7,2,5,27,4,18,19,25,24,28,25,19,12,1,19,12,8,12,28,1014514]
["O13",7,26,1,10,6,16,8,9,14,8,22,20,22,26,8,27,15,28,25,27,28,28,18,29,7,21,1015051]
["O14",11,6,20,9,5,18,9,5,6,6,10,3,3,16,17,7,20,22,8,11,7,21,8,21,4,20,1015427]
["O15",22,12,13,17,11,19,15,17,17,19,14,16,19,13,19,15,16,15,12,19,19,20,21,20,13,15,1013542]
["O16",16,10,22,8,7,20,11,16,19,17,23,14,9,25,9,20,18,3,13,2,3,8,22,28,18,8,1022229]
["O17",20,20,28,3,28,29,25,29,5,9,26,25,14,17,2,19,19,27,22,26,11,6,10,1,14,14,1016424]
["O18",18,25,19,27,26,26,24,19,1,25,29,29,21,27,29,28,24,21,26,14,18,24,28,5,28,26,1012679]
["O19",17,14,23,11,16,23,18,22,12,15,25,22,13,23,11,23,21,8,18,6,9,11,20,16,19,12,1019100]
["O20",2,8,3,2,9,4,4,12,4,4,19,2,2,7,1,12,9,4,11,1,10,1,4,14,20,1,1012542]
["O21",12,19,16,26,27,14,29,15,25,26,9,24,17,1,27,22,26,13,29,25,29,14,15,7,16,13,1018644]
["O22",13,29,4,28,14,15,27,24,27,20,28,23,16,22,13,21,12,29,15,15,17,18,13,17,25,7,1019764]
["O23",5,23,6,16,17,9,23,18,20,14,20,12,5,6,7,18,14,18,21,8,22,3,7,13,21,3,1016842]
["O24",21,27,2,20,29,27,26,8,24,28,21,8,15,29,21,9,1,26,27,23,26,7,16,6,24,29,1011051]
["O25",14,13,27,19,19,1,21,14,10,12,8,17,11,18,16,5,10,20,9,3,12,10,14,2,9,22,1016849]
["O26",1,2,21,1,2,11,3,3,3,3,2,5,4,21,6,2,3,9,1,5,6,27,1,3,6,18,1011025]
["O27",6,11,12,5,10,12,14,6,13,18,6,7,10,24,15,6,2,19,7,9,16,16,6,4,11,23,1012599]
["O28",9,17,11,13,13,17,19,13,16,16,18,13,8,15,12,11,4,16,14,7,15,9,11,12,15,9,1016131]
["O29",8,7,14,14,8,7,6,10,15,10,7,11,12,9,10,8,6,11,10,13,14,12,9,22,5,10,1016488]
[]
["Lépcsôk(1)","X(A1)","X(A2)","X(A3)","X(A4)","X(A5)","X(A6)","X(A7)","X(A8)","X(A9)","X(A10)","X(A11)","X(A12)","X(A13)","X(A14)","X(A15)","X(A16)","X(A17)","X(A18)","X(A19)","X(A20)","X(A21)","X(A22)","X(A23)","X(A24)","X(A25)","X(A26)"]
["S1","(0+0)/(2)=0","(0+0)/(2)=0","(13340.9+515933.2)/(2)=264637.05","(999377.7+0)/(2)=499688.85","(812.1+0)/(2)=406.05","(1479.2+0)/(2)=739.6","(0+0)/(2)=0","(1666.2+253387.4)/(2)=127526.85","(2084.3+9654.4)/(2)=5869.35","(0+0)/(2)=0","(1000.1+0)/(2)=500.05","(0+0)/(2)=0","(0+0)/(2)=0","(2325.3+0)/(2)=1162.65","(0+0)/(2)=0","(0+0)/(2)=0","(264+1469.2)/(2)=866.6","(5782.8+256738.9)/(2)=131260.9","(0+248436.7)/(2)=124218.35","(0+4)/(2)=2","(4809.7+4308.6)/(2)=4559.15","(3500.5+3925.6)/(2)=3713.05","(0+0)/(2)=0","(9159.3+510813.5)/(2)=259986.4","(4491.6+252574.3)/(2)=128533","(4532.7+257764.1)/(2)=131148.35"]
["S2","(0+0)/(2)=0","(0+0)/(2)=0","(1894.3+2634.4)/(2)=2264.35","(999377.7+0)/(2)=499688.85","(812.1+0)/(2)=406.05","(0+0)/(2)=0","(0+0)/(2)=0","(1666.2+253387.4)/(2)=127526.85","(0+0)/(2)=0","(0+0)/(2)=0","(1000.1+0)/(2)=500.05","(0+0)/(2)=0","(0+0)/(2)=0","(711.1+0)/(2)=355.55","(0+0)/(2)=0","(0+0)/(2)=0","(0+1469.2)/(2)=734.6","(5782.8+256738.9)/(2)=131260.9","(0+248436.7)/(2)=124218.35","(0+4)/(2)=2","(4809.7+4308.6)/(2)=4559.15","(3500.5+3925.6)/(2)=3713.05","(0+0)/(2)=0","(9159.3+510813.5)/(2)=259986.4","(4491.6+252574.3)/(2)=128533","(4532.7+257764.1)/(2)=131148.35"]
["S3","(0+0)/(2)=0","(0+0)/(2)=0","(1894.3+2634.4)/(2)=2264.35","(999377.7+0)/(2)=499688.85","(812.1+0)/(2)=406.05","(0+0)/(2)=0","(0+0)/(2)=0","(1666.2+253387.4)/(2)=127526.85","(0+0)/(2)=0","(0+0)/(2)=0","(1000.1+0)/(2)=500.05","(0+0)/(2)=0","(0+0)/(2)=0","(711.1+0)/(2)=355.55","(0+0)/(2)=0","(0+0)/(2)=0","(0+0)/(2)=0","(5782.8+256738.9)/(2)=131260.9","(0+248436.7)/(2)=124218.35","(0+4)/(2)=2","(4809.7+4308.6)/(2)=4559.15","(3500.5+3925.6)/(2)=3713.05","(0+0)/(2)=0","(4493.6+504712.6)/(2)=254603.1","(4491.6+252574.3)/(2)=128533","(4532.7+257764.1)/(2)=131148.35"]
["S4","(0+0)/(2)=0","(0+0)/(2)=0","(1894.3+2634.4)/(2)=2264.35","(999377.7+0)/(2)=499688.85","(812.1+0)/(2)=406.05","(0+0)/(2)=0","(0+0)/(2)=0","(1666.2+253387.4)/(2)=127526.85","(0+0)/(2)=0","(0+0)/(2)=0","(1000.1+0)/(2)=500.05","(0+0)/(2)=0","(0+0)/(2)=0","(711.1+0)/(2)=355.55","(0+0)/(2)=0","(0+0)/(2)=0","(0+0)/(2)=0","(0+0)/(2)=0","(0+248436.7)/(2)=124218.35","(0+4)/(2)=2","(1926.3+3820.5)/(2)=2873.4","(3500.5+3925.6)/(2)=3713.05","(0+0)/(2)=0","(4493.6+504712.6)/(2)=254603.1","(4491.6+252574.3)/(2)=128533","(4532.7+257764.1)/(2)=131148.35"]
["S5","(0+0)/(2)=0","(0+0)/(2)=0","(1894.3+2634.4)/(2)=2264.35","(999377.7+0)/(2)=499688.85","(812.1+0)/(2)=406.05","(0+0)/(2)=0","(0+0)/(2)=0","(1666.2+253387.4)/(2)=127526.85","(0+0)/(2)=0","(0+0)/(2)=0","(1000.1+0)/(2)=500.05","(0+0)/(2)=0","(0+0)/(2)=0","(711.1+0)/(2)=355.55","(0+0)/(2)=0","(0+0)/(2)=0","(0+0)/(2)=0","(0+0)/(2)=0","(0+248436.7)/(2)=124218.35","(0+4)/(2)=2","(1926.3+3820.5)/(2)=2873.4","(3500.5+3925.6)/(2)=3713.05","(0+0)/(2)=0","(4493.6+504712.6)/(2)=254603.1","(2946.4+1380.2)/(2)=2163.3","(4532.7+257764.1)/(2)=131148.35"]
["S6","(0+0)/(2)=0","(0+0)/(2)=0","(1894.3+2634.4)/(2)=2264.35","(999377.7+0)/(2)=499688.85","(812.1+0)/(2)=406.05","(0+0)/(2)=0","(0+0)/(2)=0","(1666.2+253387.4)/(2)=127526.85","(0+0)/(2)=0","(0+0)/(2)=0","(1000.1+0)/(2)=500.05","(0+0)/(2)=0","(0+0)/(2)=0","(711.1+0)/(2)=355.55","(0+0)/(2)=0","(0+0)/(2)=0","(0+0)/(2)=0","(0+0)/(2)=0","(0+248436.7)/(2)=124218.35","(0+4)/(2)=2","(1926.3+3820.5)/(2)=2873.4","(3500.5+3925.6)/(2)=3713.05","(0+0)/(2)=0","(4493.6+504712.6)/(2)=254603.1","(0+809.1)/(2)=404.55","(4532.7+257764.1)/(2)=131148.35"]
["S7","(0+0)/(2)=0","(0+0)/(2)=0","(1894.3+2634.4)/(2)=2264.35","(999377.7+0)/(2)=499688.85","(812.1+0)/(2)=406.05","(0+0)/(2)=0","(0+0)/(2)=0","(1666.2+253387.4)/(2)=127526.85","(0+0)/(2)=0","(0+0)/(2)=0","(1000.1+0)/(2)=500.05","(0+0)/(2)=0","(0+0)/(2)=0","(0+0)/(2)=0","(0+0)/(2)=0","(0+0)/(2)=0","(0+0)/(2)=0","(0+0)/(2)=0","(0+248436.7)/(2)=124218.35","(0+4)/(2)=2","(1926.3+3820.5)/(2)=2873.4","(3500.5+3925.6)/(2)=3713.05","(0+0)/(2)=0","(4493.6+504712.6)/(2)=254603.1","(0+809.1)/(2)=404.55","(4532.7+257764.1)/(2)=131148.35"]
["S8","(0+0)/(2)=0","(0+0)/(2)=0","(1894.3+2634.4)/(2)=2264.35","(999377.7+0)/(2)=499688.85","(812.1+0)/(2)=406.05","(0+0)/(2)=0","(0+0)/(2)=0","(1666.2+253387.4)/(2)=127526.85","(0+0)/(2)=0","(0+0)/(2)=0","(1000.1+0)/(2)=500.05","(0+0)/(2)=0","(0+0)/(2)=0","(0+0)/(2)=0","(0+0)/(2)=0","(0+0)/(2)=0","(0+0)/(2)=0","(0+0)/(2)=0","(0+248436.7)/(2)=124218.35","(0+4)/(2)=2","(1926.3+3820.5)/(2)=2873.4","(3500.5+3925.6)/(2)=3713.05","(0+0)/(2)=0","(4493.6+504712.6)/(2)=254603.1","(0+809.1)/(2)=404.55","(4532.7+255955.8)/(2)=130244.25"]
["S9","(0+0)/(2)=0","(0+0)/(2)=0","(1894.3+2634.4)/(2)=2264.35","(999377.7+0)/(2)=499688.85","(812.1+0)/(2)=406.05","(0+0)/(2)=0","(0+0)/(2)=0","(1666.2+253387.4)/(2)=127526.85","(0+0)/(2)=0","(0+0)/(2)=0","(1000.1+0)/(2)=500.05","(0+0)/(2)=0","(0+0)/(2)=0","(0+0)/(2)=0","(0+0)/(2)=0","(0+0)/(2)=0","(0+0)/(2)=0","(0+0)/(2)=0","(0+248055.7)/(2)=124027.85","(0+4)/(2)=2","(1926.3+3820.5)/(2)=2873.4","(3500.5+3925.6)/(2)=3713.05","(0+0)/(2)=0","(4493.6+504712.6)/(2)=254603.1","(0+809.1)/(2)=404.55","(4532.7+255955.8)/(2)=130244.25"]
["S10","(0+0)/(2)=0","(0+0)/(2)=0","(1894.3+2634.4)/(2)=2264.35","(999377.7+0)/(2)=499688.85","(812.1+0)/(2)=406.05","(0+0)/(2)=0","(0+0)/(2)=0","(1666.2+253387.4)/(2)=127526.85","(0+0)/(2)=0","(0+0)/(2)=0","(1000.1+0)/(2)=500.05","(0+0)/(2)=0","(0+0)/(2)=0","(0+0)/(2)=0","(0+0)/(2)=0","(0+0)/(2)=0","(0+0)/(2)=0","(0+0)/(2)=0","(0+248055.7)/(2)=124027.85","(0+4)/(2)=2","(0+0)/(2)=0","(3500.5+3925.6)/(2)=3713.05","(0+0)/(2)=0","(4493.6+503169.4)/(2)=253831.5","(0+809.1)/(2)=404.55","(4532.7+255955.8)/(2)=130244.25"]
["S11","(0+0)/(2)=0","(0+0)/(2)=0","(1894.3+0)/(2)=947.15","(999377.7+0)/(2)=499688.85","(812.1+0)/(2)=406.05","(0+0)/(2)=0","(0+0)/(2)=0","(1666.2+253387.4)/(2)=127526.85","(0+0)/(2)=0","(0+0)/(2)=0","(1000.1+0)/(2)=500.05","(0+0)/(2)=0","(0+0)/(2)=0","(0+0)/(2)=0","(0+0)/(2)=0","(0+0)/(2)=0","(0+0)/(2)=0","(0+0)/(2)=0","(0+248055.7)/(2)=124027.85","(0+4)/(2)=2","(0+0)/(2)=0","(3500.5+3925.6)/(2)=3713.05","(0+0)/(2)=0","(4493.6+503169.4)/(2)=253831.5","(0+809.1)/(2)=404.55","(4532.7+255955.8)/(2)=130244.25"]
["S12","(0+0)/(2)=0","(0+0)/(2)=0","(1894.3+0)/(2)=947.15","(999377.7+0)/(2)=499688.85","(812.1+0)/(2)=406.05","(0+0)/(2)=0","(0+0)/(2)=0","(1666.2+253387.4)/(2)=127526.85","(0+0)/(2)=0","(0+0)/(2)=0","(1000.1+0)/(2)=500.05","(0+0)/(2)=0","(0+0)/(2)=0","(0+0)/(2)=0","(0+0)/(2)=0","(0+0)/(2)=0","(0+0)/(2)=0","(0+0)/(2)=0","(0+248055.7)/(2)=124027.85","(0+4)/(2)=2","(0+0)/(2)=0","(3500.5+3925.6)/(2)=3713.05","(0+0)/(2)=0","(4493.6+254139.5)/(2)=129316.6","(0+809.1)/(2)=404.55","(4532.7+255955.8)/(2)=130244.25"]
["S13","(0+0)/(2)=0","(0+0)/(2)=0","(1894.3+0)/(2)=947.15","(999377.7+0)/(2)=499688.85","(812.1+0)/(2)=406.05","(0+0)/(2)=0","(0+0)/(2)=0","(1666.2+253387.4)/(2)=127526.85","(0+0)/(2)=0","(0+0)/(2)=0","(1000.1+0)/(2)=500.05","(0+0)/(2)=0","(0+0)/(2)=0","(0+0)/(2)=0","(0+0)/(2)=0","(0+0)/(2)=0","(0+0)/(2)=0","(0+0)/(2)=0","(0+248055.7)/(2)=124027.85","(0+4)/(2)=2","(0+0)/(2)=0","(3500.5+3925.6)/(2)=3713.05","(0+0)/(2)=0","(4493.6+254139.5)/(2)=129316.6","(0+809.1)/(2)=404.55","(4532.7+255955.8)/(2)=130244.25"]
["S14","(0+0)/(2)=0","(0+0)/(2)=0","(1894.3+0)/(2)=947.15","(999377.7+0)/(2)=499688.85","(812.1+0)/(2)=406.05","(0+0)/(2)=0","(0+0)/(2)=0","(1666.2+253387.4)/(2)=127526.85","(0+0)/(2)=0","(0+0)/(2)=0","(1000.1+0)/(2)=500.05","(0+0)/(2)=0","(0+0)/(2)=0","(0+0)/(2)=0","(0+0)/(2)=0","(0+0)/(2)=0","(0+0)/(2)=0","(0+0)/(2)=0","(0+248055.7)/(2)=124027.85","(0+4)/(2)=2","(0+0)/(2)=0","(3500.5+3925.6)/(2)=3713.05","(0+0)/(2)=0","(904.1+254139.5)/(2)=127521.85","(0+809.1)/(2)=404.55","(4532.7+255955.8)/(2)=130244.25"]
["S15","(0+0)/(2)=0","(0+0)/(2)=0","(1894.3+0)/(2)=947.15","(999377.7+0)/(2)=499688.85","(812.1+0)/(2)=406.05","(0+0)/(2)=0","(0+0)/(2)=0","(1666.2+253387.4)/(2)=127526.85","(0+0)/(2)=0","(0+0)/(2)=0","(1000.1+0)/(2)=500.05","(0+0)/(2)=0","(0+0)/(2)=0","(0+0)/(2)=0","(0+0)/(2)=0","(0+0)/(2)=0","(0+0)/(2)=0","(0+0)/(2)=0","(0+248055.7)/(2)=124027.85","(0+4)/(2)=2","(0+0)/(2)=0","(3500.5+3925.6)/(2)=3713.05","(0+0)/(2)=0","(904.1+254139.5)/(2)=127521.85","(0+809.1)/(2)=404.55","(4532.7+254085.5)/(2)=129309.1"]
["S16","(0+0)/(2)=0","(0+0)/(2)=0","(1894.3+0)/(2)=947.15","(999377.7+0)/(2)=499688.85","(812.1+0)/(2)=406.05","(0+0)/(2)=0","(0+0)/(2)=0","(1666.2+253387.4)/(2)=127526.85","(0+0)/(2)=0","(0+0)/(2)=0","(1000.1+0)/(2)=500.05","(0+0)/(2)=0","(0+0)/(2)=0","(0+0)/(2)=0","(0+0)/(2)=0","(0+0)/(2)=0","(0+0)/(2)=0","(0+0)/(2)=0","(0+248013.7)/(2)=124006.85","(0+4)/(2)=2","(0+0)/(2)=0","(3500.5+3925.6)/(2)=3713.05","(0+0)/(2)=0","(904.1+254139.5)/(2)=127521.85","(0+809.1)/(2)=404.55","(4532.7+254085.5)/(2)=129309.1"]
["S17","(0+0)/(2)=0","(0+0)/(2)=0","(1894.3+0)/(2)=947.15","(999377.7+0)/(2)=499688.85","(812.1+0)/(2)=406.05","(0+0)/(2)=0","(0+0)/(2)=0","(1666.2+253387.4)/(2)=127526.85","(0+0)/(2)=0","(0+0)/(2)=0","(386.1+0)/(2)=193.05","(0+0)/(2)=0","(0+0)/(2)=0","(0+0)/(2)=0","(0+0)/(2)=0","(0+0)/(2)=0","(0+0)/(2)=0","(0+0)/(2)=0","(0+248013.7)/(2)=124006.85","(0+4)/(2)=2","(0+0)/(2)=0","(3500.5+3925.6)/(2)=3713.05","(0+0)/(2)=0","(904.1+254139.5)/(2)=127521.85","(0+809.1)/(2)=404.55","(0+0)/(2)=0"]
["S18","(0+0)/(2)=0","(0+0)/(2)=0","(1894.3+0)/(2)=947.15","(999377.7+0)/(2)=499688.85","(812.1+0)/(2)=406.05","(0+0)/(2)=0","(0+0)/(2)=0","(1666.2+253387.4)/(2)=127526.85","(0+0)/(2)=0","(0+0)/(2)=0","(0+0)/(2)=0","(0+0)/(2)=0","(0+0)/(2)=0","(0+0)/(2)=0","(0+0)/(2)=0","(0+0)/(2)=0","(0+0)/(2)=0","(0+0)/(2)=0","(0+248013.7)/(2)=124006.85","(0+4)/(2)=2","(0+0)/(2)=0","(3500.5+3925.6)/(2)=3713.05","(0+0)/(2)=0","(904.1+253925.5)/(2)=127414.8","(0+0)/(2)=0","(0+0)/(2)=0"]
["S19","(0+0)/(2)=0","(0+0)/(2)=0","(1894.3+0)/(2)=947.15","(999377.7+0)/(2)=499688.85","(812.1+0)/(2)=406.05","(0+0)/(2)=0","(0+0)/(2)=0","(1666.2+253387.4)/(2)=127526.85","(0+0)/(2)=0","(0+0)/(2)=0","(0+0)/(2)=0","(0+0)/(2)=0","(0+0)/(2)=0","(0+0)/(2)=0","(0+0)/(2)=0","(0+0)/(2)=0","(0+0)/(2)=0","(0+0)/(2)=0","(0+248013.7)/(2)=124006.85","(0+0)/(2)=0","(0+0)/(2)=0","(3500.5+3424.5)/(2)=3462.5","(0+0)/(2)=0","(904.1+253925.5)/(2)=127414.8","(0+0)/(2)=0","(0+0)/(2)=0"]
["S20","(0+0)/(2)=0","(0+0)/(2)=0","(1894.3+0)/(2)=947.15","(999377.7+0)/(2)=499688.85","(812.1+0)/(2)=406.05","(0+0)/(2)=0","(0+0)/(2)=0","(1666.2+253387.4)/(2)=127526.85","(0+0)/(2)=0","(0+0)/(2)=0","(0+0)/(2)=0","(0+0)/(2)=0","(0+0)/(2)=0","(0+0)/(2)=0","(0+0)/(2)=0","(0+0)/(2)=0","(0+0)/(2)=0","(0+0)/(2)=0","(0+248013.7)/(2)=124006.85","(0+0)/(2)=0","(0+0)/(2)=0","(3500.5+3424.5)/(2)=3462.5","(0+0)/(2)=0","(904.1+253925.5)/(2)=127414.8","(0+0)/(2)=0","(0+0)/(2)=0"]
["S21","(0+0)/(2)=0","(0+0)/(2)=0","(1894.3+0)/(2)=947.15","(999377.7+0)/(2)=499688.85","(812.1+0)/(2)=406.05","(0+0)/(2)=0","(0+0)/(2)=0","(1666.2+253387.4)/(2)=127526.85","(0+0)/(2)=0","(0+0)/(2)=0","(0+0)/(2)=0","(0+0)/(2)=0","(0+0)/(2)=0","(0+0)/(2)=0","(0+0)/(2)=0","(0+0)/(2)=0","(0+0)/(2)=0","(0+0)/(2)=0","(0+245133.3)/(2)=122566.65","(0+0)/(2)=0","(0+0)/(2)=0","(3500.5+3424.5)/(2)=3462.5","(0+0)/(2)=0","(904.1+253925.5)/(2)=127414.8","(0+0)/(2)=0","(0+0)/(2)=0"]
["S22","(0+0)/(2)=0","(0+0)/(2)=0","(1894.3+0)/(2)=947.15","(999377.7+0)/(2)=499688.85","(0+0)/(2)=0","(0+0)/(2)=0","(0+0)/(2)=0","(1666.2+253387.4)/(2)=127526.85","(0+0)/(2)=0","(0+0)/(2)=0","(0+0)/(2)=0","(0+0)/(2)=0","(0+0)/(2)=0","(0+0)/(2)=0","(0+0)/(2)=0","(0+0)/(2)=0","(0+0)/(2)=0","(0+0)/(2)=0","(0+245066.2)/(2)=122533.1","(0+0)/(2)=0","(0+0)/(2)=0","(3500.5+3424.5)/(2)=3462.5","(0+0)/(2)=0","(904.1+253925.5)/(2)=127414.8","(0+0)/(2)=0","(0+0)/(2)=0"]
["S23","(0+0)/(2)=0","(0+0)/(2)=0","(1894.3+0)/(2)=947.15","(999377.7+0)/(2)=499688.85","(0+0)/(2)=0","(0+0)/(2)=0","(0+0)/(2)=0","(1666.2+253387.4)/(2)=127526.85","(0+0)/(2)=0","(0+0)/(2)=0","(0+0)/(2)=0","(0+0)/(2)=0","(0+0)/(2)=0","(0+0)/(2)=0","(0+0)/(2)=0","(0+0)/(2)=0","(0+0)/(2)=0","(0+0)/(2)=0","(0+245066.2)/(2)=122533.1","(0+0)/(2)=0","(0+0)/(2)=0","(3500.5+0)/(2)=1750.25","(0+0)/(2)=0","(904.1+253925.5)/(2)=127414.8","(0+0)/(2)=0","(0+0)/(2)=0"]
["S24","(0+0)/(2)=0","(0+0)/(2)=0","(1894.3+0)/(2)=947.15","(999377.7+0)/(2)=499688.85","(0+0)/(2)=0","(0+0)/(2)=0","(0+0)/(2)=0","(1666.2+253387.4)/(2)=127526.85","(0+0)/(2)=0","(0+0)/(2)=0","(0+0)/(2)=0","(0+0)/(2)=0","(0+0)/(2)=0","(0+0)/(2)=0","(0+0)/(2)=0","(0+0)/(2)=0","(0+0)/(2)=0","(0+0)/(2)=0","(0+245066.2)/(2)=122533.1","(0+0)/(2)=0","(0+0)/(2)=0","(3308.5+0)/(2)=1654.25","(0+0)/(2)=0","(904.1+253925.5)/(2)=127414.8","(0+0)/(2)=0","(0+0)/(2)=0"]
["S25","(0+0)/(2)=0","(0+0)/(2)=0","(0+0)/(2)=0","(999377.7+0)/(2)=499688.85","(0+0)/(2)=0","(0+0)/(2)=0","(0+0)/(2)=0","(1666.2+253387.4)/(2)=127526.85","(0+0)/(2)=0","(0+0)/(2)=0","(0+0)/(2)=0","(0+0)/(2)=0","(0+0)/(2)=0","(0+0)/(2)=0","(0+0)/(2)=0","(0+0)/(2)=0","(0+0)/(2)=0","(0+0)/(2)=0","(0+245066.2)/(2)=122533.1","(0+0)/(2)=0","(0+0)/(2)=0","(3308.5+0)/(2)=1654.25","(0+0)/(2)=0","(904.1+253925.5)/(2)=127414.8","(0+0)/(2)=0","(0+0)/(2)=0"]
["S26","(0+0)/(2)=0","(0+0)/(2)=0","(0+0)/(2)=0","(999377.7+0)/(2)=499688.85","(0+0)/(2)=0","(0+0)/(2)=0","(0+0)/(2)=0","(1666.2+253387.4)/(2)=127526.85","(0+0)/(2)=0","(0+0)/(2)=0","(0+0)/(2)=0","(0+0)/(2)=0","(0+0)/(2)=0","(0+0)/(2)=0","(0+0)/(2)=0","(0+0)/(2)=0","(0+0)/(2)=0","(0+0)/(2)=0","(0+245066.2)/(2)=122533.1","(0+0)/(2)=0","(0+0)/(2)=0","(0+0)/(2)=0","(0+0)/(2)=0","(0+0)/(2)=0","(0+0)/(2)=0","(0+0)/(2)=0"]
["S27","(0+0)/(2)=0","(0+0)/(2)=0","(0+0)/(2)=0","(999377.7+0)/(2)=499688.85","(0+0)/(2)=0","(0+0)/(2)=0","(0+0)/(2)=0","(786.1+253387.4)/(2)=127086.8","(0+0)/(2)=0","(0+0)/(2)=0","(0+0)/(2)=0","(0+0)/(2)=0","(0+0)/(2)=0","(0+0)/(2)=0","(0+0)/(2)=0","(0+0)/(2)=0","(0+0)/(2)=0","(0+0)/(2)=0","(0+245066.2)/(2)=122533.1","(0+0)/(2)=0","(0+0)/(2)=0","(0+0)/(2)=0","(0+0)/(2)=0","(0+0)/(2)=0","(0+0)/(2)=0","(0+0)/(2)=0"]
["S28","(0+0)/(2)=0","(0+0)/(2)=0","(0+0)/(2)=0","(999377.7+0)/(2)=499688.85","(0+0)/(2)=0","(0+0)/(2)=0","(0+0)/(2)=0","(0+0)/(2)=0","(0+0)/(2)=0","(0+0)/(2)=0","(0+0)/(2)=0","(0+0)/(2)=0","(0+0)/(2)=0","(0+0)/(2)=0","(0+0)/(2)=0","(0+0)/(2)=0","(0+0)/(2)=0","(0+0)/(2)=0","(0+245066.2)/(2)=122533.1","(0+0)/(2)=0","(0+0)/(2)=0","(0+0)/(2)=0","(0+0)/(2)=0","(0+0)/(2)=0","(0+0)/(2)=0","(0+0)/(2)=0"]
["S29","(0+0)/(2)=0","(0+0)/(2)=0","(0+0)/(2)=0","(999377.7+0)/(2)=499688.85","(0+0)/(2)=0","(0+0)/(2)=0","(0+0)/(2)=0","(0+0)/(2)=0","(0+0)/(2)=0","(0+0)/(2)=0","(0+0)/(2)=0","(0+0)/(2)=0","(0+0)/(2)=0","(0+0)/(2)=0","(0+0)/(2)=0","(0+0)/(2)=0","(0+0)/(2)=0","(0+0)/(2)=0","(0+0)/(2)=0","(0+0)/(2)=0","(0+0)/(2)=0","(0+0)/(2)=0","(0+0)/(2)=0","(0+0)/(2)=0","(0+0)/(2)=0","(0+0)/(2)=0"]
[]
["Lépcsôk(2)","X(A1)","X(A2)","X(A3)","X(A4)","X(A5)","X(A6)","X(A7)","X(A8)","X(A9)","X(A10)","X(A11)","X(A12)","X(A13)","X(A14)","X(A15)","X(A16)","X(A17)","X(A18)","X(A19)","X(A20)","X(A21)","X(A22)","X(A23)","X(A24)","X(A25)","X(A26)"]
["S1",0,0,264637.09999999998,499688.9,406.1,739.6,0,127526.8,5869.3,0,500.1,0,0,1162.7,0,0,866.6,131260.9,124218.4,2,4559.2,3713,0,259986.4,128533,131148.4]
["S2",0,0,2264.3000000000002,499688.9,406.1,0,0,127526.8,0,0,500.1,0,0,355.6,0,0,734.6,131260.9,124218.4,2,4559.2,3713,0,259986.4,128533,131148.4]
["S3",0,0,2264.3000000000002,499688.9,406.1,0,0,127526.8,0,0,500.1,0,0,355.6,0,0,0,131260.9,124218.4,2,4559.2,3713,0,254603.1,128533,131148.4]
["S4",0,0,2264.3000000000002,499688.9,406.1,0,0,127526.8,0,0,500.1,0,0,355.6,0,0,0,0,124218.4,2,2873.4,3713,0,254603.1,128533,131148.4]
["S5",0,0,2264.3000000000002,499688.9,406.1,0,0,127526.8,0,0,500.1,0,0,355.6,0,0,0,0,124218.4,2,2873.4,3713,0,254603.1,2163.3000000000002,131148.4]
["S6",0,0,2264.3000000000002,499688.9,406.1,0,0,127526.8,0,0,500.1,0,0,355.6,0,0,0,0,124218.4,2,2873.4,3713,0,254603.1,404.6,131148.4]
["S7",0,0,2264.3000000000002,499688.9,406.1,0,0,127526.8,0,0,500.1,0,0,0,0,0,0,0,124218.4,2,2873.4,3713,0,254603.1,404.6,131148.4]
["S8",0,0,2264.3000000000002,499688.9,406.1,0,0,127526.8,0,0,500.1,0,0,0,0,0,0,0,124218.4,2,2873.4,3713,0,254603.1,404.6,130244.2]
["S9",0,0,2264.3000000000002,499688.9,406.1,0,0,127526.8,0,0,500.1,0,0,0,0,0,0,0,124027.8,2,2873.4,3713,0,254603.1,404.6,130244.2]
["S10",0,0,2264.3000000000002,499688.9,406.1,0,0,127526.8,0,0,500.1,0,0,0,0,0,0,0,124027.8,2,0,3713,0,253831.5,404.6,130244.2]
["S11",0,0,947.1,499688.9,406.1,0,0,127526.8,0,0,500.1,0,0,0,0,0,0,0,124027.8,2,0,3713,0,253831.5,404.6,130244.2]
["S12",0,0,947.1,499688.9,406.1,0,0,127526.8,0,0,500.1,0,0,0,0,0,0,0,124027.8,2,0,3713,0,129316.6,404.6,130244.2]
["S13",0,0,947.1,499688.9,406.1,0,0,127526.8,0,0,500.1,0,0,0,0,0,0,0,124027.8,2,0,3713,0,129316.6,404.6,130244.2]
["S14",0,0,947.1,499688.9,406.1,0,0,127526.8,0,0,500.1,0,0,0,0,0,0,0,124027.8,2,0,3713,0,127521.8,404.6,130244.2]
["S15",0,0,947.1,499688.9,406.1,0,0,127526.8,0,0,500.1,0,0,0,0,0,0,0,124027.8,2,0,3713,0,127521.8,404.6,129309.1]
["S16",0,0,947.1,499688.9,406.1,0,0,127526.8,0,0,500.1,0,0,0,0,0,0,0,124006.8,2,0,3713,0,127521.8,404.6,129309.1]
["S17",0,0,947.1,499688.9,406.1,0,0,127526.8,0,0,193,0,0,0,0,0,0,0,124006.8,2,0,3713,0,127521.8,404.6,0]
["S18",0,0,947.1,499688.9,406.1,0,0,127526.8,0,0,0,0,0,0,0,0,0,0,124006.8,2,0,3713,0,127414.8,0,0]
["S19",0,0,947.1,499688.9,406.1,0,0,127526.8,0,0,0,0,0,0,0,0,0,0,124006.8,0,0,3462.5,0,127414.8,0,0]
["S20",0,0,947.1,499688.9,406.1,0,0,127526.8,0,0,0,0,0,0,0,0,0,0,124006.8,0,0,3462.5,0,127414.8,0,0]
["S21",0,0,947.1,499688.9,406.1,0,0,127526.8,0,0,0,0,0,0,0,0,0,0,122566.6,0,0,3462.5,0,127414.8,0,0]
["S22",0,0,947.1,499688.9,0,0,0,127526.8,0,0,0,0,0,0,0,0,0,0,122533.1,0,0,3462.5,0,127414.8,0,0]
["S23",0,0,947.1,499688.9,0,0,0,127526.8,0,0,0,0,0,0,0,0,0,0,122533.1,0,0,1750.3,0,127414.8,0,0]
["S24",0,0,947.1,499688.9,0,0,0,127526.8,0,0,0,0,0,0,0,0,0,0,122533.1,0,0,1654.2,0,127414.8,0,0]
["S25",0,0,0,499688.9,0,0,0,127526.8,0,0,0,0,0,0,0,0,0,0,122533.1,0,0,1654.2,0,127414.8,0,0]
["S26",0,0,0,499688.9,0,0,0,127526.8,0,0,0,0,0,0,0,0,0,0,122533.1,0,0,0,0,0,0,0]
["S27",0,0,0,499688.9,0,0,0,127086.8,0,0,0,0,0,0,0,0,0,0,122533.1,0,0,0,0,0,0,0]
["S28",0,0,0,499688.9,0,0,0,0,0,0,0,0,0,0,0,0,0,0,122533.1,0,0,0,0,0,0,0]
["S29",0,0,0,499688.9,0,0,0,0,0,0,0,0,0,0,0,0,0,0,0,0,0,0,0,0,0,0]
[]
["COCO:STD","X(A1)","X(A2)","X(A3)","X(A4)","X(A5)","X(A6)","X(A7)","X(A8)","X(A9)","X(A10)","X(A11)","X(A12)","X(A13)","X(A14)","X(A15)","X(A16)","X(A17)","X(A18)","X(A19)","X(A20)","X(A21)","X(A22)","X(A23)","X(A24)","X(A25)","X(A26)","Becslés","Tény+0","Delta","Delta/Tény"]
["O1",0,0,947.1,499688.9,406.1,0,0,127526.8,0,0,500.1,0,0,355.6,0,0,0,0,124218.4,2,2873.4,3713,0,0,128533,131148.4,1019912.7,1019766,-146.69999999999999,-0.01]
["O2",0,0,947.1,499688.9,406.1,0,0,127526.8,0,0,500.1,0,0,355.6,0,0,0,0,124218.4,2,2873.4,3713,0,0,128533,131148.4,1019912.7,1019766,-146.69999999999999,-0.01]
["O3",0,0,2264.3000000000002,499688.9,406.1,0,0,127526.8,0,0,0,0,0,0,0,0,0,0,124006.8,2,0,3713,0,254603.1,0,0,1012211.1,1012532,320.89999999999998,0.03]
["O4",0,0,0,499688.9,406.1,0,0,127526.8,0,0,500.1,0,0,0,0,0,0,131260.9,122533.1,0,0,3713,0,127414.8,0,0,1013043.7,1012898,-145.69999999999999,-0.01]
["O5",0,0,2264.3000000000002,499688.9,0,0,0,127526.8,0,0,500.1,0,0,355.6,0,0,0,0,122533.1,0,0,1750.3,0,127414.8,404.6,131148.4,1013586.8,1013441,-145.80000000000001,-0.01]
["O6",0,0,947.1,499688.9,406.1,0,0,127526.8,0,0,193,0,0,0,0,0,0,0,122533.1,2,0,3713,0,127414.8,404.6,130244.2,1013073.7,1012928,-145.69999999999999,-0.01]
["O7",0,0,2264.3000000000002,499688.9,0,0,0,127086.8,0,0,500.1,0,0,0,0,0,0,0,124218.4,0,0,3462.5,0,253831.5,0,0,1011052.4,1010907,-145.4,-0.01]
["O8",0,0,947.1,499688.9,406.1,0,0,127526.8,0,0,500.1,0,0,0,0,0,0,0,124006.8,0,0,0,0,127414.8,0,131148.4,1011639,1012944,1305,0.13]
["O9",0,0,2264.3000000000002,499688.9,0,0,0,0,0,0,500.1,0,0,355.6,0,0,0,131260.9,124006.8,0,2873.4,0,0,253831.5,404.6,0,1015186,1015040,-146,-0.01]
["O10",0,0,2264.3000000000002,499688.9,0,0,0,127526.8,0,0,500.1,0,0,0,0,0,0,0,124218.4,0,0,1654.2,0,127521.8,0,129309.1,1012683.6,1012538,-145.6,-0.01]
["O11",0,0,0,499688.9,406.1,0,0,127526.8,0,0,500.1,0,0,0,0,0,0,0,124218.4,2,4559.2,3713,0,127414.8,128533,0,1016562.2,1016416,-146.19999999999999,-0.01]
["O12",0,0,0,499688.9,406.1,0,0,127526.8,0,0,0,0,0,0,0,0,0,0,124006.8,2,4559.2,3462.5,0,254603.1,404.6,0,1014659.9,1014514,-145.9,-0.01]
["O13",0,0,264637.09999999998,499688.9,406.1,0,0,127526.8,0,0,0,0,0,0,0,0,0,0,122533.1,0,0,0,0,0,404.6,0,1015196.5,1015051,-145.5,-0.01]
["O14",0,0,947.1,499688.9,406.1,0,0,127526.8,0,0,500.1,0,0,0,0,0,0,0,124218.4,2,2873.4,3462.5,0,127414.8,128533,0,1015573.1,1015427,-146.1,-0.01]
["O15",0,0,947.1,499688.9,406.1,0,0,127526.8,0,0,500.1,0,0,0,0,0,0,0,124027.8,0,0,3462.5,0,127414.8,404.6,129309.1,1013687.8,1013542,-145.80000000000001,-0.01]
["O16",0,0,947.1,499688.9,406.1,0,0,127526.8,0,0,0,0,0,0,0,0,0,131260.9,124027.8,2,4559.2,3713,0,0,0,130244.2,1022376,1022229,-147,-0.01]
["O17",0,0,0,499688.9,0,0,0,0,0,0,0,0,0,0,0,0,0,0,122533.1,0,0,3713,0,259986.4,404.6,130244.2,1016570.2,1016424,-146.19999999999999,-0.01]
["O18",0,0,947.1,499688.9,0,0,0,127526.8,5869.3,0,0,0,0,0,0,0,0,0,122533.1,2,0,1654.2,0,254603.1,0,0,1012824.7,1012679,-145.69999999999999,-0.01]
["O19",0,0,947.1,499688.9,406.1,0,0,127526.8,0,0,0,0,0,0,0,0,0,0,124006.8,2,2873.4,3713,0,127521.8,0,130244.2,1016930.3,1019100,2169.6999999999998,0.21]
["O20",0,0,2264.3000000000002,499688.9,406.1,0,0,127526.8,0,0,0,0,0,0,0,0,0,0,124027.8,2,0,3713,0,127521.8,0,131148.4,1016299.2,1012542,-3757.2,-0.37]
["O21",0,0,947.1,499688.9,0,0,0,127526.8,0,0,500.1,0,0,1162.7,0,0,0,0,0,0,0,3713,0,254603.1,404.6,130244.2,1018790.5,1018644,-146.5,-0.01]
["O22",0,0,2264.3000000000002,499688.9,406.1,0,0,127526.8,0,0,0,0,0,0,0,0,0,0,124027.8,2,0,3713,0,127521.8,0,131148.4,1016299.2,1019764,3464.8,0.34]
["O23",0,0,2264.3000000000002,499688.9,406.1,0,0,127526.8,0,0,0,0,0,355.6,0,0,0,0,122566.6,2,0,3713,0,129316.6,0,131148.4,1016988.3,1016842,-146.30000000000001,-0.01]
["O24",0,0,2264.3000000000002,499688.9,0,0,0,127526.8,0,0,0,0,0,0,0,0,866.6,0,122533.1,0,0,3713,0,254603.1,0,0,1011195.9,1011051,-144.9,-0.01]
["O25",0,0,0,499688.9,406.1,739.6,0,127526.8,0,0,500.1,0,0,0,0,0,0,0,124027.8,2,0,3713,0,259986.4,404.6,0,1016995.3,1016849,-146.30000000000001,-0.01]
["O26",0,0,947.1,499688.9,406.1,0,0,127526.8,0,0,500.1,0,0,0,0,0,0,0,124218.4,2,2873.4,0,0,254603.1,404.6,0,1011170.4,1011025,-145.4,-0.01]
["O27",0,0,947.1,499688.9,406.1,0,0,127526.8,0,0,500.1,0,0,0,0,0,734.6,0,124218.4,2,0,3713,0,254603.1,404.6,0,1012744.7,1012599,-145.69999999999999,-0.01]
["O28",0,0,947.1,499688.9,406.1,0,0,127526.8,0,0,0,0,0,0,0,0,0,0,124027.8,2,0,3713,0,129316.6,404.6,130244.2,1016277.2,1016131,-146.19999999999999,-0.01]
["O29",0,0,947.1,499688.9,406.1,0,0,127526.8,0,0,500.1,0,0,0,0,0,0,0,124027.8,2,0,3713,0,127414.8,2163.3000000000002,130244.2,1016634.2,1016488,-146.19999999999999,-0.01]
[]
["S1 összeg:",1684818.5]
["S29 összeg:",499688.9]
["Becslés összeg:",29440077.300000001]
["Tény összeg:",29440077]
["Tény-becslés eltérés:",0.3]
["Tény négyzetösszeg:"]
["Becslés négyzetösszeg:"]
["Négyzetösszeg hiba:",0]
[]
["Open url"]
[]
["Maximális memória használat: 1.52 Mb"]
["A futtatás idôtartama: 0.39 mp (0.01 p)"]