{"text_format":"1","workbook":"xlsx","n_sheets":7,"sheets":["raw data","history","info","case1","cases","results","accuracy"],"not_rendered":{"charts":0,"images":0,"macros":1,"external_links":0,"defined_names":0,"comments":0,"pivot_tables":11},"unopened":[],"bounds":{"document_bytes":16777216,"sheet_cells":100000,"rows_first":2000,"rows_last":500,"rows_between":2000,"halvings":0,"cell_chars":16384,"cell_head_chars":4096},"cells_cut":0,"cells_raw":0,"read":"whole","date_system":"1900"}

{"sheet":"raw data","index":0,"n_rows":2002,"n_cols":10,"rows_kept":2002,"cut":false,"hidden":false,"merged":[]}
[2000,"1400+600","router-response","router-response","router-response","router-response","router-response","router-response","router-response","room where device located"]
["ID","Train/Test","X1","X2","X3","X4","X5","X6","X7","Y"]
[1,"Train",-58,-56,-52,-54,-52,-87,-84,4]
[2,"Train",-57,-59,-44,-60,-56,-87,-85,4]
[3,"Train",-48,-54,-52,-54,-58,-87,-89,3]
[4,"Train",-55,-53,-57,-67,-64,-80,-78,1]
[5,"Train",-14,-54,-57,-15,-69,-82,-71,2]
[6,"Train",-63,-59,-61,-68,-71,-81,-87,1]
[7,"Train",-41,-57,-55,-43,-65,-71,-76,2]
[8,"Train",-62,-63,-62,-65,-68,-87,-86,1]
[9,"Train",-40,-59,-57,-43,-74,-65,-66,2]
[10,"Train",-46,-54,-53,-48,-64,-78,-79,3]
[11,"Train",-57,-54,-49,-61,-43,-79,-85,4]
[12,"Train",-57,-51,-56,-57,-50,-88,-86,4]
[13,"Train",-53,-56,-51,-50,-61,-83,-81,3]
[14,"Train",-44,-57,-62,-41,-75,-65,-68,2]
[15,"Train",-51,-59,-51,-48,-67,-79,-79,3]
[16,"Train",-59,-59,-52,-60,-51,-87,-86,4]
[17,"Train",-61,-56,-55,-63,-47,-85,-89,4]
[18,"Train",-71,-62,-63,-69,-75,-85,-87,1]
[19,"Train",-38,-53,-53,-38,-66,-70,-69,2]
[20,"Train",-59,-49,-53,-59,-62,-81,-83,1]
[21,"Train",-51,-57,-59,-45,-77,-75,-81,2]
[22,"Train",-37,-52,-57,-36,-71,-66,-75,2]
[23,"Train",-48,-55,-58,-52,-64,-92,-79,3]
[24,"Train",-37,-57,-55,-40,-75,-71,-64,2]
[25,"Train",-40,-56,-58,-42,-67,-62,-71,2]
[26,"Train",-64,-57,-62,-68,-71,-85,-85,1]
[27,"Train",-38,-51,-53,-38,-63,-72,-73,2]
[28,"Train",-38,-50,-71,-39,-68,-78,-74,2]
[29,"Train",-35,-53,-58,-44,-63,-68,-71,2]
[30,"Train",-59,-52,-55,-59,-52,-88,-87,4]
[31,"Train",-57,-53,-54,-61,-73,-86,-81,1]
[32,"Train",-59,-55,-46,-66,-50,-86,-91,4]
[33,"Train",-48,-55,-54,-48,-67,-85,-81,3]
[34,"Train",-67,-56,-67,-70,-74,-81,-82,1]
[35,"Train",-63,-57,-65,-69,-77,-81,-85,1]
[36,"Train",-63,-58,-52,-59,-51,-88,-94,4]
[37,"Train",-59,-59,-48,-66,-50,-86,-94,4]
[38,"Train",-63,-54,-55,-64,-72,-84,-81,1]
[39,"Train",-64,-58,-47,-61,-52,-85,-86,4]
[40,"Train",-51,-52,-52,-50,-69,-78,-86,3]
[41,"Train",-65,-61,-63,-63,-69,-82,-84,1]
[42,"Train",-37,-55,-57,-42,-63,-65,-64,2]
[43,"Train",-51,-52,-51,-54,-61,-79,-76,3]
[44,"Train",-63,-54,-47,-64,-50,-83,-88,4]
[45,"Train",-49,-52,-56,-48,-55,-81,-82,3]
[46,"Train",-60,-57,-55,-65,-51,-94,-86,4]
[47,"Train",-62,-59,-62,-63,-65,-87,-87,1]
[48,"Train",-38,-58,-60,-42,-66,-82,-79,2]
[49,"Train",-58,-50,-43,-56,-55,-83,-87,4]
[50,"Train",-48,-55,-58,-50,-63,-81,-86,3]
[51,"Train",-64,-57,-52,-60,-40,-87,-87,4]
[52,"Train",-38,-53,-51,-39,-68,-76,-72,2]
[53,"Train",-66,-56,-54,-69,-65,-82,-82,1]
[54,"Train",-58,-54,-53,-60,-47,-82,-83,4]
[55,"Train",-58,-49,-55,-60,-70,-78,-80,1]
[56,"Train",-63,-56,-60,-62,-70,-84,-91,1]
[57,"Train",-59,-51,-49,-63,-45,-86,-83,4]
[58,"Train",-62,-57,-60,-64,-67,-80,-88,1]
[59,"Train",-48,-54,-49,-59,-63,-78,-80,3]
[60,"Train",-49,-56,-45,-42,-66,-83,-80,3]
[61,"Train",-59,-60,-61,-66,-66,-81,-85,1]
[62,"Train",-64,-57,-60,-70,-69,-86,-83,1]
[63,"Train",-36,-54,-56,-16,-61,-64,-79,2]
[64,"Train",-63,-58,-54,-69,-43,-91,-92,4]
[65,"Train",-49,-49,-53,-45,-58,-87,-89,3]
[66,"Train",-51,-53,-55,-50,-67,-76,-88,3]
[67,"Train",-42,-53,-49,-44,-74,-70,-65,2]
[68,"Train",-66,-59,-45,-67,-52,-93,-92,4]
[69,"Train",-49,-52,-48,-52,-62,-78,-75,3]
[70,"Train",-57,-55,-48,-59,-51,-81,-86,4]
[71,"Train",-36,-57,-60,-20,-71,-74,-74,2]
[72,"Train",-36,-56,-56,-37,-59,-66,-75,2]
[73,"Train",-39,-53,-51,-43,-70,-72,-70,2]
[74,"Train",-65,-52,-46,-65,-49,-88,-87,4]
[75,"Train",-47,-55,-52,-49,-59,-78,-71,2]
[76,"Train",-64,-55,-60,-74,-66,-87,-87,1]
[77,"Train",-41,-57,-51,-40,-66,-78,-71,2]
[78,"Train",-69,-61,-62,-62,-75,-85,-84,1]
[79,"Train",-51,-52,-50,-49,-60,-77,-76,3]
[80,"Train",-46,-59,-54,-52,-67,-77,-83,2]
[81,"Train",-62,-60,-55,-67,-43,-88,-92,4]
[82,"Train",-58,-57,-49,-64,-49,-89,-81,4]
[83,"Train",-50,-55,-57,-48,-80,-81,-76,2]
[84,"Train",-17,-63,-60,-14,-72,-72,-77,2]
[85,"Train",-60,-49,-48,-62,-48,-85,-93,4]
[86,"Train",-37,-51,-54,-43,-60,-69,-70,2]
[87,"Train",-57,-57,-50,-59,-54,-85,-81,4]
[88,"Train",-50,-58,-57,-42,-76,-74,-80,2]
[89,"Train",-56,-54,-43,-60,-50,-86,-85,4]
[90,"Train",-45,-58,-59,-42,-66,-81,-75,2]
[91,"Train",-62,-51,-58,-61,-63,-77,-80,1]
[92,"Train",-19,-59,-67,-35,-65,-66,-74,2]
[93,"Train",-45,-56,-60,-46,-81,-79,-75,2]
[94,"Train",-58,-55,-58,-61,-64,-81,-84,1]
[95,"Train",-47,-57,-57,-52,-62,-86,-84,3]
[96,"Train",-61,-52,-43,-60,-47,-89,-85,4]
[97,"Train",-37,-56,-58,-39,-66,-70,-72,2]
[98,"Train",-49,-54,-53,-55,-67,-77,-86,3]
[99,"Train",-61,-56,-52,-62,-52,-82,-87,4]
[100,"Train",-48,-57,-51,-51,-60,-79,-80,3]
[101,"Train",-63,-55,-63,-68,-77,-87,-89,1]
[102,"Train",-49,-58,-50,-56,-64,-81,-81,3]
[103,"Train",-53,-58,-51,-51,-62,-84,-85,3]
[104,"Train",-43,-52,-55,-35,-61,-75,-76,2]
[105,"Train",-51,-51,-52,-52,-63,-84,-78,3]
[106,"Train",-64,-57,-63,-59,-68,-82,-83,1]
[107,"Train",-36,-54,-54,-37,-66,-75,-71,2]
[108,"Train",-43,-54,-55,-41,-68,-71,-74,2]
[109,"Train",-66,-59,-70,-69,-76,-87,-89,1]
[110,"Train",-46,-56,-54,-49,-63,-81,-82,3]
[111,"Train",-49,-55,-48,-49,-62,-79,-84,3]
[112,"Train",-55,-57,-49,-52,-53,-82,-86,4]
[113,"Train",-48,-50,-54,-51,-59,-77,-75,3]
[114,"Train",-55,-54,-43,-60,-51,-84,-88,4]
[115,"Train",-37,-56,-55,-38,-71,-75,-78,2]
[116,"Train",-51,-51,-51,-51,-65,-78,-88,3]
[117,"Train",-59,-51,-56,-59,-51,-87,-86,4]
[118,"Train",-36,-51,-67,-40,-63,-74,-68,2]
[119,"Train",-63,-55,-63,-62,-68,-89,-85,1]
[120,"Train",-66,-60,-65,-62,-70,-85,-83,1]
[121,"Train",-57,-53,-51,-57,-48,-88,-85,4]
[122,"Train",-49,-59,-56,-50,-63,-80,-91,3]
[123,"Train",-58,-51,-59,-63,-69,-81,-80,1]
[124,"Train",-63,-58,-62,-71,-74,-92,-94,1]
[125,"Train",-43,-60,-55,-46,-71,-76,-79,2]
[126,"Train",-63,-54,-61,-66,-73,-84,-88,1]
[127,"Train",-62,-59,-53,-64,-44,-89,-98,4]
[128,"Train",-58,-54,-59,-62,-68,-79,-87,1]
[129,"Train",-39,-59,-57,-42,-75,-78,-74,2]
[130,"Train",-56,-55,-54,-61,-46,-79,-79,4]
[131,"Train",-63,-58,-66,-68,-75,-90,-93,1]
[132,"Train",-52,-55,-56,-51,-69,-85,-85,3]
[133,"Train",-66,-56,-59,-62,-67,-80,-78,1]
[134,"Train",-66,-55,-64,-71,-75,-94,-83,1]
[135,"Train",-40,-57,-47,-42,-69,-73,-70,2]
[136,"Train",-55,-48,-49,-62,-55,-86,-91,4]
[137,"Train",-60,-59,-58,-63,-72,-82,-79,1]
[138,"Train",-51,-52,-48,-48,-62,-85,-78,3]
[139,"Train",-50,-56,-54,-50,-71,-79,-77,3]
[140,"Train",-65,-62,-62,-65,-77,-84,-85,1]
[141,"Train",-64,-57,-62,-67,-68,-83,-84,1]
[142,"Train",-56,-55,-44,-61,-51,-84,-87,4]
[143,"Train",-58,-57,-66,-61,-68,-85,-83,1]
[144,"Train",-62,-62,-55,-64,-42,-86,-92,4]
[145,"Train",-59,-52,-56,-58,-55,-88,-87,4]
[146,"Train",-63,-57,-55,-60,-50,-86,-92,4]
[147,"Train",-64,-54,-52,-58,-52,-89,-88,4]
[148,"Train",-61,-59,-54,-65,-66,-81,-89,1]
[149,"Train",-52,-52,-53,-53,-56,-78,-79,3]
[150,"Train",-54,-57,-53,-54,-62,-77,-75,3]
[151,"Train",-52,-51,-49,-56,-65,-81,-83,3]
[152,"Train",-66,-59,-47,-67,-51,-94,-88,4]
[153,"Train",-26,-55,-55,-38,-71,-71,-70,2]
[154,"Train",-61,-51,-49,-59,-56,-91,-89,4]
[155,"Train",-37,-55,-55,-42,-69,-66,-69,2]
[156,"Train",-49,-64,-58,-53,-70,-84,-80,3]
[157,"Train",-64,-57,-56,-63,-68,-85,-81,1]
[158,"Train",-47,-55,-58,-50,-60,-81,-84,3]
[159,"Train",-44,-56,-54,-52,-63,-80,-79,3]
[160,"Train",-53,-48,-52,-52,-59,-81,-82,3]
[161,"Train",-66,-52,-48,-71,-55,-88,-87,4]
[162,"Train",-39,-57,-50,-35,-63,-70,-79,2]
[163,"Train",-36,-55,-65,-34,-66,-70,-74,2]
[164,"Train",-19,-60,-54,-35,-69,-69,-78,2]
[165,"Train",-34,-54,-61,-34,-70,-72,-73,2]
[166,"Train",-39,-48,-51,-38,-63,-69,-89,2]
[167,"Train",-62,-58,-52,-63,-50,-87,-88,4]
[168,"Train",-37,-61,-54,-37,-66,-74,-75,2]
[169,"Train",-61,-53,-48,-62,-52,-86,-85,4]
[170,"Train",-65,-50,-51,-57,-70,-80,-79,1]
[171,"Train",-58,-65,-47,-71,-51,-86,-83,4]
[172,"Train",-61,-52,-58,-59,-70,-76,-79,1]
[173,"Train",-39,-56,-55,-39,-68,-74,-73,2]
[174,"Train",-48,-54,-50,-49,-61,-81,-84,3]
[175,"Train",-57,-56,-49,-58,-50,-87,-85,4]
[176,"Train",-61,-58,-60,-62,-70,-81,-85,1]
[177,"Train",-49,-52,-58,-46,-57,-77,-77,3]
[178,"Train",-48,-54,-53,-51,-61,-77,-80,3]
[179,"Train",-52,-56,-51,-46,-63,-86,-82,3]
[180,"Train",-59,-51,-55,-59,-53,-88,-88,4]
[181,"Train",-58,-56,-56,-64,-50,-82,-87,4]
[182,"Train",-47,-64,-57,-51,-64,-85,-78,3]
[183,"Train",-66,-59,-65,-68,-75,-88,-84,1]
[184,"Train",-49,-53,-50,-45,-64,-74,-85,3]
[185,"Train",-59,-60,-57,-62,-67,-80,-84,1]
[186,"Train",-50,-56,-57,-49,-68,-92,-80,3]
[187,"Train",-40,-55,-49,-40,-61,-69,-66,2]
[188,"Train",-51,-53,-52,-55,-67,-78,-88,3]
[189,"Train",-45,-63,-57,-53,-57,-81,-84,3]
[190,"Train",-63,-59,-65,-62,-65,-83,-80,1]
[191,"Train",-51,-56,-51,-55,-62,-85,-83,3]
[192,"Train",-36,-58,-54,-27,-67,-73,-78,2]
[193,"Train",-52,-64,-54,-56,-70,-84,-78,3]
[194,"Train",-42,-52,-56,-43,-64,-76,-74,2]
[195,"Train",-61,-55,-59,-58,-66,-79,-78,1]
[196,"Train",-37,-57,-51,-39,-70,-76,-72,2]
[197,"Train",-37,-54,-55,-38,-72,-76,-79,2]
[198,"Train",-40,-55,-53,-36,-60,-77,-77,2]
[199,"Train",-67,-56,-65,-68,-69,-83,-82,1]
[200,"Train",-65,-60,-59,-63,-76,-86,-82,1]
[201,"Train",-40,-55,-53,-35,-64,-70,-82,2]
[202,"Train",-64,-58,-48,-63,-42,-85,-93,4]
[203,"Train",-63,-54,-49,-62,-43,-89,-91,4]
[204,"Train",-52,-56,-56,-41,-63,-77,-80,3]
[205,"Train",-50,-56,-55,-47,-63,-86,-77,2]
[206,"Train",-60,-59,-50,-58,-45,-87,-89,4]
[207,"Train",-50,-49,-57,-49,-61,-82,-86,3]
[208,"Train",-44,-58,-58,-41,-75,-70,-64,2]
[209,"Train",-49,-52,-48,-44,-59,-80,-78,3]
[210,"Train",-58,-52,-58,-60,-52,-86,-89,4]
[211,"Train",-52,-56,-53,-50,-62,-84,-81,3]
[212,"Train",-51,-55,-53,-50,-63,-79,-86,3]
[213,"Train",-60,-52,-45,-58,-51,-87,-80,4]
[214,"Train",-49,-49,-47,-50,-59,-79,-88,3]
[215,"Train",-65,-54,-65,-70,-74,-83,-82,1]
[216,"Train",-60,-57,-52,-59,-47,-88,-85,4]
[217,"Train",-49,-51,-52,-44,-60,-77,-77,3]
[218,"Train",-66,-57,-61,-61,-73,-81,-90,1]
[219,"Train",-60,-61,-58,-63,-49,-84,-85,4]
[220,"Train",-64,-61,-62,-65,-70,-85,-87,1]
[221,"Train",-58,-59,-44,-57,-54,-82,-89,4]
[222,"Train",-52,-55,-51,-49,-64,-87,-84,3]
[223,"Train",-37,-53,-57,-38,-71,-68,-64,2]
[224,"Train",-44,-63,-67,-46,-63,-81,-78,2]
[225,"Train",-49,-59,-57,-50,-72,-80,-91,3]
[226,"Train",-38,-55,-51,-43,-64,-73,-73,2]
[227,"Train",-58,-53,-52,-62,-51,-85,-83,4]
[228,"Train",-50,-52,-52,-55,-67,-79,-91,3]
[229,"Train",-36,-59,-55,-36,-65,-66,-70,2]
[230,"Train",-18,-62,-56,-15,-71,-70,-79,2]
[231,"Train",-64,-52,-63,-62,-71,-84,-79,1]
[232,"Train",-46,-57,-52,-43,-69,-86,-85,3]
[233,"Train",-62,-53,-62,-64,-68,-79,-82,1]
[234,"Train",-55,-51,-52,-48,-60,-78,-86,3]
[235,"Train",-47,-58,-56,-51,-70,-81,-86,3]
[236,"Train",-58,-52,-50,-55,-48,-87,-90,4]
[237,"Train",-46,-60,-54,-48,-63,-80,-83,3]
[238,"Train",-63,-56,-53,-60,-49,-88,-88,4]
[239,"Train",-58,-55,-51,-66,-54,-86,-85,4]
[240,"Train",-60,-57,-58,-59,-70,-76,-80,1]
[241,"Train",-56,-60,-55,-55,-53,-88,-85,4]
[242,"Train",-58,-53,-42,-61,-51,-87,-82,4]
[243,"Train",-53,-56,-46,-51,-62,-80,-80,3]
[244,"Train",-54,-53,-54,-50,-63,-79,-77,3]
[245,"Train",-49,-49,-53,-48,-63,-84,-88,3]
[246,"Train",-65,-62,-60,-65,-68,-83,-82,1]
[247,"Train",-62,-58,-62,-65,-75,-90,-81,1]
[248,"Train",-49,-47,-51,-52,-62,-89,-80,3]
[249,"Train",-49,-53,-53,-51,-64,-79,-80,3]
[250,"Train",-63,-56,-51,-64,-49,-88,-89,4]
[251,"Train",-59,-51,-57,-60,-49,-87,-88,4]
[252,"Train",-44,-53,-52,-36,-70,-72,-76,2]
[253,"Train",-59,-54,-49,-58,-52,-83,-93,4]
[254,"Train",-59,-50,-55,-59,-54,-88,-87,4]
[255,"Train",-47,-50,-53,-47,-63,-76,-79,3]
[256,"Train",-56,-56,-40,-62,-50,-86,-86,4]
[257,"Train",-46,-52,-54,-47,-64,-79,-81,3]
[258,"Train",-58,-56,-52,-58,-48,-87,-85,4]
[259,"Train",-59,-58,-48,-65,-53,-83,-90,4]
[260,"Train",-61,-54,-45,-66,-45,-88,-87,4]
[261,"Train",-60,-57,-50,-63,-49,-87,-86,4]
[262,"Train",-60,-57,-66,-64,-70,-84,-88,1]
[263,"Train",-64,-54,-56,-66,-52,-88,-85,4]
[264,"Train",-56,-51,-47,-51,-71,-79,-75,3]
[265,"Train",-58,-52,-49,-60,-47,-87,-92,4]
[266,"Train",-42,-58,-65,-46,-71,-77,-73,2]
[267,"Train",-36,-55,-50,-41,-66,-72,-69,2]
[268,"Train",-58,-58,-51,-57,-49,-86,-90,4]
[269,"Train",-60,-53,-59,-64,-70,-80,-90,1]
[270,"Train",-52,-56,-52,-49,-63,-87,-85,3]
[271,"Train",-38,-53,-52,-40,-63,-73,-77,2]
[272,"Train",-45,-53,-51,-36,-78,-72,-76,2]
[273,"Train",-50,-54,-51,-50,-66,-87,-85,3]
[274,"Train",-50,-57,-58,-44,-82,-75,-78,2]
[275,"Train",-35,-58,-54,-36,-69,-69,-73,2]
[276,"Train",-43,-55,-55,-44,-68,-76,-79,2]
[277,"Train",-58,-58,-51,-61,-51,-85,-89,4]
[278,"Train",-57,-56,-47,-58,-44,-88,-82,4]
[279,"Train",-64,-57,-63,-59,-69,-82,-86,1]
[280,"Train",-37,-49,-57,-42,-62,-64,-71,2]
[281,"Train",-66,-60,-62,-62,-70,-82,-85,1]
[282,"Train",-58,-56,-46,-56,-62,-84,-87,4]
[283,"Train",-42,-54,-49,-41,-63,-69,-64,2]
[284,"Train",-40,-53,-56,-42,-69,-74,-78,2]
[285,"Train",-49,-53,-50,-54,-62,-77,-82,3]
[286,"Train",-64,-59,-65,-70,-84,-90,-89,1]
[287,"Train",-58,-49,-50,-61,-51,-83,-87,4]
[288,"Train",-36,-50,-58,-41,-74,-74,-69,2]
[289,"Train",-50,-55,-58,-43,-73,-75,-80,2]
[290,"Train",-39,-53,-51,-40,-64,-67,-64,2]
[291,"Train",-65,-56,-55,-65,-68,-85,-93,1]
[292,"Train",-58,-57,-46,-55,-50,-87,-85,4]
[293,"Train",-59,-57,-50,-59,-50,-89,-80,4]
[294,"Train",-58,-52,-51,-59,-49,-82,-86,4]
[295,"Train",-43,-58,-50,-45,-71,-68,-74,2]
[296,"Train",-47,-57,-50,-45,-60,-82,-84,3]
[297,"Train",-53,-68,-50,-51,-77,-85,-87,3]
[298,"Train",-66,-62,-64,-68,-73,-89,-83,1]
[299,"Train",-62,-59,-46,-65,-45,-87,-88,4]
[300,"Train",-57,-56,-60,-58,-70,-79,-84,1]
[301,"Train",-58,-54,-44,-59,-47,-83,-86,4]
[302,"Train",-61,-57,-63,-67,-72,-77,-82,1]
[303,"Train",-45,-55,-54,-47,-63,-78,-80,3]
[304,"Train",-37,-50,-53,-42,-65,-72,-71,2]
[305,"Train",-40,-57,-57,-43,-68,-89,-72,2]
[306,"Train",-61,-55,-54,-72,-45,-89,-92,4]
[307,"Train",-61,-56,-63,-62,-73,-87,-91,1]
[308,"Train",-59,-53,-49,-56,-47,-87,-82,4]
[309,"Train",-52,-48,-52,-54,-63,-78,-80,3]
[310,"Train",-63,-57,-60,-64,-72,-80,-78,1]
[311,"Train",-50,-52,-55,-49,-64,-80,-86,3]
[312,"Train",-63,-57,-59,-66,-71,-82,-83,1]
[313,"Train",-50,-51,-54,-43,-66,-78,-78,3]
[314,"Train",-16,-58,-58,-13,-68,-76,-90,2]
[315,"Train",-36,-55,-54,-36,-67,-65,-73,2]
[316,"Train",-36,-53,-50,-37,-70,-72,-72,2]
[317,"Train",-62,-56,-61,-63,-65,-83,-89,1]
[318,"Train",-59,-52,-55,-59,-55,-88,-85,4]
[319,"Train",-61,-53,-53,-61,-63,-77,-81,1]
[320,"Train",-65,-57,-60,-64,-74,-81,-90,1]
[321,"Train",-65,-57,-62,-70,-67,-85,-87,1]
[322,"Train",-53,-52,-51,-53,-64,-80,-81,3]
[323,"Train",-49,-54,-55,-53,-66,-73,-80,2]
[324,"Train",-48,-57,-56,-49,-64,-87,-76,2]
[325,"Train",-64,-62,-57,-69,-67,-77,-81,1]
[326,"Train",-59,-52,-57,-60,-49,-86,-88,4]
[327,"Train",-51,-62,-59,-50,-66,-85,-77,3]
[328,"Train",-46,-46,-52,-52,-57,-77,-82,3]
[329,"Train",-46,-57,-53,-48,-58,-80,-86,3]
[330,"Train",-59,-55,-62,-64,-68,-77,-86,1]
[331,"Train",-64,-59,-46,-65,-48,-91,-91,4]
[332,"Train",-49,-51,-50,-53,-64,-79,-78,3]
[333,"Train",-42,-53,-62,-38,-66,-65,-69,2]
[334,"Train",-67,-61,-62,-67,-77,-83,-91,1]
[335,"Train",-35,-58,-55,-38,-61,-74,-79,2]
[336,"Train",-59,-52,-59,-61,-54,-87,-89,4]
[337,"Train",-38,-54,-56,-45,-56,-72,-68,2]
[338,"Train",-59,-57,-53,-58,-55,-85,-86,4]
[339,"Train",-46,-60,-56,-47,-66,-83,-85,3]
[340,"Train",-65,-60,-62,-63,-75,-85,-82,1]
[341,"Train",-51,-62,-53,-51,-67,-79,-89,3]
[342,"Train",-63,-57,-47,-64,-49,-86,-81,4]
[343,"Train",-63,-53,-47,-58,-46,-90,-81,4]
[344,"Train",-58,-54,-61,-66,-75,-87,-86,1]
[345,"Train",-52,-64,-54,-54,-68,-85,-79,3]
[346,"Train",-49,-50,-51,-44,-60,-83,-79,3]
[347,"Train",-64,-51,-44,-61,-50,-88,-85,4]
[348,"Train",-57,-52,-44,-59,-51,-88,-85,4]
[349,"Train",-60,-54,-59,-65,-66,-83,-84,1]
[350,"Train",-52,-61,-51,-52,-66,-80,-89,3]
[351,"Train",-52,-53,-49,-50,-69,-79,-87,3]
[352,"Train",-36,-55,-58,-37,-76,-72,-69,2]
[353,"Train",-62,-50,-57,-59,-72,-82,-84,1]
[354,"Train",-64,-56,-60,-61,-67,-78,-85,1]
[355,"Train",-46,-59,-55,-49,-69,-74,-84,2]
[356,"Train",-62,-55,-64,-61,-60,-81,-77,1]
[357,"Train",-59,-51,-56,-58,-51,-95,-84,4]
[358,"Train",-60,-56,-43,-61,-50,-89,-87,4]
[359,"Train",-49,-61,-56,-49,-64,-84,-89,3]
[360,"Train",-18,-63,-62,-38,-72,-71,-73,2]
[361,"Train",-61,-57,-51,-56,-46,-88,-85,4]
[362,"Train",-48,-63,-55,-42,-71,-81,-79,2]
[363,"Train",-37,-54,-54,-41,-64,-72,-78,2]
[364,"Train",-62,-54,-60,-61,-70,-79,-81,1]
[365,"Train",-57,-55,-45,-59,-50,-85,-85,4]
[366,"Train",-13,-54,-57,-21,-77,-72,-72,2]
[367,"Train",-45,-60,-59,-52,-57,-83,-85,3]
[368,"Train",-62,-57,-58,-63,-70,-85,-86,1]
[369,"Train",-63,-57,-57,-70,-50,-92,-87,4]
[370,"Train",-63,-60,-58,-64,-66,-83,-90,1]
[371,"Train",-34,-62,-57,-36,-61,-71,-71,2]
[372,"Train",-53,-53,-52,-55,-60,-82,-84,3]
[373,"Train",-40,-53,-55,-37,-71,-75,-74,2]
[374,"Train",-40,-53,-50,-40,-60,-69,-74,2]
[375,"Train",-40,-53,-49,-41,-71,-66,-65,2]
[376,"Train",-41,-55,-53,-37,-64,-79,-76,2]
[377,"Train",-45,-57,-59,-43,-71,-74,-79,2]
[378,"Train",-53,-56,-54,-53,-62,-88,-85,3]
[379,"Train",-62,-59,-62,-63,-74,-86,-81,1]
[380,"Train",-59,-62,-54,-62,-46,-87,-91,4]
[381,"Train",-62,-58,-57,-65,-68,-83,-79,1]
[382,"Train",-67,-60,-59,-61,-71,-86,-91,1]
[383,"Train",-65,-58,-65,-65,-74,-89,-85,1]
[384,"Train",-61,-54,-45,-54,-43,-88,-80,4]
[385,"Train",-53,-50,-50,-49,-61,-83,-84,3]
[386,"Train",-60,-54,-50,-70,-48,-84,-84,4]
[387,"Train",-61,-59,-58,-62,-65,-78,-78,1]
[388,"Train",-45,-54,-54,-48,-63,-78,-82,3]
[389,"Train",-62,-61,-52,-69,-42,-88,-92,4]
[390,"Train",-38,-56,-48,-39,-63,-70,-73,2]
[391,"Train",-43,-57,-51,-52,-62,-79,-77,3]
[392,"Train",-42,-54,-52,-40,-61,-73,-71,2]
[393,"Train",-37,-56,-58,-36,-80,-72,-70,2]
[394,"Train",-52,-55,-52,-50,-61,-86,-84,3]
[395,"Train",-48,-46,-50,-54,-63,-87,-77,3]
[396,"Train",-37,-56,-53,-43,-63,-72,-77,2]
[397,"Train",-37,-58,-53,-43,-76,-66,-69,2]
[398,"Train",-65,-54,-46,-65,-51,-91,-89,4]
[399,"Train",-64,-54,-55,-59,-52,-88,-98,4]
[400,"Train",-37,-61,-55,-40,-63,-70,-67,2]
[401,"Train",-63,-55,-62,-66,-76,-89,-85,1]
[402,"Train",-67,-57,-55,-65,-49,-88,-87,4]
[403,"Train",-63,-53,-60,-68,-67,-87,-85,1]
[404,"Train",-37,-51,-56,-36,-62,-72,-71,2]
[405,"Train",-49,-52,-46,-48,-60,-79,-80,3]
[406,"Train",-46,-52,-46,-39,-74,-71,-78,2]
[407,"Train",-59,-51,-54,-59,-55,-87,-88,4]
[408,"Train",-61,-60,-57,-61,-74,-81,-82,1]
[409,"Train",-57,-52,-48,-58,-51,-86,-87,4]
[410,"Train",-62,-55,-54,-62,-69,-79,-81,1]
[411,"Train",-62,-55,-58,-68,-69,-83,-88,1]
[412,"Train",-52,-56,-51,-50,-65,-87,-82,3]
[413,"Train",-49,-54,-53,-50,-70,-78,-86,3]
[414,"Train",-38,-52,-62,-37,-69,-73,-71,2]
[415,"Train",-52,-54,-49,-52,-58,-81,-82,3]
[416,"Train",-57,-57,-54,-58,-56,-84,-87,4]
[417,"Train",-37,-55,-56,-37,-67,-70,-66,2]
[418,"Train",-59,-49,-44,-61,-45,-89,-89,4]
[419,"Train",-61,-59,-62,-65,-66,-81,-83,1]
[420,"Train",-62,-57,-54,-66,-71,-81,-83,1]
[421,"Train",-61,-56,-46,-60,-50,-84,-86,4]
[422,"Train",-59,-56,-61,-66,-71,-83,-82,1]
[423,"Train",-65,-58,-67,-67,-70,-87,-84,1]
[424,"Train",-56,-55,-43,-57,-52,-93,-85,4]
[425,"Train",-52,-62,-55,-52,-67,-83,-75,3]
[426,"Train",-37,-59,-57,-38,-69,-68,-73,2]
[427,"Train",-53,-62,-52,-53,-65,-79,-91,3]
[428,"Train",-60,-53,-60,-61,-69,-81,-83,1]
[429,"Train",-40,-56,-57,-35,-84,-70,-66,2]
[430,"Train",-37,-60,-53,-39,-65,-70,-68,2]
[431,"Train",-59,-53,-57,-60,-51,-87,-88,4]
[432,"Train",-40,-55,-56,-36,-64,-65,-66,2]
[433,"Train",-49,-54,-55,-49,-63,-81,-87,3]
[434,"Train",-60,-55,-58,-61,-72,-83,-82,1]
[435,"Train",-61,-55,-45,-57,-53,-91,-82,4]
[436,"Train",-37,-59,-57,-36,-64,-66,-70,2]
[437,"Train",-35,-58,-50,-35,-62,-72,-67,2]
[438,"Train",-61,-58,-52,-61,-45,-92,-81,4]
[439,"Train",-59,-57,-56,-65,-49,-91,-86,4]
[440,"Train",-57,-51,-47,-61,-50,-90,-88,4]
[441,"Train",-14,-55,-58,-36,-67,-72,-74,2]
[442,"Train",-64,-58,-49,-64,-49,-92,-91,4]
[443,"Train",-68,-57,-64,-68,-77,-88,-85,1]
[444,"Train",-59,-51,-54,-60,-50,-87,-86,4]
[445,"Train",-61,-53,-52,-60,-72,-75,-81,1]
[446,"Train",-15,-60,-59,-37,-65,-74,-73,2]
[447,"Train",-57,-49,-44,-60,-50,-84,-86,4]
[448,"Train",-49,-59,-57,-49,-67,-85,-83,3]
[449,"Train",-45,-52,-59,-43,-71,-74,-79,2]
[450,"Train",-60,-56,-57,-65,-49,-85,-89,4]
[451,"Train",-51,-53,-52,-54,-65,-77,-87,3]
[452,"Train",-62,-56,-67,-63,-68,-82,-86,1]
[453,"Train",-71,-64,-64,-70,-78,-88,-94,1]
[454,"Train",-58,-57,-46,-56,-43,-89,-85,4]
[455,"Train",-61,-62,-54,-69,-46,-93,-98,4]
[456,"Train",-62,-54,-62,-68,-80,-80,-78,1]
[457,"Train",-63,-58,-50,-57,-46,-91,-93,4]
[458,"Train",-38,-56,-55,-39,-75,-71,-75,2]
[459,"Train",-51,-64,-59,-49,-71,-87,-77,3]
[460,"Train",-63,-60,-69,-65,-71,-85,-86,1]
[461,"Train",-62,-52,-59,-62,-64,-80,-81,1]
[462,"Train",-61,-52,-60,-61,-68,-80,-84,1]
[463,"Train",-48,-58,-50,-53,-62,-81,-87,3]
[464,"Train",-59,-53,-55,-60,-51,-87,-87,4]
[465,"Train",-65,-54,-53,-61,-43,-84,-83,4]
[466,"Train",-68,-64,-66,-73,-81,-86,-83,1]
[467,"Train",-67,-59,-62,-66,-80,-96,-82,1]
[468,"Train",-52,-57,-61,-59,-59,-85,-85,3]
[469,"Train",-57,-52,-56,-62,-52,-92,-85,4]
[470,"Train",-41,-59,-54,-41,-58,-80,-80,2]
[471,"Train",-63,-58,-57,-61,-52,-89,-93,4]
[472,"Train",-50,-52,-52,-50,-67,-78,-89,3]
[473,"Train",-36,-54,-56,-35,-61,-70,-79,2]
[474,"Train",-62,-53,-61,-59,-74,-84,-81,1]
[475,"Train",-66,-58,-47,-68,-47,-88,-91,4]
[476,"Train",-56,-55,-44,-60,-51,-84,-86,4]
[477,"Train",-59,-53,-58,-66,-65,-82,-78,1]
[478,"Train",-12,-64,-63,-18,-69,-72,-74,2]
[479,"Train",-62,-55,-53,-65,-50,-88,-93,4]
[480,"Train",-59,-54,-56,-65,-74,-79,-85,1]
[481,"Train",-50,-49,-52,-56,-69,-80,-81,3]
[482,"Train",-46,-58,-53,-48,-60,-79,-79,3]
[483,"Train",-65,-59,-65,-67,-89,-85,-83,1]
[484,"Train",-51,-51,-45,-53,-59,-84,-76,3]
[485,"Train",-49,-56,-49,-52,-64,-83,-80,3]
[486,"Train",-37,-50,-56,-39,-67,-69,-70,2]
[487,"Train",-49,-64,-58,-51,-70,-86,-78,3]
[488,"Train",-64,-56,-58,-71,-69,-88,-84,1]
[489,"Train",-61,-56,-48,-62,-54,-88,-86,4]
[490,"Train",-58,-53,-49,-60,-48,-86,-91,4]
[491,"Train",-45,-50,-57,-49,-63,-81,-82,3]
[492,"Train",-41,-58,-48,-40,-62,-72,-76,2]
[493,"Train",-65,-54,-56,-64,-66,-79,-81,1]
[494,"Train",-53,-58,-51,-48,-63,-85,-78,3]
[495,"Train",-51,-52,-49,-50,-63,-79,-79,3]
[496,"Train",-58,-57,-50,-60,-47,-84,-86,4]
[497,"Train",-17,-57,-55,-15,-62,-68,-70,2]
[498,"Train",-64,-59,-55,-66,-44,-93,-92,4]
[499,"Train",-65,-58,-61,-62,-71,-81,-86,1]
[500,"Train",-65,-61,-56,-67,-50,-89,-91,4]
[501,"Train",-21,-61,-62,-16,-76,-74,-74,2]
[502,"Train",-50,-56,-51,-49,-67,-84,-81,3]
[503,"Train",-60,-53,-59,-59,-53,-86,-86,4]
[504,"Train",-60,-60,-46,-54,-49,-81,-83,4]
[505,"Train",-56,-53,-64,-61,-72,-84,-81,1]
[506,"Train",-42,-57,-51,-41,-69,-77,-75,2]
[507,"Train",-50,-56,-53,-52,-68,-84,-77,3]
[508,"Train",-62,-57,-59,-72,-73,-86,-82,1]
[509,"Train",-60,-54,-53,-64,-47,-85,-86,4]
[510,"Train",-47,-64,-53,-54,-60,-83,-84,3]
[511,"Train",-13,-55,-55,-21,-70,-73,-77,2]
[512,"Train",-52,-60,-65,-48,-64,-79,-75,2]
[513,"Train",-16,-70,-58,-14,-73,-71,-80,2]
[514,"Train",-59,-60,-60,-62,-67,-94,-77,1]
[515,"Train",-46,-54,-50,-54,-59,-81,-77,3]
[516,"Train",-42,-61,-63,-44,-74,-76,-75,2]
[517,"Train",-62,-62,-49,-66,-47,-93,-80,4]
[518,"Train",-66,-56,-57,-66,-73,-84,-87,1]
[519,"Train",-42,-54,-54,-43,-59,-74,-72,2]
[520,"Train",-64,-59,-45,-65,-51,-93,-92,4]
[521,"Train",-52,-54,-51,-49,-63,-87,-84,3]
[522,"Train",-59,-58,-62,-67,-65,-80,-83,1]
[523,"Train",-36,-54,-57,-34,-60,-69,-75,2]
[524,"Train",-43,-55,-54,-42,-58,-71,-72,2]
[525,"Train",-69,-59,-59,-65,-78,-86,-87,1]
[526,"Train",-59,-50,-57,-61,-51,-85,-86,4]
[527,"Train",-55,-56,-47,-54,-49,-81,-79,4]
[528,"Train",-53,-54,-53,-60,-60,-86,-91,3]
[529,"Train",-65,-57,-45,-66,-47,-92,-92,4]
[530,"Train",-49,-58,-49,-51,-59,-89,-79,3]
[531,"Train",-38,-54,-52,-36,-63,-65,-70,2]
[532,"Train",-46,-51,-50,-48,-64,-82,-78,3]
[533,"Train",-59,-52,-50,-55,-49,-87,-86,4]
[534,"Train",-48,-58,-57,-45,-73,-86,-92,2]
[535,"Train",-60,-57,-58,-58,-50,-83,-88,4]
[536,"Train",-47,-46,-53,-46,-59,-79,-79,3]
[537,"Train",-41,-58,-60,-47,-70,-82,-74,2]
[538,"Train",-35,-58,-61,-38,-67,-71,-71,2]
[539,"Train",-36,-60,-57,-37,-68,-66,-77,2]
[540,"Train",-62,-53,-55,-60,-68,-76,-79,1]
[541,"Train",-56,-50,-56,-62,-61,-79,-85,1]
[542,"Train",-36,-57,-52,-40,-66,-75,-75,2]
[543,"Train",-67,-64,-47,-64,-50,-88,-91,4]
[544,"Train",-59,-53,-57,-59,-50,-88,-88,4]
[545,"Train",-64,-56,-61,-73,-66,-88,-83,1]
[546,"Train",-61,-62,-64,-65,-73,-81,-90,1]
[547,"Train",-38,-60,-57,-39,-70,-70,-74,2]
[548,"Train",-61,-58,-58,-62,-66,-81,-81,1]
[549,"Train",-38,-54,-53,-42,-69,-72,-66,2]
[550,"Train",-65,-60,-60,-62,-75,-83,-79,1]
[551,"Train",-64,-50,-55,-63,-66,-78,-82,1]
[552,"Train",-59,-54,-48,-62,-47,-85,-89,4]
[553,"Train",-60,-59,-51,-59,-53,-88,-88,4]
[554,"Train",-40,-58,-57,-40,-74,-79,-77,2]
[555,"Train",-46,-52,-51,-55,-60,-80,-76,3]
[556,"Train",-51,-54,-53,-52,-63,-81,-76,3]
[557,"Train",-60,-53,-50,-66,-39,-86,-86,4]
[558,"Train",-59,-50,-45,-63,-49,-84,-86,4]
[559,"Train",-47,-52,-49,-43,-57,-80,-79,3]
[560,"Train",-45,-54,-48,-49,-65,-78,-81,3]
[561,"Train",-62,-64,-62,-65,-75,-82,-86,1]
[562,"Train",-38,-63,-61,-43,-64,-76,-76,2]
[563,"Train",-48,-57,-54,-47,-66,-79,-79,3]
[564,"Train",-67,-56,-52,-64,-51,-89,-85,4]
[565,"Train",-63,-54,-50,-55,-50,-85,-79,4]
[566,"Train",-57,-53,-59,-64,-71,-80,-79,1]
[567,"Train",-49,-52,-53,-49,-64,-77,-83,3]
[568,"Train",-58,-56,-47,-62,-36,-85,-84,4]
[569,"Train",-53,-58,-50,-48,-64,-88,-80,3]
[570,"Train",-63,-51,-58,-63,-68,-81,-87,1]
[571,"Train",-64,-54,-56,-65,-74,-85,-87,1]
[572,"Train",-60,-58,-57,-59,-66,-82,-83,1]
[573,"Train",-45,-63,-57,-55,-58,-79,-85,3]
[574,"Train",-65,-54,-60,-64,-65,-87,-82,1]
[575,"Train",-62,-52,-61,-66,-65,-85,-89,1]
[576,"Train",-53,-53,-50,-55,-59,-86,-81,3]
[577,"Train",-58,-54,-61,-59,-68,-78,-76,1]
[578,"Train",-62,-51,-54,-60,-74,-74,-82,1]
[579,"Train",-64,-58,-60,-68,-66,-86,-88,1]
[580,"Train",-74,-62,-66,-70,-76,-89,-87,1]
[581,"Train",-50,-57,-60,-43,-66,-77,-82,3]
[582,"Train",-37,-54,-53,-36,-65,-76,-72,2]
[583,"Train",-63,-57,-65,-71,-75,-82,-86,1]
[584,"Train",-50,-53,-53,-55,-67,-78,-89,3]
[585,"Train",-60,-58,-57,-68,-50,-96,-87,4]
[586,"Train",-51,-56,-51,-47,-62,-79,-85,3]
[587,"Train",-59,-56,-50,-62,-47,-87,-90,4]
[588,"Train",-58,-56,-61,-66,-75,-84,-78,1]
[589,"Train",-62,-55,-59,-63,-72,-76,-87,1]
[590,"Train",-58,-55,-57,-64,-47,-85,-89,4]
[591,"Train",-60,-51,-59,-63,-68,-81,-76,1]
[592,"Train",-63,-58,-64,-66,-70,-81,-91,1]
[593,"Train",-39,-56,-53,-40,-69,-75,-72,2]
[594,"Train",-62,-58,-52,-61,-41,-90,-85,4]
[595,"Train",-56,-55,-56,-59,-64,-83,-83,1]
[596,"Train",-45,-50,-52,-53,-61,-75,-79,3]
[597,"Train",-59,-54,-51,-59,-58,-80,-87,4]
[598,"Train",-63,-56,-61,-61,-68,-83,-87,1]
[599,"Train",-59,-54,-63,-72,-75,-81,-78,1]
[600,"Train",-57,-57,-59,-61,-67,-80,-83,1]
[601,"Train",-57,-53,-45,-54,-52,-84,-82,4]
[602,"Train",-62,-56,-57,-64,-65,-85,-83,1]
[603,"Train",-37,-54,-47,-36,-63,-70,-70,2]
[604,"Train",-61,-59,-52,-55,-48,-91,-84,4]
[605,"Train",-38,-55,-57,-37,-64,-68,-73,2]
[606,"Train",-64,-55,-52,-61,-50,-92,-94,4]
[607,"Train",-62,-57,-48,-63,-47,-88,-84,4]
[608,"Train",-59,-52,-61,-57,-69,-83,-78,1]
[609,"Train",-38,-62,-57,-41,-77,-65,-68,2]
[610,"Train",-46,-53,-54,-46,-63,-79,-82,3]
[611,"Train",-59,-57,-63,-66,-65,-82,-78,1]
[612,"Train",-46,-53,-52,-45,-62,-79,-78,3]
[613,"Train",-59,-52,-52,-56,-50,-86,-86,4]
[614,"Train",-38,-60,-57,-38,-65,-79,-76,2]
[615,"Train",-52,-56,-50,-52,-60,-80,-80,3]
[616,"Train",-56,-52,-51,-57,-64,-86,-91,3]
[617,"Train",-60,-57,-60,-66,-76,-82,-80,1]
[618,"Train",-52,-54,-54,-51,-63,-87,-78,3]
[619,"Train",-59,-53,-51,-54,-45,-79,-87,4]
[620,"Train",-39,-54,-55,-37,-61,-77,-79,2]
[621,"Train",-49,-56,-58,-50,-64,-75,-73,2]
[622,"Train",-63,-59,-64,-66,-72,-84,-90,1]
[623,"Train",-10,-58,-54,-18,-70,-72,-73,2]
[624,"Train",-63,-57,-58,-62,-73,-86,-85,1]
[625,"Train",-64,-56,-64,-70,-80,-91,-84,1]
[626,"Train",-48,-54,-54,-49,-67,-77,-89,3]
[627,"Train",-38,-56,-52,-41,-76,-71,-66,2]
[628,"Train",-70,-62,-62,-67,-69,-88,-86,1]
[629,"Train",-45,-58,-65,-38,-65,-66,-70,2]
[630,"Train",-53,-62,-51,-52,-67,-79,-89,3]
[631,"Train",-46,-56,-54,-51,-62,-80,-79,3]
[632,"Train",-40,-59,-59,-39,-73,-71,-72,2]
[633,"Train",-61,-55,-62,-62,-65,-82,-81,1]
[634,"Train",-57,-54,-56,-56,-68,-79,-82,1]
[635,"Train",-59,-52,-61,-61,-76,-75,-78,1]
[636,"Train",-36,-57,-58,-36,-62,-74,-73,2]
[637,"Train",-63,-53,-52,-64,-47,-93,-86,4]
[638,"Train",-49,-52,-52,-51,-63,-78,-74,3]
[639,"Train",-61,-59,-62,-61,-66,-80,-88,1]
[640,"Train",-62,-54,-55,-61,-63,-84,-81,1]
[641,"Train",-57,-53,-50,-61,-56,-84,-83,4]
[642,"Train",-37,-53,-56,-35,-74,-76,-79,2]
[643,"Train",-64,-56,-48,-62,-53,-88,-87,4]
[644,"Train",-63,-58,-56,-66,-73,-87,-83,1]
[645,"Train",-63,-57,-66,-63,-68,-82,-82,1]
[646,"Train",-63,-54,-55,-67,-71,-82,-87,1]
[647,"Train",-63,-57,-61,-65,-73,-84,-84,1]
[648,"Train",-61,-58,-57,-66,-49,-93,-86,4]
[649,"Train",-50,-56,-53,-40,-65,-86,-80,3]
[650,"Train",-70,-64,-63,-69,-83,-85,-87,1]
[651,"Train",-59,-53,-56,-60,-53,-85,-86,4]
[652,"Train",-64,-58,-45,-65,-51,-92,-92,4]
[653,"Train",-36,-61,-57,-27,-71,-73,-70,2]
[654,"Train",-65,-58,-56,-61,-49,-89,-88,4]
[655,"Train",-62,-57,-50,-62,-49,-93,-86,4]
[656,"Train",-61,-54,-54,-67,-60,-81,-83,1]
[657,"Train",-60,-50,-51,-62,-49,-87,-84,4]
[658,"Train",-61,-56,-44,-61,-49,-91,-86,4]
[659,"Train",-59,-56,-49,-58,-52,-88,-84,4]
[660,"Train",-59,-54,-49,-60,-46,-86,-87,4]
[661,"Train",-51,-60,-57,-54,-64,-84,-83,3]
[662,"Train",-59,-52,-58,-65,-66,-82,-80,1]
[663,"Train",-66,-57,-57,-64,-69,-84,-90,1]
[664,"Train",-43,-55,-55,-39,-69,-67,-71,2]
[665,"Train",-50,-57,-54,-44,-67,-85,-85,3]
[666,"Train",-38,-53,-53,-43,-78,-69,-75,2]
[667,"Train",-60,-52,-51,-59,-73,-79,-81,1]
[668,"Train",-61,-56,-53,-62,-63,-84,-91,1]
[669,"Train",-65,-60,-67,-66,-68,-84,-89,1]
[670,"Train",-59,-54,-57,-65,-62,-80,-82,1]
[671,"Train",-51,-55,-54,-49,-60,-79,-84,3]
[672,"Train",-52,-57,-51,-55,-65,-85,-85,3]
[673,"Train",-48,-58,-58,-44,-71,-77,-79,2]
[674,"Train",-15,-55,-57,-16,-71,-72,-74,2]
[675,"Train",-64,-57,-53,-61,-50,-86,-98,4]
[676,"Train",-52,-54,-53,-49,-63,-86,-81,3]
[677,"Train",-45,-58,-62,-40,-73,-70,-67,2]
[678,"Train",-66,-57,-56,-64,-49,-89,-87,4]
[679,"Train",-68,-57,-54,-64,-51,-89,-87,4]
[680,"Train",-64,-55,-54,-64,-68,-89,-81,1]
[681,"Train",-42,-59,-57,-51,-62,-72,-76,2]
[682,"Train",-56,-50,-51,-60,-58,-81,-84,4]
[683,"Train",-60,-56,-62,-61,-69,-82,-81,1]
[684,"Train",-60,-56,-44,-59,-46,-81,-86,4]
[685,"Train",-50,-53,-50,-55,-68,-78,-87,3]
[686,"Train",-58,-50,-59,-58,-68,-80,-81,1]
[687,"Train",-56,-51,-52,-59,-48,-87,-82,4]
[688,"Train",-59,-52,-44,-64,-43,-87,-83,4]
[689,"Train",-50,-49,-54,-48,-62,-79,-75,3]
[690,"Train",-65,-58,-62,-67,-77,-86,-91,1]
[691,"Train",-35,-54,-59,-46,-62,-66,-70,2]
[692,"Train",-50,-58,-54,-50,-65,-79,-89,3]
[693,"Train",-36,-54,-53,-46,-63,-66,-76,2]
[694,"Train",-66,-56,-60,-63,-74,-87,-93,1]
[695,"Train",-57,-55,-50,-57,-49,-84,-85,4]
[696,"Train",-61,-61,-50,-64,-51,-84,-89,4]
[697,"Train",-56,-52,-50,-57,-53,-87,-86,4]
[698,"Train",-64,-55,-55,-62,-49,-93,-85,4]
[699,"Train",-60,-56,-67,-62,-69,-82,-86,1]
[700,"Train",-64,-55,-62,-66,-65,-85,-81,1]
[701,"Train",-41,-60,-65,-51,-72,-74,-78,2]
[702,"Train",-61,-56,-61,-74,-69,-87,-89,1]
[703,"Train",-67,-55,-68,-67,-74,-83,-83,1]
[704,"Train",-52,-56,-52,-49,-61,-86,-81,3]
[705,"Train",-52,-60,-59,-40,-60,-81,-81,3]
[706,"Train",-57,-54,-48,-55,-47,-82,-86,4]
[707,"Train",-46,-48,-53,-49,-59,-80,-78,3]
[708,"Train",-50,-52,-53,-53,-67,-86,-85,3]
[709,"Train",-56,-53,-51,-59,-50,-84,-84,4]
[710,"Train",-35,-59,-57,-42,-66,-71,-70,2]
[711,"Train",-62,-60,-64,-74,-76,-81,-91,1]
[712,"Train",-67,-57,-64,-68,-75,-82,-82,1]
[713,"Train",-50,-53,-52,-55,-68,-78,-86,3]
[714,"Train",-38,-57,-55,-38,-62,-67,-65,2]
[715,"Train",-51,-60,-52,-52,-67,-79,-91,3]
[716,"Train",-58,-51,-46,-58,-50,-79,-87,4]
[717,"Train",-34,-53,-59,-36,-75,-73,-69,2]
[718,"Train",-53,-59,-51,-41,-59,-78,-77,3]
[719,"Train",-38,-55,-56,-36,-64,-70,-66,2]
[720,"Train",-53,-55,-55,-53,-66,-79,-86,3]
[721,"Train",-57,-54,-54,-59,-51,-88,-87,4]
[722,"Train",-59,-56,-62,-59,-67,-75,-78,1]
[723,"Train",-62,-53,-52,-59,-48,-87,-92,4]
[724,"Train",-69,-58,-46,-66,-48,-95,-93,4]
[725,"Train",-51,-52,-53,-55,-64,-78,-91,3]
[726,"Train",-62,-59,-50,-66,-54,-95,-84,4]
[727,"Train",-49,-55,-50,-53,-62,-76,-75,3]
[728,"Train",-59,-55,-48,-59,-52,-86,-85,4]
[729,"Train",-65,-59,-66,-65,-68,-82,-85,1]
[730,"Train",-54,-56,-50,-50,-64,-87,-80,3]
[731,"Train",-19,-57,-59,-38,-66,-72,-71,2]
[732,"Train",-62,-53,-59,-62,-66,-82,-87,1]
[733,"Train",-57,-52,-60,-61,-66,-81,-85,1]
[734,"Train",-47,-52,-56,-56,-62,-83,-83,3]
[735,"Train",-52,-60,-51,-54,-61,-86,-87,3]
[736,"Train",-50,-57,-53,-49,-67,-83,-82,3]
[737,"Train",-40,-55,-66,-39,-75,-73,-78,2]
[738,"Train",-61,-51,-52,-56,-47,-86,-90,4]
[739,"Train",-59,-52,-57,-59,-50,-88,-88,4]
[740,"Train",-49,-53,-55,-52,-57,-86,-86,3]
[741,"Train",-52,-56,-50,-56,-66,-81,-80,3]
[742,"Train",-11,-63,-65,-18,-70,-72,-73,2]
[743,"Train",-14,-59,-64,-16,-79,-76,-72,2]
[744,"Train",-49,-54,-50,-52,-60,-85,-88,3]
[745,"Train",-63,-58,-47,-66,-48,-93,-92,4]
[746,"Train",-36,-59,-57,-19,-70,-69,-75,2]
[747,"Train",-39,-57,-55,-42,-61,-74,-75,2]
[748,"Train",-35,-53,-62,-35,-68,-70,-69,2]
[749,"Train",-49,-52,-53,-54,-65,-77,-88,3]
[750,"Train",-51,-60,-59,-46,-68,-78,-83,3]
[751,"Train",-38,-56,-56,-37,-62,-67,-67,2]
[752,"Train",-62,-58,-54,-61,-52,-88,-85,4]
[753,"Train",-58,-55,-55,-54,-49,-78,-79,4]
[754,"Train",-38,-52,-59,-48,-67,-64,-75,2]
[755,"Train",-61,-50,-51,-59,-55,-87,-83,4]
[756,"Train",-63,-63,-57,-68,-71,-79,-82,1]
[757,"Train",-63,-57,-53,-63,-48,-85,-92,4]
[758,"Train",-71,-59,-52,-62,-48,-91,-83,4]
[759,"Train",-49,-53,-50,-55,-64,-79,-86,3]
[760,"Train",-62,-58,-50,-58,-47,-95,-87,4]
[761,"Train",-40,-63,-67,-40,-75,-70,-70,2]
[762,"Train",-60,-58,-56,-64,-52,-93,-86,4]
[763,"Train",-59,-54,-56,-62,-67,-81,-82,1]
[764,"Train",-49,-49,-53,-47,-57,-80,-77,3]
[765,"Train",-49,-51,-53,-41,-64,-77,-79,3]
[766,"Train",-36,-59,-55,-40,-65,-66,-69,2]
[767,"Train",-18,-57,-63,-16,-72,-73,-66,2]
[768,"Train",-13,-63,-65,-16,-74,-73,-74,2]
[769,"Train",-56,-60,-47,-58,-46,-80,-82,4]
[770,"Train",-48,-57,-49,-53,-62,-79,-87,3]
[771,"Train",-64,-56,-51,-65,-49,-91,-94,4]
[772,"Train",-64,-52,-59,-59,-66,-86,-87,1]
[773,"Train",-72,-59,-65,-75,-81,-84,-91,1]
[774,"Train",-45,-52,-52,-51,-64,-84,-84,3]
[775,"Train",-59,-59,-52,-59,-53,-87,-87,4]
[776,"Train",-36,-55,-53,-46,-63,-68,-71,2]
[777,"Train",-59,-53,-64,-60,-68,-82,-81,1]
[778,"Train",-61,-55,-46,-57,-46,-83,-85,4]
[779,"Train",-65,-56,-49,-61,-44,-88,-91,4]
[780,"Train",-35,-54,-54,-35,-59,-73,-70,2]
[781,"Train",-35,-54,-56,-34,-61,-71,-74,2]
[782,"Train",-55,-53,-52,-56,-58,-85,-88,3]
[783,"Train",-60,-53,-52,-64,-46,-85,-83,4]
[784,"Train",-38,-50,-49,-42,-69,-73,-77,2]
[785,"Train",-53,-54,-54,-50,-61,-82,-84,3]
[786,"Train",-62,-59,-52,-69,-46,-91,-98,4]
[787,"Train",-57,-55,-50,-63,-50,-89,-79,4]
[788,"Train",-51,-54,-51,-53,-60,-86,-79,3]
[789,"Train",-50,-68,-48,-56,-63,-80,-77,3]
[790,"Train",-60,-57,-56,-64,-52,-84,-88,4]
[791,"Train",-49,-56,-58,-42,-77,-76,-78,2]
[792,"Train",-64,-56,-69,-64,-73,-89,-85,1]
[793,"Train",-37,-50,-50,-36,-58,-69,-75,2]
[794,"Train",-46,-57,-55,-44,-65,-86,-77,2]
[795,"Train",-49,-55,-51,-49,-63,-81,-73,3]
[796,"Train",-47,-53,-50,-52,-65,-80,-78,3]
[797,"Train",-56,-48,-43,-62,-43,-83,-82,4]
[798,"Train",-67,-57,-60,-60,-75,-83,-87,1]
[799,"Train",-47,-55,-54,-50,-72,-80,-88,3]
[800,"Train",-50,-49,-51,-50,-61,-83,-85,3]
[801,"Train",-55,-51,-51,-55,-59,-89,-78,3]
[802,"Train",-38,-52,-56,-44,-65,-71,-75,2]
[803,"Train",-45,-55,-57,-47,-61,-78,-80,3]
[804,"Train",-48,-56,-49,-52,-60,-82,-73,3]
[805,"Train",-52,-53,-57,-52,-57,-83,-83,3]
[806,"Train",-51,-62,-59,-52,-68,-85,-78,3]
[807,"Train",-61,-57,-58,-62,-67,-78,-76,1]
[808,"Train",-37,-60,-53,-38,-65,-67,-70,2]
[809,"Train",-68,-51,-59,-67,-65,-80,-87,1]
[810,"Train",-43,-47,-50,-45,-65,-66,-69,2]
[811,"Train",-50,-60,-73,-58,-68,-88,-92,3]
[812,"Train",-57,-57,-51,-60,-53,-85,-89,4]
[813,"Train",-66,-52,-63,-63,-68,-80,-87,1]
[814,"Train",-61,-57,-59,-62,-69,-78,-83,1]
[815,"Train",-46,-47,-47,-50,-65,-79,-84,3]
[816,"Train",-61,-55,-55,-66,-61,-83,-92,4]
[817,"Train",-51,-53,-52,-55,-68,-78,-91,3]
[818,"Train",-56,-54,-58,-62,-68,-77,-81,1]
[819,"Train",-38,-56,-53,-28,-71,-67,-72,2]
[820,"Train",-42,-54,-49,-41,-68,-71,-77,2]
[821,"Train",-60,-57,-63,-62,-72,-85,-86,1]
[822,"Train",-50,-57,-59,-43,-62,-76,-78,3]
[823,"Train",-52,-57,-50,-52,-60,-78,-79,3]
[824,"Train",-60,-58,-56,-66,-51,-85,-89,4]
[825,"Train",-40,-54,-49,-43,-62,-70,-65,2]
[826,"Train",-63,-58,-66,-63,-68,-87,-83,1]
[827,"Train",-59,-52,-56,-59,-51,-89,-87,4]
[828,"Train",-51,-52,-56,-56,-63,-79,-80,3]
[829,"Train",-59,-50,-59,-59,-55,-85,-87,4]
[830,"Train",-41,-59,-53,-40,-62,-72,-76,2]
[831,"Train",-35,-56,-55,-36,-69,-67,-78,2]
[832,"Train",-59,-49,-57,-58,-65,-76,-79,1]
[833,"Train",-48,-59,-53,-45,-74,-81,-81,3]
[834,"Train",-51,-63,-55,-54,-69,-84,-79,3]
[835,"Train",-38,-51,-53,-37,-67,-67,-68,2]
[836,"Train",-52,-57,-52,-52,-70,-87,-77,3]
[837,"Train",-64,-56,-61,-66,-71,-82,-81,1]
[838,"Train",-49,-56,-47,-50,-58,-77,-84,3]
[839,"Train",-52,-53,-51,-55,-65,-78,-88,3]
[840,"Train",-36,-58,-56,-39,-62,-67,-73,2]
[841,"Train",-52,-57,-50,-51,-65,-79,-79,3]
[842,"Train",-67,-52,-46,-66,-47,-89,-87,4]
[843,"Train",-64,-55,-52,-74,-53,-89,-80,4]
[844,"Train",-54,-53,-50,-58,-58,-84,-87,3]
[845,"Train",-61,-58,-54,-63,-47,-88,-81,4]
[846,"Train",-59,-55,-56,-64,-69,-83,-84,1]
[847,"Train",-57,-58,-65,-62,-77,-80,-87,1]
[848,"Train",-51,-55,-52,-48,-63,-87,-85,3]
[849,"Train",-60,-58,-57,-65,-69,-80,-89,1]
[850,"Train",-52,-52,-50,-49,-66,-77,-88,3]
[851,"Train",-41,-58,-53,-43,-61,-70,-70,2]
[852,"Train",-57,-54,-57,-61,-62,-80,-79,1]
[853,"Train",-58,-55,-50,-54,-48,-80,-86,4]
[854,"Train",-63,-57,-60,-69,-49,-93,-93,4]
[855,"Train",-63,-53,-59,-62,-45,-88,-86,4]
[856,"Train",-59,-52,-55,-60,-55,-87,-88,4]
[857,"Train",-59,-53,-49,-56,-49,-83,-88,4]
[858,"Train",-48,-61,-57,-51,-67,-83,-76,3]
[859,"Train",-65,-58,-61,-71,-69,-87,-83,1]
[860,"Train",-62,-59,-61,-59,-69,-82,-83,1]
[861,"Train",-36,-60,-53,-35,-72,-71,-64,2]
[862,"Train",-65,-61,-64,-68,-77,-86,-89,1]
[863,"Train",-34,-57,-55,-35,-59,-71,-69,2]
[864,"Train",-60,-60,-51,-64,-53,-87,-87,4]
[865,"Train",-52,-50,-52,-49,-63,-80,-85,3]
[866,"Train",-61,-56,-52,-58,-52,-82,-85,4]
[867,"Train",-41,-57,-59,-44,-65,-76,-77,2]
[868,"Train",-59,-51,-57,-59,-51,-89,-86,4]
[869,"Train",-57,-57,-48,-59,-49,-88,-88,4]
[870,"Train",-61,-60,-68,-62,-77,-90,-80,1]
[871,"Train",-63,-51,-50,-63,-67,-83,-79,1]
[872,"Train",-36,-58,-52,-26,-61,-70,-70,2]
[873,"Train",-60,-56,-59,-66,-68,-81,-83,1]
[874,"Train",-59,-56,-58,-68,-62,-80,-81,1]
[875,"Train",-37,-60,-53,-37,-64,-68,-67,2]
[876,"Train",-53,-54,-59,-54,-62,-81,-82,3]
[877,"Train",-60,-51,-53,-63,-42,-87,-82,4]
[878,"Train",-56,-53,-43,-61,-58,-80,-85,4]
[879,"Train",-61,-60,-60,-65,-67,-82,-78,1]
[880,"Train",-60,-56,-44,-53,-46,-87,-88,4]
[881,"Train",-64,-60,-44,-66,-52,-91,-92,4]
[882,"Train",-49,-54,-50,-55,-63,-85,-81,3]
[883,"Train",-60,-57,-58,-64,-70,-84,-79,1]
[884,"Train",-49,-50,-55,-49,-54,-85,-76,3]
[885,"Train",-48,-55,-51,-55,-69,-88,-80,3]
[886,"Train",-58,-50,-55,-54,-61,-84,-87,1]
[887,"Train",-47,-51,-54,-50,-64,-75,-82,3]
[888,"Train",-60,-57,-56,-65,-50,-96,-87,4]
[889,"Train",-19,-63,-66,-20,-79,-73,-72,2]
[890,"Train",-51,-55,-50,-53,-62,-78,-84,3]
[891,"Train",-59,-55,-48,-59,-46,-86,-83,4]
[892,"Train",-68,-56,-66,-69,-75,-82,-83,1]
[893,"Train",-64,-54,-61,-63,-65,-88,-86,1]
[894,"Train",-37,-55,-55,-40,-73,-72,-74,2]
[895,"Train",-51,-55,-59,-51,-58,-87,-81,3]
[896,"Train",-61,-54,-57,-67,-67,-82,-84,1]
[897,"Train",-50,-57,-61,-50,-74,-83,-79,2]
[898,"Train",-59,-57,-62,-61,-68,-80,-83,1]
[899,"Train",-56,-54,-49,-58,-48,-83,-84,4]
[900,"Train",-61,-55,-54,-69,-53,-84,-89,4]
[901,"Train",-65,-52,-48,-63,-48,-91,-88,4]
[902,"Train",-39,-56,-54,-48,-61,-78,-67,2]
[903,"Train",-58,-54,-58,-62,-75,-81,-81,1]
[904,"Train",-49,-55,-49,-49,-60,-81,-81,3]
[905,"Train",-46,-56,-57,-55,-66,-82,-85,3]
[906,"Train",-59,-57,-56,-65,-49,-92,-91,4]
[907,"Train",-70,-59,-56,-64,-46,-88,-95,4]
[908,"Train",-67,-53,-46,-64,-48,-88,-87,4]
[909,"Train",-35,-58,-55,-36,-62,-70,-73,2]
[910,"Train",-37,-59,-54,-39,-72,-75,-70,2]
[911,"Train",-58,-54,-62,-66,-76,-83,-86,1]
[912,"Train",-49,-53,-55,-46,-59,-81,-93,3]
[913,"Train",-66,-56,-56,-63,-50,-89,-91,4]
[914,"Train",-61,-63,-58,-66,-74,-87,-82,1]
[915,"Train",-41,-58,-56,-40,-73,-69,-73,2]
[916,"Train",-36,-60,-57,-37,-80,-72,-72,2]
[917,"Train",-40,-54,-52,-35,-68,-71,-76,2]
[918,"Train",-42,-56,-52,-36,-75,-68,-81,2]
[919,"Train",-60,-61,-49,-60,-50,-89,-88,4]
[920,"Train",-34,-53,-52,-19,-65,-75,-69,2]
[921,"Train",-61,-57,-54,-65,-52,-89,-88,4]
[922,"Train",-58,-57,-48,-64,-52,-92,-87,4]
[923,"Train",-61,-51,-60,-63,-66,-82,-87,1]
[924,"Train",-60,-55,-46,-59,-49,-87,-83,4]
[925,"Train",-62,-54,-60,-61,-71,-86,-80,1]
[926,"Train",-52,-51,-47,-49,-64,-80,-78,3]
[927,"Train",-59,-55,-65,-62,-62,-81,-77,1]
[928,"Train",-61,-58,-64,-61,-64,-78,-82,1]
[929,"Train",-59,-57,-53,-61,-63,-79,-87,1]
[930,"Train",-59,-50,-51,-59,-51,-83,-85,4]
[931,"Train",-39,-54,-55,-37,-71,-64,-67,2]
[932,"Train",-55,-53,-51,-62,-56,-85,-87,4]
[933,"Train",-60,-57,-66,-60,-68,-87,-89,1]
[934,"Train",-60,-58,-55,-65,-50,-91,-86,4]
[935,"Train",-55,-49,-51,-56,-50,-84,-88,4]
[936,"Train",-49,-50,-51,-50,-62,-75,-75,3]
[937,"Train",-60,-54,-56,-64,-70,-78,-80,1]
[938,"Train",-55,-60,-51,-53,-63,-85,-87,3]
[939,"Train",-66,-57,-64,-62,-68,-87,-88,1]
[940,"Train",-49,-53,-52,-52,-64,-74,-84,3]
[941,"Train",-51,-58,-55,-54,-67,-86,-83,3]
[942,"Train",-38,-55,-53,-37,-72,-71,-73,2]
[943,"Train",-18,-62,-59,-14,-73,-71,-78,2]
[944,"Train",-48,-56,-50,-45,-61,-80,-80,3]
[945,"Train",-42,-54,-56,-39,-63,-76,-78,2]
[946,"Train",-64,-59,-52,-65,-50,-88,-85,4]
[947,"Train",-41,-53,-49,-38,-71,-69,-75,2]
[948,"Train",-56,-53,-49,-60,-48,-82,-85,4]
[949,"Train",-45,-60,-56,-54,-59,-84,-85,3]
[950,"Train",-66,-57,-55,-65,-48,-91,-87,4]
[951,"Train",-51,-57,-51,-51,-65,-80,-80,3]
[952,"Train",-44,-52,-51,-36,-78,-72,-77,2]
[953,"Train",-60,-56,-58,-65,-70,-80,-87,1]
[954,"Train",-59,-51,-64,-57,-69,-80,-80,1]
[955,"Train",-62,-56,-61,-67,-67,-81,-85,1]
[956,"Train",-51,-60,-55,-53,-72,-85,-78,3]
[957,"Train",-59,-57,-49,-66,-41,-87,-86,4]
[958,"Train",-58,-58,-46,-57,-47,-81,-80,4]
[959,"Train",-59,-57,-56,-61,-52,-86,-85,4]
[960,"Train",-60,-54,-56,-65,-43,-88,-87,4]
[961,"Train",-67,-56,-65,-66,-75,-83,-81,1]
[962,"Train",-36,-56,-62,-36,-80,-71,-69,2]
[963,"Train",-59,-55,-49,-60,-42,-92,-93,4]
[964,"Train",-58,-55,-53,-59,-52,-81,-84,4]
[965,"Train",-58,-56,-44,-60,-47,-84,-85,4]
[966,"Train",-58,-52,-57,-60,-52,-86,-88,4]
[967,"Train",-64,-56,-64,-71,-75,-87,-87,1]
[968,"Train",-44,-60,-52,-49,-63,-84,-84,3]
[969,"Train",-51,-53,-57,-51,-60,-76,-79,3]
[970,"Train",-38,-55,-51,-41,-72,-70,-73,2]
[971,"Train",-10,-58,-62,-20,-73,-76,-74,2]
[972,"Train",-59,-55,-54,-64,-44,-86,-86,4]
[973,"Train",-42,-54,-58,-41,-63,-75,-78,2]
[974,"Train",-63,-52,-51,-56,-59,-89,-84,3]
[975,"Train",-54,-54,-55,-52,-61,-86,-78,3]
[976,"Train",-52,-56,-58,-48,-59,-87,-92,3]
[977,"Train",-38,-51,-54,-45,-67,-72,-76,2]
[978,"Train",-52,-52,-51,-51,-74,-86,-80,3]
[979,"Train",-41,-54,-52,-37,-68,-73,-77,2]
[980,"Train",-59,-54,-60,-65,-66,-80,-90,1]
[981,"Train",-65,-57,-45,-69,-48,-91,-94,4]
[982,"Train",-45,-53,-55,-50,-63,-83,-82,3]
[983,"Train",-51,-53,-49,-51,-65,-77,-89,3]
[984,"Train",-69,-58,-56,-61,-73,-81,-93,1]
[985,"Train",-45,-63,-60,-53,-67,-83,-85,3]
[986,"Train",-50,-52,-52,-47,-65,-77,-89,3]
[987,"Train",-61,-58,-50,-59,-52,-84,-84,4]
[988,"Train",-58,-51,-56,-58,-50,-88,-88,4]
[989,"Train",-49,-56,-60,-47,-72,-80,-79,2]
[990,"Train",-39,-54,-53,-45,-68,-78,-81,2]
[991,"Train",-50,-55,-59,-41,-82,-75,-78,2]
[992,"Train",-39,-57,-55,-37,-67,-70,-73,2]
[993,"Train",-43,-54,-56,-40,-67,-70,-71,2]
[994,"Train",-59,-53,-45,-60,-51,-87,-86,4]
[995,"Train",-56,-58,-48,-60,-51,-85,-85,4]
[996,"Train",-52,-57,-53,-49,-61,-88,-85,3]
[997,"Train",-52,-60,-51,-46,-63,-84,-77,3]
[998,"Train",-51,-63,-51,-52,-66,-79,-89,3]
[999,"Train",-66,-58,-64,-63,-73,-83,-86,1]
[1000,"Train",-52,-51,-53,-54,-68,-88,-84,3]
[1001,"Train",-42,-55,-56,-43,-73,-76,-75,2]
[1002,"Train",-61,-59,-63,-60,-69,-87,-88,1]
[1003,"Train",-11,-59,-60,-27,-70,-74,-71,2]
[1004,"Train",-41,-55,-54,-40,-62,-71,-72,2]
[1005,"Train",-42,-55,-49,-45,-64,-70,-65,2]
[1006,"Train",-36,-55,-55,-36,-60,-73,-72,2]
[1007,"Train",-38,-56,-48,-39,-71,-72,-71,2]
[1008,"Train",-52,-58,-51,-53,-60,-80,-80,3]
[1009,"Train",-53,-55,-51,-49,-65,-86,-84,3]
[1010,"Train",-49,-52,-61,-52,-61,-82,-88,3]
[1011,"Train",-63,-59,-51,-72,-55,-96,-92,4]
[1012,"Train",-68,-57,-67,-68,-75,-83,-83,1]
[1013,"Train",-40,-50,-49,-51,-65,-75,-80,2]
[1014,"Train",-65,-60,-65,-66,-73,-84,-93,1]
[1015,"Train",-58,-55,-58,-61,-67,-78,-80,1]
[1016,"Train",-51,-55,-50,-50,-59,-79,-85,3]
[1017,"Train",-36,-56,-57,-46,-68,-68,-70,2]
[1018,"Train",-52,-60,-52,-54,-66,-85,-79,3]
[1019,"Train",-12,-54,-54,-11,-70,-75,-74,2]
[1020,"Train",-37,-57,-51,-39,-71,-71,-72,2]
[1021,"Train",-64,-48,-54,-58,-52,-80,-88,4]
[1022,"Train",-54,-55,-50,-49,-60,-84,-81,3]
[1023,"Train",-51,-56,-60,-48,-60,-86,-83,3]
[1024,"Train",-49,-60,-56,-50,-63,-84,-87,3]
[1025,"Train",-17,-59,-63,-15,-70,-76,-85,2]
[1026,"Train",-57,-61,-53,-59,-52,-87,-89,4]
[1027,"Train",-13,-60,-63,-18,-70,-73,-73,2]
[1028,"Train",-59,-54,-59,-64,-74,-80,-81,1]
[1029,"Train",-64,-58,-59,-61,-70,-84,-86,1]
[1030,"Train",-49,-51,-58,-45,-65,-83,-84,3]
[1031,"Train",-64,-57,-53,-66,-48,-92,-87,4]
[1032,"Train",-44,-58,-63,-39,-80,-71,-72,2]
[1033,"Train",-65,-52,-46,-64,-49,-88,-87,4]
[1034,"Train",-57,-61,-56,-60,-53,-86,-86,4]
[1035,"Train",-60,-56,-56,-64,-67,-84,-85,1]
[1036,"Train",-59,-57,-60,-58,-67,-80,-79,1]
[1037,"Train",-59,-50,-56,-59,-62,-78,-79,1]
[1038,"Train",-62,-59,-48,-65,-51,-87,-86,4]
[1039,"Train",-52,-54,-55,-55,-60,-74,-78,3]
[1040,"Train",-59,-57,-52,-71,-49,-92,-88,4]
[1041,"Train",-73,-61,-65,-65,-77,-89,-90,1]
[1042,"Train",-45,-57,-55,-48,-67,-77,-84,2]
[1043,"Train",-68,-56,-65,-67,-76,-87,-85,1]
[1044,"Train",-49,-55,-49,-49,-60,-80,-79,3]
[1045,"Train",-68,-58,-65,-65,-76,-87,-82,1]
[1046,"Train",-17,-56,-54,-36,-66,-73,-77,2]
[1047,"Train",-56,-55,-50,-59,-62,-84,-86,4]
[1048,"Train",-36,-52,-55,-36,-69,-64,-70,2]
[1049,"Train",-39,-55,-55,-47,-80,-66,-63,2]
[1050,"Train",-48,-47,-52,-56,-61,-77,-77,3]
[1051,"Train",-58,-56,-56,-61,-52,-85,-85,4]
[1052,"Train",-56,-50,-47,-60,-50,-88,-83,4]
[1053,"Train",-46,-52,-53,-44,-60,-79,-86,3]
[1054,"Train",-59,-51,-46,-58,-46,-90,-90,4]
[1055,"Train",-66,-57,-55,-65,-51,-88,-88,4]
[1056,"Train",-52,-55,-52,-49,-63,-88,-85,3]
[1057,"Train",-35,-57,-53,-34,-64,-76,-76,2]
[1058,"Train",-36,-55,-59,-37,-63,-70,-73,2]
[1059,"Train",-46,-58,-59,-40,-71,-78,-76,2]
[1060,"Train",-56,-53,-42,-61,-49,-83,-83,4]
[1061,"Train",-53,-56,-55,-51,-62,-78,-82,3]
[1062,"Train",-63,-61,-61,-68,-72,-87,-92,1]
[1063,"Train",-41,-56,-54,-41,-76,-65,-68,2]
[1064,"Train",-37,-56,-56,-38,-68,-70,-66,2]
[1065,"Train",-60,-58,-56,-65,-68,-79,-86,1]
[1066,"Train",-57,-56,-54,-69,-75,-83,-81,1]
[1067,"Train",-47,-54,-51,-47,-66,-88,-80,3]
[1068,"Train",-63,-58,-65,-66,-73,-86,-89,1]
[1069,"Train",-43,-59,-51,-53,-61,-83,-85,3]
[1070,"Train",-51,-51,-52,-57,-56,-81,-77,3]
[1071,"Train",-52,-56,-47,-53,-61,-78,-79,3]
[1072,"Train",-40,-55,-57,-50,-66,-75,-73,2]
[1073,"Train",-37,-61,-61,-37,-71,-68,-73,2]
[1074,"Train",-60,-52,-48,-61,-48,-83,-84,4]
[1075,"Train",-58,-61,-52,-61,-53,-85,-88,4]
[1076,"Train",-61,-56,-57,-56,-75,-74,-81,1]
[1077,"Train",-42,-55,-57,-44,-69,-73,-77,2]
[1078,"Train",-56,-47,-56,-61,-67,-78,-88,1]
[1079,"Train",-48,-54,-56,-49,-66,-81,-80,3]
[1080,"Train",-51,-55,-46,-54,-63,-84,-79,3]
[1081,"Train",-58,-61,-56,-64,-49,-83,-87,4]
[1082,"Train",-49,-50,-55,-60,-61,-78,-81,3]
[1083,"Train",-58,-54,-53,-64,-51,-87,-91,4]
[1084,"Train",-62,-54,-56,-64,-75,-88,-85,1]
[1085,"Train",-57,-53,-56,-58,-68,-75,-80,1]
[1086,"Train",-56,-53,-58,-64,-71,-84,-87,1]
[1087,"Train",-53,-62,-57,-49,-61,-88,-87,3]
[1088,"Train",-62,-58,-52,-65,-49,-89,-84,4]
[1089,"Train",-46,-53,-47,-52,-57,-79,-85,3]
[1090,"Train",-42,-53,-53,-42,-63,-72,-72,2]
[1091,"Train",-65,-56,-63,-66,-80,-83,-88,1]
[1092,"Train",-59,-59,-58,-62,-64,-78,-81,1]
[1093,"Train",-58,-55,-50,-60,-48,-87,-93,4]
[1094,"Train",-68,-63,-68,-64,-74,-86,-84,1]
[1095,"Train",-15,-58,-56,-15,-74,-76,-71,2]
[1096,"Train",-58,-53,-58,-64,-73,-82,-82,1]
[1097,"Train",-50,-56,-63,-45,-71,-76,-78,2]
[1098,"Train",-63,-57,-59,-67,-71,-82,-93,1]
[1099,"Train",-48,-60,-57,-52,-61,-85,-84,3]
[1100,"Train",-59,-58,-48,-53,-55,-80,-88,4]
[1101,"Train",-50,-58,-54,-51,-60,-80,-82,3]
[1102,"Train",-39,-57,-54,-38,-56,-70,-72,2]
[1103,"Train",-62,-56,-59,-58,-67,-78,-79,1]
[1104,"Train",-52,-52,-49,-49,-58,-77,-84,3]
[1105,"Train",-51,-51,-59,-46,-60,-80,-82,3]
[1106,"Train",-62,-49,-59,-63,-62,-80,-79,1]
[1107,"Train",-62,-60,-61,-66,-69,-80,-86,1]
[1108,"Train",-61,-58,-58,-67,-50,-96,-85,4]
[1109,"Train",-47,-54,-56,-47,-62,-78,-83,3]
[1110,"Train",-60,-52,-46,-56,-48,-84,-86,4]
[1111,"Train",-35,-52,-55,-38,-62,-66,-85,2]
[1112,"Train",-41,-55,-58,-43,-60,-71,-72,2]
[1113,"Train",-37,-53,-54,-37,-67,-79,-72,2]
[1114,"Train",-57,-59,-58,-66,-67,-78,-82,1]
[1115,"Train",-63,-59,-58,-64,-74,-82,-90,1]
[1116,"Train",-47,-58,-51,-43,-65,-80,-80,3]
[1117,"Train",-47,-58,-55,-45,-62,-79,-85,2]
[1118,"Train",-38,-58,-53,-40,-63,-77,-70,2]
[1119,"Train",-65,-62,-49,-67,-45,-88,-94,4]
[1120,"Train",-58,-54,-52,-61,-53,-85,-89,4]
[1121,"Train",-39,-52,-56,-36,-64,-68,-69,2]
[1122,"Train",-59,-55,-55,-62,-47,-91,-84,4]
[1123,"Train",-61,-54,-50,-63,-42,-92,-93,4]
[1124,"Train",-61,-54,-48,-64,-49,-89,-81,4]
[1125,"Train",-37,-56,-56,-35,-69,-73,-69,2]
[1126,"Train",-43,-62,-66,-43,-73,-77,-76,2]
[1127,"Train",-52,-55,-55,-54,-65,-85,-78,3]
[1128,"Train",-57,-60,-49,-61,-54,-85,-88,4]
[1129,"Train",-61,-57,-50,-59,-46,-91,-89,4]
[1130,"Train",-57,-50,-47,-58,-46,-88,-88,4]
[1131,"Train",-41,-59,-65,-47,-75,-68,-66,2]
[1132,"Train",-64,-55,-55,-58,-51,-89,-88,4]
[1133,"Train",-64,-58,-45,-66,-48,-89,-93,4]
[1134,"Train",-45,-56,-55,-46,-68,-79,-78,3]
[1135,"Train",-59,-52,-44,-57,-49,-85,-87,4]
[1136,"Train",-51,-52,-51,-47,-65,-76,-87,3]
[1137,"Train",-62,-57,-61,-64,-68,-82,-82,1]
[1138,"Train",-67,-56,-55,-64,-49,-91,-89,4]
[1139,"Train",-46,-58,-55,-49,-64,-78,-84,3]
[1140,"Train",-64,-59,-53,-63,-52,-87,-83,4]
[1141,"Train",-58,-57,-50,-58,-50,-82,-84,4]
[1142,"Train",-40,-53,-53,-40,-64,-64,-73,2]
[1143,"Train",-57,-50,-51,-59,-51,-83,-84,4]
[1144,"Train",-37,-59,-55,-38,-65,-67,-68,2]
[1145,"Train",-47,-54,-55,-47,-66,-78,-86,3]
[1146,"Train",-57,-58,-52,-66,-46,-86,-90,4]
[1147,"Train",-61,-56,-57,-65,-54,-85,-88,4]
[1148,"Train",-56,-55,-59,-68,-74,-84,-79,1]
[1149,"Train",-45,-51,-59,-53,-62,-82,-85,3]
[1150,"Train",-38,-59,-61,-36,-68,-69,-73,2]
[1151,"Train",-64,-56,-64,-67,-77,-81,-85,1]
[1152,"Train",-63,-57,-67,-66,-79,-86,-89,1]
[1153,"Train",-49,-53,-51,-42,-63,-79,-88,3]
[1154,"Train",-60,-54,-57,-60,-66,-80,-88,1]
[1155,"Train",-39,-53,-56,-48,-66,-69,-72,2]
[1156,"Train",-41,-52,-55,-40,-62,-76,-64,2]
[1157,"Train",-48,-53,-54,-45,-61,-86,-83,3]
[1158,"Train",-51,-52,-53,-51,-59,-86,-78,3]
[1159,"Train",-65,-55,-55,-67,-63,-82,-89,1]
[1160,"Train",-62,-58,-59,-66,-68,-87,-88,1]
[1161,"Train",-58,-56,-51,-65,-53,-87,-87,4]
[1162,"Train",-57,-56,-58,-58,-66,-85,-80,1]
[1163,"Train",-49,-54,-52,-56,-60,-85,-73,3]
[1164,"Train",-58,-59,-56,-60,-50,-86,-83,4]
[1165,"Train",-61,-56,-62,-67,-66,-81,-88,1]
[1166,"Train",-67,-59,-62,-65,-71,-91,-84,1]
[1167,"Train",-38,-58,-59,-37,-66,-74,-67,2]
[1168,"Train",-63,-57,-55,-63,-49,-88,-81,4]
[1169,"Train",-61,-57,-51,-56,-49,-88,-85,4]
[1170,"Train",-38,-58,-59,-41,-65,-68,-74,2]
[1171,"Train",-66,-53,-59,-62,-69,-81,-79,1]
[1172,"Train",-63,-57,-64,-69,-75,-85,-83,1]
[1173,"Train",-52,-56,-52,-50,-65,-86,-84,3]
[1174,"Train",-61,-54,-56,-59,-68,-82,-83,1]
[1175,"Train",-61,-54,-51,-63,-44,-87,-88,4]
[1176,"Train",-59,-53,-57,-62,-55,-88,-85,4]
[1177,"Train",-45,-50,-50,-55,-57,-76,-75,3]
[1178,"Train",-17,-62,-54,-22,-65,-70,-72,2]
[1179,"Train",-40,-59,-57,-39,-67,-81,-74,2]
[1180,"Train",-61,-61,-49,-58,-54,-94,-85,4]
[1181,"Train",-51,-58,-59,-52,-64,-78,-84,3]
[1182,"Train",-53,-57,-50,-54,-60,-80,-81,3]
[1183,"Train",-48,-53,-60,-36,-58,-73,-77,2]
[1184,"Train",-40,-70,-47,-43,-69,-73,-84,2]
[1185,"Train",-54,-55,-50,-48,-64,-80,-78,3]
[1186,"Train",-66,-59,-64,-68,-68,-97,-83,1]
[1187,"Train",-52,-56,-50,-56,-69,-79,-78,3]
[1188,"Train",-64,-59,-66,-63,-74,-87,-87,1]
[1189,"Train",-36,-57,-56,-37,-69,-77,-72,2]
[1190,"Train",-51,-53,-56,-56,-64,-77,-88,3]
[1191,"Train",-59,-52,-57,-58,-50,-86,-88,4]
[1192,"Train",-38,-58,-54,-38,-67,-72,-71,2]
[1193,"Train",-36,-60,-53,-36,-63,-70,-77,2]
[1194,"Train",-65,-57,-56,-63,-48,-92,-85,4]
[1195,"Train",-38,-53,-54,-43,-70,-77,-75,2]
[1196,"Train",-49,-52,-48,-48,-59,-79,-78,3]
[1197,"Train",-20,-56,-55,-37,-61,-79,-72,2]
[1198,"Train",-46,-58,-54,-49,-62,-81,-88,3]
[1199,"Train",-64,-59,-68,-67,-74,-82,-82,1]
[1200,"Train",-36,-53,-57,-40,-66,-70,-69,2]
[1201,"Train",-47,-57,-49,-46,-63,-84,-86,3]
[1202,"Train",-48,-52,-54,-47,-61,-80,-86,3]
[1203,"Train",-65,-51,-59,-61,-66,-81,-84,1]
[1204,"Train",-57,-56,-56,-61,-70,-77,-77,1]
[1205,"Train",-47,-57,-57,-52,-69,-79,-77,3]
[1206,"Train",-68,-55,-66,-68,-75,-82,-83,1]
[1207,"Train",-53,-52,-48,-50,-62,-81,-80,3]
[1208,"Train",-12,-60,-68,-15,-74,-73,-70,2]
[1209,"Train",-48,-57,-54,-50,-66,-83,-78,3]
[1210,"Train",-51,-58,-52,-48,-68,-86,-84,3]
[1211,"Train",-56,-58,-60,-59,-66,-80,-77,1]
[1212,"Train",-49,-56,-51,-54,-65,-79,-78,3]
[1213,"Train",-50,-52,-54,-55,-64,-83,-74,3]
[1214,"Train",-73,-63,-65,-70,-80,-89,-93,1]
[1215,"Train",-60,-50,-57,-60,-50,-89,-86,4]
[1216,"Train",-57,-51,-49,-64,-52,-88,-81,4]
[1217,"Train",-49,-62,-59,-43,-78,-79,-81,2]
[1218,"Train",-52,-58,-50,-53,-64,-87,-81,3]
[1219,"Train",-66,-53,-58,-63,-69,-81,-80,1]
[1220,"Train",-63,-58,-50,-63,-48,-91,-85,4]
[1221,"Train",-60,-59,-55,-66,-66,-82,-86,1]
[1222,"Train",-61,-56,-60,-58,-67,-79,-82,1]
[1223,"Train",-52,-57,-58,-57,-68,-86,-83,3]
[1224,"Train",-50,-54,-51,-46,-63,-79,-84,3]
[1225,"Train",-64,-57,-47,-58,-46,-89,-86,4]
[1226,"Train",-49,-52,-52,-53,-65,-77,-85,3]
[1227,"Train",-59,-55,-63,-67,-66,-82,-86,1]
[1228,"Train",-46,-55,-54,-45,-62,-76,-73,2]
[1229,"Train",-46,-56,-52,-51,-62,-85,-81,3]
[1230,"Train",-55,-56,-58,-53,-70,-81,-88,3]
[1231,"Train",-66,-55,-63,-65,-68,-85,-90,1]
[1232,"Train",-52,-52,-57,-45,-67,-81,-86,3]
[1233,"Train",-62,-54,-58,-64,-65,-77,-85,1]
[1234,"Train",-14,-55,-57,-34,-67,-71,-72,2]
[1235,"Train",-65,-59,-61,-67,-72,-86,-81,1]
[1236,"Train",-12,-56,-58,-16,-70,-75,-79,2]
[1237,"Train",-50,-56,-56,-60,-60,-78,-86,3]
[1238,"Train",-67,-61,-63,-64,-71,-85,-84,1]
[1239,"Train",-18,-50,-57,-36,-62,-66,-71,2]
[1240,"Train",-45,-59,-56,-54,-64,-84,-78,3]
[1241,"Train",-55,-54,-46,-60,-50,-84,-86,4]
[1242,"Train",-50,-56,-48,-48,-63,-80,-91,3]
[1243,"Train",-44,-53,-55,-48,-66,-79,-86,3]
[1244,"Train",-37,-56,-58,-45,-65,-67,-72,2]
[1245,"Train",-53,-53,-51,-50,-66,-82,-82,3]
[1246,"Train",-45,-58,-55,-38,-68,-76,-75,2]
[1247,"Train",-62,-56,-61,-65,-74,-78,-76,1]
[1248,"Train",-51,-52,-51,-55,-66,-78,-89,3]
[1249,"Train",-37,-54,-55,-42,-63,-71,-78,2]
[1250,"Train",-20,-63,-61,-35,-70,-73,-71,2]
[1251,"Train",-62,-56,-56,-61,-68,-81,-86,1]
[1252,"Train",-41,-52,-57,-41,-63,-73,-68,2]
[1253,"Train",-14,-56,-57,-35,-68,-77,-72,2]
[1254,"Train",-62,-63,-52,-70,-48,-87,-87,4]
[1255,"Train",-70,-64,-66,-73,-78,-87,-94,1]
[1256,"Train",-66,-57,-64,-61,-69,-82,-88,1]
[1257,"Train",-62,-58,-57,-62,-72,-81,-81,1]
[1258,"Train",-59,-56,-56,-65,-49,-92,-88,4]
[1259,"Train",-67,-60,-66,-65,-75,-86,-87,1]
[1260,"Train",-51,-52,-58,-49,-60,-84,-74,3]
[1261,"Train",-56,-54,-50,-58,-50,-83,-85,4]
[1262,"Train",-41,-59,-53,-40,-69,-80,-78,2]
[1263,"Train",-63,-58,-62,-65,-68,-81,-74,1]
[1264,"Train",-57,-52,-56,-60,-52,-91,-85,4]
[1265,"Train",-63,-59,-60,-65,-69,-81,-84,1]
[1266,"Train",-62,-52,-57,-60,-70,-81,-74,1]
[1267,"Train",-36,-55,-54,-40,-71,-71,-71,2]
[1268,"Train",-60,-53,-60,-67,-64,-81,-79,1]
[1269,"Train",-43,-55,-52,-42,-60,-74,-67,2]
[1270,"Train",-55,-56,-48,-60,-55,-84,-84,4]
[1271,"Train",-66,-56,-56,-66,-49,-89,-87,4]
[1272,"Train",-63,-58,-58,-64,-66,-81,-83,1]
[1273,"Train",-38,-57,-50,-38,-60,-74,-69,2]
[1274,"Train",-47,-57,-56,-51,-64,-80,-86,3]
[1275,"Train",-57,-52,-46,-60,-43,-88,-85,4]
[1276,"Train",-62,-55,-58,-62,-67,-81,-77,1]
[1277,"Train",-66,-54,-53,-71,-48,-92,-91,4]
[1278,"Train",-48,-58,-55,-49,-60,-80,-83,3]
[1279,"Train",-50,-59,-55,-47,-72,-79,-80,3]
[1280,"Train",-50,-59,-60,-51,-64,-86,-85,3]
[1281,"Train",-62,-58,-49,-64,-42,-86,-89,4]
[1282,"Train",-62,-51,-54,-59,-64,-77,-81,1]
[1283,"Train",-61,-61,-52,-68,-45,-88,-88,4]
[1284,"Train",-48,-55,-55,-52,-65,-80,-82,3]
[1285,"Train",-39,-56,-55,-41,-62,-69,-75,2]
[1286,"Train",-55,-50,-46,-57,-48,-76,-87,4]
[1287,"Train",-63,-58,-61,-67,-69,-86,-85,1]
[1288,"Train",-42,-53,-62,-27,-63,-72,-79,2]
[1289,"Train",-40,-53,-50,-40,-62,-69,-65,2]
[1290,"Train",-40,-55,-57,-37,-71,-79,-77,2]
[1291,"Train",-40,-57,-47,-42,-64,-74,-71,2]
[1292,"Train",-45,-52,-54,-53,-56,-83,-79,3]
[1293,"Train",-65,-51,-49,-63,-49,-92,-91,4]
[1294,"Train",-51,-53,-50,-51,-66,-77,-88,3]
[1295,"Train",-60,-55,-54,-58,-55,-86,-88,4]
[1296,"Train",-57,-58,-56,-55,-71,-84,-87,3]
[1297,"Train",-17,-56,-57,-35,-71,-69,-74,2]
[1298,"Train",-43,-55,-50,-39,-61,-69,-73,2]
[1299,"Train",-50,-52,-52,-56,-67,-80,-89,3]
[1300,"Train",-62,-51,-46,-61,-49,-87,-85,4]
[1301,"Train",-54,-59,-52,-63,-62,-76,-81,3]
[1302,"Train",-35,-51,-53,-37,-63,-72,-76,2]
[1303,"Train",-17,-53,-57,-17,-70,-77,-73,2]
[1304,"Train",-61,-58,-60,-64,-73,-81,-82,1]
[1305,"Train",-59,-51,-58,-57,-64,-76,-85,1]
[1306,"Train",-65,-60,-62,-68,-69,-84,-89,1]
[1307,"Train",-43,-53,-53,-38,-63,-76,-73,2]
[1308,"Train",-38,-54,-55,-36,-60,-71,-75,2]
[1309,"Train",-64,-59,-51,-62,-51,-88,-91,4]
[1310,"Train",-41,-58,-66,-41,-73,-71,-79,2]
[1311,"Train",-64,-60,-63,-63,-72,-86,-84,1]
[1312,"Train",-72,-63,-64,-70,-81,-85,-87,1]
[1313,"Train",-45,-53,-50,-49,-67,-75,-77,3]
[1314,"Train",-64,-59,-62,-63,-69,-84,-81,1]
[1315,"Train",-27,-60,-56,-18,-65,-68,-72,2]
[1316,"Train",-52,-56,-50,-54,-59,-79,-80,3]
[1317,"Train",-61,-52,-48,-61,-45,-90,-88,4]
[1318,"Train",-60,-57,-58,-66,-65,-77,-80,1]
[1319,"Train",-62,-58,-57,-65,-70,-82,-91,1]
[1320,"Train",-52,-54,-52,-49,-63,-86,-81,3]
[1321,"Train",-59,-54,-60,-60,-66,-83,-78,1]
[1322,"Train",-44,-52,-56,-47,-63,-71,-75,2]
[1323,"Train",-55,-50,-49,-60,-45,-86,-87,4]
[1324,"Train",-48,-47,-50,-53,-61,-82,-79,3]
[1325,"Train",-43,-55,-53,-52,-60,-78,-86,3]
[1326,"Train",-65,-56,-54,-63,-49,-92,-89,4]
[1327,"Train",-62,-58,-58,-63,-68,-82,-84,1]
[1328,"Train",-58,-52,-64,-64,-66,-88,-83,1]
[1329,"Train",-61,-56,-65,-65,-66,-77,-81,1]
[1330,"Train",-40,-54,-57,-42,-64,-67,-71,2]
[1331,"Train",-59,-53,-56,-59,-51,-87,-89,4]
[1332,"Train",-59,-56,-53,-60,-49,-85,-84,4]
[1333,"Train",-57,-61,-45,-62,-48,-87,-88,4]
[1334,"Train",-45,-56,-57,-47,-61,-76,-78,3]
[1335,"Train",-60,-50,-48,-55,-46,-79,-87,4]
[1336,"Train",-63,-55,-62,-63,-70,-80,-75,1]
[1337,"Train",-42,-54,-55,-49,-67,-80,-74,2]
[1338,"Train",-67,-57,-64,-71,-75,-89,-87,1]
[1339,"Train",-55,-66,-57,-52,-70,-84,-84,3]
[1340,"Train",-37,-58,-55,-38,-60,-74,-76,2]
[1341,"Train",-48,-53,-51,-43,-64,-74,-77,3]
[1342,"Train",-37,-59,-57,-43,-73,-65,-66,2]
[1343,"Train",-42,-60,-56,-44,-74,-76,-80,2]
[1344,"Train",-62,-55,-63,-61,-68,-81,-83,1]
[1345,"Train",-62,-57,-58,-65,-71,-87,-86,1]
[1346,"Train",-42,-54,-51,-47,-64,-70,-65,2]
[1347,"Train",-39,-56,-58,-37,-64,-76,-72,2]
[1348,"Train",-36,-57,-61,-38,-63,-79,-71,2]
[1349,"Train",-50,-54,-60,-43,-74,-76,-77,2]
[1350,"Train",-37,-60,-52,-38,-65,-70,-70,2]
[1351,"Train",-47,-55,-57,-50,-64,-80,-85,3]
[1352,"Train",-46,-60,-52,-55,-61,-85,-85,3]
[1353,"Train",-61,-56,-67,-61,-69,-82,-87,1]
[1354,"Train",-36,-51,-52,-37,-70,-71,-64,2]
[1355,"Train",-50,-53,-52,-50,-64,-78,-88,3]
[1356,"Train",-40,-63,-64,-50,-64,-75,-78,2]
[1357,"Train",-39,-54,-56,-40,-70,-77,-78,2]
[1358,"Train",-57,-53,-50,-59,-52,-83,-82,4]
[1359,"Train",-51,-52,-56,-52,-66,-80,-89,3]
[1360,"Train",-72,-62,-63,-76,-81,-84,-91,1]
[1361,"Train",-34,-55,-55,-36,-62,-70,-71,2]
[1362,"Train",-68,-57,-66,-69,-76,-81,-82,1]
[1363,"Train",-52,-53,-54,-49,-63,-85,-79,3]
[1364,"Train",-63,-56,-52,-65,-47,-82,-92,4]
[1365,"Train",-58,-57,-55,-66,-51,-88,-87,4]
[1366,"Train",-37,-58,-60,-37,-75,-65,-67,2]
[1367,"Train",-37,-46,-51,-39,-63,-69,-69,2]
[1368,"Train",-63,-59,-61,-62,-78,-90,-82,1]
[1369,"Train",-55,-51,-48,-68,-51,-82,-86,4]
[1370,"Train",-35,-55,-52,-14,-71,-69,-82,2]
[1371,"Train",-66,-58,-56,-66,-79,-86,-93,1]
[1372,"Train",-36,-59,-57,-35,-61,-65,-80,2]
[1373,"Train",-17,-74,-60,-15,-73,-71,-80,2]
[1374,"Train",-60,-55,-47,-59,-54,-91,-80,4]
[1375,"Train",-35,-55,-56,-37,-66,-65,-69,2]
[1376,"Train",-64,-66,-58,-70,-50,-89,-93,4]
[1377,"Train",-60,-58,-62,-61,-62,-81,-84,1]
[1378,"Train",-71,-62,-65,-68,-83,-85,-86,1]
[1379,"Train",-42,-53,-50,-47,-66,-80,-69,2]
[1380,"Train",-59,-53,-57,-60,-51,-89,-95,4]
[1381,"Train",-38,-59,-52,-44,-69,-68,-76,2]
[1382,"Train",-62,-57,-63,-67,-66,-87,-80,1]
[1383,"Train",-47,-57,-52,-44,-67,-78,-75,3]
[1384,"Train",-19,-60,-56,-36,-63,-70,-75,2]
[1385,"Train",-55,-60,-50,-55,-63,-88,-87,3]
[1386,"Train",-47,-53,-54,-49,-63,-88,-85,3]
[1387,"Train",-35,-54,-55,-40,-61,-79,-73,2]
[1388,"Train",-62,-56,-49,-58,-45,-85,-82,4]
[1389,"Train",-59,-56,-41,-54,-46,-89,-88,4]
[1390,"Train",-61,-54,-64,-59,-68,-86,-88,1]
[1391,"Train",-61,-58,-48,-57,-52,-91,-92,4]
[1392,"Train",-46,-54,-53,-47,-63,-85,-80,3]
[1393,"Train",-48,-58,-54,-46,-66,-85,-88,3]
[1394,"Train",-61,-58,-56,-67,-50,-95,-88,4]
[1395,"Train",-39,-51,-57,-36,-64,-65,-71,2]
[1396,"Train",-36,-54,-54,-36,-62,-71,-70,2]
[1397,"Train",-49,-61,-55,-49,-62,-84,-89,3]
[1398,"Train",-63,-59,-45,-65,-47,-89,-92,4]
[1399,"Train",-41,-58,-58,-42,-64,-79,-80,2]
[1400,"Train",-37,-58,-57,-37,-73,-75,-71,2]
[1401,"Test",-62,-58,-59,-59,-67,-80,-77,1]
[1402,"Test",-49,-53,-50,-48,-67,-78,-88,3]
[1403,"Test",-52,-57,-49,-50,-66,-80,-80,3]
[1404,"Test",-40,-55,-52,-43,-60,-76,-72,2]
[1405,"Test",-64,-59,-51,-67,-43,-88,-92,4]
[1406,"Test",-50,-54,-54,-54,-66,-77,-86,3]
[1407,"Test",-58,-50,-54,-60,-53,-86,-89,4]
[1408,"Test",-53,-58,-51,-48,-63,-88,-80,3]
[1409,"Test",-58,-56,-50,-58,-47,-87,-80,4]
[1410,"Test",-60,-58,-60,-61,-73,-84,-88,1]
[1411,"Test",-49,-56,-54,-55,-62,-78,-81,3]
[1412,"Test",-59,-50,-57,-59,-51,-87,-85,4]
[1413,"Test",-56,-56,-62,-64,-70,-79,-86,1]
[1414,"Test",-62,-56,-57,-63,-69,-87,-91,1]
[1415,"Test",-40,-52,-51,-45,-64,-70,-65,2]
[1416,"Test",-60,-53,-52,-62,-50,-91,-88,4]
[1417,"Test",-68,-55,-73,-65,-76,-82,-82,1]
[1418,"Test",-55,-52,-45,-62,-46,-87,-85,4]
[1419,"Test",-59,-51,-57,-59,-52,-87,-86,4]
[1420,"Test",-55,-58,-55,-54,-70,-81,-87,3]
[1421,"Test",-56,-53,-42,-61,-55,-87,-82,4]
[1422,"Test",-51,-53,-54,-53,-62,-83,-82,3]
[1423,"Test",-40,-54,-54,-45,-71,-76,-74,2]
[1424,"Test",-66,-57,-55,-64,-52,-91,-87,4]
[1425,"Test",-49,-52,-54,-52,-60,-83,-79,3]
[1426,"Test",-51,-57,-52,-49,-60,-84,-83,3]
[1427,"Test",-58,-56,-51,-59,-65,-81,-84,1]
[1428,"Test",-52,-56,-53,-53,-70,-80,-78,3]
[1429,"Test",-39,-54,-61,-43,-75,-64,-74,2]
[1430,"Test",-58,-55,-51,-61,-44,-88,-86,4]
[1431,"Test",-51,-47,-50,-49,-59,-80,-85,3]
[1432,"Test",-50,-55,-51,-57,-58,-86,-86,3]
[1433,"Test",-58,-57,-45,-58,-42,-88,-88,4]
[1434,"Test",-64,-57,-54,-69,-43,-88,-92,4]
[1435,"Test",-48,-53,-50,-55,-66,-83,-82,3]
[1436,"Test",-61,-56,-64,-61,-72,-83,-86,1]
[1437,"Test",-45,-53,-55,-49,-63,-78,-81,3]
[1438,"Test",-62,-55,-61,-60,-63,-84,-80,1]
[1439,"Test",-64,-52,-57,-61,-66,-82,-81,1]
[1440,"Test",-47,-60,-56,-48,-85,-85,-81,2]
[1441,"Test",-66,-57,-65,-69,-78,-85,-85,1]
[1442,"Test",-48,-58,-52,-53,-61,-88,-83,3]
[1443,"Test",-49,-56,-53,-52,-58,-89,-86,3]
[1444,"Test",-60,-54,-59,-65,-73,-83,-84,1]
[1445,"Test",-64,-60,-53,-60,-48,-89,-89,4]
[1446,"Test",-43,-55,-63,-37,-64,-67,-76,2]
[1447,"Test",-67,-61,-63,-65,-71,-81,-87,1]
[1448,"Test",-56,-50,-58,-63,-68,-83,-83,1]
[1449,"Test",-64,-63,-56,-64,-47,-92,-83,4]
[1450,"Test",-53,-58,-50,-52,-66,-78,-79,3]
[1451,"Test",-59,-50,-57,-60,-49,-91,-86,4]
[1452,"Test",-46,-55,-53,-52,-57,-81,-86,3]
[1453,"Test",-60,-57,-55,-66,-69,-82,-89,1]
[1454,"Test",-38,-56,-53,-47,-61,-72,-83,2]
[1455,"Test",-61,-57,-65,-59,-67,-86,-87,1]
[1456,"Test",-36,-52,-59,-38,-64,-72,-74,2]
[1457,"Test",-60,-52,-59,-65,-66,-82,-80,1]
[1458,"Test",-60,-63,-54,-63,-47,-88,-92,4]
[1459,"Test",-47,-53,-49,-49,-66,-76,-80,3]
[1460,"Test",-56,-51,-43,-59,-47,-83,-89,4]
[1461,"Test",-35,-60,-54,-35,-61,-81,-80,2]
[1462,"Test",-59,-56,-55,-59,-54,-87,-88,4]
[1463,"Test",-46,-53,-54,-52,-64,-79,-84,3]
[1464,"Test",-48,-57,-53,-43,-64,-81,-85,3]
[1465,"Test",-65,-58,-64,-69,-81,-88,-90,1]
[1466,"Test",-48,-56,-55,-46,-65,-86,-79,2]
[1467,"Test",-19,-53,-60,-37,-69,-72,-69,2]
[1468,"Test",-45,-59,-57,-51,-62,-77,-85,3]
[1469,"Test",-38,-52,-54,-38,-64,-73,-77,2]
[1470,"Test",-66,-58,-64,-67,-71,-85,-87,1]
[1471,"Test",-62,-55,-65,-59,-69,-86,-87,1]
[1472,"Test",-38,-54,-51,-37,-66,-74,-76,2]
[1473,"Test",-57,-60,-47,-59,-50,-79,-88,4]
[1474,"Test",-56,-54,-48,-57,-51,-84,-89,4]
[1475,"Test",-60,-56,-56,-63,-65,-80,-83,1]
[1476,"Test",-61,-57,-53,-65,-50,-87,-91,4]
[1477,"Test",-61,-53,-54,-58,-71,-82,-86,1]
[1478,"Test",-62,-50,-61,-64,-73,-80,-81,1]
[1479,"Test",-60,-53,-48,-61,-46,-85,-85,4]
[1480,"Test",-61,-52,-49,-56,-46,-84,-83,4]
[1481,"Test",-15,-55,-62,-25,-71,-67,-68,2]
[1482,"Test",-62,-55,-57,-62,-70,-82,-86,1]
[1483,"Test",-62,-57,-56,-63,-66,-84,-82,1]
[1484,"Test",-51,-52,-51,-50,-69,-77,-88,3]
[1485,"Test",-62,-57,-44,-61,-44,-89,-87,4]
[1486,"Test",-58,-51,-59,-65,-74,-86,-82,1]
[1487,"Test",-61,-57,-54,-67,-52,-89,-86,4]
[1488,"Test",-59,-57,-59,-64,-73,-79,-84,1]
[1489,"Test",-60,-51,-61,-63,-64,-86,-81,1]
[1490,"Test",-61,-52,-54,-63,-64,-84,-82,1]
[1491,"Test",-66,-69,-63,-69,-79,-88,-86,1]
[1492,"Test",-60,-54,-50,-50,-60,-84,-85,3]
[1493,"Test",-63,-58,-64,-67,-74,-87,-87,1]
[1494,"Test",-48,-47,-51,-52,-60,-74,-79,3]
[1495,"Test",-54,-57,-50,-61,-53,-83,-82,4]
[1496,"Test",-59,-50,-45,-60,-45,-88,-87,4]
[1497,"Test",-61,-52,-49,-68,-45,-85,-92,4]
[1498,"Test",-65,-56,-65,-63,-68,-82,-93,1]
[1499,"Test",-64,-55,-48,-61,-50,-83,-87,4]
[1500,"Test",-63,-57,-57,-65,-75,-83,-76,1]
[1501,"Test",-56,-55,-45,-59,-52,-84,-86,4]
[1502,"Test",-54,-61,-51,-44,-63,-79,-76,3]
[1503,"Test",-16,-59,-60,-35,-69,-81,-78,2]
[1504,"Test",-59,-51,-57,-59,-53,-87,-92,4]
[1505,"Test",-70,-62,-68,-65,-81,-89,-83,1]
[1506,"Test",-39,-58,-54,-39,-62,-71,-77,2]
[1507,"Test",-52,-57,-50,-52,-65,-79,-77,3]
[1508,"Test",-61,-56,-49,-60,-52,-91,-85,4]
[1509,"Test",-50,-54,-49,-46,-64,-85,-77,3]
[1510,"Test",-39,-52,-53,-36,-61,-67,-70,2]
[1511,"Test",-62,-57,-60,-61,-69,-93,-90,1]
[1512,"Test",-63,-56,-50,-56,-49,-89,-92,4]
[1513,"Test",-36,-55,-51,-37,-75,-71,-70,2]
[1514,"Test",-52,-48,-56,-53,-62,-78,-81,3]
[1515,"Test",-59,-51,-56,-58,-50,-88,-86,4]
[1516,"Test",-48,-63,-58,-44,-74,-79,-78,2]
[1517,"Test",-61,-58,-53,-57,-45,-86,-90,4]
[1518,"Test",-61,-55,-63,-64,-69,-83,-82,1]
[1519,"Test",-37,-53,-51,-37,-66,-71,-75,2]
[1520,"Test",-62,-60,-66,-68,-80,-86,-91,1]
[1521,"Test",-18,-53,-60,-17,-71,-74,-71,2]
[1522,"Test",-65,-61,-65,-67,-69,-87,-84,1]
[1523,"Test",-50,-58,-51,-52,-60,-81,-79,3]
[1524,"Test",-60,-53,-60,-62,-73,-81,-82,1]
[1525,"Test",-63,-54,-53,-65,-52,-92,-89,4]
[1526,"Test",-54,-52,-53,-43,-68,-79,-79,3]
[1527,"Test",-36,-54,-52,-20,-66,-70,-74,2]
[1528,"Test",-49,-56,-57,-51,-65,-87,-81,3]
[1529,"Test",-34,-55,-58,-15,-65,-73,-72,2]
[1530,"Test",-51,-52,-52,-56,-68,-79,-87,3]
[1531,"Test",-36,-58,-59,-36,-69,-71,-77,2]
[1532,"Test",-63,-58,-65,-66,-78,-81,-88,1]
[1533,"Test",-58,-59,-59,-65,-65,-82,-94,1]
[1534,"Test",-60,-53,-59,-64,-65,-76,-81,1]
[1535,"Test",-59,-50,-45,-60,-48,-83,-85,4]
[1536,"Test",-66,-57,-62,-61,-74,-81,-89,1]
[1537,"Test",-39,-54,-55,-37,-64,-70,-70,2]
[1538,"Test",-54,-54,-50,-54,-60,-81,-79,3]
[1539,"Test",-41,-58,-54,-42,-71,-65,-71,2]
[1540,"Test",-57,-56,-59,-59,-64,-79,-78,1]
[1541,"Test",-67,-55,-56,-64,-50,-88,-87,4]
[1542,"Test",-18,-57,-63,-34,-72,-65,-75,2]
[1543,"Test",-51,-62,-53,-51,-64,-86,-79,3]
[1544,"Test",-43,-59,-54,-39,-63,-79,-87,2]
[1545,"Test",-67,-56,-62,-70,-69,-86,-84,1]
[1546,"Test",-40,-56,-56,-38,-66,-77,-74,2]
[1547,"Test",-64,-66,-54,-67,-70,-83,-82,1]
[1548,"Test",-65,-58,-70,-66,-71,-85,-83,1]
[1549,"Test",-63,-56,-51,-57,-45,-88,-88,4]
[1550,"Test",-60,-56,-48,-61,-49,-92,-82,4]
[1551,"Test",-62,-53,-57,-60,-69,-87,-86,1]
[1552,"Test",-61,-49,-42,-66,-43,-80,-91,4]
[1553,"Test",-41,-56,-56,-38,-72,-67,-70,2]
[1554,"Test",-65,-57,-54,-70,-50,-88,-85,4]
[1555,"Test",-61,-54,-60,-61,-74,-87,-83,1]
[1556,"Test",-42,-53,-50,-44,-71,-68,-64,2]
[1557,"Test",-62,-58,-57,-58,-69,-94,-77,1]
[1558,"Test",-41,-54,-59,-41,-60,-76,-74,2]
[1559,"Test",-40,-55,-47,-47,-64,-75,-79,2]
[1560,"Test",-47,-56,-58,-56,-62,-81,-83,3]
[1561,"Test",-59,-59,-49,-62,-47,-82,-81,4]
[1562,"Test",-61,-52,-49,-58,-51,-91,-84,4]
[1563,"Test",-51,-55,-51,-49,-61,-82,-81,3]
[1564,"Test",-52,-55,-52,-52,-62,-82,-84,3]
[1565,"Test",-61,-60,-52,-57,-51,-91,-86,4]
[1566,"Test",-40,-50,-50,-37,-64,-71,-78,2]
[1567,"Test",-66,-56,-55,-67,-48,-87,-87,4]
[1568,"Test",-58,-60,-50,-61,-50,-87,-78,4]
[1569,"Test",-46,-58,-56,-43,-70,-72,-80,2]
[1570,"Test",-46,-48,-52,-52,-62,-77,-80,3]
[1571,"Test",-39,-62,-58,-37,-69,-73,-72,2]
[1572,"Test",-53,-47,-54,-53,-59,-83,-84,3]
[1573,"Test",-61,-51,-58,-62,-71,-80,-84,1]
[1574,"Test",-60,-59,-56,-63,-64,-82,-81,1]
[1575,"Test",-41,-56,-60,-39,-72,-74,-66,2]
[1576,"Test",-57,-54,-51,-60,-47,-84,-88,4]
[1577,"Test",-38,-55,-57,-41,-66,-73,-69,2]
[1578,"Test",-62,-59,-62,-60,-68,-80,-89,1]
[1579,"Test",-61,-55,-52,-61,-44,-88,-92,4]
[1580,"Test",-58,-54,-52,-61,-74,-75,-82,1]
[1581,"Test",-50,-62,-57,-45,-62,-81,-78,3]
[1582,"Test",-59,-54,-59,-60,-50,-87,-86,4]
[1583,"Test",-59,-52,-50,-55,-55,-87,-85,4]
[1584,"Test",-58,-48,-59,-59,-64,-84,-77,1]
[1585,"Test",-66,-59,-52,-63,-59,-88,-87,4]
[1586,"Test",-51,-55,-52,-49,-64,-86,-83,3]
[1587,"Test",-52,-60,-52,-48,-70,-79,-79,3]
[1588,"Test",-48,-53,-56,-37,-59,-75,-83,2]
[1589,"Test",-66,-58,-58,-68,-73,-85,-78,1]
[1590,"Test",-58,-53,-44,-62,-52,-84,-88,4]
[1591,"Test",-49,-45,-50,-48,-61,-79,-84,3]
[1592,"Test",-45,-58,-55,-46,-69,-75,-73,2]
[1593,"Test",-67,-65,-67,-68,-75,-87,-84,1]
[1594,"Test",-42,-55,-57,-38,-71,-71,-76,2]
[1595,"Test",-41,-56,-50,-43,-66,-77,-76,2]
[1596,"Test",-52,-57,-53,-47,-57,-80,-83,3]
[1597,"Test",-56,-54,-47,-59,-52,-84,-91,4]
[1598,"Test",-65,-59,-61,-67,-70,-80,-83,1]
[1599,"Test",-51,-52,-51,-51,-64,-79,-89,3]
[1600,"Test",-63,-59,-53,-70,-46,-86,-88,4]
[1601,"Test",-48,-50,-55,-50,-66,-78,-75,3]
[1602,"Test",-49,-56,-59,-49,-74,-82,-80,2]
[1603,"Test",-65,-57,-63,-71,-76,-87,-86,1]
[1604,"Test",-36,-55,-53,-35,-64,-72,-66,2]
[1605,"Test",-52,-56,-51,-48,-64,-87,-84,3]
[1606,"Test",-61,-53,-50,-59,-46,-84,-93,4]
[1607,"Test",-61,-60,-53,-61,-52,-87,-87,4]
[1608,"Test",-61,-61,-51,-62,-54,-85,-91,4]
[1609,"Test",-68,-55,-67,-70,-76,-82,-81,1]
[1610,"Test",-51,-55,-56,-49,-58,-84,-84,3]
[1611,"Test",-58,-53,-61,-62,-64,-78,-81,1]
[1612,"Test",-36,-56,-53,-43,-63,-65,-70,2]
[1613,"Test",-61,-54,-64,-63,-68,-83,-81,1]
[1614,"Test",-50,-54,-53,-46,-66,-78,-87,3]
[1615,"Test",-63,-48,-54,-65,-67,-82,-80,1]
[1616,"Test",-63,-57,-63,-64,-67,-81,-83,1]
[1617,"Test",-49,-57,-51,-44,-57,-85,-79,3]
[1618,"Test",-63,-59,-61,-61,-66,-79,-80,1]
[1619,"Test",-51,-55,-51,-48,-63,-88,-84,3]
[1620,"Test",-40,-59,-67,-50,-68,-79,-78,2]
[1621,"Test",-63,-51,-57,-60,-66,-79,-82,1]
[1622,"Test",-48,-58,-56,-38,-65,-67,-76,2]
[1623,"Test",-42,-52,-54,-35,-65,-69,-73,2]
[1624,"Test",-17,-66,-61,-37,-68,-75,-77,2]
[1625,"Test",-43,-58,-56,-41,-69,-79,-78,2]
[1626,"Test",-63,-56,-55,-60,-52,-86,-98,4]
[1627,"Test",-61,-50,-50,-58,-48,-88,-87,4]
[1628,"Test",-58,-51,-49,-61,-48,-88,-85,4]
[1629,"Test",-68,-55,-63,-61,-74,-79,-85,1]
[1630,"Test",-59,-52,-49,-55,-56,-83,-81,4]
[1631,"Test",-48,-57,-60,-44,-71,-85,-77,2]
[1632,"Test",-63,-57,-62,-65,-76,-82,-88,1]
[1633,"Test",-59,-56,-50,-60,-52,-81,-85,4]
[1634,"Test",-58,-53,-46,-59,-50,-86,-90,4]
[1635,"Test",-63,-62,-49,-63,-45,-92,-86,4]
[1636,"Test",-53,-55,-54,-51,-69,-79,-81,3]
[1637,"Test",-52,-52,-52,-49,-62,-80,-80,3]
[1638,"Test",-55,-52,-46,-59,-53,-88,-84,4]
[1639,"Test",-35,-57,-54,-35,-64,-78,-76,2]
[1640,"Test",-52,-55,-52,-43,-61,-86,-83,3]
[1641,"Test",-42,-57,-61,-43,-73,-67,-66,2]
[1642,"Test",-19,-59,-55,-37,-73,-72,-66,2]
[1643,"Test",-45,-58,-54,-46,-69,-87,-77,2]
[1644,"Test",-40,-58,-47,-41,-65,-73,-70,2]
[1645,"Test",-27,-59,-56,-38,-62,-75,-79,2]
[1646,"Test",-46,-53,-50,-53,-64,-81,-86,3]
[1647,"Test",-63,-58,-59,-65,-74,-86,-84,1]
[1648,"Test",-66,-57,-59,-64,-69,-82,-84,1]
[1649,"Test",-40,-54,-52,-39,-65,-70,-74,2]
[1650,"Test",-60,-55,-58,-57,-75,-74,-82,1]
[1651,"Test",-59,-53,-45,-57,-45,-81,-82,4]
[1652,"Test",-64,-57,-48,-60,-39,-88,-85,4]
[1653,"Test",-63,-58,-54,-67,-43,-88,-98,4]
[1654,"Test",-59,-53,-49,-59,-45,-89,-88,4]
[1655,"Test",-61,-56,-55,-63,-52,-84,-87,4]
[1656,"Test",-64,-54,-58,-69,-65,-86,-86,1]
[1657,"Test",-58,-56,-48,-65,-49,-87,-81,4]
[1658,"Test",-66,-54,-54,-64,-47,-89,-86,4]
[1659,"Test",-45,-46,-58,-53,-59,-77,-82,3]
[1660,"Test",-61,-56,-58,-67,-68,-80,-81,1]
[1661,"Test",-47,-58,-56,-44,-64,-80,-85,3]
[1662,"Test",-61,-59,-65,-63,-74,-89,-87,1]
[1663,"Test",-38,-57,-61,-38,-69,-73,-70,2]
[1664,"Test",-49,-58,-55,-52,-60,-83,-84,3]
[1665,"Test",-44,-55,-61,-41,-66,-72,-68,2]
[1666,"Test",-47,-60,-59,-55,-70,-79,-85,3]
[1667,"Test",-56,-52,-50,-58,-57,-85,-88,3]
[1668,"Test",-58,-51,-51,-56,-54,-85,-83,4]
[1669,"Test",-61,-55,-45,-55,-56,-85,-85,4]
[1670,"Test",-61,-54,-52,-65,-49,-85,-91,4]
[1671,"Test",-48,-56,-54,-39,-67,-78,-82,2]
[1672,"Test",-35,-53,-57,-46,-64,-65,-70,2]
[1673,"Test",-35,-56,-57,-34,-60,-73,-80,2]
[1674,"Test",-17,-63,-65,-27,-86,-72,-74,2]
[1675,"Test",-38,-55,-54,-42,-63,-78,-71,2]
[1676,"Test",-46,-56,-53,-53,-61,-87,-77,3]
[1677,"Test",-35,-53,-55,-47,-61,-66,-71,2]
[1678,"Test",-61,-50,-59,-67,-65,-79,-86,1]
[1679,"Test",-69,-52,-48,-66,-48,-88,-87,4]
[1680,"Test",-48,-52,-52,-56,-68,-81,-84,3]
[1681,"Test",-50,-53,-52,-50,-61,-79,-83,3]
[1682,"Test",-50,-52,-51,-54,-67,-77,-88,3]
[1683,"Test",-59,-52,-56,-59,-51,-89,-84,4]
[1684,"Test",-60,-54,-57,-66,-64,-81,-83,1]
[1685,"Test",-49,-57,-52,-51,-60,-89,-83,3]
[1686,"Test",-40,-50,-52,-48,-68,-73,-71,2]
[1687,"Test",-16,-55,-56,-15,-64,-78,-76,2]
[1688,"Test",-44,-57,-53,-46,-67,-78,-79,2]
[1689,"Test",-46,-53,-53,-43,-59,-83,-78,3]
[1690,"Test",-62,-58,-61,-68,-70,-85,-86,1]
[1691,"Test",-64,-59,-65,-64,-74,-88,-90,1]
[1692,"Test",-65,-57,-55,-64,-50,-92,-85,4]
[1693,"Test",-50,-51,-49,-48,-54,-77,-77,3]
[1694,"Test",-65,-53,-53,-57,-64,-87,-80,1]
[1695,"Test",-34,-53,-56,-18,-70,-76,-75,2]
[1696,"Test",-43,-58,-56,-43,-67,-78,-82,2]
[1697,"Test",-34,-54,-56,-42,-68,-76,-75,2]
[1698,"Test",-40,-52,-50,-41,-64,-69,-66,2]
[1699,"Test",-53,-54,-56,-52,-63,-81,-85,3]
[1700,"Test",-41,-60,-54,-43,-73,-80,-74,2]
[1701,"Test",-51,-51,-54,-53,-59,-86,-85,3]
[1702,"Test",-49,-53,-51,-53,-67,-81,-83,3]
[1703,"Test",-51,-48,-56,-53,-61,-80,-79,3]
[1704,"Test",-39,-56,-53,-49,-70,-80,-75,2]
[1705,"Test",-51,-54,-53,-55,-66,-77,-85,3]
[1706,"Test",-62,-54,-48,-62,-48,-86,-86,4]
[1707,"Test",-65,-56,-62,-62,-68,-83,-90,1]
[1708,"Test",-59,-55,-61,-65,-68,-84,-84,1]
[1709,"Test",-58,-54,-46,-55,-50,-87,-91,4]
[1710,"Test",-55,-53,-47,-57,-50,-85,-85,4]
[1711,"Test",-66,-59,-64,-67,-77,-87,-85,1]
[1712,"Test",-47,-58,-49,-45,-66,-85,-79,3]
[1713,"Test",-64,-56,-64,-65,-75,-85,-90,1]
[1714,"Test",-47,-55,-55,-49,-67,-85,-80,3]
[1715,"Test",-64,-55,-55,-66,-49,-88,-88,4]
[1716,"Test",-34,-60,-52,-37,-71,-66,-75,2]
[1717,"Test",-56,-51,-62,-62,-71,-77,-82,1]
[1718,"Test",-62,-51,-58,-65,-72,-80,-88,1]
[1719,"Test",-48,-59,-54,-55,-60,-84,-87,3]
[1720,"Test",-60,-52,-49,-61,-51,-85,-81,4]
[1721,"Test",-50,-57,-57,-50,-70,-77,-80,2]
[1722,"Test",-50,-55,-52,-47,-65,-83,-91,3]
[1723,"Test",-64,-55,-63,-66,-76,-88,-83,1]
[1724,"Test",-64,-51,-57,-67,-68,-84,-82,1]
[1725,"Test",-63,-52,-43,-63,-51,-87,-88,4]
[1726,"Test",-59,-51,-55,-59,-54,-87,-88,4]
[1727,"Test",-39,-52,-50,-39,-61,-75,-71,2]
[1728,"Test",-47,-51,-56,-50,-60,-78,-80,3]
[1729,"Test",-46,-53,-51,-49,-68,-79,-85,3]
[1730,"Test",-73,-62,-66,-65,-81,-87,-89,1]
[1731,"Test",-49,-61,-55,-53,-72,-85,-92,3]
[1732,"Test",-61,-57,-57,-66,-55,-83,-87,4]
[1733,"Test",-63,-58,-46,-66,-49,-93,-93,4]
[1734,"Test",-49,-52,-57,-54,-59,-85,-88,3]
[1735,"Test",-35,-56,-52,-36,-72,-69,-67,2]
[1736,"Test",-61,-56,-65,-59,-68,-86,-88,1]
[1737,"Test",-40,-57,-51,-46,-65,-75,-79,2]
[1738,"Test",-63,-48,-51,-59,-69,-77,-82,1]
[1739,"Test",-48,-51,-54,-51,-58,-80,-77,3]
[1740,"Test",-62,-56,-64,-69,-75,-81,-84,1]
[1741,"Test",-56,-55,-44,-60,-49,-84,-80,4]
[1742,"Test",-53,-54,-54,-51,-61,-84,-77,3]
[1743,"Test",-41,-57,-63,-40,-73,-66,-65,2]
[1744,"Test",-50,-59,-53,-54,-65,-77,-78,3]
[1745,"Test",-45,-59,-54,-51,-69,-77,-85,2]
[1746,"Test",-61,-54,-48,-58,-47,-91,-88,4]
[1747,"Test",-59,-56,-58,-66,-51,-92,-88,4]
[1748,"Test",-62,-59,-63,-64,-70,-84,-84,1]
[1749,"Test",-55,-50,-51,-61,-48,-82,-79,4]
[1750,"Test",-40,-54,-52,-38,-60,-69,-75,2]
[1751,"Test",-68,-57,-62,-68,-77,-91,-86,1]
[1752,"Test",-54,-46,-48,-55,-48,-84,-85,4]
[1753,"Test",-47,-58,-50,-55,-64,-76,-74,3]
[1754,"Test",-39,-56,-53,-46,-57,-73,-77,2]
[1755,"Test",-40,-53,-51,-37,-78,-73,-77,2]
[1756,"Test",-50,-54,-52,-49,-67,-79,-86,3]
[1757,"Test",-50,-57,-50,-59,-62,-91,-93,3]
[1758,"Test",-57,-56,-48,-60,-49,-84,-88,4]
[1759,"Test",-68,-57,-61,-65,-71,-85,-85,1]
[1760,"Test",-40,-57,-58,-38,-64,-74,-79,2]
[1761,"Test",-47,-56,-54,-51,-63,-81,-86,3]
[1762,"Test",-65,-59,-65,-63,-68,-80,-83,1]
[1763,"Test",-49,-64,-53,-52,-63,-73,-78,3]
[1764,"Test",-54,-55,-52,-50,-58,-78,-86,3]
[1765,"Test",-64,-57,-63,-71,-77,-87,-83,1]
[1766,"Test",-46,-51,-55,-42,-62,-79,-78,3]
[1767,"Test",-62,-57,-60,-65,-72,-83,-87,1]
[1768,"Test",-58,-50,-61,-68,-64,-85,-91,1]
[1769,"Test",-49,-62,-56,-50,-63,-83,-89,3]
[1770,"Test",-46,-58,-54,-48,-63,-78,-75,3]
[1771,"Test",-62,-59,-59,-64,-65,-80,-81,1]
[1772,"Test",-43,-55,-54,-47,-67,-77,-79,2]
[1773,"Test",-61,-55,-58,-67,-69,-84,-86,1]
[1774,"Test",-42,-54,-50,-45,-63,-68,-64,2]
[1775,"Test",-52,-56,-52,-44,-63,-87,-84,3]
[1776,"Test",-52,-61,-48,-60,-51,-80,-80,4]
[1777,"Test",-68,-57,-60,-61,-73,-87,-87,1]
[1778,"Test",-61,-56,-66,-65,-71,-85,-88,1]
[1779,"Test",-51,-58,-51,-51,-62,-79,-86,3]
[1780,"Test",-59,-54,-59,-59,-67,-86,-80,1]
[1781,"Test",-41,-53,-56,-36,-62,-75,-77,2]
[1782,"Test",-67,-57,-67,-68,-75,-85,-80,1]
[1783,"Test",-65,-56,-63,-71,-77,-89,-85,1]
[1784,"Test",-50,-53,-53,-54,-67,-78,-86,3]
[1785,"Test",-26,-57,-53,-37,-67,-72,-69,2]
[1786,"Test",-48,-52,-49,-52,-63,-79,-77,3]
[1787,"Test",-52,-54,-53,-51,-61,-83,-81,3]
[1788,"Test",-40,-55,-56,-41,-70,-74,-73,2]
[1789,"Test",-45,-54,-53,-45,-68,-75,-84,3]
[1790,"Test",-63,-59,-54,-77,-42,-91,-92,4]
[1791,"Test",-62,-53,-58,-65,-67,-82,-84,1]
[1792,"Test",-67,-56,-65,-68,-82,-96,-89,1]
[1793,"Test",-58,-56,-49,-60,-53,-86,-91,4]
[1794,"Test",-53,-55,-52,-46,-63,-86,-85,3]
[1795,"Test",-52,-55,-51,-49,-62,-86,-84,3]
[1796,"Test",-48,-61,-58,-44,-75,-80,-89,2]
[1797,"Test",-63,-59,-57,-65,-69,-80,-86,1]
[1798,"Test",-60,-58,-53,-55,-53,-83,-84,4]
[1799,"Test",-61,-59,-56,-64,-50,-85,-87,4]
[1800,"Test",-40,-56,-53,-50,-71,-79,-78,2]
[1801,"Test",-38,-57,-60,-39,-68,-73,-74,2]
[1802,"Test",-62,-51,-53,-60,-67,-78,-85,1]
[1803,"Test",-59,-49,-45,-57,-52,-80,-82,4]
[1804,"Test",-62,-63,-57,-69,-71,-82,-82,1]
[1805,"Test",-40,-58,-52,-41,-66,-63,-75,2]
[1806,"Test",-19,-62,-56,-13,-74,-72,-77,2]
[1807,"Test",-61,-55,-56,-66,-73,-79,-80,1]
[1808,"Test",-59,-55,-58,-61,-67,-77,-79,1]
[1809,"Test",-48,-55,-53,-51,-63,-82,-86,3]
[1810,"Test",-52,-53,-50,-52,-63,-84,-88,3]
[1811,"Test",-60,-55,-60,-59,-67,-81,-87,1]
[1812,"Test",-60,-51,-51,-59,-54,-86,-89,4]
[1813,"Test",-43,-59,-63,-40,-74,-66,-64,2]
[1814,"Test",-46,-54,-47,-51,-57,-80,-73,3]
[1815,"Test",-38,-54,-50,-42,-60,-71,-67,2]
[1816,"Test",-66,-55,-60,-69,-66,-85,-87,1]
[1817,"Test",-53,-57,-62,-55,-60,-86,-83,3]
[1818,"Test",-46,-56,-60,-46,-65,-84,-85,3]
[1819,"Test",-50,-51,-51,-49,-63,-79,-80,3]
[1820,"Test",-46,-51,-51,-36,-67,-73,-76,2]
[1821,"Test",-63,-57,-57,-62,-51,-89,-84,4]
[1822,"Test",-58,-58,-61,-59,-69,-81,-80,1]
[1823,"Test",-49,-53,-50,-55,-59,-80,-87,3]
[1824,"Test",-60,-59,-61,-62,-68,-81,-85,1]
[1825,"Test",-63,-57,-52,-64,-52,-88,-93,4]
[1826,"Test",-45,-58,-58,-40,-70,-86,-80,2]
[1827,"Test",-34,-61,-61,-36,-60,-73,-76,2]
[1828,"Test",-37,-56,-57,-39,-61,-72,-74,2]
[1829,"Test",-59,-50,-55,-59,-53,-86,-87,4]
[1830,"Test",-45,-57,-58,-45,-77,-78,-80,2]
[1831,"Test",-57,-55,-57,-59,-48,-85,-84,4]
[1832,"Test",-63,-52,-61,-64,-75,-80,-83,1]
[1833,"Test",-62,-56,-59,-68,-74,-95,-84,1]
[1834,"Test",-51,-54,-44,-52,-56,-79,-79,3]
[1835,"Test",-51,-52,-50,-56,-67,-79,-91,3]
[1836,"Test",-17,-61,-60,-15,-72,-69,-79,2]
[1837,"Test",-50,-52,-49,-45,-64,-76,-78,3]
[1838,"Test",-45,-58,-63,-45,-80,-76,-65,2]
[1839,"Test",-40,-58,-60,-49,-72,-74,-80,2]
[1840,"Test",-27,-55,-57,-37,-67,-71,-71,2]
[1841,"Test",-50,-53,-52,-55,-67,-77,-88,3]
[1842,"Test",-57,-56,-48,-59,-47,-86,-89,4]
[1843,"Test",-49,-62,-52,-49,-63,-82,-83,3]
[1844,"Test",-40,-56,-53,-42,-65,-72,-70,2]
[1845,"Test",-63,-65,-60,-63,-77,-81,-87,1]
[1846,"Test",-57,-54,-59,-63,-65,-80,-80,1]
[1847,"Test",-38,-52,-50,-41,-69,-68,-72,2]
[1848,"Test",-62,-53,-64,-65,-69,-85,-85,1]
[1849,"Test",-67,-56,-60,-66,-73,-93,-87,1]
[1850,"Test",-35,-57,-59,-36,-63,-74,-75,2]
[1851,"Test",-62,-49,-56,-63,-67,-78,-80,1]
[1852,"Test",-40,-52,-53,-39,-61,-75,-73,2]
[1853,"Test",-69,-59,-70,-67,-75,-82,-82,1]
[1854,"Test",-47,-56,-57,-52,-62,-79,-87,3]
[1855,"Test",-58,-53,-48,-58,-54,-88,-89,4]
[1856,"Test",-51,-52,-51,-51,-65,-77,-89,3]
[1857,"Test",-64,-57,-53,-64,-47,-88,-91,4]
[1858,"Test",-44,-50,-57,-45,-61,-72,-67,2]
[1859,"Test",-58,-54,-49,-60,-55,-91,-93,4]
[1860,"Test",-50,-55,-54,-50,-69,-79,-82,3]
[1861,"Test",-41,-57,-64,-42,-74,-69,-70,2]
[1862,"Test",-48,-52,-54,-52,-63,-80,-77,3]
[1863,"Test",-59,-57,-60,-60,-63,-81,-77,1]
[1864,"Test",-65,-56,-60,-66,-74,-89,-90,1]
[1865,"Test",-43,-53,-51,-42,-73,-71,-66,2]
[1866,"Test",-65,-53,-60,-62,-69,-85,-83,1]
[1867,"Test",-64,-58,-50,-65,-50,-91,-85,4]
[1868,"Test",-60,-52,-51,-55,-48,-86,-90,4]
[1869,"Test",-63,-55,-50,-63,-50,-91,-85,4]
[1870,"Test",-62,-52,-56,-63,-64,-78,-81,1]
[1871,"Test",-49,-54,-50,-51,-66,-78,-82,3]
[1872,"Test",-43,-54,-59,-40,-68,-76,-74,2]
[1873,"Test",-51,-58,-56,-48,-61,-79,-82,3]
[1874,"Test",-42,-51,-54,-41,-67,-72,-77,2]
[1875,"Test",-51,-54,-54,-55,-58,-88,-85,3]
[1876,"Test",-61,-54,-60,-62,-66,-79,-85,1]
[1877,"Test",-57,-56,-48,-66,-49,-84,-91,4]
[1878,"Test",-59,-56,-49,-57,-45,-88,-88,4]
[1879,"Test",-44,-53,-51,-49,-60,-84,-76,3]
[1880,"Test",-39,-51,-50,-43,-63,-71,-66,2]
[1881,"Test",-57,-56,-53,-62,-48,-87,-88,4]
[1882,"Test",-46,-49,-51,-45,-62,-79,-79,3]
[1883,"Test",-60,-50,-49,-54,-71,-83,-82,3]
[1884,"Test",-57,-54,-46,-53,-44,-85,-84,4]
[1885,"Test",-61,-54,-60,-60,-64,-79,-81,1]
[1886,"Test",-68,-63,-65,-74,-81,-84,-89,1]
[1887,"Test",-37,-54,-55,-37,-67,-71,-70,2]
[1888,"Test",-10,-57,-57,-36,-73,-82,-72,2]
[1889,"Test",-52,-53,-56,-49,-62,-83,-80,3]
[1890,"Test",-51,-57,-54,-55,-62,-87,-81,3]
[1891,"Test",-58,-55,-59,-58,-72,-77,-81,1]
[1892,"Test",-62,-57,-61,-63,-65,-83,-82,1]
[1893,"Test",-40,-54,-53,-36,-61,-77,-74,2]
[1894,"Test",-42,-58,-63,-41,-75,-69,-67,2]
[1895,"Test",-52,-53,-53,-56,-64,-78,-88,3]
[1896,"Test",-38,-55,-56,-42,-66,-72,-75,2]
[1897,"Test",-58,-51,-56,-59,-54,-87,-87,4]
[1898,"Test",-45,-51,-50,-51,-57,-80,-79,3]
[1899,"Test",-48,-66,-57,-51,-70,-81,-80,3]
[1900,"Test",-59,-51,-56,-61,-50,-86,-86,4]
[1901,"Test",-48,-53,-51,-50,-66,-79,-86,3]
[1902,"Test",-38,-54,-53,-36,-66,-73,-75,2]
[1903,"Test",-64,-60,-45,-66,-52,-92,-92,4]
[1904,"Test",-14,-58,-60,-38,-74,-74,-73,2]
[1905,"Test",-40,-56,-53,-44,-69,-77,-79,2]
[1906,"Test",-52,-54,-53,-50,-68,-78,-85,3]
[1907,"Test",-53,-59,-48,-57,-66,-80,-77,3]
[1908,"Test",-40,-58,-49,-41,-75,-71,-70,2]
[1909,"Test",-35,-58,-59,-40,-75,-75,-73,2]
[1910,"Test",-57,-55,-58,-64,-65,-87,-79,1]
[1911,"Test",-44,-54,-54,-45,-73,-71,-79,2]
[1912,"Test",-51,-56,-51,-58,-58,-80,-86,3]
[1913,"Test",-58,-54,-58,-58,-67,-84,-88,1]
[1914,"Test",-60,-62,-66,-66,-71,-84,-85,1]
[1915,"Test",-61,-52,-48,-57,-47,-85,-85,4]
[1916,"Test",-44,-52,-60,-37,-66,-67,-73,2]
[1917,"Test",-43,-56,-59,-37,-64,-74,-77,2]
[1918,"Test",-62,-59,-61,-66,-75,-86,-80,1]
[1919,"Test",-39,-59,-49,-37,-68,-70,-72,2]
[1920,"Test",-42,-54,-48,-51,-64,-78,-87,3]
[1921,"Test",-63,-61,-49,-58,-46,-92,-83,4]
[1922,"Test",-63,-54,-52,-59,-44,-86,-92,4]
[1923,"Test",-53,-57,-50,-47,-62,-86,-81,3]
[1924,"Test",-47,-53,-55,-57,-62,-80,-78,3]
[1925,"Test",-61,-58,-46,-69,-53,-82,-81,4]
[1926,"Test",-56,-51,-45,-54,-52,-79,-85,4]
[1927,"Test",-49,-50,-50,-45,-64,-79,-77,3]
[1928,"Test",-12,-55,-57,-16,-70,-76,-75,2]
[1929,"Test",-53,-56,-50,-50,-67,-80,-81,3]
[1930,"Test",-59,-57,-48,-69,-52,-87,-87,4]
[1931,"Test",-64,-57,-60,-60,-65,-80,-91,1]
[1932,"Test",-18,-60,-59,-17,-68,-75,-75,2]
[1933,"Test",-57,-50,-58,-60,-51,-87,-88,4]
[1934,"Test",-63,-52,-56,-59,-66,-80,-80,1]
[1935,"Test",-58,-59,-56,-64,-68,-82,-87,1]
[1936,"Test",-51,-54,-52,-57,-62,-79,-79,3]
[1937,"Test",-66,-58,-61,-63,-73,-81,-85,1]
[1938,"Test",-64,-58,-51,-59,-40,-88,-87,4]
[1939,"Test",-55,-57,-43,-59,-53,-81,-85,4]
[1940,"Test",-37,-58,-56,-38,-63,-75,-74,2]
[1941,"Test",-59,-54,-58,-59,-63,-81,-80,1]
[1942,"Test",-49,-55,-53,-48,-61,-79,-78,3]
[1943,"Test",-47,-54,-49,-52,-58,-79,-86,3]
[1944,"Test",-48,-51,-53,-48,-64,-81,-79,3]
[1945,"Test",-63,-61,-61,-63,-68,-82,-83,1]
[1946,"Test",-37,-56,-55,-45,-64,-61,-69,2]
[1947,"Test",-48,-55,-58,-49,-67,-83,-88,3]
[1948,"Test",-61,-56,-63,-77,-67,-82,-96,1]
[1949,"Test",-42,-56,-50,-43,-68,-76,-77,2]
[1950,"Test",-44,-57,-64,-40,-75,-69,-64,2]
[1951,"Test",-46,-60,-54,-50,-62,-79,-74,3]
[1952,"Test",-61,-60,-50,-63,-45,-88,-91,4]
[1953,"Test",-41,-58,-53,-38,-65,-79,-72,2]
[1954,"Test",-61,-56,-47,-60,-48,-83,-87,4]
[1955,"Test",-46,-55,-48,-52,-62,-80,-79,3]
[1956,"Test",-62,-56,-63,-66,-74,-82,-80,1]
[1957,"Test",-40,-52,-49,-41,-62,-69,-65,2]
[1958,"Test",-38,-58,-62,-41,-64,-76,-73,2]
[1959,"Test",-52,-50,-53,-54,-68,-76,-85,3]
[1960,"Test",-64,-54,-65,-63,-71,-85,-89,1]
[1961,"Test",-34,-61,-52,-27,-61,-67,-69,2]
[1962,"Test",-61,-58,-60,-61,-74,-78,-83,1]
[1963,"Test",-57,-61,-54,-64,-48,-87,-91,4]
[1964,"Test",-63,-57,-66,-66,-68,-83,-81,1]
[1965,"Test",-47,-56,-53,-53,-66,-85,-85,3]
[1966,"Test",-62,-51,-61,-71,-67,-79,-80,1]
[1967,"Test",-60,-54,-45,-59,-45,-88,-83,4]
[1968,"Test",-46,-55,-58,-47,-64,-78,-78,3]
[1969,"Test",-63,-56,-63,-65,-72,-82,-89,1]
[1970,"Test",-68,-58,-65,-67,-83,-89,-86,1]
[1971,"Test",-59,-55,-50,-57,-52,-78,-83,4]
[1972,"Test",-66,-57,-60,-68,-74,-82,-88,1]
[1973,"Test",-62,-61,-51,-68,-48,-88,-88,4]
[1974,"Test",-49,-54,-52,-52,-63,-83,-85,3]
[1975,"Test",-53,-58,-51,-50,-62,-84,-81,3]
[1976,"Test",-64,-58,-60,-67,-68,-84,-81,1]
[1977,"Test",-43,-57,-52,-40,-58,-72,-70,2]
[1978,"Test",-64,-64,-58,-75,-68,-82,-80,1]
[1979,"Test",-63,-57,-63,-64,-73,-86,-81,1]
[1980,"Test",-60,-54,-54,-60,-64,-88,-88,4]
[1981,"Test",-48,-57,-52,-51,-62,-86,-81,3]
[1982,"Test",-43,-60,-68,-46,-72,-83,-79,2]
[1983,"Test",-50,-56,-47,-52,-58,-88,-76,3]
[1984,"Test",-12,-60,-62,-14,-71,-77,-71,2]
[1985,"Test",-62,-53,-48,-61,-50,-85,-86,4]
[1986,"Test",-51,-54,-54,-54,-62,-85,-78,3]
[1987,"Test",-46,-54,-53,-48,-71,-78,-73,2]
[1988,"Test",-34,-48,-51,-37,-70,-78,-69,2]
[1989,"Test",-60,-55,-42,-63,-53,-91,-79,4]
[1990,"Test",-60,-54,-61,-65,-70,-82,-88,1]
[1991,"Test",-39,-51,-64,-38,-71,-78,-78,2]
[1992,"Test",-39,-55,-54,-48,-76,-73,-80,2]
[1993,"Test",-59,-52,-57,-60,-54,-91,-89,4]
[1994,"Test",-45,-55,-54,-43,-71,-89,-77,2]
[1995,"Test",-62,-53,-55,-65,-49,-87,-87,4]
[1996,"Test",-35,-59,-57,-27,-61,-71,-76,2]
[1997,"Test",-65,-54,-57,-66,-70,-82,-80,1]
[1998,"Test",-44,-59,-63,-42,-72,-79,-80,2]
[1999,"Test",-49,-60,-55,-49,-63,-85,-89,3]
[2000,"Test",-63,-60,-60,-67,-76,-85,-84,1]

{"sheet":"history","index":1,"n_rows":12,"n_cols":2,"rows_kept":12,"cut":false,"hidden":false,"merged":[]}
["id","urls"]
[1,"http://miau.my-x.hu/miau/239/konzisztencia_alapu_hibridizacio_v1.docx"]
[2,"https://miau.my-x.hu/miau/262/hipotezis_tervezes_phd.docx"]
[3,"https://miau.my-x.hu/miau/262/WiFi_experiment.xlsx"]
[4,"https://miau.my-x.hu/miau/262/wifi_y=1.xlsx"]
[5,"https://miau.my-x.hu/miau/263/Barta_Pitlik_final_no_remarks.docx"]
[6,"https://miau.my-x.hu/miau/263/wifi_plus.xlsx"]
[]
["id2","abstracts"]
[1,"Abstract: A specific case of the model hybridization is: analyzing partial conclusion spaces and integration of partial results based on statistics, logic/rules, and models. The aggregation of partial result for partial problems can be made in quasi unlimited ways. The more complex is the term of consistence behind the aggregation of partial results, the more chance can be expected for the success of the hybridization.\n\nKeywords: similarity analysis, logic, rule"]
[2,"Abstract: The goal of the paper is to demonstrate how can be articulated and evaluated a potential hypothesis for a real PhD-degree. The process is simple: a whole thinking experiment is needed where it is possible to build a benchmark (objective competition between alternative solutions). Parallel, it is relevant to be capable of defining a scale for the Goodness of models.\n\nKeywords: hermeneutics, automation, none-system-answer, consistence-based context-free and/or context-depending modelling"]
[5,"Abstract\n\nThe goal of the paper is to demonstrate how a potential hypothesis can be articulated and evaluated for a real PhD-degree. The process is simple: a whole thinking experiment is needed where it is possible to build a benchmark (objective competition between alternative solutions). Parallel, it is relevant to be capable of defining a scale for the goodness of models. The focus of the research of this article was to model and predict the location of indoor users, which, is the continuation of a previous research, attempted to consistently increase model accuracy based on the available data set.\n\nKeywords\n\nhermeneutics, automation, none-system-answer, consistence-based context-free and/or context-depending modelling"]

{"sheet":"info","index":2,"n_rows":13,"n_cols":2,"rows_kept":13,"cut":false,"hidden":false,"merged":[]}
["Task","A lot models should be developed for locating a mobile phone (device) in a building, if this device can be \"seen\" through routers (X1, …, X7) and we also know which router signs (which constellations of X1-2-3-4-5-6-7) belong to which room (Y=1,2,3,4) in the building. There are given 1400 constellation for learning and further 600 constellation for testing."]
[null,"1 model = 1 micro-project"]
[null,"System-modeling – Miau Wiki (my-x.hu)"]
[null,"https://miau.my-x.hu/mediawiki/index.php/System-modeling#Log-analysis"]
[]
["Sheets","Contents"]
["case1","Expertise: how to derive similarities"]
["cases","How to process all cases (incl. Macro)"]
["results","Stored data"]
["accuracy","How to calculate success levels for \"learning\" and testing"]
[]
["Conclusions","The expertise (estimation#1) seems to be quite simple and efficient."]
[null,"The expertise (estimation#2) is just a \"guessing machine\" compared to estimation#1."]

{"sheet":"case1","index":3,"n_rows":36,"n_cols":33,"rows_kept":36,"cut":false,"hidden":false,"merged":[]}
["Learning case#1",{"$f":"'raw data'!C3","v":-58},{"$f":"'raw data'!D3","v":-56},{"$f":"'raw data'!E3","v":-52},{"$f":"'raw data'!F3","v":-54},{"$f":"'raw data'!G3","v":-52},{"$f":"'raw data'!H3","v":-87},{"$f":"'raw data'!I3","v":-84},"Y",{"$f":"'raw data'!J3","v":4},null,null,null,null,null,null,null,null,{"$f":"VLOOKUP(MIN(S4:S7),S4:T7,2,0)","v":4},null,null,1,{"$f":"VLOOKUP(V1,W$4:$AD$7,W$8,0)","v":4},{"$f":"VLOOKUP(W1,X$4:$AD$7,X$8,0)","v":3},{"$f":"VLOOKUP(X1,Y$4:$AD$7,Y$8,0)","v":2},{"$f":"VLOOKUP(Y1,Z$4:$AD$7,Z$8,0)","v":4},{"$f":"VLOOKUP(Z1,AA$4:$AD$7,AA$8,0)","v":1},{"$f":"VLOOKUP(AA1,AB$4:$AD$7,AB$8,0)","v":4},{"$f":"VLOOKUP(AB1,AC$4:$AD$7,AC$8,0)","v":2},null,null,{"$f":"VLOOKUP(1,AF4:AG7,2,0)","v":4}]
[]
["Zeilenbeschriftungen","Mittelwert von X1","Mittelwert von X2","Mittelwert von X3","Mittelwert von X4","Mittelwert von X5","Mittelwert von X6","Mittelwert von X7","MITTELWERT","STD_ABW",null,"diff_x1","diff_x2","diff_x3","diff_x4","diff_x5","diff_x6","diff_x7","total","Room_id",null,"Room_id","rank_x1","rank_x2","rank_x3","rank_x4","rank_x5","rank_x6","rank_x7","Room_id","Frequency","rangzahl","Room_id"]
[1,-62.475218658892125,-56.373177842565596,-60.4868804664723,-64.172011661807574,-70.180758017492707,-82.801749271137027,-83.967930029154516,{"$f":"AVERAGE(B4:H4)","v":-68.636817992503126},{"$f":"STDEV(B4:H4)","v":10.899466183667617},null,{"$f":"ABS(B$1-B4)","v":4.4752186588921248},{"$f":"ABS(C$1-C4)","v":0.37317784256559605},{"$f":"ABS(D$1-D4)","v":8.4868804664723001},{"$f":"ABS(E$1-E4)","v":10.172011661807574},{"$f":"ABS(F$1-F4)","v":18.180758017492707},{"$f":"ABS(G$1-G4)","v":4.1982507288629733},{"$f":"ABS(H$1-H4)","v":3.2069970845483908E-2},{"$f":"SUM(L4:R4)","v":45.918367346938759},{"$f":"V4","v":1},null,{"$f":"A4","v":1},{"$f":"RANK(L4,L$4:L$7,1)","v":2},{"$f":"RANK(M4,M$4:M$7,1)","v":2},{"$f":"RANK(N4,N$4:N$7,1)","v":4},{"$f":"RANK(O4,O$4:O$7,1)","v":3},{"$f":"RANK(P4,P$4:P$7,1)","v":4},{"$f":"RANK(Q4,Q$4:Q$7,1)","v":2},{"$f":"RANK(R4,R$4:R$7,1)","v":1},{"$f":"V4","v":1},{"$f":"SUMIF($W$1:$AC$1,V4,$W$1:$AC$1)/V4","v":1},{"$f":"RANK(AE4,AE$4:AE$7,0)","v":3},{"$f":"AD4","v":1}]
[2,-36.633237822349571,-56.160458452722061,-55.945558739255013,-37.707736389684811,-67.57306590257879,-72.252148997134668,-73.289398280802288,{"$f":"AVERAGE(B5:H5)","v":-57.080229226361027},{"$f":"STDEV(B5:H5)","v":15.267232471610392},null,{"$f":"ABS(B$1-B5)","v":21.366762177650429},0.16045845272206094,3.9455587392550129,16.292263610315189,15.57306590257879,14.747851002865332,10.710601719197712,{"$f":"SUM(L5:R5)","v":82.796561604584525},{"$f":"V5","v":2},null,{"$f":"A5","v":2},{"$f":"RANK(L5,L$4:L$7,1)","v":4},{"$f":"RANK(M5,M$4:M$7,1)","v":1},{"$f":"RANK(N5,N$4:N$7,1)","v":3},{"$f":"RANK(O5,O$4:O$7,1)","v":4},{"$f":"RANK(P5,P$4:P$7,1)","v":3},{"$f":"RANK(Q5,Q$4:Q$7,1)","v":4},{"$f":"RANK(R5,R$4:R$7,1)","v":4},{"$f":"V5","v":2},{"$f":"SUMIF($W$1:$AC$1,V5,$W$1:$AC$1)/V5","v":2},{"$f":"RANK(AE5,AE$4:AE$7,0)","v":2},{"$f":"AD5","v":2}]
[3,-49.743515850144092,-54.991354466858787,-52.89048991354467,-50.659942363112393,-63.322766570605189,-81.443804034582129,-82.380403458213252,-62.204610951008647,14.176280715301866,null,8.2564841498559076,1.0086455331412125,0.89048991354466978,3.3400576368876074,11.322766570605189,5.5561959654178708,1.6195965417867484,31.994236311239206,3,null,3,{"$f":"RANK(L6,L$4:L$7,1)","v":3},{"$f":"RANK(M6,M$4:M$7,1)","v":4},{"$f":"RANK(N6,N$4:N$7,1)","v":1},{"$f":"RANK(O6,O$4:O$7,1)","v":1},{"$f":"RANK(P6,P$4:P$7,1)","v":2},{"$f":"RANK(Q6,Q$4:Q$7,1)","v":3},{"$f":"RANK(R6,R$4:R$7,1)","v":2},3,1,3,3]
[4,-60.210526315789473,-55.329639889196677,-50.73130193905817,-61.412742382271468,-49.46260387811634,-87.13296398891967,-87.013850415512465,-64.470518401266318,16.056385086991398,null,2.2105263157894726,0.67036011080332258,1.2686980609418299,7.4127423822714675,2.5373961218836598,0.13296398891966987,3.013850415512465,17.246537396121887,4,null,4,{"$f":"RANK(L7,L$4:L$7,1)","v":1},{"$f":"RANK(M7,M$4:M$7,1)","v":3},{"$f":"RANK(N7,N$4:N$7,1)","v":2},{"$f":"RANK(O7,O$4:O$7,1)","v":2},{"$f":"RANK(P7,P$4:P$7,1)","v":1},{"$f":"RANK(Q7,Q$4:Q$7,1)","v":1},{"$f":"RANK(R7,R$4:R$7,1)","v":3},4,3,1,4]
["Gesamtergebnis",-52.293571428571425,-55.708571428571432,-54.956428571428575,-53.514285714285712,-62.488571428571426,-80.95214285714286,-81.697857142857146,null,null,null,null,null,null,null,null,null,null,null,null,null,"return",8,7,6,5,4,3,2,null,{"$f":"SUM(AE4:AE7)","v":7}]
[]
["Zeilenbeschriftungen","Max. von X1","Max. von X2","Max. von X3","Max. von X4","Max. von X5","Max. von X6","Max. von X7","MAX","STD_ABW"]
[1,-55,-47,-50,-54,-60,-74,-74,{"$f":"MAX(B11:H11)","v":-47},{"$f":"STDEV(B11:H11)","v":10.930516478016498}]
[2,-10,-46,-46,-11,-56,-62,-63,{"$f":"MAX(B12:H12)","v":-10},{"$f":"STDEV(B12:H12)","v":22.561028345356956}]
[3,-43,-46,-45,-40,-54,-74,-73,-40,14.269514624508]
[4,-55,-48,-40,-52,-36,-76,-79,-36,16.63759369048071]
["Gesamtergebnis",-10,-46,-40,-11,-36,-62,-63]
[]
["Zeilenbeschriftungen","Min. von X1","Min. von X2","Min. von X3","Min. von X4","Min. von X5","Min. von X6","Min. von X7","MIN","STD_ABW"]
[1,-74,-64,-70,-76,-89,-97,-94,{"$f":"MIN(B18:H18)","v":-97},{"$f":"STDEV(B18:H18)","v":12.726051271010205}]
[2,-52,-74,-71,-53,-84,-89,-92,{"$f":"MIN(B19:H19)","v":-92},{"$f":"STDEV(B19:H19)","v":16.236349578000809}]
[3,-63,-68,-73,-63,-77,-92,-93,-93,12.620844436317]
[4,-71,-66,-60,-74,-62,-96,-98,-98,15.606775085565523]
["Gesamtergebnis",-74,-74,-73,-76,-89,-97,-98]
[]
["Zeilenbeschriftungen","STABW von X1","STABW von X2","STABW von X3","STABW von X4","STABW von X5","STABW von X6","STABW von X7","STD_ABW","STD_ABW"]
[1,3.4077394535149579,3.1363895304940574,3.6657458820320858,3.6614202146390493,4.6398959591189488,3.7073180949870892,4.0481918678094146,{"$f":"MIN(B25:H25)","v":3.1363895304940574},{"$f":"STDEV(B25:H25)","v":0.48152887272789296}]
[2,8.8156493624567318,3.4101835014197164,4.1584858595178167,8.1265474409259575,5.3157180772383583,4.4643578550779326,4.7160068504938675,{"$f":"MIN(B26:H26)","v":3.4101835014197164},{"$f":"STDEV(B26:H26)","v":2.0713812295261942}]
[3,2.7445020767553716,3.7835107956056224,3.2735755039559233,3.6682803766238954,3.6014809670933867,3.6349516294951916,4.2879676874684485,2.7445020767553716,0.47350553632673492]
[4,3.0276503540974917,3.214452110385245,4.182282832274165,3.854110859070377,3.5322896069902927,3.4958776232918751,3.520941614872406,3.0276503540974917,0.38334539795998229]
["Gesamtergebnis",11.435693408502996,3.438118027396031,5.3052863263151346,11.625429789397721,9.144531527472509,6.6609824596438907,6.601881680527125]
[]
["Zeilenbeschriftungen","Anzahl von X1","Anzahl von X2","Anzahl von X3","Anzahl von X4","Anzahl von X5","Anzahl von X6","Anzahl von X7","ANZAHL","STD_ABW"]
[1,343,343,343,343,343,343,343,{"$f":"MIN(B32:H32)","v":343},{"$f":"STDEV(B32:H32)","v":0}]
[2,349,349,349,349,349,349,349,{"$f":"MIN(B33:H33)","v":349},{"$f":"STDEV(B33:H33)","v":0}]
[3,347,347,347,347,347,347,347,347,0]
[4,361,361,361,361,361,361,361,361,0]
["Gesamtergebnis",1400,1400,1400,1400,1400,1400,1400]

{"sheet":"cases","index":4,"n_rows":36,"n_cols":33,"rows_kept":36,"cut":false,"hidden":false,"merged":[]}
[2000,{"$f":"VLOOKUP($A1,'raw data'!$A$3:$J$2002,B2,0)","v":-63},{"$f":"VLOOKUP($A1,'raw data'!$A$3:$J$2002,C2,0)","v":-60},{"$f":"VLOOKUP($A1,'raw data'!$A$3:$J$2002,D2,0)","v":-60},{"$f":"VLOOKUP($A1,'raw data'!$A$3:$J$2002,E2,0)","v":-67},{"$f":"VLOOKUP($A1,'raw data'!$A$3:$J$2002,F2,0)","v":-76},{"$f":"VLOOKUP($A1,'raw data'!$A$3:$J$2002,G2,0)","v":-85},{"$f":"VLOOKUP($A1,'raw data'!$A$3:$J$2002,H2,0)","v":-84},"Y",{"$f":"VLOOKUP($A1,'raw data'!$A$3:$J$2002,J2,0)","v":1},null,null,null,null,null,null,null,null,{"$f":"VLOOKUP(MIN(S4:S7),S4:T7,2,0)","v":1},null,null,1,{"$f":"VLOOKUP(V1,W$4:$AD$7,W$8,0)","v":1},{"$f":"VLOOKUP(W1,X$4:$AD$7,X$8,0)","v":1},{"$f":"VLOOKUP(X1,Y$4:$AD$7,Y$8,0)","v":1},{"$f":"VLOOKUP(Y1,Z$4:$AD$7,Z$8,0)","v":1},{"$f":"VLOOKUP(Z1,AA$4:$AD$7,AA$8,0)","v":1},{"$f":"VLOOKUP(AA1,AB$4:$AD$7,AB$8,0)","v":4},{"$f":"VLOOKUP(AB1,AC$4:$AD$7,AC$8,0)","v":2},null,null,{"$f":"VLOOKUP(1,AF4:AG7,2,0)","v":1}]
["return",3,4,5,6,7,8,9,null,10]
["Zeilenbeschriftungen","Mittelwert von X1","Mittelwert von X2","Mittelwert von X3","Mittelwert von X4","Mittelwert von X5","Mittelwert von X6","Mittelwert von X7","MITTELWERT","STD_ABW",null,"diff_x1","diff_x2","diff_x3","diff_x4","diff_x5","diff_x6","diff_x7","total","Room_id",null,"Room_id","rank_x1","rank_x2","rank_x3","rank_x4","rank_x5","rank_x6","rank_x7","Room_id","Frequency","rangzahl","Room_id"]
[1,-62.475218658892125,-56.373177842565596,-60.4868804664723,-64.172011661807574,-70.180758017492707,-82.801749271137027,-83.967930029154516,{"$f":"AVERAGE(B4:H4)","v":-68.636817992503126},{"$f":"STDEV(B4:H4)","v":10.899466183667617},null,{"$f":"ABS(B$1-B4)","v":0.52478134110787522},{"$f":"ABS(C$1-C4)","v":3.6268221574344039},0.4868804664723001,2.8279883381924265,5.8192419825072932,2.1982507288629733,3.2069970845483908E-2,{"$f":"SUM(L4:R4)","v":15.516034985422756},{"$f":"V4","v":1},null,{"$f":"A4","v":1},{"$f":"RANK(L4,L$4:L$7,1)","v":1},{"$f":"RANK(M4,M$4:M$7,1)","v":1},{"$f":"RANK(N4,N$4:N$7,1)","v":1},{"$f":"RANK(O4,O$4:O$7,1)","v":1},{"$f":"RANK(P4,P$4:P$7,1)","v":1},{"$f":"RANK(Q4,Q$4:Q$7,1)","v":2},{"$f":"RANK(R4,R$4:R$7,1)","v":1},{"$f":"V4","v":1},{"$f":"SUMIF($W$1:$AC$1,V4,$W$1:$AC$1)/V4","v":5},{"$f":"RANK(AE4,AE$4:AE$7,0)","v":1},{"$f":"AD4","v":1}]
[2,-36.633237822349571,-56.160458452722061,-55.945558739255013,-37.707736389684811,-67.57306590257879,-72.252148997134668,-73.289398280802288,{"$f":"AVERAGE(B5:H5)","v":-57.080229226361027},{"$f":"STDEV(B5:H5)","v":15.267232471610392},null,{"$f":"ABS(B$1-B5)","v":26.366762177650429},3.8395415472779391,4.0544412607449871,29.292263610315189,8.4269340974212099,12.747851002865332,10.710601719197712,{"$f":"SUM(L5:R5)","v":95.438395415472797},{"$f":"V5","v":2},null,{"$f":"A5","v":2},{"$f":"RANK(L5,L$4:L$7,1)","v":4},{"$f":"RANK(M5,M$4:M$7,1)","v":2},{"$f":"RANK(N5,N$4:N$7,1)","v":2},{"$f":"RANK(O5,O$4:O$7,1)","v":4},{"$f":"RANK(P5,P$4:P$7,1)","v":2},{"$f":"RANK(Q5,Q$4:Q$7,1)","v":4},{"$f":"RANK(R5,R$4:R$7,1)","v":4},{"$f":"V5","v":2},{"$f":"SUMIF($W$1:$AC$1,V5,$W$1:$AC$1)/V5","v":1},{"$f":"RANK(AE5,AE$4:AE$7,0)","v":2},{"$f":"AD5","v":2}]
[3,-49.743515850144092,-54.991354466858787,-52.89048991354467,-50.659942363112393,-63.322766570605189,-81.443804034582129,-82.380403458213252,-62.204610951008647,14.176280715301866,null,13.256484149855908,5.0086455331412125,7.1095100864553302,16.340057636887607,12.677233429394811,3.5561959654178708,1.6195965417867484,59.567723342939487,3,null,3,{"$f":"RANK(L6,L$4:L$7,1)","v":3},{"$f":"RANK(M6,M$4:M$7,1)","v":4},{"$f":"RANK(N6,N$4:N$7,1)","v":3},{"$f":"RANK(O6,O$4:O$7,1)","v":3},{"$f":"RANK(P6,P$4:P$7,1)","v":3},{"$f":"RANK(Q6,Q$4:Q$7,1)","v":3},{"$f":"RANK(R6,R$4:R$7,1)","v":2},3,0,4,3]
[4,-60.210526315789473,-55.329639889196677,-50.73130193905817,-61.412742382271468,-49.46260387811634,-87.13296398891967,-87.013850415512465,-64.470518401266318,16.056385086991398,null,2.7894736842105274,4.6703601108033226,9.2686980609418299,5.5872576177285325,26.53739612188366,2.1329639889196699,3.013850415512465,54.000000000000007,4,null,4,{"$f":"RANK(L7,L$4:L$7,1)","v":2},{"$f":"RANK(M7,M$4:M$7,1)","v":3},{"$f":"RANK(N7,N$4:N$7,1)","v":4},{"$f":"RANK(O7,O$4:O$7,1)","v":2},{"$f":"RANK(P7,P$4:P$7,1)","v":4},{"$f":"RANK(Q7,Q$4:Q$7,1)","v":1},{"$f":"RANK(R7,R$4:R$7,1)","v":3},4,1,2,4]
["Gesamtergebnis",-52.293571428571425,-55.708571428571432,-54.956428571428575,-53.514285714285712,-62.488571428571426,-80.95214285714286,-81.697857142857146,null,null,null,null,null,null,null,null,null,null,null,null,null,"return",8,7,6,5,4,3,2,null,{"$f":"SUM(AE4:AE7)","v":7}]
[]
["Zeilenbeschriftungen","Max. von X1","Max. von X2","Max. von X3","Max. von X4","Max. von X5","Max. von X6","Max. von X7","MAX","STD_ABW"]
[1,-55,-47,-50,-54,-60,-74,-74,{"$f":"MAX(B11:H11)","v":-47},{"$f":"STDEV(B11:H11)","v":10.930516478016498}]
[2,-10,-46,-46,-11,-56,-62,-63,{"$f":"MAX(B12:H12)","v":-10},{"$f":"STDEV(B12:H12)","v":22.561028345356956}]
[3,-43,-46,-45,-40,-54,-74,-73,-40,14.269514624508]
[4,-55,-48,-40,-52,-36,-76,-79,-36,16.63759369048071]
["Gesamtergebnis",-10,-46,-40,-11,-36,-62,-63]
[]
["Zeilenbeschriftungen","Min. von X1","Min. von X2","Min. von X3","Min. von X4","Min. von X5","Min. von X6","Min. von X7","MIN","STD_ABW"]
[1,-74,-64,-70,-76,-89,-97,-94,{"$f":"MIN(B18:H18)","v":-97},{"$f":"STDEV(B18:H18)","v":12.726051271010205}]
[2,-52,-74,-71,-53,-84,-89,-92,{"$f":"MIN(B19:H19)","v":-92},{"$f":"STDEV(B19:H19)","v":16.236349578000809}]
[3,-63,-68,-73,-63,-77,-92,-93,-93,12.620844436317]
[4,-71,-66,-60,-74,-62,-96,-98,-98,15.606775085565523]
["Gesamtergebnis",-74,-74,-73,-76,-89,-97,-98]
[]
["Zeilenbeschriftungen","STABW von X1","STABW von X2","STABW von X3","STABW von X4","STABW von X5","STABW von X6","STABW von X7","STD_ABW","STD_ABW"]
[1,3.4077394535149579,3.1363895304940574,3.6657458820320858,3.6614202146390493,4.6398959591189488,3.7073180949870892,4.0481918678094146,{"$f":"MIN(B25:H25)","v":3.1363895304940574},{"$f":"STDEV(B25:H25)","v":0.48152887272789296}]
[2,8.8156493624567318,3.4101835014197164,4.1584858595178167,8.1265474409259575,5.3157180772383583,4.4643578550779326,4.7160068504938675,{"$f":"MIN(B26:H26)","v":3.4101835014197164},{"$f":"STDEV(B26:H26)","v":2.0713812295261942}]
[3,2.7445020767553716,3.7835107956056224,3.2735755039559233,3.6682803766238954,3.6014809670933867,3.6349516294951916,4.2879676874684485,2.7445020767553716,0.47350553632673492]
[4,3.0276503540974917,3.214452110385245,4.182282832274165,3.854110859070377,3.5322896069902927,3.4958776232918751,3.520941614872406,3.0276503540974917,0.38334539795998229]
["Gesamtergebnis",11.435693408502996,3.438118027396031,5.3052863263151346,11.625429789397721,9.144531527472509,6.6609824596438907,6.601881680527125]
[]
["Zeilenbeschriftungen","Anzahl von X1","Anzahl von X2","Anzahl von X3","Anzahl von X4","Anzahl von X5","Anzahl von X6","Anzahl von X7","ANZAHL","STD_ABW"]
[1,343,343,343,343,343,343,343,{"$f":"MIN(B32:H32)","v":343},{"$f":"STDEV(B32:H32)","v":0}]
[2,349,349,349,349,349,349,349,{"$f":"MIN(B33:H33)","v":349},{"$f":"STDEV(B33:H33)","v":0}]
[3,347,347,347,347,347,347,347,347,0]
[4,361,361,361,361,361,361,361,361,0]
["Gesamtergebnis",1400,1400,1400,1400,1400,1400,1400]

{"sheet":"results","index":5,"n_rows":2002,"n_cols":7,"rows_kept":2002,"cut":false,"hidden":false,"merged":[]}
["ID","Train/Test",{"$f":"'raw data'!J2","v":"Y"},"Estimation1","Estimation2","diff1","diff2"]
[1,"Train",{"$f":"'raw data'!J3","v":4},{"$f":"case1!S1","v":4},{"$f":"case1!AF1","v":4},{"$f":"IF(C2=D2,0,1)","v":0},{"$f":"IF(C2=E2,0,1)","v":0}]
[2,"Train",{"$f":"'raw data'!J4","v":4},4,4,{"$f":"IF(C3=D3,0,1)","v":0},{"$f":"IF(C3=E3,0,1)","v":0}]
[3,"Train",{"$f":"'raw data'!J5","v":3},3,2,0,1]
[4,"Train",{"$f":"'raw data'!J6","v":1},1,2,0,1]
[5,"Train",{"$f":"'raw data'!J7","v":2},2,1,0,1]
[6,"Train",{"$f":"'raw data'!J8","v":1},1,1,0,0]
[7,"Train",{"$f":"'raw data'!J9","v":2},2,4,0,1]
[8,"Train",{"$f":"'raw data'!J10","v":1},1,1,0,0]
[9,"Train",{"$f":"'raw data'!J11","v":2},2,2,0,0]
[10,"Train",{"$f":"'raw data'!J12","v":3},3,1,0,1]
[11,"Train",{"$f":"'raw data'!J13","v":4},4,4,0,0]
[12,"Train",{"$f":"'raw data'!J14","v":4},4,1,0,1]
[13,"Train",{"$f":"'raw data'!J15","v":3},3,1,0,1]
[14,"Train",{"$f":"'raw data'!J16","v":2},2,1,0,1]
[15,"Train",{"$f":"'raw data'!J17","v":3},3,3,0,0]
[16,"Train",{"$f":"'raw data'!J18","v":4},4,1,0,1]
[17,"Train",{"$f":"'raw data'!J19","v":4},4,3,0,1]
[18,"Train",{"$f":"'raw data'!J20","v":1},1,1,0,0]
[19,"Train",{"$f":"'raw data'!J21","v":2},2,2,0,0]
[20,"Train",{"$f":"'raw data'!J22","v":1},3,3,1,1]
[21,"Train",{"$f":"'raw data'!J23","v":2},3,1,1,1]
[22,"Train",{"$f":"'raw data'!J24","v":2},2,1,0,1]
[23,"Train",{"$f":"'raw data'!J25","v":3},3,1,0,1]
[24,"Train",{"$f":"'raw data'!J26","v":2},2,4,0,1]
[25,"Train",{"$f":"'raw data'!J27","v":2},2,2,0,0]
[26,"Train",{"$f":"'raw data'!J28","v":1},1,1,0,0]
[27,"Train",{"$f":"'raw data'!J29","v":2},2,2,0,0]
[28,"Train",{"$f":"'raw data'!J30","v":2},2,2,0,0]
[29,"Train",{"$f":"'raw data'!J31","v":2},2,1,0,1]
[30,"Train",{"$f":"'raw data'!J32","v":4},4,1,0,1]
[31,"Train",{"$f":"'raw data'!J33","v":1},1,3,0,1]
[32,"Train",{"$f":"'raw data'!J34","v":4},4,3,0,1]
[33,"Train",{"$f":"'raw data'!J35","v":3},3,2,0,1]
[34,"Train",{"$f":"'raw data'!J36","v":1},1,2,0,1]
[35,"Train",{"$f":"'raw data'!J37","v":1},1,1,0,0]
[36,"Train",{"$f":"'raw data'!J38","v":4},4,1,0,1]
[37,"Train",{"$f":"'raw data'!J39","v":4},4,4,0,0]
[38,"Train",{"$f":"'raw data'!J40","v":1},1,2,0,1]
[39,"Train",{"$f":"'raw data'!J41","v":4},4,3,0,1]
[40,"Train",{"$f":"'raw data'!J42","v":3},3,3,0,0]
[41,"Train",{"$f":"'raw data'!J43","v":1},1,1,0,0]
[42,"Train",{"$f":"'raw data'!J44","v":2},2,1,0,1]
[43,"Train",{"$f":"'raw data'!J45","v":3},3,3,0,0]
[44,"Train",{"$f":"'raw data'!J46","v":4},4,1,0,1]
[45,"Train",{"$f":"'raw data'!J47","v":3},3,3,0,0]
[46,"Train",{"$f":"'raw data'!J48","v":4},4,3,0,1]
[47,"Train",{"$f":"'raw data'!J49","v":1},1,1,0,0]
[48,"Train",{"$f":"'raw data'!J50","v":2},2,2,0,0]
[49,"Train",{"$f":"'raw data'!J51","v":4},4,4,0,0]
[50,"Train",{"$f":"'raw data'!J52","v":3},3,3,0,0]
[51,"Train",{"$f":"'raw data'!J53","v":4},4,1,0,1]
[52,"Train",{"$f":"'raw data'!J54","v":2},2,2,0,0]
[53,"Train",{"$f":"'raw data'!J55","v":1},1,2,0,1]
[54,"Train",{"$f":"'raw data'!J56","v":4},4,3,0,1]
[55,"Train",{"$f":"'raw data'!J57","v":1},1,1,0,0]
[56,"Train",{"$f":"'raw data'!J58","v":1},1,1,0,0]
[57,"Train",{"$f":"'raw data'!J59","v":4},4,4,0,0]
[58,"Train",{"$f":"'raw data'!J60","v":1},1,1,0,0]
[59,"Train",{"$f":"'raw data'!J61","v":3},3,3,0,0]
[60,"Train",{"$f":"'raw data'!J62","v":3},3,4,0,1]
[61,"Train",{"$f":"'raw data'!J63","v":1},1,3,0,1]
[62,"Train",{"$f":"'raw data'!J64","v":1},1,1,0,0]
[63,"Train",{"$f":"'raw data'!J65","v":2},2,1,0,1]
[64,"Train",{"$f":"'raw data'!J66","v":4},4,1,0,1]
[65,"Train",{"$f":"'raw data'!J67","v":3},3,3,0,0]
[66,"Train",{"$f":"'raw data'!J68","v":3},3,2,{"$f":"IF(C67=D67,0,1)","v":0},{"$f":"IF(C67=E67,0,1)","v":1}]
[67,"Train",{"$f":"'raw data'!J69","v":2},2,2,0,0]
[68,"Train",{"$f":"'raw data'!J70","v":4},4,3,0,1]
[69,"Train",{"$f":"'raw data'!J71","v":3},3,3,0,0]
[70,"Train",{"$f":"'raw data'!J72","v":4},4,4,0,0]
[71,"Train",{"$f":"'raw data'!J73","v":2},2,2,0,0]
[72,"Train",{"$f":"'raw data'!J74","v":2},2,4,0,1]
[73,"Train",{"$f":"'raw data'!J75","v":2},2,2,0,0]
[74,"Train",{"$f":"'raw data'!J76","v":4},4,1,0,1]
[75,"Train",{"$f":"'raw data'!J77","v":2},3,3,1,1]
[76,"Train",{"$f":"'raw data'!J78","v":1},1,3,0,1]
[77,"Train",{"$f":"'raw data'!J79","v":2},2,4,0,1]
[78,"Train",{"$f":"'raw data'!J80","v":1},1,1,0,0]
[79,"Train",{"$f":"'raw data'!J81","v":3},3,4,0,1]
[80,"Train",{"$f":"'raw data'!J82","v":2},3,3,1,1]
[81,"Train",{"$f":"'raw data'!J83","v":4},4,1,0,1]
[82,"Train",{"$f":"'raw data'!J84","v":4},4,4,0,0]
[83,"Train",{"$f":"'raw data'!J85","v":2},3,3,1,1]
[84,"Train",{"$f":"'raw data'!J86","v":2},2,2,0,0]
[85,"Train",{"$f":"'raw data'!J87","v":4},4,3,0,1]
[86,"Train",{"$f":"'raw data'!J88","v":2},2,2,0,0]
[87,"Train",{"$f":"'raw data'!J89","v":4},4,1,0,1]
[88,"Train",{"$f":"'raw data'!J90","v":2},2,1,0,1]
[89,"Train",{"$f":"'raw data'!J91","v":4},4,3,0,1]
[90,"Train",{"$f":"'raw data'!J92","v":2},2,1,0,1]
[91,"Train",{"$f":"'raw data'!J93","v":1},1,3,0,1]
[92,"Train",{"$f":"'raw data'!J94","v":2},2,2,0,0]
[93,"Train",{"$f":"'raw data'!J95","v":2},2,1,0,1]
[94,"Train",{"$f":"'raw data'!J96","v":1},1,1,0,0]
[95,"Train",{"$f":"'raw data'!J97","v":3},3,1,0,1]
[96,"Train",{"$f":"'raw data'!J98","v":4},4,3,0,1]
[97,"Train",{"$f":"'raw data'!J99","v":2},2,2,0,0]
[98,"Train",{"$f":"'raw data'!J100","v":3},3,3,0,0]
[99,"Train",{"$f":"'raw data'!J101","v":4},4,1,0,1]
[100,"Train",{"$f":"'raw data'!J102","v":3},3,3,0,0]
[101,"Train",{"$f":"'raw data'!J103","v":1},1,3,0,1]
[102,"Train",{"$f":"'raw data'!J104","v":3},3,3,0,0]
[103,"Train",{"$f":"'raw data'!J105","v":3},3,1,0,1]
[104,"Train",{"$f":"'raw data'!J106","v":2},2,2,0,0]
[105,"Train",{"$f":"'raw data'!J107","v":3},3,2,0,1]
[106,"Train",{"$f":"'raw data'!J108","v":1},1,1,0,0]
[107,"Train",{"$f":"'raw data'!J109","v":2},2,2,0,0]
[108,"Train",{"$f":"'raw data'!J110","v":2},2,2,0,0]
[109,"Train",{"$f":"'raw data'!J111","v":1},1,1,0,0]
[110,"Train",{"$f":"'raw data'!J112","v":3},3,3,0,0]
[111,"Train",{"$f":"'raw data'!J113","v":3},3,4,0,1]
[112,"Train",{"$f":"'raw data'!J114","v":4},3,3,1,1]
[113,"Train",{"$f":"'raw data'!J115","v":3},3,1,0,1]
[114,"Train",{"$f":"'raw data'!J116","v":4},4,4,0,0]
[115,"Train",{"$f":"'raw data'!J117","v":2},2,3,0,1]
[116,"Train",{"$f":"'raw data'!J118","v":3},3,3,0,0]
[117,"Train",{"$f":"'raw data'!J119","v":4},4,1,0,1]
[118,"Train",{"$f":"'raw data'!J120","v":2},2,1,0,1]
[119,"Train",{"$f":"'raw data'!J121","v":1},1,3,0,1]
[120,"Train",{"$f":"'raw data'!J122","v":1},1,1,0,0]
[121,"Train",{"$f":"'raw data'!J123","v":4},4,3,0,1]
[122,"Train",{"$f":"'raw data'!J124","v":3},3,4,0,1]
[123,"Train",{"$f":"'raw data'!J125","v":1},1,1,0,0]
[124,"Train",{"$f":"'raw data'!J126","v":1},1,1,0,0]
[125,"Train",{"$f":"'raw data'!J127","v":2},2,4,0,1]
[126,"Train",{"$f":"'raw data'!J128","v":1},1,3,0,1]
[127,"Train",{"$f":"'raw data'!J129","v":4},4,1,0,1]
[128,"Train",{"$f":"'raw data'!J130","v":1},1,4,0,1]
[129,"Train",{"$f":"'raw data'!J131","v":2},2,2,0,0]
[130,"Train",{"$f":"'raw data'!J132","v":4},4,3,{"$f":"IF(C131=D131,0,1)","v":0},{"$f":"IF(C131=E131,0,1)","v":1}]
[131,"Train",{"$f":"'raw data'!J133","v":1},1,1,0,0]
[132,"Train",{"$f":"'raw data'!J134","v":3},3,1,0,1]
[133,"Train",{"$f":"'raw data'!J135","v":1},1,1,0,0]
[134,"Train",{"$f":"'raw data'!J136","v":1},1,3,0,1]
[135,"Train",{"$f":"'raw data'!J137","v":2},2,4,0,1]
[136,"Train",{"$f":"'raw data'!J138","v":4},4,3,0,1]
[137,"Train",{"$f":"'raw data'!J139","v":1},1,3,0,1]
[138,"Train",{"$f":"'raw data'!J140","v":3},3,2,0,1]
[139,"Train",{"$f":"'raw data'!J141","v":3},3,3,0,0]
[140,"Train",{"$f":"'raw data'!J142","v":1},1,1,0,0]
[141,"Train",{"$f":"'raw data'!J143","v":1},1,1,0,0]
[142,"Train",{"$f":"'raw data'!J144","v":4},4,4,0,0]
[143,"Train",{"$f":"'raw data'!J145","v":1},1,3,0,1]
[144,"Train",{"$f":"'raw data'!J146","v":4},4,1,0,1]
[145,"Train",{"$f":"'raw data'!J147","v":4},4,1,0,1]
[146,"Train",{"$f":"'raw data'!J148","v":4},4,1,0,1]
[147,"Train",{"$f":"'raw data'!J149","v":4},4,1,0,1]
[148,"Train",{"$f":"'raw data'!J150","v":1},1,4,0,1]
[149,"Train",{"$f":"'raw data'!J151","v":3},3,2,0,1]
[150,"Train",{"$f":"'raw data'!J152","v":3},3,1,0,1]
[151,"Train",{"$f":"'raw data'!J153","v":3},3,3,0,0]
[152,"Train",{"$f":"'raw data'!J154","v":4},4,3,0,1]
[153,"Train",{"$f":"'raw data'!J155","v":2},2,2,0,0]
[154,"Train",{"$f":"'raw data'!J156","v":4},4,3,0,1]
[155,"Train",{"$f":"'raw data'!J157","v":2},2,2,0,0]
[156,"Train",{"$f":"'raw data'!J158","v":3},3,2,0,1]
[157,"Train",{"$f":"'raw data'!J159","v":1},1,1,0,0]
[158,"Train",{"$f":"'raw data'!J160","v":3},3,3,0,0]
[159,"Train",{"$f":"'raw data'!J161","v":3},3,3,0,0]
[160,"Train",{"$f":"'raw data'!J162","v":3},3,2,0,1]
[161,"Train",{"$f":"'raw data'!J163","v":4},4,1,0,1]
[162,"Train",{"$f":"'raw data'!J164","v":2},2,4,0,1]
[163,"Train",{"$f":"'raw data'!J165","v":2},2,1,0,1]
[164,"Train",{"$f":"'raw data'!J166","v":2},2,2,0,0]
[165,"Train",{"$f":"'raw data'!J167","v":2},2,1,0,1]
[166,"Train",{"$f":"'raw data'!J168","v":2},2,2,0,0]
[167,"Train",{"$f":"'raw data'!J169","v":4},4,1,0,1]
[168,"Train",{"$f":"'raw data'!J170","v":2},2,2,0,0]
[169,"Train",{"$f":"'raw data'!J171","v":4},4,3,0,1]
[170,"Train",{"$f":"'raw data'!J172","v":1},1,3,0,1]
[171,"Train",{"$f":"'raw data'!J173","v":4},4,4,0,0]
[172,"Train",{"$f":"'raw data'!J174","v":1},1,1,0,0]
[173,"Train",{"$f":"'raw data'!J175","v":2},2,2,0,0]
[174,"Train",{"$f":"'raw data'!J176","v":3},3,3,0,0]
[175,"Train",{"$f":"'raw data'!J177","v":4},4,4,0,0]
[176,"Train",{"$f":"'raw data'!J178","v":1},1,3,0,1]
[177,"Train",{"$f":"'raw data'!J179","v":3},3,2,0,1]
[178,"Train",{"$f":"'raw data'!J180","v":3},3,2,0,1]
[179,"Train",{"$f":"'raw data'!J181","v":3},3,1,0,1]
[180,"Train",{"$f":"'raw data'!J182","v":4},4,1,0,1]
[181,"Train",{"$f":"'raw data'!J183","v":4},4,1,0,1]
[182,"Train",{"$f":"'raw data'!J184","v":3},3,2,0,1]
[183,"Train",{"$f":"'raw data'!J185","v":1},1,1,0,0]
[184,"Train",{"$f":"'raw data'!J186","v":3},3,4,0,1]
[185,"Train",{"$f":"'raw data'!J187","v":1},1,3,0,1]
[186,"Train",{"$f":"'raw data'!J188","v":3},3,1,0,1]
[187,"Train",{"$f":"'raw data'!J189","v":2},2,2,0,0]
[188,"Train",{"$f":"'raw data'!J190","v":3},3,3,0,0]
[189,"Train",{"$f":"'raw data'!J191","v":3},3,4,0,1]
[190,"Train",{"$f":"'raw data'!J192","v":1},1,1,0,0]
[191,"Train",{"$f":"'raw data'!J193","v":3},3,1,0,1]
[192,"Train",{"$f":"'raw data'!J194","v":2},2,2,0,0]
[193,"Train",{"$f":"'raw data'!J195","v":3},3,3,0,0]
[194,"Train",{"$f":"'raw data'!J196","v":2},2,1,{"$f":"IF(C195=D195,0,1)","v":0},{"$f":"IF(C195=E195,0,1)","v":1}]
[195,"Train",{"$f":"'raw data'!J197","v":1},1,4,0,1]
[196,"Train",{"$f":"'raw data'!J198","v":2},2,4,0,1]
[197,"Train",{"$f":"'raw data'!J199","v":2},2,2,0,0]
[198,"Train",{"$f":"'raw data'!J200","v":2},2,2,0,0]
[199,"Train",{"$f":"'raw data'!J201","v":1},1,2,0,1]
[200,"Train",{"$f":"'raw data'!J202","v":1},1,1,0,0]
[201,"Train",{"$f":"'raw data'!J203","v":2},2,2,0,0]
[202,"Train",{"$f":"'raw data'!J204","v":4},4,3,0,1]
[203,"Train",{"$f":"'raw data'!J205","v":4},4,1,0,1]
[204,"Train",{"$f":"'raw data'!J206","v":3},3,3,0,0]
[205,"Train",{"$f":"'raw data'!J207","v":2},3,4,1,1]
[206,"Train",{"$f":"'raw data'!J208","v":4},4,1,0,1]
[207,"Train",{"$f":"'raw data'!J209","v":3},3,3,0,0]
[208,"Train",{"$f":"'raw data'!J210","v":2},2,1,0,1]
[209,"Train",{"$f":"'raw data'!J211","v":3},3,3,0,0]
[210,"Train",{"$f":"'raw data'!J212","v":4},4,1,0,1]
[211,"Train",{"$f":"'raw data'!J213","v":3},3,1,0,1]
[212,"Train",{"$f":"'raw data'!J214","v":3},3,1,0,1]
[213,"Train",{"$f":"'raw data'!J215","v":4},4,2,0,1]
[214,"Train",{"$f":"'raw data'!J216","v":3},3,2,0,1]
[215,"Train",{"$f":"'raw data'!J217","v":1},1,3,0,1]
[216,"Train",{"$f":"'raw data'!J218","v":4},4,4,0,0]
[217,"Train",{"$f":"'raw data'!J219","v":3},3,1,0,1]
[218,"Train",{"$f":"'raw data'!J220","v":1},1,1,0,0]
[219,"Train",{"$f":"'raw data'!J221","v":4},4,3,0,1]
[220,"Train",{"$f":"'raw data'!J222","v":1},1,1,0,0]
[221,"Train",{"$f":"'raw data'!J223","v":4},4,2,0,1]
[222,"Train",{"$f":"'raw data'!J224","v":3},3,3,0,0]
[223,"Train",{"$f":"'raw data'!J225","v":2},2,1,0,1]
[224,"Train",{"$f":"'raw data'!J226","v":2},3,4,1,1]
[225,"Train",{"$f":"'raw data'!J227","v":3},3,3,0,0]
[226,"Train",{"$f":"'raw data'!J228","v":2},2,2,0,0]
[227,"Train",{"$f":"'raw data'!J229","v":4},4,3,0,1]
[228,"Train",{"$f":"'raw data'!J230","v":3},3,3,0,0]
[229,"Train",{"$f":"'raw data'!J231","v":2},2,4,0,1]
[230,"Train",{"$f":"'raw data'!J232","v":2},2,4,0,1]
[231,"Train",{"$f":"'raw data'!J233","v":1},1,3,0,1]
[232,"Train",{"$f":"'raw data'!J234","v":3},3,1,0,1]
[233,"Train",{"$f":"'raw data'!J235","v":1},1,3,0,1]
[234,"Train",{"$f":"'raw data'!J236","v":3},3,4,0,1]
[235,"Train",{"$f":"'raw data'!J237","v":3},3,4,0,1]
[236,"Train",{"$f":"'raw data'!J238","v":4},4,3,0,1]
[237,"Train",{"$f":"'raw data'!J239","v":3},3,3,0,0]
[238,"Train",{"$f":"'raw data'!J240","v":4},4,3,0,1]
[239,"Train",{"$f":"'raw data'!J241","v":4},4,3,0,1]
[240,"Train",{"$f":"'raw data'!J242","v":1},1,3,0,1]
[241,"Train",{"$f":"'raw data'!J243","v":4},4,3,0,1]
[242,"Train",{"$f":"'raw data'!J244","v":4},4,4,0,0]
[243,"Train",{"$f":"'raw data'!J245","v":3},3,3,0,0]
[244,"Train",{"$f":"'raw data'!J246","v":3},3,4,0,1]
[245,"Train",{"$f":"'raw data'!J247","v":3},3,2,0,1]
[246,"Train",{"$f":"'raw data'!J248","v":1},1,1,0,0]
[247,"Train",{"$f":"'raw data'!J249","v":1},1,1,0,0]
[248,"Train",{"$f":"'raw data'!J250","v":3},3,3,0,0]
[249,"Train",{"$f":"'raw data'!J251","v":3},3,2,0,1]
[250,"Train",{"$f":"'raw data'!J252","v":4},4,1,0,1]
[251,"Train",{"$f":"'raw data'!J253","v":4},4,1,0,1]
[252,"Train",{"$f":"'raw data'!J254","v":2},2,1,0,1]
[253,"Train",{"$f":"'raw data'!J255","v":4},4,4,0,0]
[254,"Train",{"$f":"'raw data'!J256","v":4},4,1,0,1]
[255,"Train",{"$f":"'raw data'!J257","v":3},3,3,0,0]
[256,"Train",{"$f":"'raw data'!J258","v":4},4,1,0,1]
[257,"Train",{"$f":"'raw data'!J259","v":3},3,2,0,1]
[258,"Train",{"$f":"'raw data'!J260","v":4},4,4,{"$f":"IF(C259=D259,0,1)","v":0},{"$f":"IF(C259=E259,0,1)","v":0}]
[259,"Train",{"$f":"'raw data'!J261","v":4},4,4,0,0]
[260,"Train",{"$f":"'raw data'!J262","v":4},4,3,0,1]
[261,"Train",{"$f":"'raw data'!J263","v":4},4,4,0,0]
[262,"Train",{"$f":"'raw data'!J264","v":1},1,3,0,1]
[263,"Train",{"$f":"'raw data'!J265","v":4},4,1,0,1]
[264,"Train",{"$f":"'raw data'!J266","v":3},3,2,0,1]
[265,"Train",{"$f":"'raw data'!J267","v":4},4,3,0,1]
[266,"Train",{"$f":"'raw data'!J268","v":2},2,2,0,0]
[267,"Train",{"$f":"'raw data'!J269","v":2},2,2,0,0]
[268,"Train",{"$f":"'raw data'!J270","v":4},4,2,0,1]
[269,"Train",{"$f":"'raw data'!J271","v":1},1,1,0,0]
[270,"Train",{"$f":"'raw data'!J272","v":3},3,1,0,1]
[271,"Train",{"$f":"'raw data'!J273","v":2},2,2,0,0]
[272,"Train",{"$f":"'raw data'!J274","v":2},2,4,0,1]
[273,"Train",{"$f":"'raw data'!J275","v":3},3,3,0,0]
[274,"Train",{"$f":"'raw data'!J276","v":2},3,1,1,1]
[275,"Train",{"$f":"'raw data'!J277","v":2},2,2,0,0]
[276,"Train",{"$f":"'raw data'!J278","v":2},2,1,0,1]
[277,"Train",{"$f":"'raw data'!J279","v":4},4,1,0,1]
[278,"Train",{"$f":"'raw data'!J280","v":4},4,1,0,1]
[279,"Train",{"$f":"'raw data'!J281","v":1},1,1,0,0]
[280,"Train",{"$f":"'raw data'!J282","v":2},2,1,0,1]
[281,"Train",{"$f":"'raw data'!J283","v":1},1,1,0,0]
[282,"Train",{"$f":"'raw data'!J284","v":4},4,4,0,0]
[283,"Train",{"$f":"'raw data'!J285","v":2},2,2,0,0]
[284,"Train",{"$f":"'raw data'!J286","v":2},2,2,0,0]
[285,"Train",{"$f":"'raw data'!J287","v":3},3,3,0,0]
[286,"Train",{"$f":"'raw data'!J288","v":1},1,1,0,0]
[287,"Train",{"$f":"'raw data'!J289","v":4},4,4,0,0]
[288,"Train",{"$f":"'raw data'!J290","v":2},2,1,0,1]
[289,"Train",{"$f":"'raw data'!J291","v":2},3,2,1,0]
[290,"Train",{"$f":"'raw data'!J292","v":2},2,2,0,0]
[291,"Train",{"$f":"'raw data'!J293","v":1},1,3,0,1]
[292,"Train",{"$f":"'raw data'!J294","v":4},4,4,0,0]
[293,"Train",{"$f":"'raw data'!J295","v":4},4,1,0,1]
[294,"Train",{"$f":"'raw data'!J296","v":4},4,4,0,0]
[295,"Train",{"$f":"'raw data'!J297","v":2},2,4,0,1]
[296,"Train",{"$f":"'raw data'!J298","v":3},3,3,0,0]
[297,"Train",{"$f":"'raw data'!J299","v":3},3,3,0,0]
[298,"Train",{"$f":"'raw data'!J300","v":1},1,1,0,0]
[299,"Train",{"$f":"'raw data'!J301","v":4},4,3,0,1]
[300,"Train",{"$f":"'raw data'!J302","v":1},1,3,0,1]
[301,"Train",{"$f":"'raw data'!J303","v":4},4,4,0,0]
[302,"Train",{"$f":"'raw data'!J304","v":1},1,3,0,1]
[303,"Train",{"$f":"'raw data'!J305","v":3},3,2,0,1]
[304,"Train",{"$f":"'raw data'!J306","v":2},2,2,0,0]
[305,"Train",{"$f":"'raw data'!J307","v":2},2,2,0,0]
[306,"Train",{"$f":"'raw data'!J308","v":4},4,1,0,1]
[307,"Train",{"$f":"'raw data'!J309","v":1},1,3,0,1]
[308,"Train",{"$f":"'raw data'!J310","v":4},4,4,0,0]
[309,"Train",{"$f":"'raw data'!J311","v":3},3,2,0,1]
[310,"Train",{"$f":"'raw data'!J312","v":1},1,1,0,0]
[311,"Train",{"$f":"'raw data'!J313","v":3},3,2,0,1]
[312,"Train",{"$f":"'raw data'!J314","v":1},1,1,0,0]
[313,"Train",{"$f":"'raw data'!J315","v":3},3,3,0,0]
[314,"Train",{"$f":"'raw data'!J316","v":2},2,2,0,0]
[315,"Train",{"$f":"'raw data'!J317","v":2},2,2,0,0]
[316,"Train",{"$f":"'raw data'!J318","v":2},2,2,0,0]
[317,"Train",{"$f":"'raw data'!J319","v":1},1,2,0,1]
[318,"Train",{"$f":"'raw data'!J320","v":4},4,4,0,0]
[319,"Train",{"$f":"'raw data'!J321","v":1},3,3,1,1]
[320,"Train",{"$f":"'raw data'!J322","v":1},1,1,0,0]
[321,"Train",{"$f":"'raw data'!J323","v":1},1,1,0,0]
[322,"Train",{"$f":"'raw data'!J324","v":3},3,3,{"$f":"IF(C323=D323,0,1)","v":0},{"$f":"IF(C323=E323,0,1)","v":0}]
[323,"Train",{"$f":"'raw data'!J325","v":2},3,2,1,0]
[324,"Train",{"$f":"'raw data'!J326","v":2},3,3,1,1]
[325,"Train",{"$f":"'raw data'!J327","v":1},1,4,0,1]
[326,"Train",{"$f":"'raw data'!J328","v":4},4,1,0,1]
[327,"Train",{"$f":"'raw data'!J329","v":3},3,1,0,1]
[328,"Train",{"$f":"'raw data'!J330","v":3},3,2,0,1]
[329,"Train",{"$f":"'raw data'!J331","v":3},3,1,0,1]
[330,"Train",{"$f":"'raw data'!J332","v":1},1,1,0,0]
[331,"Train",{"$f":"'raw data'!J333","v":4},4,3,0,1]
[332,"Train",{"$f":"'raw data'!J334","v":3},3,2,0,1]
[333,"Train",{"$f":"'raw data'!J335","v":2},2,1,0,1]
[334,"Train",{"$f":"'raw data'!J336","v":1},1,1,0,0]
[335,"Train",{"$f":"'raw data'!J337","v":2},2,4,0,1]
[336,"Train",{"$f":"'raw data'!J338","v":4},4,1,0,1]
[337,"Train",{"$f":"'raw data'!J339","v":2},2,4,0,1]
[338,"Train",{"$f":"'raw data'!J340","v":4},4,1,0,1]
[339,"Train",{"$f":"'raw data'!J341","v":3},3,3,0,0]
[340,"Train",{"$f":"'raw data'!J342","v":1},1,1,0,0]
[341,"Train",{"$f":"'raw data'!J343","v":3},3,3,0,0]
[342,"Train",{"$f":"'raw data'!J344","v":4},4,1,0,1]
[343,"Train",{"$f":"'raw data'!J345","v":4},4,1,0,1]
[344,"Train",{"$f":"'raw data'!J346","v":1},1,1,0,0]
[345,"Train",{"$f":"'raw data'!J347","v":3},3,3,0,0]
[346,"Train",{"$f":"'raw data'!J348","v":3},3,2,0,1]
[347,"Train",{"$f":"'raw data'!J349","v":4},4,1,0,1]
[348,"Train",{"$f":"'raw data'!J350","v":4},4,3,0,1]
[349,"Train",{"$f":"'raw data'!J351","v":1},1,1,0,0]
[350,"Train",{"$f":"'raw data'!J352","v":3},3,3,0,0]
[351,"Train",{"$f":"'raw data'!J353","v":3},3,2,0,1]
[352,"Train",{"$f":"'raw data'!J354","v":2},2,1,0,1]
[353,"Train",{"$f":"'raw data'!J355","v":1},1,3,0,1]
[354,"Train",{"$f":"'raw data'!J356","v":1},1,1,0,0]
[355,"Train",{"$f":"'raw data'!J357","v":2},3,1,1,1]
[356,"Train",{"$f":"'raw data'!J358","v":1},1,3,0,1]
[357,"Train",{"$f":"'raw data'!J359","v":4},4,1,0,1]
[358,"Train",{"$f":"'raw data'!J360","v":4},4,1,0,1]
[359,"Train",{"$f":"'raw data'!J361","v":3},3,4,0,1]
[360,"Train",{"$f":"'raw data'!J362","v":2},2,2,0,0]
[361,"Train",{"$f":"'raw data'!J363","v":4},4,4,0,0]
[362,"Train",{"$f":"'raw data'!J364","v":2},3,1,1,1]
[363,"Train",{"$f":"'raw data'!J365","v":2},2,2,0,0]
[364,"Train",{"$f":"'raw data'!J366","v":1},1,3,0,1]
[365,"Train",{"$f":"'raw data'!J367","v":4},4,3,0,1]
[366,"Train",{"$f":"'raw data'!J368","v":2},2,1,0,1]
[367,"Train",{"$f":"'raw data'!J369","v":3},3,4,0,1]
[368,"Train",{"$f":"'raw data'!J370","v":1},1,1,0,0]
[369,"Train",{"$f":"'raw data'!J371","v":4},4,1,0,1]
[370,"Train",{"$f":"'raw data'!J372","v":1},1,1,0,0]
[371,"Train",{"$f":"'raw data'!J373","v":2},2,2,0,0]
[372,"Train",{"$f":"'raw data'!J374","v":3},3,2,0,1]
[373,"Train",{"$f":"'raw data'!J375","v":2},2,2,0,0]
[374,"Train",{"$f":"'raw data'!J376","v":2},2,2,0,0]
[375,"Train",{"$f":"'raw data'!J377","v":2},2,2,0,0]
[376,"Train",{"$f":"'raw data'!J378","v":2},2,2,0,0]
[377,"Train",{"$f":"'raw data'!J379","v":2},2,1,0,1]
[378,"Train",{"$f":"'raw data'!J380","v":3},3,1,0,1]
[379,"Train",{"$f":"'raw data'!J381","v":1},1,1,0,0]
[380,"Train",{"$f":"'raw data'!J382","v":4},4,3,0,1]
[381,"Train",{"$f":"'raw data'!J383","v":1},1,1,0,0]
[382,"Train",{"$f":"'raw data'!J384","v":1},1,1,0,0]
[383,"Train",{"$f":"'raw data'!J385","v":1},1,1,0,0]
[384,"Train",{"$f":"'raw data'!J386","v":4},4,2,0,1]
[385,"Train",{"$f":"'raw data'!J387","v":3},3,3,0,0]
[386,"Train",{"$f":"'raw data'!J388","v":4},4,4,{"$f":"IF(C387=D387,0,1)","v":0},{"$f":"IF(C387=E387,0,1)","v":0}]
[387,"Train",{"$f":"'raw data'!J389","v":1},1,3,0,1]
[388,"Train",{"$f":"'raw data'!J390","v":3},3,2,0,1]
[389,"Train",{"$f":"'raw data'!J391","v":4},4,1,0,1]
[390,"Train",{"$f":"'raw data'!J392","v":2},2,1,0,1]
[391,"Train",{"$f":"'raw data'!J393","v":3},3,2,0,1]
[392,"Train",{"$f":"'raw data'!J394","v":2},2,2,0,0]
[393,"Train",{"$f":"'raw data'!J395","v":2},2,2,0,0]
[394,"Train",{"$f":"'raw data'!J396","v":3},3,3,0,0]
[395,"Train",{"$f":"'raw data'!J397","v":3},3,3,0,0]
[396,"Train",{"$f":"'raw data'!J398","v":2},2,4,0,1]
[397,"Train",{"$f":"'raw data'!J399","v":2},2,2,0,0]
[398,"Train",{"$f":"'raw data'!J400","v":4},4,1,0,1]
[399,"Train",{"$f":"'raw data'!J401","v":4},4,3,0,1]
[400,"Train",{"$f":"'raw data'!J402","v":2},2,4,0,1]
[401,"Train",{"$f":"'raw data'!J403","v":1},1,3,0,1]
[402,"Train",{"$f":"'raw data'!J404","v":4},4,1,0,1]
[403,"Train",{"$f":"'raw data'!J405","v":1},1,3,0,1]
[404,"Train",{"$f":"'raw data'!J406","v":2},2,1,0,1]
[405,"Train",{"$f":"'raw data'!J407","v":3},3,4,0,1]
[406,"Train",{"$f":"'raw data'!J408","v":2},2,4,0,1]
[407,"Train",{"$f":"'raw data'!J409","v":4},4,1,0,1]
[408,"Train",{"$f":"'raw data'!J410","v":1},1,3,0,1]
[409,"Train",{"$f":"'raw data'!J411","v":4},4,3,0,1]
[410,"Train",{"$f":"'raw data'!J412","v":1},1,1,0,0]
[411,"Train",{"$f":"'raw data'!J413","v":1},1,3,0,1]
[412,"Train",{"$f":"'raw data'!J414","v":3},3,1,0,1]
[413,"Train",{"$f":"'raw data'!J415","v":3},3,3,0,0]
[414,"Train",{"$f":"'raw data'!J416","v":2},2,1,0,1]
[415,"Train",{"$f":"'raw data'!J417","v":3},3,3,0,0]
[416,"Train",{"$f":"'raw data'!J418","v":4},4,4,0,0]
[417,"Train",{"$f":"'raw data'!J419","v":2},2,1,0,1]
[418,"Train",{"$f":"'raw data'!J420","v":4},4,3,0,1]
[419,"Train",{"$f":"'raw data'!J421","v":1},1,3,0,1]
[420,"Train",{"$f":"'raw data'!J422","v":1},1,3,0,1]
[421,"Train",{"$f":"'raw data'!J423","v":4},4,1,0,1]
[422,"Train",{"$f":"'raw data'!J424","v":1},1,3,0,1]
[423,"Train",{"$f":"'raw data'!J425","v":1},1,1,0,0]
[424,"Train",{"$f":"'raw data'!J426","v":4},4,3,0,1]
[425,"Train",{"$f":"'raw data'!J427","v":3},3,3,0,0]
[426,"Train",{"$f":"'raw data'!J428","v":2},2,2,0,0]
[427,"Train",{"$f":"'raw data'!J429","v":3},3,3,0,0]
[428,"Train",{"$f":"'raw data'!J430","v":1},1,1,0,0]
[429,"Train",{"$f":"'raw data'!J431","v":2},2,2,0,0]
[430,"Train",{"$f":"'raw data'!J432","v":2},2,2,0,0]
[431,"Train",{"$f":"'raw data'!J433","v":4},4,1,0,1]
[432,"Train",{"$f":"'raw data'!J434","v":2},2,1,0,1]
[433,"Train",{"$f":"'raw data'!J435","v":3},3,2,0,1]
[434,"Train",{"$f":"'raw data'!J436","v":1},1,1,0,0]
[435,"Train",{"$f":"'raw data'!J437","v":4},4,4,0,0]
[436,"Train",{"$f":"'raw data'!J438","v":2},2,2,0,0]
[437,"Train",{"$f":"'raw data'!J439","v":2},2,4,0,1]
[438,"Train",{"$f":"'raw data'!J440","v":4},4,1,0,1]
[439,"Train",{"$f":"'raw data'!J441","v":4},4,1,0,1]
[440,"Train",{"$f":"'raw data'!J442","v":4},4,3,0,1]
[441,"Train",{"$f":"'raw data'!J443","v":2},2,1,0,1]
[442,"Train",{"$f":"'raw data'!J444","v":4},4,3,0,1]
[443,"Train",{"$f":"'raw data'!J445","v":1},1,1,0,0]
[444,"Train",{"$f":"'raw data'!J446","v":4},4,1,0,1]
[445,"Train",{"$f":"'raw data'!J447","v":1},1,3,0,1]
[446,"Train",{"$f":"'raw data'!J448","v":2},2,2,0,0]
[447,"Train",{"$f":"'raw data'!J449","v":4},4,4,0,0]
[448,"Train",{"$f":"'raw data'!J450","v":3},3,1,0,1]
[449,"Train",{"$f":"'raw data'!J451","v":2},2,3,0,1]
[450,"Train",{"$f":"'raw data'!J452","v":4},4,3,{"$f":"IF(C451=D451,0,1)","v":0},{"$f":"IF(C451=E451,0,1)","v":1}]
[451,"Train",{"$f":"'raw data'!J453","v":3},3,2,0,1]
[452,"Train",{"$f":"'raw data'!J454","v":1},1,2,0,1]
[453,"Train",{"$f":"'raw data'!J455","v":1},1,1,0,0]
[454,"Train",{"$f":"'raw data'!J456","v":4},4,4,0,0]
[455,"Train",{"$f":"'raw data'!J457","v":4},4,3,0,1]
[456,"Train",{"$f":"'raw data'!J458","v":1},1,3,0,1]
[457,"Train",{"$f":"'raw data'!J459","v":4},4,3,0,1]
[458,"Train",{"$f":"'raw data'!J460","v":2},2,2,0,0]
[459,"Train",{"$f":"'raw data'!J461","v":3},3,4,0,1]
[460,"Train",{"$f":"'raw data'!J462","v":1},1,1,0,0]
[461,"Train",{"$f":"'raw data'!J463","v":1},1,3,0,1]
[462,"Train",{"$f":"'raw data'!J464","v":1},1,4,0,1]
[463,"Train",{"$f":"'raw data'!J465","v":3},3,3,0,0]
[464,"Train",{"$f":"'raw data'!J466","v":4},4,1,0,1]
[465,"Train",{"$f":"'raw data'!J467","v":4},4,1,0,1]
[466,"Train",{"$f":"'raw data'!J468","v":1},1,1,0,0]
[467,"Train",{"$f":"'raw data'!J469","v":1},1,1,0,0]
[468,"Train",{"$f":"'raw data'!J470","v":3},1,1,1,1]
[469,"Train",{"$f":"'raw data'!J471","v":4},4,4,0,0]
[470,"Train",{"$f":"'raw data'!J472","v":2},3,2,1,0]
[471,"Train",{"$f":"'raw data'!J473","v":4},4,1,0,1]
[472,"Train",{"$f":"'raw data'!J474","v":3},3,1,0,1]
[473,"Train",{"$f":"'raw data'!J475","v":2},2,1,0,1]
[474,"Train",{"$f":"'raw data'!J476","v":1},1,3,0,1]
[475,"Train",{"$f":"'raw data'!J477","v":4},4,3,0,1]
[476,"Train",{"$f":"'raw data'!J478","v":4},4,4,0,0]
[477,"Train",{"$f":"'raw data'!J479","v":1},1,2,0,1]
[478,"Train",{"$f":"'raw data'!J480","v":2},2,2,0,0]
[479,"Train",{"$f":"'raw data'!J481","v":4},4,1,0,1]
[480,"Train",{"$f":"'raw data'!J482","v":1},1,4,0,1]
[481,"Train",{"$f":"'raw data'!J483","v":3},3,2,0,1]
[482,"Train",{"$f":"'raw data'!J484","v":3},3,3,0,0]
[483,"Train",{"$f":"'raw data'!J485","v":1},1,1,0,0]
[484,"Train",{"$f":"'raw data'!J486","v":3},3,3,0,0]
[485,"Train",{"$f":"'raw data'!J487","v":3},3,1,0,1]
[486,"Train",{"$f":"'raw data'!J488","v":2},2,1,0,1]
[487,"Train",{"$f":"'raw data'!J489","v":3},3,2,0,1]
[488,"Train",{"$f":"'raw data'!J490","v":1},1,1,0,0]
[489,"Train",{"$f":"'raw data'!J491","v":4},4,1,0,1]
[490,"Train",{"$f":"'raw data'!J492","v":4},4,3,0,1]
[491,"Train",{"$f":"'raw data'!J493","v":3},3,3,0,0]
[492,"Train",{"$f":"'raw data'!J494","v":2},2,4,0,1]
[493,"Train",{"$f":"'raw data'!J495","v":1},1,1,0,0]
[494,"Train",{"$f":"'raw data'!J496","v":3},3,4,0,1]
[495,"Train",{"$f":"'raw data'!J497","v":3},3,2,0,1]
[496,"Train",{"$f":"'raw data'!J498","v":4},4,1,0,1]
[497,"Train",{"$f":"'raw data'!J499","v":2},2,4,0,1]
[498,"Train",{"$f":"'raw data'!J500","v":4},4,1,0,1]
[499,"Train",{"$f":"'raw data'!J501","v":1},1,1,0,0]
[500,"Train",{"$f":"'raw data'!J502","v":4},4,1,0,1]
[501,"Train",{"$f":"'raw data'!J503","v":2},2,2,0,0]
[502,"Train",{"$f":"'raw data'!J504","v":3},3,3,0,0]
[503,"Train",{"$f":"'raw data'!J505","v":4},4,1,0,1]
[504,"Train",{"$f":"'raw data'!J506","v":4},4,4,0,0]
[505,"Train",{"$f":"'raw data'!J507","v":1},1,1,0,0]
[506,"Train",{"$f":"'raw data'!J508","v":2},2,4,0,1]
[507,"Train",{"$f":"'raw data'!J509","v":3},3,3,0,0]
[508,"Train",{"$f":"'raw data'!J510","v":1},1,1,0,0]
[509,"Train",{"$f":"'raw data'!J511","v":4},4,1,0,1]
[510,"Train",{"$f":"'raw data'!J512","v":3},3,1,0,1]
[511,"Train",{"$f":"'raw data'!J513","v":2},2,2,0,0]
[512,"Train",{"$f":"'raw data'!J514","v":2},3,3,1,1]
[513,"Train",{"$f":"'raw data'!J515","v":2},2,2,0,0]
[514,"Train",{"$f":"'raw data'!J516","v":1},1,3,{"$f":"IF(C515=D515,0,1)","v":0},{"$f":"IF(C515=E515,0,1)","v":1}]
[515,"Train",{"$f":"'raw data'!J517","v":3},3,3,0,0]
[516,"Train",{"$f":"'raw data'!J518","v":2},2,2,0,0]
[517,"Train",{"$f":"'raw data'!J519","v":4},4,1,0,1]
[518,"Train",{"$f":"'raw data'!J520","v":1},1,1,0,0]
[519,"Train",{"$f":"'raw data'!J521","v":2},2,2,0,0]
[520,"Train",{"$f":"'raw data'!J522","v":4},4,3,0,1]
[521,"Train",{"$f":"'raw data'!J523","v":3},3,3,0,0]
[522,"Train",{"$f":"'raw data'!J524","v":1},1,3,0,1]
[523,"Train",{"$f":"'raw data'!J525","v":2},2,1,0,1]
[524,"Train",{"$f":"'raw data'!J526","v":2},2,4,0,1]
[525,"Train",{"$f":"'raw data'!J527","v":1},1,1,0,0]
[526,"Train",{"$f":"'raw data'!J528","v":4},4,1,0,1]
[527,"Train",{"$f":"'raw data'!J529","v":4},4,2,0,1]
[528,"Train",{"$f":"'raw data'!J530","v":3},4,2,1,1]
[529,"Train",{"$f":"'raw data'!J531","v":4},4,3,0,1]
[530,"Train",{"$f":"'raw data'!J532","v":3},3,1,0,1]
[531,"Train",{"$f":"'raw data'!J533","v":2},2,2,0,0]
[532,"Train",{"$f":"'raw data'!J534","v":3},3,2,0,1]
[533,"Train",{"$f":"'raw data'!J535","v":4},4,3,0,1]
[534,"Train",{"$f":"'raw data'!J536","v":2},3,4,1,1]
[535,"Train",{"$f":"'raw data'!J537","v":4},4,3,0,1]
[536,"Train",{"$f":"'raw data'!J538","v":3},3,1,0,1]
[537,"Train",{"$f":"'raw data'!J539","v":2},2,2,0,0]
[538,"Train",{"$f":"'raw data'!J540","v":2},2,2,0,0]
[539,"Train",{"$f":"'raw data'!J541","v":2},2,2,0,0]
[540,"Train",{"$f":"'raw data'!J542","v":1},1,1,0,0]
[541,"Train",{"$f":"'raw data'!J543","v":1},3,1,1,0]
[542,"Train",{"$f":"'raw data'!J544","v":2},2,2,0,0]
[543,"Train",{"$f":"'raw data'!J545","v":4},4,3,0,1]
[544,"Train",{"$f":"'raw data'!J546","v":4},4,1,0,1]
[545,"Train",{"$f":"'raw data'!J547","v":1},1,2,0,1]
[546,"Train",{"$f":"'raw data'!J548","v":1},1,3,0,1]
[547,"Train",{"$f":"'raw data'!J549","v":2},2,2,0,0]
[548,"Train",{"$f":"'raw data'!J550","v":1},1,3,0,1]
[549,"Train",{"$f":"'raw data'!J551","v":2},2,2,0,0]
[550,"Train",{"$f":"'raw data'!J552","v":1},1,1,0,0]
[551,"Train",{"$f":"'raw data'!J553","v":1},1,1,0,0]
[552,"Train",{"$f":"'raw data'!J554","v":4},4,3,0,1]
[553,"Train",{"$f":"'raw data'!J555","v":4},4,1,0,1]
[554,"Train",{"$f":"'raw data'!J556","v":2},2,2,0,0]
[555,"Train",{"$f":"'raw data'!J557","v":3},3,3,0,0]
[556,"Train",{"$f":"'raw data'!J558","v":3},3,2,0,1]
[557,"Train",{"$f":"'raw data'!J559","v":4},4,3,0,1]
[558,"Train",{"$f":"'raw data'!J560","v":4},4,4,0,0]
[559,"Train",{"$f":"'raw data'!J561","v":3},3,3,0,0]
[560,"Train",{"$f":"'raw data'!J562","v":3},3,4,0,1]
[561,"Train",{"$f":"'raw data'!J563","v":1},1,1,0,0]
[562,"Train",{"$f":"'raw data'!J564","v":2},2,2,0,0]
[563,"Train",{"$f":"'raw data'!J565","v":3},3,3,0,0]
[564,"Train",{"$f":"'raw data'!J566","v":4},4,3,0,1]
[565,"Train",{"$f":"'raw data'!J567","v":4},4,4,0,0]
[566,"Train",{"$f":"'raw data'!J568","v":1},1,1,0,0]
[567,"Train",{"$f":"'raw data'!J569","v":3},3,3,0,0]
[568,"Train",{"$f":"'raw data'!J570","v":4},4,2,0,1]
[569,"Train",{"$f":"'raw data'!J571","v":3},3,4,0,1]
[570,"Train",{"$f":"'raw data'!J572","v":1},1,3,0,1]
[571,"Train",{"$f":"'raw data'!J573","v":1},1,1,0,0]
[572,"Train",{"$f":"'raw data'!J574","v":1},1,3,0,1]
[573,"Train",{"$f":"'raw data'!J575","v":3},3,4,0,1]
[574,"Train",{"$f":"'raw data'!J576","v":1},1,3,0,1]
[575,"Train",{"$f":"'raw data'!J577","v":1},1,3,0,1]
[576,"Train",{"$f":"'raw data'!J578","v":3},3,3,0,0]
[577,"Train",{"$f":"'raw data'!J579","v":1},1,4,0,1]
[578,"Train",{"$f":"'raw data'!J580","v":1},1,2,{"$f":"IF(C579=D579,0,1)","v":0},{"$f":"IF(C579=E579,0,1)","v":1}]
[579,"Train",{"$f":"'raw data'!J581","v":1},1,1,0,0]
[580,"Train",{"$f":"'raw data'!J582","v":1},1,1,0,0]
[581,"Train",{"$f":"'raw data'!J583","v":3},3,1,0,1]
[582,"Train",{"$f":"'raw data'!J584","v":2},2,2,0,0]
[583,"Train",{"$f":"'raw data'!J585","v":1},1,1,0,0]
[584,"Train",{"$f":"'raw data'!J586","v":3},3,3,0,0]
[585,"Train",{"$f":"'raw data'!J587","v":4},4,3,0,1]
[586,"Train",{"$f":"'raw data'!J588","v":3},3,3,0,0]
[587,"Train",{"$f":"'raw data'!J589","v":4},4,1,0,1]
[588,"Train",{"$f":"'raw data'!J590","v":1},1,3,0,1]
[589,"Train",{"$f":"'raw data'!J591","v":1},1,3,0,1]
[590,"Train",{"$f":"'raw data'!J592","v":4},4,4,0,0]
[591,"Train",{"$f":"'raw data'!J593","v":1},1,1,0,0]
[592,"Train",{"$f":"'raw data'!J594","v":1},1,1,0,0]
[593,"Train",{"$f":"'raw data'!J595","v":2},2,4,0,1]
[594,"Train",{"$f":"'raw data'!J596","v":4},4,1,0,1]
[595,"Train",{"$f":"'raw data'!J597","v":1},3,1,1,0]
[596,"Train",{"$f":"'raw data'!J598","v":3},3,2,0,1]
[597,"Train",{"$f":"'raw data'!J599","v":4},4,4,0,0]
[598,"Train",{"$f":"'raw data'!J600","v":1},1,2,0,1]
[599,"Train",{"$f":"'raw data'!J601","v":1},1,1,0,0]
[600,"Train",{"$f":"'raw data'!J602","v":1},1,3,0,1]
[601,"Train",{"$f":"'raw data'!J603","v":4},4,4,0,0]
[602,"Train",{"$f":"'raw data'!J604","v":1},1,1,0,0]
[603,"Train",{"$f":"'raw data'!J605","v":2},2,2,0,0]
[604,"Train",{"$f":"'raw data'!J606","v":4},4,4,0,0]
[605,"Train",{"$f":"'raw data'!J607","v":2},2,1,0,1]
[606,"Train",{"$f":"'raw data'!J608","v":4},4,1,0,1]
[607,"Train",{"$f":"'raw data'!J609","v":4},4,1,0,1]
[608,"Train",{"$f":"'raw data'!J610","v":1},1,4,0,1]
[609,"Train",{"$f":"'raw data'!J611","v":2},2,2,0,0]
[610,"Train",{"$f":"'raw data'!J612","v":3},3,2,0,1]
[611,"Train",{"$f":"'raw data'!J613","v":1},1,3,0,1]
[612,"Train",{"$f":"'raw data'!J614","v":3},3,2,0,1]
[613,"Train",{"$f":"'raw data'!J615","v":4},4,1,0,1]
[614,"Train",{"$f":"'raw data'!J616","v":2},2,2,0,0]
[615,"Train",{"$f":"'raw data'!J617","v":3},3,3,0,0]
[616,"Train",{"$f":"'raw data'!J618","v":3},3,4,0,1]
[617,"Train",{"$f":"'raw data'!J619","v":1},1,3,0,1]
[618,"Train",{"$f":"'raw data'!J620","v":3},3,2,0,1]
[619,"Train",{"$f":"'raw data'!J621","v":4},4,1,0,1]
[620,"Train",{"$f":"'raw data'!J622","v":2},2,2,0,0]
[621,"Train",{"$f":"'raw data'!J623","v":2},3,1,1,1]
[622,"Train",{"$f":"'raw data'!J624","v":1},1,1,0,0]
[623,"Train",{"$f":"'raw data'!J625","v":2},2,2,0,0]
[624,"Train",{"$f":"'raw data'!J626","v":1},1,1,0,0]
[625,"Train",{"$f":"'raw data'!J627","v":1},1,2,0,1]
[626,"Train",{"$f":"'raw data'!J628","v":3},3,2,0,1]
[627,"Train",{"$f":"'raw data'!J629","v":2},2,4,0,1]
[628,"Train",{"$f":"'raw data'!J630","v":1},1,1,0,0]
[629,"Train",{"$f":"'raw data'!J631","v":2},2,1,0,1]
[630,"Train",{"$f":"'raw data'!J632","v":3},3,3,0,0]
[631,"Train",{"$f":"'raw data'!J633","v":3},3,3,0,0]
[632,"Train",{"$f":"'raw data'!J634","v":2},2,2,0,0]
[633,"Train",{"$f":"'raw data'!J635","v":1},1,1,0,0]
[634,"Train",{"$f":"'raw data'!J636","v":1},3,4,1,1]
[635,"Train",{"$f":"'raw data'!J637","v":1},1,4,0,1]
[636,"Train",{"$f":"'raw data'!J638","v":2},2,2,0,0]
[637,"Train",{"$f":"'raw data'!J639","v":4},4,1,0,1]
[638,"Train",{"$f":"'raw data'!J640","v":3},3,2,0,1]
[639,"Train",{"$f":"'raw data'!J641","v":1},1,3,0,1]
[640,"Train",{"$f":"'raw data'!J642","v":1},1,2,0,1]
[641,"Train",{"$f":"'raw data'!J643","v":4},4,4,0,0]
[642,"Train",{"$f":"'raw data'!J644","v":2},2,1,{"$f":"IF(C643=D643,0,1)","v":0},{"$f":"IF(C643=E643,0,1)","v":1}]
[643,"Train",{"$f":"'raw data'!J645","v":4},4,1,0,1]
[644,"Train",{"$f":"'raw data'!J646","v":1},1,1,0,0]
[645,"Train",{"$f":"'raw data'!J647","v":1},1,1,0,0]
[646,"Train",{"$f":"'raw data'!J648","v":1},1,1,0,0]
[647,"Train",{"$f":"'raw data'!J649","v":1},1,1,0,0]
[648,"Train",{"$f":"'raw data'!J650","v":4},4,3,0,1]
[649,"Train",{"$f":"'raw data'!J651","v":3},3,1,0,1]
[650,"Train",{"$f":"'raw data'!J652","v":1},1,1,0,0]
[651,"Train",{"$f":"'raw data'!J653","v":4},4,1,0,1]
[652,"Train",{"$f":"'raw data'!J654","v":4},4,3,0,1]
[653,"Train",{"$f":"'raw data'!J655","v":2},2,2,0,0]
[654,"Train",{"$f":"'raw data'!J656","v":4},4,1,0,1]
[655,"Train",{"$f":"'raw data'!J657","v":4},4,3,0,1]
[656,"Train",{"$f":"'raw data'!J658","v":1},1,3,0,1]
[657,"Train",{"$f":"'raw data'!J659","v":4},4,4,0,0]
[658,"Train",{"$f":"'raw data'!J660","v":4},4,1,0,1]
[659,"Train",{"$f":"'raw data'!J661","v":4},4,2,0,1]
[660,"Train",{"$f":"'raw data'!J662","v":4},4,3,0,1]
[661,"Train",{"$f":"'raw data'!J663","v":3},3,4,0,1]
[662,"Train",{"$f":"'raw data'!J664","v":1},1,4,0,1]
[663,"Train",{"$f":"'raw data'!J665","v":1},1,1,0,0]
[664,"Train",{"$f":"'raw data'!J666","v":2},2,2,0,0]
[665,"Train",{"$f":"'raw data'!J667","v":3},3,1,0,1]
[666,"Train",{"$f":"'raw data'!J668","v":2},2,2,0,0]
[667,"Train",{"$f":"'raw data'!J669","v":1},1,1,0,0]
[668,"Train",{"$f":"'raw data'!J670","v":1},4,2,1,1]
[669,"Train",{"$f":"'raw data'!J671","v":1},1,1,0,0]
[670,"Train",{"$f":"'raw data'!J672","v":1},1,4,0,1]
[671,"Train",{"$f":"'raw data'!J673","v":3},3,2,0,1]
[672,"Train",{"$f":"'raw data'!J674","v":3},3,1,0,1]
[673,"Train",{"$f":"'raw data'!J675","v":2},3,1,1,1]
[674,"Train",{"$f":"'raw data'!J676","v":2},2,1,0,1]
[675,"Train",{"$f":"'raw data'!J677","v":4},4,1,0,1]
[676,"Train",{"$f":"'raw data'!J678","v":3},3,3,0,0]
[677,"Train",{"$f":"'raw data'!J679","v":2},2,1,0,1]
[678,"Train",{"$f":"'raw data'!J680","v":4},4,1,0,1]
[679,"Train",{"$f":"'raw data'!J681","v":4},4,1,0,1]
[680,"Train",{"$f":"'raw data'!J682","v":1},1,1,0,0]
[681,"Train",{"$f":"'raw data'!J683","v":2},2,2,0,0]
[682,"Train",{"$f":"'raw data'!J684","v":4},4,4,0,0]
[683,"Train",{"$f":"'raw data'!J685","v":1},1,3,0,1]
[684,"Train",{"$f":"'raw data'!J686","v":4},4,1,0,1]
[685,"Train",{"$f":"'raw data'!J687","v":3},3,1,0,1]
[686,"Train",{"$f":"'raw data'!J688","v":1},1,1,0,0]
[687,"Train",{"$f":"'raw data'!J689","v":4},4,3,0,1]
[688,"Train",{"$f":"'raw data'!J690","v":4},4,4,0,0]
[689,"Train",{"$f":"'raw data'!J691","v":3},3,2,0,1]
[690,"Train",{"$f":"'raw data'!J692","v":1},1,1,0,0]
[691,"Train",{"$f":"'raw data'!J693","v":2},2,1,0,1]
[692,"Train",{"$f":"'raw data'!J694","v":3},3,3,0,0]
[693,"Train",{"$f":"'raw data'!J695","v":2},2,1,0,1]
[694,"Train",{"$f":"'raw data'!J696","v":1},1,2,0,1]
[695,"Train",{"$f":"'raw data'!J697","v":4},4,4,0,0]
[696,"Train",{"$f":"'raw data'!J698","v":4},4,4,0,0]
[697,"Train",{"$f":"'raw data'!J699","v":4},4,3,0,1]
[698,"Train",{"$f":"'raw data'!J700","v":4},4,3,0,1]
[699,"Train",{"$f":"'raw data'!J701","v":1},1,3,0,1]
[700,"Train",{"$f":"'raw data'!J702","v":1},1,3,0,1]
[701,"Train",{"$f":"'raw data'!J703","v":2},2,4,0,1]
[702,"Train",{"$f":"'raw data'!J704","v":1},1,3,0,1]
[703,"Train",{"$f":"'raw data'!J705","v":1},1,3,0,1]
[704,"Train",{"$f":"'raw data'!J706","v":3},3,1,0,1]
[705,"Train",{"$f":"'raw data'!J707","v":3},3,4,0,1]
[706,"Train",{"$f":"'raw data'!J708","v":4},4,4,{"$f":"IF(C707=D707,0,1)","v":0},{"$f":"IF(C707=E707,0,1)","v":0}]
[707,"Train",{"$f":"'raw data'!J709","v":3},3,4,0,1]
[708,"Train",{"$f":"'raw data'!J710","v":3},3,2,0,1]
[709,"Train",{"$f":"'raw data'!J711","v":4},4,4,0,0]
[710,"Train",{"$f":"'raw data'!J712","v":2},2,2,0,0]
[711,"Train",{"$f":"'raw data'!J713","v":1},1,1,0,0]
[712,"Train",{"$f":"'raw data'!J714","v":1},1,1,0,0]
[713,"Train",{"$f":"'raw data'!J715","v":3},3,3,0,0]
[714,"Train",{"$f":"'raw data'!J716","v":2},2,4,0,1]
[715,"Train",{"$f":"'raw data'!J717","v":3},3,3,0,0]
[716,"Train",{"$f":"'raw data'!J718","v":4},4,1,0,1]
[717,"Train",{"$f":"'raw data'!J719","v":2},2,1,0,1]
[718,"Train",{"$f":"'raw data'!J720","v":3},3,2,0,1]
[719,"Train",{"$f":"'raw data'!J721","v":2},2,1,0,1]
[720,"Train",{"$f":"'raw data'!J722","v":3},3,1,0,1]
[721,"Train",{"$f":"'raw data'!J723","v":4},4,1,0,1]
[722,"Train",{"$f":"'raw data'!J724","v":1},1,3,0,1]
[723,"Train",{"$f":"'raw data'!J725","v":4},4,1,0,1]
[724,"Train",{"$f":"'raw data'!J726","v":4},4,3,0,1]
[725,"Train",{"$f":"'raw data'!J727","v":3},3,2,0,1]
[726,"Train",{"$f":"'raw data'!J728","v":4},4,1,0,1]
[727,"Train",{"$f":"'raw data'!J729","v":3},3,3,0,0]
[728,"Train",{"$f":"'raw data'!J730","v":4},4,3,0,1]
[729,"Train",{"$f":"'raw data'!J731","v":1},1,1,0,0]
[730,"Train",{"$f":"'raw data'!J732","v":3},3,4,0,1]
[731,"Train",{"$f":"'raw data'!J733","v":2},2,2,0,0]
[732,"Train",{"$f":"'raw data'!J734","v":1},1,3,0,1]
[733,"Train",{"$f":"'raw data'!J735","v":1},1,4,0,1]
[734,"Train",{"$f":"'raw data'!J736","v":3},3,3,0,0]
[735,"Train",{"$f":"'raw data'!J737","v":3},3,1,0,1]
[736,"Train",{"$f":"'raw data'!J738","v":3},3,3,0,0]
[737,"Train",{"$f":"'raw data'!J739","v":2},2,2,0,0]
[738,"Train",{"$f":"'raw data'!J740","v":4},4,1,0,1]
[739,"Train",{"$f":"'raw data'!J741","v":4},4,1,0,1]
[740,"Train",{"$f":"'raw data'!J742","v":3},3,3,0,0]
[741,"Train",{"$f":"'raw data'!J743","v":3},3,3,0,0]
[742,"Train",{"$f":"'raw data'!J744","v":2},2,2,0,0]
[743,"Train",{"$f":"'raw data'!J745","v":2},2,2,0,0]
[744,"Train",{"$f":"'raw data'!J746","v":3},3,3,0,0]
[745,"Train",{"$f":"'raw data'!J747","v":4},4,3,0,1]
[746,"Train",{"$f":"'raw data'!J748","v":2},2,2,0,0]
[747,"Train",{"$f":"'raw data'!J749","v":2},2,4,0,1]
[748,"Train",{"$f":"'raw data'!J750","v":2},2,1,0,1]
[749,"Train",{"$f":"'raw data'!J751","v":3},3,2,0,1]
[750,"Train",{"$f":"'raw data'!J752","v":3},3,1,0,1]
[751,"Train",{"$f":"'raw data'!J753","v":2},2,2,0,0]
[752,"Train",{"$f":"'raw data'!J754","v":4},4,1,0,1]
[753,"Train",{"$f":"'raw data'!J755","v":4},4,1,0,1]
[754,"Train",{"$f":"'raw data'!J756","v":2},2,1,0,1]
[755,"Train",{"$f":"'raw data'!J757","v":4},4,4,0,0]
[756,"Train",{"$f":"'raw data'!J758","v":1},1,4,0,1]
[757,"Train",{"$f":"'raw data'!J759","v":4},4,1,0,1]
[758,"Train",{"$f":"'raw data'!J760","v":4},4,1,0,1]
[759,"Train",{"$f":"'raw data'!J761","v":3},3,3,0,0]
[760,"Train",{"$f":"'raw data'!J762","v":4},4,3,0,1]
[761,"Train",{"$f":"'raw data'!J763","v":2},2,2,0,0]
[762,"Train",{"$f":"'raw data'!J764","v":4},4,1,0,1]
[763,"Train",{"$f":"'raw data'!J765","v":1},1,1,0,0]
[764,"Train",{"$f":"'raw data'!J766","v":3},3,4,0,1]
[765,"Train",{"$f":"'raw data'!J767","v":3},3,3,0,0]
[766,"Train",{"$f":"'raw data'!J768","v":2},2,4,0,1]
[767,"Train",{"$f":"'raw data'!J769","v":2},2,2,0,0]
[768,"Train",{"$f":"'raw data'!J770","v":2},2,2,0,0]
[769,"Train",{"$f":"'raw data'!J771","v":4},4,1,0,1]
[770,"Train",{"$f":"'raw data'!J772","v":3},3,3,{"$f":"IF(C771=D771,0,1)","v":0},{"$f":"IF(C771=E771,0,1)","v":0}]
[771,"Train",{"$f":"'raw data'!J773","v":4},4,1,0,1]
[772,"Train",{"$f":"'raw data'!J774","v":1},1,3,0,1]
[773,"Train",{"$f":"'raw data'!J775","v":1},1,1,0,0]
[774,"Train",{"$f":"'raw data'!J776","v":3},3,2,0,1]
[775,"Train",{"$f":"'raw data'!J777","v":4},4,1,0,1]
[776,"Train",{"$f":"'raw data'!J778","v":2},2,1,0,1]
[777,"Train",{"$f":"'raw data'!J779","v":1},1,1,0,0]
[778,"Train",{"$f":"'raw data'!J780","v":4},4,4,0,0]
[779,"Train",{"$f":"'raw data'!J781","v":4},4,1,0,1]
[780,"Train",{"$f":"'raw data'!J782","v":2},2,2,0,0]
[781,"Train",{"$f":"'raw data'!J783","v":2},2,1,0,1]
[782,"Train",{"$f":"'raw data'!J784","v":3},4,3,1,0]
[783,"Train",{"$f":"'raw data'!J785","v":4},4,3,0,1]
[784,"Train",{"$f":"'raw data'!J786","v":2},2,2,0,0]
[785,"Train",{"$f":"'raw data'!J787","v":3},3,2,0,1]
[786,"Train",{"$f":"'raw data'!J788","v":4},4,1,0,1]
[787,"Train",{"$f":"'raw data'!J789","v":4},4,2,0,1]
[788,"Train",{"$f":"'raw data'!J790","v":3},3,3,0,0]
[789,"Train",{"$f":"'raw data'!J791","v":3},3,1,0,1]
[790,"Train",{"$f":"'raw data'!J792","v":4},4,1,0,1]
[791,"Train",{"$f":"'raw data'!J793","v":2},2,1,0,1]
[792,"Train",{"$f":"'raw data'!J794","v":1},1,2,0,1]
[793,"Train",{"$f":"'raw data'!J795","v":2},2,4,0,1]
[794,"Train",{"$f":"'raw data'!J796","v":2},3,2,1,0]
[795,"Train",{"$f":"'raw data'!J797","v":3},3,3,0,0]
[796,"Train",{"$f":"'raw data'!J798","v":3},3,3,0,0]
[797,"Train",{"$f":"'raw data'!J799","v":4},4,4,0,0]
[798,"Train",{"$f":"'raw data'!J800","v":1},1,1,0,0]
[799,"Train",{"$f":"'raw data'!J801","v":3},3,2,0,1]
[800,"Train",{"$f":"'raw data'!J802","v":3},3,3,0,0]
[801,"Train",{"$f":"'raw data'!J803","v":3},3,1,0,1]
[802,"Train",{"$f":"'raw data'!J804","v":2},2,1,0,1]
[803,"Train",{"$f":"'raw data'!J805","v":3},3,3,0,0]
[804,"Train",{"$f":"'raw data'!J806","v":3},3,1,0,1]
[805,"Train",{"$f":"'raw data'!J807","v":3},3,3,0,0]
[806,"Train",{"$f":"'raw data'!J808","v":3},3,4,0,1]
[807,"Train",{"$f":"'raw data'!J809","v":1},1,3,0,1]
[808,"Train",{"$f":"'raw data'!J810","v":2},2,2,0,0]
[809,"Train",{"$f":"'raw data'!J811","v":1},1,3,0,1]
[810,"Train",{"$f":"'raw data'!J812","v":2},2,1,0,1]
[811,"Train",{"$f":"'raw data'!J813","v":3},1,4,1,1]
[812,"Train",{"$f":"'raw data'!J814","v":4},4,1,0,1]
[813,"Train",{"$f":"'raw data'!J815","v":1},1,3,0,1]
[814,"Train",{"$f":"'raw data'!J816","v":1},1,3,0,1]
[815,"Train",{"$f":"'raw data'!J817","v":3},3,2,0,1]
[816,"Train",{"$f":"'raw data'!J818","v":4},1,4,1,0]
[817,"Train",{"$f":"'raw data'!J819","v":3},3,3,0,0]
[818,"Train",{"$f":"'raw data'!J820","v":1},1,1,0,0]
[819,"Train",{"$f":"'raw data'!J821","v":2},2,4,0,1]
[820,"Train",{"$f":"'raw data'!J822","v":2},2,2,0,0]
[821,"Train",{"$f":"'raw data'!J823","v":1},1,3,0,1]
[822,"Train",{"$f":"'raw data'!J824","v":3},3,3,0,0]
[823,"Train",{"$f":"'raw data'!J825","v":3},3,3,0,0]
[824,"Train",{"$f":"'raw data'!J826","v":4},4,1,0,1]
[825,"Train",{"$f":"'raw data'!J827","v":2},2,2,0,0]
[826,"Train",{"$f":"'raw data'!J828","v":1},1,1,0,0]
[827,"Train",{"$f":"'raw data'!J829","v":4},4,1,0,1]
[828,"Train",{"$f":"'raw data'!J830","v":3},3,3,0,0]
[829,"Train",{"$f":"'raw data'!J831","v":4},4,1,0,1]
[830,"Train",{"$f":"'raw data'!J832","v":2},2,2,0,0]
[831,"Train",{"$f":"'raw data'!J833","v":2},2,3,0,1]
[832,"Train",{"$f":"'raw data'!J834","v":1},3,1,1,0]
[833,"Train",{"$f":"'raw data'!J835","v":3},3,3,0,0]
[834,"Train",{"$f":"'raw data'!J836","v":3},3,3,{"$f":"IF(C835=D835,0,1)","v":0},{"$f":"IF(C835=E835,0,1)","v":0}]
[835,"Train",{"$f":"'raw data'!J837","v":2},2,2,0,0]
[836,"Train",{"$f":"'raw data'!J838","v":3},3,3,0,0]
[837,"Train",{"$f":"'raw data'!J839","v":1},1,2,0,1]
[838,"Train",{"$f":"'raw data'!J840","v":3},3,3,0,0]
[839,"Train",{"$f":"'raw data'!J841","v":3},3,3,0,0]
[840,"Train",{"$f":"'raw data'!J842","v":2},2,4,0,1]
[841,"Train",{"$f":"'raw data'!J843","v":3},3,3,0,0]
[842,"Train",{"$f":"'raw data'!J844","v":4},4,1,0,1]
[843,"Train",{"$f":"'raw data'!J845","v":4},4,4,0,0]
[844,"Train",{"$f":"'raw data'!J846","v":3},4,3,1,0]
[845,"Train",{"$f":"'raw data'!J847","v":4},4,3,0,1]
[846,"Train",{"$f":"'raw data'!J848","v":1},1,4,0,1]
[847,"Train",{"$f":"'raw data'!J849","v":1},1,3,0,1]
[848,"Train",{"$f":"'raw data'!J850","v":3},3,3,0,0]
[849,"Train",{"$f":"'raw data'!J851","v":1},1,3,0,1]
[850,"Train",{"$f":"'raw data'!J852","v":3},3,4,0,1]
[851,"Train",{"$f":"'raw data'!J853","v":2},2,2,0,0]
[852,"Train",{"$f":"'raw data'!J854","v":1},3,4,1,1]
[853,"Train",{"$f":"'raw data'!J855","v":4},4,4,0,0]
[854,"Train",{"$f":"'raw data'!J856","v":4},4,1,0,1]
[855,"Train",{"$f":"'raw data'!J857","v":4},4,3,0,1]
[856,"Train",{"$f":"'raw data'!J858","v":4},4,1,0,1]
[857,"Train",{"$f":"'raw data'!J859","v":4},4,4,0,0]
[858,"Train",{"$f":"'raw data'!J860","v":3},3,1,0,1]
[859,"Train",{"$f":"'raw data'!J861","v":1},1,1,0,0]
[860,"Train",{"$f":"'raw data'!J862","v":1},1,1,0,0]
[861,"Train",{"$f":"'raw data'!J863","v":2},2,2,0,0]
[862,"Train",{"$f":"'raw data'!J864","v":1},1,1,0,0]
[863,"Train",{"$f":"'raw data'!J865","v":2},2,2,0,0]
[864,"Train",{"$f":"'raw data'!J866","v":4},4,4,0,0]
[865,"Train",{"$f":"'raw data'!J867","v":3},3,2,0,1]
[866,"Train",{"$f":"'raw data'!J868","v":4},4,4,0,0]
[867,"Train",{"$f":"'raw data'!J869","v":2},2,2,0,0]
[868,"Train",{"$f":"'raw data'!J870","v":4},4,1,0,1]
[869,"Train",{"$f":"'raw data'!J871","v":4},4,1,0,1]
[870,"Train",{"$f":"'raw data'!J872","v":1},1,3,0,1]
[871,"Train",{"$f":"'raw data'!J873","v":1},1,1,0,0]
[872,"Train",{"$f":"'raw data'!J874","v":2},2,2,0,0]
[873,"Train",{"$f":"'raw data'!J875","v":1},1,3,0,1]
[874,"Train",{"$f":"'raw data'!J876","v":1},1,3,0,1]
[875,"Train",{"$f":"'raw data'!J877","v":2},2,2,0,0]
[876,"Train",{"$f":"'raw data'!J878","v":3},3,2,0,1]
[877,"Train",{"$f":"'raw data'!J879","v":4},4,3,0,1]
[878,"Train",{"$f":"'raw data'!J880","v":4},4,4,0,0]
[879,"Train",{"$f":"'raw data'!J881","v":1},1,3,0,1]
[880,"Train",{"$f":"'raw data'!J882","v":4},4,4,0,0]
[881,"Train",{"$f":"'raw data'!J883","v":4},4,3,0,1]
[882,"Train",{"$f":"'raw data'!J884","v":3},3,3,0,0]
[883,"Train",{"$f":"'raw data'!J885","v":1},1,3,0,1]
[884,"Train",{"$f":"'raw data'!J886","v":3},3,4,0,1]
[885,"Train",{"$f":"'raw data'!J887","v":3},3,1,0,1]
[886,"Train",{"$f":"'raw data'!J888","v":1},3,4,1,1]
[887,"Train",{"$f":"'raw data'!J889","v":3},3,2,0,1]
[888,"Train",{"$f":"'raw data'!J890","v":4},4,1,0,1]
[889,"Train",{"$f":"'raw data'!J891","v":2},2,2,0,0]
[890,"Train",{"$f":"'raw data'!J892","v":3},3,3,0,0]
[891,"Train",{"$f":"'raw data'!J893","v":4},4,4,0,0]
[892,"Train",{"$f":"'raw data'!J894","v":1},1,2,0,1]
[893,"Train",{"$f":"'raw data'!J895","v":1},1,3,0,1]
[894,"Train",{"$f":"'raw data'!J896","v":2},2,2,0,0]
[895,"Train",{"$f":"'raw data'!J897","v":3},3,2,0,1]
[896,"Train",{"$f":"'raw data'!J898","v":1},1,4,0,1]
[897,"Train",{"$f":"'raw data'!J899","v":2},3,1,1,1]
[898,"Train",{"$f":"'raw data'!J900","v":1},1,3,{"$f":"IF(C899=D899,0,1)","v":0},{"$f":"IF(C899=E899,0,1)","v":1}]
[899,"Train",{"$f":"'raw data'!J901","v":4},4,4,0,0]
[900,"Train",{"$f":"'raw data'!J902","v":4},4,3,0,1]
[901,"Train",{"$f":"'raw data'!J903","v":4},4,1,0,1]
[902,"Train",{"$f":"'raw data'!J904","v":2},2,4,0,1]
[903,"Train",{"$f":"'raw data'!J905","v":1},1,1,0,0]
[904,"Train",{"$f":"'raw data'!J906","v":3},3,2,0,1]
[905,"Train",{"$f":"'raw data'!J907","v":3},3,4,0,1]
[906,"Train",{"$f":"'raw data'!J908","v":4},4,1,0,1]
[907,"Train",{"$f":"'raw data'!J909","v":4},4,1,0,1]
[908,"Train",{"$f":"'raw data'!J910","v":4},4,1,0,1]
[909,"Train",{"$f":"'raw data'!J911","v":2},2,4,0,1]
[910,"Train",{"$f":"'raw data'!J912","v":2},2,2,0,0]
[911,"Train",{"$f":"'raw data'!J913","v":1},1,1,0,0]
[912,"Train",{"$f":"'raw data'!J914","v":3},3,3,0,0]
[913,"Train",{"$f":"'raw data'!J915","v":4},4,1,0,1]
[914,"Train",{"$f":"'raw data'!J916","v":1},1,3,0,1]
[915,"Train",{"$f":"'raw data'!J917","v":2},2,4,0,1]
[916,"Train",{"$f":"'raw data'!J918","v":2},2,2,0,0]
[917,"Train",{"$f":"'raw data'!J919","v":2},2,2,0,0]
[918,"Train",{"$f":"'raw data'!J920","v":2},2,4,0,1]
[919,"Train",{"$f":"'raw data'!J921","v":4},4,1,0,1]
[920,"Train",{"$f":"'raw data'!J922","v":2},2,2,0,0]
[921,"Train",{"$f":"'raw data'!J923","v":4},4,3,0,1]
[922,"Train",{"$f":"'raw data'!J924","v":4},4,4,0,0]
[923,"Train",{"$f":"'raw data'!J925","v":1},1,1,0,0]
[924,"Train",{"$f":"'raw data'!J926","v":4},4,4,0,0]
[925,"Train",{"$f":"'raw data'!J927","v":1},1,3,0,1]
[926,"Train",{"$f":"'raw data'!J928","v":3},3,2,0,1]
[927,"Train",{"$f":"'raw data'!J929","v":1},1,4,0,1]
[928,"Train",{"$f":"'raw data'!J930","v":1},1,3,0,1]
[929,"Train",{"$f":"'raw data'!J931","v":1},4,1,1,0]
[930,"Train",{"$f":"'raw data'!J932","v":4},4,4,0,0]
[931,"Train",{"$f":"'raw data'!J933","v":2},2,2,0,0]
[932,"Train",{"$f":"'raw data'!J934","v":4},4,3,0,1]
[933,"Train",{"$f":"'raw data'!J935","v":1},1,3,0,1]
[934,"Train",{"$f":"'raw data'!J936","v":4},4,3,0,1]
[935,"Train",{"$f":"'raw data'!J937","v":4},4,4,0,0]
[936,"Train",{"$f":"'raw data'!J938","v":3},3,2,0,1]
[937,"Train",{"$f":"'raw data'!J939","v":1},1,4,0,1]
[938,"Train",{"$f":"'raw data'!J940","v":3},3,4,0,1]
[939,"Train",{"$f":"'raw data'!J941","v":1},1,1,0,0]
[940,"Train",{"$f":"'raw data'!J942","v":3},3,2,0,1]
[941,"Train",{"$f":"'raw data'!J943","v":3},3,3,0,0]
[942,"Train",{"$f":"'raw data'!J944","v":2},2,2,0,0]
[943,"Train",{"$f":"'raw data'!J945","v":2},2,2,0,0]
[944,"Train",{"$f":"'raw data'!J946","v":3},3,3,0,0]
[945,"Train",{"$f":"'raw data'!J947","v":2},2,1,0,1]
[946,"Train",{"$f":"'raw data'!J948","v":4},4,1,0,1]
[947,"Train",{"$f":"'raw data'!J949","v":2},2,2,0,0]
[948,"Train",{"$f":"'raw data'!J950","v":4},4,4,0,0]
[949,"Train",{"$f":"'raw data'!J951","v":3},3,3,0,0]
[950,"Train",{"$f":"'raw data'!J952","v":4},4,1,0,1]
[951,"Train",{"$f":"'raw data'!J953","v":3},3,3,0,0]
[952,"Train",{"$f":"'raw data'!J954","v":2},2,4,0,1]
[953,"Train",{"$f":"'raw data'!J955","v":1},1,3,0,1]
[954,"Train",{"$f":"'raw data'!J956","v":1},1,1,0,0]
[955,"Train",{"$f":"'raw data'!J957","v":1},1,2,0,1]
[956,"Train",{"$f":"'raw data'!J958","v":3},3,3,0,0]
[957,"Train",{"$f":"'raw data'!J959","v":4},4,4,0,0]
[958,"Train",{"$f":"'raw data'!J960","v":4},4,3,0,1]
[959,"Train",{"$f":"'raw data'!J961","v":4},4,4,0,0]
[960,"Train",{"$f":"'raw data'!J962","v":4},4,4,0,0]
[961,"Train",{"$f":"'raw data'!J963","v":1},1,2,0,1]
[962,"Train",{"$f":"'raw data'!J964","v":2},2,1,{"$f":"IF(C963=D963,0,1)","v":0},{"$f":"IF(C963=E963,0,1)","v":1}]
[963,"Train",{"$f":"'raw data'!J965","v":4},4,3,0,1]
[964,"Train",{"$f":"'raw data'!J966","v":4},4,1,0,1]
[965,"Train",{"$f":"'raw data'!J967","v":4},4,4,0,0]
[966,"Train",{"$f":"'raw data'!J968","v":4},4,1,0,1]
[967,"Train",{"$f":"'raw data'!J969","v":1},1,2,0,1]
[968,"Train",{"$f":"'raw data'!J970","v":3},3,1,0,1]
[969,"Train",{"$f":"'raw data'!J971","v":3},3,1,0,1]
[970,"Train",{"$f":"'raw data'!J972","v":2},2,2,0,0]
[971,"Train",{"$f":"'raw data'!J973","v":2},2,2,0,0]
[972,"Train",{"$f":"'raw data'!J974","v":4},4,1,0,1]
[973,"Train",{"$f":"'raw data'!J975","v":2},2,1,0,1]
[974,"Train",{"$f":"'raw data'!J976","v":3},4,1,1,1]
[975,"Train",{"$f":"'raw data'!J977","v":3},3,3,0,0]
[976,"Train",{"$f":"'raw data'!J978","v":3},3,3,0,0]
[977,"Train",{"$f":"'raw data'!J979","v":2},2,1,0,1]
[978,"Train",{"$f":"'raw data'!J980","v":3},3,1,0,1]
[979,"Train",{"$f":"'raw data'!J981","v":2},2,2,0,0]
[980,"Train",{"$f":"'raw data'!J982","v":1},1,1,0,0]
[981,"Train",{"$f":"'raw data'!J983","v":4},4,3,0,1]
[982,"Train",{"$f":"'raw data'!J984","v":3},3,2,0,1]
[983,"Train",{"$f":"'raw data'!J985","v":3},3,3,0,0]
[984,"Train",{"$f":"'raw data'!J986","v":1},1,1,0,0]
[985,"Train",{"$f":"'raw data'!J987","v":3},3,1,0,1]
[986,"Train",{"$f":"'raw data'!J988","v":3},3,1,0,1]
[987,"Train",{"$f":"'raw data'!J989","v":4},4,2,0,1]
[988,"Train",{"$f":"'raw data'!J990","v":4},4,1,0,1]
[989,"Train",{"$f":"'raw data'!J991","v":2},3,1,1,1]
[990,"Train",{"$f":"'raw data'!J992","v":2},3,1,1,1]
[991,"Train",{"$f":"'raw data'!J993","v":2},2,3,0,1]
[992,"Train",{"$f":"'raw data'!J994","v":2},2,4,0,1]
[993,"Train",{"$f":"'raw data'!J995","v":2},2,1,0,1]
[994,"Train",{"$f":"'raw data'!J996","v":4},4,3,0,1]
[995,"Train",{"$f":"'raw data'!J997","v":4},4,4,0,0]
[996,"Train",{"$f":"'raw data'!J998","v":3},3,1,0,1]
[997,"Train",{"$f":"'raw data'!J999","v":3},3,1,0,1]
[998,"Train",{"$f":"'raw data'!J1000","v":3},3,3,0,0]
[999,"Train",{"$f":"'raw data'!J1001","v":1},1,1,0,0]
[1000,"Train",{"$f":"'raw data'!J1002","v":3},3,2,0,1]
[1001,"Train",{"$f":"'raw data'!J1003","v":2},2,1,0,1]
[1002,"Train",{"$f":"'raw data'!J1004","v":1},1,3,0,1]
[1003,"Train",{"$f":"'raw data'!J1005","v":2},2,2,0,0]
[1004,"Train",{"$f":"'raw data'!J1006","v":2},2,2,0,0]
[1005,"Train",{"$f":"'raw data'!J1007","v":2},2,1,0,1]
[1006,"Train",{"$f":"'raw data'!J1008","v":2},2,2,0,0]
[1007,"Train",{"$f":"'raw data'!J1009","v":2},2,1,0,1]
[1008,"Train",{"$f":"'raw data'!J1010","v":3},3,3,0,0]
[1009,"Train",{"$f":"'raw data'!J1011","v":3},3,3,0,0]
[1010,"Train",{"$f":"'raw data'!J1012","v":3},3,2,0,1]
[1011,"Train",{"$f":"'raw data'!J1013","v":4},4,3,0,1]
[1012,"Train",{"$f":"'raw data'!J1014","v":1},1,1,0,0]
[1013,"Train",{"$f":"'raw data'!J1015","v":2},3,1,1,1]
[1014,"Train",{"$f":"'raw data'!J1016","v":1},1,1,0,0]
[1015,"Train",{"$f":"'raw data'!J1017","v":1},1,1,0,0]
[1016,"Train",{"$f":"'raw data'!J1018","v":3},3,2,0,1]
[1017,"Train",{"$f":"'raw data'!J1019","v":2},2,2,0,0]
[1018,"Train",{"$f":"'raw data'!J1020","v":3},3,4,0,1]
[1019,"Train",{"$f":"'raw data'!J1021","v":2},2,2,0,0]
[1020,"Train",{"$f":"'raw data'!J1022","v":2},2,4,0,1]
[1021,"Train",{"$f":"'raw data'!J1023","v":4},4,2,0,1]
[1022,"Train",{"$f":"'raw data'!J1024","v":3},3,2,0,1]
[1023,"Train",{"$f":"'raw data'!J1025","v":3},3,3,0,0]
[1024,"Train",{"$f":"'raw data'!J1026","v":3},3,4,0,1]
[1025,"Train",{"$f":"'raw data'!J1027","v":2},2,2,0,0]
[1026,"Train",{"$f":"'raw data'!J1028","v":4},4,1,{"$f":"IF(C1027=D1027,0,1)","v":0},{"$f":"IF(C1027=E1027,0,1)","v":1}]
[1027,"Train",{"$f":"'raw data'!J1029","v":2},2,2,0,0]
[1028,"Train",{"$f":"'raw data'!J1030","v":1},1,1,0,0]
[1029,"Train",{"$f":"'raw data'!J1031","v":1},1,1,0,0]
[1030,"Train",{"$f":"'raw data'!J1032","v":3},3,1,0,1]
[1031,"Train",{"$f":"'raw data'!J1033","v":4},4,1,0,1]
[1032,"Train",{"$f":"'raw data'!J1034","v":2},2,1,0,1]
[1033,"Train",{"$f":"'raw data'!J1035","v":4},4,1,0,1]
[1034,"Train",{"$f":"'raw data'!J1036","v":4},4,4,0,0]
[1035,"Train",{"$f":"'raw data'!J1037","v":1},1,3,0,1]
[1036,"Train",{"$f":"'raw data'!J1038","v":1},1,3,0,1]
[1037,"Train",{"$f":"'raw data'!J1039","v":1},3,1,1,0]
[1038,"Train",{"$f":"'raw data'!J1040","v":4},4,3,0,1]
[1039,"Train",{"$f":"'raw data'!J1041","v":3},3,3,0,0]
[1040,"Train",{"$f":"'raw data'!J1042","v":4},4,4,0,0]
[1041,"Train",{"$f":"'raw data'!J1043","v":1},1,1,0,0]
[1042,"Train",{"$f":"'raw data'!J1044","v":2},3,1,1,1]
[1043,"Train",{"$f":"'raw data'!J1045","v":1},1,2,0,1]
[1044,"Train",{"$f":"'raw data'!J1046","v":3},3,2,0,1]
[1045,"Train",{"$f":"'raw data'!J1047","v":1},1,1,0,0]
[1046,"Train",{"$f":"'raw data'!J1048","v":2},2,4,0,1]
[1047,"Train",{"$f":"'raw data'!J1049","v":4},4,2,0,1]
[1048,"Train",{"$f":"'raw data'!J1050","v":2},2,2,0,0]
[1049,"Train",{"$f":"'raw data'!J1051","v":2},2,1,0,1]
[1050,"Train",{"$f":"'raw data'!J1052","v":3},3,2,0,1]
[1051,"Train",{"$f":"'raw data'!J1053","v":4},4,4,0,0]
[1052,"Train",{"$f":"'raw data'!J1054","v":4},4,4,0,0]
[1053,"Train",{"$f":"'raw data'!J1055","v":3},3,1,0,1]
[1054,"Train",{"$f":"'raw data'!J1056","v":4},4,3,0,1]
[1055,"Train",{"$f":"'raw data'!J1057","v":4},4,1,0,1]
[1056,"Train",{"$f":"'raw data'!J1058","v":3},3,3,0,0]
[1057,"Train",{"$f":"'raw data'!J1059","v":2},2,2,0,0]
[1058,"Train",{"$f":"'raw data'!J1060","v":2},2,1,0,1]
[1059,"Train",{"$f":"'raw data'!J1061","v":2},2,1,0,1]
[1060,"Train",{"$f":"'raw data'!J1062","v":4},4,4,0,0]
[1061,"Train",{"$f":"'raw data'!J1063","v":3},3,3,0,0]
[1062,"Train",{"$f":"'raw data'!J1064","v":1},1,1,0,0]
[1063,"Train",{"$f":"'raw data'!J1065","v":2},2,4,0,1]
[1064,"Train",{"$f":"'raw data'!J1066","v":2},2,2,0,0]
[1065,"Train",{"$f":"'raw data'!J1067","v":1},1,1,0,0]
[1066,"Train",{"$f":"'raw data'!J1068","v":1},1,4,0,1]
[1067,"Train",{"$f":"'raw data'!J1069","v":3},3,2,0,1]
[1068,"Train",{"$f":"'raw data'!J1070","v":1},1,1,0,0]
[1069,"Train",{"$f":"'raw data'!J1071","v":3},3,2,0,1]
[1070,"Train",{"$f":"'raw data'!J1072","v":3},3,4,0,1]
[1071,"Train",{"$f":"'raw data'!J1073","v":3},3,3,0,0]
[1072,"Train",{"$f":"'raw data'!J1074","v":2},2,1,0,1]
[1073,"Train",{"$f":"'raw data'!J1075","v":2},2,2,0,0]
[1074,"Train",{"$f":"'raw data'!J1076","v":4},4,4,0,0]
[1075,"Train",{"$f":"'raw data'!J1077","v":4},4,1,0,1]
[1076,"Train",{"$f":"'raw data'!J1078","v":1},1,1,0,0]
[1077,"Train",{"$f":"'raw data'!J1079","v":2},2,1,0,1]
[1078,"Train",{"$f":"'raw data'!J1080","v":1},1,1,0,0]
[1079,"Train",{"$f":"'raw data'!J1081","v":3},3,2,0,1]
[1080,"Train",{"$f":"'raw data'!J1082","v":3},3,3,0,0]
[1081,"Train",{"$f":"'raw data'!J1083","v":4},4,1,0,1]
[1082,"Train",{"$f":"'raw data'!J1084","v":3},3,3,0,0]
[1083,"Train",{"$f":"'raw data'!J1085","v":4},4,1,0,1]
[1084,"Train",{"$f":"'raw data'!J1086","v":1},1,1,0,0]
[1085,"Train",{"$f":"'raw data'!J1087","v":1},3,2,1,1]
[1086,"Train",{"$f":"'raw data'!J1088","v":1},1,4,0,1]
[1087,"Train",{"$f":"'raw data'!J1089","v":3},3,3,0,0]
[1088,"Train",{"$f":"'raw data'!J1090","v":4},4,1,0,1]
[1089,"Train",{"$f":"'raw data'!J1091","v":3},3,3,0,0]
[1090,"Train",{"$f":"'raw data'!J1092","v":2},2,2,{"$f":"IF(C1091=D1091,0,1)","v":0},{"$f":"IF(C1091=E1091,0,1)","v":0}]
[1091,"Train",{"$f":"'raw data'!J1093","v":1},1,2,0,1]
[1092,"Train",{"$f":"'raw data'!J1094","v":1},1,3,0,1]
[1093,"Train",{"$f":"'raw data'!J1095","v":4},4,3,0,1]
[1094,"Train",{"$f":"'raw data'!J1096","v":1},1,1,0,0]
[1095,"Train",{"$f":"'raw data'!J1097","v":2},2,4,0,1]
[1096,"Train",{"$f":"'raw data'!J1098","v":1},1,4,0,1]
[1097,"Train",{"$f":"'raw data'!J1099","v":2},3,1,1,1]
[1098,"Train",{"$f":"'raw data'!J1100","v":1},1,1,0,0]
[1099,"Train",{"$f":"'raw data'!J1101","v":3},3,1,0,1]
[1100,"Train",{"$f":"'raw data'!J1102","v":4},4,3,0,1]
[1101,"Train",{"$f":"'raw data'!J1103","v":3},3,3,0,0]
[1102,"Train",{"$f":"'raw data'!J1104","v":2},2,2,0,0]
[1103,"Train",{"$f":"'raw data'!J1105","v":1},1,1,0,0]
[1104,"Train",{"$f":"'raw data'!J1106","v":3},3,3,0,0]
[1105,"Train",{"$f":"'raw data'!J1107","v":3},3,2,0,1]
[1106,"Train",{"$f":"'raw data'!J1108","v":1},1,3,0,1]
[1107,"Train",{"$f":"'raw data'!J1109","v":1},1,1,0,0]
[1108,"Train",{"$f":"'raw data'!J1110","v":4},4,3,0,1]
[1109,"Train",{"$f":"'raw data'!J1111","v":3},3,4,0,1]
[1110,"Train",{"$f":"'raw data'!J1112","v":4},4,4,0,0]
[1111,"Train",{"$f":"'raw data'!J1113","v":2},2,2,0,0]
[1112,"Train",{"$f":"'raw data'!J1114","v":2},2,1,0,1]
[1113,"Train",{"$f":"'raw data'!J1115","v":2},2,1,0,1]
[1114,"Train",{"$f":"'raw data'!J1116","v":1},1,3,0,1]
[1115,"Train",{"$f":"'raw data'!J1117","v":1},1,1,0,0]
[1116,"Train",{"$f":"'raw data'!J1118","v":3},3,1,0,1]
[1117,"Train",{"$f":"'raw data'!J1119","v":2},3,3,1,1]
[1118,"Train",{"$f":"'raw data'!J1120","v":2},2,2,0,0]
[1119,"Train",{"$f":"'raw data'!J1121","v":4},4,3,0,1]
[1120,"Train",{"$f":"'raw data'!J1122","v":4},4,1,0,1]
[1121,"Train",{"$f":"'raw data'!J1123","v":2},2,1,0,1]
[1122,"Train",{"$f":"'raw data'!J1124","v":4},4,1,0,1]
[1123,"Train",{"$f":"'raw data'!J1125","v":4},4,3,0,1]
[1124,"Train",{"$f":"'raw data'!J1126","v":4},4,4,0,0]
[1125,"Train",{"$f":"'raw data'!J1127","v":2},2,2,0,0]
[1126,"Train",{"$f":"'raw data'!J1128","v":2},2,2,0,0]
[1127,"Train",{"$f":"'raw data'!J1129","v":3},3,3,0,0]
[1128,"Train",{"$f":"'raw data'!J1130","v":4},4,1,0,1]
[1129,"Train",{"$f":"'raw data'!J1131","v":4},4,1,0,1]
[1130,"Train",{"$f":"'raw data'!J1132","v":4},4,3,0,1]
[1131,"Train",{"$f":"'raw data'!J1133","v":2},2,2,0,0]
[1132,"Train",{"$f":"'raw data'!J1134","v":4},4,3,0,1]
[1133,"Train",{"$f":"'raw data'!J1135","v":4},4,3,0,1]
[1134,"Train",{"$f":"'raw data'!J1136","v":3},3,3,0,0]
[1135,"Train",{"$f":"'raw data'!J1137","v":4},4,3,0,1]
[1136,"Train",{"$f":"'raw data'!J1138","v":3},3,4,0,1]
[1137,"Train",{"$f":"'raw data'!J1139","v":1},1,1,0,0]
[1138,"Train",{"$f":"'raw data'!J1140","v":4},4,1,0,1]
[1139,"Train",{"$f":"'raw data'!J1141","v":3},3,3,0,0]
[1140,"Train",{"$f":"'raw data'!J1142","v":4},4,1,0,1]
[1141,"Train",{"$f":"'raw data'!J1143","v":4},4,2,0,1]
[1142,"Train",{"$f":"'raw data'!J1144","v":2},2,2,0,0]
[1143,"Train",{"$f":"'raw data'!J1145","v":4},4,4,0,0]
[1144,"Train",{"$f":"'raw data'!J1146","v":2},2,4,0,1]
[1145,"Train",{"$f":"'raw data'!J1147","v":3},3,4,0,1]
[1146,"Train",{"$f":"'raw data'!J1148","v":4},4,4,0,0]
[1147,"Train",{"$f":"'raw data'!J1149","v":4},4,3,0,1]
[1148,"Train",{"$f":"'raw data'!J1150","v":1},1,1,0,0]
[1149,"Train",{"$f":"'raw data'!J1151","v":3},3,2,0,1]
[1150,"Train",{"$f":"'raw data'!J1152","v":2},2,2,0,0]
[1151,"Train",{"$f":"'raw data'!J1153","v":1},1,2,0,1]
[1152,"Train",{"$f":"'raw data'!J1154","v":1},1,1,0,0]
[1153,"Train",{"$f":"'raw data'!J1155","v":3},3,4,0,1]
[1154,"Train",{"$f":"'raw data'!J1156","v":1},1,1,{"$f":"IF(C1155=D1155,0,1)","v":0},{"$f":"IF(C1155=E1155,0,1)","v":0}]
[1155,"Train",{"$f":"'raw data'!J1157","v":2},2,1,0,1]
[1156,"Train",{"$f":"'raw data'!J1158","v":2},2,2,0,0]
[1157,"Train",{"$f":"'raw data'!J1159","v":3},3,2,0,1]
[1158,"Train",{"$f":"'raw data'!J1160","v":3},3,2,0,1]
[1159,"Train",{"$f":"'raw data'!J1161","v":1},1,1,0,0]
[1160,"Train",{"$f":"'raw data'!J1162","v":1},1,1,0,0]
[1161,"Train",{"$f":"'raw data'!J1163","v":4},4,4,0,0]
[1162,"Train",{"$f":"'raw data'!J1164","v":1},1,3,0,1]
[1163,"Train",{"$f":"'raw data'!J1165","v":3},3,2,0,1]
[1164,"Train",{"$f":"'raw data'!J1166","v":4},4,4,0,0]
[1165,"Train",{"$f":"'raw data'!J1167","v":1},1,3,0,1]
[1166,"Train",{"$f":"'raw data'!J1168","v":1},1,1,0,0]
[1167,"Train",{"$f":"'raw data'!J1169","v":2},2,2,0,0]
[1168,"Train",{"$f":"'raw data'!J1170","v":4},4,1,0,1]
[1169,"Train",{"$f":"'raw data'!J1171","v":4},4,4,0,0]
[1170,"Train",{"$f":"'raw data'!J1172","v":2},2,2,0,0]
[1171,"Train",{"$f":"'raw data'!J1173","v":1},1,3,0,1]
[1172,"Train",{"$f":"'raw data'!J1174","v":1},1,1,0,0]
[1173,"Train",{"$f":"'raw data'!J1175","v":3},3,1,0,1]
[1174,"Train",{"$f":"'raw data'!J1176","v":1},1,1,0,0]
[1175,"Train",{"$f":"'raw data'!J1177","v":4},4,3,0,1]
[1176,"Train",{"$f":"'raw data'!J1178","v":4},4,4,0,0]
[1177,"Train",{"$f":"'raw data'!J1179","v":3},3,3,0,0]
[1178,"Train",{"$f":"'raw data'!J1180","v":2},2,2,0,0]
[1179,"Train",{"$f":"'raw data'!J1181","v":2},2,1,0,1]
[1180,"Train",{"$f":"'raw data'!J1182","v":4},4,4,0,0]
[1181,"Train",{"$f":"'raw data'!J1183","v":3},3,1,0,1]
[1182,"Train",{"$f":"'raw data'!J1184","v":3},3,3,0,0]
[1183,"Train",{"$f":"'raw data'!J1185","v":2},2,2,0,0]
[1184,"Train",{"$f":"'raw data'!J1186","v":2},2,2,0,0]
[1185,"Train",{"$f":"'raw data'!J1187","v":3},3,2,0,1]
[1186,"Train",{"$f":"'raw data'!J1188","v":1},1,1,0,0]
[1187,"Train",{"$f":"'raw data'!J1189","v":3},3,3,0,0]
[1188,"Train",{"$f":"'raw data'!J1190","v":1},1,1,0,0]
[1189,"Train",{"$f":"'raw data'!J1191","v":2},2,4,0,1]
[1190,"Train",{"$f":"'raw data'!J1192","v":3},3,3,0,0]
[1191,"Train",{"$f":"'raw data'!J1193","v":4},4,1,0,1]
[1192,"Train",{"$f":"'raw data'!J1194","v":2},2,2,0,0]
[1193,"Train",{"$f":"'raw data'!J1195","v":2},2,2,0,0]
[1194,"Train",{"$f":"'raw data'!J1196","v":4},4,1,0,1]
[1195,"Train",{"$f":"'raw data'!J1197","v":2},2,2,0,0]
[1196,"Train",{"$f":"'raw data'!J1198","v":3},3,3,0,0]
[1197,"Train",{"$f":"'raw data'!J1199","v":2},2,1,0,1]
[1198,"Train",{"$f":"'raw data'!J1200","v":3},3,3,0,0]
[1199,"Train",{"$f":"'raw data'!J1201","v":1},1,1,0,0]
[1200,"Train",{"$f":"'raw data'!J1202","v":2},2,1,0,1]
[1201,"Train",{"$f":"'raw data'!J1203","v":3},3,1,0,1]
[1202,"Train",{"$f":"'raw data'!J1204","v":3},3,2,0,1]
[1203,"Train",{"$f":"'raw data'!J1205","v":1},1,3,0,1]
[1204,"Train",{"$f":"'raw data'!J1206","v":1},1,4,0,1]
[1205,"Train",{"$f":"'raw data'!J1207","v":3},3,2,0,1]
[1206,"Train",{"$f":"'raw data'!J1208","v":1},1,3,0,1]
[1207,"Train",{"$f":"'raw data'!J1209","v":3},3,2,0,1]
[1208,"Train",{"$f":"'raw data'!J1210","v":2},2,2,0,0]
[1209,"Train",{"$f":"'raw data'!J1211","v":3},3,1,0,1]
[1210,"Train",{"$f":"'raw data'!J1212","v":3},3,3,0,0]
[1211,"Train",{"$f":"'raw data'!J1213","v":1},1,3,0,1]
[1212,"Train",{"$f":"'raw data'!J1214","v":3},3,1,0,1]
[1213,"Train",{"$f":"'raw data'!J1215","v":3},3,2,0,1]
[1214,"Train",{"$f":"'raw data'!J1216","v":1},1,1,0,0]
[1215,"Train",{"$f":"'raw data'!J1217","v":4},4,1,0,1]
[1216,"Train",{"$f":"'raw data'!J1218","v":4},4,4,0,0]
[1217,"Train",{"$f":"'raw data'!J1219","v":2},3,4,1,1]
[1218,"Train",{"$f":"'raw data'!J1220","v":3},3,1,{"$f":"IF(C1219=D1219,0,1)","v":0},{"$f":"IF(C1219=E1219,0,1)","v":1}]
[1219,"Train",{"$f":"'raw data'!J1221","v":1},1,3,0,1]
[1220,"Train",{"$f":"'raw data'!J1222","v":4},4,3,0,1]
[1221,"Train",{"$f":"'raw data'!J1223","v":1},1,4,0,1]
[1222,"Train",{"$f":"'raw data'!J1224","v":1},1,3,0,1]
[1223,"Train",{"$f":"'raw data'!J1225","v":3},3,4,0,1]
[1224,"Train",{"$f":"'raw data'!J1226","v":3},3,4,0,1]
[1225,"Train",{"$f":"'raw data'!J1227","v":4},4,3,0,1]
[1226,"Train",{"$f":"'raw data'!J1228","v":3},3,2,0,1]
[1227,"Train",{"$f":"'raw data'!J1229","v":1},1,1,0,0]
[1228,"Train",{"$f":"'raw data'!J1230","v":2},3,2,1,0]
[1229,"Train",{"$f":"'raw data'!J1231","v":3},3,1,0,1]
[1230,"Train",{"$f":"'raw data'!J1232","v":3},3,3,0,0]
[1231,"Train",{"$f":"'raw data'!J1233","v":1},1,3,0,1]
[1232,"Train",{"$f":"'raw data'!J1234","v":3},3,3,0,0]
[1233,"Train",{"$f":"'raw data'!J1235","v":1},1,3,0,1]
[1234,"Train",{"$f":"'raw data'!J1236","v":2},2,1,0,1]
[1235,"Train",{"$f":"'raw data'!J1237","v":1},1,1,0,0]
[1236,"Train",{"$f":"'raw data'!J1238","v":2},2,3,0,1]
[1237,"Train",{"$f":"'raw data'!J1239","v":3},3,4,0,1]
[1238,"Train",{"$f":"'raw data'!J1240","v":1},1,1,0,0]
[1239,"Train",{"$f":"'raw data'!J1241","v":2},2,1,0,1]
[1240,"Train",{"$f":"'raw data'!J1242","v":3},3,2,0,1]
[1241,"Train",{"$f":"'raw data'!J1243","v":4},4,4,0,0]
[1242,"Train",{"$f":"'raw data'!J1244","v":3},3,3,0,0]
[1243,"Train",{"$f":"'raw data'!J1245","v":3},3,4,0,1]
[1244,"Train",{"$f":"'raw data'!J1246","v":2},2,2,0,0]
[1245,"Train",{"$f":"'raw data'!J1247","v":3},3,2,0,1]
[1246,"Train",{"$f":"'raw data'!J1248","v":2},2,1,0,1]
[1247,"Train",{"$f":"'raw data'!J1249","v":1},1,4,0,1]
[1248,"Train",{"$f":"'raw data'!J1250","v":3},3,1,0,1]
[1249,"Train",{"$f":"'raw data'!J1251","v":2},2,2,0,0]
[1250,"Train",{"$f":"'raw data'!J1252","v":2},2,2,0,0]
[1251,"Train",{"$f":"'raw data'!J1253","v":1},1,3,0,1]
[1252,"Train",{"$f":"'raw data'!J1254","v":2},2,1,0,1]
[1253,"Train",{"$f":"'raw data'!J1255","v":2},2,2,0,0]
[1254,"Train",{"$f":"'raw data'!J1256","v":4},4,1,0,1]
[1255,"Train",{"$f":"'raw data'!J1257","v":1},1,1,0,0]
[1256,"Train",{"$f":"'raw data'!J1258","v":1},1,1,0,0]
[1257,"Train",{"$f":"'raw data'!J1259","v":1},1,1,0,0]
[1258,"Train",{"$f":"'raw data'!J1260","v":4},4,1,0,1]
[1259,"Train",{"$f":"'raw data'!J1261","v":1},1,1,0,0]
[1260,"Train",{"$f":"'raw data'!J1262","v":3},3,1,0,1]
[1261,"Train",{"$f":"'raw data'!J1263","v":4},4,4,0,0]
[1262,"Train",{"$f":"'raw data'!J1264","v":2},2,1,0,1]
[1263,"Train",{"$f":"'raw data'!J1265","v":1},1,1,0,0]
[1264,"Train",{"$f":"'raw data'!J1266","v":4},4,4,0,0]
[1265,"Train",{"$f":"'raw data'!J1267","v":1},1,1,0,0]
[1266,"Train",{"$f":"'raw data'!J1268","v":1},1,3,0,1]
[1267,"Train",{"$f":"'raw data'!J1269","v":2},2,2,0,0]
[1268,"Train",{"$f":"'raw data'!J1270","v":1},1,1,0,0]
[1269,"Train",{"$f":"'raw data'!J1271","v":2},2,2,0,0]
[1270,"Train",{"$f":"'raw data'!J1272","v":4},4,2,0,1]
[1271,"Train",{"$f":"'raw data'!J1273","v":4},4,1,0,1]
[1272,"Train",{"$f":"'raw data'!J1274","v":1},1,1,0,0]
[1273,"Train",{"$f":"'raw data'!J1275","v":2},2,4,0,1]
[1274,"Train",{"$f":"'raw data'!J1276","v":3},3,4,0,1]
[1275,"Train",{"$f":"'raw data'!J1277","v":4},4,3,0,1]
[1276,"Train",{"$f":"'raw data'!J1278","v":1},1,3,0,1]
[1277,"Train",{"$f":"'raw data'!J1279","v":4},4,1,0,1]
[1278,"Train",{"$f":"'raw data'!J1280","v":3},3,3,0,0]
[1279,"Train",{"$f":"'raw data'!J1281","v":3},3,3,0,0]
[1280,"Train",{"$f":"'raw data'!J1282","v":3},3,1,0,1]
[1281,"Train",{"$f":"'raw data'!J1283","v":4},4,3,0,1]
[1282,"Train",{"$f":"'raw data'!J1284","v":1},3,2,{"$f":"IF(C1283=D1283,0,1)","v":1},{"$f":"IF(C1283=E1283,0,1)","v":1}]
[1283,"Train",{"$f":"'raw data'!J1285","v":4},4,4,0,0]
[1284,"Train",{"$f":"'raw data'!J1286","v":3},3,3,0,0]
[1285,"Train",{"$f":"'raw data'!J1287","v":2},2,2,0,0]
[1286,"Train",{"$f":"'raw data'!J1288","v":4},4,4,0,0]
[1287,"Train",{"$f":"'raw data'!J1289","v":1},1,1,0,0]
[1288,"Train",{"$f":"'raw data'!J1290","v":2},2,1,0,1]
[1289,"Train",{"$f":"'raw data'!J1291","v":2},2,2,0,0]
[1290,"Train",{"$f":"'raw data'!J1292","v":2},2,1,0,1]
[1291,"Train",{"$f":"'raw data'!J1293","v":2},2,4,0,1]
[1292,"Train",{"$f":"'raw data'!J1294","v":3},3,1,0,1]
[1293,"Train",{"$f":"'raw data'!J1295","v":4},4,1,0,1]
[1294,"Train",{"$f":"'raw data'!J1296","v":3},3,2,0,1]
[1295,"Train",{"$f":"'raw data'!J1297","v":4},4,1,0,1]
[1296,"Train",{"$f":"'raw data'!J1298","v":3},1,3,1,0]
[1297,"Train",{"$f":"'raw data'!J1299","v":2},2,2,0,0]
[1298,"Train",{"$f":"'raw data'!J1300","v":2},2,2,0,0]
[1299,"Train",{"$f":"'raw data'!J1301","v":3},3,3,0,0]
[1300,"Train",{"$f":"'raw data'!J1302","v":4},4,1,0,1]
[1301,"Train",{"$f":"'raw data'!J1303","v":3},3,1,0,1]
[1302,"Train",{"$f":"'raw data'!J1304","v":2},2,2,0,0]
[1303,"Train",{"$f":"'raw data'!J1305","v":2},2,1,0,1]
[1304,"Train",{"$f":"'raw data'!J1306","v":1},1,3,0,1]
[1305,"Train",{"$f":"'raw data'!J1307","v":1},1,1,0,0]
[1306,"Train",{"$f":"'raw data'!J1308","v":1},1,1,0,0]
[1307,"Train",{"$f":"'raw data'!J1309","v":2},2,2,0,0]
[1308,"Train",{"$f":"'raw data'!J1310","v":2},2,2,0,0]
[1309,"Train",{"$f":"'raw data'!J1311","v":4},4,3,0,1]
[1310,"Train",{"$f":"'raw data'!J1312","v":2},2,2,0,0]
[1311,"Train",{"$f":"'raw data'!J1313","v":1},1,1,0,0]
[1312,"Train",{"$f":"'raw data'!J1314","v":1},1,1,0,0]
[1313,"Train",{"$f":"'raw data'!J1315","v":3},3,4,0,1]
[1314,"Train",{"$f":"'raw data'!J1316","v":1},1,1,0,0]
[1315,"Train",{"$f":"'raw data'!J1317","v":2},2,4,0,1]
[1316,"Train",{"$f":"'raw data'!J1318","v":3},3,4,0,1]
[1317,"Train",{"$f":"'raw data'!J1319","v":4},4,3,0,1]
[1318,"Train",{"$f":"'raw data'!J1320","v":1},1,3,0,1]
[1319,"Train",{"$f":"'raw data'!J1321","v":1},1,1,0,0]
[1320,"Train",{"$f":"'raw data'!J1322","v":3},3,3,0,0]
[1321,"Train",{"$f":"'raw data'!J1323","v":1},1,4,0,1]
[1322,"Train",{"$f":"'raw data'!J1324","v":2},2,4,0,1]
[1323,"Train",{"$f":"'raw data'!J1325","v":4},4,3,0,1]
[1324,"Train",{"$f":"'raw data'!J1326","v":3},3,3,0,0]
[1325,"Train",{"$f":"'raw data'!J1327","v":3},3,3,0,0]
[1326,"Train",{"$f":"'raw data'!J1328","v":4},4,2,0,1]
[1327,"Train",{"$f":"'raw data'!J1329","v":1},1,1,0,0]
[1328,"Train",{"$f":"'raw data'!J1330","v":1},1,1,0,0]
[1329,"Train",{"$f":"'raw data'!J1331","v":1},1,3,0,1]
[1330,"Train",{"$f":"'raw data'!J1332","v":2},2,1,0,1]
[1331,"Train",{"$f":"'raw data'!J1333","v":4},4,1,0,1]
[1332,"Train",{"$f":"'raw data'!J1334","v":4},4,2,0,1]
[1333,"Train",{"$f":"'raw data'!J1335","v":4},4,1,0,1]
[1334,"Train",{"$f":"'raw data'!J1336","v":3},3,3,0,0]
[1335,"Train",{"$f":"'raw data'!J1337","v":4},4,1,0,1]
[1336,"Train",{"$f":"'raw data'!J1338","v":1},1,3,0,1]
[1337,"Train",{"$f":"'raw data'!J1339","v":2},3,4,1,1]
[1338,"Train",{"$f":"'raw data'!J1340","v":1},1,1,0,0]
[1339,"Train",{"$f":"'raw data'!J1341","v":3},3,1,0,1]
[1340,"Train",{"$f":"'raw data'!J1342","v":2},2,4,0,1]
[1341,"Train",{"$f":"'raw data'!J1343","v":3},3,4,0,1]
[1342,"Train",{"$f":"'raw data'!J1344","v":2},2,2,0,0]
[1343,"Train",{"$f":"'raw data'!J1345","v":2},2,4,0,1]
[1344,"Train",{"$f":"'raw data'!J1346","v":1},1,3,0,1]
[1345,"Train",{"$f":"'raw data'!J1347","v":1},1,1,0,0]
[1346,"Train",{"$f":"'raw data'!J1348","v":2},2,1,{"$f":"IF(C1347=D1347,0,1)","v":0},{"$f":"IF(C1347=E1347,0,1)","v":1}]
[1347,"Train",{"$f":"'raw data'!J1349","v":2},2,2,0,0]
[1348,"Train",{"$f":"'raw data'!J1350","v":2},2,2,0,0]
[1349,"Train",{"$f":"'raw data'!J1351","v":2},3,2,1,0]
[1350,"Train",{"$f":"'raw data'!J1352","v":2},2,2,0,0]
[1351,"Train",{"$f":"'raw data'!J1353","v":3},3,3,0,0]
[1352,"Train",{"$f":"'raw data'!J1354","v":3},3,1,0,1]
[1353,"Train",{"$f":"'raw data'!J1355","v":1},1,3,0,1]
[1354,"Train",{"$f":"'raw data'!J1356","v":2},2,2,0,0]
[1355,"Train",{"$f":"'raw data'!J1357","v":3},3,1,0,1]
[1356,"Train",{"$f":"'raw data'!J1358","v":2},3,4,1,1]
[1357,"Train",{"$f":"'raw data'!J1359","v":2},2,1,0,1]
[1358,"Train",{"$f":"'raw data'!J1360","v":4},4,4,0,0]
[1359,"Train",{"$f":"'raw data'!J1361","v":3},3,1,0,1]
[1360,"Train",{"$f":"'raw data'!J1362","v":1},1,1,0,0]
[1361,"Train",{"$f":"'raw data'!J1363","v":2},2,2,0,0]
[1362,"Train",{"$f":"'raw data'!J1364","v":1},1,1,0,0]
[1363,"Train",{"$f":"'raw data'!J1365","v":3},3,2,0,1]
[1364,"Train",{"$f":"'raw data'!J1366","v":4},4,2,0,1]
[1365,"Train",{"$f":"'raw data'!J1367","v":4},4,3,0,1]
[1366,"Train",{"$f":"'raw data'!J1368","v":2},2,2,0,0]
[1367,"Train",{"$f":"'raw data'!J1369","v":2},2,2,0,0]
[1368,"Train",{"$f":"'raw data'!J1370","v":1},1,1,0,0]
[1369,"Train",{"$f":"'raw data'!J1371","v":4},4,4,0,0]
[1370,"Train",{"$f":"'raw data'!J1372","v":2},2,2,0,0]
[1371,"Train",{"$f":"'raw data'!J1373","v":1},1,1,0,0]
[1372,"Train",{"$f":"'raw data'!J1374","v":2},2,2,0,0]
[1373,"Train",{"$f":"'raw data'!J1375","v":2},2,2,0,0]
[1374,"Train",{"$f":"'raw data'!J1376","v":4},4,2,0,1]
[1375,"Train",{"$f":"'raw data'!J1377","v":2},2,1,0,1]
[1376,"Train",{"$f":"'raw data'!J1378","v":4},4,1,0,1]
[1377,"Train",{"$f":"'raw data'!J1379","v":1},1,3,0,1]
[1378,"Train",{"$f":"'raw data'!J1380","v":1},1,1,0,0]
[1379,"Train",{"$f":"'raw data'!J1381","v":2},3,1,1,1]
[1380,"Train",{"$f":"'raw data'!J1382","v":4},4,1,0,1]
[1381,"Train",{"$f":"'raw data'!J1383","v":2},2,2,0,0]
[1382,"Train",{"$f":"'raw data'!J1384","v":1},1,1,0,0]
[1383,"Train",{"$f":"'raw data'!J1385","v":3},3,1,0,1]
[1384,"Train",{"$f":"'raw data'!J1386","v":2},2,4,0,1]
[1385,"Train",{"$f":"'raw data'!J1387","v":3},3,4,0,1]
[1386,"Train",{"$f":"'raw data'!J1388","v":3},3,2,0,1]
[1387,"Train",{"$f":"'raw data'!J1389","v":2},2,2,0,0]
[1388,"Train",{"$f":"'raw data'!J1390","v":4},4,3,0,1]
[1389,"Train",{"$f":"'raw data'!J1391","v":4},4,4,0,0]
[1390,"Train",{"$f":"'raw data'!J1392","v":1},1,1,0,0]
[1391,"Train",{"$f":"'raw data'!J1393","v":4},4,2,0,1]
[1392,"Train",{"$f":"'raw data'!J1394","v":3},3,3,0,0]
[1393,"Train",{"$f":"'raw data'!J1395","v":3},3,1,0,1]
[1394,"Train",{"$f":"'raw data'!J1396","v":4},4,1,0,1]
[1395,"Train",{"$f":"'raw data'!J1397","v":2},2,1,0,1]
[1396,"Train",{"$f":"'raw data'!J1398","v":2},2,2,0,0]
[1397,"Train",{"$f":"'raw data'!J1399","v":3},3,1,0,1]
[1398,"Train",{"$f":"'raw data'!J1400","v":4},4,3,0,1]
[1399,"Train",{"$f":"'raw data'!J1401","v":2},2,2,0,0]
[1400,"Train",{"$f":"'raw data'!J1402","v":2},2,2,0,0]
[1401,"Test",{"$f":"'raw data'!J1403","v":1},1,1,0,0]
[1402,"Test",{"$f":"'raw data'!J1404","v":3},3,4,0,1]
[1403,"Test",{"$f":"'raw data'!J1405","v":3},3,3,0,0]
[1404,"Test",{"$f":"'raw data'!J1406","v":2},2,2,0,0]
[1405,"Test",{"$f":"'raw data'!J1407","v":4},4,3,0,1]
[1406,"Test",{"$f":"'raw data'!J1408","v":3},3,2,0,1]
[1407,"Test",{"$f":"'raw data'!J1409","v":4},4,1,0,1]
[1408,"Test",{"$f":"'raw data'!J1410","v":3},3,4,0,1]
[1409,"Test",{"$f":"'raw data'!J1411","v":4},4,1,0,1]
[1410,"Test",{"$f":"'raw data'!J1412","v":1},1,3,{"$f":"IF(C1411=D1411,0,1)","v":0},{"$f":"IF(C1411=E1411,0,1)","v":1}]
[1411,"Test",{"$f":"'raw data'!J1413","v":3},3,3,0,0]
[1412,"Test",{"$f":"'raw data'!J1414","v":4},4,4,0,0]
[1413,"Test",{"$f":"'raw data'!J1415","v":1},1,3,0,1]
[1414,"Test",{"$f":"'raw data'!J1416","v":1},1,1,0,0]
[1415,"Test",{"$f":"'raw data'!J1417","v":2},2,1,0,1]
[1416,"Test",{"$f":"'raw data'!J1418","v":4},4,1,0,1]
[1417,"Test",{"$f":"'raw data'!J1419","v":1},1,3,0,1]
[1418,"Test",{"$f":"'raw data'!J1420","v":4},4,3,0,1]
[1419,"Test",{"$f":"'raw data'!J1421","v":4},4,1,0,1]
[1420,"Test",{"$f":"'raw data'!J1422","v":3},3,4,0,1]
[1421,"Test",{"$f":"'raw data'!J1423","v":4},4,4,0,0]
[1422,"Test",{"$f":"'raw data'!J1424","v":3},3,2,0,1]
[1423,"Test",{"$f":"'raw data'!J1425","v":2},2,1,0,1]
[1424,"Test",{"$f":"'raw data'!J1426","v":4},4,1,0,1]
[1425,"Test",{"$f":"'raw data'!J1427","v":3},3,2,0,1]
[1426,"Test",{"$f":"'raw data'!J1428","v":3},3,1,0,1]
[1427,"Test",{"$f":"'raw data'!J1429","v":1},3,2,1,1]
[1428,"Test",{"$f":"'raw data'!J1430","v":3},3,3,0,0]
[1429,"Test",{"$f":"'raw data'!J1431","v":2},2,1,0,1]
[1430,"Test",{"$f":"'raw data'!J1432","v":4},4,3,0,1]
[1431,"Test",{"$f":"'raw data'!J1433","v":3},3,3,0,0]
[1432,"Test",{"$f":"'raw data'!J1434","v":3},3,3,0,0]
[1433,"Test",{"$f":"'raw data'!J1435","v":4},4,1,0,1]
[1434,"Test",{"$f":"'raw data'!J1436","v":4},4,1,0,1]
[1435,"Test",{"$f":"'raw data'!J1437","v":3},3,3,0,0]
[1436,"Test",{"$f":"'raw data'!J1438","v":1},1,3,0,1]
[1437,"Test",{"$f":"'raw data'!J1439","v":3},3,4,0,1]
[1438,"Test",{"$f":"'raw data'!J1440","v":1},1,3,0,1]
[1439,"Test",{"$f":"'raw data'!J1441","v":1},1,3,0,1]
[1440,"Test",{"$f":"'raw data'!J1442","v":2},3,4,1,1]
[1441,"Test",{"$f":"'raw data'!J1443","v":1},1,1,0,0]
[1442,"Test",{"$f":"'raw data'!J1444","v":3},3,1,0,1]
[1443,"Test",{"$f":"'raw data'!J1445","v":3},3,1,0,1]
[1444,"Test",{"$f":"'raw data'!J1446","v":1},1,1,0,0]
[1445,"Test",{"$f":"'raw data'!J1447","v":4},4,1,0,1]
[1446,"Test",{"$f":"'raw data'!J1448","v":2},2,1,0,1]
[1447,"Test",{"$f":"'raw data'!J1449","v":1},1,1,0,0]
[1448,"Test",{"$f":"'raw data'!J1450","v":1},1,4,0,1]
[1449,"Test",{"$f":"'raw data'!J1451","v":4},4,1,0,1]
[1450,"Test",{"$f":"'raw data'!J1452","v":3},3,3,0,0]
[1451,"Test",{"$f":"'raw data'!J1453","v":4},4,1,0,1]
[1452,"Test",{"$f":"'raw data'!J1454","v":3},3,2,0,1]
[1453,"Test",{"$f":"'raw data'!J1455","v":1},1,4,0,1]
[1454,"Test",{"$f":"'raw data'!J1456","v":2},3,4,1,1]
[1455,"Test",{"$f":"'raw data'!J1457","v":1},1,3,0,1]
[1456,"Test",{"$f":"'raw data'!J1458","v":2},2,1,0,1]
[1457,"Test",{"$f":"'raw data'!J1459","v":1},1,1,0,0]
[1458,"Test",{"$f":"'raw data'!J1460","v":4},4,3,0,1]
[1459,"Test",{"$f":"'raw data'!J1461","v":3},3,4,0,1]
[1460,"Test",{"$f":"'raw data'!J1462","v":4},4,4,0,0]
[1461,"Test",{"$f":"'raw data'!J1463","v":2},2,2,0,0]
[1462,"Test",{"$f":"'raw data'!J1464","v":4},4,3,0,1]
[1463,"Test",{"$f":"'raw data'!J1465","v":3},3,2,0,1]
[1464,"Test",{"$f":"'raw data'!J1466","v":3},3,1,0,1]
[1465,"Test",{"$f":"'raw data'!J1467","v":1},1,1,0,0]
[1466,"Test",{"$f":"'raw data'!J1468","v":2},3,4,1,1]
[1467,"Test",{"$f":"'raw data'!J1469","v":2},2,1,0,1]
[1468,"Test",{"$f":"'raw data'!J1470","v":3},3,2,0,1]
[1469,"Test",{"$f":"'raw data'!J1471","v":2},2,2,0,0]
[1470,"Test",{"$f":"'raw data'!J1472","v":1},1,1,0,0]
[1471,"Test",{"$f":"'raw data'!J1473","v":1},1,3,0,1]
[1472,"Test",{"$f":"'raw data'!J1474","v":2},2,2,0,0]
[1473,"Test",{"$f":"'raw data'!J1475","v":4},4,4,0,0]
[1474,"Test",{"$f":"'raw data'!J1476","v":4},4,4,{"$f":"IF(C1475=D1475,0,1)","v":0},{"$f":"IF(C1475=E1475,0,1)","v":0}]
[1475,"Test",{"$f":"'raw data'!J1477","v":1},1,1,0,0]
[1476,"Test",{"$f":"'raw data'!J1478","v":4},4,4,0,0]
[1477,"Test",{"$f":"'raw data'!J1479","v":1},1,3,0,1]
[1478,"Test",{"$f":"'raw data'!J1480","v":1},1,3,0,1]
[1479,"Test",{"$f":"'raw data'!J1481","v":4},4,3,0,1]
[1480,"Test",{"$f":"'raw data'!J1482","v":4},4,4,0,0]
[1481,"Test",{"$f":"'raw data'!J1483","v":2},2,1,0,1]
[1482,"Test",{"$f":"'raw data'!J1484","v":1},1,3,0,1]
[1483,"Test",{"$f":"'raw data'!J1485","v":1},1,1,0,0]
[1484,"Test",{"$f":"'raw data'!J1486","v":3},3,2,0,1]
[1485,"Test",{"$f":"'raw data'!J1487","v":4},4,3,0,1]
[1486,"Test",{"$f":"'raw data'!J1488","v":1},1,1,0,0]
[1487,"Test",{"$f":"'raw data'!J1489","v":4},4,3,0,1]
[1488,"Test",{"$f":"'raw data'!J1490","v":1},1,3,0,1]
[1489,"Test",{"$f":"'raw data'!J1491","v":1},1,1,0,0]
[1490,"Test",{"$f":"'raw data'!J1492","v":1},1,1,0,0]
[1491,"Test",{"$f":"'raw data'!J1493","v":1},1,1,0,0]
[1492,"Test",{"$f":"'raw data'!J1494","v":3},3,4,0,1]
[1493,"Test",{"$f":"'raw data'!J1495","v":1},1,1,0,0]
[1494,"Test",{"$f":"'raw data'!J1496","v":3},3,3,0,0]
[1495,"Test",{"$f":"'raw data'!J1497","v":4},4,1,0,1]
[1496,"Test",{"$f":"'raw data'!J1498","v":4},4,3,0,1]
[1497,"Test",{"$f":"'raw data'!J1499","v":4},4,3,0,1]
[1498,"Test",{"$f":"'raw data'!J1500","v":1},1,2,0,1]
[1499,"Test",{"$f":"'raw data'!J1501","v":4},4,1,0,1]
[1500,"Test",{"$f":"'raw data'!J1502","v":1},1,1,0,0]
[1501,"Test",{"$f":"'raw data'!J1503","v":4},4,4,0,0]
[1502,"Test",{"$f":"'raw data'!J1504","v":3},3,2,0,1]
[1503,"Test",{"$f":"'raw data'!J1505","v":2},2,2,0,0]
[1504,"Test",{"$f":"'raw data'!J1506","v":4},4,1,0,1]
[1505,"Test",{"$f":"'raw data'!J1507","v":1},1,1,0,0]
[1506,"Test",{"$f":"'raw data'!J1508","v":2},2,2,0,0]
[1507,"Test",{"$f":"'raw data'!J1509","v":3},3,1,0,1]
[1508,"Test",{"$f":"'raw data'!J1510","v":4},4,4,0,0]
[1509,"Test",{"$f":"'raw data'!J1511","v":3},3,3,0,0]
[1510,"Test",{"$f":"'raw data'!J1512","v":2},2,2,0,0]
[1511,"Test",{"$f":"'raw data'!J1513","v":1},1,1,0,0]
[1512,"Test",{"$f":"'raw data'!J1514","v":4},4,1,0,1]
[1513,"Test",{"$f":"'raw data'!J1515","v":2},2,2,0,0]
[1514,"Test",{"$f":"'raw data'!J1516","v":3},3,3,0,0]
[1515,"Test",{"$f":"'raw data'!J1517","v":4},4,1,0,1]
[1516,"Test",{"$f":"'raw data'!J1518","v":2},3,1,1,1]
[1517,"Test",{"$f":"'raw data'!J1519","v":4},4,2,0,1]
[1518,"Test",{"$f":"'raw data'!J1520","v":1},1,1,0,0]
[1519,"Test",{"$f":"'raw data'!J1521","v":2},2,2,0,0]
[1520,"Test",{"$f":"'raw data'!J1522","v":1},1,1,0,0]
[1521,"Test",{"$f":"'raw data'!J1523","v":2},2,1,0,1]
[1522,"Test",{"$f":"'raw data'!J1524","v":1},1,1,0,0]
[1523,"Test",{"$f":"'raw data'!J1525","v":3},3,3,0,0]
[1524,"Test",{"$f":"'raw data'!J1526","v":1},1,1,0,0]
[1525,"Test",{"$f":"'raw data'!J1527","v":4},4,1,0,1]
[1526,"Test",{"$f":"'raw data'!J1528","v":3},3,1,0,1]
[1527,"Test",{"$f":"'raw data'!J1529","v":2},2,2,0,0]
[1528,"Test",{"$f":"'raw data'!J1530","v":3},3,2,0,1]
[1529,"Test",{"$f":"'raw data'!J1531","v":2},2,1,0,1]
[1530,"Test",{"$f":"'raw data'!J1532","v":3},3,3,0,0]
[1531,"Test",{"$f":"'raw data'!J1533","v":2},2,2,0,0]
[1532,"Test",{"$f":"'raw data'!J1534","v":1},1,1,0,0]
[1533,"Test",{"$f":"'raw data'!J1535","v":1},1,3,0,1]
[1534,"Test",{"$f":"'raw data'!J1536","v":1},1,1,0,0]
[1535,"Test",{"$f":"'raw data'!J1537","v":4},4,4,0,0]
[1536,"Test",{"$f":"'raw data'!J1538","v":1},1,1,0,0]
[1537,"Test",{"$f":"'raw data'!J1539","v":2},2,2,0,0]
[1538,"Test",{"$f":"'raw data'!J1540","v":3},3,3,{"$f":"IF(C1539=D1539,0,1)","v":0},{"$f":"IF(C1539=E1539,0,1)","v":0}]
[1539,"Test",{"$f":"'raw data'!J1541","v":2},2,2,0,0]
[1540,"Test",{"$f":"'raw data'!J1542","v":1},1,3,0,1]
[1541,"Test",{"$f":"'raw data'!J1543","v":4},4,1,0,1]
[1542,"Test",{"$f":"'raw data'!J1544","v":2},2,2,0,0]
[1543,"Test",{"$f":"'raw data'!J1545","v":3},3,4,0,1]
[1544,"Test",{"$f":"'raw data'!J1546","v":2},3,2,1,0]
[1545,"Test",{"$f":"'raw data'!J1547","v":1},1,2,0,1]
[1546,"Test",{"$f":"'raw data'!J1548","v":2},2,1,0,1]
[1547,"Test",{"$f":"'raw data'!J1549","v":1},1,3,0,1]
[1548,"Test",{"$f":"'raw data'!J1550","v":1},1,1,0,0]
[1549,"Test",{"$f":"'raw data'!J1551","v":4},4,1,0,1]
[1550,"Test",{"$f":"'raw data'!J1552","v":4},4,1,0,1]
[1551,"Test",{"$f":"'raw data'!J1553","v":1},1,3,0,1]
[1552,"Test",{"$f":"'raw data'!J1554","v":4},4,4,0,0]
[1553,"Test",{"$f":"'raw data'!J1555","v":2},2,2,0,0]
[1554,"Test",{"$f":"'raw data'!J1556","v":4},4,1,0,1]
[1555,"Test",{"$f":"'raw data'!J1557","v":1},1,1,0,0]
[1556,"Test",{"$f":"'raw data'!J1558","v":2},2,2,0,0]
[1557,"Test",{"$f":"'raw data'!J1559","v":1},1,1,0,0]
[1558,"Test",{"$f":"'raw data'!J1560","v":2},2,1,0,1]
[1559,"Test",{"$f":"'raw data'!J1561","v":2},3,1,1,1]
[1560,"Test",{"$f":"'raw data'!J1562","v":3},3,2,0,1]
[1561,"Test",{"$f":"'raw data'!J1563","v":4},4,1,0,1]
[1562,"Test",{"$f":"'raw data'!J1564","v":4},4,4,0,0]
[1563,"Test",{"$f":"'raw data'!J1565","v":3},3,2,0,1]
[1564,"Test",{"$f":"'raw data'!J1566","v":3},3,2,0,1]
[1565,"Test",{"$f":"'raw data'!J1567","v":4},4,2,0,1]
[1566,"Test",{"$f":"'raw data'!J1568","v":2},2,2,0,0]
[1567,"Test",{"$f":"'raw data'!J1569","v":4},4,1,0,1]
[1568,"Test",{"$f":"'raw data'!J1570","v":4},4,2,0,1]
[1569,"Test",{"$f":"'raw data'!J1571","v":2},2,1,0,1]
[1570,"Test",{"$f":"'raw data'!J1572","v":3},3,2,0,1]
[1571,"Test",{"$f":"'raw data'!J1573","v":2},2,2,0,0]
[1572,"Test",{"$f":"'raw data'!J1574","v":3},3,1,0,1]
[1573,"Test",{"$f":"'raw data'!J1575","v":1},1,1,0,0]
[1574,"Test",{"$f":"'raw data'!J1576","v":1},1,1,0,0]
[1575,"Test",{"$f":"'raw data'!J1577","v":2},2,1,0,1]
[1576,"Test",{"$f":"'raw data'!J1578","v":4},4,4,0,0]
[1577,"Test",{"$f":"'raw data'!J1579","v":2},2,1,0,1]
[1578,"Test",{"$f":"'raw data'!J1580","v":1},1,1,0,0]
[1579,"Test",{"$f":"'raw data'!J1581","v":4},4,1,0,1]
[1580,"Test",{"$f":"'raw data'!J1582","v":1},1,3,0,1]
[1581,"Test",{"$f":"'raw data'!J1583","v":3},3,4,0,1]
[1582,"Test",{"$f":"'raw data'!J1584","v":4},4,1,0,1]
[1583,"Test",{"$f":"'raw data'!J1585","v":4},4,3,0,1]
[1584,"Test",{"$f":"'raw data'!J1586","v":1},1,4,0,1]
[1585,"Test",{"$f":"'raw data'!J1587","v":4},4,1,0,1]
[1586,"Test",{"$f":"'raw data'!J1588","v":3},3,3,0,0]
[1587,"Test",{"$f":"'raw data'!J1589","v":3},3,3,0,0]
[1588,"Test",{"$f":"'raw data'!J1590","v":2},3,1,1,1]
[1589,"Test",{"$f":"'raw data'!J1591","v":1},1,2,0,1]
[1590,"Test",{"$f":"'raw data'!J1592","v":4},4,4,0,0]
[1591,"Test",{"$f":"'raw data'!J1593","v":3},3,4,0,1]
[1592,"Test",{"$f":"'raw data'!J1594","v":2},2,3,0,1]
[1593,"Test",{"$f":"'raw data'!J1595","v":1},1,1,0,0]
[1594,"Test",{"$f":"'raw data'!J1596","v":2},2,1,0,1]
[1595,"Test",{"$f":"'raw data'!J1597","v":2},2,2,0,0]
[1596,"Test",{"$f":"'raw data'!J1598","v":3},3,3,0,0]
[1597,"Test",{"$f":"'raw data'!J1599","v":4},4,4,0,0]
[1598,"Test",{"$f":"'raw data'!J1600","v":1},1,1,0,0]
[1599,"Test",{"$f":"'raw data'!J1601","v":3},3,3,0,0]
[1600,"Test",{"$f":"'raw data'!J1602","v":4},4,1,0,1]
[1601,"Test",{"$f":"'raw data'!J1603","v":3},3,3,0,0]
[1602,"Test",{"$f":"'raw data'!J1604","v":2},3,1,{"$f":"IF(C1603=D1603,0,1)","v":1},{"$f":"IF(C1603=E1603,0,1)","v":1}]
[1603,"Test",{"$f":"'raw data'!J1605","v":1},1,1,0,0]
[1604,"Test",{"$f":"'raw data'!J1606","v":2},2,2,0,0]
[1605,"Test",{"$f":"'raw data'!J1607","v":3},3,1,0,1]
[1606,"Test",{"$f":"'raw data'!J1608","v":4},4,4,0,0]
[1607,"Test",{"$f":"'raw data'!J1609","v":4},4,1,0,1]
[1608,"Test",{"$f":"'raw data'!J1610","v":4},4,1,0,1]
[1609,"Test",{"$f":"'raw data'!J1611","v":1},1,3,0,1]
[1610,"Test",{"$f":"'raw data'!J1612","v":3},3,1,0,1]
[1611,"Test",{"$f":"'raw data'!J1613","v":1},1,4,0,1]
[1612,"Test",{"$f":"'raw data'!J1614","v":2},2,4,0,1]
[1613,"Test",{"$f":"'raw data'!J1615","v":1},1,1,0,0]
[1614,"Test",{"$f":"'raw data'!J1616","v":3},3,1,0,1]
[1615,"Test",{"$f":"'raw data'!J1617","v":1},1,1,0,0]
[1616,"Test",{"$f":"'raw data'!J1618","v":1},1,1,0,0]
[1617,"Test",{"$f":"'raw data'!J1619","v":3},3,1,0,1]
[1618,"Test",{"$f":"'raw data'!J1620","v":1},1,4,0,1]
[1619,"Test",{"$f":"'raw data'!J1621","v":3},3,3,0,0]
[1620,"Test",{"$f":"'raw data'!J1622","v":2},3,4,1,1]
[1621,"Test",{"$f":"'raw data'!J1623","v":1},1,3,0,1]
[1622,"Test",{"$f":"'raw data'!J1624","v":2},2,1,0,1]
[1623,"Test",{"$f":"'raw data'!J1625","v":2},2,2,0,0]
[1624,"Test",{"$f":"'raw data'!J1626","v":2},2,2,0,0]
[1625,"Test",{"$f":"'raw data'!J1627","v":2},2,4,0,1]
[1626,"Test",{"$f":"'raw data'!J1628","v":4},4,1,0,1]
[1627,"Test",{"$f":"'raw data'!J1629","v":4},4,3,0,1]
[1628,"Test",{"$f":"'raw data'!J1630","v":4},4,3,0,1]
[1629,"Test",{"$f":"'raw data'!J1631","v":1},1,3,0,1]
[1630,"Test",{"$f":"'raw data'!J1632","v":4},4,4,0,0]
[1631,"Test",{"$f":"'raw data'!J1633","v":2},3,4,1,1]
[1632,"Test",{"$f":"'raw data'!J1634","v":1},1,1,0,0]
[1633,"Test",{"$f":"'raw data'!J1635","v":4},4,4,0,0]
[1634,"Test",{"$f":"'raw data'!J1636","v":4},4,3,0,1]
[1635,"Test",{"$f":"'raw data'!J1637","v":4},4,3,0,1]
[1636,"Test",{"$f":"'raw data'!J1638","v":3},3,2,0,1]
[1637,"Test",{"$f":"'raw data'!J1639","v":3},3,4,0,1]
[1638,"Test",{"$f":"'raw data'!J1640","v":4},4,4,0,0]
[1639,"Test",{"$f":"'raw data'!J1641","v":2},2,2,0,0]
[1640,"Test",{"$f":"'raw data'!J1642","v":3},3,3,0,0]
[1641,"Test",{"$f":"'raw data'!J1643","v":2},2,2,0,0]
[1642,"Test",{"$f":"'raw data'!J1644","v":2},2,4,0,1]
[1643,"Test",{"$f":"'raw data'!J1645","v":2},3,3,1,1]
[1644,"Test",{"$f":"'raw data'!J1646","v":2},2,4,0,1]
[1645,"Test",{"$f":"'raw data'!J1647","v":2},2,4,0,1]
[1646,"Test",{"$f":"'raw data'!J1648","v":3},3,3,0,0]
[1647,"Test",{"$f":"'raw data'!J1649","v":1},1,1,0,0]
[1648,"Test",{"$f":"'raw data'!J1650","v":1},1,1,0,0]
[1649,"Test",{"$f":"'raw data'!J1651","v":2},2,2,0,0]
[1650,"Test",{"$f":"'raw data'!J1652","v":1},1,3,0,1]
[1651,"Test",{"$f":"'raw data'!J1653","v":4},4,4,0,0]
[1652,"Test",{"$f":"'raw data'!J1654","v":4},4,3,0,1]
[1653,"Test",{"$f":"'raw data'!J1655","v":4},4,1,0,1]
[1654,"Test",{"$f":"'raw data'!J1656","v":4},4,3,0,1]
[1655,"Test",{"$f":"'raw data'!J1657","v":4},4,4,0,0]
[1656,"Test",{"$f":"'raw data'!J1658","v":1},1,3,0,1]
[1657,"Test",{"$f":"'raw data'!J1659","v":4},4,4,0,0]
[1658,"Test",{"$f":"'raw data'!J1660","v":4},4,3,0,1]
[1659,"Test",{"$f":"'raw data'!J1661","v":3},3,2,0,1]
[1660,"Test",{"$f":"'raw data'!J1662","v":1},1,3,0,1]
[1661,"Test",{"$f":"'raw data'!J1663","v":3},3,4,0,1]
[1662,"Test",{"$f":"'raw data'!J1664","v":1},1,3,0,1]
[1663,"Test",{"$f":"'raw data'!J1665","v":2},2,2,0,0]
[1664,"Test",{"$f":"'raw data'!J1666","v":3},3,1,0,1]
[1665,"Test",{"$f":"'raw data'!J1667","v":2},2,2,0,0]
[1666,"Test",{"$f":"'raw data'!J1668","v":3},3,1,{"$f":"IF(C1667=D1667,0,1)","v":0},{"$f":"IF(C1667=E1667,0,1)","v":1}]
[1667,"Test",{"$f":"'raw data'!J1669","v":3},4,4,1,1]
[1668,"Test",{"$f":"'raw data'!J1670","v":4},4,4,0,0]
[1669,"Test",{"$f":"'raw data'!J1671","v":4},4,3,0,1]
[1670,"Test",{"$f":"'raw data'!J1672","v":4},4,1,0,1]
[1671,"Test",{"$f":"'raw data'!J1673","v":2},3,1,1,1]
[1672,"Test",{"$f":"'raw data'!J1674","v":2},2,1,0,1]
[1673,"Test",{"$f":"'raw data'!J1675","v":2},2,1,0,1]
[1674,"Test",{"$f":"'raw data'!J1676","v":2},2,2,0,0]
[1675,"Test",{"$f":"'raw data'!J1677","v":2},2,2,0,0]
[1676,"Test",{"$f":"'raw data'!J1678","v":3},3,4,0,1]
[1677,"Test",{"$f":"'raw data'!J1679","v":2},2,1,0,1]
[1678,"Test",{"$f":"'raw data'!J1680","v":1},1,1,0,0]
[1679,"Test",{"$f":"'raw data'!J1681","v":4},4,1,0,1]
[1680,"Test",{"$f":"'raw data'!J1682","v":3},3,2,0,1]
[1681,"Test",{"$f":"'raw data'!J1683","v":3},3,1,0,1]
[1682,"Test",{"$f":"'raw data'!J1684","v":3},3,2,0,1]
[1683,"Test",{"$f":"'raw data'!J1685","v":4},4,1,0,1]
[1684,"Test",{"$f":"'raw data'!J1686","v":1},1,4,0,1]
[1685,"Test",{"$f":"'raw data'!J1687","v":3},3,1,0,1]
[1686,"Test",{"$f":"'raw data'!J1688","v":2},2,1,0,1]
[1687,"Test",{"$f":"'raw data'!J1689","v":2},2,2,0,0]
[1688,"Test",{"$f":"'raw data'!J1690","v":2},3,3,1,1]
[1689,"Test",{"$f":"'raw data'!J1691","v":3},3,4,0,1]
[1690,"Test",{"$f":"'raw data'!J1692","v":1},1,1,0,0]
[1691,"Test",{"$f":"'raw data'!J1693","v":1},1,1,0,0]
[1692,"Test",{"$f":"'raw data'!J1694","v":4},4,1,0,1]
[1693,"Test",{"$f":"'raw data'!J1695","v":3},3,3,0,0]
[1694,"Test",{"$f":"'raw data'!J1696","v":1},3,1,1,0]
[1695,"Test",{"$f":"'raw data'!J1697","v":2},2,1,0,1]
[1696,"Test",{"$f":"'raw data'!J1698","v":2},3,2,1,0]
[1697,"Test",{"$f":"'raw data'!J1699","v":2},2,1,0,1]
[1698,"Test",{"$f":"'raw data'!J1700","v":2},2,2,0,0]
[1699,"Test",{"$f":"'raw data'!J1701","v":3},3,3,0,0]
[1700,"Test",{"$f":"'raw data'!J1702","v":2},2,2,0,0]
[1701,"Test",{"$f":"'raw data'!J1703","v":3},3,2,0,1]
[1702,"Test",{"$f":"'raw data'!J1704","v":3},3,3,0,0]
[1703,"Test",{"$f":"'raw data'!J1705","v":3},3,3,0,0]
[1704,"Test",{"$f":"'raw data'!J1706","v":2},2,2,0,0]
[1705,"Test",{"$f":"'raw data'!J1707","v":3},3,1,0,1]
[1706,"Test",{"$f":"'raw data'!J1708","v":4},4,1,0,1]
[1707,"Test",{"$f":"'raw data'!J1709","v":1},1,2,0,1]
[1708,"Test",{"$f":"'raw data'!J1710","v":1},1,1,0,0]
[1709,"Test",{"$f":"'raw data'!J1711","v":4},4,3,0,1]
[1710,"Test",{"$f":"'raw data'!J1712","v":4},4,3,0,1]
[1711,"Test",{"$f":"'raw data'!J1713","v":1},1,1,0,0]
[1712,"Test",{"$f":"'raw data'!J1714","v":3},3,4,0,1]
[1713,"Test",{"$f":"'raw data'!J1715","v":1},1,2,0,1]
[1714,"Test",{"$f":"'raw data'!J1716","v":3},3,2,0,1]
[1715,"Test",{"$f":"'raw data'!J1717","v":4},4,3,0,1]
[1716,"Test",{"$f":"'raw data'!J1718","v":2},2,2,0,0]
[1717,"Test",{"$f":"'raw data'!J1719","v":1},1,4,0,1]
[1718,"Test",{"$f":"'raw data'!J1720","v":1},1,3,0,1]
[1719,"Test",{"$f":"'raw data'!J1721","v":3},3,1,0,1]
[1720,"Test",{"$f":"'raw data'!J1722","v":4},4,4,0,0]
[1721,"Test",{"$f":"'raw data'!J1723","v":2},3,1,1,1]
[1722,"Test",{"$f":"'raw data'!J1724","v":3},3,2,0,1]
[1723,"Test",{"$f":"'raw data'!J1725","v":1},1,3,0,1]
[1724,"Test",{"$f":"'raw data'!J1726","v":1},1,3,0,1]
[1725,"Test",{"$f":"'raw data'!J1727","v":4},4,1,0,1]
[1726,"Test",{"$f":"'raw data'!J1728","v":4},4,1,0,1]
[1727,"Test",{"$f":"'raw data'!J1729","v":2},2,2,0,0]
[1728,"Test",{"$f":"'raw data'!J1730","v":3},3,2,0,1]
[1729,"Test",{"$f":"'raw data'!J1731","v":3},3,4,0,1]
[1730,"Test",{"$f":"'raw data'!J1732","v":1},1,1,{"$f":"IF(C1731=D1731,0,1)","v":0},{"$f":"IF(C1731=E1731,0,1)","v":0}]
[1731,"Test",{"$f":"'raw data'!J1733","v":3},3,3,0,0]
[1732,"Test",{"$f":"'raw data'!J1734","v":4},4,3,0,1]
[1733,"Test",{"$f":"'raw data'!J1735","v":4},4,3,0,1]
[1734,"Test",{"$f":"'raw data'!J1736","v":3},3,1,0,1]
[1735,"Test",{"$f":"'raw data'!J1737","v":2},2,4,0,1]
[1736,"Test",{"$f":"'raw data'!J1738","v":1},1,3,0,1]
[1737,"Test",{"$f":"'raw data'!J1739","v":2},2,4,0,1]
[1738,"Test",{"$f":"'raw data'!J1740","v":1},1,1,0,0]
[1739,"Test",{"$f":"'raw data'!J1741","v":3},3,1,0,1]
[1740,"Test",{"$f":"'raw data'!J1742","v":1},1,2,0,1]
[1741,"Test",{"$f":"'raw data'!J1743","v":4},4,4,0,0]
[1742,"Test",{"$f":"'raw data'!J1744","v":3},3,2,0,1]
[1743,"Test",{"$f":"'raw data'!J1745","v":2},2,2,0,0]
[1744,"Test",{"$f":"'raw data'!J1746","v":3},3,1,0,1]
[1745,"Test",{"$f":"'raw data'!J1747","v":2},3,1,1,1]
[1746,"Test",{"$f":"'raw data'!J1748","v":4},4,3,0,1]
[1747,"Test",{"$f":"'raw data'!J1749","v":4},4,3,0,1]
[1748,"Test",{"$f":"'raw data'!J1750","v":1},1,1,0,0]
[1749,"Test",{"$f":"'raw data'!J1751","v":4},4,4,0,0]
[1750,"Test",{"$f":"'raw data'!J1752","v":2},2,2,0,0]
[1751,"Test",{"$f":"'raw data'!J1753","v":1},1,1,0,0]
[1752,"Test",{"$f":"'raw data'!J1754","v":4},4,2,0,1]
[1753,"Test",{"$f":"'raw data'!J1755","v":3},3,3,0,0]
[1754,"Test",{"$f":"'raw data'!J1756","v":2},2,1,0,1]
[1755,"Test",{"$f":"'raw data'!J1757","v":2},2,2,0,0]
[1756,"Test",{"$f":"'raw data'!J1758","v":3},3,1,0,1]
[1757,"Test",{"$f":"'raw data'!J1759","v":3},3,4,0,1]
[1758,"Test",{"$f":"'raw data'!J1760","v":4},4,1,0,1]
[1759,"Test",{"$f":"'raw data'!J1761","v":1},1,1,0,0]
[1760,"Test",{"$f":"'raw data'!J1762","v":2},2,2,0,0]
[1761,"Test",{"$f":"'raw data'!J1763","v":3},3,3,0,0]
[1762,"Test",{"$f":"'raw data'!J1764","v":1},1,1,0,0]
[1763,"Test",{"$f":"'raw data'!J1765","v":3},3,1,0,1]
[1764,"Test",{"$f":"'raw data'!J1766","v":3},3,1,0,1]
[1765,"Test",{"$f":"'raw data'!J1767","v":1},1,1,0,0]
[1766,"Test",{"$f":"'raw data'!J1768","v":3},3,4,0,1]
[1767,"Test",{"$f":"'raw data'!J1769","v":1},1,1,0,0]
[1768,"Test",{"$f":"'raw data'!J1770","v":1},1,1,0,0]
[1769,"Test",{"$f":"'raw data'!J1771","v":3},3,4,0,1]
[1770,"Test",{"$f":"'raw data'!J1772","v":3},3,1,0,1]
[1771,"Test",{"$f":"'raw data'!J1773","v":1},1,1,0,0]
[1772,"Test",{"$f":"'raw data'!J1774","v":2},3,3,1,1]
[1773,"Test",{"$f":"'raw data'!J1775","v":1},1,4,0,1]
[1774,"Test",{"$f":"'raw data'!J1776","v":2},2,1,0,1]
[1775,"Test",{"$f":"'raw data'!J1777","v":3},3,1,0,1]
[1776,"Test",{"$f":"'raw data'!J1778","v":4},4,1,0,1]
[1777,"Test",{"$f":"'raw data'!J1779","v":1},1,1,0,0]
[1778,"Test",{"$f":"'raw data'!J1780","v":1},1,3,0,1]
[1779,"Test",{"$f":"'raw data'!J1781","v":3},3,3,0,0]
[1780,"Test",{"$f":"'raw data'!J1782","v":1},1,1,0,0]
[1781,"Test",{"$f":"'raw data'!J1783","v":2},2,1,0,1]
[1782,"Test",{"$f":"'raw data'!J1784","v":1},1,1,0,0]
[1783,"Test",{"$f":"'raw data'!J1785","v":1},1,2,0,1]
[1784,"Test",{"$f":"'raw data'!J1786","v":3},3,3,0,0]
[1785,"Test",{"$f":"'raw data'!J1787","v":2},2,2,0,0]
[1786,"Test",{"$f":"'raw data'!J1788","v":3},3,3,0,0]
[1787,"Test",{"$f":"'raw data'!J1789","v":3},3,2,0,1]
[1788,"Test",{"$f":"'raw data'!J1790","v":2},2,1,0,1]
[1789,"Test",{"$f":"'raw data'!J1791","v":3},3,2,0,1]
[1790,"Test",{"$f":"'raw data'!J1792","v":4},4,1,0,1]
[1791,"Test",{"$f":"'raw data'!J1793","v":1},1,3,0,1]
[1792,"Test",{"$f":"'raw data'!J1794","v":1},1,2,0,1]
[1793,"Test",{"$f":"'raw data'!J1795","v":4},4,1,0,1]
[1794,"Test",{"$f":"'raw data'!J1796","v":3},3,3,{"$f":"IF(C1795=D1795,0,1)","v":0},{"$f":"IF(C1795=E1795,0,1)","v":0}]
[1795,"Test",{"$f":"'raw data'!J1797","v":3},3,3,0,0]
[1796,"Test",{"$f":"'raw data'!J1798","v":2},3,3,1,1]
[1797,"Test",{"$f":"'raw data'!J1799","v":1},1,1,0,0]
[1798,"Test",{"$f":"'raw data'!J1800","v":4},4,1,0,1]
[1799,"Test",{"$f":"'raw data'!J1801","v":4},4,1,0,1]
[1800,"Test",{"$f":"'raw data'!J1802","v":2},3,2,1,0]
[1801,"Test",{"$f":"'raw data'!J1803","v":2},2,2,0,0]
[1802,"Test",{"$f":"'raw data'!J1804","v":1},1,1,0,0]
[1803,"Test",{"$f":"'raw data'!J1805","v":4},4,4,0,0]
[1804,"Test",{"$f":"'raw data'!J1806","v":1},1,1,0,0]
[1805,"Test",{"$f":"'raw data'!J1807","v":2},2,2,0,0]
[1806,"Test",{"$f":"'raw data'!J1808","v":2},2,4,0,1]
[1807,"Test",{"$f":"'raw data'!J1809","v":1},1,4,0,1]
[1808,"Test",{"$f":"'raw data'!J1810","v":1},1,1,0,0]
[1809,"Test",{"$f":"'raw data'!J1811","v":3},3,2,0,1]
[1810,"Test",{"$f":"'raw data'!J1812","v":3},3,3,0,0]
[1811,"Test",{"$f":"'raw data'!J1813","v":1},1,1,0,0]
[1812,"Test",{"$f":"'raw data'!J1814","v":4},4,3,0,1]
[1813,"Test",{"$f":"'raw data'!J1815","v":2},2,2,0,0]
[1814,"Test",{"$f":"'raw data'!J1816","v":3},3,3,0,0]
[1815,"Test",{"$f":"'raw data'!J1817","v":2},2,2,0,0]
[1816,"Test",{"$f":"'raw data'!J1818","v":1},1,3,0,1]
[1817,"Test",{"$f":"'raw data'!J1819","v":3},3,2,0,1]
[1818,"Test",{"$f":"'raw data'!J1820","v":3},3,4,0,1]
[1819,"Test",{"$f":"'raw data'!J1821","v":3},3,4,0,1]
[1820,"Test",{"$f":"'raw data'!J1822","v":2},2,4,0,1]
[1821,"Test",{"$f":"'raw data'!J1823","v":4},4,1,0,1]
[1822,"Test",{"$f":"'raw data'!J1824","v":1},1,3,0,1]
[1823,"Test",{"$f":"'raw data'!J1825","v":3},3,3,0,0]
[1824,"Test",{"$f":"'raw data'!J1826","v":1},1,3,0,1]
[1825,"Test",{"$f":"'raw data'!J1827","v":4},4,1,0,1]
[1826,"Test",{"$f":"'raw data'!J1828","v":2},3,4,1,1]
[1827,"Test",{"$f":"'raw data'!J1829","v":2},2,2,0,0]
[1828,"Test",{"$f":"'raw data'!J1830","v":2},2,2,0,0]
[1829,"Test",{"$f":"'raw data'!J1831","v":4},4,1,0,1]
[1830,"Test",{"$f":"'raw data'!J1832","v":2},3,1,1,1]
[1831,"Test",{"$f":"'raw data'!J1833","v":4},4,1,0,1]
[1832,"Test",{"$f":"'raw data'!J1834","v":1},1,3,0,1]
[1833,"Test",{"$f":"'raw data'!J1835","v":1},1,2,0,1]
[1834,"Test",{"$f":"'raw data'!J1836","v":3},3,4,0,1]
[1835,"Test",{"$f":"'raw data'!J1837","v":3},3,1,0,1]
[1836,"Test",{"$f":"'raw data'!J1838","v":2},2,2,0,0]
[1837,"Test",{"$f":"'raw data'!J1839","v":3},3,4,0,1]
[1838,"Test",{"$f":"'raw data'!J1840","v":2},2,1,0,1]
[1839,"Test",{"$f":"'raw data'!J1841","v":2},2,2,0,0]
[1840,"Test",{"$f":"'raw data'!J1842","v":2},2,1,0,1]
[1841,"Test",{"$f":"'raw data'!J1843","v":3},3,3,0,0]
[1842,"Test",{"$f":"'raw data'!J1844","v":4},4,1,0,1]
[1843,"Test",{"$f":"'raw data'!J1845","v":3},3,3,0,0]
[1844,"Test",{"$f":"'raw data'!J1846","v":2},2,4,0,1]
[1845,"Test",{"$f":"'raw data'!J1847","v":1},1,1,0,0]
[1846,"Test",{"$f":"'raw data'!J1848","v":1},1,1,0,0]
[1847,"Test",{"$f":"'raw data'!J1849","v":2},2,2,0,0]
[1848,"Test",{"$f":"'raw data'!J1850","v":1},1,3,0,1]
[1849,"Test",{"$f":"'raw data'!J1851","v":1},1,2,0,1]
[1850,"Test",{"$f":"'raw data'!J1852","v":2},2,2,0,0]
[1851,"Test",{"$f":"'raw data'!J1853","v":1},1,1,0,0]
[1852,"Test",{"$f":"'raw data'!J1854","v":2},2,2,0,0]
[1853,"Test",{"$f":"'raw data'!J1855","v":1},1,1,0,0]
[1854,"Test",{"$f":"'raw data'!J1856","v":3},3,4,0,1]
[1855,"Test",{"$f":"'raw data'!J1857","v":4},4,3,0,1]
[1856,"Test",{"$f":"'raw data'!J1858","v":3},3,3,0,0]
[1857,"Test",{"$f":"'raw data'!J1859","v":4},4,1,0,1]
[1858,"Test",{"$f":"'raw data'!J1860","v":2},2,3,{"$f":"IF(C1859=D1859,0,1)","v":0},{"$f":"IF(C1859=E1859,0,1)","v":1}]
[1859,"Test",{"$f":"'raw data'!J1861","v":4},4,3,0,1]
[1860,"Test",{"$f":"'raw data'!J1862","v":3},3,2,0,1]
[1861,"Test",{"$f":"'raw data'!J1863","v":2},2,2,0,0]
[1862,"Test",{"$f":"'raw data'!J1864","v":3},3,2,0,1]
[1863,"Test",{"$f":"'raw data'!J1865","v":1},1,3,0,1]
[1864,"Test",{"$f":"'raw data'!J1866","v":1},1,2,0,1]
[1865,"Test",{"$f":"'raw data'!J1867","v":2},2,2,0,0]
[1866,"Test",{"$f":"'raw data'!J1868","v":1},1,3,0,1]
[1867,"Test",{"$f":"'raw data'!J1869","v":4},4,3,0,1]
[1868,"Test",{"$f":"'raw data'!J1870","v":4},4,3,0,1]
[1869,"Test",{"$f":"'raw data'!J1871","v":4},4,1,0,1]
[1870,"Test",{"$f":"'raw data'!J1872","v":1},1,1,0,0]
[1871,"Test",{"$f":"'raw data'!J1873","v":3},3,3,0,0]
[1872,"Test",{"$f":"'raw data'!J1874","v":2},2,1,0,1]
[1873,"Test",{"$f":"'raw data'!J1875","v":3},3,1,0,1]
[1874,"Test",{"$f":"'raw data'!J1876","v":2},2,2,0,0]
[1875,"Test",{"$f":"'raw data'!J1877","v":3},3,2,0,1]
[1876,"Test",{"$f":"'raw data'!J1878","v":1},1,4,0,1]
[1877,"Test",{"$f":"'raw data'!J1879","v":4},4,4,0,0]
[1878,"Test",{"$f":"'raw data'!J1880","v":4},4,2,0,1]
[1879,"Test",{"$f":"'raw data'!J1881","v":3},3,3,0,0]
[1880,"Test",{"$f":"'raw data'!J1882","v":2},2,2,0,0]
[1881,"Test",{"$f":"'raw data'!J1883","v":4},4,1,0,1]
[1882,"Test",{"$f":"'raw data'!J1884","v":3},3,4,0,1]
[1883,"Test",{"$f":"'raw data'!J1885","v":3},3,4,0,1]
[1884,"Test",{"$f":"'raw data'!J1886","v":4},4,4,0,0]
[1885,"Test",{"$f":"'raw data'!J1887","v":1},1,4,0,1]
[1886,"Test",{"$f":"'raw data'!J1888","v":1},1,1,0,0]
[1887,"Test",{"$f":"'raw data'!J1889","v":2},2,2,0,0]
[1888,"Test",{"$f":"'raw data'!J1890","v":2},2,2,0,0]
[1889,"Test",{"$f":"'raw data'!J1891","v":3},3,2,0,1]
[1890,"Test",{"$f":"'raw data'!J1892","v":3},3,1,0,1]
[1891,"Test",{"$f":"'raw data'!J1893","v":1},1,4,0,1]
[1892,"Test",{"$f":"'raw data'!J1894","v":1},1,1,0,0]
[1893,"Test",{"$f":"'raw data'!J1895","v":2},2,2,0,0]
[1894,"Test",{"$f":"'raw data'!J1896","v":2},2,2,0,0]
[1895,"Test",{"$f":"'raw data'!J1897","v":3},3,2,0,1]
[1896,"Test",{"$f":"'raw data'!J1898","v":2},2,1,0,1]
[1897,"Test",{"$f":"'raw data'!J1899","v":4},4,1,0,1]
[1898,"Test",{"$f":"'raw data'!J1900","v":3},3,3,0,0]
[1899,"Test",{"$f":"'raw data'!J1901","v":3},3,2,0,1]
[1900,"Test",{"$f":"'raw data'!J1902","v":4},4,1,0,1]
[1901,"Test",{"$f":"'raw data'!J1903","v":3},3,2,0,1]
[1902,"Test",{"$f":"'raw data'!J1904","v":2},2,2,0,0]
[1903,"Test",{"$f":"'raw data'!J1905","v":4},4,3,0,1]
[1904,"Test",{"$f":"'raw data'!J1906","v":2},2,2,0,0]
[1905,"Test",{"$f":"'raw data'!J1907","v":2},2,4,0,1]
[1906,"Test",{"$f":"'raw data'!J1908","v":3},3,1,0,1]
[1907,"Test",{"$f":"'raw data'!J1909","v":3},3,4,0,1]
[1908,"Test",{"$f":"'raw data'!J1910","v":2},2,4,0,1]
[1909,"Test",{"$f":"'raw data'!J1911","v":2},2,2,0,0]
[1910,"Test",{"$f":"'raw data'!J1912","v":1},1,4,0,1]
[1911,"Test",{"$f":"'raw data'!J1913","v":2},2,2,0,0]
[1912,"Test",{"$f":"'raw data'!J1914","v":3},3,3,0,0]
[1913,"Test",{"$f":"'raw data'!J1915","v":1},1,1,0,0]
[1914,"Test",{"$f":"'raw data'!J1916","v":1},1,3,0,1]
[1915,"Test",{"$f":"'raw data'!J1917","v":4},4,3,0,1]
[1916,"Test",{"$f":"'raw data'!J1918","v":2},2,2,0,0]
[1917,"Test",{"$f":"'raw data'!J1919","v":2},2,1,0,1]
[1918,"Test",{"$f":"'raw data'!J1920","v":1},1,1,0,0]
[1919,"Test",{"$f":"'raw data'!J1921","v":2},2,4,0,1]
[1920,"Test",{"$f":"'raw data'!J1922","v":3},3,3,0,0]
[1921,"Test",{"$f":"'raw data'!J1923","v":4},4,1,0,1]
[1922,"Test",{"$f":"'raw data'!J1924","v":4},4,1,{"$f":"IF(C1923=D1923,0,1)","v":0},{"$f":"IF(C1923=E1923,0,1)","v":1}]
[1923,"Test",{"$f":"'raw data'!J1925","v":3},3,1,0,1]
[1924,"Test",{"$f":"'raw data'!J1926","v":3},3,3,0,0]
[1925,"Test",{"$f":"'raw data'!J1927","v":4},4,4,0,0]
[1926,"Test",{"$f":"'raw data'!J1928","v":4},4,4,0,0]
[1927,"Test",{"$f":"'raw data'!J1929","v":3},3,4,0,1]
[1928,"Test",{"$f":"'raw data'!J1930","v":2},2,1,0,1]
[1929,"Test",{"$f":"'raw data'!J1931","v":3},3,3,0,0]
[1930,"Test",{"$f":"'raw data'!J1932","v":4},4,4,0,0]
[1931,"Test",{"$f":"'raw data'!J1933","v":1},1,1,0,0]
[1932,"Test",{"$f":"'raw data'!J1934","v":2},2,2,0,0]
[1933,"Test",{"$f":"'raw data'!J1935","v":4},4,1,0,1]
[1934,"Test",{"$f":"'raw data'!J1936","v":1},1,1,0,0]
[1935,"Test",{"$f":"'raw data'!J1937","v":1},1,1,0,0]
[1936,"Test",{"$f":"'raw data'!J1938","v":3},3,2,0,1]
[1937,"Test",{"$f":"'raw data'!J1939","v":1},1,1,0,0]
[1938,"Test",{"$f":"'raw data'!J1940","v":4},4,3,0,1]
[1939,"Test",{"$f":"'raw data'!J1941","v":4},4,4,0,0]
[1940,"Test",{"$f":"'raw data'!J1942","v":2},2,4,0,1]
[1941,"Test",{"$f":"'raw data'!J1943","v":1},1,4,0,1]
[1942,"Test",{"$f":"'raw data'!J1944","v":3},3,2,0,1]
[1943,"Test",{"$f":"'raw data'!J1945","v":3},3,3,0,0]
[1944,"Test",{"$f":"'raw data'!J1946","v":3},3,4,0,1]
[1945,"Test",{"$f":"'raw data'!J1947","v":1},1,1,0,0]
[1946,"Test",{"$f":"'raw data'!J1948","v":2},2,2,0,0]
[1947,"Test",{"$f":"'raw data'!J1949","v":3},3,3,0,0]
[1948,"Test",{"$f":"'raw data'!J1950","v":1},1,3,0,1]
[1949,"Test",{"$f":"'raw data'!J1951","v":2},2,1,0,1]
[1950,"Test",{"$f":"'raw data'!J1952","v":2},2,1,0,1]
[1951,"Test",{"$f":"'raw data'!J1953","v":3},3,1,0,1]
[1952,"Test",{"$f":"'raw data'!J1954","v":4},4,4,0,0]
[1953,"Test",{"$f":"'raw data'!J1955","v":2},2,2,0,0]
[1954,"Test",{"$f":"'raw data'!J1956","v":4},4,1,0,1]
[1955,"Test",{"$f":"'raw data'!J1957","v":3},3,3,0,0]
[1956,"Test",{"$f":"'raw data'!J1958","v":1},1,2,0,1]
[1957,"Test",{"$f":"'raw data'!J1959","v":2},2,2,0,0]
[1958,"Test",{"$f":"'raw data'!J1960","v":2},2,2,0,0]
[1959,"Test",{"$f":"'raw data'!J1961","v":3},3,2,0,1]
[1960,"Test",{"$f":"'raw data'!J1962","v":1},1,3,0,1]
[1961,"Test",{"$f":"'raw data'!J1963","v":2},2,2,0,0]
[1962,"Test",{"$f":"'raw data'!J1964","v":1},1,3,0,1]
[1963,"Test",{"$f":"'raw data'!J1965","v":4},4,3,0,1]
[1964,"Test",{"$f":"'raw data'!J1966","v":1},1,1,0,0]
[1965,"Test",{"$f":"'raw data'!J1967","v":3},3,1,0,1]
[1966,"Test",{"$f":"'raw data'!J1968","v":1},1,3,0,1]
[1967,"Test",{"$f":"'raw data'!J1969","v":4},4,4,0,0]
[1968,"Test",{"$f":"'raw data'!J1970","v":3},3,1,0,1]
[1969,"Test",{"$f":"'raw data'!J1971","v":1},1,2,0,1]
[1970,"Test",{"$f":"'raw data'!J1972","v":1},1,1,0,0]
[1971,"Test",{"$f":"'raw data'!J1973","v":4},4,1,0,1]
[1972,"Test",{"$f":"'raw data'!J1974","v":1},1,1,0,0]
[1973,"Test",{"$f":"'raw data'!J1975","v":4},4,3,0,1]
[1974,"Test",{"$f":"'raw data'!J1976","v":3},3,2,0,1]
[1975,"Test",{"$f":"'raw data'!J1977","v":3},3,1,0,1]
[1976,"Test",{"$f":"'raw data'!J1978","v":1},1,1,0,0]
[1977,"Test",{"$f":"'raw data'!J1979","v":2},2,2,0,0]
[1978,"Test",{"$f":"'raw data'!J1980","v":1},1,1,0,0]
[1979,"Test",{"$f":"'raw data'!J1981","v":1},1,1,0,0]
[1980,"Test",{"$f":"'raw data'!J1982","v":4},4,1,0,1]
[1981,"Test",{"$f":"'raw data'!J1983","v":3},3,1,0,1]
[1982,"Test",{"$f":"'raw data'!J1984","v":2},3,2,1,0]
[1983,"Test",{"$f":"'raw data'!J1985","v":3},3,1,0,1]
[1984,"Test",{"$f":"'raw data'!J1986","v":2},2,2,0,0]
[1985,"Test",{"$f":"'raw data'!J1987","v":4},4,1,0,1]
[1986,"Test",{"$f":"'raw data'!J1988","v":3},3,2,{"$f":"IF(C1987=D1987,0,1)","v":0},{"$f":"IF(C1987=E1987,0,1)","v":1}]
[1987,"Test",{"$f":"'raw data'!J1989","v":2},3,1,1,1]
[1988,"Test",{"$f":"'raw data'!J1990","v":2},2,2,0,0]
[1989,"Test",{"$f":"'raw data'!J1991","v":4},4,2,0,1]
[1990,"Test",{"$f":"'raw data'!J1992","v":1},1,1,0,0]
[1991,"Test",{"$f":"'raw data'!J1993","v":2},2,1,0,1]
[1992,"Test",{"$f":"'raw data'!J1994","v":2},2,3,0,1]
[1993,"Test",{"$f":"'raw data'!J1995","v":4},4,1,0,1]
[1994,"Test",{"$f":"'raw data'!J1996","v":2},3,3,1,1]
[1995,"Test",{"$f":"'raw data'!J1997","v":4},4,3,0,1]
[1996,"Test",{"$f":"'raw data'!J1998","v":2},2,2,0,0]
[1997,"Test",{"$f":"'raw data'!J1999","v":1},1,3,0,1]
[1998,"Test",{"$f":"'raw data'!J2000","v":2},2,1,0,1]
[1999,"Test",{"$f":"'raw data'!J2001","v":3},3,1,0,1]
[2000,"Test",{"$f":"'raw data'!J2002","v":1},1,1,0,0]
[2001,null,null,{"$f":"IF($A2002=cases!$A$1,cases!S$1,\"\")","v":""},{"$f":"IF($A2002=cases!$A$1,cases!$AF$1,\"\")","v":""},{"$f":"SUM(F2:F2001)","v":80},{"$f":"SUM(G2:G2001)","v":1141}]

{"sheet":"accuracy","index":6,"n_rows":15,"n_cols":10,"rows_kept":15,"cut":false,"hidden":false,"merged":[]}
["Estimation#1"]
[]
["Anzahl von ID","estimated room_id",null,null,null,null,"without any learning process"]
["real room_id",1,2,3,4,"Gesamtergebnis","Correct estimated","Accuracy","Check1","Check2"]
["Test",155,127,178,140,600,{"$f":"B6+C7+D8+E9","v":573},{"$f":"G5/F5","v":0.95499999999999996}]
[1,155,null,2,null,157]
[2,null,127,24,null,151]
[3,null,null,152,1,153]
[4,null,null,null,139,139]
["Train",334,318,383,365,1400,{"$f":"B11+C12+D13+E14","v":1347},{"$f":"G10/F10","v":0.96214285714285719}]
[1,330,null,11,2,343]
[2,null,318,31,null,349]
[3,3,null,340,4,347]
[4,1,null,1,359,361]
["Gesamtergebnis",489,445,561,505,2000,{"$f":"G10+G5","v":1920},{"$f":"G15/F15","v":0.96},{"$f":"F15-G15","v":80},{"$f":"results!F2002","v":80}]