{"text_format":"1","workbook":"xlsx","n_sheets":57,"sheets":["keywords(HU)","1...10 raw(HU)","1...10 timeseries (HU)","keywords(AT)","1...10 raw(AT)","keywords(BE)","1...10 raw(BE)","keywords(BG)","1...10 raw(BG)","keywords(CY)","1...10 raw(CY)","keywords(CZ)","1...10 raw(CZ)","keywords(DK)","1...10 raw(DK)","keywords(EE)","1...10 raw(EE)","keywords(FI)","1...10 raw(FI)","keywords(FR)","1...10 raw(FR)","keywords(GR)","1...10 raw(GR)","keywords(NL)","1...10 raw(NL)","keywords(HR)","1...10 raw(HR)","keywords(IE)","1...10 raw(IE)","keywords(PL)","1...10 raw(PL)","keywords(LV)","1...10 raw(LV)","keywords(LT)","1...10 raw(LT)","keywords(LU)","1...10 raw(LU)","keywords(MT)","1...10 raw(MT)","keywords(DE)","1...10 raw(DE)","keywords(IT)","1...10 raw(IT)","keywords(PT)","1...10 raw(PT)","keywords(RO)","1...10 raw(RO)","keywords(ES)","1...10 raw(ES)","keywords(SE)","1...10 raw(SE)","keywords(SK)","1...10 raw(SK)","keywords(SI)","1...10 raw(SI)","OAM_HU","modell_HU"],"not_rendered":{"charts":1,"images":1,"macros":1,"external_links":0,"defined_names":1,"comments":0,"pivot_tables":0},"unopened":[],"bounds":{"document_bytes":16777216,"sheet_cells":100000,"rows_first":2000,"rows_last":500,"rows_between":2000,"halvings":0,"cell_chars":16384,"cell_head_chars":4096},"cells_cut":0,"cells_raw":0,"read":"whole","date_system":"1900"}

{"sheet":"keywords(HU)","index":0,"n_rows":11,"n_cols":4,"rows_kept":11,"cut":false,"hidden":false,"merged":[]}
["id","url","country","brand*"]
[1,"https://trends.google.com/trends/explore?date=all&geo=HU&q=Adidas","HU","Adidas"]
[2,"https://trends.google.com/trends/explore?date=all&geo=HU&q=Bershka","HU","Bershka"]
[3,"https://trends.google.com/trends/explore?date=all&geo=HU&q=Calvin Klein","HU","Calvin Klein"]
[4,"https://trends.google.com/trends/explore?date=all&geo=HU&q=H&M","HU","H&M"]
[5,"https://trends.google.com/trends/explore?date=all&geo=HU&q=Hugo Boss","HU","Hugo Boss"]
[6,"https://trends.google.com/trends/explore?date=all&geo=HU&q=Lacoste","HU","Lacoste"]
[7,"https://trends.google.com/trends/explore?date=all&geo=HU&q=Nike","HU","Nike"]
[8,"https://trends.google.com/trends/explore?date=all&geo=HU&q=Pull and Bear","HU","Pull and Bear"]
[9,"https://trends.google.com/trends/explore?date=all&geo=HU&q=Tommy Hilfiger","HU","Tommy Hilfiger"]
[10,"https://trends.google.com/trends/explore?date=all&geo=HU&q=Zara","HU","Zara"]

{"sheet":"1...10 raw(HU)","index":1,"n_rows":234,"n_cols":12,"rows_kept":234,"cut":false,"hidden":false,"merged":[]}
[null,null,"Adidas","Bershka","Calvin Klein","H&M","Hugo Boss","Lacoste","Nike","Pull and Bear","Tommy Hilfiger","Zara"]
["Év","Hónap","Népszerűségi pont","Népszerűségi pont","Népszerűségi pont","Népszerűségi pont","Népszerűségi pont","Népszerűségi pont","Népszerűségi pont","Népszerűségi pont","Népszerűségi pont","Népszerűségi pont"]
[2004,1,9,0,0,3,55,72,11,0,0,8]
[2004,2,28,0,0,9,70,96,15,0,27,0]
[2004,3,24,0,0,9,0,67,21,0,0,0]
[2004,4,27,0,38,6,49,0,23,39,0,0]
[2004,5,11,0,0,8,0,0,16,0,0,11]
[2004,6,31,0,0,5,0,0,14,0,0,0]
[2004,7,23,0,27,5,0,0,10,0,0,0]
[2004,8,32,0,0,14,0,0,20,0,73,13]
[2004,9,27,0,0,12,0,100,16,0,0,18]
[2004,10,26,0,0,7,0,0,13,0,0,18]
[2004,11,22,18,62,0,0,0,10,0,16,0]
[2004,12,16,0,0,6,38,0,14,0,0,0]
[2005,1,20,15,19,10,0,0,12,0,0,15]
[2005,2,14,0,14,6,0,0,13,0,43,12]
[2005,3,49,0,0,5,0,0,22,0,0,9]
[2005,4,25,16,0,5,19,0,18,0,0,6]
[2005,5,28,21,0,8,0,31,22,0,11,14]
[2005,6,22,15,33,3,0,39,24,0,24,0]
[2005,7,22,0,0,9,0,0,15,0,0,21]
[2005,8,39,0,12,13,40,81,21,0,0,12]
[2005,9,44,0,12,20,21,34,16,16,0,9]
[2005,10,31,0,12,8,24,0,19,0,10,19]
[2005,11,23,0,0,7,39,54,11,0,7,10]
[2005,12,30,13,19,6,53,0,13,0,13,12]
[2006,1,24,0,0,7,38,24,13,0,7,9]
[2006,2,34,0,0,10,0,47,22,0,0,18]
[2006,3,43,0,13,10,29,72,28,0,0,22]
[2006,4,47,0,12,8,20,15,30,0,14,5]
[2006,5,47,0,8,9,20,28,28,11,5,19]
[2006,6,59,0,20,9,0,35,22,0,0,15]
[2006,7,42,0,17,7,24,27,18,19,22,12]
[2006,8,44,0,0,11,19,48,23,0,0,16]
[2006,9,34,0,7,8,0,53,23,0,10,15]
[2006,10,37,0,19,11,33,75,24,0,14,13]
[2006,11,28,0,13,12,10,0,18,0,15,21]
[2006,12,38,0,14,8,38,43,18,0,4,10]
[2007,1,29,0,20,9,16,26,15,0,12,13]
[2007,2,36,0,14,7,25,59,18,0,6,22]
[2007,3,49,0,11,10,0,29,24,11,9,15]
[2007,4,42,0,0,10,16,46,26,0,18,15]
[2007,5,38,0,11,9,17,58,20,7,13,19]
[2007,6,31,4,8,10,16,43,18,0,6,17]
[2007,7,35,0,3,8,9,59,19,6,10,12]
[2007,8,42,0,8,8,21,40,28,0,6,14]
[2007,9,38,3,9,11,39,60,21,0,10,24]
[2007,10,33,0,11,13,14,49,19,0,11,25]
[2007,11,35,12,4,12,46,64,17,22,10,21]
[2007,12,38,10,24,10,31,60,20,8,17,21]
[2008,1,29,8,7,10,17,35,18,5,9,19]
[2008,2,40,6,13,10,25,47,22,5,11,18]
[2008,3,47,7,7,10,10,48,28,5,18,15]
[2008,4,42,4,12,7,18,64,26,8,5,11]
[2008,5,32,0,0,10,27,40,25,10,9,13]
[2008,6,37,14,8,9,17,41,25,11,6,12]
[2008,7,39,5,14,9,13,53,24,12,4,12]
[2008,8,47,9,11,10,21,52,31,6,18,19]
[2008,9,37,14,16,13,24,42,24,0,16,23]
[2008,10,35,17,7,9,17,29,22,12,9,19]
[2008,11,34,11,16,11,38,38,23,8,8,24]
[2008,12,36,15,13,10,41,37,21,11,15,22]
[2009,1,26,9,9,8,17,32,21,4,3,16]
[2009,2,35,17,9,8,22,48,21,21,7,13]
[2009,3,41,12,0,10,19,56,29,21,6,16]
[2009,4,38,16,12,8,23,48,28,17,19,16]
[2009,5,36,13,9,9,12,59,24,18,6,13]
[2009,6,34,17,15,11,26,41,21,14,16,16]
[2009,7,33,13,15,9,31,44,24,10,10,16]
[2009,8,47,22,16,10,22,48,29,14,7,15]
[2009,9,42,32,14,11,22,58,26,20,8,24]
[2009,10,38,33,13,10,23,51,24,15,17,23]
[2009,11,35,31,17,13,15,47,22,20,20,25]
[2009,12,39,24,22,11,37,52,22,28,14,19]
[2010,1,32,27,11,9,16,22,19,12,12,16]
[2010,2,36,25,17,10,17,36,21,10,11,15]
[2010,3,42,26,13,12,25,49,25,21,22,21]
[2010,4,46,29,13,10,24,52,28,24,18,18]
[2010,5,39,26,12,11,18,61,27,20,17,21]
[2010,6,38,20,15,13,22,45,23,11,17,22]
[2010,7,38,27,11,11,18,37,21,12,15,19]
[2010,8,42,28,11,13,24,47,30,18,17,23]
[2010,9,42,27,16,15,41,50,28,28,18,28]
[2010,10,35,35,18,16,25,48,23,30,18,25]
[2010,11,35,26,11,17,30,39,21,22,15,25]
[2010,12,37,41,21,14,39,35,20,39,21,31]
[2011,1,34,21,9,11,17,26,19,21,13,25]
[2011,2,41,24,8,12,23,43,22,21,14,28]
[2011,3,51,37,11,15,19,53,27,26,17,29]
[2011,4,44,23,13,15,27,51,26,30,19,28]
[2011,5,37,28,8,16,16,49,19,25,16,27]
[2011,6,35,21,10,16,22,31,20,21,18,26]
[2011,7,40,24,15,14,23,49,20,24,20,25]
[2011,8,48,25,16,15,27,53,29,20,18,25]
[2011,9,43,46,10,16,28,45,28,40,21,31]
[2011,10,42,56,20,19,56,59,21,54,22,37]
[2011,11,39,56,20,19,33,51,19,51,19,32]
[2011,12,41,65,26,17,38,52,19,61,27,42]
[2012,1,34,53,11,14,23,36,19,58,19,34]
[2012,2,36,71,10,15,25,34,21,52,22,28]
[2012,3,52,80,15,22,33,62,29,65,26,32]
[2012,4,49,62,11,20,22,47,24,55,23,28]
[2012,5,38,51,11,22,23,39,22,49,23,31]
[2012,6,38,63,13,22,18,40,22,53,24,28]
[2012,7,39,58,14,17,21,46,24,50,17,31]
[2012,8,48,58,17,19,26,46,32,54,20,32]
[2012,9,47,77,13,25,20,53,29,70,24,39]
[2012,10,34,81,19,26,29,33,21,69,25,42]
[2012,11,34,70,26,24,28,34,19,64,26,37]
[2012,12,35,66,25,24,42,38,20,75,37,40]
[2013,1,29,54,11,17,21,31,18,53,21,28]
[2013,2,39,55,17,19,21,43,23,54,19,32]
[2013,3,56,56,12,25,20,42,30,60,24,30]
[2013,4,48,54,16,27,21,42,31,57,30,35]
[2013,5,38,48,14,26,23,41,25,56,23,32]
[2013,6,35,47,11,23,23,33,23,58,27,30]
[2013,7,35,50,8,21,17,31,26,54,24,29]
[2013,8,45,56,14,23,18,34,34,50,24,32]
[2013,9,42,74,15,38,31,38,36,92,29,43]
[2013,10,39,80,17,31,26,30,27,81,27,40]
[2013,11,38,77,18,34,28,25,25,79,31,45]
[2013,12,38,81,21,41,46,33,27,81,37,47]
[2014,1,30,52,13,20,21,27,29,54,23,31]
[2014,2,38,59,15,25,24,29,36,52,23,35]
[2014,3,52,68,17,31,26,36,59,72,30,35]
[2014,4,49,53,14,33,23,40,48,55,32,32]
[2014,5,42,56,17,30,26,33,44,58,28,33]
[2014,6,39,55,12,28,18,35,39,55,26,31]
[2014,7,40,44,13,24,26,25,37,52,31,30]
[2014,8,48,61,15,34,24,32,48,66,28,35]
[2014,9,46,67,19,36,34,26,46,77,29,38]
[2014,10,40,69,21,35,32,22,37,67,34,44]
[2014,11,38,65,18,42,40,24,33,79,38,45]
[2014,12,36,69,30,39,50,28,29,77,39,46]
[2015,1,32,58,32,28,28,29,33,53,27,39]
[2015,2,40,47,24,29,28,23,38,62,23,35]
[2015,3,53,65,25,39,29,35,53,67,27,37]
[2015,4,54,54,19,56,26,34,46,59,31,34]
[2015,5,48,56,23,50,24,33,44,61,30,36]
[2015,6,41,53,21,51,23,30,35,53,37,38]
[2015,7,39,52,20,44,29,32,34,54,31,35]
[2015,8,50,60,21,52,20,27,40,52,30,34]
[2015,9,48,69,23,56,26,31,38,71,30,48]
[2015,10,53,77,25,62,40,26,36,74,36,59]
[2015,11,45,76,35,68,39,20,31,73,37,55]
[2015,12,49,76,41,55,65,31,33,75,46,55]
[2016,1,48,48,31,43,30,21,31,42,36,37]
[2016,2,63,58,29,50,35,29,41,45,31,43]
[2016,3,83,65,30,54,34,29,48,52,32,57]
[2016,4,74,54,21,61,24,30,43,52,37,51]
[2016,5,64,53,27,59,24,30,38,47,39,55]
[2016,6,58,58,22,60,20,26,33,48,36,55]
[2016,7,59,47,32,59,30,29,35,43,45,57]
[2016,8,73,59,27,62,29,27,41,53,33,48]
[2016,9,64,63,36,67,27,24,34,64,37,62]
[2016,10,55,81,30,72,33,23,34,69,38,77]
[2016,11,55,76,32,70,52,20,32,64,46,70]
[2016,12,53,78,46,61,57,24,29,75,53,75]
[2017,1,45,68,31,52,29,18,28,57,38,58]
[2017,2,65,67,32,47,30,25,36,51,38,54]
[2017,3,88,78,30,57,35,33,51,60,40,64]
[2017,4,71,68,38,61,32,28,41,55,41,60]
[2017,5,59,71,31,67,26,25,34,48,42,56]
[2017,6,54,77,29,63,25,31,30,51,45,59]
[2017,7,56,72,37,63,25,32,32,55,53,60]
[2017,8,68,82,43,59,27,37,41,58,50,57]
[2017,9,70,91,34,73,38,27,39,64,46,80]
[2017,10,61,89,37,73,33,27,35,75,50,78]
[2017,11,59,99,48,88,49,24,34,88,54,85]
[2017,12,57,89,67,68,66,30,33,81,63,85]
[2018,1,62,75,46,63,30,19,34,62,44,65]
[2018,2,67,72,50,56,37,31,37,55,48,58]
[2018,3,88,77,45,66,38,35,45,67,49,62]
[2018,4,89,69,42,69,34,34,47,71,58,62]
[2018,5,67,62,41,61,31,35,36,63,62,59]
[2018,6,64,66,46,70,33,31,33,64,55,62]
[2018,7,69,67,48,65,40,39,36,66,56,57]
[2018,8,73,67,54,63,30,32,40,63,53,58]
[2018,9,74,79,49,75,40,27,43,82,57,77]
[2018,10,68,84,43,80,44,25,39,79,56,77]
[2018,11,65,90,60,100,62,26,39,85,69,89]
[2018,12,61,84,72,74,66,33,34,81,76,88]
[2019,1,64,81,53,61,37,25,36,65,56,73]
[2019,2,82,83,46,55,36,23,42,69,61,71]
[2019,3,100,73,56,67,35,37,56,62,60,67]
[2019,4,90,70,52,77,34,35,50,77,59,65]
[2019,5,74,68,42,72,39,34,42,57,62,64]
[2019,6,68,75,54,92,39,44,37,64,69,74]
[2019,7,68,73,56,63,36,33,39,73,67,64]
[2019,8,80,85,54,73,35,40,48,72,71,65]
[2019,9,74,93,51,97,44,35,46,93,71,84]
[2019,10,66,85,48,90,52,26,49,78,61,81]
[2019,11,67,97,62,97,69,28,40,88,85,93]
[2019,12,65,100,79,94,85,42,43,100,93,96]
[2020,1,61,77,57,63,40,29,39,75,59,72]
[2020,2,79,76,66,63,50,40,52,62,60,70]
[2020,3,64,58,48,50,32,26,41,44,44,46]
[2020,4,67,75,44,82,30,33,45,55,45,57]
[2020,5,66,76,45,90,31,33,48,64,58,63]
[2020,6,67,69,63,76,37,31,45,66,67,64]
[2020,7,60,64,64,76,46,36,43,54,67,62]
[2020,8,72,69,58,78,43,37,51,61,62,63]
[2020,9,74,79,57,84,43,27,51,70,61,69]
[2020,10,68,95,57,95,47,34,50,77,63,82]
[2020,11,63,86,66,81,43,34,43,72,74,78]
[2020,12,58,89,71,63,71,33,41,71,86,72]
[2021,1,53,84,54,58,45,30,44,69,56,62]
[2021,2,61,76,51,57,45,28,47,49,55,64]
[2021,3,70,68,45,53,29,29,49,48,51,52]
[2021,4,72,59,52,56,38,39,49,56,56,51]
[2021,5,67,55,56,59,45,31,46,48,62,58]
[2021,6,61,63,61,76,47,38,41,56,66,68]
[2021,7,58,67,69,56,44,37,40,53,64,58]
[2021,8,72,67,62,66,55,34,57,55,71,65]
[2021,9,66,68,60,61,45,30,53,69,64,73]
[2021,10,60,75,60,70,58,33,50,80,65,82]
[2021,11,58,74,76,70,76,31,53,68,87,84]
[2021,12,59,80,92,64,88,43,54,80,100,92]
[2022,1,59,60,67,52,64,27,50,72,66,70]
[2022,2,81,66,67,50,56,40,73,58,65,64]
[2022,3,82,55,67,51,59,40,80,61,65,65]
[2022,4,72,52,67,49,56,45,74,54,73,67]
[2022,5,75,49,64,63,64,46,68,49,72,72]
[2022,6,63,46,75,60,57,44,55,53,74,77]
[2022,7,62,52,71,49,56,47,58,60,71,75]
[2022,8,73,52,67,53,53,39,75,56,64,70]
[2022,9,73,62,70,71,59,40,76,61,63,91]
[2022,10,69,66,70,66,61,41,74,61,62,87]
[2022,11,67,65,82,73,74,44,79,72,87,100]
[2022,12,68,67,100,56,100,44,80,74,94,93]
[2023,1,68,55,68,47,53,43,80,60,63,77]
[2023,2,80,50,67,49,59,38,79,47,60,68]
[2023,3,92,49,73,47,58,48,91,48,63,72]
[2023,4,95,52,73,48,61,47,100,57,65,69]

{"sheet":"1...10 timeseries (HU)","index":2,"n_rows":233,"n_cols":12,"rows_kept":233,"cut":false,"hidden":false,"merged":[]}
["Magyarország",null,{"$f":"'1...10 raw(HU)'!C1","v":"Adidas"},{"$f":"'1...10 raw(HU)'!D1","v":"Bershka"},{"$f":"'1...10 raw(HU)'!E1","v":"Calvin Klein"},{"$f":"'1...10 raw(HU)'!F1","v":"H&M"},{"$f":"'1...10 raw(HU)'!G1","v":"Hugo Boss"},{"$f":"'1...10 raw(HU)'!H1","v":"Lacoste"},{"$f":"'1...10 raw(HU)'!I1","v":"Nike"},{"$f":"'1...10 raw(HU)'!J1","v":"Pull and Bear"},{"$f":"'1...10 raw(HU)'!K1","v":"Tommy Hilfiger"},{"$f":"'1...10 raw(HU)'!L1","v":"Zara"}]
["year","months","pont"]
[2004,1,{"$f":"'1...10 raw(HU)'!C3","v":9},{"$f":"'1...10 raw(HU)'!D3","v":0},{"$f":"'1...10 raw(HU)'!E3","v":0},{"$f":"'1...10 raw(HU)'!F3","v":3},{"$f":"'1...10 raw(HU)'!G3","v":55},{"$f":"'1...10 raw(HU)'!H3","v":72},{"$f":"'1...10 raw(HU)'!I3","v":11},{"$f":"'1...10 raw(HU)'!J3","v":0},{"$f":"'1...10 raw(HU)'!K3","v":0},{"$f":"'1...10 raw(HU)'!L3","v":8}]
[2004,2,{"$f":"'1...10 raw(HU)'!C4","v":28},{"$f":"'1...10 raw(HU)'!D4","v":0},{"$f":"'1...10 raw(HU)'!E4","v":0},{"$f":"'1...10 raw(HU)'!F4","v":9},{"$f":"'1...10 raw(HU)'!G4","v":70},{"$f":"'1...10 raw(HU)'!H4","v":96},{"$f":"'1...10 raw(HU)'!I4","v":15},{"$f":"'1...10 raw(HU)'!J4","v":0},{"$f":"'1...10 raw(HU)'!K4","v":27},{"$f":"'1...10 raw(HU)'!L4","v":0}]
[2004,3,{"$f":"'1...10 raw(HU)'!C5","v":24},{"$f":"'1...10 raw(HU)'!D5","v":0},{"$f":"'1...10 raw(HU)'!E5","v":0},{"$f":"'1...10 raw(HU)'!F5","v":9},{"$f":"'1...10 raw(HU)'!G5","v":0},{"$f":"'1...10 raw(HU)'!H5","v":67},{"$f":"'1...10 raw(HU)'!I5","v":21},{"$f":"'1...10 raw(HU)'!J5","v":0},{"$f":"'1...10 raw(HU)'!K5","v":0},{"$f":"'1...10 raw(HU)'!L5","v":0}]
[2004,4,{"$f":"'1...10 raw(HU)'!C6","v":27},{"$f":"'1...10 raw(HU)'!D6","v":0},{"$f":"'1...10 raw(HU)'!E6","v":38},{"$f":"'1...10 raw(HU)'!F6","v":6},{"$f":"'1...10 raw(HU)'!G6","v":49},{"$f":"'1...10 raw(HU)'!H6","v":0},{"$f":"'1...10 raw(HU)'!I6","v":23},{"$f":"'1...10 raw(HU)'!J6","v":39},{"$f":"'1...10 raw(HU)'!K6","v":0},{"$f":"'1...10 raw(HU)'!L6","v":0}]
[2004,5,{"$f":"'1...10 raw(HU)'!C7","v":11},{"$f":"'1...10 raw(HU)'!D7","v":0},{"$f":"'1...10 raw(HU)'!E7","v":0},{"$f":"'1...10 raw(HU)'!F7","v":8},{"$f":"'1...10 raw(HU)'!G7","v":0},{"$f":"'1...10 raw(HU)'!H7","v":0},{"$f":"'1...10 raw(HU)'!I7","v":16},{"$f":"'1...10 raw(HU)'!J7","v":0},{"$f":"'1...10 raw(HU)'!K7","v":0},{"$f":"'1...10 raw(HU)'!L7","v":11}]
[2004,6,{"$f":"'1...10 raw(HU)'!C8","v":31},{"$f":"'1...10 raw(HU)'!D8","v":0},{"$f":"'1...10 raw(HU)'!E8","v":0},{"$f":"'1...10 raw(HU)'!F8","v":5},{"$f":"'1...10 raw(HU)'!G8","v":0},{"$f":"'1...10 raw(HU)'!H8","v":0},{"$f":"'1...10 raw(HU)'!I8","v":14},{"$f":"'1...10 raw(HU)'!J8","v":0},{"$f":"'1...10 raw(HU)'!K8","v":0},{"$f":"'1...10 raw(HU)'!L8","v":0}]
[2004,7,{"$f":"'1...10 raw(HU)'!C9","v":23},{"$f":"'1...10 raw(HU)'!D9","v":0},{"$f":"'1...10 raw(HU)'!E9","v":27},{"$f":"'1...10 raw(HU)'!F9","v":5},{"$f":"'1...10 raw(HU)'!G9","v":0},{"$f":"'1...10 raw(HU)'!H9","v":0},{"$f":"'1...10 raw(HU)'!I9","v":10},{"$f":"'1...10 raw(HU)'!J9","v":0},{"$f":"'1...10 raw(HU)'!K9","v":0},{"$f":"'1...10 raw(HU)'!L9","v":0}]
[2004,8,{"$f":"'1...10 raw(HU)'!C10","v":32},{"$f":"'1...10 raw(HU)'!D10","v":0},{"$f":"'1...10 raw(HU)'!E10","v":0},{"$f":"'1...10 raw(HU)'!F10","v":14},{"$f":"'1...10 raw(HU)'!G10","v":0},{"$f":"'1...10 raw(HU)'!H10","v":0},{"$f":"'1...10 raw(HU)'!I10","v":20},{"$f":"'1...10 raw(HU)'!J10","v":0},{"$f":"'1...10 raw(HU)'!K10","v":73},{"$f":"'1...10 raw(HU)'!L10","v":13}]
[2004,9,{"$f":"'1...10 raw(HU)'!C11","v":27},{"$f":"'1...10 raw(HU)'!D11","v":0},{"$f":"'1...10 raw(HU)'!E11","v":0},{"$f":"'1...10 raw(HU)'!F11","v":12},{"$f":"'1...10 raw(HU)'!G11","v":0},{"$f":"'1...10 raw(HU)'!H11","v":100},{"$f":"'1...10 raw(HU)'!I11","v":16},{"$f":"'1...10 raw(HU)'!J11","v":0},{"$f":"'1...10 raw(HU)'!K11","v":0},{"$f":"'1...10 raw(HU)'!L11","v":18}]
[2004,10,{"$f":"'1...10 raw(HU)'!C12","v":26},{"$f":"'1...10 raw(HU)'!D12","v":0},{"$f":"'1...10 raw(HU)'!E12","v":0},{"$f":"'1...10 raw(HU)'!F12","v":7},{"$f":"'1...10 raw(HU)'!G12","v":0},{"$f":"'1...10 raw(HU)'!H12","v":0},{"$f":"'1...10 raw(HU)'!I12","v":13},{"$f":"'1...10 raw(HU)'!J12","v":0},{"$f":"'1...10 raw(HU)'!K12","v":0},{"$f":"'1...10 raw(HU)'!L12","v":18}]
[2004,11,{"$f":"'1...10 raw(HU)'!C13","v":22},{"$f":"'1...10 raw(HU)'!D13","v":18},{"$f":"'1...10 raw(HU)'!E13","v":62},{"$f":"'1...10 raw(HU)'!F13","v":0},{"$f":"'1...10 raw(HU)'!G13","v":0},{"$f":"'1...10 raw(HU)'!H13","v":0},{"$f":"'1...10 raw(HU)'!I13","v":10},{"$f":"'1...10 raw(HU)'!J13","v":0},{"$f":"'1...10 raw(HU)'!K13","v":16},{"$f":"'1...10 raw(HU)'!L13","v":0}]
[2004,12,{"$f":"'1...10 raw(HU)'!C14","v":16},{"$f":"'1...10 raw(HU)'!D14","v":0},{"$f":"'1...10 raw(HU)'!E14","v":0},{"$f":"'1...10 raw(HU)'!F14","v":6},{"$f":"'1...10 raw(HU)'!G14","v":38},{"$f":"'1...10 raw(HU)'!H14","v":0},{"$f":"'1...10 raw(HU)'!I14","v":14},{"$f":"'1...10 raw(HU)'!J14","v":0},{"$f":"'1...10 raw(HU)'!K14","v":0},{"$f":"'1...10 raw(HU)'!L14","v":0}]
[2005,1,{"$f":"'1...10 raw(HU)'!C15","v":20},{"$f":"'1...10 raw(HU)'!D15","v":15},{"$f":"'1...10 raw(HU)'!E15","v":19},{"$f":"'1...10 raw(HU)'!F15","v":10},{"$f":"'1...10 raw(HU)'!G15","v":0},{"$f":"'1...10 raw(HU)'!H15","v":0},{"$f":"'1...10 raw(HU)'!I15","v":12},{"$f":"'1...10 raw(HU)'!J15","v":0},{"$f":"'1...10 raw(HU)'!K15","v":0},{"$f":"'1...10 raw(HU)'!L15","v":15}]
[2005,2,{"$f":"'1...10 raw(HU)'!C16","v":14},{"$f":"'1...10 raw(HU)'!D16","v":0},{"$f":"'1...10 raw(HU)'!E16","v":14},{"$f":"'1...10 raw(HU)'!F16","v":6},{"$f":"'1...10 raw(HU)'!G16","v":0},{"$f":"'1...10 raw(HU)'!H16","v":0},{"$f":"'1...10 raw(HU)'!I16","v":13},{"$f":"'1...10 raw(HU)'!J16","v":0},{"$f":"'1...10 raw(HU)'!K16","v":43},{"$f":"'1...10 raw(HU)'!L16","v":12}]
[2005,3,{"$f":"'1...10 raw(HU)'!C17","v":49},{"$f":"'1...10 raw(HU)'!D17","v":0},{"$f":"'1...10 raw(HU)'!E17","v":0},{"$f":"'1...10 raw(HU)'!F17","v":5},{"$f":"'1...10 raw(HU)'!G17","v":0},{"$f":"'1...10 raw(HU)'!H17","v":0},{"$f":"'1...10 raw(HU)'!I17","v":22},{"$f":"'1...10 raw(HU)'!J17","v":0},{"$f":"'1...10 raw(HU)'!K17","v":0},{"$f":"'1...10 raw(HU)'!L17","v":9}]
[2005,4,{"$f":"'1...10 raw(HU)'!C18","v":25},{"$f":"'1...10 raw(HU)'!D18","v":16},{"$f":"'1...10 raw(HU)'!E18","v":0},{"$f":"'1...10 raw(HU)'!F18","v":5},{"$f":"'1...10 raw(HU)'!G18","v":19},{"$f":"'1...10 raw(HU)'!H18","v":0},{"$f":"'1...10 raw(HU)'!I18","v":18},{"$f":"'1...10 raw(HU)'!J18","v":0},{"$f":"'1...10 raw(HU)'!K18","v":0},{"$f":"'1...10 raw(HU)'!L18","v":6}]
[2005,5,{"$f":"'1...10 raw(HU)'!C19","v":28},{"$f":"'1...10 raw(HU)'!D19","v":21},{"$f":"'1...10 raw(HU)'!E19","v":0},{"$f":"'1...10 raw(HU)'!F19","v":8},{"$f":"'1...10 raw(HU)'!G19","v":0},{"$f":"'1...10 raw(HU)'!H19","v":31},{"$f":"'1...10 raw(HU)'!I19","v":22},{"$f":"'1...10 raw(HU)'!J19","v":0},{"$f":"'1...10 raw(HU)'!K19","v":11},{"$f":"'1...10 raw(HU)'!L19","v":14}]
[2005,6,{"$f":"'1...10 raw(HU)'!C20","v":22},{"$f":"'1...10 raw(HU)'!D20","v":15},{"$f":"'1...10 raw(HU)'!E20","v":33},{"$f":"'1...10 raw(HU)'!F20","v":3},{"$f":"'1...10 raw(HU)'!G20","v":0},{"$f":"'1...10 raw(HU)'!H20","v":39},{"$f":"'1...10 raw(HU)'!I20","v":24},{"$f":"'1...10 raw(HU)'!J20","v":0},{"$f":"'1...10 raw(HU)'!K20","v":24},{"$f":"'1...10 raw(HU)'!L20","v":0}]
[2005,7,{"$f":"'1...10 raw(HU)'!C21","v":22},{"$f":"'1...10 raw(HU)'!D21","v":0},{"$f":"'1...10 raw(HU)'!E21","v":0},{"$f":"'1...10 raw(HU)'!F21","v":9},{"$f":"'1...10 raw(HU)'!G21","v":0},{"$f":"'1...10 raw(HU)'!H21","v":0},{"$f":"'1...10 raw(HU)'!I21","v":15},{"$f":"'1...10 raw(HU)'!J21","v":0},{"$f":"'1...10 raw(HU)'!K21","v":0},{"$f":"'1...10 raw(HU)'!L21","v":21}]
[2005,8,{"$f":"'1...10 raw(HU)'!C22","v":39},{"$f":"'1...10 raw(HU)'!D22","v":0},{"$f":"'1...10 raw(HU)'!E22","v":12},{"$f":"'1...10 raw(HU)'!F22","v":13},{"$f":"'1...10 raw(HU)'!G22","v":40},{"$f":"'1...10 raw(HU)'!H22","v":81},{"$f":"'1...10 raw(HU)'!I22","v":21},{"$f":"'1...10 raw(HU)'!J22","v":0},{"$f":"'1...10 raw(HU)'!K22","v":0},{"$f":"'1...10 raw(HU)'!L22","v":12}]
[2005,9,{"$f":"'1...10 raw(HU)'!C23","v":44},{"$f":"'1...10 raw(HU)'!D23","v":0},{"$f":"'1...10 raw(HU)'!E23","v":12},{"$f":"'1...10 raw(HU)'!F23","v":20},{"$f":"'1...10 raw(HU)'!G23","v":21},{"$f":"'1...10 raw(HU)'!H23","v":34},{"$f":"'1...10 raw(HU)'!I23","v":16},{"$f":"'1...10 raw(HU)'!J23","v":16},{"$f":"'1...10 raw(HU)'!K23","v":0},{"$f":"'1...10 raw(HU)'!L23","v":9}]
[2005,10,{"$f":"'1...10 raw(HU)'!C24","v":31},{"$f":"'1...10 raw(HU)'!D24","v":0},{"$f":"'1...10 raw(HU)'!E24","v":12},{"$f":"'1...10 raw(HU)'!F24","v":8},{"$f":"'1...10 raw(HU)'!G24","v":24},{"$f":"'1...10 raw(HU)'!H24","v":0},{"$f":"'1...10 raw(HU)'!I24","v":19},{"$f":"'1...10 raw(HU)'!J24","v":0},{"$f":"'1...10 raw(HU)'!K24","v":10},{"$f":"'1...10 raw(HU)'!L24","v":19}]
[2005,11,{"$f":"'1...10 raw(HU)'!C25","v":23},{"$f":"'1...10 raw(HU)'!D25","v":0},{"$f":"'1...10 raw(HU)'!E25","v":0},{"$f":"'1...10 raw(HU)'!F25","v":7},{"$f":"'1...10 raw(HU)'!G25","v":39},{"$f":"'1...10 raw(HU)'!H25","v":54},{"$f":"'1...10 raw(HU)'!I25","v":11},{"$f":"'1...10 raw(HU)'!J25","v":0},{"$f":"'1...10 raw(HU)'!K25","v":7},{"$f":"'1...10 raw(HU)'!L25","v":10}]
[2005,12,{"$f":"'1...10 raw(HU)'!C26","v":30},{"$f":"'1...10 raw(HU)'!D26","v":13},{"$f":"'1...10 raw(HU)'!E26","v":19},{"$f":"'1...10 raw(HU)'!F26","v":6},{"$f":"'1...10 raw(HU)'!G26","v":53},{"$f":"'1...10 raw(HU)'!H26","v":0},{"$f":"'1...10 raw(HU)'!I26","v":13},{"$f":"'1...10 raw(HU)'!J26","v":0},{"$f":"'1...10 raw(HU)'!K26","v":13},{"$f":"'1...10 raw(HU)'!L26","v":12}]
[2006,1,{"$f":"'1...10 raw(HU)'!C27","v":24},{"$f":"'1...10 raw(HU)'!D27","v":0},{"$f":"'1...10 raw(HU)'!E27","v":0},{"$f":"'1...10 raw(HU)'!F27","v":7},{"$f":"'1...10 raw(HU)'!G27","v":38},{"$f":"'1...10 raw(HU)'!H27","v":24},{"$f":"'1...10 raw(HU)'!I27","v":13},{"$f":"'1...10 raw(HU)'!J27","v":0},{"$f":"'1...10 raw(HU)'!K27","v":7},{"$f":"'1...10 raw(HU)'!L27","v":9}]
[2006,2,{"$f":"'1...10 raw(HU)'!C28","v":34},{"$f":"'1...10 raw(HU)'!D28","v":0},{"$f":"'1...10 raw(HU)'!E28","v":0},{"$f":"'1...10 raw(HU)'!F28","v":10},{"$f":"'1...10 raw(HU)'!G28","v":0},{"$f":"'1...10 raw(HU)'!H28","v":47},{"$f":"'1...10 raw(HU)'!I28","v":22},{"$f":"'1...10 raw(HU)'!J28","v":0},{"$f":"'1...10 raw(HU)'!K28","v":0},{"$f":"'1...10 raw(HU)'!L28","v":18}]
[2006,3,{"$f":"'1...10 raw(HU)'!C29","v":43},{"$f":"'1...10 raw(HU)'!D29","v":0},{"$f":"'1...10 raw(HU)'!E29","v":13},{"$f":"'1...10 raw(HU)'!F29","v":10},{"$f":"'1...10 raw(HU)'!G29","v":29},{"$f":"'1...10 raw(HU)'!H29","v":72},{"$f":"'1...10 raw(HU)'!I29","v":28},{"$f":"'1...10 raw(HU)'!J29","v":0},{"$f":"'1...10 raw(HU)'!K29","v":0},{"$f":"'1...10 raw(HU)'!L29","v":22}]
[2006,4,{"$f":"'1...10 raw(HU)'!C30","v":47},{"$f":"'1...10 raw(HU)'!D30","v":0},{"$f":"'1...10 raw(HU)'!E30","v":12},{"$f":"'1...10 raw(HU)'!F30","v":8},{"$f":"'1...10 raw(HU)'!G30","v":20},{"$f":"'1...10 raw(HU)'!H30","v":15},{"$f":"'1...10 raw(HU)'!I30","v":30},{"$f":"'1...10 raw(HU)'!J30","v":0},{"$f":"'1...10 raw(HU)'!K30","v":14},{"$f":"'1...10 raw(HU)'!L30","v":5}]
[2006,5,{"$f":"'1...10 raw(HU)'!C31","v":47},{"$f":"'1...10 raw(HU)'!D31","v":0},{"$f":"'1...10 raw(HU)'!E31","v":8},{"$f":"'1...10 raw(HU)'!F31","v":9},{"$f":"'1...10 raw(HU)'!G31","v":20},{"$f":"'1...10 raw(HU)'!H31","v":28},{"$f":"'1...10 raw(HU)'!I31","v":28},{"$f":"'1...10 raw(HU)'!J31","v":11},{"$f":"'1...10 raw(HU)'!K31","v":5},{"$f":"'1...10 raw(HU)'!L31","v":19}]
[2006,6,{"$f":"'1...10 raw(HU)'!C32","v":59},{"$f":"'1...10 raw(HU)'!D32","v":0},{"$f":"'1...10 raw(HU)'!E32","v":20},{"$f":"'1...10 raw(HU)'!F32","v":9},{"$f":"'1...10 raw(HU)'!G32","v":0},{"$f":"'1...10 raw(HU)'!H32","v":35},{"$f":"'1...10 raw(HU)'!I32","v":22},{"$f":"'1...10 raw(HU)'!J32","v":0},{"$f":"'1...10 raw(HU)'!K32","v":0},{"$f":"'1...10 raw(HU)'!L32","v":15}]
[2006,7,{"$f":"'1...10 raw(HU)'!C33","v":42},{"$f":"'1...10 raw(HU)'!D33","v":0},{"$f":"'1...10 raw(HU)'!E33","v":17},{"$f":"'1...10 raw(HU)'!F33","v":7},{"$f":"'1...10 raw(HU)'!G33","v":24},{"$f":"'1...10 raw(HU)'!H33","v":27},{"$f":"'1...10 raw(HU)'!I33","v":18},{"$f":"'1...10 raw(HU)'!J33","v":19},{"$f":"'1...10 raw(HU)'!K33","v":22},{"$f":"'1...10 raw(HU)'!L33","v":12}]
[2006,8,{"$f":"'1...10 raw(HU)'!C34","v":44},{"$f":"'1...10 raw(HU)'!D34","v":0},{"$f":"'1...10 raw(HU)'!E34","v":0},{"$f":"'1...10 raw(HU)'!F34","v":11},{"$f":"'1...10 raw(HU)'!G34","v":19},{"$f":"'1...10 raw(HU)'!H34","v":48},{"$f":"'1...10 raw(HU)'!I34","v":23},{"$f":"'1...10 raw(HU)'!J34","v":0},{"$f":"'1...10 raw(HU)'!K34","v":0},{"$f":"'1...10 raw(HU)'!L34","v":16}]
[2006,9,{"$f":"'1...10 raw(HU)'!C35","v":34},{"$f":"'1...10 raw(HU)'!D35","v":0},{"$f":"'1...10 raw(HU)'!E35","v":7},{"$f":"'1...10 raw(HU)'!F35","v":8},{"$f":"'1...10 raw(HU)'!G35","v":0},{"$f":"'1...10 raw(HU)'!H35","v":53},{"$f":"'1...10 raw(HU)'!I35","v":23},{"$f":"'1...10 raw(HU)'!J35","v":0},{"$f":"'1...10 raw(HU)'!K35","v":10},{"$f":"'1...10 raw(HU)'!L35","v":15}]
[2006,10,{"$f":"'1...10 raw(HU)'!C36","v":37},{"$f":"'1...10 raw(HU)'!D36","v":0},{"$f":"'1...10 raw(HU)'!E36","v":19},{"$f":"'1...10 raw(HU)'!F36","v":11},{"$f":"'1...10 raw(HU)'!G36","v":33},{"$f":"'1...10 raw(HU)'!H36","v":75},{"$f":"'1...10 raw(HU)'!I36","v":24},{"$f":"'1...10 raw(HU)'!J36","v":0},{"$f":"'1...10 raw(HU)'!K36","v":14},{"$f":"'1...10 raw(HU)'!L36","v":13}]
[2006,11,{"$f":"'1...10 raw(HU)'!C37","v":28},{"$f":"'1...10 raw(HU)'!D37","v":0},{"$f":"'1...10 raw(HU)'!E37","v":13},{"$f":"'1...10 raw(HU)'!F37","v":12},{"$f":"'1...10 raw(HU)'!G37","v":10},{"$f":"'1...10 raw(HU)'!H37","v":0},{"$f":"'1...10 raw(HU)'!I37","v":18},{"$f":"'1...10 raw(HU)'!J37","v":0},{"$f":"'1...10 raw(HU)'!K37","v":15},{"$f":"'1...10 raw(HU)'!L37","v":21}]
[2006,12,{"$f":"'1...10 raw(HU)'!C38","v":38},{"$f":"'1...10 raw(HU)'!D38","v":0},{"$f":"'1...10 raw(HU)'!E38","v":14},{"$f":"'1...10 raw(HU)'!F38","v":8},{"$f":"'1...10 raw(HU)'!G38","v":38},{"$f":"'1...10 raw(HU)'!H38","v":43},{"$f":"'1...10 raw(HU)'!I38","v":18},{"$f":"'1...10 raw(HU)'!J38","v":0},{"$f":"'1...10 raw(HU)'!K38","v":4},{"$f":"'1...10 raw(HU)'!L38","v":10}]
[2007,1,{"$f":"'1...10 raw(HU)'!C39","v":29},{"$f":"'1...10 raw(HU)'!D39","v":0},{"$f":"'1...10 raw(HU)'!E39","v":20},{"$f":"'1...10 raw(HU)'!F39","v":9},{"$f":"'1...10 raw(HU)'!G39","v":16},{"$f":"'1...10 raw(HU)'!H39","v":26},{"$f":"'1...10 raw(HU)'!I39","v":15},{"$f":"'1...10 raw(HU)'!J39","v":0},{"$f":"'1...10 raw(HU)'!K39","v":12},{"$f":"'1...10 raw(HU)'!L39","v":13}]
[2007,2,{"$f":"'1...10 raw(HU)'!C40","v":36},{"$f":"'1...10 raw(HU)'!D40","v":0},{"$f":"'1...10 raw(HU)'!E40","v":14},{"$f":"'1...10 raw(HU)'!F40","v":7},{"$f":"'1...10 raw(HU)'!G40","v":25},{"$f":"'1...10 raw(HU)'!H40","v":59},{"$f":"'1...10 raw(HU)'!I40","v":18},{"$f":"'1...10 raw(HU)'!J40","v":0},{"$f":"'1...10 raw(HU)'!K40","v":6},{"$f":"'1...10 raw(HU)'!L40","v":22}]
[2007,3,{"$f":"'1...10 raw(HU)'!C41","v":49},{"$f":"'1...10 raw(HU)'!D41","v":0},{"$f":"'1...10 raw(HU)'!E41","v":11},{"$f":"'1...10 raw(HU)'!F41","v":10},{"$f":"'1...10 raw(HU)'!G41","v":0},{"$f":"'1...10 raw(HU)'!H41","v":29},{"$f":"'1...10 raw(HU)'!I41","v":24},{"$f":"'1...10 raw(HU)'!J41","v":11},{"$f":"'1...10 raw(HU)'!K41","v":9},{"$f":"'1...10 raw(HU)'!L41","v":15}]
[2007,4,{"$f":"'1...10 raw(HU)'!C42","v":42},{"$f":"'1...10 raw(HU)'!D42","v":0},{"$f":"'1...10 raw(HU)'!E42","v":0},{"$f":"'1...10 raw(HU)'!F42","v":10},{"$f":"'1...10 raw(HU)'!G42","v":16},{"$f":"'1...10 raw(HU)'!H42","v":46},{"$f":"'1...10 raw(HU)'!I42","v":26},{"$f":"'1...10 raw(HU)'!J42","v":0},{"$f":"'1...10 raw(HU)'!K42","v":18},{"$f":"'1...10 raw(HU)'!L42","v":15}]
[2007,5,{"$f":"'1...10 raw(HU)'!C43","v":38},{"$f":"'1...10 raw(HU)'!D43","v":0},{"$f":"'1...10 raw(HU)'!E43","v":11},{"$f":"'1...10 raw(HU)'!F43","v":9},{"$f":"'1...10 raw(HU)'!G43","v":17},{"$f":"'1...10 raw(HU)'!H43","v":58},{"$f":"'1...10 raw(HU)'!I43","v":20},{"$f":"'1...10 raw(HU)'!J43","v":7},{"$f":"'1...10 raw(HU)'!K43","v":13},{"$f":"'1...10 raw(HU)'!L43","v":19}]
[2007,6,{"$f":"'1...10 raw(HU)'!C44","v":31},{"$f":"'1...10 raw(HU)'!D44","v":4},{"$f":"'1...10 raw(HU)'!E44","v":8},{"$f":"'1...10 raw(HU)'!F44","v":10},{"$f":"'1...10 raw(HU)'!G44","v":16},{"$f":"'1...10 raw(HU)'!H44","v":43},{"$f":"'1...10 raw(HU)'!I44","v":18},{"$f":"'1...10 raw(HU)'!J44","v":0},{"$f":"'1...10 raw(HU)'!K44","v":6},{"$f":"'1...10 raw(HU)'!L44","v":17}]
[2007,7,{"$f":"'1...10 raw(HU)'!C45","v":35},{"$f":"'1...10 raw(HU)'!D45","v":0},{"$f":"'1...10 raw(HU)'!E45","v":3},{"$f":"'1...10 raw(HU)'!F45","v":8},{"$f":"'1...10 raw(HU)'!G45","v":9},{"$f":"'1...10 raw(HU)'!H45","v":59},{"$f":"'1...10 raw(HU)'!I45","v":19},{"$f":"'1...10 raw(HU)'!J45","v":6},{"$f":"'1...10 raw(HU)'!K45","v":10},{"$f":"'1...10 raw(HU)'!L45","v":12}]
[2007,8,{"$f":"'1...10 raw(HU)'!C46","v":42},{"$f":"'1...10 raw(HU)'!D46","v":0},{"$f":"'1...10 raw(HU)'!E46","v":8},{"$f":"'1...10 raw(HU)'!F46","v":8},{"$f":"'1...10 raw(HU)'!G46","v":21},{"$f":"'1...10 raw(HU)'!H46","v":40},{"$f":"'1...10 raw(HU)'!I46","v":28},{"$f":"'1...10 raw(HU)'!J46","v":0},{"$f":"'1...10 raw(HU)'!K46","v":6},{"$f":"'1...10 raw(HU)'!L46","v":14}]
[2007,9,{"$f":"'1...10 raw(HU)'!C47","v":38},{"$f":"'1...10 raw(HU)'!D47","v":3},{"$f":"'1...10 raw(HU)'!E47","v":9},{"$f":"'1...10 raw(HU)'!F47","v":11},{"$f":"'1...10 raw(HU)'!G47","v":39},{"$f":"'1...10 raw(HU)'!H47","v":60},{"$f":"'1...10 raw(HU)'!I47","v":21},{"$f":"'1...10 raw(HU)'!J47","v":0},{"$f":"'1...10 raw(HU)'!K47","v":10},{"$f":"'1...10 raw(HU)'!L47","v":24}]
[2007,10,{"$f":"'1...10 raw(HU)'!C48","v":33},{"$f":"'1...10 raw(HU)'!D48","v":0},{"$f":"'1...10 raw(HU)'!E48","v":11},{"$f":"'1...10 raw(HU)'!F48","v":13},{"$f":"'1...10 raw(HU)'!G48","v":14},{"$f":"'1...10 raw(HU)'!H48","v":49},{"$f":"'1...10 raw(HU)'!I48","v":19},{"$f":"'1...10 raw(HU)'!J48","v":0},{"$f":"'1...10 raw(HU)'!K48","v":11},{"$f":"'1...10 raw(HU)'!L48","v":25}]
[2007,11,{"$f":"'1...10 raw(HU)'!C49","v":35},{"$f":"'1...10 raw(HU)'!D49","v":12},{"$f":"'1...10 raw(HU)'!E49","v":4},{"$f":"'1...10 raw(HU)'!F49","v":12},{"$f":"'1...10 raw(HU)'!G49","v":46},{"$f":"'1...10 raw(HU)'!H49","v":64},{"$f":"'1...10 raw(HU)'!I49","v":17},{"$f":"'1...10 raw(HU)'!J49","v":22},{"$f":"'1...10 raw(HU)'!K49","v":10},{"$f":"'1...10 raw(HU)'!L49","v":21}]
[2007,12,{"$f":"'1...10 raw(HU)'!C50","v":38},{"$f":"'1...10 raw(HU)'!D50","v":10},{"$f":"'1...10 raw(HU)'!E50","v":24},{"$f":"'1...10 raw(HU)'!F50","v":10},{"$f":"'1...10 raw(HU)'!G50","v":31},{"$f":"'1...10 raw(HU)'!H50","v":60},{"$f":"'1...10 raw(HU)'!I50","v":20},{"$f":"'1...10 raw(HU)'!J50","v":8},{"$f":"'1...10 raw(HU)'!K50","v":17},{"$f":"'1...10 raw(HU)'!L50","v":21}]
[2008,1,{"$f":"'1...10 raw(HU)'!C51","v":29},{"$f":"'1...10 raw(HU)'!D51","v":8},{"$f":"'1...10 raw(HU)'!E51","v":7},{"$f":"'1...10 raw(HU)'!F51","v":10},{"$f":"'1...10 raw(HU)'!G51","v":17},{"$f":"'1...10 raw(HU)'!H51","v":35},{"$f":"'1...10 raw(HU)'!I51","v":18},{"$f":"'1...10 raw(HU)'!J51","v":5},{"$f":"'1...10 raw(HU)'!K51","v":9},{"$f":"'1...10 raw(HU)'!L51","v":19}]
[2008,2,{"$f":"'1...10 raw(HU)'!C52","v":40},{"$f":"'1...10 raw(HU)'!D52","v":6},{"$f":"'1...10 raw(HU)'!E52","v":13},{"$f":"'1...10 raw(HU)'!F52","v":10},{"$f":"'1...10 raw(HU)'!G52","v":25},{"$f":"'1...10 raw(HU)'!H52","v":47},{"$f":"'1...10 raw(HU)'!I52","v":22},{"$f":"'1...10 raw(HU)'!J52","v":5},{"$f":"'1...10 raw(HU)'!K52","v":11},{"$f":"'1...10 raw(HU)'!L52","v":18}]
[2008,3,{"$f":"'1...10 raw(HU)'!C53","v":47},{"$f":"'1...10 raw(HU)'!D53","v":7},{"$f":"'1...10 raw(HU)'!E53","v":7},{"$f":"'1...10 raw(HU)'!F53","v":10},{"$f":"'1...10 raw(HU)'!G53","v":10},{"$f":"'1...10 raw(HU)'!H53","v":48},{"$f":"'1...10 raw(HU)'!I53","v":28},{"$f":"'1...10 raw(HU)'!J53","v":5},{"$f":"'1...10 raw(HU)'!K53","v":18},{"$f":"'1...10 raw(HU)'!L53","v":15}]
[2008,4,{"$f":"'1...10 raw(HU)'!C54","v":42},{"$f":"'1...10 raw(HU)'!D54","v":4},{"$f":"'1...10 raw(HU)'!E54","v":12},{"$f":"'1...10 raw(HU)'!F54","v":7},{"$f":"'1...10 raw(HU)'!G54","v":18},{"$f":"'1...10 raw(HU)'!H54","v":64},{"$f":"'1...10 raw(HU)'!I54","v":26},{"$f":"'1...10 raw(HU)'!J54","v":8},{"$f":"'1...10 raw(HU)'!K54","v":5},{"$f":"'1...10 raw(HU)'!L54","v":11}]
[2008,5,{"$f":"'1...10 raw(HU)'!C55","v":32},{"$f":"'1...10 raw(HU)'!D55","v":0},{"$f":"'1...10 raw(HU)'!E55","v":0},{"$f":"'1...10 raw(HU)'!F55","v":10},{"$f":"'1...10 raw(HU)'!G55","v":27},{"$f":"'1...10 raw(HU)'!H55","v":40},{"$f":"'1...10 raw(HU)'!I55","v":25},{"$f":"'1...10 raw(HU)'!J55","v":10},{"$f":"'1...10 raw(HU)'!K55","v":9},{"$f":"'1...10 raw(HU)'!L55","v":13}]
[2008,6,{"$f":"'1...10 raw(HU)'!C56","v":37},{"$f":"'1...10 raw(HU)'!D56","v":14},{"$f":"'1...10 raw(HU)'!E56","v":8},{"$f":"'1...10 raw(HU)'!F56","v":9},{"$f":"'1...10 raw(HU)'!G56","v":17},{"$f":"'1...10 raw(HU)'!H56","v":41},{"$f":"'1...10 raw(HU)'!I56","v":25},{"$f":"'1...10 raw(HU)'!J56","v":11},{"$f":"'1...10 raw(HU)'!K56","v":6},{"$f":"'1...10 raw(HU)'!L56","v":12}]
[2008,7,{"$f":"'1...10 raw(HU)'!C57","v":39},{"$f":"'1...10 raw(HU)'!D57","v":5},{"$f":"'1...10 raw(HU)'!E57","v":14},{"$f":"'1...10 raw(HU)'!F57","v":9},{"$f":"'1...10 raw(HU)'!G57","v":13},{"$f":"'1...10 raw(HU)'!H57","v":53},{"$f":"'1...10 raw(HU)'!I57","v":24},{"$f":"'1...10 raw(HU)'!J57","v":12},{"$f":"'1...10 raw(HU)'!K57","v":4},{"$f":"'1...10 raw(HU)'!L57","v":12}]
[2008,8,{"$f":"'1...10 raw(HU)'!C58","v":47},{"$f":"'1...10 raw(HU)'!D58","v":9},{"$f":"'1...10 raw(HU)'!E58","v":11},{"$f":"'1...10 raw(HU)'!F58","v":10},{"$f":"'1...10 raw(HU)'!G58","v":21},{"$f":"'1...10 raw(HU)'!H58","v":52},{"$f":"'1...10 raw(HU)'!I58","v":31},{"$f":"'1...10 raw(HU)'!J58","v":6},{"$f":"'1...10 raw(HU)'!K58","v":18},{"$f":"'1...10 raw(HU)'!L58","v":19}]
[2008,9,{"$f":"'1...10 raw(HU)'!C59","v":37},{"$f":"'1...10 raw(HU)'!D59","v":14},{"$f":"'1...10 raw(HU)'!E59","v":16},{"$f":"'1...10 raw(HU)'!F59","v":13},{"$f":"'1...10 raw(HU)'!G59","v":24},{"$f":"'1...10 raw(HU)'!H59","v":42},{"$f":"'1...10 raw(HU)'!I59","v":24},{"$f":"'1...10 raw(HU)'!J59","v":0},{"$f":"'1...10 raw(HU)'!K59","v":16},{"$f":"'1...10 raw(HU)'!L59","v":23}]
[2008,10,{"$f":"'1...10 raw(HU)'!C60","v":35},{"$f":"'1...10 raw(HU)'!D60","v":17},{"$f":"'1...10 raw(HU)'!E60","v":7},{"$f":"'1...10 raw(HU)'!F60","v":9},{"$f":"'1...10 raw(HU)'!G60","v":17},{"$f":"'1...10 raw(HU)'!H60","v":29},{"$f":"'1...10 raw(HU)'!I60","v":22},{"$f":"'1...10 raw(HU)'!J60","v":12},{"$f":"'1...10 raw(HU)'!K60","v":9},{"$f":"'1...10 raw(HU)'!L60","v":19}]
[2008,11,{"$f":"'1...10 raw(HU)'!C61","v":34},{"$f":"'1...10 raw(HU)'!D61","v":11},{"$f":"'1...10 raw(HU)'!E61","v":16},{"$f":"'1...10 raw(HU)'!F61","v":11},{"$f":"'1...10 raw(HU)'!G61","v":38},{"$f":"'1...10 raw(HU)'!H61","v":38},{"$f":"'1...10 raw(HU)'!I61","v":23},{"$f":"'1...10 raw(HU)'!J61","v":8},{"$f":"'1...10 raw(HU)'!K61","v":8},{"$f":"'1...10 raw(HU)'!L61","v":24}]
[2008,12,{"$f":"'1...10 raw(HU)'!C62","v":36},{"$f":"'1...10 raw(HU)'!D62","v":15},{"$f":"'1...10 raw(HU)'!E62","v":13},{"$f":"'1...10 raw(HU)'!F62","v":10},{"$f":"'1...10 raw(HU)'!G62","v":41},{"$f":"'1...10 raw(HU)'!H62","v":37},{"$f":"'1...10 raw(HU)'!I62","v":21},{"$f":"'1...10 raw(HU)'!J62","v":11},{"$f":"'1...10 raw(HU)'!K62","v":15},{"$f":"'1...10 raw(HU)'!L62","v":22}]
[2009,1,{"$f":"'1...10 raw(HU)'!C63","v":26},{"$f":"'1...10 raw(HU)'!D63","v":9},{"$f":"'1...10 raw(HU)'!E63","v":9},{"$f":"'1...10 raw(HU)'!F63","v":8},{"$f":"'1...10 raw(HU)'!G63","v":17},{"$f":"'1...10 raw(HU)'!H63","v":32},{"$f":"'1...10 raw(HU)'!I63","v":21},{"$f":"'1...10 raw(HU)'!J63","v":4},{"$f":"'1...10 raw(HU)'!K63","v":3},{"$f":"'1...10 raw(HU)'!L63","v":16}]
[2009,2,{"$f":"'1...10 raw(HU)'!C64","v":35},{"$f":"'1...10 raw(HU)'!D64","v":17},{"$f":"'1...10 raw(HU)'!E64","v":9},{"$f":"'1...10 raw(HU)'!F64","v":8},{"$f":"'1...10 raw(HU)'!G64","v":22},{"$f":"'1...10 raw(HU)'!H64","v":48},{"$f":"'1...10 raw(HU)'!I64","v":21},{"$f":"'1...10 raw(HU)'!J64","v":21},{"$f":"'1...10 raw(HU)'!K64","v":7},{"$f":"'1...10 raw(HU)'!L64","v":13}]
[2009,3,{"$f":"'1...10 raw(HU)'!C65","v":41},{"$f":"'1...10 raw(HU)'!D65","v":12},{"$f":"'1...10 raw(HU)'!E65","v":0},{"$f":"'1...10 raw(HU)'!F65","v":10},{"$f":"'1...10 raw(HU)'!G65","v":19},{"$f":"'1...10 raw(HU)'!H65","v":56},{"$f":"'1...10 raw(HU)'!I65","v":29},{"$f":"'1...10 raw(HU)'!J65","v":21},{"$f":"'1...10 raw(HU)'!K65","v":6},{"$f":"'1...10 raw(HU)'!L65","v":16}]
[2009,4,{"$f":"'1...10 raw(HU)'!C66","v":38},{"$f":"'1...10 raw(HU)'!D66","v":16},{"$f":"'1...10 raw(HU)'!E66","v":12},{"$f":"'1...10 raw(HU)'!F66","v":8},{"$f":"'1...10 raw(HU)'!G66","v":23},{"$f":"'1...10 raw(HU)'!H66","v":48},{"$f":"'1...10 raw(HU)'!I66","v":28},{"$f":"'1...10 raw(HU)'!J66","v":17},{"$f":"'1...10 raw(HU)'!K66","v":19},{"$f":"'1...10 raw(HU)'!L66","v":16}]
[2009,5,{"$f":"'1...10 raw(HU)'!C67","v":36},{"$f":"'1...10 raw(HU)'!D67","v":13},{"$f":"'1...10 raw(HU)'!E67","v":9},{"$f":"'1...10 raw(HU)'!F67","v":9},{"$f":"'1...10 raw(HU)'!G67","v":12},{"$f":"'1...10 raw(HU)'!H67","v":59},{"$f":"'1...10 raw(HU)'!I67","v":24},{"$f":"'1...10 raw(HU)'!J67","v":18},{"$f":"'1...10 raw(HU)'!K67","v":6},{"$f":"'1...10 raw(HU)'!L67","v":13}]
[2009,6,{"$f":"'1...10 raw(HU)'!C68","v":34},{"$f":"'1...10 raw(HU)'!D68","v":17},{"$f":"'1...10 raw(HU)'!E68","v":15},{"$f":"'1...10 raw(HU)'!F68","v":11},{"$f":"'1...10 raw(HU)'!G68","v":26},{"$f":"'1...10 raw(HU)'!H68","v":41},{"$f":"'1...10 raw(HU)'!I68","v":21},{"$f":"'1...10 raw(HU)'!J68","v":14},{"$f":"'1...10 raw(HU)'!K68","v":16},{"$f":"'1...10 raw(HU)'!L68","v":16}]
[2009,7,{"$f":"'1...10 raw(HU)'!C69","v":33},{"$f":"'1...10 raw(HU)'!D69","v":13},{"$f":"'1...10 raw(HU)'!E69","v":15},{"$f":"'1...10 raw(HU)'!F69","v":9},{"$f":"'1...10 raw(HU)'!G69","v":31},{"$f":"'1...10 raw(HU)'!H69","v":44},{"$f":"'1...10 raw(HU)'!I69","v":24},{"$f":"'1...10 raw(HU)'!J69","v":10},{"$f":"'1...10 raw(HU)'!K69","v":10},{"$f":"'1...10 raw(HU)'!L69","v":16}]
[2009,8,{"$f":"'1...10 raw(HU)'!C70","v":47},{"$f":"'1...10 raw(HU)'!D70","v":22},{"$f":"'1...10 raw(HU)'!E70","v":16},{"$f":"'1...10 raw(HU)'!F70","v":10},{"$f":"'1...10 raw(HU)'!G70","v":22},{"$f":"'1...10 raw(HU)'!H70","v":48},{"$f":"'1...10 raw(HU)'!I70","v":29},{"$f":"'1...10 raw(HU)'!J70","v":14},{"$f":"'1...10 raw(HU)'!K70","v":7},{"$f":"'1...10 raw(HU)'!L70","v":15}]
[2009,9,{"$f":"'1...10 raw(HU)'!C71","v":42},{"$f":"'1...10 raw(HU)'!D71","v":32},{"$f":"'1...10 raw(HU)'!E71","v":14},{"$f":"'1...10 raw(HU)'!F71","v":11},{"$f":"'1...10 raw(HU)'!G71","v":22},{"$f":"'1...10 raw(HU)'!H71","v":58},{"$f":"'1...10 raw(HU)'!I71","v":26},{"$f":"'1...10 raw(HU)'!J71","v":20},{"$f":"'1...10 raw(HU)'!K71","v":8},{"$f":"'1...10 raw(HU)'!L71","v":24}]
[2009,10,{"$f":"'1...10 raw(HU)'!C72","v":38},{"$f":"'1...10 raw(HU)'!D72","v":33},{"$f":"'1...10 raw(HU)'!E72","v":13},{"$f":"'1...10 raw(HU)'!F72","v":10},{"$f":"'1...10 raw(HU)'!G72","v":23},{"$f":"'1...10 raw(HU)'!H72","v":51},{"$f":"'1...10 raw(HU)'!I72","v":24},{"$f":"'1...10 raw(HU)'!J72","v":15},{"$f":"'1...10 raw(HU)'!K72","v":17},{"$f":"'1...10 raw(HU)'!L72","v":23}]
[2009,11,{"$f":"'1...10 raw(HU)'!C73","v":35},{"$f":"'1...10 raw(HU)'!D73","v":31},{"$f":"'1...10 raw(HU)'!E73","v":17},{"$f":"'1...10 raw(HU)'!F73","v":13},{"$f":"'1...10 raw(HU)'!G73","v":15},{"$f":"'1...10 raw(HU)'!H73","v":47},{"$f":"'1...10 raw(HU)'!I73","v":22},{"$f":"'1...10 raw(HU)'!J73","v":20},{"$f":"'1...10 raw(HU)'!K73","v":20},{"$f":"'1...10 raw(HU)'!L73","v":25}]
[2009,12,{"$f":"'1...10 raw(HU)'!C74","v":39},{"$f":"'1...10 raw(HU)'!D74","v":24},{"$f":"'1...10 raw(HU)'!E74","v":22},{"$f":"'1...10 raw(HU)'!F74","v":11},{"$f":"'1...10 raw(HU)'!G74","v":37},{"$f":"'1...10 raw(HU)'!H74","v":52},{"$f":"'1...10 raw(HU)'!I74","v":22},{"$f":"'1...10 raw(HU)'!J74","v":28},{"$f":"'1...10 raw(HU)'!K74","v":14},{"$f":"'1...10 raw(HU)'!L74","v":19}]
[2010,1,{"$f":"'1...10 raw(HU)'!C75","v":32},{"$f":"'1...10 raw(HU)'!D75","v":27},{"$f":"'1...10 raw(HU)'!E75","v":11},{"$f":"'1...10 raw(HU)'!F75","v":9},{"$f":"'1...10 raw(HU)'!G75","v":16},{"$f":"'1...10 raw(HU)'!H75","v":22},{"$f":"'1...10 raw(HU)'!I75","v":19},{"$f":"'1...10 raw(HU)'!J75","v":12},{"$f":"'1...10 raw(HU)'!K75","v":12},{"$f":"'1...10 raw(HU)'!L75","v":16}]
[2010,2,{"$f":"'1...10 raw(HU)'!C76","v":36},{"$f":"'1...10 raw(HU)'!D76","v":25},{"$f":"'1...10 raw(HU)'!E76","v":17},{"$f":"'1...10 raw(HU)'!F76","v":10},{"$f":"'1...10 raw(HU)'!G76","v":17},{"$f":"'1...10 raw(HU)'!H76","v":36},{"$f":"'1...10 raw(HU)'!I76","v":21},{"$f":"'1...10 raw(HU)'!J76","v":10},{"$f":"'1...10 raw(HU)'!K76","v":11},{"$f":"'1...10 raw(HU)'!L76","v":15}]
[2010,3,{"$f":"'1...10 raw(HU)'!C77","v":42},{"$f":"'1...10 raw(HU)'!D77","v":26},{"$f":"'1...10 raw(HU)'!E77","v":13},{"$f":"'1...10 raw(HU)'!F77","v":12},{"$f":"'1...10 raw(HU)'!G77","v":25},{"$f":"'1...10 raw(HU)'!H77","v":49},{"$f":"'1...10 raw(HU)'!I77","v":25},{"$f":"'1...10 raw(HU)'!J77","v":21},{"$f":"'1...10 raw(HU)'!K77","v":22},{"$f":"'1...10 raw(HU)'!L77","v":21}]
[2010,4,{"$f":"'1...10 raw(HU)'!C78","v":46},{"$f":"'1...10 raw(HU)'!D78","v":29},{"$f":"'1...10 raw(HU)'!E78","v":13},{"$f":"'1...10 raw(HU)'!F78","v":10},{"$f":"'1...10 raw(HU)'!G78","v":24},{"$f":"'1...10 raw(HU)'!H78","v":52},{"$f":"'1...10 raw(HU)'!I78","v":28},{"$f":"'1...10 raw(HU)'!J78","v":24},{"$f":"'1...10 raw(HU)'!K78","v":18},{"$f":"'1...10 raw(HU)'!L78","v":18}]
[2010,5,{"$f":"'1...10 raw(HU)'!C79","v":39},{"$f":"'1...10 raw(HU)'!D79","v":26},{"$f":"'1...10 raw(HU)'!E79","v":12},{"$f":"'1...10 raw(HU)'!F79","v":11},{"$f":"'1...10 raw(HU)'!G79","v":18},{"$f":"'1...10 raw(HU)'!H79","v":61},{"$f":"'1...10 raw(HU)'!I79","v":27},{"$f":"'1...10 raw(HU)'!J79","v":20},{"$f":"'1...10 raw(HU)'!K79","v":17},{"$f":"'1...10 raw(HU)'!L79","v":21}]
[2010,6,{"$f":"'1...10 raw(HU)'!C80","v":38},{"$f":"'1...10 raw(HU)'!D80","v":20},{"$f":"'1...10 raw(HU)'!E80","v":15},{"$f":"'1...10 raw(HU)'!F80","v":13},{"$f":"'1...10 raw(HU)'!G80","v":22},{"$f":"'1...10 raw(HU)'!H80","v":45},{"$f":"'1...10 raw(HU)'!I80","v":23},{"$f":"'1...10 raw(HU)'!J80","v":11},{"$f":"'1...10 raw(HU)'!K80","v":17},{"$f":"'1...10 raw(HU)'!L80","v":22}]
[2010,7,{"$f":"'1...10 raw(HU)'!C81","v":38},{"$f":"'1...10 raw(HU)'!D81","v":27},{"$f":"'1...10 raw(HU)'!E81","v":11},{"$f":"'1...10 raw(HU)'!F81","v":11},{"$f":"'1...10 raw(HU)'!G81","v":18},{"$f":"'1...10 raw(HU)'!H81","v":37},{"$f":"'1...10 raw(HU)'!I81","v":21},{"$f":"'1...10 raw(HU)'!J81","v":12},{"$f":"'1...10 raw(HU)'!K81","v":15},{"$f":"'1...10 raw(HU)'!L81","v":19}]
[2010,8,{"$f":"'1...10 raw(HU)'!C82","v":42},{"$f":"'1...10 raw(HU)'!D82","v":28},{"$f":"'1...10 raw(HU)'!E82","v":11},{"$f":"'1...10 raw(HU)'!F82","v":13},{"$f":"'1...10 raw(HU)'!G82","v":24},{"$f":"'1...10 raw(HU)'!H82","v":47},{"$f":"'1...10 raw(HU)'!I82","v":30},{"$f":"'1...10 raw(HU)'!J82","v":18},{"$f":"'1...10 raw(HU)'!K82","v":17},{"$f":"'1...10 raw(HU)'!L82","v":23}]
[2010,9,{"$f":"'1...10 raw(HU)'!C83","v":42},{"$f":"'1...10 raw(HU)'!D83","v":27},{"$f":"'1...10 raw(HU)'!E83","v":16},{"$f":"'1...10 raw(HU)'!F83","v":15},{"$f":"'1...10 raw(HU)'!G83","v":41},{"$f":"'1...10 raw(HU)'!H83","v":50},{"$f":"'1...10 raw(HU)'!I83","v":28},{"$f":"'1...10 raw(HU)'!J83","v":28},{"$f":"'1...10 raw(HU)'!K83","v":18},{"$f":"'1...10 raw(HU)'!L83","v":28}]
[2010,10,{"$f":"'1...10 raw(HU)'!C84","v":35},{"$f":"'1...10 raw(HU)'!D84","v":35},{"$f":"'1...10 raw(HU)'!E84","v":18},{"$f":"'1...10 raw(HU)'!F84","v":16},{"$f":"'1...10 raw(HU)'!G84","v":25},{"$f":"'1...10 raw(HU)'!H84","v":48},{"$f":"'1...10 raw(HU)'!I84","v":23},{"$f":"'1...10 raw(HU)'!J84","v":30},{"$f":"'1...10 raw(HU)'!K84","v":18},{"$f":"'1...10 raw(HU)'!L84","v":25}]
[2010,11,{"$f":"'1...10 raw(HU)'!C85","v":35},{"$f":"'1...10 raw(HU)'!D85","v":26},{"$f":"'1...10 raw(HU)'!E85","v":11},{"$f":"'1...10 raw(HU)'!F85","v":17},{"$f":"'1...10 raw(HU)'!G85","v":30},{"$f":"'1...10 raw(HU)'!H85","v":39},{"$f":"'1...10 raw(HU)'!I85","v":21},{"$f":"'1...10 raw(HU)'!J85","v":22},{"$f":"'1...10 raw(HU)'!K85","v":15},{"$f":"'1...10 raw(HU)'!L85","v":25}]
[2010,12,{"$f":"'1...10 raw(HU)'!C86","v":37},{"$f":"'1...10 raw(HU)'!D86","v":41},{"$f":"'1...10 raw(HU)'!E86","v":21},{"$f":"'1...10 raw(HU)'!F86","v":14},{"$f":"'1...10 raw(HU)'!G86","v":39},{"$f":"'1...10 raw(HU)'!H86","v":35},{"$f":"'1...10 raw(HU)'!I86","v":20},{"$f":"'1...10 raw(HU)'!J86","v":39},{"$f":"'1...10 raw(HU)'!K86","v":21},{"$f":"'1...10 raw(HU)'!L86","v":31}]
[2011,1,{"$f":"'1...10 raw(HU)'!C87","v":34},{"$f":"'1...10 raw(HU)'!D87","v":21},{"$f":"'1...10 raw(HU)'!E87","v":9},{"$f":"'1...10 raw(HU)'!F87","v":11},{"$f":"'1...10 raw(HU)'!G87","v":17},{"$f":"'1...10 raw(HU)'!H87","v":26},{"$f":"'1...10 raw(HU)'!I87","v":19},{"$f":"'1...10 raw(HU)'!J87","v":21},{"$f":"'1...10 raw(HU)'!K87","v":13},{"$f":"'1...10 raw(HU)'!L87","v":25}]
[2011,2,{"$f":"'1...10 raw(HU)'!C88","v":41},{"$f":"'1...10 raw(HU)'!D88","v":24},{"$f":"'1...10 raw(HU)'!E88","v":8},{"$f":"'1...10 raw(HU)'!F88","v":12},{"$f":"'1...10 raw(HU)'!G88","v":23},{"$f":"'1...10 raw(HU)'!H88","v":43},{"$f":"'1...10 raw(HU)'!I88","v":22},{"$f":"'1...10 raw(HU)'!J88","v":21},{"$f":"'1...10 raw(HU)'!K88","v":14},{"$f":"'1...10 raw(HU)'!L88","v":28}]
[2011,3,{"$f":"'1...10 raw(HU)'!C89","v":51},{"$f":"'1...10 raw(HU)'!D89","v":37},{"$f":"'1...10 raw(HU)'!E89","v":11},{"$f":"'1...10 raw(HU)'!F89","v":15},{"$f":"'1...10 raw(HU)'!G89","v":19},{"$f":"'1...10 raw(HU)'!H89","v":53},{"$f":"'1...10 raw(HU)'!I89","v":27},{"$f":"'1...10 raw(HU)'!J89","v":26},{"$f":"'1...10 raw(HU)'!K89","v":17},{"$f":"'1...10 raw(HU)'!L89","v":29}]
[2011,4,{"$f":"'1...10 raw(HU)'!C90","v":44},{"$f":"'1...10 raw(HU)'!D90","v":23},{"$f":"'1...10 raw(HU)'!E90","v":13},{"$f":"'1...10 raw(HU)'!F90","v":15},{"$f":"'1...10 raw(HU)'!G90","v":27},{"$f":"'1...10 raw(HU)'!H90","v":51},{"$f":"'1...10 raw(HU)'!I90","v":26},{"$f":"'1...10 raw(HU)'!J90","v":30},{"$f":"'1...10 raw(HU)'!K90","v":19},{"$f":"'1...10 raw(HU)'!L90","v":28}]
[2011,5,{"$f":"'1...10 raw(HU)'!C91","v":37},{"$f":"'1...10 raw(HU)'!D91","v":28},{"$f":"'1...10 raw(HU)'!E91","v":8},{"$f":"'1...10 raw(HU)'!F91","v":16},{"$f":"'1...10 raw(HU)'!G91","v":16},{"$f":"'1...10 raw(HU)'!H91","v":49},{"$f":"'1...10 raw(HU)'!I91","v":19},{"$f":"'1...10 raw(HU)'!J91","v":25},{"$f":"'1...10 raw(HU)'!K91","v":16},{"$f":"'1...10 raw(HU)'!L91","v":27}]
[2011,6,{"$f":"'1...10 raw(HU)'!C92","v":35},{"$f":"'1...10 raw(HU)'!D92","v":21},{"$f":"'1...10 raw(HU)'!E92","v":10},{"$f":"'1...10 raw(HU)'!F92","v":16},{"$f":"'1...10 raw(HU)'!G92","v":22},{"$f":"'1...10 raw(HU)'!H92","v":31},{"$f":"'1...10 raw(HU)'!I92","v":20},{"$f":"'1...10 raw(HU)'!J92","v":21},{"$f":"'1...10 raw(HU)'!K92","v":18},{"$f":"'1...10 raw(HU)'!L92","v":26}]
[2011,7,{"$f":"'1...10 raw(HU)'!C93","v":40},{"$f":"'1...10 raw(HU)'!D93","v":24},{"$f":"'1...10 raw(HU)'!E93","v":15},{"$f":"'1...10 raw(HU)'!F93","v":14},{"$f":"'1...10 raw(HU)'!G93","v":23},{"$f":"'1...10 raw(HU)'!H93","v":49},{"$f":"'1...10 raw(HU)'!I93","v":20},{"$f":"'1...10 raw(HU)'!J93","v":24},{"$f":"'1...10 raw(HU)'!K93","v":20},{"$f":"'1...10 raw(HU)'!L93","v":25}]
[2011,8,{"$f":"'1...10 raw(HU)'!C94","v":48},{"$f":"'1...10 raw(HU)'!D94","v":25},{"$f":"'1...10 raw(HU)'!E94","v":16},{"$f":"'1...10 raw(HU)'!F94","v":15},{"$f":"'1...10 raw(HU)'!G94","v":27},{"$f":"'1...10 raw(HU)'!H94","v":53},{"$f":"'1...10 raw(HU)'!I94","v":29},{"$f":"'1...10 raw(HU)'!J94","v":20},{"$f":"'1...10 raw(HU)'!K94","v":18},{"$f":"'1...10 raw(HU)'!L94","v":25}]
[2011,9,{"$f":"'1...10 raw(HU)'!C95","v":43},{"$f":"'1...10 raw(HU)'!D95","v":46},{"$f":"'1...10 raw(HU)'!E95","v":10},{"$f":"'1...10 raw(HU)'!F95","v":16},{"$f":"'1...10 raw(HU)'!G95","v":28},{"$f":"'1...10 raw(HU)'!H95","v":45},{"$f":"'1...10 raw(HU)'!I95","v":28},{"$f":"'1...10 raw(HU)'!J95","v":40},{"$f":"'1...10 raw(HU)'!K95","v":21},{"$f":"'1...10 raw(HU)'!L95","v":31}]
[2011,10,{"$f":"'1...10 raw(HU)'!C96","v":42},{"$f":"'1...10 raw(HU)'!D96","v":56},{"$f":"'1...10 raw(HU)'!E96","v":20},{"$f":"'1...10 raw(HU)'!F96","v":19},{"$f":"'1...10 raw(HU)'!G96","v":56},{"$f":"'1...10 raw(HU)'!H96","v":59},{"$f":"'1...10 raw(HU)'!I96","v":21},{"$f":"'1...10 raw(HU)'!J96","v":54},{"$f":"'1...10 raw(HU)'!K96","v":22},{"$f":"'1...10 raw(HU)'!L96","v":37}]
[2011,11,{"$f":"'1...10 raw(HU)'!C97","v":39},{"$f":"'1...10 raw(HU)'!D97","v":56},{"$f":"'1...10 raw(HU)'!E97","v":20},{"$f":"'1...10 raw(HU)'!F97","v":19},{"$f":"'1...10 raw(HU)'!G97","v":33},{"$f":"'1...10 raw(HU)'!H97","v":51},{"$f":"'1...10 raw(HU)'!I97","v":19},{"$f":"'1...10 raw(HU)'!J97","v":51},{"$f":"'1...10 raw(HU)'!K97","v":19},{"$f":"'1...10 raw(HU)'!L97","v":32}]
[2011,12,{"$f":"'1...10 raw(HU)'!C98","v":41},{"$f":"'1...10 raw(HU)'!D98","v":65},{"$f":"'1...10 raw(HU)'!E98","v":26},{"$f":"'1...10 raw(HU)'!F98","v":17},{"$f":"'1...10 raw(HU)'!G98","v":38},{"$f":"'1...10 raw(HU)'!H98","v":52},{"$f":"'1...10 raw(HU)'!I98","v":19},{"$f":"'1...10 raw(HU)'!J98","v":61},{"$f":"'1...10 raw(HU)'!K98","v":27},{"$f":"'1...10 raw(HU)'!L98","v":42}]
[2012,1,{"$f":"'1...10 raw(HU)'!C99","v":34},{"$f":"'1...10 raw(HU)'!D99","v":53},{"$f":"'1...10 raw(HU)'!E99","v":11},{"$f":"'1...10 raw(HU)'!F99","v":14},{"$f":"'1...10 raw(HU)'!G99","v":23},{"$f":"'1...10 raw(HU)'!H99","v":36},{"$f":"'1...10 raw(HU)'!I99","v":19},{"$f":"'1...10 raw(HU)'!J99","v":58},{"$f":"'1...10 raw(HU)'!K99","v":19},{"$f":"'1...10 raw(HU)'!L99","v":34}]
[2012,2,{"$f":"'1...10 raw(HU)'!C100","v":36},{"$f":"'1...10 raw(HU)'!D100","v":71},{"$f":"'1...10 raw(HU)'!E100","v":10},{"$f":"'1...10 raw(HU)'!F100","v":15},{"$f":"'1...10 raw(HU)'!G100","v":25},{"$f":"'1...10 raw(HU)'!H100","v":34},{"$f":"'1...10 raw(HU)'!I100","v":21},{"$f":"'1...10 raw(HU)'!J100","v":52},{"$f":"'1...10 raw(HU)'!K100","v":22},{"$f":"'1...10 raw(HU)'!L100","v":28}]
[2012,3,{"$f":"'1...10 raw(HU)'!C101","v":52},{"$f":"'1...10 raw(HU)'!D101","v":80},{"$f":"'1...10 raw(HU)'!E101","v":15},{"$f":"'1...10 raw(HU)'!F101","v":22},{"$f":"'1...10 raw(HU)'!G101","v":33},{"$f":"'1...10 raw(HU)'!H101","v":62},{"$f":"'1...10 raw(HU)'!I101","v":29},{"$f":"'1...10 raw(HU)'!J101","v":65},{"$f":"'1...10 raw(HU)'!K101","v":26},{"$f":"'1...10 raw(HU)'!L101","v":32}]
[2012,4,{"$f":"'1...10 raw(HU)'!C102","v":49},{"$f":"'1...10 raw(HU)'!D102","v":62},{"$f":"'1...10 raw(HU)'!E102","v":11},{"$f":"'1...10 raw(HU)'!F102","v":20},{"$f":"'1...10 raw(HU)'!G102","v":22},{"$f":"'1...10 raw(HU)'!H102","v":47},{"$f":"'1...10 raw(HU)'!I102","v":24},{"$f":"'1...10 raw(HU)'!J102","v":55},{"$f":"'1...10 raw(HU)'!K102","v":23},{"$f":"'1...10 raw(HU)'!L102","v":28}]
[2012,5,{"$f":"'1...10 raw(HU)'!C103","v":38},{"$f":"'1...10 raw(HU)'!D103","v":51},{"$f":"'1...10 raw(HU)'!E103","v":11},{"$f":"'1...10 raw(HU)'!F103","v":22},{"$f":"'1...10 raw(HU)'!G103","v":23},{"$f":"'1...10 raw(HU)'!H103","v":39},{"$f":"'1...10 raw(HU)'!I103","v":22},{"$f":"'1...10 raw(HU)'!J103","v":49},{"$f":"'1...10 raw(HU)'!K103","v":23},{"$f":"'1...10 raw(HU)'!L103","v":31}]
[2012,6,{"$f":"'1...10 raw(HU)'!C104","v":38},{"$f":"'1...10 raw(HU)'!D104","v":63},{"$f":"'1...10 raw(HU)'!E104","v":13},{"$f":"'1...10 raw(HU)'!F104","v":22},{"$f":"'1...10 raw(HU)'!G104","v":18},{"$f":"'1...10 raw(HU)'!H104","v":40},{"$f":"'1...10 raw(HU)'!I104","v":22},{"$f":"'1...10 raw(HU)'!J104","v":53},{"$f":"'1...10 raw(HU)'!K104","v":24},{"$f":"'1...10 raw(HU)'!L104","v":28}]
[2012,7,{"$f":"'1...10 raw(HU)'!C105","v":39},{"$f":"'1...10 raw(HU)'!D105","v":58},{"$f":"'1...10 raw(HU)'!E105","v":14},{"$f":"'1...10 raw(HU)'!F105","v":17},{"$f":"'1...10 raw(HU)'!G105","v":21},{"$f":"'1...10 raw(HU)'!H105","v":46},{"$f":"'1...10 raw(HU)'!I105","v":24},{"$f":"'1...10 raw(HU)'!J105","v":50},{"$f":"'1...10 raw(HU)'!K105","v":17},{"$f":"'1...10 raw(HU)'!L105","v":31}]
[2012,8,{"$f":"'1...10 raw(HU)'!C106","v":48},{"$f":"'1...10 raw(HU)'!D106","v":58},{"$f":"'1...10 raw(HU)'!E106","v":17},{"$f":"'1...10 raw(HU)'!F106","v":19},{"$f":"'1...10 raw(HU)'!G106","v":26},{"$f":"'1...10 raw(HU)'!H106","v":46},{"$f":"'1...10 raw(HU)'!I106","v":32},{"$f":"'1...10 raw(HU)'!J106","v":54},{"$f":"'1...10 raw(HU)'!K106","v":20},{"$f":"'1...10 raw(HU)'!L106","v":32}]
[2012,9,{"$f":"'1...10 raw(HU)'!C107","v":47},{"$f":"'1...10 raw(HU)'!D107","v":77},{"$f":"'1...10 raw(HU)'!E107","v":13},{"$f":"'1...10 raw(HU)'!F107","v":25},{"$f":"'1...10 raw(HU)'!G107","v":20},{"$f":"'1...10 raw(HU)'!H107","v":53},{"$f":"'1...10 raw(HU)'!I107","v":29},{"$f":"'1...10 raw(HU)'!J107","v":70},{"$f":"'1...10 raw(HU)'!K107","v":24},{"$f":"'1...10 raw(HU)'!L107","v":39}]
[2012,10,{"$f":"'1...10 raw(HU)'!C108","v":34},{"$f":"'1...10 raw(HU)'!D108","v":81},{"$f":"'1...10 raw(HU)'!E108","v":19},{"$f":"'1...10 raw(HU)'!F108","v":26},{"$f":"'1...10 raw(HU)'!G108","v":29},{"$f":"'1...10 raw(HU)'!H108","v":33},{"$f":"'1...10 raw(HU)'!I108","v":21},{"$f":"'1...10 raw(HU)'!J108","v":69},{"$f":"'1...10 raw(HU)'!K108","v":25},{"$f":"'1...10 raw(HU)'!L108","v":42}]
[2012,11,{"$f":"'1...10 raw(HU)'!C109","v":34},{"$f":"'1...10 raw(HU)'!D109","v":70},{"$f":"'1...10 raw(HU)'!E109","v":26},{"$f":"'1...10 raw(HU)'!F109","v":24},{"$f":"'1...10 raw(HU)'!G109","v":28},{"$f":"'1...10 raw(HU)'!H109","v":34},{"$f":"'1...10 raw(HU)'!I109","v":19},{"$f":"'1...10 raw(HU)'!J109","v":64},{"$f":"'1...10 raw(HU)'!K109","v":26},{"$f":"'1...10 raw(HU)'!L109","v":37}]
[2012,12,{"$f":"'1...10 raw(HU)'!C110","v":35},{"$f":"'1...10 raw(HU)'!D110","v":66},{"$f":"'1...10 raw(HU)'!E110","v":25},{"$f":"'1...10 raw(HU)'!F110","v":24},{"$f":"'1...10 raw(HU)'!G110","v":42},{"$f":"'1...10 raw(HU)'!H110","v":38},{"$f":"'1...10 raw(HU)'!I110","v":20},{"$f":"'1...10 raw(HU)'!J110","v":75},{"$f":"'1...10 raw(HU)'!K110","v":37},{"$f":"'1...10 raw(HU)'!L110","v":40}]
[2013,1,{"$f":"'1...10 raw(HU)'!C111","v":29},{"$f":"'1...10 raw(HU)'!D111","v":54},{"$f":"'1...10 raw(HU)'!E111","v":11},{"$f":"'1...10 raw(HU)'!F111","v":17},{"$f":"'1...10 raw(HU)'!G111","v":21},{"$f":"'1...10 raw(HU)'!H111","v":31},{"$f":"'1...10 raw(HU)'!I111","v":18},{"$f":"'1...10 raw(HU)'!J111","v":53},{"$f":"'1...10 raw(HU)'!K111","v":21},{"$f":"'1...10 raw(HU)'!L111","v":28}]
[2013,2,{"$f":"'1...10 raw(HU)'!C112","v":39},{"$f":"'1...10 raw(HU)'!D112","v":55},{"$f":"'1...10 raw(HU)'!E112","v":17},{"$f":"'1...10 raw(HU)'!F112","v":19},{"$f":"'1...10 raw(HU)'!G112","v":21},{"$f":"'1...10 raw(HU)'!H112","v":43},{"$f":"'1...10 raw(HU)'!I112","v":23},{"$f":"'1...10 raw(HU)'!J112","v":54},{"$f":"'1...10 raw(HU)'!K112","v":19},{"$f":"'1...10 raw(HU)'!L112","v":32}]
[2013,3,{"$f":"'1...10 raw(HU)'!C113","v":56},{"$f":"'1...10 raw(HU)'!D113","v":56},{"$f":"'1...10 raw(HU)'!E113","v":12},{"$f":"'1...10 raw(HU)'!F113","v":25},{"$f":"'1...10 raw(HU)'!G113","v":20},{"$f":"'1...10 raw(HU)'!H113","v":42},{"$f":"'1...10 raw(HU)'!I113","v":30},{"$f":"'1...10 raw(HU)'!J113","v":60},{"$f":"'1...10 raw(HU)'!K113","v":24},{"$f":"'1...10 raw(HU)'!L113","v":30}]
[2013,4,{"$f":"'1...10 raw(HU)'!C114","v":48},{"$f":"'1...10 raw(HU)'!D114","v":54},{"$f":"'1...10 raw(HU)'!E114","v":16},{"$f":"'1...10 raw(HU)'!F114","v":27},{"$f":"'1...10 raw(HU)'!G114","v":21},{"$f":"'1...10 raw(HU)'!H114","v":42},{"$f":"'1...10 raw(HU)'!I114","v":31},{"$f":"'1...10 raw(HU)'!J114","v":57},{"$f":"'1...10 raw(HU)'!K114","v":30},{"$f":"'1...10 raw(HU)'!L114","v":35}]
[2013,5,{"$f":"'1...10 raw(HU)'!C115","v":38},{"$f":"'1...10 raw(HU)'!D115","v":48},{"$f":"'1...10 raw(HU)'!E115","v":14},{"$f":"'1...10 raw(HU)'!F115","v":26},{"$f":"'1...10 raw(HU)'!G115","v":23},{"$f":"'1...10 raw(HU)'!H115","v":41},{"$f":"'1...10 raw(HU)'!I115","v":25},{"$f":"'1...10 raw(HU)'!J115","v":56},{"$f":"'1...10 raw(HU)'!K115","v":23},{"$f":"'1...10 raw(HU)'!L115","v":32}]
[2013,6,{"$f":"'1...10 raw(HU)'!C116","v":35},{"$f":"'1...10 raw(HU)'!D116","v":47},{"$f":"'1...10 raw(HU)'!E116","v":11},{"$f":"'1...10 raw(HU)'!F116","v":23},{"$f":"'1...10 raw(HU)'!G116","v":23},{"$f":"'1...10 raw(HU)'!H116","v":33},{"$f":"'1...10 raw(HU)'!I116","v":23},{"$f":"'1...10 raw(HU)'!J116","v":58},{"$f":"'1...10 raw(HU)'!K116","v":27},{"$f":"'1...10 raw(HU)'!L116","v":30}]
[2013,7,{"$f":"'1...10 raw(HU)'!C117","v":35},{"$f":"'1...10 raw(HU)'!D117","v":50},{"$f":"'1...10 raw(HU)'!E117","v":8},{"$f":"'1...10 raw(HU)'!F117","v":21},{"$f":"'1...10 raw(HU)'!G117","v":17},{"$f":"'1...10 raw(HU)'!H117","v":31},{"$f":"'1...10 raw(HU)'!I117","v":26},{"$f":"'1...10 raw(HU)'!J117","v":54},{"$f":"'1...10 raw(HU)'!K117","v":24},{"$f":"'1...10 raw(HU)'!L117","v":29}]
[2013,8,{"$f":"'1...10 raw(HU)'!C118","v":45},{"$f":"'1...10 raw(HU)'!D118","v":56},{"$f":"'1...10 raw(HU)'!E118","v":14},{"$f":"'1...10 raw(HU)'!F118","v":23},{"$f":"'1...10 raw(HU)'!G118","v":18},{"$f":"'1...10 raw(HU)'!H118","v":34},{"$f":"'1...10 raw(HU)'!I118","v":34},{"$f":"'1...10 raw(HU)'!J118","v":50},{"$f":"'1...10 raw(HU)'!K118","v":24},{"$f":"'1...10 raw(HU)'!L118","v":32}]
[2013,9,{"$f":"'1...10 raw(HU)'!C119","v":42},{"$f":"'1...10 raw(HU)'!D119","v":74},{"$f":"'1...10 raw(HU)'!E119","v":15},{"$f":"'1...10 raw(HU)'!F119","v":38},{"$f":"'1...10 raw(HU)'!G119","v":31},{"$f":"'1...10 raw(HU)'!H119","v":38},{"$f":"'1...10 raw(HU)'!I119","v":36},{"$f":"'1...10 raw(HU)'!J119","v":92},{"$f":"'1...10 raw(HU)'!K119","v":29},{"$f":"'1...10 raw(HU)'!L119","v":43}]
[2013,10,{"$f":"'1...10 raw(HU)'!C120","v":39},{"$f":"'1...10 raw(HU)'!D120","v":80},{"$f":"'1...10 raw(HU)'!E120","v":17},{"$f":"'1...10 raw(HU)'!F120","v":31},{"$f":"'1...10 raw(HU)'!G120","v":26},{"$f":"'1...10 raw(HU)'!H120","v":30},{"$f":"'1...10 raw(HU)'!I120","v":27},{"$f":"'1...10 raw(HU)'!J120","v":81},{"$f":"'1...10 raw(HU)'!K120","v":27},{"$f":"'1...10 raw(HU)'!L120","v":40}]
[2013,11,{"$f":"'1...10 raw(HU)'!C121","v":38},{"$f":"'1...10 raw(HU)'!D121","v":77},{"$f":"'1...10 raw(HU)'!E121","v":18},{"$f":"'1...10 raw(HU)'!F121","v":34},{"$f":"'1...10 raw(HU)'!G121","v":28},{"$f":"'1...10 raw(HU)'!H121","v":25},{"$f":"'1...10 raw(HU)'!I121","v":25},{"$f":"'1...10 raw(HU)'!J121","v":79},{"$f":"'1...10 raw(HU)'!K121","v":31},{"$f":"'1...10 raw(HU)'!L121","v":45}]
[2013,12,{"$f":"'1...10 raw(HU)'!C122","v":38},{"$f":"'1...10 raw(HU)'!D122","v":81},{"$f":"'1...10 raw(HU)'!E122","v":21},{"$f":"'1...10 raw(HU)'!F122","v":41},{"$f":"'1...10 raw(HU)'!G122","v":46},{"$f":"'1...10 raw(HU)'!H122","v":33},{"$f":"'1...10 raw(HU)'!I122","v":27},{"$f":"'1...10 raw(HU)'!J122","v":81},{"$f":"'1...10 raw(HU)'!K122","v":37},{"$f":"'1...10 raw(HU)'!L122","v":47}]
[2014,1,{"$f":"'1...10 raw(HU)'!C123","v":30},{"$f":"'1...10 raw(HU)'!D123","v":52},{"$f":"'1...10 raw(HU)'!E123","v":13},{"$f":"'1...10 raw(HU)'!F123","v":20},{"$f":"'1...10 raw(HU)'!G123","v":21},{"$f":"'1...10 raw(HU)'!H123","v":27},{"$f":"'1...10 raw(HU)'!I123","v":29},{"$f":"'1...10 raw(HU)'!J123","v":54},{"$f":"'1...10 raw(HU)'!K123","v":23},{"$f":"'1...10 raw(HU)'!L123","v":31}]
[2014,2,{"$f":"'1...10 raw(HU)'!C124","v":38},{"$f":"'1...10 raw(HU)'!D124","v":59},{"$f":"'1...10 raw(HU)'!E124","v":15},{"$f":"'1...10 raw(HU)'!F124","v":25},{"$f":"'1...10 raw(HU)'!G124","v":24},{"$f":"'1...10 raw(HU)'!H124","v":29},{"$f":"'1...10 raw(HU)'!I124","v":36},{"$f":"'1...10 raw(HU)'!J124","v":52},{"$f":"'1...10 raw(HU)'!K124","v":23},{"$f":"'1...10 raw(HU)'!L124","v":35}]
[2014,3,{"$f":"'1...10 raw(HU)'!C125","v":52},{"$f":"'1...10 raw(HU)'!D125","v":68},{"$f":"'1...10 raw(HU)'!E125","v":17},{"$f":"'1...10 raw(HU)'!F125","v":31},{"$f":"'1...10 raw(HU)'!G125","v":26},{"$f":"'1...10 raw(HU)'!H125","v":36},{"$f":"'1...10 raw(HU)'!I125","v":59},{"$f":"'1...10 raw(HU)'!J125","v":72},{"$f":"'1...10 raw(HU)'!K125","v":30},{"$f":"'1...10 raw(HU)'!L125","v":35}]
[2014,4,{"$f":"'1...10 raw(HU)'!C126","v":49},{"$f":"'1...10 raw(HU)'!D126","v":53},{"$f":"'1...10 raw(HU)'!E126","v":14},{"$f":"'1...10 raw(HU)'!F126","v":33},{"$f":"'1...10 raw(HU)'!G126","v":23},{"$f":"'1...10 raw(HU)'!H126","v":40},{"$f":"'1...10 raw(HU)'!I126","v":48},{"$f":"'1...10 raw(HU)'!J126","v":55},{"$f":"'1...10 raw(HU)'!K126","v":32},{"$f":"'1...10 raw(HU)'!L126","v":32}]
[2014,5,{"$f":"'1...10 raw(HU)'!C127","v":42},{"$f":"'1...10 raw(HU)'!D127","v":56},{"$f":"'1...10 raw(HU)'!E127","v":17},{"$f":"'1...10 raw(HU)'!F127","v":30},{"$f":"'1...10 raw(HU)'!G127","v":26},{"$f":"'1...10 raw(HU)'!H127","v":33},{"$f":"'1...10 raw(HU)'!I127","v":44},{"$f":"'1...10 raw(HU)'!J127","v":58},{"$f":"'1...10 raw(HU)'!K127","v":28},{"$f":"'1...10 raw(HU)'!L127","v":33}]
[2014,6,{"$f":"'1...10 raw(HU)'!C128","v":39},{"$f":"'1...10 raw(HU)'!D128","v":55},{"$f":"'1...10 raw(HU)'!E128","v":12},{"$f":"'1...10 raw(HU)'!F128","v":28},{"$f":"'1...10 raw(HU)'!G128","v":18},{"$f":"'1...10 raw(HU)'!H128","v":35},{"$f":"'1...10 raw(HU)'!I128","v":39},{"$f":"'1...10 raw(HU)'!J128","v":55},{"$f":"'1...10 raw(HU)'!K128","v":26},{"$f":"'1...10 raw(HU)'!L128","v":31}]
[2014,7,{"$f":"'1...10 raw(HU)'!C129","v":40},{"$f":"'1...10 raw(HU)'!D129","v":44},{"$f":"'1...10 raw(HU)'!E129","v":13},{"$f":"'1...10 raw(HU)'!F129","v":24},{"$f":"'1...10 raw(HU)'!G129","v":26},{"$f":"'1...10 raw(HU)'!H129","v":25},{"$f":"'1...10 raw(HU)'!I129","v":37},{"$f":"'1...10 raw(HU)'!J129","v":52},{"$f":"'1...10 raw(HU)'!K129","v":31},{"$f":"'1...10 raw(HU)'!L129","v":30}]
[2014,8,{"$f":"'1...10 raw(HU)'!C130","v":48},{"$f":"'1...10 raw(HU)'!D130","v":61},{"$f":"'1...10 raw(HU)'!E130","v":15},{"$f":"'1...10 raw(HU)'!F130","v":34},{"$f":"'1...10 raw(HU)'!G130","v":24},{"$f":"'1...10 raw(HU)'!H130","v":32},{"$f":"'1...10 raw(HU)'!I130","v":48},{"$f":"'1...10 raw(HU)'!J130","v":66},{"$f":"'1...10 raw(HU)'!K130","v":28},{"$f":"'1...10 raw(HU)'!L130","v":35}]
[2014,9,{"$f":"'1...10 raw(HU)'!C131","v":46},{"$f":"'1...10 raw(HU)'!D131","v":67},{"$f":"'1...10 raw(HU)'!E131","v":19},{"$f":"'1...10 raw(HU)'!F131","v":36},{"$f":"'1...10 raw(HU)'!G131","v":34},{"$f":"'1...10 raw(HU)'!H131","v":26},{"$f":"'1...10 raw(HU)'!I131","v":46},{"$f":"'1...10 raw(HU)'!J131","v":77},{"$f":"'1...10 raw(HU)'!K131","v":29},{"$f":"'1...10 raw(HU)'!L131","v":38}]
[2014,10,{"$f":"'1...10 raw(HU)'!C132","v":40},{"$f":"'1...10 raw(HU)'!D132","v":69},{"$f":"'1...10 raw(HU)'!E132","v":21},{"$f":"'1...10 raw(HU)'!F132","v":35},{"$f":"'1...10 raw(HU)'!G132","v":32},{"$f":"'1...10 raw(HU)'!H132","v":22},{"$f":"'1...10 raw(HU)'!I132","v":37},{"$f":"'1...10 raw(HU)'!J132","v":67},{"$f":"'1...10 raw(HU)'!K132","v":34},{"$f":"'1...10 raw(HU)'!L132","v":44}]
[2014,11,{"$f":"'1...10 raw(HU)'!C133","v":38},{"$f":"'1...10 raw(HU)'!D133","v":65},{"$f":"'1...10 raw(HU)'!E133","v":18},{"$f":"'1...10 raw(HU)'!F133","v":42},{"$f":"'1...10 raw(HU)'!G133","v":40},{"$f":"'1...10 raw(HU)'!H133","v":24},{"$f":"'1...10 raw(HU)'!I133","v":33},{"$f":"'1...10 raw(HU)'!J133","v":79},{"$f":"'1...10 raw(HU)'!K133","v":38},{"$f":"'1...10 raw(HU)'!L133","v":45}]
[2014,12,{"$f":"'1...10 raw(HU)'!C134","v":36},{"$f":"'1...10 raw(HU)'!D134","v":69},{"$f":"'1...10 raw(HU)'!E134","v":30},{"$f":"'1...10 raw(HU)'!F134","v":39},{"$f":"'1...10 raw(HU)'!G134","v":50},{"$f":"'1...10 raw(HU)'!H134","v":28},{"$f":"'1...10 raw(HU)'!I134","v":29},{"$f":"'1...10 raw(HU)'!J134","v":77},{"$f":"'1...10 raw(HU)'!K134","v":39},{"$f":"'1...10 raw(HU)'!L134","v":46}]
[2015,1,{"$f":"'1...10 raw(HU)'!C135","v":32},{"$f":"'1...10 raw(HU)'!D135","v":58},{"$f":"'1...10 raw(HU)'!E135","v":32},{"$f":"'1...10 raw(HU)'!F135","v":28},{"$f":"'1...10 raw(HU)'!G135","v":28},{"$f":"'1...10 raw(HU)'!H135","v":29},{"$f":"'1...10 raw(HU)'!I135","v":33},{"$f":"'1...10 raw(HU)'!J135","v":53},{"$f":"'1...10 raw(HU)'!K135","v":27},{"$f":"'1...10 raw(HU)'!L135","v":39}]
[2015,2,{"$f":"'1...10 raw(HU)'!C136","v":40},{"$f":"'1...10 raw(HU)'!D136","v":47},{"$f":"'1...10 raw(HU)'!E136","v":24},{"$f":"'1...10 raw(HU)'!F136","v":29},{"$f":"'1...10 raw(HU)'!G136","v":28},{"$f":"'1...10 raw(HU)'!H136","v":23},{"$f":"'1...10 raw(HU)'!I136","v":38},{"$f":"'1...10 raw(HU)'!J136","v":62},{"$f":"'1...10 raw(HU)'!K136","v":23},{"$f":"'1...10 raw(HU)'!L136","v":35}]
[2015,3,{"$f":"'1...10 raw(HU)'!C137","v":53},{"$f":"'1...10 raw(HU)'!D137","v":65},{"$f":"'1...10 raw(HU)'!E137","v":25},{"$f":"'1...10 raw(HU)'!F137","v":39},{"$f":"'1...10 raw(HU)'!G137","v":29},{"$f":"'1...10 raw(HU)'!H137","v":35},{"$f":"'1...10 raw(HU)'!I137","v":53},{"$f":"'1...10 raw(HU)'!J137","v":67},{"$f":"'1...10 raw(HU)'!K137","v":27},{"$f":"'1...10 raw(HU)'!L137","v":37}]
[2015,4,{"$f":"'1...10 raw(HU)'!C138","v":54},{"$f":"'1...10 raw(HU)'!D138","v":54},{"$f":"'1...10 raw(HU)'!E138","v":19},{"$f":"'1...10 raw(HU)'!F138","v":56},{"$f":"'1...10 raw(HU)'!G138","v":26},{"$f":"'1...10 raw(HU)'!H138","v":34},{"$f":"'1...10 raw(HU)'!I138","v":46},{"$f":"'1...10 raw(HU)'!J138","v":59},{"$f":"'1...10 raw(HU)'!K138","v":31},{"$f":"'1...10 raw(HU)'!L138","v":34}]
[2015,5,{"$f":"'1...10 raw(HU)'!C139","v":48},{"$f":"'1...10 raw(HU)'!D139","v":56},{"$f":"'1...10 raw(HU)'!E139","v":23},{"$f":"'1...10 raw(HU)'!F139","v":50},{"$f":"'1...10 raw(HU)'!G139","v":24},{"$f":"'1...10 raw(HU)'!H139","v":33},{"$f":"'1...10 raw(HU)'!I139","v":44},{"$f":"'1...10 raw(HU)'!J139","v":61},{"$f":"'1...10 raw(HU)'!K139","v":30},{"$f":"'1...10 raw(HU)'!L139","v":36}]
[2015,6,{"$f":"'1...10 raw(HU)'!C140","v":41},{"$f":"'1...10 raw(HU)'!D140","v":53},{"$f":"'1...10 raw(HU)'!E140","v":21},{"$f":"'1...10 raw(HU)'!F140","v":51},{"$f":"'1...10 raw(HU)'!G140","v":23},{"$f":"'1...10 raw(HU)'!H140","v":30},{"$f":"'1...10 raw(HU)'!I140","v":35},{"$f":"'1...10 raw(HU)'!J140","v":53},{"$f":"'1...10 raw(HU)'!K140","v":37},{"$f":"'1...10 raw(HU)'!L140","v":38}]
[2015,7,{"$f":"'1...10 raw(HU)'!C141","v":39},{"$f":"'1...10 raw(HU)'!D141","v":52},{"$f":"'1...10 raw(HU)'!E141","v":20},{"$f":"'1...10 raw(HU)'!F141","v":44},{"$f":"'1...10 raw(HU)'!G141","v":29},{"$f":"'1...10 raw(HU)'!H141","v":32},{"$f":"'1...10 raw(HU)'!I141","v":34},{"$f":"'1...10 raw(HU)'!J141","v":54},{"$f":"'1...10 raw(HU)'!K141","v":31},{"$f":"'1...10 raw(HU)'!L141","v":35}]
[2015,8,{"$f":"'1...10 raw(HU)'!C142","v":50},{"$f":"'1...10 raw(HU)'!D142","v":60},{"$f":"'1...10 raw(HU)'!E142","v":21},{"$f":"'1...10 raw(HU)'!F142","v":52},{"$f":"'1...10 raw(HU)'!G142","v":20},{"$f":"'1...10 raw(HU)'!H142","v":27},{"$f":"'1...10 raw(HU)'!I142","v":40},{"$f":"'1...10 raw(HU)'!J142","v":52},{"$f":"'1...10 raw(HU)'!K142","v":30},{"$f":"'1...10 raw(HU)'!L142","v":34}]
[2015,9,{"$f":"'1...10 raw(HU)'!C143","v":48},{"$f":"'1...10 raw(HU)'!D143","v":69},{"$f":"'1...10 raw(HU)'!E143","v":23},{"$f":"'1...10 raw(HU)'!F143","v":56},{"$f":"'1...10 raw(HU)'!G143","v":26},{"$f":"'1...10 raw(HU)'!H143","v":31},{"$f":"'1...10 raw(HU)'!I143","v":38},{"$f":"'1...10 raw(HU)'!J143","v":71},{"$f":"'1...10 raw(HU)'!K143","v":30},{"$f":"'1...10 raw(HU)'!L143","v":48}]
[2015,10,{"$f":"'1...10 raw(HU)'!C144","v":53},{"$f":"'1...10 raw(HU)'!D144","v":77},{"$f":"'1...10 raw(HU)'!E144","v":25},{"$f":"'1...10 raw(HU)'!F144","v":62},{"$f":"'1...10 raw(HU)'!G144","v":40},{"$f":"'1...10 raw(HU)'!H144","v":26},{"$f":"'1...10 raw(HU)'!I144","v":36},{"$f":"'1...10 raw(HU)'!J144","v":74},{"$f":"'1...10 raw(HU)'!K144","v":36},{"$f":"'1...10 raw(HU)'!L144","v":59}]
[2015,11,{"$f":"'1...10 raw(HU)'!C145","v":45},{"$f":"'1...10 raw(HU)'!D145","v":76},{"$f":"'1...10 raw(HU)'!E145","v":35},{"$f":"'1...10 raw(HU)'!F145","v":68},{"$f":"'1...10 raw(HU)'!G145","v":39},{"$f":"'1...10 raw(HU)'!H145","v":20},{"$f":"'1...10 raw(HU)'!I145","v":31},{"$f":"'1...10 raw(HU)'!J145","v":73},{"$f":"'1...10 raw(HU)'!K145","v":37},{"$f":"'1...10 raw(HU)'!L145","v":55}]
[2015,12,{"$f":"'1...10 raw(HU)'!C146","v":49},{"$f":"'1...10 raw(HU)'!D146","v":76},{"$f":"'1...10 raw(HU)'!E146","v":41},{"$f":"'1...10 raw(HU)'!F146","v":55},{"$f":"'1...10 raw(HU)'!G146","v":65},{"$f":"'1...10 raw(HU)'!H146","v":31},{"$f":"'1...10 raw(HU)'!I146","v":33},{"$f":"'1...10 raw(HU)'!J146","v":75},{"$f":"'1...10 raw(HU)'!K146","v":46},{"$f":"'1...10 raw(HU)'!L146","v":55}]
[2016,1,{"$f":"'1...10 raw(HU)'!C147","v":48},{"$f":"'1...10 raw(HU)'!D147","v":48},{"$f":"'1...10 raw(HU)'!E147","v":31},{"$f":"'1...10 raw(HU)'!F147","v":43},{"$f":"'1...10 raw(HU)'!G147","v":30},{"$f":"'1...10 raw(HU)'!H147","v":21},{"$f":"'1...10 raw(HU)'!I147","v":31},{"$f":"'1...10 raw(HU)'!J147","v":42},{"$f":"'1...10 raw(HU)'!K147","v":36},{"$f":"'1...10 raw(HU)'!L147","v":37}]
[2016,2,{"$f":"'1...10 raw(HU)'!C148","v":63},{"$f":"'1...10 raw(HU)'!D148","v":58},{"$f":"'1...10 raw(HU)'!E148","v":29},{"$f":"'1...10 raw(HU)'!F148","v":50},{"$f":"'1...10 raw(HU)'!G148","v":35},{"$f":"'1...10 raw(HU)'!H148","v":29},{"$f":"'1...10 raw(HU)'!I148","v":41},{"$f":"'1...10 raw(HU)'!J148","v":45},{"$f":"'1...10 raw(HU)'!K148","v":31},{"$f":"'1...10 raw(HU)'!L148","v":43}]
[2016,3,{"$f":"'1...10 raw(HU)'!C149","v":83},{"$f":"'1...10 raw(HU)'!D149","v":65},{"$f":"'1...10 raw(HU)'!E149","v":30},{"$f":"'1...10 raw(HU)'!F149","v":54},{"$f":"'1...10 raw(HU)'!G149","v":34},{"$f":"'1...10 raw(HU)'!H149","v":29},{"$f":"'1...10 raw(HU)'!I149","v":48},{"$f":"'1...10 raw(HU)'!J149","v":52},{"$f":"'1...10 raw(HU)'!K149","v":32},{"$f":"'1...10 raw(HU)'!L149","v":57}]
[2016,4,{"$f":"'1...10 raw(HU)'!C150","v":74},{"$f":"'1...10 raw(HU)'!D150","v":54},{"$f":"'1...10 raw(HU)'!E150","v":21},{"$f":"'1...10 raw(HU)'!F150","v":61},{"$f":"'1...10 raw(HU)'!G150","v":24},{"$f":"'1...10 raw(HU)'!H150","v":30},{"$f":"'1...10 raw(HU)'!I150","v":43},{"$f":"'1...10 raw(HU)'!J150","v":52},{"$f":"'1...10 raw(HU)'!K150","v":37},{"$f":"'1...10 raw(HU)'!L150","v":51}]
[2016,5,{"$f":"'1...10 raw(HU)'!C151","v":64},{"$f":"'1...10 raw(HU)'!D151","v":53},{"$f":"'1...10 raw(HU)'!E151","v":27},{"$f":"'1...10 raw(HU)'!F151","v":59},{"$f":"'1...10 raw(HU)'!G151","v":24},{"$f":"'1...10 raw(HU)'!H151","v":30},{"$f":"'1...10 raw(HU)'!I151","v":38},{"$f":"'1...10 raw(HU)'!J151","v":47},{"$f":"'1...10 raw(HU)'!K151","v":39},{"$f":"'1...10 raw(HU)'!L151","v":55}]
[2016,6,{"$f":"'1...10 raw(HU)'!C152","v":58},{"$f":"'1...10 raw(HU)'!D152","v":58},{"$f":"'1...10 raw(HU)'!E152","v":22},{"$f":"'1...10 raw(HU)'!F152","v":60},{"$f":"'1...10 raw(HU)'!G152","v":20},{"$f":"'1...10 raw(HU)'!H152","v":26},{"$f":"'1...10 raw(HU)'!I152","v":33},{"$f":"'1...10 raw(HU)'!J152","v":48},{"$f":"'1...10 raw(HU)'!K152","v":36},{"$f":"'1...10 raw(HU)'!L152","v":55}]
[2016,7,{"$f":"'1...10 raw(HU)'!C153","v":59},{"$f":"'1...10 raw(HU)'!D153","v":47},{"$f":"'1...10 raw(HU)'!E153","v":32},{"$f":"'1...10 raw(HU)'!F153","v":59},{"$f":"'1...10 raw(HU)'!G153","v":30},{"$f":"'1...10 raw(HU)'!H153","v":29},{"$f":"'1...10 raw(HU)'!I153","v":35},{"$f":"'1...10 raw(HU)'!J153","v":43},{"$f":"'1...10 raw(HU)'!K153","v":45},{"$f":"'1...10 raw(HU)'!L153","v":57}]
[2016,8,{"$f":"'1...10 raw(HU)'!C154","v":73},{"$f":"'1...10 raw(HU)'!D154","v":59},{"$f":"'1...10 raw(HU)'!E154","v":27},{"$f":"'1...10 raw(HU)'!F154","v":62},{"$f":"'1...10 raw(HU)'!G154","v":29},{"$f":"'1...10 raw(HU)'!H154","v":27},{"$f":"'1...10 raw(HU)'!I154","v":41},{"$f":"'1...10 raw(HU)'!J154","v":53},{"$f":"'1...10 raw(HU)'!K154","v":33},{"$f":"'1...10 raw(HU)'!L154","v":48}]
[2016,9,{"$f":"'1...10 raw(HU)'!C155","v":64},{"$f":"'1...10 raw(HU)'!D155","v":63},{"$f":"'1...10 raw(HU)'!E155","v":36},{"$f":"'1...10 raw(HU)'!F155","v":67},{"$f":"'1...10 raw(HU)'!G155","v":27},{"$f":"'1...10 raw(HU)'!H155","v":24},{"$f":"'1...10 raw(HU)'!I155","v":34},{"$f":"'1...10 raw(HU)'!J155","v":64},{"$f":"'1...10 raw(HU)'!K155","v":37},{"$f":"'1...10 raw(HU)'!L155","v":62}]
[2016,10,{"$f":"'1...10 raw(HU)'!C156","v":55},{"$f":"'1...10 raw(HU)'!D156","v":81},{"$f":"'1...10 raw(HU)'!E156","v":30},{"$f":"'1...10 raw(HU)'!F156","v":72},{"$f":"'1...10 raw(HU)'!G156","v":33},{"$f":"'1...10 raw(HU)'!H156","v":23},{"$f":"'1...10 raw(HU)'!I156","v":34},{"$f":"'1...10 raw(HU)'!J156","v":69},{"$f":"'1...10 raw(HU)'!K156","v":38},{"$f":"'1...10 raw(HU)'!L156","v":77}]
[2016,11,{"$f":"'1...10 raw(HU)'!C157","v":55},{"$f":"'1...10 raw(HU)'!D157","v":76},{"$f":"'1...10 raw(HU)'!E157","v":32},{"$f":"'1...10 raw(HU)'!F157","v":70},{"$f":"'1...10 raw(HU)'!G157","v":52},{"$f":"'1...10 raw(HU)'!H157","v":20},{"$f":"'1...10 raw(HU)'!I157","v":32},{"$f":"'1...10 raw(HU)'!J157","v":64},{"$f":"'1...10 raw(HU)'!K157","v":46},{"$f":"'1...10 raw(HU)'!L157","v":70}]
[2016,12,{"$f":"'1...10 raw(HU)'!C158","v":53},{"$f":"'1...10 raw(HU)'!D158","v":78},{"$f":"'1...10 raw(HU)'!E158","v":46},{"$f":"'1...10 raw(HU)'!F158","v":61},{"$f":"'1...10 raw(HU)'!G158","v":57},{"$f":"'1...10 raw(HU)'!H158","v":24},{"$f":"'1...10 raw(HU)'!I158","v":29},{"$f":"'1...10 raw(HU)'!J158","v":75},{"$f":"'1...10 raw(HU)'!K158","v":53},{"$f":"'1...10 raw(HU)'!L158","v":75}]
[2017,1,{"$f":"'1...10 raw(HU)'!C159","v":45},{"$f":"'1...10 raw(HU)'!D159","v":68},{"$f":"'1...10 raw(HU)'!E159","v":31},{"$f":"'1...10 raw(HU)'!F159","v":52},{"$f":"'1...10 raw(HU)'!G159","v":29},{"$f":"'1...10 raw(HU)'!H159","v":18},{"$f":"'1...10 raw(HU)'!I159","v":28},{"$f":"'1...10 raw(HU)'!J159","v":57},{"$f":"'1...10 raw(HU)'!K159","v":38},{"$f":"'1...10 raw(HU)'!L159","v":58}]
[2017,2,{"$f":"'1...10 raw(HU)'!C160","v":65},{"$f":"'1...10 raw(HU)'!D160","v":67},{"$f":"'1...10 raw(HU)'!E160","v":32},{"$f":"'1...10 raw(HU)'!F160","v":47},{"$f":"'1...10 raw(HU)'!G160","v":30},{"$f":"'1...10 raw(HU)'!H160","v":25},{"$f":"'1...10 raw(HU)'!I160","v":36},{"$f":"'1...10 raw(HU)'!J160","v":51},{"$f":"'1...10 raw(HU)'!K160","v":38},{"$f":"'1...10 raw(HU)'!L160","v":54}]
[2017,3,{"$f":"'1...10 raw(HU)'!C161","v":88},{"$f":"'1...10 raw(HU)'!D161","v":78},{"$f":"'1...10 raw(HU)'!E161","v":30},{"$f":"'1...10 raw(HU)'!F161","v":57},{"$f":"'1...10 raw(HU)'!G161","v":35},{"$f":"'1...10 raw(HU)'!H161","v":33},{"$f":"'1...10 raw(HU)'!I161","v":51},{"$f":"'1...10 raw(HU)'!J161","v":60},{"$f":"'1...10 raw(HU)'!K161","v":40},{"$f":"'1...10 raw(HU)'!L161","v":64}]
[2017,4,{"$f":"'1...10 raw(HU)'!C162","v":71},{"$f":"'1...10 raw(HU)'!D162","v":68},{"$f":"'1...10 raw(HU)'!E162","v":38},{"$f":"'1...10 raw(HU)'!F162","v":61},{"$f":"'1...10 raw(HU)'!G162","v":32},{"$f":"'1...10 raw(HU)'!H162","v":28},{"$f":"'1...10 raw(HU)'!I162","v":41},{"$f":"'1...10 raw(HU)'!J162","v":55},{"$f":"'1...10 raw(HU)'!K162","v":41},{"$f":"'1...10 raw(HU)'!L162","v":60}]
[2017,5,{"$f":"'1...10 raw(HU)'!C163","v":59},{"$f":"'1...10 raw(HU)'!D163","v":71},{"$f":"'1...10 raw(HU)'!E163","v":31},{"$f":"'1...10 raw(HU)'!F163","v":67},{"$f":"'1...10 raw(HU)'!G163","v":26},{"$f":"'1...10 raw(HU)'!H163","v":25},{"$f":"'1...10 raw(HU)'!I163","v":34},{"$f":"'1...10 raw(HU)'!J163","v":48},{"$f":"'1...10 raw(HU)'!K163","v":42},{"$f":"'1...10 raw(HU)'!L163","v":56}]
[2017,6,{"$f":"'1...10 raw(HU)'!C164","v":54},{"$f":"'1...10 raw(HU)'!D164","v":77},{"$f":"'1...10 raw(HU)'!E164","v":29},{"$f":"'1...10 raw(HU)'!F164","v":63},{"$f":"'1...10 raw(HU)'!G164","v":25},{"$f":"'1...10 raw(HU)'!H164","v":31},{"$f":"'1...10 raw(HU)'!I164","v":30},{"$f":"'1...10 raw(HU)'!J164","v":51},{"$f":"'1...10 raw(HU)'!K164","v":45},{"$f":"'1...10 raw(HU)'!L164","v":59}]
[2017,7,{"$f":"'1...10 raw(HU)'!C165","v":56},{"$f":"'1...10 raw(HU)'!D165","v":72},{"$f":"'1...10 raw(HU)'!E165","v":37},{"$f":"'1...10 raw(HU)'!F165","v":63},{"$f":"'1...10 raw(HU)'!G165","v":25},{"$f":"'1...10 raw(HU)'!H165","v":32},{"$f":"'1...10 raw(HU)'!I165","v":32},{"$f":"'1...10 raw(HU)'!J165","v":55},{"$f":"'1...10 raw(HU)'!K165","v":53},{"$f":"'1...10 raw(HU)'!L165","v":60}]
[2017,8,{"$f":"'1...10 raw(HU)'!C166","v":68},{"$f":"'1...10 raw(HU)'!D166","v":82},{"$f":"'1...10 raw(HU)'!E166","v":43},{"$f":"'1...10 raw(HU)'!F166","v":59},{"$f":"'1...10 raw(HU)'!G166","v":27},{"$f":"'1...10 raw(HU)'!H166","v":37},{"$f":"'1...10 raw(HU)'!I166","v":41},{"$f":"'1...10 raw(HU)'!J166","v":58},{"$f":"'1...10 raw(HU)'!K166","v":50},{"$f":"'1...10 raw(HU)'!L166","v":57}]
[2017,9,{"$f":"'1...10 raw(HU)'!C167","v":70},{"$f":"'1...10 raw(HU)'!D167","v":91},{"$f":"'1...10 raw(HU)'!E167","v":34},{"$f":"'1...10 raw(HU)'!F167","v":73},{"$f":"'1...10 raw(HU)'!G167","v":38},{"$f":"'1...10 raw(HU)'!H167","v":27},{"$f":"'1...10 raw(HU)'!I167","v":39},{"$f":"'1...10 raw(HU)'!J167","v":64},{"$f":"'1...10 raw(HU)'!K167","v":46},{"$f":"'1...10 raw(HU)'!L167","v":80}]
[2017,10,{"$f":"'1...10 raw(HU)'!C168","v":61},{"$f":"'1...10 raw(HU)'!D168","v":89},{"$f":"'1...10 raw(HU)'!E168","v":37},{"$f":"'1...10 raw(HU)'!F168","v":73},{"$f":"'1...10 raw(HU)'!G168","v":33},{"$f":"'1...10 raw(HU)'!H168","v":27},{"$f":"'1...10 raw(HU)'!I168","v":35},{"$f":"'1...10 raw(HU)'!J168","v":75},{"$f":"'1...10 raw(HU)'!K168","v":50},{"$f":"'1...10 raw(HU)'!L168","v":78}]
[2017,11,{"$f":"'1...10 raw(HU)'!C169","v":59},{"$f":"'1...10 raw(HU)'!D169","v":99},{"$f":"'1...10 raw(HU)'!E169","v":48},{"$f":"'1...10 raw(HU)'!F169","v":88},{"$f":"'1...10 raw(HU)'!G169","v":49},{"$f":"'1...10 raw(HU)'!H169","v":24},{"$f":"'1...10 raw(HU)'!I169","v":34},{"$f":"'1...10 raw(HU)'!J169","v":88},{"$f":"'1...10 raw(HU)'!K169","v":54},{"$f":"'1...10 raw(HU)'!L169","v":85}]
[2017,12,{"$f":"'1...10 raw(HU)'!C170","v":57},{"$f":"'1...10 raw(HU)'!D170","v":89},{"$f":"'1...10 raw(HU)'!E170","v":67},{"$f":"'1...10 raw(HU)'!F170","v":68},{"$f":"'1...10 raw(HU)'!G170","v":66},{"$f":"'1...10 raw(HU)'!H170","v":30},{"$f":"'1...10 raw(HU)'!I170","v":33},{"$f":"'1...10 raw(HU)'!J170","v":81},{"$f":"'1...10 raw(HU)'!K170","v":63},{"$f":"'1...10 raw(HU)'!L170","v":85}]
[2018,1,{"$f":"'1...10 raw(HU)'!C171","v":62},{"$f":"'1...10 raw(HU)'!D171","v":75},{"$f":"'1...10 raw(HU)'!E171","v":46},{"$f":"'1...10 raw(HU)'!F171","v":63},{"$f":"'1...10 raw(HU)'!G171","v":30},{"$f":"'1...10 raw(HU)'!H171","v":19},{"$f":"'1...10 raw(HU)'!I171","v":34},{"$f":"'1...10 raw(HU)'!J171","v":62},{"$f":"'1...10 raw(HU)'!K171","v":44},{"$f":"'1...10 raw(HU)'!L171","v":65}]
[2018,2,{"$f":"'1...10 raw(HU)'!C172","v":67},{"$f":"'1...10 raw(HU)'!D172","v":72},{"$f":"'1...10 raw(HU)'!E172","v":50},{"$f":"'1...10 raw(HU)'!F172","v":56},{"$f":"'1...10 raw(HU)'!G172","v":37},{"$f":"'1...10 raw(HU)'!H172","v":31},{"$f":"'1...10 raw(HU)'!I172","v":37},{"$f":"'1...10 raw(HU)'!J172","v":55},{"$f":"'1...10 raw(HU)'!K172","v":48},{"$f":"'1...10 raw(HU)'!L172","v":58}]
[2018,3,{"$f":"'1...10 raw(HU)'!C173","v":88},{"$f":"'1...10 raw(HU)'!D173","v":77},{"$f":"'1...10 raw(HU)'!E173","v":45},{"$f":"'1...10 raw(HU)'!F173","v":66},{"$f":"'1...10 raw(HU)'!G173","v":38},{"$f":"'1...10 raw(HU)'!H173","v":35},{"$f":"'1...10 raw(HU)'!I173","v":45},{"$f":"'1...10 raw(HU)'!J173","v":67},{"$f":"'1...10 raw(HU)'!K173","v":49},{"$f":"'1...10 raw(HU)'!L173","v":62}]
[2018,4,{"$f":"'1...10 raw(HU)'!C174","v":89},{"$f":"'1...10 raw(HU)'!D174","v":69},{"$f":"'1...10 raw(HU)'!E174","v":42},{"$f":"'1...10 raw(HU)'!F174","v":69},{"$f":"'1...10 raw(HU)'!G174","v":34},{"$f":"'1...10 raw(HU)'!H174","v":34},{"$f":"'1...10 raw(HU)'!I174","v":47},{"$f":"'1...10 raw(HU)'!J174","v":71},{"$f":"'1...10 raw(HU)'!K174","v":58},{"$f":"'1...10 raw(HU)'!L174","v":62}]
[2018,5,{"$f":"'1...10 raw(HU)'!C175","v":67},{"$f":"'1...10 raw(HU)'!D175","v":62},{"$f":"'1...10 raw(HU)'!E175","v":41},{"$f":"'1...10 raw(HU)'!F175","v":61},{"$f":"'1...10 raw(HU)'!G175","v":31},{"$f":"'1...10 raw(HU)'!H175","v":35},{"$f":"'1...10 raw(HU)'!I175","v":36},{"$f":"'1...10 raw(HU)'!J175","v":63},{"$f":"'1...10 raw(HU)'!K175","v":62},{"$f":"'1...10 raw(HU)'!L175","v":59}]
[2018,6,{"$f":"'1...10 raw(HU)'!C176","v":64},{"$f":"'1...10 raw(HU)'!D176","v":66},{"$f":"'1...10 raw(HU)'!E176","v":46},{"$f":"'1...10 raw(HU)'!F176","v":70},{"$f":"'1...10 raw(HU)'!G176","v":33},{"$f":"'1...10 raw(HU)'!H176","v":31},{"$f":"'1...10 raw(HU)'!I176","v":33},{"$f":"'1...10 raw(HU)'!J176","v":64},{"$f":"'1...10 raw(HU)'!K176","v":55},{"$f":"'1...10 raw(HU)'!L176","v":62}]
[2018,7,{"$f":"'1...10 raw(HU)'!C177","v":69},{"$f":"'1...10 raw(HU)'!D177","v":67},{"$f":"'1...10 raw(HU)'!E177","v":48},{"$f":"'1...10 raw(HU)'!F177","v":65},{"$f":"'1...10 raw(HU)'!G177","v":40},{"$f":"'1...10 raw(HU)'!H177","v":39},{"$f":"'1...10 raw(HU)'!I177","v":36},{"$f":"'1...10 raw(HU)'!J177","v":66},{"$f":"'1...10 raw(HU)'!K177","v":56},{"$f":"'1...10 raw(HU)'!L177","v":57}]
[2018,8,{"$f":"'1...10 raw(HU)'!C178","v":73},{"$f":"'1...10 raw(HU)'!D178","v":67},{"$f":"'1...10 raw(HU)'!E178","v":54},{"$f":"'1...10 raw(HU)'!F178","v":63},{"$f":"'1...10 raw(HU)'!G178","v":30},{"$f":"'1...10 raw(HU)'!H178","v":32},{"$f":"'1...10 raw(HU)'!I178","v":40},{"$f":"'1...10 raw(HU)'!J178","v":63},{"$f":"'1...10 raw(HU)'!K178","v":53},{"$f":"'1...10 raw(HU)'!L178","v":58}]
[2018,9,{"$f":"'1...10 raw(HU)'!C179","v":74},{"$f":"'1...10 raw(HU)'!D179","v":79},{"$f":"'1...10 raw(HU)'!E179","v":49},{"$f":"'1...10 raw(HU)'!F179","v":75},{"$f":"'1...10 raw(HU)'!G179","v":40},{"$f":"'1...10 raw(HU)'!H179","v":27},{"$f":"'1...10 raw(HU)'!I179","v":43},{"$f":"'1...10 raw(HU)'!J179","v":82},{"$f":"'1...10 raw(HU)'!K179","v":57},{"$f":"'1...10 raw(HU)'!L179","v":77}]
[2018,10,{"$f":"'1...10 raw(HU)'!C180","v":68},{"$f":"'1...10 raw(HU)'!D180","v":84},{"$f":"'1...10 raw(HU)'!E180","v":43},{"$f":"'1...10 raw(HU)'!F180","v":80},{"$f":"'1...10 raw(HU)'!G180","v":44},{"$f":"'1...10 raw(HU)'!H180","v":25},{"$f":"'1...10 raw(HU)'!I180","v":39},{"$f":"'1...10 raw(HU)'!J180","v":79},{"$f":"'1...10 raw(HU)'!K180","v":56},{"$f":"'1...10 raw(HU)'!L180","v":77}]
[2018,11,{"$f":"'1...10 raw(HU)'!C181","v":65},{"$f":"'1...10 raw(HU)'!D181","v":90},{"$f":"'1...10 raw(HU)'!E181","v":60},{"$f":"'1...10 raw(HU)'!F181","v":100},{"$f":"'1...10 raw(HU)'!G181","v":62},{"$f":"'1...10 raw(HU)'!H181","v":26},{"$f":"'1...10 raw(HU)'!I181","v":39},{"$f":"'1...10 raw(HU)'!J181","v":85},{"$f":"'1...10 raw(HU)'!K181","v":69},{"$f":"'1...10 raw(HU)'!L181","v":89}]
[2018,12,{"$f":"'1...10 raw(HU)'!C182","v":61},{"$f":"'1...10 raw(HU)'!D182","v":84},{"$f":"'1...10 raw(HU)'!E182","v":72},{"$f":"'1...10 raw(HU)'!F182","v":74},{"$f":"'1...10 raw(HU)'!G182","v":66},{"$f":"'1...10 raw(HU)'!H182","v":33},{"$f":"'1...10 raw(HU)'!I182","v":34},{"$f":"'1...10 raw(HU)'!J182","v":81},{"$f":"'1...10 raw(HU)'!K182","v":76},{"$f":"'1...10 raw(HU)'!L182","v":88}]
[2019,1,{"$f":"'1...10 raw(HU)'!C183","v":64},{"$f":"'1...10 raw(HU)'!D183","v":81},{"$f":"'1...10 raw(HU)'!E183","v":53},{"$f":"'1...10 raw(HU)'!F183","v":61},{"$f":"'1...10 raw(HU)'!G183","v":37},{"$f":"'1...10 raw(HU)'!H183","v":25},{"$f":"'1...10 raw(HU)'!I183","v":36},{"$f":"'1...10 raw(HU)'!J183","v":65},{"$f":"'1...10 raw(HU)'!K183","v":56},{"$f":"'1...10 raw(HU)'!L183","v":73}]
[2019,2,{"$f":"'1...10 raw(HU)'!C184","v":82},{"$f":"'1...10 raw(HU)'!D184","v":83},{"$f":"'1...10 raw(HU)'!E184","v":46},{"$f":"'1...10 raw(HU)'!F184","v":55},{"$f":"'1...10 raw(HU)'!G184","v":36},{"$f":"'1...10 raw(HU)'!H184","v":23},{"$f":"'1...10 raw(HU)'!I184","v":42},{"$f":"'1...10 raw(HU)'!J184","v":69},{"$f":"'1...10 raw(HU)'!K184","v":61},{"$f":"'1...10 raw(HU)'!L184","v":71}]
[2019,3,{"$f":"'1...10 raw(HU)'!C185","v":100},{"$f":"'1...10 raw(HU)'!D185","v":73},{"$f":"'1...10 raw(HU)'!E185","v":56},{"$f":"'1...10 raw(HU)'!F185","v":67},{"$f":"'1...10 raw(HU)'!G185","v":35},{"$f":"'1...10 raw(HU)'!H185","v":37},{"$f":"'1...10 raw(HU)'!I185","v":56},{"$f":"'1...10 raw(HU)'!J185","v":62},{"$f":"'1...10 raw(HU)'!K185","v":60},{"$f":"'1...10 raw(HU)'!L185","v":67}]
[2019,4,{"$f":"'1...10 raw(HU)'!C186","v":90},{"$f":"'1...10 raw(HU)'!D186","v":70},{"$f":"'1...10 raw(HU)'!E186","v":52},{"$f":"'1...10 raw(HU)'!F186","v":77},{"$f":"'1...10 raw(HU)'!G186","v":34},{"$f":"'1...10 raw(HU)'!H186","v":35},{"$f":"'1...10 raw(HU)'!I186","v":50},{"$f":"'1...10 raw(HU)'!J186","v":77},{"$f":"'1...10 raw(HU)'!K186","v":59},{"$f":"'1...10 raw(HU)'!L186","v":65}]
[2019,5,{"$f":"'1...10 raw(HU)'!C187","v":74},{"$f":"'1...10 raw(HU)'!D187","v":68},{"$f":"'1...10 raw(HU)'!E187","v":42},{"$f":"'1...10 raw(HU)'!F187","v":72},{"$f":"'1...10 raw(HU)'!G187","v":39},{"$f":"'1...10 raw(HU)'!H187","v":34},{"$f":"'1...10 raw(HU)'!I187","v":42},{"$f":"'1...10 raw(HU)'!J187","v":57},{"$f":"'1...10 raw(HU)'!K187","v":62},{"$f":"'1...10 raw(HU)'!L187","v":64}]
[2019,6,{"$f":"'1...10 raw(HU)'!C188","v":68},{"$f":"'1...10 raw(HU)'!D188","v":75},{"$f":"'1...10 raw(HU)'!E188","v":54},{"$f":"'1...10 raw(HU)'!F188","v":92},{"$f":"'1...10 raw(HU)'!G188","v":39},{"$f":"'1...10 raw(HU)'!H188","v":44},{"$f":"'1...10 raw(HU)'!I188","v":37},{"$f":"'1...10 raw(HU)'!J188","v":64},{"$f":"'1...10 raw(HU)'!K188","v":69},{"$f":"'1...10 raw(HU)'!L188","v":74}]
[2019,7,{"$f":"'1...10 raw(HU)'!C189","v":68},{"$f":"'1...10 raw(HU)'!D189","v":73},{"$f":"'1...10 raw(HU)'!E189","v":56},{"$f":"'1...10 raw(HU)'!F189","v":63},{"$f":"'1...10 raw(HU)'!G189","v":36},{"$f":"'1...10 raw(HU)'!H189","v":33},{"$f":"'1...10 raw(HU)'!I189","v":39},{"$f":"'1...10 raw(HU)'!J189","v":73},{"$f":"'1...10 raw(HU)'!K189","v":67},{"$f":"'1...10 raw(HU)'!L189","v":64}]
[2019,8,{"$f":"'1...10 raw(HU)'!C190","v":80},{"$f":"'1...10 raw(HU)'!D190","v":85},{"$f":"'1...10 raw(HU)'!E190","v":54},{"$f":"'1...10 raw(HU)'!F190","v":73},{"$f":"'1...10 raw(HU)'!G190","v":35},{"$f":"'1...10 raw(HU)'!H190","v":40},{"$f":"'1...10 raw(HU)'!I190","v":48},{"$f":"'1...10 raw(HU)'!J190","v":72},{"$f":"'1...10 raw(HU)'!K190","v":71},{"$f":"'1...10 raw(HU)'!L190","v":65}]
[2019,9,{"$f":"'1...10 raw(HU)'!C191","v":74},{"$f":"'1...10 raw(HU)'!D191","v":93},{"$f":"'1...10 raw(HU)'!E191","v":51},{"$f":"'1...10 raw(HU)'!F191","v":97},{"$f":"'1...10 raw(HU)'!G191","v":44},{"$f":"'1...10 raw(HU)'!H191","v":35},{"$f":"'1...10 raw(HU)'!I191","v":46},{"$f":"'1...10 raw(HU)'!J191","v":93},{"$f":"'1...10 raw(HU)'!K191","v":71},{"$f":"'1...10 raw(HU)'!L191","v":84}]
[2019,10,{"$f":"'1...10 raw(HU)'!C192","v":66},{"$f":"'1...10 raw(HU)'!D192","v":85},{"$f":"'1...10 raw(HU)'!E192","v":48},{"$f":"'1...10 raw(HU)'!F192","v":90},{"$f":"'1...10 raw(HU)'!G192","v":52},{"$f":"'1...10 raw(HU)'!H192","v":26},{"$f":"'1...10 raw(HU)'!I192","v":49},{"$f":"'1...10 raw(HU)'!J192","v":78},{"$f":"'1...10 raw(HU)'!K192","v":61},{"$f":"'1...10 raw(HU)'!L192","v":81}]
[2019,11,{"$f":"'1...10 raw(HU)'!C193","v":67},{"$f":"'1...10 raw(HU)'!D193","v":97},{"$f":"'1...10 raw(HU)'!E193","v":62},{"$f":"'1...10 raw(HU)'!F193","v":97},{"$f":"'1...10 raw(HU)'!G193","v":69},{"$f":"'1...10 raw(HU)'!H193","v":28},{"$f":"'1...10 raw(HU)'!I193","v":40},{"$f":"'1...10 raw(HU)'!J193","v":88},{"$f":"'1...10 raw(HU)'!K193","v":85},{"$f":"'1...10 raw(HU)'!L193","v":93}]
[2019,12,{"$f":"'1...10 raw(HU)'!C194","v":65},{"$f":"'1...10 raw(HU)'!D194","v":100},{"$f":"'1...10 raw(HU)'!E194","v":79},{"$f":"'1...10 raw(HU)'!F194","v":94},{"$f":"'1...10 raw(HU)'!G194","v":85},{"$f":"'1...10 raw(HU)'!H194","v":42},{"$f":"'1...10 raw(HU)'!I194","v":43},{"$f":"'1...10 raw(HU)'!J194","v":100},{"$f":"'1...10 raw(HU)'!K194","v":93},{"$f":"'1...10 raw(HU)'!L194","v":96}]
[2020,1,{"$f":"'1...10 raw(HU)'!C195","v":61},{"$f":"'1...10 raw(HU)'!D195","v":77},{"$f":"'1...10 raw(HU)'!E195","v":57},{"$f":"'1...10 raw(HU)'!F195","v":63},{"$f":"'1...10 raw(HU)'!G195","v":40},{"$f":"'1...10 raw(HU)'!H195","v":29},{"$f":"'1...10 raw(HU)'!I195","v":39},{"$f":"'1...10 raw(HU)'!J195","v":75},{"$f":"'1...10 raw(HU)'!K195","v":59},{"$f":"'1...10 raw(HU)'!L195","v":72}]
[2020,2,{"$f":"'1...10 raw(HU)'!C196","v":79},{"$f":"'1...10 raw(HU)'!D196","v":76},{"$f":"'1...10 raw(HU)'!E196","v":66},{"$f":"'1...10 raw(HU)'!F196","v":63},{"$f":"'1...10 raw(HU)'!G196","v":50},{"$f":"'1...10 raw(HU)'!H196","v":40},{"$f":"'1...10 raw(HU)'!I196","v":52},{"$f":"'1...10 raw(HU)'!J196","v":62},{"$f":"'1...10 raw(HU)'!K196","v":60},{"$f":"'1...10 raw(HU)'!L196","v":70}]
[2020,3,{"$f":"'1...10 raw(HU)'!C197","v":64},{"$f":"'1...10 raw(HU)'!D197","v":58},{"$f":"'1...10 raw(HU)'!E197","v":48},{"$f":"'1...10 raw(HU)'!F197","v":50},{"$f":"'1...10 raw(HU)'!G197","v":32},{"$f":"'1...10 raw(HU)'!H197","v":26},{"$f":"'1...10 raw(HU)'!I197","v":41},{"$f":"'1...10 raw(HU)'!J197","v":44},{"$f":"'1...10 raw(HU)'!K197","v":44},{"$f":"'1...10 raw(HU)'!L197","v":46}]
[2020,4,{"$f":"'1...10 raw(HU)'!C198","v":67},{"$f":"'1...10 raw(HU)'!D198","v":75},{"$f":"'1...10 raw(HU)'!E198","v":44},{"$f":"'1...10 raw(HU)'!F198","v":82},{"$f":"'1...10 raw(HU)'!G198","v":30},{"$f":"'1...10 raw(HU)'!H198","v":33},{"$f":"'1...10 raw(HU)'!I198","v":45},{"$f":"'1...10 raw(HU)'!J198","v":55},{"$f":"'1...10 raw(HU)'!K198","v":45},{"$f":"'1...10 raw(HU)'!L198","v":57}]
[2020,5,{"$f":"'1...10 raw(HU)'!C199","v":66},{"$f":"'1...10 raw(HU)'!D199","v":76},{"$f":"'1...10 raw(HU)'!E199","v":45},{"$f":"'1...10 raw(HU)'!F199","v":90},{"$f":"'1...10 raw(HU)'!G199","v":31},{"$f":"'1...10 raw(HU)'!H199","v":33},{"$f":"'1...10 raw(HU)'!I199","v":48},{"$f":"'1...10 raw(HU)'!J199","v":64},{"$f":"'1...10 raw(HU)'!K199","v":58},{"$f":"'1...10 raw(HU)'!L199","v":63}]
[2020,6,{"$f":"'1...10 raw(HU)'!C200","v":67},{"$f":"'1...10 raw(HU)'!D200","v":69},{"$f":"'1...10 raw(HU)'!E200","v":63},{"$f":"'1...10 raw(HU)'!F200","v":76},{"$f":"'1...10 raw(HU)'!G200","v":37},{"$f":"'1...10 raw(HU)'!H200","v":31},{"$f":"'1...10 raw(HU)'!I200","v":45},{"$f":"'1...10 raw(HU)'!J200","v":66},{"$f":"'1...10 raw(HU)'!K200","v":67},{"$f":"'1...10 raw(HU)'!L200","v":64}]
[2020,7,{"$f":"'1...10 raw(HU)'!C201","v":60},{"$f":"'1...10 raw(HU)'!D201","v":64},{"$f":"'1...10 raw(HU)'!E201","v":64},{"$f":"'1...10 raw(HU)'!F201","v":76},{"$f":"'1...10 raw(HU)'!G201","v":46},{"$f":"'1...10 raw(HU)'!H201","v":36},{"$f":"'1...10 raw(HU)'!I201","v":43},{"$f":"'1...10 raw(HU)'!J201","v":54},{"$f":"'1...10 raw(HU)'!K201","v":67},{"$f":"'1...10 raw(HU)'!L201","v":62}]
[2020,8,{"$f":"'1...10 raw(HU)'!C202","v":72},{"$f":"'1...10 raw(HU)'!D202","v":69},{"$f":"'1...10 raw(HU)'!E202","v":58},{"$f":"'1...10 raw(HU)'!F202","v":78},{"$f":"'1...10 raw(HU)'!G202","v":43},{"$f":"'1...10 raw(HU)'!H202","v":37},{"$f":"'1...10 raw(HU)'!I202","v":51},{"$f":"'1...10 raw(HU)'!J202","v":61},{"$f":"'1...10 raw(HU)'!K202","v":62},{"$f":"'1...10 raw(HU)'!L202","v":63}]
[2020,9,{"$f":"'1...10 raw(HU)'!C203","v":74},{"$f":"'1...10 raw(HU)'!D203","v":79},{"$f":"'1...10 raw(HU)'!E203","v":57},{"$f":"'1...10 raw(HU)'!F203","v":84},{"$f":"'1...10 raw(HU)'!G203","v":43},{"$f":"'1...10 raw(HU)'!H203","v":27},{"$f":"'1...10 raw(HU)'!I203","v":51},{"$f":"'1...10 raw(HU)'!J203","v":70},{"$f":"'1...10 raw(HU)'!K203","v":61},{"$f":"'1...10 raw(HU)'!L203","v":69}]
[2020,10,{"$f":"'1...10 raw(HU)'!C204","v":68},{"$f":"'1...10 raw(HU)'!D204","v":95},{"$f":"'1...10 raw(HU)'!E204","v":57},{"$f":"'1...10 raw(HU)'!F204","v":95},{"$f":"'1...10 raw(HU)'!G204","v":47},{"$f":"'1...10 raw(HU)'!H204","v":34},{"$f":"'1...10 raw(HU)'!I204","v":50},{"$f":"'1...10 raw(HU)'!J204","v":77},{"$f":"'1...10 raw(HU)'!K204","v":63},{"$f":"'1...10 raw(HU)'!L204","v":82}]
[2020,11,{"$f":"'1...10 raw(HU)'!C205","v":63},{"$f":"'1...10 raw(HU)'!D205","v":86},{"$f":"'1...10 raw(HU)'!E205","v":66},{"$f":"'1...10 raw(HU)'!F205","v":81},{"$f":"'1...10 raw(HU)'!G205","v":43},{"$f":"'1...10 raw(HU)'!H205","v":34},{"$f":"'1...10 raw(HU)'!I205","v":43},{"$f":"'1...10 raw(HU)'!J205","v":72},{"$f":"'1...10 raw(HU)'!K205","v":74},{"$f":"'1...10 raw(HU)'!L205","v":78}]
[2020,12,{"$f":"'1...10 raw(HU)'!C206","v":58},{"$f":"'1...10 raw(HU)'!D206","v":89},{"$f":"'1...10 raw(HU)'!E206","v":71},{"$f":"'1...10 raw(HU)'!F206","v":63},{"$f":"'1...10 raw(HU)'!G206","v":71},{"$f":"'1...10 raw(HU)'!H206","v":33},{"$f":"'1...10 raw(HU)'!I206","v":41},{"$f":"'1...10 raw(HU)'!J206","v":71},{"$f":"'1...10 raw(HU)'!K206","v":86},{"$f":"'1...10 raw(HU)'!L206","v":72}]
[2021,1,{"$f":"'1...10 raw(HU)'!C207","v":53},{"$f":"'1...10 raw(HU)'!D207","v":84},{"$f":"'1...10 raw(HU)'!E207","v":54},{"$f":"'1...10 raw(HU)'!F207","v":58},{"$f":"'1...10 raw(HU)'!G207","v":45},{"$f":"'1...10 raw(HU)'!H207","v":30},{"$f":"'1...10 raw(HU)'!I207","v":44},{"$f":"'1...10 raw(HU)'!J207","v":69},{"$f":"'1...10 raw(HU)'!K207","v":56},{"$f":"'1...10 raw(HU)'!L207","v":62}]
[2021,2,{"$f":"'1...10 raw(HU)'!C208","v":61},{"$f":"'1...10 raw(HU)'!D208","v":76},{"$f":"'1...10 raw(HU)'!E208","v":51},{"$f":"'1...10 raw(HU)'!F208","v":57},{"$f":"'1...10 raw(HU)'!G208","v":45},{"$f":"'1...10 raw(HU)'!H208","v":28},{"$f":"'1...10 raw(HU)'!I208","v":47},{"$f":"'1...10 raw(HU)'!J208","v":49},{"$f":"'1...10 raw(HU)'!K208","v":55},{"$f":"'1...10 raw(HU)'!L208","v":64}]
[2021,3,{"$f":"'1...10 raw(HU)'!C209","v":70},{"$f":"'1...10 raw(HU)'!D209","v":68},{"$f":"'1...10 raw(HU)'!E209","v":45},{"$f":"'1...10 raw(HU)'!F209","v":53},{"$f":"'1...10 raw(HU)'!G209","v":29},{"$f":"'1...10 raw(HU)'!H209","v":29},{"$f":"'1...10 raw(HU)'!I209","v":49},{"$f":"'1...10 raw(HU)'!J209","v":48},{"$f":"'1...10 raw(HU)'!K209","v":51},{"$f":"'1...10 raw(HU)'!L209","v":52}]
[2021,4,{"$f":"'1...10 raw(HU)'!C210","v":72},{"$f":"'1...10 raw(HU)'!D210","v":59},{"$f":"'1...10 raw(HU)'!E210","v":52},{"$f":"'1...10 raw(HU)'!F210","v":56},{"$f":"'1...10 raw(HU)'!G210","v":38},{"$f":"'1...10 raw(HU)'!H210","v":39},{"$f":"'1...10 raw(HU)'!I210","v":49},{"$f":"'1...10 raw(HU)'!J210","v":56},{"$f":"'1...10 raw(HU)'!K210","v":56},{"$f":"'1...10 raw(HU)'!L210","v":51}]
[2021,5,{"$f":"'1...10 raw(HU)'!C211","v":67},{"$f":"'1...10 raw(HU)'!D211","v":55},{"$f":"'1...10 raw(HU)'!E211","v":56},{"$f":"'1...10 raw(HU)'!F211","v":59},{"$f":"'1...10 raw(HU)'!G211","v":45},{"$f":"'1...10 raw(HU)'!H211","v":31},{"$f":"'1...10 raw(HU)'!I211","v":46},{"$f":"'1...10 raw(HU)'!J211","v":48},{"$f":"'1...10 raw(HU)'!K211","v":62},{"$f":"'1...10 raw(HU)'!L211","v":58}]
[2021,6,{"$f":"'1...10 raw(HU)'!C212","v":61},{"$f":"'1...10 raw(HU)'!D212","v":63},{"$f":"'1...10 raw(HU)'!E212","v":61},{"$f":"'1...10 raw(HU)'!F212","v":76},{"$f":"'1...10 raw(HU)'!G212","v":47},{"$f":"'1...10 raw(HU)'!H212","v":38},{"$f":"'1...10 raw(HU)'!I212","v":41},{"$f":"'1...10 raw(HU)'!J212","v":56},{"$f":"'1...10 raw(HU)'!K212","v":66},{"$f":"'1...10 raw(HU)'!L212","v":68}]
[2021,7,{"$f":"'1...10 raw(HU)'!C213","v":58},{"$f":"'1...10 raw(HU)'!D213","v":67},{"$f":"'1...10 raw(HU)'!E213","v":69},{"$f":"'1...10 raw(HU)'!F213","v":56},{"$f":"'1...10 raw(HU)'!G213","v":44},{"$f":"'1...10 raw(HU)'!H213","v":37},{"$f":"'1...10 raw(HU)'!I213","v":40},{"$f":"'1...10 raw(HU)'!J213","v":53},{"$f":"'1...10 raw(HU)'!K213","v":64},{"$f":"'1...10 raw(HU)'!L213","v":58}]
[2021,8,{"$f":"'1...10 raw(HU)'!C214","v":72},{"$f":"'1...10 raw(HU)'!D214","v":67},{"$f":"'1...10 raw(HU)'!E214","v":62},{"$f":"'1...10 raw(HU)'!F214","v":66},{"$f":"'1...10 raw(HU)'!G214","v":55},{"$f":"'1...10 raw(HU)'!H214","v":34},{"$f":"'1...10 raw(HU)'!I214","v":57},{"$f":"'1...10 raw(HU)'!J214","v":55},{"$f":"'1...10 raw(HU)'!K214","v":71},{"$f":"'1...10 raw(HU)'!L214","v":65}]
[2021,9,{"$f":"'1...10 raw(HU)'!C215","v":66},{"$f":"'1...10 raw(HU)'!D215","v":68},{"$f":"'1...10 raw(HU)'!E215","v":60},{"$f":"'1...10 raw(HU)'!F215","v":61},{"$f":"'1...10 raw(HU)'!G215","v":45},{"$f":"'1...10 raw(HU)'!H215","v":30},{"$f":"'1...10 raw(HU)'!I215","v":53},{"$f":"'1...10 raw(HU)'!J215","v":69},{"$f":"'1...10 raw(HU)'!K215","v":64},{"$f":"'1...10 raw(HU)'!L215","v":73}]
[2021,10,{"$f":"'1...10 raw(HU)'!C216","v":60},{"$f":"'1...10 raw(HU)'!D216","v":75},{"$f":"'1...10 raw(HU)'!E216","v":60},{"$f":"'1...10 raw(HU)'!F216","v":70},{"$f":"'1...10 raw(HU)'!G216","v":58},{"$f":"'1...10 raw(HU)'!H216","v":33},{"$f":"'1...10 raw(HU)'!I216","v":50},{"$f":"'1...10 raw(HU)'!J216","v":80},{"$f":"'1...10 raw(HU)'!K216","v":65},{"$f":"'1...10 raw(HU)'!L216","v":82}]
[2021,11,{"$f":"'1...10 raw(HU)'!C217","v":58},{"$f":"'1...10 raw(HU)'!D217","v":74},{"$f":"'1...10 raw(HU)'!E217","v":76},{"$f":"'1...10 raw(HU)'!F217","v":70},{"$f":"'1...10 raw(HU)'!G217","v":76},{"$f":"'1...10 raw(HU)'!H217","v":31},{"$f":"'1...10 raw(HU)'!I217","v":53},{"$f":"'1...10 raw(HU)'!J217","v":68},{"$f":"'1...10 raw(HU)'!K217","v":87},{"$f":"'1...10 raw(HU)'!L217","v":84}]
[2021,12,{"$f":"'1...10 raw(HU)'!C218","v":59},{"$f":"'1...10 raw(HU)'!D218","v":80},{"$f":"'1...10 raw(HU)'!E218","v":92},{"$f":"'1...10 raw(HU)'!F218","v":64},{"$f":"'1...10 raw(HU)'!G218","v":88},{"$f":"'1...10 raw(HU)'!H218","v":43},{"$f":"'1...10 raw(HU)'!I218","v":54},{"$f":"'1...10 raw(HU)'!J218","v":80},{"$f":"'1...10 raw(HU)'!K218","v":100},{"$f":"'1...10 raw(HU)'!L218","v":92}]
[2022,1,{"$f":"'1...10 raw(HU)'!C219","v":59},{"$f":"'1...10 raw(HU)'!D219","v":60},{"$f":"'1...10 raw(HU)'!E219","v":67},{"$f":"'1...10 raw(HU)'!F219","v":52},{"$f":"'1...10 raw(HU)'!G219","v":64},{"$f":"'1...10 raw(HU)'!H219","v":27},{"$f":"'1...10 raw(HU)'!I219","v":50},{"$f":"'1...10 raw(HU)'!J219","v":72},{"$f":"'1...10 raw(HU)'!K219","v":66},{"$f":"'1...10 raw(HU)'!L219","v":70}]
[2022,2,{"$f":"'1...10 raw(HU)'!C220","v":81},{"$f":"'1...10 raw(HU)'!D220","v":66},{"$f":"'1...10 raw(HU)'!E220","v":67},{"$f":"'1...10 raw(HU)'!F220","v":50},{"$f":"'1...10 raw(HU)'!G220","v":56},{"$f":"'1...10 raw(HU)'!H220","v":40},{"$f":"'1...10 raw(HU)'!I220","v":73},{"$f":"'1...10 raw(HU)'!J220","v":58},{"$f":"'1...10 raw(HU)'!K220","v":65},{"$f":"'1...10 raw(HU)'!L220","v":64}]
[2022,3,{"$f":"'1...10 raw(HU)'!C221","v":82},{"$f":"'1...10 raw(HU)'!D221","v":55},{"$f":"'1...10 raw(HU)'!E221","v":67},{"$f":"'1...10 raw(HU)'!F221","v":51},{"$f":"'1...10 raw(HU)'!G221","v":59},{"$f":"'1...10 raw(HU)'!H221","v":40},{"$f":"'1...10 raw(HU)'!I221","v":80},{"$f":"'1...10 raw(HU)'!J221","v":61},{"$f":"'1...10 raw(HU)'!K221","v":65},{"$f":"'1...10 raw(HU)'!L221","v":65}]
[2022,4,{"$f":"'1...10 raw(HU)'!C222","v":72},{"$f":"'1...10 raw(HU)'!D222","v":52},{"$f":"'1...10 raw(HU)'!E222","v":67},{"$f":"'1...10 raw(HU)'!F222","v":49},{"$f":"'1...10 raw(HU)'!G222","v":56},{"$f":"'1...10 raw(HU)'!H222","v":45},{"$f":"'1...10 raw(HU)'!I222","v":74},{"$f":"'1...10 raw(HU)'!J222","v":54},{"$f":"'1...10 raw(HU)'!K222","v":73},{"$f":"'1...10 raw(HU)'!L222","v":67}]
[2022,5,{"$f":"'1...10 raw(HU)'!C223","v":75},{"$f":"'1...10 raw(HU)'!D223","v":49},{"$f":"'1...10 raw(HU)'!E223","v":64},{"$f":"'1...10 raw(HU)'!F223","v":63},{"$f":"'1...10 raw(HU)'!G223","v":64},{"$f":"'1...10 raw(HU)'!H223","v":46},{"$f":"'1...10 raw(HU)'!I223","v":68},{"$f":"'1...10 raw(HU)'!J223","v":49},{"$f":"'1...10 raw(HU)'!K223","v":72},{"$f":"'1...10 raw(HU)'!L223","v":72}]
[2022,6,{"$f":"'1...10 raw(HU)'!C224","v":63},{"$f":"'1...10 raw(HU)'!D224","v":46},{"$f":"'1...10 raw(HU)'!E224","v":75},{"$f":"'1...10 raw(HU)'!F224","v":60},{"$f":"'1...10 raw(HU)'!G224","v":57},{"$f":"'1...10 raw(HU)'!H224","v":44},{"$f":"'1...10 raw(HU)'!I224","v":55},{"$f":"'1...10 raw(HU)'!J224","v":53},{"$f":"'1...10 raw(HU)'!K224","v":74},{"$f":"'1...10 raw(HU)'!L224","v":77}]
[2022,7,{"$f":"'1...10 raw(HU)'!C225","v":62},{"$f":"'1...10 raw(HU)'!D225","v":52},{"$f":"'1...10 raw(HU)'!E225","v":71},{"$f":"'1...10 raw(HU)'!F225","v":49},{"$f":"'1...10 raw(HU)'!G225","v":56},{"$f":"'1...10 raw(HU)'!H225","v":47},{"$f":"'1...10 raw(HU)'!I225","v":58},{"$f":"'1...10 raw(HU)'!J225","v":60},{"$f":"'1...10 raw(HU)'!K225","v":71},{"$f":"'1...10 raw(HU)'!L225","v":75}]
[2022,8,{"$f":"'1...10 raw(HU)'!C226","v":73},{"$f":"'1...10 raw(HU)'!D226","v":52},{"$f":"'1...10 raw(HU)'!E226","v":67},{"$f":"'1...10 raw(HU)'!F226","v":53},{"$f":"'1...10 raw(HU)'!G226","v":53},{"$f":"'1...10 raw(HU)'!H226","v":39},{"$f":"'1...10 raw(HU)'!I226","v":75},{"$f":"'1...10 raw(HU)'!J226","v":56},{"$f":"'1...10 raw(HU)'!K226","v":64},{"$f":"'1...10 raw(HU)'!L226","v":70}]
[2022,9,{"$f":"'1...10 raw(HU)'!C227","v":73},{"$f":"'1...10 raw(HU)'!D227","v":62},{"$f":"'1...10 raw(HU)'!E227","v":70},{"$f":"'1...10 raw(HU)'!F227","v":71},{"$f":"'1...10 raw(HU)'!G227","v":59},{"$f":"'1...10 raw(HU)'!H227","v":40},{"$f":"'1...10 raw(HU)'!I227","v":76},{"$f":"'1...10 raw(HU)'!J227","v":61},{"$f":"'1...10 raw(HU)'!K227","v":63},{"$f":"'1...10 raw(HU)'!L227","v":91}]
[2022,10,{"$f":"'1...10 raw(HU)'!C228","v":69},{"$f":"'1...10 raw(HU)'!D228","v":66},{"$f":"'1...10 raw(HU)'!E228","v":70},{"$f":"'1...10 raw(HU)'!F228","v":66},{"$f":"'1...10 raw(HU)'!G228","v":61},{"$f":"'1...10 raw(HU)'!H228","v":41},{"$f":"'1...10 raw(HU)'!I228","v":74},{"$f":"'1...10 raw(HU)'!J228","v":61},{"$f":"'1...10 raw(HU)'!K228","v":62},{"$f":"'1...10 raw(HU)'!L228","v":87}]
[2022,11,{"$f":"'1...10 raw(HU)'!C229","v":67},{"$f":"'1...10 raw(HU)'!D229","v":65},{"$f":"'1...10 raw(HU)'!E229","v":82},{"$f":"'1...10 raw(HU)'!F229","v":73},{"$f":"'1...10 raw(HU)'!G229","v":74},{"$f":"'1...10 raw(HU)'!H229","v":44},{"$f":"'1...10 raw(HU)'!I229","v":79},{"$f":"'1...10 raw(HU)'!J229","v":72},{"$f":"'1...10 raw(HU)'!K229","v":87},{"$f":"'1...10 raw(HU)'!L229","v":100}]
[2022,12,{"$f":"'1...10 raw(HU)'!C230","v":68},{"$f":"'1...10 raw(HU)'!D230","v":67},{"$f":"'1...10 raw(HU)'!E230","v":100},{"$f":"'1...10 raw(HU)'!F230","v":56},{"$f":"'1...10 raw(HU)'!G230","v":100},{"$f":"'1...10 raw(HU)'!H230","v":44},{"$f":"'1...10 raw(HU)'!I230","v":80},{"$f":"'1...10 raw(HU)'!J230","v":74},{"$f":"'1...10 raw(HU)'!K230","v":94},{"$f":"'1...10 raw(HU)'!L230","v":93}]
[2023,1,{"$f":"'1...10 raw(HU)'!C231","v":68},{"$f":"'1...10 raw(HU)'!D231","v":55},{"$f":"'1...10 raw(HU)'!E231","v":68},{"$f":"'1...10 raw(HU)'!F231","v":47},{"$f":"'1...10 raw(HU)'!G231","v":53},{"$f":"'1...10 raw(HU)'!H231","v":43},{"$f":"'1...10 raw(HU)'!I231","v":80},{"$f":"'1...10 raw(HU)'!J231","v":60},{"$f":"'1...10 raw(HU)'!K231","v":63},{"$f":"'1...10 raw(HU)'!L231","v":77}]
[2023,2,{"$f":"'1...10 raw(HU)'!C232","v":80},{"$f":"'1...10 raw(HU)'!D232","v":50},{"$f":"'1...10 raw(HU)'!E232","v":67},{"$f":"'1...10 raw(HU)'!F232","v":49},{"$f":"'1...10 raw(HU)'!G232","v":59},{"$f":"'1...10 raw(HU)'!H232","v":38},{"$f":"'1...10 raw(HU)'!I232","v":79},{"$f":"'1...10 raw(HU)'!J232","v":47},{"$f":"'1...10 raw(HU)'!K232","v":60},{"$f":"'1...10 raw(HU)'!L232","v":68}]
[2023,3,{"$f":"'1...10 raw(HU)'!C233","v":92},{"$f":"'1...10 raw(HU)'!D233","v":49},{"$f":"'1...10 raw(HU)'!E233","v":73},{"$f":"'1...10 raw(HU)'!F233","v":47},{"$f":"'1...10 raw(HU)'!G233","v":58},{"$f":"'1...10 raw(HU)'!H233","v":48},{"$f":"'1...10 raw(HU)'!I233","v":91},{"$f":"'1...10 raw(HU)'!J233","v":48},{"$f":"'1...10 raw(HU)'!K233","v":63},{"$f":"'1...10 raw(HU)'!L233","v":72}]

{"sheet":"keywords(AT)","index":3,"n_rows":11,"n_cols":4,"rows_kept":11,"cut":false,"hidden":false,"merged":[]}
["id","url","country","brand*"]
[1,"https://trends.google.com/trends/explore?date=all&geo=AT&q=Adidas","AT","Adidas"]
[2,"https://trends.google.com/trends/explore?date=all&geo=AT&q=Bershka","AT","Bershka"]
[3,"https://trends.google.com/trends/explore?date=all&geo=AT&q=Calvin Klein","AT","Calvin Klein"]
[4,"https://trends.google.com/trends/explore?date=all&geo=AT&q=H&M","AT","H&M"]
[5,"https://trends.google.com/trends/explore?date=all&geo=AT&q=Hugo Boss","AT","Hugo Boss"]
[6,"https://trends.google.com/trends/explore?date=all&geo=AT&q=Lacoste","AT","Lacoste"]
[7,"https://trends.google.com/trends/explore?date=all&geo=AT&q=Nike","AT","Nike"]
[8,"https://trends.google.com/trends/explore?date=all&geo=AT&q=Pull and Bear","AT","Pull and Bear"]
[9,"https://trends.google.com/trends/explore?date=all&geo=AT&q=Tommy Hilfiger","AT","Tommy Hilfiger"]
[10,"https://trends.google.com/trends/explore?date=all&geo=AT&q=Zara","AT","Zara"]

{"sheet":"1...10 raw(AT)","index":4,"n_rows":235,"n_cols":12,"rows_kept":235,"cut":false,"hidden":false,"merged":[]}
["AUSTRIA",null,"Adidas","Bershka","Calvin Klein","H&M","Hugo Boss","Lacoste","Nike","Pull and Bear","Tommy Hilfiger","Zara"]
["Year","Month","Point","Point","Point","Point","Point","Point","Point","Point","Point","Point"]
[2004,1,27,0,33,18,46,0,12,0,0,8]
[2004,2,36,84,13,20,77,0,17,0,40,10]
[2004,3,28,0,42,23,28,25,23,0,28,9]
[2004,4,29,0,15,24,46,0,41,0,39,10]
[2004,5,40,26,29,19,50,18,28,29,15,5]
[2004,6,45,0,0,19,52,14,33,0,13,9]
[2004,7,41,0,0,19,0,0,23,0,8,13]
[2004,8,42,27,37,22,57,49,18,0,8,5]
[2004,9,25,0,46,28,33,0,14,33,27,15]
[2004,10,29,0,31,26,59,0,26,57,21,13]
[2004,11,32,0,26,26,69,33,18,29,16,10]
[2004,12,29,0,33,25,67,15,18,0,38,12]
[2005,1,35,0,14,19,38,23,16,0,16,7]
[2005,2,28,0,18,23,47,41,24,0,30,10]
[2005,3,35,0,16,26,19,44,32,0,24,18]
[2005,4,40,14,21,27,73,53,20,0,13,12]
[2005,5,39,0,9,21,56,0,26,24,9,13]
[2005,6,27,24,9,24,35,72,28,0,24,8]
[2005,7,34,0,11,21,58,61,27,0,20,8]
[2005,8,36,25,51,26,72,56,23,0,35,17]
[2005,9,41,0,16,30,47,27,26,0,30,14]
[2005,10,31,10,29,34,64,38,21,0,27,16]
[2005,11,36,0,44,32,41,77,26,0,31,20]
[2005,12,27,0,18,27,61,60,23,0,50,19]
[2006,1,30,0,24,16,49,51,17,11,24,14]
[2006,2,41,0,32,19,51,61,23,19,26,14]
[2006,3,43,0,29,23,52,78,29,0,34,13]
[2006,4,51,0,13,24,50,63,32,0,34,19]
[2006,5,39,0,30,24,38,87,35,21,24,15]
[2006,6,51,0,19,24,38,55,25,0,25,13]
[2006,7,42,16,29,18,0,41,23,0,24,12]
[2006,8,43,8,28,22,59,80,27,0,31,14]
[2006,9,34,0,16,25,49,55,20,0,29,14]
[2006,10,33,11,17,24,31,41,22,0,20,17]
[2006,11,26,8,19,26,63,48,20,0,24,15]
[2006,12,32,9,34,29,53,55,19,0,42,20]
[2007,1,26,0,13,22,40,37,17,0,22,12]
[2007,2,30,0,18,20,48,42,17,0,29,14]
[2007,3,43,23,11,32,30,53,24,11,20,21]
[2007,4,37,5,28,26,32,51,21,0,26,16]
[2007,5,42,0,19,27,55,70,24,11,23,14]
[2007,6,42,10,9,29,33,97,20,0,25,15]
[2007,7,38,0,18,23,44,69,20,8,28,10]
[2007,8,45,7,26,52,45,65,22,0,19,15]
[2007,9,40,0,23,45,54,87,21,8,33,20]
[2007,10,32,6,19,44,66,55,21,0,15,22]
[2007,11,30,4,24,54,57,61,20,13,20,20]
[2007,12,34,0,18,41,75,68,18,0,35,17]
[2008,1,30,0,8,41,50,55,23,0,24,14]
[2008,2,41,20,9,39,45,81,22,13,21,23]
[2008,3,43,0,21,47,51,100,27,0,23,19]
[2008,4,37,0,18,44,31,74,22,0,28,19]
[2008,5,40,0,21,49,48,80,26,0,18,14]
[2008,6,41,0,19,42,45,68,29,5,13,20]
[2008,7,41,0,16,41,51,66,28,7,25,15]
[2008,8,41,5,34,46,30,75,26,0,19,13]
[2008,9,33,6,21,59,44,54,23,0,19,21]
[2008,10,25,10,15,49,53,56,19,0,24,24]
[2008,11,29,17,16,51,53,56,22,0,22,19]
[2008,12,31,10,36,50,75,75,22,0,26,25]
[2009,1,28,4,23,48,52,49,22,0,18,15]
[2009,2,31,0,17,52,42,57,21,0,16,18]
[2009,3,33,0,23,59,46,75,30,0,22,27]
[2009,4,41,11,32,62,44,74,31,0,22,19]
[2009,5,36,0,17,67,41,63,27,10,21,21]
[2009,6,41,10,18,55,40,57,26,0,25,18]
[2009,7,39,4,16,50,43,80,26,0,27,15]
[2009,8,39,3,14,57,43,49,27,4,25,20]
[2009,9,38,8,7,69,38,41,27,15,26,27]
[2009,10,34,7,17,72,44,48,25,7,32,29]
[2009,11,32,9,27,75,59,45,20,7,30,26]
[2009,12,35,10,35,74,73,51,21,17,33,26]
[2010,1,36,7,18,70,49,38,21,0,26,23]
[2010,2,36,6,17,66,53,47,28,4,17,24]
[2010,3,43,9,20,78,40,40,28,4,35,26]
[2010,4,39,20,24,74,36,43,31,5,20,28]
[2010,5,41,3,20,75,38,45,29,0,25,27]
[2010,6,47,13,14,72,38,35,32,0,24,26]
[2010,7,41,16,15,69,43,36,26,8,24,21]
[2010,8,45,10,10,76,46,47,28,6,23,26]
[2010,9,43,28,14,91,39,33,27,12,32,43]
[2010,10,38,20,16,86,49,33,25,5,30,38]
[2010,11,29,24,23,85,46,33,25,14,28,35]
[2010,12,35,20,32,78,76,47,21,11,45,42]
[2011,1,37,16,18,70,51,36,24,7,29,31]
[2011,2,40,25,16,81,55,40,26,5,33,34]
[2011,3,46,29,20,85,51,36,27,5,32,39]
[2011,4,42,26,18,86,44,36,29,0,32,39]
[2011,5,37,21,18,94,40,45,25,12,27,37]
[2011,6,34,17,15,84,49,46,26,6,30,39]
[2011,7,43,19,19,76,49,44,26,12,31,34]
[2011,8,45,15,10,93,55,46,29,8,33,38]
[2011,9,40,33,17,89,54,34,28,8,32,44]
[2011,10,39,40,18,92,58,42,23,0,35,47]
[2011,11,36,51,25,97,65,38,25,15,34,44]
[2011,12,36,45,37,78,99,53,22,11,47,52]
[2012,1,31,33,22,81,57,48,23,14,34,43]
[2012,2,38,40,22,81,60,42,26,12,35,43]
[2012,3,41,59,23,100,53,45,29,12,37,54]
[2012,4,43,52,16,87,50,42,32,18,36,45]
[2012,5,41,50,22,91,51,44,30,15,32,43]
[2012,6,43,60,14,81,56,37,33,18,37,47]
[2012,7,40,62,20,76,58,38,34,15,42,41]
[2012,8,44,79,26,71,56,33,37,23,41,47]
[2012,9,44,90,22,91,45,40,31,36,45,57]
[2012,10,34,77,21,81,65,38,29,49,41,59]
[2012,11,33,63,21,82,69,32,27,31,46,54]
[2012,12,36,82,41,79,90,47,26,39,53,56]
[2013,1,29,54,15,74,55,35,28,41,45,48]
[2013,2,32,61,19,71,64,29,31,30,39,44]
[2013,3,45,65,15,81,52,47,38,32,41,45]
[2013,4,37,71,16,88,61,34,38,26,37,45]
[2013,5,36,59,20,78,52,42,35,27,39,46]
[2013,6,32,55,15,74,56,40,34,37,37,44]
[2013,7,36,46,15,71,61,41,37,32,44,39]
[2013,8,39,59,22,79,63,41,41,48,46,41]
[2013,9,38,57,22,90,70,33,36,52,44,53]
[2013,10,34,65,22,76,57,28,33,40,42,55]
[2013,11,31,68,27,80,75,28,35,38,50,54]
[2013,12,30,76,32,69,96,44,33,40,53,54]
[2014,1,30,61,25,68,61,25,37,26,46,47]
[2014,2,34,60,15,71,52,28,47,29,39,49]
[2014,3,47,66,21,87,62,37,61,36,35,56]
[2014,4,41,70,16,77,47,27,61,38,42,51]
[2014,5,42,63,19,75,48,33,59,39,43,48]
[2014,6,47,60,26,73,52,36,63,39,40,52]
[2014,7,54,55,23,59,61,45,62,31,43,44]
[2014,8,50,68,29,75,61,30,63,42,45,52]
[2014,9,40,72,20,79,51,27,57,45,46,63]
[2014,10,41,70,21,79,62,22,54,36,43,62]
[2014,11,32,67,30,77,73,34,51,35,47,60]
[2014,12,32,63,44,68,100,38,49,37,57,64]
[2015,1,32,50,47,66,54,25,53,33,47,47]
[2015,2,40,56,31,70,51,28,63,23,40,48]
[2015,3,55,59,32,75,52,25,85,30,36,57]
[2015,4,59,55,33,71,61,33,79,35,39,56]
[2015,5,50,63,27,75,47,26,72,38,39,51]
[2015,6,49,65,22,70,56,30,64,32,32,57]
[2015,7,51,53,35,68,44,32,62,27,42,45]
[2015,8,55,64,29,64,49,29,70,33,40,48]
[2015,9,54,77,37,73,60,27,70,36,45,71]
[2015,10,46,75,36,77,63,27,67,39,40,69]
[2015,11,49,77,51,84,70,28,56,40,48,73]
[2015,12,49,77,72,67,92,30,55,35,54,78]
[2016,1,60,51,61,57,53,19,56,31,41,62]
[2016,2,74,47,51,58,54,28,76,32,32,58]
[2016,3,100,74,63,59,50,30,86,32,33,62]
[2016,4,86,70,52,64,47,29,84,42,35,61]
[2016,5,69,72,62,65,52,28,69,45,36,61]
[2016,6,74,75,51,62,47,28,67,36,40,69]
[2016,7,71,58,55,61,52,34,61,43,41,56]
[2016,8,84,49,63,57,51,35,66,51,43,53]
[2016,9,79,86,49,61,49,22,64,66,44,74]
[2016,10,63,88,53,62,59,27,50,60,52,86]
[2016,11,59,79,68,65,82,29,49,50,60,82]
[2016,12,60,86,100,57,92,39,45,61,67,83]
[2017,1,61,62,66,53,58,27,42,47,54,67]
[2017,2,70,68,63,54,60,32,55,35,45,67]
[2017,3,94,81,57,50,53,34,72,44,38,72]
[2017,4,87,68,75,55,53,38,62,45,40,71]
[2017,5,71,68,61,61,53,43,54,48,45,73]
[2017,6,69,94,70,57,50,37,47,57,55,75]
[2017,7,70,70,75,55,50,45,49,40,50,63]
[2017,8,69,69,71,52,56,36,51,54,54,60]
[2017,9,68,82,60,67,60,32,53,49,54,89]
[2017,10,56,92,67,57,54,33,43,51,57,85]
[2017,11,63,93,77,64,73,40,50,74,70,91]
[2017,12,61,91,91,57,91,42,48,66,83,84]
[2018,1,68,67,58,51,57,35,48,53,58,65]
[2018,2,67,74,65,56,57,30,53,41,57,60]
[2018,3,83,72,64,54,48,45,63,56,55,65]
[2018,4,79,83,70,64,47,52,62,64,54,66]
[2018,5,66,78,62,59,55,43,52,61,56,62]
[2018,6,68,85,71,58,52,36,58,63,58,71]
[2018,7,72,67,75,47,59,40,56,49,61,56]
[2018,8,63,59,79,53,50,36,57,50,69,54]
[2018,9,71,86,74,58,54,38,62,59,60,72]
[2018,10,54,87,63,64,56,34,51,60,67,74]
[2018,11,59,94,82,87,81,36,54,62,76,84]
[2018,12,51,79,88,62,97,42,51,59,93,79]
[2019,1,48,71,62,52,54,32,54,49,66,64]
[2019,2,58,79,63,51,54,36,65,55,64,60]
[2019,3,71,79,61,52,45,35,72,57,60,62]
[2019,4,68,70,70,58,50,40,66,59,66,59]
[2019,5,59,65,69,53,55,30,67,50,60,58]
[2019,6,62,72,66,67,51,45,61,65,69,77]
[2019,7,58,63,66,47,50,49,63,57,67,55]
[2019,8,56,80,65,51,51,34,64,53,66,53]
[2019,9,57,93,61,64,59,37,64,67,71,74]
[2019,10,49,78,53,64,59,28,62,63,72,76]
[2019,11,50,100,83,66,79,44,65,69,100,100]
[2019,12,46,76,82,51,91,39,65,62,97,79]
[2020,1,47,64,64,43,61,39,60,57,80,70]
[2020,2,52,60,63,45,50,35,66,46,63,60]
[2020,3,49,56,49,38,43,30,61,48,46,47]
[2020,4,59,70,53,68,39,37,72,63,52,54]
[2020,5,61,80,56,56,48,38,78,65,60,66]
[2020,6,54,83,58,53,52,40,68,69,61,65]
[2020,7,50,76,73,53,58,47,68,65,63,56]
[2020,8,57,75,69,44,49,37,71,61,67,59]
[2020,9,57,89,66,61,56,36,76,73,68,74]
[2020,10,47,100,69,58,51,36,66,86,81,76]
[2020,11,45,91,90,50,68,40,68,72,87,76]
[2020,12,37,89,92,44,78,48,66,65,85,70]
[2021,1,38,77,80,44,47,33,60,66,66,72]
[2021,2,46,87,59,45,45,35,68,67,63,72]
[2021,3,56,78,59,44,49,38,71,59,54,63]
[2021,4,50,72,62,43,41,38,63,62,57,56]
[2021,5,49,74,61,43,50,44,70,67,50,60]
[2021,6,46,82,70,51,51,41,60,82,56,63]
[2021,7,40,76,59,37,46,39,61,71,52,54]
[2021,8,50,81,62,45,53,39,74,90,59,52]
[2021,9,50,93,59,45,48,43,78,87,61,64]
[2021,10,41,89,56,52,63,62,73,95,68,75]
[2021,11,42,91,79,55,67,87,83,100,88,74]
[2021,12,39,87,93,50,81,89,77,89,90,71]
[2022,1,40,82,62,41,55,59,79,74,67,58]
[2022,2,47,76,59,42,60,45,83,74,50,56]
[2022,3,58,78,57,41,55,52,96,84,48,62]
[2022,4,52,68,55,46,61,51,94,75,49,64]
[2022,5,52,84,57,47,55,51,81,86,52,68]
[2022,6,48,75,58,45,53,55,73,90,50,71]
[2022,7,55,65,63,40,51,56,76,83,56,59]
[2022,8,60,69,57,38,44,50,81,76,50,60]
[2022,9,55,93,58,50,51,52,91,95,60,76]
[2022,10,54,88,67,42,62,51,83,87,55,73]
[2022,11,51,79,76,49,71,63,85,80,70,81]
[2022,12,48,85,81,44,84,67,79,85,77,71]
[2023,1,47,68,55,39,59,61,74,78,56,58]
[2023,2,52,76,57,37,55,53,81,62,48,57]
[2023,3,61,68,57,38,53,54,97,67,45,65]
[2023,4,65,90,63,44,56,66,100,74,47,68]
[2023,5,63,85,54,45,52,71,87,70,45,71]

{"sheet":"keywords(BE)","index":5,"n_rows":11,"n_cols":4,"rows_kept":11,"cut":false,"hidden":false,"merged":[]}
["id","url","country","brand*"]
[1,"https://trends.google.com/trends/explore?date=all&geo=BE&q=Adidas","BE","Adidas"]
[2,"https://trends.google.com/trends/explore?date=all&geo=BE&q=Bershka","BE","Bershka"]
[3,"https://trends.google.com/trends/explore?date=all&geo=BE&q=Calvin Klein","BE","Calvin Klein"]
[4,"https://trends.google.com/trends/explore?date=all&geo=BE&q=H&M","BE","H&M"]
[5,"https://trends.google.com/trends/explore?date=all&geo=BE&q=Hugo Boss","BE","Hugo Boss"]
[6,"https://trends.google.com/trends/explore?date=all&geo=BE&q=Lacoste","BE","Lacoste"]
[7,"https://trends.google.com/trends/explore?date=all&geo=BE&q=Nike","BE","Nike"]
[8,"https://trends.google.com/trends/explore?date=all&geo=BE&q=Pull and Bear","BE","Pull and Bear"]
[9,"https://trends.google.com/trends/explore?date=all&geo=BE&q=Tommy Hilfiger","BE","Tommy Hilfiger"]
[10,"https://trends.google.com/trends/explore?date=all&geo=BE&q=Zara","BE","Zara"]

{"sheet":"1...10 raw(BE)","index":6,"n_rows":236,"n_cols":12,"rows_kept":236,"cut":false,"hidden":false,"merged":[]}
["BELGIUM",null,"Adidas","Bershka","Calvin Klein","H&M","Hugo Boss","Lacoste","Nike","Pull and Bear","Tommy Hilfiger","Zara"]
["Year","Month","Point","Point","Point","Point","Point","Point","Point","Point","Point","Point"]
[2004,1,18,0,15,52,31,33,18,0,25,7]
[2004,2,26,7,43,55,27,31,16,0,40,6]
[2004,3,33,0,24,55,54,25,23,48,44,9]
[2004,4,35,7,0,40,24,50,35,0,33,10]
[2004,5,31,5,50,57,44,60,32,0,25,8]
[2004,6,34,8,70,66,14,43,29,16,22,6]
[2004,7,35,0,62,52,26,29,30,0,22,6]
[2004,8,33,8,29,62,23,30,18,0,26,10]
[2004,9,22,0,27,61,33,43,20,0,39,8]
[2004,10,19,0,16,46,44,33,22,0,33,8]
[2004,11,24,8,15,65,42,38,21,0,33,9]
[2004,12,23,5,53,61,41,42,16,0,32,11]
[2005,1,19,7,13,59,29,18,19,0,29,10]
[2005,2,23,4,39,56,25,44,18,24,29,9]
[2005,3,28,8,23,58,17,49,19,0,35,11]
[2005,4,25,11,54,59,48,49,19,0,33,9]
[2005,5,25,13,38,50,37,46,21,0,29,8]
[2005,6,22,6,41,59,34,54,22,0,18,7]
[2005,7,27,9,34,60,41,71,22,0,26,7]
[2005,8,31,12,29,61,18,53,19,0,28,15]
[2005,9,26,5,44,59,40,35,18,0,31,13]
[2005,10,23,9,65,58,51,30,19,0,31,10]
[2005,11,23,7,75,55,25,42,20,0,35,10]
[2005,12,26,6,63,55,61,47,18,0,32,11]
[2006,1,20,6,34,60,11,26,19,0,30,11]
[2006,2,26,12,23,55,40,54,20,9,29,11]
[2006,3,27,8,27,54,30,60,23,0,26,15]
[2006,4,25,14,52,58,49,63,33,7,26,13]
[2006,5,28,3,41,61,25,44,35,0,23,13]
[2006,6,31,6,42,58,27,55,35,0,22,9]
[2006,7,31,8,22,54,32,47,25,14,20,8]
[2006,8,32,5,47,59,39,45,21,0,23,17]
[2006,9,20,7,33,55,24,36,20,5,21,14]
[2006,10,20,9,34,61,35,41,19,0,20,14]
[2006,11,17,9,32,59,42,43,19,0,25,12]
[2006,12,20,6,37,63,53,47,15,0,24,16]
[2007,1,14,16,43,56,31,27,17,3,25,13]
[2007,2,17,8,22,56,43,32,15,0,20,14]
[2007,3,20,12,30,60,27,44,18,0,25,15]
[2007,4,18,11,33,58,31,40,18,0,27,12]
[2007,5,18,8,34,60,34,34,18,0,22,11]
[2007,6,18,12,24,68,41,31,20,4,17,11]
[2007,7,23,8,34,63,27,46,22,0,21,11]
[2007,8,21,4,36,60,31,33,20,3,26,16]
[2007,9,17,13,29,62,33,36,18,0,25,18]
[2007,10,15,18,27,69,41,33,15,3,24,17]
[2007,11,15,9,32,65,32,26,16,5,19,14]
[2007,12,16,11,50,62,54,27,15,3,20,15]
[2008,1,18,10,27,58,36,26,19,0,21,14]
[2008,2,16,11,28,62,45,27,18,2,23,12]
[2008,3,19,6,25,67,37,34,20,3,19,14]
[2008,4,19,8,38,63,34,29,19,0,8,12]
[2008,5,19,8,29,62,32,36,17,0,17,12]
[2008,6,19,8,33,64,32,30,21,0,25,12]
[2008,7,21,12,25,63,38,33,20,8,18,11]
[2008,8,22,8,25,66,28,26,22,8,20,16]
[2008,9,17,5,29,63,30,22,18,8,17,16]
[2008,10,16,9,23,65,28,19,17,6,18,16]
[2008,11,17,11,32,67,31,15,17,4,17,14]
[2008,12,14,11,44,63,55,25,16,6,21,17]
[2009,1,15,6,30,59,42,27,16,9,21,13]
[2009,2,16,4,40,60,39,21,18,5,17,13]
[2009,3,19,6,27,62,36,19,18,9,17,12]
[2009,4,19,10,27,65,34,22,19,8,28,13]
[2009,5,20,6,23,62,35,24,16,7,24,12]
[2009,6,19,8,34,65,31,28,16,5,19,12]
[2009,7,19,7,24,68,36,27,18,8,24,13]
[2009,8,21,9,37,68,36,23,18,4,24,15]
[2009,9,16,10,25,69,36,18,17,6,29,17]
[2009,10,17,8,27,67,34,17,15,5,22,16]
[2009,11,17,9,32,61,41,16,14,8,20,16]
[2009,12,19,10,47,63,59,22,15,5,28,17]
[2010,1,18,9,36,63,39,19,15,7,32,15]
[2010,2,19,13,31,66,40,14,15,10,24,15]
[2010,3,21,8,24,67,40,20,15,13,36,18]
[2010,4,22,11,33,73,30,16,16,10,25,18]
[2010,5,22,11,22,64,40,24,17,4,23,16]
[2010,6,28,7,25,66,29,19,20,13,27,13]
[2010,7,25,11,24,62,35,18,21,7,30,15]
[2010,8,23,13,27,62,25,15,19,10,27,17]
[2010,9,21,12,35,65,33,22,15,9,33,26]
[2010,10,19,16,32,75,36,16,16,19,32,24]
[2010,11,19,18,25,76,40,14,16,15,30,25]
[2010,12,17,15,48,72,56,22,14,14,31,24]
[2011,1,21,15,26,70,43,11,16,16,39,23]
[2011,2,21,15,32,69,47,18,15,17,36,20]
[2011,3,21,10,25,76,33,24,15,17,39,25]
[2011,4,24,15,22,79,40,24,18,16,33,25]
[2011,5,20,16,29,69,40,21,18,17,33,25]
[2011,6,21,14,30,76,36,17,16,17,29,26]
[2011,7,25,12,30,66,33,22,19,14,39,24]
[2011,8,26,16,28,78,41,23,19,15,32,31]
[2011,9,22,25,27,83,37,21,18,24,34,33]
[2011,10,22,28,23,85,50,16,17,31,34,38]
[2011,11,22,35,29,86,46,15,17,37,42,39]
[2011,12,24,43,40,89,71,22,16,48,46,46]
[2012,1,23,35,31,87,66,18,19,39,52,40]
[2012,2,21,35,33,83,46,16,16,44,34,36]
[2012,3,23,44,31,89,42,21,19,43,48,44]
[2012,4,23,37,26,84,42,17,20,42,41,37]
[2012,5,23,45,27,89,37,26,21,43,37,39]
[2012,6,26,51,29,83,38,25,27,43,42,39]
[2012,7,23,44,38,76,40,21,25,36,45,35]
[2012,8,26,50,34,79,40,16,23,43,40,41]
[2012,9,21,62,31,89,48,21,22,55,45,52]
[2012,10,18,56,26,89,39,17,18,63,41,55]
[2012,11,18,60,27,84,47,21,20,66,40,53]
[2012,12,17,73,46,84,69,19,19,67,54,57]
[2013,1,18,55,31,80,53,18,21,53,59,50]
[2013,2,17,45,34,83,45,18,20,47,46,40]
[2013,3,19,54,31,88,48,14,23,53,44,45]
[2013,4,19,50,27,83,46,22,24,47,45,43]
[2013,5,20,50,34,85,51,17,27,58,44,41]
[2013,6,19,51,32,86,52,23,26,59,47,42]
[2013,7,23,44,32,86,53,22,28,43,65,37]
[2013,8,21,49,33,82,42,22,30,54,43,42]
[2013,9,18,46,24,88,45,18,27,58,55,52]
[2013,10,18,57,27,90,39,15,29,66,44,53]
[2013,11,20,58,37,99,53,13,28,60,46,53]
[2013,12,20,68,42,92,79,17,29,68,57,57]
[2014,1,20,48,33,86,62,17,36,58,60,49]
[2014,2,21,47,28,86,42,18,35,45,45,40]
[2014,3,23,55,28,90,49,21,41,52,39,44]
[2014,4,25,57,30,93,49,19,44,55,46,48]
[2014,5,28,46,33,89,47,21,44,50,41,44]
[2014,6,31,46,30,100,46,24,45,52,39,41]
[2014,7,34,42,30,79,54,23,46,48,61,41]
[2014,8,39,48,36,79,44,18,52,49,44,50]
[2014,9,28,43,28,87,38,19,43,54,37,50]
[2014,10,29,53,32,83,50,16,43,60,39,57]
[2014,11,31,50,39,90,55,15,43,58,39,56]
[2014,12,27,57,56,91,68,20,43,68,46,58]
[2015,1,39,55,65,83,64,22,49,54,60,55]
[2015,2,43,43,38,85,56,14,47,43,35,43]
[2015,3,56,50,37,84,48,21,57,46,36,54]
[2015,4,63,50,43,89,44,25,54,47,45,52]
[2015,5,62,52,40,84,48,28,54,40,34,55]
[2015,6,53,51,34,86,47,29,47,45,40,51]
[2015,7,62,48,48,87,55,29,54,46,58,49]
[2015,8,71,44,39,81,45,21,49,36,39,51]
[2015,9,69,53,40,88,55,20,50,50,44,80]
[2015,10,55,54,34,87,49,20,47,51,42,67]
[2015,11,54,56,53,94,54,24,48,56,39,62]
[2015,12,66,61,97,89,85,22,52,56,52,66]
[2016,1,84,57,70,87,54,24,58,54,66,62]
[2016,2,77,45,59,86,41,22,49,35,36,50]
[2016,3,90,56,54,86,37,27,57,49,36,51]
[2016,4,95,63,58,89,46,29,55,54,46,60]
[2016,5,89,64,55,90,45,33,55,45,43,60]
[2016,6,100,60,50,85,45,32,52,37,43,59]
[2016,7,92,62,63,84,56,34,56,46,68,59]
[2016,8,84,58,65,74,42,22,54,46,41,55]
[2016,9,80,57,57,87,41,28,50,50,47,59]
[2016,10,73,72,59,88,46,24,49,62,53,74]
[2016,11,69,70,74,91,55,30,51,59,54,70]
[2016,12,69,69,90,89,81,30,52,70,69,67]
[2017,1,77,67,70,88,66,32,54,58,78,72]
[2017,2,74,53,64,81,48,31,47,44,56,56]
[2017,3,86,60,55,85,43,30,54,49,50,62]
[2017,4,87,72,63,82,45,33,57,49,55,70]
[2017,5,78,69,70,82,49,40,48,49,57,64]
[2017,6,75,74,78,80,49,45,50,51,58,64]
[2017,7,87,78,97,79,56,48,62,58,86,62]
[2017,8,81,68,72,76,45,35,54,46,62,61]
[2017,9,73,77,56,79,41,30,52,59,68,73]
[2017,10,66,70,66,77,49,30,50,61,58,69]
[2017,11,68,80,73,86,61,33,49,81,76,85]
[2017,12,61,85,92,79,88,42,50,72,93,79]
[2018,1,69,70,82,82,66,37,52,64,97,73]
[2018,2,61,58,73,73,42,33,52,48,58,53]
[2018,3,70,64,64,79,42,42,52,55,64,63]
[2018,4,76,75,67,77,49,42,53,61,73,61]
[2018,5,65,59,77,78,46,47,49,73,58,56]
[2018,6,80,71,71,89,55,45,50,70,74,60]
[2018,7,73,82,81,78,55,50,52,69,94,60]
[2018,8,69,72,78,74,47,43,55,61,65,58]
[2018,9,71,70,74,81,46,42,58,67,69,67]
[2018,10,52,75,55,77,49,35,51,70,62,73]
[2018,11,61,81,84,78,62,40,59,81,74,100]
[2018,12,55,78,98,77,92,44,56,71,91,79]
[2019,1,57,75,80,71,71,43,56,67,100,74]
[2019,2,55,64,69,68,52,39,58,46,69,54]
[2019,3,64,62,75,71,48,40,55,58,70,59]
[2019,4,66,63,62,75,39,38,57,55,74,62]
[2019,5,64,64,69,75,55,45,61,48,68,60]
[2019,6,60,66,70,75,48,47,53,51,65,60]
[2019,7,68,70,92,73,63,57,63,63,98,63]
[2019,8,65,71,80,68,54,44,65,58,69,56]
[2019,9,57,72,60,76,52,40,58,58,66,67]
[2019,10,48,71,58,78,52,43,53,64,71,72]
[2019,11,58,86,72,80,75,47,68,71,89,93]
[2019,12,54,83,94,74,95,51,61,78,96,83]
[2020,1,60,77,82,76,63,45,68,67,94,76]
[2020,2,50,63,72,69,49,50,59,55,63,58]
[2020,3,46,52,58,69,33,33,55,42,49,46]
[2020,4,54,63,68,79,39,37,62,59,62,64]
[2020,5,63,72,74,81,47,47,76,63,61,72]
[2020,6,55,77,71,80,54,53,65,67,64,60]
[2020,7,57,68,70,70,53,55,70,57,63,50]
[2020,8,75,87,90,75,56,62,87,75,84,70]
[2020,9,58,72,70,77,52,56,76,65,58,68]
[2020,10,46,81,58,82,42,47,67,71,61,74]
[2020,11,55,93,90,82,69,55,80,80,87,93]
[2020,12,49,93,100,74,85,68,74,75,91,80]
[2021,1,50,97,83,79,67,63,76,93,91,81]
[2021,2,43,72,77,68,47,54,66,66,62,58]
[2021,3,54,79,55,75,45,41,73,59,54,58]
[2021,4,58,100,56,74,39,44,75,71,58,71]
[2021,5,55,74,64,72,50,46,77,61,54,61]
[2021,6,50,78,67,72,48,47,55,60,54,58]
[2021,7,59,90,71,67,58,56,71,67,75,61]
[2021,8,61,85,70,70,51,51,82,72,54,56]
[2021,9,52,81,62,73,48,47,68,70,57,61]
[2021,10,47,99,65,73,53,55,71,85,60,74]
[2021,11,53,91,85,77,73,70,80,100,74,79]
[2021,12,48,90,86,76,100,71,78,94,79,79]
[2022,1,57,90,72,75,69,68,81,91,80,78]
[2022,2,49,61,53,72,51,51,72,57,49,54]
[2022,3,56,70,52,77,44,48,82,68,48,62]
[2022,4,57,76,56,76,52,58,92,73,53,70]
[2022,5,59,77,65,83,55,61,85,75,50,72]
[2022,6,59,75,63,76,56,65,78,66,51,68]
[2022,7,63,72,74,73,67,70,79,67,71,69]
[2022,8,67,70,59,66,49,58,93,65,46,54]
[2022,9,58,75,56,72,47,53,88,65,46,73]
[2022,10,60,66,57,69,49,54,78,58,48,63]
[2022,11,66,81,72,70,64,63,100,75,62,82]
[2022,12,65,79,83,76,83,68,91,88,73,77]
[2023,1,65,81,66,71,69,65,89,70,71,68]
[2023,2,59,63,48,69,51,56,80,51,42,58]
[2023,3,57,58,46,70,42,55,83,49,42,54]
[2023,4,69,70,56,71,56,67,98,64,47,69]
[2023,5,68,64,59,67,50,71,85,53,49,66]
[2023,6,84,75,46,70,41,100,89,76,58,88]

{"sheet":"keywords(BG)","index":7,"n_rows":11,"n_cols":4,"rows_kept":11,"cut":false,"hidden":false,"merged":[]}
["id","url","country","brand*"]
[1,"https://trends.google.com/trends/explore?date=all&geo=BG&q=Adidas","BG","Adidas"]
[2,"https://trends.google.com/trends/explore?date=all&geo=BG&q=Bershka","BG","Bershka"]
[3,"https://trends.google.com/trends/explore?date=all&geo=BG&q=Calvin Klein","BG","Calvin Klein"]
[4,"https://trends.google.com/trends/explore?date=all&geo=BG&q=H&M","BG","H&M"]
[5,"https://trends.google.com/trends/explore?date=all&geo=BG&q=Hugo Boss","BG","Hugo Boss"]
[6,"https://trends.google.com/trends/explore?date=all&geo=BG&q=Lacoste","BG","Lacoste"]
[7,"https://trends.google.com/trends/explore?date=all&geo=BG&q=Nike","BG","Nike"]
[8,"https://trends.google.com/trends/explore?date=all&geo=BG&q=Pull and Bear","BG","Pull and Bear"]
[9,"https://trends.google.com/trends/explore?date=all&geo=BG&q=Tommy Hilfiger","BG","Tommy Hilfiger"]
[10,"https://trends.google.com/trends/explore?date=all&geo=BG&q=Zara","BG","Zara"]

{"sheet":"1...10 raw(BG)","index":8,"n_rows":236,"n_cols":12,"rows_kept":236,"cut":false,"hidden":false,"merged":[]}
["BULGARIA",null,"Adidas","Bershka","Calvin Klein","H&M","Hugo Boss","Lacoste","Nike","Pull and Bear","Tommy Hilfiger","Zara"]
["Year","Month","Point","Point","Point","Point","Point","Point","Point","Point","Point","Point"]
[2004,1,19,0,0,14,74,0,12,0,0,19]
[2004,2,0,0,0,0,90,0,0,0,0,0]
[2004,3,0,0,0,0,0,0,0,0,0,28]
[2004,4,0,0,0,0,0,0,0,0,84,28]
[2004,5,30,0,0,14,63,0,28,0,0,0]
[2004,6,0,0,0,0,100,0,9,0,0,18]
[2004,7,17,0,0,7,0,0,6,0,0,0]
[2004,8,26,0,91,8,0,58,18,0,0,0]
[2004,9,27,0,0,6,95,100,13,100,0,0]
[2004,10,13,0,0,0,0,0,0,0,100,0]
[2004,11,16,0,0,5,47,0,0,0,0,28]
[2004,12,0,0,0,0,59,51,0,0,0,26]
[2005,1,0,0,0,0,0,0,5,0,0,41]
[2005,2,13,28,0,5,0,61,11,0,38,31]
[2005,3,27,0,0,6,47,0,15,0,0,15]
[2005,4,44,0,67,0,0,0,14,0,0,0]
[2005,5,22,0,0,0,35,0,4,0,0,0]
[2005,6,33,0,0,4,0,0,18,0,52,9]
[2005,7,39,23,100,0,41,0,16,0,0,9]
[2005,8,48,0,0,4,37,0,7,0,0,11]
[2005,9,39,0,68,4,0,0,13,0,0,8]
[2005,10,37,0,0,5,0,30,11,0,0,8]
[2005,11,32,0,0,0,47,34,9,0,43,21]
[2005,12,18,0,0,0,86,0,19,0,37,0]
[2006,1,60,0,65,3,25,32,15,0,0,7]
[2006,2,20,0,99,2,37,0,10,0,0,9]
[2006,3,36,0,34,3,0,0,10,0,0,11]
[2006,4,42,26,33,5,54,21,21,0,0,6]
[2006,5,41,0,28,3,0,34,16,0,0,9]
[2006,6,38,0,40,4,0,37,7,0,0,10]
[2006,7,46,0,0,11,0,15,11,0,0,0]
[2006,8,22,0,0,2,42,41,10,0,0,20]
[2006,9,21,0,0,1,0,27,12,0,0,15]
[2006,10,41,0,0,3,16,70,15,0,0,13]
[2006,11,35,0,0,6,16,20,14,0,0,5]
[2006,12,36,0,30,5,18,77,10,0,0,21]
[2007,1,24,9,12,3,14,0,10,0,0,13]
[2007,2,45,0,0,5,23,31,13,0,35,20]
[2007,3,49,0,0,5,22,21,13,9,0,24]
[2007,4,51,0,35,4,16,33,16,0,9,20]
[2007,5,47,6,0,5,17,26,12,0,0,15]
[2007,6,42,6,14,2,0,8,8,0,0,11]
[2007,7,50,5,41,2,14,8,15,0,0,12]
[2007,8,49,0,16,4,29,15,20,0,11,15]
[2007,9,72,0,0,5,10,26,21,0,13,18]
[2007,10,64,0,34,4,18,29,16,0,11,15]
[2007,11,53,8,29,6,14,9,14,0,0,14]
[2007,12,66,7,54,2,10,7,12,0,0,6]
[2008,1,58,0,23,2,13,0,17,9,5,10]
[2008,2,66,6,10,4,5,14,19,0,0,13]
[2008,3,84,12,12,5,26,11,22,0,9,14]
[2008,4,83,11,8,6,13,18,18,9,0,14]
[2008,5,76,6,12,5,13,27,19,0,5,13]
[2008,6,58,0,12,3,19,20,17,0,15,13]
[2008,7,54,10,26,3,11,23,15,0,10,9]
[2008,8,55,0,44,4,18,14,19,0,12,10]
[2008,9,78,0,29,3,15,27,23,0,0,13]
[2008,10,65,0,19,5,19,21,20,0,12,15]
[2008,11,67,8,12,6,12,29,18,0,6,10]
[2008,12,70,5,36,4,34,13,19,0,11,12]
[2009,1,69,0,16,4,14,10,19,7,4,11]
[2009,2,70,7,33,6,23,32,19,0,12,13]
[2009,3,71,0,25,5,15,16,22,7,9,13]
[2009,4,100,7,29,5,11,26,23,10,0,12]
[2009,5,89,5,19,4,18,35,24,4,0,10]
[2009,6,64,9,19,4,6,10,18,0,17,11]
[2009,7,55,5,28,4,10,11,19,0,8,14]
[2009,8,67,4,40,6,3,28,23,0,7,12]
[2009,9,84,8,28,5,3,21,23,0,20,14]
[2009,10,75,6,13,5,15,29,21,5,0,15]
[2009,11,59,13,20,4,10,16,21,20,12,16]
[2009,12,63,0,33,4,22,29,19,9,12,13]
[2010,1,61,6,18,3,9,28,17,3,5,14]
[2010,2,62,5,31,4,11,22,19,0,0,17]
[2010,3,66,24,18,5,19,29,22,5,7,17]
[2010,4,77,8,22,4,14,17,23,0,0,14]
[2010,5,62,4,9,5,21,22,22,9,8,14]
[2010,6,55,4,25,5,10,13,22,0,0,15]
[2010,7,52,8,25,4,10,22,20,0,10,8]
[2010,8,42,5,18,4,8,9,19,7,3,15]
[2010,9,72,12,25,5,10,31,25,0,11,33]
[2010,10,54,18,15,6,5,13,17,12,4,24]
[2010,11,54,5,36,8,10,16,19,15,0,21]
[2010,12,53,14,37,4,11,23,19,10,4,25]
[2011,1,52,19,26,5,12,16,18,12,3,25]
[2011,2,51,14,23,5,9,13,18,5,5,28]
[2011,3,60,17,21,5,9,21,20,10,5,28]
[2011,4,61,14,17,6,9,26,19,9,4,31]
[2011,5,53,21,34,6,12,24,19,10,9,27]
[2011,6,40,14,36,6,9,16,15,5,11,24]
[2011,7,45,9,32,6,15,13,16,5,7,32]
[2011,8,57,13,30,6,4,21,20,3,7,31]
[2011,9,65,26,23,9,6,28,24,7,7,31]
[2011,10,63,32,32,10,10,30,23,19,8,39]
[2011,11,50,35,25,9,10,21,21,16,14,40]
[2011,12,48,46,36,8,20,29,20,17,8,42]
[2012,1,51,37,27,11,13,20,21,16,10,39]
[2012,2,48,43,28,13,8,21,18,19,11,38]
[2012,3,63,47,33,36,11,30,21,17,7,38]
[2012,4,59,45,33,23,10,24,20,18,10,39]
[2012,5,48,41,44,25,6,20,18,16,10,39]
[2012,6,40,34,41,27,7,27,17,12,7,36]
[2012,7,41,42,40,17,10,23,17,13,6,36]
[2012,8,49,38,37,20,6,22,20,18,9,42]
[2012,9,69,55,58,23,10,29,25,26,15,51]
[2012,10,52,41,35,21,11,26,21,19,6,39]
[2012,11,53,51,59,23,9,20,18,25,9,48]
[2012,12,45,49,53,24,13,25,16,25,9,49]
[2013,1,48,47,28,19,10,12,16,14,12,41]
[2013,2,47,42,54,18,9,15,19,16,3,33]
[2013,3,54,40,44,22,9,23,22,25,7,36]
[2013,4,53,41,48,26,8,21,20,24,7,35]
[2013,5,46,31,41,25,7,36,18,15,9,37]
[2013,6,41,39,39,24,10,25,19,16,10,37]
[2013,7,36,38,34,19,11,26,17,25,11,32]
[2013,8,48,35,49,20,9,21,21,23,7,36]
[2013,9,75,49,46,28,12,26,27,27,9,46]
[2013,10,59,43,45,23,8,27,24,30,10,47]
[2013,11,58,53,50,29,11,20,21,31,12,46]
[2013,12,49,50,59,30,11,16,19,25,11,45]
[2014,1,46,47,56,18,9,19,20,19,8,43]
[2014,2,54,43,46,21,10,17,24,23,7,43]
[2014,3,65,43,40,27,9,22,31,23,8,41]
[2014,4,68,38,41,28,10,25,33,21,7,39]
[2014,5,57,40,45,29,12,29,32,19,6,39]
[2014,6,52,36,46,26,8,17,30,19,10,37]
[2014,7,47,31,44,20,8,23,30,23,10,37]
[2014,8,54,34,40,25,11,24,34,22,11,38]
[2014,9,78,44,41,39,9,20,41,27,8,44]
[2014,10,68,46,39,32,9,20,34,22,6,43]
[2014,11,55,37,44,32,10,16,26,19,11,41]
[2014,12,54,36,60,31,15,21,26,23,9,44]
[2015,1,53,42,52,22,9,11,31,17,6,42]
[2015,2,53,33,45,23,10,12,35,16,13,38]
[2015,3,61,35,48,30,6,20,37,16,12,40]
[2015,4,66,37,46,53,8,21,41,17,9,38]
[2015,5,53,36,50,62,11,22,36,18,10,37]
[2015,6,45,35,44,50,9,22,28,14,7,42]
[2015,7,42,39,45,48,12,18,29,17,12,36]
[2015,8,59,35,40,50,13,15,41,13,7,36]
[2015,9,71,42,58,60,11,20,45,27,11,46]
[2015,10,68,51,56,60,14,16,33,27,11,49]
[2015,11,53,52,45,65,13,16,32,16,9,48]
[2015,12,59,51,56,63,10,17,32,21,11,52]
[2016,1,63,36,45,42,6,13,29,20,10,40]
[2016,2,65,34,39,46,8,17,34,18,14,37]
[2016,3,69,34,42,47,7,13,40,19,7,54]
[2016,4,71,29,50,58,8,18,41,16,8,48]
[2016,5,58,37,50,55,9,15,36,13,13,46]
[2016,6,51,29,56,59,9,20,28,14,7,52]
[2016,7,51,32,63,57,11,17,26,21,13,49]
[2016,8,71,39,67,57,12,15,37,23,11,53]
[2016,9,71,42,78,65,14,17,37,28,9,61]
[2016,10,69,52,49,66,10,10,32,21,11,68]
[2016,11,53,51,43,72,14,7,26,24,13,68]
[2016,12,49,39,56,63,16,11,26,23,11,66]
[2017,1,46,49,55,55,9,10,26,23,13,61]
[2017,2,55,37,55,55,7,7,32,18,13,54]
[2017,3,64,47,50,58,9,16,36,18,11,60]
[2017,4,62,46,55,60,9,7,35,20,15,54]
[2017,5,54,44,51,64,11,12,33,18,13,56]
[2017,6,44,45,52,67,7,10,27,22,11,59]
[2017,7,46,44,64,64,10,12,26,22,18,51]
[2017,8,50,44,76,71,12,12,33,18,19,57]
[2017,9,57,60,63,80,11,13,36,26,18,72]
[2017,10,58,57,64,78,12,7,30,25,15,73]
[2017,11,53,74,49,92,9,11,32,30,17,92]
[2017,12,49,60,77,70,12,8,26,30,19,79]
[2018,1,48,57,56,70,8,13,32,26,13,93]
[2018,2,50,42,49,66,8,11,35,19,14,66]
[2018,3,52,49,53,77,9,11,39,18,16,66]
[2018,4,65,50,59,76,16,14,41,25,17,66]
[2018,5,50,43,52,70,7,22,35,16,14,56]
[2018,6,46,53,54,73,9,19,34,22,16,70]
[2018,7,50,42,70,69,13,11,33,16,28,52]
[2018,8,50,38,80,69,13,21,37,13,31,65]
[2018,9,60,54,56,89,11,14,44,19,28,76]
[2018,10,53,47,53,81,11,9,37,18,20,78]
[2018,11,54,68,59,100,15,8,37,19,26,97]
[2018,12,44,52,71,69,17,10,32,14,23,85]
[2019,1,43,54,60,64,13,10,33,24,21,84]
[2019,2,49,40,59,54,10,6,37,23,21,72]
[2019,3,61,44,49,56,9,14,46,25,17,65]
[2019,4,52,43,55,60,12,14,43,19,16,66]
[2019,5,46,39,51,68,9,16,44,22,19,66]
[2019,6,47,51,62,77,10,17,37,24,24,73]
[2019,7,48,44,67,65,15,12,38,22,30,70]
[2019,8,49,48,84,68,12,9,44,20,26,68]
[2019,9,55,58,62,80,12,9,49,38,33,75]
[2019,10,48,58,51,68,12,9,42,29,22,71]
[2019,11,49,79,66,85,14,10,45,37,27,99]
[2019,12,39,66,52,67,17,9,41,34,20,90]
[2020,1,41,66,62,49,14,9,42,34,21,71]
[2020,2,42,56,63,47,13,13,48,26,18,62]
[2020,3,38,36,41,42,8,6,39,20,13,43]
[2020,4,39,52,44,64,7,8,41,24,13,63]
[2020,5,49,67,53,74,12,10,50,29,14,77]
[2020,6,40,63,68,68,11,13,41,31,18,73]
[2020,7,40,66,67,71,16,13,42,32,23,66]
[2020,8,45,66,69,63,17,10,54,35,22,67]
[2020,9,51,73,71,69,12,15,61,39,26,71]
[2020,10,49,84,68,70,13,12,56,50,25,80]
[2020,11,46,100,65,71,17,7,49,47,25,96]
[2020,12,39,86,67,60,17,8,42,43,22,73]
[2021,1,36,80,62,61,12,6,44,44,16,97]
[2021,2,41,74,66,52,11,13,52,41,19,77]
[2021,3,40,66,61,49,11,11,48,34,21,58]
[2021,4,44,67,58,59,13,7,53,34,18,64]
[2021,5,41,66,61,57,16,12,54,30,26,51]
[2021,6,37,68,64,58,16,13,48,31,24,63]
[2021,7,39,71,82,53,14,11,49,33,34,59]
[2021,8,37,67,78,47,13,11,59,37,29,53]
[2021,9,49,77,67,64,15,9,76,53,24,69]
[2021,10,44,79,63,59,16,8,64,48,19,72]
[2021,11,45,84,74,67,15,12,60,39,23,78]
[2021,12,36,80,86,54,19,11,62,48,27,79]
[2022,1,35,85,71,42,15,9,64,47,24,73]
[2022,2,39,60,64,36,12,10,62,39,25,55]
[2022,3,44,57,59,40,17,6,71,35,25,59]
[2022,4,52,61,75,43,19,16,83,35,25,58]
[2022,5,42,48,69,50,17,12,76,34,23,65]
[2022,6,37,51,75,48,15,14,61,40,24,66]
[2022,7,39,56,79,42,16,12,64,44,24,62]
[2022,8,43,51,77,40,18,15,80,32,29,65]
[2022,9,50,66,69,56,20,14,100,34,24,83]
[2022,10,45,67,60,53,20,11,84,42,21,77]
[2022,11,51,78,81,59,23,12,88,53,29,100]
[2022,12,46,71,94,49,22,13,94,53,28,83]
[2023,1,39,62,77,36,16,11,76,44,21,66]
[2023,2,38,53,68,35,15,11,81,35,22,56]
[2023,3,46,59,69,39,15,13,81,40,24,60]
[2023,4,48,48,76,40,17,13,84,27,23,63]
[2023,5,43,47,73,42,19,18,78,29,23,68]
[2023,6,45,37,62,44,17,18,75,19,10,64]

{"sheet":"keywords(CY)","index":9,"n_rows":11,"n_cols":4,"rows_kept":11,"cut":false,"hidden":false,"merged":[]}
["id","url","country","brand*"]
[1,"https://trends.google.com/trends/explore?date=all&geo=CY&q=Adidas","CY","Adidas"]
[2,"https://trends.google.com/trends/explore?date=all&geo=CY&q=Bershka","CY","Bershka"]
[3,"https://trends.google.com/trends/explore?date=all&geo=CY&q=Calvin Klein","CY","Calvin Klein"]
[4,"https://trends.google.com/trends/explore?date=all&geo=CY&q=H&M","CY","H&M"]
[5,"https://trends.google.com/trends/explore?date=all&geo=CY&q=Hugo Boss","CY","Hugo Boss"]
[6,"https://trends.google.com/trends/explore?date=all&geo=CY&q=Lacoste","CY","Lacoste"]
[7,"https://trends.google.com/trends/explore?date=all&geo=CY&q=Nike","CY","Nike"]
[8,"https://trends.google.com/trends/explore?date=all&geo=CY&q=Pull and Bear","CY","Pull and Bear"]
[9,"https://trends.google.com/trends/explore?date=all&geo=CY&q=Tommy Hilfiger","CY","Tommy Hilfiger"]
[10,"https://trends.google.com/trends/explore?date=all&geo=CY&q=Zara","CY","Zara"]

{"sheet":"1...10 raw(CY)","index":10,"n_rows":236,"n_cols":12,"rows_kept":236,"cut":false,"hidden":false,"merged":[]}
["Cyprus",null,"Adidas","Bershka","Calvin Klein","H&M","Hugo Boss","Lacoste","Nike","Pull and Bear","Tommy Hilfiger","Zara"]
["Year","Month","Point","Point","Point","Point","Point","Point","Point","Point","Point","Point"]
[2004,1,0,0,0,58,0,0,56,0,0,100]
[2004,2,0,0,0,0,0,0,63,0,100,0]
[2004,3,0,0,74,0,0,0,100,0,0,0]
[2004,4,0,0,100,0,100,0,0,0,0,0]
[2004,5,76,0,6,30,40,0,22,0,0,0]
[2004,6,39,0,0,21,0,0,25,0,0,12]
[2004,7,50,0,8,17,36,0,30,0,3,19]
[2004,8,55,0,4,38,14,0,37,0,0,0]
[2004,9,45,0,0,33,19,47,25,0,0,14]
[2004,10,33,0,0,31,0,0,11,0,0,0]
[2004,11,38,0,0,41,0,0,13,37,3,22]
[2004,12,31,0,12,31,12,0,6,0,5,0]
[2005,1,28,0,4,9,0,30,9,0,4,0]
[2005,2,32,0,0,11,9,0,12,0,0,0]
[2005,3,42,0,0,27,0,0,21,28,4,7]
[2005,4,25,0,0,25,0,0,21,0,0,11]
[2005,5,43,58,0,35,22,0,29,0,0,0]
[2005,6,44,0,0,38,23,0,18,0,2,6]
[2005,7,17,0,4,33,8,0,19,0,0,5]
[2005,8,46,0,0,17,9,0,25,0,4,8]
[2005,9,55,0,0,42,0,19,18,31,3,9]
[2005,10,48,18,3,27,9,14,15,0,2,11]
[2005,11,34,47,0,20,24,34,17,0,2,0]
[2005,12,39,0,5,14,7,24,20,0,2,7]
[2006,1,9,28,0,9,32,17,15,0,0,0]
[2006,2,0,0,0,0,26,93,25,96,6,0]
[2006,3,32,0,0,0,67,0,0,0,8,0]
[2006,4,43,0,0,0,0,43,56,0,36,15]
[2006,5,100,0,0,34,0,0,38,0,0,18]
[2006,6,33,0,0,0,29,0,31,0,0,15]
[2006,7,40,0,0,33,98,0,48,0,0,24]
[2006,8,42,0,15,35,0,0,30,0,12,18]
[2006,9,23,0,0,23,0,0,34,0,11,12]
[2006,10,28,0,0,0,0,0,23,0,0,10]
[2006,11,0,0,7,20,0,0,32,64,0,18]
[2006,12,0,0,8,22,0,0,15,0,7,0]
[2007,1,50,0,19,22,0,0,38,0,0,14]
[2007,2,41,0,0,25,0,0,24,0,0,14]
[2007,3,0,0,0,0,0,0,0,0,0,15]
[2007,4,79,0,0,18,23,0,30,0,5,21]
[2007,5,49,37,0,19,0,0,7,0,0,0]
[2007,6,26,100,0,0,21,0,14,0,6,21]
[2007,7,0,0,0,0,15,47,34,0,6,25]
[2007,8,63,38,0,14,0,29,17,0,0,22]
[2007,9,32,0,0,26,0,0,32,0,0,28]
[2007,10,49,0,0,15,33,0,22,0,5,15]
[2007,11,32,0,0,13,19,0,30,0,0,15]
[2007,12,19,23,0,16,12,0,18,100,0,6]
[2008,1,19,22,0,16,34,0,33,0,0,0]
[2008,2,19,0,0,9,10,24,23,0,0,8]
[2008,3,45,0,0,8,0,0,19,0,4,8]
[2008,4,38,23,5,15,11,100,23,61,0,28]
[2008,5,38,39,0,26,0,62,21,0,6,4]
[2008,6,24,0,5,11,9,47,14,0,0,0]
[2008,7,21,0,0,11,0,51,27,100,0,11]
[2008,8,0,20,9,9,0,26,19,0,0,16]
[2008,9,31,0,5,16,0,38,42,0,0,21]
[2008,10,36,41,0,14,0,0,24,0,0,18]
[2008,11,15,0,4,7,25,22,28,0,2,17]
[2008,12,30,51,5,5,19,23,22,34,0,17]
[2009,1,31,18,3,14,11,27,22,30,0,14]
[2009,2,31,0,0,7,13,14,22,0,0,6]
[2009,3,27,0,0,0,17,37,23,26,2,15]
[2009,4,27,14,3,17,0,0,26,0,0,14]
[2009,5,21,0,0,0,0,48,20,0,2,8]
[2009,6,19,20,0,15,0,10,24,29,0,16]
[2009,7,19,0,0,10,0,28,23,0,3,7]
[2009,8,22,0,3,20,0,15,27,71,5,4]
[2009,9,32,0,0,17,0,24,30,0,0,12]
[2009,10,40,0,0,19,0,0,30,44,0,8]
[2009,11,17,31,0,25,6,30,19,0,0,10]
[2009,12,30,0,4,31,0,10,21,32,1,20]
[2010,1,23,0,4,5,0,12,36,15,0,0]
[2010,2,35,0,3,15,0,19,28,0,0,5]
[2010,3,20,11,4,19,0,30,31,20,0,16]
[2010,4,25,0,2,13,6,9,28,0,2,9]
[2010,5,20,0,2,17,16,30,37,0,0,19]
[2010,6,17,0,0,10,0,0,29,52,0,11]
[2010,7,16,13,5,23,0,0,21,0,3,16]
[2010,8,12,24,0,26,0,10,25,0,2,16]
[2010,9,0,0,0,24,10,22,39,0,0,21]
[2010,10,38,0,2,31,0,19,38,0,0,15]
[2010,11,46,32,0,27,0,24,36,0,8,18]
[2010,12,41,19,4,23,9,17,23,0,0,19]
[2011,1,36,12,2,16,5,11,37,19,2,16]
[2011,2,29,0,0,14,0,8,33,0,2,16]
[2011,3,29,37,0,25,0,15,35,0,1,23]
[2011,4,23,12,3,31,7,16,39,0,2,19]
[2011,5,27,13,1,24,0,13,37,0,2,26]
[2011,6,22,26,2,27,7,9,18,10,2,23]
[2011,7,20,30,3,18,6,18,25,13,1,22]
[2011,8,39,19,3,24,0,19,44,14,2,23]
[2011,9,43,16,3,30,4,11,43,13,2,29]
[2011,10,29,48,3,33,9,10,38,25,2,26]
[2011,11,36,34,0,40,6,0,40,29,1,29]
[2011,12,39,24,4,28,17,17,47,28,2,30]
[2012,1,38,5,2,34,7,7,43,22,2,25]
[2012,2,33,39,2,29,3,0,36,30,3,24]
[2012,3,38,45,3,38,4,0,39,28,1,26]
[2012,4,38,48,3,36,8,4,39,26,1,35]
[2012,5,26,34,2,34,6,41,29,31,2,32]
[2012,6,23,50,2,34,0,14,23,20,2,34]
[2012,7,26,38,0,25,0,17,35,23,1,31]
[2012,8,39,31,3,28,0,22,40,24,2,33]
[2012,9,44,53,0,33,3,10,46,21,1,35]
[2012,10,32,54,1,34,0,13,41,82,1,39]
[2012,11,28,57,1,38,6,8,34,32,1,38]
[2012,12,27,69,2,34,9,18,26,77,2,37]
[2013,1,32,46,2,36,3,15,27,33,2,29]
[2013,2,31,18,4,25,2,11,31,35,1,34]
[2013,3,21,36,1,23,0,3,30,25,1,28]
[2013,4,22,50,2,28,5,10,27,19,3,31]
[2013,5,22,56,2,39,6,10,23,33,1,34]
[2013,6,23,44,1,27,4,14,22,40,2,32]
[2013,7,15,35,0,29,4,19,31,20,1,27]
[2013,8,27,40,2,25,3,12,44,38,0,27]
[2013,9,31,46,1,26,8,8,35,31,2,29]
[2013,10,27,57,2,22,3,17,34,30,2,38]
[2013,11,31,32,0,38,4,7,30,37,2,33]
[2013,12,25,53,2,26,3,15,38,44,2,33]
[2014,1,30,27,2,17,1,8,32,37,1,28]
[2014,2,25,38,1,22,2,7,34,27,1,30]
[2014,3,29,44,2,34,3,19,32,31,2,31]
[2014,4,25,48,2,34,7,18,39,34,1,33]
[2014,5,24,39,2,30,3,14,28,43,2,32]
[2014,6,29,52,2,23,0,10,27,35,3,34]
[2014,7,30,38,2,19,4,19,36,34,2,33]
[2014,8,29,37,0,22,1,12,47,22,2,31]
[2014,9,39,28,2,32,4,7,35,42,2,40]
[2014,10,45,48,1,30,4,3,42,54,3,36]
[2014,11,37,49,2,37,8,14,38,45,3,43]
[2014,12,43,53,3,27,6,10,40,54,3,35]
[2015,1,40,38,3,23,7,9,34,28,1,33]
[2015,2,37,20,3,25,0,11,37,38,2,26]
[2015,3,46,29,2,19,4,10,42,22,2,34]
[2015,4,55,47,1,27,1,9,41,37,1,36]
[2015,5,42,43,2,33,3,6,31,39,1,35]
[2015,6,33,44,3,27,0,5,28,37,1,35]
[2015,7,52,43,2,21,4,17,32,27,2,30]
[2015,8,85,30,2,24,4,6,50,34,1,33]
[2015,9,82,43,2,33,5,9,38,34,1,47]
[2015,10,76,41,1,34,4,14,38,36,2,48]
[2015,11,61,42,2,36,4,7,38,34,3,51]
[2015,12,86,60,2,32,5,11,39,62,3,46]
[2016,1,94,41,3,23,6,10,38,39,1,38]
[2016,2,85,36,3,23,5,6,34,34,1,33]
[2016,3,88,48,3,30,2,11,39,26,1,34]
[2016,4,82,45,3,27,3,15,36,25,3,40]
[2016,5,56,39,3,29,7,10,26,39,3,42]
[2016,6,45,49,4,27,4,15,26,34,2,48]
[2016,7,69,58,3,21,2,10,28,24,2,39]
[2016,8,88,36,3,34,4,6,37,27,3,34]
[2016,9,80,35,3,93,1,10,31,26,3,45]
[2016,10,74,37,4,55,4,7,30,38,2,49]
[2016,11,75,51,4,52,5,12,39,46,3,44]
[2016,12,73,58,3,44,5,10,33,50,3,60]
[2017,1,83,40,3,28,0,4,38,25,3,47]
[2017,2,72,38,4,28,4,10,32,34,1,37]
[2017,3,67,44,3,30,5,8,37,36,1,42]
[2017,4,75,54,3,41,3,3,27,40,2,45]
[2017,5,47,34,4,36,4,12,24,41,2,42]
[2017,6,39,43,4,40,2,8,24,34,3,47]
[2017,7,58,46,2,26,5,12,26,32,4,42]
[2017,8,81,30,4,31,3,9,36,27,4,38]
[2017,9,61,35,2,35,2,8,29,51,3,46]
[2017,10,59,57,2,54,5,11,31,45,3,54]
[2017,11,69,74,3,70,7,9,31,62,3,68]
[2017,12,73,56,4,59,5,11,36,46,4,64]
[2018,1,61,50,4,49,4,7,34,45,3,60]
[2018,2,61,32,2,38,4,7,34,17,3,42]
[2018,3,51,45,3,45,0,10,40,28,2,44]
[2018,4,57,40,3,46,1,13,36,49,3,46]
[2018,5,41,39,4,49,4,11,31,34,4,42]
[2018,6,46,38,4,51,4,8,27,30,5,49]
[2018,7,60,31,4,46,3,15,31,36,4,40]
[2018,8,71,35,4,40,5,15,41,38,4,39]
[2018,9,61,37,3,45,4,8,40,28,3,48]
[2018,10,51,54,4,57,4,8,35,35,2,46]
[2018,11,68,72,4,87,4,16,45,48,3,60]
[2018,12,58,50,2,51,7,7,41,49,5,62]
[2019,1,54,50,3,40,2,10,42,37,3,56]
[2019,2,57,29,3,37,3,10,40,27,4,45]
[2019,3,55,31,1,36,2,10,38,30,4,50]
[2019,4,57,44,3,44,3,13,40,36,5,46]
[2019,5,48,30,2,50,3,13,32,29,5,46]
[2019,6,36,29,4,56,3,9,33,17,5,46]
[2019,7,53,43,3,49,5,13,41,34,5,48]
[2019,8,63,33,7,45,3,9,49,24,4,51]
[2019,9,50,33,4,49,2,11,42,23,4,47]
[2019,10,52,38,4,52,4,12,41,43,5,57]
[2019,11,61,48,5,64,5,10,50,53,6,68]
[2019,12,61,38,4,58,3,13,49,58,7,68]
[2020,1,50,37,3,50,6,11,42,39,6,59]
[2020,2,54,41,2,34,2,8,45,38,3,53]
[2020,3,37,21,3,31,1,6,31,20,3,27]
[2020,4,33,22,2,74,2,6,28,22,4,29]
[2020,5,55,39,3,100,1,8,39,23,5,59]
[2020,6,42,45,3,81,4,10,33,29,6,51]
[2020,7,43,32,5,53,3,13,36,18,5,49]
[2020,8,67,35,3,54,1,9,47,27,5,52]
[2020,9,45,39,3,59,4,3,39,18,5,49]
[2020,10,51,38,4,60,3,6,47,38,5,60]
[2020,11,69,46,4,82,4,10,51,38,7,89]
[2020,12,65,44,5,54,6,10,52,40,9,71]
[2021,1,51,33,4,46,4,7,42,30,4,57]
[2021,2,53,37,3,42,3,12,42,20,3,48]
[2021,3,47,36,3,44,3,8,39,29,4,47]
[2021,4,45,32,4,55,2,6,40,18,4,44]
[2021,5,40,36,4,64,0,7,32,18,4,51]
[2021,6,38,47,3,46,5,12,30,38,5,55]
[2021,7,31,38,4,42,5,11,39,22,4,46]
[2021,8,42,35,3,34,5,13,45,33,4,47]
[2021,9,47,40,3,43,4,10,46,33,4,51]
[2021,10,46,41,6,56,5,6,43,45,4,60]
[2021,11,49,47,5,50,6,13,45,42,7,63]
[2021,12,49,37,5,40,3,12,55,46,6,63]
[2022,1,50,20,5,43,4,11,53,25,3,53]
[2022,2,46,31,4,38,3,8,47,21,3,44]
[2022,3,34,24,3,44,1,10,48,31,3,44]
[2022,4,48,35,3,53,4,11,47,37,3,58]
[2022,5,37,27,4,42,0,13,41,27,4,54]
[2022,6,35,28,4,44,5,11,43,32,4,58]
[2022,7,45,31,5,39,5,13,47,31,3,47]
[2022,8,45,35,5,38,5,13,59,32,4,46]
[2022,9,42,20,3,41,4,11,60,11,2,52]
[2022,10,47,29,4,51,6,13,56,27,3,53]
[2022,11,51,35,5,48,5,7,65,36,3,65]
[2022,12,48,37,8,53,5,14,72,49,5,66]
[2023,1,43,29,3,39,5,13,62,33,4,55]
[2023,2,43,22,5,33,4,7,53,34,4,46]
[2023,3,43,23,5,38,4,8,60,19,3,50]
[2023,4,52,32,6,40,4,13,68,33,4,56]
[2023,5,41,32,5,35,5,9,48,31,4,56]
[2023,6,35,16,7,31,4,14,43,35,4,61]

{"sheet":"keywords(CZ)","index":11,"n_rows":11,"n_cols":4,"rows_kept":11,"cut":false,"hidden":false,"merged":[]}
["id","url","country","brand*"]
[1,"https://trends.google.com/trends/explore?date=all&geo=CZ&q=Adidas","CZ","Adidas"]
[2,"https://trends.google.com/trends/explore?date=all&geo=CZ&q=Bershka","CZ","Bershka"]
[3,"https://trends.google.com/trends/explore?date=all&geo=CZ&q=Calvin Klein","CZ","Calvin Klein"]
[4,"https://trends.google.com/trends/explore?date=all&geo=CZ&q=H&M","CZ","H&M"]
[5,"https://trends.google.com/trends/explore?date=all&geo=CZ&q=Hugo Boss","CZ","Hugo Boss"]
[6,"https://trends.google.com/trends/explore?date=all&geo=CZ&q=Lacoste","CZ","Lacoste"]
[7,"https://trends.google.com/trends/explore?date=all&geo=CZ&q=Nike","CZ","Nike"]
[8,"https://trends.google.com/trends/explore?date=all&geo=CZ&q=Pull and Bear","CZ","Pull and Bear"]
[9,"https://trends.google.com/trends/explore?date=all&geo=CZ&q=Tommy Hilfiger","CZ","Tommy Hilfiger"]
[10,"https://trends.google.com/trends/explore?date=all&geo=CZ&q=Zara","CZ","Zara"]

{"sheet":"1...10 raw(CZ)","index":12,"n_rows":236,"n_cols":12,"rows_kept":236,"cut":false,"hidden":false,"merged":[]}
["Czechia",null,"Adidas","Bershka","Calvin Klein","H&M","Hugo Boss","Lacoste","Nike","Pull and Bear","Tommy Hilfiger","Zara"]
["Year","Month","Point","Point","Point","Point","Point","Point","Point","Point","Point","Point"]
[2004,1,17,0,0,50,71,0,8,0,0,0]
[2004,2,26,0,26,20,0,0,14,0,33,23]
[2004,3,23,0,29,13,0,0,7,0,0,0]
[2004,4,0,0,0,0,41,60,20,41,0,0]
[2004,5,20,0,0,9,0,0,15,0,0,0]
[2004,6,11,0,0,17,100,0,8,0,0,17]
[2004,7,23,0,0,0,0,0,15,0,0,0]
[2004,8,19,0,0,5,79,0,0,0,0,0]
[2004,9,26,0,0,16,34,0,4,0,53,0]
[2004,10,12,0,11,12,0,62,8,27,25,0]
[2004,11,12,0,0,28,0,62,9,0,0,18]
[2004,12,10,0,0,21,59,48,6,0,0,0]
[2005,1,12,0,12,11,22,0,12,0,0,20]
[2005,2,10,0,0,8,57,0,22,0,12,0]
[2005,3,10,0,0,8,58,53,16,0,18,0]
[2005,4,23,0,0,19,0,53,13,100,0,24]
[2005,5,21,0,0,11,54,0,15,0,0,19]
[2005,6,4,0,0,6,0,31,12,0,0,0]
[2005,7,34,0,8,21,0,0,7,0,0,0]
[2005,8,14,0,0,21,0,0,8,0,0,0]
[2005,9,22,39,8,14,25,88,13,0,0,0]
[2005,10,17,0,0,20,0,69,19,0,0,19]
[2005,11,20,45,0,18,0,47,13,0,11,15]
[2005,12,14,0,13,13,42,91,23,33,11,6]
[2006,1,21,0,7,9,0,27,11,0,10,6]
[2006,2,15,37,0,13,17,26,17,0,0,20]
[2006,3,14,0,8,14,47,22,13,0,13,15]
[2006,4,24,25,21,15,21,39,24,0,0,0]
[2006,5,26,16,0,12,0,0,22,0,0,29]
[2006,6,33,0,0,13,0,18,16,0,0,6]
[2006,7,28,20,0,9,30,65,12,23,10,7]
[2006,8,35,0,11,12,12,68,18,0,16,11]
[2006,9,18,0,10,15,34,100,21,0,0,11]
[2006,10,17,0,5,14,46,86,18,0,9,4]
[2006,11,17,0,0,13,18,43,16,14,15,13]
[2006,12,15,0,6,15,55,55,12,26,10,12]
[2007,1,12,0,0,13,22,14,14,6,0,20]
[2007,2,21,0,0,12,16,44,18,0,6,14]
[2007,3,32,0,0,17,12,41,24,0,0,15]
[2007,4,27,0,0,16,19,48,24,0,7,11]
[2007,5,28,23,4,15,6,61,19,14,12,10]
[2007,6,27,0,6,16,21,25,21,0,0,12]
[2007,7,32,8,6,22,8,47,25,10,19,11]
[2007,8,29,0,5,16,23,36,25,6,5,15]
[2007,9,27,8,0,20,24,55,18,0,0,25]
[2007,10,23,11,5,21,26,56,23,0,9,22]
[2007,11,20,11,11,17,36,45,18,11,10,20]
[2007,12,24,14,18,15,60,38,20,0,8,10]
[2008,1,25,7,7,11,15,58,20,0,12,15]
[2008,2,29,9,9,17,12,44,26,0,11,14]
[2008,3,29,10,8,11,34,70,25,0,6,17]
[2008,4,39,0,7,14,26,50,25,13,11,17]
[2008,5,31,10,13,12,27,46,28,0,10,16]
[2008,6,34,6,3,14,23,50,25,0,5,16]
[2008,7,30,6,6,13,18,50,29,6,10,12]
[2008,8,33,0,14,15,13,34,31,0,10,13]
[2008,9,29,16,22,16,8,53,28,10,11,21]
[2008,10,28,5,17,15,40,29,22,8,0,17]
[2008,11,34,21,20,17,39,28,28,0,13,15]
[2008,12,27,0,15,17,68,45,24,0,11,14]
[2009,1,26,16,9,13,39,61,23,8,7,16]
[2009,2,29,8,10,15,15,56,21,0,9,15]
[2009,3,39,6,8,15,18,47,33,0,14,15]
[2009,4,36,7,9,14,19,31,33,6,14,15]
[2009,5,30,16,7,14,18,72,25,7,0,14]
[2009,6,35,8,8,12,34,58,25,4,10,13]
[2009,7,31,14,7,13,31,67,28,0,13,17]
[2009,8,40,9,7,16,23,66,31,0,14,10]
[2009,9,37,21,6,18,39,55,31,0,4,16]
[2009,10,31,13,9,22,35,53,28,8,13,16]
[2009,11,32,10,11,18,32,75,24,9,19,18]
[2009,12,38,14,16,20,56,96,30,0,11,19]
[2010,1,30,0,9,17,34,28,26,13,14,18]
[2010,2,29,4,6,15,16,44,22,5,14,21]
[2010,3,42,11,6,18,25,55,37,5,16,16]
[2010,4,41,27,9,16,29,54,33,5,12,13]
[2010,5,39,17,9,19,37,48,26,4,14,18]
[2010,6,39,16,3,18,19,66,29,5,11,14]
[2010,7,33,7,4,16,29,55,30,0,8,18]
[2010,8,46,15,7,18,37,56,32,7,13,20]
[2010,9,45,13,10,23,21,86,33,13,10,23]
[2010,10,38,15,12,26,34,74,29,11,20,30]
[2010,11,41,19,14,26,50,64,28,6,16,26]
[2010,12,40,7,19,20,59,53,28,10,21,24]
[2011,1,41,11,9,19,30,55,29,5,14,21]
[2011,2,40,16,8,19,29,48,31,11,12,27]
[2011,3,54,24,7,24,33,61,35,9,11,25]
[2011,4,57,18,9,23,26,71,35,6,14,28]
[2011,5,43,12,8,27,26,62,32,7,18,27]
[2011,6,40,15,11,20,28,58,30,7,17,21]
[2011,7,46,13,12,18,28,70,34,10,15,26]
[2011,8,53,16,9,22,37,58,40,9,16,26]
[2011,9,51,24,12,25,36,67,38,3,17,30]
[2011,10,49,21,13,28,40,62,33,21,22,31]
[2011,11,44,23,15,28,45,68,30,12,24,30]
[2011,12,51,28,21,26,69,88,34,16,28,30]
[2012,1,38,24,13,20,27,45,31,10,16,26]
[2012,2,43,33,12,24,29,53,31,15,16,32]
[2012,3,66,38,10,31,22,67,41,23,17,36]
[2012,4,60,23,14,25,23,55,37,17,18,26]
[2012,5,47,27,10,28,23,53,30,13,19,31]
[2012,6,48,24,12,25,31,54,33,13,19,33]
[2012,7,47,32,17,24,28,50,34,15,21,30]
[2012,8,60,31,13,26,30,57,41,18,20,32]
[2012,9,63,36,15,32,31,45,39,24,21,39]
[2012,10,52,39,15,34,35,51,28,20,21,39]
[2012,11,43,27,19,30,38,57,25,18,22,36]
[2012,12,49,31,25,28,56,70,26,16,26,41]
[2013,1,36,24,13,24,30,38,24,13,20,32]
[2013,2,37,20,14,30,22,51,27,13,20,33]
[2013,3,57,24,13,29,23,46,33,16,23,30]
[2013,4,55,28,13,29,23,63,34,16,23,29]
[2013,5,47,26,13,28,21,47,32,15,22,30]
[2013,6,41,29,11,23,28,50,29,14,19,27]
[2013,7,41,21,14,22,20,40,34,13,18,28]
[2013,8,49,43,13,25,29,57,37,14,22,38]
[2013,9,55,37,16,35,34,55,33,22,23,43]
[2013,10,44,36,13,31,29,44,31,26,23,35]
[2013,11,51,33,21,32,45,58,31,23,29,38]
[2013,12,47,34,27,33,54,62,31,20,32,40]
[2014,1,41,29,14,24,28,39,33,13,21,41]
[2014,2,43,33,11,26,30,38,34,16,19,29]
[2014,3,56,34,13,29,24,58,49,18,24,31]
[2014,4,49,29,11,31,22,44,44,15,21,29]
[2014,5,50,28,12,35,25,39,45,20,24,32]
[2014,6,40,27,13,30,22,46,43,17,21,28]
[2014,7,50,27,13,27,25,47,43,10,20,30]
[2014,8,57,30,14,32,28,48,53,19,25,32]
[2014,9,53,28,15,38,37,41,46,17,26,38]
[2014,10,49,38,16,37,37,35,40,18,24,41]
[2014,11,48,36,21,39,54,44,38,25,27,40]
[2014,12,50,36,31,36,83,57,38,23,36,38]
[2015,1,42,27,20,27,28,35,36,17,22,34]
[2015,2,41,23,16,28,34,30,43,11,15,30]
[2015,3,56,35,15,41,30,39,55,17,21,33]
[2015,4,60,31,13,57,18,33,57,17,21,35]
[2015,5,51,27,14,56,24,35,48,18,20,36]
[2015,6,49,24,14,47,23,42,44,13,20,38]
[2015,7,45,25,14,44,29,39,42,13,21,33]
[2015,8,55,35,17,45,28,41,51,16,24,35]
[2015,9,58,36,22,57,37,48,47,21,26,44]
[2015,10,55,43,19,59,32,33,43,30,29,56]
[2015,11,51,28,26,62,56,35,42,19,32,46]
[2015,12,51,24,37,59,77,55,43,20,44,49]
[2016,1,48,26,19,41,27,31,40,14,24,41]
[2016,2,56,24,21,44,25,23,49,15,20,35]
[2016,3,70,38,22,45,25,33,58,14,19,56]
[2016,4,67,33,19,53,26,36,58,16,20,52]
[2016,5,58,31,19,51,26,31,50,15,23,46]
[2016,6,55,31,21,53,24,37,44,16,24,53]
[2016,7,55,26,24,51,23,37,48,18,28,56]
[2016,8,62,36,29,51,29,32,54,15,24,56]
[2016,9,63,33,29,57,35,31,46,21,26,53]
[2016,10,59,34,32,63,30,24,42,20,33,67]
[2016,11,58,47,43,65,59,36,43,22,43,71]
[2016,12,56,34,56,70,94,47,43,24,41,67]
[2017,1,48,43,35,60,28,25,40,16,32,57]
[2017,2,62,39,37,57,31,29,47,23,29,57]
[2017,3,80,44,31,68,26,36,66,23,28,67]
[2017,4,75,50,36,67,26,32,55,20,26,64]
[2017,5,69,41,35,71,28,34,51,17,30,65]
[2017,6,60,48,42,69,28,29,41,17,34,67]
[2017,7,65,35,46,62,32,37,47,16,40,55]
[2017,8,72,37,51,65,35,38,53,20,43,60]
[2017,9,75,55,51,85,34,33,52,21,49,85]
[2017,10,64,51,52,66,45,30,45,28,45,83]
[2017,11,74,56,72,84,84,48,48,27,65,91]
[2017,12,68,48,91,73,96,52,50,28,72,85]
[2018,1,68,46,59,71,34,32,48,26,47,75]
[2018,2,68,39,48,67,29,26,51,16,45,68]
[2018,3,86,44,47,81,29,36,61,23,52,72]
[2018,4,100,41,53,74,31,43,64,20,55,70]
[2018,5,77,35,61,74,26,41,54,21,55,65]
[2018,6,78,39,63,73,34,41,45,20,60,77]
[2018,7,82,35,68,68,33,36,57,18,58,64]
[2018,8,90,40,72,70,41,39,58,20,65,66]
[2018,9,86,53,67,75,34,37,61,26,68,75]
[2018,10,72,51,58,81,49,32,58,20,74,85]
[2018,11,78,51,89,100,77,46,57,23,90,100]
[2018,12,71,58,100,80,89,51,52,22,100,85]
[2019,1,66,51,60,75,38,33,52,18,62,81]
[2019,2,79,56,52,62,30,30,60,19,54,77]
[2019,3,95,49,54,63,28,34,73,19,59,71]
[2019,4,92,54,48,82,35,36,65,16,62,74]
[2019,5,76,48,51,74,34,27,61,16,55,63]
[2019,6,74,52,51,91,33,32,57,20,66,92]
[2019,7,79,50,59,70,38,40,58,19,68,81]
[2019,8,86,69,47,77,37,28,74,18,66,70]
[2019,9,84,69,47,99,47,38,66,23,76,91]
[2019,10,66,68,42,80,46,30,54,22,72,86]
[2019,11,68,65,70,83,74,39,61,20,90,88]
[2019,12,64,62,73,84,94,49,67,24,100,87]
[2020,1,57,51,50,61,34,28,57,18,63,74]
[2020,2,66,46,40,65,37,25,70,15,57,68]
[2020,3,56,37,28,58,22,19,57,15,39,48]
[2020,4,68,57,36,90,21,23,73,22,49,69]
[2020,5,68,65,39,77,30,30,71,24,48,73]
[2020,6,64,58,45,69,29,29,59,21,52,70]
[2020,7,59,61,46,74,35,29,57,16,54,64]
[2020,8,65,66,48,78,32,30,69,17,54,64]
[2020,9,64,68,40,80,39,33,62,24,62,77]
[2020,10,58,78,48,76,40,29,57,21,60,75]
[2020,11,68,100,67,96,61,34,73,25,91,86]
[2020,12,55,82,65,75,74,39,60,21,85,77]
[2021,1,53,82,44,70,28,22,51,27,54,75]
[2021,2,57,84,38,82,25,22,58,26,48,74]
[2021,3,77,85,37,86,28,26,81,25,51,72]
[2021,4,75,65,37,85,24,25,70,22,51,61]
[2021,5,63,62,37,70,31,26,71,16,54,61]
[2021,6,53,51,37,85,33,31,58,16,51,66]
[2021,7,53,58,37,62,36,28,58,16,50,54]
[2021,8,64,71,39,79,35,25,65,21,55,64]
[2021,9,56,72,37,77,40,36,65,25,56,72]
[2021,10,50,69,39,82,44,26,64,26,61,81]
[2021,11,51,69,57,70,69,41,71,26,84,75]
[2021,12,45,64,59,65,92,47,68,20,85,67]
[2022,1,46,56,38,58,35,22,64,19,49,62]
[2022,2,50,53,30,53,37,21,64,22,51,54]
[2022,3,61,53,30,59,33,27,94,17,51,62]
[2022,4,62,54,30,59,39,27,86,15,53,66]
[2022,5,58,47,32,66,31,34,78,16,49,65]
[2022,6,49,44,34,66,37,24,63,14,44,71]
[2022,7,50,48,36,56,39,28,70,15,47,66]
[2022,8,57,53,32,60,37,37,86,13,50,61]
[2022,9,57,65,33,80,45,25,94,18,53,77]
[2022,10,54,61,31,63,48,31,85,17,53,73]
[2022,11,59,65,54,64,74,40,99,18,67,80]
[2022,12,51,63,61,61,85,42,95,20,79,75]
[2023,1,46,58,31,50,36,29,77,20,41,64]
[2023,2,46,60,31,61,37,25,77,14,40,62]
[2023,3,55,57,28,56,33,31,93,13,38,66]
[2023,4,60,55,30,56,34,39,100,12,39,70]
[2023,5,61,53,31,55,32,37,89,12,42,70]
[2023,6,55,54,30,64,41,37,85,12,40,67]

{"sheet":"keywords(DK)","index":13,"n_rows":11,"n_cols":4,"rows_kept":11,"cut":false,"hidden":false,"merged":[]}
["id","url","country","brand*"]
[1,"https://trends.google.com/trends/explore?date=all&geo=DK&q=Adidas","DK","Adidas"]
[2,"https://trends.google.com/trends/explore?date=all&geo=DK&q=Bershka","DK","Bershka"]
[3,"https://trends.google.com/trends/explore?date=all&geo=DK&q=Calvin Klein","DK","Calvin Klein"]
[4,"https://trends.google.com/trends/explore?date=all&geo=DK&q=H&M","DK","H&M"]
[5,"https://trends.google.com/trends/explore?date=all&geo=DK&q=Hugo Boss","DK","Hugo Boss"]
[6,"https://trends.google.com/trends/explore?date=all&geo=DK&q=Lacoste","DK","Lacoste"]
[7,"https://trends.google.com/trends/explore?date=all&geo=DK&q=Nike","DK","Nike"]
[8,"https://trends.google.com/trends/explore?date=all&geo=DK&q=Pull and Bear","DK","Pull and Bear"]
[9,"https://trends.google.com/trends/explore?date=all&geo=DK&q=Tommy Hilfiger","DK","Tommy Hilfiger"]
[10,"https://trends.google.com/trends/explore?date=all&geo=DK&q=Zara","DK","Zara"]

{"sheet":"1...10 raw(DK)","index":14,"n_rows":236,"n_cols":12,"rows_kept":236,"cut":false,"hidden":false,"merged":[]}
["Denmark",null,"Adidas","Bershka","Calvin Klein","H&M","Hugo Boss","Lacoste","Nike","Pull and Bear","Tommy Hilfiger","Zara"]
["Year","Month","Point","Point","Point","Point","Point","Point","Point","Point","Point","Point"]
[2004,1,8,0,16,26,39,0,12,0,8,11]
[2004,2,8,0,0,25,51,24,9,0,0,12]
[2004,3,19,0,0,20,15,68,13,0,0,0]
[2004,4,18,0,34,26,19,19,22,0,0,5]
[2004,5,10,35,0,21,20,70,21,100,6,0]
[2004,6,9,0,12,17,0,32,13,0,9,13]
[2004,7,5,0,10,25,21,33,16,0,13,9]
[2004,8,14,0,16,27,16,0,15,0,7,0]
[2004,9,9,0,21,24,24,51,14,0,0,9]
[2004,10,11,67,14,25,38,24,18,0,11,11]
[2004,11,13,0,0,25,27,38,17,0,8,0]
[2004,12,11,0,22,28,24,58,12,39,8,0]
[2005,1,8,0,8,31,34,0,13,0,0,0]
[2005,2,15,0,0,24,30,23,16,0,0,2]
[2005,3,14,0,9,31,38,0,17,0,4,8]
[2005,4,18,0,18,31,33,44,19,0,5,9]
[2005,5,10,42,11,35,21,21,16,0,10,2]
[2005,6,16,0,15,27,37,24,14,32,5,6]
[2005,7,15,0,27,30,45,72,14,0,7,6]
[2005,8,15,0,8,38,36,39,18,0,18,3]
[2005,9,11,0,17,30,18,40,17,0,7,8]
[2005,10,10,0,14,30,30,41,14,0,11,6]
[2005,11,7,0,22,31,35,30,13,0,4,2]
[2005,12,12,0,22,34,66,60,16,0,10,10]
[2006,1,12,0,10,36,45,25,14,0,6,8]
[2006,2,16,16,12,30,25,44,19,51,0,10]
[2006,3,15,0,4,35,25,72,16,0,4,14]
[2006,4,22,0,14,38,19,61,22,0,4,10]
[2006,5,13,0,10,38,30,46,19,0,14,6]
[2006,6,15,0,12,33,17,62,19,0,4,8]
[2006,7,14,0,12,34,22,42,15,0,17,2]
[2006,8,11,0,21,35,24,49,16,0,12,8]
[2006,9,14,0,18,40,29,71,17,0,10,6]
[2006,10,13,0,6,37,27,38,14,0,10,4]
[2006,11,8,0,17,42,36,48,16,0,12,7]
[2006,12,6,12,34,42,40,91,15,23,14,14]
[2007,1,10,0,12,38,25,42,15,24,0,6]
[2007,2,11,0,11,38,11,30,14,0,5,7]
[2007,3,15,17,13,50,35,62,16,0,13,8]
[2007,4,12,0,13,46,33,80,16,0,10,6]
[2007,5,9,0,17,42,37,33,18,0,10,6]
[2007,6,10,0,15,40,23,68,16,0,11,8]
[2007,7,12,0,24,39,34,45,18,0,8,6]
[2007,8,13,0,14,46,37,54,17,0,10,7]
[2007,9,11,8,11,49,26,62,17,0,7,11]
[2007,10,12,0,10,45,33,50,19,0,11,11]
[2007,11,10,0,17,54,32,51,20,24,15,11]
[2007,12,12,8,20,47,48,73,19,14,12,11]
[2008,1,10,6,12,46,24,46,18,0,12,8]
[2008,2,11,23,6,38,28,48,19,22,9,8]
[2008,3,14,7,12,47,30,72,21,0,16,7]
[2008,4,16,8,12,42,35,57,25,0,12,9]
[2008,5,13,0,16,52,30,71,22,7,11,10]
[2008,6,13,0,17,45,27,60,19,0,14,12]
[2008,7,9,0,16,41,21,70,20,0,9,8]
[2008,8,14,0,17,42,28,70,24,0,10,10]
[2008,9,14,0,12,46,26,27,21,0,13,11]
[2008,10,12,0,18,46,22,41,21,0,13,11]
[2008,11,15,0,20,49,34,46,20,0,15,11]
[2008,12,14,8,23,47,49,44,21,0,18,10]
[2009,1,16,0,16,49,20,37,20,0,9,7]
[2009,2,12,0,14,49,26,38,20,0,14,10]
[2009,3,19,0,13,54,26,42,29,0,14,11]
[2009,4,18,0,14,58,33,52,27,0,17,16]
[2009,5,15,5,11,56,28,51,23,0,18,9]
[2009,6,17,0,12,51,30,42,21,0,13,10]
[2009,7,15,0,16,47,36,50,22,0,18,9]
[2009,8,15,5,12,50,28,38,23,7,15,12]
[2009,9,19,14,10,58,28,33,27,0,15,14]
[2009,10,17,0,12,56,33,38,25,0,18,25]
[2009,11,15,6,16,61,36,30,25,0,20,16]
[2009,12,18,0,24,62,48,46,25,0,24,27]
[2010,1,17,5,8,60,27,31,21,0,17,14]
[2010,2,16,0,11,57,27,18,22,12,10,17]
[2010,3,21,0,13,66,32,32,26,6,13,17]
[2010,4,22,12,8,70,27,32,29,0,23,20]
[2010,5,20,0,13,69,34,31,29,0,15,17]
[2010,6,23,19,12,57,25,21,25,0,21,17]
[2010,7,18,0,13,56,35,22,25,0,13,15]
[2010,8,24,7,11,61,32,29,30,0,14,17]
[2010,9,21,0,10,69,37,34,26,5,20,18]
[2010,10,21,8,9,69,28,21,30,17,19,19]
[2010,11,23,5,19,75,32,35,24,8,27,22]
[2010,12,24,0,28,65,41,48,25,10,30,20]
[2011,1,22,8,11,55,30,16,20,8,14,14]
[2011,2,23,5,20,55,29,18,25,0,15,17]
[2011,3,27,10,18,69,25,27,30,3,17,24]
[2011,4,29,0,12,75,32,32,37,6,23,25]
[2011,5,25,4,11,69,33,35,32,0,23,23]
[2011,6,27,0,14,64,30,31,29,6,15,22]
[2011,7,28,13,13,59,25,17,33,14,19,18]
[2011,8,29,4,11,61,30,25,37,4,16,23]
[2011,9,28,12,9,65,38,37,39,10,25,23]
[2011,10,27,13,10,66,36,22,33,6,21,25]
[2011,11,26,7,16,67,45,25,33,0,17,27]
[2011,12,31,14,23,73,51,36,37,8,23,31]
[2012,1,26,4,10,59,34,21,36,4,16,27]
[2012,2,27,3,10,57,32,17,32,8,15,30]
[2012,3,32,4,11,71,35,25,46,6,18,35]
[2012,4,37,11,12,72,41,25,49,0,20,32]
[2012,5,29,15,14,68,30,23,42,0,22,27]
[2012,6,31,8,12,61,31,42,49,11,21,35]
[2012,7,32,5,13,58,31,27,46,23,21,29]
[2012,8,35,9,14,63,28,28,54,9,15,33]
[2012,9,31,8,9,70,33,17,52,6,24,39]
[2012,10,29,11,10,59,36,21,42,13,23,40]
[2012,11,29,8,19,67,38,25,42,11,25,40]
[2012,12,35,13,23,67,52,33,47,5,29,38]
[2013,1,30,0,12,60,33,21,46,9,16,32]
[2013,2,34,6,14,70,41,17,48,8,17,34]
[2013,3,40,7,12,67,38,27,58,10,20,31]
[2013,4,41,13,13,74,37,24,65,3,22,38]
[2013,5,36,0,12,72,34,30,56,6,20,37]
[2013,6,31,10,11,71,39,34,55,7,26,44]
[2013,7,31,6,14,63,41,28,59,12,24,50]
[2013,8,34,10,11,62,36,18,63,5,20,50]
[2013,9,37,12,13,67,38,15,56,8,19,42]
[2013,10,34,0,10,64,34,30,51,9,21,38]
[2013,11,35,6,15,73,45,24,55,5,23,38]
[2013,12,41,11,21,72,66,30,62,9,29,49]
[2014,1,39,14,12,53,35,14,58,6,21,35]
[2014,2,38,6,12,61,38,26,64,13,19,41]
[2014,3,51,13,12,64,37,22,76,14,21,44]
[2014,4,50,8,14,70,35,34,86,9,22,48]
[2014,5,44,7,18,66,43,31,77,9,23,46]
[2014,6,39,8,17,64,30,31,66,9,27,44]
[2014,7,41,14,22,58,38,31,68,9,26,35]
[2014,8,48,8,18,56,36,32,69,13,19,39]
[2014,9,47,10,16,64,35,29,66,13,21,46]
[2014,10,46,9,19,67,42,31,58,18,21,41]
[2014,11,52,15,31,76,49,29,63,17,32,43]
[2014,12,52,6,39,67,67,37,62,10,34,52]
[2015,1,51,0,50,56,37,34,67,10,25,45]
[2015,2,56,7,26,53,33,47,63,15,22,41]
[2015,3,63,3,28,63,38,57,71,7,26,47]
[2015,4,71,12,28,66,37,58,79,7,30,55]
[2015,5,62,5,29,63,42,69,73,13,31,51]
[2015,6,58,5,27,62,35,63,62,9,31,49]
[2015,7,60,12,33,56,34,59,77,16,37,50]
[2015,8,73,15,31,53,35,66,66,8,30,52]
[2015,9,68,12,33,56,50,59,67,9,29,68]
[2015,10,62,10,37,61,39,60,60,12,36,71]
[2015,11,85,7,64,100,52,66,63,8,38,66]
[2015,12,76,9,84,71,73,80,59,7,45,68]
[2016,1,80,4,54,52,45,48,61,7,34,55]
[2016,2,80,9,54,53,46,72,57,5,32,55]
[2016,3,100,14,58,59,44,77,70,9,37,65]
[2016,4,88,16,55,60,48,74,73,14,41,72]
[2016,5,77,16,50,63,44,73,60,12,39,70]
[2016,6,78,8,58,60,42,61,55,6,43,73]
[2016,7,75,17,48,51,37,61,56,12,45,66]
[2016,8,72,9,48,55,45,66,53,24,39,60]
[2016,9,82,12,48,58,50,53,52,9,43,71]
[2016,10,73,19,56,67,53,56,48,7,50,78]
[2016,11,86,14,87,76,67,74,58,12,68,89]
[2016,12,85,14,93,73,86,88,58,13,58,89]
[2017,1,74,6,54,50,45,60,50,7,46,73]
[2017,2,75,9,48,48,37,50,45,15,40,69]
[2017,3,84,13,53,54,47,76,55,16,44,80]
[2017,4,96,13,63,63,45,70,60,21,50,90]
[2017,5,76,11,53,63,43,69,48,8,49,85]
[2017,6,77,20,62,61,49,64,50,18,53,80]
[2017,7,74,16,61,61,45,73,55,13,51,75]
[2017,8,74,18,50,57,44,78,59,10,46,81]
[2017,9,71,22,48,70,46,62,56,16,52,87]
[2017,10,67,21,48,64,54,70,55,18,60,82]
[2017,11,90,23,80,85,70,92,64,12,83,85]
[2017,12,83,10,100,82,90,100,55,10,90,86]
[2018,1,69,24,50,65,56,66,59,14,58,63]
[2018,2,62,18,48,64,55,70,69,10,58,61]
[2018,3,67,10,49,59,51,68,57,11,59,62]
[2018,4,83,19,48,70,54,90,63,17,60,66]
[2018,5,63,17,54,75,53,76,55,14,59,63]
[2018,6,67,19,57,74,56,66,58,11,62,65]
[2018,7,64,24,59,59,56,77,55,6,64,57]
[2018,8,64,23,50,58,50,57,56,13,57,60]
[2018,9,78,32,51,64,57,54,63,16,74,70]
[2018,10,58,36,43,64,53,49,56,20,72,65]
[2018,11,73,33,83,80,82,84,69,16,95,71]
[2018,12,68,33,85,71,94,78,69,20,100,69]
[2019,1,59,26,46,54,48,57,58,8,64,51]
[2019,2,59,27,51,54,45,49,59,15,57,48]
[2019,3,69,29,45,57,48,70,68,17,58,52]
[2019,4,75,27,44,63,49,73,64,16,59,60]
[2019,5,63,24,43,61,50,62,66,9,61,59]
[2019,6,59,32,49,70,50,74,59,10,65,59]
[2019,7,59,24,51,56,52,61,62,13,60,62]
[2019,8,59,39,37,51,46,50,61,12,56,50]
[2019,9,56,34,40,64,48,47,66,13,65,64]
[2019,10,50,32,42,60,54,44,62,12,64,56]
[2019,11,64,32,73,70,79,63,78,10,93,62]
[2019,12,61,35,71,72,100,71,72,11,93,63]
[2020,1,49,22,41,52,53,46,66,17,59,48]
[2020,2,50,34,37,54,45,41,65,14,54,47]
[2020,3,47,34,33,48,38,44,61,18,42,47]
[2020,4,60,35,37,73,43,51,72,21,56,57]
[2020,5,62,40,40,72,48,58,81,23,60,62]
[2020,6,52,33,43,66,48,61,66,15,55,57]
[2020,7,55,44,39,53,54,57,82,17,56,47]
[2020,8,58,36,36,50,48,42,76,21,52,50]
[2020,9,55,40,35,51,48,39,74,17,56,60]
[2020,10,66,41,44,57,65,46,76,28,68,65]
[2020,11,65,48,71,58,93,70,100,33,86,63]
[2020,12,53,46,65,58,94,62,74,23,85,61]
[2021,1,41,40,37,47,48,37,61,24,55,62]
[2021,2,41,38,33,54,41,37,59,21,50,61]
[2021,3,51,30,31,50,44,32,68,20,49,61]
[2021,4,55,42,30,56,45,37,73,22,46,56]
[2021,5,51,38,33,52,54,37,67,18,49,53]
[2021,6,45,41,37,58,49,44,61,32,56,55]
[2021,7,47,40,37,50,44,47,64,25,54,51]
[2021,8,55,53,32,50,47,49,77,38,56,52]
[2021,9,50,60,35,53,51,37,66,27,47,60]
[2021,10,47,48,36,53,60,41,63,44,60,61]
[2021,11,61,54,67,61,93,64,95,39,83,72]
[2021,12,52,45,57,59,90,50,78,43,81,68]
[2022,1,51,41,33,52,53,34,65,40,47,59]
[2022,2,50,48,32,50,49,43,70,69,36,57]
[2022,3,61,61,29,50,49,43,85,68,40,65]
[2022,4,69,100,31,66,56,43,92,96,42,79]
[2022,5,56,66,29,59,58,46,77,70,38,80]
[2022,6,54,69,31,61,50,50,63,64,42,81]
[2022,7,57,56,34,54,52,52,66,51,46,69]
[2022,8,62,68,30,47,43,40,68,49,40,69]
[2022,9,63,88,32,57,41,43,73,59,39,78]
[2022,10,58,75,33,55,56,39,64,57,39,69]
[2022,11,73,76,61,72,86,64,96,53,56,76]
[2022,12,66,52,57,66,83,59,79,61,60,76]
[2023,1,60,56,32,49,49,42,65,44,38,58]
[2023,2,60,47,29,49,41,32,58,38,35,63]
[2023,3,63,57,28,44,42,40,65,44,31,71]
[2023,4,72,63,33,58,48,51,76,53,39,84]
[2023,5,70,65,30,59,43,50,69,44,34,83]
[2023,6,64,72,35,68,42,45,73,53,32,100]

{"sheet":"keywords(EE)","index":15,"n_rows":11,"n_cols":4,"rows_kept":11,"cut":false,"hidden":false,"merged":[]}
["id","url","country","brand*"]
[1,"https://trends.google.com/trends/explore?date=all&geo=EE&q=Adidas","EE","Adidas"]
[2,"https://trends.google.com/trends/explore?date=all&geo=EE&q=Bershka","EE","Bershka"]
[3,"https://trends.google.com/trends/explore?date=all&geo=EE&q=Calvin Klein","EE","Calvin Klein"]
[4,"https://trends.google.com/trends/explore?date=all&geo=EE&q=H&M","EE","H&M"]
[5,"https://trends.google.com/trends/explore?date=all&geo=EE&q=Hugo Boss","EE","Hugo Boss"]
[6,"https://trends.google.com/trends/explore?date=all&geo=EE&q=Lacoste","EE","Lacoste"]
[7,"https://trends.google.com/trends/explore?date=all&geo=EE&q=Nike","EE","Nike"]
[8,"https://trends.google.com/trends/explore?date=all&geo=EE&q=Pull and Bear","EE","Pull and Bear"]
[9,"https://trends.google.com/trends/explore?date=all&geo=EE&q=Tommy Hilfiger","EE","Tommy Hilfiger"]
[10,"https://trends.google.com/trends/explore?date=all&geo=EE&q=Zara","EE","Zara"]

{"sheet":"1...10 raw(EE)","index":16,"n_rows":236,"n_cols":12,"rows_kept":236,"cut":false,"hidden":false,"merged":[]}
["Estonia",null,"Adidas","Bershka","Calvin Klein","H&M","Hugo Boss","Lacoste","Nike","Pull and Bear","Tommy Hilfiger","Zara"]
["Year","Month","Point","Point","Point","Point","Point","Point","Point","Point","Point","Point"]
[2004,1,0,0,100,0,0,0,21,100,0,0]
[2004,2,32,0,0,0,100,0,24,0,0,30]
[2004,3,100,0,0,0,33,0,46,0,0,0]
[2004,4,33,76,44,0,45,0,31,0,35,0]
[2004,5,0,0,0,0,0,0,100,0,0,56]
[2004,6,0,100,0,0,0,0,23,0,0,0]
[2004,7,23,0,0,0,0,0,0,0,0,0]
[2004,8,0,0,0,0,41,96,25,0,0,0]
[2004,9,34,0,0,45,16,0,0,0,0,0]
[2004,10,0,0,0,60,0,47,52,0,100,0]
[2004,11,0,0,0,0,0,0,13,0,0,0]
[2004,12,27,51,34,0,80,0,0,0,55,26]
[2005,1,14,0,36,0,0,0,12,0,20,0]
[2005,2,38,0,0,0,33,0,38,0,0,0]
[2005,3,14,0,21,0,0,0,18,0,22,22]
[2005,4,33,0,33,0,28,0,34,0,0,0]
[2005,5,0,0,0,0,15,0,16,33,0,0]
[2005,6,0,0,0,37,0,0,8,0,47,0]
[2005,7,0,0,0,62,0,0,14,91,0,30]
[2005,8,0,0,0,0,18,0,27,0,0,0]
[2005,9,0,31,0,0,0,0,11,0,0,43]
[2005,10,0,56,0,0,41,46,14,0,0,0]
[2005,11,17,0,0,0,35,0,15,27,0,0]
[2005,12,0,0,0,0,23,100,0,0,0,43]
[2006,1,12,0,0,0,12,23,15,0,0,20]
[2006,2,0,0,0,0,0,0,25,0,15,35]
[2006,3,0,28,0,0,0,0,8,0,0,30]
[2006,4,0,0,20,0,15,78,13,0,36,0]
[2006,5,14,45,0,0,9,39,17,0,0,20]
[2006,6,12,0,51,0,0,44,19,0,25,34]
[2006,7,32,0,0,0,45,50,32,0,0,0]
[2006,8,33,36,17,0,0,87,18,0,21,12]
[2006,9,0,0,0,0,18,0,25,0,18,0]
[2006,10,7,0,0,0,0,58,13,0,0,0]
[2006,11,17,0,0,0,19,0,18,0,0,0]
[2006,12,6,0,15,0,8,0,19,0,0,0]
[2007,1,10,0,0,21,7,0,9,0,0,0]
[2007,2,15,0,0,21,9,16,17,0,0,21]
[2007,3,15,0,10,0,19,0,17,0,0,0]
[2007,4,6,20,12,0,11,15,18,0,23,11]
[2007,5,10,0,26,46,11,38,12,0,0,18]
[2007,6,0,0,17,19,18,26,10,0,0,13]
[2007,7,17,0,13,0,0,25,28,0,0,18]
[2007,8,17,19,10,0,12,32,16,0,0,23]
[2007,9,7,0,18,0,18,16,18,42,7,18]
[2007,10,14,0,0,45,10,10,12,0,0,21]
[2007,11,10,23,0,0,15,0,13,0,0,16]
[2007,12,11,12,17,0,24,27,8,0,0,18]
[2008,1,14,21,13,9,7,11,18,15,20,9]
[2008,2,16,26,0,0,5,19,19,0,0,24]
[2008,3,11,26,24,0,15,25,23,0,0,16]
[2008,4,19,0,22,0,9,27,24,0,8,0]
[2008,5,3,17,20,9,0,0,13,0,0,6]
[2008,6,24,16,0,0,10,16,29,0,16,10]
[2008,7,0,0,41,0,0,20,16,0,0,21]
[2008,8,16,0,16,0,10,0,25,0,6,0]
[2008,9,17,13,12,14,7,0,19,0,0,20]
[2008,10,9,12,0,7,9,0,16,0,0,14]
[2008,11,22,0,0,0,7,15,18,0,0,0]
[2008,12,0,0,15,7,26,8,14,0,8,8]
[2009,1,11,0,0,0,4,10,24,0,0,13]
[2009,2,0,10,0,10,0,0,15,7,6,8]
[2009,3,9,0,12,10,7,19,17,0,0,19]
[2009,4,8,11,5,0,4,0,22,6,0,0]
[2009,5,13,11,12,0,8,14,18,6,0,20]
[2009,6,21,21,6,0,11,20,17,0,12,13]
[2009,7,8,26,7,10,7,7,14,0,0,0]
[2009,8,18,14,18,0,0,22,23,0,0,17]
[2009,9,18,20,12,0,19,25,22,0,4,14]
[2009,10,13,6,5,0,5,11,17,0,7,14]
[2009,11,11,38,5,0,12,17,13,0,0,10]
[2009,12,9,0,9,11,11,13,22,0,6,16]
[2010,1,14,12,14,0,6,8,15,6,0,6]
[2010,2,9,0,12,12,4,7,9,0,11,12]
[2010,3,10,8,13,0,7,0,16,9,4,13]
[2010,4,12,17,7,8,4,21,15,3,11,13]
[2010,5,14,14,8,5,0,6,18,9,0,21]
[2010,6,24,17,20,0,7,0,22,5,0,18]
[2010,7,21,9,13,0,3,21,17,0,12,17]
[2010,8,19,0,15,0,8,8,21,6,0,14]
[2010,9,10,16,14,7,6,6,16,9,0,19]
[2010,10,7,23,7,0,4,0,15,6,6,18]
[2010,11,10,9,11,0,10,12,15,4,6,20]
[2010,12,9,9,17,0,11,0,16,4,0,14]
[2011,1,12,11,10,0,14,7,17,3,0,24]
[2011,2,12,17,7,0,9,6,16,0,3,24]
[2011,3,15,15,10,0,4,20,16,5,8,18]
[2011,4,12,11,5,0,4,15,24,0,6,13]
[2011,5,13,5,4,8,4,21,21,0,3,27]
[2011,6,16,6,10,0,6,9,14,0,6,23]
[2011,7,14,11,5,0,7,24,15,0,0,11]
[2011,8,18,15,5,5,4,19,21,5,3,29]
[2011,9,18,22,7,5,7,29,17,5,10,30]
[2011,10,9,5,8,3,11,13,16,8,4,23]
[2011,11,12,14,26,10,10,5,12,3,2,26]
[2011,12,7,20,25,23,10,25,14,5,5,24]
[2012,1,8,15,19,0,6,6,13,3,10,16]
[2012,2,11,5,3,0,8,12,19,6,4,21]
[2012,3,15,15,12,3,6,17,19,7,5,30]
[2012,4,15,25,19,0,4,14,20,10,8,13]
[2012,5,17,15,11,0,8,5,17,4,4,23]
[2012,6,20,26,3,0,5,14,19,10,6,21]
[2012,7,17,19,6,13,8,20,16,0,8,23]
[2012,8,16,17,5,8,9,17,25,2,6,32]
[2012,9,13,17,8,0,7,23,19,7,6,31]
[2012,10,12,18,17,3,9,15,13,6,4,29]
[2012,11,10,19,9,7,8,8,14,6,5,20]
[2012,12,14,23,10,0,14,0,13,6,11,23]
[2013,1,10,15,12,0,10,8,17,2,2,18]
[2013,2,9,13,13,0,5,11,19,4,12,32]
[2013,3,10,23,6,0,10,9,20,4,9,24]
[2013,4,16,18,11,0,6,13,24,8,13,31]
[2013,5,13,16,4,7,4,10,22,7,12,24]
[2013,6,11,16,7,0,6,7,18,0,8,16]
[2013,7,13,17,14,4,6,10,17,5,20,30]
[2013,8,19,14,14,0,8,14,22,5,17,19]
[2013,9,13,13,15,6,7,8,17,7,13,29]
[2013,10,11,26,11,3,7,9,14,5,10,18]
[2013,11,10,14,14,2,6,4,14,3,7,14]
[2013,12,7,18,14,0,12,10,16,4,11,24]
[2014,1,9,13,8,7,6,5,16,3,14,19]
[2014,2,12,18,8,0,5,18,18,3,11,18]
[2014,3,14,6,10,9,5,3,24,5,12,18]
[2014,4,11,13,14,0,8,21,23,5,6,21]
[2014,5,15,14,9,0,8,11,23,6,13,19]
[2014,6,16,18,12,0,10,8,20,4,8,23]
[2014,7,11,10,7,3,5,7,22,4,8,21]
[2014,8,12,29,5,0,6,6,23,7,16,25]
[2014,9,15,6,8,4,10,3,22,5,11,14]
[2014,10,14,0,13,2,7,0,19,4,17,21]
[2014,11,9,13,8,5,3,9,15,4,9,23]
[2014,12,11,19,12,9,12,9,16,5,9,18]
[2015,1,12,11,20,9,7,6,20,4,10,23]
[2015,2,11,13,15,2,9,8,19,4,9,20]
[2015,3,16,8,8,0,8,9,29,0,9,25]
[2015,4,16,9,12,5,4,2,26,4,10,26]
[2015,5,20,8,15,6,7,15,24,2,13,27]
[2015,6,15,15,10,0,6,8,21,3,19,31]
[2015,7,19,6,11,6,3,0,25,3,21,19]
[2015,8,16,13,10,3,5,9,21,2,12,25]
[2015,9,14,14,7,0,6,5,23,4,12,25]
[2015,10,16,8,15,0,7,9,18,4,16,32]
[2015,11,17,7,8,0,10,5,20,2,22,26]
[2015,12,15,15,14,6,10,10,15,4,9,30]
[2016,1,20,8,11,4,10,8,24,3,14,21]
[2016,2,27,8,19,0,6,7,26,4,16,25]
[2016,3,28,12,21,6,7,5,38,2,15,30]
[2016,4,40,12,14,4,6,8,38,5,15,52]
[2016,5,26,15,13,6,4,9,32,2,13,45]
[2016,6,26,5,15,5,8,8,26,0,13,61]
[2016,7,31,11,12,4,7,5,31,0,16,45]
[2016,8,32,11,20,3,6,11,28,3,17,45]
[2016,9,34,16,15,0,7,8,29,4,17,55]
[2016,10,28,14,14,5,11,9,20,2,13,46]
[2016,11,23,5,15,0,8,4,18,5,11,53]
[2016,12,19,6,24,0,12,8,22,3,17,58]
[2017,1,25,4,13,2,9,4,23,5,26,46]
[2017,2,27,9,9,0,8,7,26,0,14,49]
[2017,3,37,19,13,0,7,10,29,7,13,59]
[2017,4,33,16,20,3,8,6,29,6,10,53]
[2017,5,29,14,13,0,8,11,31,4,16,65]
[2017,6,28,15,10,0,7,11,25,5,17,51]
[2017,7,32,15,16,0,8,9,25,4,23,48]
[2017,8,32,12,24,0,9,2,30,4,22,56]
[2017,9,27,12,16,0,8,10,30,0,29,61]
[2017,10,32,19,23,5,6,6,22,8,27,62]
[2017,11,22,21,14,7,7,8,22,5,22,68]
[2017,12,28,27,24,4,12,10,24,4,20,73]
[2018,1,23,13,28,3,4,6,24,2,28,53]
[2018,2,22,16,18,6,6,4,23,4,23,46]
[2018,3,29,13,23,0,6,4,31,4,20,63]
[2018,4,37,15,18,0,5,0,35,6,17,64]
[2018,5,32,14,18,0,5,11,32,8,21,58]
[2018,6,26,24,20,0,8,6,27,12,24,59]
[2018,7,40,29,23,2,9,9,29,3,25,58]
[2018,8,35,17,21,4,6,7,35,6,36,70]
[2018,9,30,22,10,2,8,8,37,8,19,73]
[2018,10,22,20,11,8,7,8,21,4,24,61]
[2018,11,21,21,22,8,8,5,25,6,26,77]
[2018,12,19,19,22,0,10,8,24,6,32,73]
[2019,1,21,18,25,8,9,6,21,6,31,52]
[2019,2,20,16,26,3,6,4,30,8,29,55]
[2019,3,26,19,18,4,7,9,37,3,24,59]
[2019,4,30,7,15,2,5,4,37,4,27,71]
[2019,5,25,19,19,3,12,3,33,6,34,66]
[2019,6,22,30,21,2,6,5,31,9,31,82]
[2019,7,31,26,23,0,5,8,35,6,38,53]
[2019,8,24,22,25,0,5,9,41,5,34,81]
[2019,9,24,34,22,2,8,7,37,9,33,67]
[2019,10,21,18,22,6,7,0,30,9,37,82]
[2019,11,20,22,24,3,10,10,29,3,39,80]
[2019,12,16,18,20,0,12,10,27,7,38,87]
[2020,1,19,21,25,0,6,6,28,5,26,57]
[2020,2,17,30,23,5,10,6,33,8,22,65]
[2020,3,18,13,13,3,6,8,44,2,24,52]
[2020,4,27,36,19,0,4,5,50,9,32,77]
[2020,5,29,30,17,4,6,4,49,7,33,84]
[2020,6,27,32,23,2,7,3,40,12,35,78]
[2020,7,24,31,20,2,8,6,41,8,46,62]
[2020,8,22,52,30,5,10,6,45,7,31,100]
[2020,9,18,31,26,4,8,6,43,4,33,85]
[2020,10,17,27,29,2,6,5,36,12,24,77]
[2020,11,15,35,25,2,10,12,39,8,31,90]
[2020,12,15,50,27,0,10,6,30,10,35,83]
[2021,1,11,29,25,0,6,5,33,12,38,80]
[2021,2,17,24,22,2,10,5,32,7,27,64]
[2021,3,19,23,23,0,5,2,43,6,29,71]
[2021,4,22,38,24,2,4,10,51,12,35,67]
[2021,5,21,26,20,0,5,7,48,8,26,65]
[2021,6,18,38,25,0,4,8,38,8,38,75]
[2021,7,16,31,28,4,9,0,37,10,46,63]
[2021,8,20,35,25,5,8,2,56,13,37,81]
[2021,9,19,28,23,2,9,9,44,8,30,58]
[2021,10,16,30,25,2,8,0,38,9,33,79]
[2021,11,21,30,23,7,9,9,37,5,28,63]
[2021,12,17,29,33,0,17,6,35,7,31,86]
[2022,1,19,25,31,77,11,10,38,10,34,58]
[2022,2,15,19,23,71,6,6,38,5,21,50]
[2022,3,22,26,15,93,5,4,53,8,22,64]
[2022,4,26,29,20,97,6,5,53,8,22,64]
[2022,5,21,28,16,81,5,5,48,12,24,75]
[2022,6,23,30,17,97,7,8,44,8,27,68]
[2022,7,20,25,22,82,7,10,48,9,29,59]
[2022,8,23,28,26,97,8,6,52,8,25,56]
[2022,9,18,23,22,96,7,3,49,9,24,68]
[2022,10,21,20,23,80,6,3,47,11,19,61]
[2022,11,22,33,27,99,10,7,47,10,27,77]
[2022,12,19,22,26,100,12,8,38,8,23,65]
[2023,1,16,27,25,78,8,0,39,8,25,59]
[2023,2,18,18,21,69,5,9,41,6,23,53]
[2023,3,25,22,20,65,9,7,48,7,23,62]
[2023,4,29,25,22,82,9,4,60,8,24,62]
[2023,5,26,25,16,82,8,7,50,8,20,67]
[2023,6,19,23,17,87,5,0,50,4,13,71]

{"sheet":"keywords(FI)","index":17,"n_rows":11,"n_cols":4,"rows_kept":11,"cut":false,"hidden":false,"merged":[]}
["id","url","country","brand*"]
[1,"https://trends.google.com/trends/explore?date=all&geo=FI&q=Adidas","FI","Adidas"]
[2,"https://trends.google.com/trends/explore?date=all&geo=FI&q=Bershka","FI","Bershka"]
[3,"https://trends.google.com/trends/explore?date=all&geo=FI&q=Calvin Klein","FI","Calvin Klein"]
[4,"https://trends.google.com/trends/explore?date=all&geo=FI&q=H&M","FI","H&M"]
[5,"https://trends.google.com/trends/explore?date=all&geo=FI&q=Hugo Boss","FI","Hugo Boss"]
[6,"https://trends.google.com/trends/explore?date=all&geo=FI&q=Lacoste","FI","Lacoste"]
[7,"https://trends.google.com/trends/explore?date=all&geo=FI&q=Nike","FI","Nike"]
[8,"https://trends.google.com/trends/explore?date=all&geo=FI&q=Pull and Bear","FI","Pull and Bear"]
[9,"https://trends.google.com/trends/explore?date=all&geo=FI&q=Tommy Hilfiger","FI","Tommy Hilfiger"]
[10,"https://trends.google.com/trends/explore?date=all&geo=FI&q=Zara","FI","Zara"]

{"sheet":"1...10 raw(FI)","index":18,"n_rows":236,"n_cols":12,"rows_kept":236,"cut":false,"hidden":false,"merged":[]}
["Finnland",null,"Adidas","Bershka","Calvin Klein","H&M","Hugo Boss","Lacoste","Nike","Pull and Bear","Tommy Hilfiger","Zara"]
["Year","Month","Point","Point","Point","Point","Point","Point","Point","Point","Point","Point"]
[2004,1,13,0,21,37,49,25,4,0,0,12]
[2004,2,11,0,0,30,32,0,19,0,0,19]
[2004,3,16,0,0,33,59,0,19,0,0,13]
[2004,4,22,0,47,31,30,0,11,0,0,18]
[2004,5,25,0,23,36,53,28,19,0,30,26]
[2004,6,32,45,30,32,0,0,22,0,0,30]
[2004,7,19,0,78,40,54,23,20,0,0,13]
[2004,8,27,58,30,34,0,0,15,0,17,16]
[2004,9,16,0,20,38,0,19,12,0,0,14]
[2004,10,15,0,48,32,22,27,15,0,11,17]
[2004,11,14,0,67,42,43,38,7,0,0,9]
[2004,12,16,0,39,37,42,57,7,0,27,22]
[2005,1,18,0,18,47,37,16,7,0,0,15]
[2005,2,14,0,36,38,28,60,15,0,0,16]
[2005,3,18,0,0,48,86,22,16,0,23,12]
[2005,4,32,0,28,47,20,32,17,0,17,16]
[2005,5,21,0,14,58,33,39,16,0,11,22]
[2005,6,18,0,0,48,19,44,16,0,9,21]
[2005,7,19,0,37,61,0,33,14,0,14,12]
[2005,8,23,55,0,56,58,42,18,0,15,22]
[2005,9,21,37,0,50,24,38,8,0,11,19]
[2005,10,13,0,41,42,43,32,13,0,14,21]
[2005,11,22,0,25,51,47,42,9,66,23,12]
[2005,12,17,0,36,50,98,44,11,0,7,15]
[2006,1,15,0,18,51,34,35,16,0,20,23]
[2006,2,17,26,18,52,39,59,14,0,16,21]
[2006,3,24,0,11,53,19,70,19,0,23,18]
[2006,4,29,0,0,54,43,74,24,0,17,13]
[2006,5,26,0,23,61,22,68,28,31,7,16]
[2006,6,26,26,21,54,29,100,21,0,0,18]
[2006,7,23,0,19,60,40,46,20,0,14,12]
[2006,8,17,0,0,57,37,67,16,0,28,20]
[2006,9,18,20,10,66,13,61,14,0,18,20]
[2006,10,18,0,18,58,33,69,17,0,9,12]
[2006,11,13,19,19,69,61,41,11,0,7,12]
[2006,12,12,13,6,53,23,57,12,0,10,17]
[2007,1,12,0,20,56,42,51,13,0,19,13]
[2007,2,15,10,23,51,29,33,14,49,19,20]
[2007,3,20,0,16,66,36,74,16,0,12,18]
[2007,4,22,0,7,61,21,74,18,0,10,14]
[2007,5,24,12,22,62,27,59,19,0,9,16]
[2007,6,16,0,16,54,35,61,17,0,23,14]
[2007,7,20,25,6,64,27,64,16,28,18,15]
[2007,8,22,0,17,73,23,53,20,0,12,14]
[2007,9,18,0,23,67,35,33,17,0,5,16]
[2007,10,14,0,14,59,43,42,16,0,15,20]
[2007,11,11,10,23,67,30,38,18,0,14,18]
[2007,12,13,0,36,68,49,48,14,38,11,12]
[2008,1,13,0,11,61,41,46,16,20,11,16]
[2008,2,18,20,4,60,18,53,19,0,23,20]
[2008,3,19,0,15,69,41,68,19,0,12,15]
[2008,4,20,16,18,74,41,74,20,0,17,20]
[2008,5,20,0,17,77,41,54,23,0,15,17]
[2008,6,19,10,12,71,21,50,20,22,8,12]
[2008,7,19,12,18,71,25,44,19,0,19,10]
[2008,8,18,0,15,73,33,64,25,20,17,20]
[2008,9,22,14,15,70,33,44,16,0,18,24]
[2008,10,17,10,17,62,35,46,18,0,9,20]
[2008,11,15,10,27,72,44,46,16,69,18,18]
[2008,12,14,0,27,67,42,48,15,19,20,16]
[2009,1,17,0,14,72,30,36,21,0,9,15]
[2009,2,15,24,18,67,27,51,18,0,17,23]
[2009,3,22,28,13,80,31,51,23,0,17,23]
[2009,4,24,19,13,78,9,61,22,25,14,21]
[2009,5,22,32,24,81,25,54,25,0,11,21]
[2009,6,18,23,14,71,31,42,24,0,10,21]
[2009,7,22,65,15,75,28,54,25,0,16,17]
[2009,8,24,19,22,75,39,44,24,0,14,24]
[2009,9,19,17,19,76,27,48,23,0,8,20]
[2009,10,15,0,20,71,20,22,16,21,15,24]
[2009,11,12,16,25,71,26,40,18,17,11,21]
[2009,12,17,0,35,78,28,32,18,0,21,22]
[2010,1,15,19,16,81,22,30,19,0,7,23]
[2010,2,15,32,21,75,22,30,17,40,10,28]
[2010,3,22,45,15,90,26,30,21,11,15,24]
[2010,4,26,23,18,85,31,41,24,0,12,22]
[2010,5,21,18,16,90,30,34,22,0,12,29]
[2010,6,26,38,19,76,17,46,22,0,15,27]
[2010,7,22,29,19,85,38,38,26,25,6,19]
[2010,8,22,49,23,85,24,21,26,23,14,22]
[2010,9,19,28,23,85,25,26,21,20,13,34]
[2010,10,16,22,26,79,20,15,20,22,19,33]
[2010,11,16,13,20,89,34,25,19,14,14,31]
[2010,12,17,13,30,83,54,18,17,0,24,29]
[2011,1,17,23,22,80,28,21,19,29,11,29]
[2011,2,17,5,26,72,31,23,19,0,9,28]
[2011,3,24,18,17,88,32,27,21,22,13,35]
[2011,4,25,35,20,90,25,26,26,21,17,37]
[2011,5,19,29,16,100,21,23,21,41,14,44]
[2011,6,20,38,27,85,29,22,21,18,18,40]
[2011,7,24,42,21,84,28,28,23,23,18,40]
[2011,8,24,26,17,89,25,32,25,30,17,44]
[2011,9,24,32,26,85,51,19,20,20,21,52]
[2011,10,19,39,14,80,28,15,17,41,22,44]
[2011,11,18,38,27,88,35,27,17,10,25,42]
[2011,12,19,25,32,81,39,29,20,29,23,48]
[2012,1,17,28,30,75,35,21,21,31,23,45]
[2012,2,17,31,19,77,33,13,19,23,22,43]
[2012,3,24,28,23,92,30,24,24,23,19,57]
[2012,4,26,38,26,88,27,26,25,34,25,48]
[2012,5,25,40,19,92,29,20,25,60,26,58]
[2012,6,27,54,24,80,28,24,24,23,24,59]
[2012,7,22,76,31,77,32,12,23,50,27,54]
[2012,8,29,44,21,85,20,20,24,19,28,63]
[2012,9,22,37,29,84,21,14,22,35,29,60]
[2012,10,20,43,27,75,30,13,19,45,37,52]
[2012,11,18,25,28,77,43,10,16,34,31,48]
[2012,12,19,22,34,82,56,23,15,0,41,53]
[2013,1,15,33,22,72,26,9,20,23,26,47]
[2013,2,18,52,22,75,30,12,21,33,24,53]
[2013,3,23,36,22,77,39,19,23,18,28,48]
[2013,4,28,43,18,79,43,21,26,21,34,52]
[2013,5,24,44,20,86,41,17,22,34,30,54]
[2013,6,24,64,17,82,33,17,24,9,32,57]
[2013,7,24,46,14,78,27,30,24,36,34,51]
[2013,8,27,38,23,79,27,17,26,30,31,52]
[2013,9,22,39,23,76,32,16,26,28,29,57]
[2013,10,22,48,16,70,33,15,21,48,30,53]
[2013,11,19,29,11,75,27,12,22,35,34,48]
[2013,12,20,22,27,71,57,20,24,0,50,51]
[2014,1,22,16,20,66,26,13,27,16,29,43]
[2014,2,25,34,17,67,32,9,31,22,26,44]
[2014,3,29,49,24,78,23,12,49,37,27,51]
[2014,4,32,61,20,78,32,16,49,31,27,47]
[2014,5,29,36,18,88,23,16,38,29,33,54]
[2014,6,33,46,23,72,18,18,42,46,34,49]
[2014,7,28,30,19,73,35,28,38,50,36,47]
[2014,8,31,36,18,75,33,8,40,64,33,59]
[2014,9,29,31,23,74,43,15,36,28,31,55]
[2014,10,27,41,19,74,41,20,30,42,32,51]
[2014,11,23,31,23,77,50,12,28,50,27,53]
[2014,12,27,28,33,72,53,11,28,38,51,49]
[2015,1,28,33,61,67,27,16,40,17,32,47]
[2015,2,31,22,36,69,29,18,43,33,30,48]
[2015,3,41,33,35,77,43,13,65,28,29,46]
[2015,4,44,30,27,74,34,16,55,26,30,49]
[2015,5,37,37,31,90,27,21,53,41,31,56]
[2015,6,37,46,33,74,33,22,50,54,35,50]
[2015,7,40,53,41,67,34,19,50,66,46,56]
[2015,8,48,35,34,70,26,14,56,50,29,57]
[2015,9,48,27,27,75,38,7,48,27,35,67]
[2015,10,42,37,36,72,35,8,36,41,33,62]
[2015,11,46,29,50,85,42,11,36,35,37,52]
[2015,12,48,26,82,73,73,16,38,35,58,57]
[2016,1,53,15,60,66,38,12,40,33,39,48]
[2016,2,62,28,57,69,39,15,47,30,31,48]
[2016,3,74,52,55,67,32,10,63,36,34,78]
[2016,4,80,44,55,74,35,11,67,18,37,71]
[2016,5,62,51,45,77,41,18,53,44,34,83]
[2016,6,60,57,56,70,38,18,48,42,42,94]
[2016,7,76,68,62,67,35,13,52,49,48,83]
[2016,8,77,37,52,74,40,16,56,53,48,84]
[2016,9,63,46,54,68,42,12,42,49,39,81]
[2016,10,55,47,48,72,53,11,38,45,54,83]
[2016,11,60,39,68,80,59,10,34,21,56,76]
[2016,12,66,35,96,70,75,14,37,54,65,92]
[2017,1,66,44,60,62,39,10,38,37,47,62]
[2017,2,74,45,55,63,36,10,41,29,50,65]
[2017,3,89,53,73,63,35,14,58,52,41,100]
[2017,4,86,64,52,63,47,13,54,36,40,83]
[2017,5,83,71,72,70,39,16,46,60,48,84]
[2017,6,76,82,67,66,35,22,42,76,55,96]
[2017,7,86,74,76,66,38,13,49,66,62,83]
[2017,8,88,67,59,60,51,11,48,47,60,68]
[2017,9,78,60,60,80,40,11,40,51,59,80]
[2017,10,64,71,59,68,48,8,34,67,66,77]
[2017,11,72,50,67,80,63,12,37,34,62,76]
[2017,12,72,48,87,75,83,14,35,43,79,75]
[2018,1,66,38,57,60,53,9,35,24,61,60]
[2018,2,61,38,51,67,30,12,35,44,48,59]
[2018,3,80,38,52,63,42,14,42,65,51,66]
[2018,4,100,48,52,66,46,18,59,0,51,82]
[2018,5,80,63,67,81,37,19,42,41,54,77]
[2018,6,78,67,57,57,49,19,42,53,55,76]
[2018,7,83,71,74,71,43,14,42,77,67,68]
[2018,8,79,40,66,63,43,12,45,46,62,60]
[2018,9,72,58,56,65,48,8,47,60,59,67]
[2018,10,63,67,57,59,52,6,36,66,63,60]
[2018,11,67,52,62,75,71,10,38,60,71,65]
[2018,12,70,53,90,69,86,16,34,29,94,62]
[2019,1,59,60,56,53,40,8,34,47,55,55]
[2019,2,59,59,59,51,41,12,37,49,52,53]
[2019,3,78,65,59,59,45,14,46,28,58,55]
[2019,4,85,81,55,65,44,16,52,54,51,58]
[2019,5,71,59,43,75,42,15,44,53,59,67]
[2019,6,66,79,51,72,44,14,41,74,63,74]
[2019,7,70,86,56,60,48,21,44,83,68,76]
[2019,8,70,78,53,59,50,14,49,68,71,67]
[2019,9,60,72,44,55,53,14,37,48,64,67]
[2019,10,54,71,51,58,52,6,37,72,59,63]
[2019,11,52,65,61,62,63,10,38,46,86,65]
[2019,12,54,43,78,65,100,7,38,44,100,62]
[2020,1,50,49,53,46,46,12,40,37,55,49]
[2020,2,53,47,52,52,50,9,49,41,55,59]
[2020,3,46,44,30,40,31,9,45,28,39,43]
[2020,4,61,46,41,51,32,7,53,27,40,46]
[2020,5,77,63,46,73,41,9,70,42,43,71]
[2020,6,58,62,51,76,32,11,50,38,53,70]
[2020,7,64,48,59,55,46,15,61,24,68,67]
[2020,8,63,47,47,56,50,10,58,41,50,64]
[2020,9,53,63,43,54,37,10,53,31,51,66]
[2020,10,53,58,47,64,42,11,50,21,58,66]
[2020,11,61,64,73,58,78,10,50,35,71,64]
[2020,12,50,47,100,58,89,16,46,38,87,64]
[2021,1,42,30,52,49,34,10,41,23,51,62]
[2021,2,36,40,48,47,37,12,40,25,45,59]
[2021,3,53,38,44,47,42,12,55,35,39,57]
[2021,4,66,49,48,60,37,8,66,28,52,60]
[2021,5,62,40,43,61,36,12,59,31,47,64]
[2021,6,51,48,47,73,44,14,47,30,60,79]
[2021,7,68,34,45,61,54,12,52,40,58,66]
[2021,8,61,45,51,54,51,10,62,16,53,60]
[2021,9,55,33,57,59,47,4,53,45,57,60]
[2021,10,70,42,55,51,56,8,41,36,59,70]
[2021,11,57,46,79,60,81,11,50,45,71,72]
[2021,12,51,47,82,57,77,13,47,40,81,69]
[2022,1,43,53,54,47,42,9,49,40,50,60]
[2022,2,41,48,41,43,37,12,48,35,42,53]
[2022,3,56,52,44,46,44,14,67,58,47,60]
[2022,4,62,60,50,50,53,16,79,55,47,76]
[2022,5,58,67,46,54,45,13,73,61,45,89]
[2022,6,54,60,53,58,60,14,63,37,50,89]
[2022,7,56,85,67,48,54,16,72,77,51,69]
[2022,8,57,50,58,46,47,14,73,49,49,63]
[2022,9,52,48,59,50,68,11,69,54,49,68]
[2022,10,46,70,59,48,47,12,61,42,44,67]
[2022,11,49,50,82,51,83,11,73,58,56,66]
[2022,12,42,47,95,51,100,10,69,41,73,67]
[2023,1,43,40,65,44,66,14,62,47,52,62]
[2023,2,43,42,42,41,50,14,63,61,48,64]
[2023,3,49,56,52,46,49,14,68,48,42,62]
[2023,4,70,59,48,49,44,17,100,52,52,80]
[2023,5,58,76,57,52,58,19,86,63,49,88]
[2023,6,55,100,54,48,61,16,68,100,41,81]

{"sheet":"keywords(FR)","index":19,"n_rows":11,"n_cols":4,"rows_kept":11,"cut":false,"hidden":false,"merged":[]}
["id","url","country","brand*"]
[1,"https://trends.google.com/trends/explore?date=all&geo=FR&q=Adidas","FR","Adidas"]
[2,"https://trends.google.com/trends/explore?date=all&geo=FR&q=Bershka","FR","Bershka"]
[3,"https://trends.google.com/trends/explore?date=all&geo=FR&q=Calvin Klein","FR","Calvin Klein"]
[4,"https://trends.google.com/trends/explore?date=all&geo=FR&q=H&M","FR","H&M"]
[5,"https://trends.google.com/trends/explore?date=all&geo=FR&q=Hugo Boss","FR","Hugo Boss"]
[6,"https://trends.google.com/trends/explore?date=all&geo=FR&q=Lacoste","FR","Lacoste"]
[7,"https://trends.google.com/trends/explore?date=all&geo=FR&q=Nike","FR","Nike"]
[8,"https://trends.google.com/trends/explore?date=all&geo=FR&q=Pull and Bear","FR","Pull and Bear"]
[9,"https://trends.google.com/trends/explore?date=all&geo=FR&q=Tommy Hilfiger","FR","Tommy Hilfiger"]
[10,"https://trends.google.com/trends/explore?date=all&geo=FR&q=Zara","FR","Zara"]

{"sheet":"1...10 raw(FR)","index":20,"n_rows":236,"n_cols":12,"rows_kept":236,"cut":false,"hidden":false,"merged":[]}
["France",null,"Adidas","Bershka","Calvin Klein","H&M","Hugo Boss","Lacoste","Nike","Pull and Bear","Tommy Hilfiger","Zara"]
["Year","Month","Point","Point","Point","Point","Point","Point","Point","Point","Point","Point"]
[2004,1,24,0,26,11,45,13,19,0,3,12]
[2004,2,21,3,30,12,34,12,18,2,6,11]
[2004,3,29,6,24,15,33,12,23,0,3,12]
[2004,4,29,3,24,12,39,14,31,4,1,13]
[2004,5,30,0,33,16,32,13,24,0,2,11]
[2004,6,37,2,23,17,32,18,26,4,0,11]
[2004,7,28,5,32,10,35,14,20,5,6,9]
[2004,8,32,0,26,12,29,13,23,0,4,14]
[2004,9,27,3,26,21,37,17,20,0,3,14]
[2004,10,26,2,30,24,48,15,22,0,5,14]
[2004,11,30,1,34,26,54,17,20,0,7,14]
[2004,12,31,3,49,20,58,23,21,2,3,14]
[2005,1,31,2,19,15,52,14,22,0,4,16]
[2005,2,26,3,24,13,34,13,20,2,4,11]
[2005,3,29,4,20,16,43,11,22,0,3,13]
[2005,4,34,3,26,17,36,13,24,0,4,14]
[2005,5,30,3,34,17,35,16,24,0,2,13]
[2005,6,31,4,31,19,46,19,22,0,3,13]
[2005,7,29,2,29,15,42,13,19,0,4,11]
[2005,8,39,4,31,19,34,14,24,1,5,15]
[2005,9,35,4,28,26,36,15,21,1,3,17]
[2005,10,31,3,31,24,45,14,23,0,4,17]
[2005,11,32,5,39,30,46,16,23,2,1,15]
[2005,12,32,6,46,26,65,21,24,1,4,15]
[2006,1,29,5,30,17,40,14,20,0,5,15]
[2006,2,27,6,36,13,32,12,22,1,3,12]
[2006,3,30,4,27,20,40,12,25,1,3,18]
[2006,4,37,7,27,22,37,14,40,2,2,15]
[2006,5,41,6,33,21,33,16,36,0,3,15]
[2006,6,52,7,29,22,33,18,31,0,2,13]
[2006,7,46,7,32,16,30,15,24,1,2,12]
[2006,8,40,8,31,23,30,16,26,1,3,19]
[2006,9,38,9,30,23,32,16,25,0,4,17]
[2006,10,30,8,29,28,43,14,20,1,4,18]
[2006,11,28,8,38,32,54,15,18,1,4,17]
[2006,12,28,8,49,30,54,17,18,1,5,18]
[2007,1,28,8,31,19,36,13,17,0,4,16]
[2007,2,24,7,28,15,31,11,15,1,3,13]
[2007,3,27,6,24,23,30,11,15,2,3,15]
[2007,4,28,8,33,24,36,14,17,1,3,14]
[2007,5,26,8,29,23,35,15,17,3,3,14]
[2007,6,26,7,28,21,31,17,17,1,3,15]
[2007,7,28,8,30,17,26,14,17,1,3,13]
[2007,8,32,9,28,22,31,16,21,2,3,17]
[2007,9,37,10,33,27,36,16,21,3,4,21]
[2007,10,31,9,30,26,39,13,16,3,4,20]
[2007,11,26,7,36,27,45,13,14,2,3,18]
[2007,12,32,9,51,25,53,18,15,3,3,20]
[2008,1,32,10,30,19,38,13,16,1,4,19]
[2008,2,29,7,25,18,30,12,15,1,3,15]
[2008,3,27,8,24,19,30,12,15,2,3,15]
[2008,4,28,7,32,20,32,13,15,2,3,16]
[2008,5,29,7,28,21,27,16,16,2,3,15]
[2008,6,32,8,33,19,32,17,19,3,4,15]
[2008,7,30,6,27,14,24,16,18,3,4,11]
[2008,8,35,9,29,20,23,13,21,4,4,16]
[2008,9,35,10,35,23,32,16,18,4,5,19]
[2008,10,29,10,36,20,38,13,15,4,4,19]
[2008,11,30,9,39,22,41,13,15,4,4,19]
[2008,12,31,10,54,21,54,17,16,4,5,20]
[2009,1,30,9,36,17,43,14,17,4,6,18]
[2009,2,26,7,28,15,33,12,15,3,4,13]
[2009,3,28,8,28,17,30,12,15,5,4,14]
[2009,4,28,9,30,19,32,14,15,6,4,15]
[2009,5,28,8,28,20,31,15,16,5,4,14]
[2009,6,28,9,33,19,34,17,16,5,5,14]
[2009,7,27,8,29,14,34,16,16,4,4,11]
[2009,8,33,8,34,17,36,13,21,7,5,15]
[2009,9,33,10,32,21,32,14,17,7,5,17]
[2009,10,30,11,35,23,37,13,16,8,5,19]
[2009,11,32,9,42,28,39,13,16,8,6,18]
[2009,12,33,10,57,30,57,16,18,9,8,20]
[2010,1,32,11,36,21,41,14,18,6,7,20]
[2010,2,28,8,27,22,31,11,15,5,5,16]
[2010,3,30,9,32,25,33,11,16,5,6,18]
[2010,4,30,11,28,27,36,13,16,6,6,19]
[2010,5,32,10,31,28,36,15,19,6,6,18]
[2010,6,32,9,25,26,35,15,18,6,7,18]
[2010,7,31,10,33,20,34,17,18,6,7,15]
[2010,8,41,10,28,23,32,14,22,8,7,19]
[2010,9,35,12,30,30,37,14,19,10,7,40]
[2010,10,34,14,34,30,36,12,20,11,7,39]
[2010,11,32,13,41,38,43,14,21,13,8,38]
[2010,12,36,15,57,35,58,17,22,14,10,40]
[2011,1,45,14,36,24,46,17,29,10,10,41]
[2011,2,34,10,29,24,38,13,22,8,8,30]
[2011,3,35,11,28,29,32,16,21,9,8,33]
[2011,4,34,12,28,34,34,17,20,11,8,37]
[2011,5,27,12,30,40,36,18,20,8,8,35]
[2011,6,33,14,33,33,42,21,21,11,10,46]
[2011,7,39,11,31,26,37,19,21,9,10,38]
[2011,8,45,15,37,33,33,17,24,12,9,43]
[2011,9,46,24,31,32,32,17,25,21,9,48]
[2011,10,42,32,31,39,50,16,22,31,10,52]
[2011,11,42,36,42,47,52,18,21,34,11,52]
[2011,12,50,42,64,50,72,22,25,49,18,58]
[2012,1,50,51,38,42,61,22,26,47,16,62]
[2012,2,37,47,36,35,41,17,21,36,11,44]
[2012,3,36,48,32,49,35,17,21,36,10,51]
[2012,4,44,47,31,56,40,18,22,46,11,49]
[2012,5,36,48,32,62,41,18,22,41,13,48]
[2012,6,41,53,36,55,43,23,24,47,14,54]
[2012,7,46,54,38,41,47,25,26,42,14,48]
[2012,8,54,62,37,44,39,19,28,55,12,51]
[2012,9,54,56,33,56,44,19,28,66,12,65]
[2012,10,42,64,34,57,42,18,24,68,13,66]
[2012,11,40,58,39,56,55,17,23,75,15,62]
[2012,12,49,66,58,59,71,22,28,88,19,67]
[2013,1,49,76,38,54,65,20,30,83,20,82]
[2013,2,35,49,30,41,45,19,24,64,13,52]
[2013,3,34,53,27,51,43,15,24,69,12,51]
[2013,4,35,57,26,62,47,20,25,76,14,57]
[2013,5,35,56,28,67,45,19,27,60,12,52]
[2013,6,41,71,33,62,52,26,28,78,17,61]
[2013,7,43,60,36,47,50,26,29,64,18,51]
[2013,8,44,56,35,53,39,21,36,68,13,54]
[2013,9,44,54,26,59,46,17,37,68,15,61]
[2013,10,41,59,26,59,47,18,35,74,15,66]
[2013,11,40,58,36,66,55,17,36,78,18,70]
[2013,12,44,61,53,63,74,22,44,75,21,70]
[2014,1,53,64,38,52,63,22,51,82,21,76]
[2014,2,38,44,28,44,47,26,41,56,12,50]
[2014,3,40,51,27,86,42,21,42,57,13,56]
[2014,4,48,55,26,88,45,26,47,62,14,58]
[2014,5,45,47,29,82,44,25,48,58,13,58]
[2014,6,49,61,29,84,53,30,53,66,17,64]
[2014,7,59,49,37,64,57,33,51,61,18,55]
[2014,8,65,52,30,72,41,25,58,65,14,59]
[2014,9,58,53,27,72,42,21,53,66,12,60]
[2014,10,53,52,30,78,45,21,48,67,15,69]
[2014,11,56,58,36,90,55,28,51,79,18,72]
[2014,12,63,52,51,90,70,30,53,73,21,76]
[2015,1,79,61,49,81,57,29,59,79,23,80]
[2015,2,63,44,37,62,45,22,46,54,15,56]
[2015,3,72,39,33,74,37,22,47,54,13,60]
[2015,4,83,58,34,90,40,25,50,65,15,67]
[2015,5,76,51,32,88,41,26,47,57,15,60]
[2015,6,74,60,37,100,50,39,48,68,21,80]
[2015,7,72,52,44,77,49,36,48,58,22,56]
[2015,8,94,54,41,73,42,28,59,62,17,58]
[2015,9,87,50,37,76,50,26,53,60,17,71]
[2015,10,74,66,44,87,52,32,51,72,20,79]
[2015,11,78,56,58,94,56,29,50,71,20,75]
[2015,12,91,60,76,85,75,40,59,76,27,80]
[2016,1,98,69,67,83,64,39,68,75,26,88]
[2016,2,75,39,55,57,42,26,50,43,15,54]
[2016,3,85,48,43,69,38,25,54,47,15,58]
[2016,4,84,54,44,81,41,30,53,55,17,65]
[2016,5,85,50,49,81,41,38,53,49,18,66]
[2016,6,90,66,53,84,50,45,64,65,25,88]
[2016,7,86,52,58,74,44,44,58,51,22,67]
[2016,8,95,58,53,67,35,38,63,56,19,62]
[2016,9,86,50,45,61,41,32,58,53,20,71]
[2016,10,80,63,53,82,47,30,58,76,31,91]
[2016,11,83,65,67,76,67,40,60,70,36,93]
[2016,12,94,63,84,81,76,47,64,69,40,86]
[2017,1,100,74,71,80,58,44,67,79,40,96]
[2017,2,80,50,64,56,46,31,54,47,31,62]
[2017,3,79,54,49,61,38,31,53,51,28,68]
[2017,4,87,63,58,65,41,36,55,64,31,72]
[2017,5,71,60,61,70,39,39,53,58,33,68]
[2017,6,79,78,78,86,50,55,62,67,40,79]
[2017,7,86,66,76,73,50,53,67,70,47,67]
[2017,8,89,67,71,60,44,43,69,65,39,62]
[2017,9,83,73,54,70,49,41,65,71,37,86]
[2017,10,74,70,58,67,54,40,56,72,39,84]
[2017,11,88,100,73,77,72,51,70,100,57,100]
[2017,12,80,78,90,78,82,59,69,84,65,92]
[2018,1,91,79,77,84,55,53,69,78,55,95]
[2018,2,69,51,65,58,47,42,55,55,41,63]
[2018,3,71,56,56,55,43,43,56,53,39,66]
[2018,4,77,68,67,73,44,46,56,65,43,70]
[2018,5,71,61,58,63,44,45,52,58,43,64]
[2018,6,78,80,67,72,53,57,62,77,51,72]
[2018,7,79,71,77,69,49,58,81,66,51,59]
[2018,8,82,75,71,62,40,48,79,65,56,57]
[2018,9,88,65,57,61,41,45,72,66,42,68]
[2018,10,74,77,64,70,52,42,61,70,41,73]
[2018,11,79,95,76,78,67,64,75,83,69,90]
[2018,12,76,82,84,73,100,68,78,67,68,79]
[2019,1,77,80,77,64,59,57,73,76,57,84]
[2019,2,66,57,63,48,49,44,58,50,41,55]
[2019,3,69,52,60,48,44,40,64,51,41,60]
[2019,4,72,57,61,53,42,42,63,56,44,60]
[2019,5,69,60,60,57,45,47,63,53,40,61]
[2019,6,72,78,64,67,52,61,63,65,46,71]
[2019,7,74,54,71,63,49,61,66,63,50,59]
[2019,8,81,64,66,53,42,50,79,64,41,58]
[2019,9,68,59,55,60,43,48,65,58,43,65]
[2019,10,64,69,54,61,52,48,61,64,44,77]
[2019,11,76,77,77,65,70,65,78,75,78,87]
[2019,12,73,73,80,68,83,75,76,74,83,80]
[2020,1,72,67,74,58,57,60,80,70,65,82]
[2020,2,57,47,60,44,44,47,60,54,41,56]
[2020,3,42,38,50,33,27,31,46,39,29,41]
[2020,4,54,47,66,51,29,35,53,53,34,52]
[2020,5,64,66,78,68,38,52,68,65,44,71]
[2020,6,56,61,71,61,44,61,63,65,44,64]
[2020,7,65,68,79,69,52,74,69,66,58,71]
[2020,8,75,67,71,57,45,68,83,62,49,63]
[2020,9,65,62,56,56,41,57,67,58,43,69]
[2020,10,56,70,54,61,51,54,66,68,48,73]
[2020,11,60,70,89,56,73,70,82,69,83,78]
[2020,12,65,84,93,65,86,99,85,78,100,89]
[2021,1,57,72,72,54,57,68,71,71,65,78]
[2021,2,53,63,67,46,45,56,66,65,51,63]
[2021,3,54,62,56,46,41,49,62,49,38,60]
[2021,4,58,70,58,47,36,47,64,51,42,57]
[2021,5,58,73,60,54,43,52,67,53,42,67]
[2021,6,51,72,56,61,52,59,59,60,44,67]
[2021,7,60,73,67,56,56,62,66,60,51,63]
[2021,8,70,72,61,48,44,58,84,63,40,61]
[2021,9,62,64,55,48,41,53,71,59,40,64]
[2021,10,59,79,59,60,51,62,70,77,47,81]
[2021,11,64,94,77,62,67,88,85,86,77,90]
[2021,12,59,92,100,61,81,100,92,86,96,88]
[2022,1,62,82,76,55,58,79,78,76,57,76]
[2022,2,56,62,61,41,52,62,66,51,47,57]
[2022,3,56,72,50,41,45,56,66,54,34,60]
[2022,4,59,69,51,51,46,62,71,59,37,63]
[2022,5,61,69,60,59,49,71,74,60,45,75]
[2022,6,66,73,59,55,53,72,69,69,46,74]
[2022,7,62,69,67,54,52,70,71,56,44,64]
[2022,8,76,70,59,47,40,60,93,56,38,62]
[2022,9,70,66,56,53,44,60,88,59,39,70]
[2022,10,65,72,54,56,48,57,80,60,40,73]
[2022,11,78,78,72,60,66,77,100,76,69,84]
[2022,12,72,84,74,65,75,91,99,80,77,85]
[2023,1,67,70,70,51,47,67,88,66,51,72]
[2023,2,57,49,49,38,43,55,69,47,40,58]
[2023,3,58,49,47,39,39,49,67,50,29,60]
[2023,4,73,69,49,48,43,64,80,55,31,74]
[2023,5,64,65,51,50,44,57,68,54,36,75]
[2023,6,62,67,50,49,49,62,64,59,41,73]

{"sheet":"keywords(GR)","index":21,"n_rows":11,"n_cols":4,"rows_kept":11,"cut":false,"hidden":false,"merged":[]}
["id","url","country","brand*"]
[1,"https://trends.google.com/trends/explore?date=all&geo=GR&q=Adidas","GR","Adidas"]
[2,"https://trends.google.com/trends/explore?date=all&geo=GR&q=Bershka","GR","Bershka"]
[3,"https://trends.google.com/trends/explore?date=all&geo=GR&q=Calvin Klein","GR","Calvin Klein"]
[4,"https://trends.google.com/trends/explore?date=all&geo=GR&q=H&M","GR","H&M"]
[5,"https://trends.google.com/trends/explore?date=all&geo=GR&q=Hugo Boss","GR","Hugo Boss"]
[6,"https://trends.google.com/trends/explore?date=all&geo=GR&q=Lacoste","GR","Lacoste"]
[7,"https://trends.google.com/trends/explore?date=all&geo=GR&q=Nike","GR","Nike"]
[8,"https://trends.google.com/trends/explore?date=all&geo=GR&q=Pull and Bear","GR","Pull and Bear"]
[9,"https://trends.google.com/trends/explore?date=all&geo=GR&q=Tommy Hilfiger","GR","Tommy Hilfiger"]
[10,"https://trends.google.com/trends/explore?date=all&geo=GR&q=Zara","GR","Zara"]

{"sheet":"1...10 raw(GR)","index":22,"n_rows":236,"n_cols":12,"rows_kept":236,"cut":false,"hidden":false,"merged":[]}
["Greece",null,"Adidas","Bershka","Calvin Klein","H&M","Hugo Boss","Lacoste","Nike","Pull and Bear","Tommy Hilfiger","Zara"]
["Year","Month","Point","Point","Point","Point","Point","Point","Point","Point","Point","Point"]
[2004,1,0,0,74,0,0,0,26,0,0,8]
[2004,2,12,12,36,0,0,0,11,0,0,0]
[2004,3,12,0,39,0,97,81,17,27,0,6]
[2004,4,29,0,100,0,0,0,26,0,79,6]
[2004,5,0,10,0,11,0,0,27,0,25,0]
[2004,6,23,0,0,7,0,89,24,0,0,0]
[2004,7,24,0,0,0,0,0,5,0,0,6]
[2004,8,31,0,0,0,64,0,20,0,0,4]
[2004,9,39,8,0,6,0,74,19,13,0,8]
[2004,10,25,0,0,6,66,47,15,0,22,5]
[2004,11,30,0,31,10,49,0,16,0,0,6]
[2004,12,25,0,17,6,28,0,16,0,0,4]
[2005,1,12,0,0,15,46,0,16,0,0,4]
[2005,2,27,0,0,11,0,26,11,0,0,3]
[2005,3,22,8,0,18,78,51,13,6,0,5]
[2005,4,28,0,0,0,65,100,15,0,0,4]
[2005,5,27,0,0,6,100,0,24,0,0,2]
[2005,6,28,9,16,15,21,67,16,0,10,2]
[2005,7,22,9,0,10,0,38,11,0,16,3]
[2005,8,29,0,17,21,43,32,20,0,0,4]
[2005,9,23,0,0,14,53,61,17,0,24,5]
[2005,10,18,0,7,11,40,47,15,0,0,5]
[2005,11,27,8,0,16,21,93,12,6,0,5]
[2005,12,37,4,6,16,22,18,10,0,0,3]
[2006,1,20,4,18,5,26,24,10,0,20,2]
[2006,2,14,0,0,3,0,34,14,0,26,3]
[2006,3,9,0,0,2,0,0,16,0,20,7]
[2006,4,17,4,40,7,63,0,18,0,0,8]
[2006,5,24,0,0,0,19,24,15,13,0,8]
[2006,6,21,0,0,4,19,28,16,10,16,6]
[2006,7,21,0,0,0,44,40,9,0,9,7]
[2006,8,19,8,13,4,0,0,16,13,10,9]
[2006,9,21,5,14,6,32,0,24,16,23,9]
[2006,10,21,7,13,8,23,40,16,6,0,13]
[2006,11,15,0,0,4,0,0,14,10,9,9]
[2006,12,19,5,14,0,41,19,17,0,12,7]
[2007,1,10,3,43,5,27,63,14,0,14,8]
[2007,2,13,10,7,8,25,27,16,0,19,6]
[2007,3,21,5,9,25,54,43,18,8,4,9]
[2007,4,19,4,15,19,21,16,21,0,8,4]
[2007,5,17,4,10,10,26,45,18,4,4,6]
[2007,6,17,3,0,9,34,26,14,0,9,5]
[2007,7,12,9,18,8,50,21,11,7,6,7]
[2007,8,22,7,6,9,0,9,19,0,12,9]
[2007,9,19,2,9,9,21,24,20,4,13,13]
[2007,10,16,6,11,11,28,42,17,3,10,17]
[2007,11,21,4,10,13,30,35,17,7,9,10]
[2007,12,18,6,19,8,50,39,15,0,0,12]
[2008,1,18,4,6,8,32,30,18,4,13,11]
[2008,2,15,3,14,8,18,6,14,9,16,10]
[2008,3,18,4,20,8,32,37,15,2,12,11]
[2008,4,19,3,12,10,30,59,15,5,10,10]
[2008,5,17,5,16,9,19,46,16,4,15,8]
[2008,6,14,5,12,12,7,47,12,7,9,9]
[2008,7,16,6,8,7,23,34,14,4,10,8]
[2008,8,23,0,14,7,24,40,14,4,11,7]
[2008,9,21,8,12,10,34,30,20,7,8,17]
[2008,10,18,5,13,12,38,40,18,3,7,13]
[2008,11,15,5,9,13,6,29,14,4,3,9]
[2008,12,18,7,14,10,38,42,15,9,27,14]
[2009,1,19,7,19,6,37,33,20,2,24,10]
[2009,2,17,7,9,9,14,19,19,4,11,11]
[2009,3,17,4,8,9,29,25,19,0,8,9]
[2009,4,18,9,17,11,23,52,21,0,23,12]
[2009,5,18,6,14,12,7,56,16,5,24,10]
[2009,6,14,7,7,6,37,49,12,10,9,7]
[2009,7,14,5,18,9,32,49,15,4,21,8]
[2009,8,24,4,10,7,16,55,19,4,9,8]
[2009,9,20,7,9,12,31,32,19,5,17,14]
[2009,10,21,12,12,14,23,50,20,7,26,12]
[2009,11,16,9,6,15,22,24,16,10,19,13]
[2009,12,20,8,21,10,34,37,18,9,29,12]
[2010,1,16,6,10,9,22,48,19,3,28,11]
[2010,2,15,9,17,9,21,30,17,4,19,10]
[2010,3,18,10,5,13,27,44,18,7,14,12]
[2010,4,19,9,11,11,34,29,21,9,21,11]
[2010,5,16,6,14,13,24,33,18,7,20,10]
[2010,6,21,5,7,10,13,32,16,7,15,11]
[2010,7,19,8,8,12,19,41,17,8,21,11]
[2010,8,23,9,11,11,28,30,19,8,14,10]
[2010,9,24,12,7,16,4,19,23,10,18,18]
[2010,10,23,15,15,19,19,27,23,12,24,21]
[2010,11,21,15,10,25,14,21,19,8,21,20]
[2010,12,23,10,14,15,17,34,19,11,24,18]
[2011,1,23,11,14,12,21,31,23,10,20,14]
[2011,2,21,8,6,10,17,23,21,7,15,14]
[2011,3,22,11,6,15,14,26,20,11,20,16]
[2011,4,27,13,9,17,13,35,25,12,23,18]
[2011,5,25,12,8,21,17,37,21,11,26,19]
[2011,6,17,13,9,17,13,35,16,13,16,17]
[2011,7,21,12,9,15,17,44,16,11,19,15]
[2011,8,27,12,10,15,14,26,22,13,21,18]
[2011,9,30,21,10,21,11,17,30,17,26,24]
[2011,10,32,25,6,26,14,32,26,28,28,28]
[2011,11,28,26,9,31,16,27,24,25,30,27]
[2011,12,27,30,11,27,16,31,26,34,28,27]
[2012,1,28,29,9,21,16,31,27,23,29,25]
[2012,2,25,27,7,22,22,24,21,22,20,22]
[2012,3,28,37,6,32,15,28,24,28,25,28]
[2012,4,31,41,9,32,17,39,28,34,25,28]
[2012,5,24,33,8,33,11,41,22,29,23,27]
[2012,6,23,35,9,33,8,34,20,31,20,25]
[2012,7,25,36,10,26,17,41,22,30,23,25]
[2012,8,33,37,9,23,13,29,28,29,23,26]
[2012,9,39,45,8,32,10,26,32,35,25,33]
[2012,10,34,50,9,38,16,27,29,44,23,37]
[2012,11,30,53,8,33,17,26,26,51,25,34]
[2012,12,29,58,10,33,20,30,24,52,26,34]
[2013,1,31,50,10,26,18,25,27,45,26,37]
[2013,2,30,42,9,25,15,20,26,35,18,28]
[2013,3,35,43,7,31,14,24,27,40,21,29]
[2013,4,37,55,11,41,12,41,29,47,28,35]
[2013,5,25,47,10,40,12,41,26,44,28,29]
[2013,6,22,48,9,33,14,27,22,40,22,26]
[2013,7,23,50,9,30,20,33,25,40,27,26]
[2013,8,32,41,11,23,15,26,30,34,19,25]
[2013,9,43,53,7,38,8,30,38,51,24,32]
[2013,10,42,64,10,41,19,29,34,55,28,38]
[2013,11,34,58,9,40,13,29,31,52,24,35]
[2013,12,30,67,10,41,14,31,27,63,24,35]
[2014,1,32,56,7,32,15,33,35,54,28,31]
[2014,2,33,46,9,29,10,27,33,39,23,30]
[2014,3,35,54,7,40,10,35,34,46,24,41]
[2014,4,37,60,10,47,15,43,35,52,26,39]
[2014,5,30,50,8,45,17,36,34,46,26,37]
[2014,6,28,53,8,43,18,30,32,41,26,32]
[2014,7,31,51,12,36,18,41,33,45,26,33]
[2014,8,37,42,9,30,12,30,36,37,26,30]
[2014,9,53,61,9,50,14,27,45,55,27,42]
[2014,10,47,66,9,57,15,33,46,62,30,48]
[2014,11,39,68,10,51,14,25,37,61,28,46]
[2014,12,35,64,8,56,14,27,29,66,26,42]
[2015,1,36,64,15,43,15,28,36,57,25,40]
[2015,2,36,46,8,32,11,20,33,41,19,33]
[2015,3,45,58,8,49,11,22,36,50,24,38]
[2015,4,53,63,10,50,14,41,39,58,30,40]
[2015,5,42,64,10,54,12,40,33,53,27,38]
[2015,6,34,56,7,47,14,27,28,42,19,32]
[2015,7,35,54,7,40,10,27,28,47,22,33]
[2015,8,58,50,9,36,11,32,40,43,26,39]
[2015,9,74,61,10,50,14,25,47,55,28,45]
[2015,10,78,72,10,59,20,26,43,67,32,53]
[2015,11,64,74,11,62,16,22,37,66,30,57]
[2015,12,63,80,10,63,19,30,37,77,32,51]
[2016,1,72,61,13,43,20,26,42,59,31,42]
[2016,2,74,43,11,39,15,27,40,37,23,34]
[2016,3,80,52,10,47,12,24,39,40,24,37]
[2016,4,94,60,12,63,15,37,40,50,28,43]
[2016,5,58,51,12,72,16,35,32,49,30,38]
[2016,6,45,50,11,64,14,22,29,47,22,35]
[2016,7,56,47,12,61,16,31,34,40,26,38]
[2016,8,69,44,16,49,13,28,41,37,23,33]
[2016,9,86,54,11,58,15,26,43,47,27,44]
[2016,10,88,59,13,74,17,29,41,54,30,49]
[2016,11,74,70,13,69,19,23,39,62,35,54]
[2016,12,64,68,13,66,23,22,37,61,33,49]
[2017,1,73,62,16,57,19,26,38,56,36,46]
[2017,2,65,48,12,46,11,25,35,38,27,38]
[2017,3,72,53,11,56,10,28,38,45,31,44]
[2017,4,100,57,14,62,16,39,39,47,36,48]
[2017,5,65,50,14,67,17,35,31,45,40,48]
[2017,6,48,50,15,64,15,31,25,43,32,39]
[2017,7,57,48,15,64,19,41,30,46,38,40]
[2017,8,70,47,17,52,17,35,38,39,36,40]
[2017,9,78,56,14,58,15,29,45,47,40,52]
[2017,10,79,64,16,74,13,28,41,59,37,66]
[2017,11,73,78,16,84,21,24,39,76,41,85]
[2017,12,64,72,20,71,20,28,35,72,39,69]
[2018,1,73,61,18,59,20,35,38,68,39,70]
[2018,2,72,48,16,49,12,32,35,44,30,46]
[2018,3,82,51,15,58,17,39,35,50,36,53]
[2018,4,84,53,16,62,16,47,36,56,45,54]
[2018,5,62,49,17,66,19,43,30,49,41,48]
[2018,6,52,43,19,61,14,33,26,49,32,45]
[2018,7,61,44,24,59,22,50,34,48,45,41]
[2018,8,69,37,25,51,19,44,39,36,41,37]
[2018,9,82,49,20,60,23,37,43,45,38,57]
[2018,10,79,52,20,67,21,34,38,55,42,68]
[2018,11,78,72,17,83,19,40,38,70,45,84]
[2018,12,66,67,20,67,24,32,35,68,46,74]
[2019,1,73,65,19,57,19,39,40,58,46,75]
[2019,2,75,48,19,48,15,38,38,45,37,47]
[2019,3,84,49,17,49,14,40,41,49,44,48]
[2019,4,89,54,20,62,18,52,44,53,49,63]
[2019,5,68,44,22,63,16,50,38,45,51,60]
[2019,6,62,48,20,66,19,40,32,48,43,50]
[2019,7,61,48,23,64,23,53,38,49,49,52]
[2019,8,72,44,25,49,25,43,45,41,47,44]
[2019,9,82,51,19,59,23,33,50,45,45,62]
[2019,10,82,57,19,74,22,36,49,58,49,74]
[2019,11,86,75,19,92,24,42,51,78,54,100]
[2019,12,74,77,26,78,26,38,45,82,60,84]
[2020,1,75,74,21,62,24,45,48,81,68,84]
[2020,2,78,58,19,51,19,34,41,51,50,58]
[2020,3,51,39,14,39,7,24,34,36,38,38]
[2020,4,72,56,19,73,12,34,46,52,56,53]
[2020,5,87,75,26,100,19,49,58,72,71,73]
[2020,6,60,67,22,82,16,43,39,67,64,65]
[2020,7,56,68,23,67,19,53,38,70,68,61]
[2020,8,71,62,25,51,15,44,54,53,65,49]
[2020,9,81,66,21,57,18,33,61,58,63,62]
[2020,10,70,75,21,63,16,38,56,69,66,70]
[2020,11,86,86,26,79,19,36,61,83,82,89]
[2020,12,71,82,32,64,20,38,55,92,100,75]
[2021,1,93,100,33,71,16,39,65,97,90,91]
[2021,2,73,68,28,46,14,26,53,72,72,57]
[2021,3,77,65,21,47,8,32,49,55,68,53]
[2021,4,95,98,26,91,18,49,64,100,79,78]
[2021,5,68,83,32,80,21,46,51,84,86,68]
[2021,6,56,56,25,53,20,55,37,53,65,46]
[2021,7,55,60,28,49,28,53,38,58,75,46]
[2021,8,62,55,28,42,22,49,50,46,72,39]
[2021,9,72,56,24,48,25,39,58,52,67,44]
[2021,10,81,60,26,60,23,42,59,67,72,62]
[2021,11,81,65,32,57,23,45,63,75,85,69]
[2021,12,62,67,36,56,30,48,68,67,87,59]
[2022,1,69,66,35,48,24,48,75,74,97,63]
[2022,2,63,51,30,37,21,46,70,53,76,47]
[2022,3,67,49,26,40,20,45,65,48,66,46]
[2022,4,88,63,35,60,25,64,83,62,89,61]
[2022,5,71,50,40,57,30,68,68,55,84,53]
[2022,6,53,48,34,49,27,53,53,52,69,52]
[2022,7,58,51,38,49,28,65,59,58,80,53]
[2022,8,69,45,42,40,26,66,82,46,81,50]
[2022,9,82,47,37,49,26,52,91,49,65,53]
[2022,10,81,57,40,62,32,56,90,59,76,65]
[2022,11,83,68,43,68,31,60,100,71,95,75]
[2022,12,66,67,53,63,40,66,94,75,88,70]
[2023,1,72,64,55,49,34,70,91,67,95,71]
[2023,2,70,49,43,41,27,58,72,47,67,46]
[2023,3,71,47,40,38,27,65,76,40,69,51]
[2023,4,77,53,53,47,30,83,90,48,83,56]
[2023,5,60,43,49,41,31,74,69,36,73,53]
[2023,6,61,44,59,53,27,74,62,45,81,57]

{"sheet":"keywords(NL)","index":23,"n_rows":11,"n_cols":4,"rows_kept":11,"cut":false,"hidden":false,"merged":[]}
["id","url","country","brand*"]
[1,"https://trends.google.com/trends/explore?date=all&geo=NL&q=Adidas","NL","Adidas"]
[2,"https://trends.google.com/trends/explore?date=all&geo=NL&q=Bershka","NL","Bershka"]
[3,"https://trends.google.com/trends/explore?date=all&geo=NL&q=Calvin Klein","NL","Calvin Klein"]
[4,"https://trends.google.com/trends/explore?date=all&geo=NL&q=H&M","NL","H&M"]
[5,"https://trends.google.com/trends/explore?date=all&geo=NL&q=Hugo Boss","NL","Hugo Boss"]
[6,"https://trends.google.com/trends/explore?date=all&geo=NL&q=Lacoste","NL","Lacoste"]
[7,"https://trends.google.com/trends/explore?date=all&geo=NL&q=Nike","NL","Nike"]
[8,"https://trends.google.com/trends/explore?date=all&geo=NL&q=Pull and Bear","NL","Pull and Bear"]
[9,"https://trends.google.com/trends/explore?date=all&geo=NL&q=Tommy Hilfiger","NL","Tommy Hilfiger"]
[10,"https://trends.google.com/trends/explore?date=all&geo=NL&q=Zara","NL","Zara"]

{"sheet":"1...10 raw(NL)","index":24,"n_rows":236,"n_cols":12,"rows_kept":236,"cut":false,"hidden":false,"merged":[]}
["Netherlands",null,"Adidas","Bershka","Calvin Klein","H&M","Hugo Boss","Lacoste","Nike","Pull and Bear","Tommy Hilfiger","Zara"]
["Year","Month","Point","Point","Point","Point","Point","Point","Point","Point","Point","Point"]
[2004,1,10,0,11,7,17,26,10,0,15,2]
[2004,2,12,0,13,9,22,26,13,13,9,3]
[2004,3,14,0,12,8,22,26,15,0,10,4]
[2004,4,11,0,20,11,36,49,21,0,12,3]
[2004,5,10,6,10,11,17,45,15,0,16,5]
[2004,6,16,0,18,9,23,58,21,0,14,3]
[2004,7,11,0,16,8,25,61,18,0,3,3]
[2004,8,14,0,11,10,16,35,19,0,14,4]
[2004,9,11,3,18,14,44,45,14,17,16,6]
[2004,10,11,0,11,12,31,48,14,5,17,5]
[2004,11,11,0,13,17,36,69,13,0,11,5]
[2004,12,10,0,15,12,33,53,12,0,18,5]
[2005,1,9,3,13,8,24,35,13,3,12,5]
[2005,2,10,3,17,10,16,24,16,13,16,5]
[2005,3,14,6,12,12,27,53,18,0,17,6]
[2005,4,14,0,12,12,26,66,20,6,14,4]
[2005,5,12,0,12,12,16,74,18,5,17,7]
[2005,6,10,4,18,12,21,69,18,0,18,4]
[2005,7,12,6,13,10,24,81,16,4,14,6]
[2005,8,18,8,19,11,22,100,18,0,16,7]
[2005,9,14,8,15,17,28,69,14,0,15,5]
[2005,10,13,10,19,18,25,51,16,0,11,6]
[2005,11,13,7,16,17,31,50,16,0,11,6]
[2005,12,12,7,14,15,33,67,14,0,13,6]
[2006,1,11,5,5,10,21,51,16,0,10,6]
[2006,2,13,4,14,12,22,50,18,0,13,9]
[2006,3,15,4,11,17,22,55,21,0,12,8]
[2006,4,13,0,16,19,26,88,30,0,14,9]
[2006,5,15,6,12,18,31,97,24,0,20,9]
[2006,6,20,2,14,18,29,86,23,0,20,8]
[2006,7,16,6,14,16,23,75,17,2,18,8]
[2006,8,19,5,13,30,22,90,20,3,19,11]
[2006,9,13,7,15,33,25,67,19,0,18,10]
[2006,10,12,9,13,35,35,58,18,2,15,11]
[2006,11,11,5,17,45,36,59,16,0,22,12]
[2006,12,11,6,17,34,41,59,14,0,18,10]
[2007,1,10,5,14,35,22,36,15,0,16,8]
[2007,2,13,3,13,42,26,41,16,0,15,10]
[2007,3,14,7,14,57,25,67,20,0,20,11]
[2007,4,15,6,14,62,22,92,23,0,21,12]
[2007,5,13,5,17,49,32,85,22,4,21,11]
[2007,6,13,6,16,42,30,98,22,2,21,11]
[2007,7,14,2,17,40,25,80,21,0,16,18]
[2007,8,17,9,11,52,29,64,24,4,16,12]
[2007,9,14,7,11,60,31,58,23,3,17,15]
[2007,10,13,6,11,59,34,49,23,0,19,17]
[2007,11,12,5,10,63,30,46,23,0,15,14]
[2007,12,13,6,16,57,47,45,23,0,18,16]
[2008,1,13,4,10,48,22,46,27,2,14,10]
[2008,2,16,5,13,51,36,51,31,2,18,14]
[2008,3,15,8,11,61,32,59,31,1,17,13]
[2008,4,17,7,12,64,33,68,33,2,21,14]
[2008,5,18,8,12,66,28,78,31,2,17,13]
[2008,6,19,7,14,61,25,61,31,0,16,12]
[2008,7,17,6,13,46,30,73,25,0,21,11]
[2008,8,19,7,16,53,29,79,30,4,14,15]
[2008,9,16,8,13,70,30,55,30,0,20,18]
[2008,10,14,9,14,63,31,48,27,4,18,16]
[2008,11,17,8,11,62,33,49,24,1,16,17]
[2008,12,15,11,21,57,49,52,23,0,20,18]
[2009,1,16,7,13,63,33,51,24,1,19,12]
[2009,2,17,9,13,57,38,60,23,3,21,14]
[2009,3,23,16,12,75,35,61,31,5,21,19]
[2009,4,23,18,11,79,35,86,31,5,33,18]
[2009,5,20,12,16,79,35,72,27,3,23,14]
[2009,6,23,15,19,70,37,75,24,0,25,15]
[2009,7,19,14,17,57,32,81,23,2,26,12]
[2009,8,27,14,14,62,37,74,26,1,23,19]
[2009,9,26,13,11,81,35,57,26,0,27,22]
[2009,10,23,18,16,80,41,49,24,3,27,25]
[2009,11,21,13,17,79,43,47,22,0,24,23]
[2009,12,23,12,21,81,58,62,21,2,31,23]
[2010,1,21,13,15,74,30,45,20,1,28,19]
[2010,2,24,12,11,72,38,51,20,2,28,20]
[2010,3,29,16,16,96,40,64,26,2,35,26]
[2010,4,37,16,15,90,36,64,26,2,34,25]
[2010,5,36,16,18,91,36,66,23,0,32,26]
[2010,6,38,12,15,81,39,77,23,0,36,26]
[2010,7,28,12,16,76,32,70,21,2,34,19]
[2010,8,41,16,15,80,37,58,21,4,30,25]
[2010,9,40,15,13,98,43,52,21,2,39,36]
[2010,10,34,16,14,87,45,43,20,2,35,32]
[2010,11,32,14,17,100,49,38,19,7,32,45]
[2010,12,29,12,19,89,63,45,16,6,40,38]
[2011,1,32,11,12,78,43,46,19,2,32,30]
[2011,2,33,13,14,84,43,40,20,5,28,32]
[2011,3,38,14,12,95,37,47,23,3,31,32]
[2011,4,37,19,13,98,40,68,23,6,33,34]
[2011,5,35,15,15,85,38,61,19,5,31,31]
[2011,6,38,12,13,78,51,64,20,6,33,32]
[2011,7,39,12,14,71,40,64,19,5,34,29]
[2011,8,51,18,16,78,46,51,22,8,34,37]
[2011,9,41,34,16,83,48,52,24,12,35,40]
[2011,10,32,32,13,83,41,40,20,14,32,40]
[2011,11,34,34,13,95,48,39,19,19,32,44]
[2011,12,32,32,21,84,68,35,17,23,40,47]
[2012,1,31,29,13,68,52,42,19,15,34,39]
[2012,2,32,31,12,72,49,34,19,20,28,34]
[2012,3,39,33,15,93,47,44,25,23,33,39]
[2012,4,37,31,12,78,44,45,22,21,29,41]
[2012,5,29,34,15,83,47,54,24,30,32,37]
[2012,6,40,39,15,69,52,59,24,26,34,40]
[2012,7,36,33,16,62,48,55,23,23,38,36]
[2012,8,37,40,15,64,47,51,26,25,33,42]
[2012,9,39,43,18,89,53,49,26,41,37,51]
[2012,10,30,48,14,91,47,36,23,42,37,54]
[2012,11,29,44,18,82,49,34,20,45,36,47]
[2012,12,24,44,24,85,70,35,17,40,45,53]
[2013,1,27,37,15,67,50,31,19,34,43,39]
[2013,2,28,39,15,71,43,31,23,36,30,40]
[2013,3,36,38,13,83,41,40,28,41,33,43]
[2013,4,30,41,17,82,42,49,27,42,36,43]
[2013,5,33,43,16,80,45,50,30,43,35,41]
[2013,6,40,41,17,73,52,54,28,42,47,42]
[2013,7,36,42,14,71,50,61,27,42,53,40]
[2013,8,36,39,16,66,48,48,34,39,41,44]
[2013,9,32,48,17,87,48,35,32,49,41,57]
[2013,10,29,51,16,75,41,33,31,48,37,49]
[2013,11,28,43,21,79,50,29,32,41,37,52]
[2013,12,26,44,25,71,78,33,31,43,51,51]
[2014,1,30,35,17,62,53,31,44,38,46,42]
[2014,2,31,42,15,61,41,33,47,38,30,43]
[2014,3,37,43,17,69,42,45,60,42,33,43]
[2014,4,39,47,18,76,41,48,62,48,36,47]
[2014,5,39,44,20,68,45,51,61,56,38,41]
[2014,6,48,45,17,63,50,57,60,52,42,44]
[2014,7,42,40,26,59,50,56,52,48,46,46]
[2014,8,48,43,23,61,46,47,59,47,36,47]
[2014,9,39,44,18,62,37,39,53,44,32,48]
[2014,10,39,48,19,65,35,34,52,50,33,50]
[2014,11,38,42,24,66,48,33,47,44,36,49]
[2014,12,36,46,28,68,71,37,43,51,53,53]
[2015,1,48,40,37,53,38,32,53,40,42,45]
[2015,2,52,42,25,53,42,32,56,40,31,42]
[2015,3,80,48,25,60,38,41,69,41,29,42]
[2015,4,95,55,24,67,39,46,69,48,33,49]
[2015,5,85,53,30,60,43,53,68,47,31,46]
[2015,6,76,57,28,60,45,64,59,52,40,48]
[2015,7,68,50,30,57,49,56,53,48,47,42]
[2015,8,72,56,29,54,42,51,58,45,34,45]
[2015,9,70,72,32,66,41,40,59,60,38,68]
[2015,10,58,71,34,63,43,34,55,59,39,67]
[2015,11,51,65,47,72,46,32,56,62,37,61]
[2015,12,52,73,74,64,76,43,57,63,59,69]
[2016,1,67,49,59,49,43,38,68,51,48,55]
[2016,2,72,57,52,50,41,36,71,44,33,44]
[2016,3,91,66,49,53,38,40,82,50,31,52]
[2016,4,100,77,52,61,41,55,85,59,37,60]
[2016,5,90,78,57,62,44,70,79,57,43,60]
[2016,6,88,82,61,53,51,72,77,60,54,69]
[2016,7,85,66,64,52,46,74,68,54,53,58]
[2016,8,81,68,60,48,42,58,66,50,43,53]
[2016,9,77,73,60,52,46,54,68,62,48,65]
[2016,10,70,85,58,68,50,50,69,78,60,89]
[2016,11,65,79,68,67,52,55,66,66,55,83]
[2016,12,57,76,85,58,89,54,61,67,70,83]
[2017,1,65,65,64,48,42,54,63,59,62,65]
[2017,2,69,68,65,50,44,53,64,57,48,53]
[2017,3,87,72,65,57,38,75,81,61,54,76]
[2017,4,93,81,69,62,41,72,79,69,60,75]
[2017,5,80,86,81,67,45,85,69,71,76,72]
[2017,6,80,97,90,61,57,100,66,71,80,80]
[2017,7,77,85,90,51,49,96,62,68,79,67]
[2017,8,74,78,84,46,44,74,64,58,73,69]
[2017,9,65,94,81,60,43,76,66,74,77,87]
[2017,10,57,93,70,57,44,66,60,82,75,80]
[2017,11,65,100,84,62,61,62,65,93,81,88]
[2017,12,52,84,96,57,82,64,54,76,95,86]
[2018,1,55,68,73,48,50,52,58,63,89,64]
[2018,2,54,61,68,48,38,49,57,57,68,54]
[2018,3,70,75,78,54,43,76,76,64,75,63]
[2018,4,78,80,77,59,42,91,73,75,79,67]
[2018,5,68,85,86,58,48,83,67,87,75,61]
[2018,6,76,92,84,56,65,96,70,92,92,73]
[2018,7,60,79,100,52,53,90,55,75,100,63]
[2018,8,67,66,83,48,50,76,68,65,82,64]
[2018,9,64,81,78,56,53,69,74,91,90,76]
[2018,10,51,82,67,58,52,58,60,83,76,76]
[2018,11,57,89,85,65,76,62,73,85,100,83]
[2018,12,45,80,94,54,94,63,57,71,100,83]
[2019,1,48,75,66,42,54,51,63,53,84,66]
[2019,2,54,71,71,42,44,55,68,55,71,61]
[2019,3,61,63,66,42,43,55,71,50,74,60]
[2019,4,67,77,75,51,43,72,75,67,80,63]
[2019,5,66,73,74,46,53,74,74,63,80,65]
[2019,6,67,84,84,54,57,82,71,70,90,74]
[2019,7,64,72,87,47,50,78,65,74,84,60]
[2019,8,63,65,69,42,45,62,70,58,75,59]
[2019,9,59,76,65,55,51,62,74,64,80,76]
[2019,10,49,77,59,51,48,54,65,65,68,73]
[2019,11,54,84,84,53,76,60,75,79,91,85]
[2019,12,42,77,80,49,93,60,60,68,87,86]
[2020,1,47,69,64,38,52,55,69,61,79,67]
[2020,2,47,66,58,39,47,50,68,57,64,60]
[2020,3,48,57,49,38,33,47,68,46,54,52]
[2020,4,60,76,67,51,37,66,81,78,71,70]
[2020,5,63,81,70,50,50,71,88,82,70,73]
[2020,6,57,69,70,51,56,75,75,85,76,78]
[2020,7,55,69,73,38,56,69,77,74,71,65]
[2020,8,60,66,74,41,50,66,82,64,68,65]
[2020,9,57,71,61,46,47,55,81,73,63,73]
[2020,10,54,81,59,49,51,52,78,69,69,80]
[2020,11,52,87,87,46,74,63,88,79,78,82]
[2020,12,46,75,94,43,83,62,76,69,70,75]
[2021,1,45,79,73,43,47,50,76,79,74,78]
[2021,2,48,67,66,47,50,55,82,68,78,77]
[2021,3,57,86,57,57,42,57,93,81,59,98]
[2021,4,57,95,58,57,51,59,95,93,60,89]
[2021,5,57,69,60,44,53,68,93,83,58,79]
[2021,6,56,75,62,43,58,79,77,87,66,78]
[2021,7,52,70,61,38,52,78,80,79,64,68]
[2021,8,57,66,59,36,52,70,89,75,61,67]
[2021,9,46,73,51,42,48,59,89,88,56,75]
[2021,10,40,77,51,44,50,56,87,100,62,85]
[2021,11,48,79,73,43,77,69,91,95,72,85]
[2021,12,39,75,80,43,100,68,81,97,75,84]
[2022,1,43,76,57,39,54,60,86,92,64,77]
[2022,2,40,67,51,35,56,56,79,82,55,68]
[2022,3,51,70,51,37,50,69,99,82,54,76]
[2022,4,53,79,54,42,55,84,100,95,58,85]
[2022,5,55,72,60,39,63,88,94,88,58,87]
[2022,6,57,72,59,42,63,89,82,98,63,100]
[2022,7,52,66,64,41,59,96,80,88,59,85]
[2022,8,58,57,56,37,51,77,83,69,52,74]
[2022,9,53,69,50,43,53,70,92,92,55,89]
[2022,10,49,70,57,42,51,63,81,87,53,84]
[2022,11,52,69,68,43,77,73,87,86,66,86]
[2022,12,42,65,72,47,90,79,79,89,67,95]
[2023,1,43,57,46,34,51,70,78,72,53,67]
[2023,2,45,51,45,33,46,71,81,57,45,67]
[2023,3,50,56,45,34,45,67,88,57,46,76]
[2023,4,56,67,48,38,54,82,94,66,52,82]
[2023,5,61,62,55,39,56,80,87,80,53,87]
[2023,6,64,67,49,39,66,99,85,94,52,89]

{"sheet":"keywords(HR)","index":25,"n_rows":11,"n_cols":4,"rows_kept":11,"cut":false,"hidden":false,"merged":[]}
["id","url","country","brand*"]
[1,"https://trends.google.com/trends/explore?date=all&geo=HR&q=Adidas","HR","Adidas"]
[2,"https://trends.google.com/trends/explore?date=all&geo=HR&q=Bershka","HR","Bershka"]
[3,"https://trends.google.com/trends/explore?date=all&geo=HR&q=Calvin Klein","HR","Calvin Klein"]
[4,"https://trends.google.com/trends/explore?date=all&geo=HR&q=H&M","HR","H&M"]
[5,"https://trends.google.com/trends/explore?date=all&geo=HR&q=Hugo Boss","HR","Hugo Boss"]
[6,"https://trends.google.com/trends/explore?date=all&geo=HR&q=Lacoste","HR","Lacoste"]
[7,"https://trends.google.com/trends/explore?date=all&geo=HR&q=Nike","HR","Nike"]
[8,"https://trends.google.com/trends/explore?date=all&geo=HR&q=Pull and Bear","HR","Pull and Bear"]
[9,"https://trends.google.com/trends/explore?date=all&geo=HR&q=Tommy Hilfiger","HR","Tommy Hilfiger"]
[10,"https://trends.google.com/trends/explore?date=all&geo=HR&q=Zara","HR","Zara"]

{"sheet":"1...10 raw(HR)","index":26,"n_rows":236,"n_cols":12,"rows_kept":236,"cut":false,"hidden":false,"merged":[]}
["Croatia",null,"Adidas","Bershka","Calvin Klein","H&M","Hugo Boss","Lacoste","Nike","Pull and Bear","Tommy Hilfiger","Zara"]
["Year","Month","Point","Point","Point","Point","Point","Point","Point","Point","Point","Point"]
[2004,1,20,0,0,17,0,0,0,0,0,0]
[2004,2,45,0,52,9,0,45,27,0,0,0]
[2004,3,16,37,0,14,0,100,58,0,73,0]
[2004,4,24,0,73,17,32,0,40,36,0,8]
[2004,5,0,0,100,5,0,0,23,0,29,4]
[2004,6,23,0,0,5,51,41,54,0,0,4]
[2004,7,21,0,56,18,0,29,19,0,63,0]
[2004,8,33,0,0,25,0,40,0,0,0,0]
[2004,9,12,0,0,28,0,68,14,0,100,0]
[2004,10,26,0,74,18,0,28,37,0,0,7]
[2004,11,29,0,0,19,0,0,13,100,0,6]
[2004,12,23,0,0,9,37,0,25,0,0,0]
[2005,1,29,11,0,20,0,30,9,0,20,2]
[2005,2,25,0,0,19,34,0,14,0,0,3]
[2005,3,21,0,0,18,18,0,30,0,0,7]
[2005,4,29,14,0,35,33,84,6,0,35,13]
[2005,5,26,0,0,23,100,34,23,18,49,0]
[2005,6,30,0,0,16,0,0,24,0,0,7]
[2005,7,13,0,67,15,18,0,19,0,0,5]
[2005,8,29,0,0,29,41,69,30,0,0,10]
[2005,9,0,0,0,36,48,52,7,0,0,11]
[2005,10,7,10,0,38,0,0,28,0,0,8]
[2005,11,32,0,35,37,19,78,21,0,0,5]
[2005,12,13,0,0,21,16,50,36,0,31,3]
[2006,1,22,11,0,14,14,19,17,0,0,6]
[2006,2,21,11,0,15,16,44,23,13,17,7]
[2006,3,32,0,0,26,28,31,34,0,14,9]
[2006,4,32,0,0,35,21,47,55,0,0,7]
[2006,5,27,0,0,23,18,29,50,0,19,6]
[2006,6,27,0,0,24,12,25,44,0,25,7]
[2006,7,17,0,33,15,13,40,14,0,0,1]
[2006,8,34,0,0,39,27,40,37,26,23,8]
[2006,9,17,0,12,44,0,79,29,0,0,7]
[2006,10,20,20,0,31,6,70,26,0,16,8]
[2006,11,22,0,13,25,26,12,29,0,0,5]
[2006,12,17,0,0,16,20,44,26,0,12,5]
[2007,1,22,0,8,18,0,63,27,0,19,8]
[2007,2,28,6,9,14,30,39,26,8,18,10]
[2007,3,20,3,0,28,16,70,27,0,43,8]
[2007,4,27,6,0,27,20,61,27,0,0,6]
[2007,5,20,0,7,19,14,61,28,0,15,7]
[2007,6,18,0,11,21,7,52,22,0,9,5]
[2007,7,12,0,0,12,15,53,29,0,9,4]
[2007,8,25,21,8,23,0,63,33,0,10,15]
[2007,9,17,5,0,23,18,87,37,5,12,21]
[2007,10,18,6,10,22,12,59,22,0,17,11]
[2007,11,20,7,0,24,5,41,23,0,17,9]
[2007,12,22,3,13,15,18,40,23,7,10,9]
[2008,1,22,2,6,17,14,46,25,0,17,5]
[2008,2,19,4,11,19,19,75,25,0,17,8]
[2008,3,24,8,7,21,9,60,28,0,9,8]
[2008,4,22,5,6,20,9,48,27,3,11,10]
[2008,5,23,0,14,23,12,59,34,0,13,6]
[2008,6,20,0,22,16,11,46,26,0,13,5]
[2008,7,17,3,0,13,12,81,21,0,19,6]
[2008,8,27,0,0,22,12,50,32,0,9,8]
[2008,9,23,8,3,31,18,64,34,0,14,16]
[2008,10,23,6,8,24,14,38,27,0,11,11]
[2008,11,21,3,15,20,18,42,24,0,9,7]
[2008,12,11,5,7,19,21,42,22,0,12,5]
[2009,1,16,0,6,15,9,45,21,0,6,5]
[2009,2,20,0,14,15,13,38,20,0,18,7]
[2009,3,18,2,8,21,12,42,28,0,16,9]
[2009,4,21,2,16,21,11,51,23,0,14,8]
[2009,5,20,3,13,21,9,41,19,11,18,7]
[2009,6,13,4,5,17,4,46,18,0,13,7]
[2009,7,14,0,8,16,7,39,17,9,19,6]
[2009,8,18,5,14,16,12,30,23,3,17,8]
[2009,9,21,3,11,23,4,45,25,0,24,7]
[2009,10,18,7,15,25,10,45,22,6,18,7]
[2009,11,17,4,6,22,10,27,22,3,24,7]
[2009,12,16,0,8,19,9,34,18,4,13,6]
[2010,1,14,0,9,19,8,37,22,0,17,7]
[2010,2,12,11,13,19,10,31,20,0,20,7]
[2010,3,19,2,13,23,7,37,22,4,7,8]
[2010,4,23,6,18,26,10,39,23,4,16,9]
[2010,5,23,12,17,26,10,30,30,0,16,10]
[2010,6,20,5,14,26,2,33,24,0,8,7]
[2010,7,23,8,12,23,8,37,16,8,15,7]
[2010,8,25,7,14,29,0,31,29,9,7,10]
[2010,9,25,12,12,41,9,36,31,0,8,18]
[2010,10,23,9,10,38,9,27,24,6,20,14]
[2010,11,21,13,11,38,10,32,21,10,18,18]
[2010,12,19,8,10,30,11,11,18,6,17,14]
[2011,1,21,9,4,33,16,27,24,5,22,12]
[2011,2,24,8,10,36,10,32,23,6,16,13]
[2011,3,29,19,7,54,8,36,28,9,25,17]
[2011,4,28,10,7,100,7,32,27,7,20,19]
[2011,5,23,11,9,58,9,36,21,13,29,20]
[2011,6,20,11,11,44,10,30,19,8,20,17]
[2011,7,20,12,14,39,9,26,24,5,24,18]
[2011,8,30,8,13,50,10,38,32,7,24,18]
[2011,9,32,19,15,60,14,32,33,13,28,22]
[2011,10,32,36,14,59,8,34,31,19,34,23]
[2011,11,23,33,12,57,10,28,25,20,31,20]
[2011,12,24,35,14,48,12,25,21,24,25,24]
[2012,1,24,33,10,39,10,20,23,19,19,21]
[2012,2,23,34,6,44,9,20,21,24,25,21]
[2012,3,36,46,14,62,6,24,29,34,25,29]
[2012,4,34,48,16,70,14,23,28,33,26,29]
[2012,5,28,49,12,69,8,28,22,23,25,28]
[2012,6,23,49,9,64,5,21,24,32,29,28]
[2012,7,24,46,11,46,8,24,23,22,29,21]
[2012,8,33,50,14,53,8,23,30,31,23,28]
[2012,9,37,59,14,76,8,23,35,36,33,34]
[2012,10,32,57,11,63,8,18,25,35,29,29]
[2012,11,29,53,11,59,9,14,21,35,30,28]
[2012,12,25,71,15,63,8,18,18,44,24,31]
[2013,1,26,45,5,41,6,15,23,24,19,23]
[2013,2,25,40,11,42,9,16,24,26,21,22]
[2013,3,40,54,11,58,7,20,29,30,26,26]
[2013,4,44,61,8,63,4,19,30,37,26,29]
[2013,5,29,48,7,56,7,15,25,29,23,25]
[2013,6,24,45,7,55,6,14,22,32,22,24]
[2013,7,24,44,7,42,8,21,27,27,27,21]
[2013,8,35,47,7,49,7,18,37,31,29,26]
[2013,9,40,65,13,68,7,16,34,43,30,33]
[2013,10,40,51,8,60,9,15,30,33,27,30]
[2013,11,31,53,10,63,8,16,31,35,28,29]
[2013,12,33,56,13,55,12,16,24,36,25,30]
[2014,1,34,42,10,43,8,12,32,26,25,28]
[2014,2,35,46,9,44,8,17,33,29,18,24]
[2014,3,45,52,11,62,5,23,49,37,22,30]
[2014,4,39,50,12,63,7,18,42,32,26,29]
[2014,5,34,45,10,57,6,15,39,28,29,27]
[2014,6,33,44,11,54,9,16,36,28,29,26]
[2014,7,37,36,10,39,8,18,35,20,28,23]
[2014,8,47,47,13,50,9,20,50,30,28,28]
[2014,9,56,50,13,64,5,18,50,34,37,32]
[2014,10,48,44,11,62,10,9,37,33,29,31]
[2014,11,36,49,15,63,12,12,34,35,29,29]
[2014,12,33,47,15,61,15,14,28,41,28,32]
[2015,1,45,40,21,40,7,12,36,30,25,28]
[2015,2,41,34,11,42,9,14,36,29,24,24]
[2015,3,56,46,10,62,6,19,54,35,25,31]
[2015,4,51,44,15,58,9,17,46,36,33,32]
[2015,5,43,52,15,61,7,12,37,32,31,28]
[2015,6,35,47,9,54,6,16,31,31,34,26]
[2015,7,36,40,18,42,8,15,35,24,34,25]
[2015,8,59,45,18,49,8,15,51,26,29,30]
[2015,9,73,53,15,66,14,13,49,45,34,35]
[2015,10,58,54,18,66,10,10,42,38,36,37]
[2015,11,48,54,18,74,11,10,33,33,32,37]
[2015,12,47,63,21,64,15,18,31,39,32,42]
[2016,1,62,39,24,38,10,10,35,25,34,29]
[2016,2,71,39,20,42,10,14,39,26,29,30]
[2016,3,87,48,23,57,11,13,45,43,33,48]
[2016,4,78,39,12,72,10,16,41,38,27,45]
[2016,5,61,40,18,61,11,13,35,28,29,41]
[2016,6,48,44,17,54,8,16,33,21,31,43]
[2016,7,57,39,18,49,8,18,38,21,36,36]
[2016,8,79,42,33,46,9,15,41,25,33,46]
[2016,9,86,49,18,56,12,16,39,32,42,52]
[2016,10,72,63,18,63,8,11,39,46,42,57]
[2016,11,56,53,27,61,11,11,35,29,40,56]
[2016,12,49,62,27,57,14,14,29,29,49,67]
[2017,1,60,55,25,42,6,10,29,35,45,50]
[2017,2,70,51,24,42,9,13,37,47,36,50]
[2017,3,84,59,19,51,3,13,44,39,39,58]
[2017,4,74,54,17,54,10,12,38,30,38,55]
[2017,5,62,55,18,56,12,11,33,21,35,59]
[2017,6,49,61,24,52,12,15,32,24,51,62]
[2017,7,66,51,37,45,7,13,37,27,53,53]
[2017,8,80,51,35,45,9,18,46,42,57,64]
[2017,9,83,66,35,64,14,12,44,53,51,67]
[2017,10,71,69,27,62,9,11,36,49,47,73]
[2017,11,57,75,26,70,15,13,35,53,53,75]
[2017,12,46,75,30,57,15,11,28,55,53,75]
[2018,1,67,57,27,46,11,9,33,57,39,64]
[2018,2,63,50,23,43,10,8,36,35,45,62]
[2018,3,77,55,25,50,9,13,43,43,40,72]
[2018,4,83,67,30,56,12,17,44,47,54,63]
[2018,5,64,55,31,58,11,15,31,46,56,54]
[2018,6,64,52,27,52,9,13,33,50,52,61]
[2018,7,68,46,39,39,9,14,50,39,55,49]
[2018,8,78,48,53,45,10,18,51,35,72,61]
[2018,9,82,48,34,52,15,15,49,47,59,65]
[2018,10,69,55,30,54,11,12,42,42,57,67]
[2018,11,62,80,39,74,12,12,42,54,70,82]
[2018,12,53,73,43,54,15,14,35,38,67,72]
[2019,1,62,55,41,38,12,16,41,34,72,65]
[2019,2,81,55,33,40,10,12,55,39,55,62]
[2019,3,94,54,35,45,11,14,61,30,53,60]
[2019,4,90,57,36,50,13,14,54,34,68,63]
[2019,5,78,46,35,47,10,11,48,38,62,60]
[2019,6,83,57,39,56,11,13,43,49,72,61]
[2019,7,70,54,40,44,12,19,52,42,80,55]
[2019,8,84,51,48,40,11,17,62,31,92,59]
[2019,9,95,57,40,54,11,11,65,58,78,69]
[2019,10,77,66,39,50,13,11,59,56,69,72]
[2019,11,74,84,46,62,16,12,60,55,83,100]
[2019,12,57,77,44,54,21,11,50,65,78,85]
[2020,1,68,69,32,39,14,11,59,54,80,76]
[2020,2,82,55,36,35,15,14,65,46,55,64]
[2020,3,62,45,25,31,7,9,48,29,39,44]
[2020,4,86,58,32,69,6,8,58,49,59,55]
[2020,5,96,65,29,63,9,12,63,56,69,63]
[2020,6,76,68,39,66,9,17,53,66,82,68]
[2020,7,71,61,39,58,10,15,53,57,81,58]
[2020,8,82,58,42,48,12,17,63,47,79,52]
[2020,9,100,67,39,58,13,9,69,63,74,67]
[2020,10,78,71,30,51,11,11,59,61,67,60]
[2020,11,80,100,39,52,14,10,61,79,81,75]
[2020,12,60,74,41,43,17,11,45,66,66,58]
[2021,1,68,78,31,36,13,7,48,81,77,57]
[2021,2,79,78,37,37,13,12,60,62,63,67]
[2021,3,93,59,35,40,12,14,70,50,64,57]
[2021,4,76,63,28,38,13,9,55,51,56,47]
[2021,5,75,62,31,43,10,11,49,51,60,50]
[2021,6,59,71,37,55,11,11,41,64,68,57]
[2021,7,56,68,35,42,15,11,48,58,64,46]
[2021,8,71,65,38,38,11,15,75,59,61,45]
[2021,9,68,61,35,39,13,9,70,62,57,49]
[2021,10,62,67,36,42,11,10,57,71,63,58]
[2021,11,61,69,36,43,14,8,56,64,63,56]
[2021,12,43,72,39,44,20,16,52,68,61,63]
[2022,1,56,75,36,33,14,12,67,79,64,53]
[2022,2,66,62,31,32,16,12,67,57,57,45]
[2022,3,76,60,27,36,15,10,77,50,51,51]
[2022,4,76,62,36,39,14,10,78,53,57,51]
[2022,5,76,59,38,43,17,9,66,58,63,54]
[2022,6,60,55,33,41,12,9,54,57,52,54]
[2022,7,57,52,37,37,15,12,67,50,64,44]
[2022,8,71,47,36,34,14,16,88,43,57,52]
[2022,9,78,53,31,37,14,9,98,51,55,55]
[2022,10,73,53,38,40,17,9,87,57,46,58]
[2022,11,69,72,38,44,18,9,100,62,69,68]
[2022,12,55,60,39,42,22,12,91,67,60,53]
[2023,1,69,57,29,30,15,14,98,44,60,51]
[2023,2,74,44,28,30,14,12,84,45,50,44]
[2023,3,84,51,25,37,15,12,98,41,42,60]
[2023,4,88,52,30,36,17,18,99,41,46,56]
[2023,5,83,43,32,37,14,16,89,33,44,54]
[2023,6,76,52,30,39,10,18,72,45,49,56]

{"sheet":"keywords(IE)","index":27,"n_rows":11,"n_cols":4,"rows_kept":11,"cut":false,"hidden":false,"merged":[]}
["id","url","country","brand*"]
[1,"https://trends.google.com/trends/explore?date=all&geo=IE&q=Adidas","IE","Adidas"]
[2,"https://trends.google.com/trends/explore?date=all&geo=IE&q=Bershka","IE","Bershka"]
[3,"https://trends.google.com/trends/explore?date=all&geo=IE&q=Calvin Klein","IE","Calvin Klein"]
[4,"https://trends.google.com/trends/explore?date=all&geo=IE&q=H&M","IE","H&M"]
[5,"https://trends.google.com/trends/explore?date=all&geo=IE&q=Hugo Boss","IE","Hugo Boss"]
[6,"https://trends.google.com/trends/explore?date=all&geo=IE&q=Lacoste","IE","Lacoste"]
[7,"https://trends.google.com/trends/explore?date=all&geo=IE&q=Nike","IE","Nike"]
[8,"https://trends.google.com/trends/explore?date=all&geo=IE&q=Pull and Bear","IE","Pull and Bear"]
[9,"https://trends.google.com/trends/explore?date=all&geo=IE&q=Tommy Hilfiger","IE","Tommy Hilfiger"]
[10,"https://trends.google.com/trends/explore?date=all&geo=IE&q=Zara","IE","Zara"]

{"sheet":"1...10 raw(IE)","index":28,"n_rows":236,"n_cols":12,"rows_kept":236,"cut":false,"hidden":false,"merged":[]}
["Ireland",null,"Adidas","Bershka","Calvin Klein","H&M","Hugo Boss","Lacoste","Nike","Pull and Bear","Tommy Hilfiger","Zara"]
["Year","Month","Point","Point","Point","Point","Point","Point","Point","Point","Point","Point"]
[2004,1,19,0,47,0,38,0,13,0,0,6]
[2004,2,25,0,67,8,0,0,12,0,11,9]
[2004,3,45,0,0,0,0,0,15,0,41,8]
[2004,4,21,0,28,8,0,0,11,0,0,8]
[2004,5,36,21,21,8,0,97,12,0,24,15]
[2004,6,10,33,0,7,0,32,8,0,14,4]
[2004,7,20,0,21,8,37,0,11,0,23,8]
[2004,8,14,0,28,11,0,31,8,43,0,19]
[2004,9,23,0,0,11,50,0,10,0,18,6]
[2004,10,9,15,0,15,0,0,14,0,22,12]
[2004,11,19,0,0,14,0,42,7,0,15,12]
[2004,12,32,0,30,12,49,48,13,25,0,13]
[2005,1,19,0,14,10,0,100,12,0,6,6]
[2005,2,14,0,44,12,20,52,15,18,10,6]
[2005,3,24,0,0,24,0,31,15,0,0,11]
[2005,4,16,17,11,14,0,0,14,0,22,5]
[2005,5,30,0,0,6,0,23,14,14,19,5]
[2005,6,26,25,0,7,24,0,8,0,38,12]
[2005,7,23,0,23,7,0,0,7,0,22,4]
[2005,8,17,0,35,10,51,0,11,0,11,6]
[2005,9,21,0,0,11,0,63,8,0,15,6]
[2005,10,25,0,0,12,46,0,12,0,19,7]
[2005,11,41,7,36,19,0,14,11,17,28,10]
[2005,12,9,15,0,13,45,45,13,0,23,9]
[2006,1,30,19,10,4,12,0,14,0,6,0]
[2006,2,33,0,19,8,29,0,14,0,0,9]
[2006,3,28,0,14,7,42,16,18,17,16,8]
[2006,4,41,0,12,11,15,17,22,9,11,8]
[2006,5,34,0,24,4,0,17,17,0,13,7]
[2006,6,39,0,19,4,14,53,14,0,15,5]
[2006,7,31,7,0,5,17,29,11,0,6,7]
[2006,8,26,9,0,9,41,14,9,0,9,6]
[2006,9,24,5,12,9,0,0,10,0,8,8]
[2006,10,24,13,7,10,13,35,13,0,17,9]
[2006,11,26,4,17,12,19,38,10,0,21,12]
[2006,12,19,0,7,12,31,25,9,10,17,9]
[2007,1,15,8,8,5,16,0,8,10,17,6]
[2007,2,15,12,8,8,7,0,9,0,13,9]
[2007,3,19,0,12,12,19,8,8,12,11,11]
[2007,4,24,0,8,9,31,13,10,8,12,8]
[2007,5,22,11,10,11,19,34,11,15,6,10]
[2007,6,25,4,10,8,17,28,11,8,13,10]
[2007,7,32,8,8,6,18,28,11,0,14,8]
[2007,8,23,4,0,11,24,21,10,14,14,12]
[2007,9,27,4,7,11,17,21,11,13,15,13]
[2007,10,25,3,0,11,31,11,10,12,17,11]
[2007,11,23,6,10,16,32,28,12,15,21,16]
[2007,12,30,0,10,10,24,36,9,16,19,12]
[2008,1,19,5,13,7,27,5,8,6,11,8]
[2008,2,19,9,14,9,15,27,11,5,16,13]
[2008,3,24,8,0,11,18,20,11,12,13,14]
[2008,4,19,5,8,9,17,16,10,8,16,12]
[2008,5,22,4,10,12,9,19,11,9,11,13]
[2008,6,27,11,10,9,11,23,14,6,13,11]
[2008,7,30,9,7,7,18,19,11,8,8,8]
[2008,8,23,12,11,10,24,23,11,12,14,9]
[2008,9,27,10,8,13,9,10,11,8,18,13]
[2008,10,23,6,9,11,17,18,10,12,17,15]
[2008,11,24,13,20,17,21,22,12,15,26,15]
[2008,12,26,9,24,14,34,31,14,19,31,15]
[2009,1,21,5,6,10,14,24,10,0,18,9]
[2009,2,24,10,12,11,17,4,11,11,12,11]
[2009,3,23,5,3,11,13,17,12,11,16,11]
[2009,4,34,12,15,15,16,15,12,13,13,14]
[2009,5,27,20,9,12,13,18,13,6,15,15]
[2009,6,30,9,12,13,15,13,11,4,11,10]
[2009,7,31,7,11,11,18,15,11,12,16,10]
[2009,8,32,0,12,11,20,21,12,12,15,12]
[2009,9,30,7,16,12,12,7,12,9,11,13]
[2009,10,30,11,10,17,13,0,12,10,15,12]
[2009,11,32,11,16,21,18,19,11,8,23,14]
[2009,12,24,16,22,15,41,20,11,22,33,11]
[2010,1,28,9,4,9,26,12,11,6,13,10]
[2010,2,23,12,13,12,14,13,11,4,15,11]
[2010,3,31,12,8,13,14,19,11,10,14,10]
[2010,4,32,10,10,13,20,16,14,7,14,13]
[2010,5,28,8,10,15,9,8,12,12,16,11]
[2010,6,40,10,4,15,15,17,13,6,13,11]
[2010,7,32,6,6,9,25,15,12,10,12,9]
[2010,8,43,7,16,11,29,14,11,7,11,13]
[2010,9,30,6,14,18,20,17,10,9,17,20]
[2010,10,27,10,12,16,21,16,12,14,12,18]
[2010,11,30,14,14,23,35,23,12,13,18,21]
[2010,12,31,14,25,18,51,22,10,19,23,24]
[2011,1,26,9,12,12,19,12,10,11,19,15]
[2011,2,25,11,5,15,17,9,11,8,16,16]
[2011,3,30,10,9,18,19,13,12,8,16,18]
[2011,4,30,7,9,18,20,14,11,10,18,23]
[2011,5,31,13,12,18,15,11,10,9,12,22]
[2011,6,32,8,9,19,11,15,10,17,13,20]
[2011,7,31,14,11,13,21,15,10,6,15,28]
[2011,8,28,14,12,17,18,11,12,7,17,28]
[2011,9,26,14,10,20,25,15,11,14,16,28]
[2011,10,27,19,14,22,23,18,10,18,21,27]
[2011,11,31,22,13,26,28,20,11,23,27,26]
[2011,12,33,27,17,20,29,17,10,33,28,31]
[2012,1,25,22,12,15,21,14,10,25,16,22]
[2012,2,27,24,9,19,21,5,10,24,16,25]
[2012,3,29,23,8,21,17,16,11,17,15,24]
[2012,4,33,28,10,23,29,15,11,24,15,26]
[2012,5,24,33,10,23,22,15,11,22,16,28]
[2012,6,34,36,11,19,21,12,10,23,15,28]
[2012,7,31,29,11,17,18,13,12,25,16,27]
[2012,8,32,29,13,20,9,11,12,23,15,28]
[2012,9,28,26,10,22,20,15,11,30,16,27]
[2012,10,25,30,8,22,17,12,10,28,16,35]
[2012,11,29,33,16,25,32,12,11,28,22,34]
[2012,12,30,39,21,25,47,15,13,41,26,39]
[2013,1,28,23,9,15,22,15,13,25,18,28]
[2013,2,27,22,11,18,20,14,12,30,16,27]
[2013,3,29,29,8,21,19,8,13,23,15,31]
[2013,4,27,29,8,22,20,14,14,21,15,28]
[2013,5,27,31,9,24,20,18,14,19,16,28]
[2013,6,28,29,11,21,23,14,15,22,15,30]
[2013,7,25,25,11,16,26,13,14,23,16,30]
[2013,8,29,26,9,20,23,9,16,19,16,28]
[2013,9,20,32,10,24,31,11,13,23,15,29]
[2013,10,24,29,7,25,23,15,14,23,18,31]
[2013,11,34,33,15,30,34,15,19,36,22,41]
[2013,12,33,44,17,24,50,30,23,43,30,43]
[2014,1,28,32,10,17,23,11,19,29,21,37]
[2014,2,23,26,8,19,15,9,17,24,16,32]
[2014,3,30,33,8,23,27,13,20,24,16,35]
[2014,4,28,33,7,27,22,12,21,21,16,36]
[2014,5,27,30,9,25,21,10,20,25,16,34]
[2014,6,31,32,12,21,27,14,21,25,14,30]
[2014,7,44,23,12,21,17,16,21,24,14,26]
[2014,8,35,30,13,22,24,8,22,28,15,30]
[2014,9,33,28,12,25,23,11,20,24,13,32]
[2014,10,33,36,12,29,23,11,21,34,14,36]
[2014,11,35,33,14,32,36,14,27,34,22,39]
[2014,12,43,41,22,32,46,22,29,34,27,46]
[2015,1,35,27,29,20,25,11,23,18,17,32]
[2015,2,34,23,16,24,20,8,22,19,15,32]
[2015,3,41,27,16,28,19,8,24,23,13,34]
[2015,4,45,27,16,30,19,14,28,29,14,36]
[2015,5,41,32,18,32,18,10,28,24,13,36]
[2015,6,51,33,17,26,27,15,30,29,17,42]
[2015,7,59,31,21,23,28,12,29,35,20,37]
[2015,8,60,29,20,23,24,14,31,35,16,36]
[2015,9,55,32,21,30,31,9,28,32,17,43]
[2015,10,60,38,23,35,40,10,30,41,19,46]
[2015,11,78,44,39,47,53,15,37,58,23,58]
[2015,12,82,54,55,37,78,22,40,55,35,61]
[2016,1,69,30,43,20,24,11,28,29,21,39]
[2016,2,66,33,39,24,25,11,26,30,19,40]
[2016,3,67,35,26,29,24,12,28,35,17,45]
[2016,4,69,33,32,43,30,13,29,40,17,49]
[2016,5,69,44,36,42,28,14,27,41,16,44]
[2016,6,70,41,31,36,30,14,27,41,16,56]
[2016,7,79,38,37,33,23,15,29,30,20,43]
[2016,8,78,36,29,32,35,14,27,35,19,43]
[2016,9,72,45,29,34,38,12,23,42,17,51]
[2016,10,71,46,31,38,29,12,25,48,19,55]
[2016,11,97,52,54,48,53,17,35,73,30,77]
[2016,12,100,55,55,42,71,21,32,70,35,76]
[2017,1,74,37,33,28,30,11,23,44,25,51]
[2017,2,69,46,29,31,27,13,21,33,23,53]
[2017,3,67,37,29,32,28,10,23,34,18,58]
[2017,4,81,49,24,39,30,16,25,45,21,60]
[2017,5,68,51,24,38,27,16,21,41,22,68]
[2017,6,73,53,30,37,31,19,23,45,27,67]
[2017,7,69,52,39,36,32,16,26,36,23,53]
[2017,8,71,44,37,36,28,15,25,49,23,56]
[2017,9,65,56,29,42,29,15,21,55,22,64]
[2017,10,64,60,34,45,36,18,22,55,24,74]
[2017,11,100,88,62,55,68,19,32,98,42,97]
[2017,12,94,82,66,49,81,32,31,92,45,92]
[2018,1,64,50,34,42,33,18,22,44,31,62]
[2018,2,60,54,28,38,31,14,23,36,25,57]
[2018,3,57,55,31,43,31,17,20,49,25,54]
[2018,4,58,56,29,45,33,20,23,42,27,65]
[2018,5,57,59,27,46,31,16,23,43,25,65]
[2018,6,60,67,34,47,34,21,25,46,30,77]
[2018,7,64,57,38,41,39,19,25,41,31,56]
[2018,8,64,61,35,41,36,16,28,43,28,57]
[2018,9,59,57,34,51,39,16,30,52,31,65]
[2018,10,55,57,35,49,38,14,24,51,34,63]
[2018,11,79,76,60,60,71,23,38,84,55,91]
[2018,12,72,74,70,51,94,31,40,85,61,87]
[2019,1,56,61,36,38,32,14,29,49,44,65]
[2019,2,50,53,38,39,36,12,28,49,34,63]
[2019,3,57,58,34,44,35,20,30,39,30,59]
[2019,4,54,55,31,48,34,15,31,45,37,64]
[2019,5,51,58,33,56,38,15,32,45,28,68]
[2019,6,62,62,32,50,40,18,38,51,38,76]
[2019,7,58,50,39,41,33,21,35,48,38,55]
[2019,8,62,52,40,45,32,18,35,47,40,61]
[2019,9,56,59,36,51,36,17,29,47,37,63]
[2019,10,49,55,34,63,45,16,33,53,39,67]
[2019,11,74,69,58,66,74,30,53,79,72,92]
[2019,12,71,71,79,67,95,36,49,89,83,90]
[2020,1,56,49,37,42,46,16,36,47,45,60]
[2020,2,48,48,39,43,43,15,32,39,38,62]
[2020,3,44,36,30,43,26,12,32,32,28,45]
[2020,4,80,61,55,88,38,16,64,55,43,56]
[2020,5,99,84,57,97,38,21,74,81,50,65]
[2020,6,87,71,51,81,43,22,61,84,59,83]
[2020,7,79,64,47,61,41,20,54,62,56,64]
[2020,8,83,57,46,59,36,16,62,45,48,57]
[2020,9,62,63,41,70,43,18,44,59,44,66]
[2020,10,69,85,64,78,50,19,63,76,62,77]
[2020,11,90,100,100,100,75,24,100,100,100,100]
[2020,12,69,83,75,63,84,29,64,79,95,93]
[2021,1,67,64,60,63,38,15,60,64,63,66]
[2021,2,64,64,50,68,35,15,57,60,57,70]
[2021,3,76,56,41,91,39,16,64,57,49,76]
[2021,4,77,62,44,83,33,19,67,64,46,67]
[2021,5,67,84,39,64,32,15,67,61,44,76]
[2021,6,62,79,42,61,42,21,45,55,47,76]
[2021,7,59,63,39,53,49,20,48,55,51,59]
[2021,8,60,63,43,48,42,20,51,59,49,58]
[2021,9,50,61,39,54,45,17,42,62,48,67]
[2021,10,51,67,37,59,52,20,44,90,50,72]
[2021,11,71,71,68,64,82,26,71,82,81,87]
[2021,12,67,85,79,59,100,31,69,82,91,77]
[2022,1,59,54,40,47,39,16,46,56,55,68]
[2022,2,52,54,34,47,42,18,37,51,48,64]
[2022,3,49,57,29,49,42,18,40,52,38,69]
[2022,4,52,53,29,47,44,18,46,60,37,70]
[2022,5,61,51,28,46,37,23,40,60,37,71]
[2022,6,60,59,35,47,43,18,42,63,43,75]
[2022,7,57,46,33,41,42,21,41,52,41,60]
[2022,8,66,41,32,43,41,20,49,39,44,57]
[2022,9,58,47,29,48,40,16,47,51,39,60]
[2022,10,60,51,32,45,41,16,39,52,40,62]
[2022,11,77,59,55,52,76,25,76,63,74,91]
[2022,12,70,62,64,48,87,34,65,70,80,77]
[2023,1,60,39,33,36,48,20,45,42,52,63]
[2023,2,55,41,28,40,39,16,40,41,42,62]
[2023,3,57,44,26,39,38,19,39,41,37,63]
[2023,4,61,50,29,45,45,25,46,40,42,63]
[2023,5,63,49,26,43,44,19,49,43,34,64]
[2023,6,64,57,30,37,48,24,47,48,39,65]

{"sheet":"keywords(PL)","index":29,"n_rows":11,"n_cols":4,"rows_kept":11,"cut":false,"hidden":false,"merged":[]}
["id","url","country","brand*"]
[1,"https://trends.google.com/trends/explore?date=all&geo=PL&q=Adidas","PL","Adidas"]
[2,"https://trends.google.com/trends/explore?date=all&geo=PL&q=Bershka","PL","Bershka"]
[3,"https://trends.google.com/trends/explore?date=all&geo=PL&q=Calvin Klein","PL","Calvin Klein"]
[4,"https://trends.google.com/trends/explore?date=all&geo=PL&q=H&M","PL","H&M"]
[5,"https://trends.google.com/trends/explore?date=all&geo=PL&q=Hugo Boss","PL","Hugo Boss"]
[6,"https://trends.google.com/trends/explore?date=all&geo=PL&q=Lacoste","PL","Lacoste"]
[7,"https://trends.google.com/trends/explore?date=all&geo=PL&q=Nike","PL","Nike"]
[8,"https://trends.google.com/trends/explore?date=all&geo=PL&q=Pull and Bear","PL","Pull and Bear"]
[9,"https://trends.google.com/trends/explore?date=all&geo=PL&q=Tommy Hilfiger","PL","Tommy Hilfiger"]
[10,"https://trends.google.com/trends/explore?date=all&geo=PL&q=Zara","PL","Zara"]

{"sheet":"1...10 raw(PL)","index":30,"n_rows":236,"n_cols":12,"rows_kept":236,"cut":false,"hidden":false,"merged":[]}
["Poland",null,"Adidas","Bershka","Calvin Klein","H&M","Hugo Boss","Lacoste","Nike","Pull and Bear","Tommy Hilfiger","Zara"]
["Year","Month","Point","Point","Point","Point","Point","Point","Point","Point","Point","Point"]
[2004,1,16,0,14,5,28,20,15,0,14,2]
[2004,2,18,0,5,4,0,0,15,0,0,2]
[2004,3,33,0,0,7,20,12,32,11,0,4]
[2004,4,35,0,0,7,27,17,30,0,0,4]
[2004,5,28,0,8,6,18,14,27,6,4,4]
[2004,6,32,0,6,8,9,22,36,0,0,4]
[2004,7,29,4,4,6,19,32,27,7,0,2]
[2004,8,36,0,11,7,26,19,31,0,0,4]
[2004,9,28,0,14,10,31,35,28,0,8,5]
[2004,10,23,0,9,8,19,66,29,0,5,3]
[2004,11,24,0,8,9,22,20,21,0,0,3]
[2004,12,24,0,9,7,39,35,21,0,0,3]
[2005,1,19,0,3,6,20,30,18,0,4,4]
[2005,2,26,0,8,7,22,27,28,0,7,3]
[2005,3,44,0,3,11,24,43,35,3,4,4]
[2005,4,33,0,8,8,18,29,32,0,0,6]
[2005,5,31,0,8,7,23,25,30,0,2,4]
[2005,6,28,0,10,9,20,36,25,0,7,4]
[2005,7,29,0,6,9,27,28,25,0,4,4]
[2005,8,34,1,7,12,27,25,32,3,0,5]
[2005,9,28,0,9,14,23,12,30,0,0,7]
[2005,10,20,0,7,15,23,28,24,0,5,5]
[2005,11,18,2,10,13,27,35,26,0,2,5]
[2005,12,23,1,13,13,35,52,22,3,3,5]
[2006,1,17,2,7,9,21,36,20,3,3,5]
[2006,2,20,1,4,9,18,37,28,0,3,5]
[2006,3,24,0,7,13,26,33,35,0,3,6]
[2006,4,30,1,6,11,19,40,39,0,3,6]
[2006,5,25,1,7,12,15,33,35,1,2,6]
[2006,6,31,2,8,13,21,32,32,0,3,6]
[2006,7,26,1,7,11,15,38,26,0,2,5]
[2006,8,27,1,9,13,23,50,31,0,4,8]
[2006,9,21,0,4,13,27,77,27,0,4,6]
[2006,10,18,1,8,13,19,47,25,3,5,7]
[2006,11,16,2,8,13,27,35,21,2,4,6]
[2006,12,16,3,11,14,41,55,21,1,3,8]
[2007,1,15,2,6,8,20,30,19,0,3,6]
[2007,2,15,4,5,10,18,35,19,2,5,7]
[2007,3,22,5,6,14,22,46,29,4,7,7]
[2007,4,21,5,6,11,16,44,26,1,4,6]
[2007,5,18,4,8,13,18,41,24,2,4,7]
[2007,6,18,4,6,12,15,55,22,1,6,5]
[2007,7,20,5,8,11,18,47,23,0,4,6]
[2007,8,22,6,8,12,23,37,29,5,5,8]
[2007,9,20,7,7,16,22,61,29,4,5,10]
[2007,10,15,6,6,14,26,46,22,5,7,9]
[2007,11,14,4,7,12,23,46,19,4,8,7]
[2007,12,15,5,12,15,38,61,18,4,6,7]
[2008,1,12,4,5,8,21,37,18,3,4,6]
[2008,2,15,7,5,10,19,42,23,5,7,8]
[2008,3,20,7,7,11,24,52,25,5,6,8]
[2008,4,19,6,6,11,21,48,22,4,7,7]
[2008,5,18,4,6,11,20,49,23,3,6,7]
[2008,6,17,5,7,11,16,61,22,5,6,6]
[2008,7,18,7,7,10,23,55,22,4,9,6]
[2008,8,20,9,9,12,20,51,30,6,7,8]
[2008,9,16,8,9,13,24,45,25,10,8,10]
[2008,10,13,9,9,11,22,39,21,7,7,9]
[2008,11,14,7,10,11,27,41,20,5,8,8]
[2008,12,15,7,16,12,41,50,20,12,9,8]
[2009,1,13,9,7,9,18,37,20,8,8,7]
[2009,2,16,8,11,9,21,46,22,9,6,6]
[2009,3,23,13,9,13,20,58,38,10,9,8]
[2009,4,23,10,7,12,17,58,30,8,10,8]
[2009,5,21,11,11,12,18,55,23,8,10,7]
[2009,6,18,9,11,10,19,54,22,7,8,7]
[2009,7,20,8,12,10,21,52,22,9,9,7]
[2009,8,24,11,12,11,19,59,29,10,10,8]
[2009,9,20,10,11,13,22,55,24,9,12,9]
[2009,10,17,12,13,13,22,44,23,9,9,10]
[2009,11,15,10,17,14,28,48,20,9,9,9]
[2009,12,18,12,25,15,40,56,20,11,11,11]
[2010,1,16,9,11,12,18,35,18,9,9,9]
[2010,2,17,13,11,13,20,46,21,9,10,10]
[2010,3,23,12,12,16,23,58,28,13,13,11]
[2010,4,22,12,10,15,20,47,24,9,13,9]
[2010,5,21,9,10,16,17,53,23,8,12,9]
[2010,6,23,10,12,15,16,58,23,11,13,9]
[2010,7,22,11,9,13,16,59,22,9,13,8]
[2010,8,25,12,12,16,23,59,25,14,12,10]
[2010,9,23,14,12,18,22,47,24,15,17,13]
[2010,10,17,11,13,19,20,36,21,15,14,13]
[2010,11,16,12,13,20,25,37,19,12,12,11]
[2010,12,16,13,19,17,33,49,17,15,15,13]
[2011,1,17,13,12,17,19,39,19,12,12,12]
[2011,2,20,15,13,18,23,40,21,13,15,14]
[2011,3,28,16,11,19,22,49,28,14,16,15]
[2011,4,28,16,11,21,19,60,28,17,19,15]
[2011,5,25,16,12,22,22,56,23,13,16,16]
[2011,6,23,14,13,21,19,62,22,13,15,16]
[2011,7,25,16,14,18,23,64,23,10,18,16]
[2011,8,28,21,14,22,26,62,30,16,19,19]
[2011,9,26,24,15,28,28,56,26,19,18,20]
[2011,10,24,32,16,37,26,48,25,32,18,21]
[2011,11,21,38,20,35,29,54,21,32,19,23]
[2011,12,22,47,27,37,43,60,20,42,23,26]
[2012,1,19,44,15,27,25,41,19,38,18,22]
[2012,2,22,52,15,31,21,49,23,36,18,23]
[2012,3,32,60,16,40,22,73,35,51,20,35]
[2012,4,29,57,17,34,20,64,29,50,18,27]
[2012,5,28,55,15,35,23,58,22,45,21,28]
[2012,6,31,58,17,31,27,64,26,45,20,28]
[2012,7,27,63,16,30,22,63,26,48,23,29]
[2012,8,30,71,16,38,26,61,34,61,25,32]
[2012,9,28,76,17,42,30,58,29,66,25,40]
[2012,10,25,71,17,44,29,55,25,71,24,41]
[2012,11,24,65,21,41,35,49,21,65,22,37]
[2012,12,23,78,32,45,46,67,23,82,29,45]
[2013,1,21,63,14,33,25,38,20,78,22,41]
[2013,2,23,70,19,35,28,47,27,76,21,33]
[2013,3,31,57,16,41,28,58,39,78,24,34]
[2013,4,30,59,14,41,23,63,42,65,22,32]
[2013,5,27,55,14,39,32,63,34,59,23,25]
[2013,6,25,63,15,35,26,64,33,66,23,36]
[2013,7,24,65,16,34,25,61,35,75,29,37]
[2013,8,32,63,17,39,26,62,43,66,27,40]
[2013,9,29,66,17,54,31,57,42,81,25,44]
[2013,10,25,68,18,45,28,45,34,76,23,41]
[2013,11,24,69,24,48,35,47,32,74,21,42]
[2013,12,20,75,34,54,56,57,31,86,31,52]
[2014,1,24,62,15,33,23,42,33,76,22,43]
[2014,2,27,63,18,39,27,54,45,70,24,39]
[2014,3,43,64,19,48,27,68,67,73,24,41]
[2014,4,40,62,17,50,24,70,52,69,25,38]
[2014,5,34,53,18,46,24,63,47,60,24,36]
[2014,6,34,60,19,41,27,67,45,72,26,42]
[2014,7,34,63,19,37,26,65,45,76,28,39]
[2014,8,44,68,21,48,32,66,56,75,29,43]
[2014,9,34,61,19,47,29,54,46,75,24,45]
[2014,10,34,61,21,51,30,44,39,76,22,47]
[2014,11,31,57,27,51,37,47,33,72,26,43]
[2014,12,26,70,42,54,58,57,33,85,32,53]
[2015,1,35,63,29,38,27,41,37,76,28,49]
[2015,2,42,58,26,40,30,49,46,61,24,41]
[2015,3,60,64,25,60,25,70,64,71,25,44]
[2015,4,59,59,22,71,25,73,57,65,24,48]
[2015,5,52,54,24,67,24,65,48,53,24,38]
[2015,6,53,62,25,62,27,66,43,61,29,48]
[2015,7,52,58,27,57,25,67,44,63,33,42]
[2015,8,63,57,29,61,26,56,50,53,31,41]
[2015,9,55,62,29,67,36,51,46,57,30,54]
[2015,10,44,65,29,73,34,45,40,63,28,59]
[2015,11,40,62,37,76,41,44,36,65,31,55]
[2015,12,43,70,64,77,68,60,36,72,39,72]
[2016,1,45,55,36,57,29,39,39,58,28,54]
[2016,2,64,52,37,57,28,46,49,43,27,52]
[2016,3,73,52,35,59,26,59,61,46,26,50]
[2016,4,73,55,34,70,26,68,55,33,29,49]
[2016,5,61,53,37,68,25,76,46,38,31,46]
[2016,6,56,52,33,65,27,64,44,42,35,58]
[2016,7,63,52,40,65,28,61,48,39,37,52]
[2016,8,75,52,41,64,32,58,54,33,37,50]
[2016,9,64,51,46,63,40,51,44,34,37,52]
[2016,10,52,56,41,73,38,49,40,36,38,60]
[2016,11,45,54,47,75,45,43,37,37,39,57]
[2016,12,47,63,72,77,70,63,36,52,51,70]
[2017,1,48,52,40,55,27,38,35,45,39,63]
[2017,2,59,50,46,56,30,49,42,32,38,53]
[2017,3,86,55,45,69,31,68,63,63,41,61]
[2017,4,71,51,41,68,30,65,50,59,45,53]
[2017,5,59,51,40,70,30,60,43,48,47,51]
[2017,6,61,56,47,71,32,69,44,61,57,61]
[2017,7,68,52,51,69,32,71,46,42,59,57]
[2017,8,79,53,61,62,34,64,54,39,57,58]
[2017,9,70,58,53,77,42,60,50,63,58,67]
[2017,10,57,55,46,79,37,47,41,46,55,73]
[2017,11,62,61,70,90,66,61,42,29,60,88]
[2017,12,58,66,83,82,78,72,39,29,73,89]
[2018,1,59,52,49,66,37,52,39,27,56,81]
[2018,2,63,48,54,65,35,59,43,22,57,69]
[2018,3,88,44,51,75,37,73,62,23,59,71]
[2018,4,99,55,51,79,38,99,64,24,71,65]
[2018,5,70,50,53,73,39,86,45,19,69,56]
[2018,6,73,48,61,74,39,91,45,26,72,72]
[2018,7,77,49,69,66,43,93,51,24,84,62]
[2018,8,87,47,86,75,45,89,58,23,86,60]
[2018,9,77,49,84,76,47,76,52,27,82,71]
[2018,10,60,51,62,75,43,64,43,26,79,70]
[2018,11,62,58,85,93,66,84,40,30,84,92]
[2018,12,56,57,100,85,91,89,39,59,100,88]
[2019,1,55,65,57,64,39,60,38,55,70,81]
[2019,2,68,58,57,58,45,77,50,32,75,69]
[2019,3,100,55,62,69,39,95,73,29,66,64]
[2019,4,86,58,56,81,46,100,63,54,81,57]
[2019,5,72,50,58,78,39,93,51,44,71,58]
[2019,6,68,68,54,100,40,92,46,42,79,75]
[2019,7,73,58,67,75,44,87,50,49,93,64]
[2019,8,80,59,62,73,43,85,62,45,87,57]
[2019,9,72,60,60,84,50,75,52,56,73,72]
[2019,10,55,59,54,81,46,66,47,39,76,71]
[2019,11,64,78,70,94,69,79,52,64,88,95]
[2019,12,56,81,82,89,100,94,44,66,94,100]
[2020,1,56,81,54,63,39,56,47,56,69,81]
[2020,2,68,85,54,57,42,72,57,30,67,67]
[2020,3,72,69,37,53,30,66,59,50,49,54]
[2020,4,81,100,40,68,32,76,59,88,61,58]
[2020,5,78,94,50,65,37,88,62,50,67,59]
[2020,6,71,89,50,72,40,91,54,61,77,69]
[2020,7,61,84,58,63,42,88,57,73,77,58]
[2020,8,71,91,57,70,44,78,65,64,74,59]
[2020,9,64,100,52,70,46,78,59,67,83,64]
[2020,10,46,80,46,65,40,60,52,63,62,64]
[2020,11,49,99,66,65,59,62,49,79,77,77]
[2020,12,45,92,82,63,87,79,40,82,100,72]
[2021,1,42,95,49,51,35,52,42,100,70,78]
[2021,2,50,72,54,54,41,64,52,76,78,67]
[2021,3,67,53,47,47,36,68,62,57,66,57]
[2021,4,62,56,45,46,38,72,59,60,68,47]
[2021,5,60,49,49,54,38,80,56,53,70,47]
[2021,6,55,60,49,59,42,84,48,66,75,53]
[2021,7,52,60,50,51,41,75,50,68,73,52]
[2021,8,69,62,54,57,47,80,68,81,78,49]
[2021,9,54,57,51,53,46,68,57,71,76,51]
[2021,10,48,62,46,54,46,59,50,66,69,56]
[2021,11,51,61,63,60,68,67,51,72,85,64]
[2021,12,42,67,80,53,90,75,50,75,94,66]
[2022,1,44,70,47,41,42,58,50,76,65,61]
[2022,2,75,59,48,38,49,68,62,61,66,49]
[2022,3,84,66,46,45,48,83,90,64,76,53]
[2022,4,77,59,43,45,50,89,88,61,71,55]
[2022,5,68,49,48,47,50,96,79,58,70,54]
[2022,6,67,51,48,49,50,86,65,65,76,57]
[2022,7,67,51,54,43,50,84,70,64,74,55]
[2022,8,77,51,53,47,50,74,95,57,73,46]
[2022,9,75,57,53,56,55,69,88,62,70,59]
[2022,10,60,51,50,50,54,64,75,61,60,56]
[2022,11,63,66,65,58,74,68,84,72,80,69]
[2022,12,59,68,84,55,98,83,79,80,90,72]
[2023,1,59,55,39,37,49,63,71,63,65,64]
[2023,2,61,52,49,39,54,67,76,51,67,58]
[2023,3,86,50,50,41,48,81,95,50,68,61]
[2023,4,87,52,46,42,49,91,100,52,67,63]
[2023,5,77,45,45,45,47,87,85,47,67,57]
[2023,6,69,47,48,48,52,95,84,55,77,51]

{"sheet":"keywords(LV)","index":31,"n_rows":11,"n_cols":4,"rows_kept":11,"cut":false,"hidden":false,"merged":[]}
["id","url","country","brand*"]
[1,"https://trends.google.com/trends/explore?date=all&geo=LV&q=Adidas","LV","Adidas"]
[2,"https://trends.google.com/trends/explore?date=all&geo=LV&q=Bershka","LV","Bershka"]
[3,"https://trends.google.com/trends/explore?date=all&geo=LV&q=Calvin Klein","LV","Calvin Klein"]
[4,"https://trends.google.com/trends/explore?date=all&geo=LV&q=H&M","LV","H&M"]
[5,"https://trends.google.com/trends/explore?date=all&geo=LV&q=Hugo Boss","LV","Hugo Boss"]
[6,"https://trends.google.com/trends/explore?date=all&geo=LV&q=Lacoste","LV","Lacoste"]
[7,"https://trends.google.com/trends/explore?date=all&geo=LV&q=Nike","LV","Nike"]
[8,"https://trends.google.com/trends/explore?date=all&geo=LV&q=Pull and Bear","LV","Pull and Bear"]
[9,"https://trends.google.com/trends/explore?date=all&geo=LV&q=Tommy Hilfiger","LV","Tommy Hilfiger"]
[10,"https://trends.google.com/trends/explore?date=all&geo=LV&q=Zara","LV","Zara"]

{"sheet":"1...10 raw(LV)","index":32,"n_rows":236,"n_cols":12,"rows_kept":236,"cut":false,"hidden":false,"merged":[]}
["Latvia",null,"Adidas","Bershka","Calvin Klein","H&M","Hugo Boss","Lacoste","Nike","Pull and Bear","Tommy Hilfiger","Zara"]
["Year","Month","Point","Point","Point","Point","Point","Point","Point","Point","Point","Point"]
[2004,1,0,0,0,0,0,0,0,0,0,34]
[2004,2,0,0,0,23,0,0,0,0,0,55]
[2004,3,65,0,0,0,0,0,0,100,0,100]
[2004,4,100,42,0,0,0,0,91,50,75,0]
[2004,5,49,0,0,0,0,0,87,0,0,0]
[2004,6,0,0,0,0,0,0,91,0,0,43]
[2004,7,0,0,0,0,50,0,0,0,0,0]
[2004,8,60,0,0,0,0,0,66,0,0,0]
[2004,9,0,0,0,0,0,0,35,34,0,34]
[2004,10,0,0,0,0,0,0,0,0,85,0]
[2004,11,41,0,0,0,0,57,41,0,0,0]
[2004,12,49,19,0,0,100,100,24,0,0,0]
[2005,1,78,0,0,0,0,71,0,0,0,0]
[2005,2,26,29,0,0,0,0,38,0,0,39]
[2005,3,42,0,0,0,0,0,0,25,69,0]
[2005,4,0,0,0,22,0,0,64,0,0,0]
[2005,5,37,0,0,0,0,0,0,0,0,34]
[2005,6,0,100,0,0,0,0,0,0,53,0]
[2005,7,0,0,76,0,0,0,24,0,0,0]
[2005,8,25,0,0,28,39,0,43,12,0,0]
[2005,9,20,0,0,0,22,0,53,0,0,0]
[2005,10,0,0,66,13,0,55,41,19,0,0]
[2005,11,27,0,0,0,22,0,50,0,0,0]
[2005,12,0,0,0,0,0,0,39,0,0,11]
[2006,1,18,0,0,0,0,20,23,0,0,9]
[2006,2,19,0,100,18,15,16,31,0,0,9]
[2006,3,43,0,84,0,0,0,31,0,20,0]
[2006,4,23,0,0,8,24,26,11,0,42,0]
[2006,5,66,0,0,8,32,0,28,0,0,0]
[2006,6,12,0,50,0,0,0,28,0,0,16]
[2006,7,14,0,29,9,10,32,35,0,0,21]
[2006,8,20,0,0,0,0,0,37,0,0,13]
[2006,9,59,7,0,5,0,0,22,0,0,12]
[2006,10,11,0,21,0,9,8,25,0,0,13]
[2006,11,9,0,0,0,0,9,19,6,0,0]
[2006,12,21,0,0,0,13,0,29,8,0,15]
[2007,1,31,9,0,5,6,48,32,0,19,11]
[2007,2,29,14,0,0,18,0,34,0,50,15]
[2007,3,29,0,22,3,0,7,34,0,0,7]
[2007,4,29,0,0,6,17,0,27,12,0,14]
[2007,5,22,0,0,3,0,0,32,4,0,9]
[2007,6,30,0,73,0,20,0,48,0,0,26]
[2007,7,14,6,33,0,8,11,35,0,0,21]
[2007,8,35,0,0,11,0,0,36,0,0,13]
[2007,9,24,8,0,7,23,9,38,14,14,16]
[2007,10,27,0,17,4,11,0,37,0,17,16]
[2007,11,22,0,0,4,9,5,30,0,8,17]
[2007,12,15,0,0,9,7,7,26,0,0,20]
[2008,1,22,0,0,6,4,10,30,8,0,12]
[2008,2,22,0,0,2,16,10,43,10,12,18]
[2008,3,19,0,0,0,17,0,33,6,0,9]
[2008,4,23,3,15,3,16,0,46,6,0,4]
[2008,5,0,0,27,4,0,9,44,0,17,11]
[2008,6,36,0,15,11,14,0,37,0,0,11]
[2008,7,42,8,0,3,0,11,45,3,10,14]
[2008,8,36,0,19,2,7,13,42,0,0,14]
[2008,9,19,0,0,4,0,0,41,0,12,14]
[2008,10,28,7,0,4,4,4,30,0,0,15]
[2008,11,22,0,11,4,5,4,29,0,20,14]
[2008,12,34,3,16,3,6,0,34,3,7,4]
[2009,1,23,0,12,5,6,0,29,4,0,18]
[2009,2,16,9,18,4,3,7,28,4,0,4]
[2009,3,30,0,9,4,5,0,39,0,7,10]
[2009,4,31,5,29,9,0,3,42,4,16,14]
[2009,5,24,0,22,8,4,15,24,4,15,11]
[2009,6,24,0,0,0,0,5,32,0,0,15]
[2009,7,27,4,13,4,0,9,27,0,0,12]
[2009,8,26,5,26,9,5,0,55,2,0,13]
[2009,9,18,10,0,8,8,4,33,0,0,7]
[2009,10,30,8,23,6,12,0,28,0,0,10]
[2009,11,16,5,10,11,10,0,39,7,10,12]
[2009,12,0,5,26,6,4,9,30,0,0,19]
[2010,1,14,6,15,7,4,4,29,0,9,19]
[2010,2,11,0,43,11,7,7,22,0,0,10]
[2010,3,25,0,30,6,11,3,27,0,15,16]
[2010,4,33,3,18,7,17,3,36,6,0,14]
[2010,5,23,0,9,8,4,0,23,0,0,15]
[2010,6,20,0,15,6,10,5,26,2,0,16]
[2010,7,24,0,0,6,10,8,34,0,9,18]
[2010,8,20,0,0,16,0,3,36,0,0,16]
[2010,9,22,0,0,13,14,6,41,2,8,17]
[2010,10,22,3,26,13,14,10,33,5,16,20]
[2010,11,29,0,13,19,14,5,41,0,0,18]
[2010,12,22,0,39,7,10,6,33,0,0,21]
[2011,1,26,3,15,12,9,2,37,1,11,11]
[2011,2,19,7,19,14,6,3,29,3,11,18]
[2011,3,28,0,15,11,9,6,35,2,4,21]
[2011,4,40,3,29,14,7,7,33,5,9,20]
[2011,5,30,3,26,12,10,5,29,3,7,17]
[2011,6,26,4,12,9,5,8,32,0,0,19]
[2011,7,36,5,0,17,8,3,35,3,6,17]
[2011,8,35,4,24,16,13,5,73,4,10,24]
[2011,9,27,3,22,13,12,9,37,1,14,21]
[2011,10,26,10,33,18,8,6,32,6,12,29]
[2011,11,25,4,0,15,12,4,29,3,0,21]
[2011,12,24,4,39,13,11,7,29,4,6,25]
[2012,1,30,6,31,22,13,2,30,4,12,27]
[2012,2,29,8,17,17,9,2,25,4,13,26]
[2012,3,32,10,28,20,9,7,36,3,16,26]
[2012,4,34,5,29,19,6,3,41,4,3,27]
[2012,5,21,11,15,15,8,6,35,5,8,29]
[2012,6,32,6,19,16,9,8,42,6,8,24]
[2012,7,28,7,22,16,5,6,40,1,0,18]
[2012,8,27,6,30,23,7,2,72,6,13,27]
[2012,9,31,8,23,100,9,7,31,4,6,28]
[2012,10,19,10,31,40,10,8,29,5,14,22]
[2012,11,21,7,7,28,9,1,29,3,21,20]
[2012,12,18,6,32,26,15,6,21,4,18,24]
[2013,1,24,2,27,22,8,0,26,4,15,27]
[2013,2,27,10,12,22,7,6,32,2,11,24]
[2013,3,29,5,29,21,11,4,33,1,18,16]
[2013,4,31,7,27,22,8,5,41,6,14,24]
[2013,5,25,3,19,20,5,5,31,7,13,24]
[2013,6,21,5,26,16,9,8,29,4,8,30]
[2013,7,24,4,28,15,7,7,41,2,11,25]
[2013,8,28,6,21,23,11,5,76,2,22,30]
[2013,9,28,4,18,24,9,0,31,6,18,25]
[2013,10,16,2,20,24,15,4,28,3,15,30]
[2013,11,24,5,23,21,13,4,31,2,9,27]
[2013,12,11,7,29,20,17,7,30,3,17,28]
[2014,1,27,9,28,14,12,4,35,3,27,24]
[2014,2,30,6,24,14,9,4,44,3,10,23]
[2014,3,29,5,25,19,9,8,50,2,24,28]
[2014,4,26,4,26,22,6,4,49,1,17,24]
[2014,5,24,6,18,18,9,7,46,3,20,24]
[2014,6,28,4,10,19,10,9,43,3,15,21]
[2014,7,29,3,20,17,9,4,48,3,24,18]
[2014,8,29,8,19,21,7,5,64,4,19,27]
[2014,9,28,7,27,21,8,5,66,6,19,25]
[2014,10,24,5,37,21,8,5,36,4,28,22]
[2014,11,16,6,31,21,9,5,36,3,29,24]
[2014,12,19,5,27,19,18,4,34,3,18,25]
[2015,1,27,4,30,15,13,3,35,2,19,19]
[2015,2,28,6,21,12,8,3,53,3,12,22]
[2015,3,35,4,35,17,5,5,62,4,16,25]
[2015,4,32,5,22,18,9,6,64,3,12,31]
[2015,5,33,5,15,20,6,5,62,4,23,29]
[2015,6,28,7,24,21,10,7,53,5,24,29]
[2015,7,25,5,28,21,10,8,65,1,42,21]
[2015,8,33,5,17,21,11,5,71,4,32,26]
[2015,9,33,7,25,21,11,3,81,2,27,33]
[2015,10,36,6,19,23,11,4,43,3,27,31]
[2015,11,21,7,28,22,7,4,39,4,24,29]
[2015,12,25,5,47,22,15,6,41,3,27,33]
[2016,1,28,3,25,16,8,2,35,4,27,21]
[2016,2,43,6,40,16,6,5,53,3,29,26]
[2016,3,49,5,37,28,7,2,64,3,22,26]
[2016,4,48,5,26,24,9,5,68,2,21,41]
[2016,5,41,6,29,26,5,3,47,3,18,35]
[2016,6,36,6,28,22,12,0,54,4,26,36]
[2016,7,48,5,30,21,11,2,55,2,39,31]
[2016,8,60,5,25,27,6,5,62,3,29,33]
[2016,9,47,0,27,27,8,2,53,3,29,37]
[2016,10,41,6,26,31,10,5,46,4,22,43]
[2016,11,38,3,38,26,9,2,33,1,22,39]
[2016,12,33,6,32,26,15,5,31,2,29,40]
[2017,1,44,2,28,17,13,4,42,2,48,37]
[2017,2,51,5,28,18,7,1,52,4,25,31]
[2017,3,55,7,28,21,9,7,62,2,19,38]
[2017,4,65,5,25,24,8,3,60,2,28,40]
[2017,5,52,5,32,21,8,4,47,1,33,48]
[2017,6,58,6,32,27,12,4,40,3,32,44]
[2017,7,59,7,33,29,9,5,52,4,45,36]
[2017,8,64,8,32,31,11,3,62,4,49,49]
[2017,9,56,6,25,27,10,6,51,3,40,48]
[2017,10,50,7,35,26,10,2,42,4,45,50]
[2017,11,49,5,35,29,11,2,38,5,40,46]
[2017,12,42,5,36,25,14,6,42,3,39,45]
[2018,1,50,8,35,24,13,6,48,5,45,41]
[2018,2,47,5,39,20,8,4,48,3,44,36]
[2018,3,66,6,38,21,7,3,62,2,32,42]
[2018,4,68,6,33,22,13,2,71,0,41,52]
[2018,5,71,6,28,20,8,5,58,3,38,39]
[2018,6,62,9,41,21,10,2,50,3,50,40]
[2018,7,64,6,44,23,8,3,59,4,62,39]
[2018,8,72,7,47,27,10,3,69,2,55,47]
[2018,9,63,7,40,23,12,2,63,2,47,55]
[2018,10,43,11,33,24,12,2,41,4,41,53]
[2018,11,37,6,57,26,14,5,44,4,42,55]
[2018,12,40,10,46,21,17,4,40,3,46,54]
[2019,1,47,6,39,18,10,8,45,6,63,50]
[2019,2,46,9,55,20,9,2,56,4,48,44]
[2019,3,57,12,40,26,9,4,64,2,57,49]
[2019,4,59,9,42,25,5,3,69,4,51,51]
[2019,5,55,9,35,19,12,4,62,4,43,57]
[2019,6,49,10,49,21,12,3,58,4,77,58]
[2019,7,71,11,61,22,6,4,72,6,100,52]
[2019,8,69,14,47,25,11,4,73,7,74,53]
[2019,9,50,13,35,26,12,4,67,4,57,67]
[2019,10,43,10,35,23,10,4,53,4,58,61]
[2019,11,40,11,36,23,6,4,49,5,71,70]
[2019,12,37,10,63,25,16,6,56,6,63,65]
[2020,1,44,9,50,22,12,3,58,5,54,53]
[2020,2,49,9,37,19,10,1,68,4,60,50]
[2020,3,31,11,32,18,6,2,58,3,53,47]
[2020,4,40,14,35,30,4,2,73,6,63,61]
[2020,5,48,19,49,26,10,3,78,6,63,61]
[2020,6,45,15,52,29,8,6,76,7,66,62]
[2020,7,51,14,48,22,8,7,78,4,81,51]
[2020,8,57,18,39,28,9,5,99,5,74,67]
[2020,9,39,17,44,24,8,4,72,5,61,67]
[2020,10,37,11,49,24,11,2,61,5,63,68]
[2020,11,31,17,45,21,10,3,60,4,64,77]
[2020,12,29,17,61,29,13,3,50,7,62,76]
[2021,1,35,21,43,33,8,3,55,8,90,80]
[2021,2,31,25,46,30,11,3,56,8,76,68]
[2021,3,47,34,53,39,9,4,98,11,75,93]
[2021,4,59,23,55,30,8,3,100,7,61,73]
[2021,5,45,25,39,28,7,2,78,8,59,76]
[2021,6,34,23,49,29,7,4,57,8,73,56]
[2021,7,31,18,57,23,4,3,71,4,82,55]
[2021,8,40,24,50,24,8,4,96,6,53,67]
[2021,9,33,23,58,21,9,2,61,9,64,63]
[2021,10,25,17,23,19,10,2,54,7,56,63]
[2021,11,35,22,55,21,12,7,54,7,68,75]
[2021,12,28,21,58,20,18,3,51,6,48,69]
[2022,1,33,17,46,17,13,5,56,5,67,63]
[2022,2,35,13,39,16,9,3,63,6,53,46]
[2022,3,40,14,41,18,10,7,90,6,42,50]
[2022,4,49,12,38,19,10,4,87,6,42,56]
[2022,5,38,11,38,18,9,4,81,6,41,48]
[2022,6,37,14,42,18,8,2,71,5,33,66]
[2022,7,33,12,40,17,10,3,81,5,48,50]
[2022,8,48,14,33,19,9,5,96,6,53,55]
[2022,9,40,12,37,19,9,5,83,5,52,63]
[2022,10,30,12,39,19,10,2,71,5,42,60]
[2022,11,42,15,45,23,10,2,80,5,51,67]
[2022,12,27,9,50,17,15,4,69,5,54,62]
[2023,1,36,10,39,16,10,5,76,5,46,57]
[2023,2,39,11,51,16,10,4,74,3,34,51]
[2023,3,47,9,31,15,9,4,93,4,31,59]
[2023,4,53,13,43,16,10,5,100,4,35,57]
[2023,5,51,11,27,16,10,5,77,6,44,47]
[2023,6,51,13,34,17,6,13,82,9,40,61]

{"sheet":"keywords(LT)","index":33,"n_rows":11,"n_cols":4,"rows_kept":11,"cut":false,"hidden":false,"merged":[]}
["id","url","country","brand*"]
[1,"https://trends.google.com/trends/explore?date=all&geo=LT&q=Adidas","LT","Adidas"]
[2,"https://trends.google.com/trends/explore?date=all&geo=LT&q=Bershka","LT","Bershka"]
[3,"https://trends.google.com/trends/explore?date=all&geo=LT&q=Calvin Klein","LT","Calvin Klein"]
[4,"https://trends.google.com/trends/explore?date=all&geo=LT&q=H&M","LT","H&M"]
[5,"https://trends.google.com/trends/explore?date=all&geo=LT&q=Hugo Boss","LT","Hugo Boss"]
[6,"https://trends.google.com/trends/explore?date=all&geo=LT&q=Lacoste","LT","Lacoste"]
[7,"https://trends.google.com/trends/explore?date=all&geo=LT&q=Nike","LT","Nike"]
[8,"https://trends.google.com/trends/explore?date=all&geo=LT&q=Pull and Bear","LT","Pull and Bear"]
[9,"https://trends.google.com/trends/explore?date=all&geo=LT&q=Tommy Hilfiger","LT","Tommy Hilfiger"]
[10,"https://trends.google.com/trends/explore?date=all&geo=LT&q=Zara","LT","Zara"]

{"sheet":"1...10 raw(LT)","index":34,"n_rows":236,"n_cols":12,"rows_kept":236,"cut":false,"hidden":false,"merged":[]}
["Lithuania",null,"Adidas","Bershka","Calvin Klein","H&M","Hugo Boss","Lacoste","Nike","Pull and Bear","Tommy Hilfiger","Zara"]
["Year","Month","Point","Point","Point","Point","Point","Point","Point","Point","Point","Point"]
[2004,1,95,0,56,0,100,0,25,0,0,0]
[2004,2,28,0,0,0,48,0,0,0,0,0]
[2004,3,79,48,75,0,0,0,44,0,0,0]
[2004,4,25,0,0,0,0,0,27,0,0,0]
[2004,5,32,0,0,11,0,0,27,0,0,9]
[2004,6,44,70,100,0,0,0,0,0,0,11]
[2004,7,0,0,0,0,0,0,14,0,0,0]
[2004,8,54,0,0,0,0,0,0,51,26,0]
[2004,9,53,39,0,21,76,100,23,0,0,0]
[2004,10,30,0,0,0,50,61,24,44,0,0]
[2004,11,41,0,0,38,45,0,28,0,100,19]
[2004,12,0,0,0,0,0,0,21,0,0,16]
[2005,1,21,0,0,8,0,99,7,0,0,6]
[2005,2,57,16,50,0,42,0,55,0,0,8]
[2005,3,31,0,0,9,52,52,39,0,0,15]
[2005,4,22,0,30,11,73,0,34,38,0,14]
[2005,5,11,0,0,0,31,0,32,0,0,7]
[2005,6,13,0,46,0,0,0,20,0,15,6]
[2005,7,42,0,41,0,44,0,31,0,0,0]
[2005,8,57,0,0,6,0,0,39,0,0,0]
[2005,9,62,0,27,0,0,0,9,46,0,12]
[2005,10,32,0,0,7,0,0,15,0,0,13]
[2005,11,16,0,34,7,0,0,20,0,0,18]
[2005,12,35,0,0,8,51,27,35,28,0,9]
[2006,1,52,0,0,0,0,37,8,42,44,10]
[2006,2,48,9,17,0,19,0,25,53,0,6]
[2006,3,31,10,0,15,14,0,14,0,0,9]
[2006,4,41,0,0,7,0,53,15,0,21,6]
[2006,5,26,9,15,0,0,25,12,0,0,13]
[2006,6,33,0,19,10,0,0,17,0,0,23]
[2006,7,24,0,15,9,0,57,24,0,19,10]
[2006,8,25,19,0,0,14,52,13,31,0,15]
[2006,9,15,0,24,5,24,0,20,0,0,12]
[2006,10,41,14,0,7,25,0,23,0,8,11]
[2006,11,12,18,9,6,37,69,9,15,0,4]
[2006,12,17,0,0,8,38,0,19,0,12,13]
[2007,1,34,14,11,8,0,15,15,10,0,18]
[2007,2,18,0,12,11,27,35,10,0,0,11]
[2007,3,45,12,11,4,0,60,22,0,0,12]
[2007,4,43,17,0,6,17,13,17,0,0,16]
[2007,5,30,10,10,4,12,13,25,14,23,7]
[2007,6,23,9,0,7,13,43,18,0,0,14]
[2007,7,23,15,9,10,14,27,18,29,0,6]
[2007,8,36,31,7,8,13,18,23,0,10,17]
[2007,9,22,14,0,4,26,18,21,0,15,12]
[2007,10,33,21,0,10,12,29,20,12,8,15]
[2007,11,4,14,15,9,7,35,19,16,0,14]
[2007,12,29,10,20,10,36,32,21,0,0,13]
[2008,1,21,18,13,8,32,12,17,23,0,12]
[2008,2,30,10,0,5,11,10,24,9,12,17]
[2008,3,28,30,13,7,16,0,31,0,7,15]
[2008,4,24,16,14,12,15,33,26,0,6,16]
[2008,5,27,13,12,8,7,32,27,11,6,10]
[2008,6,41,17,14,8,17,27,30,0,0,7]
[2008,7,32,8,18,8,16,47,23,0,0,9]
[2008,8,49,32,26,10,10,14,34,33,8,13]
[2008,9,35,14,19,11,21,20,28,15,0,14]
[2008,10,38,13,19,6,25,30,20,5,4,15]
[2008,11,32,36,19,9,19,16,23,8,0,12]
[2008,12,43,9,22,10,29,25,25,6,5,9]
[2009,1,26,7,18,10,22,20,25,8,11,9]
[2009,2,27,10,29,7,19,25,26,15,7,10]
[2009,3,38,22,26,8,15,13,27,18,17,16]
[2009,4,39,19,21,7,12,44,30,16,3,14]
[2009,5,31,15,17,10,14,16,25,9,0,10]
[2009,6,31,8,24,12,13,42,23,21,7,9]
[2009,7,31,19,29,11,14,24,25,0,6,11]
[2009,8,47,17,19,10,23,31,42,23,0,15]
[2009,9,36,20,18,9,26,18,25,10,5,12]
[2009,10,39,14,19,10,26,38,23,17,9,11]
[2009,11,28,9,26,7,25,15,27,5,6,11]
[2009,12,33,12,37,10,37,31,29,20,16,12]
[2010,1,31,10,27,10,15,22,24,16,0,9]
[2010,2,48,7,21,12,15,24,24,14,5,9]
[2010,3,41,16,22,14,18,32,26,18,3,12]
[2010,4,49,11,21,13,15,37,29,13,4,11]
[2010,5,38,7,17,14,16,20,22,6,8,11]
[2010,6,44,12,23,16,10,29,29,8,10,15]
[2010,7,36,10,21,15,21,15,26,7,5,15]
[2010,8,54,13,27,18,27,28,39,8,9,13]
[2010,9,49,9,29,19,27,9,32,5,9,15]
[2010,10,48,13,22,23,28,24,27,19,9,17]
[2010,11,49,16,25,23,29,15,28,16,11,22]
[2010,12,53,13,41,15,25,33,28,8,7,23]
[2011,1,55,12,18,20,19,20,30,19,11,21]
[2011,2,44,11,25,19,20,21,32,9,10,15]
[2011,3,58,14,23,23,20,27,37,10,3,20]
[2011,4,58,14,25,25,13,27,33,19,4,29]
[2011,5,62,10,17,22,17,27,33,15,5,24]
[2011,6,57,9,23,24,25,31,23,8,8,18]
[2011,7,67,14,21,23,22,23,30,13,5,21]
[2011,8,85,16,33,32,23,37,46,19,13,24]
[2011,9,68,12,22,29,29,25,37,15,11,22]
[2011,10,69,12,28,34,25,30,38,30,10,35]
[2011,11,61,16,32,29,25,26,31,52,18,22]
[2011,12,56,13,38,27,35,28,27,43,11,22]
[2012,1,55,17,24,30,22,14,25,36,10,21]
[2012,2,63,18,23,29,25,21,30,29,6,22]
[2012,3,74,25,27,30,18,35,36,44,9,23]
[2012,4,70,27,30,37,16,21,36,32,2,22]
[2012,5,61,22,26,33,11,31,38,25,7,20]
[2012,6,49,23,23,26,22,32,27,26,12,24]
[2012,7,60,21,23,25,18,34,32,25,8,23]
[2012,8,77,31,37,32,19,22,46,33,11,28]
[2012,9,74,29,18,45,29,22,35,35,15,31]
[2012,10,57,19,25,32,25,28,26,26,11,26]
[2012,11,51,25,23,29,25,26,23,30,15,25]
[2012,12,61,24,44,30,34,35,22,34,8,24]
[2013,1,52,22,39,30,23,21,23,22,10,25]
[2013,2,47,21,27,27,21,24,27,25,11,22]
[2013,3,54,21,29,29,18,26,38,27,13,22]
[2013,4,67,22,35,30,12,28,42,28,12,23]
[2013,5,55,15,27,36,21,34,46,21,10,22]
[2013,6,45,17,23,28,15,19,28,24,11,20]
[2013,7,48,17,26,38,17,30,31,20,16,21]
[2013,8,70,24,29,100,15,34,45,36,11,29]
[2013,9,49,20,33,67,19,24,33,24,12,26]
[2013,10,48,21,31,45,30,26,28,33,11,23]
[2013,11,48,20,31,41,28,28,28,21,16,27]
[2013,12,45,20,45,39,45,27,24,31,12,23]
[2014,1,42,27,28,35,22,20,27,19,16,26]
[2014,2,51,20,19,35,23,28,36,29,11,25]
[2014,3,54,22,27,46,17,41,45,28,14,23]
[2014,4,50,19,26,51,19,32,48,41,12,23]
[2014,5,48,18,28,46,23,34,51,26,11,19]
[2014,6,56,17,31,52,25,27,44,17,11,23]
[2014,7,51,15,28,43,16,24,41,14,14,22]
[2014,8,64,22,19,58,20,25,55,40,16,29]
[2014,9,54,17,27,47,20,33,40,31,15,25]
[2014,10,45,20,30,45,19,23,30,24,13,25]
[2014,11,38,24,34,40,27,30,33,29,14,25]
[2014,12,38,18,35,49,32,39,29,24,14,23]
[2015,1,39,17,39,33,19,21,34,25,11,23]
[2015,2,44,17,28,35,21,20,43,17,14,24]
[2015,3,59,19,27,45,27,40,57,23,10,27]
[2015,4,44,20,25,40,20,29,58,25,11,25]
[2015,5,52,20,20,49,22,22,61,27,9,23]
[2015,6,44,19,26,40,17,28,46,25,11,27]
[2015,7,49,18,29,43,25,18,51,22,13,24]
[2015,8,68,21,22,43,17,28,59,26,8,29]
[2015,9,54,16,25,45,27,20,43,25,12,33]
[2015,10,51,20,28,47,23,16,38,30,13,32]
[2015,11,48,21,30,52,28,19,30,30,15,31]
[2015,12,51,21,56,52,39,23,32,22,8,32]
[2016,1,49,15,23,32,25,6,33,19,14,25]
[2016,2,71,13,31,33,27,17,42,15,10,25]
[2016,3,71,16,17,37,21,22,60,15,11,26]
[2016,4,82,19,24,61,24,31,61,26,13,39]
[2016,5,66,16,19,69,16,22,52,20,14,41]
[2016,6,59,23,23,52,22,26,40,23,12,33]
[2016,7,65,12,27,50,21,35,48,22,16,31]
[2016,8,75,10,33,53,25,26,58,11,11,38]
[2016,9,57,13,34,56,27,24,37,21,10,41]
[2016,10,60,23,33,57,26,12,35,23,12,40]
[2016,11,51,15,35,64,28,16,31,26,9,37]
[2016,12,48,21,40,58,42,27,26,21,12,39]
[2017,1,55,14,27,44,27,21,32,20,15,33]
[2017,2,58,19,28,48,23,12,38,14,12,33]
[2017,3,89,20,28,48,16,24,51,24,9,38]
[2017,4,82,24,25,55,20,24,47,29,15,38]
[2017,5,80,20,25,57,21,16,43,13,11,46]
[2017,6,68,20,29,60,18,21,37,21,14,43]
[2017,7,72,21,30,49,20,25,43,18,18,39]
[2017,8,82,27,32,62,19,23,51,29,19,51]
[2017,9,62,24,27,61,28,9,40,22,17,54]
[2017,10,53,27,28,67,22,12,33,24,20,54]
[2017,11,54,20,37,64,29,23,29,18,20,53]
[2017,12,46,26,41,67,37,30,29,24,19,53]
[2018,1,56,22,27,51,22,19,32,20,21,45]
[2018,2,60,20,33,50,16,21,33,21,14,41]
[2018,3,78,25,30,56,24,16,51,26,25,45]
[2018,4,99,26,38,53,19,32,57,30,19,46]
[2018,5,100,24,34,65,16,28,48,37,22,50]
[2018,6,86,25,28,66,28,16,43,43,22,52]
[2018,7,86,23,41,58,20,31,50,33,20,45]
[2018,8,91,30,43,62,20,19,59,32,27,55]
[2018,9,60,27,37,61,23,13,43,25,27,53]
[2018,10,66,25,45,64,22,10,35,27,27,56]
[2018,11,55,37,40,81,30,17,35,40,31,65]
[2018,12,46,33,56,65,38,30,31,37,28,61]
[2019,1,53,27,49,49,20,16,33,31,29,53]
[2019,2,61,26,47,51,22,33,44,28,27,45]
[2019,3,85,32,37,50,20,18,56,34,35,54]
[2019,4,87,30,54,59,22,22,53,31,32,55]
[2019,5,68,27,33,61,22,32,48,33,31,53]
[2019,6,64,36,45,71,17,19,44,33,38,59]
[2019,7,67,31,46,60,20,15,54,32,42,55]
[2019,8,80,43,50,70,26,26,58,41,44,60]
[2019,9,56,38,35,76,23,17,47,44,34,64]
[2019,10,47,35,43,70,23,19,40,21,32,58]
[2019,11,52,35,44,72,27,27,44,43,44,77]
[2019,12,49,34,61,71,41,29,42,43,40,80]
[2020,1,51,35,44,59,30,12,48,34,35,61]
[2020,2,55,39,51,54,23,17,57,30,28,55]
[2020,3,47,30,42,56,13,15,59,31,32,51]
[2020,4,65,39,45,78,5,19,59,45,39,67]
[2020,5,70,42,39,72,18,17,66,54,44,74]
[2020,6,55,50,50,91,22,20,53,59,48,71]
[2020,7,60,44,42,72,21,19,62,45,41,56]
[2020,8,61,49,48,74,23,22,69,50,37,66]
[2020,9,56,50,47,68,25,18,53,36,43,72]
[2020,10,42,47,35,70,21,22,46,41,37,74]
[2020,11,39,54,53,79,38,20,46,40,46,82]
[2020,12,38,54,63,66,36,29,38,43,50,74]
[2021,1,40,73,49,75,20,16,47,56,43,82]
[2021,2,41,78,44,73,18,16,49,77,40,92]
[2021,3,52,100,33,81,19,20,71,100,36,100]
[2021,4,62,78,44,73,17,21,80,72,40,75]
[2021,5,54,53,39,64,20,17,63,47,30,57]
[2021,6,48,45,41,69,7,13,50,65,35,58]
[2021,7,39,44,38,65,18,20,53,49,38,57]
[2021,8,62,59,43,80,28,22,75,63,45,60]
[2021,9,45,62,44,73,22,18,48,62,33,61]
[2021,10,39,54,39,61,24,13,46,55,40,59]
[2021,11,40,49,58,77,36,6,55,59,48,71]
[2021,12,38,58,53,69,38,22,52,57,44,71]
[2022,1,42,46,47,57,33,19,51,51,36,53]
[2022,2,44,40,35,47,20,19,59,50,28,48]
[2022,3,53,47,37,53,21,20,86,46,26,52]
[2022,4,58,49,35,59,27,22,83,48,31,55]
[2022,5,64,41,35,55,26,18,75,41,27,57]
[2022,6,52,44,39,61,18,16,59,48,26,61]
[2022,7,60,37,53,63,28,16,74,47,29,51]
[2022,8,56,47,39,67,21,22,93,51,28,55]
[2022,9,50,34,39,65,21,15,67,37,30,56]
[2022,10,47,42,36,58,25,11,61,32,35,54]
[2022,11,52,44,38,79,34,19,71,47,38,69]
[2022,12,41,44,47,64,41,17,59,42,30,59]
[2023,1,47,41,35,57,19,13,62,38,30,55]
[2023,2,62,31,42,47,28,13,74,27,24,47]
[2023,3,79,37,33,50,19,21,94,32,26,49]
[2023,4,93,41,37,55,24,17,100,35,27,52]
[2023,5,80,44,33,58,16,19,76,36,23,50]
[2023,6,68,38,39,60,22,23,85,67,24,53]

{"sheet":"keywords(LU)","index":35,"n_rows":11,"n_cols":4,"rows_kept":11,"cut":false,"hidden":false,"merged":[]}
["id","url","country","brand*"]
[1,"https://trends.google.com/trends/explore?date=all&geo=LU&q=Adidas","LU","Adidas"]
[2,"https://trends.google.com/trends/explore?date=all&geo=LU&q=Bershka","LU","Bershka"]
[3,"https://trends.google.com/trends/explore?date=all&geo=LU&q=Calvin Klein","LU","Calvin Klein"]
[4,"https://trends.google.com/trends/explore?date=all&geo=LU&q=H&M","LU","H&M"]
[5,"https://trends.google.com/trends/explore?date=all&geo=LU&q=Hugo Boss","LU","Hugo Boss"]
[6,"https://trends.google.com/trends/explore?date=all&geo=LU&q=Lacoste","LU","Lacoste"]
[7,"https://trends.google.com/trends/explore?date=all&geo=LU&q=Nike","LU","Nike"]
[8,"https://trends.google.com/trends/explore?date=all&geo=LU&q=Pull and Bear","LU","Pull and Bear"]
[9,"https://trends.google.com/trends/explore?date=all&geo=LU&q=Tommy Hilfiger","LU","Tommy Hilfiger"]
[10,"https://trends.google.com/trends/explore?date=all&geo=LU&q=Zara","LU","Zara"]

{"sheet":"1...10 raw(LU)","index":36,"n_rows":236,"n_cols":12,"rows_kept":236,"cut":false,"hidden":false,"merged":[]}
["Luxembourg",null,"Adidas","Bershka","Calvin Klein","H&M","Hugo Boss","Lacoste","Nike","Pull and Bear","Tommy Hilfiger","Zara"]
["Year","Month","Point","Point","Point","Point","Point","Point","Point","Point","Point","Point"]
[2004,1,0,0,84,73,100,0,44,0,64,26]
[2004,2,0,0,0,0,0,0,0,0,0,64]
[2004,3,0,0,0,0,0,0,0,0,0,0]
[2004,4,43,83,82,0,0,0,60,0,0,0]
[2004,5,29,0,0,0,0,0,50,0,0,0]
[2004,6,0,100,0,0,0,0,0,0,0,28]
[2004,7,0,0,0,0,0,38,27,0,0,0]
[2004,8,0,0,0,0,0,0,26,0,0,30]
[2004,9,40,0,0,46,0,0,17,0,21,0]
[2004,10,0,0,0,100,0,41,20,0,100,62]
[2004,11,25,55,100,25,0,0,34,0,0,21]
[2004,12,0,0,0,54,67,0,16,100,50,0]
[2005,1,33,0,70,0,0,0,31,0,37,0]
[2005,2,42,0,77,0,20,0,0,0,0,0]
[2005,3,73,40,89,0,0,0,29,0,0,0]
[2005,4,44,51,0,0,0,0,34,0,0,0]
[2005,5,31,0,0,0,21,24,13,0,0,21]
[2005,6,18,42,0,0,0,0,12,0,0,0]
[2005,7,38,0,53,14,11,0,40,0,0,51]
[2005,8,24,0,0,0,13,0,34,0,0,0]
[2005,9,29,0,0,26,0,0,23,28,37,0]
[2005,10,26,0,0,0,0,22,33,34,0,25]
[2005,11,29,0,0,0,0,0,18,41,0,19]
[2005,12,0,0,0,15,26,100,0,43,0,0]
[2006,1,26,0,56,23,11,0,19,0,16,0]
[2006,2,24,0,0,0,31,16,31,0,0,13]
[2006,3,46,0,0,0,0,0,0,0,26,20]
[2006,4,28,0,0,21,0,35,29,0,0,18]
[2006,5,58,0,38,35,0,18,43,0,0,0]
[2006,6,100,0,0,0,0,16,40,0,11,25]
[2006,7,26,0,0,31,0,0,44,32,0,0]
[2006,8,52,0,0,0,10,15,28,28,0,11]
[2006,9,20,0,0,24,0,54,8,0,22,33]
[2006,10,0,0,17,37,10,0,31,0,0,7]
[2006,11,33,0,0,37,9,0,18,0,0,23]
[2006,12,0,0,0,0,22,0,34,0,13,0]
[2007,1,22,0,0,8,16,11,15,0,8,20]
[2007,2,18,0,0,13,23,0,22,0,0,0]
[2007,3,0,0,0,41,0,0,24,0,0,22]
[2007,4,32,33,0,0,10,16,28,0,0,7]
[2007,5,33,0,37,11,9,11,20,0,0,0]
[2007,6,11,0,0,17,11,15,18,0,0,21]
[2007,7,0,0,0,20,0,0,17,27,0,13]
[2007,8,38,0,0,12,7,26,27,0,12,14]
[2007,9,32,64,0,0,0,0,30,0,0,18]
[2007,10,28,0,0,10,0,11,27,0,0,16]
[2007,11,16,0,0,27,6,0,27,0,0,7]
[2007,12,26,0,0,12,21,0,17,0,0,45]
[2008,1,9,26,0,20,0,0,19,27,0,0]
[2008,2,11,0,0,13,9,29,19,0,18,16]
[2008,3,42,0,15,20,10,0,16,0,6,17]
[2008,4,27,0,19,23,4,20,20,0,5,12]
[2008,5,33,17,0,0,0,12,5,0,0,12]
[2008,6,14,0,12,14,0,45,26,0,0,20]
[2008,7,24,0,0,16,0,0,17,0,0,44]
[2008,8,17,27,0,15,19,0,16,0,0,15]
[2008,9,27,0,16,22,0,0,32,19,0,26]
[2008,10,9,0,9,22,0,0,9,0,0,14]
[2008,11,17,19,17,22,11,19,20,0,17,10]
[2008,12,13,0,0,20,8,0,16,0,0,24]
[2009,1,19,0,0,7,3,0,10,0,15,10]
[2009,2,24,0,0,12,0,0,21,0,0,7]
[2009,3,28,13,0,35,14,0,27,14,0,13]
[2009,4,21,0,0,9,0,0,19,0,0,30]
[2009,5,14,0,17,33,0,12,23,0,0,9]
[2009,6,11,0,10,23,4,0,15,0,7,18]
[2009,7,27,0,0,17,4,0,22,0,0,0]
[2009,8,24,0,22,18,7,12,20,0,6,23]
[2009,9,13,0,8,28,0,15,32,0,5,13]
[2009,10,26,0,7,17,5,7,18,0,4,24]
[2009,11,16,15,0,32,4,17,9,0,12,14]
[2009,12,29,0,0,32,14,11,21,12,6,32]
[2010,1,12,17,0,13,3,18,15,0,0,0]
[2010,2,26,0,0,22,0,0,25,11,0,16]
[2010,3,25,45,0,29,0,6,14,0,5,0]
[2010,4,31,18,0,0,5,0,26,0,8,24]
[2010,5,38,24,12,30,8,7,36,0,0,15]
[2010,6,36,14,16,24,3,27,15,0,9,17]
[2010,7,24,29,15,24,0,9,30,11,13,24]
[2010,8,12,0,8,21,9,0,17,10,0,15]
[2010,9,22,27,8,24,0,7,14,21,0,39]
[2010,10,27,9,17,39,0,6,33,0,24,26]
[2010,11,16,10,19,43,4,0,19,0,11,31]
[2010,12,11,16,8,35,11,19,9,0,4,32]
[2011,1,24,23,11,23,11,9,30,0,4,31]
[2011,2,34,0,0,31,5,18,25,0,5,29]
[2011,3,46,0,0,31,4,10,27,0,10,30]
[2011,4,36,0,0,42,0,15,29,0,0,28]
[2011,5,28,0,10,35,3,9,26,0,3,35]
[2011,6,27,0,11,38,8,11,33,0,5,21]
[2011,7,31,32,0,25,9,0,30,0,10,22]
[2011,8,20,0,0,34,0,10,33,0,5,33]
[2011,9,34,0,9,45,7,15,22,16,9,41]
[2011,10,13,12,0,40,6,20,26,8,6,36]
[2011,11,31,14,16,56,11,14,39,0,6,50]
[2011,12,28,0,20,54,13,24,34,10,10,41]
[2012,1,22,0,14,35,8,9,35,5,4,34]
[2012,2,33,0,10,38,6,16,33,6,5,36]
[2012,3,30,9,11,53,9,14,35,17,8,44]
[2012,4,47,15,0,49,5,12,38,13,7,45]
[2012,5,24,24,6,42,7,12,40,18,5,42]
[2012,6,31,12,12,42,6,25,38,13,6,43]
[2012,7,29,37,0,30,6,17,35,0,7,36]
[2012,8,38,28,17,37,4,15,42,13,9,46]
[2012,9,28,19,8,51,6,14,46,0,9,56]
[2012,10,28,25,0,41,9,12,33,7,11,54]
[2012,11,21,30,15,54,10,15,37,5,13,60]
[2012,12,29,12,16,31,12,22,32,20,7,50]
[2013,1,17,10,10,43,8,13,30,8,5,56]
[2013,2,23,13,0,28,4,8,37,14,7,42]
[2013,3,21,16,10,42,7,12,48,22,3,52]
[2013,4,30,7,14,47,2,12,44,14,9,43]
[2013,5,24,11,17,28,7,9,47,4,4,42]
[2013,6,33,19,4,32,10,0,50,0,13,50]
[2013,7,39,20,0,35,7,21,48,17,10,45]
[2013,8,37,40,0,34,8,27,46,8,5,39]
[2013,9,15,27,0,40,7,12,57,0,15,46]
[2013,10,24,11,8,37,15,4,47,21,14,49]
[2013,11,21,17,12,49,12,13,36,0,12,57]
[2013,12,32,5,16,45,13,11,58,0,12,57]
[2014,1,20,17,14,31,8,11,45,7,10,47]
[2014,2,25,0,11,41,7,0,49,10,7,41]
[2014,3,24,19,6,50,5,11,77,11,5,44]
[2014,4,35,44,12,46,5,8,73,5,4,52]
[2014,5,42,17,9,47,7,14,75,0,7,39]
[2014,6,43,13,11,36,7,18,80,18,7,35]
[2014,7,37,5,8,31,11,6,69,8,11,42]
[2014,8,40,7,0,36,8,16,85,11,6,52]
[2014,9,41,16,10,45,10,4,64,0,11,48]
[2014,10,41,0,0,49,6,11,82,9,4,57]
[2014,11,33,19,9,43,7,10,60,8,6,63]
[2014,12,35,18,9,43,7,17,71,15,15,55]
[2015,1,48,20,31,28,17,10,67,0,10,51]
[2015,2,42,6,17,32,10,11,73,7,6,42]
[2015,3,64,13,8,48,6,8,89,9,8,52]
[2015,4,77,14,9,53,7,18,89,9,8,58]
[2015,5,60,16,10,48,8,11,67,0,7,54]
[2015,6,67,17,9,51,7,13,56,0,9,68]
[2015,7,35,10,10,36,4,16,58,0,9,53]
[2015,8,74,17,18,38,8,11,71,0,7,44]
[2015,9,78,30,13,42,6,8,60,12,12,67]
[2015,10,61,12,12,42,8,15,65,14,8,66]
[2015,11,54,15,20,76,6,4,58,12,10,61]
[2015,12,67,17,11,54,13,17,77,19,7,59]
[2016,1,68,17,15,35,6,15,67,13,7,55]
[2016,2,64,19,23,35,5,6,68,18,7,44]
[2016,3,95,4,12,37,6,17,83,42,6,64]
[2016,4,77,21,18,52,8,11,69,18,7,58]
[2016,5,88,13,4,49,7,12,70,13,9,48]
[2016,6,90,12,18,42,7,12,80,18,5,69]
[2016,7,82,6,23,32,8,16,69,12,11,53]
[2016,8,86,5,7,35,11,8,64,10,7,43]
[2016,9,85,10,0,39,9,11,51,0,8,58]
[2016,10,76,17,15,52,10,14,45,26,17,80]
[2016,11,77,22,13,61,12,16,55,20,8,73]
[2016,12,86,15,9,55,9,23,70,25,13,82]
[2017,1,77,12,15,28,2,9,50,21,9,65]
[2017,2,89,27,11,35,8,9,49,13,9,48]
[2017,3,91,14,13,36,7,10,61,16,8,55]
[2017,4,98,21,18,50,0,22,61,21,13,75]
[2017,5,81,27,13,49,9,15,49,17,9,70]
[2017,6,86,14,24,45,10,23,48,10,10,59]
[2017,7,74,20,23,51,11,15,52,8,9,52]
[2017,8,84,11,24,33,4,8,54,19,11,52]
[2017,9,64,18,17,46,8,14,64,17,13,80]
[2017,10,67,10,22,50,6,13,51,22,12,74]
[2017,11,66,23,13,51,10,5,57,20,14,84]
[2017,12,62,9,26,56,11,25,63,18,22,94]
[2018,1,58,0,14,50,9,13,58,13,12,62]
[2018,2,67,12,5,34,3,11,52,14,8,58]
[2018,3,73,18,13,37,12,17,66,10,9,70]
[2018,4,82,6,21,47,10,26,70,18,8,72]
[2018,5,69,21,3,48,4,20,66,18,12,60]
[2018,6,72,16,16,50,9,17,65,20,17,79]
[2018,7,64,12,11,49,10,24,68,21,13,51]
[2018,8,71,24,13,45,8,16,67,5,8,51]
[2018,9,77,23,22,40,8,30,76,14,15,75]
[2018,10,68,17,14,48,7,17,59,13,18,78]
[2018,11,68,25,24,50,11,23,66,20,19,94]
[2018,12,64,17,17,62,11,42,63,15,17,85]
[2019,1,54,17,11,31,8,16,66,22,12,65]
[2019,2,49,12,20,32,7,24,62,6,14,59]
[2019,3,76,15,10,29,4,11,66,14,12,67]
[2019,4,61,33,11,49,8,9,80,13,18,63]
[2019,5,64,28,10,41,6,16,68,20,9,72]
[2019,6,64,30,13,54,9,25,69,29,6,76]
[2019,7,68,36,28,48,10,20,64,16,13,71]
[2019,8,57,22,13,42,6,15,71,4,11,67]
[2019,9,68,25,14,49,10,13,72,13,12,72]
[2019,10,57,27,15,50,7,16,68,14,10,78]
[2019,11,44,12,26,53,12,23,72,11,14,100]
[2019,12,48,21,17,52,10,23,72,15,22,76]
[2020,1,51,23,15,39,7,12,75,11,12,80]
[2020,2,43,15,13,37,9,28,68,16,15,67]
[2020,3,40,13,15,20,6,8,60,10,5,45]
[2020,4,57,15,10,47,3,15,75,17,13,63]
[2020,5,61,37,15,61,4,18,100,19,21,81]
[2020,6,48,30,18,61,8,15,78,18,12,75]
[2020,7,46,35,12,48,7,21,74,16,11,70]
[2020,8,52,28,17,42,5,16,85,13,11,62]
[2020,9,59,38,19,45,8,20,78,11,16,72]
[2020,10,41,28,16,44,3,13,67,15,19,78]
[2020,11,33,33,31,51,10,20,89,22,18,96]
[2020,12,35,36,26,52,13,36,85,17,29,84]
[2021,1,46,25,16,37,3,20,65,16,14,70]
[2021,2,44,30,17,36,8,14,81,13,15,73]
[2021,3,37,35,28,32,5,19,77,13,10,68]
[2021,4,51,19,18,41,7,15,69,16,14,68]
[2021,5,41,29,21,35,4,17,81,12,9,66]
[2021,6,48,39,17,53,4,24,67,21,7,81]
[2021,7,37,33,16,45,10,17,65,12,14,75]
[2021,8,58,21,10,41,4,17,85,17,9,65]
[2021,9,41,35,20,46,4,14,83,8,9,77]
[2021,10,33,31,21,36,9,23,74,18,11,89]
[2021,11,50,39,19,51,10,25,88,19,19,87]
[2021,12,41,34,27,35,11,34,84,18,14,80]
[2022,1,32,30,0,36,8,24,86,9,14,79]
[2022,2,48,34,8,33,5,26,76,15,10,73]
[2022,3,64,45,9,33,5,18,94,11,4,68]
[2022,4,50,22,14,41,7,19,86,13,9,78]
[2022,5,56,22,13,44,12,25,89,18,7,85]
[2022,6,47,29,17,40,9,30,74,5,13,97]
[2022,7,52,28,14,42,9,17,75,13,5,86]
[2022,8,54,18,18,41,6,18,79,9,8,64]
[2022,9,55,33,7,50,6,30,86,16,15,86]
[2022,10,57,46,17,39,6,15,74,16,13,89]
[2022,11,50,37,17,43,7,29,94,16,15,95]
[2022,12,59,36,20,51,8,33,93,13,16,90]
[2023,1,52,31,7,39,6,17,98,11,14,80]
[2023,2,48,19,0,32,7,25,83,12,9,76]
[2023,3,48,16,0,39,6,16,89,5,9,69]
[2023,4,65,32,7,36,12,23,100,12,16,95]
[2023,5,68,22,7,44,6,26,86,13,14,94]
[2023,6,73,41,32,47,7,39,74,0,10,89]

{"sheet":"keywords(MT)","index":37,"n_rows":11,"n_cols":4,"rows_kept":11,"cut":false,"hidden":false,"merged":[]}
["id","url","country","brand*"]
[1,"https://trends.google.com/trends/explore?date=all&geo=MT&q=Adidas","MT","Adidas"]
[2,"https://trends.google.com/trends/explore?date=all&geo=MT&q=Bershka","MT","Bershka"]
[3,"https://trends.google.com/trends/explore?date=all&geo=MT&q=Calvin Klein","MT","Calvin Klein"]
[4,"https://trends.google.com/trends/explore?date=all&geo=MT&q=H&M","MT","H&M"]
[5,"https://trends.google.com/trends/explore?date=all&geo=MT&q=Hugo Boss","MT","Hugo Boss"]
[6,"https://trends.google.com/trends/explore?date=all&geo=MT&q=Lacoste","MT","Lacoste"]
[7,"https://trends.google.com/trends/explore?date=all&geo=MT&q=Nike","MT","Nike"]
[8,"https://trends.google.com/trends/explore?date=all&geo=MT&q=Pull and Bear","MT","Pull and Bear"]
[9,"https://trends.google.com/trends/explore?date=all&geo=MT&q=Tommy Hilfiger","MT","Tommy Hilfiger"]
[10,"https://trends.google.com/trends/explore?date=all&geo=MT&q=Zara","MT","Zara"]

{"sheet":"1...10 raw(MT)","index":38,"n_rows":236,"n_cols":12,"rows_kept":236,"cut":false,"hidden":false,"merged":[]}
["Malta",null,"Adidas","Bershka","Calvin Klein","H&M","Hugo Boss","Lacoste","Nike","Pull and Bear","Tommy Hilfiger","Zara"]
["Year","Month","Point","Point","Point","Point","Point","Point","Point","Point","Point","Point"]
[2004,1,0,0,0,0,83,0,100,0,0,0]
[2004,2,71,0,0,100,0,0,0,0,0,0]
[2004,3,0,100,100,0,0,100,0,0,0,39]
[2004,4,0,0,0,0,0,0,75,0,0,100]
[2004,5,53,0,97,0,37,0,0,0,100,0]
[2004,6,75,0,57,0,100,0,0,100,0,0]
[2004,7,0,62,0,0,0,0,94,0,0,0]
[2004,8,94,0,0,0,0,0,0,70,0,0]
[2004,9,0,0,0,0,0,0,42,0,0,0]
[2004,10,0,0,0,0,0,0,59,0,0,21]
[2004,11,0,55,0,0,0,0,0,0,0,52]
[2004,12,100,0,0,0,66,34,29,0,0,0]
[2005,1,0,0,78,0,0,0,40,0,0,0]
[2005,2,0,0,0,0,0,0,64,0,0,0]
[2005,3,66,27,0,34,0,7,28,18,0,30]
[2005,4,38,0,0,0,25,0,38,0,0,0]
[2005,5,54,30,0,0,0,0,0,0,0,16]
[2005,6,36,0,0,0,0,21,0,0,0,76]
[2005,7,0,0,0,0,0,0,51,37,0,33]
[2005,8,0,0,0,0,65,0,0,0,0,0]
[2005,9,0,0,0,18,0,0,27,27,0,31]
[2005,10,59,0,0,0,0,0,0,0,21,29]
[2005,11,0,0,0,17,0,0,32,0,0,42]
[2005,12,0,0,35,29,0,13,0,47,0,0]
[2006,1,24,0,0,0,0,0,16,17,0,13]
[2006,2,0,16,0,25,21,0,0,0,16,18]
[2006,3,0,0,37,0,0,0,19,54,0,19]
[2006,4,0,0,0,0,0,0,0,0,0,24]
[2006,5,0,0,0,0,39,12,16,0,13,14]
[2006,6,0,0,57,25,0,0,54,0,15,0]
[2006,7,33,0,0,0,0,0,50,0,0,21]
[2006,8,0,0,0,27,0,0,23,0,41,0]
[2006,9,58,0,0,0,0,10,41,0,0,19]
[2006,10,34,0,0,0,0,0,42,23,0,0]
[2006,11,0,0,0,0,0,6,17,0,0,8]
[2006,12,0,0,0,0,0,0,0,22,0,0]
[2007,1,0,0,0,11,14,10,0,12,0,0]
[2007,2,17,0,26,0,0,0,30,0,0,11]
[2007,3,21,0,0,0,0,0,0,0,10,8]
[2007,4,24,0,0,8,18,0,30,0,0,14]
[2007,5,20,17,0,9,0,0,29,0,17,10]
[2007,6,0,0,0,18,0,3,0,15,0,0]
[2007,7,22,0,0,32,0,0,36,8,0,15]
[2007,8,23,0,18,12,0,0,26,0,0,0]
[2007,9,23,0,0,0,27,0,39,9,0,21]
[2007,10,0,0,0,0,7,8,30,0,0,15]
[2007,11,0,17,0,0,0,0,22,15,10,15]
[2007,12,0,0,0,0,9,0,27,0,0,15]
[2008,1,16,0,14,7,0,2,32,0,0,11]
[2008,2,11,0,0,0,0,2,25,0,0,18]
[2008,3,0,6,0,0,0,0,25,8,10,12]
[2008,4,14,28,34,0,10,0,10,0,0,9]
[2008,5,0,0,0,0,0,0,19,0,12,17]
[2008,6,21,0,0,0,0,0,26,16,18,16]
[2008,7,0,0,21,17,0,4,22,0,0,4]
[2008,8,24,0,0,0,12,0,14,6,14,22]
[2008,9,20,7,0,0,0,8,21,0,0,24]
[2008,10,0,10,0,10,0,0,28,11,0,18]
[2008,11,0,10,0,0,7,0,24,0,0,0]
[2008,12,32,0,12,11,0,0,23,0,10,23]
[2009,1,16,0,15,6,6,0,13,11,9,12]
[2009,2,22,0,0,0,0,0,0,9,23,10]
[2009,3,45,0,0,0,0,0,34,15,0,16]
[2009,4,0,17,0,0,0,6,15,17,0,8]
[2009,5,0,5,0,0,0,0,17,8,27,15]
[2009,6,20,8,31,14,11,0,21,0,0,7]
[2009,7,14,7,0,0,0,3,21,0,9,0]
[2009,8,17,21,16,0,0,4,15,7,0,8]
[2009,9,15,8,12,0,8,3,26,8,10,8]
[2009,10,26,11,10,6,0,0,14,0,14,13]
[2009,11,14,0,18,32,0,0,29,0,5,16]
[2009,12,19,0,0,0,0,0,34,0,12,7]
[2010,1,17,8,9,6,0,0,43,5,0,8]
[2010,2,31,7,9,7,0,3,0,8,0,11]
[2010,3,0,5,12,5,0,5,18,0,0,21]
[2010,4,0,13,0,0,6,0,29,0,0,20]
[2010,5,13,14,7,0,8,0,34,5,9,9]
[2010,6,19,6,0,0,10,0,37,0,6,9]
[2010,7,23,0,18,6,5,2,25,0,6,24]
[2010,8,0,0,9,7,4,2,15,7,4,8]
[2010,9,0,0,12,17,5,0,42,7,7,8]
[2010,10,6,8,10,14,4,2,18,11,5,10]
[2010,11,38,8,0,5,0,0,23,0,0,8]
[2010,12,21,7,0,11,6,0,11,0,7,18]
[2011,1,18,4,0,5,3,4,24,5,9,17]
[2011,2,13,5,0,4,0,2,19,9,0,9]
[2011,3,16,7,0,0,3,0,24,11,4,5]
[2011,4,27,4,9,11,0,2,22,9,9,15]
[2011,5,0,12,5,12,3,0,26,9,10,17]
[2011,6,10,7,12,0,5,3,34,4,5,13]
[2011,7,11,5,0,11,4,0,23,2,8,15]
[2011,8,23,5,0,10,6,2,27,6,8,15]
[2011,9,20,9,12,15,2,1,21,5,10,10]
[2011,10,21,7,0,4,0,0,35,9,7,20]
[2011,11,16,0,0,8,4,2,16,6,7,36]
[2011,12,21,12,8,4,10,1,22,11,12,30]
[2012,1,13,3,4,10,0,1,24,0,6,19]
[2012,2,12,6,15,10,0,1,32,9,8,25]
[2012,3,19,16,12,8,0,2,19,12,7,23]
[2012,4,19,4,0,12,3,1,26,7,8,15]
[2012,5,11,5,6,10,4,1,25,4,7,21]
[2012,6,13,7,7,12,7,1,27,9,8,17]
[2012,7,16,4,0,13,5,2,28,0,9,16]
[2012,8,24,10,5,7,7,2,24,5,3,22]
[2012,9,14,11,0,17,4,3,27,10,2,26]
[2012,10,18,11,7,11,7,0,27,12,9,20]
[2012,11,11,10,6,20,11,1,23,7,8,25]
[2012,12,14,9,0,18,0,1,15,14,15,35]
[2013,1,14,5,0,7,2,2,26,9,9,25]
[2013,2,8,6,0,10,3,0,22,8,7,18]
[2013,3,9,11,0,9,4,0,23,7,10,21]
[2013,4,21,6,4,12,3,1,22,12,6,21]
[2013,5,10,11,0,8,3,1,20,5,14,17]
[2013,6,16,8,6,9,3,2,12,7,12,20]
[2013,7,21,7,0,11,0,1,28,8,11,26]
[2013,8,7,7,0,13,2,2,23,8,12,19]
[2013,9,36,9,4,13,11,0,26,8,7,24]
[2013,10,27,10,0,13,3,0,31,9,9,23]
[2013,11,16,7,0,8,3,"<1",27,4,17,30]
[2013,12,11,5,9,8,6,2,31,13,13,34]
[2014,1,17,0,3,7,3,1,26,2,12,19]
[2014,2,13,7,0,10,0,0,20,0,8,21]
[2014,3,12,12,5,10,2,1,30,4,10,17]
[2014,4,17,13,6,8,0,0,32,8,12,28]
[2014,5,13,8,0,8,0,2,33,9,12,26]
[2014,6,14,11,3,9,8,1,36,8,13,22]
[2014,7,24,7,4,8,7,2,27,8,16,21]
[2014,8,18,6,5,9,2,2,26,6,14,20]
[2014,9,23,6,6,17,7,2,36,8,10,23]
[2014,10,14,4,10,14,4,1,39,3,15,28]
[2014,11,16,7,0,16,7,1,35,10,11,27]
[2014,12,15,11,8,9,7,0,32,9,23,33]
[2015,1,17,6,14,9,5,1,38,0,16,23]
[2015,2,18,4,0,9,2,2,35,7,16,21]
[2015,3,14,5,6,6,5,1,42,7,12,23]
[2015,4,24,10,0,9,9,"<1",33,7,15,22]
[2015,5,23,9,5,15,2,1,26,7,20,29]
[2015,6,29,8,4,9,2,2,23,5,15,25]
[2015,7,31,6,3,9,9,3,27,5,20,18]
[2015,8,45,9,0,10,0,1,47,4,12,24]
[2015,9,28,9,0,13,8,1,42,6,16,23]
[2015,10,44,6,6,15,0,1,39,8,17,31]
[2015,11,39,11,7,10,4,0,47,6,23,30]
[2015,12,46,15,18,9,8,1,59,9,28,42]
[2016,1,38,3,7,6,3,1,39,6,10,24]
[2016,2,41,6,14,4,2,0,39,1,11,22]
[2016,3,28,13,9,11,3,1,52,4,15,31]
[2016,4,46,3,12,8,0,1,33,5,19,43]
[2016,5,47,5,13,7,2,1,35,6,19,45]
[2016,6,29,7,11,11,8,1,27,7,18,48]
[2016,7,37,8,7,11,10,2,34,1,16,31]
[2016,8,42,8,9,7,5,2,46,3,12,34]
[2016,9,43,15,9,13,8,1,38,3,17,44]
[2016,10,43,8,11,13,0,1,46,7,6,43]
[2016,11,56,14,14,11,0,1,43,10,16,69]
[2016,12,53,11,5,9,13,1,44,14,19,51]
[2017,1,48,5,11,9,6,1,42,8,14,53]
[2017,2,54,4,8,7,0,1,40,6,16,33]
[2017,3,55,8,7,11,2,0,34,4,21,42]
[2017,4,52,13,13,9,3,1,30,4,15,44]
[2017,5,48,5,14,13,5,2,26,6,18,43]
[2017,6,31,10,9,9,5,1,24,4,22,45]
[2017,7,48,11,13,10,2,1,34,6,23,42]
[2017,8,43,11,10,5,2,1,41,9,17,38]
[2017,9,61,10,8,6,2,1,34,6,22,50]
[2017,10,59,10,13,8,2,2,37,9,15,58]
[2017,11,66,15,12,8,10,1,39,9,14,77]
[2017,12,60,8,13,10,16,1,46,15,27,70]
[2018,1,58,9,17,13,7,1,41,8,18,73]
[2018,2,42,7,11,7,2,1,39,3,24,39]
[2018,3,53,9,11,12,3,1,39,4,18,41]
[2018,4,28,10,14,8,3,1,34,6,28,40]
[2018,5,45,11,18,8,2,3,29,8,23,46]
[2018,6,30,10,15,9,6,2,32,0,25,62]
[2018,7,52,14,20,9,6,1,44,6,22,58]
[2018,8,41,7,15,10,4,1,47,5,20,35]
[2018,9,45,8,7,9,3,1,53,6,21,55]
[2018,10,47,8,14,7,4,0,40,7,17,57]
[2018,11,42,10,10,16,8,2,51,10,29,82]
[2018,12,46,15,6,9,8,1,41,15,32,93]
[2019,1,30,4,13,3,0,1,47,8,21,73]
[2019,2,39,7,14,12,0,2,44,9,15,45]
[2019,3,42,6,12,9,0,1,35,6,31,45]
[2019,4,43,7,11,9,6,2,53,4,16,56]
[2019,5,41,7,10,15,6,1,38,9,29,57]
[2019,6,38,9,14,8,5,1,34,4,26,72]
[2019,7,50,3,11,14,0,0,48,12,25,50]
[2019,8,40,8,11,10,5,2,39,9,27,47]
[2019,9,57,7,17,17,15,3,50,9,22,51]
[2019,10,47,10,0,16,4,1,47,8,25,61]
[2019,11,35,9,5,14,9,1,54,10,33,71]
[2019,12,30,10,26,8,10,0,48,15,35,79]
[2020,1,37,12,8,9,0,0,58,11,12,64]
[2020,2,40,2,12,6,5,2,56,6,21,47]
[2020,3,23,3,4,4,0,1,28,0,8,28]
[2020,4,33,8,7,9,0,0,51,5,15,42]
[2020,5,42,0,23,9,3,1,55,6,24,72]
[2020,6,34,15,25,3,5,1,36,9,32,75]
[2020,7,39,7,17,9,0,0,35,7,29,67]
[2020,8,26,8,13,7,3,2,55,4,25,54]
[2020,9,34,7,13,4,0,0,47,18,24,54]
[2020,10,36,4,12,8,5,1,44,8,17,60]
[2020,11,41,10,5,5,6,0,50,9,27,93]
[2020,12,42,10,4,11,6,2,51,10,32,87]
[2021,1,28,7,11,3,0,2,41,8,21,66]
[2021,2,21,13,10,5,7,0,34,9,14,56]
[2021,3,29,2,14,4,3,0,41,2,6,59]
[2021,4,30,9,7,11,3,0,50,5,17,62]
[2021,5,31,13,13,5,15,0,39,2,25,60]
[2021,6,19,11,6,6,7,0,35,12,19,65]
[2021,7,26,11,18,10,0,2,41,10,16,62]
[2021,8,35,5,13,9,3,2,35,9,11,56]
[2021,9,25,5,9,0,0,2,39,13,19,57]
[2021,10,30,11,13,10,0,2,45,14,19,63]
[2021,11,26,12,5,12,2,2,44,5,21,84]
[2021,12,21,0,13,0,6,1,48,11,23,82]
[2022,1,45,15,10,0,2,1,58,7,10,64]
[2022,2,41,12,5,4,2,0,36,2,11,50]
[2022,3,24,5,5,7,5,0,46,5,16,54]
[2022,4,33,15,6,12,3,2,56,11,20,59]
[2022,5,21,5,11,6,4,0,42,8,16,58]
[2022,6,28,5,13,6,0,2,35,12,16,60]
[2022,7,31,10,0,8,6,1,43,6,5,58]
[2022,8,31,6,0,4,0,0,51,9,7,60]
[2022,9,38,3,8,5,7,0,52,4,13,61]
[2022,10,39,9,0,13,5,1,52,12,10,56]
[2022,11,48,9,4,9,2,3,65,11,22,79]
[2022,12,30,13,0,10,14,1,65,11,29,96]
[2023,1,37,5,11,5,7,0,54,9,16,61]
[2023,2,26,8,13,4,4,1,62,9,14,48]
[2023,3,32,5,5,5,3,1,61,5,14,61]
[2023,4,37,0,3,6,2,0,52,7,12,65]
[2023,5,29,5,7,2,0,1,46,8,12,63]
[2023,6,26,0,9,7,0,0,78,17,37,58]

{"sheet":"keywords(DE)","index":39,"n_rows":11,"n_cols":4,"rows_kept":11,"cut":false,"hidden":false,"merged":[]}
["id","url","country","brand*"]
[1,"https://trends.google.com/trends/explore?date=all&geo=DE&q=Adidas","DE","Adidas"]
[2,"https://trends.google.com/trends/explore?date=all&geo=DE&q=Bershka","DE","Bershka"]
[3,"https://trends.google.com/trends/explore?date=all&geo=DE&q=Calvin Klein","DE","Calvin Klein"]
[4,"https://trends.google.com/trends/explore?date=all&geo=DE&q=H&M","DE","H&M"]
[5,"https://trends.google.com/trends/explore?date=all&geo=DE&q=Hugo Boss","DE","Hugo Boss"]
[6,"https://trends.google.com/trends/explore?date=all&geo=DE&q=Lacoste","DE","Lacoste"]
[7,"https://trends.google.com/trends/explore?date=all&geo=DE&q=Nike","DE","Nike"]
[8,"https://trends.google.com/trends/explore?date=all&geo=DE&q=Pull and Bear","DE","Pull and Bear"]
[9,"https://trends.google.com/trends/explore?date=all&geo=DE&q=Tommy Hilfiger","DE","Tommy Hilfiger"]
[10,"https://trends.google.com/trends/explore?date=all&geo=DE&q=Zara","DE","Zara"]

{"sheet":"1...10 raw(DE)","index":40,"n_rows":236,"n_cols":12,"rows_kept":236,"cut":false,"hidden":false,"merged":[]}
["Germany",null,"Adidas","Bershka","Calvin Klein","H&M","Hugo Boss","Lacoste","Nike","Pull and Bear","Tommy Hilfiger","Zara"]
["Year","Month","Point","Point","Point","Point","Point","Point","Point","Point","Point","Point"]
[2004,1,19,0,23,8,37,26,13,0,7,6]
[2004,2,24,6,17,9,47,16,16,0,9,6]
[2004,3,26,0,26,11,37,24,16,0,10,7]
[2004,4,27,0,23,10,49,39,19,0,10,7]
[2004,5,28,5,22,12,47,35,21,4,13,8]
[2004,6,29,7,25,10,36,36,20,0,10,6]
[2004,7,27,3,23,9,39,42,17,3,12,7]
[2004,8,25,3,27,9,38,44,18,0,12,9]
[2004,9,25,0,24,14,47,35,16,0,13,8]
[2004,10,22,0,17,13,44,32,14,0,15,8]
[2004,11,21,2,24,20,45,29,14,0,12,9]
[2004,12,21,0,34,14,41,46,16,0,14,9]
[2005,1,21,0,16,10,36,31,14,0,11,7]
[2005,2,23,0,23,10,43,37,16,0,10,8]
[2005,3,33,1,23,13,47,45,17,0,11,8]
[2005,4,27,3,17,13,41,52,19,0,13,10]
[2005,5,28,0,16,14,39,55,18,2,14,10]
[2005,6,25,0,16,13,39,64,19,0,11,10]
[2005,7,27,3,16,11,43,49,19,0,11,8]
[2005,8,29,1,18,12,42,55,17,8,13,10]
[2005,9,25,0,18,16,38,55,15,0,13,12]
[2005,10,23,2,17,17,46,44,16,0,14,12]
[2005,11,26,1,24,16,47,47,17,0,16,10]
[2005,12,28,0,31,14,54,61,16,0,13,9]
[2006,1,22,0,15,9,35,42,16,0,11,7]
[2006,2,28,1,15,11,38,47,17,0,13,10]
[2006,3,30,0,15,14,47,58,19,0,12,11]
[2006,4,36,1,21,16,43,71,25,2,18,12]
[2006,5,37,0,21,14,41,66,24,0,16,10]
[2006,6,50,0,26,14,33,70,21,0,15,10]
[2006,7,38,1,18,13,43,67,19,0,14,10]
[2006,8,31,0,18,15,54,71,17,0,15,12]
[2006,9,28,2,18,14,43,64,19,1,14,11]
[2006,10,23,1,16,16,44,52,17,0,14,13]
[2006,11,24,2,20,16,50,51,17,2,15,13]
[2006,12,24,3,26,17,60,59,16,0,17,12]
[2007,1,22,"<1",13,10,40,49,14,2,14,9]
[2007,2,24,2,14,12,35,50,16,0,14,11]
[2007,3,29,1,15,19,36,60,17,0,16,13]
[2007,4,31,1,18,17,40,66,19,2,19,14]
[2007,5,27,1,16,17,38,65,19,0,15,11]
[2007,6,27,1,14,17,36,61,17,2,16,12]
[2007,7,29,1,16,15,41,57,18,0,15,10]
[2007,8,28,3,13,28,37,63,19,1,14,12]
[2007,9,28,2,15,26,44,60,19,1,17,15]
[2007,10,26,2,15,26,44,47,18,1,16,17]
[2007,11,25,2,17,29,47,48,17,2,15,16]
[2007,12,26,2,25,27,57,55,18,1,17,16]
[2008,1,23,2,14,24,41,46,16,1,14,12]
[2008,2,25,1,14,27,42,52,21,1,14,16]
[2008,3,28,1,16,32,46,51,19,1,15,17]
[2008,4,28,2,14,27,40,60,20,1,16,16]
[2008,5,29,3,13,34,43,62,22,1,14,15]
[2008,6,32,2,17,29,40,58,23,2,16,14]
[2008,7,30,2,17,24,37,53,22,1,14,13]
[2008,8,29,3,17,28,40,51,20,2,14,15]
[2008,9,30,3,17,40,41,47,21,1,16,21]
[2008,10,25,2,16,35,44,40,19,3,14,20]
[2008,11,26,3,18,38,47,43,20,2,15,17]
[2008,12,26,2,23,35,52,51,19,3,16,19]
[2009,1,25,3,16,38,39,38,19,2,16,15]
[2009,2,24,2,16,37,38,48,19,1,14,16]
[2009,3,31,3,17,44,43,47,22,3,14,20]
[2009,4,29,4,15,48,37,52,22,3,19,19]
[2009,5,27,5,16,51,36,51,21,3,18,20]
[2009,6,27,4,18,45,40,49,20,4,17,19]
[2009,7,27,4,17,43,40,51,21,4,18,16]
[2009,8,29,5,15,43,45,51,21,4,17,18]
[2009,9,29,5,17,57,41,45,21,3,18,22]
[2009,10,28,5,16,52,45,38,21,5,21,23]
[2009,11,26,5,17,52,47,39,18,4,17,21]
[2009,12,30,5,28,55,64,47,20,3,22,23]
[2010,1,25,3,15,54,42,39,17,2,21,19]
[2010,2,27,5,17,51,44,36,19,4,18,19]
[2010,3,34,6,19,62,44,43,24,5,22,25]
[2010,4,36,5,16,59,38,38,25,4,23,23]
[2010,5,35,5,19,61,41,39,25,3,23,25]
[2010,6,42,6,16,54,40,38,25,6,22,23]
[2010,7,36,5,19,49,40,37,21,3,22,21]
[2010,8,36,9,19,55,43,39,22,6,21,26]
[2010,9,34,9,18,66,42,37,23,6,24,48]
[2010,10,29,6,21,63,42,36,21,7,23,39]
[2010,11,33,7,22,71,51,37,21,8,23,39]
[2010,12,34,8,29,62,64,44,18,9,28,38]
[2011,1,36,4,18,73,54,39,22,3,27,38]
[2011,2,36,3,18,75,51,42,23,3,27,36]
[2011,3,42,4,18,81,50,45,26,4,27,38]
[2011,4,40,5,18,89,53,48,27,5,28,41]
[2011,5,38,4,17,89,53,51,23,3,28,41]
[2011,6,39,5,17,91,60,53,24,3,27,38]
[2011,7,42,7,18,81,64,47,26,5,27,38]
[2011,8,42,17,17,87,59,50,26,6,25,39]
[2011,9,40,29,15,96,59,46,26,19,28,47]
[2011,10,37,21,16,100,61,42,23,13,29,51]
[2011,11,39,21,20,98,70,49,24,13,33,46]
[2011,12,40,20,29,92,94,56,23,15,38,48]
[2012,1,36,18,18,88,68,45,25,11,32,45]
[2012,2,37,20,16,84,68,46,26,13,28,45]
[2012,3,47,23,18,96,63,52,33,13,32,51]
[2012,4,47,26,18,80,59,49,35,16,31,51]
[2012,5,47,32,18,82,56,50,36,17,32,51]
[2012,6,52,33,18,72,61,49,37,16,33,53]
[2012,7,46,36,18,64,66,55,39,17,36,49]
[2012,8,46,47,19,65,62,46,41,22,34,52]
[2012,9,44,59,19,79,65,41,39,29,37,64]
[2012,10,38,55,20,76,60,37,33,29,39,63]
[2012,11,36,47,21,74,69,39,32,24,37,64]
[2012,12,39,43,30,73,89,51,32,23,43,64]
[2013,1,35,37,17,70,67,39,35,24,34,54]
[2013,2,34,37,17,69,57,37,40,23,33,50]
[2013,3,42,41,16,75,67,38,50,22,35,54]
[2013,4,41,49,18,77,63,41,52,25,35,54]
[2013,5,43,40,18,71,59,44,54,22,32,51]
[2013,6,42,39,18,66,66,42,53,32,34,54]
[2013,7,42,40,19,63,62,55,51,32,37,48]
[2013,8,41,38,22,61,63,43,58,34,37,51]
[2013,9,39,42,18,73,67,34,54,36,41,65]
[2013,10,37,48,16,64,60,31,45,38,36,63]
[2013,11,38,44,21,69,71,33,45,35,40,67]
[2013,12,36,38,28,58,92,42,45,33,42,62]
[2014,1,36,35,16,56,62,32,54,29,39,54]
[2014,2,41,37,17,58,63,30,63,29,31,52]
[2014,3,48,42,18,65,60,38,81,30,34,59]
[2014,4,49,42,18,64,54,44,84,32,32,56]
[2014,5,48,36,18,59,59,39,77,30,35,55]
[2014,6,54,37,19,57,60,43,73,33,34,55]
[2014,7,74,32,21,50,62,46,73,29,38,48]
[2014,8,53,38,22,56,63,42,72,37,37,57]
[2014,9,48,38,22,58,55,31,69,37,34,62]
[2014,10,43,42,21,59,59,30,61,38,37,63]
[2014,11,42,38,27,59,70,31,56,37,36,67]
[2014,12,41,38,35,54,92,36,55,36,43,69]
[2015,1,44,32,42,50,59,30,60,29,39,59]
[2015,2,48,27,32,51,60,33,69,27,34,54]
[2015,3,62,36,30,55,56,33,93,31,33,61]
[2015,4,67,39,31,52,57,34,86,34,31,58]
[2015,5,65,39,30,56,59,39,83,35,31,56]
[2015,6,64,38,28,51,58,41,75,33,31,58]
[2015,7,57,36,33,50,55,45,66,33,37,50]
[2015,8,64,39,37,46,52,36,69,35,33,50]
[2015,9,65,49,38,55,67,34,70,36,35,73]
[2015,10,56,49,40,56,62,31,61,47,36,77]
[2015,11,56,46,54,57,77,33,59,39,39,83]
[2015,12,60,50,73,55,100,45,62,38,44,84]
[2016,1,69,39,69,47,62,34,67,33,39,70]
[2016,2,80,36,67,50,68,38,75,31,29,65]
[2016,3,100,46,62,50,62,46,87,41,32,67]
[2016,4,96,52,61,53,59,48,90,46,36,71]
[2016,5,83,57,71,62,64,53,78,47,37,69]
[2016,6,87,52,60,51,61,53,73,37,34,78]
[2016,7,83,46,64,45,62,53,67,36,37,67]
[2016,8,85,43,64,45,63,46,65,37,37,60]
[2016,9,87,53,63,48,58,51,64,45,41,74]
[2016,10,75,58,62,53,68,43,60,57,48,93]
[2016,11,73,55,75,55,86,49,57,47,53,86]
[2016,12,74,51,99,48,96,64,55,40,63,88]
[2017,1,70,48,71,42,60,46,53,32,51,73]
[2017,2,82,48,75,44,61,48,61,38,42,66]
[2017,3,98,53,66,45,56,58,72,42,39,77]
[2017,4,96,55,71,45,58,54,71,49,37,71]
[2017,5,82,55,75,49,58,56,64,43,41,75]
[2017,6,80,62,74,48,60,62,60,49,49,80]
[2017,7,80,53,77,42,59,63,57,40,45,67]
[2017,8,77,51,73,41,58,57,58,39,50,65]
[2017,9,77,59,77,48,61,55,61,54,57,88]
[2017,10,66,66,65,44,64,49,56,60,60,88]
[2017,11,77,74,83,52,78,56,62,80,73,100]
[2017,12,72,61,99,46,95,66,53,60,84,87]
[2018,1,79,52,66,42,60,50,57,52,55,69]
[2018,2,73,55,63,40,57,48,59,43,54,62]
[2018,3,88,59,67,42,60,56,69,57,56,66]
[2018,4,97,61,63,45,54,69,72,62,55,65]
[2018,5,77,61,69,45,58,63,61,60,53,62]
[2018,6,89,67,69,44,62,65,64,66,54,71]
[2018,7,75,57,74,44,59,62,58,61,57,62]
[2018,8,67,58,73,40,54,57,59,57,57,54]
[2018,9,76,62,69,41,60,49,67,63,62,68]
[2018,10,60,63,64,41,74,45,58,67,68,73]
[2018,11,72,78,83,47,75,57,65,67,91,91]
[2018,12,63,73,100,41,94,59,61,52,91,81]
[2019,1,57,74,70,35,61,45,59,47,66,67]
[2019,2,71,68,71,38,64,52,75,48,62,63]
[2019,3,78,71,65,39,58,54,79,52,61,64]
[2019,4,80,66,69,43,58,58,78,63,59,57]
[2019,5,72,74,66,40,55,55,79,52,59,63]
[2019,6,73,74,69,51,57,61,68,63,63,73]
[2019,7,71,63,67,38,62,62,65,56,60,61]
[2019,8,65,62,67,36,56,53,68,49,60,57]
[2019,9,72,74,65,43,63,54,76,64,73,75]
[2019,10,59,71,68,42,67,45,67,70,71,81]
[2019,11,69,77,96,45,80,56,79,71,100,87]
[2019,12,58,68,96,38,98,63,73,56,89,86]
[2020,1,58,56,66,34,63,48,69,52,64,71]
[2020,2,57,56,60,33,59,46,70,49,54,63]
[2020,3,66,54,47,30,47,40,69,41,41,54]
[2020,4,77,72,59,45,51,49,81,73,51,69]
[2020,5,70,65,61,38,54,49,83,66,53,74]
[2020,6,62,69,65,38,54,55,71,63,55,71]
[2020,7,61,68,68,33,61,56,75,58,56,65]
[2020,8,63,69,67,35,59,55,76,57,56,67]
[2020,9,66,85,67,38,59,51,80,62,61,77]
[2020,10,56,84,67,37,58,46,72,76,66,84]
[2020,11,56,84,84,35,76,56,85,66,79,82]
[2020,12,48,68,92,33,80,60,74,55,78,80]
[2021,1,48,74,64,34,55,45,63,57,57,81]
[2021,2,54,74,63,37,51,45,71,55,56,83]
[2021,3,67,80,56,49,51,45,83,64,49,91]
[2021,4,62,79,55,40,53,48,77,70,47,74]
[2021,5,62,75,57,45,53,49,77,65,47,79]
[2021,6,64,72,62,40,54,59,67,68,48,73]
[2021,7,57,66,62,29,54,55,75,59,47,61]
[2021,8,61,72,64,31,57,55,77,70,54,63]
[2021,9,57,96,62,31,57,54,78,78,51,69]
[2021,10,54,100,66,38,63,63,77,100,67,87]
[2021,11,53,93,78,35,77,85,92,84,81,83]
[2021,12,49,95,85,33,95,100,87,71,78,85]
[2022,1,50,81,59,27,63,65,84,69,54,67]
[2022,2,54,71,58,28,54,61,84,66,49,61]
[2022,3,64,79,56,27,53,61,100,74,45,66]
[2022,4,62,73,63,31,58,65,99,72,47,71]
[2022,5,63,71,54,33,56,62,90,75,47,76]
[2022,6,60,76,62,32,58,67,79,75,47,78]
[2022,7,59,73,60,30,55,65,80,65,45,68]
[2022,8,64,75,58,29,52,65,79,66,45,63]
[2022,9,62,87,62,34,60,63,92,84,56,80]
[2022,10,60,86,58,31,60,60,81,77,51,77]
[2022,11,65,86,80,34,75,74,95,79,67,85]
[2022,12,55,81,77,31,90,84,88,80,66,84]
[2023,1,51,71,56,25,63,62,79,63,46,66]
[2023,2,57,73,56,25,62,62,82,55,43,69]
[2023,3,64,78,61,26,62,67,92,62,41,75]
[2023,4,68,96,59,29,61,68,93,69,41,80]
[2023,5,68,93,58,28,61,69,94,70,43,84]
[2023,6,65,100,64,30,62,75,81,81,45,84]

{"sheet":"keywords(IT)","index":41,"n_rows":11,"n_cols":4,"rows_kept":11,"cut":false,"hidden":false,"merged":[]}
["id","url","country","brand*"]
[1,"https://trends.google.com/trends/explore?date=all&geo=IT&q=Adidas","IT","Adidas"]
[2,"https://trends.google.com/trends/explore?date=all&geo=IT&q=Bershka","IT","Bershka"]
[3,"https://trends.google.com/trends/explore?date=all&geo=IT&q=Calvin Klein","IT","Calvin Klein"]
[4,"https://trends.google.com/trends/explore?date=all&geo=IT&q=H&M","IT","H&M"]
[5,"https://trends.google.com/trends/explore?date=all&geo=IT&q=Hugo Boss","IT","Hugo Boss"]
[6,"https://trends.google.com/trends/explore?date=all&geo=IT&q=Lacoste","IT","Lacoste"]
[7,"https://trends.google.com/trends/explore?date=all&geo=IT&q=Nike","IT","Nike"]
[8,"https://trends.google.com/trends/explore?date=all&geo=IT&q=Pull and Bear","IT","Pull and Bear"]
[9,"https://trends.google.com/trends/explore?date=all&geo=IT&q=Tommy Hilfiger","IT","Tommy Hilfiger"]
[10,"https://trends.google.com/trends/explore?date=all&geo=IT&q=Zara","IT","Zara"]

{"sheet":"1...10 raw(IT)","index":42,"n_rows":236,"n_cols":12,"rows_kept":236,"cut":false,"hidden":false,"merged":[]}
["Italy",null,"Adidas","Bershka","Calvin Klein","H&M","Hugo Boss","Lacoste","Nike","Pull and Bear","Tommy Hilfiger","Zara"]
["Year","Month","Point","Point","Point","Point","Point","Point","Point","Point","Point","Point"]
[2004,1,19,0,11,7,27,11,16,0,13,7]
[2004,2,17,3,21,5,0,14,18,0,7,3]
[2004,3,28,3,40,8,36,0,24,0,0,5]
[2004,4,31,0,30,9,11,13,43,8,8,7]
[2004,5,30,6,27,2,0,15,34,0,6,7]
[2004,6,28,0,29,6,15,64,31,0,15,5]
[2004,7,23,0,24,3,19,32,24,0,0,7]
[2004,8,31,4,36,4,24,32,26,0,6,9]
[2004,9,28,0,52,13,42,51,34,0,11,7]
[2004,10,19,0,36,10,54,15,31,0,4,8]
[2004,11,24,6,38,12,49,29,31,0,7,8]
[2004,12,23,0,63,12,31,50,36,0,17,8]
[2005,1,20,0,28,7,19,23,31,4,4,7]
[2005,2,23,0,35,8,16,25,35,3,5,6]
[2005,3,52,0,26,14,25,18,37,0,4,9]
[2005,4,32,2,27,9,24,25,39,3,0,10]
[2005,5,29,3,19,15,25,41,45,0,10,11]
[2005,6,28,0,20,13,27,58,30,0,6,10]
[2005,7,20,0,22,10,22,67,26,0,9,13]
[2005,8,28,2,13,12,0,37,29,0,10,12]
[2005,9,33,1,37,21,36,46,29,0,18,15]
[2005,10,25,2,48,22,27,38,31,3,6,11]
[2005,11,27,4,38,15,29,32,42,0,7,11]
[2005,12,27,1,41,15,28,44,28,0,8,8]
[2006,1,22,3,30,16,12,28,27,5,2,8]
[2006,2,29,0,22,17,23,29,32,2,8,9]
[2006,3,36,5,21,20,16,58,33,2,2,11]
[2006,4,51,3,23,20,26,65,58,3,11,10]
[2006,5,36,2,29,16,20,78,46,0,9,11]
[2006,6,40,1,21,18,21,91,34,0,8,10]
[2006,7,33,5,28,13,23,95,24,0,9,13]
[2006,8,29,5,22,22,18,69,28,8,9,12]
[2006,9,28,6,27,28,29,59,33,7,11,17]
[2006,10,25,5,26,28,33,42,28,5,12,14]
[2006,11,20,4,34,28,26,45,25,4,9,14]
[2006,12,21,5,57,21,29,57,26,4,13,12]
[2007,1,19,3,28,16,30,41,22,4,5,12]
[2007,2,16,5,21,17,37,48,20,3,8,11]
[2007,3,24,4,25,34,23,50,22,0,8,15]
[2007,4,25,2,22,31,19,82,23,4,10,13]
[2007,5,23,3,24,25,24,95,22,6,8,12]
[2007,6,18,2,22,20,14,90,22,3,6,11]
[2007,7,20,3,25,23,13,91,21,6,7,12]
[2007,8,23,1,30,25,18,74,22,6,7,14]
[2007,9,29,7,24,33,19,60,30,10,10,23]
[2007,10,21,6,30,37,26,55,22,3,8,18]
[2007,11,18,4,29,36,28,54,21,7,9,14]
[2007,12,21,6,48,25,41,61,24,4,9,14]
[2008,1,20,4,21,19,24,44,20,4,4,13]
[2008,2,20,5,22,17,24,45,19,7,6,14]
[2008,3,20,6,18,21,26,64,21,9,10,16]
[2008,4,20,7,21,23,26,76,21,7,10,15]
[2008,5,23,5,21,19,24,85,26,6,8,14]
[2008,6,20,5,18,19,22,93,21,4,7,12]
[2008,7,19,5,19,18,28,83,19,4,10,12]
[2008,8,22,6,23,18,21,69,25,8,9,30]
[2008,9,26,7,26,30,23,58,27,9,9,29]
[2008,10,21,6,21,25,22,43,20,8,7,20]
[2008,11,19,4,21,29,16,44,21,9,7,17]
[2008,12,19,3,42,23,35,51,21,10,10,12]
[2009,1,17,4,19,15,21,33,20,9,7,14]
[2009,2,20,6,18,17,16,38,19,7,7,13]
[2009,3,21,9,20,21,28,40,21,10,11,14]
[2009,4,22,8,22,20,19,68,21,9,13,14]
[2009,5,19,7,16,23,20,76,19,7,15,14]
[2009,6,16,5,19,16,19,75,16,7,12,11]
[2009,7,18,6,21,15,28,81,18,8,10,12]
[2009,8,21,8,17,17,23,67,22,11,11,12]
[2009,9,26,10,29,25,20,55,23,12,13,17]
[2009,10,22,11,26,28,25,49,21,13,11,16]
[2009,11,20,9,31,38,24,39,18,11,12,13]
[2009,12,26,10,48,24,45,48,20,11,15,13]
[2010,1,20,6,26,16,16,31,18,8,11,13]
[2010,2,19,7,21,18,19,34,17,7,8,12]
[2010,3,26,11,24,24,19,38,19,11,12,17]
[2010,4,27,13,26,25,23,53,20,12,15,16]
[2010,5,24,13,25,24,20,59,22,11,13,15]
[2010,6,22,10,23,20,15,56,18,10,13,15]
[2010,7,20,10,25,19,25,62,18,10,10,13]
[2010,8,23,10,20,22,16,46,19,11,10,15]
[2010,9,28,15,24,39,29,41,22,18,11,25]
[2010,10,27,17,26,37,21,32,20,16,15,25]
[2010,11,24,13,30,46,20,27,18,11,13,24]
[2010,12,27,16,46,35,36,36,18,15,27,24]
[2011,1,25,12,23,24,22,25,18,12,14,21]
[2011,2,23,12,21,29,15,24,16,12,12,20]
[2011,3,28,15,21,34,25,27,17,16,11,21]
[2011,4,31,13,24,36,24,46,18,15,14,26]
[2011,5,29,13,24,37,27,47,16,16,16,26]
[2011,6,23,13,23,29,27,57,15,12,16,25]
[2011,7,25,12,25,28,29,55,16,15,18,25]
[2011,8,27,12,22,30,19,44,18,14,14,31]
[2011,9,33,24,26,44,32,40,20,28,12,32]
[2011,10,32,31,27,48,25,35,21,31,15,38]
[2011,11,27,33,33,61,27,29,19,34,15,36]
[2011,12,28,35,44,46,45,35,22,41,32,40]
[2012,1,28,35,26,39,22,26,21,36,20,34]
[2012,2,26,36,23,48,26,24,18,38,15,36]
[2012,3,35,50,26,67,27,36,24,43,18,47]
[2012,4,32,44,25,58,30,41,24,41,17,43]
[2012,5,32,45,25,61,26,48,22,38,23,40]
[2012,6,24,42,24,51,27,53,18,36,19,35]
[2012,7,26,49,26,46,32,50,19,39,21,37]
[2012,8,29,43,23,44,26,44,22,38,18,34]
[2012,9,36,57,25,62,31,35,29,54,18,46]
[2012,10,29,53,26,61,23,24,25,51,20,45]
[2012,11,27,54,27,56,24,22,22,50,20,46]
[2012,12,27,55,42,51,41,29,25,57,25,42]
[2013,1,23,51,25,46,25,23,22,47,20,38]
[2013,2,22,40,20,39,21,20,19,43,16,34]
[2013,3,29,51,21,59,28,24,23,48,18,38]
[2013,4,28,53,22,54,25,37,24,53,19,41]
[2013,5,25,47,22,52,21,40,22,44,18,38]
[2013,6,23,45,21,46,25,45,18,45,20,35]
[2013,7,22,48,23,45,24,50,20,44,23,37]
[2013,8,29,41,20,39,22,40,25,36,17,33]
[2013,9,33,50,23,55,33,25,28,51,16,43]
[2013,10,31,48,24,55,27,24,26,51,17,40]
[2013,11,30,51,27,60,31,21,24,60,18,43]
[2013,12,29,59,41,57,54,29,28,59,24,42]
[2014,1,28,47,23,41,28,22,26,54,20,40]
[2014,2,26,41,20,42,30,19,25,36,15,34]
[2014,3,30,52,21,53,32,25,30,47,18,44]
[2014,4,39,54,22,64,26,42,34,48,20,45]
[2014,5,32,50,21,59,24,41,33,46,17,43]
[2014,6,29,45,20,48,28,45,33,43,16,32]
[2014,7,38,48,25,46,29,55,32,49,21,42]
[2014,8,36,44,21,52,25,40,35,42,18,37]
[2014,9,47,57,22,100,33,30,37,53,15,48]
[2014,10,44,56,23,98,35,24,33,59,15,48]
[2014,11,45,58,28,87,35,23,32,59,19,51]
[2014,12,45,65,40,85,65,31,32,64,22,47]
[2015,1,48,50,36,69,36,19,33,59,20,47]
[2015,2,46,42,26,53,33,17,29,43,12,38]
[2015,3,56,47,26,79,31,28,34,43,15,45]
[2015,4,82,55,26,91,31,34,37,49,17,50]
[2015,5,69,57,23,93,30,46,37,43,18,47]
[2015,6,54,55,23,77,26,45,29,41,19,42]
[2015,7,61,56,26,73,35,58,32,52,24,44]
[2015,8,77,45,29,54,32,38,38,44,17,40]
[2015,9,91,62,30,85,32,27,40,51,17,53]
[2015,10,80,59,29,97,38,22,35,55,18,57]
[2015,11,72,59,36,97,59,20,33,63,19,59]
[2015,12,80,70,59,97,100,32,36,67,26,57]
[2016,1,81,51,41,65,40,20,35,52,20,50]
[2016,2,69,37,36,49,37,17,31,32,15,41]
[2016,3,77,46,32,64,40,20,34,37,14,48]
[2016,4,83,49,30,79,34,32,35,43,16,57]
[2016,5,70,49,32,71,34,35,33,43,18,52]
[2016,6,64,48,33,63,29,43,30,38,18,54]
[2016,7,67,52,42,68,35,51,34,47,26,53]
[2016,8,75,41,40,51,31,38,33,37,18,45]
[2016,9,89,52,37,73,35,26,38,47,20,62]
[2016,10,78,64,35,79,44,21,35,52,22,69]
[2016,11,75,69,42,89,52,28,36,62,23,86]
[2016,12,79,70,68,74,74,29,39,66,29,70]
[2017,1,75,59,46,57,37,20,35,65,30,68]
[2017,2,72,49,42,50,36,18,31,40,25,53]
[2017,3,79,54,37,53,32,23,34,48,21,62]
[2017,4,93,64,41,67,35,32,38,54,26,70]
[2017,5,74,61,41,71,34,42,35,46,29,67]
[2017,6,65,63,44,63,35,51,31,48,29,60]
[2017,7,78,65,62,57,41,59,37,63,36,63]
[2017,8,84,55,59,45,34,42,39,49,32,53]
[2017,9,100,71,48,74,34,31,46,64,33,83]
[2017,10,82,89,45,72,38,23,41,61,29,75]
[2017,11,93,99,52,84,46,29,51,100,42,100]
[2017,12,85,88,86,73,68,32,50,76,51,81]
[2018,1,83,72,59,60,43,31,45,74,47,78]
[2018,2,73,54,48,43,34,24,42,44,40,58]
[2018,3,73,59,44,50,39,31,41,47,43,63]
[2018,4,87,64,48,61,34,43,44,54,47,65]
[2018,5,80,59,50,60,36,50,38,53,44,62]
[2018,6,71,57,49,57,36,54,37,59,47,56]
[2018,7,86,62,69,57,42,68,44,68,58,57]
[2018,8,75,57,62,43,42,51,44,50,52,48]
[2018,9,93,63,54,60,36,39,50,57,52,61]
[2018,10,77,65,45,70,39,28,46,61,49,70]
[2018,11,81,90,60,81,56,33,55,76,65,87]
[2018,12,73,78,90,63,67,38,54,41,78,75]
[2019,1,63,71,56,48,41,31,44,43,60,68]
[2019,2,63,56,48,39,39,29,41,43,48,49]
[2019,3,73,60,48,47,34,33,47,48,51,58]
[2019,4,70,63,51,53,39,37,50,49,53,61]
[2019,5,64,57,50,59,36,44,45,45,47,62]
[2019,6,60,56,55,66,41,61,40,52,50,64]
[2019,7,64,66,62,60,41,74,48,71,73,59]
[2019,8,68,58,59,40,35,54,48,53,62,46]
[2019,9,77,72,50,65,40,41,52,62,66,63]
[2019,10,67,70,52,69,40,31,51,58,59,75]
[2019,11,74,100,61,73,52,34,57,82,86,93]
[2019,12,72,92,93,71,81,46,63,82,96,91]
[2020,1,64,81,65,54,44,35,58,71,82,74]
[2020,2,55,60,50,41,35,25,49,45,56,54]
[2020,3,35,38,29,27,19,20,32,28,31,31]
[2020,4,53,52,43,67,21,28,39,50,47,49]
[2020,5,66,63,46,71,27,52,54,66,61,64]
[2020,6,60,63,59,65,32,63,49,77,66,61]
[2020,7,47,68,72,61,38,66,46,67,65,59]
[2020,8,59,72,70,46,38,67,59,62,71,53]
[2020,9,65,80,55,64,40,46,60,72,72,70]
[2020,10,56,74,50,67,34,34,53,68,69,71]
[2020,11,60,73,64,60,44,37,54,72,73,82]
[2020,12,57,76,90,58,75,49,57,71,94,69]
[2021,1,50,77,61,41,35,35,53,90,68,68]
[2021,2,50,60,52,40,34,34,50,61,60,55]
[2021,3,51,47,42,39,32,34,47,48,48,52]
[2021,4,61,55,41,46,34,39,55,56,54,57]
[2021,5,53,60,46,52,36,56,53,56,58,65]
[2021,6,47,67,50,60,42,68,46,60,59,62]
[2021,7,48,63,62,53,44,81,46,71,69,64]
[2021,8,52,60,56,43,38,68,61,57,66,49]
[2021,9,55,70,54,51,40,43,67,71,62,63]
[2021,10,53,81,47,73,39,41,60,77,63,77]
[2021,11,54,88,66,67,57,46,70,79,75,84]
[2021,12,50,80,91,60,68,65,78,79,100,75]
[2022,1,51,68,64,47,54,62,68,81,71,66]
[2022,2,46,54,47,42,48,46,54,51,50,52]
[2022,3,51,66,45,46,42,46,61,57,48,60]
[2022,4,56,71,50,57,44,52,66,69,55,72]
[2022,5,56,61,56,63,46,77,61,61,64,72]
[2022,6,46,52,55,53,46,81,50,61,53,63]
[2022,7,55,57,67,53,42,100,57,73,68,66]
[2022,8,59,54,68,41,44,79,68,55,64,56]
[2022,9,65,70,55,60,42,60,76,61,57,65]
[2022,10,59,66,58,60,44,61,72,62,56,67]
[2022,11,71,81,72,68,61,73,87,78,87,84]
[2022,12,64,84,100,68,77,89,100,92,94,83]
[2023,1,59,64,72,50,48,76,75,78,73,68]
[2023,2,48,44,55,34,44,58,58,48,55,49]
[2023,3,64,50,57,40,49,70,64,51,55,60]
[2023,4,82,59,56,49,44,69,71,54,54,69]
[2023,5,70,46,62,46,41,79,65,51,53,63]
[2023,6,63,50,59,51,45,91,55,54,57,62]

{"sheet":"keywords(PT)","index":43,"n_rows":11,"n_cols":4,"rows_kept":11,"cut":false,"hidden":false,"merged":[]}
["id","url","country","brand*"]
[1,"https://trends.google.com/trends/explore?date=all&geo=PT&q=Adidas","PT","Adidas"]
[2,"https://trends.google.com/trends/explore?date=all&geo=PT&q=Bershka","PT","Bershka"]
[3,"https://trends.google.com/trends/explore?date=all&geo=PT&q=Calvin Klein","PT","Calvin Klein"]
[4,"https://trends.google.com/trends/explore?date=all&geo=PT&q=H&M","PT","H&M"]
[5,"https://trends.google.com/trends/explore?date=all&geo=PT&q=Hugo Boss","PT","Hugo Boss"]
[6,"https://trends.google.com/trends/explore?date=all&geo=PT&q=Lacoste","PT","Lacoste"]
[7,"https://trends.google.com/trends/explore?date=all&geo=PT&q=Nike","PT","Nike"]
[8,"https://trends.google.com/trends/explore?date=all&geo=PT&q=Pull and Bear","PT","Pull and Bear"]
[9,"https://trends.google.com/trends/explore?date=all&geo=PT&q=Tommy Hilfiger","PT","Tommy Hilfiger"]
[10,"https://trends.google.com/trends/explore?date=all&geo=PT&q=Zara","PT","Zara"]

{"sheet":"1...10 raw(PT)","index":44,"n_rows":236,"n_cols":12,"rows_kept":236,"cut":false,"hidden":false,"merged":[]}
["Portugal",null,"Adidas","Bershka","Calvin Klein","H&M","Hugo Boss","Lacoste","Nike","Pull and Bear","Tommy Hilfiger","Zara"]
["Year","Month","Point","Point","Point","Point","Point","Point","Point","Point","Point","Point"]
[2004,1,14,7,52,8,0,19,20,5,0,4]
[2004,2,14,0,35,12,0,0,28,0,56,7]
[2004,3,18,0,30,0,45,0,31,0,0,3]
[2004,4,18,0,0,0,0,14,40,0,0,6]
[2004,5,29,2,36,0,36,30,27,0,0,6]
[2004,6,30,0,0,0,0,17,41,0,0,8]
[2004,7,6,3,32,35,0,0,25,0,22,5]
[2004,8,22,4,36,0,0,0,25,0,28,6]
[2004,9,21,2,24,13,0,21,19,3,0,8]
[2004,10,15,0,0,5,0,0,12,8,23,7]
[2004,11,19,7,30,9,31,0,25,0,0,6]
[2004,12,17,11,36,12,90,48,23,4,18,6]
[2005,1,15,6,52,8,69,20,25,6,0,6]
[2005,2,13,0,12,8,31,12,33,3,0,5]
[2005,3,23,6,0,12,18,13,41,8,7,7]
[2005,4,19,0,11,12,0,14,33,0,14,10]
[2005,5,24,7,23,16,21,41,32,3,0,8]
[2005,6,21,7,41,14,0,15,26,8,0,8]
[2005,7,18,4,34,11,0,18,24,11,0,8]
[2005,8,20,2,10,7,33,17,33,3,0,12]
[2005,9,20,5,28,19,37,14,28,11,0,10]
[2005,10,30,4,22,24,24,18,32,6,18,9]
[2005,11,29,4,32,16,20,8,30,8,31,8]
[2005,12,26,4,26,18,66,9,37,11,25,11]
[2006,1,25,5,0,13,24,13,31,7,0,7]
[2006,2,26,9,36,14,22,18,41,4,10,10]
[2006,3,25,8,20,17,46,19,47,8,8,9]
[2006,4,36,6,21,26,25,14,61,6,0,7]
[2006,5,26,5,27,16,40,11,55,6,8,6]
[2006,6,26,6,6,19,56,21,49,5,0,6]
[2006,7,23,7,39,13,11,8,31,5,20,6]
[2006,8,28,5,11,12,37,12,35,7,14,8]
[2006,9,23,7,17,26,32,10,32,10,8,13]
[2006,10,21,8,14,20,43,16,25,10,7,10]
[2006,11,15,6,30,27,15,13,25,7,3,10]
[2006,12,21,8,50,19,43,17,28,5,13,9]
[2007,1,15,7,17,14,15,3,23,7,0,8]
[2007,2,19,6,16,8,23,14,19,8,6,9]
[2007,3,21,10,16,23,18,16,21,8,4,10]
[2007,4,25,6,9,22,22,6,22,9,0,8]
[2007,5,18,5,19,16,22,12,22,8,0,7]
[2007,6,22,5,9,21,15,16,21,7,0,8]
[2007,7,20,5,17,14,24,13,18,4,9,6]
[2007,8,20,7,16,18,12,9,21,8,8,10]
[2007,9,23,7,9,26,19,22,20,8,5,14]
[2007,10,21,6,17,19,19,13,20,11,3,12]
[2007,11,23,5,16,20,41,15,21,8,9,10]
[2007,12,30,7,33,22,36,21,20,11,8,11]
[2008,1,24,3,14,13,30,11,21,5,4,8]
[2008,2,24,5,16,15,5,6,22,7,5,11]
[2008,3,28,7,13,20,25,15,22,12,4,10]
[2008,4,24,4,14,12,23,17,18,6,3,8]
[2008,5,28,5,23,21,17,14,24,5,7,8]
[2008,6,27,5,11,16,20,14,23,6,4,8]
[2008,7,24,5,14,16,37,16,16,6,4,9]
[2008,8,29,4,23,15,17,19,20,9,3,10]
[2008,9,30,7,9,20,23,11,21,9,12,12]
[2008,10,28,5,10,23,15,18,19,10,6,12]
[2008,11,26,4,15,21,32,16,20,10,4,10]
[2008,12,27,7,31,21,35,15,21,13,5,11]
[2009,1,23,6,16,10,22,10,20,9,6,9]
[2009,2,25,7,24,16,25,22,18,10,4,10]
[2009,3,26,8,12,18,20,15,20,10,4,11]
[2009,4,29,6,18,17,24,14,20,10,10,8]
[2009,5,23,8,23,25,22,10,22,10,5,8]
[2009,6,20,7,27,19,21,16,18,10,5,8]
[2009,7,21,7,16,12,29,16,19,10,5,7]
[2009,8,25,8,19,16,26,14,21,9,4,9]
[2009,9,28,12,13,23,18,15,22,11,5,10]
[2009,10,24,11,18,24,19,14,20,11,6,10]
[2009,11,22,11,17,30,23,14,20,13,8,11]
[2009,12,27,12,53,27,44,17,21,14,11,12]
[2010,1,18,9,15,18,22,13,19,9,6,9]
[2010,2,19,8,21,17,18,7,18,7,6,10]
[2010,3,19,9,20,24,25,10,20,13,4,11]
[2010,4,19,11,19,21,21,14,20,13,7,11]
[2010,5,21,9,22,20,21,15,20,11,6,10]
[2010,6,20,9,23,22,18,16,20,11,10,10]
[2010,7,19,9,22,18,26,13,18,10,8,10]
[2010,8,22,10,19,18,18,14,19,11,6,12]
[2010,9,21,14,21,27,22,11,19,15,9,21]
[2010,10,19,12,13,30,19,12,21,15,15,20]
[2010,11,17,13,21,40,18,10,19,18,20,22]
[2010,12,21,16,31,38,43,11,22,26,20,24]
[2011,1,27,12,21,27,22,9,21,15,10,20]
[2011,2,19,11,26,27,20,14,19,18,10,19]
[2011,3,19,14,15,39,20,13,19,21,7,20]
[2011,4,19,16,15,46,16,12,20,21,7,21]
[2011,5,18,14,17,51,19,15,17,18,9,23]
[2011,6,18,15,20,46,22,11,17,18,9,22]
[2011,7,18,15,15,31,30,14,17,19,9,22]
[2011,8,26,18,26,36,27,17,24,22,12,26]
[2011,9,25,31,17,42,30,18,24,34,10,30]
[2011,10,24,39,16,45,23,17,24,38,11,30]
[2011,11,20,43,28,49,36,17,24,48,14,33]
[2011,12,22,64,43,54,45,18,27,71,23,39]
[2012,1,21,48,19,40,41,15,25,50,14,33]
[2012,2,20,53,23,47,31,12,23,53,13,29]
[2012,3,22,63,23,58,30,11,25,58,10,31]
[2012,4,20,60,23,56,18,14,22,50,14,39]
[2012,5,20,59,18,67,25,11,22,48,12,35]
[2012,6,22,68,20,60,26,18,23,57,14,35]
[2012,7,19,62,26,47,19,21,21,57,13,36]
[2012,8,21,62,27,46,29,19,25,57,16,35]
[2012,9,20,67,26,64,27,15,23,62,14,40]
[2012,10,20,66,24,62,26,13,23,68,13,42]
[2012,11,19,71,30,64,31,11,23,76,18,43]
[2012,12,20,100,38,72,42,17,30,100,22,55]
[2013,1,18,66,26,45,24,9,24,69,16,36]
[2013,2,18,62,26,50,21,11,22,61,15,35]
[2013,3,19,69,23,63,27,11,26,68,14,37]
[2013,4,17,65,20,66,26,15,22,59,13,33]
[2013,5,19,63,25,78,21,13,25,52,15,36]
[2013,6,17,61,18,62,22,15,22,54,12,36]
[2013,7,17,66,24,48,22,15,20,54,15,35]
[2013,8,20,58,21,47,29,16,25,51,17,34]
[2013,9,19,62,19,63,31,13,26,60,13,37]
[2013,10,18,65,22,64,29,12,26,58,17,39]
[2013,11,20,71,33,70,33,12,25,68,18,44]
[2013,12,21,90,42,79,49,15,33,90,27,55]
[2014,1,19,61,26,44,31,13,27,59,17,39]
[2014,2,19,56,27,48,28,10,26,52,17,36]
[2014,3,23,61,19,62,29,12,31,54,15,36]
[2014,4,23,62,26,58,23,21,30,54,16,37]
[2014,5,21,61,25,69,25,14,27,54,15,38]
[2014,6,20,57,18,67,28,13,31,56,14,39]
[2014,7,22,63,22,49,33,18,27,61,18,37]
[2014,8,23,53,28,47,28,17,29,53,16,36]
[2014,9,25,60,20,70,26,13,32,63,13,46]
[2014,10,26,57,24,63,35,12,29,58,15,41]
[2014,11,28,71,32,78,34,10,31,73,19,51]
[2014,12,31,94,51,82,51,21,37,100,30,62]
[2015,1,30,67,48,51,35,11,36,67,19,42]
[2015,2,33,58,38,52,26,9,32,52,18,40]
[2015,3,38,58,33,72,30,14,31,62,15,41]
[2015,4,38,58,33,83,30,14,32,57,15,44]
[2015,5,39,60,31,85,30,15,29,49,15,41]
[2015,6,37,66,27,81,30,17,25,58,15,43]
[2015,7,45,62,29,68,31,20,31,54,21,42]
[2015,8,56,56,27,59,32,19,36,46,19,40]
[2015,9,60,59,24,71,32,12,33,50,19,49]
[2015,10,59,63,30,74,34,14,29,53,15,53]
[2015,11,61,74,42,100,47,12,30,61,23,66]
[2015,12,89,93,70,91,76,19,40,83,30,75]
[2016,1,69,49,35,51,29,13,33,42,19,42]
[2016,2,72,43,34,50,32,13,30,35,16,34]
[2016,3,75,47,32,60,34,14,33,38,15,40]
[2016,4,69,41,36,61,26,14,30,30,13,39]
[2016,5,67,44,28,65,28,17,28,28,18,44]
[2016,6,61,47,31,71,30,16,28,30,14,50]
[2016,7,59,47,40,58,35,21,30,31,23,42]
[2016,8,66,42,37,52,31,23,32,29,20,38]
[2016,9,68,45,38,57,31,18,31,34,19,41]
[2016,10,71,47,35,62,40,16,32,44,16,49]
[2016,11,71,64,52,72,47,17,36,58,24,67]
[2016,12,90,81,75,80,71,25,41,78,36,71]
[2017,1,87,51,37,58,34,19,30,46,25,51]
[2017,2,68,47,39,52,30,16,26,39,25,39]
[2017,3,76,44,30,52,31,16,29,26,20,45]
[2017,4,86,51,32,69,30,21,29,18,21,47]
[2017,5,65,45,38,65,32,17,25,15,22,49]
[2017,6,61,54,31,71,32,21,24,21,23,58]
[2017,7,68,51,40,57,37,32,29,31,30,45]
[2017,8,70,47,38,54,35,27,33,36,26,49]
[2017,9,72,49,34,63,33,21,33,39,24,57]
[2017,10,67,46,35,64,34,20,31,35,30,58]
[2017,11,85,79,49,86,45,30,40,68,35,90]
[2017,12,100,92,93,81,85,33,43,82,50,94]
[2018,1,69,57,39,63,37,29,32,52,30,69]
[2018,2,70,52,38,50,36,25,33,38,29,50]
[2018,3,70,51,36,60,34,29,33,39,26,54]
[2018,4,69,47,36,55,35,26,30,39,30,54]
[2018,5,85,46,44,65,36,27,30,38,29,55]
[2018,6,69,52,40,67,41,28,32,50,33,63]
[2018,7,72,48,47,58,37,38,37,47,31,52]
[2018,8,62,41,51,50,42,39,39,40,36,44]
[2018,9,68,44,37,59,36,25,38,38,28,51]
[2018,10,86,49,47,67,33,25,37,41,35,64]
[2018,11,76,68,54,82,54,34,43,34,46,88]
[2018,12,90,78,97,80,74,48,51,35,65,91]
[2019,1,79,62,47,60,42,33,42,35,44,74]
[2019,2,72,45,48,51,33,28,37,23,33,51]
[2019,3,76,42,37,50,42,29,38,24,32,52]
[2019,4,74,44,47,59,35,32,39,38,35,52]
[2019,5,67,40,47,69,35,31,35,35,38,56]
[2019,6,68,49,46,65,46,34,37,46,40,66]
[2019,7,71,45,45,60,42,39,40,42,45,56]
[2019,8,74,42,56,53,38,43,46,35,41,52]
[2019,9,76,41,48,63,42,27,38,40,44,56]
[2019,10,72,46,48,75,41,28,43,48,50,71]
[2019,11,85,65,64,78,62,39,51,73,66,93]
[2019,12,89,82,95,82,89,55,58,82,76,94]
[2020,1,80,57,56,56,47,40,47,59,53,74]
[2020,2,77,47,53,51,47,40,46,43,43,55]
[2020,3,57,32,35,38,23,26,36,31,33,39]
[2020,4,63,42,41,63,17,28,40,43,41,55]
[2020,5,67,58,44,81,27,31,42,58,43,71]
[2020,6,75,64,51,90,35,40,43,72,49,79]
[2020,7,56,51,59,82,42,41,39,63,54,65]
[2020,8,67,51,60,65,36,44,49,52,54,57]
[2020,9,67,48,55,75,41,41,47,57,55,63]
[2020,10,60,57,53,85,45,40,48,66,65,73]
[2020,11,79,70,65,94,61,51,60,82,92,94]
[2020,12,77,88,100,96,77,61,67,92,100,100]
[2021,1,62,72,61,75,40,45,52,83,73,70]
[2021,2,58,50,56,59,35,35,42,58,57,63]
[2021,3,73,45,49,79,35,37,50,54,62,61]
[2021,4,70,47,51,66,38,45,53,56,58,60]
[2021,5,63,43,49,66,39,41,48,52,53,56]
[2021,6,55,48,59,70,44,51,40,57,52,63]
[2021,7,55,50,54,67,50,57,45,58,61,56]
[2021,8,57,38,60,59,51,60,53,48,63,46]
[2021,9,69,42,58,62,49,56,56,50,61,56]
[2021,10,61,40,49,75,46,48,53,53,57,59]
[2021,11,65,60,72,92,69,77,64,77,84,80]
[2021,12,72,62,93,79,98,100,70,81,98,73]
[2022,1,61,69,59,75,57,89,63,83,82,71]
[2022,2,60,42,52,55,56,66,57,49,54,52]
[2022,3,61,36,44,54,49,62,59,44,50,54]
[2022,4,60,37,46,65,52,62,65,50,53,54]
[2022,5,61,36,50,66,53,66,52,49,48,58]
[2022,6,61,40,49,58,65,75,53,56,49,63]
[2022,7,57,39,56,51,62,89,57,56,55,58]
[2022,8,64,30,58,43,60,79,64,42,49,50]
[2022,9,65,31,55,47,56,63,71,45,47,54]
[2022,10,69,33,50,58,62,55,68,45,47,55]
[2022,11,72,45,68,64,78,76,88,62,72,75]
[2022,12,80,55,100,75,100,90,100,75,84,79]
[2023,1,71,37,72,49,62,82,79,51,64,64]
[2023,2,63,30,62,42,52,67,59,37,50,48]
[2023,3,65,27,53,42,59,56,64,32,39,47]
[2023,4,66,29,57,52,52,62,69,31,43,51]
[2023,5,63,26,52,47,56,65,58,28,37,53]
[2023,6,68,29,55,46,77,61,65,30,40,52]

{"sheet":"keywords(RO)","index":45,"n_rows":11,"n_cols":4,"rows_kept":11,"cut":false,"hidden":false,"merged":[]}
["id","url","country","brand*"]
[1,"https://trends.google.com/trends/explore?date=all&geo=RO&q=Adidas","RO","Adidas"]
[2,"https://trends.google.com/trends/explore?date=all&geo=RO&q=Bershka","RO","Bershka"]
[3,"https://trends.google.com/trends/explore?date=all&geo=RO&q=Calvin Klein","RO","Calvin Klein"]
[4,"https://trends.google.com/trends/explore?date=all&geo=RO&q=H&M","RO","H&M"]
[5,"https://trends.google.com/trends/explore?date=all&geo=RO&q=Hugo Boss","RO","Hugo Boss"]
[6,"https://trends.google.com/trends/explore?date=all&geo=RO&q=Lacoste","RO","Lacoste"]
[7,"https://trends.google.com/trends/explore?date=all&geo=RO&q=Nike","RO","Nike"]
[8,"https://trends.google.com/trends/explore?date=all&geo=RO&q=Pull and Bear","RO","Pull and Bear"]
[9,"https://trends.google.com/trends/explore?date=all&geo=RO&q=Tommy Hilfiger","RO","Tommy Hilfiger"]
[10,"https://trends.google.com/trends/explore?date=all&geo=RO&q=Zara","RO","Zara"]

{"sheet":"1...10 raw(RO)","index":46,"n_rows":236,"n_cols":12,"rows_kept":236,"cut":false,"hidden":false,"merged":[]}
["Romania",null,"Adidas","Bershka","Calvin Klein","H&M","Hugo Boss","Lacoste","Nike","Pull and Bear","Tommy Hilfiger","Zara"]
["Year","Month","Point","Point","Point","Point","Point","Point","Point","Point","Point","Point"]
[2004,1,22,0,0,6,0,0,20,0,0,11]
[2004,2,29,0,22,0,0,45,31,0,53,9]
[2004,3,46,0,59,0,38,77,38,0,56,0]
[2004,4,37,0,32,0,67,0,23,0,0,3]
[2004,5,32,10,19,10,79,0,20,0,0,6]
[2004,6,19,17,0,0,25,0,20,0,35,7]
[2004,7,25,0,0,13,36,100,26,0,0,6]
[2004,8,32,0,0,0,0,0,22,0,0,3]
[2004,9,29,0,0,0,0,0,25,22,46,0]
[2004,10,26,0,20,0,0,70,21,0,29,0]
[2004,11,24,0,20,0,38,0,19,0,0,3]
[2004,12,15,13,14,0,43,29,14,15,0,6]
[2005,1,24,0,21,4,0,38,20,0,0,0]
[2005,2,34,0,0,0,17,0,13,0,0,3]
[2005,3,28,0,20,5,21,0,22,0,0,5]
[2005,4,42,0,21,0,32,31,24,0,0,4]
[2005,5,35,8,34,0,19,0,15,0,0,5]
[2005,6,29,0,0,0,27,0,19,15,0,8]
[2005,7,27,0,0,0,32,46,16,0,19,5]
[2005,8,37,0,27,0,0,0,19,0,0,7]
[2005,9,29,6,27,5,15,40,20,0,0,6]
[2005,10,30,0,14,2,0,0,17,13,0,5]
[2005,11,23,0,34,0,40,30,23,0,8,12]
[2005,12,33,6,7,3,45,27,17,0,9,5]
[2006,1,29,0,0,2,20,0,15,0,10,6]
[2006,2,35,0,22,2,20,12,22,0,0,4]
[2006,3,41,9,19,2,0,18,24,0,5,3]
[2006,4,47,0,0,2,26,0,20,10,0,7]
[2006,5,38,3,9,0,52,32,17,7,10,7]
[2006,6,32,4,13,0,0,40,18,0,0,7]
[2006,7,33,0,13,1,18,22,17,18,7,7]
[2006,8,37,6,12,2,0,20,20,0,0,9]
[2006,9,43,6,13,4,18,31,22,7,6,9]
[2006,10,40,0,7,4,10,22,19,0,0,9]
[2006,11,30,4,34,5,21,31,18,0,0,10]
[2006,12,34,3,21,4,31,44,16,14,0,10]
[2007,1,35,0,7,1,12,28,19,7,11,5]
[2007,2,40,0,7,3,14,30,20,3,3,7]
[2007,3,49,6,11,5,24,36,25,0,0,8]
[2007,4,49,3,12,3,18,51,24,16,4,7]
[2007,5,45,0,15,3,20,50,20,4,4,6]
[2007,6,38,1,22,3,0,43,17,4,6,4]
[2007,7,40,2,13,5,16,43,18,0,15,7]
[2007,8,44,0,27,5,15,25,19,3,5,7]
[2007,9,48,2,20,8,20,42,22,11,7,10]
[2007,10,38,3,29,7,15,50,18,5,8,13]
[2007,11,31,3,24,5,34,36,16,0,5,10]
[2007,12,29,0,29,6,37,60,17,4,8,10]
[2008,1,32,3,12,4,12,16,16,3,5,9]
[2008,2,38,5,19,6,32,55,17,4,8,10]
[2008,3,44,3,18,6,25,65,18,3,0,9]
[2008,4,41,3,24,5,34,51,19,6,4,9]
[2008,5,38,3,15,4,32,58,15,0,6,8]
[2008,6,33,4,23,6,21,52,13,7,2,8]
[2008,7,27,4,14,5,13,32,14,4,9,9]
[2008,8,28,5,25,5,23,39,16,4,10,10]
[2008,9,41,6,27,4,23,74,18,11,10,12]
[2008,10,25,4,15,6,24,53,11,9,5,12]
[2008,11,28,4,24,6,26,45,13,14,2,12]
[2008,12,26,5,24,6,34,71,13,0,8,10]
[2009,1,25,5,25,5,22,41,11,5,6,8]
[2009,2,27,3,13,6,23,63,14,5,11,9]
[2009,3,31,5,19,7,26,51,12,6,9,11]
[2009,4,36,11,18,4,31,78,13,15,11,14]
[2009,5,28,9,13,4,17,51,12,9,6,17]
[2009,6,22,7,16,4,29,51,9,13,8,14]
[2009,7,24,5,23,4,14,52,11,10,2,11]
[2009,8,31,5,20,6,22,61,11,15,0,13]
[2009,9,32,13,22,6,7,42,14,15,7,17]
[2009,10,27,9,22,6,28,44,11,17,8,17]
[2009,11,27,8,28,7,6,45,9,12,6,15]
[2009,12,24,14,22,3,39,31,10,16,12,16]
[2010,1,26,14,21,6,20,47,10,15,11,13]
[2010,2,30,14,21,7,21,45,11,15,8,17]
[2010,3,32,15,18,7,23,56,13,15,12,18]
[2010,4,33,14,20,8,23,63,13,17,11,16]
[2010,5,29,10,21,6,29,48,11,16,8,16]
[2010,6,29,10,20,7,20,37,9,10,5,14]
[2010,7,26,13,15,5,18,41,9,6,8,14]
[2010,8,24,8,19,10,22,58,11,8,7,16]
[2010,9,30,33,23,13,28,35,12,17,14,23]
[2010,10,28,22,9,15,21,48,10,28,15,24]
[2010,11,24,23,34,11,20,45,10,20,16,28]
[2010,12,21,22,20,9,30,26,9,26,13,25]
[2011,1,21,20,21,11,19,33,9,20,9,23]
[2011,2,25,20,23,10,20,42,10,20,11,22]
[2011,3,28,20,19,38,21,46,9,24,7,22]
[2011,4,32,20,19,28,16,40,11,23,12,25]
[2011,5,24,19,21,36,16,40,9,22,13,26]
[2011,6,19,18,18,21,17,44,8,20,11,21]
[2011,7,21,15,23,17,14,39,8,20,9,21]
[2011,8,24,18,23,17,18,42,10,22,11,25]
[2011,9,29,27,25,27,22,44,11,39,15,31]
[2011,10,25,33,25,24,19,34,9,42,14,32]
[2011,11,22,41,22,30,19,35,9,48,20,30]
[2011,12,21,40,28,24,34,30,7,54,16,32]
[2012,1,21,43,20,19,21,30,7,53,16,33]
[2012,2,22,47,27,20,17,27,8,51,10,31]
[2012,3,27,51,23,28,21,33,9,51,14,31]
[2012,4,30,48,20,28,26,38,9,47,14,30]
[2012,5,22,46,23,31,23,39,8,44,17,29]
[2012,6,21,40,24,27,15,47,8,39,15,29]
[2012,7,19,41,23,20,13,47,7,35,15,29]
[2012,8,24,50,21,24,22,42,9,53,19,33]
[2012,9,30,59,31,33,20,37,10,63,16,37]
[2012,10,25,54,24,31,18,30,7,58,18,35]
[2012,11,21,55,22,34,23,27,8,60,16,37]
[2012,12,19,57,29,31,24,38,7,63,17,36]
[2013,1,18,55,24,24,21,27,7,58,16,35]
[2013,2,23,43,23,20,19,28,8,53,16,30]
[2013,3,30,44,22,28,22,32,10,55,13,31]
[2013,4,32,51,20,30,21,44,11,53,16,33]
[2013,5,21,48,24,30,21,42,8,45,15,31]
[2013,6,20,43,25,28,17,42,7,44,13,29]
[2013,7,20,43,26,21,15,32,8,47,16,27]
[2013,8,27,55,22,26,19,38,10,55,16,31]
[2013,9,37,64,28,39,21,42,12,69,22,39]
[2013,10,31,60,27,34,22,29,10,70,21,37]
[2013,11,32,61,24,40,22,33,9,69,22,38]
[2013,12,26,60,35,39,28,31,8,71,22,36]
[2014,1,24,54,18,23,20,26,9,61,18,32]
[2014,2,29,62,24,27,21,27,10,59,15,31]
[2014,3,37,57,28,31,19,38,14,67,17,32]
[2014,4,35,52,29,40,21,43,14,76,18,43]
[2014,5,28,41,25,34,20,40,13,63,15,37]
[2014,6,29,56,28,32,16,37,16,61,18,38]
[2014,7,28,45,27,28,22,45,16,55,16,33]
[2014,8,31,52,28,33,26,40,18,64,19,36]
[2014,9,43,72,31,51,24,34,21,88,19,47]
[2014,10,34,66,28,45,24,27,15,83,18,50]
[2014,11,29,67,30,48,26,24,14,83,20,46]
[2014,12,23,65,39,54,30,25,12,80,23,45]
[2015,1,28,66,31,32,15,25,15,78,18,45]
[2015,2,32,52,29,33,22,25,17,67,16,36]
[2015,3,38,56,27,50,22,30,21,66,19,41]
[2015,4,37,56,29,70,20,35,21,70,17,41]
[2015,5,31,47,24,59,18,36,18,51,17,38]
[2015,6,28,54,28,65,19,36,16,58,17,43]
[2015,7,28,57,30,55,19,38,17,61,19,41]
[2015,8,39,66,31,64,21,40,25,72,20,44]
[2015,9,43,68,32,74,28,34,29,77,21,55]
[2015,10,35,76,31,59,19,16,22,81,20,52]
[2015,11,31,85,36,78,29,24,19,100,24,57]
[2015,12,33,81,50,80,32,31,17,96,28,60]
[2016,1,32,64,31,57,19,22,17,74,20,51]
[2016,2,44,54,31,55,24,30,20,47,17,39]
[2016,3,49,53,33,57,22,40,24,51,15,45]
[2016,4,56,52,33,73,21,37,25,59,18,45]
[2016,5,45,45,31,62,22,29,18,52,15,46]
[2016,6,38,51,33,68,20,33,17,53,18,48]
[2016,7,36,45,33,71,22,34,15,44,18,46]
[2016,8,46,54,40,65,21,33,21,35,22,50]
[2016,9,51,65,35,75,24,22,21,45,24,58]
[2016,10,36,77,34,74,25,25,17,48,23,63]
[2016,11,34,76,39,74,25,25,16,55,27,67]
[2016,12,32,76,45,82,32,22,14,71,29,65]
[2017,1,32,77,34,65,21,21,15,79,25,65]
[2017,2,44,67,39,61,23,25,19,62,27,56]
[2017,3,60,68,39,64,19,38,25,61,25,60]
[2017,4,65,67,37,71,23,31,24,38,24,58]
[2017,5,45,58,34,86,22,26,20,48,25,57]
[2017,6,40,66,36,77,24,37,18,58,31,66]
[2017,7,41,62,45,79,25,34,19,56,29,55]
[2017,8,51,69,52,79,31,40,23,53,31,61]
[2017,9,49,80,45,75,30,28,24,47,32,65]
[2017,10,42,80,37,84,31,19,20,55,32,79]
[2017,11,39,100,44,95,37,26,20,85,41,94]
[2017,12,37,85,52,84,46,33,19,83,49,83]
[2018,1,41,85,39,76,26,28,21,59,40,95]
[2018,2,50,68,41,71,28,23,25,43,36,66]
[2018,3,57,77,43,78,32,31,30,38,42,64]
[2018,4,83,70,41,72,28,42,31,50,47,71]
[2018,5,54,59,39,78,30,40,26,59,39,64]
[2018,6,50,59,39,80,31,39,25,59,37,65]
[2018,7,56,60,45,87,34,36,25,52,49,55]
[2018,8,57,55,51,82,32,40,33,59,45,59]
[2018,9,68,70,46,86,31,34,36,72,50,76]
[2018,10,49,67,39,81,30,26,29,62,42,75]
[2018,11,45,82,46,100,38,33,28,53,54,100]
[2018,12,38,78,54,83,58,30,26,50,54,81]
[2019,1,45,87,39,76,31,25,28,56,49,87]
[2019,2,59,73,39,67,34,31,33,44,48,63]
[2019,3,71,73,42,69,35,35,39,42,51,65]
[2019,4,73,70,40,82,40,41,38,62,53,67]
[2019,5,54,55,38,71,27,31,32,49,44,64]
[2019,6,53,60,37,84,30,37,32,55,48,66]
[2019,7,55,57,42,71,38,32,31,47,49,54]
[2019,8,59,66,41,77,36,39,39,64,54,63]
[2019,9,59,70,38,82,40,31,40,65,58,74]
[2019,10,49,75,39,81,39,30,35,62,52,78]
[2019,11,50,88,44,92,50,36,34,68,65,98]
[2019,12,48,89,59,90,70,37,33,85,69,96]
[2020,1,50,81,44,63,44,30,39,75,59,86]
[2020,2,55,65,44,60,40,33,44,49,46,65]
[2020,3,50,52,30,51,28,22,36,40,30,45]
[2020,4,59,80,37,93,27,20,45,69,38,64]
[2020,5,69,76,42,88,31,30,53,66,44,74]
[2020,6,68,77,47,86,40,39,51,72,55,69]
[2020,7,63,68,51,71,43,37,47,64,56,56]
[2020,8,69,77,54,69,44,36,57,62,55,55]
[2020,9,75,84,50,80,43,31,62,73,57,65]
[2020,10,54,77,45,67,43,30,38,75,60,65]
[2020,11,52,92,53,65,47,28,31,73,59,77]
[2020,12,44,94,62,62,54,35,32,78,77,60]
[2021,1,44,97,47,48,37,24,33,90,55,66]
[2021,2,58,93,52,50,41,32,37,83,54,63]
[2021,3,56,67,41,46,36,28,43,56,47,47]
[2021,4,63,83,49,51,42,27,56,66,52,52]
[2021,5,64,70,53,50,50,36,50,53,56,48]
[2021,6,57,67,49,58,42,37,41,59,51,55]
[2021,7,57,64,55,55,43,38,43,59,58,54]
[2021,8,67,78,55,49,54,35,60,69,60,58]
[2021,9,69,77,55,57,58,33,64,70,66,61]
[2021,10,49,66,52,48,41,29,46,67,62,57]
[2021,11,57,83,65,57,74,31,59,78,84,74]
[2021,12,53,85,83,62,100,36,62,85,96,73]
[2022,1,52,76,61,44,64,29,64,78,71,64]
[2022,2,60,68,61,39,62,33,71,69,64,54]
[2022,3,76,57,58,40,63,35,79,58,62,50]
[2022,4,90,63,69,49,70,45,96,62,68,59]
[2022,5,65,60,63,46,64,43,73,49,67,53]
[2022,6,62,52,63,43,66,40,63,53,62,54]
[2022,7,64,52,69,42,67,45,73,55,64,48]
[2022,8,72,62,76,44,64,45,100,54,71,55]
[2022,9,71,64,70,49,64,39,99,60,75,68]
[2022,10,70,61,68,46,69,35,83,61,67,70]
[2022,11,66,79,87,50,79,34,90,82,100,90]
[2022,12,64,73,100,47,94,44,85,79,100,75]
[2023,1,61,61,71,32,60,39,79,58,74,62]
[2023,2,60,56,65,30,70,38,73,54,71,47]
[2023,3,86,59,70,33,66,41,90,51,65,53]
[2023,4,100,56,77,33,72,50,98,49,72,59]
[2023,5,87,51,65,34,63,57,80,44,63,57]
[2023,6,81,48,70,35,69,59,69,54,71,60]

{"sheet":"keywords(ES)","index":47,"n_rows":11,"n_cols":4,"rows_kept":11,"cut":false,"hidden":false,"merged":[]}
["id","url","country","brand*"]
[1,"https://trends.google.com/trends/explore?date=all&geo=ES&q=Adidas","ES","Adidas"]
[2,"https://trends.google.com/trends/explore?date=all&geo=ES&q=Bershka","ES","Bershka"]
[3,"https://trends.google.com/trends/explore?date=all&geo=ES&q=Calvin Klein","ES","Calvin Klein"]
[4,"https://trends.google.com/trends/explore?date=all&geo=ES&q=H&M","ES","H&M"]
[5,"https://trends.google.com/trends/explore?date=all&geo=ES&q=Hugo Boss","ES","Hugo Boss"]
[6,"https://trends.google.com/trends/explore?date=all&geo=ES&q=Lacoste","ES","Lacoste"]
[7,"https://trends.google.com/trends/explore?date=all&geo=ES&q=Nike","ES","Nike"]
[8,"https://trends.google.com/trends/explore?date=all&geo=ES&q=Pull and Bear","ES","Pull and Bear"]
[9,"https://trends.google.com/trends/explore?date=all&geo=ES&q=Tommy Hilfiger","ES","Tommy Hilfiger"]
[10,"https://trends.google.com/trends/explore?date=all&geo=ES&q=Zara","ES","Zara"]

{"sheet":"1...10 raw(ES)","index":48,"n_rows":236,"n_cols":12,"rows_kept":236,"cut":false,"hidden":false,"merged":[]}
["Spain",null,"Adidas","Bershka","Calvin Klein","H&M","Hugo Boss","Lacoste","Nike","Pull and Bear","Tommy Hilfiger","Zara"]
["Year","Month","Point","Point","Point","Point","Point","Point","Point","Point","Point","Point"]
[2004,1,13,6,51,11,24,11,13,3,22,8]
[2004,2,14,5,47,8,31,24,12,2,22,8]
[2004,3,18,5,100,11,25,20,17,4,17,8]
[2004,4,18,7,45,14,22,12,23,5,15,8]
[2004,5,14,6,29,14,9,16,16,3,20,8]
[2004,6,15,6,35,15,16,12,16,4,18,8]
[2004,7,11,5,26,9,19,19,13,2,17,6]
[2004,8,16,7,29,12,25,13,18,6,20,10]
[2004,9,14,8,35,15,23,24,16,7,29,13]
[2004,10,17,7,48,19,28,30,15,6,35,12]
[2004,11,17,6,26,24,21,30,15,4,33,9]
[2004,12,17,7,37,16,52,58,19,6,41,9]
[2005,1,14,6,38,12,29,33,17,3,30,8]
[2005,2,13,7,34,10,36,22,24,5,24,10]
[2005,3,19,8,34,20,32,21,23,5,23,10]
[2005,4,16,8,31,14,16,16,23,5,18,9]
[2005,5,15,6,26,15,27,24,18,5,28,9]
[2005,6,14,6,24,19,19,23,14,5,32,8]
[2005,7,13,6,15,12,20,19,13,4,19,8]
[2005,8,20,9,22,19,27,20,16,7,20,12]
[2005,9,20,11,19,31,35,16,15,8,20,16]
[2005,10,16,8,25,24,33,35,18,6,33,11]
[2005,11,19,8,23,28,26,60,17,7,19,10]
[2005,12,20,10,32,21,41,100,16,7,32,12]
[2006,1,19,6,25,17,34,40,15,6,22,10]
[2006,2,19,9,23,16,30,24,16,5,18,10]
[2006,3,20,12,20,23,39,26,23,8,20,12]
[2006,4,25,9,24,20,25,29,38,6,21,10]
[2006,5,24,8,24,18,23,28,32,5,14,9]
[2006,6,22,9,26,20,16,29,24,4,20,9]
[2006,7,16,7,20,14,22,27,17,4,16,8]
[2006,8,19,11,21,23,34,33,18,7,13,13]
[2006,9,21,12,24,29,34,42,19,7,20,14]
[2006,10,17,8,24,27,29,23,17,7,16,11]
[2006,11,15,9,23,30,28,19,16,6,18,10]
[2006,12,18,9,29,28,51,78,17,7,24,11]
[2007,1,16,7,25,14,45,30,14,6,16,10]
[2007,2,15,9,19,13,26,21,13,5,14,10]
[2007,3,17,10,19,28,29,20,13,8,16,12]
[2007,4,15,9,18,24,33,20,14,7,14,11]
[2007,5,15,8,20,23,25,25,15,6,16,9]
[2007,6,15,7,17,23,28,22,13,5,15,9]
[2007,7,14,6,16,19,26,19,13,4,17,7]
[2007,8,18,9,21,19,26,21,15,5,12,12]
[2007,9,18,12,22,31,36,25,16,8,16,18]
[2007,10,16,9,16,26,27,24,13,6,11,16]
[2007,11,18,8,22,34,32,20,13,6,13,13]
[2007,12,20,9,28,28,51,31,16,8,19,12]
[2008,1,17,7,23,15,33,22,15,6,13,11]
[2008,2,17,7,16,14,23,19,13,5,13,12]
[2008,3,17,10,19,22,28,20,15,6,14,13]
[2008,4,16,8,17,18,27,23,14,7,12,11]
[2008,5,18,7,18,21,21,22,16,5,12,10]
[2008,6,17,6,18,18,17,18,15,6,12,9]
[2008,7,18,6,19,14,22,23,15,5,15,8]
[2008,8,20,6,23,14,19,22,19,7,13,10]
[2008,9,19,9,17,23,25,22,19,9,14,14]
[2008,10,17,8,20,21,23,17,15,8,13,12]
[2008,11,19,7,19,23,29,18,15,8,12,10]
[2008,12,22,8,26,18,39,24,20,9,14,10]
[2009,1,21,5,21,13,35,19,19,7,13,9]
[2009,2,20,6,19,11,22,15,17,7,12,10]
[2009,3,22,7,18,19,27,19,19,8,10,11]
[2009,4,20,9,20,21,23,21,20,9,18,11]
[2009,5,18,9,20,27,23,22,18,8,16,9]
[2009,6,17,9,24,17,20,20,15,8,17,9]
[2009,7,17,8,22,13,34,23,16,7,17,8]
[2009,8,22,11,24,13,20,24,18,9,17,9]
[2009,9,22,14,25,20,24,21,19,11,19,13]
[2009,10,20,11,24,23,26,18,18,10,18,10]
[2009,11,21,11,32,30,24,19,16,9,19,10]
[2009,12,25,15,39,25,50,29,20,12,25,11]
[2010,1,25,10,34,16,36,17,19,8,23,10]
[2010,2,21,9,32,16,22,16,16,8,18,10]
[2010,3,22,13,28,21,23,21,18,10,22,12]
[2010,4,23,13,31,21,24,19,17,10,24,11]
[2010,5,21,13,27,23,24,19,17,10,38,12]
[2010,6,22,13,25,18,22,18,17,10,23,11]
[2010,7,32,10,29,15,29,22,16,8,22,10]
[2010,8,26,11,29,20,20,26,18,9,22,12]
[2010,9,24,16,28,30,23,20,17,12,24,35]
[2010,10,24,16,29,31,21,16,18,13,24,28]
[2010,11,25,17,34,43,23,22,17,16,21,29]
[2010,12,29,21,41,40,39,31,18,20,24,29]
[2011,1,27,18,38,27,29,21,19,18,32,35]
[2011,2,22,16,28,28,22,13,14,17,22,29]
[2011,3,26,19,25,40,28,17,15,18,23,33]
[2011,4,23,23,26,46,21,16,14,22,24,35]
[2011,5,21,24,27,50,20,17,17,20,25,36]
[2011,6,19,24,27,40,26,19,14,20,25,35]
[2011,7,22,23,31,31,27,19,16,18,26,33]
[2011,8,27,26,28,35,21,19,18,22,27,35]
[2011,9,30,52,26,49,22,21,18,45,25,43]
[2011,10,25,53,28,49,29,19,16,47,23,44]
[2011,11,27,65,27,63,31,18,17,55,26,45]
[2011,12,32,86,39,59,43,31,18,75,37,50]
[2012,1,31,74,29,44,37,23,17,66,34,46]
[2012,2,25,64,22,46,24,17,13,48,24,40]
[2012,3,25,71,22,54,26,18,18,54,24,47]
[2012,4,28,66,24,48,22,18,15,49,26,45]
[2012,5,23,68,24,56,25,18,14,51,29,46]
[2012,6,23,70,25,49,29,23,14,47,29,43]
[2012,7,24,71,27,37,27,27,16,52,34,46]
[2012,8,28,68,25,37,22,21,18,53,31,44]
[2012,9,30,71,27,50,23,18,16,66,26,54]
[2012,10,28,73,25,45,24,17,13,69,25,53]
[2012,11,26,73,27,50,31,16,14,68,24,53]
[2012,12,30,94,35,48,49,23,15,86,32,58]
[2013,1,35,93,30,38,41,20,18,94,37,62]
[2013,2,24,61,22,33,22,14,14,65,27,44]
[2013,3,25,68,20,44,27,19,14,68,26,45]
[2013,4,26,71,22,49,25,19,16,63,28,49]
[2013,5,23,66,23,49,24,18,15,59,23,45]
[2013,6,25,67,24,45,27,20,16,62,29,46]
[2013,7,25,72,26,34,26,24,16,66,41,48]
[2013,8,28,57,30,32,25,21,20,54,34,43]
[2013,9,32,61,24,43,26,17,21,63,29,49]
[2013,10,32,65,24,48,31,16,20,61,27,47]
[2013,11,33,73,28,51,39,19,21,72,30,54]
[2013,12,36,87,38,50,57,23,24,93,37,61]
[2014,1,42,78,29,39,46,20,26,87,45,63]
[2014,2,29,55,20,39,33,17,22,55,29,45]
[2014,3,34,57,22,44,37,20,26,58,24,50]
[2014,4,30,61,23,50,30,27,28,61,26,51]
[2014,5,25,59,22,49,29,26,25,55,28,49]
[2014,6,29,60,21,48,35,25,27,59,30,47]
[2014,7,42,64,28,36,43,27,27,66,42,52]
[2014,8,41,56,25,50,42,24,32,52,31,46]
[2014,9,40,58,19,68,31,19,32,61,28,50]
[2014,10,39,59,22,58,36,19,33,60,25,50]
[2014,11,42,76,25,83,36,19,37,78,31,66]
[2014,12,47,87,38,75,61,28,41,85,38,63]
[2015,1,55,87,46,62,52,25,49,89,50,71]
[2015,2,42,57,25,44,34,18,35,51,31,46]
[2015,3,44,59,24,59,36,20,40,55,29,50]
[2015,4,44,56,23,60,37,21,39,58,29,53]
[2015,5,42,64,23,71,33,25,37,57,33,53]
[2015,6,37,64,23,58,32,28,32,60,30,48]
[2015,7,45,72,25,48,39,30,33,63,40,56]
[2015,8,55,56,27,43,38,25,41,52,35,47]
[2015,9,63,62,24,65,33,23,43,55,29,55]
[2015,10,64,68,25,71,38,20,40,63,26,62]
[2015,11,68,84,30,85,62,25,44,82,33,78]
[2015,12,90,94,49,83,90,30,48,91,41,71]
[2016,1,99,74,41,51,61,29,49,73,50,71]
[2016,2,70,41,29,41,38,23,37,39,30,45]
[2016,3,69,46,26,46,42,23,37,46,28,52]
[2016,4,68,49,29,51,35,23,36,50,29,56]
[2016,5,60,53,28,57,37,27,33,52,29,57]
[2016,6,54,61,27,55,36,28,30,50,30,58]
[2016,7,65,58,39,47,38,33,34,55,45,57]
[2016,8,67,39,35,39,38,30,38,40,32,47]
[2016,9,72,48,31,49,34,26,38,53,33,57]
[2016,10,73,53,36,54,43,24,39,55,35,61]
[2016,11,78,77,39,62,50,25,43,77,43,85]
[2016,12,91,78,57,59,81,32,46,75,47,75]
[2017,1,92,72,52,52,58,31,47,76,67,80]
[2017,2,67,50,37,43,37,23,34,44,38,48]
[2017,3,66,51,31,45,39,24,36,48,34,58]
[2017,4,67,53,37,46,36,27,37,53,37,64]
[2017,5,58,51,34,52,33,27,32,51,40,67]
[2017,6,55,64,37,55,38,32,30,58,45,69]
[2017,7,66,57,49,49,43,40,39,41,57,71]
[2017,8,72,48,44,42,39,33,40,28,52,57]
[2017,9,76,54,38,52,37,27,44,31,41,68]
[2017,10,67,57,37,50,38,26,41,41,39,65]
[2017,11,90,91,45,73,52,32,53,95,54,100]
[2017,12,100,89,66,77,77,39,55,75,64,81]
[2018,1,89,75,60,76,61,39,52,60,74,94]
[2018,2,65,52,38,48,40,27,39,32,44,59]
[2018,3,64,52,39,66,39,33,39,32,44,61]
[2018,4,62,56,38,73,37,34,38,35,44,65]
[2018,5,56,51,41,77,39,35,37,33,46,62]
[2018,6,59,58,41,88,42,37,36,44,53,68]
[2018,7,62,55,51,71,48,50,43,42,69,64]
[2018,8,60,46,49,55,40,41,43,30,55,51]
[2018,9,70,50,39,68,39,30,48,31,45,61]
[2018,10,68,59,40,94,44,34,47,41,47,74]
[2018,11,76,84,48,100,58,35,56,63,65,93]
[2018,12,85,89,66,80,79,44,64,63,66,80]
[2019,1,76,81,58,61,62,44,60,66,83,87]
[2019,2,59,51,43,49,44,36,45,51,51,59]
[2019,3,59,48,43,54,43,32,47,45,53,61]
[2019,4,53,49,40,63,39,34,46,48,52,59]
[2019,5,52,50,39,76,36,40,44,46,54,68]
[2019,6,51,56,46,100,41,39,45,63,61,71]
[2019,7,59,55,55,85,52,53,49,64,72,67]
[2019,8,64,48,51,68,43,46,53,48,71,56]
[2019,9,67,50,43,90,43,37,58,54,60,65]
[2019,10,58,60,41,97,44,34,56,63,61,70]
[2019,11,71,89,52,95,61,43,73,97,78,100]
[2019,12,78,100,73,82,85,52,82,100,87,83]
[2020,1,74,77,69,66,69,54,78,95,89,88]
[2020,2,51,56,47,52,45,38,56,54,62,62]
[2020,3,35,32,29,28,25,28,36,31,36,37]
[2020,4,37,39,36,45,22,27,39,41,47,43]
[2020,5,63,68,45,83,27,41,59,82,60,74]
[2020,6,64,72,56,81,32,51,56,92,67,68]
[2020,7,67,64,65,65,39,57,56,78,75,62]
[2020,8,65,59,56,46,38,52,66,61,68,54]
[2020,9,69,64,50,61,38,42,70,66,67,62]
[2020,10,60,65,47,70,37,42,68,71,63,64]
[2020,11,71,78,62,68,56,58,89,93,78,80]
[2020,12,75,86,79,71,81,62,95,94,89,76]
[2021,1,67,79,66,61,62,58,78,98,99,84]
[2021,2,51,55,49,41,39,43,65,62,66,60]
[2021,3,54,45,43,43,37,42,59,53,59,50]
[2021,4,52,41,45,45,34,40,62,49,58,53]
[2021,5,45,46,45,51,37,41,53,51,57,52]
[2021,6,43,52,48,53,44,51,46,59,63,61]
[2021,7,50,52,59,42,45,57,50,59,78,53]
[2021,8,55,40,57,36,43,56,62,46,68,47]
[2021,9,56,44,50,40,43,43,69,53,55,53]
[2021,10,54,54,51,49,46,44,63,58,61,58]
[2021,11,64,69,65,62,62,54,81,80,82,78]
[2021,12,67,71,84,51,86,61,86,75,88,68]
[2022,1,76,68,81,41,77,76,87,82,100,76]
[2022,2,54,44,52,36,47,49,61,49,63,50]
[2022,3,57,40,48,33,47,46,58,43,53,48]
[2022,4,53,42,50,42,46,50,59,47,53,54]
[2022,5,52,43,49,47,47,56,55,52,51,56]
[2022,6,52,47,53,43,51,61,50,61,59,62]
[2022,7,56,45,66,38,56,66,55,60,65,55]
[2022,8,65,36,69,31,51,67,67,46,71,48]
[2022,9,71,39,55,37,49,55,71,45,55,53]
[2022,10,71,42,55,39,46,57,70,50,50,53]
[2022,11,85,54,74,47,67,67,87,66,68,68]
[2022,12,99,65,86,53,100,78,100,78,76,71]
[2023,1,88,54,80,36,75,81,87,70,73,69]
[2023,2,65,36,54,28,48,60,59,38,56,48]
[2023,3,62,36,52,28,49,63,56,37,47,50]
[2023,4,67,38,57,33,53,71,65,38,52,56]
[2023,5,58,34,54,31,47,69,56,35,47,53]
[2023,6,51,34,54,32,50,62,52,37,46,50]

{"sheet":"keywords(SE)","index":49,"n_rows":11,"n_cols":4,"rows_kept":11,"cut":false,"hidden":false,"merged":[]}
["id","url","country","brand*"]
[1,"https://trends.google.com/trends/explore?date=all&geo=SE&q=Adidas","SE","Adidas"]
[2,"https://trends.google.com/trends/explore?date=all&geo=SE&q=Bershka","SE","Bershka"]
[3,"https://trends.google.com/trends/explore?date=all&geo=SE&q=Calvin Klein","SE","Calvin Klein"]
[4,"https://trends.google.com/trends/explore?date=all&geo=SE&q=H&M","SE","H&M"]
[5,"https://trends.google.com/trends/explore?date=all&geo=SE&q=Hugo Boss","SE","Hugo Boss"]
[6,"https://trends.google.com/trends/explore?date=all&geo=SE&q=Lacoste","SE","Lacoste"]
[7,"https://trends.google.com/trends/explore?date=all&geo=SE&q=Nike","SE","Nike"]
[8,"https://trends.google.com/trends/explore?date=all&geo=SE&q=Pull and Bear","SE","Pull and Bear"]
[9,"https://trends.google.com/trends/explore?date=all&geo=SE&q=Tommy Hilfiger","SE","Tommy Hilfiger"]
[10,"https://trends.google.com/trends/explore?date=all&geo=SE&q=Zara","SE","Zara"]

{"sheet":"1...10 raw(SE)","index":50,"n_rows":236,"n_cols":12,"rows_kept":236,"cut":false,"hidden":false,"merged":[]}
["Sweden",null,"Adidas","Bershka","Calvin Klein","H&M","Hugo Boss","Lacoste","Nike","Pull and Bear","Tommy Hilfiger","Zara"]
["Year","Month","Point","Point","Point","Point","Point","Point","Point","Point","Point","Point"]
[2004,1,8,0,10,50,15,18,17,33,16,0]
[2004,2,19,0,27,34,0,41,11,0,0,6]
[2004,3,16,0,0,60,25,31,10,0,0,8]
[2004,4,21,0,39,27,28,22,21,0,0,6]
[2004,5,15,0,14,60,0,44,18,40,0,6]
[2004,6,15,0,6,45,11,27,15,0,0,6]
[2004,7,13,0,0,39,31,25,15,29,0,5]
[2004,8,19,0,23,27,29,35,24,0,0,10]
[2004,9,16,0,18,46,0,38,15,0,29,8]
[2004,10,9,0,19,36,0,33,9,0,0,4]
[2004,11,11,0,12,60,24,0,12,32,0,4]
[2004,12,9,0,34,52,29,28,14,0,0,5]
[2005,1,15,0,7,33,21,37,13,0,0,3]
[2005,2,16,0,6,50,24,76,13,0,28,2]
[2005,3,26,0,11,48,19,79,16,0,19,7]
[2005,4,21,0,23,58,21,100,15,0,0,8]
[2005,5,17,0,9,76,18,81,17,0,13,9]
[2005,6,14,0,5,56,18,95,13,0,14,4]
[2005,7,13,0,11,44,24,90,15,21,28,5]
[2005,8,17,0,15,53,28,77,13,0,0,5]
[2005,9,14,0,15,81,19,48,11,0,15,8]
[2005,10,14,0,11,76,30,54,13,0,9,5]
[2005,11,12,0,14,100,35,53,16,0,6,4]
[2005,12,16,29,23,77,19,82,16,0,19,6]
[2006,1,14,0,17,58,10,42,16,0,18,5]
[2006,2,14,0,15,59,24,73,15,0,10,7]
[2006,3,23,32,15,66,20,86,18,0,7,9]
[2006,4,23,0,12,74,14,85,24,0,7,11]
[2006,5,20,0,14,79,16,59,22,0,31,6]
[2006,6,18,0,17,57,11,46,17,13,37,12]
[2006,7,17,0,22,66,10,38,17,10,21,11]
[2006,8,15,0,14,69,12,44,13,0,16,8]
[2006,9,14,0,18,81,19,57,14,0,8,8]
[2006,10,12,0,13,86,10,48,17,0,7,7]
[2006,11,12,0,20,88,15,32,12,23,0,14]
[2006,12,11,0,16,100,28,55,13,0,22,9]
[2007,1,14,8,14,77,15,30,13,0,6,8]
[2007,2,16,0,8,77,7,44,15,0,9,10]
[2007,3,18,14,16,93,15,50,17,0,7,12]
[2007,4,21,8,20,80,16,51,15,0,8,11]
[2007,5,18,0,16,86,20,40,16,0,7,9]
[2007,6,14,0,9,82,16,40,14,5,9,9]
[2007,7,16,10,8,72,16,34,14,0,10,9]
[2007,8,22,0,9,81,12,53,14,0,5,10]
[2007,9,19,0,6,89,21,29,15,0,12,12]
[2007,10,16,0,15,80,15,29,13,4,14,10]
[2007,11,15,9,17,87,18,29,12,0,17,11]
[2007,12,18,12,19,85,30,35,13,6,20,12]
[2008,1,19,0,7,76,16,44,15,0,9,8]
[2008,2,20,0,8,71,14,31,15,0,20,11]
[2008,3,20,0,13,86,12,42,19,0,20,12]
[2008,4,21,24,12,87,15,43,18,5,18,14]
[2008,5,20,0,12,84,19,45,18,0,14,15]
[2008,6,17,0,12,64,17,39,18,0,11,14]
[2008,7,18,0,11,52,6,27,16,0,16,9]
[2008,8,23,17,9,68,16,33,21,4,17,15]
[2008,9,23,14,11,77,22,23,18,4,15,14]
[2008,10,17,5,13,73,15,25,14,0,12,13]
[2008,11,15,0,12,85,18,20,13,0,6,11]
[2008,12,17,14,16,83,32,31,15,0,14,16]
[2009,1,17,15,9,74,20,25,18,5,7,11]
[2009,2,18,6,12,72,14,27,15,3,13,13]
[2009,3,23,4,5,86,17,32,24,3,16,13]
[2009,4,21,5,10,81,15,30,21,0,14,13]
[2009,5,21,0,10,91,12,27,17,0,21,13]
[2009,6,17,9,18,67,15,31,15,0,16,13]
[2009,7,20,11,12,66,16,32,17,3,5,14]
[2009,8,24,8,10,70,22,20,18,3,16,18]
[2009,9,19,5,15,81,16,20,16,7,17,17]
[2009,10,16,10,12,81,16,27,14,3,12,19]
[2009,11,16,8,17,85,18,16,13,0,16,16]
[2009,12,18,4,19,90,23,20,16,5,15,20]
[2010,1,17,0,12,73,14,16,15,0,10,15]
[2010,2,18,0,14,71,18,16,16,5,16,18]
[2010,3,21,10,12,90,15,23,17,0,21,19]
[2010,4,21,15,10,73,17,23,22,4,23,18]
[2010,5,20,7,13,80,21,27,20,0,20,19]
[2010,6,20,12,12,73,16,27,19,0,19,18]
[2010,7,19,12,13,59,15,29,16,3,21,14]
[2010,8,21,15,10,64,16,18,18,0,21,15]
[2010,9,19,8,12,78,18,19,16,7,26,19]
[2010,10,14,9,12,70,19,18,15,2,27,17]
[2010,11,17,6,15,78,19,20,14,0,27,14]
[2010,12,14,0,16,80,26,27,13,3,24,16]
[2011,1,15,8,15,63,13,21,16,0,20,15]
[2011,2,17,10,12,64,15,12,17,3,15,15]
[2011,3,22,9,11,72,19,20,20,4,25,21]
[2011,4,25,3,14,80,15,21,23,3,31,19]
[2011,5,20,10,13,81,18,30,19,0,27,21]
[2011,6,16,14,14,65,22,23,17,0,29,19]
[2011,7,18,7,11,49,18,23,16,7,32,19]
[2011,8,20,22,11,62,20,20,19,3,28,22]
[2011,9,18,7,12,67,18,17,19,9,34,27]
[2011,10,16,10,12,65,22,16,16,5,26,25]
[2011,11,15,4,13,75,20,15,16,5,24,25]
[2011,12,18,11,21,83,24,16,16,4,21,32]
[2012,1,17,10,14,57,21,14,19,3,22,23]
[2012,2,18,9,13,68,15,13,22,6,24,28]
[2012,3,26,20,12,84,21,17,29,8,27,35]
[2012,4,23,21,13,76,16,18,28,6,30,30]
[2012,5,21,23,18,76,16,21,26,5,35,34]
[2012,6,23,11,15,59,18,24,32,7,42,35]
[2012,7,21,19,16,53,18,22,29,8,28,29]
[2012,8,25,12,19,53,17,16,33,8,37,31]
[2012,9,22,12,15,63,25,15,26,5,41,35]
[2012,10,17,13,12,66,20,15,20,9,42,31]
[2012,11,16,13,14,61,23,13,20,8,31,28]
[2012,12,15,13,23,61,29,16,19,6,42,42]
[2013,1,17,11,17,52,23,15,30,4,31,46]
[2013,2,17,10,15,64,18,13,31,6,28,91]
[2013,3,23,13,13,59,19,15,38,6,27,59]
[2013,4,25,13,12,68,20,14,41,9,34,60]
[2013,5,25,14,13,73,22,20,41,8,35,51]
[2013,6,19,17,15,61,25,22,36,6,44,56]
[2013,7,20,51,16,47,21,18,43,4,42,53]
[2013,8,23,37,12,59,24,15,44,11,46,50]
[2013,9,22,28,12,67,24,14,44,8,50,57]
[2013,10,19,21,13,62,22,10,34,8,46,50]
[2013,11,18,14,17,68,26,12,35,5,44,54]
[2013,12,20,12,22,72,34,20,40,8,52,60]
[2014,1,21,15,13,55,21,13,48,5,35,48]
[2014,2,24,22,14,55,22,13,57,8,33,45]
[2014,3,34,19,14,67,22,15,69,10,42,50]
[2014,4,30,21,16,71,23,17,66,12,40,52]
[2014,5,31,22,19,75,28,21,51,9,46,59]
[2014,6,29,20,24,60,30,23,56,10,50,54]
[2014,7,28,23,20,55,28,18,53,15,43,49]
[2014,8,30,21,20,62,25,17,53,13,43,55]
[2014,9,30,20,15,67,20,15,47,18,46,61]
[2014,10,25,10,17,74,24,10,39,8,42,70]
[2014,11,25,13,22,75,31,11,38,7,45,52]
[2014,12,26,19,29,72,41,14,39,12,56,63]
[2015,1,29,16,52,58,26,12,43,8,36,62]
[2015,2,37,15,26,51,25,13,49,9,31,55]
[2015,3,47,21,24,67,25,13,69,10,38,56]
[2015,4,49,28,23,73,24,17,59,10,40,54]
[2015,5,44,22,27,80,22,19,54,12,46,62]
[2015,6,38,15,26,61,24,20,48,9,50,69]
[2015,7,43,19,30,54,24,19,49,11,52,80]
[2015,8,48,18,31,57,29,15,58,10,53,79]
[2015,9,46,13,32,65,31,19,47,9,45,72]
[2015,10,38,21,30,76,27,12,40,11,57,73]
[2015,11,40,17,45,85,34,12,36,28,57,62]
[2015,12,45,13,84,78,51,18,37,22,59,69]
[2016,1,51,12,66,52,29,12,45,16,55,58]
[2016,2,59,29,59,56,29,17,53,18,49,60]
[2016,3,75,23,48,61,26,17,67,22,52,64]
[2016,4,79,19,51,69,25,17,63,17,54,65]
[2016,5,68,28,53,76,30,17,52,22,55,66]
[2016,6,59,29,48,68,29,24,46,23,67,78]
[2016,7,65,24,57,52,28,20,49,23,70,76]
[2016,8,72,25,59,63,32,17,48,24,60,71]
[2016,9,65,30,52,64,30,13,47,20,55,72]
[2016,10,56,21,48,65,34,14,37,22,72,68]
[2016,11,56,22,67,73,42,16,35,24,76,76]
[2016,12,63,25,100,76,54,18,39,34,85,70]
[2017,1,65,19,60,57,32,11,43,22,65,64]
[2017,2,78,17,55,57,31,16,46,17,63,67]
[2017,3,100,28,55,66,29,20,59,20,53,93]
[2017,4,86,38,57,73,30,20,51,27,55,76]
[2017,5,74,31,52,77,36,19,45,22,56,75]
[2017,6,69,31,55,67,38,22,38,26,74,86]
[2017,7,69,44,62,57,35,20,47,32,74,72]
[2017,8,72,43,56,59,36,18,47,34,74,64]
[2017,9,69,53,54,72,38,14,44,36,76,67]
[2017,10,59,42,49,74,39,17,37,32,80,63]
[2017,11,67,30,74,81,53,20,41,38,97,68]
[2017,12,66,30,90,87,71,18,35,27,96,67]
[2018,1,67,30,52,82,38,14,39,25,75,56]
[2018,2,67,38,51,63,39,15,40,30,67,47]
[2018,3,81,41,53,68,39,22,49,34,63,54]
[2018,4,95,42,51,74,40,22,60,38,71,57]
[2018,5,70,46,55,83,44,24,46,44,74,56]
[2018,6,73,47,58,75,44,22,42,46,82,57]
[2018,7,66,45,60,59,45,25,45,47,84,49]
[2018,8,71,53,54,62,50,20,48,46,82,55]
[2018,9,68,63,49,68,51,16,47,31,72,59]
[2018,10,54,74,42,73,46,17,38,38,78,59]
[2018,11,63,62,72,82,66,21,43,40,100,69]
[2018,12,57,36,73,77,82,20,38,31,95,64]
[2019,1,58,55,47,55,54,16,45,28,69,51]
[2019,2,67,46,45,54,54,16,47,29,65,49]
[2019,3,77,55,44,59,51,23,65,36,70,48]
[2019,4,83,56,42,66,55,22,61,42,81,54]
[2019,5,68,54,44,66,57,20,57,47,73,58]
[2019,6,64,62,44,72,56,22,48,41,80,60]
[2019,7,59,53,50,57,53,26,48,46,84,48]
[2019,8,67,70,47,63,62,21,59,43,80,55]
[2019,9,60,65,40,72,65,17,52,50,87,56]
[2019,10,53,57,41,71,63,17,49,36,79,57]
[2019,11,51,51,54,72,88,20,50,37,93,62]
[2019,12,52,40,68,87,100,22,52,46,96,62]
[2020,1,54,41,41,61,68,19,59,37,65,56]
[2020,2,56,45,38,55,59,18,68,37,59,55]
[2020,3,56,34,30,54,55,18,72,35,51,48]
[2020,4,73,46,33,69,57,17,84,36,58,55]
[2020,5,72,46,39,79,62,21,91,52,69,53]
[2020,6,61,46,38,87,63,21,77,45,70,51]
[2020,7,57,56,39,69,69,23,83,50,72,53]
[2020,8,62,51,38,70,62,23,90,51,58,62]
[2020,9,55,85,33,76,61,16,79,54,57,73]
[2020,10,51,78,36,75,56,18,63,52,58,76]
[2020,11,55,83,56,83,84,23,77,54,76,69]
[2020,12,56,81,54,75,85,17,67,59,70,78]
[2021,1,47,80,39,57,52,17,60,69,60,69]
[2021,2,44,52,32,56,48,19,64,52,54,66]
[2021,3,60,66,30,62,48,20,90,48,54,77]
[2021,4,64,68,34,60,55,18,91,57,61,57]
[2021,5,56,85,33,71,57,21,83,59,61,66]
[2021,6,55,86,33,74,58,24,64,66,66,64]
[2021,7,51,86,33,59,52,21,63,63,58,59]
[2021,8,61,93,33,57,62,17,87,81,61,59]
[2021,9,56,82,33,63,54,14,71,67,61,61]
[2021,10,43,90,34,63,56,15,64,57,59,76]
[2021,11,49,65,50,71,87,22,75,65,76,100]
[2021,12,45,69,50,83,98,21,62,73,86,73]
[2022,1,45,57,36,58,56,17,64,53,60,65]
[2022,2,45,59,29,56,53,16,72,60,48,51]
[2022,3,59,86,28,65,51,23,100,51,49,51]
[2022,4,56,97,34,69,58,25,100,90,53,62]
[2022,5,58,100,31,75,53,28,90,100,58,68]
[2022,6,54,77,32,75,56,28,70,80,55,75]
[2022,7,51,76,39,59,56,29,72,80,56,59]
[2022,8,49,69,34,62,53,21,79,73,50,61]
[2022,9,48,64,34,68,54,21,76,56,50,78]
[2022,10,46,62,37,65,56,17,71,51,52,54]
[2022,11,46,60,48,74,76,25,95,54,69,59]
[2022,12,39,57,50,72,80,20,65,54,63,59]
[2023,1,40,54,33,53,52,21,65,43,52,44]
[2023,2,45,49,31,57,47,22,68,39,41,54]
[2023,3,56,70,31,57,48,23,77,37,46,58]
[2023,4,68,81,33,64,54,28,88,54,57,64]
[2023,5,57,80,32,68,48,29,79,59,54,65]
[2023,6,59,84,31,75,44,30,67,64,63,69]

{"sheet":"keywords(SK)","index":51,"n_rows":11,"n_cols":4,"rows_kept":11,"cut":false,"hidden":false,"merged":[]}
["id","url","country","brand*"]
[1,"https://trends.google.com/trends/explore?date=all&geo=SK&q=Adidas","SK","Adidas"]
[2,"https://trends.google.com/trends/explore?date=all&geo=SK&q=Bershka","SK","Bershka"]
[3,"https://trends.google.com/trends/explore?date=all&geo=SK&q=Calvin Klein","SK","Calvin Klein"]
[4,"https://trends.google.com/trends/explore?date=all&geo=SK&q=H&M","SK","H&M"]
[5,"https://trends.google.com/trends/explore?date=all&geo=SK&q=Hugo Boss","SK","Hugo Boss"]
[6,"https://trends.google.com/trends/explore?date=all&geo=SK&q=Lacoste","SK","Lacoste"]
[7,"https://trends.google.com/trends/explore?date=all&geo=SK&q=Nike","SK","Nike"]
[8,"https://trends.google.com/trends/explore?date=all&geo=SK&q=Pull and Bear","SK","Pull and Bear"]
[9,"https://trends.google.com/trends/explore?date=all&geo=SK&q=Tommy Hilfiger","SK","Tommy Hilfiger"]
[10,"https://trends.google.com/trends/explore?date=all&geo=SK&q=Zara","SK","Zara"]

{"sheet":"1...10 raw(SK)","index":52,"n_rows":236,"n_cols":12,"rows_kept":236,"cut":false,"hidden":false,"merged":[]}
["Slovakia",null,"Adidas","Bershka","Calvin Klein","H&M","Hugo Boss","Lacoste","Nike","Pull and Bear","Tommy Hilfiger","Zara"]
["Year","Month","Point","Point","Point","Point","Point","Point","Point","Point","Point","Point"]
[2004,1,19,0,0,0,0,0,5,87,55,0]
[2004,2,0,83,0,0,0,0,8,0,0,0]
[2004,3,21,0,0,100,70,0,17,0,0,0]
[2004,4,25,0,57,0,0,0,9,0,0,0]
[2004,5,12,0,0,25,0,0,9,0,0,20]
[2004,6,0,40,0,0,0,0,6,0,0,0]
[2004,7,28,0,0,36,0,0,6,0,97,0]
[2004,8,0,0,61,0,0,0,11,89,0,0]
[2004,9,36,0,51,0,0,59,13,100,0,0]
[2004,10,0,45,0,0,38,0,9,0,49,0]
[2004,11,16,0,100,0,0,0,0,44,0,0]
[2004,12,25,52,0,22,37,0,10,0,0,0]
[2005,1,9,0,0,0,0,0,7,0,0,10]
[2005,2,24,0,0,0,0,27,12,0,71,0]
[2005,3,18,0,23,0,0,0,15,0,0,0]
[2005,4,39,64,0,0,0,48,10,0,56,0]
[2005,5,31,0,0,0,0,0,10,0,44,19]
[2005,6,33,0,0,38,0,0,15,0,0,15]
[2005,7,42,0,0,0,100,0,9,0,63,0]
[2005,8,49,0,0,37,87,38,11,0,53,13]
[2005,9,15,0,29,23,31,27,14,0,0,0]
[2005,10,31,0,16,0,35,30,10,0,0,0]
[2005,11,19,26,24,32,20,22,15,0,0,0]
[2005,12,23,0,0,0,0,29,13,0,0,7]
[2006,1,11,24,0,11,0,18,11,0,0,7]
[2006,2,27,0,0,11,19,0,18,0,14,5]
[2006,3,44,0,44,7,15,25,16,0,0,0]
[2006,4,40,0,0,0,22,26,20,0,11,8]
[2006,5,40,0,0,0,0,21,16,0,14,0]
[2006,6,26,0,0,19,0,24,12,0,0,4]
[2006,7,32,36,0,10,18,61,14,0,11,0]
[2006,8,44,0,12,21,0,31,14,25,0,0]
[2006,9,25,0,32,37,0,100,16,38,15,0]
[2006,10,30,0,8,35,8,85,14,0,0,5]
[2006,11,28,0,0,29,28,36,16,18,17,0]
[2006,12,27,18,0,18,0,64,16,0,19,4]
[2007,1,30,0,6,19,19,20,16,0,12,7]
[2007,2,35,7,0,23,38,37,20,0,0,0]
[2007,3,41,0,0,54,11,21,21,8,24,5]
[2007,4,42,0,0,26,32,33,21,21,25,5]
[2007,5,35,7,11,22,12,60,21,25,0,7]
[2007,6,26,14,10,17,0,39,17,0,0,0]
[2007,7,37,0,0,15,16,56,21,0,26,11]
[2007,8,38,0,12,16,20,38,24,9,16,5]
[2007,9,34,0,7,15,25,28,30,0,23,14]
[2007,10,35,0,0,22,22,36,29,0,13,6]
[2007,11,33,0,9,15,11,44,25,12,0,7]
[2007,12,32,10,10,19,36,43,25,0,11,10]
[2008,1,33,0,0,12,14,31,28,0,8,3]
[2008,2,49,0,13,14,16,52,32,6,11,4]
[2008,3,45,23,0,11,16,40,34,0,18,5]
[2008,4,48,0,5,5,19,28,31,0,12,8]
[2008,5,43,0,0,14,8,49,28,0,9,6]
[2008,6,42,0,0,15,0,39,27,14,14,3]
[2008,7,45,0,16,11,15,46,25,0,20,4]
[2008,8,53,9,4,15,18,49,37,0,8,4]
[2008,9,45,6,18,19,25,32,33,15,12,11]
[2008,10,44,0,12,12,11,31,34,15,17,8]
[2008,11,35,0,12,14,30,27,33,6,0,16]
[2008,12,46,0,15,9,46,45,34,4,21,10]
[2009,1,41,3,14,9,12,41,37,4,7,6]
[2009,2,45,0,13,5,12,34,35,0,15,8]
[2009,3,47,5,8,12,18,47,37,0,9,6]
[2009,4,54,15,9,8,14,39,40,6,11,10]
[2009,5,46,4,8,14,21,19,35,10,22,6]
[2009,6,42,11,8,11,16,18,32,5,18,6]
[2009,7,47,0,19,13,11,23,29,0,17,3]
[2009,8,49,0,13,13,17,47,35,9,19,7]
[2009,9,47,7,11,12,28,58,36,0,28,13]
[2009,10,43,8,10,17,23,37,34,15,29,10]
[2009,11,40,5,12,14,32,38,31,15,28,8]
[2009,12,44,4,28,13,43,55,34,7,22,10]
[2010,1,34,4,9,12,23,27,32,0,22,9]
[2010,2,46,9,16,10,11,37,41,0,17,10]
[2010,3,53,0,10,13,13,37,41,0,19,10]
[2010,4,50,5,14,20,6,36,36,0,26,11]
[2010,5,51,9,20,17,6,33,33,8,17,7]
[2010,6,50,7,21,20,22,31,31,5,23,7]
[2010,7,46,5,10,0,13,31,29,5,26,7]
[2010,8,56,0,19,18,20,54,36,10,21,8]
[2010,9,55,4,22,22,10,30,36,0,29,15]
[2010,10,46,16,9,22,18,34,40,0,34,15]
[2010,11,49,10,28,19,24,39,37,0,26,13]
[2010,12,50,6,45,16,33,39,41,7,35,11]
[2011,1,49,6,17,14,13,28,42,0,28,13]
[2011,2,49,6,13,14,17,33,46,2,21,13]
[2011,3,69,4,15,14,14,36,48,4,29,13]
[2011,4,60,6,15,13,13,42,43,11,35,14]
[2011,5,59,8,17,23,11,40,37,2,31,11]
[2011,6,54,3,17,16,21,34,32,4,28,12]
[2011,7,58,7,12,21,15,35,32,3,29,13]
[2011,8,66,6,17,17,18,31,39,4,36,22]
[2011,9,68,13,18,24,29,40,43,3,39,23]
[2011,10,69,15,22,26,24,43,42,9,41,24]
[2011,11,60,13,34,28,33,36,41,9,44,30]
[2011,12,66,16,49,23,43,40,41,7,52,27]
[2012,1,52,12,22,20,13,28,42,9,44,29]
[2012,2,55,16,27,25,17,31,43,9,43,22]
[2012,3,79,18,21,32,13,42,50,8,41,25]
[2012,4,73,14,19,30,17,34,47,13,37,17]
[2012,5,55,18,21,25,17,36,43,9,41,16]
[2012,6,60,14,20,26,13,32,36,7,33,15]
[2012,7,55,18,14,22,16,31,36,12,33,15]
[2012,8,67,16,15,25,17,35,39,6,44,14]
[2012,9,76,12,20,34,20,29,45,9,50,20]
[2012,10,65,18,25,30,23,35,47,14,43,24]
[2012,11,62,20,29,28,26,33,49,14,52,24]
[2012,12,57,22,45,25,37,35,45,11,61,20]
[2013,1,44,19,19,22,15,24,41,6,41,20]
[2013,2,45,20,15,23,16,25,50,6,36,20]
[2013,3,71,18,17,30,14,33,54,15,46,17]
[2013,4,69,12,18,25,12,39,46,14,45,19]
[2013,5,57,16,16,27,12,26,50,6,41,17]
[2013,6,55,21,17,21,17,29,38,13,45,19]
[2013,7,51,14,17,19,19,28,39,9,51,16]
[2013,8,64,19,18,27,13,29,48,14,57,18]
[2013,9,66,22,25,35,19,32,51,11,59,23]
[2013,10,58,19,28,27,17,24,48,9,61,24]
[2013,11,64,23,32,30,33,30,49,9,69,26]
[2013,12,58,20,39,29,37,37,47,17,65,24]
[2014,1,52,16,20,27,16,22,49,13,42,21]
[2014,2,55,17,17,22,15,22,54,7,40,20]
[2014,3,78,20,23,35,12,41,59,8,48,22]
[2014,4,70,17,18,30,12,34,52,16,48,21]
[2014,5,58,15,15,32,14,17,52,13,46,19]
[2014,6,55,22,19,26,14,22,48,13,44,16]
[2014,7,61,14,17,25,15,21,49,7,47,17]
[2014,8,72,25,21,35,16,32,51,13,46,25]
[2014,9,65,22,24,39,26,24,52,13,55,26]
[2014,10,58,27,23,37,27,22,51,9,51,26]
[2014,11,56,19,32,39,32,20,52,15,49,24]
[2014,12,58,25,43,35,48,30,52,13,59,23]
[2015,1,51,19,26,27,16,18,53,12,43,22]
[2015,2,54,19,22,32,20,19,57,8,39,19]
[2015,3,77,25,18,38,17,23,64,10,45,25]
[2015,4,75,23,19,52,18,24,57,9,35,22]
[2015,5,64,19,17,47,12,25,49,11,38,20]
[2015,6,57,22,19,49,14,22,42,11,40,30]
[2015,7,52,18,21,38,12,21,40,10,42,26]
[2015,8,60,23,28,60,13,21,54,11,39,23]
[2015,9,64,25,23,58,24,23,50,15,39,31]
[2015,10,64,25,23,54,26,15,43,11,46,31]
[2015,11,61,23,31,63,32,17,45,11,53,34]
[2015,12,61,26,41,55,51,23,47,11,61,28]
[2016,1,58,15,28,43,11,14,53,8,41,28]
[2016,2,71,17,32,44,16,16,56,9,35,27]
[2016,3,88,22,29,51,12,14,63,8,29,45]
[2016,4,82,26,25,58,20,19,52,11,31,38]
[2016,5,66,20,23,53,15,16,57,11,31,35]
[2016,6,60,23,25,50,13,17,47,10,36,38]
[2016,7,64,21,31,54,14,16,46,9,38,40]
[2016,8,69,25,39,55,16,19,45,9,36,40]
[2016,9,68,29,33,54,23,11,52,14,38,48]
[2016,10,65,37,38,65,28,9,54,9,44,54]
[2016,11,58,35,44,62,34,9,52,12,46,52]
[2016,12,60,33,60,62,56,18,56,21,61,55]
[2017,1,58,33,35,56,17,13,50,16,40,45]
[2017,2,73,35,33,50,17,15,54,6,32,48]
[2017,3,92,45,30,62,15,16,56,21,36,52]
[2017,4,76,41,35,55,14,15,51,9,38,52]
[2017,5,67,38,31,61,13,11,52,12,37,51]
[2017,6,64,42,36,57,16,14,45,20,40,50]
[2017,7,67,32,47,52,18,13,44,14,47,47]
[2017,8,69,39,46,61,16,18,49,16,43,59]
[2017,9,66,57,45,72,21,15,55,19,44,83]
[2017,10,59,51,46,72,23,12,46,24,42,76]
[2017,11,65,66,60,77,32,12,44,28,57,81]
[2017,12,66,61,86,62,49,15,41,28,63,78]
[2018,1,60,52,44,64,16,11,41,23,43,69]
[2018,2,63,44,44,54,17,11,46,22,42,68]
[2018,3,85,52,44,66,14,16,46,24,48,70]
[2018,4,100,51,46,61,12,13,44,23,49,71]
[2018,5,76,46,48,63,17,18,42,21,49,70]
[2018,6,74,46,58,61,18,16,42,23,49,77]
[2018,7,77,44,68,56,16,16,37,25,53,59]
[2018,8,77,39,66,62,23,15,42,23,56,71]
[2018,9,78,49,61,65,21,16,50,17,56,86]
[2018,10,65,58,60,68,22,11,43,22,57,84]
[2018,11,61,53,64,82,39,16,43,33,76,92]
[2018,12,59,58,94,64,48,21,45,26,88,83]
[2019,1,64,62,61,52,22,7,40,23,57,82]
[2019,2,72,55,53,51,18,11,45,25,56,78]
[2019,3,95,60,53,57,14,13,53,26,50,78]
[2019,4,92,56,46,60,15,13,53,24,56,76]
[2019,5,77,49,49,50,19,13,47,21,45,69]
[2019,6,77,50,57,63,14,13,33,27,66,82]
[2019,7,74,53,68,54,20,13,35,22,65,62]
[2019,8,74,57,56,53,26,10,40,22,68,69]
[2019,9,71,71,52,73,21,12,46,28,68,95]
[2019,10,58,62,49,59,20,10,43,31,60,90]
[2019,11,63,74,71,64,35,14,44,38,89,100]
[2019,12,62,75,82,65,51,18,47,33,97,87]
[2020,1,53,66,53,45,16,10,43,29,59,82]
[2020,2,60,61,48,48,21,13,51,22,56,70]
[2020,3,61,47,31,43,10,9,37,18,38,53]
[2020,4,84,62,41,59,10,9,28,24,49,70]
[2020,5,81,65,47,61,13,14,33,36,62,77]
[2020,6,70,60,56,54,18,11,39,30,61,81]
[2020,7,64,67,53,49,19,16,41,25,68,72]
[2020,8,70,61,57,56,17,14,47,21,70,74]
[2020,9,64,76,52,58,23,15,46,30,63,82]
[2020,10,52,75,46,59,15,7,49,30,60,83]
[2020,11,64,100,65,66,35,14,59,33,83,89]
[2020,12,55,83,83,49,39,10,50,31,83,77]
[2021,1,56,100,50,55,15,10,42,43,60,89]
[2021,2,63,94,50,54,13,11,46,35,58,84]
[2021,3,88,89,48,60,14,13,48,31,68,76]
[2021,4,82,72,45,54,13,10,52,26,57,69]
[2021,5,67,63,52,44,20,14,63,18,60,61]
[2021,6,64,62,54,58,20,11,51,23,63,77]
[2021,7,50,67,50,45,20,10,46,20,49,54]
[2021,8,65,72,53,54,18,12,52,33,56,64]
[2021,9,56,86,53,56,21,8,56,36,61,74]
[2021,10,54,76,51,60,28,9,60,36,77,85]
[2021,11,59,72,71,62,39,15,55,36,92,85]
[2021,12,56,77,81,52,49,15,50,39,97,78]
[2022,1,51,85,50,42,19,10,50,39,68,76]
[2022,2,55,70,47,39,21,9,64,26,64,63]
[2022,3,74,73,41,40,22,12,68,28,60,72]
[2022,4,69,66,44,40,20,16,71,25,63,71]
[2022,5,62,63,52,45,21,12,72,17,59,70]
[2022,6,56,61,54,47,22,14,58,30,62,87]
[2022,7,56,56,55,41,22,16,54,32,60,67]
[2022,8,62,64,56,43,23,12,67,32,65,64]
[2022,9,62,83,53,57,28,14,78,33,65,89]
[2022,10,57,72,53,48,31,14,77,34,59,77]
[2022,11,65,93,72,56,44,16,90,33,93,94]
[2022,12,61,84,81,46,56,19,90,35,100,80]
[2023,1,49,64,53,28,24,9,75,31,55,70]
[2023,2,53,68,46,37,22,11,83,34,56,68]
[2023,3,72,69,48,35,25,13,93,24,50,74]
[2023,4,72,65,46,40,23,16,100,29,56,71]
[2023,5,69,55,46,40,23,14,96,21,58,73]
[2023,6,62,51,46,39,19,13,70,21,64,69]

{"sheet":"keywords(SI)","index":53,"n_rows":11,"n_cols":4,"rows_kept":11,"cut":false,"hidden":false,"merged":[]}
["id","url","country","brand*"]
[1,"https://trends.google.com/trends/explore?date=all&geo=SI&q=Adidas","SI","Adidas"]
[2,"https://trends.google.com/trends/explore?date=all&geo=SI&q=Bershka","SI","Bershka"]
[3,"https://trends.google.com/trends/explore?date=all&geo=SI&q=Calvin Klein","SI","Calvin Klein"]
[4,"https://trends.google.com/trends/explore?date=all&geo=SI&q=H&M","SI","H&M"]
[5,"https://trends.google.com/trends/explore?date=all&geo=SI&q=Hugo Boss","SI","Hugo Boss"]
[6,"https://trends.google.com/trends/explore?date=all&geo=SI&q=Lacoste","SI","Lacoste"]
[7,"https://trends.google.com/trends/explore?date=all&geo=SI&q=Nike","SI","Nike"]
[8,"https://trends.google.com/trends/explore?date=all&geo=SI&q=Pull and Bear","SI","Pull and Bear"]
[9,"https://trends.google.com/trends/explore?date=all&geo=SI&q=Tommy Hilfiger","SI","Tommy Hilfiger"]
[10,"https://trends.google.com/trends/explore?date=all&geo=SI&q=Zara","SI","Zara"]

{"sheet":"1...10 raw(SI)","index":54,"n_rows":236,"n_cols":12,"rows_kept":236,"cut":false,"hidden":false,"merged":[]}
["Slovenia",null,"Adidas","Bershka","Calvin Klein","H&M","Hugo Boss","Lacoste","Nike","Pull and Bear","Tommy Hilfiger","Zara"]
["Year","Month","Point","Point","Point","Point","Point","Point","Point","Point","Point","Point"]
[2004,1,38,0,0,32,0,100,19,0,0,17]
[2004,2,55,0,0,0,0,0,13,0,0,0]
[2004,3,91,0,0,46,31,0,28,0,0,0]
[2004,4,63,0,0,40,100,35,43,0,0,0]
[2004,5,12,0,0,0,0,0,43,0,0,9]
[2004,6,39,0,0,51,0,0,0,0,0,20]
[2004,7,0,0,0,33,0,47,0,78,0,0]
[2004,8,31,0,100,70,0,0,20,0,0,0]
[2004,9,53,0,60,97,42,22,25,0,0,18]
[2004,10,33,100,0,100,35,36,17,0,0,9]
[2004,11,25,0,0,30,0,0,19,0,0,10]
[2004,12,0,0,0,29,0,0,12,82,35,0]
[2005,1,33,29,0,63,0,0,6,100,25,9]
[2005,2,24,0,0,63,0,17,15,0,100,22]
[2005,3,68,0,0,32,26,0,33,0,48,16]
[2005,4,47,0,0,0,56,0,34,0,21,16]
[2005,5,53,0,0,36,20,14,26,0,0,0]
[2005,6,59,0,0,32,25,14,22,0,44,15]
[2005,7,38,0,0,29,0,0,43,0,0,0]
[2005,8,42,0,0,29,0,0,20,0,0,0]
[2005,9,53,0,54,36,11,16,24,0,0,35]
[2005,10,33,0,0,63,16,20,21,28,0,28]
[2005,11,27,0,0,41,0,24,29,0,33,15]
[2005,12,34,11,33,11,22,0,19,0,23,13]
[2006,1,43,0,0,15,23,0,15,76,18,14]
[2006,2,45,0,0,23,0,25,27,0,0,12]
[2006,3,37,7,0,26,0,79,30,0,0,20]
[2006,4,51,12,20,29,11,26,51,0,0,21]
[2006,5,34,0,25,24,0,0,15,0,0,11]
[2006,6,41,0,0,13,0,13,32,37,0,17]
[2006,7,49,0,0,29,0,0,28,29,0,12]
[2006,8,50,0,16,27,7,22,34,0,0,23]
[2006,9,37,8,0,17,0,16,23,0,0,18]
[2006,10,40,0,0,39,28,15,22,0,0,17]
[2006,11,21,6,0,17,0,8,20,17,15,9]
[2006,12,31,0,0,22,7,16,17,0,16,16]
[2007,1,46,0,0,25,12,15,25,12,0,16]
[2007,2,39,0,11,24,5,23,27,0,0,15]
[2007,3,54,11,22,31,26,18,25,0,12,12]
[2007,4,42,10,0,21,0,19,25,24,0,16]
[2007,5,42,8,20,32,7,29,24,0,12,10]
[2007,6,26,0,22,29,8,25,26,0,0,9]
[2007,7,41,8,0,21,14,16,16,0,0,12]
[2007,8,48,7,16,33,14,21,25,0,0,21]
[2007,9,47,3,0,30,14,26,30,10,6,26]
[2007,10,45,5,9,34,5,5,26,13,9,15]
[2007,11,28,0,0,27,24,18,28,0,11,15]
[2007,12,43,4,17,31,12,20,16,0,28,12]
[2008,1,33,6,0,21,7,28,22,11,14,13]
[2008,2,37,10,0,23,12,12,25,0,0,13]
[2008,3,33,10,9,22,17,26,26,0,0,16]
[2008,4,50,0,19,27,4,31,27,0,0,17]
[2008,5,46,5,27,73,0,19,27,13,5,11]
[2008,6,35,12,0,19,0,21,19,17,0,10]
[2008,7,42,0,11,29,8,11,23,12,25,12]
[2008,8,50,11,12,31,11,28,23,0,13,9]
[2008,9,50,7,12,29,5,21,30,13,7,15]
[2008,10,41,5,9,29,8,24,23,19,0,15]
[2008,11,35,10,0,24,13,18,19,13,12,13]
[2008,12,38,0,14,17,11,20,17,9,9,14]
[2009,1,34,0,46,24,9,31,20,17,6,6]
[2009,2,33,9,13,20,10,20,22,12,14,12]
[2009,3,48,0,6,31,8,18,31,0,8,14]
[2009,4,46,0,0,31,9,24,25,0,7,11]
[2009,5,44,0,0,28,8,19,26,0,12,11]
[2009,6,35,4,11,23,4,12,18,8,0,11]
[2009,7,39,8,26,18,9,10,21,0,10,8]
[2009,8,39,7,7,27,14,17,25,14,10,11]
[2009,9,54,9,34,29,6,16,34,0,4,16]
[2009,10,46,7,11,34,14,13,30,8,3,14]
[2009,11,32,0,25,34,3,15,18,17,3,15]
[2009,12,36,7,22,29,11,6,20,0,15,15]
[2010,1,34,4,0,19,8,24,27,23,10,16]
[2010,2,39,5,8,19,7,9,27,17,9,12]
[2010,3,50,6,8,23,6,23,31,17,15,15]
[2010,4,55,6,20,27,7,8,27,17,8,16]
[2010,5,41,8,23,28,10,16,28,0,11,16]
[2010,6,49,9,15,27,11,13,26,17,9,16]
[2010,7,48,5,18,22,5,8,19,0,4,17]
[2010,8,54,9,14,22,7,8,28,26,8,12]
[2010,9,60,13,14,28,13,15,28,16,8,23]
[2010,10,43,14,25,28,10,8,24,31,14,27]
[2010,11,47,5,17,32,10,13,23,8,9,22]
[2010,12,30,13,17,31,5,14,22,21,16,18]
[2011,1,46,8,11,25,14,9,35,14,12,24]
[2011,2,54,10,15,33,7,17,29,8,9,24]
[2011,3,57,10,14,28,8,13,34,18,12,25]
[2011,4,61,10,17,37,15,16,32,15,17,25]
[2011,5,61,13,15,34,7,14,35,13,17,25]
[2011,6,74,10,19,32,14,13,30,23,13,21]
[2011,7,74,7,18,30,12,11,28,19,5,19]
[2011,8,87,10,14,31,11,9,33,19,7,26]
[2011,9,69,14,18,33,9,13,26,18,20,26]
[2011,10,64,17,26,42,6,14,26,27,10,38]
[2011,11,57,20,23,42,10,10,24,22,17,34]
[2011,12,43,22,28,37,10,5,22,37,13,37]
[2012,1,52,24,33,28,11,9,24,16,11,28]
[2012,2,52,25,15,34,13,9,26,34,9,32]
[2012,3,62,37,13,40,7,6,32,52,16,44]
[2012,4,56,33,16,38,8,10,30,49,17,36]
[2012,5,54,40,17,42,8,7,28,46,17,36]
[2012,6,56,31,31,41,7,10,25,35,16,38]
[2012,7,52,32,30,33,2,10,25,32,22,37]
[2012,8,62,30,32,36,8,10,28,34,16,39]
[2012,9,65,36,28,48,12,13,30,35,13,46]
[2012,10,59,40,20,52,11,10,26,51,21,47]
[2012,11,47,32,28,44,7,11,23,35,14,41]
[2012,12,43,37,20,44,7,12,19,37,18,33]
[2013,1,44,35,21,31,10,7,21,30,13,37]
[2013,2,39,32,31,34,5,2,20,28,10,35]
[2013,3,56,30,19,43,8,10,29,35,13,40]
[2013,4,54,35,19,50,8,9,34,44,23,40]
[2013,5,52,34,17,45,7,11,26,27,25,36]
[2013,6,43,29,18,42,8,7,23,30,13,31]
[2013,7,40,27,23,36,5,11,24,15,19,26]
[2013,8,52,34,25,41,11,8,29,26,18,41]
[2013,9,63,37,23,50,8,3,28,55,23,45]
[2013,10,51,38,24,55,11,5,26,52,20,44]
[2013,11,46,36,27,47,7,9,29,34,17,44]
[2013,12,42,34,25,38,15,8,21,37,19,43]
[2014,1,43,26,22,29,8,7,27,28,18,35]
[2014,2,41,22,16,36,6,0,27,24,13,35]
[2014,3,66,31,27,48,6,7,35,38,23,43]
[2014,4,59,31,21,46,9,7,39,32,19,42]
[2014,5,49,31,22,41,6,6,36,27,18,39]
[2014,6,47,32,23,41,10,4,31,26,18,38]
[2014,7,49,23,20,36,10,4,30,24,21,28]
[2014,8,57,28,26,42,8,7,43,25,18,37]
[2014,9,58,34,23,48,7,7,38,35,22,48]
[2014,10,51,28,24,48,16,4,36,38,25,44]
[2014,11,48,33,35,51,13,3,31,27,28,42]
[2014,12,37,29,36,41,13,3,28,42,17,38]
[2015,1,46,20,36,31,7,8,35,19,22,37]
[2015,2,40,19,23,34,10,4,37,20,18,32]
[2015,3,59,29,34,45,11,5,51,27,23,45]
[2015,4,67,26,30,45,5,5,51,37,22,44]
[2015,5,53,23,28,40,7,5,44,38,15,35]
[2015,6,48,27,32,43,5,8,37,24,22,39]
[2015,7,48,24,26,38,6,11,37,16,28,32]
[2015,8,57,37,43,41,7,6,49,34,17,42]
[2015,9,66,40,37,48,9,6,44,32,24,55]
[2015,10,57,37,41,53,8,6,40,34,20,48]
[2015,11,57,32,41,60,8,5,31,47,20,52]
[2015,12,55,25,54,46,11,6,35,32,25,47]
[2016,1,69,21,46,31,4,3,38,19,20,43]
[2016,2,85,18,32,36,9,10,42,19,9,41]
[2016,3,96,34,37,40,8,8,48,25,15,46]
[2016,4,93,30,46,65,9,6,49,23,22,58]
[2016,5,77,16,27,55,4,7,41,27,20,59]
[2016,6,72,25,36,53,9,4,34,22,24,54]
[2016,7,72,19,67,45,7,6,36,16,20,50]
[2016,8,83,18,43,46,6,3,41,23,28,50]
[2016,9,87,21,37,44,9,2,39,27,20,62]
[2016,10,75,34,43,62,10,8,39,37,25,77]
[2016,11,66,29,60,52,11,8,32,33,28,66]
[2016,12,62,20,51,58,11,10,30,20,23,67]
[2017,1,57,15,41,32,9,5,32,24,27,47]
[2017,2,79,21,43,41,10,5,39,20,22,58]
[2017,3,100,20,39,43,6,6,46,32,33,69]
[2017,4,82,25,46,46,7,7,40,32,35,60]
[2017,5,85,25,58,43,12,9,39,33,29,65]
[2017,6,66,19,54,44,13,0,32,32,32,60]
[2017,7,70,23,44,41,10,5,35,25,30,49]
[2017,8,86,28,72,34,9,5,40,30,28,59]
[2017,9,86,34,63,59,8,5,40,29,34,76]
[2017,10,78,23,51,41,11,7,44,29,32,75]
[2017,11,71,30,56,59,7,7,41,32,50,89]
[2017,12,52,24,69,52,14,11,34,33,36,73]
[2018,1,65,21,58,35,13,7,37,22,28,69]
[2018,2,63,23,58,37,8,5,39,36,36,56]
[2018,3,80,23,49,40,5,5,48,28,37,64]
[2018,4,100,25,53,49,8,9,55,34,38,74]
[2018,5,84,20,59,42,7,5,39,21,38,57]
[2018,6,75,22,50,44,7,7,38,19,43,62]
[2018,7,77,16,54,38,7,5,39,21,38,51]
[2018,8,86,24,64,43,10,8,45,25,60,60]
[2018,9,80,17,55,41,7,8,50,29,49,76]
[2018,10,72,30,50,48,14,7,45,44,48,75]
[2018,11,71,30,61,61,14,9,45,44,58,89]
[2018,12,50,28,88,44,17,4,36,27,47,73]
[2019,1,64,24,48,39,7,8,44,31,53,68]
[2019,2,84,22,43,37,12,6,57,25,53,63]
[2019,3,89,23,41,35,14,7,59,14,45,65]
[2019,4,79,22,43,41,25,7,52,25,54,70]
[2019,5,76,19,53,39,12,5,54,25,49,69]
[2019,6,74,22,53,48,13,6,45,13,67,73]
[2019,7,73,17,54,32,14,11,48,15,49,56]
[2019,8,83,28,41,36,11,5,58,21,54,64]
[2019,9,78,27,44,48,13,5,56,26,56,75]
[2019,10,71,27,42,45,13,4,62,29,56,81]
[2019,11,70,31,59,51,16,7,58,37,81,100]
[2019,12,51,28,67,42,14,10,51,37,56,84]
[2020,1,59,25,54,34,11,5,57,26,54,67]
[2020,2,78,18,47,33,10,4,66,18,47,65]
[2020,3,62,15,38,31,8,4,53,17,47,48]
[2020,4,90,28,39,74,7,5,84,36,51,76]
[2020,5,92,32,52,68,12,6,76,40,54,91]
[2020,6,79,28,59,52,12,6,59,39,61,73]
[2020,7,74,23,46,39,10,7,55,21,54,58]
[2020,8,74,30,48,36,8,6,68,28,52,60]
[2020,9,87,31,44,51,9,7,65,30,57,76]
[2020,10,62,23,41,49,11,5,55,31,48,70]
[2020,11,75,39,46,71,8,6,62,36,65,93]
[2020,12,57,36,59,60,15,2,46,32,69,81]
[2021,1,60,41,41,53,10,2,55,47,55,86]
[2021,2,77,48,43,47,12,10,63,36,65,93]
[2021,3,69,27,34,34,8,7,66,24,45,63]
[2021,4,71,30,39,35,8,4,64,34,44,62]
[2021,5,69,30,47,35,7,6,59,25,39,61]
[2021,6,57,33,47,45,8,4,50,31,53,67]
[2021,7,42,29,31,30,8,5,48,25,48,52]
[2021,8,60,31,45,35,6,5,66,40,43,52]
[2021,9,52,27,39,35,10,5,61,40,42,62]
[2021,10,53,34,37,44,9,2,58,52,34,78]
[2021,11,51,33,47,47,14,5,67,46,52,71]
[2021,12,41,33,55,34,13,4,56,44,50,60]
[2022,1,50,30,41,34,12,4,58,22,47,61]
[2022,2,59,30,31,29,10,6,73,27,36,51]
[2022,3,63,24,29,34,11,5,79,30,34,59]
[2022,4,69,27,28,32,9,5,79,35,33,65]
[2022,5,61,32,33,33,9,8,75,14,31,68]
[2022,6,49,20,35,32,10,7,57,27,40,64]
[2022,7,57,19,35,32,9,9,58,30,33,57]
[2022,8,61,22,39,31,10,7,80,30,40,56]
[2022,9,60,29,27,38,9,6,84,30,41,75]
[2022,10,54,27,30,32,7,7,81,29,34,66]
[2022,11,62,33,55,43,11,5,93,36,50,89]
[2022,12,49,29,41,34,13,5,76,36,41,66]
[2023,1,48,26,36,28,12,6,80,29,31,54]
[2023,2,57,20,26,30,10,7,74,23,36,55]
[2023,3,67,21,34,28,11,5,97,14,36,64]
[2023,4,69,24,31,27,9,5,100,31,33,69]
[2023,5,63,22,31,29,8,9,86,29,40,65]
[2023,6,63,16,33,25,9,7,84,44,25,64]

{"sheet":"OAM_HU","index":55,"n_rows":44,"n_cols":41,"rows_kept":44,"cut":false,"hidden":false,"merged":[]}
[null,null,0,0,0,0,0,0,0,0,0,0,null,null,"Hungary","Slovakia","Czechia","Poland","Slovenia","Romania","Bulgaria","Latvia","Estonia","Lithaun","France","Germany","Italy","Greece","Spain","Luxemburg","Sweden","Denmark","Holland","Belgie","Ciprus","Malta","Finn","Ír","Osztrák","Horvát","Portugál"]
[null,null,{"$f":"'1...10 raw(HU)'!#REF!","v":{"$error":"#REF!"}},{"$f":"'1...10 raw(HU)'!D1","v":"Bershka"},{"$f":"'1...10 raw(HU)'!#REF!","v":{"$error":"#REF!"}},{"$f":"'1...10 raw(HU)'!#REF!","v":{"$error":"#REF!"}},{"$f":"'1...10 raw(HU)'!E1","v":"Calvin Klein"},{"$f":"'1...10 raw(HU)'!#REF!","v":{"$error":"#REF!"}},{"$f":"'1...10 raw(HU)'!#REF!","v":{"$error":"#REF!"}},{"$f":"'1...10 raw(HU)'!F1","v":"H&M"},{"$f":"'1...10 raw(HU)'!#REF!","v":{"$error":"#REF!"}},{"$f":"'1...10 raw(HU)'!#REF!","v":{"$error":"#REF!"}},"Y0","naiv","Index","Index","Index","Index","Index","Index","Index","Index","Index","Index","Index","Index","Index","Index","Index","Index","Index","Index","Index","Index"]
[2004,"HU",{"$f":"INT(AVERAGEIF('1...10 timeseries (HU)'!$A$3:$A$233,OAM_HU!$A3,'1...10 timeseries (HU)'!C$3:C$233))","v":23},{"$f":"INT(AVERAGEIF('1...10 timeseries (HU)'!$A$3:$A$233,OAM_HU!$A3,'1...10 timeseries (HU)'!D$3:D$233))","v":1},{"$f":"INT(AVERAGEIF('1...10 timeseries (HU)'!$A$3:$A$233,OAM_HU!$A3,'1...10 timeseries (HU)'!E$3:E$233))","v":10},{"$f":"INT(AVERAGEIF('1...10 timeseries (HU)'!$A$3:$A$233,OAM_HU!$A3,'1...10 timeseries (HU)'!F$3:F$233))","v":7},{"$f":"INT(AVERAGEIF('1...10 timeseries (HU)'!$A$3:$A$233,OAM_HU!$A3,'1...10 timeseries (HU)'!G$3:G$233))","v":17},{"$f":"INT(AVERAGEIF('1...10 timeseries (HU)'!$A$3:$A$233,OAM_HU!$A3,'1...10 timeseries (HU)'!H$3:H$233))","v":27},{"$f":"INT(AVERAGEIF('1...10 timeseries (HU)'!$A$3:$A$233,OAM_HU!$A3,'1...10 timeseries (HU)'!I$3:I$233))","v":15},{"$f":"INT(AVERAGEIF('1...10 timeseries (HU)'!$A$3:$A$233,OAM_HU!$A3,'1...10 timeseries (HU)'!J$3:J$233))","v":3},{"$f":"INT(AVERAGEIF('1...10 timeseries (HU)'!$A$3:$A$233,OAM_HU!$A3,'1...10 timeseries (HU)'!K$3:K$233))","v":9},{"$f":"INT(AVERAGEIF('1...10 timeseries (HU)'!$A$3:$A$233,OAM_HU!$A3,'1...10 timeseries (HU)'!L$3:L$233))","v":5},1000,{"$f":"SUM(C3:L3)","v":117},{"$f":"modell_HU!L74","v":1009.2},"?","?","?","?","?","?","?","?","?","?","?","?","?","?","?","?","?","?","?"]
[2005,"HU",{"$f":"INT(AVERAGEIF('1...10 timeseries (HU)'!$A$3:$A$233,OAM_HU!$A4,'1...10 timeseries (HU)'!C$3:C$233))","v":28},{"$f":"INT(AVERAGEIF('1...10 timeseries (HU)'!$A$3:$A$233,OAM_HU!$A4,'1...10 timeseries (HU)'!D$3:D$233))","v":6},{"$f":"INT(AVERAGEIF('1...10 timeseries (HU)'!$A$3:$A$233,OAM_HU!$A4,'1...10 timeseries (HU)'!E$3:E$233))","v":10},{"$f":"INT(AVERAGEIF('1...10 timeseries (HU)'!$A$3:$A$233,OAM_HU!$A4,'1...10 timeseries (HU)'!F$3:F$233))","v":8},{"$f":"INT(AVERAGEIF('1...10 timeseries (HU)'!$A$3:$A$233,OAM_HU!$A4,'1...10 timeseries (HU)'!G$3:G$233))","v":16},{"$f":"INT(AVERAGEIF('1...10 timeseries (HU)'!$A$3:$A$233,OAM_HU!$A4,'1...10 timeseries (HU)'!H$3:H$233))","v":19},{"$f":"INT(AVERAGEIF('1...10 timeseries (HU)'!$A$3:$A$233,OAM_HU!$A4,'1...10 timeseries (HU)'!I$3:I$233))","v":17},{"$f":"INT(AVERAGEIF('1...10 timeseries (HU)'!$A$3:$A$233,OAM_HU!$A4,'1...10 timeseries (HU)'!J$3:J$233))","v":1},{"$f":"INT(AVERAGEIF('1...10 timeseries (HU)'!$A$3:$A$233,OAM_HU!$A4,'1...10 timeseries (HU)'!K$3:K$233))","v":9},{"$f":"INT(AVERAGEIF('1...10 timeseries (HU)'!$A$3:$A$233,OAM_HU!$A4,'1...10 timeseries (HU)'!L$3:L$233))","v":11},1000,{"$f":"SUM(C4:L4)","v":125},{"$f":"modell_HU!L75","v":1009.2},"?","?","?","?","?","?","?","?","?","?","?","?","?","?","?","?","?","?","?"]
[2006,"HU",{"$f":"INT(AVERAGEIF('1...10 timeseries (HU)'!$A$3:$A$233,OAM_HU!$A5,'1...10 timeseries (HU)'!C$3:C$233))","v":39},{"$f":"INT(AVERAGEIF('1...10 timeseries (HU)'!$A$3:$A$233,OAM_HU!$A5,'1...10 timeseries (HU)'!D$3:D$233))","v":0},{"$f":"INT(AVERAGEIF('1...10 timeseries (HU)'!$A$3:$A$233,OAM_HU!$A5,'1...10 timeseries (HU)'!E$3:E$233))","v":10},{"$f":"INT(AVERAGEIF('1...10 timeseries (HU)'!$A$3:$A$233,OAM_HU!$A5,'1...10 timeseries (HU)'!F$3:F$233))","v":9},{"$f":"INT(AVERAGEIF('1...10 timeseries (HU)'!$A$3:$A$233,OAM_HU!$A5,'1...10 timeseries (HU)'!G$3:G$233))","v":19},{"$f":"INT(AVERAGEIF('1...10 timeseries (HU)'!$A$3:$A$233,OAM_HU!$A5,'1...10 timeseries (HU)'!H$3:H$233))","v":38},{"$f":"INT(AVERAGEIF('1...10 timeseries (HU)'!$A$3:$A$233,OAM_HU!$A5,'1...10 timeseries (HU)'!I$3:I$233))","v":22},{"$f":"INT(AVERAGEIF('1...10 timeseries (HU)'!$A$3:$A$233,OAM_HU!$A5,'1...10 timeseries (HU)'!J$3:J$233))","v":2},{"$f":"INT(AVERAGEIF('1...10 timeseries (HU)'!$A$3:$A$233,OAM_HU!$A5,'1...10 timeseries (HU)'!K$3:K$233))","v":7},{"$f":"INT(AVERAGEIF('1...10 timeseries (HU)'!$A$3:$A$233,OAM_HU!$A5,'1...10 timeseries (HU)'!L$3:L$233))","v":14},1000,160,{"$f":"modell_HU!L76","v":1009.2},"?","?","?","?","?","?","?","?","?","?","?","?","?","?","?","?","?","?","?"]
[2007,"HU",{"$f":"INT(AVERAGEIF('1...10 timeseries (HU)'!$A$3:$A$233,OAM_HU!$A6,'1...10 timeseries (HU)'!C$3:C$233))","v":37},{"$f":"INT(AVERAGEIF('1...10 timeseries (HU)'!$A$3:$A$233,OAM_HU!$A6,'1...10 timeseries (HU)'!D$3:D$233))","v":2},{"$f":"INT(AVERAGEIF('1...10 timeseries (HU)'!$A$3:$A$233,OAM_HU!$A6,'1...10 timeseries (HU)'!E$3:E$233))","v":10},{"$f":"INT(AVERAGEIF('1...10 timeseries (HU)'!$A$3:$A$233,OAM_HU!$A6,'1...10 timeseries (HU)'!F$3:F$233))","v":9},{"$f":"INT(AVERAGEIF('1...10 timeseries (HU)'!$A$3:$A$233,OAM_HU!$A6,'1...10 timeseries (HU)'!G$3:G$233))","v":20},{"$f":"INT(AVERAGEIF('1...10 timeseries (HU)'!$A$3:$A$233,OAM_HU!$A6,'1...10 timeseries (HU)'!H$3:H$233))","v":49},{"$f":"INT(AVERAGEIF('1...10 timeseries (HU)'!$A$3:$A$233,OAM_HU!$A6,'1...10 timeseries (HU)'!I$3:I$233))","v":20},{"$f":"INT(AVERAGEIF('1...10 timeseries (HU)'!$A$3:$A$233,OAM_HU!$A6,'1...10 timeseries (HU)'!J$3:J$233))","v":4},{"$f":"INT(AVERAGEIF('1...10 timeseries (HU)'!$A$3:$A$233,OAM_HU!$A6,'1...10 timeseries (HU)'!K$3:K$233))","v":10},{"$f":"INT(AVERAGEIF('1...10 timeseries (HU)'!$A$3:$A$233,OAM_HU!$A6,'1...10 timeseries (HU)'!L$3:L$233))","v":18},1000,179,{"$f":"modell_HU!L77","v":960.7},"?","?","?","?","?","?","?","?","?","?","?","?","?","?","?","?","?","?","?"]
[2008,"HU",{"$f":"INT(AVERAGEIF('1...10 timeseries (HU)'!$A$3:$A$233,OAM_HU!$A7,'1...10 timeseries (HU)'!C$3:C$233))","v":37},{"$f":"INT(AVERAGEIF('1...10 timeseries (HU)'!$A$3:$A$233,OAM_HU!$A7,'1...10 timeseries (HU)'!D$3:D$233))","v":9},{"$f":"INT(AVERAGEIF('1...10 timeseries (HU)'!$A$3:$A$233,OAM_HU!$A7,'1...10 timeseries (HU)'!E$3:E$233))","v":10},{"$f":"INT(AVERAGEIF('1...10 timeseries (HU)'!$A$3:$A$233,OAM_HU!$A7,'1...10 timeseries (HU)'!F$3:F$233))","v":9},{"$f":"INT(AVERAGEIF('1...10 timeseries (HU)'!$A$3:$A$233,OAM_HU!$A7,'1...10 timeseries (HU)'!G$3:G$233))","v":22},{"$f":"INT(AVERAGEIF('1...10 timeseries (HU)'!$A$3:$A$233,OAM_HU!$A7,'1...10 timeseries (HU)'!H$3:H$233))","v":43},{"$f":"INT(AVERAGEIF('1...10 timeseries (HU)'!$A$3:$A$233,OAM_HU!$A7,'1...10 timeseries (HU)'!I$3:I$233))","v":24},{"$f":"INT(AVERAGEIF('1...10 timeseries (HU)'!$A$3:$A$233,OAM_HU!$A7,'1...10 timeseries (HU)'!J$3:J$233))","v":7},{"$f":"INT(AVERAGEIF('1...10 timeseries (HU)'!$A$3:$A$233,OAM_HU!$A7,'1...10 timeseries (HU)'!K$3:K$233))","v":10},{"$f":"INT(AVERAGEIF('1...10 timeseries (HU)'!$A$3:$A$233,OAM_HU!$A7,'1...10 timeseries (HU)'!L$3:L$233))","v":17},1000,188,{"$f":"modell_HU!L78","v":1009.2},"?","?","?","?","?","?","?","?","?","?","?","?","?","?","?","?","?","?","?"]
[2009,"HU",{"$f":"INT(AVERAGEIF('1...10 timeseries (HU)'!$A$3:$A$233,OAM_HU!$A8,'1...10 timeseries (HU)'!C$3:C$233))","v":37},{"$f":"INT(AVERAGEIF('1...10 timeseries (HU)'!$A$3:$A$233,OAM_HU!$A8,'1...10 timeseries (HU)'!D$3:D$233))","v":19},{"$f":"INT(AVERAGEIF('1...10 timeseries (HU)'!$A$3:$A$233,OAM_HU!$A8,'1...10 timeseries (HU)'!E$3:E$233))","v":12},{"$f":"INT(AVERAGEIF('1...10 timeseries (HU)'!$A$3:$A$233,OAM_HU!$A8,'1...10 timeseries (HU)'!F$3:F$233))","v":9},{"$f":"INT(AVERAGEIF('1...10 timeseries (HU)'!$A$3:$A$233,OAM_HU!$A8,'1...10 timeseries (HU)'!G$3:G$233))","v":22},{"$f":"INT(AVERAGEIF('1...10 timeseries (HU)'!$A$3:$A$233,OAM_HU!$A8,'1...10 timeseries (HU)'!H$3:H$233))","v":48},{"$f":"INT(AVERAGEIF('1...10 timeseries (HU)'!$A$3:$A$233,OAM_HU!$A8,'1...10 timeseries (HU)'!I$3:I$233))","v":24},{"$f":"INT(AVERAGEIF('1...10 timeseries (HU)'!$A$3:$A$233,OAM_HU!$A8,'1...10 timeseries (HU)'!J$3:J$233))","v":16},{"$f":"INT(AVERAGEIF('1...10 timeseries (HU)'!$A$3:$A$233,OAM_HU!$A8,'1...10 timeseries (HU)'!K$3:K$233))","v":11},{"$f":"INT(AVERAGEIF('1...10 timeseries (HU)'!$A$3:$A$233,OAM_HU!$A8,'1...10 timeseries (HU)'!L$3:L$233))","v":17},1000,215,{"$f":"modell_HU!L79","v":1009.2},"?","?","?","?","?","?","?","?","?","?","?","?","?","?","?","?","?","?","?"]
[2010,"HU",{"$f":"INT(AVERAGEIF('1...10 timeseries (HU)'!$A$3:$A$233,OAM_HU!$A9,'1...10 timeseries (HU)'!C$3:C$233))","v":38},{"$f":"INT(AVERAGEIF('1...10 timeseries (HU)'!$A$3:$A$233,OAM_HU!$A9,'1...10 timeseries (HU)'!D$3:D$233))","v":28},{"$f":"INT(AVERAGEIF('1...10 timeseries (HU)'!$A$3:$A$233,OAM_HU!$A9,'1...10 timeseries (HU)'!E$3:E$233))","v":14},{"$f":"INT(AVERAGEIF('1...10 timeseries (HU)'!$A$3:$A$233,OAM_HU!$A9,'1...10 timeseries (HU)'!F$3:F$233))","v":12},{"$f":"INT(AVERAGEIF('1...10 timeseries (HU)'!$A$3:$A$233,OAM_HU!$A9,'1...10 timeseries (HU)'!G$3:G$233))","v":24},{"$f":"INT(AVERAGEIF('1...10 timeseries (HU)'!$A$3:$A$233,OAM_HU!$A9,'1...10 timeseries (HU)'!H$3:H$233))","v":43},{"$f":"INT(AVERAGEIF('1...10 timeseries (HU)'!$A$3:$A$233,OAM_HU!$A9,'1...10 timeseries (HU)'!I$3:I$233))","v":23},{"$f":"INT(AVERAGEIF('1...10 timeseries (HU)'!$A$3:$A$233,OAM_HU!$A9,'1...10 timeseries (HU)'!J$3:J$233))","v":20},{"$f":"INT(AVERAGEIF('1...10 timeseries (HU)'!$A$3:$A$233,OAM_HU!$A9,'1...10 timeseries (HU)'!K$3:K$233))","v":16},{"$f":"INT(AVERAGEIF('1...10 timeseries (HU)'!$A$3:$A$233,OAM_HU!$A9,'1...10 timeseries (HU)'!L$3:L$233))","v":22},1000,240,{"$f":"modell_HU!L80","v":1009.2},"?","?","?","?","?","?","?","?","?","?","?","?","?","?","?","?","?","?","?"]
[2011,"HU",{"$f":"INT(AVERAGEIF('1...10 timeseries (HU)'!$A$3:$A$233,OAM_HU!$A10,'1...10 timeseries (HU)'!C$3:C$233))","v":41},{"$f":"INT(AVERAGEIF('1...10 timeseries (HU)'!$A$3:$A$233,OAM_HU!$A10,'1...10 timeseries (HU)'!D$3:D$233))","v":35},{"$f":"INT(AVERAGEIF('1...10 timeseries (HU)'!$A$3:$A$233,OAM_HU!$A10,'1...10 timeseries (HU)'!E$3:E$233))","v":13},{"$f":"INT(AVERAGEIF('1...10 timeseries (HU)'!$A$3:$A$233,OAM_HU!$A10,'1...10 timeseries (HU)'!F$3:F$233))","v":15},{"$f":"INT(AVERAGEIF('1...10 timeseries (HU)'!$A$3:$A$233,OAM_HU!$A10,'1...10 timeseries (HU)'!G$3:G$233))","v":27},{"$f":"INT(AVERAGEIF('1...10 timeseries (HU)'!$A$3:$A$233,OAM_HU!$A10,'1...10 timeseries (HU)'!H$3:H$233))","v":46},{"$f":"INT(AVERAGEIF('1...10 timeseries (HU)'!$A$3:$A$233,OAM_HU!$A10,'1...10 timeseries (HU)'!I$3:I$233))","v":22},{"$f":"INT(AVERAGEIF('1...10 timeseries (HU)'!$A$3:$A$233,OAM_HU!$A10,'1...10 timeseries (HU)'!J$3:J$233))","v":32},{"$f":"INT(AVERAGEIF('1...10 timeseries (HU)'!$A$3:$A$233,OAM_HU!$A10,'1...10 timeseries (HU)'!K$3:K$233))","v":18},{"$f":"INT(AVERAGEIF('1...10 timeseries (HU)'!$A$3:$A$233,OAM_HU!$A10,'1...10 timeseries (HU)'!L$3:L$233))","v":29},1000,278,{"$f":"modell_HU!L81","v":1009.2},"?","?","?","?","?","?","?","?","?","?","?","?","?","?","?","?","?","?","?"]
[2012,"HU",{"$f":"INT(AVERAGEIF('1...10 timeseries (HU)'!$A$3:$A$233,OAM_HU!$A11,'1...10 timeseries (HU)'!C$3:C$233))","v":40},{"$f":"INT(AVERAGEIF('1...10 timeseries (HU)'!$A$3:$A$233,OAM_HU!$A11,'1...10 timeseries (HU)'!D$3:D$233))","v":65},{"$f":"INT(AVERAGEIF('1...10 timeseries (HU)'!$A$3:$A$233,OAM_HU!$A11,'1...10 timeseries (HU)'!E$3:E$233))","v":15},{"$f":"INT(AVERAGEIF('1...10 timeseries (HU)'!$A$3:$A$233,OAM_HU!$A11,'1...10 timeseries (HU)'!F$3:F$233))","v":20},{"$f":"INT(AVERAGEIF('1...10 timeseries (HU)'!$A$3:$A$233,OAM_HU!$A11,'1...10 timeseries (HU)'!G$3:G$233))","v":25},{"$f":"INT(AVERAGEIF('1...10 timeseries (HU)'!$A$3:$A$233,OAM_HU!$A11,'1...10 timeseries (HU)'!H$3:H$233))","v":42},{"$f":"INT(AVERAGEIF('1...10 timeseries (HU)'!$A$3:$A$233,OAM_HU!$A11,'1...10 timeseries (HU)'!I$3:I$233))","v":23},{"$f":"INT(AVERAGEIF('1...10 timeseries (HU)'!$A$3:$A$233,OAM_HU!$A11,'1...10 timeseries (HU)'!J$3:J$233))","v":59},{"$f":"INT(AVERAGEIF('1...10 timeseries (HU)'!$A$3:$A$233,OAM_HU!$A11,'1...10 timeseries (HU)'!K$3:K$233))","v":23},{"$f":"INT(AVERAGEIF('1...10 timeseries (HU)'!$A$3:$A$233,OAM_HU!$A11,'1...10 timeseries (HU)'!L$3:L$233))","v":33},1000,345,{"$f":"modell_HU!L82","v":963.7},"?","?","?","?","?","?","?","?","?","?","?","?","?","?","?","?","?","?","?"]
[2013,"HU",{"$f":"INT(AVERAGEIF('1...10 timeseries (HU)'!$A$3:$A$233,OAM_HU!$A12,'1...10 timeseries (HU)'!C$3:C$233))","v":40},{"$f":"INT(AVERAGEIF('1...10 timeseries (HU)'!$A$3:$A$233,OAM_HU!$A12,'1...10 timeseries (HU)'!D$3:D$233))","v":61},{"$f":"INT(AVERAGEIF('1...10 timeseries (HU)'!$A$3:$A$233,OAM_HU!$A12,'1...10 timeseries (HU)'!E$3:E$233))","v":14},{"$f":"INT(AVERAGEIF('1...10 timeseries (HU)'!$A$3:$A$233,OAM_HU!$A12,'1...10 timeseries (HU)'!F$3:F$233))","v":27},{"$f":"INT(AVERAGEIF('1...10 timeseries (HU)'!$A$3:$A$233,OAM_HU!$A12,'1...10 timeseries (HU)'!G$3:G$233))","v":24},{"$f":"INT(AVERAGEIF('1...10 timeseries (HU)'!$A$3:$A$233,OAM_HU!$A12,'1...10 timeseries (HU)'!H$3:H$233))","v":35},{"$f":"INT(AVERAGEIF('1...10 timeseries (HU)'!$A$3:$A$233,OAM_HU!$A12,'1...10 timeseries (HU)'!I$3:I$233))","v":27},{"$f":"INT(AVERAGEIF('1...10 timeseries (HU)'!$A$3:$A$233,OAM_HU!$A12,'1...10 timeseries (HU)'!J$3:J$233))","v":64},{"$f":"INT(AVERAGEIF('1...10 timeseries (HU)'!$A$3:$A$233,OAM_HU!$A12,'1...10 timeseries (HU)'!K$3:K$233))","v":26},{"$f":"INT(AVERAGEIF('1...10 timeseries (HU)'!$A$3:$A$233,OAM_HU!$A12,'1...10 timeseries (HU)'!L$3:L$233))","v":35},1000,353,{"$f":"modell_HU!L83","v":960.7},"?","?","?","?","?","?","?","?","?","?","?","?","?","?","?","?","?","?","?"]
[2014,"HU",{"$f":"INT(AVERAGEIF('1...10 timeseries (HU)'!$A$3:$A$233,OAM_HU!$A13,'1...10 timeseries (HU)'!C$3:C$233))","v":41},{"$f":"INT(AVERAGEIF('1...10 timeseries (HU)'!$A$3:$A$233,OAM_HU!$A13,'1...10 timeseries (HU)'!D$3:D$233))","v":59},{"$f":"INT(AVERAGEIF('1...10 timeseries (HU)'!$A$3:$A$233,OAM_HU!$A13,'1...10 timeseries (HU)'!E$3:E$233))","v":17},{"$f":"INT(AVERAGEIF('1...10 timeseries (HU)'!$A$3:$A$233,OAM_HU!$A13,'1...10 timeseries (HU)'!F$3:F$233))","v":31},{"$f":"INT(AVERAGEIF('1...10 timeseries (HU)'!$A$3:$A$233,OAM_HU!$A13,'1...10 timeseries (HU)'!G$3:G$233))","v":28},{"$f":"INT(AVERAGEIF('1...10 timeseries (HU)'!$A$3:$A$233,OAM_HU!$A13,'1...10 timeseries (HU)'!H$3:H$233))","v":29},{"$f":"INT(AVERAGEIF('1...10 timeseries (HU)'!$A$3:$A$233,OAM_HU!$A13,'1...10 timeseries (HU)'!I$3:I$233))","v":40},{"$f":"INT(AVERAGEIF('1...10 timeseries (HU)'!$A$3:$A$233,OAM_HU!$A13,'1...10 timeseries (HU)'!J$3:J$233))","v":63},{"$f":"INT(AVERAGEIF('1...10 timeseries (HU)'!$A$3:$A$233,OAM_HU!$A13,'1...10 timeseries (HU)'!K$3:K$233))","v":30},{"$f":"INT(AVERAGEIF('1...10 timeseries (HU)'!$A$3:$A$233,OAM_HU!$A13,'1...10 timeseries (HU)'!L$3:L$233))","v":36},1000,374,{"$f":"modell_HU!L84","v":967.3},"?","?","?","?","?","?","?","?","?","?","?","?","?","?","?","?","?","?","?"]
[2015,"HU",{"$f":"INT(AVERAGEIF('1...10 timeseries (HU)'!$A$3:$A$233,OAM_HU!$A14,'1...10 timeseries (HU)'!C$3:C$233))","v":46},{"$f":"INT(AVERAGEIF('1...10 timeseries (HU)'!$A$3:$A$233,OAM_HU!$A14,'1...10 timeseries (HU)'!D$3:D$233))","v":61},{"$f":"INT(AVERAGEIF('1...10 timeseries (HU)'!$A$3:$A$233,OAM_HU!$A14,'1...10 timeseries (HU)'!E$3:E$233))","v":25},{"$f":"INT(AVERAGEIF('1...10 timeseries (HU)'!$A$3:$A$233,OAM_HU!$A14,'1...10 timeseries (HU)'!F$3:F$233))","v":49},{"$f":"INT(AVERAGEIF('1...10 timeseries (HU)'!$A$3:$A$233,OAM_HU!$A14,'1...10 timeseries (HU)'!G$3:G$233))","v":31},{"$f":"INT(AVERAGEIF('1...10 timeseries (HU)'!$A$3:$A$233,OAM_HU!$A14,'1...10 timeseries (HU)'!H$3:H$233))","v":29},{"$f":"INT(AVERAGEIF('1...10 timeseries (HU)'!$A$3:$A$233,OAM_HU!$A14,'1...10 timeseries (HU)'!I$3:I$233))","v":38},{"$f":"INT(AVERAGEIF('1...10 timeseries (HU)'!$A$3:$A$233,OAM_HU!$A14,'1...10 timeseries (HU)'!J$3:J$233))","v":62},{"$f":"INT(AVERAGEIF('1...10 timeseries (HU)'!$A$3:$A$233,OAM_HU!$A14,'1...10 timeseries (HU)'!K$3:K$233))","v":32},{"$f":"INT(AVERAGEIF('1...10 timeseries (HU)'!$A$3:$A$233,OAM_HU!$A14,'1...10 timeseries (HU)'!L$3:L$233))","v":42},1000,415,{"$f":"modell_HU!L85","v":965.3},"?","?","?","?","?","?","?","?","?","?","?","?","?","?","?","?","?","?","?"]
[2016,"HU",{"$f":"INT(AVERAGEIF('1...10 timeseries (HU)'!$A$3:$A$233,OAM_HU!$A15,'1...10 timeseries (HU)'!C$3:C$233))","v":62},{"$f":"INT(AVERAGEIF('1...10 timeseries (HU)'!$A$3:$A$233,OAM_HU!$A15,'1...10 timeseries (HU)'!D$3:D$233))","v":61},{"$f":"INT(AVERAGEIF('1...10 timeseries (HU)'!$A$3:$A$233,OAM_HU!$A15,'1...10 timeseries (HU)'!E$3:E$233))","v":30},{"$f":"INT(AVERAGEIF('1...10 timeseries (HU)'!$A$3:$A$233,OAM_HU!$A15,'1...10 timeseries (HU)'!F$3:F$233))","v":59},{"$f":"INT(AVERAGEIF('1...10 timeseries (HU)'!$A$3:$A$233,OAM_HU!$A15,'1...10 timeseries (HU)'!G$3:G$233))","v":32},{"$f":"INT(AVERAGEIF('1...10 timeseries (HU)'!$A$3:$A$233,OAM_HU!$A15,'1...10 timeseries (HU)'!H$3:H$233))","v":26},{"$f":"INT(AVERAGEIF('1...10 timeseries (HU)'!$A$3:$A$233,OAM_HU!$A15,'1...10 timeseries (HU)'!I$3:I$233))","v":36},{"$f":"INT(AVERAGEIF('1...10 timeseries (HU)'!$A$3:$A$233,OAM_HU!$A15,'1...10 timeseries (HU)'!J$3:J$233))","v":54},{"$f":"INT(AVERAGEIF('1...10 timeseries (HU)'!$A$3:$A$233,OAM_HU!$A15,'1...10 timeseries (HU)'!K$3:K$233))","v":38},{"$f":"INT(AVERAGEIF('1...10 timeseries (HU)'!$A$3:$A$233,OAM_HU!$A15,'1...10 timeseries (HU)'!L$3:L$233))","v":57},1000,455,{"$f":"modell_HU!L86","v":967.3},"?","?","?","?","?","?","?","?","?","?","?","?","?","?","?","?","?","?","?"]
[2017,"HU",{"$f":"INT(AVERAGEIF('1...10 timeseries (HU)'!$A$3:$A$233,OAM_HU!$A16,'1...10 timeseries (HU)'!C$3:C$233))","v":62},{"$f":"INT(AVERAGEIF('1...10 timeseries (HU)'!$A$3:$A$233,OAM_HU!$A16,'1...10 timeseries (HU)'!D$3:D$233))","v":79},{"$f":"INT(AVERAGEIF('1...10 timeseries (HU)'!$A$3:$A$233,OAM_HU!$A16,'1...10 timeseries (HU)'!E$3:E$233))","v":38},{"$f":"INT(AVERAGEIF('1...10 timeseries (HU)'!$A$3:$A$233,OAM_HU!$A16,'1...10 timeseries (HU)'!F$3:F$233))","v":64},{"$f":"INT(AVERAGEIF('1...10 timeseries (HU)'!$A$3:$A$233,OAM_HU!$A16,'1...10 timeseries (HU)'!G$3:G$233))","v":34},{"$f":"INT(AVERAGEIF('1...10 timeseries (HU)'!$A$3:$A$233,OAM_HU!$A16,'1...10 timeseries (HU)'!H$3:H$233))","v":28},{"$f":"INT(AVERAGEIF('1...10 timeseries (HU)'!$A$3:$A$233,OAM_HU!$A16,'1...10 timeseries (HU)'!I$3:I$233))","v":36},{"$f":"INT(AVERAGEIF('1...10 timeseries (HU)'!$A$3:$A$233,OAM_HU!$A16,'1...10 timeseries (HU)'!J$3:J$233))","v":61},{"$f":"INT(AVERAGEIF('1...10 timeseries (HU)'!$A$3:$A$233,OAM_HU!$A16,'1...10 timeseries (HU)'!K$3:K$233))","v":46},{"$f":"INT(AVERAGEIF('1...10 timeseries (HU)'!$A$3:$A$233,OAM_HU!$A16,'1...10 timeseries (HU)'!L$3:L$233))","v":66},1000,514,{"$f":"modell_HU!L87","v":968.8},"?","?","?","?","?","?","?","?","?","?","?","?","?","?","?","?","?","?","?"]
[2018,"HU",{"$f":"INT(AVERAGEIF('1...10 timeseries (HU)'!$A$3:$A$233,OAM_HU!$A17,'1...10 timeseries (HU)'!C$3:C$233))","v":70},{"$f":"INT(AVERAGEIF('1...10 timeseries (HU)'!$A$3:$A$233,OAM_HU!$A17,'1...10 timeseries (HU)'!D$3:D$233))","v":74},{"$f":"INT(AVERAGEIF('1...10 timeseries (HU)'!$A$3:$A$233,OAM_HU!$A17,'1...10 timeseries (HU)'!E$3:E$233))","v":49},{"$f":"INT(AVERAGEIF('1...10 timeseries (HU)'!$A$3:$A$233,OAM_HU!$A17,'1...10 timeseries (HU)'!F$3:F$233))","v":70},{"$f":"INT(AVERAGEIF('1...10 timeseries (HU)'!$A$3:$A$233,OAM_HU!$A17,'1...10 timeseries (HU)'!G$3:G$233))","v":40},{"$f":"INT(AVERAGEIF('1...10 timeseries (HU)'!$A$3:$A$233,OAM_HU!$A17,'1...10 timeseries (HU)'!H$3:H$233))","v":30},{"$f":"INT(AVERAGEIF('1...10 timeseries (HU)'!$A$3:$A$233,OAM_HU!$A17,'1...10 timeseries (HU)'!I$3:I$233))","v":38},{"$f":"INT(AVERAGEIF('1...10 timeseries (HU)'!$A$3:$A$233,OAM_HU!$A17,'1...10 timeseries (HU)'!J$3:J$233))","v":69},{"$f":"INT(AVERAGEIF('1...10 timeseries (HU)'!$A$3:$A$233,OAM_HU!$A17,'1...10 timeseries (HU)'!K$3:K$233))","v":56},{"$f":"INT(AVERAGEIF('1...10 timeseries (HU)'!$A$3:$A$233,OAM_HU!$A17,'1...10 timeseries (HU)'!L$3:L$233))","v":67},1000,563,{"$f":"modell_HU!L88","v":1013.2},"?","?","?","?","?","?","?","?","?","?","?","?","?","?","?","?","?","?","?"]
[2019,"HU",{"$f":"INT(AVERAGEIF('1...10 timeseries (HU)'!$A$3:$A$233,OAM_HU!$A18,'1...10 timeseries (HU)'!C$3:C$233))","v":74},{"$f":"INT(AVERAGEIF('1...10 timeseries (HU)'!$A$3:$A$233,OAM_HU!$A18,'1...10 timeseries (HU)'!D$3:D$233))","v":81},{"$f":"INT(AVERAGEIF('1...10 timeseries (HU)'!$A$3:$A$233,OAM_HU!$A18,'1...10 timeseries (HU)'!E$3:E$233))","v":54},{"$f":"INT(AVERAGEIF('1...10 timeseries (HU)'!$A$3:$A$233,OAM_HU!$A18,'1...10 timeseries (HU)'!F$3:F$233))","v":78},{"$f":"INT(AVERAGEIF('1...10 timeseries (HU)'!$A$3:$A$233,OAM_HU!$A18,'1...10 timeseries (HU)'!G$3:G$233))","v":45},{"$f":"INT(AVERAGEIF('1...10 timeseries (HU)'!$A$3:$A$233,OAM_HU!$A18,'1...10 timeseries (HU)'!H$3:H$233))","v":33},{"$f":"INT(AVERAGEIF('1...10 timeseries (HU)'!$A$3:$A$233,OAM_HU!$A18,'1...10 timeseries (HU)'!I$3:I$233))","v":44},{"$f":"INT(AVERAGEIF('1...10 timeseries (HU)'!$A$3:$A$233,OAM_HU!$A18,'1...10 timeseries (HU)'!J$3:J$233))","v":74},{"$f":"INT(AVERAGEIF('1...10 timeseries (HU)'!$A$3:$A$233,OAM_HU!$A18,'1...10 timeseries (HU)'!K$3:K$233))","v":67},{"$f":"INT(AVERAGEIF('1...10 timeseries (HU)'!$A$3:$A$233,OAM_HU!$A18,'1...10 timeseries (HU)'!L$3:L$233))","v":74},1000,624,{"$f":"modell_HU!L89","v":1032.4000000000001},"?","?","?","?","?","?","?","?","?","?","?","?","?","?","?","?","?","?","?"]
[2020,"HU",{"$f":"INT(AVERAGEIF('1...10 timeseries (HU)'!$A$3:$A$233,OAM_HU!$A19,'1...10 timeseries (HU)'!C$3:C$233))","v":66},{"$f":"INT(AVERAGEIF('1...10 timeseries (HU)'!$A$3:$A$233,OAM_HU!$A19,'1...10 timeseries (HU)'!D$3:D$233))","v":76},{"$f":"INT(AVERAGEIF('1...10 timeseries (HU)'!$A$3:$A$233,OAM_HU!$A19,'1...10 timeseries (HU)'!E$3:E$233))","v":58},{"$f":"INT(AVERAGEIF('1...10 timeseries (HU)'!$A$3:$A$233,OAM_HU!$A19,'1...10 timeseries (HU)'!F$3:F$233))","v":75},{"$f":"INT(AVERAGEIF('1...10 timeseries (HU)'!$A$3:$A$233,OAM_HU!$A19,'1...10 timeseries (HU)'!G$3:G$233))","v":42},{"$f":"INT(AVERAGEIF('1...10 timeseries (HU)'!$A$3:$A$233,OAM_HU!$A19,'1...10 timeseries (HU)'!H$3:H$233))","v":32},{"$f":"INT(AVERAGEIF('1...10 timeseries (HU)'!$A$3:$A$233,OAM_HU!$A19,'1...10 timeseries (HU)'!I$3:I$233))","v":45},{"$f":"INT(AVERAGEIF('1...10 timeseries (HU)'!$A$3:$A$233,OAM_HU!$A19,'1...10 timeseries (HU)'!J$3:J$233))","v":64},{"$f":"INT(AVERAGEIF('1...10 timeseries (HU)'!$A$3:$A$233,OAM_HU!$A19,'1...10 timeseries (HU)'!K$3:K$233))","v":62},{"$f":"INT(AVERAGEIF('1...10 timeseries (HU)'!$A$3:$A$233,OAM_HU!$A19,'1...10 timeseries (HU)'!L$3:L$233))","v":66},1000,586,{"$f":"modell_HU!L90","v":1005.1},"?","?","?","?","?","?","?","?","?","?","?","?","?","?","?","?","?","?","?"]
[2021,"HU",{"$f":"INT(AVERAGEIF('1...10 timeseries (HU)'!$A$3:$A$233,OAM_HU!$A20,'1...10 timeseries (HU)'!C$3:C$233))","v":63},{"$f":"INT(AVERAGEIF('1...10 timeseries (HU)'!$A$3:$A$233,OAM_HU!$A20,'1...10 timeseries (HU)'!D$3:D$233))","v":69},{"$f":"INT(AVERAGEIF('1...10 timeseries (HU)'!$A$3:$A$233,OAM_HU!$A20,'1...10 timeseries (HU)'!E$3:E$233))","v":61},{"$f":"INT(AVERAGEIF('1...10 timeseries (HU)'!$A$3:$A$233,OAM_HU!$A20,'1...10 timeseries (HU)'!F$3:F$233))","v":62},{"$f":"INT(AVERAGEIF('1...10 timeseries (HU)'!$A$3:$A$233,OAM_HU!$A20,'1...10 timeseries (HU)'!G$3:G$233))","v":51},{"$f":"INT(AVERAGEIF('1...10 timeseries (HU)'!$A$3:$A$233,OAM_HU!$A20,'1...10 timeseries (HU)'!H$3:H$233))","v":33},{"$f":"INT(AVERAGEIF('1...10 timeseries (HU)'!$A$3:$A$233,OAM_HU!$A20,'1...10 timeseries (HU)'!I$3:I$233))","v":48},{"$f":"INT(AVERAGEIF('1...10 timeseries (HU)'!$A$3:$A$233,OAM_HU!$A20,'1...10 timeseries (HU)'!J$3:J$233))","v":60},{"$f":"INT(AVERAGEIF('1...10 timeseries (HU)'!$A$3:$A$233,OAM_HU!$A20,'1...10 timeseries (HU)'!K$3:K$233))","v":66},{"$f":"INT(AVERAGEIF('1...10 timeseries (HU)'!$A$3:$A$233,OAM_HU!$A20,'1...10 timeseries (HU)'!L$3:L$233))","v":67},1000,580,{"$f":"modell_HU!L91","v":1016.7},"?","?","?","?","?","?","?","?","?","?","?","?","?","?","?","?","?","?","?"]
[2022,"HU",{"$f":"INT(AVERAGEIF('1...10 timeseries (HU)'!$A$3:$A$233,OAM_HU!$A21,'1...10 timeseries (HU)'!C$3:C$233))","v":70},{"$f":"INT(AVERAGEIF('1...10 timeseries (HU)'!$A$3:$A$233,OAM_HU!$A21,'1...10 timeseries (HU)'!D$3:D$233))","v":57},{"$f":"INT(AVERAGEIF('1...10 timeseries (HU)'!$A$3:$A$233,OAM_HU!$A21,'1...10 timeseries (HU)'!E$3:E$233))","v":72},{"$f":"INT(AVERAGEIF('1...10 timeseries (HU)'!$A$3:$A$233,OAM_HU!$A21,'1...10 timeseries (HU)'!F$3:F$233))","v":57},{"$f":"INT(AVERAGEIF('1...10 timeseries (HU)'!$A$3:$A$233,OAM_HU!$A21,'1...10 timeseries (HU)'!G$3:G$233))","v":63},{"$f":"INT(AVERAGEIF('1...10 timeseries (HU)'!$A$3:$A$233,OAM_HU!$A21,'1...10 timeseries (HU)'!H$3:H$233))","v":41},{"$f":"INT(AVERAGEIF('1...10 timeseries (HU)'!$A$3:$A$233,OAM_HU!$A21,'1...10 timeseries (HU)'!I$3:I$233))","v":70},{"$f":"INT(AVERAGEIF('1...10 timeseries (HU)'!$A$3:$A$233,OAM_HU!$A21,'1...10 timeseries (HU)'!J$3:J$233))","v":60},{"$f":"INT(AVERAGEIF('1...10 timeseries (HU)'!$A$3:$A$233,OAM_HU!$A21,'1...10 timeseries (HU)'!K$3:K$233))","v":71},{"$f":"INT(AVERAGEIF('1...10 timeseries (HU)'!$A$3:$A$233,OAM_HU!$A21,'1...10 timeseries (HU)'!L$3:L$233))","v":77},1000,638,{"$f":"modell_HU!L92","v":1049.5},"?","?","?","?","?","?","?","?","?","?","?","?","?","?","?","?","?","?","?"]
[2023,"HU",{"$f":"INT(AVERAGEIF('1...10 timeseries (HU)'!$A$3:$A$233,OAM_HU!$A22,'1...10 timeseries (HU)'!C$3:C$233))","v":80},{"$f":"INT(AVERAGEIF('1...10 timeseries (HU)'!$A$3:$A$233,OAM_HU!$A22,'1...10 timeseries (HU)'!D$3:D$233))","v":51},{"$f":"INT(AVERAGEIF('1...10 timeseries (HU)'!$A$3:$A$233,OAM_HU!$A22,'1...10 timeseries (HU)'!E$3:E$233))","v":69},{"$f":"INT(AVERAGEIF('1...10 timeseries (HU)'!$A$3:$A$233,OAM_HU!$A22,'1...10 timeseries (HU)'!F$3:F$233))","v":47},{"$f":"INT(AVERAGEIF('1...10 timeseries (HU)'!$A$3:$A$233,OAM_HU!$A22,'1...10 timeseries (HU)'!G$3:G$233))","v":56},{"$f":"INT(AVERAGEIF('1...10 timeseries (HU)'!$A$3:$A$233,OAM_HU!$A22,'1...10 timeseries (HU)'!H$3:H$233))","v":43},{"$f":"INT(AVERAGEIF('1...10 timeseries (HU)'!$A$3:$A$233,OAM_HU!$A22,'1...10 timeseries (HU)'!I$3:I$233))","v":83},{"$f":"INT(AVERAGEIF('1...10 timeseries (HU)'!$A$3:$A$233,OAM_HU!$A22,'1...10 timeseries (HU)'!J$3:J$233))","v":51},{"$f":"INT(AVERAGEIF('1...10 timeseries (HU)'!$A$3:$A$233,OAM_HU!$A22,'1...10 timeseries (HU)'!K$3:K$233))","v":62},{"$f":"INT(AVERAGEIF('1...10 timeseries (HU)'!$A$3:$A$233,OAM_HU!$A22,'1...10 timeseries (HU)'!L$3:L$233))","v":72},1000,614,{"$f":"modell_HU!L93","v":1065.2},"?","?","?","?","?","?","?","?","?","?","?","?","?","?","?","?","?","?","?"]
[]
[null,null,{"$f":"C2","v":{"$error":"#REF!"}},{"$f":"D2","v":"Bershka"},{"$error":"#REF!"},{"$error":"#REF!"},"Calvin Klein",{"$error":"#REF!"},{"$error":"#REF!"},"H&M",{"$error":"#REF!"},{"$error":"#REF!"},"Y0"]
[{"$f":"A3","v":2004},{"$f":"B3","v":"HU"},{"$f":"RANK(C3,C$3:C$22,C$1)","v":20},{"$f":"RANK(D3,D$3:D$22,D$1)","v":19},16,20,19,18,20,18,18,20,{"$f":"M3","v":1000}]
[{"$f":"A4","v":2005},"HU",{"$f":"RANK(C4,C$3:C$22,C$1)","v":19},17,16,19,20,20,19,20,18,19,{"$f":"M4","v":1000}]
[{"$f":"A5","v":2006},"HU",{"$f":"RANK(C5,C$3:C$22,C$1)","v":14},20,16,15,18,9,16,19,20,18,1000]
[{"$f":"A6","v":2007},"HU",{"$f":"RANK(C6,C$3:C$22,C$1)","v":16},18,16,15,17,1,18,17,16,15,1000]
[{"$f":"A7","v":2008},"HU",{"$f":"RANK(C7,C$3:C$22,C$1)","v":16},16,16,15,15,4,12,16,16,16,1000]
[{"$f":"A8","v":2009},"HU",{"$f":"RANK(C8,C$3:C$22,C$1)","v":16},15,15,15,15,2,12,15,15,16,1000]
[{"$f":"A9","v":2010},"HU",{"$f":"RANK(C9,C$3:C$22,C$1)","v":15},14,12,14,13,4,14,14,14,14,1000]
[{"$f":"A10","v":2011},"HU",{"$f":"RANK(C10,C$3:C$22,C$1)","v":10},13,14,13,11,3,16,13,13,13,1000]
[{"$f":"A11","v":2012},"HU",{"$f":"RANK(C11,C$3:C$22,C$1)","v":12},6,11,12,12,7,14,10,12,12,1000]
[{"$f":"A12","v":2013},"HU",{"$f":"RANK(C12,C$3:C$22,C$1)","v":12},7,12,11,13,10,11,3,11,11,1000]
[{"$f":"A13","v":2014},"HU",{"$f":"RANK(C13,C$3:C$22,C$1)","v":10},10,10,10,10,15,6,5,10,10,1000]
[{"$f":"A14","v":2015},"HU",{"$f":"RANK(C14,C$3:C$22,C$1)","v":9},7,9,8,9,15,7,6,9,9,1000]
[{"$f":"A15","v":2016},"HU",{"$f":"RANK(C15,C$3:C$22,C$1)","v":7},7,8,6,8,19,9,11,8,8,1000]
[{"$f":"A16","v":2017},"HU",{"$f":"RANK(C16,C$3:C$22,C$1)","v":7},2,7,4,7,17,9,7,7,6,1000]
[{"$f":"A17","v":2018},"HU",{"$f":"RANK(C17,C$3:C$22,C$1)","v":3},4,6,3,6,14,7,2,6,4,1000]
[{"$f":"A18","v":2019},"HU",{"$f":"RANK(C18,C$3:C$22,C$1)","v":2},1,5,1,4,11,5,1,2,2,1000]
[{"$f":"A19","v":2020},"HU",{"$f":"RANK(C19,C$3:C$22,C$1)","v":5},3,4,2,5,13,4,3,4,6,1000]
[{"$f":"A20","v":2021},"HU",{"$f":"RANK(C20,C$3:C$22,C$1)","v":6},5,3,5,3,11,3,8,3,4,1000]
[{"$f":"A21","v":2022},"HU",{"$f":"RANK(C21,C$3:C$22,C$1)","v":3},11,1,7,1,8,2,8,1,1,1000]
[{"$f":"A22","v":2023},"HU",{"$f":"RANK(C22,C$3:C$22,C$1)","v":1},12,2,9,2,4,1,12,4,3,1000]

{"sheet":"modell_HU","index":56,"n_rows":107,"n_cols":15,"rows_kept":107,"cut":false,"hidden":false,"merged":[]}
[null,null,null,null,"https://miau.my","x.hu/myx","free/coco/beker_y0.php"]
[]
[]
[]
["Azonosító:",3176042,"Objektumok:",20,"Attribútumok:",10,"Lépcsôk:",20,"Eltolás:",0,"Leírás:","COCO Y0: 3176042"]
[]
["Rangsor","X(A1)","X(A2)","X(A3)","X(A4)","X(A5)","X(A6)","X(A7)","X(A8)","X(A9)","X(A10)","Y(A11)"]
["O1",20,19,12,1,9,20,10,3,11,2,1000]
["O2",19,19,4,12,15,19,19,19,11,1,1000]
["O3",14,16,2,19,13,18,15,1,9,4,1000]
["O4",17,18,5,12,15,12,16,7,14,4,1000]
["O5",15,12,6,19,15,3,19,11,14,3,1000]
["O6",17,12,6,12,20,1,16,11,3,4,1000]
["O7",15,14,10,8,18,2,16,11,9,4,1000]
["O8",11,16,14,9,18,3,14,19,1,9,1000]
["O9",12,14,13,12,14,6,12,11,11,9,1000]
["O10",12,11,17,18,12,8,12,7,14,9,1000]
["O11",10,6,18,12,10,9,10,11,14,9,1000]
["O12",9,7,20,12,10,10,9,11,14,9,1000]
["O13",8,9,18,9,8,13,8,11,14,9,1000]
["O14",7,10,16,9,7,14,7,11,14,9,1000]
["O15",3,7,14,7,5,14,6,7,5,9,1000]
["O16",2,5,10,3,3,14,5,5,2,9,1000]
["O17",5,4,9,5,6,17,3,5,3,9,1000]
["O18",6,3,6,5,3,11,4,7,6,9,1000]
["O19",4,2,3,3,1,7,2,3,6,9,1000]
["O20",1,1,1,1,2,5,1,2,6,4,1000]
[]
["Lépcsôk(1)","X(A1)","X(A2)","X(A3)","X(A4)","X(A5)","X(A6)","X(A7)","X(A8)","X(A9)","X(A10)"]
["S1","(19.2+19.2)/(2)=19.15","(19.2+19.2)/(2)=19.15","(19.2+19.2)/(2)=19.15","(19.2+19.2)/(2)=19.15","(74.7+52.5)/(2)=63.6","(895.1+73.7)/(2)=484.4","(19.2+31.3)/(2)=25.25","(107+55.5)/(2)=81.25","(53.5+869.9)/(2)=461.7","(134.2+110)/(2)=122.1"]
["S2","(18.2+18.2)/(2)=18.15","(18.2+18.2)/(2)=18.15","(18.2+18.2)/(2)=18.15","(18.2+18.2)/(2)=18.15","(57.5+51.5)/(2)=54.5","(894.1+72.7)/(2)=483.4","(18.2+30.3)/(2)=24.2","(18.2+18.2)/(2)=18.15","(52.5+846.7)/(2)=449.6","(101.9+59.5)/(2)=80.75"]
["S3","(17.2+17.2)/(2)=17.15","(17.2+17.2)/(2)=17.15","(17.2+17.2)/(2)=17.15","(17.2+17.2)/(2)=17.15","(56.5+50.5)/(2)=53.5","(865.9+71.7)/(2)=468.75","(17.2+29.3)/(2)=23.2","(17.2+17.2)/(2)=17.15","(51.5+845.7)/(2)=448.55","(54.5+32.3)/(2)=43.4"]
["S4","(16.1+16.1)/(2)=16.15","(16.1+16.1)/(2)=16.15","(16.1+16.1)/(2)=16.15","(16.1+16.1)/(2)=16.15","(55.5+49.4)/(2)=52.5","(864.8+70.6)/(2)=467.75","(16.1+28.3)/(2)=22.2","(16.1+16.1)/(2)=16.15","(50.5+844.7)/(2)=447.55","(16.1+31.3)/(2)=23.7"]
["S5","(15.1+15.1)/(2)=15.15","(15.1+15.1)/(2)=15.15","(15.1+15.1)/(2)=15.15","(15.1+15.1)/(2)=15.15","(54.5+48.4)/(2)=51.45","(807.3+69.6)/(2)=438.5","(15.1+27.2)/(2)=21.2","(15.1+15.1)/(2)=15.15","(49.4+843.7)/(2)=446.55","(15.1+15.1)/(2)=15.15"]
["S6","(14.1+14.1)/(2)=14.15","(14.1+14.1)/(2)=14.15","(14.1+14.1)/(2)=14.15","(14.1+14.1)/(2)=14.15","(53.5+47.4)/(2)=50.45","(806.3+68.6)/(2)=437.45","(14.1+26.2)/(2)=20.2","(14.1+14.1)/(2)=14.15","(14.1+842.6)/(2)=428.4","(14.1+14.1)/(2)=14.15"]
["S7","(13.1+13.1)/(2)=13.1","(13.1+13.1)/(2)=13.1","(13.1+13.1)/(2)=13.1","(13.1+13.1)/(2)=13.1","(52.5+46.4)/(2)=49.45","(805.3+67.6)/(2)=436.45","(13.1+25.2)/(2)=19.15","(13.1+13.1)/(2)=13.1","(13.1+841.6)/(2)=427.4","(13.1+13.1)/(2)=13.1"]
["S8","(12.1+12.1)/(2)=12.1","(12.1+12.1)/(2)=12.1","(12.1+12.1)/(2)=12.1","(12.1+12.1)/(2)=12.1","(51.5+45.4)/(2)=48.45","(804.3+66.6)/(2)=435.45","(12.1+24.2)/(2)=18.15","(12.1+12.1)/(2)=12.1","(12.1+840.6)/(2)=426.35","(12.1+12.1)/(2)=12.1"]
["S9","(11.1+11.1)/(2)=11.1","(11.1+11.1)/(2)=11.1","(11.1+11.1)/(2)=11.1","(11.1+11.1)/(2)=11.1","(50.5+44.4)/(2)=47.45","(803.3+56.5)/(2)=429.9","(11.1+23.2)/(2)=17.15","(11.1+11.1)/(2)=11.1","(11.1+839.6)/(2)=425.35","(11.1+11.1)/(2)=11.1"]
["S10","(10.1+10.1)/(2)=10.1","(10.1+10.1)/(2)=10.1","(10.1+10.1)/(2)=10.1","(10.1+10.1)/(2)=10.1","(49.4+43.4)/(2)=46.4","(802.3+55.5)/(2)=428.9","(10.1+22.2)/(2)=16.15","(10.1+10.1)/(2)=10.1","(10.1+838.6)/(2)=424.35","(10.1+10.1)/(2)=10.1"]
["S11","(9.1+9.1)/(2)=9.1","(9.1+9.1)/(2)=9.1","(9.1+9.1)/(2)=9.1","(9.1+9.1)/(2)=9.1","(48.4+42.4)/(2)=45.4","(801.3+54.5)/(2)=427.9","(9.1+21.2)/(2)=15.15","(9.1+9.1)/(2)=9.1","(9.1+837.6)/(2)=423.35","(9.1+9.1)/(2)=9.1"]
["S12","(8.1+8.1)/(2)=8.05","(8.1+8.1)/(2)=8.05","(8.1+8.1)/(2)=8.05","(8.1+8.1)/(2)=8.05","(47.4+41.4)/(2)=44.4","(800.3+53.5)/(2)=426.85","(8.1+20.2)/(2)=14.15","(8.1+8.1)/(2)=8.05","(8.1+836.6)/(2)=422.35","(8.1+8.1)/(2)=8.05"]
["S13","(7.1+7.1)/(2)=7.05","(7.1+7.1)/(2)=7.05","(7.1+7.1)/(2)=7.05","(7.1+7.1)/(2)=7.05","(46.4+34.3)/(2)=40.35","(799.3+48.4)/(2)=423.85","(7.1+19.2)/(2)=13.1","(7.1+7.1)/(2)=7.05","(7.1+835.6)/(2)=421.3","(7.1+7.1)/(2)=7.05"]
["S14","(6.1+6.1)/(2)=6.05","(6.1+6.1)/(2)=6.05","(6.1+6.1)/(2)=6.05","(6.1+6.1)/(2)=6.05","(45.4+33.3)/(2)=39.35","(798.2+44.4)/(2)=421.3","(6.1+18.2)/(2)=12.1","(6.1+6.1)/(2)=6.05","(6.1+834.6)/(2)=420.3","(6.1+6.1)/(2)=6.05"]
["S15","(5+5)/(2)=5.05","(5+5)/(2)=5.05","(5+5)/(2)=5.05","(5+5)/(2)=5.05","(44.4+32.3)/(2)=38.35","(797.2+5)/(2)=401.15","(5+17.2)/(2)=11.1","(5+5)/(2)=5.05","(5+5)/(2)=5.05","(5+5)/(2)=5.05"]
["S16","(4+4)/(2)=4.05","(4+4)/(2)=4.05","(4+4)/(2)=4.05","(4+4)/(2)=4.05","(43.4+9.1)/(2)=26.25","(796.2+4)/(2)=400.15","(4+16.1)/(2)=10.1","(4+4)/(2)=4.05","(4+4)/(2)=4.05","(4+4)/(2)=4.05"]
["S17","(3+3)/(2)=3.05","(3+3)/(2)=3.05","(3+3)/(2)=3.05","(3+3)/(2)=3.05","(42.4+8.1)/(2)=25.25","(795.2+3)/(2)=399.1","(3+3)/(2)=3.05","(3+3)/(2)=3.05","(3+3)/(2)=3.05","(3+3)/(2)=3.05"]
["S18","(2+2)/(2)=2","(2+2)/(2)=2","(2+2)/(2)=2","(2+2)/(2)=2","(41.4+7.1)/(2)=24.2","(794.2+2)/(2)=398.1","(2+2)/(2)=2","(2+2)/(2)=2","(2+2)/(2)=2","(2+2)/(2)=2"]
["S19","(1+1)/(2)=1","(1+1)/(2)=1","(1+1)/(2)=1","(1+1)/(2)=1","(40.4+1)/(2)=20.7","(793.2+1)/(2)=397.1","(1+1)/(2)=1","(1+1)/(2)=1","(1+1)/(2)=1","(1+1)/(2)=1"]
["S20","(0+0)/(2)=0","(0+0)/(2)=0","(0+0)/(2)=0","(0+0)/(2)=0","(0+0)/(2)=0","(792.2+0)/(2)=396.1","(0+0)/(2)=0","(0+0)/(2)=0","(0+0)/(2)=0","(0+0)/(2)=0"]
[]
["Lépcsôk(2)","X(A1)","X(A2)","X(A3)","X(A4)","X(A5)","X(A6)","X(A7)","X(A8)","X(A9)","X(A10)"]
["S1",19.2,19.2,19.2,19.2,63.6,484.4,25.2,81.2,461.7,122.1]
["S2",18.2,18.2,18.2,18.2,54.5,483.4,24.2,18.2,449.6,80.7]
["S3",17.2,17.2,17.2,17.2,53.5,468.8,23.2,17.2,448.6,43.4]
["S4",16.100000000000001,16.100000000000001,16.100000000000001,16.100000000000001,52.5,467.7,22.2,16.100000000000001,447.6,23.7]
["S5",15.1,15.1,15.1,15.1,51.5,438.5,21.2,15.1,446.6,15.1]
["S6",14.1,14.1,14.1,14.1,50.5,437.5,20.2,14.1,428.4,14.1]
["S7",13.1,13.1,13.1,13.1,49.4,436.5,19.2,13.1,427.4,13.1]
["S8",12.1,12.1,12.1,12.1,48.4,435.5,18.2,12.1,426.4,12.1]
["S9",11.1,11.1,11.1,11.1,47.4,429.9,17.2,11.1,425.4,11.1]
["S10",10.1,10.1,10.1,10.1,46.4,428.9,16.100000000000001,10.1,424.4,10.1]
["S11",9.1,9.1,9.1,9.1,45.4,427.9,15.1,9.1,423.3,9.1]
["S12",8.1,8.1,8.1,8.1,44.4,426.9,14.1,8.1,422.3,8.1]
["S13",7.1,7.1,7.1,7.1,40.4,423.8,13.1,7.1,421.3,7.1]
["S14",6.1,6.1,6.1,6.1,39.4,421.3,12.1,6.1,420.3,6.1]
["S15",5,5,5,5,38.299999999999997,401.1,11.1,5,5,5]
["S16",4,4,4,4,26.2,400.1,10.1,4,4,4]
["S17",3,3,3,3,25.2,399.1,3,3,3,3]
["S18",2,2,2,2,24.2,398.1,2,2,2,2]
["S19",1,1,1,1,20.7,397.1,1,1,1,1]
["S20",0,0,0,0,0,396.1,0,0,0,0]
[]
["COCO:Y0","X(A1)","X(A2)","X(A3)","X(A4)","X(A5)","X(A6)","X(A7)","X(A8)","X(A9)","X(A10)","Becslés","Tény+0","Delta","Delta/Tény"]
["O1",0,1,8.1,19.2,47.4,396.1,16.100000000000001,17.2,423.3,80.7,1009.2,1000,-9.1999999999999993,-0.92]
["O2",1,1,16.100000000000001,8.1,38.299999999999997,397.1,1,1,423.3,122.1,1009.2,1000,-9.1999999999999993,-0.92]
["O3",6.1,4,18.2,1,40.4,398.1,11.1,81.2,425.4,23.7,1009.2,1000,-9.1999999999999993,-0.92]
["O4",3,2,15.1,8.1,38.299999999999997,426.9,10.1,13.1,420.3,23.7,960.7,1000,39.299999999999997,3.93]
["O5",5,8.1,14.1,1,38.299999999999997,468.8,1,9.1,420.3,43.4,1009.2,1000,-9.1999999999999993,-0.92]
["O6",3,8.1,14.1,8.1,0,484.4,10.1,9.1,448.6,23.7,1009.2,1000,-9.1999999999999993,-0.92]
["O7",5,6.1,10.1,12.1,24.2,483.4,10.1,9.1,425.4,23.7,1009.2,1000,-9.1999999999999993,-0.92]
["O8",9.1,4,6.1,11.1,24.2,468.8,12.1,1,461.7,11.1,1009.2,1000,-9.1999999999999993,-0.92]
["O9",8.1,6.1,7.1,8.1,39.4,437.5,14.1,9.1,423.3,11.1,963.7,1000,36.299999999999997,3.63]
["O10",8.1,9.1,3,2,44.4,435.5,14.1,13.1,420.3,11.1,960.7,1000,39.299999999999997,3.93]
["O11",10.1,14.1,2,8.1,46.4,429.9,16.100000000000001,9.1,420.3,11.1,967.3,1000,32.700000000000003,3.27]
["O12",11.1,13.1,0,8.1,46.4,428.9,17.2,9.1,420.3,11.1,965.3,1000,34.700000000000003,3.47]
["O13",12.1,11.1,2,11.1,48.4,423.8,18.2,9.1,420.3,11.1,967.3,1000,32.700000000000003,3.27]
["O14",13.1,10.1,4,11.1,49.4,421.3,19.2,9.1,420.3,11.1,968.8,1000,31.2,3.12]
["O15",17.2,13.1,6.1,13.1,51.5,421.3,20.2,13.1,446.6,11.1,1013.2,1000,-13.2,-1.32]
["O16",18.2,15.1,10.1,17.2,53.5,421.3,21.2,15.1,449.6,11.1,1032.4000000000001,1000,-32.4,-3.24]
["O17",15.1,16.100000000000001,11.1,15.1,50.5,399.1,23.2,15.1,448.6,11.1,1005.1,1000,-5.0999999999999996,-0.51]
["O18",14.1,17.2,14.1,15.1,53.5,427.9,22.2,13.1,428.4,11.1,1016.7,1000,-16.7,-1.67]
["O19",16.100000000000001,18.2,17.2,17.2,63.6,436.5,24.2,17.2,428.4,11.1,1049.5,1000,-49.5,-4.95]
["O20",19.2,19.2,19.2,19.2,54.5,438.5,25.2,18.2,428.4,23.7,1065.2,1000,-65.2,-6.52]
[]
["S1 összeg:",1315]
["S20 összeg:",396.1]
["Becslés összeg:",20000.3]
["Tény összeg:",20000]
["Tény-becslés eltérés:",0.3]
["Tény négyzetösszeg:"]
["Becslés négyzetösszeg:"]
["Négyzetösszeg hiba:",0]
[]
["Open url"]
[]
["Maximális memória használat: 1.39 Mb"]
["A futtatás idôtartama: 0.28 mp (0 p)"]