{"text_format":"1","workbook":"xlsx","n_sheets":8,"sheets":["alapadatok","mozgóátlag_minősítés","COCO_elemzés","metrikák_összehasonlítása","mozgóátlag_minősítés_alternatív","sorszámozás_alternatív","COCO_elemzés_alternatív","COCO_eredmény_alternatív"],"not_rendered":{"charts":7,"images":1,"macros":1,"external_links":0,"defined_names":1,"comments":0,"pivot_tables":0},"unopened":[],"bounds":{"document_bytes":16777216,"sheet_cells":100000,"rows_first":2000,"rows_last":500,"rows_between":2000,"halvings":0,"cell_chars":16384,"cell_head_chars":4096},"cells_cut":0,"cells_raw":0,"read":"whole","date_system":"1900"}

{"sheet":"alapadatok","index":0,"n_rows":124,"n_cols":44,"rows_kept":124,"cut":false,"hidden":false,"merged":[[116,0,120,0],[1,4,1,6],[1,7,1,9],[1,10,1,12],[82,0,94,0],[95,0,107,0],[30,0,42,0],[43,0,55,0],[56,0,68,0],[69,0,81,0],[110,0,114,0],[1,0,2,3],[2,10,2,12],[6,2,6,3],[7,2,7,3],[8,2,8,3],[39,2,39,3],[40,2,40,3],[41,2,41,3],[42,2,42,3],[34,2,34,3],[35,2,35,3],[36,2,36,3],[37,2,37,3],[0,34,0,38],[0,39,0,43],[4,0,16,0],[17,0,29,0],[1,16,1,18],[0,4,0,18],[1,13,1,15],[1,19,1,21],[1,28,1,30],[1,25,1,27],[1,22,1,24],[1,31,1,33],[0,0,0,3],[0,19,0,33],[2,4,2,6],[2,7,2,9],[2,31,2,33],[3,2,3,3],[4,2,4,3],[5,2,5,3],[2,13,2,15],[2,16,2,18],[2,19,2,21],[2,22,2,24],[2,28,2,30],[29,2,29,3],[24,2,24,3],[25,2,25,3],[26,2,26,3],[27,2,27,3],[28,2,28,3],[19,2,19,3],[20,2,20,3],[21,2,21,3],[22,2,22,3],[23,2,23,3],[2,25,2,27],[14,2,14,3],[15,2,15,3],[16,2,16,3],[9,2,9,3],[10,2,10,3],[11,2,11,3],[12,2,12,3],[13,2,13,3],[38,2,38,3],[56,2,56,3],[57,2,57,3],[58,2,58,3],[59,2,59,3],[60,2,60,3],[54,2,54,3],[55,2,55,3],[17,2,17,3],[18,2,18,3],[30,2,30,3],[31,2,31,3],[32,2,32,3],[33,2,33,3],[43,2,43,3],[45,2,45,3],[46,2,46,3],[47,2,47,3],[48,2,48,3],[49,2,49,3],[50,2,50,3],[51,2,51,3],[52,2,52,3],[53,2,53,3],[44,2,44,3],[66,2,66,3],[67,2,67,3],[68,2,68,3],[69,2,69,3],[70,2,70,3],[61,2,61,3],[62,2,62,3],[63,2,63,3],[64,2,64,3],[65,2,65,3],[76,2,76,3],[77,2,77,3],[78,2,78,3],[79,2,79,3],[80,2,80,3],[71,2,71,3],[72,2,72,3],[73,2,73,3],[74,2,74,3],[75,2,75,3],[86,2,86,3],[87,2,87,3],[88,2,88,3],[89,2,89,3],[90,2,90,3],[81,2,81,3],[82,2,82,3],[83,2,83,3],[84,2,84,3],[85,2,85,3],[96,2,96,3],[97,2,97,3],[98,2,98,3],[99,2,99,3],[100,2,100,3],[91,2,91,3],[92,2,92,3],[93,2,93,3],[94,2,94,3],[95,2,95,3],[106,2,106,3],[107,2,107,3],[110,2,114,2],[116,2,120,2],[101,2,101,3],[102,2,102,3],[103,2,103,3],[104,2,104,3],[105,2,105,3]]}
[null,null,null,null,"Termék_csoport_1",null,null,null,null,null,null,null,null,null,null,null,null,null,null,"Termék_csoport_2",null,null,null,null,null,null,null,null,null,null,null,null,null,null,"Termék_csoport_3_B",null,null,null,null,"Termék_csoport_4"]
["2021",null,null,null,"Termék_1",null,null,"Termék_2",null,null,"Termék_3",null,null,"Termék_4",null,null,"Termék_5",null,null,"Termék_6",null,null,"Termék_7",null,null,"Termék_8",null,null,"Termék_9",null,null,"Termék_10",null,null,"Termék_11","Termék_12","Termék_13","Termék_14","Termék_15","Termék_16","Termék_17","Termék_18","Termék_19","Termék_20"]
[null,null,null,null,"Készlet (db)",null,null,"Készlet",null,null,"Készlet",null,null,"Készlet",null,null,"Készlet",null,null,"Készlet",null,null,"Készlet",null,null,"Készlet",null,null,"Készlet",null,null,"Készlet"]
["Negyedév","Hét","Adat frissítés időpntja",null,"Kimenő","Beérkező","Készletszint","Kimenő","Beérkező","Készletszint","Kimenő","Beérkező","Készletszint","Kimenő","Beérkező","Készletszint","Kimenő","Beérkező","Készletszint","Kimenő","Beérkező","Készletszint","Kimenő","Beérkező","Készletszint","Kimenő","Beérkező","Készletszint","Kimenő","Beérkező","Készletszint","Kimenő","Beérkező","Készletszint"]
[1,1,"2020-01-10T15:00:00",null,118,0,1898,170,0,1001,4,0,705,3,0,310,1,0,277,16,0,290,3,0,151,88,0,289,0,0,198,0,0,76]
[null,2,"2020-01-17T15:00:00",null,146,0,1752,193,0,808,25,0,680,41,0,269,2,0,275,88,0,202,41,0,110,139,0,150,0,0,198,7,0,69]
[null,3,"2020-01-24T15:00:00",null,202,1000,2550,649,1000,1159,190,500,990,39,1000,1230,9,500,766,97,0,105,46,500,564,128,1000,1022,13,500,685,20,500,549]
[null,4,"2020-01-31T15:00:00",null,724,0,1826,605,0,554,141,0,849,166,0,1064,16,0,750,103,0,2,77,0,487,208,0,814,62,0,623,23,0,526]
[null,5,"2020-02-07T15:00:00",null,855,1500,2471,335,1000,1219,243,1000,1606,392,1000,1672,17,500,1233,107,1000,895,98,0,389,381,0,433,63,0,560,24,0,502]
[null,6,"2020-02-14T15:00:00",null,908,0,1563,347,0,872,410,0,1196,239,0,1433,63,0,1170,123,0,772,83,0,306,288,0,145,68,0,492,17,0,485]
[null,7,"2020-02-21T15:00:00",null,259,1500,2804,633,1500,1739,840,1000,1356,98,1000,2335,157,500,1513,125,0,647,172,1000,1134,246,1000,899,91,500,901,85,500,900]
[null,8,"2020-02-28T15:00:00",null,463,0,2341,210,0,1529,627,0,729,742,0,1593,272,0,1241,185,0,462,241,0,893,368,0,531,107,0,794,157,0,743]
[null,9,"2020-03-06T15:00:00",null,729,1000,2612,310,1500,2719,567,1000,1162,786,1000,1807,349,500,1392,210,1000,1252,217,0,676,382,500,649,128,0,666,170,0,573]
[null,10,"2020-03-13T15:00:00",null,888,0,1724,670,0,2049,765,0,397,652,0,1155,400,0,992,234,0,1018,261,0,415,246,0,403,176,0,490,137,0,436]
[null,11,"2020-03-20T15:00:00",null,361,1500,2863,498,1500,3051,671,1000,726,795,1000,1360,433,500,1059,305,0,713,204,1000,1211,230,1000,1173,209,500,781,156,0,280]
[null,12,"2020-03-27T15:00:00",null,285,0,2578,668,0,2383,452,0,274,842,0,518,547,0,512,307,0,406,263,0,948,357,0,816,224,0,557,149,0,131]
[null,13,"2020-04-03T15:00:00",null,624,1500,3454,356,1000,3027,673,1000,601,773,1500,1245,617,1000,895,337,1000,1069,268,0,680,285,0,531,249,0,308,151,500,480]
[2,14,"2020-04-10T15:00:00",null,748,0,2706,1423,0,1604,369,0,232,652,0,593,642,0,253,54,0,1015,216,0,464,339,0,192,172,0,136,163,0,317]
[null,15,"2020-04-17T15:00:00",null,596,1000,3110,321,1000,2283,107,1000,1125,641,1500,1452,20,500,733,23,0,992,251,500,713,314,1000,878,165,500,471,162,500,655]
[null,16,"2020-04-24T15:00:00",null,595.5,0,2515,424,0,1859,660,0,465,749,0,703,53,0,680,135,0,857,185,0,528,229,0,649,189,0,282,162,0,493]
[null,17,"2020-05-01T15:00:00",null,340,1000,3175,1101,1500,2258,290,1000,1175,333,1500,1870,60,500,1120,145,1000,1712,181,0,347,308,500,841,70,0,212,143,0,350]
[null,18,"2020-05-08T15:00:00",null,917,0,2258,410,0,1848,898,0,277,373,0,1497,106,0,1014,292,0,1420,172,0,175,267,0,574,180,0,32,138,0,212]
[null,19,"2020-05-15T15:00:00",null,714,1000,2544,298,1500,3050,311,1500,1466,769,1500,2228,109,500,1405,195,0,1225,221,1000,954,262,1000,1312,170,500,362,129,500,583]
[null,20,"2020-05-22T15:00:00",null,1263,0,1281,1127,0,1923,920,0,546,728,0,1500,320,0,1085,128,0,1097,129,0,825,227,0,1085,112,0,250,122,0,461]
[null,21,"2020-05-29T15:00:00",null,938,1000,1342,411,1500,3012,948,1500,1098,844,1500,2156,337,500,1248,105,0,992,183,0,642,325,500,1260,133,500,617,119,0,342]
[null,22,"2020-06-05T15:00:00",null,742,0,601,1418,0,1594,997,0,101,116,0,2040,352,0,896,305,0,687,233,0,409,337,0,923,151,0,466,105,0,237]
[null,23,"2020-06-12T15:00:00",null,973,1000,628,672,1500,2422,980,1500,621,715,1000,2325,379,1000,1517,163,1000,1524,244,1000,1165,337,500,1086,131,0,335,101,500,636]
[null,24,"2020-06-19T15:00:00",null,326,0,302,412,0,2010,403,0,218,612,0,1713,445,0,1072,188,0,1336,195,0,970,340,0,746,86,0,249,94,0,542]
[null,25,"2020-06-26T15:00:00",null,174,1500,1628,1487,1500,2023,537,1500,1181,774,1500,2439,581,1000,1491,272,0,1064,40,0,930,249,1000,1497,56,0,193,90,0,452]
[null,26,"2020-07-03T15:00:00",null,1312,0,316,1903,0,120,818,0,363,873,0,1566,830,0,661,369,0,695,24,0,906,314,0,1183,100,0,93,80,0,372]
[3,27,"2020-07-10T15:00:00",null,1450,2500,1366,1761,2000,359,1046,1500,817,475,1000,2091,469,1000,1192,421,1000,1274,164,500,1242,400,500,1283,169,500,424,97,500,775]
[null,28,"2020-07-17T15:00:00",null,1021,1500,1845,131,1500,1728,1471,1500,846,1275,1500,2316,457,0,735,390,0,884,138,0,1104,372,0,911,175,0,249,79,0,696]
[null,29,"2020-07-24T15:00:00",null,2271,2500,2074,345,1500,2883,1870,1500,476,1269,1000,2047,725,1000,1010,379,0,505,252,0,852,344,500,1067,198,500,551,126,0,570]
[null,30,"2020-07-31T15:00:00",null,2215,1500,1359,1838,1500,2545,1167,1500,809,448,1000,2599,478,0,532,353,0,152,168,0,684,308,0,759,143,0,408,206,0,364]
[null,31,"2020-08-07T15:00:00",null,2336,2500,1523,1242,1500,2803,1274,1500,1035,1901,1000,1698,566,1000,966,351,1000,801,224,500,960,263,500,996,168,500,740,225,500,639]
[null,32,"2020-08-14T15:00:00",null,1238,0,285,1502,0,1301,33,0,1002,1749,0,-51,546,0,420,332,0,469,240,0,720,422,0,574,135,0,605,239,0,400]
[null,33,"2020-08-21T15:00:00",null,0,0,285,0,0,1301,0,0,1002,0,0,-51,0,0,420,0,0,469,0,0,720,0,0,574,0,0,605,0,0,400]
[null,34,"2020-08-28T15:00:00",null,1655,2000,630,1712,1500,1089,1672,1500,830,859,1500,590,785,1000,635,290,1000,1179,184,500,1036,256,1000,1318,154,500,951,180,500,720]
[null,35,"2020-09-04T15:00:00",null,1363,1500,767,1395,2000,1694,1154,1500,1176,1086,1500,1004,806,1000,829,276,0,903,238,0,798,224,0,1094,156,0,795,169,0,551]
[null,36,"2020-09-11T15:00:00",null,1550,1000,217,1015,2000,2679,1233,1000,943,485,1000,1519,659,1000,1170,246,0,657,151,0,647,387,0,707,134,0,661,88,0,463]
[null,37,"2020-09-18T15:00:00",null,672,1000,545,1233,1500,2946,1340,1000,603,1796,1000,723,492,1000,1678,346,1000,1311,237,500,910,325,1000,1382,168,500,993,62,0,401]
[null,38,"2020-09-25T15:00:00",null,631,1000,914,650,1000,3296,700,1000,903,1128,1500,1095,458,1000,2220,193,0,1118,234,0,676,373,0,1009,192,0,801,64,0,337]
[null,39,"2020-10-02T15:00:00",null,161,1500,2253,1265,1000,3031,1199,1000,704,1583,1500,1012,835,500,1885,21,0,1097,171,0,505,373,0,636,230,0,571,66,0,271]
[4,40,"2020-10-09T15:00:00",null,1929,1000,1324,1059,1000,2972,908,1000,796,859,1500,1653,424,500,1961,366,1000,1731,279,0,226,336,1000,1300,247,0,324,114,0,157]
[null,41,"2020-10-16T15:00:00",null,1884,1500,940,252,0,2720,1739,1500,557,1465,1500,1688,369,500,2092,360,0,1371,298,1000,928,671,0,629,305,500,519,105,500,552]
[null,42,"2020-10-23T15:00:00",null,1720,1000,220,1051,1500,3169,1392,1500,665,690,1000,1998,292,500,2300,328,0,1043,268,0,660,451,1000,1178,250,0,269,122,0,430]
[null,43,"2020-10-30T15:00:00",null,248,1000,972,1347,0,1822,1195,1500,970,729,1000,2269,551,500,2249,287,1000,1756,166,0,494,419,0,759,195,0,74,171,0,259]
[null,44,"2020-11-06T15:00:00",null,1201,1500,1271,558,2000,3264,1629,1500,841,938,1500,2831,659,500,2090,227,0,1529,287,0,207,367,1000,1392,157,500,417,161,0,98]
[null,45,"2020-11-13T15:00:00",null,1272,1000,999,939,0,2325,1870,1000,-29,1370,1500,2961,669,500,1921,215,0,1314,176,1000,1031,359,0,1033,148,0,269,168,500,430]
[null,46,"2020-11-20T15:00:00",null,1724,2500,1775,1260,1500,2565,496,1500,975,1624,1500,2837,893,500,1528,209,0,1105,239,0,792,350,1000,1683,203,500,566,148,0,282]
[null,47,"2020-11-27T15:00:00",null,1283,0,492,558,0,2007,563,0,412,1691,0,1146,762,0,766,192,0,913,265,0,527,328,0,1355,109,0,457,170,0,112]
[null,48,"2020-12-04T15:00:00",null,495,2000,1997,370,1500,3137,235,1000,1177,430,1000,1716,792,500,474,97,0,816,119,500,908,323,500,1532,113,500,844,178,500,434]
[null,49,"2020-12-11T15:00:00",null,378,0,1649,724,0,2413,277,0,900,216,0,1500,42,0,432,44,0,772,162,0,746,258,0,1274,181,0,663,89,0,345]
[null,50,"2020-12-18T15:00:00",null,356,0,1263,768,0,1645,371,0,529,586,0,914,34,0,398,17,0,755,84,0,662,107,0,1167,85,0,578,57,0,288]
[null,51,"2020-12-25T15:00:00",null,0,0,1263,0,0,1645,0,0,529,0,0,914,0,0,398,0,0,755,0,0,662,0,0,1167,0,0,578,0,0,288]
[null,52,"2021-01-01T15:00:00",null,0,0,1263,0,0,1645,0,0,529,0,0,914,0,0,398,0,0,755,0,0,662,0,0,1167,0,0,578,0,0,288]
[1,1,"2021-01-08T15:00:00",null,80,0,1183,35,0,1610,67,0,462,161,0,753,4,0,394,4,0,751,66,0,596,82,0,1085,45,0,533,62,0,226]
[null,2,"2021-01-15T15:00:00",null,172,0,1011,199,0,1411,68,0,394,399,0,354,6,0,388,91,0,660,87,0,509,52,0,1033,48,0,485,87,0,139]
[null,3,"2021-01-22T15:00:00",null,238,0,773,335,0,1076,183,0,211,537,0,-183,14,0,374,156,0,504,116,0,393,166,0,867,65,0,420,88,0,51]
[null,4,"2021-01-29T15:00:00",null,336,1000,1437,342,1000,1734,174,1000,1037,481,1500,836,31,500,843,164,1000,1340,136,500,757,181,500,1186,72,500,848,90,500,461]
[null,5,"2021-02-05T15:00:00",null,546,0,428,363,0,1371,225,0,812,488,0,348,104,0,739,185,0,1155,140,0,617,194,0,992,105,0,743,102,0,359]
[null,6,"2021-02-12T15:00:00",null,426,1000,397,481,1000,1890,478,1000,1334,960,2000,1388,284,500,955,194,0,961,169,0,448,242,500,1250,120,0,623,104,0,255]
[null,7,"2021-02-19T15:00:00",null,305,0,92,726,0,1164,389,0,945,998,0,390,218,0,737,222,0,739,172,0,276,374,0,876,126,0,497,106,0,149]
[null,8,"2021-02-26T15:00:00",null,1031,1500,1046,740,1500,1924,590,1500,1855,680,1500,1210,296,500,941,225,1000,1514,205,1000,1071,362,500,1014,122,500,875,114,500,535]
[null,9,"2021-03-05T15:00:00",null,860,0,186,761,0,1163,735,0,1120,771,0,439,390,0,551,232,0,1282,208,0,863,376,0,638,158,0,717,118,0,417]
[null,10,"2021-03-12T15:00:00",null,1007,1500,679,568,1500,2095,759,1500,1861,773,1500,1166,447,500,604,249,0,1033,263,0,600,378,500,760,161,0,556,129,0,288]
[null,11,"2021-03-19T15:00:00",null,1009,0,253,571,0,1524,865,0,996,816,0,350,458,0,146,289,0,744,256,0,344,435,0,325,162,0,394,141,0,147]
[null,12,"2021-03-26T15:00:00",null,854,1500,899,821,1500,2203,900,1500,1596,567,1000,783,464,1000,682,292,1000,1452,260,1000,1084,456,1000,869,165,500,729,142,500,505]
[null,13,"2021-04-02T15:00:00",null,736,0,163,689,0,1514,1107,0,489,602,0,181,490,0,192,293,0,1159,264,0,820,404,0,465,256,0,473,172,0,333]
[2,14,"2021-04-09T15:00:00",null,882,1500,781,1003,1500,2011,1038,2000,1451,475,2000,1706,376,1000,816,301,0,858,273,0,547,366,500,599,195,0,278,176,0,157]
[null,15,"2021-04-16T15:00:00",null,703,0,78,666,0,1345,1008,0,443,346,0,1360,421,0,395,294,0,564,133,0,414,358,0,241,143,0,135,126,0,31]
[null,16,"2021-04-23T15:00:00",null,703,1500,875,776,1500,2069,783,1500,1160,278,1500,2582,429,1000,966,201,1000,1363,239,1000,1175,282,500,459,192,500,443,127,500,404]
[null,17,"2021-04-30T15:00:00",null,501,0,374,955,0,1114,468,0,692,653,0,1929,130,0,836,272,0,1091,248,0,927,375,0,84,125,0,318,121,0,283]
[null,18,"2021-05-07T15:00:00",null,205,2000,1292,769,2000,2345,134,1000,1558,774,1000,2155,486,1000,1350,202,0,889,217,0,710,168,1000,916,111,0,207,108,500,675]
[null,19,"2021-05-14T15:00:00",null,875,0,417,915,0,1430,244,0,1314,818,0,1337,621,0,729,275,0,614,212,0,498,462,0,454,178,0,29,175,0,500]
[null,20,"2021-05-21T15:00:00",null,842,2000,1575,956,2000,2474,336,1000,1978,880,1500,1957,468,1000,1261,200,1000,1414,183,1000,1315,397,500,557,124,500,405,138,500,862]
[null,21,"2021-05-28T15:00:00",null,684,0,568,1025,0,1449,596,0,1382,752,0,1205,201,0,1060,278,0,1136,199,0,1116,357,0,200,174,0,231,142,0,720]
[null,22,"2021-06-04T15:00:00",null,1190,2000,1378,1125,2000,2324,994,1500,1888,760,1500,1945,343,500,1217,244,0,892,125,0,991,88,500,612,113,500,618,179,0,541]
[null,23,"2021-06-11T15:00:00",null,1148,0,230,1306,0,1018,1118,0,770,1019,0,926,600,0,617,137,0,755,165,0,826,405,0,207,154,0,464,80,0,461]
[null,24,"2021-06-18T15:00:00",null,1007,2000,1546,1333,2000,1685,1182,1500,1088,1029,2000,1897,322,500,795,129,1000,1626,277,500,1049,389,500,318,161,500,803,149,500,812]
[null,25,"2021-06-25T15:00:00",null,1082,0,1341,1232,0,453,961,0,127,788,0,1109,588,0,207,219,0,1407,235,0,814,261,0,57,160,0,643,145,0,667]
[null,26,"2021-07-02T15:00:00",null,1548,2000,1793,1342,1500,611,1112,1500,515,551,1000,1558,452,1000,755,289,0,1118,234,0,580,262,1000,795,242,500,901,265,0,402]
[3,27,"2021-07-09T15:00:00",null,1711,1500,1582,1174,1500,937,428,1500,1587,1278,1000,1280,618,0,137,305,0,813,247,0,333,431,0,364,248,0,653,193,0,209]
[null,28,"2021-07-16T15:00:00",null,2456,2000,1126,1425,1500,1012,1680,1500,1407,1353,1500,1427,626,1000,511,286,1000,1527,318,1000,1015,486,1000,878,117,0,536,160,500,549]
[null,29,"2021-07-23T15:00:00",null,2679,2000,447,1895,1500,617,1414,2000,1993,1496,1500,1431,731,1000,780,378,0,1149,292,0,723,501,0,377,212,0,324,189,0,360]
[null,30,"2021-07-30T15:00:00",null,2613,2500,334,1349,2000,1268,1763,2000,2230,1037,1500,1894,650,1000,1130,244,0,905,238,0,485,419,1000,958,116,500,708,298,500,562]
[null,31,"2021-08-06T15:00:00",null,1204,2500,1630,1159,2000,2109,1583,1500,2147,1015,1500,2379,522,1000,1608,240,1000,1665,314,500,671,371,0,587,221,0,487,146,0,416]
[null,32,"2021-08-13T15:00:00",null,1460,0,170,1723,0,386,1588,0,559,1112,0,1267,648,0,960,320,0,1345,290,0,381,483,0,104,137,0,350,46,0,370]
[null,33,"2021-08-20T15:00:00",null,0,0,170,0,0,386,0,0,559,0,0,1267,0,0,960,0,0,1345,0,0,381,0,0,104,0,0,350,0,0,370]
[null,34,"2021-08-27T15:00:00",null,1952,2000,218,1495,2000,891,1440,2000,1119,1589,1500,1178,550,1000,1410,263,0,1082,95,500,786,220,1000,884,127,500,723,72,500,798]
[null,35,"2021-09-03T15:00:00",null,1608,1500,110,1322,2000,1569,1498,1500,1121,1379,1500,1299,568,1000,1842,210,0,872,91,0,695,280,0,604,186,0,537,81,0,717]
[null,36,"2021-09-10T15:00:00",null,1329,1500,281,2033,2000,1536,1129,1500,1492,1279,1500,1520,818,500,1524,353,1000,1519,321,1000,1374,314,500,790,226,500,849,107,0,610]
[null,37,"2021-09-17T15:00:00",null,1092,1500,689,1291,1500,1745,1071,1500,1921,707,1500,2313,326,1000,2198,187,0,1332,327,0,1047,231,0,559,465,0,623,243,0,367]
[null,38,"2021-09-24T15:00:00",null,744,1500,1445,758,1500,2487,1048,1000,1873,620,1000,2693,788,1000,2410,184,0,1148,195,0,852,398,500,661,240,0,383,207,500,660]
[null,39,"2021-10-01T15:00:00",null,689,1500,2256,931,1000,2556,771,1000,2102,709,1000,2984,568,500,2342,313,0,835,231,0,621,488,0,173,188,0,195,190,0,470]
[4,40,"2021-10-08T15:00:00",null,2276,1500,1480,935,1000,2621,728,1000,2374,1516,1000,2468,848,1000,2494,458,1000,1377,157,500,964,430,1000,743,310,500,385,311,500,659]
[null,41,"2021-10-15T15:00:00",null,2023,2000,1457,1186,0,1435,741,1000,2633,1227,1000,2241,889,1000,2605,429,0,948,318,0,646,581,0,162,291,0,94,213,0,446]
[null,42,"2021-10-22T15:00:00",null,2029,2000,1427,1170,2000,2265,945,1000,2688,1663,1500,2078,980,0,1625,410,0,538,318,0,328,557,1000,605,288,500,306,190,500,756]
[null,43,"2021-10-29T15:00:00",null,1212,1500,1716,1495,0,770,1817,1000,1871,1522,1500,2056,767,1000,1858,378,0,160,304,0,24,503,0,102,252,0,54,275,0,481]
[null,44,"2021-11-05T15:00:00",null,1417,1500,1799,346,2000,2424,1921,1500,1450,954,1500,2602,600,500,1758,314,1000,846,286,1000,738,488,1000,614,294,500,260,168,0,313]
[null,45,"2021-11-12T15:00:00",null,1500,1500,1799,824,0,1600,1154,2000,2296,1708,1500,2394,732,0,1026,301,0,545,468,0,270,431,0,183,243,0,17,158,0,155]
[null,46,"2021-11-19T15:00:00",null,1534,1500,165,705,1500,2395,1340,1500,2456,1445,1500,2449,585,1000,1441,290,0,255,325,1000,945,422,1000,761,197,500,320,148,500,507]
[null,47,"2021-11-26T15:00:00",null,1513,0,252,774,0,1621,1400,0,1056,1334,1500,2615,579,0,862,172,0,83,260,0,685,362,0,399,165,0,155,91,0,416]
[null,48,"2021-12-03T15:00:00",null,584,1500,1168,700,1500,2421,1473,2000,1583,889,1000,2726,324,500,1038,186,1000,897,246,500,939,337,1000,1062,152,500,503,86,0,330]
[null,49,"2021-12-10T15:00:00",null,446,0,722,874,0,1547,570,0,1013,778,0,1948,265,0,773,113,0,784,131,0,808,255,0,807,99,0,404,41,0,289]
[null,50,"2021-12-17T15:00:00",null,200,0,522,871,0,676,586,0,427,539,0,1409,117,0,656,99,0,685,26,0,782,138,0,669,64,0,340,22,0,267]
[null,51,"2021-12-24T15:00:00",null,0,0,522,0,"A",676,0,0,427,0,0,1409,0,0,656,0,0,685,0,0,782,0,0,669,0,0,340,0,0,267]
[null,52,"2021-12-31T15:00:00",null,0,0,522,0,0,676,0,0,427,0,0,1409,0,0,656,0,0,685,0,0,782,0,0,669,0,0,340,0,0,267]
[null,null,null,null,null,null,null,null,null,null,null,"A"]
[null,null,null,null,null,null,"MAX készlet",null,null,"MAX készlet",null,null,"MAX készlet",null,null,"MAX készlet",null,null,"MAX készlet",null,null,"MAX készlet",null,null,"MAX készlet",null,null,"MAX készlet",null,null,"MAX készlet",null,null,"MAX készlet"]
[2020,null,"Negyedév",1,6561.9749999999995,{"$f":"SUM(F5:F17)","v":8000},{"$f":"MAX(G5:G17)","v":3454},5643,{"$f":"SUM(I5:I17)","v":7500},{"$f":"MAX(J5:J17)","v":3051},5608,{"$f":"SUM(L5:L17)","v":5500},{"$f":"MAX(M5:M17)","v":1606},5568,{"$f":"SUM(O5:O17)","v":6500},{"$f":"MAX(P5:P17)","v":2335},2882.6,{"$f":"SUM(R5:R17)","v":3500},{"$f":"MAX(S5:S17)","v":1513},2236.8119999999999,{"$f":"SUM(U5:U17)","v":3000},{"$f":"MAX(V5:V17)","v":1252},1974,{"$f":"SUM(X5:X17)","v":2500},{"$f":"MAX(Y5:Y17)","v":1211},3346,{"$f":"SUM(AA5:AA17)","v":3500},{"$f":"MAX(AB5:AB17)","v":1173},1390,{"$f":"SUM(AD5:AD17)","v":1500},{"$f":"MAX(AE5:AE17)","v":901},1096,{"$f":"SUM(AG5:AG17)","v":1500},{"$f":"MAX(AH5:AH17)","v":900}]
[null,null,null,2,9639.3150000000005,{"$f":"SUM(F18:F30)","v":6500},{"$f":"MAX(G18:G30)","v":3175},11407,{"$f":"SUM(I18:I30)","v":8500},{"$f":"MAX(J18:J30)","v":3050},8238,{"$f":"SUM(L18:L30)","v":8000},{"$f":"MAX(M18:M30)","v":1466},8179.2,{"$f":"SUM(O18:O30)","v":8500},{"$f":"MAX(P18:P30)","v":2439},4234.4399999999996,{"$f":"SUM(R18:R30)","v":4000},{"$f":"MAX(S18:S30)","v":1517},2373.9749999999999,{"$f":"SUM(U18:U30)","v":2000},{"$f":"MAX(V18:V30)","v":1712},2274,{"$f":"SUM(X18:X30)","v":2500},{"$f":"MAX(Y18:Y30)","v":1165},3848,{"$f":"SUM(AA18:AA30)","v":4500},{"$f":"MAX(AB18:AB30)","v":1497},1715,{"$f":"SUM(AD18:AD30)","v":1500},{"$f":"MAX(AE18:AE30)","v":617},1608,{"$f":"SUM(AG18:AG30)","v":1500},{"$f":"MAX(AH18:AH30)","v":655}]
[null,null,null,3,16563.329999999998,{"$f":"SUM(F31:F43)","v":18500},{"$f":"MAX(G31:G43)","v":2253},14089,{"$f":"SUM(I31:I43)","v":17000},{"$f":"MAX(J31:J43)","v":3296},14159,{"$f":"SUM(L31:L43)","v":14500},{"$f":"MAX(M31:M43)","v":1176},14054.4,{"$f":"SUM(O31:O43)","v":13500},{"$f":"MAX(P31:P43)","v":2599},7276.08,{"$f":"SUM(R31:R43)","v":8500},{"$f":"MAX(S31:S43)","v":2220},3597.8910000000001,{"$f":"SUM(U31:U43)","v":4000},{"$f":"MAX(V31:V43)","v":1311},2401,{"$f":"SUM(X31:X43)","v":2000},{"$f":"MAX(Y31:Y43)","v":1242},4047,{"$f":"SUM(AA31:AA43)","v":3500},{"$f":"MAX(AB31:AB43)","v":1382},2022,{"$f":"SUM(AD31:AD43)","v":2500},{"$f":"MAX(AE31:AE43)","v":993},1601,{"$f":"SUM(AG31:AG43)","v":1500},{"$f":"MAX(AH31:AH43)","v":775}]
[null,null,null,4,12490.380000000001,{"$f":"SUM(F44:F56)","v":11500},{"$f":"MAX(G44:G56)","v":1997},8886,{"$f":"SUM(I44:I56)","v":7500},{"$f":"MAX(J44:J56)","v":3264},10675,{"$f":"SUM(L44:L56)","v":10500},{"$f":"MAX(M44:M56)","v":1177},10598.400000000001,{"$f":"SUM(O44:O56)","v":10500},{"$f":"MAX(P44:P56)","v":2961},5486.88,{"$f":"SUM(R44:R56)","v":4000},{"$f":"MAX(S44:S56)","v":2300},2342.3220000000001,{"$f":"SUM(U44:U56)","v":2000},{"$f":"MAX(V44:V56)","v":1756},2343,{"$f":"SUM(X44:X56)","v":2500},{"$f":"MAX(Y44:Y56)","v":1031},3969,{"$f":"SUM(AA44:AA56)","v":4500},{"$f":"MAX(AB44:AB56)","v":1683},1993,{"$f":"SUM(AD44:AD56)","v":2000},{"$f":"MAX(AE44:AE56)","v":844},1483,{"$f":"SUM(AG44:AG56)","v":1500},{"$f":"MAX(AH44:AH56)","v":552}]
[null,null,null,"tot",{"$f":"SUM(E111:E114)","v":45255},{"$f":"SUM(F111:F114)","v":44500},null,{"$f":"SUM(H111:H114)","v":40025},{"$f":"SUM(I111:I114)","v":40500},null,{"$f":"SUM(K111:K114)","v":38680},{"$f":"SUM(L111:L114)","v":38500},null,{"$f":"SUM(N111:N114)","v":38400},{"$f":"SUM(O111:O114)","v":39000},null,{"$f":"SUM(Q111:Q114)","v":19880},{"$f":"SUM(R111:R114)","v":20000},null,{"$f":"SUM(T111:T114)","v":10551},{"$f":"SUM(U111:U114)","v":11000},null,{"$f":"SUM(W111:W114)","v":8992},{"$f":"SUM(X111:X114)","v":9500},null,{"$f":"SUM(Z111:Z114)","v":15210},{"$f":"SUM(AA111:AA114)","v":16000},null,{"$f":"SUM(AC111:AC114)","v":7120},{"$f":"SUM(AD111:AD114)","v":7500},null,{"$f":"SUM(AF111:AF114)","v":5788},{"$f":"SUM(AG111:AG114)","v":6000}]
[]
[2021,null,"Negyedév",1,{"$f":"SUM(E57:E69)","v":7600},{"$f":"SUM(F57:F69)","v":6500},{"$f":"MAX(G57:G69)","v":1437},6631,{"$f":"SUM(I57:I69)","v":6500},{"$f":"MAX(J57:J69)","v":2203},6549,{"$f":"SUM(L57:L69)","v":6500},{"$f":"MAX(M57:M69)","v":1861},8233,{"$f":"SUM(O57:O69)","v":7500},{"$f":"MAX(P57:P69)","v":1388},3206,{"$f":"SUM(R57:R69)","v":3000},{"$f":"MAX(S57:S69)","v":955},2596,{"$f":"SUM(U57:U69)","v":3000},{"$f":"MAX(V57:V69)","v":1514},2342,{"$f":"SUM(X57:X69)","v":2500},{"$f":"MAX(Y57:Y69)","v":1084},3702,{"$f":"SUM(AA57:AA69)","v":3000},{"$f":"MAX(AB57:AB69)","v":1250},1605,{"$f":"SUM(AD57:AD69)","v":1500},{"$f":"MAX(AE57:AE69)","v":875},1445,{"$f":"SUM(AG57:AG69)","v":1500},{"$f":"MAX(AH57:AH69)","v":535}]
[null,null,null,2,{"$f":"SUM(E70:E82)","v":11370},{"$f":"SUM(F70:F82)","v":13000},{"$f":"MAX(G70:G82)","v":1793},13403,{"$f":"SUM(I70:I82)","v":12500},{"$f":"MAX(J70:J82)","v":2474},9974,{"$f":"SUM(L70:L82)","v":10000},{"$f":"MAX(M70:M82)","v":1978},9123,{"$f":"SUM(O70:O82)","v":10500},{"$f":"MAX(P70:P82)","v":2582},5437,{"$f":"SUM(R70:R82)","v":6000},{"$f":"MAX(S70:S82)","v":1350},3041,{"$f":"SUM(U70:U82)","v":3000},{"$f":"MAX(V70:V82)","v":1626},2740,{"$f":"SUM(X70:X82)","v":2500},{"$f":"MAX(Y70:Y82)","v":1315},4170,{"$f":"SUM(AA70:AA82)","v":4500},{"$f":"MAX(AB70:AB82)","v":916},2072,{"$f":"SUM(AD70:AD82)","v":2500},{"$f":"MAX(AE70:AE82)","v":901},1931,{"$f":"SUM(AG70:AG82)","v":2000},{"$f":"MAX(AH70:AH82)","v":862}]
[null,null,null,3,{"$f":"SUM(E83:E95)","v":19537},{"$f":"SUM(F83:F95)","v":20000},{"$f":"MAX(G83:G95)","v":2256},16555,{"$f":"SUM(I83:I95)","v":18500},{"$f":"MAX(J83:J95)","v":2556},16251,{"$f":"SUM(L83:L95)","v":17000},{"$f":"MAX(M83:M95)","v":2230},13574,{"$f":"SUM(O83:O95)","v":15000},{"$f":"MAX(P83:P95)","v":2984},7413,{"$f":"SUM(R83:R95)","v":9000},{"$f":"MAX(S83:S95)","v":2410},3283,{"$f":"SUM(U83:U95)","v":3000},{"$f":"MAX(V83:V95)","v":1665},2959,{"$f":"SUM(X83:X95)","v":3000},{"$f":"MAX(Y83:Y95)","v":1374},4622,{"$f":"SUM(AA83:AA95)","v":4000},{"$f":"MAX(AB83:AB95)","v":958},2483,{"$f":"SUM(AD83:AD95)","v":1500},{"$f":"MAX(AE83:AE95)","v":849},1932,{"$f":"SUM(AG83:AG95)","v":2000},{"$f":"MAX(AH83:AH95)","v":798}]
[null,null,null,4,{"$f":"SUM(E96:E108)","v":14734},{"$f":"SUM(F96:F108)","v":13000},{"$f":"MAX(G96:G108)","v":1799},9880,{"$f":"SUM(I96:I108)","v":8000},{"$f":"MAX(J96:J108)","v":2621},12675,{"$f":"SUM(L96:L108)","v":11000},{"$f":"MAX(M96:M108)","v":2688},13575,{"$f":"SUM(O96:O108)","v":12000},{"$f":"MAX(P96:P108)","v":2726},6686,{"$f":"SUM(R96:R108)","v":5000},{"$f":"MAX(S96:S108)","v":2605},3150,{"$f":"SUM(U96:U108)","v":3000},{"$f":"MAX(V96:V108)","v":1377},2839,{"$f":"SUM(X96:X108)","v":3000},{"$f":"MAX(Y96:Y108)","v":964},4504,{"$f":"SUM(AA96:AA108)","v":5000},{"$f":"MAX(AB96:AB108)","v":1062},2355,{"$f":"SUM(AD96:AD108)","v":2500},{"$f":"MAX(AE96:AE108)","v":503},1703,{"$f":"SUM(AG96:AG108)","v":1500},{"$f":"MAX(AH96:AH108)","v":756}]
[null,null,null,"tot",{"$f":"SUM(E117:E120)","v":53241},{"$f":"SUM(F117:F120)","v":52500},null,{"$f":"SUM(H117:H120)","v":46469},{"$f":"SUM(I117:I120)","v":45500},null,{"$f":"SUM(K117:K120)","v":45449},{"$f":"SUM(L117:L120)","v":44500},null,{"$f":"SUM(N117:N120)","v":44505},{"$f":"SUM(O117:O120)","v":45000},null,{"$f":"SUM(Q117:Q120)","v":22742},{"$f":"SUM(R117:R120)","v":23000},null,{"$f":"SUM(T117:T120)","v":12070},{"$f":"SUM(U117:U120)","v":12000},null,{"$f":"SUM(W117:W120)","v":10880},{"$f":"SUM(X117:X120)","v":11000},null,{"$f":"SUM(Z117:Z120)","v":16998},{"$f":"SUM(AA117:AA120)","v":16500},null,{"$f":"SUM(AC117:AC120)","v":8515},{"$f":"SUM(AD117:AD120)","v":8000},null,{"$f":"SUM(AF117:AF120)","v":7011},{"$f":"SUM(AG117:AG120)","v":7000}]
[]
[null,null,null,"MINIMUM készlet",null,null,500,null,null,500,null,null,250,null,null,250,null,null,250,null,null,250,null,null,250,null,null,250,null,null,200,null,null,200]
[null,null,null,"MAXIMUM készlet",null,null,2500,null,null,3000,null,null,2000,null,null,3000,null,null,2000,null,null,1500,null,null,1250,null,null,1250,null,null,1000,null,null,1000]

{"sheet":"mozgóátlag_minősítés","index":1,"n_rows":115,"n_cols":36,"rows_kept":115,"cut":false,"hidden":false,"merged":[[93,0,105,0],[2,0,14,0],[15,0,27,0],[28,0,40,0],[41,0,53,0],[0,10,0,16],[54,0,66,0],[67,0,79,0],[80,0,92,0],[0,2,0,9],[0,0,0,1]]}
[2021,null,"2020-2021 év mozgóátlag szemléltetés",null,null,null,null,null,null,null,"Az eltérések abszolút értékének különbsége"]
["Negyedév","Hét","K (db)","MA1","MA2","MA3","MA4","MA5","MA6","MA7","abshiba1","abshiba2","abshiba3","abshiba4","abshiba5","abshiba6","abshiba7"]
[1,1,1898,"-","-","-","-","-","-","-","-","-","-","-","-","-","-"]
[null,2,1752,{"$f":"C3","v":1898},"-","-","-","-","-","-",{"$f":"ABS($C4-D4)","v":146},"-","-","-","-","-","-"]
[null,3,2550,{"$f":"C4","v":1752},{"$f":"AVERAGE(C3:C4)","v":1825},"-","-","-","-","-",{"$f":"ABS($C5-D5)","v":798},725,"-","-","-","-","-",null,"Jelmagyarázat"]
[null,4,1826,2550,{"$f":"AVERAGE(C4:C5)","v":2151},{"$f":"AVERAGE(C3:C5)","v":2066.6666666666665},"-","-","-","-",724,325,240.66666666666652,"-","-","-","-"]
[null,5,2471,1826,2188,{"$f":"AVERAGE(C4:C6)","v":2042.6666666666667},{"$f":"AVERAGE(C3:C6)","v":2006.5},"-","-","-",645,283,428.33333333333326,464.5,"-","-","-",null,"MA1 =","1 periódusú mozgóátlag"]
[null,6,1563,2471,2148.5,2282.3333333333335,{"$f":"AVERAGE(C4:C7)","v":2149.75},{"$f":"AVERAGE(C3:C7)","v":2099.4},"-","-",908,585.5,719.33333333333348,586.75,536.40000000000009,"-","-",null,"MA2 =","2 periódusú mozgóátlag"]
[null,7,2804,1563,2017,1953.3333333333333,2102.5,{"$f":"AVERAGE(C4:C8)","v":2032.4},{"$f":"AVERAGE(C3:C8)","v":2010},"-",1241,787,850.66666666666674,701.5,771.59999999999991,{"$f":"ABS($C9-I9)","v":794},"-",null,"MA3 =","3 periódusú mozgóátlag"]
[null,8,2341,2804,2183.5,2279.3333333333335,2166,2242.8000000000002,{"$f":"AVERAGE(C4:C9)","v":2161},{"$f":"AVERAGE(C3:C9)","v":2123.4285714285716},463,157.5,61.666666666666515,175,{"$f":"ABS($C10-H10)","v":98.199999999999818},180,217.57142857142844,null,"MA4 =","4 periódusú mozgóátlag",null,null,null,null,null,null,"hét","K (db)","MA1","MA2","MA3","MA4","MA5","MA6","MA7","vizualizációs okok miatt szerepel"]
[null,9,2612,2341,2572.5,2236,2294.75,2201,2259.1666666666665,{"$f":"AVERAGE(C4:C10)","v":2186.7142857142858},271,39.5,376,317.25,411,352.83333333333348,425.28571428571422,null,"MA5 =","5 periódusú mozgóátlag",null,null,null,null,null,null,8,2341,2804,2183.5,2279.3333333333335,2166,2242.8000000000002,2161,2123.4285714285716,2123.4285714285716]
[null,10,1724,2612,2476.5,2585.6666666666665,2330,2358.1999999999998,2269.5,{"$f":"AVERAGE(C5:C11)","v":2309.5714285714284},888,752.5,861.66666666666652,606,634.19999999999982,545.5,585.57142857142844,null,"MA6 =","6 periódusú mozgóátlag",null,null,null,null,null,null,9,2612,2341,2572.5,2236,2294.75,2201,2259.1666666666665,2186.7142857142858,2186.7142857142858]
[null,11,2863,1724,2168,2225.6666666666665,2370.25,2208.8000000000002,2252.5,{"$f":"AVERAGE(C6:C12)","v":2191.5714285714284},1139,695,637.33333333333348,492.75,654.19999999999982,610.5,671.42857142857156,null,"MA7 =","7 periódusú mozgóátlag",null,null,null,null,null,null,10,1724,2612,2476.5,2585.6666666666665,2330,2358.1999999999998,2269.5,2309.5714285714284,2309.5714285714284]
[null,12,2578,2863,2293.5,2399.6666666666665,2385,2468.8000000000002,2317.8333333333335,{"$f":"AVERAGE(C7:C13)","v":2339.7142857142858},285,284.5,178.33333333333348,193,109.19999999999982,260.16666666666652,238.28571428571422,null,null,null,null,null,null,null,null,null,11,2863,1724,2168,2225.6666666666665,2370.25,2208.8000000000002,2252.5,2191.5714285714284,2191.5714285714284]
[null,13,3454,2578,2720.5,2388.3333333333335,2444.25,2423.6,2487,2355,876,733.5,1065.6666666666665,1009.75,1030.4000000000001,967,1099,null,"K =","Raktár készlet",null,null,null,null,null,null,12,2578,2863,2293.5,2399.6666666666665,2385,2468.8000000000002,2317.8333333333335,2339.7142857142858,2339.7142857142858]
[2,14,2706,3454,3016,2965,2654.75,2646.2,2595.3333333333335,2625.1428571428573,748,310,259,51.25,59.800000000000182,110.66666666666652,80.857142857142662,null,null,null,null,null,null,null,null,null,13,3454,2578,2720.5,2388.3333333333335,2444.25,2423.6,2487,2355,2355]
[null,15,3110,2706,3080,2912.6666666666665,2900.25,2665,2656.1666666666665,2611.1428571428573,404,30,197.33333333333348,209.75,445,453.83333333333348,498.85714285714266,null,"Az eltérések abszolút értékének különbsége",null,null,null,null,null,null,null,14,2706,3454,3016,2965,2654.75,2646.2,2595.3333333333335,2625.1428571428573,2625.1428571428573]
[null,16,2515,3110,2908,3090,2962,2942.2,2739.1666666666665,2721,595,393,575,447,427.19999999999982,224.16666666666652,206,null,"abshiba1=","abszolút értékű hiba mértéke 1 periódusú mozgóátlagnál",null,null,null,null,null,null,15,3110,2706,3080,2912.6666666666665,2900.25,2665,2656.1666666666665,2611.1428571428573,2611.1428571428573]
[null,17,3175,2515,2812.5,2777,2946.25,2872.6,2871,2707.1428571428573,660,362.5,398,228.75,302.40000000000009,304,467.85714285714266,null,"abshiba2=","abszolút értékű hiba mértéke 2 periódusú mozgóátlagnál",null,null,null,null,null,null,16,2515,3110,2908,3090,2962,2942.2,2739.1666666666665,2721,2721]
[null,18,2258,3175,2845,2933.3333333333335,2876.5,2992,2923,2914.4285714285716,917,587,675.33333333333348,618.5,734,665,656.42857142857156,null,"abshiba3=","abszolút értékű hiba mértéke 3 periódusú mozgóátlagnál",null,null,null,null,null,null,17,3175,2515,2812.5,2777,2946.25,2872.6,2871,2707.1428571428573,2707.1428571428573]
[null,19,2544,2258,2716.5,2649.3333333333335,2764.5,2752.8,2869.6666666666665,2828,286,172.5,105.33333333333348,220.5,208.80000000000018,325.66666666666652,284,null,"abshiba4=","abszolút értékű hiba mértéke 4 periódusú mozgóátlagnál",null,null,null,null,null,null,18,2258,3175,2845,2933.3333333333335,2876.5,2992,2923,2914.4285714285716,2914.4285714285716]
[null,20,1281,2544,2401,2659,2623,2720.4,2718,2823.1428571428573,1263,1120,1378,1342,1439.4,1437,1542.1428571428573,null,"abshiba5=","abszolút értékű hiba mértéke 5 periódusú mozgóátlagnál",null,null,null,null,null,null,19,2544,2258,2716.5,2649.3333333333335,2764.5,2752.8,2869.6666666666665,2828,2828]
[null,21,1342,1281,1912.5,2027.6666666666667,2314.5,2354.6,2480.5,2512.7142857142858,61,570.5,685.66666666666674,972.5,1012.5999999999999,1138.5,1170.7142857142858,null,"abshiba6=","abszolút értékű hiba mértéke 6 periódusú mozgóátlagnál",null,null,null,null,null,null,20,1281,2544,2401,2659,2623,2720.4,2718,2823.1428571428573,2823.1428571428573]
[null,22,601,1342,1311.5,1722.3333333333333,1856.25,2120,2185.8333333333335,2317.8571428571427,741,710.5,1121.3333333333333,1255.25,1519,1584.8333333333335,1716.8571428571427,null,"abshiba7=","abszolút értékű hiba mértéke 7 periódusú mozgóátlagnál",null,null,null,null,null,null,21,1342,1281,1912.5,2027.6666666666667,2314.5,2354.6,2480.5,2512.7142857142858,2512.7142857142858]
[null,23,628,601,971.5,1074.6666666666667,1442,1605.2,1866.8333333333333,1959.4285714285713,27,343.5,446.66666666666674,814,977.2,1238.8333333333333,1331.4285714285713,null,null,null,null,null,null,null,null,null,22,601,1342,1311.5,1722.3333333333333,1856.25,2120,2185.8333333333335,2317.8571428571427,2317.8571428571427]
[null,24,302,628,614.5,857,963,1279.2,1442.3333333333333,1689.8571428571429,326,312.5,555,661,977.2,1140.3333333333333,1387.8571428571429,null,null,null,null,null,null,null,null,null,23,628,601,971.5,1074.6666666666667,1442,1605.2,1866.8333333333333,1959.4285714285713,1959.4285714285713]
[null,25,1628,302,465,510.33333333333331,718.25,830.8,1116.3333333333333,1279.4285714285713,1326,1163,1117.6666666666667,909.75,797.2,511.66666666666674,348.57142857142867,null,null,null,null,null,null,null,null,null,24,302,628,614.5,857,963,1279.2,1442.3333333333333,1689.8571428571429,1689.8571428571429]
[null,26,316,1628,965,852.66666666666663,789.75,900.2,963.66666666666663,1189.4285714285713,1312,649,536.66666666666663,473.75,584.20000000000005,647.66666666666663,873.42857142857133,null,null,null,null,null,null,null,null,null,25,1628,302,465,510.33333333333331,718.25,830.8,1116.3333333333333,1279.4285714285713,1279.4285714285713]
[3,27,1366,316,972,748.66666666666663,718.5,695,802.83333333333337,871.14285714285711,1050,394,617.33333333333337,647.5,671,563.16666666666663,494.85714285714289,null,null,null,null,null,null,null,null,null,26,316,1628,965,852.66666666666663,789.75,900.2,963.66666666666663,1189.4285714285713,1189.4285714285713]
[null,28,1845,1366,841,1103.3333333333333,903,848,806.83333333333337,883.28571428571433,479,1004,741.66666666666674,942,997,1038.1666666666665,961.71428571428567,null,null,null,null,null,null,null,null,null,27,1366,316,972,748.66666666666663,718.5,695,802.83333333333337,871.14285714285711,871.14285714285711]
[null,29,2074,1845,1605.5,1175.6666666666667,1288.75,1091.4000000000001,1014.1666666666666,955.14285714285711,229,468.5,898.33333333333326,785.25,982.59999999999991,1059.8333333333335,1118.8571428571429,null,null,null,null,null,null,null,null,null,28,1845,1366,841,1103.3333333333333,903,848,806.83333333333337,883.28571428571433,883.28571428571433]
[null,30,1359,2074,1959.5,1761.6666666666667,1400.25,1445.8,1255.1666666666667,1165.5714285714287,715,600.5,402.66666666666674,41.25,86.799999999999955,103.83333333333326,193.42857142857133,null,null,null,null,null,null,null,null,null,29,2074,1845,1605.5,1175.6666666666667,1288.75,1091.4000000000001,1014.1666666666666,955.14285714285711,955.14285714285711]
[null,31,1523,1359,1716.5,1759.3333333333333,1661,1392,1431.3333333333333,1270,164,193.5,236.33333333333326,138,131,91.666666666666742,253,null,null,null,null,null,null,null,null,null,30,1359,2074,1959.5,1761.6666666666667,1400.25,1445.8,1255.1666666666667,1165.5714285714287,1165.5714285714287]
[null,32,285,1523,1441,1652,1700.25,1633.4,1413.8333333333333,1444.4285714285713,1238,1156,1367,1415.25,1348.4,1128.8333333333333,1159.4285714285713,null,null,null,null,null,null,null,null,null,31,1523,1359,1716.5,1759.3333333333333,1661,1392,1431.3333333333333,1270,1270]
[null,33,285,285,904,1055.6666666666667,1310.25,1417.2,1408.6666666666667,1252.5714285714287,0,619,770.66666666666674,1025.25,1132.2,1123.6666666666667,967.57142857142867,null,null,null,null,null,null,null,null,null,32,285,1523,1441,1652,1700.25,1633.4,1413.8333333333333,1444.4285714285713,1444.4285714285713]
[null,34,630,285,285,697.66666666666663,863,1105.2,1228.5,1248.1428571428571,345,345,67.666666666666629,233,475.20000000000005,598.5,618.14285714285711,null,null,null,null,null,null,null,null,null,33,285,285,904,1055.6666666666667,1310.25,1417.2,1408.6666666666667,1252.5714285714287,1252.5714285714287]
[null,35,767,630,457.5,400,680.75,816.4,1026,1143,137,309.5,367,86.25,49.399999999999977,259,376,null,null,null,null,null,null,null,null,null,34,630,285,285,697.66666666666663,863,1105.2,1228.5,1248.1428571428571,1248.1428571428571]
[null,36,217,767,698.5,560.66666666666663,491.75,698,808.16666666666663,989,550,481.5,343.66666666666663,274.75,481,591.16666666666663,772,null,null,null,null,null,null,null,null,null,35,767,630,457.5,400,680.75,816.4,1026,1143,1143]
[null,37,545,217,492,538,474.75,436.8,617.83333333333337,723.71428571428567,328,53,7,70.25,108.19999999999999,72.833333333333371,178.71428571428567,null,null,null,null,null,null,null,null,null,36,217,767,698.5,560.66666666666663,491.75,698,808.16666666666663,989,989]
[null,38,914,545,381,509.66666666666669,539.75,488.8,454.83333333333331,607.42857142857144,369,533,404.33333333333331,374.25,425.2,459.16666666666669,306.57142857142856,null,null,null,null,null,null,null,null,null,37,545,217,492,538,474.75,436.8,617.83333333333337,723.71428571428567,723.71428571428567]
[null,39,2253,914,729.5,558.66666666666663,610.75,614.6,559.66666666666663,520.42857142857144,1339,1523.5,{"$f":"ABS($C41-F41)","v":1694.3333333333335},{"$f":"ABS($C41-G41)","v":1642.25},{"$f":"ABS($C41-H41)","v":1638.4},{"$f":"ABS($C41-I41)","v":1693.3333333333335},1732.5714285714284,null,null,null,null,null,null,null,null,null,38,914,545,381,509.66666666666669,539.75,488.8,454.83333333333331,607.42857142857144,607.42857142857144]
[4,40,1324,2253,1583.5,1237.3333333333333,982.25,939.2,887.66666666666663,801.57142857142856,929,259.5,86.666666666666742,341.75,384.79999999999995,436.33333333333337,522.42857142857144,null,null,null,null,null,null,null,null,null,39,2253,914,729.5,558.66666666666663,610.75,614.6,559.66666666666663,520.42857142857144,520.42857142857144]
[null,41,940,1324,1788.5,1497,1259,1050.5999999999999,1003.3333333333334,950,384,848.5,557,319,110.59999999999991,63.333333333333371,10,null,null,null,null,null,null,null,null,null,40,1324,2253,1583.5,1237.3333333333333,982.25,939.2,887.66666666666663,801.57142857142856,801.57142857142856]
[null,42,220,940,1132,1505.6666666666667,1357.75,1195.2,1032.1666666666667,994.28571428571433,720,912,1285.6666666666667,1137.75,975.2,812.16666666666674,774.28571428571433,null,null,null,null,null,null,null,null,null,41,940,1324,1788.5,1497,1259,1050.5999999999999,1003.3333333333334,950,950]
[null,43,972,220,580,828,1184.25,1130.2,1032.6666666666667,916.14285714285711,752,392,144,212.25,158.20000000000005,60.666666666666742,55.85714285714289,null,null,null,null,null,null,null,null,null,42,220,940,1132,1505.6666666666667,1357.75,1195.2,1032.1666666666667,994.28571428571433,994.28571428571433]
[null,44,1271,972,596,710.66666666666663,864,1141.8,1103.8333333333333,1024,299,675,560.33333333333337,407,129.20000000000005,167.16666666666674,247,null,null,null,null,null,null,null,null,null,43,972,220,580,828,1184.25,1130.2,1032.6666666666667,916.14285714285711,916.14285714285711]
[null,45,999,1271,1121.5,821,850.75,945.4,1163.3333333333333,1127.7142857142858,272,122.5,178,148.25,53.600000000000023,164.33333333333326,128.71428571428578,null,null,null,null,null,null,null,null,null,44,1271,972,596,710.66666666666663,864,1141.8,1103.8333333333333,1024,1024]
[null,46,1775,999,1135,1080.6666666666667,865.5,880.4,954.33333333333337,1139.8571428571429,776,640,694.33333333333326,909.5,894.6,820.66666666666663,635.14285714285711,null,null,null,null,null,null,null,null,null,45,999,1271,1121.5,821,850.75,945.4,1163.3333333333333,1127.7142857142858,1127.7142857142858]
[null,47,492,1775,1387,1348.3333333333333,1254.25,1047.4000000000001,1029.5,1071.5714285714287,1283,895,856.33333333333326,762.25,555.40000000000009,537.5,579.57142857142867,null,null,null,null,null,null,null,null,null,46,1775,999,1135,1080.6666666666667,865.5,880.4,954.33333333333337,1139.8571428571429,1139.8571428571429]
[null,48,1997,492,1133.5,1088.6666666666667,1134.25,1101.8,954.83333333333337,952.71428571428567,1505,863.5,908.33333333333326,862.75,895.2,1042.1666666666665,1044.2857142857142,null,null,null,null,null,null,null,null,null,47,492,1775,1387,1348.3333333333333,1254.25,1047.4000000000001,1029.5,1071.5714285714287,1071.5714285714287]
[null,49,1649,1997,1244.5,1421.3333333333333,1315.75,1306.8,1251,1103.7142857142858,348,404.5,227.66666666666674,333.25,342.20000000000005,398,545.28571428571422,null,null,null,null,null,null,null,null,null,48,1997,492,1133.5,1088.6666666666667,1134.25,1101.8,954.83333333333337,952.71428571428567,952.71428571428567]
[null,50,1263,1649,1823,1379.3333333333333,1478.25,1382.4,1363.8333333333333,1307.8571428571429,386,560,116.33333333333326,215.25,119.40000000000009,100.83333333333326,44.85714285714289,null,null,null,null,null,null,null,null,null,49,1649,1997,1244.5,1421.3333333333333,1315.75,1306.8,1251,1103.7142857142858,1103.7142857142858]
[null,51,1263,1263,1456,1636.3333333333333,1350.25,1435.2,1362.5,1349.4285714285713,0,193,373.33333333333326,87.25,172.20000000000005,99.5,86.428571428571331,null,null,null,null,null,null,null,null,null,50,1263,1649,1823,1379.3333333333333,1478.25,1382.4,1363.8333333333333,1307.8571428571429,1307.8571428571429]
[null,52,1263,1263,1263,1391.6666666666667,1543,1332.8,1406.5,1348.2857142857142,0,0,128.66666666666674,280,69.799999999999955,143.5,85.285714285714221,null,null,null,null,null,null,null,null,null,51,1263,1263,1456,1636.3333333333333,1350.25,1435.2,1362.5,1349.4285714285713,1349.4285714285713]
[1,1,1183,1263,1263,1263,1359.5,1487,1321.1666666666667,1386,80,80,80,176.5,304,138.16666666666674,203,null,null,null,null,null,null,null,null,null,52,1263,1263,1263,1391.6666666666667,1543,1332.8,1406.5,1348.2857142857142,1348.2857142857142]
[null,2,1011,1183,1223,1236.3333333333333,1243,1324.2,1436.3333333333333,1301.4285714285713,172,212,225.33333333333326,232,313.20000000000005,425.33333333333326,290.42857142857133,null,null,null,null,null,null,null,null,null,1,1183,1263,1263,1263,1359.5,1487,1321.1666666666667,1386,1386]
[null,3,773,1011,1097,1152.3333333333333,1180,1196.5999999999999,1272,1375.5714285714287,238,324,379.33333333333326,407,423.59999999999991,499,602.57142857142867,null,null,null,null,null,null,null,null,null,2,1011,1183,1223,1236.3333333333333,1243,1324.2,1436.3333333333333,1301.4285714285713,1301.4285714285713]
[null,4,1437,773,892,989,1057.5,1098.5999999999999,1126,1200.7142857142858,664,545,448,379.5,338.40000000000009,311,236.28571428571422,null,null,null,null,null,null,null,null,null,3,773,1011,1097,1152.3333333333333,1180,1196.5999999999999,1272,1375.5714285714287,1375.5714285714287]
[null,5,428,1437,1105,1073.6666666666667,1101,1133.4000000000001,1155,1170.4285714285713,1009,677,645.66666666666674,673,705.40000000000009,727,742.42857142857133,null,null,null,null,null,null,null,null,null,4,1437,773,892,989,1057.5,1098.5999999999999,1126,1200.7142857142858,1200.7142857142858]
[null,6,397,428,932.5,879.33333333333337,912.25,966.4,1015.8333333333334,1051.1428571428571,31,535.5,482.33333333333337,515.25,569.4,618.83333333333337,654.14285714285711,null,null,null,null,null,null,null,null,null,5,428,1437,1105,1073.6666666666667,1101,1133.4000000000001,1155,1170.4285714285713,1170.4285714285713]
[null,7,92,397,412.5,754,758.75,809.2,871.5,927.42857142857144,305,320.5,662,666.75,717.2,779.5,835.42857142857144,null,null,null,null,null,null,null,null,null,6,397,428,932.5,879.33333333333337,912.25,966.4,1015.8333333333334,1051.1428571428571,1051.1428571428571]
[null,8,1046,92,244.5,305.66666666666669,588.5,625.4,689.66666666666663,760.14285714285711,954,801.5,740.33333333333326,457.5,420.6,356.33333333333337,285.85714285714289,null,null,null,null,null,null,null,null,null,7,92,397,412.5,754,758.75,809.2,871.5,927.42857142857144,927.42857142857144]
[null,9,186,1046,569,511.66666666666669,490.75,680,695.5,740.57142857142856,860,383,325.66666666666669,304.75,494,509.5,554.57142857142856,null,null,null,null,null,null,null,null,null,8,1046,92,244.5,305.66666666666669,588.5,625.4,689.66666666666663,760.14285714285711,760.14285714285711]
[null,10,679,186,616,441.33333333333331,430.25,429.8,597.66666666666663,622.71428571428567,493,63,237.66666666666669,248.75,249.2,81.333333333333371,56.285714285714334,null,null,null,null,null,null,null,null,null,9,186,1046,569,511.66666666666669,490.75,680,695.5,740.57142857142856,740.57142857142856]
[null,11,253,679,432.5,637,500.75,480,471.33333333333331,609.28571428571433,426,179.5,384,247.75,227,218.33333333333331,356.28571428571433,null,null,null,null,null,null,null,null,null,10,679,186,616,441.33333333333331,430.25,429.8,597.66666666666663,622.71428571428567,622.71428571428567]
[null,12,899,253,466,372.66666666666669,541,451.2,442.16666666666669,440.14285714285717,646,433,526.33333333333326,358,447.8,456.83333333333331,458.85714285714283,null,null,null,null,null,null,null,null,null,11,253,679,432.5,637,500.75,480,471.33333333333331,609.28571428571433,609.28571428571433]
[null,13,163,899,576,610.33333333333337,504.25,612.6,525.83333333333337,507.42857142857144,736,413,447.33333333333337,341.25,449.6,362.83333333333337,344.42857142857144,null,null,null,null,null,null,null,null,null,12,899,253,466,372.66666666666669,541,451.2,442.16666666666669,440.14285714285717,440.14285714285717]
[2,14,781,163,531,438.33333333333331,498.5,436,537.66666666666663,474,618,250,342.66666666666669,282.5,345,243.33333333333337,307,null,null,null,null,null,null,null,null,null,13,163,899,576,610.33333333333337,504.25,612.6,525.83333333333337,507.42857142857144,507.42857142857144]
[null,15,78,{"$f":"C68","v":781},472,614.33333333333337,524,555,493.5,572.42857142857144,{"$f":"ABS($C69-D69)","v":703},394,536.33333333333337,446,477,415.5,494.42857142857144,null,null,null,null,null,null,null,null,null,14,781,163,531,438.33333333333331,498.5,436,537.66666666666663,474,474]
[null,16,875,78,{"$f":"AVERAGE(C68:C69)","v":429.5},340.66666666666669,480.25,434.8,475.5,434.14285714285717,797,445.5,534.33333333333326,394.75,440.2,399.5,440.85714285714283,null,null,null,null,null,null,null,null,null,15,78,781,472,614.33333333333337,524,555,493.5,572.42857142857144,572.42857142857144]
[null,17,374,875,476.5,{"$f":"AVERAGE(C68:C70)","v":578},474.25,559.20000000000005,508.16666666666669,532.57142857142856,501,102.5,204,100.25,185.20000000000005,134.16666666666669,158.57142857142856,null,null,null,null,null,null,null,null,null,16,875,78,429.5,340.66666666666669,480.25,434.8,475.5,434.14285714285717,434.14285714285717]
[null,18,1292,374,624.5,442.33333333333331,{"$f":"AVERAGE(C68:C71)","v":527},454.2,528.33333333333337,489,918,667.5,849.66666666666674,765,837.8,763.66666666666663,803,null,null,null,null,null,null,null,null,null,17,374,875,476.5,578,474.25,559.20000000000005,508.16666666666669,532.57142857142856,532.57142857142856]
[null,19,417,1292,833,847,654.75,{"$f":"AVERAGE(C68:C72)","v":680},593.83333333333337,637.42857142857144,875,416,430,237.75,263,176.83333333333337,220.42857142857144,null,null,null,null,null,null,null,null,null,18,1292,374,624.5,442.33333333333331,527,454.2,528.33333333333337,489,489]
[null,20,1575,417,854.5,694.33333333333337,739.5,607.20000000000005,{"$f":"AVERAGE(C68:C73)","v":636.16666666666663},568.57142857142856,1158,720.5,880.66666666666663,835.5,967.8,938.83333333333337,1006.4285714285714,null,null,null,null,null,null,null,null,null,19,417,1292,833,847,654.75,680,593.83333333333337,637.42857142857144,637.42857142857144]
[null,21,568,1575,996,1094.6666666666667,914.5,906.6,768.5,{"$f":"AVERAGE(C68:C74)","v":770.28571428571433},1007,428,526.66666666666674,346.5,338.6,200.5,202.28571428571433,null,null,null,null,null,null,null,null,null,20,1575,417,854.5,694.33333333333337,739.5,607.20000000000005,636.16666666666663,568.57142857142856,568.57142857142856]
[null,22,1378,568,1071.5,853.33333333333337,963,845.2,850.16666666666663,739.85714285714289,810,306.5,524.66666666666663,415,532.79999999999995,527.83333333333337,638.14285714285711,null,null,null,null,null,null,null,null,null,21,568,1575,996,1094.6666666666667,914.5,906.6,768.5,770.28571428571433,770.28571428571433]
[null,23,230,1378,973,1173.6666666666667,984.5,1046,934,925.57142857142856,1148,743,943.66666666666674,754.5,816,704,695.57142857142856,null,null,null,null,null,null,null,null,null,22,1378,568,1071.5,853.33333333333337,963,845.2,850.16666666666663,739.85714285714289,739.85714285714289]
[null,24,1546,230,804,725.33333333333337,937.75,833.6,910,833.42857142857144,1316,742,820.66666666666663,608.25,712.4,636,712.57142857142856,null,null,null,null,null,null,null,null,null,23,230,1378,973,1173.6666666666667,984.5,1046,934,925.57142857142856,925.57142857142856]
[null,25,1341,1546,888,1051.3333333333333,930.5,1059.4000000000001,952.33333333333337,1000.8571428571429,{"$f":"ABS($C79-D79)","v":205},453,289.66666666666674,410.5,281.59999999999991,388.66666666666663,340.14285714285711,null,null,null,null,null,null,null,null,null,24,1546,230,804,725.33333333333337,937.75,833.6,910,833.42857142857144,833.42857142857144]
[null,26,1793,1341,1443.5,1039,1123.75,1012.6,1106.3333333333333,1007.8571428571429,452,349.5,754,669.25,780.4,686.66666666666674,785.14285714285711,null,null,null,null,null,null,null,null,null,25,1341,1546,888,1051.3333333333333,930.5,1059.4000000000001,952.33333333333337,1000.8571428571429,1000.8571428571429]
[3,27,1582,1793,1567,1560,1227.5,1257.5999999999999,1142.6666666666667,1204.4285714285713,211,{"$f":"ABS($C81-E81)","v":15},22,{"$f":"ABS($C81-G81)","v":354.5},324.40000000000009,439.33333333333326,377.57142857142867,null,null,null,null,null,null,null,null,null,26,1793,1341,1443.5,1039,1123.75,1012.6,1106.3333333333333,1007.8571428571429,1007.8571428571429]
[null,28,1126,1582,1687.5,1572,1565.5,1298.4000000000001,1311.6666666666667,1205.4285714285713,456,561.5,446,439.5,172.40000000000009,185.66666666666674,79.428571428571331,null,null,null,null,null,null,null,null,null,27,1582,1793,1567,1560,1227.5,1257.5999999999999,1142.6666666666667,1204.4285714285713,1204.4285714285713]
[null,29,447,1126,1354,1500.3333333333333,1460.5,1477.6,1269.6666666666667,1285.1428571428571,679,907,1053.3333333333333,1013.5,1030.5999999999999,822.66666666666674,838.14285714285711,null,null,null,null,null,null,null,null,null,28,1126,1582,1687.5,1572,1565.5,1298.4000000000001,1311.6666666666667,1205.4285714285713,1205.4285714285713]
[null,30,334,447,786.5,1051.6666666666667,1237,1257.8,1305.8333333333333,1152.1428571428571,113,452.5,717.66666666666674,903,923.8,971.83333333333326,818.14285714285711,null,null,null,null,null,null,null,null,null,29,447,1126,1354,1500.3333333333333,1460.5,1477.6,1269.6666666666667,1285.1428571428571,1285.1428571428571]
[null,31,1630,334,390.5,635.66666666666663,872.25,1056.4000000000001,1103.8333333333333,1167,1296,1239.5,994.33333333333337,757.75,573.59999999999991,526.16666666666674,463,null,null,null,null,null,null,null,null,null,30,334,447,786.5,1051.6666666666667,1237,1257.8,1305.8333333333333,1152.1428571428571,1152.1428571428571]
[null,32,170,1630,982,803.66666666666663,884.25,1023.8,1152,1179,1460,812,633.66666666666663,714.25,853.8,982,1009,null,null,null,null,null,null,null,null,null,31,1630,334,390.5,635.66666666666663,872.25,1056.4000000000001,1103.8333333333333,1167,1167]
[null,33,170,170,900,711.33333333333337,645.25,741.4,881.5,1011.7142857142857,0,730,541.33333333333337,475.25,571.4,711.5,841.71428571428567,null,null,null,null,null,null,null,null,null,32,170,1630,982,803.66666666666663,884.25,1023.8,1152,1179,1179]
[null,34,218,170,170,656.66666666666663,576,550.20000000000005,646.16666666666663,779.85714285714289,48,48,438.66666666666663,358,332.20000000000005,428.16666666666663,561.85714285714289,null,null,null,null,null,null,null,null,null,33,170,170,900,711.33333333333337,645.25,741.4,881.5,1011.7142857142857,1011.7142857142857]
[null,35,110,218,194,186,547,504.4,494.83333333333331,585,108,84,76,437,394.4,384.83333333333331,475,null,null,null,null,null,null,null,null,null,34,218,170,170,656.66666666666663,576,550.20000000000005,646.16666666666663,779.85714285714289,779.85714285714289]
[null,36,281,110,164,166,167,459.6,438.66666666666669,439.85714285714283,171,117,115,114,178.60000000000002,157.66666666666669,158.85714285714283,null,null,null,null,null,null,null,null,null,35,110,218,194,186,547,504.4,494.83333333333331,585,585]
[null,37,689,281,195.5,203,194.75,189.8,429.83333333333331,416.14285714285717,408,493.5,486,494.25,499.2,259.16666666666669,272.85714285714283,null,null,null,null,null,null,null,null,null,36,281,110,164,166,167,459.6,438.66666666666669,439.85714285714283,439.85714285714283]
[null,38,1445,689,485,360,324.5,293.60000000000002,273,466.85714285714283,756,960,1085,1120.5,1151.4000000000001,1172,978.14285714285711,null,null,null,null,null,null,null,null,null,37,689,281,195.5,203,194.75,189.8,429.83333333333331,416.14285714285717,416.14285714285717]
[null,39,2256,1445,1067,805,631.25,548.6,485.5,440.42857142857144,811,1189,1451,1624.75,1707.4,1770.5,1815.5714285714284,null,null,null,null,null,null,null,null,null,38,1445,689,485,360,324.5,293.60000000000002,273,466.85714285714283,466.85714285714283]
[4,40,1480,2256,1850.5,1463.3333333333333,1167.75,956.2,833.16666666666663,738.42857142857144,776,370.5,16.666666666666742,312.25,523.79999999999995,646.83333333333337,741.57142857142856,null,null,null,null,null,null,null,null,null,39,2256,1445,1067,805,631.25,548.6,485.5,440.42857142857144,440.42857142857144]
[null,41,1457,1480,1868,1727,1467.5,1230.2,1043.5,925.57142857142856,23,411,270,10.5,226.79999999999995,413.5,531.42857142857144,null,null,null,null,null,null,null,null,null,40,1480,2256,1850.5,1463.3333333333333,1167.75,956.2,833.16666666666663,738.42857142857144,738.42857142857144]
[null,42,1427,1457,1468.5,1731,1659.5,1465.4,1268,1102.5714285714287,30,41.5,304,232.5,38.400000000000091,159,324.42857142857133,null,null,null,null,null,null,null,null,null,41,1457,1480,1868,1727,1467.5,1230.2,1043.5,925.57142857142856,925.57142857142856]
[null,43,1716,1427,1442,1454.6666666666667,1655,1613,1459,1290.7142857142858,289,274,261.33333333333326,61,103,257,425.28571428571422,null,null,null,null,null,null,null,null,null,42,1427,1457,1468.5,1731,1659.5,1465.4,1268,1102.5714285714287,1102.5714285714287]
[null,44,1799,1716,1571.5,1533.3333333333333,1520,1667.2,1630.1666666666667,1495.7142857142858,83,227.5,265.66666666666674,279,131.79999999999995,168.83333333333326,303.28571428571422,null,null,null,null,null,null,null,null,null,43,1716,1427,1442,1454.6666666666667,1655,1613,1459,1290.7142857142858,1290.7142857142858]
[null,45,1799,1799,1757.5,1647.3333333333333,1599.75,1575.8,1689.1666666666667,1654.2857142857142,0,41.5,151.66666666666674,199.25,223.20000000000005,109.83333333333326,{"$f":"ABS($C99-J99)","v":144.71428571428578},null,null,null,null,null,null,null,null,null,44,1799,1716,1571.5,1533.3333333333333,1520,1667.2,1630.1666666666667,1495.7142857142858,1495.7142857142858]
[null,46,165,1799,1799,1771.3333333333333,1685.25,1639.6,1613,1704.8571428571429,1634,1634,1606.3333333333333,1520.25,1474.6,1448,1539.8571428571429,null,null,null,null,null,null,null,null,null,45,1799,1799,1757.5,1647.3333333333333,1599.75,1575.8,1689.1666666666667,1654.2857142857142,1654.2857142857142]
[null,47,252,165,982,1254.3333333333333,1369.75,1381.2,1393.8333333333333,1406.1428571428571,87,730,1002.3333333333333,1117.75,1129.2,1141.8333333333333,1154.1428571428571,null,null,null,null,null,null,null,null,null,46,165,1799,1799,1771.3333333333333,1685.25,1639.6,1613,1704.8571428571429,1704.8571428571429]
[null,48,1168,252,208.5,738.66666666666663,1003.75,1146.2,1193,1230.7142857142858,916,959.5,429.33333333333337,164.25,21.799999999999955,25,62.714285714285779,null,null,null,null,null,null,null,null,null,47,252,165,982,1254.3333333333333,1369.75,1381.2,1393.8333333333333,1406.1428571428571,1406.1428571428571]
[null,49,722,1168,710,528.33333333333337,846,1036.5999999999999,1149.8333333333333,1189.4285714285713,446,12,193.66666666666663,124,314.59999999999991,427.83333333333326,467.42857142857133,null,null,null,null,null,null,null,null,null,48,1168,252,208.5,738.66666666666663,1003.75,1146.2,1193,1230.7142857142858,1230.7142857142858]
[null,50,522,722,945,714,576.75,821.2,984.16666666666663,1088.7142857142858,200,423,192,54.75,299.20000000000005,462.16666666666663,566.71428571428578,null,null,null,null,null,null,null,null,null,49,722,1168,710,528.33333333333337,846,1036.5999999999999,1149.8333333333333,1189.4285714285713,1189.4285714285713]
[null,51,522,522,622,804,666,565.79999999999995,771.33333333333337,918.14285714285711,0,100,282,144,43.799999999999955,249.33333333333337,396.14285714285711,null,null,null,null,null,null,null,null,null,50,522,722,945,714,576.75,821.2,984.16666666666663,1088.7142857142858,1088.7142857142858]
[null,52,522,522,522,588.66666666666663,733.5,637.20000000000005,558.5,735.71428571428567,0,0,66.666666666666629,211.5,115.20000000000005,36.5,213.71428571428567,null,null,null,null,null,null,null,null,null,51,522,522,622,804,666,565.79999999999995,771.33333333333337,918.14285714285711,918.14285714285711]
[null,null,"-",522,522,522,572,691.2,618,553.28571428571433,null,null,null,null,null,null,null,null,null,null,null,null,null,null,null,null,52,522,522,522,588.66666666666663,733.5,637.20000000000005,558.5,735.71428571428567,735.71428571428567]
[null,null,"-","-",{"$f":"AVERAGE(C106:C107)","v":522},522,522,572,691.2,618]
[]
[null,null,null,null,null,null,null,null,null,null,{"$f":"MODE(K10:K106)","v":0},{"$f":"MODE(L10:L106)","v":394},{"$f":"M115","v":531.84536082474199},407,977.2,{"$f":"P115","v":540.0429553264604},425.28571428571422,"módusz"]
[null,null,null,null,null,null,null,null,null,null,{"$f":"MEDIAN(K10:K106)","v":479},{"$f":"MEDIAN(L10:L106)","v":423},447.33333333333337,394.75,440.2,439.33333333333326,494.42857142857144,"medián"]
[null,null,null,null,null,null,null,null,null,null,{"$f":"STDEV(K10:K106)","v":428.3206628288969},{"$f":"STDEV(L10:L106)","v":347.07738182956149},375.93853560202092,380.69703624864894,401.17412695419029,403.55911471941698,412.35770169268875,"szórás"]
[null,null,null,null,null,null,null,null,null,null,{"$f":"MIN(K10:K106)","v":0},{"$f":"MIN(L10:L106)","v":0},7,10.5,21.799999999999955,25,10,"min"]
[null,null,null,null,null,null,null,null,null,null,{"$f":"MAX(K10:K106)","v":1634},{"$f":"MAX(L10:L106)","v":1634},1694.3333333333335,1642.25,1707.4,1770.5,1815.5714285714284,"max"]
[null,null,null,null,null,null,null,null,null,null,{"$f":"AVERAGE(K10:K106)","v":570.18556701030923},{"$f":"AVERAGE(L10:L106)","v":491.2525773195876},531.84536082474199,507.21907216494844,534.05979381443319,540.0429553264604,574.02061855670092,"átlag"]

{"sheet":"COCO_elemzés","index":2,"n_rows":124,"n_cols":36,"rows_kept":124,"cut":false,"hidden":false,"merged":[[0,29,0,35]]}
[null,null,null,null,null,null,null,null,null,null,null,null,null,null,null,null,null,null,null,null,null,null,null,null,null,null,null,null,null,"Statisztikai mutatók periódusonként"]
[null,null,null,null,null,null,null,null,null,null,null,null,null,null,null,null,null,null,"Rangsor",{"$f":"AE2","v":"módusz"},"medián","szórás","min","max","átlag","Y0","becslés","valid",null,null,"módusz","medián","szórás","min","max","átlag"]
[null,null,null,null,null,null,null,null,null,null,null,null,null,null,null,null,null,null,"MA1",{"$f":"RANK(AE3,AE$3:AE$9,1)","v":1},6,7,1,1,6,1000,{"$f":"H47","v":1002.3},{"$f":"IF(K104*K47<=0,1,0)","v":1},null,"MA1",0,479,428.3206628288969,0,1634,570.18556701030923]
[null,null,null,null,null,null,null,null,null,null,null,null,null,null,null,null,null,null,"MA2",2,2,1,1,1,1,1000,1015.8,{"$f":"IF(K105*K48<=0,1,0)","v":1},null,"MA2",394,423,347.07738182956149,0,1634,491.2525773195876]
[null,null,null,null,null,null,null,null,null,null,null,null,null,null,null,null,null,null,"MA3",5,5,2,3,4,3,1000,1000.3,1,null,"MA3",531.84536082474199,447.33333333333337,375.93853560202092,7,1694.3333333333335,531.84536082474199]
[null,null,null,null,null,null,null,null,null,null,null,null,null,null,null,null,null,null,"MA4",3,1,3,5,3,2,1000,1011.3,1,null,"MA4",407,394.75,380.69703624864894,10.5,1642.25,507.21907216494844]
[null,null,null,null,null,null,null,null,null,null,null,null,null,null,null,null,null,null,"MA5",7,4,4,6,5,4,1000,991.3,1,null,"MA5",977.2,440.2,401.17412695419029,21.799999999999955,1707.4,534.05979381443319]
[null,null,null,null,null,null,null,null,null,null,null,null,null,null,null,null,null,null,"MA6",6,3,5,7,6,5,1000,990.3,1,null,"MA6",540.0429553264604,439.33333333333326,403.55911471941698,25,1770.5,540.0429553264604]
[null,null,null,null,null,null,null,null,null,null,null,null,null,null,null,null,null,null,"MA7",4,7,6,4,7,7,1000,988.8,1,null,"MA7",425.28571428571422,494.42857142857144,412.35770169268875,10,1815.5714285714284,574.02061855670092]
[null,null,null,null,null,null,null,null,null,null,null,null,null,null,null,null,null,null,null,null,null,null,null,null,null,null,null,null,null,null,"módusz","medián","szórás","min","max","átlag"]
[null,null,null,null,null,null,null,null,null,null,null,null,null,null,null,null,null,null,null,null,null,null,null,null,null,null,null,null,null,"irány",1,1,1,1,1,1]
[]
[]
[]
[]
[]
["Azonosító:",2776281,"Objektumok:",7,"Attribútumok:",6,"Lépcsôk:",7,"Eltolás:",0,"Leírás:","COCO Y0: 2776281"]
[]
["Rangsor","X(A1)","X(A2)","X(A3)","X(A4)","X(A5)","X(A6)","Y(A7)",null,null,"Inverz rangsor","módusz","medián","szórás","min","max","átlag","Y0"]
["O1",1,6,7,1,1,6,1000,null,null,"MA1",{"$f":"$D$17+1-B20","v":7},2,1,7,7,2,{"$f":"H20","v":1000}]
["O2",2,2,1,1,1,1,1000,null,null,"MA2",6,6,7,7,7,7,1000]
["O3",5,5,2,3,4,3,1000,null,null,"MA3",3,3,6,5,4,5,1000]
["O4",3,1,3,5,3,2,1000,null,null,"MA4",5,7,5,3,5,6,1000]
["O5",7,4,4,6,5,4,1000,null,null,"MA5",1,4,4,2,3,4,1000]
["O6",6,3,5,7,6,5,1000,null,null,"MA6",2,5,3,1,2,3,1000]
["O7",4,7,6,4,7,7,1000,null,null,"MA7",4,1,2,4,1,1,1000]
[]
["Lépcsôk(1)","X(A1)","X(A2)","X(A3)","X(A4)","X(A5)","X(A6)"]
["S1","(988.3+988.3)/(2)=988.25","(15+6)/(2)=10.5","(6+996.3)/(2)=501.15","(6+6)/(2)=6","(6+6)/(2)=6","(6+6)/(2)=6"]
["S2","(973.2+10)/(2)=491.6","(5+5)/(2)=5","(5+995.3)/(2)=500.15","(5+5)/(2)=5","(5+5)/(2)=5","(5+5)/(2)=5"]
["S3","(972.2+9)/(2)=490.6","(4+4)/(2)=4","(4+994.3)/(2)=499.15","(4+4)/(2)=4","(4+4)/(2)=4","(4+4)/(2)=4"]
["S4","(971.2+8)/(2)=489.6","(3+3)/(2)=3","(3+993.3)/(2)=498.15","(3+3)/(2)=3","(3+3)/(2)=3","(3+3)/(2)=3"]
["S5","(970.2+4)/(2)=487.1","(2+2)/(2)=2","(2+992.3)/(2)=497.15","(2+2)/(2)=2","(2+2)/(2)=2","(2+2)/(2)=2"]
["S6","(969.2+3)/(2)=486.1","(1+1)/(2)=1","(1+991.3)/(2)=496.15","(1+1)/(2)=1","(1+1)/(2)=1","(1+1)/(2)=1"]
["S7","(968.2+0)/(2)=484.1","(0+0)/(2)=0","(0+0)/(2)=0","(0+0)/(2)=0","(0+0)/(2)=0","(0+0)/(2)=0"]
[]
["Lépcsôk(2)","X(A1)","X(A2)","X(A3)","X(A4)","X(A5)","X(A6)"]
["S1",988.3,10.5,501.1,6,6,6]
["S2",491.6,5,500.1,5,5,5]
["S3",490.6,4,499.1,4,4,4]
["S4",489.6,3,498.1,3,3,3]
["S5",487.1,2,497.1,2,2,2]
["S6",486.1,1,496.1,1,1,1]
["S7",484.1,0,0,0,0,0]
[]
["COCO:Y0","módusz","medián","szórás","min","max","átlag","Becslés","Y0","Delta","Delta/Tény"]
["MA1",988.3,1,0,6,6,1,1002.3,1000,-2.2999999999999998,-0.23]
["MA2",491.6,5,501.1,6,6,6,1015.8,1000,-15.8,-1.58]
["MA3",487.1,2,500.1,4,3,4,1000.3,1000,-0.3,-0.03]
["MA4",490.6,10.5,499.1,2,4,5,1011.3,1000,-11.3,-1.1299999999999999]
["MA5",484.1,3,498.1,1,2,3,991.3,1000,8.6999999999999993,0.87]
["MA6",486.1,4,497.1,0,1,2,990.3,1000,9.6999999999999993,0.97]
["MA7",489.6,0,496.1,3,0,0,988.8,1000,11.2,1.1200000000000001]
[]
["S1 összeg:",1517.9]
["S7 összeg:",484.1]
["Becslés összeg:",7000.1]
["Tény összeg:",7000]
["Tény-becslés eltérés:",0.1]
["Tény négyzetösszeg:"]
["Becslés négyzetösszeg:"]
["Négyzetösszeg hiba:",0]
[]
["Open url"]
[]
["Maximális memória használat: 1.35 Mb"]
["A futtatás idôtartama: 0.06 mp (0 p)"]
[]
[]
[]
[]
[]
[]
["Azonosító:",2535897,"Objektumok:",7,"Attribútumok:",6,"Lépcsôk:",7,"Eltolás:",0,"Leírás:","COCO Y0: 2535897"]
[]
["Rangsor","X(A1)","X(A2)","X(A3)","X(A4)","X(A5)","X(A6)","Y(A7)"]
["O1",7,2,1,7,7,2,1000]
["O2",6,6,7,7,7,7,1000]
["O3",3,3,6,5,4,5,1000]
["O4",5,7,5,3,5,6,1000]
["O5",1,4,4,2,3,4,1000]
["O6",2,5,3,1,2,3,1000]
["O7",4,1,2,4,1,1,1000]
[]
["Lépcsôk(1)","X(A1)","X(A2)","X(A3)","X(A4)","X(A5)","X(A6)"]
["S1","(11+992.7)/(2)=501.85","(974.8+15)/(2)=494.85","(19+978.8)/(2)=498.85","(6+6)/(2)=6","(6+6)/(2)=6","(6+6)/(2)=6"]
["S2","(8+991.7)/(2)=499.85","(973.8+14)/(2)=493.85","(5+5)/(2)=5","(5+5)/(2)=5","(5+5)/(2)=5","(5+5)/(2)=5"]
["S3","(7+990.7)/(2)=498.85","(972.8+13)/(2)=492.9","(4+4)/(2)=4","(4+4)/(2)=4","(4+4)/(2)=4","(4+4)/(2)=4"]
["S4","(3+989.7)/(2)=496.35","(971.8+12)/(2)=491.9","(3+3)/(2)=3","(3+3)/(2)=3","(3+3)/(2)=3","(3+3)/(2)=3"]
["S5","(2+988.7)/(2)=495.35","(970.8+11)/(2)=490.9","(2+2)/(2)=2","(2+2)/(2)=2","(2+2)/(2)=2","(2+2)/(2)=2"]
["S6","(1+987.7)/(2)=494.35","(969.8+10)/(2)=489.9","(1+1)/(2)=1","(1+1)/(2)=1","(1+1)/(2)=1","(1+1)/(2)=1"]
["S7","(0+0)/(2)=0","(968.8+0)/(2)=484.4","(0+0)/(2)=0","(0+0)/(2)=0","(0+0)/(2)=0","(0+0)/(2)=0"]
[]
["Lépcsôk(2)","X(A1)","X(A2)","X(A3)","X(A4)","X(A5)","X(A6)"]
["S1",501.9,494.9,498.9,6,6,6]
["S2",499.9,493.9,5,5,5,5]
["S3",498.9,492.9,4,4,4,4]
["S4",496.4,491.9,3,3,3,3]
["S5",495.4,490.9,2,2,2,2]
["S6",494.4,489.9,1,1,1,1]
["S7",0,484.4,0,0,0,0]
[]
["COCO:Y0","módusz","medián","szórás","min","max","átlag","Becslés","Y0","Delta","Delta/Tény"]
["MA1",0,493.9,498.9,0,0,5,997.7,1000,2.2999999999999998,0.23]
["MA2",494.4,489.9,0,0,0,0,984.3,1000,15.7,1.57]
["MA3",498.9,492.9,1,2,3,2,999.7,1000,0.3,0.03]
["MA4",495.4,484.4,2,4,2,1,988.7,1000,11.3,1.1299999999999999]
["MA5",501.9,491.9,3,5,4,3,1008.7,1000,-8.6999999999999993,-0.87]
["MA6",499.9,490.9,4,6,5,4,1009.7,1000,-9.6999999999999993,-0.97]
["MA7",496.4,494.9,5,3,6,6,1011.2,1000,-11.2,-1.1200000000000001]
[]
["S1 összeg:",1513.7]
["S7 összeg:",484.4]
["Becslés összeg:",7000]
["Tény összeg:",7000]
["Tény-becslés eltérés:",0]
["Tény négyzetösszeg:"]
["Becslés négyzetösszeg:"]
["Négyzetösszeg hiba:",0]
[]
["Open url"]
[]
["Maximális memória használat: 1.35 Mb"]
["A futtatás idôtartama: 0.03 mp (0 p)"]

{"sheet":"metrikák_összehasonlítása","index":3,"n_rows":9,"n_cols":7,"rows_kept":9,"cut":false,"hidden":false,"merged":[[0,0,0,6]]}
["Statisztikai mutatók periódusonként"]
[null,"módusz","medián","szórás","min","max","átlag"]
["MA1",0,479,428.3206628288969,0,1634,570.18556701030923]
["MA2",394,423,347.07738182956149,0,1634,491.2525773195876]
["MA3",531.84536082474199,447.33333333333337,375.93853560202092,7,1694.3333333333335,531.84536082474199]
["MA4",407,394.75,380.69703624864894,10.5,1642.25,507.21907216494844]
["MA5",977.2,440.2,401.17412695419029,21.799999999999955,1707.4,534.05979381443319]
["MA6",540.0429553264604,439.33333333333326,403.55911471941698,25,1770.5,540.0429553264604]
["MA7",425.28571428571422,494.42857142857144,412.35770169268875,10,1815.5714285714284,574.02061855670092]

{"sheet":"mozgóátlag_minősítés_alternatív","index":4,"n_rows":115,"n_cols":20,"rows_kept":115,"cut":false,"hidden":false,"merged":[[54,0,66,0],[67,0,79,0],[80,0,92,0],[93,0,105,0],[0,0,0,9],[0,10,0,16],[2,0,14,0],[15,0,27,0],[28,0,40,0],[41,0,53,0]]}
["2020-2021 év mozgóátlag szemléltetés",null,null,null,null,null,null,null,null,null,"Az eltérések abszolút értékének különbsége"]
["Negyedév","Hét","K (db)","MA1","MA2","MA3","MA4","MA5","MA6","MA7","abshiba1","abshiba2","abshiba3","abshiba4","abshiba5","abshiba6","abshiba7"]
[1,1,1898,"-","-","-","-","-","-","-","-","-","-","-","-","-","-"]
[null,2,1752,{"$f":"C3","v":1898},"-","-","-","-","-","-",{"$f":"ABS(C4-D4)","v":146},"-","-","-","-","-","-"]
[null,3,2550,{"$f":"C4","v":1752},{"$f":"AVERAGE(C3:C4)","v":1825},"-","-","-","-","-",798,{"$f":"ABS(D5-E5)","v":73},"-","-","-","-","-",null,"Jelmagyarázat"]
[null,4,1826,2550,{"$f":"AVERAGE(C4:C5)","v":2151},{"$f":"AVERAGE(C3:C5)","v":2066.6666666666665},"-","-","-","-",724,399,{"$f":"ABS(E6-F6)","v":84.333333333333485},"-","-","-","-"]
[null,5,2471,1826,2188,{"$f":"AVERAGE(C4:C6)","v":2042.6666666666667},{"$f":"AVERAGE(C3:C6)","v":2006.5},"-","-","-",645,362,145.33333333333326,{"$f":"ABS(F7-G7)","v":36.166666666666742},"-","-","-",null,"MA1 =","1 periódusú mozgóátlag"]
[null,6,1563,2471,2148.5,2282.3333333333335,{"$f":"AVERAGE(C4:C7)","v":2149.75},{"$f":"AVERAGE(C3:C7)","v":2099.4},"-","-",908,322.5,133.83333333333348,132.58333333333348,{"$f":"ABS(G8-H8)","v":50.349999999999909},"-","-",null,"MA2 =","2 periódusú mozgóátlag"]
[null,7,2804,1563,2017,1953.3333333333333,2102.5,{"$f":"AVERAGE(C4:C8)","v":2032.4},{"$f":"AVERAGE(C3:C8)","v":2010},"-",1241,454,63.666666666666742,149.16666666666674,70.099999999999909,{"$f":"ABS(H9-I9)","v":22.400000000000091},"-",null,"MA3 =","3 periódusú mozgóátlag"]
[null,8,2341,2804,2183.5,2279.3333333333335,2166,2242.8000000000002,{"$f":"AVERAGE(C4:C9)","v":2161},{"$f":"AVERAGE(C3:C9)","v":2123.4285714285716},463,620.5,95.833333333333485,113.33333333333348,76.800000000000182,81.800000000000182,{"$f":"ABS(I10-J10)","v":37.571428571428442},null,"MA4 =","4 periódusú mozgóátlag"]
[null,9,2612,2341,2572.5,2236,2294.75,2201,2259.1666666666665,{"$f":"AVERAGE(C4:C10)","v":2186.7142857142858},271,231.5,336.5,58.75,93.75,58.166666666666515,72.452380952380736,null,"MA5 =","5 periódusú mozgóátlag"]
[null,10,1724,2612,2476.5,2585.6666666666665,2330,2358.1999999999998,2269.5,2309.5714285714284,888,135.5,109.16666666666652,255.66666666666652,28.199999999999818,88.699999999999818,40.071428571428442,null,"MA6 =","6 periódusú mozgóátlag"]
[null,11,2863,1724,2168,2225.6666666666665,2370.25,2208.8000000000002,2252.5,2191.5714285714284,1139,444,57.666666666666515,144.58333333333348,161.44999999999982,43.699999999999818,60.928571428571558,null,"MA7 =","7 periódusú mozgóátlag"]
[null,12,2578,2863,2293.5,2399.6666666666665,2385,2468.8000000000002,2317.8333333333335,2339.7142857142858,285,569.5,106.16666666666652,14.666666666666515,83.800000000000182,150.9666666666667,21.880952380952294]
[null,13,3454,2578,2720.5,2388.3333333333335,2444.25,2423.6,2487,2355,876,142.5,332.16666666666652,55.916666666666515,20.650000000000091,63.400000000000091,132,null,"K =","Raktár készlet"]
[2,14,2706,3454,3016,2965,2654.75,2646.2,2595.3333333333335,2625.1428571428573,748,438,51,310.25,8.5500000000001819,50.866666666666333,29.809523809523853]
[null,15,3110,2706,3080,2912.6666666666665,2900.25,2665,2656.1666666666665,2611.1428571428573,404,374,167.33333333333348,12.416666666666515,235.25,8.8333333333334849,45.023809523809177,null,"Az eltérések abszolút értékének különbsége"]
[null,16,2515,3110,2908,3090,2962,2942.2,2739.1666666666665,2721,595,202,182,128,19.800000000000182,203.0333333333333,18.166666666666515,null,"abshiba1=","abszolút értékű hiba mértéke 1 periódusú mozgóátlagnál"]
[null,17,3175,2515,2812.5,2777,2946.25,2872.6,2871,2707.1428571428573,660,297.5,35.5,169.25,73.650000000000091,1.5999999999999091,163.85714285714266,null,"abshiba2=","abszolút értékű hiba mértéke 2 periódusú mozgóátlagnál"]
[null,18,2258,3175,2845,2933.3333333333335,2876.5,2992,2923,2914.4285714285716,917,330,88.333333333333485,56.833333333333485,115.5,69,8.5714285714284415,null,"abshiba3=","abszolút értékű hiba mértéke 3 periódusú mozgóátlagnál"]
[null,19,2544,2258,2716.5,2649.3333333333335,2764.5,2752.8,2869.6666666666665,2828,286,458.5,67.166666666666515,115.16666666666652,11.699999999999818,116.86666666666633,41.666666666666515,null,"abshiba4=","abszolút értékű hiba mértéke 4 periódusú mozgóátlagnál"]
[null,20,1281,2544,2401,2659,2623,2720.4,2718,2823.1428571428573,1263,143,258,36,97.400000000000091,2.4000000000000909,105.14285714285734,null,"abshiba5=","abszolút értékű hiba mértéke 5 periódusú mozgóátlagnál"]
[null,21,1342,1281,1912.5,2027.6666666666667,2314.5,2354.6,2480.5,2512.7142857142858,61,631.5,115.16666666666674,286.83333333333326,40.099999999999909,125.90000000000009,32.214285714285779,null,"abshiba6=","abszolút értékű hiba mértéke 6 periódusú mozgóátlagnál"]
[null,22,601,1342,1311.5,1722.3333333333333,1856.25,2120,2185.8333333333335,2317.8571428571427,741,30.5,410.83333333333326,133.91666666666674,263.75,65.833333333333485,132.02380952380918,null,"abshiba7=","abszolút értékű hiba mértéke 7 periódusú mozgóátlagnál"]
[null,23,628,601,971.5,1074.6666666666667,1442,1605.2,1866.8333333333333,1959.4285714285713,27,370.5,103.16666666666674,367.33333333333326,163.20000000000005,261.63333333333321,92.595238095238074]
[null,24,302,628,614.5,857,963,1279.2,1442.3333333333333,1689.8571428571429,326,13.5,242.5,106,316.20000000000005,163.13333333333321,247.52380952380963]
[null,25,1628,302,465,510.33333333333331,718.25,830.8,1116.3333333333333,1279.4285714285713,1326,163,45.333333333333314,207.91666666666669,112.54999999999995,285.5333333333333,163.09523809523807]
[null,26,316,1628,965,852.66666666666663,789.75,900.2,963.66666666666663,1189.4285714285713,1312,663,112.33333333333337,62.916666666666629,110.45000000000005,63.466666666666583,225.7619047619047]
[3,27,1366,316,972,748.66666666666663,718.5,695,802.83333333333337,871.14285714285711,1050,656,223.33333333333337,30.166666666666629,23.5,107.83333333333337,68.309523809523739]
[null,28,1845,1366,841,1103.3333333333333,903,848,806.83333333333337,883.28571428571433,479,525,262.33333333333326,200.33333333333326,55,41.166666666666629,76.452380952380963]
[null,29,2074,1845,1605.5,1175.6666666666667,1288.75,1091.4000000000001,1014.1666666666666,955.14285714285711,229,239.5,429.83333333333326,113.08333333333326,197.34999999999991,77.233333333333462,59.023809523809518]
[null,30,1359,2074,1959.5,1761.6666666666667,1400.25,1445.8,1255.1666666666667,1165.5714285714287,715,114.5,197.83333333333326,361.41666666666674,45.549999999999955,190.63333333333321,89.595238095238074]
[null,31,1523,1359,1716.5,1759.3333333333333,1661,1392,1431.3333333333333,1270,164,357.5,42.833333333333258,98.333333333333258,269,39.333333333333258,161.33333333333326]
[null,32,285,1523,1441,1652,1700.25,1633.4,1413.8333333333333,1444.4285714285713,1238,82,211,48.25,66.849999999999909,219.56666666666683,30.595238095238074]
[null,33,285,285,904,1055.6666666666667,1310.25,1417.2,1408.6666666666667,1252.5714285714287,0,619,151.66666666666674,254.58333333333326,106.95000000000005,8.533333333333303,156.09523809523807]
[null,34,630,285,285,697.66666666666663,863,1105.2,1228.5,1248.1428571428571,{"$f":"ABS(C36-D36)","v":345},0,412.66666666666663,165.33333333333337,242.20000000000005,123.29999999999995,19.64285714285711]
[null,35,767,630,457.5,400,680.75,816.4,1026,1143,137,{"$f":"ABS(D37-E37)","v":172.5},57.5,280.75,135.64999999999998,209.60000000000002,117]
[null,36,217,767,698.5,560.66666666666663,491.75,698,808.16666666666663,989,550,68.5,{"$f":"ABS(E38-F38)","v":137.83333333333337},68.916666666666629,206.25,110.16666666666663,180.83333333333337]
[null,37,545,217,492,538,474.75,436.8,617.83333333333337,723.71428571428567,328,275,46,{"$f":"ABS(F39-G39)","v":63.25},37.949999999999989,181.03333333333336,105.88095238095229]
[null,38,914,545,381,509.66666666666669,539.75,488.8,454.83333333333331,607.42857142857144,369,164,128.66666666666669,30.083333333333314,{"$f":"ABS(G40-H40)","v":50.949999999999989},33.966666666666697,152.59523809523813]
[null,39,2253,914,729.5,558.66666666666663,610.75,614.6,559.66666666666663,520.42857142857144,1339,184.5,170.83333333333337,52.083333333333371,3.8500000000000227,{"$f":"ABS(H41-I41)","v":54.933333333333394},39.238095238095184]
[4,40,1324,2253,1583.5,1237.3333333333333,982.25,939.2,887.66666666666663,801.57142857142856,929,669.5,346.16666666666674,255.08333333333326,43.049999999999955,51.533333333333417,{"$f":"ABS(I42-J42)","v":86.095238095238074}]
[null,41,940,1324,1788.5,1497,1259,1050.5999999999999,1003.3333333333334,950,384,464.5,291.5,238,208.40000000000009,47.266666666666538,53.333333333333371]
[null,42,220,940,1132,1505.6666666666667,1357.75,1195.2,1032.1666666666667,994.28571428571433,720,192,373.66666666666674,147.91666666666674,162.54999999999995,163.0333333333333,37.880952380952408]
[null,43,972,220,580,828,1184.25,1130.2,1032.6666666666667,916.14285714285711,752,360,248,356.25,54.049999999999955,97.533333333333303,116.52380952380963]
[null,44,1271,972,596,710.66666666666663,864,1141.8,1103.8333333333333,1024,299,376,114.66666666666663,153.33333333333337,277.79999999999995,37.966666666666697,79.833333333333258]
[null,45,999,1271,1121.5,821,850.75,945.4,1163.3333333333333,1127.7142857142858,272,149.5,300.5,29.75,94.649999999999977,217.93333333333328,35.619047619047478]
[null,46,1775,999,1135,1080.6666666666667,865.5,880.4,954.33333333333337,1139.8571428571429,776,136,54.333333333333258,215.16666666666674,14.899999999999977,73.933333333333394,185.52380952380952]
[null,47,492,1775,1387,1348.3333333333333,1254.25,1047.4000000000001,1029.5,1071.5714285714287,1283,388,38.666666666666742,94.083333333333258,206.84999999999991,17.900000000000091,42.071428571428669]
[null,48,1997,492,1133.5,1088.6666666666667,1134.25,1101.8,954.83333333333337,952.71428571428567,1505,641.5,44.833333333333258,45.583333333333258,32.450000000000045,146.96666666666658,2.1190476190477057]
[null,49,1649,1997,1244.5,1421.3333333333333,1315.75,1306.8,1251,1103.7142857142858,348,752.5,176.83333333333326,105.58333333333326,8.9500000000000455,55.799999999999955,147.28571428571422]
[null,50,1263,1649,1823,1379.3333333333333,1478.25,1382.4,1363.8333333333333,1307.8571428571429,386,174,443.66666666666674,98.916666666666742,95.849999999999909,18.566666666666833,55.976190476190368]
[null,51,1263,1263,1456,1636.3333333333333,1350.25,1435.2,1362.5,1349.4285714285713,0,193,180.33333333333326,286.08333333333326,84.950000000000045,72.700000000000045,13.071428571428669]
[null,52,1263,1263,1263,1391.6666666666667,1543,1332.8,1406.5,1348.2857142857142,0,0,128.66666666666674,151.33333333333326,210.20000000000005,73.700000000000045,58.214285714285779]
[1,1,1183,{"$f":"C54","v":1263},{"$f":"AVERAGE(C53:C54)","v":1263},{"$f":"AVERAGE(C52:C54)","v":1263},{"$f":"AVERAGE(C51:C54)","v":1359.5},{"$f":"AVERAGE(C50:C54)","v":1487},{"$f":"AVERAGE(C49:C54)","v":1321.1666666666667},{"$f":"AVERAGE(C48:C54)","v":1386},80,0,0,96.5,127.5,165.83333333333326,64.833333333333258]
[null,2,1011,1183,{"$f":"AVERAGE(C54:C55)","v":1223},{"$f":"AVERAGE(C53:C55)","v":1236.3333333333333},{"$f":"AVERAGE(C52:C55)","v":1243},{"$f":"AVERAGE(C51:C55)","v":1324.2},1436.3333333333333,1301.4285714285713,172,40,13.333333333333258,6.6666666666667425,81.200000000000045,112.13333333333321,134.90476190476193]
[null,3,773,1011,1097,{"$f":"AVERAGE(C54:C56)","v":1152.3333333333333},{"$f":"AVERAGE(C53:C56)","v":1180},{"$f":"AVERAGE(C52:C56)","v":1196.5999999999999},1272,1375.5714285714287,238,86,55.333333333333258,27.666666666666742,16.599999999999909,75.400000000000091,103.57142857142867]
[null,4,1437,773,892,989,{"$f":"AVERAGE(C54:C57)","v":1057.5},{"$f":"AVERAGE(C53:C57)","v":1098.5999999999999},1126,1200.7142857142858,664,119,97,68.5,41.099999999999909,27.400000000000091,74.714285714285779]
[null,5,428,1437,1105,1073.6666666666667,1101,{"$f":"AVERAGE(C54:C58)","v":1133.4000000000001},1155,1170.4285714285713,1009,332,31.333333333333258,27.333333333333258,32.400000000000091,21.599999999999909,15.428571428571331]
[null,6,397,428,932.5,879.33333333333337,912.25,966.4,1015.8333333333334,1051.1428571428571,31,504.5,53.166666666666629,32.916666666666629,54.149999999999977,49.433333333333394,35.309523809523739]
[null,7,92,397,412.5,754,758.75,809.2,871.5,927.42857142857144,305,15.5,341.5,4.75,50.450000000000045,62.299999999999955,55.928571428571445]
[null,8,1046,92,244.5,305.66666666666669,588.5,625.4,689.66666666666663,{"$f":"AVERAGE(C55:C61)","v":760.14285714285711},954,152.5,61.166666666666686,282.83333333333331,36.899999999999977,64.266666666666652,70.476190476190482]
[null,9,186,1046,569,511.66666666666669,490.75,680,695.5,740.57142857142856,860,477,57.333333333333314,20.916666666666686,189.25,15.5,45.071428571428555]
[null,10,679,186,616,441.33333333333331,430.25,429.8,597.66666666666663,622.71428571428567,493,430,174.66666666666669,11.083333333333314,0.44999999999998863,167.86666666666662,25.047619047619037]
[null,11,253,679,432.5,637,500.75,480,471.33333333333331,609.28571428571433,426,246.5,204.5,136.25,20.75,8.6666666666666856,137.95238095238102]
[null,12,899,253,466,372.66666666666669,541,451.2,442.16666666666669,440.14285714285717,646,213,93.333333333333314,168.33333333333331,89.800000000000011,9.033333333333303,2.0238095238095184]
[null,13,163,899,576,610.33333333333337,504.25,612.6,525.83333333333337,507.42857142857144,736,323,34.333333333333371,106.08333333333337,108.35000000000002,86.766666666666652,18.404761904761926]
[2,14,781,163,531,438.33333333333331,498.5,436,537.66666666666663,474,{"$f":"ABS(C68-D68)","v":618},368,92.666666666666686,60.166666666666686,62.5,101.66666666666663,63.666666666666629]
[null,15,78,{"$f":"C68","v":781},472,614.33333333333337,524,555,493.5,572.42857142857144,703,{"$f":"ABS(D69-E69)","v":309},142.33333333333337,90.333333333333371,31,61.5,78.928571428571445]
[null,16,875,78,{"$f":"AVERAGE(C68:C69)","v":429.5},340.66666666666669,480.25,434.8,475.5,434.14285714285717,797,351.5,{"$f":"ABS(E70-F70)","v":88.833333333333314},139.58333333333331,45.449999999999989,40.699999999999989,41.357142857142833]
[null,17,374,875,476.5,{"$f":"AVERAGE(C68:C70)","v":578},474.25,559.20000000000005,508.16666666666669,532.57142857142856,501,398.5,101.5,{"$f":"ABS(F71-G71)","v":103.75},84.950000000000045,51.03333333333336,24.40476190476187]
[null,18,1292,374,624.5,442.33333333333331,{"$f":"AVERAGE(C68:C71)","v":527},454.2,528.33333333333337,489,918,250.5,182.16666666666669,84.666666666666686,{"$f":"ABS(G72-H72)","v":72.800000000000011},74.133333333333383,39.333333333333371]
[null,19,417,1292,833,847,654.75,{"$f":"AVERAGE(C68:C72)","v":680},593.83333333333337,637.42857142857144,875,459,14,192.25,25.25,{"$f":"ABS(H73-I73)","v":86.166666666666629},43.595238095238074]
[null,20,1575,417,854.5,694.33333333333337,739.5,607.20000000000005,{"$f":"AVERAGE(C68:C73)","v":636.16666666666663},568.57142857142856,1158,437.5,160.16666666666663,45.166666666666629,132.29999999999995,28.966666666666583,{"$f":"ABS(I74-J74)","v":67.595238095238074}]
[null,21,568,1575,996,1094.6666666666667,914.5,906.6,768.5,770.28571428571433,1007,579,98.666666666666742,180.16666666666674,7.8999999999999773,138.10000000000002,1.7857142857143344]
[null,22,1378,568,1071.5,853.33333333333337,963,845.2,850.16666666666663,739.85714285714289,810,503.5,218.16666666666663,109.66666666666663,117.79999999999995,4.9666666666665833,110.30952380952374]
[null,23,230,1378,973,1173.6666666666667,984.5,1046,934,925.57142857142856,1148,405,200.66666666666674,189.16666666666674,61.5,112,8.4285714285714448]
[null,24,1546,230,804,725.33333333333337,937.75,833.6,910,833.42857142857144,1316,574,78.666666666666629,212.41666666666663,104.14999999999998,76.399999999999977,76.571428571428555]
[null,25,1341,1546,888,1051.3333333333333,930.5,1059.4000000000001,952.33333333333337,1000.8571428571429,205,658,163.33333333333326,120.83333333333326,128.90000000000009,107.06666666666672,48.523809523809518]
[null,26,1793,1341,1443.5,1039,1123.75,1012.6,1106.3333333333333,1007.8571428571429,452,102.5,404.5,84.75,111.14999999999998,93.733333333333235,98.476190476190368]
[3,27,1582,1793,1567,1560,1227.5,1257.5999999999999,1142.6666666666667,1204.4285714285713,211,226,7,332.5,30.099999999999909,114.93333333333317,61.761904761904589]
[null,28,1126,1582,1687.5,1572,1565.5,1298.4000000000001,1311.6666666666667,1205.4285714285713,456,105.5,115.5,6.5,267.09999999999991,13.266666666666652,106.23809523809541]
[null,29,447,1126,1354,1500.3333333333333,1460.5,1477.6,1269.6666666666667,1285.1428571428571,679,228,146.33333333333326,39.833333333333258,17.099999999999909,207.93333333333317,15.476190476190368]
[null,30,334,447,786.5,1051.6666666666667,1237,1257.8,1305.8333333333333,1152.1428571428571,113,339.5,265.16666666666674,185.33333333333326,20.799999999999955,48.033333333333303,153.69047619047615]
[null,31,1630,334,390.5,635.66666666666663,872.25,1056.4000000000001,1103.8333333333333,1167,1296,56.5,245.16666666666663,236.58333333333337,184.15000000000009,47.433333333333167,63.166666666666742]
[null,32,170,1630,982,803.66666666666663,884.25,1023.8,1152,1179,1460,648,178.33333333333337,80.583333333333371,139.54999999999995,128.20000000000005,27]
[null,33,170,170,900,711.33333333333337,645.25,741.4,881.5,1011.7142857142857,0,730,188.66666666666663,66.083333333333371,96.149999999999977,140.10000000000002,130.21428571428567]
[null,34,218,170,170,656.66666666666663,576,550.20000000000005,646.16666666666663,779.85714285714289,48,0,486.66666666666663,80.666666666666629,25.799999999999955,95.966666666666583,133.69047619047626]
[null,35,110,218,194,186,547,504.4,494.83333333333331,585,108,24,8,361,42.600000000000023,9.5666666666666629,90.166666666666686]
[null,36,281,110,164,166,167,459.6,438.66666666666669,439.85714285714283,171,54,2,1,292.60000000000002,20.933333333333337,1.1904761904761472]
[null,37,689,281,195.5,203,194.75,189.8,429.83333333333331,416.14285714285717,408,85.5,7.5,8.25,4.9499999999999886,240.0333333333333,13.690476190476147]
[null,38,1445,689,485,360,324.5,293.60000000000002,273,466.85714285714283,756,204,125,35.5,30.899999999999977,20.600000000000023,193.85714285714283]
[null,39,2256,1445,1067,805,631.25,548.6,485.5,440.42857142857144,811,378,262,173.75,82.649999999999977,63.100000000000023,45.071428571428555]
[4,40,1480,2256,1850.5,1463.3333333333333,1167.75,956.2,833.16666666666663,738.42857142857144,776,405.5,387.16666666666674,295.58333333333326,211.54999999999995,123.03333333333342,94.738095238095184]
[null,41,1457,1480,1868,1727,1467.5,1230.2,1043.5,925.57142857142856,23,388,141,259.5,237.29999999999995,186.70000000000005,117.92857142857144]
[null,42,1427,1457,1468.5,1731,1659.5,1465.4,1268,1102.5714285714287,30,11.5,262.5,71.5,194.09999999999991,197.40000000000009,165.42857142857133]
[null,43,1716,1427,1442,1454.6666666666667,1655,1613,1459,1290.7142857142858,289,15,12.666666666666742,200.33333333333326,42,154,168.28571428571422]
[null,44,1799,1716,1571.5,1533.3333333333333,1520,1667.2,1630.1666666666667,1495.7142857142858,83,144.5,38.166666666666742,13.333333333333258,147.20000000000005,37.033333333333303,134.45238095238096]
[null,45,1799,1799,1757.5,1647.3333333333333,1599.75,1575.8,1689.1666666666667,1654.2857142857142,0,41.5,110.16666666666674,47.583333333333258,23.950000000000045,113.36666666666679,34.880952380952522]
[null,46,165,1799,1799,1771.3333333333333,1685.25,1639.6,1613,1704.8571428571429,{"$f":"ABS(C100-D100)","v":1634},0,27.666666666666742,86.083333333333258,45.650000000000091,26.599999999999909,91.85714285714289]
[null,47,252,165,982,1254.3333333333333,1369.75,1381.2,1393.8333333333333,1406.1428571428571,87,{"$f":"ABS(D101-E101)","v":817},272.33333333333326,115.41666666666674,11.450000000000045,12.633333333333212,12.309523809523853]
[null,48,1168,252,208.5,738.66666666666663,1003.75,1146.2,1193,1230.7142857142858,916,43.5,{"$f":"ABS(E102-F102)","v":530.16666666666663},265.08333333333337,142.45000000000005,46.799999999999955,37.714285714285779]
[null,49,722,1168,710,528.33333333333337,846,1036.5999999999999,1149.8333333333333,1189.4285714285713,446,458,181.66666666666663,{"$f":"ABS(F103-G103)","v":317.66666666666663},190.59999999999991,113.23333333333335,39.595238095238074]
[null,50,522,722,945,714,576.75,821.2,984.16666666666663,1088.7142857142858,200,223,231,137.25,244.45000000000005,162.96666666666658,104.54761904761915]
[null,51,522,522,622,804,666,565.79999999999995,771.33333333333337,918.14285714285711,0,100,182,138,100.20000000000005,205.53333333333342,146.80952380952374]
[null,52,522,522,522,588.66666666666663,733.5,637.20000000000005,558.5,735.71428571428567,0,0,66.666666666666629,144.83333333333337,96.299999999999955,78.700000000000045,177.21428571428567]
[null,null,"-",522,522,522,572,691.2,618,553.28571428571433,"-",0,0,50,119.20000000000005,73.200000000000045,64.714285714285666]
[null,null,"-","-",{"$f":"AVERAGE(C106:C107)","v":522},522,522,572,691.2,618,"-","-",0,0,50,119.20000000000005,73.200000000000045]
[]
[null,null,null,null,null,null,null,null,null,null,{"$f":"MODE(K4:K108)","v":0},{"$f":"MODE(L5:L108)","v":0},{"$f":"MODE(M6:M108)","v":0},{"$f":"MODE(N7:N108)","v":200.33333333333326},{"$f":"MODE(O8:O108)","v":84.950000000000045},0,{"$f":"MODE(Q10:Q108)","v":45.071428571428555},"módusz"]
[null,null,null,null,null,null,null,null,null,null,{"$f":"MEDIAN(K4:K108)","v":501},{"$f":"MEDIAN(L5:L108)","v":250.5},{"$f":"MEDIAN(M6:M108)","v":128.66666666666674},{"$f":"MEDIAN(N7:N108)","v":107.875},{"$f":"MEDIAN(O8:O108)","v":82.649999999999977},{"$f":"MEDIAN(P9:P108)","v":74.033333333333388},{"$f":"MEDIAN(Q10:Q108)","v":64.833333333333258},"medián"]
[null,null,null,null,null,null,null,null,null,null,{"$f":"STDEV(K4:K108)","v":425.03408470168051},{"$f":"STDEV(L5:L108)","v":212.51704235084026},{"$f":"STDEV(M6:M108)","v":122.29339696958705},{"$f":"STDEV(N7:N108)","v":97.716513737944368},{"$f":"STDEV(O8:O108)","v":79.064711298861226},{"$f":"STDEV(P9:P108)","v":65.714421503979509},{"$f":"STDEV(Q10:Q108)","v":55.707452804310677},"szórás"]
[null,null,null,null,null,null,null,null,null,null,{"$f":"MIN(K4:K108)","v":0},{"$f":"MIN(L5:L108)","v":0},{"$f":"MIN(M6:M108)","v":0},{"$f":"MIN(N7:N108)","v":0},{"$f":"MIN(O8:O108)","v":0.44999999999998863},{"$f":"MIN(P9:P108)","v":1.5999999999999091},{"$f":"MIN(Q10:Q108)","v":1.1904761904761472},"min"]
[null,null,null,null,null,null,null,null,null,null,{"$f":"MAX(K4:K108)","v":1634},{"$f":"MAX(L5:L108)","v":817},{"$f":"MAX(M6:M108)","v":530.16666666666663},{"$f":"MAX(N7:N108)","v":367.33333333333326},{"$f":"MAX(O8:O108)","v":316.20000000000005},{"$f":"MAX(P9:P108)","v":285.5333333333333},{"$f":"MAX(Q10:Q108)","v":247.52380952380963},"max"]
[null,null,null,null,null,null,null,null,null,null,{"$f":"AVERAGE(K4:K108)","v":580.29126213592235},{"$f":"AVERAGE(L5:L108)","v":290.14563106796118},{"$f":"AVERAGE(M6:M108)","v":157.28802588996757},{"$f":"AVERAGE(N7:N108)","v":129.90032679738562},{"$f":"AVERAGE(O8:O108)","v":99.15148514851488},{"$f":"AVERAGE(P9:P108)","v":90.425000000000011},{"$f":"AVERAGE(Q10:Q108)","v":79.050841750841755},"átlag"]

{"sheet":"sorszámozás_alternatív","index":5,"n_rows":31,"n_cols":21,"rows_kept":31,"cut":false,"hidden":false,"merged":[]}
[null,"módusz","medián","szórás","min","max","átlag"]
["ma1",0,501,425.03408470168051,0,1634,580.29126213592235]
["ma2",0,250.5,212.51704235084026,0,817,290.14563106796118]
["ma3",0,128.66666666666674,122.29339696958705,0,530.16666666666663,157.28802588996757]
["ma4",200.33333333333326,107.875,97.716513737944368,0,367.33333333333326,129.90032679738562]
["ma5",84.950000000000045,82.649999999999977,79.064711298861226,0.44999999999998863,316.20000000000005,99.15148514851488]
["ma6",0,74.033333333333388,65.714421503979509,1.5999999999999091,285.5333333333333,90.425000000000011]
["ma7",45.071428571428555,64.833333333333258,55.707452804310677,1.1904761904761472,247.52380952380963,79.050841750841755]
[null,"módusz","medián","szórás","min","max","átlag"]
["irány",1,1,1,1,1,1]
[]
["Rangsor","módusz","medián","szórás","min","max","átlag","Y0","Naiv megoldás"]
["MA1",{"$f":"RANK(B2,B$2:B$8,B$10)","v":1},7,7,1,7,7,1000,{"$f":"SUM(B13:G13)","v":30},null,null,null,null,0,0,0,200.33333333333326,84.950000000000045,90.425000000000011,45.071428571428555,"módusz"]
["MA2",1,6,6,1,6,6,1000,{"$f":"SUM(B14:G14)","v":26},null,null,null,null,501,250.5,128.66666666666674,107.875,82.649999999999977,74.033333333333388,64.833333333333258,"medián"]
["MA3",1,5,5,1,5,5,1000,22,null,null,null,null,425.03408470168051,212.51704235084026,122.29339696958705,97.716513737944368,79.064711298861226,65.714421503979509,55.707452804310677,"szórás"]
["MA4",7,4,4,1,4,4,1000,24,null,null,null,null,0,0,0,0,0.44999999999998863,1.5999999999999091,1.1904761904761472,"min"]
["MA5",6,3,3,5,3,3,1000,23,null,null,null,null,1634,817,530.16666666666663,367.33333333333326,316.20000000000005,285.5333333333333,247.52380952380963,"max"]
["MA6",1,2,2,7,2,2,1000,16,null,null,null,null,580.29126213592235,290.14563106796118,157.28802588996757,129.90032679738562,99.15148514851488,90.425000000000011,79.050841750841755,"átlag"]
["MA7",5,1,1,6,1,1,1000,15]
[]
[]
[null,"módusz","medián","szórás","min","max","átlag"]
["ma1",0,501,425.03408470168051,0,1634,580.29126213592235]
["ma2",0,250.5,212.51704235084026,0,817,290.14563106796118]
["ma3",0,128.66666666666674,122.29339696958705,0,530.16666666666663,157.28802588996757]
["ma4",200.33333333333326,107.875,97.716513737944368,0,367.33333333333326,129.90032679738562]
["ma5",84.950000000000045,82.649999999999977,79.064711298861226,0.44999999999998863,316.20000000000005,99.15148514851488]
["ma6",0,74.033333333333388,65.714421503979509,1.5999999999999091,285.5333333333333,90.425000000000011]
["ma7",45.071428571428555,64.833333333333258,55.707452804310677,1.1904761904761472,247.52380952380963,79.050841750841755]
[null,"módusz","medián","szórás","min","max","átlag"]
["irány",1,1,1,1,1,1]

{"sheet":"COCO_elemzés_alternatív","index":6,"n_rows":55,"n_cols":29,"rows_kept":55,"cut":false,"hidden":false,"merged":[]}
[]
[]
[]
[]
["Azonosító:",8998654,"Objektumok:",7,"Attribútumok:",6,"Lépcsôk:",7,"Eltolás:",0,"Leírás:","COCO Y0: 8998654",null,null,null,null,null,"Azonosító:",1313967,"Objektumok:",7,"Attribútumok:",6,"Lépcsôk:",7,"Eltolás:",0,"Leírás:","COCO Y0: 1313967"]
[]
["Rangsor",{"$f":"sorszámozás_alternatív!B12","v":"módusz"},{"$f":"sorszámozás_alternatív!C12","v":"medián"},{"$f":"sorszámozás_alternatív!D12","v":"szórás"},{"$f":"sorszámozás_alternatív!E12","v":"min"},{"$f":"sorszámozás_alternatív!F12","v":"max"},{"$f":"sorszámozás_alternatív!G12","v":"átlag"},{"$f":"sorszámozás_alternatív!H12","v":"Y0"},null,"inverz","inverz","inverz","inverz","inverz","inverz","Y0",null,"Rangsor",{"$f":"B7","v":"módusz"},{"$f":"C7","v":"medián"},"szórás","min","max","átlag","Y0"]
[{"$f":"sorszámozás_alternatív!A13","v":"MA1"},1,7,7,1,7,7,1000,null,{"$f":"8-B8","v":7},{"$f":"8-C8","v":1},{"$f":"8-D8","v":1},7,1,1,1000,null,{"$f":"A8","v":"MA1"},7,1,1,7,1,1,1000,"<-- stróman kizárása"]
[{"$f":"sorszámozás_alternatív!A14","v":"MA2"},1,6,6,1,6,6,1000,null,7,2,2,7,2,2,1000,null,{"$f":"A9","v":"MA2"},7,2,2,7,2,2,1000]
[{"$f":"sorszámozás_alternatív!A15","v":"MA3"},1,5,5,1,5,5,1000,null,7,3,3,7,3,3,1000,null,"MA3",7,3,3,7,3,3,1000]
[{"$f":"sorszámozás_alternatív!A16","v":"MA4"},7,4,4,1,4,4,1000,null,1,4,4,{"$f":"8-E11","v":7},4,4,1000,null,"MA4",1,4,4,7,4,4,1000]
[{"$f":"sorszámozás_alternatív!A17","v":"MA5"},6,3,3,5,3,3,1000,null,2,5,5,3,5,5,1000,null,"MA5",2,5,5,3,5,5,1000]
[{"$f":"sorszámozás_alternatív!A18","v":"MA6"},1,2,2,7,2,2,1000,null,7,6,6,1,6,6,1000,null,"MA6",7,6,6,1,6,6,1000]
[{"$f":"sorszámozás_alternatív!A19","v":"MA7"},5,1,1,6,1,1,1000,null,3,7,7,2,7,7,1000,null,"MA7",3,7,7,2,7,7,1000]
[]
["Lépcsôk(1)","X(A1)","X(A2)","X(A3)","X(A4)","X(A5)","X(A6)",null,null,null,null,null,null,null,null,null,null,"Lépcsôk(1)","X(A1)","X(A2)","X(A3)","X(A4)","X(A5)","X(A6)"]
["S1","(492+12)/(2)=252","(494+974)/(2)=734","(6+6)/(2)=6","(500+20)/(2)=260","(6+6)/(2)=6","(6+6)/(2)=6",null,null,null,null,null,null,null,null,null,null,"S1","(12+988)/(2)=500","(982+990)/(2)=986","(6+6)/(2)=6","(20+996)/(2)=508","(6+6)/(2)=6","(6+6)/(2)=6"]
["S2","(491+11)/(2)=251","(493+973)/(2)=733","(5+5)/(2)=5","(499+19)/(2)=259","(5+5)/(2)=5","(5+5)/(2)=5",null,null,null,null,null,null,null,null,null,null,"S2","(11+987)/(2)=499","(981+989)/(2)=985","(5+5)/(2)=5","(14+995)/(2)=504.5","(5+5)/(2)=5","(5+5)/(2)=5"]
["S3","(490+10)/(2)=250","(492+972)/(2)=732","(4+4)/(2)=4","(498+18)/(2)=258","(4+4)/(2)=4","(4+4)/(2)=4",null,null,null,null,null,null,null,null,null,null,"S3","(10+5)/(2)=7.5","(980+988)/(2)=984","(4+4)/(2)=4","(5+5)/(2)=5","(4+4)/(2)=4","(4+4)/(2)=4"]
["S4","(489+9)/(2)=249","(491+971)/(2)=731","(3+3)/(2)=3","(497+17)/(2)=257","(3+3)/(2)=3","(3+3)/(2)=3",null,null,null,null,null,null,null,null,null,null,"S4","(3+3)/(2)=3","(979+3)/(2)=491","(3+3)/(2)=3","(3+3)/(2)=3","(3+3)/(2)=3","(3+3)/(2)=3"]
["S5","(487+7)/(2)=247","(2+970)/(2)=486","(2+2)/(2)=2","(495+15)/(2)=255","(2+2)/(2)=2","(2+2)/(2)=2",null,null,null,null,null,null,null,null,null,null,"S5","(2+2)/(2)=2","(978+2)/(2)=490","(2+2)/(2)=2","(2+2)/(2)=2","(2+2)/(2)=2","(2+2)/(2)=2"]
["S6","(1+1)/(2)=1","(1+969)/(2)=485","(1+1)/(2)=1","(1+1)/(2)=1","(1+1)/(2)=1","(1+1)/(2)=1",null,null,null,null,null,null,null,null,null,null,"S6","(1+1)/(2)=1","(977+1)/(2)=489","(1+1)/(2)=1","(1+1)/(2)=1","(1+1)/(2)=1","(1+1)/(2)=1"]
["S7","(0+0)/(2)=0","(0+968)/(2)=484","(0+0)/(2)=0","(0+0)/(2)=0","(0+0)/(2)=0","(0+0)/(2)=0",null,null,null,null,null,null,null,null,null,null,"S7","(0+0)/(2)=0","(976+0)/(2)=488","(0+0)/(2)=0","(0+0)/(2)=0","(0+0)/(2)=0","(0+0)/(2)=0"]
[]
["Lépcsôk(2)","X(A1)","X(A2)","X(A3)","X(A4)","X(A5)","X(A6)",null,null,null,null,null,null,null,null,null,null,"Lépcsôk(2)","X(A1)","X(A2)","X(A3)","X(A4)","X(A5)","X(A6)"]
["S1",252,734,6,260,6,6,null,null,null,null,null,null,null,null,null,null,"S1",500,986,6,508,6,6]
["S2",251,733,5,259,5,5,null,null,null,null,null,null,null,null,null,null,"S2",499,985,5,"504.5",5,5]
["S3",250,732,4,258,4,4,null,null,null,null,null,null,null,null,null,null,"S3","7.5",984,4,5,4,4]
["S4",249,731,3,257,3,3,null,null,null,null,null,null,null,null,null,null,"S4",3,491,3,3,3,3]
["S5",247,486,2,255,2,2,null,null,null,null,null,null,null,null,null,null,"S5",2,490,2,2,2,2]
["S6",1,485,1,1,1,1,null,null,null,null,null,null,null,null,null,null,"S6",1,489,1,1,1,1]
["S7",0,484,0,0,0,0,null,null,null,null,null,null,null,null,null,null,"S7",0,488,0,0,0,0]
[]
["COCO:Y0","X(A1)","X(A2)","X(A3)","X(A4)","X(A5)","X(A6)","Becslés","Tény+0","Delta","Delta/Tény",null,null,null,null,null,null,"COCO:Y0","X(A1)","X(A2)","X(A3)","X(A4)","X(A5)","X(A6)","Becslés","Tény+0","Delta","Delta/Tény"]
["O1",252,484,0,260,0,0,996,1000,4,"0.4",null,null,null,null,null,null,"O1",0,986,6,0,6,6,1004,1000,-4,"-0.4"]
["O2",252,485,1,260,1,1,1000,1000,0,0,null,null,null,null,null,null,"O2",0,985,5,0,5,5,1000,1000,0,0]
["O3",252,486,2,260,2,2,1004,1000,-4,"-0.4",null,null,null,null,null,null,"O3",0,984,4,0,4,4,996,1000,4,"0.4"]
["O4",0,731,3,260,3,3,1000,1000,0,0,null,null,null,null,null,null,"O4",500,491,3,0,3,3,1000,1000,0,0]
["O5",1,732,4,255,4,4,1000,1000,0,0,null,null,null,null,null,null,"O5",499,490,2,5,2,2,1000,1000,0,0]
["O6",252,733,5,0,5,5,1000,1000,0,0,null,null,null,null,null,null,"O6",0,489,1,508,1,1,1000,1000,0,0]
["O7",247,734,6,1,6,6,1000,1000,0,0,null,null,null,null,null,null,"O7","7.5",488,0,"504.5",0,0,1000,1000,0,0]
[]
["S1 összeg:",1264,null,null,null,null,null,null,null,null,null,null,null,null,null,null,null,"S1 összeg:",2012]
["S7 összeg:",484,null,null,null,null,null,null,null,null,null,null,null,null,null,null,null,"S7 összeg:",488]
["Becslés összeg:",7000,null,null,null,null,null,null,null,null,null,null,null,null,null,null,null,"Becslés összeg:",7000]
["Tény összeg:",7000,null,null,null,null,null,null,null,null,null,null,null,null,null,null,null,"Tény összeg:",7000]
["Tény-becslés eltérés:",0,null,null,null,null,null,null,null,null,null,null,null,null,null,null,null,"Tény-becslés eltérés:",0]
["Tény négyzetösszeg:",null,null,null,null,null,null,null,null,null,null,null,null,null,null,null,null,"Tény négyzetösszeg:"]
["Becslés négyzetösszeg:",null,null,null,null,null,null,null,null,null,null,null,null,null,null,null,null,"Becslés négyzetösszeg:"]
["Négyzetösszeg hiba:",0,null,null,null,null,null,null,null,null,null,null,null,null,null,null,null,"Négyzetösszeg hiba:",0]
[]
["Open url",null,null,null,null,null,null,null,null,null,null,null,null,null,null,null,null,"Open url"]
[]
["Maximális memória használat: 1.34 Mb",null,null,null,null,null,null,null,null,null,null,null,null,null,null,null,null,"Maximális memória használat: 1.34 Mb"]
["A futtatás idôtartama: 0.02 mp (0 p)",null,null,null,null,null,null,null,null,null,null,null,null,null,null,null,null,"A futtatás idôtartama: 0.03 mp (0 p)"]

{"sheet":"COCO_eredmény_alternatív","index":7,"n_rows":53,"n_cols":29,"rows_kept":53,"cut":false,"hidden":false,"merged":[]}
[]
[]
[]
[]
["Azonosító:",9433090,"Objektumok:",6,"Attribútumok:",6,"Lépcsôk:",7,"Eltolás:",0,"Leírás:","COCO Y0: 9433090",null,"Azonosító:",9404910,"Objektumok:",5,"Attribútumok:",6,"Lépcsôk:",7,"Eltolás:",0,"Leírás:","COCO Y0: 9404910"]
[null,null,null,null,null,null,null,null,null,null,null,null,null,null,"Átlag?",null,null,null,null,"Átlag!"]
["Rangsor",{"$f":"COCO_elemzés_alternatív!B7","v":"módusz"},{"$f":"COCO_elemzés_alternatív!C7","v":"medián"},{"$f":"COCO_elemzés_alternatív!D7","v":"szórás"},{"$f":"COCO_elemzés_alternatív!E7","v":"min"},{"$f":"COCO_elemzés_alternatív!F7","v":"max"},{"$f":"COCO_elemzés_alternatív!G7","v":"átlag"},{"$f":"COCO_elemzés_alternatív!H7","v":"Y0"},null,null,null,null,null,"Rangsor","X(A1)","X(A2)","X(A3)","X(A4)","X(A5)","X(A6)","Y(A7)",null,null,null,{"$f":"Q7","v":"X(A3)"},{"$f":"S7","v":"X(A5)"},{"$f":"T7","v":"X(A6)"}]
[{"$f":"COCO_elemzés_alternatív!A9","v":"MA2"},1,6,6,1,6,6,1000,"<-- stróman kizárása",null,null,null,null,{"$f":"A9","v":"MA3"},1,5,5,1,5,5,1000,null,null,{"$f":"N8","v":"MA3"},5,5,5,1000]
[{"$f":"COCO_elemzés_alternatív!A10","v":"MA3"},1,5,5,1,5,5,1000,null,null,null,null,null,{"$f":"A10","v":"MA4"},7,4,4,1,4,4,1000,null,null,"MA4",4,4,4,1000]
[{"$f":"COCO_elemzés_alternatív!A11","v":"MA4"},7,4,4,1,4,4,1000,null,null,null,null,null,"MA5",6,3,3,5,3,3,1000,null,null,"MA5",3,3,3,1000]
[{"$f":"COCO_elemzés_alternatív!A12","v":"MA5"},6,3,3,5,3,3,1000,null,null,null,null,null,"MA6",1,2,2,7,2,2,1000,null,null,"MA6",2,2,2,1000]
[{"$f":"COCO_elemzés_alternatív!A13","v":"MA6"},1,2,2,7,2,2,1000,null,null,null,null,null,"MA7",5,1,1,6,1,1,1000,null,null,{"$f":"N12","v":"MA7"},1,1,1,1000,"<--győztes"]
[{"$f":"COCO_elemzés_alternatív!A14","v":"MA7"},5,1,1,6,1,1,1000]
[null,null,null,null,null,null,null,null,null,null,null,null,null,"Lépcsôk(1)","X(A1)","X(A2)","X(A3)","X(A4)","X(A5)","X(A6)"]
["Lépcsôk(1)","X(A1)","X(A2)","X(A3)","X(A4)","X(A5)","X(A6)",null,null,null,null,null,null,"S1","(0+7)/(1)=7","(0+979)/(1)=979","(0+6)/(1)=6","(0+15)/(1)=15","(0+6)/(1)=6","(0+6)/(1)=6"]
["S1","(492+8)/(2)=250","(494+978)/(2)=736","(6+6)/(2)=6","(500+16)/(2)=258","(6+6)/(2)=6","(6+6)/(2)=6",null,null,null,null,null,null,"S2","(0+6)/(1)=6","(0+978)/(1)=978","(0+5)/(1)=5","(0+14)/(1)=14","(0+5)/(1)=5","(0+5)/(1)=5"]
["S2","(491+7)/(2)=249","(493+977)/(2)=735","(5+5)/(2)=5","(499+15)/(2)=257","(5+5)/(2)=5","(5+5)/(2)=5",null,null,null,null,null,null,"S3","(0+5)/(1)=5","(0+977)/(1)=977","(0+4)/(1)=4","(0+13)/(1)=13","(0+4)/(1)=4","(0+4)/(1)=4"]
["S3","(490+6)/(2)=248","(492+976)/(2)=734","(4+4)/(2)=4","(498+14)/(2)=256","(4+4)/(2)=4","(4+4)/(2)=4",null,null,null,null,null,null,"S4","(0+4)/(1)=4","(0+976)/(1)=976","(0+3)/(1)=3","(0+12)/(1)=12","(0+3)/(1)=3","(0+3)/(1)=3"]
["S4","(489+5)/(2)=247","(491+975)/(2)=733","(3+3)/(2)=3","(497+13)/(2)=255","(3+3)/(2)=3","(3+3)/(2)=3",null,null,null,null,null,null,"S5","(0+2)/(1)=2","(0+972)/(1)=972","(0+2)/(1)=2","(0+10)/(1)=10","(0+2)/(1)=2","(0+2)/(1)=2"]
["S5","(487+3)/(2)=245","(2+974)/(2)=488","(2+2)/(2)=2","(495+11)/(2)=253","(2+2)/(2)=2","(2+2)/(2)=2",null,null,null,null,null,null,"S6","(0+1)/(1)=1","(0+1)/(1)=1","(0+1)/(1)=1","(0+1)/(1)=1","(0+1)/(1)=1","(0+1)/(1)=1"]
["S6","(1+1)/(2)=1","(1+973)/(2)=487","(1+1)/(2)=1","(1+1)/(2)=1","(1+1)/(2)=1","(1+1)/(2)=1",null,null,null,null,null,null,"S7","(0+0)/(1)=0","(0+0)/(1)=0","(0+0)/(1)=0","(0+0)/(1)=0","(0+0)/(1)=0","(0+0)/(1)=0"]
["S7","(0+0)/(2)=0","(0+0)/(2)=0","(0+0)/(2)=0","(0+0)/(2)=0","(0+0)/(2)=0","(0+0)/(2)=0"]
[null,null,null,null,null,null,null,null,null,null,null,null,null,"Lépcsôk(2)","X(A1)","X(A2)","X(A3)","X(A4)","X(A5)","X(A6)"]
["Lépcsôk(2)","X(A1)","X(A2)","X(A3)","X(A4)","X(A5)","X(A6)",null,null,null,null,null,null,"S1",7,979,6,15,6,6]
["S1",250,736,6,258,6,6,null,null,null,null,null,null,"S2",6,978,5,14,5,5]
["S2",249,735,5,257,5,5,null,null,null,null,null,null,"S3",5,977,4,13,4,4]
["S3",248,734,4,256,4,4,null,null,null,null,null,null,"S4",4,976,3,12,3,3]
["S4",247,733,3,255,3,3,null,null,null,null,null,null,"S5",2,972,2,10,2,2]
["S5",245,488,2,253,2,2,null,null,null,null,null,null,"S6",1,1,1,1,1,1]
["S6",1,487,1,1,1,1,null,null,null,null,null,null,"S7",0,0,0,0,0,0]
["S7",0,0,0,0,0,0]
[null,null,null,null,null,null,null,null,null,null,null,null,null,"COCO:Y0","X(A1)","X(A2)","X(A3)","X(A4)","X(A5)","X(A6)","Becslés","Tény+0","Delta","Delta/Tény"]
["COCO:Y0","X(A1)","X(A2)","X(A3)","X(A4)","X(A5)","X(A6)","Becslés","Tény+0","Delta","Delta/Tény",null,null,"O1",7,972,2,15,2,2,1000,1000,0,0]
["O1",250,487,1,258,1,1,998,1000,2,0.2,null,null,"O2",0,976,3,15,3,3,1000,1000,0,0]
["O2",250,488,2,258,2,2,1002,1000,-2,-0.2,null,null,"O3",1,977,4,10,4,4,1000,1000,0,0]
["O3",0,733,3,258,3,3,1000,1000,0,0,null,null,"O4",7,978,5,0,5,5,1000,1000,0,0]
["O4",1,734,4,253,4,4,1000,1000,0,0,null,null,"O5",2,979,6,1,6,6,1000,1000,0,0]
["O5",250,735,5,0,5,5,1000,1000,0,0]
["O6",245,736,6,1,6,6,1000,1000,0,0,null,null,"S1 összeg:",1019]
[null,null,null,null,null,null,null,null,null,null,null,null,null,"S7 összeg:",0]
["S1 összeg:",1262,null,null,null,null,null,null,null,null,null,null,null,"Becslés összeg:",5000]
["S7 összeg:",0,null,null,null,null,null,null,null,null,null,null,null,"Tény összeg:",5000]
["Becslés összeg:",6000,null,null,null,null,null,null,null,null,null,null,null,"Tény-becslés eltérés:",0]
["Tény összeg:",6000,null,null,null,null,null,null,null,null,null,null,null,"Tény négyzetösszeg:"]
["Tény-becslés eltérés:",0,null,null,null,null,null,null,null,null,null,null,null,"Becslés négyzetösszeg:"]
["Tény négyzetösszeg:",null,null,null,null,null,null,null,null,null,null,null,null,"Négyzetösszeg hiba:",0]
["Becslés négyzetösszeg:"]
["Négyzetösszeg hiba:",0,null,null,null,null,null,null,null,null,null,null,null,"Open url"]
[]
["Open url",null,null,null,null,null,null,null,null,null,null,null,null,"Maximális memória használat: 1.34 Mb"]
[null,null,null,null,null,null,null,null,null,null,null,null,null,"A futtatás idôtartama: 0.02 mp (0 p)"]
["Maximális memória használat: 1.34 Mb"]
["A futtatás idôtartama: 0.05 mp (0 p)"]