{"text_format":"1","workbook":"xlsx","n_sheets":9,"sheets":["data","találatok","csapaa","maxar1","minar1","csap.találat","találatok-maxhő","találatok-minhő","találatok-csapadék"],"not_rendered":{"charts":0,"images":0,"macros":0,"external_links":1,"defined_names":2,"comments":1,"pivot_tables":0},"unopened":[],"bounds":{"document_bytes":16777216,"sheet_cells":100000,"rows_first":2000,"rows_last":500,"rows_between":2000,"halvings":0,"cell_chars":16384,"cell_head_chars":4096},"cells_cut":0,"cells_raw":0,"read":"whole","date_system":"1900"}

{"sheet":"data","index":0,"n_rows":86,"n_cols":35,"rows_kept":86,"cut":false,"hidden":false,"merged":[]}
[null,null,null,null,null,null,null,null,null,null,null,null,null,null,null,null,null,null,null,null,null,null,null,null,null,null,null,null,null,null,"2009-06-28",15.4,22.4,0,{"$f":"IF(AH1=0,0,1)","v":0}]
[null,null,null,null,null,null,null,null,null,null,null,null,null,null,null,null,null,null,null,null,null,null,null,null,null,null,null,null,null,null,"2009-06-29",12.8,27.2,0,{"$f":"IF(AH2=0,0,1)","v":0}]
[null,null,null,null,null,null,null,null,null,null,null,null,null,null,null,null,null,null,null,null,null,null,null,null,null,null,null,null,null,null,"2009-06-30",18.100000000000001,26.9,4.4000000000000004,1]
[null,null,null,null,null,null,null,null,null,null,null,null,null,null,null,null,null,null,null,null,null,null,null,null,null,null,null,null,null,null,"2009-07-01",15.7,28.6,0,0]
[null,null,null,null,null,null,null,null,null,null,null,null,null,null,null,null,null,null,null,null,null,null,null,null,null,null,null,null,null,null,"2009-07-02",17.399999999999999,29,1.2,1]
[null,null,null,null,null,null,null,null,null,null,null,null,null,null,null,null,null,null,null,null,null,null,null,null,null,null,null,null,"minimum:",0,"2009-07-03",16.8,28.8,0,0]
[null,null,null,null,null,null,null,null,null,null,null,null,null,null,null,null,null,null,null,null,null,null,null,null,null,null,null,null,"maximum:",{"$f":"MAX(AC10:AC59)","v":12.299999999999999},"2009-07-04",16.600000000000001,26.6,0,0]
["adatgyűjtés","progn.","weatheronline","weatheronline","weatheronline","kurier","kurier","kurier","wetter.rtl","wetter.rtl","raiffeisen","raiffeisen","stern","stern","stern","wetter.exite","wetter.exite","wetter.exite","progn.","tények","tények","tények","esett 1","tények","tények","tények","esett 1-4nap","tények","tények","tények %-ban","2009-07-05",12.9,27.1,0,0]
["kelte","kelte","T-max","T-min","Rain-risk","max","min","niederschlag","max","min","max","min","min","max","niederschlag","min","max","niederschlag","kelte","maxhő","minhő","csapadék","nem esett 0","kelt","maxhő-4nap","minhő-4nap","nem esett 0","kelt","csapadék-4nap","csapadék-4nap","2009-07-06",15.7,23.8,4.1999999999999993,1]
["2009-06-29",{"$f":"A10-1","v":"2009-06-28"},29,18,0.35,31,16,0.05,29,16,29,15,16,31,0.05,17,27,0.1,{"$f":"A10-1","v":"2009-06-28"},{"$f":"VLOOKUP($S10+4,$AE$1:$AH$86,3,0)","v":29},{"$f":"VLOOKUP($S10+4,$AE$1:$AH$86,2,0)","v":17.399999999999999},{"$f":"VLOOKUP($S10+4,$AE$1:$AH$86,4,0)","v":1.2},{"$f":"IF(V10=0,0,1)","v":1},{"$f":"S10+4","v":"2009-07-02"},{"$f":"VLOOKUP($X10-4,$AE$1:$AI$86,3,0)","v":22.4},{"$f":"VLOOKUP($X10-4,$AE$1:$AI$86,2,0)","v":15.4},{"$f":"VLOOKUP($X10-4,$AE$1:$AI$86,5,0)","v":0},{"$f":"X10-4","v":"2009-06-28"},{"$f":"VLOOKUP($X10-4,$AE$1:$AI$86,4,0)","v":0},{"$f":"IF(AC10=0,0,AC10/$AD$7)","v":0},"2009-07-07",14.1,21.4,0,0]
["2009-06-30",{"$f":"A11-1","v":"2009-06-29"},30,19,0.3,31,15,0.05,28,16,29,13,16,31,0.05,17,27,0.1,{"$f":"A11-1","v":"2009-06-29"},28.8,16.8,0,0,"2009-07-03",27.2,12.8,0,{"$f":"X11-4","v":"2009-06-29"},0,{"$f":"IF(AC11=0,0,AC11/$AD$7)","v":0},"2009-07-08",12.6,17.8,5.3999999999999986,1]
["2009-07-01","2009-06-30",30,19,0.45,31,18,0.5,26,17,24,15,18,31,0.5,17,27,0.1,"2009-06-30",26.6,16.600000000000001,0,0,"2009-07-04",26.9,18.100000000000001,1,"2009-06-30",4.4000000000000004,0.35772357723577242,"2009-07-09",10.7,19.8,2.1,1]
["2009-07-02","2009-07-01",25,15,0.55000000000000004,27,14,0.5,24,14,22,10,14,27,0.5,16,23,0.8,"2009-07-01",27.1,12.9,0,0,"2009-07-05",28.6,15.7,0,"2009-07-01",0,0,"2009-07-10",10.1,15.1,1.0999999999999999,1]
["2009-07-03","2009-07-02",24,15,0.6,26,16,0.05,22,14,22,13,12,26,0.05,15,23,0.8,"2009-07-02",23.8,15.7,4.1999999999999993,1,"2009-07-06",29,17.399999999999999,1,"2009-07-02",1.2,9.7560975609756101E-2,"2009-07-11",11.3,19.600000000000001,1.2000000000000002,1]
["2009-07-04","2009-07-03",24,16,0.45,22,12,0.5,21,13,22,12,12,22,0.5,12,19,0.7,"2009-07-03",21.4,14.1,0,0,"2009-07-07",28.8,16.8,0,"2009-07-03",0,0,"2009-07-12",12.4,21.2,0.1,1]
["2009-07-05","2009-07-04",19,14,0.85,21,10,0.5,20,13,19,10,14,21,0.5,12,16,0.8,"2009-07-04",17.8,12.6,5.3999999999999986,1,"2009-07-08",26.6,16.600000000000001,0,"2009-07-04",0,0,"2009-07-13",13.6,25.8,9.9,1]
["2009-07-06","2009-07-05",18,13,0.6,16,11,0.3,19,11,20,9,14,16,0.3,12,16,0.8,"2009-07-05",19.8,10.7,2.1,1,"2009-07-09",27.1,12.9,0,"2009-07-05",0,0,"2009-07-14",17.600000000000001,24.4,7.8000000000000016,1]
["2009-07-07","2009-07-06",17,9,0.55000000000000004,19,12,0.5,17,9,13,6,8,19,0.5,11,15,0.8,"2009-07-06",15.1,10.1,1.0999999999999999,1,"2009-07-10",23.8,15.7,1,"2009-07-06",4.1999999999999993,0.34146341463414631,"2009-07-15",17.3,26.2,0,0]
["2009-07-08","2009-07-07",19,11,0.45,19,7,0.15,19,11,18,10,12,19,0.15,10,16,0.8,"2009-07-07",19.600000000000001,11.3,1.2000000000000002,1,"2009-07-11",21.4,14.1,0,"2009-07-07",0,0,"2009-07-16",12.2,27.5,0,0]
["2009-07-09","2009-07-08",21,11,0.8,25,17,0.1,21,10,19,9,11,25,0.1,11,19,0.3,"2009-07-08",21.2,12.4,0.1,1,"2009-07-12",17.8,12.6,1,"2009-07-08",5.3999999999999986,0.43902439024390238,"2009-07-17",14.8,22.5,4.4000000000000004,1]
["2009-07-10","2009-07-09",25,13,0.1,25,14,0.05,24,13,22,8,10,25,0.05,11,20,0.3,"2009-07-09",25.8,13.6,9.9,1,"2009-07-13",19.8,10.7,1,"2009-07-09",2.1,0.17073170731707318,"2009-07-18",13.5,18.3,0.1,1]
["2009-07-11","2009-07-10",24,15,0.8,24,16,0.8,25,15,24,13,16,24,0.8,14,24,0.5,"2009-07-10",24.4,17.600000000000001,7.8000000000000016,1,"2009-07-14",15.1,10.1,1,"2009-07-10",1.0999999999999999,8.943089430894309E-2,"2009-07-19",10.3,21.3,3.8000000000000003,1]
["2009-07-12","2009-07-11",24,15,0.9,27,15,0.05,26,15,24,13,16,24,0.8,16,24,0.6,"2009-07-11",26.2,17.3,0,0,"2009-07-15",19.600000000000001,11.3,1,"2009-07-11",1.2000000000000002,9.7560975609756115E-2,"2009-07-20",11.6,21.8,0,0]
["2009-07-13","2009-07-12",28,13,0.1,28,14,0.05,27,13,26,9,11,28,0.05,18,24,0.6,"2009-07-12",27.5,12.2,0,0,"2009-07-16",21.2,12.4,1,"2009-07-12",0.1,8.130081300813009E-3,"2009-07-21",12.6,27.3,0.7,1]
["2009-07-14","2009-07-13",24,15,0.95,26,12,0.3,26,13,22,15,15,32,0.05,12,25,0.2,"2009-07-13",22.5,14.8,4.4000000000000004,1,"2009-07-17",25.8,13.6,1,"2009-07-13",9.9,0.80487804878048785,"2009-07-22",18.399999999999999,27.1,2.2999999999999998,1]
["2009-07-15","2009-07-14",17,13,0.75,15,10,0.15,18,13,13,10,13,15,0.15,17,24,0.7,"2009-07-14",18.3,13.5,0.1,1,"2009-07-18",24.4,17.600000000000001,1,"2009-07-14",7.8000000000000016,0.63414634146341486,"2009-07-23",16.600000000000001,24.3,8,1]
["2009-07-16","2009-07-15",19,13,0.75,21,13,0.05,19,11,17,9,10,21,0.05,14,16,0.8,"2009-07-15",21.3,10.3,3.8000000000000003,1,"2009-07-19",26.2,17.3,0,"2009-07-15",0,0,"2009-07-24",15.7,22.3,10.3,1]
["2009-07-17","2009-07-16",21,13,0.55000000000000004,22,11,0.05,20,12,18,10,11,22,0.05,11,20,0.8,"2009-07-16",21.8,11.6,0,0,"2009-07-20",27.5,12.2,0,"2009-07-16",0,0,"2009-07-25",12.1,19.2,5.1000000000000005,1]
["2009-07-18","2009-07-17",24,12,0.35,27,19,0.5,26,11,23,8,11,27,0.5,12,21,0.2,"2009-07-17",27.3,12.6,0.7,1,"2009-07-21",22.5,14.8,1,"2009-07-17",4.4000000000000004,0.35772357723577242,"2009-07-26",9.1999999999999993,22.7,0,0]
["2009-07-19","2009-07-18",25,17,0.7,28,14,0.5,26,16,23,15,17,28,0.5,14,22,0.6,"2009-07-18",27.1,18.399999999999999,2.2999999999999998,1,"2009-07-22",18.3,13.5,1,"2009-07-18",0.1,8.130081300813009E-3,"2009-07-27",10.8,27.2,0.4,1]
["2009-07-20","2009-07-19",24,18,0.85,24,14,0.3,27,16,22,14,15,24,0.3,18,25,0.9,"2009-07-19",24.3,16.600000000000001,8,1,"2009-07-23",21.3,10.3,1,"2009-07-19",3.8000000000000003,0.30894308943089438,"2009-07-28",12.4,22.8,0,0]
["2009-07-22","2009-07-21",20,14,0.6,21,7,0.15,21,13,18,10,12,21,0.15,16,22,0.4,"2009-07-21",19.2,12.1,5.1000000000000005,1,"2009-07-25",27.3,12.6,1,"2009-07-21",0.7,5.6910569105691061E-2,"2009-07-29",9.6999999999999993,26.2,0,0]
["2009-07-23","2009-07-22",25,12,0.05,24,10,0.05,22,10,20,7,7,24,0.05,12,20,0.5,"2009-07-22",22.7,9.1999999999999993,0,0,"2009-07-26",27.1,18.399999999999999,1,"2009-07-22",2.2999999999999998,0.18699186991869918,"2009-07-30",15,22.1,0.3,1]
["2009-07-24","2009-07-23",28,12,0.35,30,11,0.02,25,12,26,11,11,30,0,10,23,0.1,"2009-07-23",27.2,10.8,0.4,1,"2009-07-27",24.3,16.600000000000001,1,"2009-07-23",8,0.65040650406504075,"2009-07-31",10.5,21.4,0,0]
["2009-07-25","2009-07-24",27,12,0.25,24,11,0.05,23,13,19,9,11,30,0,10,23,0.1,"2009-07-24",22.8,12.4,0,0,"2009-07-28",22.3,15.7,1,"2009-07-24",10.3,0.83739837398373995,"2009-08-01",9.3000000000000007,26.4,0,0]
["2009-07-28","2009-07-27",24,10,0.05,25,12,0.05,21,10,21,6,10,25,0.05,18,21,0.1,"2009-07-27",21.4,10.5,0,0,"2009-07-31",27.2,10.8,1,"2009-07-27",0.4,3.2520325203252036E-2,"2009-08-02",14.4,23.1,3.9000000000000004,1]
["2009-07-29","2009-07-28",26,10,0.2,25,13,0.05,27,10,25,9,8,25,0.05,9,19,0.2,"2009-07-28",26.4,9.3000000000000007,0,0,"2009-08-01",22.8,12.4,0,"2009-07-28",0,0,"2009-08-03",13.2,22.5,0,0]
["2009-07-30","2009-07-29",25,16,0.55000000000000004,25,11,0.1,24,14,19,13,16,25,0.1,12,23,0.1,"2009-07-29",23.1,14.4,3.9000000000000004,1,"2009-08-02",26.2,9.6999999999999993,0,"2009-07-29",0,0,"2009-08-04",9,23.8,0,0]
["2009-07-31","2009-07-30",21,15,0.6,23,7,0.05,24,14,19,13,13,23,0.05,15,22,0.7,"2009-07-30",22.5,13.2,0,0,"2009-08-03",22.1,15,1,"2009-07-30",0.3,2.4390243902439025E-2,"2009-08-05",10.199999999999999,26.4,0,0]
["2009-08-01","2009-07-31",26,11,0.05,26,11,0.05,27,11,24,7,8,26,0.05,12,21,0.7,"2009-07-31",23.8,9,0,0,"2009-08-04",21.4,10.5,0,"2009-07-31",0,0,"2009-08-06",12.6,28.5,0,0]
["2009-08-02","2009-08-01",28,13,0.05,28,14,0.02,27,11,27,12,10,28,0,12,23,0.1,"2009-08-01",26.4,10.199999999999999,0,0,"2009-08-05",26.4,9.3000000000000007,0,"2009-08-01",0,0,"2009-08-07",14.7,28.7,0,0]
["2009-08-03","2009-08-02",28,13,0.05,31,16,0.05,28,12,27,13,10,28,0,12,23,0.1,"2009-08-02",{"$f":"VLOOKUP($S42+4,$AE$1:$AH$86,3,0)","v":28.5},{"$f":"VLOOKUP($S42+4,$AE$1:$AH$86,2,0)","v":12.6},{"$f":"VLOOKUP($S42+4,$AE$1:$AH$86,4,0)","v":0},0,{"$f":"S42+4","v":"2009-08-06"},{"$f":"VLOOKUP($X42-4,$AE$1:$AI$86,3,0)","v":23.1},{"$f":"VLOOKUP($X42-4,$AE$1:$AI$86,2,0)","v":14.4},{"$f":"VLOOKUP($X42-4,$AE$1:$AI$86,5,0)","v":1},"2009-08-02",{"$f":"VLOOKUP($X42-4,$AE$1:$AI$86,4,0)","v":3.9000000000000004},0.31707317073170738,"2009-08-08",16.600000000000001,23.2,0,0]
["2009-08-04","2009-08-03",30,15,0.05,30,16,0.02,30,14,30,14,13,30,0,13,26,0.1,"2009-08-03",28.7,14.7,0,0,"2009-08-07",22.5,13.2,0,"2009-08-03",0,0,"2009-08-09",15.6,26.1,0,0]
["2009-08-05","2009-08-04",26,16,0.55000000000000004,29,18,0.1,26,16,22,16,17,29,0.1,14,28,0.1,"2009-08-04",23.2,16.600000000000001,0,0,"2009-08-08",23.8,9,0,"2009-08-04",0,0,"2009-08-10",16,22.3,15,1]
["2009-08-06","2009-08-05",27,17,0.6,29,17,0.5,23,15,29,15,18,29,0.5,16,24,0.7,"2009-08-05",26.1,15.6,0,0,"2009-08-09",26.4,10.199999999999999,0,"2009-08-05",0,0,"2009-08-11",14.9,23.2,0.3,1]
["2009-08-07","2009-08-06",25,17,0.55000000000000004,28,15,0.5,23,15,20,13,17,28,0.5,15,24,0.2,"2009-08-06",22.3,16,15,1,"2009-08-10",28.5,12.6,0,"2009-08-06",0,0,"2009-08-12",13.3,23,5.3999999999999995,1]
["2009-08-08","2009-08-07",22,13,0.45,24,11,0.05,22,12,18,11,17,28,0.5,15,23,0.6,"2009-08-07",23.2,14.9,0.3,1,"2009-08-11",28.7,14.7,0,"2009-08-07",0,0,"2009-08-13",14.8,20.8,1.2,1]
["2009-08-24","2009-08-23",26,14,0.2,27,14,0.02,26,13,22,13,12,27,0,12,25,0.1,"2009-08-23",27.8,13.8,0,0,"2009-08-27",24.5,8.6999999999999993,0,"2009-08-23",0,0,"2009-08-14",10.6,22.6,0,0]
["2009-08-25","2009-08-24",24,15,0.35,25,11,0.05,26,14,19,14,15,25,0.05,15,24,0.6,"2009-08-24",23.2,15.1,0.2,1,"2009-08-28",27.4,10.6,0,"2009-08-24",0,0,"2009-08-15",10.3,27.1,0,0]
["2009-08-27","2009-08-26",21,8,0.05,21,9,0.05,21,7,18,6,7,21,0.05,9,19,0.1,"2009-08-26",21.2,4.4000000000000004,0,0,"2009-08-30",24.5,11.6,0,"2009-08-26",0,0,"2009-08-16",12.9,31.1,0,0]
["2009-08-28","2009-08-27",24,9,0.05,25,10,0.05,26,8,23,6,6,25,0.05,8,22,0.1,"2009-08-27",25.6,7,0,0,"2009-08-31",27.8,13.8,0,"2009-08-27",0,0,"2009-08-17",13.7,27.8,0,0]
["2009-08-30","2009-08-29",22,14,0.4,23,14,0.05,22,15,19,12,14,23,0.05,17,21,0.6,"2009-08-29",21.8,12.5,0,0,"2009-09-02",19.399999999999999,9.4,0,"2009-08-29",0,0,"2009-08-18",11.7,25.3,0,0]
["2009-08-31","2009-08-30",19,12,0.55000000000000004,22,13,0.05,22,12,18,10,14,22,0.05,14,19,0.6,"2009-08-30",19.600000000000001,12.6,4.5999999999999996,1,"2009-09-03",21.2,4.4000000000000004,0,"2009-08-30",0,0,"2009-08-19",11.6,29.9,0,0]
["2009-09-01","2009-08-31",16,13,0.75,17,12,0.5,18,13,13,11,12,17,0.5,11,14,0.9,"2009-08-31",17.3,10.4,12.299999999999999,1,"2009-09-04",25.6,7,0,"2009-08-31",0,0,"2009-08-20",15.6,33.700000000000003,0,0]
["2009-09-03","2009-09-02",19,10,0.2,19,8,0.1,19,9,16,10,10,19,0.1,8,18,0.2,"2009-09-02",18.100000000000001,6.6,0,0,"2009-09-06",21.8,12.5,0,"2009-09-02",0,0,"2009-08-21",13.6,23.8,11.7,1]
["2009-09-04","2009-09-03",21,8,0.2,23,11,0.05,21,8,18,8,10,23,0.05,9,20,0.2,"2009-09-03",22.5,7,0,0,"2009-09-07",19.600000000000001,12.6,1,"2009-09-03",4.5999999999999996,0.37398373983739835,"2009-08-22",11.1,22.5,0,0]
["2009-09-05",{"$f":"A57-1","v":"2009-09-04"},25,11,0.05,26,13,0.05,24,9,23,8,11,26,0.05,11,24,0.1,"2009-09-04",25.8,8.1,0,0,"2009-09-08",17.3,10.4,1,"2009-09-04",12.299999999999999,1,"2009-08-23",8.6999999999999993,24.5,0,0]
["2009-09-06","2009-09-05",27,11,0.05,28,14,0.05,24,11,26,10,12,28,0.05,12,24,0.3,"2009-09-05",22.8,8.9,0,0,"2009-09-09",16.5,9.9,1,"2009-09-05",0.30000000000000004,2.4390243902439029E-2,"2009-08-24",10.6,27.4,0,0]
["2009-09-08","2009-09-07",21,13,0.2,21,11,0.05,20,11,19,10,13,21,0.05,13,19,0.2,"2009-09-07",18.899999999999999,12.1,0,0,"2009-09-11",22.5,7,0,"2009-09-07",0,0,"2009-08-25",15,24.4,2.1,1]
["2009-09-09","2009-09-08",20,11,0.3,22,10,0.1,18,9,17,9,14,22,0.1,14,19,0.3,"2009-09-08",19.100000000000001,11.6,0,0,"2009-09-12",25.8,8.1,0,"2009-09-08",0,0,"2009-08-26",11.6,24.5,0,0]
["2009-09-10","2009-09-09",18,10,0.2,19,13,10,20,9,14,6,13,19,0.1,12,17,0.2,"2009-09-09",15.6,8.1,2.2000000000000002,1,"2009-09-13",22.8,8.9,0,"2009-09-09",0,0,"2009-08-27",13.8,27.8,0,0]
["2009-09-11","2009-09-10",17,11,0.35,17,11,0.15,18,9,15,9,11,17,15,11,16,0.8,"2009-09-10",13.4,10.199999999999999,13.2,1,"2009-09-14",17.5,14,0,"2009-09-10",0,0,"2009-08-28",15.1,23.2,0.2,1]
["2009-09-12","2009-09-11",16,11,0.7,18,12,30,21,10,12,8,11,18,0.3,8,15,0.7,"2009-09-11",15.6,10.3,1.2,1,"2009-09-15",18.899999999999999,12.1,0,"2009-09-11",0,0,"2009-08-29",9.4,19.399999999999999,0,0]
["2009-09-13","2009-09-12",24,12,0.1,26,15,0.05,22,10,23,10,12,26,0.05,11,23,0.2,"2009-09-12",19.2,14.2,0,0,"2009-09-16",19.100000000000001,11.6,0,"2009-09-12",0,0,"2009-08-30",4.4000000000000004,21.2,0,0]
["2009-09-14","2009-09-13",23,13,0.1,23,11,0.05,18,12,20,13,13,23,0.05,14,20,0.5,"2009-09-13",19.600000000000001,12.6,0,0,"2009-09-17",15.6,8.1,1,"2009-09-13",2.2000000000000002,0.17886178861788621,"2009-08-31",7,25.6,0,{"$f":"IF(AH65=0,0,1)","v":0}]
["2009-09-15","2009-09-14",22,8,0.05,23,10,0.02,20,8,20,6,8,23,0,9,22,0.1,"2009-09-14",22,11.4,0,0,"2009-09-18",13.4,10.199999999999999,1,"2009-09-14",13.2,1.0731707317073171,"2009-09-01",10.199999999999999,28.9,2.5,1]
["2009-09-16","2009-09-15",23,9,0.05,24,9,0.02,22,8,20,10,9,24,0,11,22,0.1,"2009-09-15",23.5,12.5,0,0,"2009-09-19",15.6,10.3,1,"2009-09-15",1.2,9.7560975609756101E-2,"2009-09-02",12.5,21.8,0,{"$f":"IF(AH67=0,0,1)","v":0}]
["2009-09-17","2009-09-16",23,12,0.35,25,10,0.02,21,11,21,10,9,24,0,12,21,0.3,"2009-09-16",23.7,15,0,0,"2009-09-20",19.2,14.2,0,"2009-09-16",0,0,"2009-09-03",12.6,19.600000000000001,4.5999999999999996,1]
["2009-09-18","2009-09-17",23,13,0.55000000000000004,26,11,0.05,22,11,21,12,13,26,0.05,13,23,0.2,"2009-09-17",21.3,14.9,0,0,"2009-09-21",19.600000000000001,12.6,0,"2009-09-17",0,0,"2009-09-04",10.4,17.3,12.299999999999999,1]
[null,null,null,null,null,null,null,null,null,null,null,null,null,null,null,null,null,null,null,null,null,"Max.csap.:",null,null,null,null,null,null,null,null,"2009-09-05",9.9,16.5,0.30000000000000004,1]
[null,null,null,null,null,null,null,null,null,null,null,null,null,null,null,null,null,null,null,null,null,{"$f":"MAX(V6:V69)","v":15},null,null,null,null,null,null,null,null,"2009-09-06",6.6,18.100000000000001,0,0]
[null,null,null,null,null,null,null,null,null,null,null,null,null,null,null,null,null,null,null,null,null,null,null,null,null,null,null,null,null,null,"2009-09-07",7,22.5,0,0]
[null,null,null,null,null,null,null,null,null,null,null,null,null,null,null,null,null,null,null,null,null,null,null,null,null,null,null,null,null,null,"2009-09-08",8.1,25.8,0,0]
[null,null,null,null,null,null,null,null,null,null,null,null,null,null,null,null,null,null,null,null,null,null,null,null,null,null,null,null,null,null,"2009-09-09",8.9,22.8,0,0]
[null,null,null,null,null,null,null,null,null,null,null,null,null,null,null,null,null,null,null,null,null,null,null,null,null,null,null,null,null,null,"2009-09-10",14,17.5,0,0]
[null,null,null,null,null,null,null,null,null,null,null,null,null,null,null,null,null,null,null,null,null,null,null,null,null,null,null,null,null,null,"2009-09-11",12.1,18.899999999999999,0,0]
[null,null,null,null,null,null,null,null,null,null,null,null,null,null,null,null,null,null,null,null,null,null,null,null,null,null,null,null,null,null,"2009-09-12",11.6,19.100000000000001,0,0]
[null,null,null,null,null,null,null,null,null,null,null,null,null,null,null,null,null,null,null,null,null,null,null,null,null,null,null,null,null,null,"2009-09-13",8.1,15.6,2.2000000000000002,1]
[null,null,null,null,null,null,null,null,null,null,null,null,null,null,null,null,null,null,null,null,null,null,null,null,null,null,null,null,null,null,"2009-09-14",10.199999999999999,13.4,13.2,1]
[null,null,null,null,null,null,null,null,null,null,null,null,null,null,null,null,null,null,null,null,null,null,null,null,null,null,null,null,null,null,"2009-09-15",10.3,15.6,1.2,1]
[null,null,null,null,null,null,null,null,null,null,null,null,null,null,null,null,null,null,null,null,null,null,null,null,null,null,null,null,null,null,"2009-09-16",14.2,19.2,0,0]
[null,null,null,null,null,null,null,null,null,null,null,null,null,null,null,null,null,null,null,null,null,null,null,null,null,null,null,null,null,null,"2009-09-17",12.6,19.600000000000001,0,0]
[null,null,null,null,null,null,null,null,null,null,null,null,null,null,null,null,null,null,null,null,null,null,null,null,null,null,null,null,null,null,"2009-09-18",11.4,22,0,0]
[null,null,null,null,null,null,null,null,null,null,null,null,null,null,null,null,null,null,null,null,null,null,null,null,null,null,null,null,null,null,"2009-09-19",12.5,23.5,0,0]
[null,null,null,null,null,null,null,null,null,null,null,null,null,null,null,null,null,null,null,null,null,null,null,null,null,null,null,null,null,null,"2009-09-20",15,23.7,0,0]
[null,null,null,null,null,null,null,null,null,null,null,null,null,null,null,null,null,null,null,null,null,null,null,null,null,null,null,null,null,null,"2009-09-21",14.9,21.3,0,0]

{"sheet":"találatok","index":1,"n_rows":207,"n_cols":16,"rows_kept":207,"cut":false,"hidden":false,"merged":[]}
[null,null,null,null,"maximumhőmérséklet találati arányai:"]
[]
["prognózis rögzítésének kelte","prognózis keletkezésének kelte","tények kelte","a tényadat változása","weatheronline",{"$f":"SUM(F4:F53)/50","v":0.9},"kurier",{"$f":"SUM(H4:H53)/50","v":0.88},"wetter.rtl",{"$f":"SUM(J4:J53)/50","v":0.92},"raiffeisen",{"$f":"SUM(L4:L53)/50","v":0.86},"stern",{"$f":"SUM(N4:N53)/50","v":0.88},"wetter.excite",{"$f":"SUM(P4:P53)/50","v":0.8}]
[{"$f":"data!$A10","v":"2009-06-29"},{"$f":"A4-1","v":"2009-06-28"},{"$f":"B4+4","v":"2009-07-02"},{"$f":"data!T10-data!Y10","v":6.6000000000000014},{"$f":"data!C10-data!Y10","v":6.6000000000000014},{"$f":"IF(E4=$D4,1,IF(E4*$D4>0,1,0))","v":1},{"$f":"data!F10-data!Y10","v":8.6000000000000014},{"$f":"IF(G4=$D4,1,IF(G4*$D4>0,1,0))","v":1},{"$f":"data!I10-data!Y10","v":6.6000000000000014},{"$f":"IF(I4=$D4,1,IF(I4*$D4>0,1,0))","v":1},{"$f":"data!K10-data!Y10","v":6.6000000000000014},{"$f":"IF(K4=$D4,1,IF(K4*$D4>0,1,0))","v":1},{"$f":"data!N10-data!Y10","v":8.6000000000000014},{"$f":"IF(M4=$D4,1,IF(M4*$D4>0,1,0))","v":1},{"$f":"data!Q10-data!Y10","v":4.6000000000000014},{"$f":"IF(O4=$D4,1,IF(O4*$D4>0,1,0))","v":1}]
[{"$f":"data!$A11","v":"2009-06-30"},{"$f":"A5-1","v":"2009-06-29"},{"$f":"B5+4","v":"2009-07-03"},{"$f":"data!T11-data!Y11","v":1.6000000000000014},{"$f":"data!C11-data!Y11","v":2.8000000000000007},{"$f":"IF(E5=$D5,1,IF(E5*$D5>0,1,0))","v":1},{"$f":"data!F11-data!Y11","v":3.8000000000000007},{"$f":"IF(G5=$D5,1,IF(G5*$D5>0,1,0))","v":1},{"$f":"data!I11-data!Y11","v":0.80000000000000071},{"$f":"IF(I5=$D5,1,IF(I5*$D5>0,1,0))","v":1},{"$f":"data!K11-data!Y11","v":1.8000000000000007},{"$f":"IF(K5=$D5,1,IF(K5*$D5>0,1,0))","v":1},{"$f":"data!N11-data!Y11","v":3.8000000000000007},{"$f":"IF(M5=$D5,1,IF(M5*$D5>0,1,0))","v":1},{"$f":"data!Q11-data!Y11","v":-0.19999999999999929},{"$f":"IF(O5=$D5,1,IF(O5*$D5>0,1,0))","v":0}]
[{"$f":"data!$A12","v":"2009-07-01"},"2009-06-30","2009-07-04",{"$f":"data!T12-data!Y12","v":-0.29999999999999716},{"$f":"data!C12-data!Y12","v":3.1000000000000014},0,{"$f":"data!F12-data!Y12","v":4.1000000000000014},0,{"$f":"data!I12-data!Y12","v":-0.89999999999999858},1,{"$f":"data!K12-data!Y12","v":-2.8999999999999986},1,{"$f":"data!N12-data!Y12","v":4.1000000000000014},0,{"$f":"data!Q12-data!Y12","v":0.10000000000000142},0]
[{"$f":"data!$A13","v":"2009-07-02"},"2009-07-01","2009-07-05",{"$f":"data!T13-data!Y13","v":-1.5},{"$f":"data!C13-data!Y13","v":-3.6000000000000014},1,{"$f":"data!F13-data!Y13","v":-1.6000000000000014},1,{"$f":"data!I13-data!Y13","v":-4.6000000000000014},1,{"$f":"data!K13-data!Y13","v":-6.6000000000000014},1,{"$f":"data!N13-data!Y13","v":-1.6000000000000014},1,{"$f":"data!Q13-data!Y13","v":-5.6000000000000014},1]
[{"$f":"data!$A14","v":"2009-07-03"},"2009-07-02","2009-07-06",{"$f":"data!T14-data!Y14","v":-5.1999999999999993},{"$f":"data!C14-data!Y14","v":-5},1,{"$f":"data!F14-data!Y14","v":-3},1,{"$f":"data!I14-data!Y14","v":-7},1,{"$f":"data!K14-data!Y14","v":-7},1,{"$f":"data!N14-data!Y14","v":-3},1,{"$f":"data!Q14-data!Y14","v":-6},1]
[{"$f":"data!$A15","v":"2009-07-04"},"2009-07-03","2009-07-07",{"$f":"data!T15-data!Y15","v":-7.4000000000000021},{"$f":"data!C15-data!Y15","v":-4.8000000000000007},1,{"$f":"data!F15-data!Y15","v":-6.8000000000000007},1,{"$f":"data!I15-data!Y15","v":-7.8000000000000007},1,{"$f":"data!K15-data!Y15","v":-6.8000000000000007},1,{"$f":"data!N15-data!Y15","v":-6.8000000000000007},1,{"$f":"data!Q15-data!Y15","v":-9.8000000000000007},1]
[{"$f":"data!$A16","v":"2009-07-05"},"2009-07-04","2009-07-08",{"$f":"data!T16-data!Y16","v":-8.8000000000000007},{"$f":"data!C16-data!Y16","v":-7.6000000000000014},1,{"$f":"data!F16-data!Y16","v":-5.6000000000000014},1,{"$f":"data!I16-data!Y16","v":-6.6000000000000014},1,{"$f":"data!K16-data!Y16","v":-7.6000000000000014},1,{"$f":"data!N16-data!Y16","v":-5.6000000000000014},1,{"$f":"data!Q16-data!Y16","v":-10.600000000000001},1]
[{"$f":"data!$A17","v":"2009-07-06"},"2009-07-05","2009-07-09",{"$f":"data!T17-data!Y17","v":-7.3000000000000007},{"$f":"data!C17-data!Y17","v":-9.1000000000000014},1,{"$f":"data!F17-data!Y17","v":-11.100000000000001},1,{"$f":"data!I17-data!Y17","v":-8.1000000000000014},1,{"$f":"data!K17-data!Y17","v":-7.1000000000000014},1,{"$f":"data!N17-data!Y17","v":-11.100000000000001},1,{"$f":"data!Q17-data!Y17","v":-11.100000000000001},1]
[{"$f":"data!$A18","v":"2009-07-07"},"2009-07-06","2009-07-10",{"$f":"data!T18-data!Y18","v":-8.7000000000000011},{"$f":"data!C18-data!Y18","v":-6.8000000000000007},1,{"$f":"data!F18-data!Y18","v":-4.8000000000000007},1,{"$f":"data!I18-data!Y18","v":-6.8000000000000007},1,{"$f":"data!K18-data!Y18","v":-10.8},1,{"$f":"data!N18-data!Y18","v":-4.8000000000000007},1,{"$f":"data!Q18-data!Y18","v":-8.8000000000000007},1]
[{"$f":"data!$A19","v":"2009-07-08"},"2009-07-07","2009-07-11",{"$f":"data!T19-data!Y19","v":-1.7999999999999972},{"$f":"data!C19-data!Y19","v":-2.3999999999999986},1,{"$f":"data!F19-data!Y19","v":-2.3999999999999986},1,{"$f":"data!I19-data!Y19","v":-2.3999999999999986},1,{"$f":"data!K19-data!Y19","v":-3.3999999999999986},1,{"$f":"data!N19-data!Y19","v":-2.3999999999999986},1,{"$f":"data!Q19-data!Y19","v":-5.3999999999999986},1]
[{"$f":"data!$A20","v":"2009-07-09"},"2009-07-08","2009-07-12",{"$f":"data!T20-data!Y20","v":3.3999999999999986},{"$f":"data!C20-data!Y20","v":3.1999999999999993},1,{"$f":"data!F20-data!Y20","v":7.1999999999999993},1,{"$f":"data!I20-data!Y20","v":3.1999999999999993},1,{"$f":"data!K20-data!Y20","v":1.1999999999999993},1,{"$f":"data!N20-data!Y20","v":7.1999999999999993},1,{"$f":"data!Q20-data!Y20","v":1.1999999999999993},1]
[{"$f":"data!$A21","v":"2009-07-10"},"2009-07-09","2009-07-13",{"$f":"data!T21-data!Y21","v":6},{"$f":"data!C21-data!Y21","v":5.1999999999999993},1,{"$f":"data!F21-data!Y21","v":5.1999999999999993},1,{"$f":"data!I21-data!Y21","v":4.1999999999999993},1,{"$f":"data!K21-data!Y21","v":2.1999999999999993},1,{"$f":"data!N21-data!Y21","v":5.1999999999999993},1,{"$f":"data!Q21-data!Y21","v":0.19999999999999929},1]
[{"$f":"data!$A22","v":"2009-07-11"},"2009-07-10","2009-07-14",{"$f":"data!T22-data!Y22","v":9.2999999999999989},{"$f":"data!C22-data!Y22","v":8.9},1,{"$f":"data!F22-data!Y22","v":8.9},1,{"$f":"data!I22-data!Y22","v":9.9},1,{"$f":"data!K22-data!Y22","v":8.9},1,{"$f":"data!N22-data!Y22","v":8.9},1,{"$f":"data!Q22-data!Y22","v":8.9},1]
[{"$f":"data!$A23","v":"2009-07-12"},"2009-07-11","2009-07-15",{"$f":"data!T23-data!Y23","v":6.5999999999999979},{"$f":"data!C23-data!Y23","v":4.3999999999999986},1,{"$f":"data!F23-data!Y23","v":7.3999999999999986},1,{"$f":"data!I23-data!Y23","v":6.3999999999999986},1,{"$f":"data!K23-data!Y23","v":4.3999999999999986},1,{"$f":"data!N23-data!Y23","v":4.3999999999999986},1,{"$f":"data!Q23-data!Y23","v":4.3999999999999986},1]
[{"$f":"data!$A24","v":"2009-07-13"},"2009-07-12","2009-07-16",{"$f":"data!T24-data!Y24","v":6.3000000000000007},{"$f":"data!C24-data!Y24","v":6.8000000000000007},1,{"$f":"data!F24-data!Y24","v":6.8000000000000007},1,{"$f":"data!I24-data!Y24","v":5.8000000000000007},1,{"$f":"data!K24-data!Y24","v":4.8000000000000007},1,{"$f":"data!N24-data!Y24","v":6.8000000000000007},1,{"$f":"data!Q24-data!Y24","v":2.8000000000000007},1]
[{"$f":"data!$A25","v":"2009-07-14"},"2009-07-13","2009-07-17",{"$f":"data!T25-data!Y25","v":-3.3000000000000007},{"$f":"data!C25-data!Y25","v":-1.8000000000000007},1,{"$f":"data!F25-data!Y25","v":0.19999999999999929},0,{"$f":"data!I25-data!Y25","v":0.19999999999999929},0,{"$f":"data!K25-data!Y25","v":-3.8000000000000007},1,{"$f":"data!N25-data!Y25","v":6.1999999999999993},0,{"$f":"data!Q25-data!Y25","v":-0.80000000000000071},1]
[{"$f":"data!$A26","v":"2009-07-15"},"2009-07-14","2009-07-18",{"$f":"data!T26-data!Y26","v":-6.0999999999999979},{"$f":"data!C26-data!Y26","v":-7.3999999999999986},1,{"$f":"data!F26-data!Y26","v":-9.3999999999999986},1,{"$f":"data!I26-data!Y26","v":-6.3999999999999986},1,{"$f":"data!K26-data!Y26","v":-11.399999999999999},1,{"$f":"data!N26-data!Y26","v":-9.3999999999999986},1,{"$f":"data!Q26-data!Y26","v":-0.39999999999999858},1]
[{"$f":"data!$A27","v":"2009-07-16"},"2009-07-15","2009-07-19",{"$f":"data!T27-data!Y27","v":-4.8999999999999986},{"$f":"data!C27-data!Y27","v":-7.1999999999999993},1,{"$f":"data!F27-data!Y27","v":-5.1999999999999993},1,{"$f":"data!I27-data!Y27","v":-7.1999999999999993},1,{"$f":"data!K27-data!Y27","v":-9.1999999999999993},1,{"$f":"data!N27-data!Y27","v":-5.1999999999999993},1,{"$f":"data!Q27-data!Y27","v":-10.199999999999999},1]
[{"$f":"data!$A28","v":"2009-07-17"},"2009-07-16","2009-07-20",{"$f":"data!T28-data!Y28","v":-5.6999999999999993},{"$f":"data!C28-data!Y28","v":-6.5},1,{"$f":"data!F28-data!Y28","v":-5.5},1,{"$f":"data!I28-data!Y28","v":-7.5},1,{"$f":"data!K28-data!Y28","v":-9.5},1,{"$f":"data!N28-data!Y28","v":-5.5},1,{"$f":"data!Q28-data!Y28","v":-7.5},1]
[{"$f":"data!$A29","v":"2009-07-18"},"2009-07-17","2009-07-21",{"$f":"data!T29-data!Y29","v":4.8000000000000007},{"$f":"data!C29-data!Y29","v":1.5},1,{"$f":"data!F29-data!Y29","v":4.5},1,{"$f":"data!I29-data!Y29","v":3.5},1,{"$f":"data!K29-data!Y29","v":0.5},1,{"$f":"data!N29-data!Y29","v":4.5},1,{"$f":"data!Q29-data!Y29","v":-1.5},0]
[{"$f":"data!$A30","v":"2009-07-19"},"2009-07-18","2009-07-22",{"$f":"data!T30-data!Y30","v":8.8000000000000007},{"$f":"data!C30-data!Y30","v":6.6999999999999993},1,{"$f":"data!F30-data!Y30","v":9.6999999999999993},1,{"$f":"data!I30-data!Y30","v":7.6999999999999993},1,{"$f":"data!K30-data!Y30","v":4.6999999999999993},1,{"$f":"data!N30-data!Y30","v":9.6999999999999993},1,{"$f":"data!Q30-data!Y30","v":3.6999999999999993},1]
[{"$f":"data!$A31","v":"2009-07-20"},"2009-07-19","2009-07-23",{"$f":"data!T31-data!Y31","v":3},{"$f":"data!C31-data!Y31","v":2.6999999999999993},1,{"$f":"data!F31-data!Y31","v":2.6999999999999993},1,{"$f":"data!I31-data!Y31","v":5.6999999999999993},1,{"$f":"data!K31-data!Y31","v":0.69999999999999929},1,{"$f":"data!N31-data!Y31","v":2.6999999999999993},1,{"$f":"data!Q31-data!Y31","v":3.6999999999999993},1]
[{"$f":"data!$A32","v":"2009-07-22"},"2009-07-21","2009-07-25",{"$f":"data!T32-data!Y32","v":-8.1000000000000014},{"$f":"data!C32-data!Y32","v":-7.3000000000000007},1,{"$f":"data!F32-data!Y32","v":-6.3000000000000007},1,{"$f":"data!I32-data!Y32","v":-6.3000000000000007},1,{"$f":"data!K32-data!Y32","v":-9.3000000000000007},1,{"$f":"data!N32-data!Y32","v":-6.3000000000000007},1,{"$f":"data!Q32-data!Y32","v":-5.3000000000000007},1]
[{"$f":"data!$A33","v":"2009-07-23"},"2009-07-22","2009-07-26",{"$f":"data!T33-data!Y33","v":-4.4000000000000021},{"$f":"data!C33-data!Y33","v":-2.1000000000000014},1,{"$f":"data!F33-data!Y33","v":-3.1000000000000014},1,{"$f":"data!I33-data!Y33","v":-5.1000000000000014},1,{"$f":"data!K33-data!Y33","v":-7.1000000000000014},1,{"$f":"data!N33-data!Y33","v":-3.1000000000000014},1,{"$f":"data!Q33-data!Y33","v":-7.1000000000000014},1]
[{"$f":"data!$A34","v":"2009-07-24"},"2009-07-23","2009-07-27",{"$f":"data!T34-data!Y34","v":2.8999999999999986},{"$f":"data!C34-data!Y34","v":3.6999999999999993},1,{"$f":"data!F34-data!Y34","v":5.6999999999999993},1,{"$f":"data!I34-data!Y34","v":0.69999999999999929},1,{"$f":"data!K34-data!Y34","v":1.6999999999999993},1,{"$f":"data!N34-data!Y34","v":5.6999999999999993},1,{"$f":"data!Q34-data!Y34","v":-1.3000000000000007},0]
[{"$f":"data!$A35","v":"2009-07-25"},"2009-07-24","2009-07-28",{"$f":"data!T35-data!Y35","v":0.5},{"$f":"data!C35-data!Y35","v":4.6999999999999993},1,{"$f":"data!F35-data!Y35","v":1.6999999999999993},1,{"$f":"data!I35-data!Y35","v":0.69999999999999929},1,{"$f":"data!K35-data!Y35","v":-3.3000000000000007},0,{"$f":"data!N35-data!Y35","v":7.6999999999999993},1,{"$f":"data!Q35-data!Y35","v":0.69999999999999929},1]
[{"$f":"data!$A36","v":"2009-07-28"},"2009-07-27","2009-07-31",{"$f":"data!T36-data!Y36","v":-5.8000000000000007},{"$f":"data!C36-data!Y36","v":-3.1999999999999993},1,{"$f":"data!F36-data!Y36","v":-2.1999999999999993},1,{"$f":"data!I36-data!Y36","v":-6.1999999999999993},1,{"$f":"data!K36-data!Y36","v":-6.1999999999999993},1,{"$f":"data!N36-data!Y36","v":-2.1999999999999993},1,{"$f":"data!Q36-data!Y36","v":-6.1999999999999993},1]
[{"$f":"data!$A37","v":"2009-07-29"},"2009-07-28","2009-08-01",{"$f":"data!T37-data!Y37","v":3.5999999999999979},{"$f":"data!C37-data!Y37","v":3.1999999999999993},1,{"$f":"data!F37-data!Y37","v":2.1999999999999993},1,{"$f":"data!I37-data!Y37","v":4.1999999999999993},1,{"$f":"data!K37-data!Y37","v":2.1999999999999993},1,{"$f":"data!N37-data!Y37","v":2.1999999999999993},1,{"$f":"data!Q37-data!Y37","v":-3.8000000000000007},0]
[{"$f":"data!$A38","v":"2009-07-30"},"2009-07-29","2009-08-02",{"$f":"data!T38-data!Y38","v":-3.0999999999999979},{"$f":"data!C38-data!Y38","v":-1.1999999999999993},1,{"$f":"data!F38-data!Y38","v":-1.1999999999999993},1,{"$f":"data!I38-data!Y38","v":-2.1999999999999993},1,{"$f":"data!K38-data!Y38","v":-7.1999999999999993},1,{"$f":"data!N38-data!Y38","v":-1.1999999999999993},1,{"$f":"data!Q38-data!Y38","v":-3.1999999999999993},1]
[{"$f":"data!$A39","v":"2009-07-31"},"2009-07-30","2009-08-03",{"$f":"data!T39-data!Y39","v":0.39999999999999858},{"$f":"data!C39-data!Y39","v":-1.1000000000000014},0,{"$f":"data!F39-data!Y39","v":0.89999999999999858},1,{"$f":"data!I39-data!Y39","v":1.8999999999999986},1,{"$f":"data!K39-data!Y39","v":-3.1000000000000014},0,{"$f":"data!N39-data!Y39","v":0.89999999999999858},1,{"$f":"data!Q39-data!Y39","v":-0.10000000000000142},0]
[{"$f":"data!$A40","v":"2009-08-01"},"2009-07-31","2009-08-04",{"$f":"data!T40-data!Y40","v":2.4000000000000021},{"$f":"data!C40-data!Y40","v":4.6000000000000014},1,{"$f":"data!F40-data!Y40","v":4.6000000000000014},1,{"$f":"data!I40-data!Y40","v":5.6000000000000014},1,{"$f":"data!K40-data!Y40","v":2.6000000000000014},1,{"$f":"data!N40-data!Y40","v":4.6000000000000014},1,{"$f":"data!Q40-data!Y40","v":-0.39999999999999858},0]
[{"$f":"data!$A41","v":"2009-08-02"},"2009-08-01","2009-08-05",{"$f":"data!T41-data!Y41","v":0},{"$f":"data!C41-data!Y41","v":1.6000000000000014},0,{"$f":"data!F41-data!Y41","v":1.6000000000000014},0,{"$f":"data!I41-data!Y41","v":0.60000000000000142},0,{"$f":"data!K41-data!Y41","v":0.60000000000000142},0,{"$f":"data!N41-data!Y41","v":1.6000000000000014},0,{"$f":"data!Q41-data!Y41","v":-3.3999999999999986},0]
[{"$f":"data!$A42","v":"2009-08-03"},"2009-08-02","2009-08-06",{"$f":"data!T42-data!Y42","v":5.3999999999999986},{"$f":"data!C42-data!Y42","v":4.8999999999999986},1,{"$f":"data!F42-data!Y42","v":7.8999999999999986},1,{"$f":"data!I42-data!Y42","v":4.8999999999999986},1,{"$f":"data!K42-data!Y42","v":3.8999999999999986},1,{"$f":"data!N42-data!Y42","v":4.8999999999999986},1,{"$f":"data!Q42-data!Y42","v":-0.10000000000000142},0]
[{"$f":"data!$A43","v":"2009-08-04"},"2009-08-03","2009-08-07",{"$f":"data!T43-data!Y43","v":6.1999999999999993},{"$f":"data!C43-data!Y43","v":7.5},1,{"$f":"data!F43-data!Y43","v":7.5},1,{"$f":"data!I43-data!Y43","v":7.5},1,{"$f":"data!K43-data!Y43","v":7.5},1,{"$f":"data!N43-data!Y43","v":7.5},1,{"$f":"data!Q43-data!Y43","v":3.5},1]
[{"$f":"data!$A44","v":"2009-08-05"},"2009-08-04","2009-08-08",{"$f":"data!T44-data!Y44","v":-0.60000000000000142},{"$f":"data!C44-data!Y44","v":2.1999999999999993},0,{"$f":"data!F44-data!Y44","v":5.1999999999999993},0,{"$f":"data!I44-data!Y44","v":2.1999999999999993},0,{"$f":"data!K44-data!Y44","v":-1.8000000000000007},1,{"$f":"data!N44-data!Y44","v":5.1999999999999993},0,{"$f":"data!Q44-data!Y44","v":4.1999999999999993},0]
[{"$f":"data!$A45","v":"2009-08-06"},"2009-08-05","2009-08-09",{"$f":"data!T45-data!Y45","v":-0.29999999999999716},{"$f":"data!C45-data!Y45","v":0.60000000000000142},0,{"$f":"data!F45-data!Y45","v":2.6000000000000014},0,{"$f":"data!I45-data!Y45","v":-3.3999999999999986},1,{"$f":"data!K45-data!Y45","v":2.6000000000000014},0,{"$f":"data!N45-data!Y45","v":2.6000000000000014},0,{"$f":"data!Q45-data!Y45","v":-2.3999999999999986},1]
[{"$f":"data!$A46","v":"2009-08-07"},"2009-08-06","2009-08-10",{"$f":"data!T46-data!Y46","v":-6.1999999999999993},{"$f":"data!C46-data!Y46","v":-3.5},1,{"$f":"data!F46-data!Y46","v":-0.5},1,{"$f":"data!I46-data!Y46","v":-5.5},1,{"$f":"data!K46-data!Y46","v":-8.5},1,{"$f":"data!N46-data!Y46","v":-0.5},1,{"$f":"data!Q46-data!Y46","v":-4.5},1]
[{"$f":"data!$A47","v":"2009-08-08"},"2009-08-07","2009-08-11",{"$f":"data!T47-data!Y47","v":-5.5},{"$f":"data!C47-data!Y47","v":-6.6999999999999993},1,{"$f":"data!F47-data!Y47","v":-4.6999999999999993},1,{"$f":"data!I47-data!Y47","v":-6.6999999999999993},1,{"$f":"data!K47-data!Y47","v":-10.7},1,{"$f":"data!N47-data!Y47","v":-0.69999999999999929},1,{"$f":"data!Q47-data!Y47","v":-5.6999999999999993},1]
[{"$f":"data!$A48","v":"2009-08-24"},"2009-08-23","2009-08-27",{"$f":"data!T48-data!Y48","v":3.3000000000000007},{"$f":"data!C48-data!Y48","v":1.5},1,{"$f":"data!F48-data!Y48","v":2.5},1,{"$f":"data!I48-data!Y48","v":1.5},1,{"$f":"data!K48-data!Y48","v":-2.5},0,{"$f":"data!N48-data!Y48","v":2.5},1,{"$f":"data!Q48-data!Y48","v":0.5},1]
[{"$f":"data!$A49","v":"2009-08-25"},"2009-08-24","2009-08-28",{"$f":"data!T49-data!Y49","v":-4.1999999999999993},{"$f":"data!C49-data!Y49","v":-3.3999999999999986},1,{"$f":"data!F49-data!Y49","v":-2.3999999999999986},1,{"$f":"data!I49-data!Y49","v":-1.3999999999999986},1,{"$f":"data!K49-data!Y49","v":-8.3999999999999986},1,{"$f":"data!N49-data!Y49","v":-2.3999999999999986},1,{"$f":"data!Q49-data!Y49","v":-3.3999999999999986},1]
[{"$f":"data!$A50","v":"2009-08-27"},"2009-08-26","2009-08-30",{"$f":"data!T50-data!Y50","v":-3.3000000000000007},{"$f":"data!C50-data!Y50","v":-3.5},1,{"$f":"data!F50-data!Y50","v":-3.5},1,{"$f":"data!I50-data!Y50","v":-3.5},1,{"$f":"data!K50-data!Y50","v":-6.5},1,{"$f":"data!N50-data!Y50","v":-3.5},1,{"$f":"data!Q50-data!Y50","v":-5.5},1]
[{"$f":"data!$A51","v":"2009-08-28"},"2009-08-27","2009-08-31",{"$f":"data!T51-data!Y51","v":-2.1999999999999993},{"$f":"data!C51-data!Y51","v":-3.8000000000000007},1,{"$f":"data!F51-data!Y51","v":-2.8000000000000007},1,{"$f":"data!I51-data!Y51","v":-1.8000000000000007},1,{"$f":"data!K51-data!Y51","v":-4.8000000000000007},1,{"$f":"data!N51-data!Y51","v":-2.8000000000000007},1,{"$f":"data!Q51-data!Y51","v":-5.8000000000000007},1]
[{"$f":"data!$A52","v":"2009-08-30"},"2009-08-29","2009-09-02",{"$f":"data!T52-data!Y52","v":2.4000000000000021},{"$f":"data!C52-data!Y52","v":2.6000000000000014},1,{"$f":"data!F52-data!Y52","v":3.6000000000000014},1,{"$f":"data!I52-data!Y52","v":2.6000000000000014},1,{"$f":"data!K52-data!Y52","v":-0.39999999999999858},0,{"$f":"data!N52-data!Y52","v":3.6000000000000014},1,{"$f":"data!Q52-data!Y52","v":1.6000000000000014},1]
[{"$f":"data!$A53","v":"2009-08-31"},"2009-08-30","2009-09-03",{"$f":"data!T53-data!Y53","v":-1.5999999999999979},{"$f":"data!C53-data!Y53","v":-2.1999999999999993},1,{"$f":"data!F53-data!Y53","v":0.80000000000000071},0,{"$f":"data!I53-data!Y53","v":0.80000000000000071},0,{"$f":"data!K53-data!Y53","v":-3.1999999999999993},1,{"$f":"data!N53-data!Y53","v":0.80000000000000071},0,{"$f":"data!Q53-data!Y53","v":-2.1999999999999993},1]
[{"$f":"data!$A54","v":"2009-09-01"},"2009-08-31","2009-09-04",{"$f":"data!T54-data!Y54","v":-8.3000000000000007},{"$f":"data!C54-data!Y54","v":-9.6000000000000014},1,{"$f":"data!F54-data!Y54","v":-8.6000000000000014},1,{"$f":"data!I54-data!Y54","v":-7.6000000000000014},1,{"$f":"data!K54-data!Y54","v":-12.600000000000001},1,{"$f":"data!N54-data!Y54","v":-8.6000000000000014},1,{"$f":"data!Q54-data!Y54","v":-11.600000000000001},1]
[{"$f":"data!$A55","v":"2009-09-03"},"2009-09-02","2009-09-06",{"$f":"data!T55-data!Y55","v":-3.6999999999999993},{"$f":"data!C55-data!Y55","v":-2.8000000000000007},1,{"$f":"data!F55-data!Y55","v":-2.8000000000000007},1,{"$f":"data!I55-data!Y55","v":-2.8000000000000007},1,{"$f":"data!K55-data!Y55","v":-5.8000000000000007},1,{"$f":"data!N55-data!Y55","v":-2.8000000000000007},1,{"$f":"data!Q55-data!Y55","v":-3.8000000000000007},1]
[{"$f":"data!$A56","v":"2009-09-04"},"2009-09-03","2009-09-07",{"$f":"data!T56-data!Y56","v":2.8999999999999986},{"$f":"data!C56-data!Y56","v":1.3999999999999986},1,{"$f":"data!F56-data!Y56","v":3.3999999999999986},1,{"$f":"data!I56-data!Y56","v":1.3999999999999986},1,{"$f":"data!K56-data!Y56","v":-1.6000000000000014},0,{"$f":"data!N56-data!Y56","v":3.3999999999999986},1,{"$f":"data!Q56-data!Y56","v":0.39999999999999858},1]
[{"$f":"data!$A57","v":"2009-09-05"},"2009-09-04","2009-09-08",{"$f":"data!T57-data!Y57","v":8.5},{"$f":"data!C57-data!Y57","v":7.6999999999999993},1,{"$f":"data!F57-data!Y57","v":8.6999999999999993},1,{"$f":"data!I57-data!Y57","v":6.6999999999999993},1,{"$f":"data!K57-data!Y57","v":5.6999999999999993},1,{"$f":"data!N57-data!Y57","v":8.6999999999999993},1,{"$f":"data!Q57-data!Y57","v":6.6999999999999993},1]
[{"$f":"data!$A58","v":"2009-09-06"},"2009-09-05","2009-09-09",{"$f":"data!T58-data!Y58","v":6.3000000000000007},{"$f":"data!C58-data!Y58","v":10.5},1,{"$f":"data!F58-data!Y58","v":11.5},1,{"$f":"data!I58-data!Y58","v":7.5},1,{"$f":"data!K58-data!Y58","v":9.5},1,{"$f":"data!N58-data!Y58","v":11.5},1,{"$f":"data!Q58-data!Y58","v":7.5},1]
[{"$f":"data!$A59","v":"2009-09-08"},"2009-09-07","2009-09-11",{"$f":"data!T59-data!Y59","v":-3.6000000000000014},{"$f":"data!C59-data!Y59","v":-1.5},1,{"$f":"data!F59-data!Y59","v":-1.5},1,{"$f":"data!I59-data!Y59","v":-2.5},1,{"$f":"data!K59-data!Y59","v":-3.5},1,{"$f":"data!N59-data!Y59","v":-1.5},1,{"$f":"data!Q59-data!Y59","v":-3.5},1]
[{"$f":"data!$A60","v":"2009-09-09"},{"$f":"A54-1","v":"2009-09-08"},{"$f":"B54+4","v":"2009-09-12"},{"$f":"data!T60-data!Y60","v":-6.6999999999999993},{"$f":"data!C60-data!Y60","v":-5.8000000000000007},1,{"$f":"data!F60-data!Y60","v":-3.8000000000000007},1,{"$f":"data!I60-data!Y60","v":-7.8000000000000007},1,{"$f":"data!K60-data!Y60","v":-8.8000000000000007},1,{"$f":"data!N60-data!Y60","v":-3.8000000000000007},1,{"$f":"data!Q60-data!Y60","v":-6.8000000000000007},1]
[{"$f":"data!$A61","v":"2009-09-10"},"2009-09-09","2009-09-13",{"$f":"data!T61-data!Y61","v":-7.2000000000000011},{"$f":"data!C61-data!Y61","v":-4.8000000000000007},1,{"$f":"data!F61-data!Y61","v":-3.8000000000000007},1,{"$f":"data!I61-data!Y61","v":-2.8000000000000007},1,{"$f":"data!K61-data!Y61","v":-8.8000000000000007},1,{"$f":"data!N61-data!Y61","v":-3.8000000000000007},1,{"$f":"data!Q61-data!Y61","v":-5.8000000000000007},1]
[{"$f":"data!$A62","v":"2009-09-11"},"2009-09-10","2009-09-14",{"$f":"data!T62-data!Y62","v":-4.0999999999999996},{"$f":"data!C62-data!Y62","v":-0.5},1,{"$f":"data!F62-data!Y62","v":-0.5},1,{"$f":"data!I62-data!Y62","v":0.5},0,{"$f":"data!K62-data!Y62","v":-2.5},1,{"$f":"data!N62-data!Y62","v":-0.5},1,{"$f":"data!Q62-data!Y62","v":-1.5},1]
[{"$f":"data!$A63","v":"2009-09-12"},"2009-09-11","2009-09-15",{"$f":"data!T63-data!Y63","v":-3.2999999999999989},{"$f":"data!C63-data!Y63","v":-2.8999999999999986},1,{"$f":"data!F63-data!Y63","v":-0.89999999999999858},1,{"$f":"data!I63-data!Y63","v":2.1000000000000014},0,{"$f":"data!K63-data!Y63","v":-6.8999999999999986},1,{"$f":"data!N63-data!Y63","v":-0.89999999999999858},1,{"$f":"data!Q63-data!Y63","v":-3.8999999999999986},1]
[{"$f":"data!$A64","v":"2009-09-13"},"2009-09-12","2009-09-16",{"$f":"data!T64-data!Y64","v":9.9999999999997868E-2},{"$f":"data!C64-data!Y64","v":4.8999999999999986},1,{"$f":"data!F64-data!Y64","v":6.8999999999999986},1,{"$f":"data!I64-data!Y64","v":2.8999999999999986},1,{"$f":"data!K64-data!Y64","v":3.8999999999999986},1,{"$f":"data!N64-data!Y64","v":6.8999999999999986},1,{"$f":"data!Q64-data!Y64","v":3.8999999999999986},1]
[{"$f":"data!$A65","v":"2009-09-14"},"2009-09-13","2009-09-17",{"$f":"data!T65-data!Y65","v":4.0000000000000018},{"$f":"data!C65-data!Y65","v":7.4},1,{"$f":"data!F65-data!Y65","v":7.4},1,{"$f":"data!I65-data!Y65","v":2.4000000000000004},1,{"$f":"data!K65-data!Y65","v":4.4000000000000004},1,{"$f":"data!N65-data!Y65","v":7.4},1,{"$f":"data!Q65-data!Y65","v":4.4000000000000004},1]
[{"$f":"data!$A66","v":"2009-09-15"},"2009-09-14","2009-09-18",{"$f":"data!T66-data!Y66","v":8.6},{"$f":"data!C66-data!Y66","v":8.6},1,{"$f":"data!F66-data!Y66","v":9.6},1,{"$f":"data!I66-data!Y66","v":6.6},1,{"$f":"data!K66-data!Y66","v":6.6},1,{"$f":"data!N66-data!Y66","v":9.6},1,{"$f":"data!Q66-data!Y66","v":8.6},1]
[{"$f":"data!$A67","v":"2009-09-16"},"2009-09-15","2009-09-19",{"$f":"data!T67-data!Y67","v":7.9},{"$f":"data!C67-data!Y67","v":7.4},1,{"$f":"data!F67-data!Y67","v":8.4},1,{"$f":"data!I67-data!Y67","v":6.4},1,{"$f":"data!K67-data!Y67","v":4.4000000000000004},1,{"$f":"data!N67-data!Y67","v":8.4},1,{"$f":"data!Q67-data!Y67","v":6.4},1]
[{"$f":"data!$A68","v":"2009-09-17"},"2009-09-16","2009-09-20",{"$f":"data!T68-data!Y68","v":4.5},{"$f":"data!C68-data!Y68","v":3.8000000000000007},1,{"$f":"data!F68-data!Y68","v":5.8000000000000007},1,{"$f":"data!I68-data!Y68","v":1.8000000000000007},1,{"$f":"data!K68-data!Y68","v":1.8000000000000007},1,{"$f":"data!N68-data!Y68","v":4.8000000000000007},1,{"$f":"data!Q68-data!Y68","v":1.8000000000000007},1]
[{"$f":"data!$A69","v":"2009-09-18"},"2009-09-17","2009-09-21",{"$f":"data!T69-data!Y69","v":1.6999999999999993},{"$f":"data!C69-data!Y69","v":3.3999999999999986},1,{"$f":"data!F69-data!Y69","v":6.3999999999999986},1,{"$f":"data!I69-data!Y69","v":2.3999999999999986},1,{"$f":"data!K69-data!Y69","v":1.3999999999999986},1,{"$f":"data!N69-data!Y69","v":6.3999999999999986},1,{"$f":"data!Q69-data!Y69","v":3.3999999999999986},1]
[null,null,null,null,"maximum hőmérséklet első 50 nap(konkurencia)",{"$f":"SUM(F4:F53)/50","v":0.9},null,{"$f":"SUM(H4:H53)/50","v":0.88},null,{"$f":"SUM(J4:J53)/50","v":0.92},null,{"$f":"SUM(L4:L53)/50","v":0.86},null,{"$f":"SUM(N4:N53)/50","v":0.88},null,{"$f":"SUM(P4:P53)/50","v":0.8}]
[null,null,null,null,"maximum hőmérséklet első 50 nap(saját)",null,null,null,null,{"$f":"maxar1!Z207","v":0.98}]
[null,null,null,null,"maximum hőmérséklet utolsó 10 nap(konkurencia)",{"$f":"SUM(F54:F63)/10","v":1},null,{"$f":"SUM(H54:H63)/10","v":1},null,{"$f":"SUM(J54:J63)/10","v":0.8},null,{"$f":"SUM(L54:L63)/10","v":1},null,{"$f":"SUM(N54:N63)/10","v":1},null,{"$f":"SUM(P54:P63)/10","v":1}]
[null,null,null,null,"maximum hőmérséklet utolsó 10 nap(saját)",null,null,null,null,{"$f":"maxar1!Z268","v":0.8}]
[null,null,null,null,"maximum hőmérséklet összes(konkurencia)",{"$f":"SUM(F4:F63)/60","v":0.91666666666666663},null,{"$f":"SUM(H4:H63)/60","v":0.9},null,{"$f":"SUM(J4:J63)/60","v":0.9},null,{"$f":"SUM(L4:L63)/60","v":0.8833333333333333},null,{"$f":"SUM(N4:N63)/60","v":0.9},null,{"$f":"SUM(P4:P63)/60","v":0.83333333333333337}]
[null,null,null,null,"maximum hőmérséklet összes(saját)",null,null,null,null,{"$f":"maxar1!Z269","v":0.95}]
[null,null,null,null,"minimumhőmérséklet találati arányai:"]
[]
["prognózis rögzítésének kelte","prognózis keletkezésének kelte","tények kelte","a tényadat változása","weatheronline",{"$f":"SUM(F73:F122)/50","v":0.8},"kurier",{"$f":"SUM(H73:H122)/50","v":0.78},"wetter.rtl",{"$f":"SUM(J73:J122)/50","v":0.88},"raiffeisen",{"$f":"SUM(L73:L122)/50","v":0.92},"stern",{"$f":"SUM(N73:N122)/50","v":0.9},"wetter.excite",{"$f":"SUM(P73:P122)/50","v":0.8}]
[{"$f":"data!$A10","v":"2009-06-29"},{"$f":"A73-1","v":"2009-06-28"},{"$f":"B73+4","v":"2009-07-02"},{"$f":"data!U10-data!Z10","v":1.9999999999999982},{"$f":"data!D10-data!Z10","v":2.5999999999999996},{"$f":"IF(E73=$D73,1,IF(E73*$D73>0,1,0))","v":1},{"$f":"data!G10-data!Z10","v":0.59999999999999964},{"$f":"IF(G73=$D73,1,IF(G73*$D73>0,1,0))","v":1},{"$f":"data!J10-data!Z10","v":0.59999999999999964},{"$f":"IF(I73=$D73,1,IF(I73*$D73>0,1,0))","v":1},{"$f":"data!L10-data!Z10","v":-0.40000000000000036},{"$f":"IF(K73=$D73,1,IF(K73*$D73>0,1,0))","v":0},{"$f":"data!M10-data!Z10","v":0.59999999999999964},{"$f":"IF(M73=$D73,1,IF(M73*$D73>0,1,0))","v":1},{"$f":"data!P10-data!Z10","v":1.5999999999999996},{"$f":"IF(O73=$D73,1,IF(O73*$D73>0,1,0))","v":1}]
[{"$f":"data!$A11","v":"2009-06-30"},"2009-06-29",{"$f":"B74+4","v":"2009-07-03"},{"$f":"data!U11-data!Z11","v":4},{"$f":"data!D11-data!Z11","v":6.1999999999999993},1,{"$f":"data!G11-data!Z11","v":2.1999999999999993},1,{"$f":"data!J11-data!Z11","v":3.1999999999999993},1,{"$f":"data!L11-data!Z11","v":0.19999999999999929},1,{"$f":"data!M11-data!Z11","v":3.1999999999999993},1,{"$f":"data!P11-data!Z11","v":4.1999999999999993},1]
[{"$f":"data!$A12","v":"2009-07-01"},"2009-06-30","2009-07-04",{"$f":"data!U12-data!Z12","v":-1.5},{"$f":"data!D12-data!Z12","v":0.89999999999999858},0,{"$f":"data!G12-data!Z12","v":-0.10000000000000142},1,{"$f":"data!J12-data!Z12","v":-1.1000000000000014},1,{"$f":"data!L12-data!Z12","v":-3.1000000000000014},1,{"$f":"data!M12-data!Z12","v":-0.10000000000000142},1,{"$f":"data!P12-data!Z12","v":-1.1000000000000014},1]
[{"$f":"data!$A13","v":"2009-07-02"},"2009-07-01","2009-07-05",{"$f":"data!U13-data!Z13","v":-2.7999999999999989},{"$f":"data!D13-data!Z13","v":-0.69999999999999929},1,{"$f":"data!G13-data!Z13","v":-1.6999999999999993},1,{"$f":"data!J13-data!Z13","v":-1.6999999999999993},1,{"$f":"data!L13-data!Z13","v":-5.6999999999999993},1,{"$f":"data!M13-data!Z13","v":-1.6999999999999993},1,{"$f":"data!P13-data!Z13","v":0.30000000000000071},0]
[{"$f":"data!$A14","v":"2009-07-03"},"2009-07-02","2009-07-06",{"$f":"data!U14-data!Z14","v":-1.6999999999999993},{"$f":"data!D14-data!Z14","v":-2.3999999999999986},1,{"$f":"data!G14-data!Z14","v":-1.3999999999999986},1,{"$f":"data!J14-data!Z14","v":-3.3999999999999986},1,{"$f":"data!L14-data!Z14","v":-4.3999999999999986},1,{"$f":"data!M14-data!Z14","v":-5.3999999999999986},1,{"$f":"data!P14-data!Z14","v":-2.3999999999999986},1]
[{"$f":"data!$A15","v":"2009-07-04"},"2009-07-03","2009-07-07",{"$f":"data!U15-data!Z15","v":-2.7000000000000011},{"$f":"data!D15-data!Z15","v":-0.80000000000000071},1,{"$f":"data!G15-data!Z15","v":-4.8000000000000007},1,{"$f":"data!J15-data!Z15","v":-3.8000000000000007},1,{"$f":"data!L15-data!Z15","v":-4.8000000000000007},1,{"$f":"data!M15-data!Z15","v":-4.8000000000000007},1,{"$f":"data!P15-data!Z15","v":-4.8000000000000007},1]
[{"$f":"data!$A16","v":"2009-07-05"},"2009-07-04","2009-07-08",{"$f":"data!U16-data!Z16","v":-4.0000000000000018},{"$f":"data!D16-data!Z16","v":-2.6000000000000014},1,{"$f":"data!G16-data!Z16","v":-6.6000000000000014},1,{"$f":"data!J16-data!Z16","v":-3.6000000000000014},1,{"$f":"data!L16-data!Z16","v":-6.6000000000000014},1,{"$f":"data!M16-data!Z16","v":-2.6000000000000014},1,{"$f":"data!P16-data!Z16","v":-4.6000000000000014},1]
[{"$f":"data!$A17","v":"2009-07-06"},"2009-07-05","2009-07-09",{"$f":"data!U17-data!Z17","v":-2.2000000000000011},{"$f":"data!D17-data!Z17","v":9.9999999999999645E-2},0,{"$f":"data!G17-data!Z17","v":-1.9000000000000004},1,{"$f":"data!J17-data!Z17","v":-1.9000000000000004},1,{"$f":"data!L17-data!Z17","v":-3.9000000000000004},1,{"$f":"data!M17-data!Z17","v":1.0999999999999996},0,{"$f":"data!P17-data!Z17","v":-0.90000000000000036},1]
[{"$f":"data!$A18","v":"2009-07-07"},"2009-07-06","2009-07-10",{"$f":"data!U18-data!Z18","v":-5.6},{"$f":"data!D18-data!Z18","v":-6.6999999999999993},1,{"$f":"data!G18-data!Z18","v":-3.6999999999999993},1,{"$f":"data!J18-data!Z18","v":-6.6999999999999993},1,{"$f":"data!L18-data!Z18","v":-9.6999999999999993},1,{"$f":"data!M18-data!Z18","v":-7.6999999999999993},1,{"$f":"data!P18-data!Z18","v":-4.6999999999999993},1]
[{"$f":"data!$A19","v":"2009-07-08"},"2009-07-07","2009-07-11",{"$f":"data!U19-data!Z19","v":-2.7999999999999989},{"$f":"data!D19-data!Z19","v":-3.0999999999999996},1,{"$f":"data!G19-data!Z19","v":-7.1},1,{"$f":"data!J19-data!Z19","v":-3.0999999999999996},1,{"$f":"data!L19-data!Z19","v":-4.0999999999999996},1,{"$f":"data!M19-data!Z19","v":-2.0999999999999996},1,{"$f":"data!P19-data!Z19","v":-4.0999999999999996},1]
[{"$f":"data!$A20","v":"2009-07-09"},"2009-07-08","2009-07-12",{"$f":"data!U20-data!Z20","v":-0.19999999999999929},{"$f":"data!D20-data!Z20","v":-1.5999999999999996},1,{"$f":"data!G20-data!Z20","v":4.4000000000000004},0,{"$f":"data!J20-data!Z20","v":-2.5999999999999996},1,{"$f":"data!L20-data!Z20","v":-3.5999999999999996},1,{"$f":"data!M20-data!Z20","v":-1.5999999999999996},1,{"$f":"data!P20-data!Z20","v":-1.5999999999999996},1]
[{"$f":"data!$A21","v":"2009-07-10"},"2009-07-09","2009-07-13",{"$f":"data!U21-data!Z21","v":2.9000000000000004},{"$f":"data!D21-data!Z21","v":2.3000000000000007},1,{"$f":"data!G21-data!Z21","v":3.3000000000000007},1,{"$f":"data!J21-data!Z21","v":2.3000000000000007},1,{"$f":"data!L21-data!Z21","v":-2.6999999999999993},0,{"$f":"data!M21-data!Z21","v":-0.69999999999999929},0,{"$f":"data!P21-data!Z21","v":0.30000000000000071},1]
[{"$f":"data!$A22","v":"2009-07-11"},"2009-07-10","2009-07-14",{"$f":"data!U22-data!Z22","v":7.5000000000000018},{"$f":"data!D22-data!Z22","v":4.9000000000000004},1,{"$f":"data!G22-data!Z22","v":5.9},1,{"$f":"data!J22-data!Z22","v":4.9000000000000004},1,{"$f":"data!L22-data!Z22","v":2.9000000000000004},1,{"$f":"data!M22-data!Z22","v":5.9},1,{"$f":"data!P22-data!Z22","v":3.9000000000000004},1]
[{"$f":"data!$A23","v":"2009-07-12"},"2009-07-11","2009-07-15",{"$f":"data!U23-data!Z23","v":6},{"$f":"data!D23-data!Z23","v":3.6999999999999993},1,{"$f":"data!G23-data!Z23","v":3.6999999999999993},1,{"$f":"data!J23-data!Z23","v":3.6999999999999993},1,{"$f":"data!L23-data!Z23","v":1.6999999999999993},1,{"$f":"data!M23-data!Z23","v":4.6999999999999993},1,{"$f":"data!P23-data!Z23","v":4.6999999999999993},1]
[{"$f":"data!$A24","v":"2009-07-13"},"2009-07-12","2009-07-16",{"$f":"data!U24-data!Z24","v":-0.20000000000000107},{"$f":"data!D24-data!Z24","v":0.59999999999999964},0,{"$f":"data!G24-data!Z24","v":1.5999999999999996},0,{"$f":"data!J24-data!Z24","v":0.59999999999999964},0,{"$f":"data!L24-data!Z24","v":-3.4000000000000004},1,{"$f":"data!M24-data!Z24","v":-1.4000000000000004},1,{"$f":"data!P24-data!Z24","v":5.6},0]
[{"$f":"data!$A25","v":"2009-07-14"},"2009-07-13","2009-07-17",{"$f":"data!U25-data!Z25","v":1.2000000000000011},{"$f":"data!D25-data!Z25","v":1.4000000000000004},1,{"$f":"data!G25-data!Z25","v":-1.5999999999999996},0,{"$f":"data!J25-data!Z25","v":-0.59999999999999964},0,{"$f":"data!L25-data!Z25","v":1.4000000000000004},1,{"$f":"data!M25-data!Z25","v":1.4000000000000004},1,{"$f":"data!P25-data!Z25","v":-1.5999999999999996},0]
[{"$f":"data!$A26","v":"2009-07-15"},"2009-07-14","2009-07-18",{"$f":"data!U26-data!Z26","v":-4.1000000000000014},{"$f":"data!D26-data!Z26","v":-4.6000000000000014},1,{"$f":"data!G26-data!Z26","v":-7.6000000000000014},1,{"$f":"data!J26-data!Z26","v":-4.6000000000000014},1,{"$f":"data!L26-data!Z26","v":-7.6000000000000014},1,{"$f":"data!M26-data!Z26","v":-4.6000000000000014},1,{"$f":"data!P26-data!Z26","v":-0.60000000000000142},1]
[{"$f":"data!$A27","v":"2009-07-16"},"2009-07-15","2009-07-19",{"$f":"data!U27-data!Z27","v":-7},{"$f":"data!D27-data!Z27","v":-4.3000000000000007},1,{"$f":"data!G27-data!Z27","v":-4.3000000000000007},1,{"$f":"data!J27-data!Z27","v":-6.3000000000000007},1,{"$f":"data!L27-data!Z27","v":-8.3000000000000007},1,{"$f":"data!M27-data!Z27","v":-7.3000000000000007},1,{"$f":"data!P27-data!Z27","v":-3.3000000000000007},1]
[{"$f":"data!$A28","v":"2009-07-17"},"2009-07-16","2009-07-20",{"$f":"data!U28-data!Z28","v":-0.59999999999999964},{"$f":"data!D28-data!Z28","v":0.80000000000000071},0,{"$f":"data!G28-data!Z28","v":-1.1999999999999993},1,{"$f":"data!J28-data!Z28","v":-0.19999999999999929},1,{"$f":"data!L28-data!Z28","v":-2.1999999999999993},1,{"$f":"data!M28-data!Z28","v":-1.1999999999999993},1,{"$f":"data!P28-data!Z28","v":-1.1999999999999993},1]
[{"$f":"data!$A29","v":"2009-07-18"},"2009-07-17","2009-07-21",{"$f":"data!U29-data!Z29","v":-2.2000000000000011},{"$f":"data!D29-data!Z29","v":-2.8000000000000007},1,{"$f":"data!G29-data!Z29","v":4.1999999999999993},0,{"$f":"data!J29-data!Z29","v":-3.8000000000000007},1,{"$f":"data!L29-data!Z29","v":-6.8000000000000007},1,{"$f":"data!M29-data!Z29","v":-3.8000000000000007},1,{"$f":"data!P29-data!Z29","v":-2.8000000000000007},1]
[{"$f":"data!$A30","v":"2009-07-19"},"2009-07-18","2009-07-22",{"$f":"data!U30-data!Z30","v":4.8999999999999986},{"$f":"data!D30-data!Z30","v":3.5},1,{"$f":"data!G30-data!Z30","v":0.5},1,{"$f":"data!J30-data!Z30","v":2.5},1,{"$f":"data!L30-data!Z30","v":1.5},1,{"$f":"data!M30-data!Z30","v":3.5},1,{"$f":"data!P30-data!Z30","v":0.5},1]
[{"$f":"data!$A31","v":"2009-07-20"},"2009-07-19","2009-07-23",{"$f":"data!U31-data!Z31","v":6.3000000000000007},{"$f":"data!D31-data!Z31","v":7.6999999999999993},1,{"$f":"data!G31-data!Z31","v":3.6999999999999993},1,{"$f":"data!J31-data!Z31","v":5.6999999999999993},1,{"$f":"data!L31-data!Z31","v":3.6999999999999993},1,{"$f":"data!M31-data!Z31","v":4.6999999999999993},1,{"$f":"data!P31-data!Z31","v":7.6999999999999993},1]
[{"$f":"data!$A32","v":"2009-07-22"},"2009-07-21","2009-07-25",{"$f":"data!U32-data!Z32","v":-0.5},{"$f":"data!D32-data!Z32","v":1.4000000000000004},0,{"$f":"data!G32-data!Z32","v":-5.6},1,{"$f":"data!J32-data!Z32","v":0.40000000000000036},0,{"$f":"data!L32-data!Z32","v":-2.5999999999999996},1,{"$f":"data!M32-data!Z32","v":-0.59999999999999964},1,{"$f":"data!P32-data!Z32","v":3.4000000000000004},0]
[{"$f":"data!$A33","v":"2009-07-23"},"2009-07-22","2009-07-26",{"$f":"data!U33-data!Z33","v":-9.1999999999999993},{"$f":"data!D33-data!Z33","v":-6.3999999999999986},1,{"$f":"data!G33-data!Z33","v":-8.3999999999999986},1,{"$f":"data!J33-data!Z33","v":-8.3999999999999986},1,{"$f":"data!L33-data!Z33","v":-11.399999999999999},1,{"$f":"data!M33-data!Z33","v":-11.399999999999999},1,{"$f":"data!P33-data!Z33","v":-6.3999999999999986},1]
[{"$f":"data!$A34","v":"2009-07-24"},"2009-07-23","2009-07-27",{"$f":"data!U34-data!Z34","v":-5.8000000000000007},{"$f":"data!D34-data!Z34","v":-4.6000000000000014},1,{"$f":"data!G34-data!Z34","v":-5.6000000000000014},1,{"$f":"data!J34-data!Z34","v":-4.6000000000000014},1,{"$f":"data!L34-data!Z34","v":-5.6000000000000014},1,{"$f":"data!M34-data!Z34","v":-5.6000000000000014},1,{"$f":"data!P34-data!Z34","v":-6.6000000000000014},1]
[{"$f":"data!$A35","v":"2009-07-25"},"2009-07-24","2009-07-28",{"$f":"data!U35-data!Z35","v":-3.2999999999999989},{"$f":"data!D35-data!Z35","v":-3.6999999999999993},1,{"$f":"data!G35-data!Z35","v":-4.6999999999999993},1,{"$f":"data!J35-data!Z35","v":-2.6999999999999993},1,{"$f":"data!L35-data!Z35","v":-6.6999999999999993},1,{"$f":"data!M35-data!Z35","v":-4.6999999999999993},1,{"$f":"data!P35-data!Z35","v":-5.6999999999999993},1]
[{"$f":"data!$A36","v":"2009-07-28"},"2009-07-27","2009-07-31",{"$f":"data!U36-data!Z36","v":-0.30000000000000071},{"$f":"data!D36-data!Z36","v":-0.80000000000000071},1,{"$f":"data!G36-data!Z36","v":1.1999999999999993},0,{"$f":"data!J36-data!Z36","v":-0.80000000000000071},1,{"$f":"data!L36-data!Z36","v":-4.8000000000000007},1,{"$f":"data!M36-data!Z36","v":-0.80000000000000071},1,{"$f":"data!P36-data!Z36","v":7.1999999999999993},0]
[{"$f":"data!$A37","v":"2009-07-29"},"2009-07-28","2009-08-01",{"$f":"data!U37-data!Z37","v":-3.0999999999999996},{"$f":"data!D37-data!Z37","v":-2.4000000000000004},1,{"$f":"data!G37-data!Z37","v":0.59999999999999964},0,{"$f":"data!J37-data!Z37","v":-2.4000000000000004},1,{"$f":"data!L37-data!Z37","v":-3.4000000000000004},1,{"$f":"data!M37-data!Z37","v":-4.4000000000000004},1,{"$f":"data!P37-data!Z37","v":-3.4000000000000004},1]
[{"$f":"data!$A38","v":"2009-07-30"},"2009-07-29","2009-08-02",{"$f":"data!U38-data!Z38","v":4.7000000000000011},{"$f":"data!D38-data!Z38","v":6.3000000000000007},1,{"$f":"data!G38-data!Z38","v":1.3000000000000007},1,{"$f":"data!J38-data!Z38","v":4.3000000000000007},1,{"$f":"data!L38-data!Z38","v":3.3000000000000007},1,{"$f":"data!M38-data!Z38","v":6.3000000000000007},1,{"$f":"data!P38-data!Z38","v":2.3000000000000007},1]
[{"$f":"data!$A39","v":"2009-07-31"},"2009-07-30","2009-08-03",{"$f":"data!U39-data!Z39","v":-1.8000000000000007},{"$f":"data!D39-data!Z39","v":0},0,{"$f":"data!G39-data!Z39","v":-8},1,{"$f":"data!J39-data!Z39","v":-1},1,{"$f":"data!L39-data!Z39","v":-2},1,{"$f":"data!M39-data!Z39","v":-2},1,{"$f":"data!P39-data!Z39","v":0},0]
[{"$f":"data!$A40","v":"2009-08-01"},"2009-07-31","2009-08-04",{"$f":"data!U40-data!Z40","v":-1.5},{"$f":"data!D40-data!Z40","v":0.5},0,{"$f":"data!G40-data!Z40","v":0.5},0,{"$f":"data!J40-data!Z40","v":0.5},0,{"$f":"data!L40-data!Z40","v":-3.5},1,{"$f":"data!M40-data!Z40","v":-2.5},1,{"$f":"data!P40-data!Z40","v":1.5},0]
[{"$f":"data!$A41","v":"2009-08-02"},"2009-08-01","2009-08-05",{"$f":"data!U41-data!Z41","v":0.89999999999999858},{"$f":"data!D41-data!Z41","v":3.6999999999999993},1,{"$f":"data!G41-data!Z41","v":4.6999999999999993},1,{"$f":"data!J41-data!Z41","v":1.6999999999999993},1,{"$f":"data!L41-data!Z41","v":2.6999999999999993},1,{"$f":"data!M41-data!Z41","v":0.69999999999999929},1,{"$f":"data!P41-data!Z41","v":2.6999999999999993},1]
[{"$f":"data!$A42","v":"2009-08-03"},{"$f":"A105-1","v":"2009-08-02"},"2009-08-06",{"$f":"data!U42-data!Z42","v":-1.8000000000000007},{"$f":"data!D42-data!Z42","v":-1.4000000000000004},{"$f":"IF(E105=$D105,1,IF(E105*$D105>0,1,0))","v":1},{"$f":"data!G42-data!Z42","v":1.5999999999999996},{"$f":"IF(G105=$D105,1,IF(G105*$D105>0,1,0))","v":0},{"$f":"data!J42-data!Z42","v":-2.4000000000000004},{"$f":"IF(I105=$D105,1,IF(I105*$D105>0,1,0))","v":1},{"$f":"data!L42-data!Z42","v":-1.4000000000000004},{"$f":"IF(K105=$D105,1,IF(K105*$D105>0,1,0))","v":1},{"$f":"data!M42-data!Z42","v":-4.4000000000000004},{"$f":"IF(M105=$D105,1,IF(M105*$D105>0,1,0))","v":1},{"$f":"data!P42-data!Z42","v":-2.4000000000000004},{"$f":"IF(O105=$D105,1,IF(O105*$D105>0,1,0))","v":1}]
[{"$f":"data!$A43","v":"2009-08-04"},"2009-08-03","2009-08-07",{"$f":"data!U43-data!Z43","v":1.5},{"$f":"data!D43-data!Z43","v":1.8000000000000007},1,{"$f":"data!G43-data!Z43","v":2.8000000000000007},1,{"$f":"data!J43-data!Z43","v":0.80000000000000071},1,{"$f":"data!L43-data!Z43","v":0.80000000000000071},1,{"$f":"data!M43-data!Z43","v":-0.19999999999999929},0,{"$f":"data!P43-data!Z43","v":-0.19999999999999929},0]
[{"$f":"data!$A44","v":"2009-08-05"},"2009-08-04","2009-08-08",{"$f":"data!U44-data!Z44","v":7.6000000000000014},{"$f":"data!D44-data!Z44","v":7},1,{"$f":"data!G44-data!Z44","v":9},1,{"$f":"data!J44-data!Z44","v":7},1,{"$f":"data!L44-data!Z44","v":7},1,{"$f":"data!M44-data!Z44","v":8},1,{"$f":"data!P44-data!Z44","v":5},1]
[{"$f":"data!$A45","v":"2009-08-06"},"2009-08-05","2009-08-09",{"$f":"data!U45-data!Z45","v":5.4},{"$f":"data!D45-data!Z45","v":6.8000000000000007},1,{"$f":"data!G45-data!Z45","v":6.8000000000000007},1,{"$f":"data!J45-data!Z45","v":4.8000000000000007},1,{"$f":"data!L45-data!Z45","v":4.8000000000000007},1,{"$f":"data!M45-data!Z45","v":7.8000000000000007},1,{"$f":"data!P45-data!Z45","v":5.8000000000000007},1]
[{"$f":"data!$A46","v":"2009-08-07"},"2009-08-06","2009-08-10",{"$f":"data!U46-data!Z46","v":3.4000000000000004},{"$f":"data!D46-data!Z46","v":4.4000000000000004},1,{"$f":"data!G46-data!Z46","v":2.4000000000000004},1,{"$f":"data!J46-data!Z46","v":2.4000000000000004},1,{"$f":"data!L46-data!Z46","v":0.40000000000000036},1,{"$f":"data!M46-data!Z46","v":4.4000000000000004},1,{"$f":"data!P46-data!Z46","v":2.4000000000000004},1]
[{"$f":"data!$A47","v":"2009-08-08"},"2009-08-07","2009-08-11",{"$f":"data!U47-data!Z47","v":0.20000000000000107},{"$f":"data!D47-data!Z47","v":-1.6999999999999993},0,{"$f":"data!G47-data!Z47","v":-3.6999999999999993},0,{"$f":"data!J47-data!Z47","v":-2.6999999999999993},0,{"$f":"data!L47-data!Z47","v":-3.6999999999999993},0,{"$f":"data!M47-data!Z47","v":2.3000000000000007},1,{"$f":"data!P47-data!Z47","v":0.30000000000000071},1]
[{"$f":"data!$A48","v":"2009-08-24"},"2009-08-23","2009-08-27",{"$f":"data!U48-data!Z48","v":5.1000000000000014},{"$f":"data!D48-data!Z48","v":5.3000000000000007},1,{"$f":"data!G48-data!Z48","v":5.3000000000000007},1,{"$f":"data!J48-data!Z48","v":4.3000000000000007},1,{"$f":"data!L48-data!Z48","v":4.3000000000000007},1,{"$f":"data!M48-data!Z48","v":3.3000000000000007},1,{"$f":"data!P48-data!Z48","v":3.3000000000000007},1]
[{"$f":"data!$A49","v":"2009-08-25"},"2009-08-24","2009-08-28",{"$f":"data!U49-data!Z49","v":4.5},{"$f":"data!D49-data!Z49","v":4.4000000000000004},1,{"$f":"data!G49-data!Z49","v":0.40000000000000036},1,{"$f":"data!J49-data!Z49","v":3.4000000000000004},1,{"$f":"data!L49-data!Z49","v":3.4000000000000004},1,{"$f":"data!M49-data!Z49","v":4.4000000000000004},1,{"$f":"data!P49-data!Z49","v":4.4000000000000004},1]
[{"$f":"data!$A50","v":"2009-08-27"},"2009-08-26","2009-08-30",{"$f":"data!U50-data!Z50","v":-7.1999999999999993},{"$f":"data!D50-data!Z50","v":-3.5999999999999996},1,{"$f":"data!G50-data!Z50","v":-2.5999999999999996},1,{"$f":"data!J50-data!Z50","v":-4.5999999999999996},1,{"$f":"data!L50-data!Z50","v":-5.6},1,{"$f":"data!M50-data!Z50","v":-4.5999999999999996},1,{"$f":"data!P50-data!Z50","v":-2.5999999999999996},1]
[{"$f":"data!$A51","v":"2009-08-28"},"2009-08-27","2009-08-31",{"$f":"data!U51-data!Z51","v":-6.8000000000000007},{"$f":"data!D51-data!Z51","v":-4.8000000000000007},1,{"$f":"data!G51-data!Z51","v":-3.8000000000000007},1,{"$f":"data!J51-data!Z51","v":-5.8000000000000007},1,{"$f":"data!L51-data!Z51","v":-7.8000000000000007},1,{"$f":"data!M51-data!Z51","v":-7.8000000000000007},1,{"$f":"data!P51-data!Z51","v":-5.8000000000000007},1]
[{"$f":"data!$A52","v":"2009-08-30"},"2009-08-29","2009-09-02",{"$f":"data!U52-data!Z52","v":3.0999999999999996},{"$f":"data!D52-data!Z52","v":4.5999999999999996},1,{"$f":"data!G52-data!Z52","v":4.5999999999999996},1,{"$f":"data!J52-data!Z52","v":5.6},1,{"$f":"data!L52-data!Z52","v":2.5999999999999996},1,{"$f":"data!M52-data!Z52","v":4.5999999999999996},1,{"$f":"data!P52-data!Z52","v":7.6},1]
[{"$f":"data!$A53","v":"2009-08-31"},"2009-08-30","2009-09-03",{"$f":"data!U53-data!Z53","v":8.1999999999999993},{"$f":"data!D53-data!Z53","v":7.6},1,{"$f":"data!G53-data!Z53","v":8.6},1,{"$f":"data!J53-data!Z53","v":7.6},1,{"$f":"data!L53-data!Z53","v":5.6},1,{"$f":"data!M53-data!Z53","v":9.6},1,{"$f":"data!P53-data!Z53","v":9.6},1]
[{"$f":"data!$A54","v":"2009-09-01"},"2009-08-31","2009-09-04",{"$f":"data!U54-data!Z54","v":3.4000000000000004},{"$f":"data!D54-data!Z54","v":6},1,{"$f":"data!G54-data!Z54","v":5},1,{"$f":"data!J54-data!Z54","v":6},1,{"$f":"data!L54-data!Z54","v":4},1,{"$f":"data!M54-data!Z54","v":5},1,{"$f":"data!P54-data!Z54","v":4},1]
[{"$f":"data!$A55","v":"2009-09-03"},"2009-09-02","2009-09-06",{"$f":"data!U55-data!Z55","v":-5.9},{"$f":"data!D55-data!Z55","v":-2.5},1,{"$f":"data!G55-data!Z55","v":-4.5},1,{"$f":"data!J55-data!Z55","v":-3.5},1,{"$f":"data!L55-data!Z55","v":-2.5},1,{"$f":"data!M55-data!Z55","v":-2.5},1,{"$f":"data!P55-data!Z55","v":-4.5},1]
[{"$f":"data!$A56","v":"2009-09-04"},"2009-09-03","2009-09-07",{"$f":"data!U56-data!Z56","v":-5.6},{"$f":"data!D56-data!Z56","v":-4.5999999999999996},1,{"$f":"data!G56-data!Z56","v":-1.5999999999999996},1,{"$f":"data!J56-data!Z56","v":-4.5999999999999996},1,{"$f":"data!L56-data!Z56","v":-4.5999999999999996},1,{"$f":"data!M56-data!Z56","v":-2.5999999999999996},1,{"$f":"data!P56-data!Z56","v":-3.5999999999999996},1]
[{"$f":"data!$A57","v":"2009-09-05"},"2009-09-04","2009-09-08",{"$f":"data!U57-data!Z57","v":-2.3000000000000007},{"$f":"data!D57-data!Z57","v":0.59999999999999964},0,{"$f":"data!G57-data!Z57","v":2.5999999999999996},0,{"$f":"data!J57-data!Z57","v":-1.4000000000000004},1,{"$f":"data!L57-data!Z57","v":-2.4000000000000004},1,{"$f":"data!M57-data!Z57","v":0.59999999999999964},0,{"$f":"data!P57-data!Z57","v":0.59999999999999964},0]
[{"$f":"data!$A58","v":"2009-09-06"},"2009-09-05","2009-09-09",{"$f":"data!U58-data!Z58","v":-1},{"$f":"data!D58-data!Z58","v":1.0999999999999996},0,{"$f":"data!G58-data!Z58","v":4.0999999999999996},0,{"$f":"data!J58-data!Z58","v":1.0999999999999996},0,{"$f":"data!L58-data!Z58","v":9.9999999999999645E-2},0,{"$f":"data!M58-data!Z58","v":2.0999999999999996},0,{"$f":"data!P58-data!Z58","v":2.0999999999999996},0]
[{"$f":"data!$A59","v":"2009-09-08"},"2009-09-07","2009-09-11",{"$f":"data!U59-data!Z59","v":5.0999999999999996},{"$f":"data!D59-data!Z59","v":6},1,{"$f":"data!G59-data!Z59","v":4},1,{"$f":"data!J59-data!Z59","v":4},1,{"$f":"data!L59-data!Z59","v":3},1,{"$f":"data!M59-data!Z59","v":6},1,{"$f":"data!P59-data!Z59","v":6},1]
[{"$f":"data!$A60","v":"2009-09-09"},"2009-09-08",{"$f":"B123+4","v":"2009-09-12"},{"$f":"data!U60-data!Z60","v":3.5},{"$f":"data!D60-data!Z60","v":2.9000000000000004},1,{"$f":"data!G60-data!Z60","v":1.9000000000000004},1,{"$f":"data!J60-data!Z60","v":0.90000000000000036},1,{"$f":"data!L60-data!Z60","v":0.90000000000000036},1,{"$f":"data!M60-data!Z60","v":5.9},1,{"$f":"data!P60-data!Z60","v":5.9},1]
[{"$f":"data!$A61","v":"2009-09-10"},"2009-09-09","2009-09-13",{"$f":"data!U61-data!Z61","v":-0.80000000000000071},{"$f":"data!D61-data!Z61","v":1.0999999999999996},0,{"$f":"data!G61-data!Z61","v":4.0999999999999996},0,{"$f":"data!J61-data!Z61","v":9.9999999999999645E-2},0,{"$f":"data!L61-data!Z61","v":-2.9000000000000004},1,{"$f":"data!M61-data!Z61","v":4.0999999999999996},0,{"$f":"data!P61-data!Z61","v":3.0999999999999996},0]
[{"$f":"data!$A62","v":"2009-09-11"},"2009-09-10","2009-09-14",{"$f":"data!U62-data!Z62","v":-3.8000000000000007},{"$f":"data!D62-data!Z62","v":-3},1,{"$f":"data!G62-data!Z62","v":-3},1,{"$f":"data!J62-data!Z62","v":-5},1,{"$f":"data!L62-data!Z62","v":-5},1,{"$f":"data!M62-data!Z62","v":-3},1,{"$f":"data!P62-data!Z62","v":-3},1]
[{"$f":"data!$A63","v":"2009-09-12"},"2009-09-11","2009-09-15",{"$f":"data!U63-data!Z63","v":-1.7999999999999989},{"$f":"data!D63-data!Z63","v":-1.0999999999999996},1,{"$f":"data!G63-data!Z63","v":-9.9999999999999645E-2},1,{"$f":"data!J63-data!Z63","v":-2.0999999999999996},1,{"$f":"data!L63-data!Z63","v":-4.0999999999999996},1,{"$f":"data!M63-data!Z63","v":-1.0999999999999996},1,{"$f":"data!P63-data!Z63","v":-4.0999999999999996},1]
[{"$f":"data!$A64","v":"2009-09-13"},"2009-09-12","2009-09-16",{"$f":"data!U64-data!Z64","v":2.5999999999999996},{"$f":"data!D64-data!Z64","v":0.40000000000000036},1,{"$f":"data!G64-data!Z64","v":3.4000000000000004},1,{"$f":"data!J64-data!Z64","v":-1.5999999999999996},0,{"$f":"data!L64-data!Z64","v":-1.5999999999999996},0,{"$f":"data!M64-data!Z64","v":0.40000000000000036},1,{"$f":"data!P64-data!Z64","v":-0.59999999999999964},0]
[{"$f":"data!$A65","v":"2009-09-14"},"2009-09-13","2009-09-17",{"$f":"data!U65-data!Z65","v":4.5},{"$f":"data!D65-data!Z65","v":4.9000000000000004},1,{"$f":"data!G65-data!Z65","v":2.9000000000000004},1,{"$f":"data!J65-data!Z65","v":3.9000000000000004},1,{"$f":"data!L65-data!Z65","v":4.9000000000000004},1,{"$f":"data!M65-data!Z65","v":4.9000000000000004},1,{"$f":"data!P65-data!Z65","v":5.9},1]
[{"$f":"data!$A66","v":"2009-09-15"},"2009-09-14","2009-09-18",{"$f":"data!U66-data!Z66","v":1.2000000000000011},{"$f":"data!D66-data!Z66","v":-2.1999999999999993},0,{"$f":"data!G66-data!Z66","v":-0.19999999999999929},0,{"$f":"data!J66-data!Z66","v":-2.1999999999999993},0,{"$f":"data!L66-data!Z66","v":-4.1999999999999993},0,{"$f":"data!M66-data!Z66","v":-2.1999999999999993},0,{"$f":"data!P66-data!Z66","v":-1.1999999999999993},0]
[{"$f":"data!$A67","v":"2009-09-16"},"2009-09-15","2009-09-19",{"$f":"data!U67-data!Z67","v":2.1999999999999993},{"$f":"data!D67-data!Z67","v":-1.3000000000000007},0,{"$f":"data!G67-data!Z67","v":-1.3000000000000007},0,{"$f":"data!J67-data!Z67","v":-2.3000000000000007},0,{"$f":"data!L67-data!Z67","v":-0.30000000000000071},0,{"$f":"data!M67-data!Z67","v":-1.3000000000000007},0,{"$f":"data!P67-data!Z67","v":0.69999999999999929},1]
[{"$f":"data!$A68","v":"2009-09-17"},"2009-09-16","2009-09-20",{"$f":"data!U68-data!Z68","v":0.80000000000000071},{"$f":"data!D68-data!Z68","v":-2.1999999999999993},0,{"$f":"data!G68-data!Z68","v":-4.1999999999999993},0,{"$f":"data!J68-data!Z68","v":-3.1999999999999993},0,{"$f":"data!L68-data!Z68","v":-4.1999999999999993},0,{"$f":"data!M68-data!Z68","v":-5.1999999999999993},0,{"$f":"data!P68-data!Z68","v":-2.1999999999999993},0]
[{"$f":"data!$A69","v":"2009-09-18"},"2009-09-17","2009-09-21",{"$f":"data!U69-data!Z69","v":2.3000000000000007},{"$f":"data!D69-data!Z69","v":0.40000000000000036},1,{"$f":"data!G69-data!Z69","v":-1.5999999999999996},0,{"$f":"data!J69-data!Z69","v":-1.5999999999999996},0,{"$f":"data!L69-data!Z69","v":-0.59999999999999964},0,{"$f":"data!M69-data!Z69","v":0.40000000000000036},1,{"$f":"data!P69-data!Z69","v":0.40000000000000036},1]
[null,null,null,null,"minimum hőmérséklet első 50 nap(konkurencia)",{"$f":"SUM(F73:F122)/50","v":0.8},null,{"$f":"SUM(H73:H122)/50","v":0.78},null,{"$f":"SUM(J73:J122)/50","v":0.88},null,{"$f":"SUM(L73:L122)/50","v":0.92},null,{"$f":"SUM(N73:N122)/50","v":0.9},null,{"$f":"SUM(P73:P122)/50","v":0.8}]
[null,null,null,null,"minimum hőmérséklet első 50 nap(saját)",null,null,null,null,null,null,{"$f":"minar1!Z207","v":0.82}]
[null,null,null,null,"minimum hőmérséklet utolsó 10 nap(konkurencia)",{"$f":"SUM(F123:F132)/10","v":0.6},null,{"$f":"SUM(H123:H132)/10","v":0.5},null,{"$f":"SUM(J123:J132)/10","v":0.4},null,{"$f":"SUM(L123:L132)/10","v":0.5},null,{"$f":"SUM(N123:N132)/10","v":0.6},null,{"$f":"SUM(P123:P132)/10","v":0.6}]
[null,null,null,null,"minimum hőmérséklet utolsó 10 nap(saját)",null,null,null,null,null,null,{"$f":"minar1!Z268","v":0.8}]
[null,null,null,null,"minimum hőmérséklet összes(konkurencia)",{"$f":"SUM(F73:F132)/60","v":0.76666666666666672},null,{"$f":"SUM(H73:H132)/60","v":0.73333333333333328},null,{"$f":"SUM(J73:J132)/60","v":0.8},null,{"$f":"SUM(L73:L132)/60","v":0.85},null,{"$f":"SUM(N73:N132)/60","v":0.85},null,{"$f":"SUM(P73:P132)/60","v":0.76666666666666672}]
[null,null,null,null,"minimum hőmérséklet összes(saját)",null,null,null,null,null,null,{"$f":"minar1!Z269","v":0.81666666666666665}]
[null,null,null,null,"csapadékmennyiség találati arányai:"]
[]
["prognózis rögzítésének kelte","prognózis keletkezésének kelte","tények kelte","tények: csapadékmennyiség","weatheronline",{"$f":"SUM(F142:F201)/60","v":0.73333333333333328},"kurier",{"$f":"SUM(H142:H201)/60","v":0.6166666666666667},"stern",{"$f":"SUM(J142:J201)/60","v":0.58333333333333337},"wetter.excite",{"$f":"SUM(L142:L201)/60","v":0.66666666666666663}]
[{"$f":"data!A10","v":"2009-06-29"},{"$f":"data!B10","v":"2009-06-28"},{"$f":"B142+4","v":"2009-07-02"},{"$f":"data!W10","v":1},{"$f":"IF(data!E10>0.5,1,0)","v":0},{"$f":"IF(D142=E142,1,0)","v":0},{"$f":"IF(data!H10>0.5,1,0)","v":0},{"$f":"IF(D142=G142,1,0)","v":0},{"$f":"IF(data!O10>0.5,1,0)","v":0},{"$f":"IF(D142=I142,1,0)","v":0},{"$f":"IF(data!R10>0.5,1,0)","v":0},{"$f":"IF(D142=K142,1,0)","v":0}]
[{"$f":"data!A11","v":"2009-06-30"},{"$f":"data!B11","v":"2009-06-29"},{"$f":"B143+4","v":"2009-07-03"},{"$f":"data!W11","v":0},{"$f":"IF(data!E11>0.5,1,0)","v":0},{"$f":"IF(D143=E143,1,0)","v":1},{"$f":"IF(data!H11>0.5,1,0)","v":0},{"$f":"IF(D143=G143,1,0)","v":1},{"$f":"IF(data!O11>0.5,1,0)","v":0},{"$f":"IF(D143=I143,1,0)","v":1},{"$f":"IF(data!R11>0.5,1,0)","v":0},{"$f":"IF(D143=K143,1,0)","v":1}]
[{"$f":"data!A12","v":"2009-07-01"},{"$f":"data!B12","v":"2009-06-30"},"2009-07-04",{"$f":"data!W12","v":0},{"$f":"IF(data!E12>0.5,1,0)","v":0},1,{"$f":"IF(data!H12>0.5,1,0)","v":0},1,{"$f":"IF(data!O12>0.5,1,0)","v":0},1,{"$f":"IF(data!R12>0.5,1,0)","v":0},1]
[{"$f":"data!A13","v":"2009-07-02"},{"$f":"data!B13","v":"2009-07-01"},"2009-07-05",{"$f":"data!W13","v":0},{"$f":"IF(data!E13>0.5,1,0)","v":1},0,{"$f":"IF(data!H13>0.5,1,0)","v":0},1,{"$f":"IF(data!O13>0.5,1,0)","v":0},1,{"$f":"IF(data!R13>0.5,1,0)","v":1},0]
[{"$f":"data!A14","v":"2009-07-03"},{"$f":"data!B14","v":"2009-07-02"},"2009-07-06",{"$f":"data!W14","v":1},{"$f":"IF(data!E14>0.5,1,0)","v":1},1,{"$f":"IF(data!H14>0.5,1,0)","v":0},0,{"$f":"IF(data!O14>0.5,1,0)","v":0},0,{"$f":"IF(data!R14>0.5,1,0)","v":1},1]
[{"$f":"data!A15","v":"2009-07-04"},{"$f":"data!B15","v":"2009-07-03"},"2009-07-07",{"$f":"data!W15","v":0},{"$f":"IF(data!E15>0.5,1,0)","v":0},1,{"$f":"IF(data!H15>0.5,1,0)","v":0},1,{"$f":"IF(data!O15>0.5,1,0)","v":0},1,{"$f":"IF(data!R15>0.5,1,0)","v":1},0]
[{"$f":"data!A16","v":"2009-07-05"},{"$f":"data!B16","v":"2009-07-04"},"2009-07-08",{"$f":"data!W16","v":1},{"$f":"IF(data!E16>0.5,1,0)","v":1},1,{"$f":"IF(data!H16>0.5,1,0)","v":0},0,{"$f":"IF(data!O16>0.5,1,0)","v":0},0,{"$f":"IF(data!R16>0.5,1,0)","v":1},1]
[{"$f":"data!A17","v":"2009-07-06"},{"$f":"data!B17","v":"2009-07-05"},"2009-07-09",{"$f":"data!W17","v":1},{"$f":"IF(data!E17>0.5,1,0)","v":1},1,{"$f":"IF(data!H17>0.5,1,0)","v":0},0,{"$f":"IF(data!O17>0.5,1,0)","v":0},0,{"$f":"IF(data!R17>0.5,1,0)","v":1},1]
[{"$f":"data!A18","v":"2009-07-07"},{"$f":"data!B18","v":"2009-07-06"},"2009-07-10",{"$f":"data!W18","v":1},{"$f":"IF(data!E18>0.5,1,0)","v":1},1,{"$f":"IF(data!H18>0.5,1,0)","v":0},0,{"$f":"IF(data!O18>0.5,1,0)","v":0},0,{"$f":"IF(data!R18>0.5,1,0)","v":1},1]
[{"$f":"data!A19","v":"2009-07-08"},{"$f":"data!B19","v":"2009-07-07"},"2009-07-11",{"$f":"data!W19","v":1},{"$f":"IF(data!E19>0.5,1,0)","v":0},0,{"$f":"IF(data!H19>0.5,1,0)","v":0},0,{"$f":"IF(data!O19>0.5,1,0)","v":0},0,{"$f":"IF(data!R19>0.5,1,0)","v":1},1]
[{"$f":"data!A20","v":"2009-07-09"},{"$f":"data!B20","v":"2009-07-08"},"2009-07-12",{"$f":"data!W20","v":1},{"$f":"IF(data!E20>0.5,1,0)","v":1},1,{"$f":"IF(data!H20>0.5,1,0)","v":0},0,{"$f":"IF(data!O20>0.5,1,0)","v":0},0,{"$f":"IF(data!R20>0.5,1,0)","v":0},0]
[{"$f":"data!A21","v":"2009-07-10"},{"$f":"data!B21","v":"2009-07-09"},"2009-07-13",{"$f":"data!W21","v":1},{"$f":"IF(data!E21>0.5,1,0)","v":0},0,{"$f":"IF(data!H21>0.5,1,0)","v":0},0,{"$f":"IF(data!O21>0.5,1,0)","v":0},0,{"$f":"IF(data!R21>0.5,1,0)","v":0},0]
[{"$f":"data!A22","v":"2009-07-11"},{"$f":"data!B22","v":"2009-07-10"},"2009-07-14",{"$f":"data!W22","v":1},{"$f":"IF(data!E22>0.5,1,0)","v":1},1,{"$f":"IF(data!H22>0.5,1,0)","v":1},1,{"$f":"IF(data!O22>0.5,1,0)","v":1},1,{"$f":"IF(data!R22>0.5,1,0)","v":0},0]
[{"$f":"data!A23","v":"2009-07-12"},{"$f":"data!B23","v":"2009-07-11"},"2009-07-15",{"$f":"data!W23","v":0},{"$f":"IF(data!E23>0.5,1,0)","v":1},0,{"$f":"IF(data!H23>0.5,1,0)","v":0},1,{"$f":"IF(data!O23>0.5,1,0)","v":1},0,{"$f":"IF(data!R23>0.5,1,0)","v":1},0]
[{"$f":"data!A24","v":"2009-07-13"},{"$f":"data!B24","v":"2009-07-12"},"2009-07-16",{"$f":"data!W24","v":0},{"$f":"IF(data!E24>0.5,1,0)","v":0},{"$f":"IF(D156=E156,1,0)","v":1},{"$f":"IF(data!H24>0.5,1,0)","v":0},1,{"$f":"IF(data!O24>0.5,1,0)","v":0},1,{"$f":"IF(data!R24>0.5,1,0)","v":1},0]
[{"$f":"data!A25","v":"2009-07-14"},{"$f":"data!B25","v":"2009-07-13"},"2009-07-17",{"$f":"data!W25","v":1},{"$f":"IF(data!E25>0.5,1,0)","v":1},{"$f":"IF(D157=E157,1,0)","v":1},{"$f":"IF(data!H25>0.5,1,0)","v":0},0,{"$f":"IF(data!O25>0.5,1,0)","v":0},0,{"$f":"IF(data!R25>0.5,1,0)","v":0},0]
[{"$f":"data!A26","v":"2009-07-15"},{"$f":"data!B26","v":"2009-07-14"},"2009-07-18",{"$f":"data!W26","v":1},{"$f":"IF(data!E26>0.5,1,0)","v":1},1,{"$f":"IF(data!H26>0.5,1,0)","v":0},0,{"$f":"IF(data!O26>0.5,1,0)","v":0},0,{"$f":"IF(data!R26>0.5,1,0)","v":1},1]
[{"$f":"data!A27","v":"2009-07-16"},{"$f":"data!B27","v":"2009-07-15"},"2009-07-19",{"$f":"data!W27","v":1},{"$f":"IF(data!E27>0.5,1,0)","v":1},1,{"$f":"IF(data!H27>0.5,1,0)","v":0},0,{"$f":"IF(data!O27>0.5,1,0)","v":0},0,{"$f":"IF(data!R27>0.5,1,0)","v":1},1]
[{"$f":"data!A28","v":"2009-07-17"},{"$f":"data!B28","v":"2009-07-16"},"2009-07-20",{"$f":"data!W28","v":0},{"$f":"IF(data!E28>0.5,1,0)","v":1},0,{"$f":"IF(data!H28>0.5,1,0)","v":0},1,{"$f":"IF(data!O28>0.5,1,0)","v":0},1,{"$f":"IF(data!R28>0.5,1,0)","v":1},0]
[{"$f":"data!A29","v":"2009-07-18"},{"$f":"data!B29","v":"2009-07-17"},"2009-07-21",{"$f":"data!W29","v":1},{"$f":"IF(data!E29>0.5,1,0)","v":0},0,{"$f":"IF(data!H29>0.5,1,0)","v":0},0,{"$f":"IF(data!O29>0.5,1,0)","v":0},0,{"$f":"IF(data!R29>0.5,1,0)","v":0},0]
[{"$f":"data!A30","v":"2009-07-19"},{"$f":"data!B30","v":"2009-07-18"},"2009-07-22",{"$f":"data!W30","v":1},{"$f":"IF(data!E30>0.5,1,0)","v":1},1,{"$f":"IF(data!H30>0.5,1,0)","v":0},0,{"$f":"IF(data!O30>0.5,1,0)","v":0},0,{"$f":"IF(data!R30>0.5,1,0)","v":1},1]
[{"$f":"data!A31","v":"2009-07-20"},{"$f":"data!B31","v":"2009-07-19"},"2009-07-23",{"$f":"data!W31","v":1},{"$f":"IF(data!E31>0.5,1,0)","v":1},1,{"$f":"IF(data!H31>0.5,1,0)","v":0},0,{"$f":"IF(data!O31>0.5,1,0)","v":0},0,{"$f":"IF(data!R31>0.5,1,0)","v":1},1]
[{"$f":"data!A32","v":"2009-07-22"},{"$f":"data!B32","v":"2009-07-21"},"2009-07-25",{"$f":"data!W32","v":1},{"$f":"IF(data!E32>0.5,1,0)","v":1},1,{"$f":"IF(data!H32>0.5,1,0)","v":0},0,{"$f":"IF(data!O32>0.5,1,0)","v":0},0,{"$f":"IF(data!R32>0.5,1,0)","v":0},0]
[{"$f":"data!A33","v":"2009-07-23"},{"$f":"data!B33","v":"2009-07-22"},"2009-07-26",{"$f":"data!W33","v":0},{"$f":"IF(data!E33>0.5,1,0)","v":0},1,{"$f":"IF(data!H33>0.5,1,0)","v":0},1,{"$f":"IF(data!O33>0.5,1,0)","v":0},1,{"$f":"IF(data!R33>0.5,1,0)","v":0},1]
[{"$f":"data!A34","v":"2009-07-24"},{"$f":"data!B34","v":"2009-07-23"},"2009-07-27",{"$f":"data!W34","v":1},{"$f":"IF(data!E34>0.5,1,0)","v":0},0,{"$f":"IF(data!H34>0.5,1,0)","v":0},0,{"$f":"IF(data!O34>0.5,1,0)","v":0},0,{"$f":"IF(data!R34>0.5,1,0)","v":0},0]
[{"$f":"data!A35","v":"2009-07-25"},{"$f":"data!B35","v":"2009-07-24"},"2009-07-28",{"$f":"data!W35","v":0},{"$f":"IF(data!E35>0.5,1,0)","v":0},1,{"$f":"IF(data!H35>0.5,1,0)","v":0},1,{"$f":"IF(data!O35>0.5,1,0)","v":0},1,{"$f":"IF(data!R35>0.5,1,0)","v":0},1]
[{"$f":"data!A36","v":"2009-07-28"},{"$f":"data!B36","v":"2009-07-27"},"2009-07-31",{"$f":"data!W36","v":0},{"$f":"IF(data!E36>0.5,1,0)","v":0},1,{"$f":"IF(data!H36>0.5,1,0)","v":0},1,{"$f":"IF(data!O36>0.5,1,0)","v":0},1,{"$f":"IF(data!R36>0.5,1,0)","v":0},1]
[{"$f":"data!A37","v":"2009-07-29"},{"$f":"data!B37","v":"2009-07-28"},"2009-08-01",{"$f":"data!W37","v":0},{"$f":"IF(data!E37>0.5,1,0)","v":0},1,{"$f":"IF(data!H37>0.5,1,0)","v":0},1,{"$f":"IF(data!O37>0.5,1,0)","v":0},1,{"$f":"IF(data!R37>0.5,1,0)","v":0},1]
[{"$f":"data!A38","v":"2009-07-30"},{"$f":"data!B38","v":"2009-07-29"},"2009-08-02",{"$f":"data!W38","v":1},{"$f":"IF(data!E38>0.5,1,0)","v":1},1,{"$f":"IF(data!H38>0.5,1,0)","v":0},0,{"$f":"IF(data!O38>0.5,1,0)","v":0},0,{"$f":"IF(data!R38>0.5,1,0)","v":0},0]
[{"$f":"data!A39","v":"2009-07-31"},{"$f":"data!B39","v":"2009-07-30"},"2009-08-03",{"$f":"data!W39","v":0},{"$f":"IF(data!E39>0.5,1,0)","v":1},0,{"$f":"IF(data!H39>0.5,1,0)","v":0},1,{"$f":"IF(data!O39>0.5,1,0)","v":0},1,{"$f":"IF(data!R39>0.5,1,0)","v":1},0]
[{"$f":"data!A40","v":"2009-08-01"},{"$f":"data!B40","v":"2009-07-31"},"2009-08-04",{"$f":"data!W40","v":0},{"$f":"IF(data!E40>0.5,1,0)","v":0},1,{"$f":"IF(data!H40>0.5,1,0)","v":0},1,{"$f":"IF(data!O40>0.5,1,0)","v":0},1,{"$f":"IF(data!R40>0.5,1,0)","v":1},0]
[{"$f":"data!A41","v":"2009-08-02"},{"$f":"data!B41","v":"2009-08-01"},"2009-08-05",{"$f":"data!W41","v":0},{"$f":"IF(data!E41>0.5,1,0)","v":0},1,{"$f":"IF(data!H41>0.5,1,0)","v":0},1,{"$f":"IF(data!O41>0.5,1,0)","v":0},1,{"$f":"IF(data!R41>0.5,1,0)","v":0},1]
[{"$f":"data!A42","v":"2009-08-03"},{"$f":"data!B42","v":"2009-08-02"},"2009-08-06",{"$f":"data!W42","v":0},{"$f":"IF(data!E42>0.5,1,0)","v":0},1,{"$f":"IF(data!H42>0.5,1,0)","v":0},1,{"$f":"IF(data!O42>0.5,1,0)","v":0},1,{"$f":"IF(data!R42>0.5,1,0)","v":0},1]
[{"$f":"data!A43","v":"2009-08-04"},{"$f":"data!B43","v":"2009-08-03"},"2009-08-07",{"$f":"data!W43","v":0},{"$f":"IF(data!E43>0.5,1,0)","v":0},1,{"$f":"IF(data!H43>0.5,1,0)","v":0},1,{"$f":"IF(data!O43>0.5,1,0)","v":0},1,{"$f":"IF(data!R43>0.5,1,0)","v":0},1]
[{"$f":"data!A44","v":"2009-08-05"},{"$f":"data!B44","v":"2009-08-04"},"2009-08-08",{"$f":"data!W44","v":0},{"$f":"IF(data!E44>0.5,1,0)","v":1},0,{"$f":"IF(data!H44>0.5,1,0)","v":0},1,{"$f":"IF(data!O44>0.5,1,0)","v":0},1,{"$f":"IF(data!R44>0.5,1,0)","v":0},1]
[{"$f":"data!A45","v":"2009-08-06"},{"$f":"data!B45","v":"2009-08-05"},"2009-08-09",{"$f":"data!W45","v":0},{"$f":"IF(data!E45>0.5,1,0)","v":1},0,{"$f":"IF(data!H45>0.5,1,0)","v":0},1,{"$f":"IF(data!O45>0.5,1,0)","v":0},1,{"$f":"IF(data!R45>0.5,1,0)","v":1},0]
[{"$f":"data!A46","v":"2009-08-07"},{"$f":"data!B46","v":"2009-08-06"},"2009-08-10",{"$f":"data!W46","v":1},{"$f":"IF(data!E46>0.5,1,0)","v":1},1,{"$f":"IF(data!H46>0.5,1,0)","v":0},0,{"$f":"IF(data!O46>0.5,1,0)","v":0},0,{"$f":"IF(data!R46>0.5,1,0)","v":0},0]
[{"$f":"data!A47","v":"2009-08-08"},{"$f":"data!B47","v":"2009-08-07"},"2009-08-11",{"$f":"data!W47","v":1},{"$f":"IF(data!E47>0.5,1,0)","v":0},0,{"$f":"IF(data!H47>0.5,1,0)","v":0},0,{"$f":"IF(data!O47>0.5,1,0)","v":0},0,{"$f":"IF(data!R47>0.5,1,0)","v":1},1]
[{"$f":"data!A48","v":"2009-08-24"},{"$f":"data!B48","v":"2009-08-23"},"2009-08-27",{"$f":"data!W48","v":0},{"$f":"IF(data!E48>0.5,1,0)","v":0},1,{"$f":"IF(data!H48>0.5,1,0)","v":0},1,{"$f":"IF(data!O48>0.5,1,0)","v":0},1,{"$f":"IF(data!R48>0.5,1,0)","v":0},1]
[{"$f":"data!A49","v":"2009-08-25"},{"$f":"data!B49","v":"2009-08-24"},"2009-08-28",{"$f":"data!W49","v":1},{"$f":"IF(data!E49>0.5,1,0)","v":0},0,{"$f":"IF(data!H49>0.5,1,0)","v":0},0,{"$f":"IF(data!O49>0.5,1,0)","v":0},0,{"$f":"IF(data!R49>0.5,1,0)","v":1},1]
[{"$f":"data!A50","v":"2009-08-27"},{"$f":"data!B50","v":"2009-08-26"},"2009-08-30",{"$f":"data!W50","v":0},{"$f":"IF(data!E50>0.5,1,0)","v":0},1,{"$f":"IF(data!H50>0.5,1,0)","v":0},1,{"$f":"IF(data!O50>0.5,1,0)","v":0},1,{"$f":"IF(data!R50>0.5,1,0)","v":0},1]
[{"$f":"data!A51","v":"2009-08-28"},{"$f":"data!B51","v":"2009-08-27"},"2009-08-31",{"$f":"data!W51","v":0},{"$f":"IF(data!E51>0.5,1,0)","v":0},1,{"$f":"IF(data!H51>0.5,1,0)","v":0},1,{"$f":"IF(data!O51>0.5,1,0)","v":0},1,{"$f":"IF(data!R51>0.5,1,0)","v":0},1]
[{"$f":"data!A52","v":"2009-08-30"},{"$f":"data!B52","v":"2009-08-29"},"2009-09-02",{"$f":"data!W52","v":0},{"$f":"IF(data!E52>0.5,1,0)","v":0},1,{"$f":"IF(data!H52>0.5,1,0)","v":0},1,{"$f":"IF(data!O52>0.5,1,0)","v":0},1,{"$f":"IF(data!R52>0.5,1,0)","v":1},0]
[{"$f":"data!A53","v":"2009-08-31"},{"$f":"data!B53","v":"2009-08-30"},"2009-09-03",{"$f":"data!W53","v":1},{"$f":"IF(data!E53>0.5,1,0)","v":1},1,{"$f":"IF(data!H53>0.5,1,0)","v":0},0,{"$f":"IF(data!O53>0.5,1,0)","v":0},0,{"$f":"IF(data!R53>0.5,1,0)","v":1},1]
[{"$f":"data!A54","v":"2009-09-01"},{"$f":"data!B54","v":"2009-08-31"},"2009-09-04",{"$f":"data!W54","v":1},{"$f":"IF(data!E54>0.5,1,0)","v":1},1,{"$f":"IF(data!H54>0.5,1,0)","v":0},0,{"$f":"IF(data!O54>0.5,1,0)","v":0},0,{"$f":"IF(data!R54>0.5,1,0)","v":1},1]
[{"$f":"data!A55","v":"2009-09-03"},{"$f":"data!B55","v":"2009-09-02"},"2009-09-06",{"$f":"data!W55","v":0},{"$f":"IF(data!E55>0.5,1,0)","v":0},1,{"$f":"IF(data!H55>0.5,1,0)","v":0},1,{"$f":"IF(data!O55>0.5,1,0)","v":0},1,{"$f":"IF(data!R55>0.5,1,0)","v":0},1]
[{"$f":"data!A56","v":"2009-09-04"},{"$f":"data!B56","v":"2009-09-03"},"2009-09-07",{"$f":"data!W56","v":0},{"$f":"IF(data!E56>0.5,1,0)","v":0},1,{"$f":"IF(data!H56>0.5,1,0)","v":0},1,{"$f":"IF(data!O56>0.5,1,0)","v":0},1,{"$f":"IF(data!R56>0.5,1,0)","v":0},1]
[{"$f":"data!A57","v":"2009-09-05"},{"$f":"data!B57","v":"2009-09-04"},"2009-09-08",{"$f":"data!W57","v":0},{"$f":"IF(data!E57>0.5,1,0)","v":0},1,{"$f":"IF(data!H57>0.5,1,0)","v":0},1,{"$f":"IF(data!O57>0.5,1,0)","v":0},1,{"$f":"IF(data!R57>0.5,1,0)","v":0},1]
[{"$f":"data!A58","v":"2009-09-06"},{"$f":"data!B58","v":"2009-09-05"},"2009-09-09",{"$f":"data!W58","v":0},{"$f":"IF(data!E58>0.5,1,0)","v":0},1,{"$f":"IF(data!H58>0.5,1,0)","v":0},1,{"$f":"IF(data!O58>0.5,1,0)","v":0},1,{"$f":"IF(data!R58>0.5,1,0)","v":0},1]
[{"$f":"data!A59","v":"2009-09-08"},{"$f":"data!B59","v":"2009-09-07"},"2009-09-11",{"$f":"data!W59","v":0},{"$f":"IF(data!E59>0.5,1,0)","v":0},1,{"$f":"IF(data!H59>0.5,1,0)","v":0},1,{"$f":"IF(data!O59>0.5,1,0)","v":0},1,{"$f":"IF(data!R59>0.5,1,0)","v":0},1]
[{"$f":"data!A60","v":"2009-09-09"},{"$f":"data!B60","v":"2009-09-08"},{"$f":"B192+4","v":"2009-09-12"},{"$f":"data!W60","v":0},{"$f":"IF(data!E60>0.5,1,0)","v":0},1,{"$f":"IF(data!H60>0.5,1,0)","v":0},1,{"$f":"IF(data!O60>0.5,1,0)","v":0},1,{"$f":"IF(data!R60>0.5,1,0)","v":0},1]
[{"$f":"data!A61","v":"2009-09-10"},{"$f":"data!B61","v":"2009-09-09"},"2009-09-13",{"$f":"data!W61","v":1},{"$f":"IF(data!E61>0.5,1,0)","v":0},0,{"$f":"IF(data!H61>0.5,1,0)","v":1},1,{"$f":"IF(data!O61>0.5,1,0)","v":0},0,{"$f":"IF(data!R61>0.5,1,0)","v":0},0]
[{"$f":"data!A62","v":"2009-09-11"},{"$f":"data!B62","v":"2009-09-10"},"2009-09-14",{"$f":"data!W62","v":1},{"$f":"IF(data!E62>0.5,1,0)","v":0},0,{"$f":"IF(data!H62>0.5,1,0)","v":0},0,{"$f":"IF(data!O62>0.5,1,0)","v":1},1,{"$f":"IF(data!R62>0.5,1,0)","v":1},1]
[{"$f":"data!A63","v":"2009-09-12"},{"$f":"data!B63","v":"2009-09-11"},"2009-09-15",{"$f":"data!W63","v":1},{"$f":"IF(data!E63>0.5,1,0)","v":1},1,{"$f":"IF(data!H63>0.5,1,0)","v":1},1,{"$f":"IF(data!O63>0.5,1,0)","v":0},0,{"$f":"IF(data!R63>0.5,1,0)","v":1},1]
[{"$f":"data!A64","v":"2009-09-13"},{"$f":"data!B64","v":"2009-09-12"},"2009-09-16",{"$f":"data!W64","v":0},{"$f":"IF(data!E64>0.5,1,0)","v":0},1,{"$f":"IF(data!H64>0.5,1,0)","v":0},1,{"$f":"IF(data!O64>0.5,1,0)","v":0},1,{"$f":"IF(data!R64>0.5,1,0)","v":0},1]
[{"$f":"data!A65","v":"2009-09-14"},{"$f":"data!B65","v":"2009-09-13"},"2009-09-17",{"$f":"data!W65","v":0},{"$f":"IF(data!E65>0.5,1,0)","v":0},1,{"$f":"IF(data!H65>0.5,1,0)","v":0},1,{"$f":"IF(data!O65>0.5,1,0)","v":0},1,{"$f":"IF(data!R65>0.5,1,0)","v":0},1]
[{"$f":"data!A66","v":"2009-09-15"},{"$f":"data!B66","v":"2009-09-14"},"2009-09-18",{"$f":"data!W66","v":0},{"$f":"IF(data!E66>0.5,1,0)","v":0},1,{"$f":"IF(data!H66>0.5,1,0)","v":0},1,{"$f":"IF(data!O66>0.5,1,0)","v":0},1,{"$f":"IF(data!R66>0.5,1,0)","v":0},1]
[{"$f":"data!A67","v":"2009-09-16"},{"$f":"data!B67","v":"2009-09-15"},"2009-09-19",{"$f":"data!W67","v":0},{"$f":"IF(data!E67>0.5,1,0)","v":0},1,{"$f":"IF(data!H67>0.5,1,0)","v":0},1,{"$f":"IF(data!O67>0.5,1,0)","v":0},1,{"$f":"IF(data!R67>0.5,1,0)","v":0},1]
[{"$f":"data!A68","v":"2009-09-17"},{"$f":"data!B68","v":"2009-09-16"},"2009-09-20",{"$f":"data!W68","v":0},{"$f":"IF(data!E68>0.5,1,0)","v":0},1,{"$f":"IF(data!H68>0.5,1,0)","v":0},1,{"$f":"IF(data!O68>0.5,1,0)","v":0},1,{"$f":"IF(data!R68>0.5,1,0)","v":0},1]
[{"$f":"data!A69","v":"2009-09-18"},{"$f":"data!B69","v":"2009-09-17"},"2009-09-21",{"$f":"data!W69","v":0},{"$f":"IF(data!E69>0.5,1,0)","v":1},0,{"$f":"IF(data!H69>0.5,1,0)","v":0},1,{"$f":"IF(data!O69>0.5,1,0)","v":0},1,{"$f":"IF(data!R69>0.5,1,0)","v":0},1]
[null,null,null,null,"csapadék első 50 nap(konkurencia)",{"$f":"SUM(F142:F191)/50","v":0.74},null,{"$f":"SUM(H142:H191)/50","v":0.56000000000000005},null,{"$f":"SUM(J142:J191)/50","v":0.54},null,{"$f":"SUM(L142:L191)/50","v":0.62}]
[null,null,null,null,"csapadék első 50 nap(saját)",{"$f":"csapaa!Z207","v":0.76}]
[null,null,null,null,"csapadék utolsó 10 nap(konkurencia)",{"$f":"SUM(F192:F201)/10","v":0.7},null,{"$f":"SUM(H192:H201)/10","v":0.9},null,{"$f":"SUM(J192:J201)/10","v":0.8},null,{"$f":"SUM(L192:L201)/10","v":0.9}]
[null,null,null,null,"csapadék utolsó 10 nap(saját)",{"$f":"csapaa!Z268","v":0.8}]
[null,null,null,null,"csapadék összes(konkurencia)",{"$f":"SUM(F142:F201)/60","v":0.73333333333333328},null,{"$f":"SUM(H142:H201)/60","v":0.6166666666666667},null,{"$f":"SUM(J142:J201)/60","v":0.58333333333333337},null,{"$f":"SUM(L142:L201)/60","v":0.66666666666666663}]
[null,null,null,null,"csapadék összes(saját)",{"$f":"csapaa!Z269","v":0.76666666666666672}]

{"sheet":"csapaa","index":2,"n_rows":271,"n_cols":28,"rows_kept":271,"cut":false,"hidden":false,"merged":[[198,16,199,16],[192,15,193,15],[192,16,193,16],[198,1,199,1],[198,2,199,2],[198,3,199,3],[198,4,199,4],[198,5,199,5],[198,6,199,6],[198,7,199,7],[198,8,199,8],[198,9,199,9],[198,10,199,10],[198,11,199,11],[198,12,199,12],[198,13,199,13],[140,16,141,16],[140,17,141,17],[192,1,193,1],[192,2,193,2],[192,3,193,3],[192,4,193,4],[192,5,193,5],[192,6,193,6],[192,7,193,7],[192,8,193,8],[192,9,193,9],[192,10,193,10],[192,11,193,11],[192,12,193,12],[192,13,193,13],[192,14,193,14],[140,11,141,11],[140,12,141,12],[140,13,141,13],[140,14,141,14],[140,15,141,15],[140,6,141,6],[140,7,141,7],[140,8,141,8],[140,9,141,9],[140,10,141,10],[140,1,141,1],[140,2,141,2],[140,3,141,3],[140,4,141,4],[140,5,141,5],[204,17,206,17],[204,18,206,18],[204,11,206,11],[204,12,206,12],[204,13,206,13],[204,14,206,14],[204,15,206,15],[204,16,206,16],[204,10,206,10],[198,15,199,15],[204,0,206,0],[204,1,206,1],[204,2,206,2],[204,3,206,3],[204,4,206,4],[204,5,206,5],[204,6,206,6],[204,7,206,7],[204,8,206,8],[204,9,206,9],[198,14,199,14]]}
["adatgyűjtés","progn.","weatheronline","weatheronline","weatheronline","kurier","kurier","kurier","wetter.rtl","wetter.rtl","raiffeisen","raiffeisen","stern","stern","stern","wetter.exite","wetter.exite","wetter.exite","progn.","tények","tények"]
["kelte","kelte","T-max","T-min","Rain-risk","max","min","niederschlag","max","min","max","min","min","max","niederschlag","min","max","niederschlag","kelte","csapadék","kelt"]
["2009-06-29","2009-06-28",{"$f":"data!C10","v":29},{"$f":"data!D10","v":18},{"$f":"data!E10","v":0.35},{"$f":"data!F10","v":31},{"$f":"data!G10","v":16},{"$f":"data!H10","v":0.05},{"$f":"data!I10","v":29},{"$f":"data!J10","v":16},{"$f":"data!K10","v":29},{"$f":"data!L10","v":15},{"$f":"data!M10","v":16},{"$f":"data!N10","v":31},{"$f":"data!O10","v":0.05},{"$f":"data!P10","v":17},{"$f":"data!Q10","v":27},{"$f":"data!R10","v":0.1},"2009-06-28",{"$f":"data!V10","v":1.2},{"$f":"[1]data!Y10","v":"2009-07-02"}]
["2009-06-30","2009-06-29",{"$f":"data!C11","v":30},{"$f":"data!D11","v":19},{"$f":"data!E11","v":0.3},{"$f":"data!F11","v":31},{"$f":"data!G11","v":15},{"$f":"data!H11","v":0.05},{"$f":"data!I11","v":28},{"$f":"data!J11","v":16},{"$f":"data!K11","v":29},{"$f":"data!L11","v":13},{"$f":"data!M11","v":16},{"$f":"data!N11","v":31},{"$f":"data!O11","v":0.05},{"$f":"data!P11","v":17},{"$f":"data!Q11","v":27},{"$f":"data!R11","v":0.1},"2009-06-29",{"$f":"data!V11","v":0},{"$f":"[1]data!Y11","v":"2009-07-03"}]
["2009-07-01","2009-06-30",{"$f":"data!C12","v":30},{"$f":"data!D12","v":19},{"$f":"data!E12","v":0.45},{"$f":"data!F12","v":31},{"$f":"data!G12","v":18},{"$f":"data!H12","v":0.5},{"$f":"data!I12","v":26},{"$f":"data!J12","v":17},{"$f":"data!K12","v":24},{"$f":"data!L12","v":15},{"$f":"data!M12","v":18},{"$f":"data!N12","v":31},{"$f":"data!O12","v":0.5},{"$f":"data!P12","v":17},{"$f":"data!Q12","v":27},{"$f":"data!R12","v":0.1},"2009-06-30",{"$f":"data!V12","v":0},{"$f":"[1]data!Y12","v":"2009-07-04"}]
["2009-07-02","2009-07-01",{"$f":"data!C13","v":25},{"$f":"data!D13","v":15},{"$f":"data!E13","v":0.55000000000000004},{"$f":"data!F13","v":27},{"$f":"data!G13","v":14},{"$f":"data!H13","v":0.5},{"$f":"data!I13","v":24},{"$f":"data!J13","v":14},{"$f":"data!K13","v":22},{"$f":"data!L13","v":10},{"$f":"data!M13","v":14},{"$f":"data!N13","v":27},{"$f":"data!O13","v":0.5},{"$f":"data!P13","v":16},{"$f":"data!Q13","v":23},{"$f":"data!R13","v":0.8},"2009-07-01",{"$f":"data!V13","v":0},{"$f":"[1]data!Y13","v":"2009-07-05"}]
["2009-07-03","2009-07-02",{"$f":"data!C14","v":24},{"$f":"data!D14","v":15},{"$f":"data!E14","v":0.6},{"$f":"data!F14","v":26},{"$f":"data!G14","v":16},{"$f":"data!H14","v":0.05},{"$f":"data!I14","v":22},{"$f":"data!J14","v":14},{"$f":"data!K14","v":22},{"$f":"data!L14","v":13},{"$f":"data!M14","v":12},{"$f":"data!N14","v":26},{"$f":"data!O14","v":0.05},{"$f":"data!P14","v":15},{"$f":"data!Q14","v":23},{"$f":"data!R14","v":0.8},"2009-07-02",{"$f":"data!V14","v":4.1999999999999993},{"$f":"[1]data!Y14","v":"2009-07-06"}]
["2009-07-04","2009-07-03",{"$f":"data!C15","v":24},{"$f":"data!D15","v":16},{"$f":"data!E15","v":0.45},{"$f":"data!F15","v":22},{"$f":"data!G15","v":12},{"$f":"data!H15","v":0.5},{"$f":"data!I15","v":21},{"$f":"data!J15","v":13},{"$f":"data!K15","v":22},{"$f":"data!L15","v":12},{"$f":"data!M15","v":12},{"$f":"data!N15","v":22},{"$f":"data!O15","v":0.5},{"$f":"data!P15","v":12},{"$f":"data!Q15","v":19},{"$f":"data!R15","v":0.7},"2009-07-03",{"$f":"data!V15","v":0},{"$f":"[1]data!Y15","v":"2009-07-07"}]
["2009-07-05","2009-07-04",{"$f":"data!C16","v":19},{"$f":"data!D16","v":14},{"$f":"data!E16","v":0.85},{"$f":"data!F16","v":21},{"$f":"data!G16","v":10},{"$f":"data!H16","v":0.5},{"$f":"data!I16","v":20},{"$f":"data!J16","v":13},{"$f":"data!K16","v":19},{"$f":"data!L16","v":10},{"$f":"data!M16","v":14},{"$f":"data!N16","v":21},{"$f":"data!O16","v":0.5},{"$f":"data!P16","v":12},{"$f":"data!Q16","v":16},{"$f":"data!R16","v":0.8},"2009-07-04",{"$f":"data!V16","v":5.3999999999999986},{"$f":"[1]data!Y16","v":"2009-07-08"}]
["2009-07-06","2009-07-05",{"$f":"data!C17","v":18},{"$f":"data!D17","v":13},{"$f":"data!E17","v":0.6},{"$f":"data!F17","v":16},{"$f":"data!G17","v":11},{"$f":"data!H17","v":0.3},{"$f":"data!I17","v":19},{"$f":"data!J17","v":11},{"$f":"data!K17","v":20},{"$f":"data!L17","v":9},{"$f":"data!M17","v":14},{"$f":"data!N17","v":16},{"$f":"data!O17","v":0.3},{"$f":"data!P17","v":12},{"$f":"data!Q17","v":16},{"$f":"data!R17","v":0.8},"2009-07-05",{"$f":"data!V17","v":2.1},{"$f":"[1]data!Y17","v":"2009-07-09"}]
["2009-07-07","2009-07-06",{"$f":"data!C18","v":17},{"$f":"data!D18","v":9},{"$f":"data!E18","v":0.55000000000000004},{"$f":"data!F18","v":19},{"$f":"data!G18","v":12},{"$f":"data!H18","v":0.5},{"$f":"data!I18","v":17},{"$f":"data!J18","v":9},{"$f":"data!K18","v":13},{"$f":"data!L18","v":6},{"$f":"data!M18","v":8},{"$f":"data!N18","v":19},{"$f":"data!O18","v":0.5},{"$f":"data!P18","v":11},{"$f":"data!Q18","v":15},{"$f":"data!R18","v":0.8},"2009-07-06",{"$f":"data!V18","v":1.0999999999999999},{"$f":"[1]data!Y18","v":"2009-07-10"}]
["2009-07-08","2009-07-07",{"$f":"data!C19","v":19},{"$f":"data!D19","v":11},{"$f":"data!E19","v":0.45},{"$f":"data!F19","v":19},{"$f":"data!G19","v":7},{"$f":"data!H19","v":0.15},{"$f":"data!I19","v":19},{"$f":"data!J19","v":11},{"$f":"data!K19","v":18},{"$f":"data!L19","v":10},{"$f":"data!M19","v":12},{"$f":"data!N19","v":19},{"$f":"data!O19","v":0.15},{"$f":"data!P19","v":10},{"$f":"data!Q19","v":16},{"$f":"data!R19","v":0.8},"2009-07-07",{"$f":"data!V19","v":1.2000000000000002},{"$f":"[1]data!Y19","v":"2009-07-11"}]
["2009-07-09","2009-07-08",{"$f":"data!C20","v":21},{"$f":"data!D20","v":11},{"$f":"data!E20","v":0.8},{"$f":"data!F20","v":25},{"$f":"data!G20","v":17},{"$f":"data!H20","v":0.1},{"$f":"data!I20","v":21},{"$f":"data!J20","v":10},{"$f":"data!K20","v":19},{"$f":"data!L20","v":9},{"$f":"data!M20","v":11},{"$f":"data!N20","v":25},{"$f":"data!O20","v":0.1},{"$f":"data!P20","v":11},{"$f":"data!Q20","v":19},{"$f":"data!R20","v":0.3},"2009-07-08",{"$f":"data!V20","v":0.1},{"$f":"[1]data!Y20","v":"2009-07-12"}]
["2009-07-10","2009-07-09",{"$f":"data!C21","v":25},{"$f":"data!D21","v":13},{"$f":"data!E21","v":0.1},{"$f":"data!F21","v":25},{"$f":"data!G21","v":14},{"$f":"data!H21","v":0.05},{"$f":"data!I21","v":24},{"$f":"data!J21","v":13},{"$f":"data!K21","v":22},{"$f":"data!L21","v":8},{"$f":"data!M21","v":10},{"$f":"data!N21","v":25},{"$f":"data!O21","v":0.05},{"$f":"data!P21","v":11},{"$f":"data!Q21","v":20},{"$f":"data!R21","v":0.3},"2009-07-09",{"$f":"data!V21","v":9.9},{"$f":"[1]data!Y21","v":"2009-07-13"}]
["2009-07-11","2009-07-10",{"$f":"data!C22","v":24},{"$f":"data!D22","v":15},{"$f":"data!E22","v":0.8},{"$f":"data!F22","v":24},{"$f":"data!G22","v":16},{"$f":"data!H22","v":0.8},{"$f":"data!I22","v":25},{"$f":"data!J22","v":15},{"$f":"data!K22","v":24},{"$f":"data!L22","v":13},{"$f":"data!M22","v":16},{"$f":"data!N22","v":24},{"$f":"data!O22","v":0.8},{"$f":"data!P22","v":14},{"$f":"data!Q22","v":24},{"$f":"data!R22","v":0.5},"2009-07-10",{"$f":"data!V22","v":7.8000000000000016},{"$f":"[1]data!Y22","v":"2009-07-14"}]
["2009-07-12","2009-07-11",{"$f":"data!C23","v":24},{"$f":"data!D23","v":15},{"$f":"data!E23","v":0.9},{"$f":"data!F23","v":27},{"$f":"data!G23","v":15},{"$f":"data!H23","v":0.05},{"$f":"data!I23","v":26},{"$f":"data!J23","v":15},{"$f":"data!K23","v":24},{"$f":"data!L23","v":13},{"$f":"data!M23","v":16},{"$f":"data!N23","v":24},{"$f":"data!O23","v":0.8},{"$f":"data!P23","v":16},{"$f":"data!Q23","v":24},{"$f":"data!R23","v":0.6},"2009-07-11",{"$f":"data!V23","v":0},{"$f":"[1]data!Y23","v":"2009-07-15"}]
["2009-07-13","2009-07-12",{"$f":"data!C24","v":28},{"$f":"data!D24","v":13},{"$f":"data!E24","v":0.1},{"$f":"data!F24","v":28},{"$f":"data!G24","v":14},{"$f":"data!H24","v":0.05},{"$f":"data!I24","v":27},{"$f":"data!J24","v":13},{"$f":"data!K24","v":26},{"$f":"data!L24","v":9},{"$f":"data!M24","v":11},{"$f":"data!N24","v":28},{"$f":"data!O24","v":0.05},{"$f":"data!P24","v":18},{"$f":"data!Q24","v":24},{"$f":"data!R24","v":0.6},"2009-07-12",{"$f":"data!V24","v":0},{"$f":"[1]data!Y24","v":"2009-07-16"}]
["2009-07-14","2009-07-13",{"$f":"data!C25","v":24},{"$f":"data!D25","v":15},{"$f":"data!E25","v":0.95},{"$f":"data!F25","v":26},{"$f":"data!G25","v":12},{"$f":"data!H25","v":0.3},{"$f":"data!I25","v":26},{"$f":"data!J25","v":13},{"$f":"data!K25","v":22},{"$f":"data!L25","v":15},{"$f":"data!M25","v":15},{"$f":"data!N25","v":32},{"$f":"data!O25","v":0.05},{"$f":"data!P25","v":12},{"$f":"data!Q25","v":25},{"$f":"data!R25","v":0.2},"2009-07-13",{"$f":"data!V25","v":4.4000000000000004},{"$f":"[1]data!Y25","v":"2009-07-17"}]
["2009-07-15","2009-07-14",{"$f":"data!C26","v":17},{"$f":"data!D26","v":13},{"$f":"data!E26","v":0.75},{"$f":"data!F26","v":15},{"$f":"data!G26","v":10},{"$f":"data!H26","v":0.15},{"$f":"data!I26","v":18},{"$f":"data!J26","v":13},{"$f":"data!K26","v":13},{"$f":"data!L26","v":10},{"$f":"data!M26","v":13},{"$f":"data!N26","v":15},{"$f":"data!O26","v":0.15},{"$f":"data!P26","v":17},{"$f":"data!Q26","v":24},{"$f":"data!R26","v":0.7},"2009-07-14",{"$f":"data!V26","v":0.1},{"$f":"[1]data!Y26","v":"2009-07-18"}]
["2009-07-16","2009-07-15",{"$f":"data!C27","v":19},{"$f":"data!D27","v":13},{"$f":"data!E27","v":0.75},{"$f":"data!F27","v":21},{"$f":"data!G27","v":13},{"$f":"data!H27","v":0.05},{"$f":"data!I27","v":19},{"$f":"data!J27","v":11},{"$f":"data!K27","v":17},{"$f":"data!L27","v":9},{"$f":"data!M27","v":10},{"$f":"data!N27","v":21},{"$f":"data!O27","v":0.05},{"$f":"data!P27","v":14},{"$f":"data!Q27","v":16},{"$f":"data!R27","v":0.8},"2009-07-15",{"$f":"data!V27","v":3.8000000000000003},{"$f":"[1]data!Y27","v":"2009-07-19"}]
["2009-07-17","2009-07-16",{"$f":"data!C28","v":21},{"$f":"data!D28","v":13},{"$f":"data!E28","v":0.55000000000000004},{"$f":"data!F28","v":22},{"$f":"data!G28","v":11},{"$f":"data!H28","v":0.05},{"$f":"data!I28","v":20},{"$f":"data!J28","v":12},{"$f":"data!K28","v":18},{"$f":"data!L28","v":10},{"$f":"data!M28","v":11},{"$f":"data!N28","v":22},{"$f":"data!O28","v":0.05},{"$f":"data!P28","v":11},{"$f":"data!Q28","v":20},{"$f":"data!R28","v":0.8},"2009-07-16",{"$f":"data!V28","v":0},{"$f":"[1]data!Y28","v":"2009-07-20"}]
["2009-07-18","2009-07-17",{"$f":"data!C29","v":24},{"$f":"data!D29","v":12},{"$f":"data!E29","v":0.35},{"$f":"data!F29","v":27},{"$f":"data!G29","v":19},{"$f":"data!H29","v":0.5},{"$f":"data!I29","v":26},{"$f":"data!J29","v":11},{"$f":"data!K29","v":23},{"$f":"data!L29","v":8},{"$f":"data!M29","v":11},{"$f":"data!N29","v":27},{"$f":"data!O29","v":0.5},{"$f":"data!P29","v":12},{"$f":"data!Q29","v":21},{"$f":"data!R29","v":0.2},"2009-07-17",{"$f":"data!V29","v":0.7},{"$f":"[1]data!Y29","v":"2009-07-21"}]
["2009-07-19","2009-07-18",{"$f":"data!C30","v":25},{"$f":"data!D30","v":17},{"$f":"data!E30","v":0.7},{"$f":"data!F30","v":28},{"$f":"data!G30","v":14},{"$f":"data!H30","v":0.5},{"$f":"data!I30","v":26},{"$f":"data!J30","v":16},{"$f":"data!K30","v":23},{"$f":"data!L30","v":15},{"$f":"data!M30","v":17},{"$f":"data!N30","v":28},{"$f":"data!O30","v":0.5},{"$f":"data!P30","v":14},{"$f":"data!Q30","v":22},{"$f":"data!R30","v":0.6},"2009-07-18",{"$f":"data!V30","v":2.2999999999999998},{"$f":"[1]data!Y30","v":"2009-07-22"}]
["2009-07-20","2009-07-19",{"$f":"data!C31","v":24},{"$f":"data!D31","v":18},{"$f":"data!E31","v":0.85},{"$f":"data!F31","v":24},{"$f":"data!G31","v":14},{"$f":"data!H31","v":0.3},{"$f":"data!I31","v":27},{"$f":"data!J31","v":16},{"$f":"data!K31","v":22},{"$f":"data!L31","v":14},{"$f":"data!M31","v":15},{"$f":"data!N31","v":24},{"$f":"data!O31","v":0.3},{"$f":"data!P31","v":18},{"$f":"data!Q31","v":25},{"$f":"data!R31","v":0.9},"2009-07-19",{"$f":"data!V31","v":8},{"$f":"[1]data!Y31","v":"2009-07-23"}]
["2009-07-22","2009-07-21",{"$f":"data!C32","v":20},{"$f":"data!D32","v":14},{"$f":"data!E32","v":0.6},{"$f":"data!F32","v":21},{"$f":"data!G32","v":7},{"$f":"data!H32","v":0.15},{"$f":"data!I32","v":21},{"$f":"data!J32","v":13},{"$f":"data!K32","v":18},{"$f":"data!L32","v":10},{"$f":"data!M32","v":12},{"$f":"data!N32","v":21},{"$f":"data!O32","v":0.15},{"$f":"data!P32","v":16},{"$f":"data!Q32","v":22},{"$f":"data!R32","v":0.4},"2009-07-21",{"$f":"data!V32","v":5.1000000000000005},{"$f":"[1]data!Y32","v":"2009-07-25"}]
["2009-07-23","2009-07-22",{"$f":"data!C33","v":25},{"$f":"data!D33","v":12},{"$f":"data!E33","v":0.05},{"$f":"data!F33","v":24},{"$f":"data!G33","v":10},{"$f":"data!H33","v":0.05},{"$f":"data!I33","v":22},{"$f":"data!J33","v":10},{"$f":"data!K33","v":20},{"$f":"data!L33","v":7},{"$f":"data!M33","v":7},{"$f":"data!N33","v":24},{"$f":"data!O33","v":0.05},{"$f":"data!P33","v":12},{"$f":"data!Q33","v":20},{"$f":"data!R33","v":0.5},"2009-07-22",{"$f":"data!V33","v":0},{"$f":"[1]data!Y33","v":"2009-07-26"}]
["2009-07-24","2009-07-23",{"$f":"data!C34","v":28},{"$f":"data!D34","v":12},{"$f":"data!E34","v":0.35},{"$f":"data!F34","v":30},{"$f":"data!G34","v":11},{"$f":"data!H34","v":0.02},{"$f":"data!I34","v":25},{"$f":"data!J34","v":12},{"$f":"data!K34","v":26},{"$f":"data!L34","v":11},{"$f":"data!M34","v":11},{"$f":"data!N34","v":30},{"$f":"data!O34","v":0},{"$f":"data!P34","v":10},{"$f":"data!Q34","v":23},{"$f":"data!R34","v":0.1},"2009-07-23",{"$f":"data!V34","v":0.4},{"$f":"[1]data!Y34","v":"2009-07-27"}]
["2009-07-25","2009-07-24",{"$f":"data!C35","v":27},{"$f":"data!D35","v":12},{"$f":"data!E35","v":0.25},{"$f":"data!F35","v":24},{"$f":"data!G35","v":11},{"$f":"data!H35","v":0.05},{"$f":"data!I35","v":23},{"$f":"data!J35","v":13},{"$f":"data!K35","v":19},{"$f":"data!L35","v":9},{"$f":"data!M35","v":11},{"$f":"data!N35","v":30},{"$f":"data!O35","v":0},{"$f":"data!P35","v":10},{"$f":"data!Q35","v":23},{"$f":"data!R35","v":0.1},"2009-07-24",{"$f":"data!V35","v":0},{"$f":"[1]data!Y35","v":"2009-07-28"}]
["2009-07-28","2009-07-27",{"$f":"data!C36","v":24},{"$f":"data!D36","v":10},{"$f":"data!E36","v":0.05},{"$f":"data!F36","v":25},{"$f":"data!G36","v":12},{"$f":"data!H36","v":0.05},{"$f":"data!I36","v":21},{"$f":"data!J36","v":10},{"$f":"data!K36","v":21},{"$f":"data!L36","v":6},{"$f":"data!M36","v":10},{"$f":"data!N36","v":25},{"$f":"data!O36","v":0.05},{"$f":"data!P36","v":18},{"$f":"data!Q36","v":21},{"$f":"data!R36","v":0.1},"2009-07-27",{"$f":"data!V36","v":0},{"$f":"[1]data!Y36","v":"2009-07-31"}]
["2009-07-29","2009-07-28",{"$f":"data!C37","v":26},{"$f":"data!D37","v":10},{"$f":"data!E37","v":0.2},{"$f":"data!F37","v":25},{"$f":"data!G37","v":13},{"$f":"data!H37","v":0.05},{"$f":"data!I37","v":27},{"$f":"data!J37","v":10},{"$f":"data!K37","v":25},{"$f":"data!L37","v":9},{"$f":"data!M37","v":8},{"$f":"data!N37","v":25},{"$f":"data!O37","v":0.05},{"$f":"data!P37","v":9},{"$f":"data!Q37","v":19},{"$f":"data!R37","v":0.2},"2009-07-28",{"$f":"data!V37","v":0},{"$f":"[1]data!Y37","v":"2009-08-01"}]
["2009-07-30","2009-07-29",{"$f":"data!C38","v":25},{"$f":"data!D38","v":16},{"$f":"data!E38","v":0.55000000000000004},{"$f":"data!F38","v":25},{"$f":"data!G38","v":11},{"$f":"data!H38","v":0.1},{"$f":"data!I38","v":24},{"$f":"data!J38","v":14},{"$f":"data!K38","v":19},{"$f":"data!L38","v":13},{"$f":"data!M38","v":16},{"$f":"data!N38","v":25},{"$f":"data!O38","v":0.1},{"$f":"data!P38","v":12},{"$f":"data!Q38","v":23},{"$f":"data!R38","v":0.1},"2009-07-29",{"$f":"data!V38","v":3.9000000000000004},{"$f":"[1]data!Y38","v":"2009-08-02"}]
["2009-07-31","2009-07-30",{"$f":"data!C39","v":21},{"$f":"data!D39","v":15},{"$f":"data!E39","v":0.6},{"$f":"data!F39","v":23},{"$f":"data!G39","v":7},{"$f":"data!H39","v":0.05},{"$f":"data!I39","v":24},{"$f":"data!J39","v":14},{"$f":"data!K39","v":19},{"$f":"data!L39","v":13},{"$f":"data!M39","v":13},{"$f":"data!N39","v":23},{"$f":"data!O39","v":0.05},{"$f":"data!P39","v":15},{"$f":"data!Q39","v":22},{"$f":"data!R39","v":0.7},"2009-07-30",{"$f":"data!V39","v":0},{"$f":"[1]data!Y39","v":"2009-08-03"}]
["2009-08-01","2009-07-31",{"$f":"data!C40","v":26},{"$f":"data!D40","v":11},{"$f":"data!E40","v":0.05},{"$f":"data!F40","v":26},{"$f":"data!G40","v":11},{"$f":"data!H40","v":0.05},{"$f":"data!I40","v":27},{"$f":"data!J40","v":11},{"$f":"data!K40","v":24},{"$f":"data!L40","v":7},{"$f":"data!M40","v":8},{"$f":"data!N40","v":26},{"$f":"data!O40","v":0.05},{"$f":"data!P40","v":12},{"$f":"data!Q40","v":21},{"$f":"data!R40","v":0.7},"2009-07-31",{"$f":"data!V40","v":0},{"$f":"[1]data!Y40","v":"2009-08-04"}]
["2009-08-02","2009-08-01",{"$f":"data!C41","v":28},{"$f":"data!D41","v":13},{"$f":"data!E41","v":0.05},{"$f":"data!F41","v":28},{"$f":"data!G41","v":14},{"$f":"data!H41","v":0.02},{"$f":"data!I41","v":27},{"$f":"data!J41","v":11},{"$f":"data!K41","v":27},{"$f":"data!L41","v":12},{"$f":"data!M41","v":10},{"$f":"data!N41","v":28},{"$f":"data!O41","v":0},{"$f":"data!P41","v":12},{"$f":"data!Q41","v":23},{"$f":"data!R41","v":0.1},"2009-08-01",{"$f":"data!V41","v":0},{"$f":"[1]data!Y41","v":"2009-08-05"}]
["2009-08-03","2009-08-02",{"$f":"data!C42","v":28},{"$f":"data!D42","v":13},{"$f":"data!E42","v":0.05},{"$f":"data!F42","v":31},{"$f":"data!G42","v":16},{"$f":"data!H42","v":0.05},{"$f":"data!I42","v":28},{"$f":"data!J42","v":12},{"$f":"data!K42","v":27},{"$f":"data!L42","v":13},{"$f":"data!M42","v":10},{"$f":"data!N42","v":28},{"$f":"data!O42","v":0},{"$f":"data!P42","v":12},{"$f":"data!Q42","v":23},{"$f":"data!R42","v":0.1},"2009-08-02",{"$f":"data!V42","v":0},{"$f":"[1]data!Y42","v":"2009-08-06"}]
["2009-08-04","2009-08-03",{"$f":"data!C43","v":30},{"$f":"data!D43","v":15},{"$f":"data!E43","v":0.05},{"$f":"data!F43","v":30},{"$f":"data!G43","v":16},{"$f":"data!H43","v":0.02},{"$f":"data!I43","v":30},{"$f":"data!J43","v":14},{"$f":"data!K43","v":30},{"$f":"data!L43","v":14},{"$f":"data!M43","v":13},{"$f":"data!N43","v":30},{"$f":"data!O43","v":0},{"$f":"data!P43","v":13},{"$f":"data!Q43","v":26},{"$f":"data!R43","v":0.1},"2009-08-03",{"$f":"data!V43","v":0},{"$f":"[1]data!Y43","v":"2009-08-07"}]
["2009-08-05","2009-08-04",{"$f":"data!C44","v":26},{"$f":"data!D44","v":16},{"$f":"data!E44","v":0.55000000000000004},{"$f":"data!F44","v":29},{"$f":"data!G44","v":18},{"$f":"data!H44","v":0.1},{"$f":"data!I44","v":26},{"$f":"data!J44","v":16},{"$f":"data!K44","v":22},{"$f":"data!L44","v":16},{"$f":"data!M44","v":17},{"$f":"data!N44","v":29},{"$f":"data!O44","v":0.1},{"$f":"data!P44","v":14},{"$f":"data!Q44","v":28},{"$f":"data!R44","v":0.1},"2009-08-04",{"$f":"data!V44","v":0},{"$f":"[1]data!Y44","v":"2009-08-08"}]
["2009-08-06","2009-08-05",{"$f":"data!C45","v":27},{"$f":"data!D45","v":17},{"$f":"data!E45","v":0.6},{"$f":"data!F45","v":29},{"$f":"data!G45","v":17},{"$f":"data!H45","v":0.5},{"$f":"data!I45","v":23},{"$f":"data!J45","v":15},{"$f":"data!K45","v":29},{"$f":"data!L45","v":15},{"$f":"data!M45","v":18},{"$f":"data!N45","v":29},{"$f":"data!O45","v":0.5},{"$f":"data!P45","v":16},{"$f":"data!Q45","v":24},{"$f":"data!R45","v":0.7},"2009-08-05",{"$f":"data!V45","v":0},{"$f":"[1]data!Y45","v":"2009-08-09"}]
["2009-08-07","2009-08-06",{"$f":"data!C46","v":25},{"$f":"data!D46","v":17},{"$f":"data!E46","v":0.55000000000000004},{"$f":"data!F46","v":28},{"$f":"data!G46","v":15},{"$f":"data!H46","v":0.5},{"$f":"data!I46","v":23},{"$f":"data!J46","v":15},{"$f":"data!K46","v":20},{"$f":"data!L46","v":13},{"$f":"data!M46","v":17},{"$f":"data!N46","v":28},{"$f":"data!O46","v":0.5},{"$f":"data!P46","v":15},{"$f":"data!Q46","v":24},{"$f":"data!R46","v":0.2},"2009-08-06",{"$f":"data!V46","v":15},{"$f":"[1]data!Y46","v":"2009-08-10"}]
["2009-08-08","2009-08-07",{"$f":"data!C47","v":22},{"$f":"data!D47","v":13},{"$f":"data!E47","v":0.45},{"$f":"data!F47","v":24},{"$f":"data!G47","v":11},{"$f":"data!H47","v":0.05},{"$f":"data!I47","v":22},{"$f":"data!J47","v":12},{"$f":"data!K47","v":18},{"$f":"data!L47","v":11},{"$f":"data!M47","v":17},{"$f":"data!N47","v":28},{"$f":"data!O47","v":0.5},{"$f":"data!P47","v":15},{"$f":"data!Q47","v":23},{"$f":"data!R47","v":0.6},"2009-08-07",{"$f":"data!V47","v":0.3},{"$f":"[1]data!Y47","v":"2009-08-11"}]
["2009-08-24","2009-08-23",{"$f":"data!C48","v":26},{"$f":"data!D48","v":14},{"$f":"data!E48","v":0.2},{"$f":"data!F48","v":27},{"$f":"data!G48","v":14},{"$f":"data!H48","v":0.02},{"$f":"data!I48","v":26},{"$f":"data!J48","v":13},{"$f":"data!K48","v":22},{"$f":"data!L48","v":13},{"$f":"data!M48","v":12},{"$f":"data!N48","v":27},{"$f":"data!O48","v":0},{"$f":"data!P48","v":12},{"$f":"data!Q48","v":25},{"$f":"data!R48","v":0.1},"2009-08-23",{"$f":"data!V48","v":0},{"$f":"[1]data!Y48","v":"2009-08-27"}]
["2009-08-25","2009-08-24",{"$f":"data!C49","v":24},{"$f":"data!D49","v":15},{"$f":"data!E49","v":0.35},{"$f":"data!F49","v":25},{"$f":"data!G49","v":11},{"$f":"data!H49","v":0.05},{"$f":"data!I49","v":26},{"$f":"data!J49","v":14},{"$f":"data!K49","v":19},{"$f":"data!L49","v":14},{"$f":"data!M49","v":15},{"$f":"data!N49","v":25},{"$f":"data!O49","v":0.05},{"$f":"data!P49","v":15},{"$f":"data!Q49","v":24},{"$f":"data!R49","v":0.6},"2009-08-24",{"$f":"data!V49","v":0.2},{"$f":"[1]data!Y49","v":"2009-08-28"}]
["2009-08-27","2009-08-26",{"$f":"data!C50","v":21},{"$f":"data!D50","v":8},{"$f":"data!E50","v":0.05},{"$f":"data!F50","v":21},{"$f":"data!G50","v":9},{"$f":"data!H50","v":0.05},{"$f":"data!I50","v":21},{"$f":"data!J50","v":7},{"$f":"data!K50","v":18},{"$f":"data!L50","v":6},{"$f":"data!M50","v":7},{"$f":"data!N50","v":21},{"$f":"data!O50","v":0.05},{"$f":"data!P50","v":9},{"$f":"data!Q50","v":19},{"$f":"data!R50","v":0.1},"2009-08-26",{"$f":"data!V50","v":0},{"$f":"[1]data!Y50","v":"2009-08-30"}]
["2009-08-28","2009-08-27",{"$f":"data!C51","v":24},{"$f":"data!D51","v":9},{"$f":"data!E51","v":0.05},{"$f":"data!F51","v":25},{"$f":"data!G51","v":10},{"$f":"data!H51","v":0.05},{"$f":"data!I51","v":26},{"$f":"data!J51","v":8},{"$f":"data!K51","v":23},{"$f":"data!L51","v":6},{"$f":"data!M51","v":6},{"$f":"data!N51","v":25},{"$f":"data!O51","v":0.05},{"$f":"data!P51","v":8},{"$f":"data!Q51","v":22},{"$f":"data!R51","v":0.1},"2009-08-27",{"$f":"data!V51","v":0},{"$f":"[1]data!Y51","v":"2009-08-31"}]
["2009-08-30","2009-08-29",{"$f":"data!C52","v":22},{"$f":"data!D52","v":14},{"$f":"data!E52","v":0.4},{"$f":"data!F52","v":23},{"$f":"data!G52","v":14},{"$f":"data!H52","v":0.05},{"$f":"data!I52","v":22},{"$f":"data!J52","v":15},{"$f":"data!K52","v":19},{"$f":"data!L52","v":12},{"$f":"data!M52","v":14},{"$f":"data!N52","v":23},{"$f":"data!O52","v":0.05},{"$f":"data!P52","v":17},{"$f":"data!Q52","v":21},{"$f":"data!R52","v":0.6},"2009-08-29",{"$f":"data!V52","v":0},{"$f":"[1]data!Y52","v":"2009-09-02"}]
["2009-08-31","2009-08-30",{"$f":"data!C53","v":19},{"$f":"data!D53","v":12},{"$f":"data!E53","v":0.55000000000000004},{"$f":"data!F53","v":22},{"$f":"data!G53","v":13},{"$f":"data!H53","v":0.05},{"$f":"data!I53","v":22},{"$f":"data!J53","v":12},{"$f":"data!K53","v":18},{"$f":"data!L53","v":10},{"$f":"data!M53","v":14},{"$f":"data!N53","v":22},{"$f":"data!O53","v":0.05},{"$f":"data!P53","v":14},{"$f":"data!Q53","v":19},{"$f":"data!R53","v":0.6},"2009-08-30",{"$f":"data!V53","v":4.5999999999999996},{"$f":"[1]data!Y53","v":"2009-09-03"}]
["2009-09-01","2009-08-31",{"$f":"data!C54","v":16},{"$f":"data!D54","v":13},{"$f":"data!E54","v":0.75},{"$f":"data!F54","v":17},{"$f":"data!G54","v":12},{"$f":"data!H54","v":0.5},{"$f":"data!I54","v":18},{"$f":"data!J54","v":13},{"$f":"data!K54","v":13},{"$f":"data!L54","v":11},{"$f":"data!M54","v":12},{"$f":"data!N54","v":17},{"$f":"data!O54","v":0.5},{"$f":"data!P54","v":11},{"$f":"data!Q54","v":14},{"$f":"data!R54","v":0.9},"2009-08-31",{"$f":"data!V54","v":12.299999999999999},{"$f":"[1]data!Y54","v":"2009-09-04"}]
["2009-09-03","2009-09-02",{"$f":"data!C55","v":19},{"$f":"data!D55","v":10},{"$f":"data!E55","v":0.2},{"$f":"data!F55","v":19},{"$f":"data!G55","v":8},{"$f":"data!H55","v":0.1},{"$f":"data!I55","v":19},{"$f":"data!J55","v":9},{"$f":"data!K55","v":16},{"$f":"data!L55","v":10},{"$f":"data!M55","v":10},{"$f":"data!N55","v":19},{"$f":"data!O55","v":0.1},{"$f":"data!P55","v":8},{"$f":"data!Q55","v":18},{"$f":"data!R55","v":0.2},"2009-09-02",{"$f":"data!V55","v":0},{"$f":"[1]data!Y55","v":"2009-09-06"}]
["2009-09-04","2009-09-03",{"$f":"data!C56","v":21},{"$f":"data!D56","v":8},{"$f":"data!E56","v":0.2},{"$f":"data!F56","v":23},{"$f":"data!G56","v":11},{"$f":"data!H56","v":0.05},{"$f":"data!I56","v":21},{"$f":"data!J56","v":8},{"$f":"data!K56","v":18},{"$f":"data!L56","v":8},{"$f":"data!M56","v":10},{"$f":"data!N56","v":23},{"$f":"data!O56","v":0.05},{"$f":"data!P56","v":9},{"$f":"data!Q56","v":20},{"$f":"data!R56","v":0.2},"2009-09-03",{"$f":"data!V56","v":0},{"$f":"[1]data!Y56","v":"2009-09-07"}]
["2009-09-05","2009-09-04",{"$f":"data!C57","v":25},{"$f":"data!D57","v":11},{"$f":"data!E57","v":0.05},{"$f":"data!F57","v":26},{"$f":"data!G57","v":13},{"$f":"data!H57","v":0.05},{"$f":"data!I57","v":24},{"$f":"data!J57","v":9},{"$f":"data!K57","v":23},{"$f":"data!L57","v":8},{"$f":"data!M57","v":11},{"$f":"data!N57","v":26},{"$f":"data!O57","v":0.05},{"$f":"data!P57","v":11},{"$f":"data!Q57","v":24},{"$f":"data!R57","v":0.1},"2009-09-04",{"$f":"data!V57","v":0},{"$f":"[1]data!Y57","v":"2009-09-08"}]
["2009-09-06","2009-09-05",{"$f":"data!C58","v":27},{"$f":"data!D58","v":11},{"$f":"data!E58","v":0.05},{"$f":"data!F58","v":28},{"$f":"data!G58","v":14},{"$f":"data!H58","v":0.05},{"$f":"data!I58","v":24},{"$f":"data!J58","v":11},{"$f":"data!K58","v":26},{"$f":"data!L58","v":10},{"$f":"data!M58","v":12},{"$f":"data!N58","v":28},{"$f":"data!O58","v":0.05},{"$f":"data!P58","v":12},{"$f":"data!Q58","v":24},{"$f":"data!R58","v":0.3},"2009-09-05",{"$f":"data!V58","v":0},{"$f":"[1]data!Y58","v":"2009-09-09"}]
["2009-09-08","2009-09-07",{"$f":"data!C59","v":21},{"$f":"data!D59","v":13},{"$f":"data!E59","v":0.2},{"$f":"data!F59","v":21},{"$f":"data!G59","v":11},{"$f":"data!H59","v":0.05},{"$f":"data!I59","v":20},{"$f":"data!J59","v":11},{"$f":"data!K59","v":19},{"$f":"data!L59","v":10},{"$f":"data!M59","v":13},{"$f":"data!N59","v":21},{"$f":"data!O59","v":0.05},{"$f":"data!P59","v":13},{"$f":"data!Q59","v":19},{"$f":"data!R59","v":0.2},"2009-09-07",{"$f":"data!V59","v":0},{"$f":"[1]data!Y59","v":"2009-09-11"}]
["2009-09-09","2009-09-08",{"$f":"data!C60","v":20},{"$f":"data!D60","v":11},{"$f":"data!E60","v":0.3},{"$f":"data!F60","v":22},{"$f":"data!G60","v":10},{"$f":"data!H60","v":0.1},{"$f":"data!I60","v":18},{"$f":"data!J60","v":9},{"$f":"data!K60","v":17},{"$f":"data!L60","v":9},{"$f":"data!M60","v":14},{"$f":"data!N60","v":22},{"$f":"data!O60","v":0.1},{"$f":"data!P60","v":14},{"$f":"data!Q60","v":19},{"$f":"data!R60","v":0.3},"2009-09-08",{"$f":"data!V60","v":0},{"$f":"[1]data!Y60","v":"2009-09-12"}]
["2009-09-10","2009-09-09",{"$f":"data!C61","v":18},{"$f":"data!D61","v":10},{"$f":"data!E61","v":0.2},{"$f":"data!F61","v":19},{"$f":"data!G61","v":13},{"$f":"data!H61","v":10},{"$f":"data!I61","v":20},{"$f":"data!J61","v":9},{"$f":"data!K61","v":14},{"$f":"data!L61","v":6},{"$f":"data!M61","v":13},{"$f":"data!N61","v":19},{"$f":"data!O61","v":0.1},{"$f":"data!P61","v":12},{"$f":"data!Q61","v":17},{"$f":"data!R61","v":0.2},"2009-09-09",{"$f":"data!V61","v":2.2000000000000002},{"$f":"[1]data!Y61","v":"2009-09-13"}]
["2009-09-11","2009-09-10",{"$f":"data!C62","v":17},{"$f":"data!D62","v":11},{"$f":"data!E62","v":0.35},{"$f":"data!F62","v":17},{"$f":"data!G62","v":11},{"$f":"data!H62","v":0.15},{"$f":"data!I62","v":18},{"$f":"data!J62","v":9},{"$f":"data!K62","v":15},{"$f":"data!L62","v":9},{"$f":"data!M62","v":11},{"$f":"data!N62","v":17},{"$f":"data!O62","v":15},{"$f":"data!P62","v":11},{"$f":"data!Q62","v":16},{"$f":"data!R62","v":0.8},"2009-09-10",{"$f":"data!V62","v":13.2},{"$f":"[1]data!Y62","v":"2009-09-14"}]
["2009-09-12","2009-09-11",{"$f":"data!C63","v":16},{"$f":"data!D63","v":11},{"$f":"data!E63","v":0.7},{"$f":"data!F63","v":18},{"$f":"data!G63","v":12},{"$f":"data!H63","v":30},{"$f":"data!I63","v":21},{"$f":"data!J63","v":10},{"$f":"data!K63","v":12},{"$f":"data!L63","v":8},{"$f":"data!M63","v":11},{"$f":"data!N63","v":18},{"$f":"data!O63","v":0.3},{"$f":"data!P63","v":8},{"$f":"data!Q63","v":15},{"$f":"data!R63","v":0.7},"2009-09-11",{"$f":"data!V63","v":1.2},{"$f":"[1]data!Y63","v":"2009-09-15"}]
["2009-09-13","2009-09-12",{"$f":"data!C64","v":24},{"$f":"data!D64","v":12},{"$f":"data!E64","v":0.1},{"$f":"data!F64","v":26},{"$f":"data!G64","v":15},{"$f":"data!H64","v":0.05},{"$f":"data!I64","v":22},{"$f":"data!J64","v":10},{"$f":"data!K64","v":23},{"$f":"data!L64","v":10},{"$f":"data!M64","v":12},{"$f":"data!N64","v":26},{"$f":"data!O64","v":0.05},{"$f":"data!P64","v":11},{"$f":"data!Q64","v":23},{"$f":"data!R64","v":0.2},"2009-09-12",{"$f":"data!V64","v":0},{"$f":"[1]data!Y64","v":"2009-09-16"}]
["2009-09-14","2009-09-13",{"$f":"data!C65","v":23},{"$f":"data!D65","v":13},{"$f":"data!E65","v":0.1},{"$f":"data!F65","v":23},{"$f":"data!G65","v":11},{"$f":"data!H65","v":0.05},{"$f":"data!I65","v":18},{"$f":"data!J65","v":12},{"$f":"data!K65","v":20},{"$f":"data!L65","v":13},{"$f":"data!M65","v":13},{"$f":"data!N65","v":23},{"$f":"data!O65","v":0.05},{"$f":"data!P65","v":14},{"$f":"data!Q65","v":20},{"$f":"data!R65","v":0.5},"2009-09-13",{"$f":"data!V65","v":0},{"$f":"[1]data!Y65","v":"2009-09-17"}]
["2009-09-15","2009-09-14",{"$f":"data!C66","v":22},{"$f":"data!D66","v":8},{"$f":"data!E66","v":0.05},{"$f":"data!F66","v":23},{"$f":"data!G66","v":10},{"$f":"data!H66","v":0.02},{"$f":"data!I66","v":20},{"$f":"data!J66","v":8},{"$f":"data!K66","v":20},{"$f":"data!L66","v":6},{"$f":"data!M66","v":8},{"$f":"data!N66","v":23},{"$f":"data!O66","v":0},{"$f":"data!P66","v":9},{"$f":"data!Q66","v":22},{"$f":"data!R66","v":0.1},"2009-09-14",{"$f":"data!V66","v":0},{"$f":"[1]data!Y66","v":"2009-09-18"}]
["2009-09-16","2009-09-15",{"$f":"data!C67","v":23},{"$f":"data!D67","v":9},{"$f":"data!E67","v":0.05},{"$f":"data!F67","v":24},{"$f":"data!G67","v":9},{"$f":"data!H67","v":0.02},{"$f":"data!I67","v":22},{"$f":"data!J67","v":8},{"$f":"data!K67","v":20},{"$f":"data!L67","v":10},{"$f":"data!M67","v":9},{"$f":"data!N67","v":24},{"$f":"data!O67","v":0},{"$f":"data!P67","v":11},{"$f":"data!Q67","v":22},{"$f":"data!R67","v":0.1},"2009-09-15",{"$f":"data!V67","v":0},{"$f":"[1]data!Y67","v":"2009-09-19"}]
["2009-09-17","2009-09-16",{"$f":"data!C68","v":23},{"$f":"data!D68","v":12},{"$f":"data!E68","v":0.35},{"$f":"data!F68","v":25},{"$f":"data!G68","v":10},{"$f":"data!H68","v":0.02},{"$f":"data!I68","v":21},{"$f":"data!J68","v":11},{"$f":"data!K68","v":21},{"$f":"data!L68","v":10},{"$f":"data!M68","v":9},{"$f":"data!N68","v":24},{"$f":"data!O68","v":0},{"$f":"data!P68","v":12},{"$f":"data!Q68","v":21},{"$f":"data!R68","v":0.3},"2009-09-16",{"$f":"data!V68","v":0},{"$f":"[1]data!Y68","v":"2009-09-20"}]
["2009-09-18","2009-09-17",{"$f":"data!C69","v":23},{"$f":"data!D69","v":13},{"$f":"data!E69","v":0.55000000000000004},{"$f":"data!F69","v":26},{"$f":"data!G69","v":11},{"$f":"data!H69","v":0.05},{"$f":"data!I69","v":22},{"$f":"data!J69","v":11},{"$f":"data!K69","v":21},{"$f":"data!L69","v":12},{"$f":"data!M69","v":13},{"$f":"data!N69","v":26},{"$f":"data!O69","v":0.05},{"$f":"data!P69","v":13},{"$f":"data!Q69","v":23},{"$f":"data!R69","v":0.2},"2009-09-17",{"$f":"data!V69","v":0},{"$f":"[1]data!Y69","v":"2009-09-21"}]
[]
["első","qvartilis",{"$f":"QUARTILE(C$3:C$52,1)","v":21},{"$f":"QUARTILE(D$3:D$52,1)","v":12},0.2,22,11,0.05,21,11,19,9,10.25,22,0.05,11,19.25,0.1]
["második","qvartilis",{"$f":"QUARTILE(C$3:C$52,2)","v":24},{"$f":"QUARTILE(D$3:D$52,2)","v":13},0.45,25,13,0.05,24,13,22,10,12,25,0.05,12,22.5,0.35]
["harmadik","qvartilis",{"$f":"QUARTILE(C$3:C$52,3)","v":26},{"$f":"QUARTILE(D$3:D$52,3)","v":15},0.6,27.75,14.75,0.3,26,14,24,13,15,28,0.45,15,24,0.7]
[]
[null,null,null,null,null,null,null,null,null,null,null,null,null,null,null,null,null,null,"tény*100"]
["aacsap4",null,{"$f":"IF(C3<C$64,1,IF(C3<C$65,2,IF(C3<C$66,3,4)))","v":4},{"$f":"IF(D3<D$64,1,IF(D3<D$65,2,IF(D3<D$66,3,4)))","v":4},2,4,4,3,4,4,4,4,4,4,3,4,4,2,{"$f":"T3*100","v":120},"méret:","50*16(+1)"]
[null,null,{"$f":"IF(C4<C$64,1,IF(C4<C$65,2,IF(C4<C$66,3,4)))","v":4},4,2,4,4,3,4,4,4,4,4,4,3,4,4,2,{"$f":"T4*100","v":0}]
[null,null,{"$f":"IF(C5<C$64,1,IF(C5<C$65,2,IF(C5<C$66,3,4)))","v":4},4,3,4,4,4,4,4,4,4,4,4,4,4,4,2,0]
[null,null,{"$f":"IF(C6<C$64,1,IF(C6<C$65,2,IF(C6<C$66,3,4)))","v":3},4,3,3,3,4,3,4,3,3,3,3,4,4,3,4,0]
[null,null,{"$f":"IF(C7<C$64,1,IF(C7<C$65,2,IF(C7<C$66,3,4)))","v":3},4,4,3,4,3,2,4,3,4,3,3,3,4,3,4,419.99999999999994]
[null,null,{"$f":"IF(C8<C$64,1,IF(C8<C$65,2,IF(C8<C$66,3,4)))","v":3},4,3,2,2,4,2,3,3,3,3,2,4,3,1,4,0]
[null,null,{"$f":"IF(C9<C$64,1,IF(C9<C$65,2,IF(C9<C$66,3,4)))","v":1},3,4,1,1,4,1,3,2,3,3,1,4,3,1,4,539.99999999999989]
[null,null,{"$f":"IF(C10<C$64,1,IF(C10<C$65,2,IF(C10<C$66,3,4)))","v":1},3,4,1,2,4,1,2,2,2,3,1,3,3,1,4,210]
[null,null,{"$f":"IF(C11<C$64,1,IF(C11<C$65,2,IF(C11<C$66,3,4)))","v":1},1,3,1,2,4,1,1,1,1,1,1,4,2,1,4,109.99999999999999]
[null,null,{"$f":"IF(C12<C$64,1,IF(C12<C$65,2,IF(C12<C$66,3,4)))","v":1},1,3,1,1,3,1,2,1,3,3,1,3,1,1,4,120.00000000000001]
[null,null,{"$f":"IF(C13<C$64,1,IF(C13<C$65,2,IF(C13<C$66,3,4)))","v":2},1,4,3,4,3,2,1,2,2,2,3,3,2,1,2,10]
[null,null,{"$f":"IF(C14<C$64,1,IF(C14<C$65,2,IF(C14<C$66,3,4)))","v":3},3,1,3,3,3,3,3,3,1,1,3,3,2,2,2,990]
[null,null,{"$f":"IF(C15<C$64,1,IF(C15<C$65,2,IF(C15<C$66,3,4)))","v":3},4,4,2,4,4,3,4,4,4,4,2,4,3,4,3,780.00000000000011]
[null,null,{"$f":"IF(C16<C$64,1,IF(C16<C$65,2,IF(C16<C$66,3,4)))","v":3},4,4,3,4,3,4,4,4,4,4,2,4,4,4,3,0]
[null,null,{"$f":"IF(C17<C$64,1,IF(C17<C$65,2,IF(C17<C$66,3,4)))","v":4},3,1,4,3,3,4,3,4,2,2,4,3,4,4,3,0]
[null,null,{"$f":"IF(C18<C$64,1,IF(C18<C$65,2,IF(C18<C$66,3,4)))","v":3},4,4,3,2,4,4,3,3,4,4,4,3,3,4,2,440.00000000000006]
[null,null,{"$f":"IF(C19<C$64,1,IF(C19<C$65,2,IF(C19<C$66,3,4)))","v":1},3,4,1,1,3,1,3,1,3,3,1,3,4,4,4,10]
[null,null,{"$f":"IF(C20<C$64,1,IF(C20<C$65,2,IF(C20<C$66,3,4)))","v":1},3,4,1,3,3,1,2,1,2,1,1,3,3,1,4,380]
[null,null,{"$f":"IF(C21<C$64,1,IF(C21<C$65,2,IF(C21<C$66,3,4)))","v":2},3,3,2,2,3,1,2,1,3,2,2,3,2,2,4,0]
[null,null,{"$f":"IF(C22<C$64,1,IF(C22<C$65,2,IF(C22<C$66,3,4)))","v":3},2,2,3,4,4,4,2,3,1,2,3,4,3,2,2,70]
[null,null,{"$f":"IF(C23<C$64,1,IF(C23<C$65,2,IF(C23<C$66,3,4)))","v":3},4,4,4,3,4,4,4,3,4,4,4,4,3,2,3,229.99999999999997]
[null,null,{"$f":"IF(C24<C$64,1,IF(C24<C$65,2,IF(C24<C$66,3,4)))","v":3},4,4,2,3,4,4,4,3,4,4,2,3,4,4,4,800]
[null,null,{"$f":"IF(C25<C$64,1,IF(C25<C$65,2,IF(C25<C$66,3,4)))","v":1},3,4,1,1,3,2,3,1,3,3,1,3,4,2,3,510.00000000000006]
[null,null,{"$f":"IF(C26<C$64,1,IF(C26<C$65,2,IF(C26<C$66,3,4)))","v":3},2,1,2,1,3,2,1,2,1,1,2,3,3,2,3,0]
[null,null,{"$f":"IF(C27<C$64,1,IF(C27<C$65,2,IF(C27<C$66,3,4)))","v":4},2,2,4,2,1,3,2,4,3,2,4,1,1,3,2,40]
[null,null,{"$f":"IF(C28<C$64,1,IF(C28<C$65,2,IF(C28<C$66,3,4)))","v":4},2,2,2,2,3,2,3,2,2,2,4,1,1,3,2,0]
[null,null,{"$f":"IF(C29<C$64,1,IF(C29<C$65,2,IF(C29<C$66,3,4)))","v":3},1,1,3,2,3,2,1,2,1,1,3,3,4,2,2,0]
[null,null,{"$f":"IF(C30<C$64,1,IF(C30<C$65,2,IF(C30<C$66,3,4)))","v":4},1,2,3,3,3,4,1,4,2,1,3,3,1,1,2,0]
[null,null,{"$f":"IF(C31<C$64,1,IF(C31<C$65,2,IF(C31<C$66,3,4)))","v":3},4,3,3,2,3,3,4,2,4,4,3,3,3,3,2,390.00000000000006]
[null,null,{"$f":"IF(C32<C$64,1,IF(C32<C$65,2,IF(C32<C$66,3,4)))","v":2},4,4,2,1,3,3,4,2,4,3,2,3,4,2,4,0]
[null,null,{"$f":"IF(C33<C$64,1,IF(C33<C$65,2,IF(C33<C$66,3,4)))","v":4},1,1,3,2,3,4,2,4,1,1,3,3,3,2,4,0]
[null,null,{"$f":"IF(C34<C$64,1,IF(C34<C$65,2,IF(C34<C$66,3,4)))","v":4},3,1,4,3,1,4,2,4,3,1,4,1,3,3,2,0]
[null,null,{"$f":"IF(C35<C$64,1,IF(C35<C$65,2,IF(C35<C$66,3,4)))","v":4},3,1,4,4,3,4,2,4,4,1,4,1,3,3,2,0]
[null,null,{"$f":"IF(C36<C$64,1,IF(C36<C$65,2,IF(C36<C$66,3,4)))","v":4},4,1,4,4,1,4,4,4,4,3,4,1,3,4,2,0]
[null,null,{"$f":"IF(C37<C$64,1,IF(C37<C$65,2,IF(C37<C$66,3,4)))","v":4},4,3,4,4,3,4,4,3,4,4,4,3,3,4,2,0]
[null,null,{"$f":"IF(C38<C$64,1,IF(C38<C$65,2,IF(C38<C$66,3,4)))","v":4},4,4,4,4,4,2,4,4,4,4,4,4,4,4,4,0]
[null,null,{"$f":"IF(C39<C$64,1,IF(C39<C$65,2,IF(C39<C$66,3,4)))","v":3},4,3,4,4,4,2,4,2,4,4,4,4,4,4,2,1500]
[null,null,{"$f":"IF(C40<C$64,1,IF(C40<C$65,2,IF(C40<C$66,3,4)))","v":2},3,3,2,2,3,2,2,1,3,4,4,4,4,3,3,30]
[null,null,{"$f":"IF(C41<C$64,1,IF(C41<C$65,2,IF(C41<C$66,3,4)))","v":4},3,2,3,3,1,4,3,3,4,3,3,1,3,4,2,0]
[null,null,{"$f":"IF(C42<C$64,1,IF(C42<C$65,2,IF(C42<C$66,3,4)))","v":3},4,2,3,2,3,4,4,2,4,4,3,3,4,4,3,20]
[null,null,{"$f":"IF(C43<C$64,1,IF(C43<C$65,2,IF(C43<C$66,3,4)))","v":2},1,1,1,1,3,2,1,1,1,1,1,3,1,1,2,0]
[null,null,{"$f":"IF(C44<C$64,1,IF(C44<C$65,2,IF(C44<C$66,3,4)))","v":3},1,1,3,1,3,4,1,3,1,1,3,3,1,2,2,0]
[null,null,{"$f":"IF(C45<C$64,1,IF(C45<C$65,2,IF(C45<C$66,3,4)))","v":2},3,2,2,3,3,2,4,2,3,3,2,3,4,2,3,0]
[null,null,{"$f":"IF(C46<C$64,1,IF(C46<C$65,2,IF(C46<C$66,3,4)))","v":1},2,3,2,3,3,2,2,1,3,3,2,3,3,1,3,459.99999999999994]
[null,null,{"$f":"IF(C47<C$64,1,IF(C47<C$65,2,IF(C47<C$66,3,4)))","v":1},3,4,1,2,4,1,3,1,3,3,1,4,2,1,4,1230]
[null,null,{"$f":"IF(C48<C$64,1,IF(C48<C$65,2,IF(C48<C$66,3,4)))","v":1},1,2,1,1,3,1,1,1,3,1,1,3,1,1,2,0]
[null,null,{"$f":"IF(C49<C$64,1,IF(C49<C$65,2,IF(C49<C$66,3,4)))","v":2},1,2,2,2,3,2,1,1,1,1,2,3,1,2,2,0]
[null,null,{"$f":"IF(C50<C$64,1,IF(C50<C$65,2,IF(C50<C$66,3,4)))","v":3},1,1,3,3,3,3,1,3,1,2,3,3,2,4,2,0]
[null,null,{"$f":"IF(C51<C$64,1,IF(C51<C$65,2,IF(C51<C$66,3,4)))","v":4},1,1,4,3,3,3,2,4,3,3,4,3,3,4,2,0]
[null,null,{"$f":"IF(C52<C$64,1,IF(C52<C$65,2,IF(C52<C$66,3,4)))","v":2},3,2,1,2,3,1,2,2,3,3,1,3,3,1,2,0]
[null,null,{"$f":"IF(C53<C$64,1,IF(C53<C$65,2,IF(C53<C$66,3,4)))","v":1},1,2,2,1,3,1,1,1,2,3,2,3,3,1,2,0]
[null,null,{"$f":"IF(C54<C$64,1,IF(C54<C$65,2,IF(C54<C$66,3,4)))","v":1},1,2,1,3,4,1,1,1,1,3,1,3,3,1,2,220.00000000000003]
[null,null,{"$f":"IF(C55<C$64,1,IF(C55<C$65,2,IF(C55<C$66,3,4)))","v":1},1,2,1,2,3,1,1,1,2,2,1,4,2,1,4,1320]
[null,null,{"$f":"IF(C56<C$64,1,IF(C56<C$65,2,IF(C56<C$66,3,4)))","v":1},1,4,1,2,4,2,1,1,1,2,1,3,1,1,4,120]
[null,null,{"$f":"IF(C57<C$64,1,IF(C57<C$65,2,IF(C57<C$66,3,4)))","v":3},2,1,3,4,3,2,1,3,3,3,3,3,2,3,2,0]
[null,null,{"$f":"IF(C58<C$64,1,IF(C58<C$65,2,IF(C58<C$66,3,4)))","v":2},3,1,2,2,3,1,2,2,4,3,2,3,3,2,3,0]
[null,null,{"$f":"IF(C59<C$64,1,IF(C59<C$65,2,IF(C59<C$66,3,4)))","v":2},1,1,2,1,1,1,1,2,1,1,2,1,1,2,2,0]
[null,null,{"$f":"IF(C60<C$64,1,IF(C60<C$65,2,IF(C60<C$66,3,4)))","v":2},1,1,2,1,1,2,1,2,3,1,2,1,2,2,2,0]
[null,null,{"$f":"IF(C61<C$64,1,IF(C61<C$65,2,IF(C61<C$66,3,4)))","v":2},2,2,3,1,1,2,2,2,3,1,2,1,3,2,2,0]
[null,null,{"$f":"IF(C62<C$64,1,IF(C62<C$65,2,IF(C62<C$66,3,4)))","v":2},3,3,3,2,3,2,2,2,3,3,3,3,3,3,2,0]
[]
["LINEÁRIS közelítés (additív)"]
[]
["A feladat alapadatainak visszaigazolása:","-"]
["Feladat azonosítója:","aacsap4"]
["Objektumok (primer sorok) száma:",50]
["X-attribútumok (oszlopok) száma:",16]
["Lépcsők száma:",4]
["Az eltolás mértéke",0]
["A feladat részletes jellemzése","MCM: demo"]
[]
[]
["Rangsorszámok","X (A1)","X (A2)","X (A3)","X (A4)","X (A5)","X (A6)","X (A7)","X (A8)","X (A9)","X (A10)","X (A11)","X (A12)","X (A13)","X (A14)","X (A15)","X (A16)","Y (A17)"]
["feladatkód N°= aacsap4"]
["O(1)",4,4,2,4,4,3,4,4,4,4,4,4,3,4,4,2,120]
["O(2)",4,4,2,4,4,3,4,4,4,4,4,4,3,4,4,2,0]
["O(3)",4,4,3,4,4,4,4,4,4,4,4,4,4,4,4,2,0]
["O(4)",3,4,3,3,3,4,3,4,3,3,3,3,4,4,3,4,0]
["O(5)",3,4,4,3,4,3,2,4,3,4,3,3,3,4,3,4,420]
["O(6)",3,4,3,2,2,4,2,3,3,3,3,2,4,3,1,4,0]
["O(7)",1,3,4,1,1,4,1,3,2,3,3,1,4,3,1,4,540]
["O(8)",1,3,4,1,2,4,1,2,2,2,3,1,3,3,1,4,210]
["O(9)",1,1,3,1,2,4,1,1,1,1,1,1,4,2,1,4,110]
["O(10)",1,1,3,1,1,3,1,2,1,3,3,1,3,1,1,4,120]
["O(11)",2,1,4,3,4,3,2,1,2,2,2,3,3,2,1,2,10]
["O(12)",3,3,1,3,3,3,3,3,3,1,1,3,3,2,2,2,990]
["O(13)",3,4,4,2,4,4,3,4,4,4,4,2,4,3,4,3,780]
["O(14)",3,4,4,3,4,3,4,4,4,4,4,2,4,4,4,3,0]
["O(15)",4,3,1,4,3,3,4,3,4,2,2,4,3,4,4,3,0]
["O(16)",3,4,4,3,2,4,4,3,3,4,4,4,3,3,4,2,440]
["O(17)",1,3,4,1,1,3,1,3,1,3,3,1,3,4,4,4,10]
["O(18)",1,3,4,1,3,3,1,2,1,2,1,1,3,3,1,4,380]
["O(19)",2,3,3,2,2,3,1,2,1,3,2,2,3,2,2,4,0]
["O(20)",3,2,2,3,4,4,4,2,3,1,2,3,4,3,2,2,70]
["O(21)",3,4,4,4,3,4,4,4,3,4,4,4,4,3,2,3,230]
["O(22)",3,4,4,2,3,4,4,4,3,4,4,2,3,4,4,4,800]
["O(23)",1,3,4,1,1,3,2,3,1,3,3,1,3,4,2,3,510]
["O(24)",3,2,1,2,1,3,2,1,2,1,1,2,3,3,2,3,0]
["O(25)",4,2,2,4,2,1,3,2,4,3,2,4,1,1,3,2,40]
["O(26)",4,2,2,2,2,3,2,3,2,2,2,4,1,1,3,2,0]
["O(27)",3,1,1,3,2,3,2,1,2,1,1,3,3,4,2,2,0]
["O(28)",4,1,2,3,3,3,4,1,4,2,1,3,3,1,1,2,0]
["O(29)",3,4,3,3,2,3,3,4,2,4,4,3,3,3,3,2,390]
["O(30)",2,4,4,2,1,3,3,4,2,4,3,2,3,4,2,4,0]
["O(31)",4,1,1,3,2,3,4,2,4,1,1,3,3,3,2,4,0]
["O(32)",4,3,1,4,3,1,4,2,4,3,1,4,1,3,3,2,0]
["O(33)",4,3,1,4,4,3,4,2,4,4,1,4,1,3,3,2,0]
["O(34)",4,4,1,4,4,1,4,4,4,4,3,4,1,3,4,2,0]
["O(35)",4,4,3,4,4,3,4,4,3,4,4,4,3,3,4,2,0]
["O(36)",4,4,4,4,4,4,2,4,4,4,4,4,4,4,4,4,0]
["O(37)",3,4,3,4,4,4,2,4,2,4,4,4,4,4,4,2,1500]
["O(38)",2,3,3,2,2,3,2,2,1,3,4,4,4,4,3,3,30]
["O(39)",4,3,2,3,3,1,4,3,3,4,3,3,1,3,4,2,0]
["O(40)",3,4,2,3,2,3,4,4,2,4,4,3,3,4,4,3,20]
["O(41)",2,1,1,1,1,3,2,1,1,1,1,1,3,1,1,2,0]
["O(42)",3,1,1,3,1,3,4,1,3,1,1,3,3,1,2,2,0]
["O(43)",2,3,2,2,3,3,2,4,2,3,3,2,3,4,2,3,0]
["O(44)",1,2,3,2,3,3,2,2,1,3,3,2,3,3,1,3,460]
["O(45)",1,3,4,1,2,4,1,3,1,3,3,1,4,2,1,4,1230]
["O(46)",1,1,2,1,1,3,1,1,1,3,1,1,3,1,1,2,0]
["O(47)",2,1,2,2,2,3,2,1,1,1,1,2,3,1,2,2,0]
["O(48)",3,1,1,3,3,3,3,1,3,1,2,3,3,2,4,2,0]
["O(49)",4,1,1,4,3,3,3,2,4,3,3,4,3,3,4,2,0]
["O(50)",2,3,2,1,2,3,1,2,2,3,3,1,3,3,1,2,0]
["Lépcsők (átlag)","X (A1)","X (A2)","X (A3)","X (A4)","X (A5)","X (A6)","X (A7)","X (A8)","X (A9)","X (A10)","X (A11)","X (A12)","X (A13)","X (A14)","X (A15)","X (A16)"]
["feladatkód N°= aacsap4"]
["S1","(0+380)/2=190","(0+0)/2=0","(0+0)/2=0","(0+0)/2=0","(0+0)/2=0","(0+0)/2=0","(0+0)/2=0","(0+0)/2=0","(0+0)/2=0","(0+0)/2=0","(0+0)/2=0","(0+0)/2=0","(0+0)/2=0","(0+0)/2=0","(0+0)/2=0","(0+0)/2=0"]
["S2","(0+0)/2=0","(0+0)/2=0","(0+0)/2=0","(0+0)/2=0","(0+0)/2=0","(0+0)/2=0","(0+130)/2=65","(0+0)/2=0","(0+0)/2=0","(0+0)/2=0","(0+0)/2=0","(0+0)/2=0","(0+0)/2=0","(0+560)/2=280","(0+0)/2=0","(0+0)/2=0"]
["S3","(0+430)/2=215","(0+0)/2=0","(0+530)/2=265","(0+0)/2=0","(0+0)/2=0","(0+0)/2=0","(0+0)/2=0","(0+0)/2=0","(0+0)/2=0","(0+0)/2=0","(0+0)/2=0","(0+0)/2=0","(0+0)/2=0","(0+0)/2=0","(0+0)/2=0","(0+0)/2=0"]
["S4","(0+0)/2=0","(0+0)/2=0","(0+0)/2=0","(0+40)/2=20","(0+0)/2=0","(0+290)/2=145","(0+0)/2=0","(0+0)/2=0","(0+0)/2=0","(0+0)/2=0","(0+80)/2=40","(0+0)/2=0","(0+0)/2=0","(0+0)/2=0","(0+0)/2=0","(0+0)/2=0"]
["Lépcsők (átlag)","X (A1)","X (A2)","X (A3)","X (A4)","X (A5)","X (A6)","X (A7)","X (A8)","X (A9)","X (A10)","X (A11)","X (A12)","X (A13)","X (A14)","X (A15)","X (A16)"]
["feladatkód N°= aacsap4"]
["S1",190,0,0,0,0,0,0,0,0,0,0,0,0,0,0,0]
["S2",0,0,0,0,0,0,65,0,0,0,0,0,0,280,0,0]
["S3",215,0,265,0,0,0,0,0,0,0,0,0,0,0,0,0]
["S4",0,0,0,20,0,145,0,0,0,0,40,0,0,0,0,0]
["COCO-matrix N°: aacsap4","X (A1)","X (A2)","X (A3)","X (A4)","X (A5)","X (A6)","X (A7)","X (A8)","X (A9)","X (A10)","X (A11)","X (A12)","X (A13)","X (A14)","X (A15)","X (A16)","Y(*) (A17)","Y","delta","%",null,null,null,3.34]
[null,null,null,null,null,null,null,null,null,null,null,null,null,null,null,null,null,null,null,null,null,null,"visszakorrigált","visszakorrigált","prognózis","találat"]
[null,null,null,null,null,null,null,null,null,null,null,null,null,null,null,null,null,null,null,"=Y-Y(*)",{"$f":"delta/Y","v":{"$error":"#NAME?"}},null,"prognózis","bináris tény","irány",{"$f":"SUM(Z208:Z257)/50","v":0.76},"a tanulási minta beválása"]
["O(1)",0,0,0,20,0,0,0,0,0,0,40,0,0,0,0,0,60,120,60,50,null,{"$f":"R208/100","v":0.6},{"$f":"IF(S208/100>0,1,0)","v":1},{"$f":"IF(W208>$Y$205,1,0)","v":0},{"$f":"IF(X208=Y208,1,0)","v":0},null,{"$f":"S208/100","v":1.2}]
["O(2)",0,0,0,20,0,0,0,0,0,0,40,0,0,0,0,0,60,0,-60,0,null,{"$f":"R209/100","v":0.6},{"$f":"IF(S209/100>0,1,0)","v":0},0,{"$f":"IF(X209=Y209,1,0)","v":1},null,{"$f":"S209/100","v":0}]
["O(3)",0,0,265,20,0,145,0,0,0,0,40,0,0,0,0,0,470,0,-470,0,null,4.7,0,1,0,null,0]
["O(4)",215,0,265,0,0,145,0,0,0,0,0,0,0,0,0,0,625,0,-625,0,null,6.25,0,1,0,null,0]
["O(5)",215,0,0,0,0,0,65,0,0,0,0,0,0,0,0,0,280,420,140,33.33,null,2.8,1,0,0,null,4.2]
["O(6)",215,0,265,0,0,145,65,0,0,0,0,0,0,0,0,0,690,0,-690,0,null,6.9,0,1,0,null,0]
["O(7)",190,0,0,0,0,145,0,0,0,0,0,0,0,0,0,0,335,540,205,37.96,null,3.35,1,1,1,null,5.4]
["O(8)",190,0,0,0,0,145,0,0,0,0,0,0,0,0,0,0,335,210,-125,-59.52,null,3.35,1,1,1,null,2.1]
["O(9)",190,0,265,0,0,145,0,0,0,0,0,0,0,280,0,0,880,110,-770,-700,null,8.8000000000000007,1,1,1,null,1.1000000000000001]
["O(10)",190,0,265,0,0,0,0,0,0,0,0,0,0,0,0,0,455,120,-335,-279.17,null,4.55,1,1,1,null,1.2]
["O(11)",0,0,0,0,0,0,65,0,0,0,0,0,0,280,0,0,345,10,-335,-3350,null,3.45,1,1,1,null,0.1]
["O(12)",215,0,0,0,0,0,0,0,0,0,0,0,0,280,0,0,495,990,495,50,null,4.95,1,1,1,null,9.9]
["O(13)",215,0,0,0,0,145,0,0,0,0,40,0,0,0,0,0,400,780,380,48.72,null,4,1,1,1,null,7.8]
["O(14)",215,0,0,0,0,0,0,0,0,0,40,0,0,0,0,0,255,0,-255,0,null,2.5499999999999998,0,0,1,null,0]
["O(15)",0,0,0,20,0,0,0,0,0,0,0,0,0,0,0,0,20,0,-20,0,null,0.2,0,0,1,null,0]
["O(16)",215,0,0,0,0,145,0,0,0,0,40,0,0,0,0,0,400,440,40,9.09,null,4,1,1,1,null,4.4000000000000004]
["O(17)",190,0,0,0,0,0,0,0,0,0,0,0,0,0,0,0,190,10,-180,-1800,null,1.9,1,0,0,null,0.1]
["O(18)",190,0,0,0,0,0,0,0,0,0,0,0,0,0,0,0,190,380,190,50,null,1.9,1,0,0,null,3.8]
["O(19)",0,0,265,0,0,0,0,0,0,0,0,0,0,280,0,0,545,0,-545,0,null,5.45,0,1,0,null,0]
["O(20)",215,0,0,0,0,145,0,0,0,0,0,0,0,0,0,0,360,70,-290,-414.29,null,3.6,1,1,1,null,0.7]
["O(21)",215,0,0,20,0,145,0,0,0,0,40,0,0,0,0,0,420,230,-190,-82.61,null,4.2,1,1,1,null,2.2999999999999998]
["O(22)",215,0,0,0,0,145,0,0,0,0,40,0,0,0,0,0,400,800,400,50,null,4,1,1,1,null,8]
["O(23)",190,0,0,0,0,0,65,0,0,0,0,0,0,0,0,0,255,510,255,50,null,2.5499999999999998,1,0,0,null,5.0999999999999996]
["O(24)",215,0,0,0,0,0,65,0,0,0,0,0,0,0,0,0,280,0,-280,0,null,2.8,0,0,1,null,0]
["O(25)",0,0,0,20,0,0,0,0,0,0,0,0,0,0,0,0,20,40,20,50,null,0.2,1,0,0,null,0.4]
["O(26)",0,0,0,0,0,0,65,0,0,0,0,0,0,0,0,0,65,0,-65,0,null,0.65,0,0,1,null,0]
["O(27)",215,0,0,0,0,0,65,0,0,0,0,0,0,0,0,0,280,0,-280,0,null,2.8,0,0,1,null,0]
["O(28)",0,0,0,0,0,0,0,0,0,0,0,0,0,0,0,0,0,0,0,0,null,0,0,0,1,null,0]
["O(29)",215,0,265,0,0,0,0,0,0,0,40,0,0,0,0,0,520,390,-130,-33.33,null,5.2,1,1,1,null,3.9]
["O(30)",0,0,0,0,0,0,0,0,0,0,0,0,0,0,0,0,0,0,0,0,null,0,0,0,1,null,0]
["O(31)",0,0,0,0,0,0,0,0,0,0,0,0,0,0,0,0,0,0,0,0,null,0,0,0,1,null,0]
["O(32)",0,0,0,20,0,0,0,0,0,0,0,0,0,0,0,0,20,0,-20,0,null,0.2,0,0,1,null,0]
["O(33)",0,0,0,20,0,0,0,0,0,0,0,0,0,0,0,0,20,0,-20,0,null,0.2,0,0,1,null,0]
["O(34)",0,0,0,20,0,0,0,0,0,0,0,0,0,0,0,0,20,0,-20,0,null,0.2,0,0,1,null,0]
["O(35)",0,0,265,20,0,0,0,0,0,0,40,0,0,0,0,0,325,0,-325,0,null,3.25,0,0,1,null,0]
["O(36)",0,0,0,20,0,145,65,0,0,0,40,0,0,0,0,0,270,0,-270,0,null,2.7,0,0,1,null,0]
["O(37)",215,0,265,20,0,145,65,0,0,0,40,0,0,0,0,0,750,1500,750,50,null,7.5,1,1,1,null,15]
["O(38)",0,0,265,0,0,0,65,0,0,0,40,0,0,0,0,0,370,30,-340,-1133.33,null,3.7,1,1,1,null,0.3]
["O(39)",0,0,0,0,0,0,0,0,0,0,0,0,0,0,0,0,0,0,0,0,null,0,0,0,1,null,0]
["O(40)",215,0,0,0,0,0,0,0,0,0,40,0,0,0,0,0,255,20,-235,-1175,null,2.5499999999999998,1,0,0,null,0.2]
["O(41)",0,0,0,0,0,0,65,0,0,0,0,0,0,0,0,0,65,0,-65,0,null,0.65,0,0,1,null,0]
["O(42)",215,0,0,0,0,0,0,0,0,0,0,0,0,0,0,0,215,0,-215,0,null,2.15,0,0,1,null,0]
["O(43)",0,0,0,0,0,0,65,0,0,0,0,0,0,0,0,0,65,0,-65,0,null,0.65,0,0,1,null,0]
["O(44)",190,0,265,0,0,0,65,0,0,0,0,0,0,0,0,0,520,460,-60,-13.04,null,5.2,1,1,1,null,4.5999999999999996]
["O(45)",190,0,0,0,0,145,0,0,0,0,0,0,0,280,0,0,615,1230,615,50,null,6.15,1,1,1,null,12.3]
["O(46)",190,0,0,0,0,0,0,0,0,0,0,0,0,0,0,0,190,0,-190,0,null,1.9,0,0,1,null,0]
["O(47)",0,0,0,0,0,0,65,0,0,0,0,0,0,0,0,0,65,0,-65,0,null,0.65,0,0,1,null,0]
["O(48)",215,0,0,0,0,0,0,0,0,0,0,0,0,280,0,0,495,0,-495,0,null,4.95,0,1,0,null,0]
["O(49)",0,0,0,20,0,0,0,0,0,0,0,0,0,0,0,0,20,0,-20,0,null,0.2,0,0,1,null,0]
["O(50)",0,0,0,0,0,0,0,0,0,0,0,0,0,0,0,0,0,0,0,0,null,0,0,0,1,null,0]
[null,{"$f":"IF(C119=1,B$201,IF(C119=2,B$202,IF(C119=3,B$203,B$204)))","v":190},{"$f":"IF(D119=1,C$201,IF(D119=2,C$202,IF(D119=3,C$203,C$204)))","v":0},0,0,0,0,0,0,0,0,0,0,0,0,0,0,{"$f":"SUM(B258:Q258)","v":190},{"$f":"S119","v":0},null,null,null,1.9,0,0,{"$f":"IF(X258=Y258,1,0)","v":1},null,0]
[null,{"$f":"IF(C120=1,B$201,IF(C120=2,B$202,IF(C120=3,B$203,B$204)))","v":190},0,0,0,0,145,0,0,0,0,0,0,0,0,0,0,{"$f":"SUM(B259:Q259)","v":335},{"$f":"S120","v":220.00000000000003},null,null,null,3.35,1,1,{"$f":"IF(X259=Y259,1,0)","v":1},null,2.2000000000000002]
[null,190,0,0,0,0,0,0,0,0,0,0,0,0,280,0,0,470,1320,null,null,null,4.7,1,1,1,null,13.2]
[null,190,0,0,0,0,145,65,0,0,0,0,0,0,0,0,0,400,120,null,null,null,4,1,1,1,null,1.2]
[null,215,0,0,0,0,0,65,0,0,0,0,0,0,280,0,0,560,0,null,null,null,5.6,0,1,0,null,0]
[null,0,0,0,0,0,0,0,0,0,0,0,0,0,0,0,0,0,0,null,null,null,0,0,0,1,null,0]
[null,0,0,0,0,0,0,0,0,0,0,0,0,0,0,0,0,0,0,null,null,null,0,0,0,1,null,0]
[null,0,0,0,0,0,0,65,0,0,0,0,0,0,280,0,0,345,0,null,null,null,3.45,0,1,0,null,0]
[null,0,0,0,0,0,0,65,0,0,0,0,0,0,0,0,0,65,0,null,null,null,0.65,0,0,1,null,0]
[null,0,0,265,0,0,0,65,0,0,0,0,0,0,0,0,0,330,0,null,null,null,3.3,0,0,1,null,0]
[null,null,null,null,null,null,null,null,null,null,null,null,null,null,null,null,null,null,null,null,null,null,"visszakorrigált",null,"prognózis",{"$f":"SUM(Z258:Z267)/10","v":0.8},"saját prognózis"]
[null,null,null,null,null,null,null,null,null,null,null,null,null,null,null,null,null,null,null,null,null,null,"prognózis","tény","irány",{"$f":"SUM(Z208:Z267)/60","v":0.76666666666666672},"saját tanulás+teszt"]
[null,null,null,null,null,null,null,null,null,null,null,null,null,null,"Már a kvartiliseket is az esőesélyszázalékok alapján képeztem, 4 lépcső van."]
[null,null,null,null,null,null,null,null,null,null,null,null,null,null,"Mindebben az a szép, hogy az 5.1mm feletti csapadékmennyiséget mind a 60 napnál eltalálta, az 5.1-et és a 4.2mm-eset is csak egy-egy esetben vétette el, a tesztnél pedig, mint a 3 esős napot eltalálta!"]

{"sheet":"maxar1","index":3,"n_rows":270,"n_cols":27,"rows_kept":270,"cut":false,"hidden":false,"merged":[[204,17,206,17],[204,18,206,18],[204,11,206,11],[204,12,206,12],[204,13,206,13],[204,14,206,14],[204,15,206,15],[204,16,206,16],[204,5,206,5],[204,6,206,6],[204,7,206,7],[204,8,206,8],[204,9,206,9],[204,10,206,10],[198,12,199,12],[198,13,199,13],[198,14,199,14],[198,15,199,15],[198,16,199,16],[204,0,206,0],[204,1,206,1],[204,2,206,2],[204,3,206,3],[204,4,206,4],[198,6,199,6],[198,7,199,7],[198,8,199,8],[198,9,199,9],[198,10,199,10],[198,11,199,11],[198,1,199,1],[198,2,199,2],[198,3,199,3],[198,4,199,4],[192,12,193,12],[192,13,193,13],[192,14,193,14],[192,15,193,15],[192,16,193,16],[198,5,199,5],[192,6,193,6],[192,7,193,7],[192,8,193,8],[192,9,193,9],[140,1,141,1],[140,2,141,2],[140,3,141,3],[192,10,193,10],[192,11,193,11],[192,1,193,1],[192,2,193,2],[192,3,193,3],[192,4,193,4],[192,5,193,5],[140,4,141,4],[140,5,141,5],[140,6,141,6],[140,16,141,16],[140,17,141,17],[140,7,141,7],[140,8,141,8],[140,9,141,9],[140,10,141,10],[140,11,141,11],[140,12,141,12],[140,13,141,13],[140,14,141,14],[140,15,141,15]]}
["adatgyűjtés","progn.","weatheronline","weatheronline","weatheronline","kurier","kurier","kurier","wetter.rtl","wetter.rtl","raiffeisen","raiffeisen","stern","stern","stern","wetter.exite","wetter.exite","wetter.exite","progn.","delta tények","tények"]
["kelte","kelte","T-max","T-min","Rain-risk","max","min","niederschlag","max","min","max","min","min","max","niederschlag","min","max","niederschlag","kelte","maxhő","kelt"]
["2009-06-29","2009-06-28",{"$f":"data!C10","v":29},{"$f":"data!D10","v":18},{"$f":"data!E10","v":0.35},{"$f":"data!F10","v":31},{"$f":"data!G10","v":16},{"$f":"data!H10","v":0.05},{"$f":"data!I10","v":29},{"$f":"data!J10","v":16},{"$f":"data!K10","v":29},{"$f":"data!L10","v":15},{"$f":"data!M10","v":16},{"$f":"data!N10","v":31},{"$f":"data!O10","v":0.05},{"$f":"data!P10","v":17},{"$f":"data!Q10","v":27},{"$f":"data!R10","v":0.1},"2009-06-28",{"$f":"data!T10-data!Y10","v":6.6000000000000014},{"$f":"[1]data!Y10","v":"2009-07-02"}]
["2009-06-30","2009-06-29",{"$f":"data!C11","v":30},{"$f":"data!D11","v":19},{"$f":"data!E11","v":0.3},{"$f":"data!F11","v":31},{"$f":"data!G11","v":15},{"$f":"data!H11","v":0.05},{"$f":"data!I11","v":28},{"$f":"data!J11","v":16},{"$f":"data!K11","v":29},{"$f":"data!L11","v":13},{"$f":"data!M11","v":16},{"$f":"data!N11","v":31},{"$f":"data!O11","v":0.05},{"$f":"data!P11","v":17},{"$f":"data!Q11","v":27},{"$f":"data!R11","v":0.1},"2009-06-29",{"$f":"data!T11-data!Y11","v":1.6000000000000014},{"$f":"[1]data!Y11","v":"2009-07-03"}]
["2009-07-01","2009-06-30",{"$f":"data!C12","v":30},{"$f":"data!D12","v":19},{"$f":"data!E12","v":0.45},{"$f":"data!F12","v":31},{"$f":"data!G12","v":18},{"$f":"data!H12","v":0.5},{"$f":"data!I12","v":26},{"$f":"data!J12","v":17},{"$f":"data!K12","v":24},{"$f":"data!L12","v":15},{"$f":"data!M12","v":18},{"$f":"data!N12","v":31},{"$f":"data!O12","v":0.5},{"$f":"data!P12","v":17},{"$f":"data!Q12","v":27},{"$f":"data!R12","v":0.1},"2009-06-30",{"$f":"data!T12-data!Y12","v":-0.29999999999999716},{"$f":"[1]data!Y12","v":"2009-07-04"}]
["2009-07-02","2009-07-01",{"$f":"data!C13","v":25},{"$f":"data!D13","v":15},{"$f":"data!E13","v":0.55000000000000004},{"$f":"data!F13","v":27},{"$f":"data!G13","v":14},{"$f":"data!H13","v":0.5},{"$f":"data!I13","v":24},{"$f":"data!J13","v":14},{"$f":"data!K13","v":22},{"$f":"data!L13","v":10},{"$f":"data!M13","v":14},{"$f":"data!N13","v":27},{"$f":"data!O13","v":0.5},{"$f":"data!P13","v":16},{"$f":"data!Q13","v":23},{"$f":"data!R13","v":0.8},"2009-07-01",{"$f":"data!T13-data!Y13","v":-1.5},{"$f":"[1]data!Y13","v":"2009-07-05"}]
["2009-07-03","2009-07-02",{"$f":"data!C14","v":24},{"$f":"data!D14","v":15},{"$f":"data!E14","v":0.6},{"$f":"data!F14","v":26},{"$f":"data!G14","v":16},{"$f":"data!H14","v":0.05},{"$f":"data!I14","v":22},{"$f":"data!J14","v":14},{"$f":"data!K14","v":22},{"$f":"data!L14","v":13},{"$f":"data!M14","v":12},{"$f":"data!N14","v":26},{"$f":"data!O14","v":0.05},{"$f":"data!P14","v":15},{"$f":"data!Q14","v":23},{"$f":"data!R14","v":0.8},"2009-07-02",{"$f":"data!T14-data!Y14","v":-5.1999999999999993},{"$f":"[1]data!Y14","v":"2009-07-06"}]
["2009-07-04","2009-07-03",{"$f":"data!C15","v":24},{"$f":"data!D15","v":16},{"$f":"data!E15","v":0.45},{"$f":"data!F15","v":22},{"$f":"data!G15","v":12},{"$f":"data!H15","v":0.5},{"$f":"data!I15","v":21},{"$f":"data!J15","v":13},{"$f":"data!K15","v":22},{"$f":"data!L15","v":12},{"$f":"data!M15","v":12},{"$f":"data!N15","v":22},{"$f":"data!O15","v":0.5},{"$f":"data!P15","v":12},{"$f":"data!Q15","v":19},{"$f":"data!R15","v":0.7},"2009-07-03",{"$f":"data!T15-data!Y15","v":-7.4000000000000021},{"$f":"[1]data!Y15","v":"2009-07-07"}]
["2009-07-05","2009-07-04",{"$f":"data!C16","v":19},{"$f":"data!D16","v":14},{"$f":"data!E16","v":0.85},{"$f":"data!F16","v":21},{"$f":"data!G16","v":10},{"$f":"data!H16","v":0.5},{"$f":"data!I16","v":20},{"$f":"data!J16","v":13},{"$f":"data!K16","v":19},{"$f":"data!L16","v":10},{"$f":"data!M16","v":14},{"$f":"data!N16","v":21},{"$f":"data!O16","v":0.5},{"$f":"data!P16","v":12},{"$f":"data!Q16","v":16},{"$f":"data!R16","v":0.8},"2009-07-04",{"$f":"data!T16-data!Y16","v":-8.8000000000000007},{"$f":"[1]data!Y16","v":"2009-07-08"}]
["2009-07-06","2009-07-05",{"$f":"data!C17","v":18},{"$f":"data!D17","v":13},{"$f":"data!E17","v":0.6},{"$f":"data!F17","v":16},{"$f":"data!G17","v":11},{"$f":"data!H17","v":0.3},{"$f":"data!I17","v":19},{"$f":"data!J17","v":11},{"$f":"data!K17","v":20},{"$f":"data!L17","v":9},{"$f":"data!M17","v":14},{"$f":"data!N17","v":16},{"$f":"data!O17","v":0.3},{"$f":"data!P17","v":12},{"$f":"data!Q17","v":16},{"$f":"data!R17","v":0.8},"2009-07-05",{"$f":"data!T17-data!Y17","v":-7.3000000000000007},{"$f":"[1]data!Y17","v":"2009-07-09"}]
["2009-07-07","2009-07-06",{"$f":"data!C18","v":17},{"$f":"data!D18","v":9},{"$f":"data!E18","v":0.55000000000000004},{"$f":"data!F18","v":19},{"$f":"data!G18","v":12},{"$f":"data!H18","v":0.5},{"$f":"data!I18","v":17},{"$f":"data!J18","v":9},{"$f":"data!K18","v":13},{"$f":"data!L18","v":6},{"$f":"data!M18","v":8},{"$f":"data!N18","v":19},{"$f":"data!O18","v":0.5},{"$f":"data!P18","v":11},{"$f":"data!Q18","v":15},{"$f":"data!R18","v":0.8},"2009-07-06",{"$f":"data!T18-data!Y18","v":-8.7000000000000011},{"$f":"[1]data!Y18","v":"2009-07-10"}]
["2009-07-08","2009-07-07",{"$f":"data!C19","v":19},{"$f":"data!D19","v":11},{"$f":"data!E19","v":0.45},{"$f":"data!F19","v":19},{"$f":"data!G19","v":7},{"$f":"data!H19","v":0.15},{"$f":"data!I19","v":19},{"$f":"data!J19","v":11},{"$f":"data!K19","v":18},{"$f":"data!L19","v":10},{"$f":"data!M19","v":12},{"$f":"data!N19","v":19},{"$f":"data!O19","v":0.15},{"$f":"data!P19","v":10},{"$f":"data!Q19","v":16},{"$f":"data!R19","v":0.8},"2009-07-07",{"$f":"data!T19-data!Y19","v":-1.7999999999999972},{"$f":"[1]data!Y19","v":"2009-07-11"}]
["2009-07-09","2009-07-08",{"$f":"data!C20","v":21},{"$f":"data!D20","v":11},{"$f":"data!E20","v":0.8},{"$f":"data!F20","v":25},{"$f":"data!G20","v":17},{"$f":"data!H20","v":0.1},{"$f":"data!I20","v":21},{"$f":"data!J20","v":10},{"$f":"data!K20","v":19},{"$f":"data!L20","v":9},{"$f":"data!M20","v":11},{"$f":"data!N20","v":25},{"$f":"data!O20","v":0.1},{"$f":"data!P20","v":11},{"$f":"data!Q20","v":19},{"$f":"data!R20","v":0.3},"2009-07-08",{"$f":"data!T20-data!Y20","v":3.3999999999999986},{"$f":"[1]data!Y20","v":"2009-07-12"}]
["2009-07-10","2009-07-09",{"$f":"data!C21","v":25},{"$f":"data!D21","v":13},{"$f":"data!E21","v":0.1},{"$f":"data!F21","v":25},{"$f":"data!G21","v":14},{"$f":"data!H21","v":0.05},{"$f":"data!I21","v":24},{"$f":"data!J21","v":13},{"$f":"data!K21","v":22},{"$f":"data!L21","v":8},{"$f":"data!M21","v":10},{"$f":"data!N21","v":25},{"$f":"data!O21","v":0.05},{"$f":"data!P21","v":11},{"$f":"data!Q21","v":20},{"$f":"data!R21","v":0.3},"2009-07-09",{"$f":"data!T21-data!Y21","v":6},{"$f":"[1]data!Y21","v":"2009-07-13"}]
["2009-07-11","2009-07-10",{"$f":"data!C22","v":24},{"$f":"data!D22","v":15},{"$f":"data!E22","v":0.8},{"$f":"data!F22","v":24},{"$f":"data!G22","v":16},{"$f":"data!H22","v":0.8},{"$f":"data!I22","v":25},{"$f":"data!J22","v":15},{"$f":"data!K22","v":24},{"$f":"data!L22","v":13},{"$f":"data!M22","v":16},{"$f":"data!N22","v":24},{"$f":"data!O22","v":0.8},{"$f":"data!P22","v":14},{"$f":"data!Q22","v":24},{"$f":"data!R22","v":0.5},"2009-07-10",{"$f":"data!T22-data!Y22","v":9.2999999999999989},{"$f":"[1]data!Y22","v":"2009-07-14"}]
["2009-07-12","2009-07-11",{"$f":"data!C23","v":24},{"$f":"data!D23","v":15},{"$f":"data!E23","v":0.9},{"$f":"data!F23","v":27},{"$f":"data!G23","v":15},{"$f":"data!H23","v":0.05},{"$f":"data!I23","v":26},{"$f":"data!J23","v":15},{"$f":"data!K23","v":24},{"$f":"data!L23","v":13},{"$f":"data!M23","v":16},{"$f":"data!N23","v":24},{"$f":"data!O23","v":0.8},{"$f":"data!P23","v":16},{"$f":"data!Q23","v":24},{"$f":"data!R23","v":0.6},"2009-07-11",{"$f":"data!T23-data!Y23","v":6.5999999999999979},{"$f":"[1]data!Y23","v":"2009-07-15"}]
["2009-07-13","2009-07-12",{"$f":"data!C24","v":28},{"$f":"data!D24","v":13},{"$f":"data!E24","v":0.1},{"$f":"data!F24","v":28},{"$f":"data!G24","v":14},{"$f":"data!H24","v":0.05},{"$f":"data!I24","v":27},{"$f":"data!J24","v":13},{"$f":"data!K24","v":26},{"$f":"data!L24","v":9},{"$f":"data!M24","v":11},{"$f":"data!N24","v":28},{"$f":"data!O24","v":0.05},{"$f":"data!P24","v":18},{"$f":"data!Q24","v":24},{"$f":"data!R24","v":0.6},"2009-07-12",{"$f":"data!T24-data!Y24","v":6.3000000000000007},{"$f":"[1]data!Y24","v":"2009-07-16"}]
["2009-07-14","2009-07-13",{"$f":"data!C25","v":24},{"$f":"data!D25","v":15},{"$f":"data!E25","v":0.95},{"$f":"data!F25","v":26},{"$f":"data!G25","v":12},{"$f":"data!H25","v":0.3},{"$f":"data!I25","v":26},{"$f":"data!J25","v":13},{"$f":"data!K25","v":22},{"$f":"data!L25","v":15},{"$f":"data!M25","v":15},{"$f":"data!N25","v":32},{"$f":"data!O25","v":0.05},{"$f":"data!P25","v":12},{"$f":"data!Q25","v":25},{"$f":"data!R25","v":0.2},"2009-07-13",{"$f":"data!T25-data!Y25","v":-3.3000000000000007},{"$f":"[1]data!Y25","v":"2009-07-17"}]
["2009-07-15","2009-07-14",{"$f":"data!C26","v":17},{"$f":"data!D26","v":13},{"$f":"data!E26","v":0.75},{"$f":"data!F26","v":15},{"$f":"data!G26","v":10},{"$f":"data!H26","v":0.15},{"$f":"data!I26","v":18},{"$f":"data!J26","v":13},{"$f":"data!K26","v":13},{"$f":"data!L26","v":10},{"$f":"data!M26","v":13},{"$f":"data!N26","v":15},{"$f":"data!O26","v":0.15},{"$f":"data!P26","v":17},{"$f":"data!Q26","v":24},{"$f":"data!R26","v":0.7},"2009-07-14",{"$f":"data!T26-data!Y26","v":-6.0999999999999979},{"$f":"[1]data!Y26","v":"2009-07-18"}]
["2009-07-16","2009-07-15",{"$f":"data!C27","v":19},{"$f":"data!D27","v":13},{"$f":"data!E27","v":0.75},{"$f":"data!F27","v":21},{"$f":"data!G27","v":13},{"$f":"data!H27","v":0.05},{"$f":"data!I27","v":19},{"$f":"data!J27","v":11},{"$f":"data!K27","v":17},{"$f":"data!L27","v":9},{"$f":"data!M27","v":10},{"$f":"data!N27","v":21},{"$f":"data!O27","v":0.05},{"$f":"data!P27","v":14},{"$f":"data!Q27","v":16},{"$f":"data!R27","v":0.8},"2009-07-15",{"$f":"data!T27-data!Y27","v":-4.8999999999999986},{"$f":"[1]data!Y27","v":"2009-07-19"}]
["2009-07-17","2009-07-16",{"$f":"data!C28","v":21},{"$f":"data!D28","v":13},{"$f":"data!E28","v":0.55000000000000004},{"$f":"data!F28","v":22},{"$f":"data!G28","v":11},{"$f":"data!H28","v":0.05},{"$f":"data!I28","v":20},{"$f":"data!J28","v":12},{"$f":"data!K28","v":18},{"$f":"data!L28","v":10},{"$f":"data!M28","v":11},{"$f":"data!N28","v":22},{"$f":"data!O28","v":0.05},{"$f":"data!P28","v":11},{"$f":"data!Q28","v":20},{"$f":"data!R28","v":0.8},"2009-07-16",{"$f":"data!T28-data!Y28","v":-5.6999999999999993},{"$f":"[1]data!Y28","v":"2009-07-20"}]
["2009-07-18","2009-07-17",{"$f":"data!C29","v":24},{"$f":"data!D29","v":12},{"$f":"data!E29","v":0.35},{"$f":"data!F29","v":27},{"$f":"data!G29","v":19},{"$f":"data!H29","v":0.5},{"$f":"data!I29","v":26},{"$f":"data!J29","v":11},{"$f":"data!K29","v":23},{"$f":"data!L29","v":8},{"$f":"data!M29","v":11},{"$f":"data!N29","v":27},{"$f":"data!O29","v":0.5},{"$f":"data!P29","v":12},{"$f":"data!Q29","v":21},{"$f":"data!R29","v":0.2},"2009-07-17",{"$f":"data!T29-data!Y29","v":4.8000000000000007},{"$f":"[1]data!Y29","v":"2009-07-21"}]
["2009-07-19","2009-07-18",{"$f":"data!C30","v":25},{"$f":"data!D30","v":17},{"$f":"data!E30","v":0.7},{"$f":"data!F30","v":28},{"$f":"data!G30","v":14},{"$f":"data!H30","v":0.5},{"$f":"data!I30","v":26},{"$f":"data!J30","v":16},{"$f":"data!K30","v":23},{"$f":"data!L30","v":15},{"$f":"data!M30","v":17},{"$f":"data!N30","v":28},{"$f":"data!O30","v":0.5},{"$f":"data!P30","v":14},{"$f":"data!Q30","v":22},{"$f":"data!R30","v":0.6},"2009-07-18",{"$f":"data!T30-data!Y30","v":8.8000000000000007},{"$f":"[1]data!Y30","v":"2009-07-22"}]
["2009-07-20","2009-07-19",{"$f":"data!C31","v":24},{"$f":"data!D31","v":18},{"$f":"data!E31","v":0.85},{"$f":"data!F31","v":24},{"$f":"data!G31","v":14},{"$f":"data!H31","v":0.3},{"$f":"data!I31","v":27},{"$f":"data!J31","v":16},{"$f":"data!K31","v":22},{"$f":"data!L31","v":14},{"$f":"data!M31","v":15},{"$f":"data!N31","v":24},{"$f":"data!O31","v":0.3},{"$f":"data!P31","v":18},{"$f":"data!Q31","v":25},{"$f":"data!R31","v":0.9},"2009-07-19",{"$f":"data!T31-data!Y31","v":3},{"$f":"[1]data!Y31","v":"2009-07-23"}]
["2009-07-22","2009-07-21",{"$f":"data!C32","v":20},{"$f":"data!D32","v":14},{"$f":"data!E32","v":0.6},{"$f":"data!F32","v":21},{"$f":"data!G32","v":7},{"$f":"data!H32","v":0.15},{"$f":"data!I32","v":21},{"$f":"data!J32","v":13},{"$f":"data!K32","v":18},{"$f":"data!L32","v":10},{"$f":"data!M32","v":12},{"$f":"data!N32","v":21},{"$f":"data!O32","v":0.15},{"$f":"data!P32","v":16},{"$f":"data!Q32","v":22},{"$f":"data!R32","v":0.4},"2009-07-21",{"$f":"data!T32-data!Y32","v":-8.1000000000000014},{"$f":"[1]data!Y32","v":"2009-07-25"}]
["2009-07-23","2009-07-22",{"$f":"data!C33","v":25},{"$f":"data!D33","v":12},{"$f":"data!E33","v":0.05},{"$f":"data!F33","v":24},{"$f":"data!G33","v":10},{"$f":"data!H33","v":0.05},{"$f":"data!I33","v":22},{"$f":"data!J33","v":10},{"$f":"data!K33","v":20},{"$f":"data!L33","v":7},{"$f":"data!M33","v":7},{"$f":"data!N33","v":24},{"$f":"data!O33","v":0.05},{"$f":"data!P33","v":12},{"$f":"data!Q33","v":20},{"$f":"data!R33","v":0.5},"2009-07-22",{"$f":"data!T33-data!Y33","v":-4.4000000000000021},{"$f":"[1]data!Y33","v":"2009-07-26"}]
["2009-07-24","2009-07-23",{"$f":"data!C34","v":28},{"$f":"data!D34","v":12},{"$f":"data!E34","v":0.35},{"$f":"data!F34","v":30},{"$f":"data!G34","v":11},{"$f":"data!H34","v":0.02},{"$f":"data!I34","v":25},{"$f":"data!J34","v":12},{"$f":"data!K34","v":26},{"$f":"data!L34","v":11},{"$f":"data!M34","v":11},{"$f":"data!N34","v":30},{"$f":"data!O34","v":0},{"$f":"data!P34","v":10},{"$f":"data!Q34","v":23},{"$f":"data!R34","v":0.1},"2009-07-23",{"$f":"data!T34-data!Y34","v":2.8999999999999986},{"$f":"[1]data!Y34","v":"2009-07-27"}]
["2009-07-25","2009-07-24",{"$f":"data!C35","v":27},{"$f":"data!D35","v":12},{"$f":"data!E35","v":0.25},{"$f":"data!F35","v":24},{"$f":"data!G35","v":11},{"$f":"data!H35","v":0.05},{"$f":"data!I35","v":23},{"$f":"data!J35","v":13},{"$f":"data!K35","v":19},{"$f":"data!L35","v":9},{"$f":"data!M35","v":11},{"$f":"data!N35","v":30},{"$f":"data!O35","v":0},{"$f":"data!P35","v":10},{"$f":"data!Q35","v":23},{"$f":"data!R35","v":0.1},"2009-07-24",{"$f":"data!T35-data!Y35","v":0.5},{"$f":"[1]data!Y35","v":"2009-07-28"}]
["2009-07-28","2009-07-27",{"$f":"data!C36","v":24},{"$f":"data!D36","v":10},{"$f":"data!E36","v":0.05},{"$f":"data!F36","v":25},{"$f":"data!G36","v":12},{"$f":"data!H36","v":0.05},{"$f":"data!I36","v":21},{"$f":"data!J36","v":10},{"$f":"data!K36","v":21},{"$f":"data!L36","v":6},{"$f":"data!M36","v":10},{"$f":"data!N36","v":25},{"$f":"data!O36","v":0.05},{"$f":"data!P36","v":18},{"$f":"data!Q36","v":21},{"$f":"data!R36","v":0.1},"2009-07-27",{"$f":"data!T36-data!Y36","v":-5.8000000000000007},{"$f":"[1]data!Y36","v":"2009-07-31"}]
["2009-07-29","2009-07-28",{"$f":"data!C37","v":26},{"$f":"data!D37","v":10},{"$f":"data!E37","v":0.2},{"$f":"data!F37","v":25},{"$f":"data!G37","v":13},{"$f":"data!H37","v":0.05},{"$f":"data!I37","v":27},{"$f":"data!J37","v":10},{"$f":"data!K37","v":25},{"$f":"data!L37","v":9},{"$f":"data!M37","v":8},{"$f":"data!N37","v":25},{"$f":"data!O37","v":0.05},{"$f":"data!P37","v":9},{"$f":"data!Q37","v":19},{"$f":"data!R37","v":0.2},"2009-07-28",{"$f":"data!T37-data!Y37","v":3.5999999999999979},{"$f":"[1]data!Y37","v":"2009-08-01"}]
["2009-07-30","2009-07-29",{"$f":"data!C38","v":25},{"$f":"data!D38","v":16},{"$f":"data!E38","v":0.55000000000000004},{"$f":"data!F38","v":25},{"$f":"data!G38","v":11},{"$f":"data!H38","v":0.1},{"$f":"data!I38","v":24},{"$f":"data!J38","v":14},{"$f":"data!K38","v":19},{"$f":"data!L38","v":13},{"$f":"data!M38","v":16},{"$f":"data!N38","v":25},{"$f":"data!O38","v":0.1},{"$f":"data!P38","v":12},{"$f":"data!Q38","v":23},{"$f":"data!R38","v":0.1},"2009-07-29",{"$f":"data!T38-data!Y38","v":-3.0999999999999979},{"$f":"[1]data!Y38","v":"2009-08-02"}]
["2009-07-31","2009-07-30",{"$f":"data!C39","v":21},{"$f":"data!D39","v":15},{"$f":"data!E39","v":0.6},{"$f":"data!F39","v":23},{"$f":"data!G39","v":7},{"$f":"data!H39","v":0.05},{"$f":"data!I39","v":24},{"$f":"data!J39","v":14},{"$f":"data!K39","v":19},{"$f":"data!L39","v":13},{"$f":"data!M39","v":13},{"$f":"data!N39","v":23},{"$f":"data!O39","v":0.05},{"$f":"data!P39","v":15},{"$f":"data!Q39","v":22},{"$f":"data!R39","v":0.7},"2009-07-30",{"$f":"data!T39-data!Y39","v":0.39999999999999858},{"$f":"[1]data!Y39","v":"2009-08-03"}]
["2009-08-01","2009-07-31",{"$f":"data!C40","v":26},{"$f":"data!D40","v":11},{"$f":"data!E40","v":0.05},{"$f":"data!F40","v":26},{"$f":"data!G40","v":11},{"$f":"data!H40","v":0.05},{"$f":"data!I40","v":27},{"$f":"data!J40","v":11},{"$f":"data!K40","v":24},{"$f":"data!L40","v":7},{"$f":"data!M40","v":8},{"$f":"data!N40","v":26},{"$f":"data!O40","v":0.05},{"$f":"data!P40","v":12},{"$f":"data!Q40","v":21},{"$f":"data!R40","v":0.7},"2009-07-31",{"$f":"data!T40-data!Y40","v":2.4000000000000021},{"$f":"[1]data!Y40","v":"2009-08-04"}]
["2009-08-02","2009-08-01",{"$f":"data!C41","v":28},{"$f":"data!D41","v":13},{"$f":"data!E41","v":0.05},{"$f":"data!F41","v":28},{"$f":"data!G41","v":14},{"$f":"data!H41","v":0.02},{"$f":"data!I41","v":27},{"$f":"data!J41","v":11},{"$f":"data!K41","v":27},{"$f":"data!L41","v":12},{"$f":"data!M41","v":10},{"$f":"data!N41","v":28},{"$f":"data!O41","v":0},{"$f":"data!P41","v":12},{"$f":"data!Q41","v":23},{"$f":"data!R41","v":0.1},"2009-08-01",{"$f":"data!T41-data!Y41","v":0},{"$f":"[1]data!Y41","v":"2009-08-05"}]
["2009-08-03","2009-08-02",{"$f":"data!C42","v":28},{"$f":"data!D42","v":13},{"$f":"data!E42","v":0.05},{"$f":"data!F42","v":31},{"$f":"data!G42","v":16},{"$f":"data!H42","v":0.05},{"$f":"data!I42","v":28},{"$f":"data!J42","v":12},{"$f":"data!K42","v":27},{"$f":"data!L42","v":13},{"$f":"data!M42","v":10},{"$f":"data!N42","v":28},{"$f":"data!O42","v":0},{"$f":"data!P42","v":12},{"$f":"data!Q42","v":23},{"$f":"data!R42","v":0.1},"2009-08-02",{"$f":"data!T42-data!Y42","v":5.3999999999999986},{"$f":"[1]data!Y42","v":"2009-08-06"}]
["2009-08-04","2009-08-03",{"$f":"data!C43","v":30},{"$f":"data!D43","v":15},{"$f":"data!E43","v":0.05},{"$f":"data!F43","v":30},{"$f":"data!G43","v":16},{"$f":"data!H43","v":0.02},{"$f":"data!I43","v":30},{"$f":"data!J43","v":14},{"$f":"data!K43","v":30},{"$f":"data!L43","v":14},{"$f":"data!M43","v":13},{"$f":"data!N43","v":30},{"$f":"data!O43","v":0},{"$f":"data!P43","v":13},{"$f":"data!Q43","v":26},{"$f":"data!R43","v":0.1},"2009-08-03",{"$f":"data!T43-data!Y43","v":6.1999999999999993},{"$f":"[1]data!Y43","v":"2009-08-07"}]
["2009-08-05","2009-08-04",{"$f":"data!C44","v":26},{"$f":"data!D44","v":16},{"$f":"data!E44","v":0.55000000000000004},{"$f":"data!F44","v":29},{"$f":"data!G44","v":18},{"$f":"data!H44","v":0.1},{"$f":"data!I44","v":26},{"$f":"data!J44","v":16},{"$f":"data!K44","v":22},{"$f":"data!L44","v":16},{"$f":"data!M44","v":17},{"$f":"data!N44","v":29},{"$f":"data!O44","v":0.1},{"$f":"data!P44","v":14},{"$f":"data!Q44","v":28},{"$f":"data!R44","v":0.1},"2009-08-04",{"$f":"data!T44-data!Y44","v":-0.60000000000000142},{"$f":"[1]data!Y44","v":"2009-08-08"}]
["2009-08-06","2009-08-05",{"$f":"data!C45","v":27},{"$f":"data!D45","v":17},{"$f":"data!E45","v":0.6},{"$f":"data!F45","v":29},{"$f":"data!G45","v":17},{"$f":"data!H45","v":0.5},{"$f":"data!I45","v":23},{"$f":"data!J45","v":15},{"$f":"data!K45","v":29},{"$f":"data!L45","v":15},{"$f":"data!M45","v":18},{"$f":"data!N45","v":29},{"$f":"data!O45","v":0.5},{"$f":"data!P45","v":16},{"$f":"data!Q45","v":24},{"$f":"data!R45","v":0.7},"2009-08-05",{"$f":"data!T45-data!Y45","v":-0.29999999999999716},{"$f":"[1]data!Y45","v":"2009-08-09"}]
["2009-08-07","2009-08-06",{"$f":"data!C46","v":25},{"$f":"data!D46","v":17},{"$f":"data!E46","v":0.55000000000000004},{"$f":"data!F46","v":28},{"$f":"data!G46","v":15},{"$f":"data!H46","v":0.5},{"$f":"data!I46","v":23},{"$f":"data!J46","v":15},{"$f":"data!K46","v":20},{"$f":"data!L46","v":13},{"$f":"data!M46","v":17},{"$f":"data!N46","v":28},{"$f":"data!O46","v":0.5},{"$f":"data!P46","v":15},{"$f":"data!Q46","v":24},{"$f":"data!R46","v":0.2},"2009-08-06",{"$f":"data!T46-data!Y46","v":-6.1999999999999993},{"$f":"[1]data!Y46","v":"2009-08-10"}]
["2009-08-08","2009-08-07",{"$f":"data!C47","v":22},{"$f":"data!D47","v":13},{"$f":"data!E47","v":0.45},{"$f":"data!F47","v":24},{"$f":"data!G47","v":11},{"$f":"data!H47","v":0.05},{"$f":"data!I47","v":22},{"$f":"data!J47","v":12},{"$f":"data!K47","v":18},{"$f":"data!L47","v":11},{"$f":"data!M47","v":17},{"$f":"data!N47","v":28},{"$f":"data!O47","v":0.5},{"$f":"data!P47","v":15},{"$f":"data!Q47","v":23},{"$f":"data!R47","v":0.6},"2009-08-07",{"$f":"data!T47-data!Y47","v":-5.5},{"$f":"[1]data!Y47","v":"2009-08-11"}]
["2009-08-24","2009-08-23",{"$f":"data!C48","v":26},{"$f":"data!D48","v":14},{"$f":"data!E48","v":0.2},{"$f":"data!F48","v":27},{"$f":"data!G48","v":14},{"$f":"data!H48","v":0.02},{"$f":"data!I48","v":26},{"$f":"data!J48","v":13},{"$f":"data!K48","v":22},{"$f":"data!L48","v":13},{"$f":"data!M48","v":12},{"$f":"data!N48","v":27},{"$f":"data!O48","v":0},{"$f":"data!P48","v":12},{"$f":"data!Q48","v":25},{"$f":"data!R48","v":0.1},"2009-08-23",{"$f":"data!T48-data!Y48","v":3.3000000000000007},{"$f":"[1]data!Y48","v":"2009-08-27"}]
["2009-08-25","2009-08-24",{"$f":"data!C49","v":24},{"$f":"data!D49","v":15},{"$f":"data!E49","v":0.35},{"$f":"data!F49","v":25},{"$f":"data!G49","v":11},{"$f":"data!H49","v":0.05},{"$f":"data!I49","v":26},{"$f":"data!J49","v":14},{"$f":"data!K49","v":19},{"$f":"data!L49","v":14},{"$f":"data!M49","v":15},{"$f":"data!N49","v":25},{"$f":"data!O49","v":0.05},{"$f":"data!P49","v":15},{"$f":"data!Q49","v":24},{"$f":"data!R49","v":0.6},"2009-08-24",{"$f":"data!T49-data!Y49","v":-4.1999999999999993},{"$f":"[1]data!Y49","v":"2009-08-28"}]
["2009-08-27","2009-08-26",{"$f":"data!C50","v":21},{"$f":"data!D50","v":8},{"$f":"data!E50","v":0.05},{"$f":"data!F50","v":21},{"$f":"data!G50","v":9},{"$f":"data!H50","v":0.05},{"$f":"data!I50","v":21},{"$f":"data!J50","v":7},{"$f":"data!K50","v":18},{"$f":"data!L50","v":6},{"$f":"data!M50","v":7},{"$f":"data!N50","v":21},{"$f":"data!O50","v":0.05},{"$f":"data!P50","v":9},{"$f":"data!Q50","v":19},{"$f":"data!R50","v":0.1},"2009-08-26",{"$f":"data!T50-data!Y50","v":-3.3000000000000007},{"$f":"[1]data!Y50","v":"2009-08-30"}]
["2009-08-28","2009-08-27",{"$f":"data!C51","v":24},{"$f":"data!D51","v":9},{"$f":"data!E51","v":0.05},{"$f":"data!F51","v":25},{"$f":"data!G51","v":10},{"$f":"data!H51","v":0.05},{"$f":"data!I51","v":26},{"$f":"data!J51","v":8},{"$f":"data!K51","v":23},{"$f":"data!L51","v":6},{"$f":"data!M51","v":6},{"$f":"data!N51","v":25},{"$f":"data!O51","v":0.05},{"$f":"data!P51","v":8},{"$f":"data!Q51","v":22},{"$f":"data!R51","v":0.1},"2009-08-27",{"$f":"data!T51-data!Y51","v":-2.1999999999999993},{"$f":"[1]data!Y51","v":"2009-08-31"}]
["2009-08-30","2009-08-29",{"$f":"data!C52","v":22},{"$f":"data!D52","v":14},{"$f":"data!E52","v":0.4},{"$f":"data!F52","v":23},{"$f":"data!G52","v":14},{"$f":"data!H52","v":0.05},{"$f":"data!I52","v":22},{"$f":"data!J52","v":15},{"$f":"data!K52","v":19},{"$f":"data!L52","v":12},{"$f":"data!M52","v":14},{"$f":"data!N52","v":23},{"$f":"data!O52","v":0.05},{"$f":"data!P52","v":17},{"$f":"data!Q52","v":21},{"$f":"data!R52","v":0.6},"2009-08-29",{"$f":"data!T52-data!Y52","v":2.4000000000000021},{"$f":"[1]data!Y52","v":"2009-09-02"}]
["2009-08-31","2009-08-30",{"$f":"data!C53","v":19},{"$f":"data!D53","v":12},{"$f":"data!E53","v":0.55000000000000004},{"$f":"data!F53","v":22},{"$f":"data!G53","v":13},{"$f":"data!H53","v":0.05},{"$f":"data!I53","v":22},{"$f":"data!J53","v":12},{"$f":"data!K53","v":18},{"$f":"data!L53","v":10},{"$f":"data!M53","v":14},{"$f":"data!N53","v":22},{"$f":"data!O53","v":0.05},{"$f":"data!P53","v":14},{"$f":"data!Q53","v":19},{"$f":"data!R53","v":0.6},"2009-08-30",{"$f":"data!T53-data!Y53","v":-1.5999999999999979},{"$f":"[1]data!Y53","v":"2009-09-03"}]
["2009-09-01","2009-08-31",{"$f":"data!C54","v":16},{"$f":"data!D54","v":13},{"$f":"data!E54","v":0.75},{"$f":"data!F54","v":17},{"$f":"data!G54","v":12},{"$f":"data!H54","v":0.5},{"$f":"data!I54","v":18},{"$f":"data!J54","v":13},{"$f":"data!K54","v":13},{"$f":"data!L54","v":11},{"$f":"data!M54","v":12},{"$f":"data!N54","v":17},{"$f":"data!O54","v":0.5},{"$f":"data!P54","v":11},{"$f":"data!Q54","v":14},{"$f":"data!R54","v":0.9},"2009-08-31",{"$f":"data!T54-data!Y54","v":-8.3000000000000007},{"$f":"[1]data!Y54","v":"2009-09-04"}]
["2009-09-03","2009-09-02",{"$f":"data!C55","v":19},{"$f":"data!D55","v":10},{"$f":"data!E55","v":0.2},{"$f":"data!F55","v":19},{"$f":"data!G55","v":8},{"$f":"data!H55","v":0.1},{"$f":"data!I55","v":19},{"$f":"data!J55","v":9},{"$f":"data!K55","v":16},{"$f":"data!L55","v":10},{"$f":"data!M55","v":10},{"$f":"data!N55","v":19},{"$f":"data!O55","v":0.1},{"$f":"data!P55","v":8},{"$f":"data!Q55","v":18},{"$f":"data!R55","v":0.2},"2009-09-02",{"$f":"data!T55-data!Y55","v":-3.6999999999999993},{"$f":"[1]data!Y55","v":"2009-09-06"}]
["2009-09-04","2009-09-03",{"$f":"data!C56","v":21},{"$f":"data!D56","v":8},{"$f":"data!E56","v":0.2},{"$f":"data!F56","v":23},{"$f":"data!G56","v":11},{"$f":"data!H56","v":0.05},{"$f":"data!I56","v":21},{"$f":"data!J56","v":8},{"$f":"data!K56","v":18},{"$f":"data!L56","v":8},{"$f":"data!M56","v":10},{"$f":"data!N56","v":23},{"$f":"data!O56","v":0.05},{"$f":"data!P56","v":9},{"$f":"data!Q56","v":20},{"$f":"data!R56","v":0.2},"2009-09-03",{"$f":"data!T56-data!Y56","v":2.8999999999999986},{"$f":"[1]data!Y56","v":"2009-09-07"}]
["2009-09-05","2009-09-04",{"$f":"data!C57","v":25},{"$f":"data!D57","v":11},{"$f":"data!E57","v":0.05},{"$f":"data!F57","v":26},{"$f":"data!G57","v":13},{"$f":"data!H57","v":0.05},{"$f":"data!I57","v":24},{"$f":"data!J57","v":9},{"$f":"data!K57","v":23},{"$f":"data!L57","v":8},{"$f":"data!M57","v":11},{"$f":"data!N57","v":26},{"$f":"data!O57","v":0.05},{"$f":"data!P57","v":11},{"$f":"data!Q57","v":24},{"$f":"data!R57","v":0.1},"2009-09-04",{"$f":"data!T57-data!Y57","v":8.5},{"$f":"[1]data!Y57","v":"2009-09-08"}]
["2009-09-06","2009-09-05",{"$f":"data!C58","v":27},{"$f":"data!D58","v":11},{"$f":"data!E58","v":0.05},{"$f":"data!F58","v":28},{"$f":"data!G58","v":14},{"$f":"data!H58","v":0.05},{"$f":"data!I58","v":24},{"$f":"data!J58","v":11},{"$f":"data!K58","v":26},{"$f":"data!L58","v":10},{"$f":"data!M58","v":12},{"$f":"data!N58","v":28},{"$f":"data!O58","v":0.05},{"$f":"data!P58","v":12},{"$f":"data!Q58","v":24},{"$f":"data!R58","v":0.3},"2009-09-05",{"$f":"data!T58-data!Y58","v":6.3000000000000007},{"$f":"[1]data!Y58","v":"2009-09-09"}]
["2009-09-08","2009-09-07",{"$f":"data!C59","v":21},{"$f":"data!D59","v":13},{"$f":"data!E59","v":0.2},{"$f":"data!F59","v":21},{"$f":"data!G59","v":11},{"$f":"data!H59","v":0.05},{"$f":"data!I59","v":20},{"$f":"data!J59","v":11},{"$f":"data!K59","v":19},{"$f":"data!L59","v":10},{"$f":"data!M59","v":13},{"$f":"data!N59","v":21},{"$f":"data!O59","v":0.05},{"$f":"data!P59","v":13},{"$f":"data!Q59","v":19},{"$f":"data!R59","v":0.2},"2009-09-07",{"$f":"data!T59-data!Y59","v":-3.6000000000000014},{"$f":"[1]data!Y59","v":"2009-09-11"}]
["2009-09-09","2009-09-08",{"$f":"data!C60","v":20},{"$f":"data!D60","v":11},{"$f":"data!E60","v":0.3},{"$f":"data!F60","v":22},{"$f":"data!G60","v":10},{"$f":"data!H60","v":0.1},{"$f":"data!I60","v":18},{"$f":"data!J60","v":9},{"$f":"data!K60","v":17},{"$f":"data!L60","v":9},{"$f":"data!M60","v":14},{"$f":"data!N60","v":22},{"$f":"data!O60","v":0.1},{"$f":"data!P60","v":14},{"$f":"data!Q60","v":19},{"$f":"data!R60","v":0.3},"2009-09-08",{"$f":"data!T60-data!Y60","v":-6.6999999999999993},{"$f":"[1]data!Y60","v":"2009-09-12"}]
["2009-09-10","2009-09-09",{"$f":"data!C61","v":18},{"$f":"data!D61","v":10},{"$f":"data!E61","v":0.2},{"$f":"data!F61","v":19},{"$f":"data!G61","v":13},{"$f":"data!H61","v":10},{"$f":"data!I61","v":20},{"$f":"data!J61","v":9},{"$f":"data!K61","v":14},{"$f":"data!L61","v":6},{"$f":"data!M61","v":13},{"$f":"data!N61","v":19},{"$f":"data!O61","v":0.1},{"$f":"data!P61","v":12},{"$f":"data!Q61","v":17},{"$f":"data!R61","v":0.2},"2009-09-09",{"$f":"data!T61-data!Y61","v":-7.2000000000000011},{"$f":"[1]data!Y61","v":"2009-09-13"}]
["2009-09-11","2009-09-10",{"$f":"data!C62","v":17},{"$f":"data!D62","v":11},{"$f":"data!E62","v":0.35},{"$f":"data!F62","v":17},{"$f":"data!G62","v":11},{"$f":"data!H62","v":0.15},{"$f":"data!I62","v":18},{"$f":"data!J62","v":9},{"$f":"data!K62","v":15},{"$f":"data!L62","v":9},{"$f":"data!M62","v":11},{"$f":"data!N62","v":17},{"$f":"data!O62","v":15},{"$f":"data!P62","v":11},{"$f":"data!Q62","v":16},{"$f":"data!R62","v":0.8},"2009-09-10",{"$f":"data!T62-data!Y62","v":-4.0999999999999996},{"$f":"[1]data!Y62","v":"2009-09-14"}]
["2009-09-12","2009-09-11",{"$f":"data!C63","v":16},{"$f":"data!D63","v":11},{"$f":"data!E63","v":0.7},{"$f":"data!F63","v":18},{"$f":"data!G63","v":12},{"$f":"data!H63","v":30},{"$f":"data!I63","v":21},{"$f":"data!J63","v":10},{"$f":"data!K63","v":12},{"$f":"data!L63","v":8},{"$f":"data!M63","v":11},{"$f":"data!N63","v":18},{"$f":"data!O63","v":0.3},{"$f":"data!P63","v":8},{"$f":"data!Q63","v":15},{"$f":"data!R63","v":0.7},"2009-09-11",{"$f":"data!T63-data!Y63","v":-3.2999999999999989},{"$f":"[1]data!Y63","v":"2009-09-15"}]
["2009-09-13","2009-09-12",{"$f":"data!C64","v":24},{"$f":"data!D64","v":12},{"$f":"data!E64","v":0.1},{"$f":"data!F64","v":26},{"$f":"data!G64","v":15},{"$f":"data!H64","v":0.05},{"$f":"data!I64","v":22},{"$f":"data!J64","v":10},{"$f":"data!K64","v":23},{"$f":"data!L64","v":10},{"$f":"data!M64","v":12},{"$f":"data!N64","v":26},{"$f":"data!O64","v":0.05},{"$f":"data!P64","v":11},{"$f":"data!Q64","v":23},{"$f":"data!R64","v":0.2},"2009-09-12",{"$f":"data!T64-data!Y64","v":9.9999999999997868E-2},{"$f":"[1]data!Y64","v":"2009-09-16"}]
["2009-09-14","2009-09-13",{"$f":"data!C65","v":23},{"$f":"data!D65","v":13},{"$f":"data!E65","v":0.1},{"$f":"data!F65","v":23},{"$f":"data!G65","v":11},{"$f":"data!H65","v":0.05},{"$f":"data!I65","v":18},{"$f":"data!J65","v":12},{"$f":"data!K65","v":20},{"$f":"data!L65","v":13},{"$f":"data!M65","v":13},{"$f":"data!N65","v":23},{"$f":"data!O65","v":0.05},{"$f":"data!P65","v":14},{"$f":"data!Q65","v":20},{"$f":"data!R65","v":0.5},"2009-09-13",{"$f":"data!T65-data!Y65","v":4.0000000000000018},{"$f":"[1]data!Y65","v":"2009-09-17"}]
["2009-09-15","2009-09-14",{"$f":"data!C66","v":22},{"$f":"data!D66","v":8},{"$f":"data!E66","v":0.05},{"$f":"data!F66","v":23},{"$f":"data!G66","v":10},{"$f":"data!H66","v":0.02},{"$f":"data!I66","v":20},{"$f":"data!J66","v":8},{"$f":"data!K66","v":20},{"$f":"data!L66","v":6},{"$f":"data!M66","v":8},{"$f":"data!N66","v":23},{"$f":"data!O66","v":0},{"$f":"data!P66","v":9},{"$f":"data!Q66","v":22},{"$f":"data!R66","v":0.1},"2009-09-14",{"$f":"data!T66-data!Y66","v":8.6},{"$f":"[1]data!Y66","v":"2009-09-18"}]
["2009-09-16","2009-09-15",{"$f":"data!C67","v":23},{"$f":"data!D67","v":9},{"$f":"data!E67","v":0.05},{"$f":"data!F67","v":24},{"$f":"data!G67","v":9},{"$f":"data!H67","v":0.02},{"$f":"data!I67","v":22},{"$f":"data!J67","v":8},{"$f":"data!K67","v":20},{"$f":"data!L67","v":10},{"$f":"data!M67","v":9},{"$f":"data!N67","v":24},{"$f":"data!O67","v":0},{"$f":"data!P67","v":11},{"$f":"data!Q67","v":22},{"$f":"data!R67","v":0.1},"2009-09-15",{"$f":"data!T67-data!Y67","v":7.9},{"$f":"[1]data!Y67","v":"2009-09-19"}]
["2009-09-17","2009-09-16",{"$f":"data!C68","v":23},{"$f":"data!D68","v":12},{"$f":"data!E68","v":0.35},{"$f":"data!F68","v":25},{"$f":"data!G68","v":10},{"$f":"data!H68","v":0.02},{"$f":"data!I68","v":21},{"$f":"data!J68","v":11},{"$f":"data!K68","v":21},{"$f":"data!L68","v":10},{"$f":"data!M68","v":9},{"$f":"data!N68","v":24},{"$f":"data!O68","v":0},{"$f":"data!P68","v":12},{"$f":"data!Q68","v":21},{"$f":"data!R68","v":0.3},"2009-09-16",{"$f":"data!T68-data!Y68","v":4.5},{"$f":"[1]data!Y68","v":"2009-09-20"}]
["2009-09-18","2009-09-17",{"$f":"data!C69","v":23},{"$f":"data!D69","v":13},{"$f":"data!E69","v":0.55000000000000004},{"$f":"data!F69","v":26},{"$f":"data!G69","v":11},{"$f":"data!H69","v":0.05},{"$f":"data!I69","v":22},{"$f":"data!J69","v":11},{"$f":"data!K69","v":21},{"$f":"data!L69","v":12},{"$f":"data!M69","v":13},{"$f":"data!N69","v":26},{"$f":"data!O69","v":0.05},{"$f":"data!P69","v":13},{"$f":"data!Q69","v":23},{"$f":"data!R69","v":0.2},"2009-09-17",{"$f":"data!T69-data!Y69","v":1.6999999999999993},{"$f":"[1]data!Y69","v":"2009-09-21"}]
[]
["első","qvartilis",{"$f":"QUARTILE(C$3:C$52,1)","v":21},{"$f":"QUARTILE(D$3:D$52,1)","v":12},0.2,22,11,0.05,21,11,19,9,10.25,22,0.05,11,19.25,0.1]
["második","qvartilis",{"$f":"QUARTILE(C$3:C$52,2)","v":24},{"$f":"QUARTILE(D$3:D$52,2)","v":13},0.45,25,13,0.05,24,13,22,10,12,25,0.05,12,22.5,0.35]
["harmadik","qvartilis",{"$f":"QUARTILE(C$3:C$52,3)","v":26},{"$f":"QUARTILE(D$3:D$52,3)","v":15},0.6,27.75,14.75,0.3,26,14,24,13,15,28,0.45,15,24,0.7]
[null,null,null,null,null,null,null,null,null,null,null,null,null,null,null,null,null,null,"delta"]
[null,null,null,null,null,null,null,null,null,null,null,null,null,null,null,null,null,null,"(tény+10)*100"]
["maxar1",null,{"$f":"IF(C3<C$64,1,IF(C3<C$65,2,IF(C3<C$66,3,4)))","v":4},{"$f":"IF(D3<D$64,1,IF(D3<D$65,2,IF(D3<D$66,3,4)))","v":4},2,4,4,3,4,4,4,4,4,4,3,4,4,2,{"$f":"(T3+10)*100","v":1660.0000000000002},"méret:","50*16(+1)"]
[null,null,{"$f":"IF(C4<C$64,1,IF(C4<C$65,2,IF(C4<C$66,3,4)))","v":4},4,2,4,4,3,4,4,4,4,4,4,3,4,4,2,{"$f":"(T4+10)*100","v":1160.0000000000002}]
[null,null,4,4,3,4,4,4,4,4,4,4,4,4,4,4,4,2,970.00000000000023]
[null,null,3,4,3,3,3,4,3,4,3,3,3,3,4,4,3,4,850]
[null,null,3,4,4,3,4,3,2,4,3,4,3,3,3,4,3,4,480.00000000000006]
[null,null,3,4,3,2,2,4,2,3,3,3,3,2,4,3,1,4,259.99999999999977]
[null,null,1,3,4,1,1,4,1,3,2,3,3,1,4,3,1,4,119.99999999999993]
[null,null,1,3,4,1,2,4,1,2,2,2,3,1,3,3,1,4,269.99999999999994]
[null,null,1,1,3,1,2,4,1,1,1,1,1,1,4,2,1,4,129.99999999999989]
[null,null,1,1,3,1,1,3,1,2,1,3,3,1,3,1,1,4,820.00000000000023]
[null,null,2,1,4,3,4,3,2,1,2,2,2,3,3,2,1,2,1339.9999999999998]
[null,null,3,3,1,3,3,3,3,3,3,1,1,3,3,2,2,2,1600]
[null,null,3,4,4,2,4,4,3,4,4,4,4,2,4,3,4,3,1929.9999999999998]
[null,null,3,4,4,3,4,3,4,4,4,4,4,2,4,4,4,3,1659.9999999999998]
[null,null,4,3,1,4,3,3,4,3,4,2,2,4,3,4,4,3,1630]
[null,null,3,4,4,3,2,4,4,3,3,4,4,4,3,3,4,2,669.99999999999989]
[null,null,1,3,4,1,1,3,1,3,1,3,3,1,3,4,4,{"$f":"IF(R19<R$64,1,IF(R19<R$65,2,IF(R19<R$66,3,4)))","v":4},390.00000000000023]
[null,null,{"$f":"IF(C20<C$64,1,IF(C20<C$65,2,IF(C20<C$66,3,4)))","v":1},3,4,1,3,3,1,2,1,2,1,1,3,3,1,4,510.00000000000011]
[null,null,2,3,3,2,2,3,1,2,1,3,2,2,3,2,2,4,430.00000000000006]
[null,null,3,2,2,3,4,4,4,2,3,1,2,3,4,3,2,2,1480]
[null,null,3,4,4,4,3,4,4,4,3,4,4,4,4,3,2,3,1880]
[null,null,3,4,4,2,3,4,4,4,3,4,4,2,3,4,4,4,1300]
[null,null,1,3,4,1,1,3,2,3,1,3,3,1,3,4,2,3,189.99999999999986]
[null,null,3,2,1,2,1,3,2,1,2,1,1,2,3,3,2,3,559.99999999999977]
[null,null,4,2,2,4,2,1,3,2,4,3,2,4,1,1,3,2,1289.9999999999998]
[null,null,4,2,2,2,2,3,2,3,2,2,2,4,1,1,3,2,1050]
[null,null,3,1,1,3,2,3,2,1,2,1,1,3,3,4,2,2,419.99999999999994]
[null,null,4,1,2,3,3,3,4,1,4,2,1,3,3,1,1,2,1359.9999999999998]
[null,null,3,4,3,3,2,3,3,4,2,4,4,3,3,3,3,2,690.00000000000023]
[null,null,2,4,4,2,1,3,3,4,2,4,3,2,3,4,2,4,1039.9999999999998]
[null,null,4,1,1,3,2,3,4,2,4,1,1,3,3,3,2,4,1240.0000000000002]
[null,null,4,3,1,4,3,1,4,2,4,3,1,4,1,3,3,2,1000]
[null,null,4,3,1,4,4,3,4,2,4,4,1,4,1,3,3,{"$f":"IF(R35<R$64,1,IF(R35<R$65,2,IF(R35<R$66,3,4)))","v":2},1539.9999999999998]
[null,null,{"$f":"IF(C36<C$64,1,IF(C36<C$65,2,IF(C36<C$66,3,4)))","v":4},4,1,4,4,1,4,4,4,4,3,4,1,3,4,2,1620]
[null,null,4,4,3,4,4,3,4,4,3,4,4,4,3,3,4,2,939.99999999999989]
[null,null,4,4,4,4,4,4,2,4,4,4,4,4,4,4,4,4,970.00000000000023]
[null,null,3,4,3,4,4,4,2,4,2,4,4,4,4,4,4,2,380.00000000000006]
[null,null,2,3,3,2,2,3,2,2,1,3,4,4,4,4,3,3,450]
[null,null,4,3,2,3,3,1,4,3,3,4,3,3,1,3,4,2,1330]
[null,null,3,4,2,3,2,3,4,4,2,4,4,3,3,4,4,3,580.00000000000011]
[null,null,2,1,1,1,1,3,2,1,1,1,1,1,3,1,1,2,669.99999999999989]
[null,null,3,1,1,3,1,3,4,1,3,1,1,3,3,1,2,2,780.00000000000011]
[null,null,2,3,2,2,3,3,2,4,2,3,3,2,3,4,2,3,1240.0000000000002]
[null,null,1,2,3,2,3,3,2,2,1,3,3,2,3,3,1,3,840.00000000000023]
[null,null,1,3,4,1,2,4,1,3,1,3,3,1,4,2,1,4,169.99999999999994]
[null,null,1,1,2,1,1,3,1,1,1,3,1,1,3,1,1,2,630.00000000000011]
[null,null,2,1,2,2,2,3,2,1,1,1,1,2,3,1,2,2,1289.9999999999998]
[null,null,3,1,1,3,3,3,3,1,3,1,2,3,3,2,4,2,1850]
[null,null,4,1,1,4,3,3,3,2,4,3,3,4,3,3,4,{"$f":"IF(R51<R$64,1,IF(R51<R$65,2,IF(R51<R$66,3,4)))","v":2},1630]
[null,null,{"$f":"IF(C52<C$64,1,IF(C52<C$65,2,IF(C52<C$66,3,4)))","v":2},3,2,1,2,3,1,2,2,3,3,1,3,3,1,2,639.99999999999989]
[null,null,1,1,2,2,1,3,1,1,1,2,3,2,3,3,1,2,330.00000000000006]
[null,null,1,1,2,1,3,4,1,1,1,1,3,1,3,3,1,2,279.99999999999989]
[null,null,1,1,2,1,2,3,1,1,1,2,2,1,4,2,1,4,590]
[null,null,1,1,4,1,2,4,2,1,1,1,2,1,3,1,1,4,670.00000000000011]
[null,null,3,2,1,3,4,3,2,1,3,3,3,3,3,2,3,2,1009.9999999999998]
[null,null,2,3,1,2,2,3,1,2,2,4,3,2,3,3,2,3,1400.0000000000002]
[null,null,2,1,1,2,1,1,1,1,2,1,1,2,1,1,2,2,1860.0000000000002]
[null,null,2,1,1,2,1,1,2,1,2,3,1,2,1,2,2,2,1789.9999999999998]
[null,null,2,2,2,3,1,1,2,2,2,3,1,2,1,3,2,2,1450]
[null,null,2,3,3,3,2,3,2,2,2,3,3,3,3,3,3,2,1170]
[]
["LINEÁRIS közelítés (additív)"]
[]
["A feladat alapadatainak visszaigazolása:","-"]
["Feladat azonosítója:","maxar1"]
["Objektumok (primer sorok) száma:",50]
["X-attribútumok (oszlopok) száma:",16]
["Lépcsők száma:",4]
["Az eltolás mértéke",0]
["A feladat részletes jellemzése","MCM: demo"]
[]
[]
["Rangsorszámok","X (A1)","X (A2)","X (A3)","X (A4)","X (A5)","X (A6)","X (A7)","X (A8)","X (A9)","X (A10)","X (A11)","X (A12)","X (A13)","X (A14)","X (A15)","X (A16)","Y (A17)"]
["feladatkód N°= maxar1"]
["O(1)",4,4,2,4,4,3,4,4,4,4,4,4,3,4,4,2,1660]
["O(2)",4,4,2,4,4,3,4,4,4,4,4,4,3,4,4,2,1160]
["O(3)",4,4,3,4,4,4,4,4,4,4,4,4,4,4,4,2,970]
["O(4)",3,4,3,3,3,4,3,4,3,3,3,3,4,4,3,4,850]
["O(5)",3,4,4,3,4,3,2,4,3,4,3,3,3,4,3,4,480]
["O(6)",3,4,3,2,2,4,2,3,3,3,3,2,4,3,1,4,260]
["O(7)",1,3,4,1,1,4,1,3,2,3,3,1,4,3,1,4,120]
["O(8)",1,3,4,1,2,4,1,2,2,2,3,1,3,3,1,4,270]
["O(9)",1,1,3,1,2,4,1,1,1,1,1,1,4,2,1,4,130]
["O(10)",1,1,3,1,1,3,1,2,1,3,3,1,3,1,1,4,820]
["O(11)",2,1,4,3,4,3,2,1,2,2,2,3,3,2,1,2,1340]
["O(12)",3,3,1,3,3,3,3,3,3,1,1,3,3,2,2,2,1600]
["O(13)",3,4,4,2,4,4,3,4,4,4,4,2,4,3,4,3,1930]
["O(14)",3,4,4,3,4,3,4,4,4,4,4,2,4,4,4,3,1660]
["O(15)",4,3,1,4,3,3,4,3,4,2,2,4,3,4,4,3,1630]
["O(16)",3,4,4,3,2,4,4,3,3,4,4,4,3,3,4,2,670]
["O(17)",1,3,4,1,1,3,1,3,1,3,3,1,3,4,4,4,390]
["O(18)",1,3,4,1,3,3,1,2,1,2,1,1,3,3,1,4,510]
["O(19)",2,3,3,2,2,3,1,2,1,3,2,2,3,2,2,4,430]
["O(20)",3,2,2,3,4,4,4,2,3,1,2,3,4,3,2,2,1480]
["O(21)",3,4,4,4,3,4,4,4,3,4,4,4,4,3,2,3,1880]
["O(22)",3,4,4,2,3,4,4,4,3,4,4,2,3,4,4,4,1300]
["O(23)",1,3,4,1,1,3,2,3,1,3,3,1,3,4,2,3,190]
["O(24)",3,2,1,2,1,3,2,1,2,1,1,2,3,3,2,3,560]
["O(25)",4,2,2,4,2,1,3,2,4,3,2,4,1,1,3,2,1290]
["O(26)",4,2,2,2,2,3,2,3,2,2,2,4,1,1,3,2,1050]
["O(27)",3,1,1,3,2,3,2,1,2,1,1,3,3,4,2,2,420]
["O(28)",4,1,2,3,3,3,4,1,4,2,1,3,3,1,1,2,1360]
["O(29)",3,4,3,3,2,3,3,4,2,4,4,3,3,3,3,2,690]
["O(30)",2,4,4,2,1,3,3,4,2,4,3,2,3,4,2,4,1040]
["O(31)",4,1,1,3,2,3,4,2,4,1,1,3,3,3,2,4,1240]
["O(32)",4,3,1,4,3,1,4,2,4,3,1,4,1,3,3,2,1000]
["O(33)",4,3,1,4,4,3,4,2,4,4,1,4,1,3,3,2,1540]
["O(34)",4,4,1,4,4,1,4,4,4,4,3,4,1,3,4,2,1620]
["O(35)",4,4,3,4,4,3,4,4,3,4,4,4,3,3,4,2,940]
["O(36)",4,4,4,4,4,4,2,4,4,4,4,4,4,4,4,4,970]
["O(37)",3,4,3,4,4,4,2,4,2,4,4,4,4,4,4,2,380]
["O(38)",2,3,3,2,2,3,2,2,1,3,4,4,4,4,3,3,450]
["O(39)",4,3,2,3,3,1,4,3,3,4,3,3,1,3,4,2,1330]
["O(40)",3,4,2,3,2,3,4,4,2,4,4,3,3,4,4,3,580]
["O(41)",2,1,1,1,1,3,2,1,1,1,1,1,3,1,1,2,670]
["O(42)",3,1,1,3,1,3,4,1,3,1,1,3,3,1,2,2,780]
["O(43)",2,3,2,2,3,3,2,4,2,3,3,2,3,4,2,3,1240]
["O(44)",1,2,3,2,3,3,2,2,1,3,3,2,3,3,1,3,840]
["O(45)",1,3,4,1,2,4,1,3,1,3,3,1,4,2,1,4,170]
["O(46)",1,1,2,1,1,3,1,1,1,3,1,1,3,1,1,2,630]
["O(47)",2,1,2,2,2,3,2,1,1,1,1,2,3,1,2,2,1290]
["O(48)",3,1,1,3,3,3,3,1,3,1,2,3,3,2,4,2,1850]
["O(49)",4,1,1,4,3,3,3,2,4,3,3,4,3,3,4,2,1630]
["O(50)",2,3,2,1,2,3,1,2,2,3,3,1,3,3,1,2,640]
["Lépcsők (átlag)","X (A1)","X (A2)","X (A3)","X (A4)","X (A5)","X (A6)","X (A7)","X (A8)","X (A9)","X (A10)","X (A11)","X (A12)","X (A13)","X (A14)","X (A15)","X (A16)"]
["feladatkód N°= maxar1"]
["S1","(0+0)/2=0","(130+258)/2=194","(186+0)/2=93","(0+0)/2=0","(0+0)/2=0","(0+0)/2=0","(0+247)/2=123.5","(0+0)/2=0","(0+0)/2=0","(0+32)/2=16","(0+0)/2=0","(0+0)/2=0","(0+230)/2=115","(34+301)/2=167.5","(0+0)/2=0","(0+0)/2=0"]
["S2","(253+79)/2=166","(186+0)/2=93","(148+230)/2=189","(118+24)/2=71","(0+0)/2=0","(0+0)/2=0","(0+0)/2=0","(0+14)/2=7","(0+0)/2=0","(172+0)/2=86","(0+264)/2=132","(0+0)/2=0","(0+0)/2=0","(0+352)/2=176","(17+366)/2=191.5","(26+0)/2=13"]
["S3","(0+0)/2=0","(0+0)/2=0","(0+0)/2=0","(20+0)/2=10","(198+510)/2=354","(42+0)/2=21","(512+175)/2=343.5","(22+0)/2=11","(120+165)/2=142.5","(0+0)/2=0","(0+0)/2=0","(0+0)/2=0","(0+0)/2=0","(0+70)/2=35","(0+0)/2=0","(11+221)/2=116"]
["S4","(192+0)/2=96","(0+0)/2=0","(98+49)/2=73.5","(0+41)/2=20.5","(202+338)/2=270","(0+0)/2=0","(207+0)/2=103.5","(0+0)/2=0","(191+500)/2=345.5","(0+346)/2=173","(0+111)/2=55.5","(0+0)/2=0","(0+0)/2=0","(0+0)/2=0","(153+94)/2=123.5","(0+0)/2=0"]
["Lépcsők (átlag)","X (A1)","X (A2)","X (A3)","X (A4)","X (A5)","X (A6)","X (A7)","X (A8)","X (A9)","X (A10)","X (A11)","X (A12)","X (A13)","X (A14)","X (A15)","X (A16)"]
["feladatkód N°= maxar1"]
["S1",0,194,93,0,0,0,123.5,0,0,16,0,0,115,167.5,0,0,null,null,null,null,null,null,null,null,null,22.62]
["S2",166,93,189,71,0,0,0,7,0,86,132,0,0,176,191.5,13,null,null,null,null,"max",{"$f":"MAX(W208:W267)","v":13.585000000000003},null,null,null,{"$f":"AA201+0.45","v":23.07}]
["S3",0,0,0,10,354,21,343.5,11,142.5,0,0,0,0,35,0,116,null,null,null,null,"min",{"$f":"MIN(W208:W267)","v":-13.584999999999997}]
["S4",96,0,73.5,20.5,270,0,103.5,0,345.5,173,55.5,0,0,0,123.5,0,null,null,null,null,"határért.",22.62]
["COCO-matrix N°: maxar1","X (A1)","X (A2)","X (A3)","X (A4)","X (A5)","X (A6)","X (A7)","X (A8)","X (A9)","X (A10)","X (A11)","X (A12)","X (A13)","X (A14)","X (A15)","X (A16)","Y(*) (A17)","Y","delta","%"]
[null,null,null,null,null,null,null,null,null,null,null,null,null,null,null,null,null,null,null,null,null,null,"visszakorrigált","visszakorrigált","prognózis","találat"]
[null,null,null,null,null,null,null,null,null,null,null,null,null,null,null,null,null,null,null,"=Y-Y(*)",{"$f":"delta/Y","v":{"$error":"#NAME?"}},null,"prognózis","bináris tény","irány",{"$f":"SUM(Z208:Z257)/50","v":0.98},"a tanulási minta beválása"]
["O(1)",96,0,189,20.5,270,21,103.5,0,345.5,173,55.5,0,0,0,123.5,13,1410.5,1660,249.5,15.03,null,{"$f":"((R208/100)-10)-data!Y10+$W$204","v":4.3250000000000028},{"$f":"IF((S208/100)-10>0,1,0)","v":1},{"$f":"IF(W208>0,1,0)","v":1},{"$f":"IF(X208=Y208,1,0)","v":1}]
["O(2)",96,0,189,20.5,270,21,103.5,0,345.5,173,55.5,0,0,0,123.5,13,1410.5,1160,-250.5,-21.59,null,{"$f":"((R209/100)-10)-data!Y11+$W$204","v":-0.47499999999999787},{"$f":"IF((S209/100)-10>0,1,0)","v":1},{"$f":"IF(W209>0,1,0)","v":0},{"$f":"IF(X209=Y209,1,0)","v":0}]
["O(3)",96,0,0,20.5,270,0,103.5,0,345.5,173,55.5,0,0,0,123.5,13,1200.5,970,-230.5,-23.76,null,{"$f":"((R210/100)-10)-data!Y12+$W$204","v":-2.274999999999995},0,0,1]
["O(4)",0,0,0,10,354,0,343.5,0,142.5,0,0,0,0,0,0,0,850,850,0,0,null,{"$f":"((R211/100)-10)-data!Y13+$W$204","v":-7.48},0,0,1]
["O(5)",0,0,73.5,10,270,21,0,0,142.5,173,0,0,0,0,0,0,690,480,-210,-43.75,null,{"$f":"((R212/100)-10)-data!Y14+$W$204","v":-9.48},0,0,1]
["O(6)",0,0,0,71,0,0,0,11,142.5,0,0,0,0,35,0,0,259.5,260,0.5,0.19,null,{"$f":"((R213/100)-10)-data!Y15+$W$204","v":-13.584999999999997},0,0,1]
["O(7)",0,0,73.5,0,0,0,123.5,11,0,0,0,0,0,35,0,0,243,120,-123,-102.5,null,{"$f":"((R214/100)-10)-data!Y16+$W$204","v":-11.55},0,0,1]
["O(8)",0,0,73.5,0,0,0,123.5,7,0,86,0,0,0,35,0,0,325,270,-55,-20.37,null,{"$f":"((R215/100)-10)-data!Y17+$W$204","v":-11.23},0,0,1]
["O(9)",0,194,0,0,0,0,123.5,0,0,16,0,0,0,176,0,0,509.5,130,-379.5,-291.92,null,{"$f":"((R216/100)-10)-data!Y18+$W$204","v":-6.0850000000000009},0,0,1]
["O(10)",0,194,0,0,0,21,123.5,7,0,0,0,0,0,167.5,0,0,513,820,307,37.44,null,{"$f":"((R217/100)-10)-data!Y19+$W$204","v":-3.6499999999999986},0,0,1]
["O(11)",166,194,73.5,10,270,21,0,0,0,86,132,0,0,176,0,13,1141.5,1340,198.5,14.81,null,{"$f":"((R218/100)-10)-data!Y20+$W$204","v":6.2349999999999994},1,1,1]
["O(12)",0,0,93,10,354,21,343.5,11,142.5,16,0,0,0,176,191.5,13,1371.5,1600,228.5,14.28,null,{"$f":"((R219/100)-10)-data!Y21+$W$204","v":6.5350000000000001},1,1,1]
["O(13)",0,0,73.5,71,270,0,343.5,0,345.5,173,55.5,0,0,35,123.5,116,1606.5,1930,323.5,16.760000000000002,null,{"$f":"((R220/100)-10)-data!Y22+$W$204","v":13.585000000000003},1,1,1]
["O(14)",0,0,73.5,10,270,21,103.5,0,345.5,173,55.5,0,0,0,123.5,116,1291.5,1660,368.5,22.2,null,{"$f":"((R221/100)-10)-data!Y23+$W$204","v":5.9349999999999987},1,1,1]
["O(15)",96,0,93,20.5,354,21,103.5,11,345.5,86,132,0,0,0,123.5,116,1502,1630,128,7.85,null,{"$f":"((R222/100)-10)-data!Y24+$W$204","v":6.4400000000000013},1,1,1]
["O(16)",0,0,73.5,10,0,0,103.5,11,142.5,173,55.5,0,0,35,123.5,13,740.5,670,-70.5,-10.52,null,{"$f":"((R223/100)-10)-data!Y25+$W$204","v":-5.7749999999999986},0,0,1]
["O(17)",0,0,73.5,0,0,21,123.5,11,0,0,0,0,0,0,123.5,0,352.5,390,37.5,9.6199999999999992,null,{"$f":"((R224/100)-10)-data!Y26+$W$204","v":-8.254999999999999},0,0,1]
["O(18)",0,0,73.5,0,354,21,123.5,7,0,86,0,0,0,35,0,0,700,510,-190,-37.25,null,{"$f":"((R225/100)-10)-data!Y27+$W$204","v":-6.5799999999999983},0,0,1]
["O(19)",166,0,0,71,0,21,123.5,7,0,0,132,0,0,176,191.5,0,888,430,-458,-106.51,null,{"$f":"((R226/100)-10)-data!Y28+$W$204","v":-5.9999999999999964},0,0,1]
["O(20)",0,93,189,10,270,0,103.5,7,142.5,16,132,0,0,35,191.5,13,1202.5,1480,277.5,18.75,null,{"$f":"((R227/100)-10)-data!Y29+$W$204","v":2.1449999999999996},1,1,1]
["O(21)",0,0,73.5,20.5,354,0,103.5,0,142.5,173,55.5,0,0,35,191.5,116,1265,1880,615,32.71,null,{"$f":"((R228/100)-10)-data!Y30+$W$204","v":6.9700000000000006},1,1,1]
["O(22)",0,0,73.5,71,354,0,103.5,0,142.5,173,55.5,0,0,0,123.5,0,1096.5,1300,203.5,15.65,null,{"$f":"((R229/100)-10)-data!Y31+$W$204","v":2.2850000000000001},1,1,1]
["O(23)",0,0,73.5,0,0,21,0,11,0,0,0,0,0,0,191.5,116,413,190,-223,-117.37,null,{"$f":"((R230/100)-10)-data!Y32+$W$204","v":-10.55},0,0,1]
["O(24)",0,93,93,71,0,21,0,0,0,16,0,0,0,35,191.5,116,636.5,560,-76.5,-13.66,null,{"$f":"((R231/100)-10)-data!Y33+$W$204","v":-8.1149999999999984},0,0,1]
["O(25)",96,93,189,20.5,0,0,343.5,7,345.5,0,132,0,115,167.5,0,13,1522,1290,-232,-17.98,null,{"$f":"((R232/100)-10)-data!Y34+$W$204","v":3.5400000000000027},1,1,1]
["O(26)",96,93,189,71,0,21,0,11,0,86,132,0,115,167.5,0,13,994.5,1050,55.5,5.29,null,{"$f":"((R233/100)-10)-data!Y35+$W$204","v":0.26500000000000057},1,1,1]
["O(27)",0,194,93,10,0,21,0,0,0,16,0,0,0,0,191.5,13,538.5,420,-118.5,-28.21,null,{"$f":"((R234/100)-10)-data!Y36+$W$204","v":-9.1949999999999967},0,0,1]
["O(28)",96,194,189,10,354,21,103.5,0,345.5,86,0,0,0,167.5,0,13,1579.5,1360,-219.5,-16.14,null,{"$f":"((R235/100)-10)-data!Y37+$W$204","v":5.6149999999999984},1,1,1]
["O(29)",0,0,0,10,0,21,343.5,0,0,173,55.5,0,0,35,0,13,651,690,39,5.65,null,{"$f":"((R236/100)-10)-data!Y38+$W$204","v":-7.0699999999999967},0,0,1]
["O(30)",166,0,73.5,71,0,21,343.5,0,0,173,0,0,0,0,191.5,0,1039.5,1040,0.5,0.05,null,{"$f":"((R237/100)-10)-data!Y39+$W$204","v":0.91499999999999915},1,1,1]
["O(31)",96,194,93,10,0,21,103.5,7,345.5,16,0,0,0,35,191.5,0,1112.5,1240,127.5,10.28,null,{"$f":"((R238/100)-10)-data!Y40+$W$204","v":2.3450000000000024},1,1,1]
["O(32)",96,0,93,20.5,354,0,103.5,7,345.5,0,0,0,115,35,0,13,1182.5,1000,-182.5,-18.25,null,{"$f":"((R239/100)-10)-data!Y41+$W$204","v":-1.9549999999999983},0,0,1]
["O(33)",96,0,93,20.5,270,21,103.5,7,345.5,173,0,0,115,35,0,13,1292.5,1540,247.5,16.07,null,{"$f":"((R240/100)-10)-data!Y42+$W$204","v":2.4450000000000003},1,1,1]
["O(34)",96,0,93,20.5,270,0,103.5,0,345.5,173,0,0,115,35,123.5,13,1388,1620,232,14.32,null,{"$f":"((R241/100)-10)-data!Y43+$W$204","v":4.0000000000000036},1,1,1]
["O(35)",96,0,0,20.5,270,21,103.5,0,142.5,173,55.5,0,0,35,123.5,13,1053.5,940,-113.5,-12.07,null,{"$f":"((R242/100)-10)-data!Y44+$W$204","v":-0.64499999999999957},0,0,1]
["O(36)",96,0,73.5,20.5,270,0,0,0,345.5,173,55.5,0,0,0,123.5,0,1157.5,970,-187.5,-19.329999999999998,null,{"$f":"((R243/100)-10)-data!Y45+$W$204","v":-2.2049999999999983},0,0,1]
["O(37)",0,0,0,20.5,270,0,0,0,0,173,55.5,0,0,0,123.5,13,655.5,380,-275.5,-72.5,null,{"$f":"((R244/100)-10)-data!Y46+$W$204","v":-9.3249999999999993},0,0,1]
["O(38)",166,0,0,71,0,21,0,7,0,0,55.5,0,0,0,0,116,436.5,450,13.5,3,null,{"$f":"((R245/100)-10)-data!Y47+$W$204","v":-11.715},0,0,1]
["O(39)",96,0,189,10,354,0,103.5,11,142.5,173,0,0,115,35,123.5,13,1365.5,1330,-35.5,-2.67,null,{"$f":"((R246/100)-10)-data!Y48+$W$204","v":1.7750000000000021},1,1,1]
["O(40)",0,0,189,10,0,21,103.5,0,0,173,55.5,0,0,0,123.5,116,791.5,580,-211.5,-36.47,null,{"$f":"((R247/100)-10)-data!Y49+$W$204","v":-6.8649999999999984},0,0,1]
["O(41)",166,194,93,0,0,21,0,0,0,16,0,0,0,167.5,0,13,670.5,670,-0.5,-7.0000000000000007E-2,null,{"$f":"((R248/100)-10)-data!Y50+$W$204","v":-5.1750000000000007},0,0,1]
["O(42)",0,194,93,10,0,21,103.5,0,142.5,16,0,0,0,167.5,191.5,13,952,780,-172,-22.05,null,{"$f":"((R249/100)-10)-data!Y51+$W$204","v":-5.66},0,0,1]
["O(43)",166,0,189,71,354,21,0,0,0,0,0,0,0,0,191.5,116,1108.5,1240,131.5,10.6,null,{"$f":"((R250/100)-10)-data!Y52+$W$204","v":4.3050000000000033},1,1,1]
["O(44)",0,93,0,71,354,21,0,7,0,0,0,0,0,35,0,116,697,840,143,17.02,null,{"$f":"((R251/100)-10)-data!Y53+$W$204","v":-1.6099999999999994},0,0,1]
["O(45)",0,0,73.5,0,0,0,123.5,11,0,0,0,0,0,176,0,0,384,170,-214,-125.88,null,{"$f":"((R252/100)-10)-data!Y54+$W$204","v":-9.14},0,0,1]
["O(46)",0,194,189,0,0,21,123.5,0,0,0,0,0,0,167.5,0,13,708,630,-78,-12.38,null,{"$f":"((R253/100)-10)-data!Y55+$W$204","v":-2.0999999999999979},0,0,1]
["O(47)",166,194,189,71,0,21,0,0,0,16,0,0,0,167.5,191.5,13,1029,1290,261,20.23,null,{"$f":"((R254/100)-10)-data!Y56+$W$204","v":3.3099999999999987},1,1,1]
["O(48)",0,194,93,10,354,21,343.5,0,142.5,16,132,0,0,176,123.5,13,1618.5,1850,231.5,12.51,null,{"$f":"((R255/100)-10)-data!Y57+$W$204","v":11.504999999999999},1,1,1]
["O(49)",96,194,93,20.5,354,21,343.5,7,345.5,0,0,0,0,35,123.5,13,1646,1630,-16,-0.98,null,{"$f":"((R256/100)-10)-data!Y58+$W$204","v":12.580000000000002},1,1,1]
["O(50)",166,0,189,0,0,21,123.5,7,0,0,0,0,0,35,0,13,554.5,640,85.5,13.36,null,{"$f":"((R257/100)-10)-data!Y59+$W$204","v":-4.3349999999999973},0,0,1]
[null,{"$f":"IF(C119=1,B$201,IF(C119=2,B$202,IF(C119=3,B$203,B$204)))","v":0},{"$f":"IF(D119=1,C$201,IF(D119=2,C$202,IF(D119=3,C$203,C$204)))","v":194},189,71,0,21,123.5,0,0,86,0,0,0,35,0,13,{"$f":"SUM(B258:Q258)","v":732.5},{"$f":"S119","v":330.00000000000006},null,null,null,{"$f":"((R258/100)-10)-data!Y60+$W$204","v":-5.8550000000000004},0,0,{"$f":"IF(X258=Y258,1,0)","v":1}]
[null,{"$f":"IF(C120=1,B$201,IF(C120=2,B$202,IF(C120=3,B$203,B$204)))","v":0},194,189,0,354,0,123.5,0,0,16,0,0,0,35,0,13,{"$f":"SUM(B259:Q259)","v":924.5},{"$f":"S120","v":279.99999999999989},null,null,null,{"$f":"((R259/100)-10)-data!Y61+$W$204","v":-0.93499999999999872},0,0,{"$f":"IF(X259=Y259,1,0)","v":1}]
[null,0,194,189,0,0,21,123.5,0,0,86,132,0,0,176,0,0,921.5,590,null,null,null,{"$f":"((R260/100)-10)-data!Y62+$W$204","v":4.3350000000000009},0,1,0]
[null,0,194,73.5,0,0,0,0,0,0,16,132,0,0,167.5,0,0,583,670.00000000000011,null,null,null,{"$f":"((R261/100)-10)-data!Y63+$W$204","v":-0.44999999999999929},0,0,1]
[null,0,93,93,10,270,21,0,0,142.5,0,0,0,0,176,0,13,818.5,1009.9999999999998,null,null,null,{"$f":"((R262/100)-10)-data!Y64+$W$204","v":1.7050000000000018},1,1,1]
[null,166,0,93,71,0,21,123.5,7,0,173,0,0,0,35,191.5,116,997,1400.0000000000002,null,null,null,{"$f":"((R263/100)-10)-data!Y65+$W$204","v":6.990000000000002},1,1,1]
[null,166,194,93,71,0,0,123.5,0,0,16,0,0,115,167.5,191.5,13,1150.5,1860.0000000000002,null,null,null,{"$f":"((R264/100)-10)-data!Y66+$W$204","v":10.725000000000001},1,1,1]
[null,166,194,93,71,0,0,0,0,0,0,0,0,115,176,191.5,13,1019.5,1789.9999999999998,null,null,null,{"$f":"((R265/100)-10)-data!Y67+$W$204","v":7.2150000000000016},1,1,1]
[null,166,93,189,10,0,0,0,7,0,0,0,0,115,35,191.5,13,819.5,1450,null,null,null,{"$f":"((R266/100)-10)-data!Y68+$W$204","v":1.615000000000002},1,1,1]
[null,166,0,0,10,0,21,0,7,0,0,0,0,0,35,0,13,252,1170,null,null,null,{"$f":"((R267/100)-10)-data!Y69+$W$204","v":-4.4600000000000009},1,0,0]
[null,null,null,null,null,null,null,null,null,null,null,null,null,null,null,null,null,null,null,null,null,null,"visszakorrigált",null,"prognózis",{"$f":"SUM(Z258:Z267)/10","v":0.8},"saját prognózis"]
[null,null,null,null,null,null,null,null,null,null,null,null,null,null,null,null,null,null,null,null,null,null,"prognózis","tény","irány",{"$f":"SUM(Z208:Z267)/60","v":0.95},"saját tanulás+teszt"]
[null,null,null,null,null,null,null,null,null,null,null,null,null,null,null,null,null,{"$f":"SUM(R208:R257)","v":47747.5},{"$f":"SUM(S208:S257)","v":47930}]

{"sheet":"minar1","index":4,"n_rows":270,"n_cols":27,"rows_kept":270,"cut":false,"hidden":false,"merged":[[204,17,206,17],[204,18,206,18],[204,11,206,11],[204,12,206,12],[204,13,206,13],[204,14,206,14],[204,15,206,15],[204,16,206,16],[204,5,206,5],[204,6,206,6],[204,7,206,7],[204,8,206,8],[204,9,206,9],[204,10,206,10],[198,12,199,12],[198,13,199,13],[198,14,199,14],[198,15,199,15],[198,16,199,16],[204,0,206,0],[204,1,206,1],[204,2,206,2],[204,3,206,3],[204,4,206,4],[198,6,199,6],[198,7,199,7],[198,8,199,8],[198,9,199,9],[198,10,199,10],[198,11,199,11],[198,1,199,1],[198,2,199,2],[198,3,199,3],[198,4,199,4],[192,12,193,12],[192,13,193,13],[192,14,193,14],[192,15,193,15],[192,16,193,16],[198,5,199,5],[192,6,193,6],[192,7,193,7],[192,8,193,8],[192,9,193,9],[140,1,141,1],[140,2,141,2],[140,3,141,3],[192,10,193,10],[192,11,193,11],[192,1,193,1],[192,2,193,2],[192,3,193,3],[192,4,193,4],[192,5,193,5],[140,4,141,4],[140,5,141,5],[140,6,141,6],[140,16,141,16],[140,17,141,17],[140,7,141,7],[140,8,141,8],[140,9,141,9],[140,10,141,10],[140,11,141,11],[140,12,141,12],[140,13,141,13],[140,14,141,14],[140,15,141,15]]}
["adatgyűjtés","progn.","weatheronline","weatheronline","weatheronline","kurier","kurier","kurier","wetter.rtl","wetter.rtl","raiffeisen","raiffeisen","stern","stern","stern","wetter.exite","wetter.exite","wetter.exite","progn.","tények","tények"]
["kelte","kelte","T-max","T-min","Rain-risk","max","min","niederschlag","max","min","max","min","min","max","niederschlag","min","max","niederschlag","kelte","minhőm.","kelt"]
["2009-06-29","2009-06-28",{"$f":"data!C10","v":29},{"$f":"data!D10","v":18},{"$f":"data!E10","v":0.35},{"$f":"data!F10","v":31},{"$f":"data!G10","v":16},{"$f":"data!H10","v":0.05},{"$f":"data!I10","v":29},{"$f":"data!J10","v":16},{"$f":"data!K10","v":29},{"$f":"data!L10","v":15},{"$f":"data!M10","v":16},{"$f":"data!N10","v":31},{"$f":"data!O10","v":0.05},{"$f":"data!P10","v":17},{"$f":"data!Q10","v":27},{"$f":"data!R10","v":0.1},"2009-06-28",{"$f":"data!U10-data!Z10","v":1.9999999999999982},{"$f":"[1]data!Y10","v":"2009-07-02"}]
["2009-06-30","2009-06-29",{"$f":"data!C11","v":30},{"$f":"data!D11","v":19},{"$f":"data!E11","v":0.3},{"$f":"data!F11","v":31},{"$f":"data!G11","v":15},{"$f":"data!H11","v":0.05},{"$f":"data!I11","v":28},{"$f":"data!J11","v":16},{"$f":"data!K11","v":29},{"$f":"data!L11","v":13},{"$f":"data!M11","v":16},{"$f":"data!N11","v":31},{"$f":"data!O11","v":0.05},{"$f":"data!P11","v":17},{"$f":"data!Q11","v":27},{"$f":"data!R11","v":0.1},"2009-06-29",{"$f":"data!U11-data!Z11","v":4},{"$f":"[1]data!Y11","v":"2009-07-03"}]
["2009-07-01","2009-06-30",{"$f":"data!C12","v":30},{"$f":"data!D12","v":19},{"$f":"data!E12","v":0.45},{"$f":"data!F12","v":31},{"$f":"data!G12","v":18},{"$f":"data!H12","v":0.5},{"$f":"data!I12","v":26},{"$f":"data!J12","v":17},{"$f":"data!K12","v":24},{"$f":"data!L12","v":15},{"$f":"data!M12","v":18},{"$f":"data!N12","v":31},{"$f":"data!O12","v":0.5},{"$f":"data!P12","v":17},{"$f":"data!Q12","v":27},{"$f":"data!R12","v":0.1},"2009-06-30",{"$f":"data!U12-data!Z12","v":-1.5},{"$f":"[1]data!Y12","v":"2009-07-04"}]
["2009-07-02","2009-07-01",{"$f":"data!C13","v":25},{"$f":"data!D13","v":15},{"$f":"data!E13","v":0.55000000000000004},{"$f":"data!F13","v":27},{"$f":"data!G13","v":14},{"$f":"data!H13","v":0.5},{"$f":"data!I13","v":24},{"$f":"data!J13","v":14},{"$f":"data!K13","v":22},{"$f":"data!L13","v":10},{"$f":"data!M13","v":14},{"$f":"data!N13","v":27},{"$f":"data!O13","v":0.5},{"$f":"data!P13","v":16},{"$f":"data!Q13","v":23},{"$f":"data!R13","v":0.8},"2009-07-01",{"$f":"data!U13-data!Z13","v":-2.7999999999999989},{"$f":"[1]data!Y13","v":"2009-07-05"}]
["2009-07-03","2009-07-02",{"$f":"data!C14","v":24},{"$f":"data!D14","v":15},{"$f":"data!E14","v":0.6},{"$f":"data!F14","v":26},{"$f":"data!G14","v":16},{"$f":"data!H14","v":0.05},{"$f":"data!I14","v":22},{"$f":"data!J14","v":14},{"$f":"data!K14","v":22},{"$f":"data!L14","v":13},{"$f":"data!M14","v":12},{"$f":"data!N14","v":26},{"$f":"data!O14","v":0.05},{"$f":"data!P14","v":15},{"$f":"data!Q14","v":23},{"$f":"data!R14","v":0.8},"2009-07-02",{"$f":"data!U14-data!Z14","v":-1.6999999999999993},{"$f":"[1]data!Y14","v":"2009-07-06"}]
["2009-07-04","2009-07-03",{"$f":"data!C15","v":24},{"$f":"data!D15","v":16},{"$f":"data!E15","v":0.45},{"$f":"data!F15","v":22},{"$f":"data!G15","v":12},{"$f":"data!H15","v":0.5},{"$f":"data!I15","v":21},{"$f":"data!J15","v":13},{"$f":"data!K15","v":22},{"$f":"data!L15","v":12},{"$f":"data!M15","v":12},{"$f":"data!N15","v":22},{"$f":"data!O15","v":0.5},{"$f":"data!P15","v":12},{"$f":"data!Q15","v":19},{"$f":"data!R15","v":0.7},"2009-07-03",{"$f":"data!U15-data!Z15","v":-2.7000000000000011},{"$f":"[1]data!Y15","v":"2009-07-07"}]
["2009-07-05","2009-07-04",{"$f":"data!C16","v":19},{"$f":"data!D16","v":14},{"$f":"data!E16","v":0.85},{"$f":"data!F16","v":21},{"$f":"data!G16","v":10},{"$f":"data!H16","v":0.5},{"$f":"data!I16","v":20},{"$f":"data!J16","v":13},{"$f":"data!K16","v":19},{"$f":"data!L16","v":10},{"$f":"data!M16","v":14},{"$f":"data!N16","v":21},{"$f":"data!O16","v":0.5},{"$f":"data!P16","v":12},{"$f":"data!Q16","v":16},{"$f":"data!R16","v":0.8},"2009-07-04",{"$f":"data!U16-data!Z16","v":-4.0000000000000018},{"$f":"[1]data!Y16","v":"2009-07-08"}]
["2009-07-06","2009-07-05",{"$f":"data!C17","v":18},{"$f":"data!D17","v":13},{"$f":"data!E17","v":0.6},{"$f":"data!F17","v":16},{"$f":"data!G17","v":11},{"$f":"data!H17","v":0.3},{"$f":"data!I17","v":19},{"$f":"data!J17","v":11},{"$f":"data!K17","v":20},{"$f":"data!L17","v":9},{"$f":"data!M17","v":14},{"$f":"data!N17","v":16},{"$f":"data!O17","v":0.3},{"$f":"data!P17","v":12},{"$f":"data!Q17","v":16},{"$f":"data!R17","v":0.8},"2009-07-05",{"$f":"data!U17-data!Z17","v":-2.2000000000000011},{"$f":"[1]data!Y17","v":"2009-07-09"}]
["2009-07-07","2009-07-06",{"$f":"data!C18","v":17},{"$f":"data!D18","v":9},{"$f":"data!E18","v":0.55000000000000004},{"$f":"data!F18","v":19},{"$f":"data!G18","v":12},{"$f":"data!H18","v":0.5},{"$f":"data!I18","v":17},{"$f":"data!J18","v":9},{"$f":"data!K18","v":13},{"$f":"data!L18","v":6},{"$f":"data!M18","v":8},{"$f":"data!N18","v":19},{"$f":"data!O18","v":0.5},{"$f":"data!P18","v":11},{"$f":"data!Q18","v":15},{"$f":"data!R18","v":0.8},"2009-07-06",{"$f":"data!U18-data!Z18","v":-5.6},{"$f":"[1]data!Y18","v":"2009-07-10"}]
["2009-07-08","2009-07-07",{"$f":"data!C19","v":19},{"$f":"data!D19","v":11},{"$f":"data!E19","v":0.45},{"$f":"data!F19","v":19},{"$f":"data!G19","v":7},{"$f":"data!H19","v":0.15},{"$f":"data!I19","v":19},{"$f":"data!J19","v":11},{"$f":"data!K19","v":18},{"$f":"data!L19","v":10},{"$f":"data!M19","v":12},{"$f":"data!N19","v":19},{"$f":"data!O19","v":0.15},{"$f":"data!P19","v":10},{"$f":"data!Q19","v":16},{"$f":"data!R19","v":0.8},"2009-07-07",{"$f":"data!U19-data!Z19","v":-2.7999999999999989},{"$f":"[1]data!Y19","v":"2009-07-11"}]
["2009-07-09","2009-07-08",{"$f":"data!C20","v":21},{"$f":"data!D20","v":11},{"$f":"data!E20","v":0.8},{"$f":"data!F20","v":25},{"$f":"data!G20","v":17},{"$f":"data!H20","v":0.1},{"$f":"data!I20","v":21},{"$f":"data!J20","v":10},{"$f":"data!K20","v":19},{"$f":"data!L20","v":9},{"$f":"data!M20","v":11},{"$f":"data!N20","v":25},{"$f":"data!O20","v":0.1},{"$f":"data!P20","v":11},{"$f":"data!Q20","v":19},{"$f":"data!R20","v":0.3},"2009-07-08",{"$f":"data!U20-data!Z20","v":-0.19999999999999929},{"$f":"[1]data!Y20","v":"2009-07-12"}]
["2009-07-10","2009-07-09",{"$f":"data!C21","v":25},{"$f":"data!D21","v":13},{"$f":"data!E21","v":0.1},{"$f":"data!F21","v":25},{"$f":"data!G21","v":14},{"$f":"data!H21","v":0.05},{"$f":"data!I21","v":24},{"$f":"data!J21","v":13},{"$f":"data!K21","v":22},{"$f":"data!L21","v":8},{"$f":"data!M21","v":10},{"$f":"data!N21","v":25},{"$f":"data!O21","v":0.05},{"$f":"data!P21","v":11},{"$f":"data!Q21","v":20},{"$f":"data!R21","v":0.3},"2009-07-09",{"$f":"data!U21-data!Z21","v":2.9000000000000004},{"$f":"[1]data!Y21","v":"2009-07-13"}]
["2009-07-11","2009-07-10",{"$f":"data!C22","v":24},{"$f":"data!D22","v":15},{"$f":"data!E22","v":0.8},{"$f":"data!F22","v":24},{"$f":"data!G22","v":16},{"$f":"data!H22","v":0.8},{"$f":"data!I22","v":25},{"$f":"data!J22","v":15},{"$f":"data!K22","v":24},{"$f":"data!L22","v":13},{"$f":"data!M22","v":16},{"$f":"data!N22","v":24},{"$f":"data!O22","v":0.8},{"$f":"data!P22","v":14},{"$f":"data!Q22","v":24},{"$f":"data!R22","v":0.5},"2009-07-10",{"$f":"data!U22-data!Z22","v":7.5000000000000018},{"$f":"[1]data!Y22","v":"2009-07-14"}]
["2009-07-12","2009-07-11",{"$f":"data!C23","v":24},{"$f":"data!D23","v":15},{"$f":"data!E23","v":0.9},{"$f":"data!F23","v":27},{"$f":"data!G23","v":15},{"$f":"data!H23","v":0.05},{"$f":"data!I23","v":26},{"$f":"data!J23","v":15},{"$f":"data!K23","v":24},{"$f":"data!L23","v":13},{"$f":"data!M23","v":16},{"$f":"data!N23","v":24},{"$f":"data!O23","v":0.8},{"$f":"data!P23","v":16},{"$f":"data!Q23","v":24},{"$f":"data!R23","v":0.6},"2009-07-11",{"$f":"data!U23-data!Z23","v":6},{"$f":"[1]data!Y23","v":"2009-07-15"}]
["2009-07-13","2009-07-12",{"$f":"data!C24","v":28},{"$f":"data!D24","v":13},{"$f":"data!E24","v":0.1},{"$f":"data!F24","v":28},{"$f":"data!G24","v":14},{"$f":"data!H24","v":0.05},{"$f":"data!I24","v":27},{"$f":"data!J24","v":13},{"$f":"data!K24","v":26},{"$f":"data!L24","v":9},{"$f":"data!M24","v":11},{"$f":"data!N24","v":28},{"$f":"data!O24","v":0.05},{"$f":"data!P24","v":18},{"$f":"data!Q24","v":24},{"$f":"data!R24","v":0.6},"2009-07-12",{"$f":"data!U24-data!Z24","v":-0.20000000000000107},{"$f":"[1]data!Y24","v":"2009-07-16"}]
["2009-07-14","2009-07-13",{"$f":"data!C25","v":24},{"$f":"data!D25","v":15},{"$f":"data!E25","v":0.95},{"$f":"data!F25","v":26},{"$f":"data!G25","v":12},{"$f":"data!H25","v":0.3},{"$f":"data!I25","v":26},{"$f":"data!J25","v":13},{"$f":"data!K25","v":22},{"$f":"data!L25","v":15},{"$f":"data!M25","v":15},{"$f":"data!N25","v":32},{"$f":"data!O25","v":0.05},{"$f":"data!P25","v":12},{"$f":"data!Q25","v":25},{"$f":"data!R25","v":0.2},"2009-07-13",{"$f":"data!U25-data!Z25","v":1.2000000000000011},{"$f":"[1]data!Y25","v":"2009-07-17"}]
["2009-07-15","2009-07-14",{"$f":"data!C26","v":17},{"$f":"data!D26","v":13},{"$f":"data!E26","v":0.75},{"$f":"data!F26","v":15},{"$f":"data!G26","v":10},{"$f":"data!H26","v":0.15},{"$f":"data!I26","v":18},{"$f":"data!J26","v":13},{"$f":"data!K26","v":13},{"$f":"data!L26","v":10},{"$f":"data!M26","v":13},{"$f":"data!N26","v":15},{"$f":"data!O26","v":0.15},{"$f":"data!P26","v":17},{"$f":"data!Q26","v":24},{"$f":"data!R26","v":0.7},"2009-07-14",{"$f":"data!U26-data!Z26","v":-4.1000000000000014},{"$f":"[1]data!Y26","v":"2009-07-18"}]
["2009-07-16","2009-07-15",{"$f":"data!C27","v":19},{"$f":"data!D27","v":13},{"$f":"data!E27","v":0.75},{"$f":"data!F27","v":21},{"$f":"data!G27","v":13},{"$f":"data!H27","v":0.05},{"$f":"data!I27","v":19},{"$f":"data!J27","v":11},{"$f":"data!K27","v":17},{"$f":"data!L27","v":9},{"$f":"data!M27","v":10},{"$f":"data!N27","v":21},{"$f":"data!O27","v":0.05},{"$f":"data!P27","v":14},{"$f":"data!Q27","v":16},{"$f":"data!R27","v":0.8},"2009-07-15",{"$f":"data!U27-data!Z27","v":-7},{"$f":"[1]data!Y27","v":"2009-07-19"}]
["2009-07-17","2009-07-16",{"$f":"data!C28","v":21},{"$f":"data!D28","v":13},{"$f":"data!E28","v":0.55000000000000004},{"$f":"data!F28","v":22},{"$f":"data!G28","v":11},{"$f":"data!H28","v":0.05},{"$f":"data!I28","v":20},{"$f":"data!J28","v":12},{"$f":"data!K28","v":18},{"$f":"data!L28","v":10},{"$f":"data!M28","v":11},{"$f":"data!N28","v":22},{"$f":"data!O28","v":0.05},{"$f":"data!P28","v":11},{"$f":"data!Q28","v":20},{"$f":"data!R28","v":0.8},"2009-07-16",{"$f":"data!U28-data!Z28","v":-0.59999999999999964},{"$f":"[1]data!Y28","v":"2009-07-20"}]
["2009-07-18","2009-07-17",{"$f":"data!C29","v":24},{"$f":"data!D29","v":12},{"$f":"data!E29","v":0.35},{"$f":"data!F29","v":27},{"$f":"data!G29","v":19},{"$f":"data!H29","v":0.5},{"$f":"data!I29","v":26},{"$f":"data!J29","v":11},{"$f":"data!K29","v":23},{"$f":"data!L29","v":8},{"$f":"data!M29","v":11},{"$f":"data!N29","v":27},{"$f":"data!O29","v":0.5},{"$f":"data!P29","v":12},{"$f":"data!Q29","v":21},{"$f":"data!R29","v":0.2},"2009-07-17",{"$f":"data!U29-data!Z29","v":-2.2000000000000011},{"$f":"[1]data!Y29","v":"2009-07-21"}]
["2009-07-19","2009-07-18",{"$f":"data!C30","v":25},{"$f":"data!D30","v":17},{"$f":"data!E30","v":0.7},{"$f":"data!F30","v":28},{"$f":"data!G30","v":14},{"$f":"data!H30","v":0.5},{"$f":"data!I30","v":26},{"$f":"data!J30","v":16},{"$f":"data!K30","v":23},{"$f":"data!L30","v":15},{"$f":"data!M30","v":17},{"$f":"data!N30","v":28},{"$f":"data!O30","v":0.5},{"$f":"data!P30","v":14},{"$f":"data!Q30","v":22},{"$f":"data!R30","v":0.6},"2009-07-18",{"$f":"data!U30-data!Z30","v":4.8999999999999986},{"$f":"[1]data!Y30","v":"2009-07-22"}]
["2009-07-20","2009-07-19",{"$f":"data!C31","v":24},{"$f":"data!D31","v":18},{"$f":"data!E31","v":0.85},{"$f":"data!F31","v":24},{"$f":"data!G31","v":14},{"$f":"data!H31","v":0.3},{"$f":"data!I31","v":27},{"$f":"data!J31","v":16},{"$f":"data!K31","v":22},{"$f":"data!L31","v":14},{"$f":"data!M31","v":15},{"$f":"data!N31","v":24},{"$f":"data!O31","v":0.3},{"$f":"data!P31","v":18},{"$f":"data!Q31","v":25},{"$f":"data!R31","v":0.9},"2009-07-19",{"$f":"data!U31-data!Z31","v":6.3000000000000007},{"$f":"[1]data!Y31","v":"2009-07-23"}]
["2009-07-22","2009-07-21",{"$f":"data!C32","v":20},{"$f":"data!D32","v":14},{"$f":"data!E32","v":0.6},{"$f":"data!F32","v":21},{"$f":"data!G32","v":7},{"$f":"data!H32","v":0.15},{"$f":"data!I32","v":21},{"$f":"data!J32","v":13},{"$f":"data!K32","v":18},{"$f":"data!L32","v":10},{"$f":"data!M32","v":12},{"$f":"data!N32","v":21},{"$f":"data!O32","v":0.15},{"$f":"data!P32","v":16},{"$f":"data!Q32","v":22},{"$f":"data!R32","v":0.4},"2009-07-21",{"$f":"data!U32-data!Z32","v":-0.5},{"$f":"[1]data!Y32","v":"2009-07-25"}]
["2009-07-23","2009-07-22",{"$f":"data!C33","v":25},{"$f":"data!D33","v":12},{"$f":"data!E33","v":0.05},{"$f":"data!F33","v":24},{"$f":"data!G33","v":10},{"$f":"data!H33","v":0.05},{"$f":"data!I33","v":22},{"$f":"data!J33","v":10},{"$f":"data!K33","v":20},{"$f":"data!L33","v":7},{"$f":"data!M33","v":7},{"$f":"data!N33","v":24},{"$f":"data!O33","v":0.05},{"$f":"data!P33","v":12},{"$f":"data!Q33","v":20},{"$f":"data!R33","v":0.5},"2009-07-22",{"$f":"data!U33-data!Z33","v":-9.1999999999999993},{"$f":"[1]data!Y33","v":"2009-07-26"}]
["2009-07-24","2009-07-23",{"$f":"data!C34","v":28},{"$f":"data!D34","v":12},{"$f":"data!E34","v":0.35},{"$f":"data!F34","v":30},{"$f":"data!G34","v":11},{"$f":"data!H34","v":0.02},{"$f":"data!I34","v":25},{"$f":"data!J34","v":12},{"$f":"data!K34","v":26},{"$f":"data!L34","v":11},{"$f":"data!M34","v":11},{"$f":"data!N34","v":30},{"$f":"data!O34","v":0},{"$f":"data!P34","v":10},{"$f":"data!Q34","v":23},{"$f":"data!R34","v":0.1},"2009-07-23",{"$f":"data!U34-data!Z34","v":-5.8000000000000007},{"$f":"[1]data!Y34","v":"2009-07-27"}]
["2009-07-25","2009-07-24",{"$f":"data!C35","v":27},{"$f":"data!D35","v":12},{"$f":"data!E35","v":0.25},{"$f":"data!F35","v":24},{"$f":"data!G35","v":11},{"$f":"data!H35","v":0.05},{"$f":"data!I35","v":23},{"$f":"data!J35","v":13},{"$f":"data!K35","v":19},{"$f":"data!L35","v":9},{"$f":"data!M35","v":11},{"$f":"data!N35","v":30},{"$f":"data!O35","v":0},{"$f":"data!P35","v":10},{"$f":"data!Q35","v":23},{"$f":"data!R35","v":0.1},"2009-07-24",{"$f":"data!U35-data!Z35","v":-3.2999999999999989},{"$f":"[1]data!Y35","v":"2009-07-28"}]
["2009-07-28","2009-07-27",{"$f":"data!C36","v":24},{"$f":"data!D36","v":10},{"$f":"data!E36","v":0.05},{"$f":"data!F36","v":25},{"$f":"data!G36","v":12},{"$f":"data!H36","v":0.05},{"$f":"data!I36","v":21},{"$f":"data!J36","v":10},{"$f":"data!K36","v":21},{"$f":"data!L36","v":6},{"$f":"data!M36","v":10},{"$f":"data!N36","v":25},{"$f":"data!O36","v":0.05},{"$f":"data!P36","v":18},{"$f":"data!Q36","v":21},{"$f":"data!R36","v":0.1},"2009-07-27",{"$f":"data!U36-data!Z36","v":-0.30000000000000071},{"$f":"[1]data!Y36","v":"2009-07-31"}]
["2009-07-29","2009-07-28",{"$f":"data!C37","v":26},{"$f":"data!D37","v":10},{"$f":"data!E37","v":0.2},{"$f":"data!F37","v":25},{"$f":"data!G37","v":13},{"$f":"data!H37","v":0.05},{"$f":"data!I37","v":27},{"$f":"data!J37","v":10},{"$f":"data!K37","v":25},{"$f":"data!L37","v":9},{"$f":"data!M37","v":8},{"$f":"data!N37","v":25},{"$f":"data!O37","v":0.05},{"$f":"data!P37","v":9},{"$f":"data!Q37","v":19},{"$f":"data!R37","v":0.2},"2009-07-28",{"$f":"data!U37-data!Z37","v":-3.0999999999999996},{"$f":"[1]data!Y37","v":"2009-08-01"}]
["2009-07-30","2009-07-29",{"$f":"data!C38","v":25},{"$f":"data!D38","v":16},{"$f":"data!E38","v":0.55000000000000004},{"$f":"data!F38","v":25},{"$f":"data!G38","v":11},{"$f":"data!H38","v":0.1},{"$f":"data!I38","v":24},{"$f":"data!J38","v":14},{"$f":"data!K38","v":19},{"$f":"data!L38","v":13},{"$f":"data!M38","v":16},{"$f":"data!N38","v":25},{"$f":"data!O38","v":0.1},{"$f":"data!P38","v":12},{"$f":"data!Q38","v":23},{"$f":"data!R38","v":0.1},"2009-07-29",{"$f":"data!U38-data!Z38","v":4.7000000000000011},{"$f":"[1]data!Y38","v":"2009-08-02"}]
["2009-07-31","2009-07-30",{"$f":"data!C39","v":21},{"$f":"data!D39","v":15},{"$f":"data!E39","v":0.6},{"$f":"data!F39","v":23},{"$f":"data!G39","v":7},{"$f":"data!H39","v":0.05},{"$f":"data!I39","v":24},{"$f":"data!J39","v":14},{"$f":"data!K39","v":19},{"$f":"data!L39","v":13},{"$f":"data!M39","v":13},{"$f":"data!N39","v":23},{"$f":"data!O39","v":0.05},{"$f":"data!P39","v":15},{"$f":"data!Q39","v":22},{"$f":"data!R39","v":0.7},"2009-07-30",{"$f":"data!U39-data!Z39","v":-1.8000000000000007},{"$f":"[1]data!Y39","v":"2009-08-03"}]
["2009-08-01","2009-07-31",{"$f":"data!C40","v":26},{"$f":"data!D40","v":11},{"$f":"data!E40","v":0.05},{"$f":"data!F40","v":26},{"$f":"data!G40","v":11},{"$f":"data!H40","v":0.05},{"$f":"data!I40","v":27},{"$f":"data!J40","v":11},{"$f":"data!K40","v":24},{"$f":"data!L40","v":7},{"$f":"data!M40","v":8},{"$f":"data!N40","v":26},{"$f":"data!O40","v":0.05},{"$f":"data!P40","v":12},{"$f":"data!Q40","v":21},{"$f":"data!R40","v":0.7},"2009-07-31",{"$f":"data!U40-data!Z40","v":-1.5},{"$f":"[1]data!Y40","v":"2009-08-04"}]
["2009-08-02","2009-08-01",{"$f":"data!C41","v":28},{"$f":"data!D41","v":13},{"$f":"data!E41","v":0.05},{"$f":"data!F41","v":28},{"$f":"data!G41","v":14},{"$f":"data!H41","v":0.02},{"$f":"data!I41","v":27},{"$f":"data!J41","v":11},{"$f":"data!K41","v":27},{"$f":"data!L41","v":12},{"$f":"data!M41","v":10},{"$f":"data!N41","v":28},{"$f":"data!O41","v":0},{"$f":"data!P41","v":12},{"$f":"data!Q41","v":23},{"$f":"data!R41","v":0.1},"2009-08-01",{"$f":"data!U41-data!Z41","v":0.89999999999999858},{"$f":"[1]data!Y41","v":"2009-08-05"}]
["2009-08-03","2009-08-02",{"$f":"data!C42","v":28},{"$f":"data!D42","v":13},{"$f":"data!E42","v":0.05},{"$f":"data!F42","v":31},{"$f":"data!G42","v":16},{"$f":"data!H42","v":0.05},{"$f":"data!I42","v":28},{"$f":"data!J42","v":12},{"$f":"data!K42","v":27},{"$f":"data!L42","v":13},{"$f":"data!M42","v":10},{"$f":"data!N42","v":28},{"$f":"data!O42","v":0},{"$f":"data!P42","v":12},{"$f":"data!Q42","v":23},{"$f":"data!R42","v":0.1},"2009-08-02",{"$f":"data!U42-data!Z42","v":-1.8000000000000007},{"$f":"[1]data!Y42","v":"2009-08-06"}]
["2009-08-04","2009-08-03",{"$f":"data!C43","v":30},{"$f":"data!D43","v":15},{"$f":"data!E43","v":0.05},{"$f":"data!F43","v":30},{"$f":"data!G43","v":16},{"$f":"data!H43","v":0.02},{"$f":"data!I43","v":30},{"$f":"data!J43","v":14},{"$f":"data!K43","v":30},{"$f":"data!L43","v":14},{"$f":"data!M43","v":13},{"$f":"data!N43","v":30},{"$f":"data!O43","v":0},{"$f":"data!P43","v":13},{"$f":"data!Q43","v":26},{"$f":"data!R43","v":0.1},"2009-08-03",{"$f":"data!U43-data!Z43","v":1.5},{"$f":"[1]data!Y43","v":"2009-08-07"}]
["2009-08-05","2009-08-04",{"$f":"data!C44","v":26},{"$f":"data!D44","v":16},{"$f":"data!E44","v":0.55000000000000004},{"$f":"data!F44","v":29},{"$f":"data!G44","v":18},{"$f":"data!H44","v":0.1},{"$f":"data!I44","v":26},{"$f":"data!J44","v":16},{"$f":"data!K44","v":22},{"$f":"data!L44","v":16},{"$f":"data!M44","v":17},{"$f":"data!N44","v":29},{"$f":"data!O44","v":0.1},{"$f":"data!P44","v":14},{"$f":"data!Q44","v":28},{"$f":"data!R44","v":0.1},"2009-08-04",{"$f":"data!U44-data!Z44","v":7.6000000000000014},{"$f":"[1]data!Y44","v":"2009-08-08"}]
["2009-08-06","2009-08-05",{"$f":"data!C45","v":27},{"$f":"data!D45","v":17},{"$f":"data!E45","v":0.6},{"$f":"data!F45","v":29},{"$f":"data!G45","v":17},{"$f":"data!H45","v":0.5},{"$f":"data!I45","v":23},{"$f":"data!J45","v":15},{"$f":"data!K45","v":29},{"$f":"data!L45","v":15},{"$f":"data!M45","v":18},{"$f":"data!N45","v":29},{"$f":"data!O45","v":0.5},{"$f":"data!P45","v":16},{"$f":"data!Q45","v":24},{"$f":"data!R45","v":0.7},"2009-08-05",{"$f":"data!U45-data!Z45","v":5.4},{"$f":"[1]data!Y45","v":"2009-08-09"}]
["2009-08-07","2009-08-06",{"$f":"data!C46","v":25},{"$f":"data!D46","v":17},{"$f":"data!E46","v":0.55000000000000004},{"$f":"data!F46","v":28},{"$f":"data!G46","v":15},{"$f":"data!H46","v":0.5},{"$f":"data!I46","v":23},{"$f":"data!J46","v":15},{"$f":"data!K46","v":20},{"$f":"data!L46","v":13},{"$f":"data!M46","v":17},{"$f":"data!N46","v":28},{"$f":"data!O46","v":0.5},{"$f":"data!P46","v":15},{"$f":"data!Q46","v":24},{"$f":"data!R46","v":0.2},"2009-08-06",{"$f":"data!U46-data!Z46","v":3.4000000000000004},{"$f":"[1]data!Y46","v":"2009-08-10"}]
["2009-08-08","2009-08-07",{"$f":"data!C47","v":22},{"$f":"data!D47","v":13},{"$f":"data!E47","v":0.45},{"$f":"data!F47","v":24},{"$f":"data!G47","v":11},{"$f":"data!H47","v":0.05},{"$f":"data!I47","v":22},{"$f":"data!J47","v":12},{"$f":"data!K47","v":18},{"$f":"data!L47","v":11},{"$f":"data!M47","v":17},{"$f":"data!N47","v":28},{"$f":"data!O47","v":0.5},{"$f":"data!P47","v":15},{"$f":"data!Q47","v":23},{"$f":"data!R47","v":0.6},"2009-08-07",{"$f":"data!U47-data!Z47","v":0.20000000000000107},{"$f":"[1]data!Y47","v":"2009-08-11"}]
["2009-08-24","2009-08-23",{"$f":"data!C48","v":26},{"$f":"data!D48","v":14},{"$f":"data!E48","v":0.2},{"$f":"data!F48","v":27},{"$f":"data!G48","v":14},{"$f":"data!H48","v":0.02},{"$f":"data!I48","v":26},{"$f":"data!J48","v":13},{"$f":"data!K48","v":22},{"$f":"data!L48","v":13},{"$f":"data!M48","v":12},{"$f":"data!N48","v":27},{"$f":"data!O48","v":0},{"$f":"data!P48","v":12},{"$f":"data!Q48","v":25},{"$f":"data!R48","v":0.1},"2009-08-23",{"$f":"data!U48-data!Z48","v":5.1000000000000014},{"$f":"[1]data!Y48","v":"2009-08-27"}]
["2009-08-25","2009-08-24",{"$f":"data!C49","v":24},{"$f":"data!D49","v":15},{"$f":"data!E49","v":0.35},{"$f":"data!F49","v":25},{"$f":"data!G49","v":11},{"$f":"data!H49","v":0.05},{"$f":"data!I49","v":26},{"$f":"data!J49","v":14},{"$f":"data!K49","v":19},{"$f":"data!L49","v":14},{"$f":"data!M49","v":15},{"$f":"data!N49","v":25},{"$f":"data!O49","v":0.05},{"$f":"data!P49","v":15},{"$f":"data!Q49","v":24},{"$f":"data!R49","v":0.6},"2009-08-24",{"$f":"data!U49-data!Z49","v":4.5},{"$f":"[1]data!Y49","v":"2009-08-28"}]
["2009-08-27","2009-08-26",{"$f":"data!C50","v":21},{"$f":"data!D50","v":8},{"$f":"data!E50","v":0.05},{"$f":"data!F50","v":21},{"$f":"data!G50","v":9},{"$f":"data!H50","v":0.05},{"$f":"data!I50","v":21},{"$f":"data!J50","v":7},{"$f":"data!K50","v":18},{"$f":"data!L50","v":6},{"$f":"data!M50","v":7},{"$f":"data!N50","v":21},{"$f":"data!O50","v":0.05},{"$f":"data!P50","v":9},{"$f":"data!Q50","v":19},{"$f":"data!R50","v":0.1},"2009-08-26",{"$f":"data!U50-data!Z50","v":-7.1999999999999993},{"$f":"[1]data!Y50","v":"2009-08-30"}]
["2009-08-28","2009-08-27",{"$f":"data!C51","v":24},{"$f":"data!D51","v":9},{"$f":"data!E51","v":0.05},{"$f":"data!F51","v":25},{"$f":"data!G51","v":10},{"$f":"data!H51","v":0.05},{"$f":"data!I51","v":26},{"$f":"data!J51","v":8},{"$f":"data!K51","v":23},{"$f":"data!L51","v":6},{"$f":"data!M51","v":6},{"$f":"data!N51","v":25},{"$f":"data!O51","v":0.05},{"$f":"data!P51","v":8},{"$f":"data!Q51","v":22},{"$f":"data!R51","v":0.1},"2009-08-27",{"$f":"data!U51-data!Z51","v":-6.8000000000000007},{"$f":"[1]data!Y51","v":"2009-08-31"}]
["2009-08-30","2009-08-29",{"$f":"data!C52","v":22},{"$f":"data!D52","v":14},{"$f":"data!E52","v":0.4},{"$f":"data!F52","v":23},{"$f":"data!G52","v":14},{"$f":"data!H52","v":0.05},{"$f":"data!I52","v":22},{"$f":"data!J52","v":15},{"$f":"data!K52","v":19},{"$f":"data!L52","v":12},{"$f":"data!M52","v":14},{"$f":"data!N52","v":23},{"$f":"data!O52","v":0.05},{"$f":"data!P52","v":17},{"$f":"data!Q52","v":21},{"$f":"data!R52","v":0.6},"2009-08-29",{"$f":"data!U52-data!Z52","v":3.0999999999999996},{"$f":"[1]data!Y52","v":"2009-09-02"}]
["2009-08-31","2009-08-30",{"$f":"data!C53","v":19},{"$f":"data!D53","v":12},{"$f":"data!E53","v":0.55000000000000004},{"$f":"data!F53","v":22},{"$f":"data!G53","v":13},{"$f":"data!H53","v":0.05},{"$f":"data!I53","v":22},{"$f":"data!J53","v":12},{"$f":"data!K53","v":18},{"$f":"data!L53","v":10},{"$f":"data!M53","v":14},{"$f":"data!N53","v":22},{"$f":"data!O53","v":0.05},{"$f":"data!P53","v":14},{"$f":"data!Q53","v":19},{"$f":"data!R53","v":0.6},"2009-08-30",{"$f":"data!U53-data!Z53","v":8.1999999999999993},{"$f":"[1]data!Y53","v":"2009-09-03"}]
["2009-09-01","2009-08-31",{"$f":"data!C54","v":16},{"$f":"data!D54","v":13},{"$f":"data!E54","v":0.75},{"$f":"data!F54","v":17},{"$f":"data!G54","v":12},{"$f":"data!H54","v":0.5},{"$f":"data!I54","v":18},{"$f":"data!J54","v":13},{"$f":"data!K54","v":13},{"$f":"data!L54","v":11},{"$f":"data!M54","v":12},{"$f":"data!N54","v":17},{"$f":"data!O54","v":0.5},{"$f":"data!P54","v":11},{"$f":"data!Q54","v":14},{"$f":"data!R54","v":0.9},"2009-08-31",{"$f":"data!U54-data!Z54","v":3.4000000000000004},{"$f":"[1]data!Y54","v":"2009-09-04"}]
["2009-09-03","2009-09-02",{"$f":"data!C55","v":19},{"$f":"data!D55","v":10},{"$f":"data!E55","v":0.2},{"$f":"data!F55","v":19},{"$f":"data!G55","v":8},{"$f":"data!H55","v":0.1},{"$f":"data!I55","v":19},{"$f":"data!J55","v":9},{"$f":"data!K55","v":16},{"$f":"data!L55","v":10},{"$f":"data!M55","v":10},{"$f":"data!N55","v":19},{"$f":"data!O55","v":0.1},{"$f":"data!P55","v":8},{"$f":"data!Q55","v":18},{"$f":"data!R55","v":0.2},"2009-09-02",{"$f":"data!U55-data!Z55","v":-5.9},{"$f":"[1]data!Y55","v":"2009-09-06"}]
["2009-09-04","2009-09-03",{"$f":"data!C56","v":21},{"$f":"data!D56","v":8},{"$f":"data!E56","v":0.2},{"$f":"data!F56","v":23},{"$f":"data!G56","v":11},{"$f":"data!H56","v":0.05},{"$f":"data!I56","v":21},{"$f":"data!J56","v":8},{"$f":"data!K56","v":18},{"$f":"data!L56","v":8},{"$f":"data!M56","v":10},{"$f":"data!N56","v":23},{"$f":"data!O56","v":0.05},{"$f":"data!P56","v":9},{"$f":"data!Q56","v":20},{"$f":"data!R56","v":0.2},"2009-09-03",{"$f":"data!U56-data!Z56","v":-5.6},{"$f":"[1]data!Y56","v":"2009-09-07"}]
["2009-09-05","2009-09-04",{"$f":"data!C57","v":25},{"$f":"data!D57","v":11},{"$f":"data!E57","v":0.05},{"$f":"data!F57","v":26},{"$f":"data!G57","v":13},{"$f":"data!H57","v":0.05},{"$f":"data!I57","v":24},{"$f":"data!J57","v":9},{"$f":"data!K57","v":23},{"$f":"data!L57","v":8},{"$f":"data!M57","v":11},{"$f":"data!N57","v":26},{"$f":"data!O57","v":0.05},{"$f":"data!P57","v":11},{"$f":"data!Q57","v":24},{"$f":"data!R57","v":0.1},"2009-09-04",{"$f":"data!U57-data!Z57","v":-2.3000000000000007},{"$f":"[1]data!Y57","v":"2009-09-08"}]
["2009-09-06","2009-09-05",{"$f":"data!C58","v":27},{"$f":"data!D58","v":11},{"$f":"data!E58","v":0.05},{"$f":"data!F58","v":28},{"$f":"data!G58","v":14},{"$f":"data!H58","v":0.05},{"$f":"data!I58","v":24},{"$f":"data!J58","v":11},{"$f":"data!K58","v":26},{"$f":"data!L58","v":10},{"$f":"data!M58","v":12},{"$f":"data!N58","v":28},{"$f":"data!O58","v":0.05},{"$f":"data!P58","v":12},{"$f":"data!Q58","v":24},{"$f":"data!R58","v":0.3},"2009-09-05",{"$f":"data!U58-data!Z58","v":-1},{"$f":"[1]data!Y58","v":"2009-09-09"}]
["2009-09-08","2009-09-07",{"$f":"data!C59","v":21},{"$f":"data!D59","v":13},{"$f":"data!E59","v":0.2},{"$f":"data!F59","v":21},{"$f":"data!G59","v":11},{"$f":"data!H59","v":0.05},{"$f":"data!I59","v":20},{"$f":"data!J59","v":11},{"$f":"data!K59","v":19},{"$f":"data!L59","v":10},{"$f":"data!M59","v":13},{"$f":"data!N59","v":21},{"$f":"data!O59","v":0.05},{"$f":"data!P59","v":13},{"$f":"data!Q59","v":19},{"$f":"data!R59","v":0.2},"2009-09-07",{"$f":"data!U59-data!Z59","v":5.0999999999999996},{"$f":"[1]data!Y59","v":"2009-09-11"}]
["2009-09-09","2009-09-08",{"$f":"data!C60","v":20},{"$f":"data!D60","v":11},{"$f":"data!E60","v":0.3},{"$f":"data!F60","v":22},{"$f":"data!G60","v":10},{"$f":"data!H60","v":0.1},{"$f":"data!I60","v":18},{"$f":"data!J60","v":9},{"$f":"data!K60","v":17},{"$f":"data!L60","v":9},{"$f":"data!M60","v":14},{"$f":"data!N60","v":22},{"$f":"data!O60","v":0.1},{"$f":"data!P60","v":14},{"$f":"data!Q60","v":19},{"$f":"data!R60","v":0.3},"2009-09-08",{"$f":"data!U60-data!Z60","v":3.5},{"$f":"[1]data!Y60","v":"2009-09-12"}]
["2009-09-10","2009-09-09",{"$f":"data!C61","v":18},{"$f":"data!D61","v":10},{"$f":"data!E61","v":0.2},{"$f":"data!F61","v":19},{"$f":"data!G61","v":13},{"$f":"data!H61","v":10},{"$f":"data!I61","v":20},{"$f":"data!J61","v":9},{"$f":"data!K61","v":14},{"$f":"data!L61","v":6},{"$f":"data!M61","v":13},{"$f":"data!N61","v":19},{"$f":"data!O61","v":0.1},{"$f":"data!P61","v":12},{"$f":"data!Q61","v":17},{"$f":"data!R61","v":0.2},"2009-09-09",{"$f":"data!U61-data!Z61","v":-0.80000000000000071},{"$f":"[1]data!Y61","v":"2009-09-13"}]
["2009-09-11","2009-09-10",{"$f":"data!C62","v":17},{"$f":"data!D62","v":11},{"$f":"data!E62","v":0.35},{"$f":"data!F62","v":17},{"$f":"data!G62","v":11},{"$f":"data!H62","v":0.15},{"$f":"data!I62","v":18},{"$f":"data!J62","v":9},{"$f":"data!K62","v":15},{"$f":"data!L62","v":9},{"$f":"data!M62","v":11},{"$f":"data!N62","v":17},{"$f":"data!O62","v":15},{"$f":"data!P62","v":11},{"$f":"data!Q62","v":16},{"$f":"data!R62","v":0.8},"2009-09-10",{"$f":"data!U62-data!Z62","v":-3.8000000000000007},{"$f":"[1]data!Y62","v":"2009-09-14"}]
["2009-09-12","2009-09-11",{"$f":"data!C63","v":16},{"$f":"data!D63","v":11},{"$f":"data!E63","v":0.7},{"$f":"data!F63","v":18},{"$f":"data!G63","v":12},{"$f":"data!H63","v":30},{"$f":"data!I63","v":21},{"$f":"data!J63","v":10},{"$f":"data!K63","v":12},{"$f":"data!L63","v":8},{"$f":"data!M63","v":11},{"$f":"data!N63","v":18},{"$f":"data!O63","v":0.3},{"$f":"data!P63","v":8},{"$f":"data!Q63","v":15},{"$f":"data!R63","v":0.7},"2009-09-11",{"$f":"data!U63-data!Z63","v":-1.7999999999999989},{"$f":"[1]data!Y63","v":"2009-09-15"}]
["2009-09-13","2009-09-12",{"$f":"data!C64","v":24},{"$f":"data!D64","v":12},{"$f":"data!E64","v":0.1},{"$f":"data!F64","v":26},{"$f":"data!G64","v":15},{"$f":"data!H64","v":0.05},{"$f":"data!I64","v":22},{"$f":"data!J64","v":10},{"$f":"data!K64","v":23},{"$f":"data!L64","v":10},{"$f":"data!M64","v":12},{"$f":"data!N64","v":26},{"$f":"data!O64","v":0.05},{"$f":"data!P64","v":11},{"$f":"data!Q64","v":23},{"$f":"data!R64","v":0.2},"2009-09-12",{"$f":"data!U64-data!Z64","v":2.5999999999999996},{"$f":"[1]data!Y64","v":"2009-09-16"}]
["2009-09-14","2009-09-13",{"$f":"data!C65","v":23},{"$f":"data!D65","v":13},{"$f":"data!E65","v":0.1},{"$f":"data!F65","v":23},{"$f":"data!G65","v":11},{"$f":"data!H65","v":0.05},{"$f":"data!I65","v":18},{"$f":"data!J65","v":12},{"$f":"data!K65","v":20},{"$f":"data!L65","v":13},{"$f":"data!M65","v":13},{"$f":"data!N65","v":23},{"$f":"data!O65","v":0.05},{"$f":"data!P65","v":14},{"$f":"data!Q65","v":20},{"$f":"data!R65","v":0.5},"2009-09-13",{"$f":"data!U65-data!Z65","v":4.5},{"$f":"[1]data!Y65","v":"2009-09-17"}]
["2009-09-15","2009-09-14",{"$f":"data!C66","v":22},{"$f":"data!D66","v":8},{"$f":"data!E66","v":0.05},{"$f":"data!F66","v":23},{"$f":"data!G66","v":10},{"$f":"data!H66","v":0.02},{"$f":"data!I66","v":20},{"$f":"data!J66","v":8},{"$f":"data!K66","v":20},{"$f":"data!L66","v":6},{"$f":"data!M66","v":8},{"$f":"data!N66","v":23},{"$f":"data!O66","v":0},{"$f":"data!P66","v":9},{"$f":"data!Q66","v":22},{"$f":"data!R66","v":0.1},"2009-09-14",{"$f":"data!U66-data!Z66","v":1.2000000000000011},{"$f":"[1]data!Y66","v":"2009-09-18"}]
["2009-09-16","2009-09-15",{"$f":"data!C67","v":23},{"$f":"data!D67","v":9},{"$f":"data!E67","v":0.05},{"$f":"data!F67","v":24},{"$f":"data!G67","v":9},{"$f":"data!H67","v":0.02},{"$f":"data!I67","v":22},{"$f":"data!J67","v":8},{"$f":"data!K67","v":20},{"$f":"data!L67","v":10},{"$f":"data!M67","v":9},{"$f":"data!N67","v":24},{"$f":"data!O67","v":0},{"$f":"data!P67","v":11},{"$f":"data!Q67","v":22},{"$f":"data!R67","v":0.1},"2009-09-15",{"$f":"data!U67-data!Z67","v":2.1999999999999993},{"$f":"[1]data!Y67","v":"2009-09-19"}]
["2009-09-17","2009-09-16",{"$f":"data!C68","v":23},{"$f":"data!D68","v":12},{"$f":"data!E68","v":0.35},{"$f":"data!F68","v":25},{"$f":"data!G68","v":10},{"$f":"data!H68","v":0.02},{"$f":"data!I68","v":21},{"$f":"data!J68","v":11},{"$f":"data!K68","v":21},{"$f":"data!L68","v":10},{"$f":"data!M68","v":9},{"$f":"data!N68","v":24},{"$f":"data!O68","v":0},{"$f":"data!P68","v":12},{"$f":"data!Q68","v":21},{"$f":"data!R68","v":0.3},"2009-09-16",{"$f":"data!U68-data!Z68","v":0.80000000000000071},{"$f":"[1]data!Y68","v":"2009-09-20"}]
["2009-09-18","2009-09-17",{"$f":"data!C69","v":23},{"$f":"data!D69","v":13},{"$f":"data!E69","v":0.55000000000000004},{"$f":"data!F69","v":26},{"$f":"data!G69","v":11},{"$f":"data!H69","v":0.05},{"$f":"data!I69","v":22},{"$f":"data!J69","v":11},{"$f":"data!K69","v":21},{"$f":"data!L69","v":12},{"$f":"data!M69","v":13},{"$f":"data!N69","v":26},{"$f":"data!O69","v":0.05},{"$f":"data!P69","v":13},{"$f":"data!Q69","v":23},{"$f":"data!R69","v":0.2},"2009-09-17",{"$f":"data!U69-data!Z69","v":2.3000000000000007},{"$f":"[1]data!Y69","v":"2009-09-21"}]
[]
["első","qvartilis",{"$f":"QUARTILE(C$3:C$52,1)","v":21},{"$f":"QUARTILE(D$3:D$52,1)","v":12},0.2,22,11,0.05,21,11,19,9,10.25,22,0.05,11,19.25,0.1]
["második","qvartilis",{"$f":"QUARTILE(C$3:C$52,2)","v":24},{"$f":"QUARTILE(D$3:D$52,2)","v":13},0.45,25,13,0.05,24,13,22,10,12,25,0.05,12,22.5,0.35]
["harmadik","qvartilis",{"$f":"QUARTILE(C$3:C$52,3)","v":26},{"$f":"QUARTILE(D$3:D$52,3)","v":15},0.6,27.75,14.75,0.3,26,14,24,13,15,28,0.45,15,24,0.7]
[null,null,null,null,null,null,null,null,null,null,null,null,null,null,null,null,null,null,"delta"]
[null,null,null,null,null,null,null,null,null,null,null,null,null,null,null,null,null,null,"(tény+10)*100"]
["minar1",null,{"$f":"IF(C3<C$64,1,IF(C3<C$65,2,IF(C3<C$66,3,4)))","v":4},{"$f":"IF(D3<D$64,1,IF(D3<D$65,2,IF(D3<D$66,3,4)))","v":4},2,4,4,3,4,4,4,4,4,4,3,4,4,2,{"$f":"(T3+10)*100","v":1199.9999999999998},"méret:","50*16(+1)"]
[null,null,{"$f":"IF(C4<C$64,1,IF(C4<C$65,2,IF(C4<C$66,3,4)))","v":4},4,2,4,4,3,4,4,4,4,4,4,3,4,4,2,{"$f":"(T4+10)*100","v":1400}]
[null,null,4,4,3,4,4,4,4,4,4,4,4,4,4,4,4,2,850]
[null,null,3,4,3,3,3,4,3,4,3,3,3,3,4,4,3,4,720.00000000000011]
[null,null,3,4,4,3,4,3,2,4,3,4,3,3,3,4,3,4,830.00000000000011]
[null,null,3,4,3,2,2,4,2,3,3,3,3,2,4,3,1,4,729.99999999999989]
[null,null,1,3,4,1,1,4,1,3,2,3,3,1,4,3,1,4,599.99999999999977]
[null,null,1,3,4,1,2,4,1,2,2,2,3,1,3,3,1,4,779.99999999999989]
[null,null,1,1,3,1,2,4,1,1,1,1,1,1,4,2,1,4,440.00000000000006]
[null,null,1,1,3,1,1,3,1,2,1,3,3,1,3,1,1,4,720.00000000000011]
[null,null,2,1,4,3,4,3,2,1,2,2,2,3,3,2,1,2,980.00000000000011]
[null,null,3,3,1,3,3,3,3,3,3,1,1,3,3,2,2,2,1290]
[null,null,3,4,4,2,4,4,3,4,4,4,4,2,4,3,4,3,1750]
[null,null,3,4,4,3,4,3,4,4,4,4,4,2,4,4,4,3,1600]
[null,null,4,3,1,4,3,3,4,3,4,2,2,4,3,4,4,3,979.99999999999989]
[null,null,3,4,4,3,2,4,4,3,3,4,4,4,3,3,4,2,1120]
[null,null,1,3,4,1,1,3,1,3,1,3,3,1,3,4,4,{"$f":"IF(R19<R$64,1,IF(R19<R$65,2,IF(R19<R$66,3,4)))","v":4},589.99999999999989]
[null,null,{"$f":"IF(C20<C$64,1,IF(C20<C$65,2,IF(C20<C$66,3,4)))","v":1},3,4,1,3,3,1,2,1,2,1,1,3,3,1,4,300]
[null,null,2,3,3,2,2,3,1,2,1,3,2,2,3,2,2,4,940]
[null,null,3,2,2,3,4,4,4,2,3,1,2,3,4,3,2,2,779.99999999999989]
[null,null,3,4,4,4,3,4,4,4,3,4,4,4,4,3,2,3,1489.9999999999998]
[null,null,3,4,4,2,3,4,4,4,3,4,4,2,3,4,4,4,1630]
[null,null,1,3,4,1,1,3,2,3,1,3,3,1,3,4,2,3,950]
[null,null,3,2,1,2,1,3,2,1,2,1,1,2,3,3,2,3,80.000000000000071]
[null,null,4,2,2,4,2,1,3,2,4,3,2,4,1,1,3,2,419.99999999999994]
[null,null,4,2,2,2,2,3,2,3,2,2,2,4,1,1,3,2,670.00000000000011]
[null,null,3,1,1,3,2,3,2,1,2,1,1,3,3,4,2,2,969.99999999999989]
[null,null,4,1,2,3,3,3,4,1,4,2,1,3,3,1,1,2,690]
[null,null,3,4,3,3,2,3,3,4,2,4,4,3,3,3,3,2,1470]
[null,null,2,4,4,2,1,3,3,4,2,4,3,2,3,4,2,4,819.99999999999989]
[null,null,4,1,1,3,2,3,4,2,4,1,1,3,3,3,2,4,850]
[null,null,4,3,1,4,3,1,4,2,4,3,1,4,1,3,3,2,1089.9999999999998]
[null,null,4,3,1,4,4,3,4,2,4,4,1,4,1,3,3,{"$f":"IF(R35<R$64,1,IF(R35<R$65,2,IF(R35<R$66,3,4)))","v":2},819.99999999999989]
[null,null,{"$f":"IF(C36<C$64,1,IF(C36<C$65,2,IF(C36<C$66,3,4)))","v":4},4,1,4,4,1,4,4,4,4,3,4,1,3,4,2,1150]
[null,null,4,4,3,4,4,3,4,4,3,4,4,4,3,3,4,2,1760.0000000000002]
[null,null,4,4,4,4,4,4,2,4,4,4,4,4,4,4,4,4,1540]
[null,null,3,4,3,4,4,4,2,4,2,4,4,4,4,4,4,2,1340]
[null,null,2,3,3,2,2,3,2,2,1,3,4,4,4,4,3,3,1020.0000000000001]
[null,null,4,3,2,3,3,1,4,3,3,4,3,3,1,3,4,2,1510.0000000000002]
[null,null,3,4,2,3,2,3,4,4,2,4,4,3,3,4,4,3,1450]
[null,null,2,1,1,1,1,3,2,1,1,1,1,1,3,1,1,2,280.00000000000006]
[null,null,3,1,1,3,1,3,4,1,3,1,1,3,3,1,2,2,319.99999999999994]
[null,null,2,3,2,2,3,3,2,4,2,3,3,2,3,4,2,3,1310]
[null,null,1,2,3,2,3,3,2,2,1,3,3,2,3,3,1,3,1820]
[null,null,1,3,4,1,2,4,1,3,1,3,3,1,4,2,1,4,1340]
[null,null,1,1,2,1,1,3,1,1,1,3,1,1,3,1,1,2,409.99999999999994]
[null,null,2,1,2,2,2,3,2,1,1,1,1,2,3,1,2,2,440.00000000000006]
[null,null,3,1,1,3,3,3,3,1,3,1,2,3,3,2,4,2,769.99999999999989]
[null,null,4,1,1,4,3,3,3,2,4,3,3,4,3,3,4,{"$f":"IF(R51<R$64,1,IF(R51<R$65,2,IF(R51<R$66,3,4)))","v":2},900]
[null,null,{"$f":"IF(C52<C$64,1,IF(C52<C$65,2,IF(C52<C$66,3,4)))","v":2},3,2,1,2,3,1,2,2,3,3,1,3,3,1,2,1510]
[null,null,1,1,2,2,1,3,1,1,1,2,3,2,3,3,1,2,1350]
[null,null,1,1,2,1,3,4,1,1,1,1,3,1,3,3,1,2,919.99999999999989]
[null,null,1,1,2,1,2,3,1,1,1,2,2,1,4,2,1,4,619.99999999999989]
[null,null,1,1,4,1,2,4,2,1,1,1,2,1,3,1,1,4,820.00000000000011]
[null,null,3,2,1,3,4,3,2,1,3,3,3,3,3,2,3,2,1260]
[null,null,2,3,1,2,2,3,1,2,2,4,3,2,3,3,2,3,1450]
[null,null,2,1,1,2,1,1,1,1,2,1,1,2,1,1,2,2,1120]
[null,null,2,1,1,2,1,1,2,1,2,3,1,2,1,2,2,2,1220]
[null,null,2,2,2,3,1,1,2,2,2,3,1,2,1,3,2,2,1080]
[null,null,2,3,3,3,2,3,2,2,2,3,3,3,3,3,3,2,1230]
[]
["LINEÁRIS közelítés (additív)"]
[]
["A feladat alapadatainak visszaigazolása:","-"]
["Feladat azonosítója:","minar1"]
["Objektumok (primer sorok) száma:",50]
["X-attribútumok (oszlopok) száma:",16]
["Lépcsők száma:",4]
["Az eltolás mértéke",0]
["A feladat részletes jellemzése","MCM: demo"]
[]
[]
["Rangsorszámok","X (A1)","X (A2)","X (A3)","X (A4)","X (A5)","X (A6)","X (A7)","X (A8)","X (A9)","X (A10)","X (A11)","X (A12)","X (A13)","X (A14)","X (A15)","X (A16)","Y (A17)"]
["feladatkód N°= minar1"]
["O(1)",4,4,2,4,4,3,4,4,4,4,4,4,3,4,4,2,1200]
["O(2)",4,4,2,4,4,3,4,4,4,4,4,4,3,4,4,2,1400]
["O(3)",4,4,3,4,4,4,4,4,4,4,4,4,4,4,4,2,850]
["O(4)",3,4,3,3,3,4,3,4,3,3,3,3,4,4,3,4,720]
["O(5)",3,4,4,3,4,3,2,4,3,4,3,3,3,4,3,4,830]
["O(6)",3,4,3,2,2,4,2,3,3,3,3,2,4,3,1,4,730]
["O(7)",1,3,4,1,1,4,1,3,2,3,3,1,4,3,1,4,600]
["O(8)",1,3,4,1,2,4,1,2,2,2,3,1,3,3,1,4,780]
["O(9)",1,1,3,1,2,4,1,1,1,1,1,1,4,2,1,4,440]
["O(10)",1,1,3,1,1,3,1,2,1,3,3,1,3,1,1,4,720]
["O(11)",2,1,4,3,4,3,2,1,2,2,2,3,3,2,1,2,980]
["O(12)",3,3,1,3,3,3,3,3,3,1,1,3,3,2,2,2,1290]
["O(13)",3,4,4,2,4,4,3,4,4,4,4,2,4,3,4,3,1750]
["O(14)",3,4,4,3,4,3,4,4,4,4,4,2,4,4,4,3,1600]
["O(15)",4,3,1,4,3,3,4,3,4,2,2,4,3,4,4,3,980]
["O(16)",3,4,4,3,2,4,4,3,3,4,4,4,3,3,4,2,1120]
["O(17)",1,3,4,1,1,3,1,3,1,3,3,1,3,4,4,4,590]
["O(18)",1,3,4,1,3,3,1,2,1,2,1,1,3,3,1,4,300]
["O(19)",2,3,3,2,2,3,1,2,1,3,2,2,3,2,2,4,940]
["O(20)",3,2,2,3,4,4,4,2,3,1,2,3,4,3,2,2,780]
["O(21)",3,4,4,4,3,4,4,4,3,4,4,4,4,3,2,3,1490]
["O(22)",3,4,4,2,3,4,4,4,3,4,4,2,3,4,4,4,1630]
["O(23)",1,3,4,1,1,3,2,3,1,3,3,1,3,4,2,3,950]
["O(24)",3,2,1,2,1,3,2,1,2,1,1,2,3,3,2,3,80]
["O(25)",4,2,2,4,2,1,3,2,4,3,2,4,1,1,3,2,420]
["O(26)",4,2,2,2,2,3,2,3,2,2,2,4,1,1,3,2,670]
["O(27)",3,1,1,3,2,3,2,1,2,1,1,3,3,4,2,2,970]
["O(28)",4,1,2,3,3,3,4,1,4,2,1,3,3,1,1,2,690]
["O(29)",3,4,3,3,2,3,3,4,2,4,4,3,3,3,3,2,1470]
["O(30)",2,4,4,2,1,3,3,4,2,4,3,2,3,4,2,4,820]
["O(31)",4,1,1,3,2,3,4,2,4,1,1,3,3,3,2,4,850]
["O(32)",4,3,1,4,3,1,4,2,4,3,1,4,1,3,3,2,1090]
["O(33)",4,3,1,4,4,3,4,2,4,4,1,4,1,3,3,2,820]
["O(34)",4,4,1,4,4,1,4,4,4,4,3,4,1,3,4,2,1150]
["O(35)",4,4,3,4,4,3,4,4,3,4,4,4,3,3,4,2,1760]
["O(36)",4,4,4,4,4,4,2,4,4,4,4,4,4,4,4,4,1540]
["O(37)",3,4,3,4,4,4,2,4,2,4,4,4,4,4,4,2,1340]
["O(38)",2,3,3,2,2,3,2,2,1,3,4,4,4,4,3,3,1020]
["O(39)",4,3,2,3,3,1,4,3,3,4,3,3,1,3,4,2,1510]
["O(40)",3,4,2,3,2,3,4,4,2,4,4,3,3,4,4,3,1450]
["O(41)",2,1,1,1,1,3,2,1,1,1,1,1,3,1,1,2,280]
["O(42)",3,1,1,3,1,3,4,1,3,1,1,3,3,1,2,2,320]
["O(43)",2,3,2,2,3,3,2,4,2,3,3,2,3,4,2,3,1310]
["O(44)",1,2,3,2,3,3,2,2,1,3,3,2,3,3,1,3,1820]
["O(45)",1,3,4,1,2,4,1,3,1,3,3,1,4,2,1,4,1340]
["O(46)",1,1,2,1,1,3,1,1,1,3,1,1,3,1,1,2,410]
["O(47)",2,1,2,2,2,3,2,1,1,1,1,2,3,1,2,2,440]
["O(48)",3,1,1,3,3,3,3,1,3,1,2,3,3,2,4,2,770]
["O(49)",4,1,1,4,3,3,3,2,4,3,3,4,3,3,4,2,900]
["O(50)",2,3,2,1,2,3,1,2,2,3,3,1,3,3,1,2,1510]
["Lépcsők (átlag)","X (A1)","X (A2)","X (A3)","X (A4)","X (A5)","X (A6)","X (A7)","X (A8)","X (A9)","X (A10)","X (A11)","X (A12)","X (A13)","X (A14)","X (A15)","X (A16)"]
["feladatkód N°= minar1"]
["S1","(0+0)/2=0","(0+0)/2=0","(0+304)/2=152","(0+0)/2=0","(0+0)/2=0","(0+0)/2=0","(0+0)/2=0","(0+0)/2=0","(0+0)/2=0","(0+0)/2=0","(0+0)/2=0","(0+0)/2=0","(50+0)/2=25","(0+0)/2=0","(10+301)/2=155.5","(0+0)/2=0"]
["S2","(220+0)/2=110","(0+163)/2=81.5","(220+0)/2=110","(0+0)/2=0","(0+105)/2=52.5","(0+0)/2=0","(0+249)/2=124.5","(150+0)/2=75","(0+114)/2=57","(0+0)/2=0","(0+0)/2=0","(0+263)/2=131.5","(0+0)/2=0","(430+313)/2=371.5","(0+11)/2=5.5","(0+77)/2=38.5"]
["S3","(0+0)/2=0","(30+234)/2=132","(0+0)/2=0","(90+65)/2=77.5","(110+141)/2=125.5","(0+32)/2=16","(0+0)/2=0","(180+0)/2=90","(0+114)/2=57","(0+0)/2=0","(380+387)/2=383.5","(140+0)/2=70","(0+0)/2=0","(0+259)/2=129.5","(0+0)/2=0","(80+24)/2=52"]
["S4","(0+74)/2=37","(0+0)/2=0","(0+0)/2=0","(0+0)/2=0","(0+105)/2=52.5","(0+0)/2=0","(90+0)/2=45","(0+0)/2=0","(0+0)/2=0","(220+0)/2=110","(540+941)/2=740.5","(0+0)/2=0","(0+0)/2=0","(0+13)/2=6.5","(0+158)/2=79","(0+0)/2=0"]
["Lépcsők (átlag)","X (A1)","X (A2)","X (A3)","X (A4)","X (A5)","X (A6)","X (A7)","X (A8)","X (A9)","X (A10)","X (A11)","X (A12)","X (A13)","X (A14)","X (A15)","X (A16)"]
["feladatkód N°= minar1"]
["S1",0,0,152,0,0,0,0,0,0,0,0,0,25,0,155.5,0,null,null,null,null,null,{"$f":"(ABS(W202)+ABS(W203))/2","v":10.825000000000001}]
["S2",110,81.5,110,0,52.5,0,124.5,75,57,0,0,131.5,0,371.5,5.5,38.5,null,null,null,null,"max",{"$f":"MAX(W208:W267)","v":11.751000000000001}]
["S3",0,132,0,77.5,125.5,16,0,90,57,0,383.5,70,0,129.5,0,52,null,null,null,null,"min",{"$f":"MIN(W208:W267)","v":-9.8990000000000009}]
["S4",37,0,0,0,52.5,0,45,0,0,110,740.5,0,0,6.5,79,0,null,null,null,null,"határért.",23.286000000000001]
["COCO-matrix N°: minar1","X (A1)","X (A2)","X (A3)","X (A4)","X (A5)","X (A6)","X (A7)","X (A8)","X (A9)","X (A10)","X (A11)","X (A12)","X (A13)","X (A14)","X (A15)","X (A16)","Y(*) (A17)","Y","delta","%"]
[null,null,null,null,null,null,null,null,null,null,null,null,null,null,null,null,null,null,null,null,null,null,"visszakorrigált","visszakorrigált","prognózis","találat"]
[null,null,null,null,null,null,null,null,null,null,null,null,null,null,null,null,null,null,null,"=Y-Y(*)",{"$f":"delta/Y","v":{"$error":"#NAME?"}},null,"prognózis","bináris tény","irány",{"$f":"SUM(Z208:Z257)/50","v":0.82},"a tanulási minta beválása"]
["O(1)",37,0,110,0,52.5,16,45,0,0,110,740.5,0,0,6.5,79,38.5,1235,1200,-35,-2.92,null,{"$f":"((R208/100)-10)-data!Y10+$W$204","v":3.2360000000000042},{"$f":"IF((S208/100)-10>0,1,0)","v":1},{"$f":"IF(W208>0,1,0)","v":1},{"$f":"IF(X208=Y208,1,0)","v":1}]
["O(2)",37,0,110,0,52.5,16,45,0,0,110,740.5,0,0,6.5,79,38.5,1235,1400,165,11.79,null,{"$f":"((R209/100)-10)-data!Y11+$W$204","v":-1.5640000000000001},{"$f":"IF((S209/100)-10>0,1,0)","v":1},{"$f":"IF(W209>0,1,0)","v":0},{"$f":"IF(X209=Y209,1,0)","v":0}]
["O(3)",37,0,0,0,52.5,0,45,0,0,110,740.5,0,0,6.5,79,38.5,1109,850,-259,-30.47,null,{"$f":"((R210/100)-10)-data!Y12+$W$204","v":-2.5239999999999974},0,0,1]
["O(4)",0,0,0,77.5,125.5,0,0,0,57,0,383.5,70,0,6.5,0,0,720,720,0,0,null,{"$f":"((R211/100)-10)-data!Y13+$W$204","v":-8.1140000000000008},0,0,1]
["O(5)",0,0,0,77.5,52.5,16,124.5,0,57,110,383.5,70,0,6.5,0,0,897.5,830,-67.5,-8.1300000000000008,null,{"$f":"((R212/100)-10)-data!Y14+$W$204","v":-6.7389999999999972},0,0,1]
["O(6)",0,0,0,0,52.5,0,124.5,90,57,0,383.5,131.5,0,129.5,155.5,0,1124,730,-394,-53.97,null,{"$f":"((R213/100)-10)-data!Y15+$W$204","v":-4.2740000000000009},0,0,1]
["O(7)",0,132,0,0,0,0,0,90,57,0,383.5,0,0,129.5,155.5,0,947.5,600,-347.5,-57.92,null,{"$f":"((R214/100)-10)-data!Y16+$W$204","v":-3.8389999999999986},0,0,1]
["O(8)",0,132,0,0,52.5,0,0,75,57,0,383.5,0,0,129.5,155.5,0,985,780,-205,-26.28,null,{"$f":"((R215/100)-10)-data!Y17+$W$204","v":-3.9639999999999986},0,0,1]
["O(9)",0,0,0,0,52.5,0,0,0,0,0,0,0,0,371.5,155.5,0,579.5,440,-139.5,-31.7,null,{"$f":"((R216/100)-10)-data!Y18+$W$204","v":-4.7190000000000012},0,0,1]
["O(10)",0,0,0,0,0,16,0,75,0,0,383.5,0,0,0,155.5,0,630,720,90,12.5,null,{"$f":"((R217/100)-10)-data!Y19+$W$204","v":-1.8139999999999965},0,0,1]
["O(11)",110,0,0,77.5,52.5,16,124.5,0,57,0,0,70,0,371.5,155.5,38.5,1073,980,-93,-9.49,null,{"$f":"((R218/100)-10)-data!Y20+$W$204","v":6.2160000000000011},0,1,0]
["O(12)",0,132,152,77.5,125.5,16,0,90,57,0,0,70,0,371.5,5.5,38.5,1135.5,1290,154.5,11.98,null,{"$f":"((R219/100)-10)-data!Y21+$W$204","v":4.8410000000000011},1,1,1]
["O(13)",0,0,0,0,52.5,0,0,0,0,110,740.5,131.5,0,129.5,79,52,1295,1750,455,26,null,{"$f":"((R220/100)-10)-data!Y22+$W$204","v":11.136000000000001},1,1,1]
["O(14)",0,0,0,77.5,52.5,16,45,0,0,110,740.5,131.5,0,6.5,79,52,1310.5,1600,289.5,18.09,null,{"$f":"((R221/100)-10)-data!Y23+$W$204","v":6.7910000000000004},1,1,1]
["O(15)",37,132,152,0,125.5,16,45,90,0,0,0,0,0,6.5,79,52,735,980,245,25,null,{"$f":"((R222/100)-10)-data!Y24+$W$204","v":-0.56400000000000006},0,0,1]
["O(16)",0,0,0,77.5,52.5,0,45,90,57,110,740.5,0,0,129.5,79,38.5,1419.5,1120,-299.5,-26.74,null,{"$f":"((R223/100)-10)-data!Y25+$W$204","v":1.6810000000000009},1,1,1]
["O(17)",0,132,0,0,0,16,0,90,0,0,383.5,0,0,6.5,79,0,707,590,-117,-19.829999999999998,null,{"$f":"((R224/100)-10)-data!Y26+$W$204","v":-4.0439999999999969},0,0,1]
["O(18)",0,132,0,0,125.5,16,0,75,0,0,0,0,0,129.5,155.5,0,633.5,300,-333.5,-111.17,null,{"$f":"((R225/100)-10)-data!Y27+$W$204","v":-6.5789999999999971},0,0,1]
["O(19)",110,132,0,0,52.5,16,0,75,0,0,0,131.5,0,371.5,5.5,0,894,940,46,4.8899999999999997,null,{"$f":"((R226/100)-10)-data!Y28+$W$204","v":-5.2740000000000009},0,0,1]
["O(20)",0,81.5,110,77.5,52.5,0,45,75,57,0,0,70,0,129.5,5.5,38.5,742,780,38,4.87,null,{"$f":"((R227/100)-10)-data!Y29+$W$204","v":-1.7939999999999969},0,0,1]
["O(21)",0,0,0,0,125.5,0,45,0,57,110,740.5,0,0,129.5,5.5,52,1265,1490,225,15.1,null,{"$f":"((R228/100)-10)-data!Y30+$W$204","v":7.636000000000001},1,1,1]
["O(22)",0,0,0,0,125.5,0,45,0,57,110,740.5,131.5,0,6.5,79,0,1295,1630,335,20.55,null,{"$f":"((R229/100)-10)-data!Y31+$W$204","v":4.9359999999999999},1,1,1]
["O(23)",0,132,0,0,0,16,124.5,90,0,0,383.5,0,0,6.5,5.5,52,810,950,140,14.74,null,{"$f":"((R230/100)-10)-data!Y32+$W$204","v":-5.9140000000000015},0,0,1]
["O(24)",0,81.5,152,0,0,16,124.5,0,57,0,0,131.5,0,129.5,5.5,52,749.5,80,-669.5,-836.88,null,{"$f":"((R231/100)-10)-data!Y33+$W$204","v":-6.3189999999999991},0,0,1]
["O(25)",37,81.5,110,0,52.5,0,0,75,0,0,0,0,25,0,0,38.5,419.5,420,0.5,0.12,null,{"$f":"((R232/100)-10)-data!Y34+$W$204","v":-6.8189999999999991},0,0,1]
["O(26)",37,81.5,110,0,52.5,16,124.5,90,57,0,0,0,25,0,0,38.5,632,670,38,5.67,null,{"$f":"((R233/100)-10)-data!Y35+$W$204","v":-2.6939999999999991},0,0,1]
["O(27)",0,0,152,77.5,52.5,16,124.5,0,57,0,0,70,0,6.5,5.5,38.5,600,970,370,38.14,null,{"$f":"((R234/100)-10)-data!Y36+$W$204","v":-7.9139999999999979},0,0,1]
["O(28)",37,0,110,77.5,125.5,16,45,0,0,0,0,70,0,0,155.5,38.5,675,690,15,2.17,null,{"$f":"((R235/100)-10)-data!Y37+$W$204","v":-2.7639999999999993},0,0,1]
["O(29)",0,0,0,77.5,52.5,16,0,0,57,110,740.5,70,0,129.5,0,38.5,1291.5,1470,178.5,12.14,null,{"$f":"((R236/100)-10)-data!Y38+$W$204","v":1.0000000000012221E-3},1,1,1]
["O(30)",110,0,0,0,0,16,0,0,57,110,383.5,131.5,0,6.5,5.5,0,820,820,0,0,null,{"$f":"((R237/100)-10)-data!Y39+$W$204","v":-0.61400000000000077},0,0,1]
["O(31)",37,0,152,77.5,52.5,16,45,75,0,0,0,70,0,129.5,5.5,0,660,850,190,22.35,null,{"$f":"((R238/100)-10)-data!Y40+$W$204","v":-1.5139999999999958},0,0,1]
["O(32)",37,132,152,0,125.5,0,45,75,0,0,0,0,25,129.5,0,38.5,759.5,1090,330.5,30.32,null,{"$f":"((R239/100)-10)-data!Y41+$W$204","v":-5.5189999999999984},1,0,0]
["O(33)",37,132,152,0,52.5,16,45,75,0,110,0,0,25,129.5,0,38.5,812.5,820,7.5,0.91,null,{"$f":"((R240/100)-10)-data!Y42+$W$204","v":-1.6890000000000001},0,0,1]
["O(34)",37,0,152,0,52.5,0,45,0,0,110,383.5,0,25,129.5,79,38.5,1052,1150,98,8.52,null,{"$f":"((R241/100)-10)-data!Y43+$W$204","v":1.3060000000000009},1,1,1]
["O(35)",37,0,0,0,52.5,16,45,0,57,110,740.5,0,0,129.5,79,38.5,1305,1760,455,25.85,null,{"$f":"((R242/100)-10)-data!Y44+$W$204","v":2.5360000000000014},1,1,1]
["O(36)",37,0,0,0,52.5,0,124.5,0,0,110,740.5,0,0,6.5,79,0,1150,1540,390,25.32,null,{"$f":"((R243/100)-10)-data!Y45+$W$204","v":-1.6139999999999972},1,0,0]
["O(37)",0,0,0,0,52.5,0,124.5,0,57,110,740.5,0,0,6.5,79,38.5,1208.5,1340,131.5,9.81,null,{"$f":"((R244/100)-10)-data!Y46+$W$204","v":-3.1289999999999978},1,0,0]
["O(38)",110,132,0,0,52.5,16,124.5,75,0,0,740.5,0,0,6.5,0,52,1309,1020,-289,-28.33,null,{"$f":"((R245/100)-10)-data!Y47+$W$204","v":-2.3239999999999981},1,0,0]
["O(39)",37,132,110,77.5,125.5,0,45,90,57,110,383.5,70,25,129.5,79,38.5,1509.5,1510,0.5,0.03,null,{"$f":"((R246/100)-10)-data!Y48+$W$204","v":3.8810000000000002},1,1,1]
["O(40)",0,0,110,77.5,52.5,16,45,0,57,110,740.5,70,0,6.5,79,52,1416,1450,34,2.34,null,{"$f":"((R247/100)-10)-data!Y49+$W$204","v":4.6000000000002927E-2},1,1,1]
["O(41)",110,0,152,0,0,16,124.5,0,0,0,0,0,0,0,155.5,38.5,596.5,280,-316.5,-113.04,null,{"$f":"((R248/100)-10)-data!Y50+$W$204","v":-5.2489999999999988},0,0,1]
["O(42)",0,0,152,77.5,0,16,45,0,57,0,0,70,0,0,5.5,38.5,461.5,320,-141.5,-44.22,null,{"$f":"((R249/100)-10)-data!Y51+$W$204","v":-9.8990000000000009},0,0,1]
["O(43)",110,132,110,0,125.5,16,124.5,0,57,0,383.5,131.5,0,6.5,5.5,52,1254,1310,56,4.2699999999999996,null,{"$f":"((R250/100)-10)-data!Y52+$W$204","v":6.4260000000000019},1,1,1]
["O(44)",0,81.5,0,0,125.5,16,124.5,75,0,0,383.5,131.5,0,129.5,155.5,52,1274.5,1820,545.5,29.97,null,{"$f":"((R251/100)-10)-data!Y53+$W$204","v":4.8310000000000031},1,1,1]
["O(45)",0,132,0,0,52.5,0,0,90,0,0,383.5,0,0,371.5,155.5,0,1185,1340,155,11.57,null,{"$f":"((R252/100)-10)-data!Y54+$W$204","v":-0.46399999999999864},1,0,0]
["O(46)",0,0,110,0,0,16,0,0,0,0,0,0,0,0,155.5,38.5,320,410,90,21.95,null,{"$f":"((R253/100)-10)-data!Y55+$W$204","v":-5.3140000000000001},0,0,1]
["O(47)",110,0,110,0,52.5,16,124.5,0,0,0,0,131.5,0,0,5.5,38.5,588.5,440,-148.5,-33.75,null,{"$f":"((R254/100)-10)-data!Y56+$W$204","v":-0.42900000000000205},0,0,1]
["O(48)",0,0,152,77.5,125.5,16,0,0,57,0,0,70,0,371.5,79,38.5,987,770,-217,-28.18,null,{"$f":"((R255/100)-10)-data!Y57+$W$204","v":5.8560000000000016},0,1,0]
["O(49)",37,0,152,0,125.5,16,0,75,0,0,383.5,0,0,129.5,79,38.5,1036,900,-136,-15.11,null,{"$f":"((R256/100)-10)-data!Y58+$W$204","v":7.1460000000000008},0,1,0]
["O(50)",110,132,110,0,52.5,16,0,75,57,0,383.5,0,0,129.5,155.5,38.5,1259.5,1510,250.5,16.59,null,{"$f":"((R257/100)-10)-data!Y59+$W$204","v":3.3810000000000002},1,1,1]
[null,{"$f":"IF(C119=1,B$201,IF(C119=2,B$202,IF(C119=3,B$203,B$204)))","v":0},{"$f":"IF(D119=1,C$201,IF(D119=2,C$202,IF(D119=3,C$203,C$204)))","v":0},110,0,0,16,0,0,0,0,383.5,131.5,0,129.5,155.5,38.5,{"$f":"SUM(B258:Q258)","v":964.5},{"$f":"S119","v":1350},null,null,null,{"$f":"((R258/100)-10)-data!Y60+$W$204","v":-2.8689999999999998},1,0,{"$f":"IF(X258=Y258,1,0)","v":0}]
[null,{"$f":"IF(C120=1,B$201,IF(C120=2,B$202,IF(C120=3,B$203,B$204)))","v":0},0,110,0,125.5,0,0,0,0,0,383.5,0,0,129.5,155.5,38.5,{"$f":"SUM(B259:Q259)","v":942.5},{"$f":"S120","v":919.99999999999989},null,null,null,{"$f":"((R259/100)-10)-data!Y61+$W$204","v":-8.8999999999998636E-2},0,0,{"$f":"IF(X259=Y259,1,0)","v":1}]
[null,0,0,110,0,52.5,16,0,0,0,0,0,0,0,371.5,155.5,0,705.5,619.99999999999989,null,null,null,{"$f":"((R260/100)-10)-data!Y62+$W$204","v":2.8410000000000011},0,1,0]
[null,0,0,0,0,52.5,0,124.5,0,0,0,0,0,0,0,155.5,0,332.5,820.00000000000011,null,null,null,{"$f":"((R261/100)-10)-data!Y63+$W$204","v":-2.2889999999999979},0,0,1]
[null,0,81.5,152,77.5,52.5,16,124.5,0,57,0,383.5,70,0,371.5,0,38.5,1424.5,1260,null,null,null,{"$f":"((R262/100)-10)-data!Y64+$W$204","v":8.4309999999999992},1,1,1]
[null,110,132,152,0,52.5,16,0,75,57,110,383.5,131.5,0,129.5,5.5,52,1406.5,1450,null,null,null,{"$f":"((R263/100)-10)-data!Y65+$W$204","v":11.751000000000001},1,1,1]
[null,110,0,152,0,0,0,0,0,57,0,0,131.5,25,0,5.5,38.5,519.5,1120,null,null,null,{"$f":"((R264/100)-10)-data!Y66+$W$204","v":5.0810000000000031},1,1,1]
[null,110,0,152,0,0,0,124.5,0,57,0,0,131.5,25,371.5,5.5,38.5,1015.5,1220,null,null,null,{"$f":"((R265/100)-10)-data!Y67+$W$204","v":7.8410000000000011},1,1,1]
[null,110,81.5,110,77.5,0,0,124.5,75,57,0,0,131.5,25,129.5,5.5,38.5,965.5,1080,null,null,null,{"$f":"((R266/100)-10)-data!Y68+$W$204","v":3.7409999999999997},1,1,1]
[null,110,132,0,77.5,52.5,16,124.5,75,57,0,383.5,70,0,129.5,0,38.5,1266,1230,null,null,null,{"$f":"((R267/100)-10)-data!Y69+$W$204","v":6.3460000000000001},1,1,1]
[null,null,null,null,null,null,null,null,null,null,null,null,null,null,null,null,null,null,null,null,null,null,"visszakorrigált",null,"prognózis",{"$f":"SUM(Z258:Z267)/10","v":0.8},"saját prognózis"]
[null,null,null,null,null,null,null,null,null,null,null,null,null,null,null,null,null,null,null,null,null,null,"prognózis","tény","irány",{"$f":"SUM(Z208:Z267)/60","v":0.81666666666666665},"saját tanulás+teszt"]
[null,null,null,null,null,null,null,null,null,null,null,null,null,null,null,null,null,{"$f":"SUM(R208:R257)","v":48109.5},{"$f":"SUM(S208:S257)","v":49420}]

{"sheet":"csap.találat","index":5,"n_rows":7,"n_cols":16,"rows_kept":7,"cut":false,"hidden":false,"merged":[]}
["csap.(mm)+4","-4 nap","-3 nap","-2 nap","-1 nap","teszt1","teszt2","teszt3","teszt4","teszt5","teszt6","teszt7","teszt8","teszt9","teszt10"]
["absz.tény",0,0,0,0,0,1,1,1,0,0,0,0,0,0,"binaris teny!!!"]
["v1",null,null,null,null,0,0,0,1,0,0,0,0,0,1]
["saját aa",null,null,null,null,0,1,0,1,0,0,0,0,0,1]
["találatok:",null,null,null,null,null,null,null,null,null,null,null,null,null,null,"összesítés:"]
["v1",null,null,null,null,{"$f":"IF(F$2=F3,1,0)","v":1},0,0,1,1,1,1,1,1,0,{"$f":"SUM(F6:O6)/10","v":0.7}]
["saját aa",null,null,null,null,{"$f":"IF(F$2=F4,1,0)","v":1},1,0,1,1,1,1,1,1,0,0.8]

{"sheet":"találatok-maxhő","index":6,"n_rows":8,"n_cols":7,"rows_kept":8,"cut":false,"hidden":false,"merged":[[0,0,0,6]]}
["maximum-hőmérséklet találati arányai % - ban kifejezve:"]
[null,"weatheronline","kurier","wetter.rtl","raiffeisen","stern","wetter.excite"]
["maximum hőmérséklet első 50 nap(konkurencia)",90,88,92,86,88,80]
["maximum hőmérséklet első 50 nap(saját)",null,null,98]
["maximum hőmérséklet utolsó 10 nap(konkurencia)",100,100,80,100,100,100]
["maximum hőmérséklet utolsó 10 nap(saját)",null,null,80]
["maximum hőmérséklet összes(konkurencia)",91.666666666666657,90,90,88.333333333333329,90,83.333333333333343]
["maximum hőmérséklet összes(saját)",null,null,95]

{"sheet":"találatok-minhő","index":7,"n_rows":8,"n_cols":7,"rows_kept":8,"cut":false,"hidden":false,"merged":[[0,0,0,6]]}
["minimum-hőmérséklet találati arányai % - ban kifejezve:"]
[null,"weatheronline","kurier","wetter.rtl","raiffeisen","stern","wetter.excite"]
["minimum hőmérséklet első 50 nap(konkurencia)",80,78,88,92,90,80]
["minimum hőmérséklet első 50 nap(saját)",null,null,null,82]
["minimum hőmérséklet utolsó 10 nap(konkurencia)",60,50,40,50,60,60]
["minimum hőmérséklet utolsó 10 nap(saját)",null,null,null,80]
["minimum hőmérséklet összes(konkurencia)",76.666666666666671,73.333333333333329,80,85,85,76.666666666666671]
["minimum hőmérséklet összes(saját)",null,null,null,81.666666666666671]

{"sheet":"találatok-csapadék","index":8,"n_rows":8,"n_cols":5,"rows_kept":8,"cut":false,"hidden":false,"merged":[[0,0,0,4]]}
["csapadék-prognózisok találati arányai % - ban kifejezve:"]
[null,"weatheronline","kurier","stern","wetter.excite"]
["csapadék első 50 nap(konkurencia)",74,56.000000000000007,54,62]
["csapadék első 50 nap(saját)",76]
["csapadék utolsó 10 nap(konkurencia)",70,90,80,90]
["csapadék utolsó 10 nap(saját)",80]
["csapadék összes(konkurencia)",73.333333333333329,61.666666666666671,58.333333333333336,66.666666666666657]
["csapadék összes(saját)",76.666666666666671]