Workbook
Name DigKompElemAzonosítók: '2. dim Komp_elemek_kiegtem_aláb'!$E$2:$E$22
Name DigKompElemAzonosítók_Új: '2. dim Komp_elemek_kiegtem_aláb'!$E$2:$E$22
Name DigKompTerületek: '1. dim. Komp_terület definíció'!$C$2:$C$6
Name IlleszkedésiSzintek: listák!$B$2:$B$9
Name IlleszkedésiSzintek_ÚJ: listák!$B$2:$B$9
Name JártasságiSzintek: #REF!
Name JártasságiSzintek_Új: #REF!
Name ProgramModulAzonosítók: #REF!
Name SzakértőiVélemények: listák!$D$2:$D$3

Sheet DK-megf_digtev_kompter_ÜRES
A1: Digitális tevékenység | B1: JAVASOLT DigKomp-kompetenciaterület (1. dimenzió) | C1: DigKomp-kompetenciaterület meghatározása (1. dimenzió) | D1: Kompetenciaterülethez tartozó DigKomp-kompeteniaelemek | E1: DigKomp-kompetenciaelem azonosítója | F1: DigKomp-kompetenciaelem megnevezése (2. dimenzió) | G1: DigKomp-kompetenciaelem meghatározása (2. dimenzió) | H1: A digitális tevékenység és a DigKomp-kompetenciaelem illeszkedésének mértéke | I1: Indoklás
B2: 4. Biztonság | C2: =IFERROR(_xlfn.XLOOKUP(B2,DigKompTerületek,'1. dim. Komp_terület definíció'!$D$2:$D$6),"") -> Az eszközök, a tartalom, a személyes adatok és a magánélet védelme digitális környezetben. A fizikai és pszichológiai egészség védelme, valamint a társadalmi jóllétet és a társadalmi befogadást szolgáló digitális technológiákkal való tudatosság megteremtése. Tisztában lenni a digitális technológiák környezeti hatásával és azok használatával. | D2: =IFERROR(_xlfn.XLOOKUP(B2,DigKompTerületek,'1. dim. Komp_terület definíció'!$E$2:$E$6),"") -> 1. Eszközök védelme; 2. A személyes adatok és a magánszféra védelme; 3. Az egészség és a jóllét védelme; 4.A környezet védelme | E2: 4.2 | F2: =IFERROR(_xlfn.XLOOKUP(E2,'2. dim Komp_elemek_kiegtem_aláb'!$E$2:$E$22,'2. dim Komp_elemek_kiegtem_aláb'!$F$2:$F$22),"") -> 4.2 A személyes adatok és a magánszféra védelme | G2: =IFERROR(_xlfn.XLOOKUP(E2,'2. dim Komp_elemek_kiegtem_aláb'!$E$2:$E$22,'2. dim Komp_elemek_kiegtem_aláb'!$G$2:$G$22),"") -> A személyes adatok és a magánszféra védelme digitális környezetben. Személyazonosításra alkalmas információk használatának és megosztásának ismerete, saját magam és mások védelme. Annak ismerete, hogy a digitális szolgáltatók adatvédelmi szabályzattal tájékoztatják a felhasználókat a személyes adatok felhasználásáról. | H2: Erős, összetett illeszkedés - több kompetenciaelem
C3: =IFERROR(_xlfn.XLOOKUP(B3,DigKompTerületek,'1. dim. Komp_terület definíció'!$D$2:$D$6),"") | D3: =IFERROR(_xlfn.XLOOKUP(B3,DigKompTerületek,'1. dim. Komp_terület definíció'!$E$2:$E$6),"") | F3: =IFERROR(_xlfn.XLOOKUP(E3,'2. dim Komp_elemek_kiegtem_aláb'!$E$2:$E$22,'2. dim Komp_elemek_kiegtem_aláb'!$F$2:$F$22),"") | G3: =IFERROR(_xlfn.XLOOKUP(E3,'2. dim Komp_elemek_kiegtem_aláb'!$E$2:$E$22,'2. dim Komp_elemek_kiegtem_aláb'!$G$2:$G$22),"")
C4: =IFERROR(_xlfn.XLOOKUP(B4,DigKompTerületek,'1. dim. Komp_terület definíció'!$D$2:$D$6),"") | D4: =IFERROR(_xlfn.XLOOKUP(B4,DigKompTerületek,'1. dim. Komp_terület definíció'!$E$2:$E$6),"") | F4: =IFERROR(_xlfn.XLOOKUP(E4,'2. dim Komp_elemek_kiegtem_aláb'!$E$2:$E$22,'2. dim Komp_elemek_kiegtem_aláb'!$F$2:$F$22),"") | G4: =IFERROR(_xlfn.XLOOKUP(E4,'2. dim Komp_elemek_kiegtem_aláb'!$E$2:$E$22,'2. dim Komp_elemek_kiegtem_aláb'!$G$2:$G$22),"")
C5: =IFERROR(_xlfn.XLOOKUP(B5,DigKompTerületek,'1. dim. Komp_terület definíció'!$D$2:$D$6),"") | D5: =IFERROR(_xlfn.XLOOKUP(B5,DigKompTerületek,'1. dim. Komp_terület definíció'!$E$2:$E$6),"") | F5: =IFERROR(_xlfn.XLOOKUP(E5,'2. dim Komp_elemek_kiegtem_aláb'!$E$2:$E$22,'2. dim Komp_elemek_kiegtem_aláb'!$F$2:$F$22),"") | G5: =IFERROR(_xlfn.XLOOKUP(E5,'2. dim Komp_elemek_kiegtem_aláb'!$E$2:$E$22,'2. dim Komp_elemek_kiegtem_aláb'!$G$2:$G$22),"")
C6: =IFERROR(_xlfn.XLOOKUP(B6,DigKompTerületek,'1. dim. Komp_terület definíció'!$D$2:$D$6),"") | D6: =IFERROR(_xlfn.XLOOKUP(B6,DigKompTerületek,'1. dim. Komp_terület definíció'!$E$2:$E$6),"") | F6: =IFERROR(_xlfn.XLOOKUP(E6,'2. dim Komp_elemek_kiegtem_aláb'!$E$2:$E$22,'2. dim Komp_elemek_kiegtem_aláb'!$F$2:$F$22),"") | G6: =IFERROR(_xlfn.XLOOKUP(E6,'2. dim Komp_elemek_kiegtem_aláb'!$E$2:$E$22,'2. dim Komp_elemek_kiegtem_aláb'!$G$2:$G$22),"")
C7: =IFERROR(_xlfn.XLOOKUP(B7,DigKompTerületek,'1. dim. Komp_terület definíció'!$D$2:$D$6),"") | D7: =IFERROR(_xlfn.XLOOKUP(B7,DigKompTerületek,'1. dim. Komp_terület definíció'!$E$2:$E$6),"") | F7: =IFERROR(_xlfn.XLOOKUP(E7,'2. dim Komp_elemek_kiegtem_aláb'!$E$2:$E$22,'2. dim Komp_elemek_kiegtem_aláb'!$F$2:$F$22),"") | G7: =IFERROR(_xlfn.XLOOKUP(E7,'2. dim Komp_elemek_kiegtem_aláb'!$E$2:$E$22,'2. dim Komp_elemek_kiegtem_aláb'!$G$2:$G$22),"")
C8: =IFERROR(_xlfn.XLOOKUP(B8,DigKompTerületek,'1. dim. Komp_terület definíció'!$D$2:$D$6),"") | D8: =IFERROR(_xlfn.XLOOKUP(B8,DigKompTerületek,'1. dim. Komp_terület definíció'!$E$2:$E$6),"") | E8: 4.2 | F8: =IFERROR(_xlfn.XLOOKUP(E8,'2. dim Komp_elemek_kiegtem_aláb'!$E$2:$E$22,'2. dim Komp_elemek_kiegtem_aláb'!$F$2:$F$22),"") -> 4.2 A személyes adatok és a magánszféra védelme | G8: =IFERROR(_xlfn.XLOOKUP(E8,'2. dim Komp_elemek_kiegtem_aláb'!$E$2:$E$22,'2. dim Komp_elemek_kiegtem_aláb'!$G$2:$G$22),"") -> A személyes adatok és a magánszféra védelme digitális környezetben. Személyazonosításra alkalmas információk használatának és megosztásának ismerete, saját magam és mások védelme. Annak ismerete, hogy a digitális szolgáltatók adatvédelmi szabályzattal tájékoztatják a felhasználókat a személyes adatok felhasználásáról. | H8: Erős illeszkedés
C9: =IFERROR(_xlfn.XLOOKUP(B9,DigKompTerületek,'1. dim. Komp_terület definíció'!$D$2:$D$6),"") | D9: =IFERROR(_xlfn.XLOOKUP(B9,DigKompTerületek,'1. dim. Komp_terület definíció'!$E$2:$E$6),"") | F9: =IFERROR(_xlfn.XLOOKUP(E9,'2. dim Komp_elemek_kiegtem_aláb'!$E$2:$E$22,'2. dim Komp_elemek_kiegtem_aláb'!$F$2:$F$22),"") | G9: =IFERROR(_xlfn.XLOOKUP(E9,'2. dim Komp_elemek_kiegtem_aláb'!$E$2:$E$22,'2. dim Komp_elemek_kiegtem_aláb'!$G$2:$G$22),"")
C10: =IFERROR(_xlfn.XLOOKUP(B10,DigKompTerületek,'1. dim. Komp_terület definíció'!$D$2:$D$6),"") | D10: =IFERROR(_xlfn.XLOOKUP(B10,DigKompTerületek,'1. dim. Komp_terület definíció'!$E$2:$E$6),"") | F10: =IFERROR(_xlfn.XLOOKUP(E10,'2. dim Komp_elemek_kiegtem_aláb'!$E$2:$E$22,'2. dim Komp_elemek_kiegtem_aláb'!$F$2:$F$22),"") | G10: =IFERROR(_xlfn.XLOOKUP(E10,'2. dim Komp_elemek_kiegtem_aláb'!$E$2:$E$22,'2. dim Komp_elemek_kiegtem_aláb'!$G$2:$G$22),"")
C11: =IFERROR(_xlfn.XLOOKUP(B11,DigKompTerületek,'1. dim. Komp_terület definíció'!$D$2:$D$6),"") | D11: =IFERROR(_xlfn.XLOOKUP(B11,DigKompTerületek,'1. dim. Komp_terület definíció'!$E$2:$E$6),"") | F11: =IFERROR(_xlfn.XLOOKUP(E11,'2. dim Komp_elemek_kiegtem_aláb'!$E$2:$E$22,'2. dim Komp_elemek_kiegtem_aláb'!$F$2:$F$22),"") | G11: =IFERROR(_xlfn.XLOOKUP(E11,'2. dim Komp_elemek_kiegtem_aláb'!$E$2:$E$22,'2. dim Komp_elemek_kiegtem_aláb'!$G$2:$G$22),"")
C12: =IFERROR(_xlfn.XLOOKUP(B12,DigKompTerületek,'1. dim. Komp_terület definíció'!$D$2:$D$6),"") | D12: =IFERROR(_xlfn.XLOOKUP(B12,DigKompTerületek,'1. dim. Komp_terület definíció'!$E$2:$E$6),"") | F12: =IFERROR(_xlfn.XLOOKUP(E12,'2. dim Komp_elemek_kiegtem_aláb'!$E$2:$E$22,'2. dim Komp_elemek_kiegtem_aláb'!$F$2:$F$22),"") | G12: =IFERROR(_xlfn.XLOOKUP(E12,'2. dim Komp_elemek_kiegtem_aláb'!$E$2:$E$22,'2. dim Komp_elemek_kiegtem_aláb'!$G$2:$G$22),"")
C13: =IFERROR(_xlfn.XLOOKUP(B13,DigKompTerületek,'1. dim. Komp_terület definíció'!$D$2:$D$6),"") | D13: =IFERROR(_xlfn.XLOOKUP(B13,DigKompTerületek,'1. dim. Komp_terület definíció'!$E$2:$E$6),"") | F13: =IFERROR(_xlfn.XLOOKUP(E13,'2. dim Komp_elemek_kiegtem_aláb'!$E$2:$E$22,'2. dim Komp_elemek_kiegtem_aláb'!$F$2:$F$22),"") | G13: =IFERROR(_xlfn.XLOOKUP(E13,'2. dim Komp_elemek_kiegtem_aláb'!$E$2:$E$22,'2. dim Komp_elemek_kiegtem_aláb'!$G$2:$G$22),"")
C14: =IFERROR(_xlfn.XLOOKUP(B14,DigKompTerületek,'1. dim. Komp_terület definíció'!$D$2:$D$6),"") | D14: =IFERROR(_xlfn.XLOOKUP(B14,DigKompTerületek,'1. dim. Komp_terület definíció'!$E$2:$E$6),"") | F14: =IFERROR(_xlfn.XLOOKUP(E14,'2. dim Komp_elemek_kiegtem_aláb'!$E$2:$E$22,'2. dim Komp_elemek_kiegtem_aláb'!$F$2:$F$22),"") | G14: =IFERROR(_xlfn.XLOOKUP(E14,'2. dim Komp_elemek_kiegtem_aláb'!$E$2:$E$22,'2. dim Komp_elemek_kiegtem_aláb'!$G$2:$G$22),"")
C15: =IFERROR(_xlfn.XLOOKUP(B15,DigKompTerületek,'1. dim. Komp_terület definíció'!$D$2:$D$6),"") | D15: =IFERROR(_xlfn.XLOOKUP(B15,DigKompTerületek,'1. dim. Komp_terület definíció'!$E$2:$E$6),"") | F15: =IFERROR(_xlfn.XLOOKUP(E15,'2. dim Komp_elemek_kiegtem_aláb'!$E$2:$E$22,'2. dim Komp_elemek_kiegtem_aláb'!$F$2:$F$22),"") | G15: =IFERROR(_xlfn.XLOOKUP(E15,'2. dim Komp_elemek_kiegtem_aláb'!$E$2:$E$22,'2. dim Komp_elemek_kiegtem_aláb'!$G$2:$G$22),"")
C16: =IFERROR(_xlfn.XLOOKUP(B16,DigKompTerületek,'1. dim. Komp_terület definíció'!$D$2:$D$6),"") | D16: =IFERROR(_xlfn.XLOOKUP(B16,DigKompTerületek,'1. dim. Komp_terület definíció'!$E$2:$E$6),"") | F16: =IFERROR(_xlfn.XLOOKUP(E16,'2. dim Komp_elemek_kiegtem_aláb'!$E$2:$E$22,'2. dim Komp_elemek_kiegtem_aláb'!$F$2:$F$22),"") | G16: =IFERROR(_xlfn.XLOOKUP(E16,'2. dim Komp_elemek_kiegtem_aláb'!$E$2:$E$22,'2. dim Komp_elemek_kiegtem_aláb'!$G$2:$G$22),"")
C17: =IFERROR(_xlfn.XLOOKUP(B17,DigKompTerületek,'1. dim. Komp_terület definíció'!$D$2:$D$6),"") | D17: =IFERROR(_xlfn.XLOOKUP(B17,DigKompTerületek,'1. dim. Komp_terület definíció'!$E$2:$E$6),"") | F17: =IFERROR(_xlfn.XLOOKUP(E17,'2. dim Komp_elemek_kiegtem_aláb'!$E$2:$E$22,'2. dim Komp_elemek_kiegtem_aláb'!$F$2:$F$22),"") | G17: =IFERROR(_xlfn.XLOOKUP(E17,'2. dim Komp_elemek_kiegtem_aláb'!$E$2:$E$22,'2. dim Komp_elemek_kiegtem_aláb'!$G$2:$G$22),"")
C18: =IFERROR(_xlfn.XLOOKUP(B18,DigKompTerületek,'1. dim. Komp_terület definíció'!$D$2:$D$6),"") | D18: =IFERROR(_xlfn.XLOOKUP(B18,DigKompTerületek,'1. dim. Komp_terület definíció'!$E$2:$E$6),"") | F18: =IFERROR(_xlfn.XLOOKUP(E18,'2. dim Komp_elemek_kiegtem_aláb'!$E$2:$E$22,'2. dim Komp_elemek_kiegtem_aláb'!$F$2:$F$22),"") | G18: =IFERROR(_xlfn.XLOOKUP(E18,'2. dim Komp_elemek_kiegtem_aláb'!$E$2:$E$22,'2. dim Komp_elemek_kiegtem_aláb'!$G$2:$G$22),"")
C19: =IFERROR(_xlfn.XLOOKUP(B19,DigKompTerületek,'1. dim. Komp_terület definíció'!$D$2:$D$6),"") | D19: =IFERROR(_xlfn.XLOOKUP(B19,DigKompTerületek,'1. dim. Komp_terület definíció'!$E$2:$E$6),"") | F19: =IFERROR(_xlfn.XLOOKUP(E19,'2. dim Komp_elemek_kiegtem_aláb'!$E$2:$E$22,'2. dim Komp_elemek_kiegtem_aláb'!$F$2:$F$22),"") | G19: =IFERROR(_xlfn.XLOOKUP(E19,'2. dim Komp_elemek_kiegtem_aláb'!$E$2:$E$22,'2. dim Komp_elemek_kiegtem_aláb'!$G$2:$G$22),"")
C20: =IFERROR(_xlfn.XLOOKUP(B20,DigKompTerületek,'1. dim. Komp_terület definíció'!$D$2:$D$6),"") | D20: =IFERROR(_xlfn.XLOOKUP(B20,DigKompTerületek,'1. dim. Komp_terület definíció'!$E$2:$E$6),"") | F20: =IFERROR(_xlfn.XLOOKUP(E20,'2. dim Komp_elemek_kiegtem_aláb'!$E$2:$E$22,'2. dim Komp_elemek_kiegtem_aláb'!$F$2:$F$22),"") | G20: =IFERROR(_xlfn.XLOOKUP(E20,'2. dim Komp_elemek_kiegtem_aláb'!$E$2:$E$22,'2. dim Komp_elemek_kiegtem_aláb'!$G$2:$G$22),"")
... C51: =IFERROR(_xlfn.XLOOKUP(B51,DigKompTerületek,'1. dim. Komp_terület definíció'!$D$2:$D$6),"") | D51: =IFERROR(_xlfn.XLOOKUP(B51,DigKompTerületek,'1. dim. Komp_terület definíció'!$E$2:$E$6),"") | F51: =IFERROR(_xlfn.XLOOKUP(E51,'2. dim Komp_elemek_kiegtem_aláb'!$E$2:$E$22,'2. dim Komp_elemek_kiegtem_aláb'!$F$2:$F$22),"") | G51: =IFERROR(_xlfn.XLOOKUP(E51,'2. dim Komp_elemek_kiegtem_aláb'!$E$2:$E$22,'2. dim Komp_elemek_kiegtem_aláb'!$G$2:$G$22),"")

Sheet DK-megf_digtev_kompter_I_2
A1: Digitális tevékenység | B1: JAVASOLT DigKomp-kompetenciaterület (1. dimenzió) | C1: DigKomp-kompetenciaterület meghatározása (1. dimenzió) | D1: Kompetenciaterülethez tartozó DigKomp-kompeteniaelemek | E1: DigKomp-kompetenciaelem azonosítója | F1: DigKomp-kompetenciaelem megnevezése (2. dimenzió) | G1: DigKomp-kompetenciaelem meghatározása (2. dimenzió) | H1: A digitális tevékenység és a DigKomp-kompetenciaelem illeszkedésének mértéke | I1: Indoklás
A2: 1.Egy hivatalos e-mail megírása és melléklet csatolása. | C2: =IFERROR(_xlfn.XLOOKUP(B2,DigKompTerületek,'1. dim. Komp_terület definíció'!$D$2:$D$6),"") | D2: =IFERROR(_xlfn.XLOOKUP(B2,DigKompTerületek,'1. dim. Komp_terület definíció'!$E$2:$E$6),"") | F2: =IFERROR(_xlfn.XLOOKUP(E2,'2. dim Komp_elemek_kiegtem_aláb'!$E$2:$E$22,'2. dim Komp_elemek_kiegtem_aláb'!$F$2:$F$22),"") | G2: =IFERROR(_xlfn.XLOOKUP(E2,'2. dim Komp_elemek_kiegtem_aláb'!$E$2:$E$22,'2. dim Komp_elemek_kiegtem_aláb'!$G$2:$G$22),"")
A3: 2.Egy online ügyintézési űrlap kitöltése személyes adatok megadásával. | C3: =IFERROR(_xlfn.XLOOKUP(B3,DigKompTerületek,'1. dim. Komp_terület definíció'!$D$2:$D$6),"") | D3: =IFERROR(_xlfn.XLOOKUP(B3,DigKompTerületek,'1. dim. Komp_terület definíció'!$E$2:$E$6),"") | F3: =IFERROR(_xlfn.XLOOKUP(E3,'2. dim Komp_elemek_kiegtem_aláb'!$E$2:$E$22,'2. dim Komp_elemek_kiegtem_aláb'!$F$2:$F$22),"") | G3: =IFERROR(_xlfn.XLOOKUP(E3,'2. dim Komp_elemek_kiegtem_aláb'!$E$2:$E$22,'2. dim Komp_elemek_kiegtem_aláb'!$G$2:$G$22),"")
A4: 3.Egy letöltött dokumentum átnevezése és olyan mappába mentése, ahol később is könnyen megtalálható. | C4: =IFERROR(_xlfn.XLOOKUP(B4,DigKompTerületek,'1. dim. Komp_terület definíció'!$D$2:$D$6),"") | D4: =IFERROR(_xlfn.XLOOKUP(B4,DigKompTerületek,'1. dim. Komp_terület definíció'!$E$2:$E$6),"") | F4: =IFERROR(_xlfn.XLOOKUP(E4,'2. dim Komp_elemek_kiegtem_aláb'!$E$2:$E$22,'2. dim Komp_elemek_kiegtem_aláb'!$F$2:$F$22),"") | G4: =IFERROR(_xlfn.XLOOKUP(E4,'2. dim Komp_elemek_kiegtem_aláb'!$E$2:$E$22,'2. dim Komp_elemek_kiegtem_aláb'!$G$2:$G$22),"")
A5: 4.Egy interneten talált információ ellenőrzése több forrás összevetésével. | C5: =IFERROR(_xlfn.XLOOKUP(B5,DigKompTerületek,'1. dim. Komp_terület definíció'!$D$2:$D$6),"") | D5: =IFERROR(_xlfn.XLOOKUP(B5,DigKompTerületek,'1. dim. Komp_terület definíció'!$E$2:$E$6),"") | F5: =IFERROR(_xlfn.XLOOKUP(E5,'2. dim Komp_elemek_kiegtem_aláb'!$E$2:$E$22,'2. dim Komp_elemek_kiegtem_aláb'!$F$2:$F$22),"") | G5: =IFERROR(_xlfn.XLOOKUP(E5,'2. dim Komp_elemek_kiegtem_aláb'!$E$2:$E$22,'2. dim Komp_elemek_kiegtem_aláb'!$G$2:$G$22),"")
A6: 5.Biztonságos jelszó létrehozása egy új online szolgáltatáshoz. | C6: =IFERROR(_xlfn.XLOOKUP(B6,DigKompTerületek,'1. dim. Komp_terület definíció'!$D$2:$D$6),"") | D6: =IFERROR(_xlfn.XLOOKUP(B6,DigKompTerületek,'1. dim. Komp_terület definíció'!$E$2:$E$6),"") | F6: =IFERROR(_xlfn.XLOOKUP(E6,'2. dim Komp_elemek_kiegtem_aláb'!$E$2:$E$22,'2. dim Komp_elemek_kiegtem_aláb'!$F$2:$F$22),"") | G6: =IFERROR(_xlfn.XLOOKUP(E6,'2. dim Komp_elemek_kiegtem_aláb'!$E$2:$E$22,'2. dim Komp_elemek_kiegtem_aláb'!$G$2:$G$22),"")
A7: 6.Egy videóhívásban való részvétel, amelyhez link alapján kell csatlakozni. | C7: =IFERROR(_xlfn.XLOOKUP(B7,DigKompTerületek,'1. dim. Komp_terület definíció'!$D$2:$D$6),"") | D7: =IFERROR(_xlfn.XLOOKUP(B7,DigKompTerületek,'1. dim. Komp_terület definíció'!$E$2:$E$6),"") | F7: =IFERROR(_xlfn.XLOOKUP(E7,'2. dim Komp_elemek_kiegtem_aláb'!$E$2:$E$22,'2. dim Komp_elemek_kiegtem_aláb'!$F$2:$F$22),"") | G7: =IFERROR(_xlfn.XLOOKUP(E7,'2. dim Komp_elemek_kiegtem_aláb'!$E$2:$E$22,'2. dim Komp_elemek_kiegtem_aláb'!$G$2:$G$22),"")
A8: 7.Egy digitális tartalom – például rövid szöveg, kép vagy táblázat – létrehozása előre megadott sablon alapján. | C8: =IFERROR(_xlfn.XLOOKUP(B8,DigKompTerületek,'1. dim. Komp_terület definíció'!$D$2:$D$6),"") | D8: =IFERROR(_xlfn.XLOOKUP(B8,DigKompTerületek,'1. dim. Komp_terület definíció'!$E$2:$E$6),"") | F8: =IFERROR(_xlfn.XLOOKUP(E8,'2. dim Komp_elemek_kiegtem_aláb'!$E$2:$E$22,'2. dim Komp_elemek_kiegtem_aláb'!$F$2:$F$22),"") | G8: =IFERROR(_xlfn.XLOOKUP(E8,'2. dim Komp_elemek_kiegtem_aláb'!$E$2:$E$22,'2. dim Komp_elemek_kiegtem_aláb'!$G$2:$G$22),"")
A9: 8.Egy gyanús üzenet felismerése, amely személyes adatokat vagy belépési adatokat kér. | C9: =IFERROR(_xlfn.XLOOKUP(B9,DigKompTerületek,'1. dim. Komp_terület definíció'!$D$2:$D$6),"") | D9: =IFERROR(_xlfn.XLOOKUP(B9,DigKompTerületek,'1. dim. Komp_terület definíció'!$E$2:$E$6),"") | F9: =IFERROR(_xlfn.XLOOKUP(E9,'2. dim Komp_elemek_kiegtem_aláb'!$E$2:$E$22,'2. dim Komp_elemek_kiegtem_aláb'!$F$2:$F$22),"") | G9: =IFERROR(_xlfn.XLOOKUP(E9,'2. dim Komp_elemek_kiegtem_aláb'!$E$2:$E$22,'2. dim Komp_elemek_kiegtem_aláb'!$G$2:$G$22),"")
C10: =IFERROR(_xlfn.XLOOKUP(B10,DigKompTerületek,'1. dim. Komp_terület definíció'!$D$2:$D$6),"") | D10: =IFERROR(_xlfn.XLOOKUP(B10,DigKompTerületek,'1. dim. Komp_terület definíció'!$E$2:$E$6),"") | F10: =IFERROR(_xlfn.XLOOKUP(E10,'2. dim Komp_elemek_kiegtem_aláb'!$E$2:$E$22,'2. dim Komp_elemek_kiegtem_aláb'!$F$2:$F$22),"") | G10: =IFERROR(_xlfn.XLOOKUP(E10,'2. dim Komp_elemek_kiegtem_aláb'!$E$2:$E$22,'2. dim Komp_elemek_kiegtem_aláb'!$G$2:$G$22),"")
C11: =IFERROR(_xlfn.XLOOKUP(B11,DigKompTerületek,'1. dim. Komp_terület definíció'!$D$2:$D$6),"") | D11: =IFERROR(_xlfn.XLOOKUP(B11,DigKompTerületek,'1. dim. Komp_terület definíció'!$E$2:$E$6),"") | F11: =IFERROR(_xlfn.XLOOKUP(E11,'2. dim Komp_elemek_kiegtem_aláb'!$E$2:$E$22,'2. dim Komp_elemek_kiegtem_aláb'!$F$2:$F$22),"") | G11: =IFERROR(_xlfn.XLOOKUP(E11,'2. dim Komp_elemek_kiegtem_aláb'!$E$2:$E$22,'2. dim Komp_elemek_kiegtem_aláb'!$G$2:$G$22),"")
C12: =IFERROR(_xlfn.XLOOKUP(B12,DigKompTerületek,'1. dim. Komp_terület definíció'!$D$2:$D$6),"") | D12: =IFERROR(_xlfn.XLOOKUP(B12,DigKompTerületek,'1. dim. Komp_terület definíció'!$E$2:$E$6),"") | F12: =IFERROR(_xlfn.XLOOKUP(E12,'2. dim Komp_elemek_kiegtem_aláb'!$E$2:$E$22,'2. dim Komp_elemek_kiegtem_aláb'!$F$2:$F$22),"") | G12: =IFERROR(_xlfn.XLOOKUP(E12,'2. dim Komp_elemek_kiegtem_aláb'!$E$2:$E$22,'2. dim Komp_elemek_kiegtem_aláb'!$G$2:$G$22),"")
C13: =IFERROR(_xlfn.XLOOKUP(B13,DigKompTerületek,'1. dim. Komp_terület definíció'!$D$2:$D$6),"") | D13: =IFERROR(_xlfn.XLOOKUP(B13,DigKompTerületek,'1. dim. Komp_terület definíció'!$E$2:$E$6),"") | F13: =IFERROR(_xlfn.XLOOKUP(E13,'2. dim Komp_elemek_kiegtem_aláb'!$E$2:$E$22,'2. dim Komp_elemek_kiegtem_aláb'!$F$2:$F$22),"") | G13: =IFERROR(_xlfn.XLOOKUP(E13,'2. dim Komp_elemek_kiegtem_aláb'!$E$2:$E$22,'2. dim Komp_elemek_kiegtem_aláb'!$G$2:$G$22),"")
C14: =IFERROR(_xlfn.XLOOKUP(B14,DigKompTerületek,'1. dim. Komp_terület definíció'!$D$2:$D$6),"") | D14: =IFERROR(_xlfn.XLOOKUP(B14,DigKompTerületek,'1. dim. Komp_terület definíció'!$E$2:$E$6),"") | F14: =IFERROR(_xlfn.XLOOKUP(E14,'2. dim Komp_elemek_kiegtem_aláb'!$E$2:$E$22,'2. dim Komp_elemek_kiegtem_aláb'!$F$2:$F$22),"") | G14: =IFERROR(_xlfn.XLOOKUP(E14,'2. dim Komp_elemek_kiegtem_aláb'!$E$2:$E$22,'2. dim Komp_elemek_kiegtem_aláb'!$G$2:$G$22),"")
C15: =IFERROR(_xlfn.XLOOKUP(B15,DigKompTerületek,'1. dim. Komp_terület definíció'!$D$2:$D$6),"") | D15: =IFERROR(_xlfn.XLOOKUP(B15,DigKompTerületek,'1. dim. Komp_terület definíció'!$E$2:$E$6),"") | F15: =IFERROR(_xlfn.XLOOKUP(E15,'2. dim Komp_elemek_kiegtem_aláb'!$E$2:$E$22,'2. dim Komp_elemek_kiegtem_aláb'!$F$2:$F$22),"") | G15: =IFERROR(_xlfn.XLOOKUP(E15,'2. dim Komp_elemek_kiegtem_aláb'!$E$2:$E$22,'2. dim Komp_elemek_kiegtem_aláb'!$G$2:$G$22),"")
C16: =IFERROR(_xlfn.XLOOKUP(B16,DigKompTerületek,'1. dim. Komp_terület definíció'!$D$2:$D$6),"") | D16: =IFERROR(_xlfn.XLOOKUP(B16,DigKompTerületek,'1. dim. Komp_terület definíció'!$E$2:$E$6),"") | F16: =IFERROR(_xlfn.XLOOKUP(E16,'2. dim Komp_elemek_kiegtem_aláb'!$E$2:$E$22,'2. dim Komp_elemek_kiegtem_aláb'!$F$2:$F$22),"") | G16: =IFERROR(_xlfn.XLOOKUP(E16,'2. dim Komp_elemek_kiegtem_aláb'!$E$2:$E$22,'2. dim Komp_elemek_kiegtem_aláb'!$G$2:$G$22),"")
C17: =IFERROR(_xlfn.XLOOKUP(B17,DigKompTerületek,'1. dim. Komp_terület definíció'!$D$2:$D$6),"") | D17: =IFERROR(_xlfn.XLOOKUP(B17,DigKompTerületek,'1. dim. Komp_terület definíció'!$E$2:$E$6),"") | F17: =IFERROR(_xlfn.XLOOKUP(E17,'2. dim Komp_elemek_kiegtem_aláb'!$E$2:$E$22,'2. dim Komp_elemek_kiegtem_aláb'!$F$2:$F$22),"") | G17: =IFERROR(_xlfn.XLOOKUP(E17,'2. dim Komp_elemek_kiegtem_aláb'!$E$2:$E$22,'2. dim Komp_elemek_kiegtem_aláb'!$G$2:$G$22),"")
C18: =IFERROR(_xlfn.XLOOKUP(B18,DigKompTerületek,'1. dim. Komp_terület definíció'!$D$2:$D$6),"") | D18: =IFERROR(_xlfn.XLOOKUP(B18,DigKompTerületek,'1. dim. Komp_terület definíció'!$E$2:$E$6),"") | F18: =IFERROR(_xlfn.XLOOKUP(E18,'2. dim Komp_elemek_kiegtem_aláb'!$E$2:$E$22,'2. dim Komp_elemek_kiegtem_aláb'!$F$2:$F$22),"") | G18: =IFERROR(_xlfn.XLOOKUP(E18,'2. dim Komp_elemek_kiegtem_aláb'!$E$2:$E$22,'2. dim Komp_elemek_kiegtem_aláb'!$G$2:$G$22),"")
C19: =IFERROR(_xlfn.XLOOKUP(B19,DigKompTerületek,'1. dim. Komp_terület definíció'!$D$2:$D$6),"") | D19: =IFERROR(_xlfn.XLOOKUP(B19,DigKompTerületek,'1. dim. Komp_terület definíció'!$E$2:$E$6),"") | F19: =IFERROR(_xlfn.XLOOKUP(E19,'2. dim Komp_elemek_kiegtem_aláb'!$E$2:$E$22,'2. dim Komp_elemek_kiegtem_aláb'!$F$2:$F$22),"") | G19: =IFERROR(_xlfn.XLOOKUP(E19,'2. dim Komp_elemek_kiegtem_aláb'!$E$2:$E$22,'2. dim Komp_elemek_kiegtem_aláb'!$G$2:$G$22),"")
C20: =IFERROR(_xlfn.XLOOKUP(B20,DigKompTerületek,'1. dim. Komp_terület definíció'!$D$2:$D$6),"") | D20: =IFERROR(_xlfn.XLOOKUP(B20,DigKompTerületek,'1. dim. Komp_terület definíció'!$E$2:$E$6),"") | F20: =IFERROR(_xlfn.XLOOKUP(E20,'2. dim Komp_elemek_kiegtem_aláb'!$E$2:$E$22,'2. dim Komp_elemek_kiegtem_aláb'!$F$2:$F$22),"") | G20: =IFERROR(_xlfn.XLOOKUP(E20,'2. dim Komp_elemek_kiegtem_aláb'!$E$2:$E$22,'2. dim Komp_elemek_kiegtem_aláb'!$G$2:$G$22),"")
C21: =IFERROR(_xlfn.XLOOKUP(B21,DigKompTerületek,'1. dim. Komp_terület definíció'!$D$2:$D$6),"") | D21: =IFERROR(_xlfn.XLOOKUP(B21,DigKompTerületek,'1. dim. Komp_terület definíció'!$E$2:$E$6),"") | F21: =IFERROR(_xlfn.XLOOKUP(E21,'2. dim Komp_elemek_kiegtem_aláb'!$E$2:$E$22,'2. dim Komp_elemek_kiegtem_aláb'!$F$2:$F$22),"") | G21: =IFERROR(_xlfn.XLOOKUP(E21,'2. dim Komp_elemek_kiegtem_aláb'!$E$2:$E$22,'2. dim Komp_elemek_kiegtem_aláb'!$G$2:$G$22),"")
... C51: =IFERROR(_xlfn.XLOOKUP(B51,DigKompTerületek,'1. dim. Komp_terület definíció'!$D$2:$D$6),"") | D51: =IFERROR(_xlfn.XLOOKUP(B51,DigKompTerületek,'1. dim. Komp_terület definíció'!$E$2:$E$6),"") | F51: =IFERROR(_xlfn.XLOOKUP(E51,'2. dim Komp_elemek_kiegtem_aláb'!$E$2:$E$22,'2. dim Komp_elemek_kiegtem_aláb'!$F$2:$F$22),"") | G51: =IFERROR(_xlfn.XLOOKUP(E51,'2. dim Komp_elemek_kiegtem_aláb'!$E$2:$E$22,'2. dim Komp_elemek_kiegtem_aláb'!$G$2:$G$22),"")

Sheet DK-megf_digtev_kompter_I1A_üres
A1: Digitális tevékenység | B1: JAVASOLT DigKomp-kompetenciaterület (1. dimenzió) | C1: DigKomp-kompetenciaterület meghatározása (1. dimenzió) | D1: Kompetenciaterülethez tartozó DigKomp-kompeteniaelemek | E1: DigKomp-kompetenciaelem azonosítója | F1: DigKomp-kompetenciaelem megnevezése (2. dimenzió) | G1: DigKomp-kompetenciaelem meghatározása (2. dimenzió) | H1: A digitális tevékenység és a DigKomp-kompetenciaelem illeszkedésének mértéke | I1: Indoklás
A2: Belépés és azonosítás | B2: 2. Kommunikáció és együttműködés | C2: =IFERROR(_xlfn.XLOOKUP(B2,DigKompTerületek,'1. dim. Komp_terület definíció'!$D$2:$D$6),"") -> Interakció, kommunikáció és együttműködés a digitális technológiák segítségével, miközben tudatában van a kulturális és generációs sokszínűségnek. Részvétel a társadalomban állami és magán digitális szolgáltatásokon és részvételen alapuló állampolgárságon keresztül. A digitális jelenlét, identitás és hírnév kezelése. | D2: =IFERROR(_xlfn.XLOOKUP(B2,DigKompTerületek,'1. dim. Komp_terület definíció'!$E$2:$E$6),"") -> 1. Digitális technológiával támogatott interakció; 2. Megosztás digitális technológiák segítségével; 3. Az állampolgárság gyakorlása digitális technológiák segítségével; 4. Együttműködés digitális technológiák segítségével; 5. Netikett; 6. A digitális személyazonosság kezelése | F2: =IFERROR(_xlfn.XLOOKUP(E2,'2. dim Komp_elemek_kiegtem_aláb'!$E$2:$E$22,'2. dim Komp_elemek_kiegtem_aláb'!$F$2:$F$22),"") | G2: =IFERROR(_xlfn.XLOOKUP(E2,'2. dim Komp_elemek_kiegtem_aláb'!$E$2:$E$22,'2. dim Komp_elemek_kiegtem_aláb'!$G$2:$G$22),"")
A3: Belépés és azonosítás | C3: =IFERROR(_xlfn.XLOOKUP(B3,DigKompTerületek,'1. dim. Komp_terület definíció'!$D$2:$D$6),"") | D3: =IFERROR(_xlfn.XLOOKUP(B3,DigKompTerületek,'1. dim. Komp_terület definíció'!$E$2:$E$6),"") | F3: =IFERROR(_xlfn.XLOOKUP(E3,'2. dim Komp_elemek_kiegtem_aláb'!$E$2:$E$22,'2. dim Komp_elemek_kiegtem_aláb'!$F$2:$F$22),"") | G3: =IFERROR(_xlfn.XLOOKUP(E3,'2. dim Komp_elemek_kiegtem_aláb'!$E$2:$E$22,'2. dim Komp_elemek_kiegtem_aláb'!$G$2:$G$22),"")
A4: Belépés és azonosítás | C4: =IFERROR(_xlfn.XLOOKUP(B4,DigKompTerületek,'1. dim. Komp_terület definíció'!$D$2:$D$6),"") | D4: =IFERROR(_xlfn.XLOOKUP(B4,DigKompTerületek,'1. dim. Komp_terület definíció'!$E$2:$E$6),"") | F4: =IFERROR(_xlfn.XLOOKUP(E4,'2. dim Komp_elemek_kiegtem_aláb'!$E$2:$E$22,'2. dim Komp_elemek_kiegtem_aláb'!$F$2:$F$22),"") | G4: =IFERROR(_xlfn.XLOOKUP(E4,'2. dim Komp_elemek_kiegtem_aláb'!$E$2:$E$22,'2. dim Komp_elemek_kiegtem_aláb'!$G$2:$G$22),"")
A5: Digitális információ értelmezése és ellenőrzése | C5: =IFERROR(_xlfn.XLOOKUP(B5,DigKompTerületek,'1. dim. Komp_terület definíció'!$D$2:$D$6),"") | D5: =IFERROR(_xlfn.XLOOKUP(B5,DigKompTerületek,'1. dim. Komp_terület definíció'!$E$2:$E$6),"") | F5: =IFERROR(_xlfn.XLOOKUP(E5,'2. dim Komp_elemek_kiegtem_aláb'!$E$2:$E$22,'2. dim Komp_elemek_kiegtem_aláb'!$F$2:$F$22),"") | G5: =IFERROR(_xlfn.XLOOKUP(E5,'2. dim Komp_elemek_kiegtem_aláb'!$E$2:$E$22,'2. dim Komp_elemek_kiegtem_aláb'!$G$2:$G$22),"")
A6: Digitális információ értelmezése és ellenőrzése | C6: =IFERROR(_xlfn.XLOOKUP(B6,DigKompTerületek,'1. dim. Komp_terület definíció'!$D$2:$D$6),"") | D6: =IFERROR(_xlfn.XLOOKUP(B6,DigKompTerületek,'1. dim. Komp_terület definíció'!$E$2:$E$6),"") | F6: =IFERROR(_xlfn.XLOOKUP(E6,'2. dim Komp_elemek_kiegtem_aláb'!$E$2:$E$22,'2. dim Komp_elemek_kiegtem_aláb'!$F$2:$F$22),"") | G6: =IFERROR(_xlfn.XLOOKUP(E6,'2. dim Komp_elemek_kiegtem_aláb'!$E$2:$E$22,'2. dim Komp_elemek_kiegtem_aláb'!$G$2:$G$22),"")
A7: Digitális információ értelmezése és ellenőrzése | C7: =IFERROR(_xlfn.XLOOKUP(B7,DigKompTerületek,'1. dim. Komp_terület definíció'!$D$2:$D$6),"") | D7: =IFERROR(_xlfn.XLOOKUP(B7,DigKompTerületek,'1. dim. Komp_terület definíció'!$E$2:$E$6),"") | F7: =IFERROR(_xlfn.XLOOKUP(E7,'2. dim Komp_elemek_kiegtem_aláb'!$E$2:$E$22,'2. dim Komp_elemek_kiegtem_aláb'!$F$2:$F$22),"") | G7: =IFERROR(_xlfn.XLOOKUP(E7,'2. dim Komp_elemek_kiegtem_aláb'!$E$2:$E$22,'2. dim Komp_elemek_kiegtem_aláb'!$G$2:$G$22),"")
A8: Digitális információ értelmezése és ellenőrzése | C8: =IFERROR(_xlfn.XLOOKUP(B8,DigKompTerületek,'1. dim. Komp_terület definíció'!$D$2:$D$6),"") | D8: =IFERROR(_xlfn.XLOOKUP(B8,DigKompTerületek,'1. dim. Komp_terület definíció'!$E$2:$E$6),"") | F8: =IFERROR(_xlfn.XLOOKUP(E8,'2. dim Komp_elemek_kiegtem_aláb'!$E$2:$E$22,'2. dim Komp_elemek_kiegtem_aláb'!$F$2:$F$22),"") | G8: =IFERROR(_xlfn.XLOOKUP(E8,'2. dim Komp_elemek_kiegtem_aláb'!$E$2:$E$22,'2. dim Komp_elemek_kiegtem_aláb'!$G$2:$G$22),"")
A9: Dokumentumazonosítás | C9: =IFERROR(_xlfn.XLOOKUP(B9,DigKompTerületek,'1. dim. Komp_terület definíció'!$D$2:$D$6),"") | D9: =IFERROR(_xlfn.XLOOKUP(B9,DigKompTerületek,'1. dim. Komp_terület definíció'!$E$2:$E$6),"") | F9: =IFERROR(_xlfn.XLOOKUP(E9,'2. dim Komp_elemek_kiegtem_aláb'!$E$2:$E$22,'2. dim Komp_elemek_kiegtem_aláb'!$F$2:$F$22),"") | G9: =IFERROR(_xlfn.XLOOKUP(E9,'2. dim Komp_elemek_kiegtem_aláb'!$E$2:$E$22,'2. dim Komp_elemek_kiegtem_aláb'!$G$2:$G$22),"")
A10: Dokumentumazonosítás | C10: =IFERROR(_xlfn.XLOOKUP(B10,DigKompTerületek,'1. dim. Komp_terület definíció'!$D$2:$D$6),"") | D10: =IFERROR(_xlfn.XLOOKUP(B10,DigKompTerületek,'1. dim. Komp_terület definíció'!$E$2:$E$6),"") | F10: =IFERROR(_xlfn.XLOOKUP(E10,'2. dim Komp_elemek_kiegtem_aláb'!$E$2:$E$22,'2. dim Komp_elemek_kiegtem_aláb'!$F$2:$F$22),"") | G10: =IFERROR(_xlfn.XLOOKUP(E10,'2. dim Komp_elemek_kiegtem_aláb'!$E$2:$E$22,'2. dim Komp_elemek_kiegtem_aláb'!$G$2:$G$22),"")
A11: Dokumentumkeresés | C11: =IFERROR(_xlfn.XLOOKUP(B11,DigKompTerületek,'1. dim. Komp_terület definíció'!$D$2:$D$6),"") | D11: =IFERROR(_xlfn.XLOOKUP(B11,DigKompTerületek,'1. dim. Komp_terület definíció'!$E$2:$E$6),"") | F11: =IFERROR(_xlfn.XLOOKUP(E11,'2. dim Komp_elemek_kiegtem_aláb'!$E$2:$E$22,'2. dim Komp_elemek_kiegtem_aláb'!$F$2:$F$22),"") | G11: =IFERROR(_xlfn.XLOOKUP(E11,'2. dim Komp_elemek_kiegtem_aláb'!$E$2:$E$22,'2. dim Komp_elemek_kiegtem_aláb'!$G$2:$G$22),"")
A12: Dokumentumkeresés | C12: =IFERROR(_xlfn.XLOOKUP(B12,DigKompTerületek,'1. dim. Komp_terület definíció'!$D$2:$D$6),"") | D12: =IFERROR(_xlfn.XLOOKUP(B12,DigKompTerületek,'1. dim. Komp_terület definíció'!$E$2:$E$6),"") | F12: =IFERROR(_xlfn.XLOOKUP(E12,'2. dim Komp_elemek_kiegtem_aláb'!$E$2:$E$22,'2. dim Komp_elemek_kiegtem_aláb'!$F$2:$F$22),"") | G12: =IFERROR(_xlfn.XLOOKUP(E12,'2. dim Komp_elemek_kiegtem_aláb'!$E$2:$E$22,'2. dim Komp_elemek_kiegtem_aláb'!$G$2:$G$22),"")
A13: Lelet megtekintése | C13: =IFERROR(_xlfn.XLOOKUP(B13,DigKompTerületek,'1. dim. Komp_terület definíció'!$D$2:$D$6),"") | D13: =IFERROR(_xlfn.XLOOKUP(B13,DigKompTerületek,'1. dim. Komp_terület definíció'!$E$2:$E$6),"") | F13: =IFERROR(_xlfn.XLOOKUP(E13,'2. dim Komp_elemek_kiegtem_aláb'!$E$2:$E$22,'2. dim Komp_elemek_kiegtem_aláb'!$F$2:$F$22),"") | G13: =IFERROR(_xlfn.XLOOKUP(E13,'2. dim Komp_elemek_kiegtem_aláb'!$E$2:$E$22,'2. dim Komp_elemek_kiegtem_aláb'!$G$2:$G$22),"")
A14: Lelet megtekintése | C14: =IFERROR(_xlfn.XLOOKUP(B14,DigKompTerületek,'1. dim. Komp_terület definíció'!$D$2:$D$6),"") | D14: =IFERROR(_xlfn.XLOOKUP(B14,DigKompTerületek,'1. dim. Komp_terület definíció'!$E$2:$E$6),"") | F14: =IFERROR(_xlfn.XLOOKUP(E14,'2. dim Komp_elemek_kiegtem_aláb'!$E$2:$E$22,'2. dim Komp_elemek_kiegtem_aláb'!$F$2:$F$22),"") | G14: =IFERROR(_xlfn.XLOOKUP(E14,'2. dim Komp_elemek_kiegtem_aláb'!$E$2:$E$22,'2. dim Komp_elemek_kiegtem_aláb'!$G$2:$G$22),"")
... A20: További digitális ügyintézés / kapcsolatfelvétel | C20: =IFERROR(_xlfn.XLOOKUP(B20,DigKompTerületek,'1. dim. Komp_terület definíció'!$D$2:$D$6),"") | D20: =IFERROR(_xlfn.XLOOKUP(B20,DigKompTerületek,'1. dim. Komp_terület definíció'!$E$2:$E$6),"") | F20: =IFERROR(_xlfn.XLOOKUP(E20,'2. dim Komp_elemek_kiegtem_aláb'!$E$2:$E$22,'2. dim Komp_elemek_kiegtem_aláb'!$F$2:$F$22),"") | G20: =IFERROR(_xlfn.XLOOKUP(E20,'2. dim Komp_elemek_kiegtem_aláb'!$E$2:$E$22,'2. dim Komp_elemek_kiegtem_aláb'!$G$2:$G$22),"")
C21: =IFERROR(_xlfn.XLOOKUP(B21,DigKompTerületek,'1. dim. Komp_terület definíció'!$D$2:$D$6),"") | D21: =IFERROR(_xlfn.XLOOKUP(B21,DigKompTerületek,'1. dim. Komp_terület definíció'!$E$2:$E$6),"") | F21: =IFERROR(_xlfn.XLOOKUP(E21,'2. dim Komp_elemek_kiegtem_aláb'!$E$2:$E$22,'2. dim Komp_elemek_kiegtem_aláb'!$F$2:$F$22),"") | G21: =IFERROR(_xlfn.XLOOKUP(E21,'2. dim Komp_elemek_kiegtem_aláb'!$E$2:$E$22,'2. dim Komp_elemek_kiegtem_aláb'!$G$2:$G$22),"")
C22: =IFERROR(_xlfn.XLOOKUP(B22,DigKompTerületek,'1. dim. Komp_terület definíció'!$D$2:$D$6),"") | D22: =IFERROR(_xlfn.XLOOKUP(B22,DigKompTerületek,'1. dim. Komp_terület definíció'!$E$2:$E$6),"") | F22: =IFERROR(_xlfn.XLOOKUP(E22,'2. dim Komp_elemek_kiegtem_aláb'!$E$2:$E$22,'2. dim Komp_elemek_kiegtem_aláb'!$F$2:$F$22),"") | G22: =IFERROR(_xlfn.XLOOKUP(E22,'2. dim Komp_elemek_kiegtem_aláb'!$E$2:$E$22,'2. dim Komp_elemek_kiegtem_aláb'!$G$2:$G$22),"")
C23: =IFERROR(_xlfn.XLOOKUP(B23,DigKompTerületek,'1. dim. Komp_terület definíció'!$D$2:$D$6),"") | D23: =IFERROR(_xlfn.XLOOKUP(B23,DigKompTerületek,'1. dim. Komp_terület definíció'!$E$2:$E$6),"") | F23: =IFERROR(_xlfn.XLOOKUP(E23,'2. dim Komp_elemek_kiegtem_aláb'!$E$2:$E$22,'2. dim Komp_elemek_kiegtem_aláb'!$F$2:$F$22),"") | G23: =IFERROR(_xlfn.XLOOKUP(E23,'2. dim Komp_elemek_kiegtem_aláb'!$E$2:$E$22,'2. dim Komp_elemek_kiegtem_aláb'!$G$2:$G$22),"")
C24: =IFERROR(_xlfn.XLOOKUP(B24,DigKompTerületek,'1. dim. Komp_terület definíció'!$D$2:$D$6),"") | D24: =IFERROR(_xlfn.XLOOKUP(B24,DigKompTerületek,'1. dim. Komp_terület definíció'!$E$2:$E$6),"") | F24: =IFERROR(_xlfn.XLOOKUP(E24,'2. dim Komp_elemek_kiegtem_aláb'!$E$2:$E$22,'2. dim Komp_elemek_kiegtem_aláb'!$F$2:$F$22),"") | G24: =IFERROR(_xlfn.XLOOKUP(E24,'2. dim Komp_elemek_kiegtem_aláb'!$E$2:$E$22,'2. dim Komp_elemek_kiegtem_aláb'!$G$2:$G$22),"")
C25: =IFERROR(_xlfn.XLOOKUP(B25,DigKompTerületek,'1. dim. Komp_terület definíció'!$D$2:$D$6),"") | D25: =IFERROR(_xlfn.XLOOKUP(B25,DigKompTerületek,'1. dim. Komp_terület definíció'!$E$2:$E$6),"") | F25: =IFERROR(_xlfn.XLOOKUP(E25,'2. dim Komp_elemek_kiegtem_aláb'!$E$2:$E$22,'2. dim Komp_elemek_kiegtem_aláb'!$F$2:$F$22),"") | G25: =IFERROR(_xlfn.XLOOKUP(E25,'2. dim Komp_elemek_kiegtem_aláb'!$E$2:$E$22,'2. dim Komp_elemek_kiegtem_aláb'!$G$2:$G$22),"")
C26: =IFERROR(_xlfn.XLOOKUP(B26,DigKompTerületek,'1. dim. Komp_terület definíció'!$D$2:$D$6),"") | D26: =IFERROR(_xlfn.XLOOKUP(B26,DigKompTerületek,'1. dim. Komp_terület definíció'!$E$2:$E$6),"") | F26: =IFERROR(_xlfn.XLOOKUP(E26,'2. dim Komp_elemek_kiegtem_aláb'!$E$2:$E$22,'2. dim Komp_elemek_kiegtem_aláb'!$F$2:$F$22),"") | G26: =IFERROR(_xlfn.XLOOKUP(E26,'2. dim Komp_elemek_kiegtem_aláb'!$E$2:$E$22,'2. dim Komp_elemek_kiegtem_aláb'!$G$2:$G$22),"")
C27: =IFERROR(_xlfn.XLOOKUP(B27,DigKompTerületek,'1. dim. Komp_terület definíció'!$D$2:$D$6),"") | D27: =IFERROR(_xlfn.XLOOKUP(B27,DigKompTerületek,'1. dim. Komp_terület definíció'!$E$2:$E$6),"") | F27: =IFERROR(_xlfn.XLOOKUP(E27,'2. dim Komp_elemek_kiegtem_aláb'!$E$2:$E$22,'2. dim Komp_elemek_kiegtem_aláb'!$F$2:$F$22),"") | G27: =IFERROR(_xlfn.XLOOKUP(E27,'2. dim Komp_elemek_kiegtem_aláb'!$E$2:$E$22,'2. dim Komp_elemek_kiegtem_aláb'!$G$2:$G$22),"")
C28: =IFERROR(_xlfn.XLOOKUP(B28,DigKompTerületek,'1. dim. Komp_terület definíció'!$D$2:$D$6),"") | D28: =IFERROR(_xlfn.XLOOKUP(B28,DigKompTerületek,'1. dim. Komp_terület definíció'!$E$2:$E$6),"") | F28: =IFERROR(_xlfn.XLOOKUP(E28,'2. dim Komp_elemek_kiegtem_aláb'!$E$2:$E$22,'2. dim Komp_elemek_kiegtem_aláb'!$F$2:$F$22),"") | G28: =IFERROR(_xlfn.XLOOKUP(E28,'2. dim Komp_elemek_kiegtem_aláb'!$E$2:$E$22,'2. dim Komp_elemek_kiegtem_aláb'!$G$2:$G$22),"")
C29: =IFERROR(_xlfn.XLOOKUP(B29,DigKompTerületek,'1. dim. Komp_terület definíció'!$D$2:$D$6),"") | D29: =IFERROR(_xlfn.XLOOKUP(B29,DigKompTerületek,'1. dim. Komp_terület definíció'!$E$2:$E$6),"") | F29: =IFERROR(_xlfn.XLOOKUP(E29,'2. dim Komp_elemek_kiegtem_aláb'!$E$2:$E$22,'2. dim Komp_elemek_kiegtem_aláb'!$F$2:$F$22),"") | G29: =IFERROR(_xlfn.XLOOKUP(E29,'2. dim Komp_elemek_kiegtem_aláb'!$E$2:$E$22,'2. dim Komp_elemek_kiegtem_aláb'!$G$2:$G$22),"")
C30: =IFERROR(_xlfn.XLOOKUP(B30,DigKompTerületek,'1. dim. Komp_terület definíció'!$D$2:$D$6),"") | D30: =IFERROR(_xlfn.XLOOKUP(B30,DigKompTerületek,'1. dim. Komp_terület definíció'!$E$2:$E$6),"") | F30: =IFERROR(_xlfn.XLOOKUP(E30,'2. dim Komp_elemek_kiegtem_aláb'!$E$2:$E$22,'2. dim Komp_elemek_kiegtem_aláb'!$F$2:$F$22),"") | G30: =IFERROR(_xlfn.XLOOKUP(E30,'2. dim Komp_elemek_kiegtem_aláb'!$E$2:$E$22,'2. dim Komp_elemek_kiegtem_aláb'!$G$2:$G$22),"")
C31: =IFERROR(_xlfn.XLOOKUP(B31,DigKompTerületek,'1. dim. Komp_terület definíció'!$D$2:$D$6),"") | D31: =IFERROR(_xlfn.XLOOKUP(B31,DigKompTerületek,'1. dim. Komp_terület definíció'!$E$2:$E$6),"") | F31: =IFERROR(_xlfn.XLOOKUP(E31,'2. dim Komp_elemek_kiegtem_aláb'!$E$2:$E$22,'2. dim Komp_elemek_kiegtem_aláb'!$F$2:$F$22),"") | G31: =IFERROR(_xlfn.XLOOKUP(E31,'2. dim Komp_elemek_kiegtem_aláb'!$E$2:$E$22,'2. dim Komp_elemek_kiegtem_aláb'!$G$2:$G$22),"")
C32: =IFERROR(_xlfn.XLOOKUP(B32,DigKompTerületek,'1. dim. Komp_terület definíció'!$D$2:$D$6),"") | D32: =IFERROR(_xlfn.XLOOKUP(B32,DigKompTerületek,'1. dim. Komp_terület definíció'!$E$2:$E$6),"") | F32: =IFERROR(_xlfn.XLOOKUP(E32,'2. dim Komp_elemek_kiegtem_aláb'!$E$2:$E$22,'2. dim Komp_elemek_kiegtem_aláb'!$F$2:$F$22),"") | G32: =IFERROR(_xlfn.XLOOKUP(E32,'2. dim Komp_elemek_kiegtem_aláb'!$E$2:$E$22,'2. dim Komp_elemek_kiegtem_aláb'!$G$2:$G$22),"")
... C51: =IFERROR(_xlfn.XLOOKUP(B51,DigKompTerületek,'1. dim. Komp_terület definíció'!$D$2:$D$6),"") | D51: =IFERROR(_xlfn.XLOOKUP(B51,DigKompTerületek,'1. dim. Komp_terület definíció'!$E$2:$E$6),"") | F51: =IFERROR(_xlfn.XLOOKUP(E51,'2. dim Komp_elemek_kiegtem_aláb'!$E$2:$E$22,'2. dim Komp_elemek_kiegtem_aláb'!$F$2:$F$22),"") | G51: =IFERROR(_xlfn.XLOOKUP(E51,'2. dim Komp_elemek_kiegtem_aláb'!$E$2:$E$22,'2. dim Komp_elemek_kiegtem_aláb'!$G$2:$G$22),"")

Sheet DK-megf_digtev_kompter_I1A_kitö
A1: Digitális tevékenység | B1: JAVASOLT DigKomp-kompetenciaterület (1. dimenzió) | C1: DigKomp-kompetenciaterület meghatározása (1. dimenzió) | D1: Kompetenciaterülethez tartozó DigKomp-kompeteniaelemek | E1: DigKomp-kompetenciaelem azonosítója | F1: DigKomp-kompetenciaelem megnevezése (2. dimenzió) | G1: DigKomp-kompetenciaelem meghatározása (2. dimenzió) | H1: A digitális tevékenység és a DigKomp-kompetenciaelem illeszkedésének mértéke | I1: Indoklás
A2: Belépés és azonosítás | B2: 2. Kommunikáció és együttműködés | C2: =IFERROR(_xlfn.XLOOKUP(B2,DigKompTerületek,'1. dim. Komp_terület definíció'!$D$2:$D$6),"") -> Interakció, kommunikáció és együttműködés a digitális technológiák segítségével, miközben tudatában van a kulturális és generációs sokszínűségnek. Részvétel a társadalomban állami és magán digitális szolgáltatásokon és részvételen alapuló állampolgárságon keresztül. A digitális jelenlét, identitás és hírnév kezelése. | D2: =IFERROR(_xlfn.XLOOKUP(B2,DigKompTerületek,'1. dim. Komp_terület definíció'!$E$2:$E$6),"") -> 1. Digitális technológiával támogatott interakció; 2. Megosztás digitális technológiák segítségével; 3. Az állampolgárság gyakorlása digitális technológiák segítségével; 4. Együttműködés digitális technológiák segítségével; 5. Netikett; 6. A digitális személyazonosság kezelése | E2: 2.6 | F2: =IFERROR(_xlfn.XLOOKUP(E2,'2. dim Komp_elemek_kiegtem_aláb'!$E$2:$E$22,'2. dim Komp_elemek_kiegtem_aláb'!$F$2:$F$22),"") -> 2.6 A digitális személyazonosság kezelése | G2: =IFERROR(_xlfn.XLOOKUP(E2,'2. dim Komp_elemek_kiegtem_aláb'!$E$2:$E$22,'2. dim Komp_elemek_kiegtem_aláb'!$G$2:$G$22),"") -> Egy vagy több digitális személyazonosság létrehozása és kezelése, képesség a jó hír megvédésére, a különböző digitális eszközök, környezetek és szolgáltatások segítségével létrehozott adatok kezelése. | H2: Erős illeszkedés | I2: A felhasználónak elektronikus azonosítással kell belépnie az EESZT felületére, ehhez a DÁP mobilalkalmazást kell használnia, az azonosítás lépéseit követnie és a hozzáférést jóváhagynia.
A3: Belépés és azonosítás | B3: 4. Biztonság | C3: =IFERROR(_xlfn.XLOOKUP(B3,DigKompTerületek,'1. dim. Komp_terület definíció'!$D$2:$D$6),"") -> Az eszközök, a tartalom, a személyes adatok és a magánélet védelme digitális környezetben. A fizikai és pszichológiai egészség védelme, valamint a társadalmi jóllétet és a társadalmi befogadást szolgáló digitális technológiákkal való tudatosság megteremtése. Tisztában lenni a digitális technológiák környezeti hatásával és azok használatával. | D3: =IFERROR(_xlfn.XLOOKUP(B3,DigKompTerületek,'1. dim. Komp_terület definíció'!$E$2:$E$6),"") -> 1. Eszközök védelme; 2. A személyes adatok és a magánszféra védelme; 3. Az egészség és a jóllét védelme; 4.A környezet védelme | E3: 4.2 | F3: =IFERROR(_xlfn.XLOOKUP(E3,'2. dim Komp_elemek_kiegtem_aláb'!$E$2:$E$22,'2. dim Komp_elemek_kiegtem_aláb'!$F$2:$F$22),"") -> 4.2 A személyes adatok és a magánszféra védelme | G3: =IFERROR(_xlfn.XLOOKUP(E3,'2. dim Komp_elemek_kiegtem_aláb'!$E$2:$E$22,'2. dim Komp_elemek_kiegtem_aláb'!$G$2:$G$22),"") -> A személyes adatok és a magánszféra védelme digitális környezetben. Személyazonosításra alkalmas információk használatának és megosztásának ismerete, saját magam és mások védelme. Annak ismerete, hogy a digitális szolgáltatók adatvédelmi szabályzattal tájékoztatják a felhasználókat a személyes adatok felhasználásáról. | H3: Erős illeszkedés | I3: Az elektronikus azonosítás személyes és egészségügyi adatokhoz biztosít hozzáférést, ezért fontos a biztonságos bejelentkezés és a hozzáférés tudatos kezelése.
A4: Belépés és azonosítás | B4: 5. Problémamegoldás | C4: =IFERROR(_xlfn.XLOOKUP(B4,DigKompTerületek,'1. dim. Komp_terület definíció'!$D$2:$D$6),"") -> Az igények és problémák azonosítása, valamint a fogalmi problémák megoldása digitális környezetben. Digitális eszközök használata a folyamatok és termékek innovációjához. A digitális evolúció naprakész követése. | D4: =IFERROR(_xlfn.XLOOKUP(B4,DigKompTerületek,'1. dim. Komp_terület definíció'!$E$2:$E$6),"") -> 1. Technikai problémák megoldása; 2. Igények és technológiai válaszmegoldások azonosítása; 3. Digitális technológia kreatív alkalmazása; 4. Digitáliskompetencia-hiányosságok felismerése | E4: 5.1 | F4: =IFERROR(_xlfn.XLOOKUP(E4,'2. dim Komp_elemek_kiegtem_aláb'!$E$2:$E$22,'2. dim Komp_elemek_kiegtem_aláb'!$F$2:$F$22),"") -> 5.1 Technikai problémák megoldása | G4: =IFERROR(_xlfn.XLOOKUP(E4,'2. dim Komp_elemek_kiegtem_aláb'!$E$2:$E$22,'2. dim Komp_elemek_kiegtem_aláb'!$G$2:$G$22),"") -> Technikai problémák felismerése és megoldása eszközök és digitális környezetek használata során (a hibaelhárítástól az összetettebb problémák megoldásáig). | H4: Közepes, közvetett illeszkedés | I4: Az azonosítás során elakadás vagy bizonytalanság merülhet fel, ezért szükség lehet a probléma felismerésére, a folyamat újrapróbálására vagy megfelelő segítség keresésére.
A5: Digitális információ értelmezése és ellenőrzése | B5: 1. Információ- és adatmenedzsment | C5: =IFERROR(_xlfn.XLOOKUP(B5,DigKompTerületek,'1. dim. Komp_terület definíció'!$D$2:$D$6),"") -> Az információs igények megfogalmazása, a digitális adatok, információk és tartalmak felkutatása és visszakeresése. A forrás és tartalom relevanciájának megítélése. Digitális adatok, információk és tartalmak tárolása, kezelése és rendszerezése. | D5: =IFERROR(_xlfn.XLOOKUP(B5,DigKompTerületek,'1. dim. Komp_terület definíció'!$E$2:$E$6),"") -> 1. Adatok, információk és digitális tartalmak böngészése, keresése és szűrése; 2. Adatok, információk és digitális tartalmak kiértékelése; 3. Adatok, információk és digitális tartalmak kezelése | E5: 1.2 | F5: =IFERROR(_xlfn.XLOOKUP(E5,'2. dim Komp_elemek_kiegtem_aláb'!$E$2:$E$22,'2. dim Komp_elemek_kiegtem_aláb'!$F$2:$F$22),"") -> 1.2 Adatok, információk és digitális tartalmak kiértékelése | G5: =IFERROR(_xlfn.XLOOKUP(E5,'2. dim Komp_elemek_kiegtem_aláb'!$E$2:$E$22,'2. dim Komp_elemek_kiegtem_aláb'!$G$2:$G$22),"") -> Az adat-, információ- és digitális tartalomforrások hitelességének és megbízhatóságának elemzése, összehasonlítása és kritikus értékelése. Az adatok, információk és digitális tartalmak elemzése, értelmezése és kritikai értékelése. | H5: Erős illeszkedés | I5: A felhasználónak értelmeznie kell a leleten szereplő értékeket, jelöléseket és referencia-tartományokat, valamint meg kell ítélnie, mely információk lényegesek.
A6: Digitális információ értelmezése és ellenőrzése | B6: 1. Információ- és adatmenedzsment | C6: =IFERROR(_xlfn.XLOOKUP(B6,DigKompTerületek,'1. dim. Komp_terület definíció'!$D$2:$D$6),"") -> Az információs igények megfogalmazása, a digitális adatok, információk és tartalmak felkutatása és visszakeresése. A forrás és tartalom relevanciájának megítélése. Digitális adatok, információk és tartalmak tárolása, kezelése és rendszerezése. | D6: =IFERROR(_xlfn.XLOOKUP(B6,DigKompTerületek,'1. dim. Komp_terület definíció'!$E$2:$E$6),"") -> 1. Adatok, információk és digitális tartalmak böngészése, keresése és szűrése; 2. Adatok, információk és digitális tartalmak kiértékelése; 3. Adatok, információk és digitális tartalmak kezelése | E6: 1.1 | F6: =IFERROR(_xlfn.XLOOKUP(E6,'2. dim Komp_elemek_kiegtem_aláb'!$E$2:$E$22,'2. dim Komp_elemek_kiegtem_aláb'!$F$2:$F$22),"") -> 1.1 Adatok, információk és digitális tartalmak böngészése, keresése és szűrése | G6: =IFERROR(_xlfn.XLOOKUP(E6,'2. dim Komp_elemek_kiegtem_aláb'!$E$2:$E$22,'2. dim Komp_elemek_kiegtem_aláb'!$G$2:$G$22),"") -> Az információval kapcsolatos igények megfogalmazása, valamint adatok, információk és tartalmak keresése digitális környezetben. Az adatokhoz, információkhoz és tartalmakhoz való hozzáférés, illetve az ezek közötti eligazodás. Egyéni keresési stratégiák kialakítása és igény szerinti módosítása. | H6: Jó, de részleges illeszkedés | I6: Ha a leleten szereplő információ nem egyértelmű, további digitális információforrásokat kell keresnie a fogalmak vagy jelölések megértéséhez.
A7: Digitális információ értelmezése és ellenőrzése | B7: 5. Problémamegoldás | C7: =IFERROR(_xlfn.XLOOKUP(B7,DigKompTerületek,'1. dim. Komp_terület definíció'!$D$2:$D$6),"") -> Az igények és problémák azonosítása, valamint a fogalmi problémák megoldása digitális környezetben. Digitális eszközök használata a folyamatok és termékek innovációjához. A digitális evolúció naprakész követése. | D7: =IFERROR(_xlfn.XLOOKUP(B7,DigKompTerületek,'1. dim. Komp_terület definíció'!$E$2:$E$6),"") -> 1. Technikai problémák megoldása; 2. Igények és technológiai válaszmegoldások azonosítása; 3. Digitális technológia kreatív alkalmazása; 4. Digitáliskompetencia-hiányosságok felismerése | E7: 5.2 | F7: =IFERROR(_xlfn.XLOOKUP(E7,'2. dim Komp_elemek_kiegtem_aláb'!$E$2:$E$22,'2. dim Komp_elemek_kiegtem_aláb'!$F$2:$F$22),"") -> 5.2 Igények és technológiai válaszmegoldások azonosítása | G7: =IFERROR(_xlfn.XLOOKUP(E7,'2. dim Komp_elemek_kiegtem_aláb'!$E$2:$E$22,'2. dim Komp_elemek_kiegtem_aláb'!$G$2:$G$22),"") -> Igények felmérése, illetve digitális eszközök és szóba jöhető technológiai válaszok azonosítása, értékelése és kiválasztása. Digitális környezetek módosítása és testreszabása személyes igények alapján (pl.: hozzáférhetőség). | H7: Jó illeszkedés | I7: A felhasználónak fel kell ismernie, mikor elegendő a rendelkezésre álló digitális információ, és mikor van szükség más digitális eszközre, információforrásra vagy szakember bevonására.
A8: Digitális információ értelmezése és ellenőrzése | B8: 4. Biztonság | C8: =IFERROR(_xlfn.XLOOKUP(B8,DigKompTerületek,'1. dim. Komp_terület definíció'!$D$2:$D$6),"") -> Az eszközök, a tartalom, a személyes adatok és a magánélet védelme digitális környezetben. A fizikai és pszichológiai egészség védelme, valamint a társadalmi jóllétet és a társadalmi befogadást szolgáló digitális technológiákkal való tudatosság megteremtése. Tisztában lenni a digitális technológiák környezeti hatásával és azok használatával. | D8: =IFERROR(_xlfn.XLOOKUP(B8,DigKompTerületek,'1. dim. Komp_terület definíció'!$E$2:$E$6),"") -> 1. Eszközök védelme; 2. A személyes adatok és a magánszféra védelme; 3. Az egészség és a jóllét védelme; 4.A környezet védelme | E8: 4.2 | F8: =IFERROR(_xlfn.XLOOKUP(E8,'2. dim Komp_elemek_kiegtem_aláb'!$E$2:$E$22,'2. dim Komp_elemek_kiegtem_aláb'!$F$2:$F$22),"") -> 4.2 A személyes adatok és a magánszféra védelme | G8: =IFERROR(_xlfn.XLOOKUP(E8,'2. dim Komp_elemek_kiegtem_aláb'!$E$2:$E$22,'2. dim Komp_elemek_kiegtem_aláb'!$G$2:$G$22),"") -> A személyes adatok és a magánszféra védelme digitális környezetben. Személyazonosításra alkalmas információk használatának és megosztásának ismerete, saját magam és mások védelme. Annak ismerete, hogy a digitális szolgáltatók adatvédelmi szabályzattal tájékoztatják a felhasználókat a személyes adatok felhasználásáról. | H8: Közepes, közvetett illeszkedés | I8: Egészségügyi információk kezelése során fontos annak tudatosítása, hogy érzékeny személyes adatokkal dolgozik, különösen külső online forrás használata esetén.
A9: Dokumentumazonosítás | B9: 1. Információ- és adatmenedzsment | C9: =IFERROR(_xlfn.XLOOKUP(B9,DigKompTerületek,'1. dim. Komp_terület definíció'!$D$2:$D$6),"") -> Az információs igények megfogalmazása, a digitális adatok, információk és tartalmak felkutatása és visszakeresése. A forrás és tartalom relevanciájának megítélése. Digitális adatok, információk és tartalmak tárolása, kezelése és rendszerezése. | D9: =IFERROR(_xlfn.XLOOKUP(B9,DigKompTerületek,'1. dim. Komp_terület definíció'!$E$2:$E$6),"") -> 1. Adatok, információk és digitális tartalmak böngészése, keresése és szűrése; 2. Adatok, információk és digitális tartalmak kiértékelése; 3. Adatok, információk és digitális tartalmak kezelése | E9: 1.2 | F9: =IFERROR(_xlfn.XLOOKUP(E9,'2. dim Komp_elemek_kiegtem_aláb'!$E$2:$E$22,'2. dim Komp_elemek_kiegtem_aláb'!$F$2:$F$22),"") -> 1.2 Adatok, információk és digitális tartalmak kiértékelése | G9: =IFERROR(_xlfn.XLOOKUP(E9,'2. dim Komp_elemek_kiegtem_aláb'!$E$2:$E$22,'2. dim Komp_elemek_kiegtem_aláb'!$G$2:$G$22),"") -> Az adat-, információ- és digitális tartalomforrások hitelességének és megbízhatóságának elemzése, összehasonlítása és kritikus értékelése. Az adatok, információk és digitális tartalmak elemzése, értelmezése és kritikai értékelése. | H9: Erős illeszkedés | I9: A felhasználónak a dokumentumok dátuma, típusa és egyéb metaadatai alapján kell eldöntenie, melyik dokumentum tartozik az adott vérvételhez és melyik a legfrissebb.
A10: Dokumentumazonosítás | B10: 1. Információ- és adatmenedzsment | C10: =IFERROR(_xlfn.XLOOKUP(B10,DigKompTerületek,'1. dim. Komp_terület definíció'!$D$2:$D$6),"") -> Az információs igények megfogalmazása, a digitális adatok, információk és tartalmak felkutatása és visszakeresése. A forrás és tartalom relevanciájának megítélése. Digitális adatok, információk és tartalmak tárolása, kezelése és rendszerezése. | D10: =IFERROR(_xlfn.XLOOKUP(B10,DigKompTerületek,'1. dim. Komp_terület definíció'!$E$2:$E$6),"") -> 1. Adatok, információk és digitális tartalmak böngészése, keresése és szűrése; 2. Adatok, információk és digitális tartalmak kiértékelése; 3. Adatok, információk és digitális tartalmak kezelése | E10: 1.3 | F10: =IFERROR(_xlfn.XLOOKUP(E10,'2. dim Komp_elemek_kiegtem_aláb'!$E$2:$E$22,'2. dim Komp_elemek_kiegtem_aláb'!$F$2:$F$22),"") -> 1.3 Adatok, információk és digitális tartalmak kezelése | G10: =IFERROR(_xlfn.XLOOKUP(E10,'2. dim Komp_elemek_kiegtem_aláb'!$E$2:$E$22,'2. dim Komp_elemek_kiegtem_aláb'!$G$2:$G$22),"") -> Adatok információk és tartalmak elrendezése, tárolása és visszakeresése digitális környezetben. Ezek rendszerezése és feldolgozása strukturált környezetben. | H10: Jó, de részleges illeszkedés | I10: A dokumentumok közötti megkülönböztetéshez a felhasználónak a rendelkezésre álló digitális tartalmakat és azok metaadatait kell rendszerezetten kezelnie.
A11: Dokumentumkeresés | B11: 1. Információ- és adatmenedzsment | C11: =IFERROR(_xlfn.XLOOKUP(B11,DigKompTerületek,'1. dim. Komp_terület definíció'!$D$2:$D$6),"") -> Az információs igények megfogalmazása, a digitális adatok, információk és tartalmak felkutatása és visszakeresése. A forrás és tartalom relevanciájának megítélése. Digitális adatok, információk és tartalmak tárolása, kezelése és rendszerezése. | D11: =IFERROR(_xlfn.XLOOKUP(B11,DigKompTerületek,'1. dim. Komp_terület definíció'!$E$2:$E$6),"") -> 1. Adatok, információk és digitális tartalmak böngészése, keresése és szűrése; 2. Adatok, információk és digitális tartalmak kiértékelése; 3. Adatok, információk és digitális tartalmak kezelése | E11: 1.1 | F11: =IFERROR(_xlfn.XLOOKUP(E11,'2. dim Komp_elemek_kiegtem_aláb'!$E$2:$E$22,'2. dim Komp_elemek_kiegtem_aláb'!$F$2:$F$22),"") -> 1.1 Adatok, információk és digitális tartalmak böngészése, keresése és szűrése | G11: =IFERROR(_xlfn.XLOOKUP(E11,'2. dim Komp_elemek_kiegtem_aláb'!$E$2:$E$22,'2. dim Komp_elemek_kiegtem_aláb'!$G$2:$G$22),"") -> Az információval kapcsolatos igények megfogalmazása, valamint adatok, információk és tartalmak keresése digitális környezetben. Az adatokhoz, információkhoz és tartalmakhoz való hozzáférés, illetve az ezek közötti eligazodás. Egyéni keresési stratégiák kialakítása és igény szerinti módosítása. | H11: Erős illeszkedés | I11: A felhasználónak a dokumentumok között kell keresnie, és szükség esetén dátum, dokumentumtípus vagy más szempont alapján kell szűkítenie a találatokat.
A12: Dokumentumkeresés | B12: 1. Információ- és adatmenedzsment | C12: =IFERROR(_xlfn.XLOOKUP(B12,DigKompTerületek,'1. dim. Komp_terület definíció'!$D$2:$D$6),"") -> Az információs igények megfogalmazása, a digitális adatok, információk és tartalmak felkutatása és visszakeresése. A forrás és tartalom relevanciájának megítélése. Digitális adatok, információk és tartalmak tárolása, kezelése és rendszerezése. | D12: =IFERROR(_xlfn.XLOOKUP(B12,DigKompTerületek,'1. dim. Komp_terület definíció'!$E$2:$E$6),"") -> 1. Adatok, információk és digitális tartalmak böngészése, keresése és szűrése; 2. Adatok, információk és digitális tartalmak kiértékelése; 3. Adatok, információk és digitális tartalmak kezelése | E12: 1.3 | F12: =IFERROR(_xlfn.XLOOKUP(E12,'2. dim Komp_elemek_kiegtem_aláb'!$E$2:$E$22,'2. dim Komp_elemek_kiegtem_aláb'!$F$2:$F$22),"") -> 1.3 Adatok, információk és digitális tartalmak kezelése | G12: =IFERROR(_xlfn.XLOOKUP(E12,'2. dim Komp_elemek_kiegtem_aláb'!$E$2:$E$22,'2. dim Komp_elemek_kiegtem_aláb'!$G$2:$G$22),"") -> Adatok információk és tartalmak elrendezése, tárolása és visszakeresése digitális környezetben. Ezek rendszerezése és feldolgozása strukturált környezetben. | H12: Jó, de részleges illeszkedés | I12: A keresés során a felhasználónak egy strukturált dokumentumlistában kell eligazodnia, az elemeket rendszerező információkat értelmeznie és kezelnie.
A13: Lelet megtekintése | B13: 1. Információ- és adatmenedzsment | C13: =IFERROR(_xlfn.XLOOKUP(B13,DigKompTerületek,'1. dim. Komp_terület definíció'!$D$2:$D$6),"") -> Az információs igények megfogalmazása, a digitális adatok, információk és tartalmak felkutatása és visszakeresése. A forrás és tartalom relevanciájának megítélése. Digitális adatok, információk és tartalmak tárolása, kezelése és rendszerezése. | D13: =IFERROR(_xlfn.XLOOKUP(B13,DigKompTerületek,'1. dim. Komp_terület definíció'!$E$2:$E$6),"") -> 1. Adatok, információk és digitális tartalmak böngészése, keresése és szűrése; 2. Adatok, információk és digitális tartalmak kiértékelése; 3. Adatok, információk és digitális tartalmak kezelése | E13: 1.3 | F13: =IFERROR(_xlfn.XLOOKUP(E13,'2. dim Komp_elemek_kiegtem_aláb'!$E$2:$E$22,'2. dim Komp_elemek_kiegtem_aláb'!$F$2:$F$22),"") -> 1.3 Adatok, információk és digitális tartalmak kezelése | G13: =IFERROR(_xlfn.XLOOKUP(E13,'2. dim Komp_elemek_kiegtem_aláb'!$E$2:$E$22,'2. dim Komp_elemek_kiegtem_aláb'!$G$2:$G$22),"") -> Adatok információk és tartalmak elrendezése, tárolása és visszakeresése digitális környezetben. Ezek rendszerezése és feldolgozása strukturált környezetben. | H13: Erős illeszkedés | I13: A felhasználónak meg kell nyitnia a kiválasztott leletet, át kell tekintenie annak tartalmát, és szükség esetén letöltenie vagy későbbi elérésre kezelnie kell a dokumentumot.
... A20: További digitális ügyintézés / kapcsolatfelvétel | B20: 4. Biztonság | C20: =IFERROR(_xlfn.XLOOKUP(B20,DigKompTerületek,'1. dim. Komp_terület definíció'!$D$2:$D$6),"") -> Az eszközök, a tartalom, a személyes adatok és a magánélet védelme digitális környezetben. A fizikai és pszichológiai egészség védelme, valamint a társadalmi jóllétet és a társadalmi befogadást szolgáló digitális technológiákkal való tudatosság megteremtése. Tisztában lenni a digitális technológiák környezeti hatásával és azok használatával. | D20: =IFERROR(_xlfn.XLOOKUP(B20,DigKompTerületek,'1. dim. Komp_terület definíció'!$E$2:$E$6),"") -> 1. Eszközök védelme; 2. A személyes adatok és a magánszféra védelme; 3. Az egészség és a jóllét védelme; 4.A környezet védelme | E20: 4.2 | F20: =IFERROR(_xlfn.XLOOKUP(E20,'2. dim Komp_elemek_kiegtem_aláb'!$E$2:$E$22,'2. dim Komp_elemek_kiegtem_aláb'!$F$2:$F$22),"") -> 4.2 A személyes adatok és a magánszféra védelme | G20: =IFERROR(_xlfn.XLOOKUP(E20,'2. dim Komp_elemek_kiegtem_aláb'!$E$2:$E$22,'2. dim Komp_elemek_kiegtem_aláb'!$G$2:$G$22),"") -> A személyes adatok és a magánszféra védelme digitális környezetben. Személyazonosításra alkalmas információk használatának és megosztásának ismerete, saját magam és mások védelme. Annak ismerete, hogy a digitális szolgáltatók adatvédelmi szabályzattal tájékoztatják a felhasználókat a személyes adatok felhasználásáról. | H20: Jó illeszkedés | I20: Egészségügyi adat vagy lelet továbbítása esetén tudatosan kell megválasztani a megfelelő és biztonságos kommunikációs csatornát.
C21: =IFERROR(_xlfn.XLOOKUP(B21,DigKompTerületek,'1. dim. Komp_terület definíció'!$D$2:$D$6),"") | D21: =IFERROR(_xlfn.XLOOKUP(B21,DigKompTerületek,'1. dim. Komp_terület definíció'!$E$2:$E$6),"") | F21: =IFERROR(_xlfn.XLOOKUP(E21,'2. dim Komp_elemek_kiegtem_aláb'!$E$2:$E$22,'2. dim Komp_elemek_kiegtem_aláb'!$F$2:$F$22),"") | G21: =IFERROR(_xlfn.XLOOKUP(E21,'2. dim Komp_elemek_kiegtem_aláb'!$E$2:$E$22,'2. dim Komp_elemek_kiegtem_aláb'!$G$2:$G$22),"")
C22: =IFERROR(_xlfn.XLOOKUP(B22,DigKompTerületek,'1. dim. Komp_terület definíció'!$D$2:$D$6),"") | D22: =IFERROR(_xlfn.XLOOKUP(B22,DigKompTerületek,'1. dim. Komp_terület definíció'!$E$2:$E$6),"") | F22: =IFERROR(_xlfn.XLOOKUP(E22,'2. dim Komp_elemek_kiegtem_aláb'!$E$2:$E$22,'2. dim Komp_elemek_kiegtem_aláb'!$F$2:$F$22),"") | G22: =IFERROR(_xlfn.XLOOKUP(E22,'2. dim Komp_elemek_kiegtem_aláb'!$E$2:$E$22,'2. dim Komp_elemek_kiegtem_aláb'!$G$2:$G$22),"")
C23: =IFERROR(_xlfn.XLOOKUP(B23,DigKompTerületek,'1. dim. Komp_terület definíció'!$D$2:$D$6),"") | D23: =IFERROR(_xlfn.XLOOKUP(B23,DigKompTerületek,'1. dim. Komp_terület definíció'!$E$2:$E$6),"") | F23: =IFERROR(_xlfn.XLOOKUP(E23,'2. dim Komp_elemek_kiegtem_aláb'!$E$2:$E$22,'2. dim Komp_elemek_kiegtem_aláb'!$F$2:$F$22),"") | G23: =IFERROR(_xlfn.XLOOKUP(E23,'2. dim Komp_elemek_kiegtem_aláb'!$E$2:$E$22,'2. dim Komp_elemek_kiegtem_aláb'!$G$2:$G$22),"")
C24: =IFERROR(_xlfn.XLOOKUP(B24,DigKompTerületek,'1. dim. Komp_terület definíció'!$D$2:$D$6),"") | D24: =IFERROR(_xlfn.XLOOKUP(B24,DigKompTerületek,'1. dim. Komp_terület definíció'!$E$2:$E$6),"") | F24: =IFERROR(_xlfn.XLOOKUP(E24,'2. dim Komp_elemek_kiegtem_aláb'!$E$2:$E$22,'2. dim Komp_elemek_kiegtem_aláb'!$F$2:$F$22),"") | G24: =IFERROR(_xlfn.XLOOKUP(E24,'2. dim Komp_elemek_kiegtem_aláb'!$E$2:$E$22,'2. dim Komp_elemek_kiegtem_aláb'!$G$2:$G$22),"")
C25: =IFERROR(_xlfn.XLOOKUP(B25,DigKompTerületek,'1. dim. Komp_terület definíció'!$D$2:$D$6),"") | D25: =IFERROR(_xlfn.XLOOKUP(B25,DigKompTerületek,'1. dim. Komp_terület definíció'!$E$2:$E$6),"") | F25: =IFERROR(_xlfn.XLOOKUP(E25,'2. dim Komp_elemek_kiegtem_aláb'!$E$2:$E$22,'2. dim Komp_elemek_kiegtem_aláb'!$F$2:$F$22),"") | G25: =IFERROR(_xlfn.XLOOKUP(E25,'2. dim Komp_elemek_kiegtem_aláb'!$E$2:$E$22,'2. dim Komp_elemek_kiegtem_aláb'!$G$2:$G$22),"")
C26: =IFERROR(_xlfn.XLOOKUP(B26,DigKompTerületek,'1. dim. Komp_terület definíció'!$D$2:$D$6),"") | D26: =IFERROR(_xlfn.XLOOKUP(B26,DigKompTerületek,'1. dim. Komp_terület definíció'!$E$2:$E$6),"") | F26: =IFERROR(_xlfn.XLOOKUP(E26,'2. dim Komp_elemek_kiegtem_aláb'!$E$2:$E$22,'2. dim Komp_elemek_kiegtem_aláb'!$F$2:$F$22),"") | G26: =IFERROR(_xlfn.XLOOKUP(E26,'2. dim Komp_elemek_kiegtem_aláb'!$E$2:$E$22,'2. dim Komp_elemek_kiegtem_aláb'!$G$2:$G$22),"")
C27: =IFERROR(_xlfn.XLOOKUP(B27,DigKompTerületek,'1. dim. Komp_terület definíció'!$D$2:$D$6),"") | D27: =IFERROR(_xlfn.XLOOKUP(B27,DigKompTerületek,'1. dim. Komp_terület definíció'!$E$2:$E$6),"") | F27: =IFERROR(_xlfn.XLOOKUP(E27,'2. dim Komp_elemek_kiegtem_aláb'!$E$2:$E$22,'2. dim Komp_elemek_kiegtem_aláb'!$F$2:$F$22),"") | G27: =IFERROR(_xlfn.XLOOKUP(E27,'2. dim Komp_elemek_kiegtem_aláb'!$E$2:$E$22,'2. dim Komp_elemek_kiegtem_aláb'!$G$2:$G$22),"")
C28: =IFERROR(_xlfn.XLOOKUP(B28,DigKompTerületek,'1. dim. Komp_terület definíció'!$D$2:$D$6),"") | D28: =IFERROR(_xlfn.XLOOKUP(B28,DigKompTerületek,'1. dim. Komp_terület definíció'!$E$2:$E$6),"") | F28: =IFERROR(_xlfn.XLOOKUP(E28,'2. dim Komp_elemek_kiegtem_aláb'!$E$2:$E$22,'2. dim Komp_elemek_kiegtem_aláb'!$F$2:$F$22),"") | G28: =IFERROR(_xlfn.XLOOKUP(E28,'2. dim Komp_elemek_kiegtem_aláb'!$E$2:$E$22,'2. dim Komp_elemek_kiegtem_aláb'!$G$2:$G$22),"")
C29: =IFERROR(_xlfn.XLOOKUP(B29,DigKompTerületek,'1. dim. Komp_terület definíció'!$D$2:$D$6),"") | D29: =IFERROR(_xlfn.XLOOKUP(B29,DigKompTerületek,'1. dim. Komp_terület definíció'!$E$2:$E$6),"") | F29: =IFERROR(_xlfn.XLOOKUP(E29,'2. dim Komp_elemek_kiegtem_aláb'!$E$2:$E$22,'2. dim Komp_elemek_kiegtem_aláb'!$F$2:$F$22),"") | G29: =IFERROR(_xlfn.XLOOKUP(E29,'2. dim Komp_elemek_kiegtem_aláb'!$E$2:$E$22,'2. dim Komp_elemek_kiegtem_aláb'!$G$2:$G$22),"")
C30: =IFERROR(_xlfn.XLOOKUP(B30,DigKompTerületek,'1. dim. Komp_terület definíció'!$D$2:$D$6),"") | D30: =IFERROR(_xlfn.XLOOKUP(B30,DigKompTerületek,'1. dim. Komp_terület definíció'!$E$2:$E$6),"") | F30: =IFERROR(_xlfn.XLOOKUP(E30,'2. dim Komp_elemek_kiegtem_aláb'!$E$2:$E$22,'2. dim Komp_elemek_kiegtem_aláb'!$F$2:$F$22),"") | G30: =IFERROR(_xlfn.XLOOKUP(E30,'2. dim Komp_elemek_kiegtem_aláb'!$E$2:$E$22,'2. dim Komp_elemek_kiegtem_aláb'!$G$2:$G$22),"")
C31: =IFERROR(_xlfn.XLOOKUP(B31,DigKompTerületek,'1. dim. Komp_terület definíció'!$D$2:$D$6),"") | D31: =IFERROR(_xlfn.XLOOKUP(B31,DigKompTerületek,'1. dim. Komp_terület definíció'!$E$2:$E$6),"") | F31: =IFERROR(_xlfn.XLOOKUP(E31,'2. dim Komp_elemek_kiegtem_aláb'!$E$2:$E$22,'2. dim Komp_elemek_kiegtem_aláb'!$F$2:$F$22),"") | G31: =IFERROR(_xlfn.XLOOKUP(E31,'2. dim Komp_elemek_kiegtem_aláb'!$E$2:$E$22,'2. dim Komp_elemek_kiegtem_aláb'!$G$2:$G$22),"")
C32: =IFERROR(_xlfn.XLOOKUP(B32,DigKompTerületek,'1. dim. Komp_terület definíció'!$D$2:$D$6),"") | D32: =IFERROR(_xlfn.XLOOKUP(B32,DigKompTerületek,'1. dim. Komp_terület definíció'!$E$2:$E$6),"") | F32: =IFERROR(_xlfn.XLOOKUP(E32,'2. dim Komp_elemek_kiegtem_aláb'!$E$2:$E$22,'2. dim Komp_elemek_kiegtem_aláb'!$F$2:$F$22),"") | G32: =IFERROR(_xlfn.XLOOKUP(E32,'2. dim Komp_elemek_kiegtem_aláb'!$E$2:$E$22,'2. dim Komp_elemek_kiegtem_aláb'!$G$2:$G$22),"")
... C51: =IFERROR(_xlfn.XLOOKUP(B51,DigKompTerületek,'1. dim. Komp_terület definíció'!$D$2:$D$6),"") | D51: =IFERROR(_xlfn.XLOOKUP(B51,DigKompTerületek,'1. dim. Komp_terület definíció'!$E$2:$E$6),"") | F51: =IFERROR(_xlfn.XLOOKUP(E51,'2. dim Komp_elemek_kiegtem_aláb'!$E$2:$E$22,'2. dim Komp_elemek_kiegtem_aláb'!$F$2:$F$22),"") | G51: =IFERROR(_xlfn.XLOOKUP(E51,'2. dim Komp_elemek_kiegtem_aláb'!$E$2:$E$22,'2. dim Komp_elemek_kiegtem_aláb'!$G$2:$G$22),"")

Sheet DigKomp-megf_dig_tev_EESZT_kit
A1: Digitális tevékenység | B1: Kompetenciaterület sorszáma | C1: DigKomp-kompetenciaterület (1. dimenzió) | D1: DigKomp-kompetenciaelem azonosítója | E1: DigKomp-kompetenciaelem megnevezése (2. dimenzió) | F1: DigKomp-kompetenciaelem meghatározása (2. dimenzió) | G1: A digitális tevékenység és a DigKomp-kompetenciaelem illeszkedésének mértéke | H1: Indoklás
A2: Belépés és azonosítás | B2: =IFERROR(_xlfn.XLOOKUP(E2,'2. dim Komp_elemek_kiegtem_aláb'!$F$2:$F$22,'2. dim Komp_elemek_kiegtem_aláb'!$C$2:$C$22),"") -> 2 | C2: =IFERROR(_xlfn.XLOOKUP(E2,'2. dim Komp_elemek_kiegtem_aláb'!$F$2:$F$22,'2. dim Komp_elemek_kiegtem_aláb'!$D$2:$D$22),"") -> Kommunikáció és együttműködés | D2: =IFERROR(_xlfn.XLOOKUP(E2,'2. dim Komp_elemek_kiegtem_aláb'!$F$2:$F$22,DigKompElemAzonosítók),"") -> 2.6 | E2: 2.6 A digitális személyazonosság kezelése | F2: =IFERROR(_xlfn.XLOOKUP(D2,'2. dim Komp_elemek_kiegtem_aláb'!$E$2:$E$22,'2. dim Komp_elemek_kiegtem_aláb'!$G$2:$G$22),"") -> Egy vagy több digitális személyazonosság létrehozása és kezelése, képesség a jó hír megvédésére, a különböző digitális eszközök, környezetek és szolgáltatások segítségével létrehozott adatok kezelése. | G2: Erős illeszkedés | H2: A felhasználónak elektronikus azonosítással kell belépnie az EESZT felületére, ehhez a DÁP mobilalkalmazást kell használnia, az azonosítás lépéseit követnie és a hozzáférést jóváhagynia.
A3: Belépés és azonosítás | B3: =IFERROR(_xlfn.XLOOKUP(E3,'2. dim Komp_elemek_kiegtem_aláb'!$F$2:$F$22,'2. dim Komp_elemek_kiegtem_aláb'!$C$2:$C$22),"") -> 4 | C3: =IFERROR(_xlfn.XLOOKUP(E3,'2. dim Komp_elemek_kiegtem_aláb'!$F$2:$F$22,'2. dim Komp_elemek_kiegtem_aláb'!$D$2:$D$22),"") -> Biztonság | D3: =IFERROR(_xlfn.XLOOKUP(E3,'2. dim Komp_elemek_kiegtem_aláb'!$F$2:$F$22,DigKompElemAzonosítók),"") -> 4.2 | E3: 4.2 A személyes adatok és a magánszféra védelme | F3: =IFERROR(_xlfn.XLOOKUP(D3,'2. dim Komp_elemek_kiegtem_aláb'!$E$2:$E$22,'2. dim Komp_elemek_kiegtem_aláb'!$G$2:$G$22),"") -> A személyes adatok és a magánszféra védelme digitális környezetben. Személyazonosításra alkalmas információk használatának és megosztásának ismerete, saját magam és mások védelme. Annak ismerete, hogy a digitális szolgáltatók adatvédelmi szabályzattal tájékoztatják a felhasználókat a személyes adatok felhasználásáról. | G3: Erős illeszkedés | H3: Az elektronikus azonosítás személyes és egészségügyi adatokhoz biztosít hozzáférést, ezért fontos a biztonságos bejelentkezés és a hozzáférés tudatos kezelése.
A4: Belépés és azonosítás | B4: =IFERROR(_xlfn.XLOOKUP(E4,'2. dim Komp_elemek_kiegtem_aláb'!$F$2:$F$22,'2. dim Komp_elemek_kiegtem_aláb'!$C$2:$C$22),"") -> 5 | C4: =IFERROR(_xlfn.XLOOKUP(E4,'2. dim Komp_elemek_kiegtem_aláb'!$F$2:$F$22,'2. dim Komp_elemek_kiegtem_aláb'!$D$2:$D$22),"") -> Problémamegoldás | D4: =IFERROR(_xlfn.XLOOKUP(E4,'2. dim Komp_elemek_kiegtem_aláb'!$F$2:$F$22,DigKompElemAzonosítók),"") -> 5.1 | E4: 5.1 Technikai problémák megoldása | F4: =IFERROR(_xlfn.XLOOKUP(D4,'2. dim Komp_elemek_kiegtem_aláb'!$E$2:$E$22,'2. dim Komp_elemek_kiegtem_aláb'!$G$2:$G$22),"") -> Technikai problémák felismerése és megoldása eszközök és digitális környezetek használata során (a hibaelhárítástól az összetettebb problémák megoldásáig). | G4: Közepes, közvetett illeszkedés | H4: Az azonosítás során elakadás vagy bizonytalanság merülhet fel, ezért szükség lehet a probléma felismerésére, a folyamat újrapróbálására vagy megfelelő segítség keresésére.
A5: Digitális információ értelmezése és ellenőrzése | B5: =IFERROR(_xlfn.XLOOKUP(E5,'2. dim Komp_elemek_kiegtem_aláb'!$F$2:$F$22,'2. dim Komp_elemek_kiegtem_aláb'!$C$2:$C$22),"") -> 1 | C5: =IFERROR(_xlfn.XLOOKUP(E5,'2. dim Komp_elemek_kiegtem_aláb'!$F$2:$F$22,'2. dim Komp_elemek_kiegtem_aláb'!$D$2:$D$22),"") -> Információ- és adatmenedzsment | D5: =IFERROR(_xlfn.XLOOKUP(E5,'2. dim Komp_elemek_kiegtem_aláb'!$F$2:$F$22,DigKompElemAzonosítók),"") -> 1.2 | E5: 1.2 Adatok, információk és digitális tartalmak kiértékelése | F5: =IFERROR(_xlfn.XLOOKUP(D5,'2. dim Komp_elemek_kiegtem_aláb'!$E$2:$E$22,'2. dim Komp_elemek_kiegtem_aláb'!$G$2:$G$22),"") -> Az adat-, információ- és digitális tartalomforrások hitelességének és megbízhatóságának elemzése, összehasonlítása és kritikus értékelése. Az adatok, információk és digitális tartalmak elemzése, értelmezése és kritikai értékelése. | G5: Erős illeszkedés | H5: A felhasználónak értelmeznie kell a leleten szereplő értékeket, jelöléseket és referencia-tartományokat, valamint meg kell ítélnie, mely információk lényegesek.
A6: Digitális információ értelmezése és ellenőrzése | B6: =IFERROR(_xlfn.XLOOKUP(E6,'2. dim Komp_elemek_kiegtem_aláb'!$F$2:$F$22,'2. dim Komp_elemek_kiegtem_aláb'!$C$2:$C$22),"") -> 1 | C6: =IFERROR(_xlfn.XLOOKUP(E6,'2. dim Komp_elemek_kiegtem_aláb'!$F$2:$F$22,'2. dim Komp_elemek_kiegtem_aláb'!$D$2:$D$22),"") -> Információ- és adatmenedzsment | D6: =IFERROR(_xlfn.XLOOKUP(E6,'2. dim Komp_elemek_kiegtem_aláb'!$F$2:$F$22,DigKompElemAzonosítók),"") -> 1.1 | E6: 1.1 Adatok, információk és digitális tartalmak böngészése, keresése és szűrése | F6: =IFERROR(_xlfn.XLOOKUP(D6,'2. dim Komp_elemek_kiegtem_aláb'!$E$2:$E$22,'2. dim Komp_elemek_kiegtem_aláb'!$G$2:$G$22),"") -> Az információval kapcsolatos igények megfogalmazása, valamint adatok, információk és tartalmak keresése digitális környezetben. Az adatokhoz, információkhoz és tartalmakhoz való hozzáférés, illetve az ezek közötti eligazodás. Egyéni keresési stratégiák kialakítása és igény szerinti módosítása. | G6: Jó, de részleges illeszkedés | H6: Ha a leleten szereplő információ nem egyértelmű, további digitális információforrásokat kell keresnie a fogalmak vagy jelölések megértéséhez.
A7: Digitális információ értelmezése és ellenőrzése | B7: =IFERROR(_xlfn.XLOOKUP(E7,'2. dim Komp_elemek_kiegtem_aláb'!$F$2:$F$22,'2. dim Komp_elemek_kiegtem_aláb'!$C$2:$C$22),"") -> 5 | C7: =IFERROR(_xlfn.XLOOKUP(E7,'2. dim Komp_elemek_kiegtem_aláb'!$F$2:$F$22,'2. dim Komp_elemek_kiegtem_aláb'!$D$2:$D$22),"") -> Problémamegoldás | D7: =IFERROR(_xlfn.XLOOKUP(E7,'2. dim Komp_elemek_kiegtem_aláb'!$F$2:$F$22,DigKompElemAzonosítók),"") -> 5.2 | E7: 5.2 Igények és technológiai válaszmegoldások azonosítása | F7: =IFERROR(_xlfn.XLOOKUP(D7,'2. dim Komp_elemek_kiegtem_aláb'!$E$2:$E$22,'2. dim Komp_elemek_kiegtem_aláb'!$G$2:$G$22),"") -> Igények felmérése, illetve digitális eszközök és szóba jöhető technológiai válaszok azonosítása, értékelése és kiválasztása. Digitális környezetek módosítása és testreszabása személyes igények alapján (pl.: hozzáférhetőség). | G7: Jó illeszkedés | H7: A felhasználónak fel kell ismernie, mikor elegendő a rendelkezésre álló digitális információ, és mikor van szükség más digitális eszközre, információforrásra vagy szakember bevonására.
A8: Digitális információ értelmezése és ellenőrzése | B8: =IFERROR(_xlfn.XLOOKUP(E8,'2. dim Komp_elemek_kiegtem_aláb'!$F$2:$F$22,'2. dim Komp_elemek_kiegtem_aláb'!$C$2:$C$22),"") -> 4 | C8: =IFERROR(_xlfn.XLOOKUP(E8,'2. dim Komp_elemek_kiegtem_aláb'!$F$2:$F$22,'2. dim Komp_elemek_kiegtem_aláb'!$D$2:$D$22),"") -> Biztonság | D8: =IFERROR(_xlfn.XLOOKUP(E8,'2. dim Komp_elemek_kiegtem_aláb'!$F$2:$F$22,DigKompElemAzonosítók),"") -> 4.2 | E8: 4.2 A személyes adatok és a magánszféra védelme | F8: =IFERROR(_xlfn.XLOOKUP(D8,'2. dim Komp_elemek_kiegtem_aláb'!$E$2:$E$22,'2. dim Komp_elemek_kiegtem_aláb'!$G$2:$G$22),"") -> A személyes adatok és a magánszféra védelme digitális környezetben. Személyazonosításra alkalmas információk használatának és megosztásának ismerete, saját magam és mások védelme. Annak ismerete, hogy a digitális szolgáltatók adatvédelmi szabályzattal tájékoztatják a felhasználókat a személyes adatok felhasználásáról. | G8: Közepes, közvetett illeszkedés | H8: Egészségügyi információk kezelése során fontos annak tudatosítása, hogy érzékeny személyes adatokkal dolgozik, különösen külső online forrás használata esetén.
A9: Dokumentumazonosítás | B9: =IFERROR(_xlfn.XLOOKUP(E9,'2. dim Komp_elemek_kiegtem_aláb'!$F$2:$F$22,'2. dim Komp_elemek_kiegtem_aláb'!$C$2:$C$22),"") -> 1 | C9: =IFERROR(_xlfn.XLOOKUP(E9,'2. dim Komp_elemek_kiegtem_aláb'!$F$2:$F$22,'2. dim Komp_elemek_kiegtem_aláb'!$D$2:$D$22),"") -> Információ- és adatmenedzsment | D9: =IFERROR(_xlfn.XLOOKUP(E9,'2. dim Komp_elemek_kiegtem_aláb'!$F$2:$F$22,DigKompElemAzonosítók),"") -> 1.2 | E9: 1.2 Adatok, információk és digitális tartalmak kiértékelése | F9: =IFERROR(_xlfn.XLOOKUP(D9,'2. dim Komp_elemek_kiegtem_aláb'!$E$2:$E$22,'2. dim Komp_elemek_kiegtem_aláb'!$G$2:$G$22),"") -> Az adat-, információ- és digitális tartalomforrások hitelességének és megbízhatóságának elemzése, összehasonlítása és kritikus értékelése. Az adatok, információk és digitális tartalmak elemzése, értelmezése és kritikai értékelése. | G9: Erős illeszkedés | H9: A felhasználónak a dokumentumok dátuma, típusa és egyéb metaadatai alapján kell eldöntenie, melyik dokumentum tartozik az adott vérvételhez és melyik a legfrissebb.
A10: Dokumentumazonosítás | B10: =IFERROR(_xlfn.XLOOKUP(E10,'2. dim Komp_elemek_kiegtem_aláb'!$F$2:$F$22,'2. dim Komp_elemek_kiegtem_aláb'!$C$2:$C$22),"") -> 1 | C10: =IFERROR(_xlfn.XLOOKUP(E10,'2. dim Komp_elemek_kiegtem_aláb'!$F$2:$F$22,'2. dim Komp_elemek_kiegtem_aláb'!$D$2:$D$22),"") -> Információ- és adatmenedzsment | D10: =IFERROR(_xlfn.XLOOKUP(E10,'2. dim Komp_elemek_kiegtem_aláb'!$F$2:$F$22,DigKompElemAzonosítók),"") -> 1.3 | E10: 1.3 Adatok, információk és digitális tartalmak kezelése | F10: =IFERROR(_xlfn.XLOOKUP(D10,'2. dim Komp_elemek_kiegtem_aláb'!$E$2:$E$22,'2. dim Komp_elemek_kiegtem_aláb'!$G$2:$G$22),"") -> Adatok információk és tartalmak elrendezése, tárolása és visszakeresése digitális környezetben. Ezek rendszerezése és feldolgozása strukturált környezetben. | G10: Jó, de részleges illeszkedés | H10: A dokumentumok közötti megkülönböztetéshez a felhasználónak a rendelkezésre álló digitális tartalmakat és azok metaadatait kell rendszerezetten kezelnie.
A11: Dokumentumkeresés | B11: =IFERROR(_xlfn.XLOOKUP(E11,'2. dim Komp_elemek_kiegtem_aláb'!$F$2:$F$22,'2. dim Komp_elemek_kiegtem_aláb'!$C$2:$C$22),"") -> 1 | C11: =IFERROR(_xlfn.XLOOKUP(E11,'2. dim Komp_elemek_kiegtem_aláb'!$F$2:$F$22,'2. dim Komp_elemek_kiegtem_aláb'!$D$2:$D$22),"") -> Információ- és adatmenedzsment | D11: =IFERROR(_xlfn.XLOOKUP(E11,'2. dim Komp_elemek_kiegtem_aláb'!$F$2:$F$22,DigKompElemAzonosítók),"") -> 1.1 | E11: 1.1 Adatok, információk és digitális tartalmak böngészése, keresése és szűrése | F11: =IFERROR(_xlfn.XLOOKUP(D11,'2. dim Komp_elemek_kiegtem_aláb'!$E$2:$E$22,'2. dim Komp_elemek_kiegtem_aláb'!$G$2:$G$22),"") -> Az információval kapcsolatos igények megfogalmazása, valamint adatok, információk és tartalmak keresése digitális környezetben. Az adatokhoz, információkhoz és tartalmakhoz való hozzáférés, illetve az ezek közötti eligazodás. Egyéni keresési stratégiák kialakítása és igény szerinti módosítása. | G11: Erős illeszkedés | H11: A felhasználónak a dokumentumok között kell keresnie, és szükség esetén dátum, dokumentumtípus vagy más szempont alapján kell szűkítenie a találatokat.
A12: Dokumentumkeresés | B12: =IFERROR(_xlfn.XLOOKUP(E12,'2. dim Komp_elemek_kiegtem_aláb'!$F$2:$F$22,'2. dim Komp_elemek_kiegtem_aláb'!$C$2:$C$22),"") -> 1 | C12: =IFERROR(_xlfn.XLOOKUP(E12,'2. dim Komp_elemek_kiegtem_aláb'!$F$2:$F$22,'2. dim Komp_elemek_kiegtem_aláb'!$D$2:$D$22),"") -> Információ- és adatmenedzsment | D12: =IFERROR(_xlfn.XLOOKUP(E12,'2. dim Komp_elemek_kiegtem_aláb'!$F$2:$F$22,DigKompElemAzonosítók),"") -> 1.3 | E12: 1.3 Adatok, információk és digitális tartalmak kezelése | F12: =IFERROR(_xlfn.XLOOKUP(D12,'2. dim Komp_elemek_kiegtem_aláb'!$E$2:$E$22,'2. dim Komp_elemek_kiegtem_aláb'!$G$2:$G$22),"") -> Adatok információk és tartalmak elrendezése, tárolása és visszakeresése digitális környezetben. Ezek rendszerezése és feldolgozása strukturált környezetben. | G12: Jó, de részleges illeszkedés | H12: A keresés során a felhasználónak egy strukturált dokumentumlistában kell eligazodnia, az elemeket rendszerező információkat értelmeznie és kezelnie.
A13: Lelet megtekintése | B13: =IFERROR(_xlfn.XLOOKUP(E13,'2. dim Komp_elemek_kiegtem_aláb'!$F$2:$F$22,'2. dim Komp_elemek_kiegtem_aláb'!$C$2:$C$22),"") -> 1 | C13: =IFERROR(_xlfn.XLOOKUP(E13,'2. dim Komp_elemek_kiegtem_aláb'!$F$2:$F$22,'2. dim Komp_elemek_kiegtem_aláb'!$D$2:$D$22),"") -> Információ- és adatmenedzsment | D13: =IFERROR(_xlfn.XLOOKUP(E13,'2. dim Komp_elemek_kiegtem_aláb'!$F$2:$F$22,DigKompElemAzonosítók),"") -> 1.3 | E13: 1.3 Adatok, információk és digitális tartalmak kezelése | F13: =IFERROR(_xlfn.XLOOKUP(D13,'2. dim Komp_elemek_kiegtem_aláb'!$E$2:$E$22,'2. dim Komp_elemek_kiegtem_aláb'!$G$2:$G$22),"") -> Adatok információk és tartalmak elrendezése, tárolása és visszakeresése digitális környezetben. Ezek rendszerezése és feldolgozása strukturált környezetben. | G13: Erős illeszkedés | H13: A felhasználónak meg kell nyitnia a kiválasztott leletet, át kell tekintenie annak tartalmát, és szükség esetén letöltenie vagy későbbi elérésre kezelnie kell a dokumentumot.
... A20: További digitális ügyintézés / kapcsolatfelvétel | B20: =IFERROR(_xlfn.XLOOKUP(E20,'2. dim Komp_elemek_kiegtem_aláb'!$F$2:$F$22,'2. dim Komp_elemek_kiegtem_aláb'!$C$2:$C$22),"") -> 4 | C20: =IFERROR(_xlfn.XLOOKUP(E20,'2. dim Komp_elemek_kiegtem_aláb'!$F$2:$F$22,'2. dim Komp_elemek_kiegtem_aláb'!$D$2:$D$22),"") -> Biztonság | D20: =IFERROR(_xlfn.XLOOKUP(E20,'2. dim Komp_elemek_kiegtem_aláb'!$F$2:$F$22,DigKompElemAzonosítók),"") -> 4.2 | E20: 4.2 A személyes adatok és a magánszféra védelme | F20: =IFERROR(_xlfn.XLOOKUP(D20,'2. dim Komp_elemek_kiegtem_aláb'!$E$2:$E$22,'2. dim Komp_elemek_kiegtem_aláb'!$G$2:$G$22),"") -> A személyes adatok és a magánszféra védelme digitális környezetben. Személyazonosításra alkalmas információk használatának és megosztásának ismerete, saját magam és mások védelme. Annak ismerete, hogy a digitális szolgáltatók adatvédelmi szabályzattal tájékoztatják a felhasználókat a személyes adatok felhasználásáról. | G20: Jó illeszkedés | H20: Egészségügyi adat vagy lelet továbbítása esetén tudatosan kell megválasztani a megfelelő és biztonságos kommunikációs csatornát.
B21: =IFERROR(_xlfn.XLOOKUP(E21,'2. dim Komp_elemek_kiegtem_aláb'!$F$2:$F$22,'2. dim Komp_elemek_kiegtem_aláb'!$C$2:$C$22),"") | C21: =IFERROR(_xlfn.XLOOKUP(E21,'2. dim Komp_elemek_kiegtem_aláb'!$F$2:$F$22,'2. dim Komp_elemek_kiegtem_aláb'!$D$2:$D$22),"") | D21: =IFERROR(_xlfn.XLOOKUP(E21,'2. dim Komp_elemek_kiegtem_aláb'!$F$2:$F$22,DigKompElemAzonosítók),"") | F21: =IFERROR(_xlfn.XLOOKUP(D21,'2. dim Komp_elemek_kiegtem_aláb'!$E$2:$E$22,'2. dim Komp_elemek_kiegtem_aláb'!$G$2:$G$22),"")
B22: =IFERROR(_xlfn.XLOOKUP(E22,'2. dim Komp_elemek_kiegtem_aláb'!$F$2:$F$22,'2. dim Komp_elemek_kiegtem_aláb'!$C$2:$C$22),"") | C22: =IFERROR(_xlfn.XLOOKUP(E22,'2. dim Komp_elemek_kiegtem_aláb'!$F$2:$F$22,'2. dim Komp_elemek_kiegtem_aláb'!$D$2:$D$22),"") | D22: =IFERROR(_xlfn.XLOOKUP(E22,'2. dim Komp_elemek_kiegtem_aláb'!$F$2:$F$22,DigKompElemAzonosítók),"") | F22: =IFERROR(_xlfn.XLOOKUP(D22,'2. dim Komp_elemek_kiegtem_aláb'!$E$2:$E$22,'2. dim Komp_elemek_kiegtem_aláb'!$G$2:$G$22),"")
B23: =IFERROR(_xlfn.XLOOKUP(E23,'2. dim Komp_elemek_kiegtem_aláb'!$F$2:$F$22,'2. dim Komp_elemek_kiegtem_aláb'!$C$2:$C$22),"") | C23: =IFERROR(_xlfn.XLOOKUP(E23,'2. dim Komp_elemek_kiegtem_aláb'!$F$2:$F$22,'2. dim Komp_elemek_kiegtem_aláb'!$D$2:$D$22),"") | D23: =IFERROR(_xlfn.XLOOKUP(E23,'2. dim Komp_elemek_kiegtem_aláb'!$F$2:$F$22,DigKompElemAzonosítók),"") | F23: =IFERROR(_xlfn.XLOOKUP(D23,'2. dim Komp_elemek_kiegtem_aláb'!$E$2:$E$22,'2. dim Komp_elemek_kiegtem_aláb'!$G$2:$G$22),"")
B24: =IFERROR(_xlfn.XLOOKUP(E24,'2. dim Komp_elemek_kiegtem_aláb'!$F$2:$F$22,'2. dim Komp_elemek_kiegtem_aláb'!$C$2:$C$22),"") | C24: =IFERROR(_xlfn.XLOOKUP(E24,'2. dim Komp_elemek_kiegtem_aláb'!$F$2:$F$22,'2. dim Komp_elemek_kiegtem_aláb'!$D$2:$D$22),"") | D24: =IFERROR(_xlfn.XLOOKUP(E24,'2. dim Komp_elemek_kiegtem_aláb'!$F$2:$F$22,DigKompElemAzonosítók),"") | F24: =IFERROR(_xlfn.XLOOKUP(D24,'2. dim Komp_elemek_kiegtem_aláb'!$E$2:$E$22,'2. dim Komp_elemek_kiegtem_aláb'!$G$2:$G$22),"")
B25: =IFERROR(_xlfn.XLOOKUP(E25,'2. dim Komp_elemek_kiegtem_aláb'!$F$2:$F$22,'2. dim Komp_elemek_kiegtem_aláb'!$C$2:$C$22),"") | C25: =IFERROR(_xlfn.XLOOKUP(E25,'2. dim Komp_elemek_kiegtem_aláb'!$F$2:$F$22,'2. dim Komp_elemek_kiegtem_aláb'!$D$2:$D$22),"") | D25: =IFERROR(_xlfn.XLOOKUP(E25,'2. dim Komp_elemek_kiegtem_aláb'!$F$2:$F$22,DigKompElemAzonosítók),"") | F25: =IFERROR(_xlfn.XLOOKUP(D25,'2. dim Komp_elemek_kiegtem_aláb'!$E$2:$E$22,'2. dim Komp_elemek_kiegtem_aláb'!$G$2:$G$22),"")
B26: =IFERROR(_xlfn.XLOOKUP(E26,'2. dim Komp_elemek_kiegtem_aláb'!$F$2:$F$22,'2. dim Komp_elemek_kiegtem_aláb'!$C$2:$C$22),"") | C26: =IFERROR(_xlfn.XLOOKUP(E26,'2. dim Komp_elemek_kiegtem_aláb'!$F$2:$F$22,'2. dim Komp_elemek_kiegtem_aláb'!$D$2:$D$22),"") | D26: =IFERROR(_xlfn.XLOOKUP(E26,'2. dim Komp_elemek_kiegtem_aláb'!$F$2:$F$22,DigKompElemAzonosítók),"") | F26: =IFERROR(_xlfn.XLOOKUP(D26,'2. dim Komp_elemek_kiegtem_aláb'!$E$2:$E$22,'2. dim Komp_elemek_kiegtem_aláb'!$G$2:$G$22),"")
B27: =IFERROR(_xlfn.XLOOKUP(E27,'2. dim Komp_elemek_kiegtem_aláb'!$F$2:$F$22,'2. dim Komp_elemek_kiegtem_aláb'!$C$2:$C$22),"") | C27: =IFERROR(_xlfn.XLOOKUP(E27,'2. dim Komp_elemek_kiegtem_aláb'!$F$2:$F$22,'2. dim Komp_elemek_kiegtem_aláb'!$D$2:$D$22),"") | D27: =IFERROR(_xlfn.XLOOKUP(E27,'2. dim Komp_elemek_kiegtem_aláb'!$F$2:$F$22,DigKompElemAzonosítók),"") | F27: =IFERROR(_xlfn.XLOOKUP(D27,'2. dim Komp_elemek_kiegtem_aláb'!$E$2:$E$22,'2. dim Komp_elemek_kiegtem_aláb'!$G$2:$G$22),"")
B28: =IFERROR(_xlfn.XLOOKUP(E28,'2. dim Komp_elemek_kiegtem_aláb'!$F$2:$F$22,'2. dim Komp_elemek_kiegtem_aláb'!$C$2:$C$22),"") | C28: =IFERROR(_xlfn.XLOOKUP(E28,'2. dim Komp_elemek_kiegtem_aláb'!$F$2:$F$22,'2. dim Komp_elemek_kiegtem_aláb'!$D$2:$D$22),"") | D28: =IFERROR(_xlfn.XLOOKUP(E28,'2. dim Komp_elemek_kiegtem_aláb'!$F$2:$F$22,DigKompElemAzonosítók),"") | F28: =IFERROR(_xlfn.XLOOKUP(D28,'2. dim Komp_elemek_kiegtem_aláb'!$E$2:$E$22,'2. dim Komp_elemek_kiegtem_aláb'!$G$2:$G$22),"")
B29: =IFERROR(_xlfn.XLOOKUP(E29,'2. dim Komp_elemek_kiegtem_aláb'!$F$2:$F$22,'2. dim Komp_elemek_kiegtem_aláb'!$C$2:$C$22),"") | C29: =IFERROR(_xlfn.XLOOKUP(E29,'2. dim Komp_elemek_kiegtem_aláb'!$F$2:$F$22,'2. dim Komp_elemek_kiegtem_aláb'!$D$2:$D$22),"") | D29: =IFERROR(_xlfn.XLOOKUP(E29,'2. dim Komp_elemek_kiegtem_aláb'!$F$2:$F$22,DigKompElemAzonosítók),"") | F29: =IFERROR(_xlfn.XLOOKUP(D29,'2. dim Komp_elemek_kiegtem_aláb'!$E$2:$E$22,'2. dim Komp_elemek_kiegtem_aláb'!$G$2:$G$22),"")
B30: =IFERROR(_xlfn.XLOOKUP(E30,'2. dim Komp_elemek_kiegtem_aláb'!$F$2:$F$22,'2. dim Komp_elemek_kiegtem_aláb'!$C$2:$C$22),"") | C30: =IFERROR(_xlfn.XLOOKUP(E30,'2. dim Komp_elemek_kiegtem_aláb'!$F$2:$F$22,'2. dim Komp_elemek_kiegtem_aláb'!$D$2:$D$22),"") | D30: =IFERROR(_xlfn.XLOOKUP(E30,'2. dim Komp_elemek_kiegtem_aláb'!$F$2:$F$22,DigKompElemAzonosítók),"") | F30: =IFERROR(_xlfn.XLOOKUP(D30,'2. dim Komp_elemek_kiegtem_aláb'!$E$2:$E$22,'2. dim Komp_elemek_kiegtem_aláb'!$G$2:$G$22),"")
B31: =IFERROR(_xlfn.XLOOKUP(E31,'2. dim Komp_elemek_kiegtem_aláb'!$F$2:$F$22,'2. dim Komp_elemek_kiegtem_aláb'!$C$2:$C$22),"") | C31: =IFERROR(_xlfn.XLOOKUP(E31,'2. dim Komp_elemek_kiegtem_aláb'!$F$2:$F$22,'2. dim Komp_elemek_kiegtem_aláb'!$D$2:$D$22),"") | D31: =IFERROR(_xlfn.XLOOKUP(E31,'2. dim Komp_elemek_kiegtem_aláb'!$F$2:$F$22,DigKompElemAzonosítók),"") | F31: =IFERROR(_xlfn.XLOOKUP(D31,'2. dim Komp_elemek_kiegtem_aláb'!$E$2:$E$22,'2. dim Komp_elemek_kiegtem_aláb'!$G$2:$G$22),"")
B32: =IFERROR(_xlfn.XLOOKUP(E32,'2. dim Komp_elemek_kiegtem_aláb'!$F$2:$F$22,'2. dim Komp_elemek_kiegtem_aláb'!$C$2:$C$22),"") | C32: =IFERROR(_xlfn.XLOOKUP(E32,'2. dim Komp_elemek_kiegtem_aláb'!$F$2:$F$22,'2. dim Komp_elemek_kiegtem_aláb'!$D$2:$D$22),"") | D32: =IFERROR(_xlfn.XLOOKUP(E32,'2. dim Komp_elemek_kiegtem_aláb'!$F$2:$F$22,DigKompElemAzonosítók),"") | F32: =IFERROR(_xlfn.XLOOKUP(D32,'2. dim Komp_elemek_kiegtem_aláb'!$E$2:$E$22,'2. dim Komp_elemek_kiegtem_aláb'!$G$2:$G$22),"")
... B51: =IFERROR(_xlfn.XLOOKUP(E51,'2. dim Komp_elemek_kiegtem_aláb'!$F$2:$F$22,'2. dim Komp_elemek_kiegtem_aláb'!$C$2:$C$22),"") | C51: =IFERROR(_xlfn.XLOOKUP(E51,'2. dim Komp_elemek_kiegtem_aláb'!$F$2:$F$22,'2. dim Komp_elemek_kiegtem_aláb'!$D$2:$D$22),"") | D51: =IFERROR(_xlfn.XLOOKUP(E51,'2. dim Komp_elemek_kiegtem_aláb'!$F$2:$F$22,DigKompElemAzonosítók),"") | F51: =IFERROR(_xlfn.XLOOKUP(D51,'2. dim Komp_elemek_kiegtem_aláb'!$E$2:$E$22,'2. dim Komp_elemek_kiegtem_aláb'!$G$2:$G$22),"")

Sheet DigKomp-megf_tan_eredm_EESZT_al
A1: Digitális tevékenység | B1: Kompetenciaterület sorszáma | C1: DigKomp-kompetenciaterület (1. dimenzió) | D1: DigKomp-kompetenciaelem azonosítója | E1: DigKomp-kompetenciaelem megnevezése (2. dimenzió) | F1: DigKomp-kompetenciaelem meghatározása (2. dimenzió) | G1: Tanulási eredmény | H1: Kimeneti jártassági szint (3. dimenzió) | I1: Jártassági szint leírás | J1: Tanulási eredmény illeszkedése a kompetenciaelemhez | K1: Indoklás
A2: Belépés és azonosítás | B2: =IFERROR(_xlfn.XLOOKUP(E2,'2. dim Komp_elemek_kiegtem_aláb'!$F$2:$F$22,'2. dim Komp_elemek_kiegtem_aláb'!$C$2:$C$22),"") -> 2 | C2: =IFERROR(_xlfn.XLOOKUP(E2,'2. dim Komp_elemek_kiegtem_aláb'!$F$2:$F$22,'2. dim Komp_elemek_kiegtem_aláb'!$D$2:$D$22),"") -> Kommunikáció és együttműködés | D2: =IFERROR(_xlfn.XLOOKUP(E2,'2. dim Komp_elemek_kiegtem_aláb'!$F$2:$F$22,DigKompElemAzonosítók_Új),"") -> 2.6 | E2: 2.6 A digitális személyazonosság kezelése | F2: =IFERROR(_xlfn.XLOOKUP(D2,'2. dim Komp_elemek_kiegtem_aláb'!$E$2:$E$22,'2. dim Komp_elemek_kiegtem_aláb'!$G$2:$G$22),"") -> Egy vagy több digitális személyazonosság létrehozása és kezelése, képesség a jó hír megvédésére, a különböző digitális eszközök, környezetek és szolgáltatások segítségével létrehozott adatok kezelése. | G2: A résztvevő önállóan belép az EESZT lakossági felületére a DÁP mobilalkalmazással, és megfelelően végrehajtja az elektronikus azonosítás lépéseit. | H2: 3 | I2: =IF(OR($H2<0,ISBLANK($H2)),"",_xlfn.XLOOKUP($H2,'3.dim_Jártassági fok_szint_megh'!$D$2:$D$10,'3.dim_Jártassági fok_szint_megh'!$F$2:$F$10)) -> A 3. jártassági szinten lévő személy önállóan old meg jól meghatározott, rutinszerű feladatokat, problémákat, képes követni a lépéseket, érti a megoldásokat.
A3: Belépés és azonosítás | B3: =IFERROR(_xlfn.XLOOKUP(E3,'2. dim Komp_elemek_kiegtem_aláb'!$F$2:$F$22,'2. dim Komp_elemek_kiegtem_aláb'!$C$2:$C$22),"") -> 4 | C3: =IFERROR(_xlfn.XLOOKUP(E3,'2. dim Komp_elemek_kiegtem_aláb'!$F$2:$F$22,'2. dim Komp_elemek_kiegtem_aláb'!$D$2:$D$22),"") -> Biztonság | D3: =IFERROR(_xlfn.XLOOKUP(E3,'2. dim Komp_elemek_kiegtem_aláb'!$F$2:$F$22,DigKompElemAzonosítók_Új),"") -> 4.2 | E3: 4.2 A személyes adatok és a magánszféra védelme | F3: =IFERROR(_xlfn.XLOOKUP(D3,'2. dim Komp_elemek_kiegtem_aláb'!$E$2:$E$22,'2. dim Komp_elemek_kiegtem_aláb'!$G$2:$G$22),"") -> A személyes adatok és a magánszféra védelme digitális környezetben. Személyazonosításra alkalmas információk használatának és megosztásának ismerete, saját magam és mások védelme. Annak ismerete, hogy a digitális szolgáltatók adatvédelmi szabályzattal tájékoztatják a felhasználókat a személyes adatok felhasználásáról. | G3: A résztvevő az azonosítás és belépés során alkalmazza a személyes és egészségügyi adatok védelmét biztosító alapvető biztonsági szabályokat. | H3: 3 | I3: =IF(OR($H3<0,ISBLANK($H3)),"",_xlfn.XLOOKUP($H3,'3.dim_Jártassági fok_szint_megh'!$D$2:$D$10,'3.dim_Jártassági fok_szint_megh'!$F$2:$F$10)) -> A 3. jártassági szinten lévő személy önállóan old meg jól meghatározott, rutinszerű feladatokat, problémákat, képes követni a lépéseket, érti a megoldásokat.
A4: Navigáció | B4: =IFERROR(_xlfn.XLOOKUP(E4,'2. dim Komp_elemek_kiegtem_aláb'!$F$2:$F$22,'2. dim Komp_elemek_kiegtem_aláb'!$C$2:$C$22),"") -> 1 | C4: =IFERROR(_xlfn.XLOOKUP(E4,'2. dim Komp_elemek_kiegtem_aláb'!$F$2:$F$22,'2. dim Komp_elemek_kiegtem_aláb'!$D$2:$D$22),"") -> Információ- és adatmenedzsment | D4: =IFERROR(_xlfn.XLOOKUP(E4,'2. dim Komp_elemek_kiegtem_aláb'!$F$2:$F$22,DigKompElemAzonosítók_Új),"") -> 1.1 | E4: 1.1 Adatok, információk és digitális tartalmak böngészése, keresése és szűrése | F4: =IFERROR(_xlfn.XLOOKUP(D4,'2. dim Komp_elemek_kiegtem_aláb'!$E$2:$E$22,'2. dim Komp_elemek_kiegtem_aláb'!$G$2:$G$22),"") -> Az információval kapcsolatos igények megfogalmazása, valamint adatok, információk és tartalmak keresése digitális környezetben. Az adatokhoz, információkhoz és tartalmakhoz való hozzáférés, illetve az ezek közötti eligazodás. Egyéni keresési stratégiák kialakítása és igény szerinti módosítása. | G4: A résztvevő önállóan megtalálja az EESZT felületén azt a menüpontot vagy funkciót, amelyen keresztül a laborleletek elérhetők. | H4: 3 | I4: =IF(OR($H4<0,ISBLANK($H4)),"",_xlfn.XLOOKUP($H4,'3.dim_Jártassági fok_szint_megh'!$D$2:$D$10,'3.dim_Jártassági fok_szint_megh'!$F$2:$F$10)) -> A 3. jártassági szinten lévő személy önállóan old meg jól meghatározott, rutinszerű feladatokat, problémákat, képes követni a lépéseket, érti a megoldásokat.
A5: Dokumentumkeresés | B5: =IFERROR(_xlfn.XLOOKUP(E5,'2. dim Komp_elemek_kiegtem_aláb'!$F$2:$F$22,'2. dim Komp_elemek_kiegtem_aláb'!$C$2:$C$22),"") -> 1 | C5: =IFERROR(_xlfn.XLOOKUP(E5,'2. dim Komp_elemek_kiegtem_aláb'!$F$2:$F$22,'2. dim Komp_elemek_kiegtem_aláb'!$D$2:$D$22),"") -> Információ- és adatmenedzsment | D5: =IFERROR(_xlfn.XLOOKUP(E5,'2. dim Komp_elemek_kiegtem_aláb'!$F$2:$F$22,DigKompElemAzonosítók_Új),"") -> 1.1 | E5: 1.1 Adatok, információk és digitális tartalmak böngészése, keresése és szűrése | F5: =IFERROR(_xlfn.XLOOKUP(D5,'2. dim Komp_elemek_kiegtem_aláb'!$E$2:$E$22,'2. dim Komp_elemek_kiegtem_aláb'!$G$2:$G$22),"") -> Az információval kapcsolatos igények megfogalmazása, valamint adatok, információk és tartalmak keresése digitális környezetben. Az adatokhoz, információkhoz és tartalmakhoz való hozzáférés, illetve az ezek közötti eligazodás. Egyéni keresési stratégiák kialakítása és igény szerinti módosítása. | G5: A résztvevő önállóan megkeresi és szükség szerint dátum, dokumentumtípus vagy más rendelkezésre álló szempont alapján leszűkíti a laborleletek körét. | H5: 3 | I5: =IF(OR($H5<0,ISBLANK($H5)),"",_xlfn.XLOOKUP($H5,'3.dim_Jártassági fok_szint_megh'!$D$2:$D$10,'3.dim_Jártassági fok_szint_megh'!$F$2:$F$10)) -> A 3. jártassági szinten lévő személy önállóan old meg jól meghatározott, rutinszerű feladatokat, problémákat, képes követni a lépéseket, érti a megoldásokat.
A6: Dokumentumazonosítás | B6: =IFERROR(_xlfn.XLOOKUP(E6,'2. dim Komp_elemek_kiegtem_aláb'!$F$2:$F$22,'2. dim Komp_elemek_kiegtem_aláb'!$C$2:$C$22),"") -> 1 | C6: =IFERROR(_xlfn.XLOOKUP(E6,'2. dim Komp_elemek_kiegtem_aláb'!$F$2:$F$22,'2. dim Komp_elemek_kiegtem_aláb'!$D$2:$D$22),"") -> Információ- és adatmenedzsment | D6: =IFERROR(_xlfn.XLOOKUP(E6,'2. dim Komp_elemek_kiegtem_aláb'!$F$2:$F$22,DigKompElemAzonosítók_Új),"") -> 1.2 | E6: 1.2 Adatok, információk és digitális tartalmak kiértékelése | F6: =IFERROR(_xlfn.XLOOKUP(D6,'2. dim Komp_elemek_kiegtem_aláb'!$E$2:$E$22,'2. dim Komp_elemek_kiegtem_aláb'!$G$2:$G$22),"") -> Az adat-, információ- és digitális tartalomforrások hitelességének és megbízhatóságának elemzése, összehasonlítása és kritikus értékelése. Az adatok, információk és digitális tartalmak elemzése, értelmezése és kritikai értékelése. | G6: A résztvevő a dokumentum dátuma, típusa és egyéb elérhető adatai alapján azonosítja az adott vérvételhez tartozó legfrissebb laborleletet. | H6: 3 | I6: =IF(OR($H6<0,ISBLANK($H6)),"",_xlfn.XLOOKUP($H6,'3.dim_Jártassági fok_szint_megh'!$D$2:$D$10,'3.dim_Jártassági fok_szint_megh'!$F$2:$F$10)) -> A 3. jártassági szinten lévő személy önállóan old meg jól meghatározott, rutinszerű feladatokat, problémákat, képes követni a lépéseket, érti a megoldásokat.
A7: Lelet megtekintése | B7: =IFERROR(_xlfn.XLOOKUP(E7,'2. dim Komp_elemek_kiegtem_aláb'!$F$2:$F$22,'2. dim Komp_elemek_kiegtem_aláb'!$C$2:$C$22),"") -> 1 | C7: =IFERROR(_xlfn.XLOOKUP(E7,'2. dim Komp_elemek_kiegtem_aláb'!$F$2:$F$22,'2. dim Komp_elemek_kiegtem_aláb'!$D$2:$D$22),"") -> Információ- és adatmenedzsment | D7: =IFERROR(_xlfn.XLOOKUP(E7,'2. dim Komp_elemek_kiegtem_aláb'!$F$2:$F$22,DigKompElemAzonosítók_Új),"") -> 1.3 | E7: 1.3 Adatok, információk és digitális tartalmak kezelése | F7: =IFERROR(_xlfn.XLOOKUP(D7,'2. dim Komp_elemek_kiegtem_aláb'!$E$2:$E$22,'2. dim Komp_elemek_kiegtem_aláb'!$G$2:$G$22),"") -> Adatok információk és tartalmak elrendezése, tárolása és visszakeresése digitális környezetben. Ezek rendszerezése és feldolgozása strukturált környezetben. | G7: A résztvevő megnyitja és áttekinti a kiválasztott laborleletet, és szükség esetén használja az alapvető megjelenítési vagy letöltési funkciókat. | H7: 3 | I7: =IF(OR($H7<0,ISBLANK($H7)),"",_xlfn.XLOOKUP($H7,'3.dim_Jártassági fok_szint_megh'!$D$2:$D$10,'3.dim_Jártassági fok_szint_megh'!$F$2:$F$10)) -> A 3. jártassági szinten lévő személy önállóan old meg jól meghatározott, rutinszerű feladatokat, problémákat, képes követni a lépéseket, érti a megoldásokat.
A8: Digitális információ értelmezése és ellenőrzése | B8: =IFERROR(_xlfn.XLOOKUP(E8,'2. dim Komp_elemek_kiegtem_aláb'!$F$2:$F$22,'2. dim Komp_elemek_kiegtem_aláb'!$C$2:$C$22),"") -> 1 | C8: =IFERROR(_xlfn.XLOOKUP(E8,'2. dim Komp_elemek_kiegtem_aláb'!$F$2:$F$22,'2. dim Komp_elemek_kiegtem_aláb'!$D$2:$D$22),"") -> Információ- és adatmenedzsment | D8: =IFERROR(_xlfn.XLOOKUP(E8,'2. dim Komp_elemek_kiegtem_aláb'!$F$2:$F$22,DigKompElemAzonosítók_Új),"") -> 1.2 | E8: 1.2 Adatok, információk és digitális tartalmak kiértékelése | F8: =IFERROR(_xlfn.XLOOKUP(D8,'2. dim Komp_elemek_kiegtem_aláb'!$E$2:$E$22,'2. dim Komp_elemek_kiegtem_aláb'!$G$2:$G$22),"") -> Az adat-, információ- és digitális tartalomforrások hitelességének és megbízhatóságának elemzése, összehasonlítása és kritikus értékelése. Az adatok, információk és digitális tartalmak elemzése, értelmezése és kritikai értékelése. | G8: A résztvevő értelmezi a laborlelet digitálisan megjelenített értékeit, jelöléseit és referencia-tartományait, és ezek alapján azonosítja a figyelmet igénylő információkat. | H8: 4 | I8: =IF(OR($H8<0,ISBLANK($H8)),"",_xlfn.XLOOKUP($H8,'3.dim_Jártassági fok_szint_megh'!$D$2:$D$10,'3.dim_Jártassági fok_szint_megh'!$F$2:$F$10)) -> A 4. jártassági szinten lévő személy önállóan, saját igényeinek megfelelően old meg feladatokat, konkrét, nem rutinszerű problémákat, értő módon alakítja a megoldáshoz vezető lépéseket.
A9: További digitális ügyintézés / kapcsolatfelvétel | B9: =IFERROR(_xlfn.XLOOKUP(E9,'2. dim Komp_elemek_kiegtem_aláb'!$F$2:$F$22,'2. dim Komp_elemek_kiegtem_aláb'!$C$2:$C$22),"") -> 2 | C9: =IFERROR(_xlfn.XLOOKUP(E9,'2. dim Komp_elemek_kiegtem_aláb'!$F$2:$F$22,'2. dim Komp_elemek_kiegtem_aláb'!$D$2:$D$22),"") -> Kommunikáció és együttműködés | D9: =IFERROR(_xlfn.XLOOKUP(E9,'2. dim Komp_elemek_kiegtem_aláb'!$F$2:$F$22,DigKompElemAzonosítók_Új),"") -> 2.1 | E9: 2.1 Digitális technológiával támogatott interakció | F9: =IFERROR(_xlfn.XLOOKUP(D9,'2. dim Komp_elemek_kiegtem_aláb'!$E$2:$E$22,'2. dim Komp_elemek_kiegtem_aláb'!$G$2:$G$22),"") -> Interakciót valósít meg a digitális technológia széles körű használatával, ismeri az adott kontextusnak megfelelő kommunikációs módokat. | G9: A résztvevő szükség esetén megfelelő digitális csatornán kapcsolatot kezdeményez a háziorvossal vagy az egészségügyi szolgáltatóval. | H9: 3 | I9: =IF(OR($H9<0,ISBLANK($H9)),"",_xlfn.XLOOKUP($H9,'3.dim_Jártassági fok_szint_megh'!$D$2:$D$10,'3.dim_Jártassági fok_szint_megh'!$F$2:$F$10)) -> A 3. jártassági szinten lévő személy önállóan old meg jól meghatározott, rutinszerű feladatokat, problémákat, képes követni a lépéseket, érti a megoldásokat.
A10: További digitális ügyintézés / kapcsolatfelvétel | B10: =IFERROR(_xlfn.XLOOKUP(E10,'2. dim Komp_elemek_kiegtem_aláb'!$F$2:$F$22,'2. dim Komp_elemek_kiegtem_aláb'!$C$2:$C$22),"") -> 5 | C10: =IFERROR(_xlfn.XLOOKUP(E10,'2. dim Komp_elemek_kiegtem_aláb'!$F$2:$F$22,'2. dim Komp_elemek_kiegtem_aláb'!$D$2:$D$22),"") -> Problémamegoldás | D10: =IFERROR(_xlfn.XLOOKUP(E10,'2. dim Komp_elemek_kiegtem_aláb'!$F$2:$F$22,DigKompElemAzonosítók_Új),"") -> 5.2 | E10: 5.2 Igények és technológiai válaszmegoldások azonosítása | F10: =IFERROR(_xlfn.XLOOKUP(D10,'2. dim Komp_elemek_kiegtem_aláb'!$E$2:$E$22,'2. dim Komp_elemek_kiegtem_aláb'!$G$2:$G$22),"") -> Igények felmérése, illetve digitális eszközök és szóba jöhető technológiai válaszok azonosítása, értékelése és kiválasztása. Digitális környezetek módosítása és testreszabása személyes igények alapján (pl.: hozzáférhetőség). | G10: A résztvevő a leleten és a digitális felületen elérhető információk alapján felismeri, hogy szükséges-e további ügyintézés vagy egyeztetés, és kiválasztja az ehhez megfelelő digitális megoldást. | H10: 4 | I10: =IF(OR($H10<0,ISBLANK($H10)),"",_xlfn.XLOOKUP($H10,'3.dim_Jártassági fok_szint_megh'!$D$2:$D$10,'3.dim_Jártassági fok_szint_megh'!$F$2:$F$10)) -> A 4. jártassági szinten lévő személy önállóan, saját igényeinek megfelelően old meg feladatokat, konkrét, nem rutinszerű problémákat, értő módon alakítja a megoldáshoz vezető lépéseket.
B11: =IFERROR(_xlfn.XLOOKUP(E11,'2. dim Komp_elemek_kiegtem_aláb'!$F$2:$F$22,'2. dim Komp_elemek_kiegtem_aláb'!$C$2:$C$22),"") | C11: =IFERROR(_xlfn.XLOOKUP(E11,'2. dim Komp_elemek_kiegtem_aláb'!$F$2:$F$22,'2. dim Komp_elemek_kiegtem_aláb'!$D$2:$D$22),"") | D11: =IFERROR(_xlfn.XLOOKUP(E11,'2. dim Komp_elemek_kiegtem_aláb'!$F$2:$F$22,DigKompElemAzonosítók_Új),"") | F11: =IFERROR(_xlfn.XLOOKUP(D11,'2. dim Komp_elemek_kiegtem_aláb'!$E$2:$E$22,'2. dim Komp_elemek_kiegtem_aláb'!$G$2:$G$22),"") | I11: =IF(OR($H11<0,ISBLANK($H11)),"",_xlfn.XLOOKUP($H11,'3.dim_Jártassági fok_szint_megh'!$D$2:$D$10,'3.dim_Jártassági fok_szint_megh'!$F$2:$F$10))
A12: Belépés és azonosítás | B12: =IFERROR(_xlfn.XLOOKUP(E12,'2. dim Komp_elemek_kiegtem_aláb'!$F$2:$F$22,'2. dim Komp_elemek_kiegtem_aláb'!$C$2:$C$22),"") -> 5 | C12: =IFERROR(_xlfn.XLOOKUP(E12,'2. dim Komp_elemek_kiegtem_aláb'!$F$2:$F$22,'2. dim Komp_elemek_kiegtem_aláb'!$D$2:$D$22),"") -> Problémamegoldás | D12: =IFERROR(_xlfn.XLOOKUP(E12,'2. dim Komp_elemek_kiegtem_aláb'!$F$2:$F$22,DigKompElemAzonosítók_Új),"") -> 5.1 | E12: 5.1 Technikai problémák megoldása | F12: =IFERROR(_xlfn.XLOOKUP(D12,'2. dim Komp_elemek_kiegtem_aláb'!$E$2:$E$22,'2. dim Komp_elemek_kiegtem_aláb'!$G$2:$G$22),"") -> Technikai problémák felismerése és megoldása eszközök és digitális környezetek használata során (a hibaelhárítástól az összetettebb problémák megoldásáig). | I12: =IF(OR($H12<0,ISBLANK($H12)),"",_xlfn.XLOOKUP($H12,'3.dim_Jártassági fok_szint_megh'!$D$2:$D$10,'3.dim_Jártassági fok_szint_megh'!$F$2:$F$10))
A13: Navigáció | B13: =IFERROR(_xlfn.XLOOKUP(E13,'2. dim Komp_elemek_kiegtem_aláb'!$F$2:$F$22,'2. dim Komp_elemek_kiegtem_aláb'!$C$2:$C$22),"") -> 5 | C13: =IFERROR(_xlfn.XLOOKUP(E13,'2. dim Komp_elemek_kiegtem_aláb'!$F$2:$F$22,'2. dim Komp_elemek_kiegtem_aláb'!$D$2:$D$22),"") -> Problémamegoldás | D13: =IFERROR(_xlfn.XLOOKUP(E13,'2. dim Komp_elemek_kiegtem_aláb'!$F$2:$F$22,DigKompElemAzonosítók_Új),"") -> 5.2 | E13: 5.2 Igények és technológiai válaszmegoldások azonosítása | F13: =IFERROR(_xlfn.XLOOKUP(D13,'2. dim Komp_elemek_kiegtem_aláb'!$E$2:$E$22,'2. dim Komp_elemek_kiegtem_aláb'!$G$2:$G$22),"") -> Igények felmérése, illetve digitális eszközök és szóba jöhető technológiai válaszok azonosítása, értékelése és kiválasztása. Digitális környezetek módosítása és testreszabása személyes igények alapján (pl.: hozzáférhetőség). | I13: =IF(OR($H13<0,ISBLANK($H13)),"",_xlfn.XLOOKUP($H13,'3.dim_Jártassági fok_szint_megh'!$D$2:$D$10,'3.dim_Jártassági fok_szint_megh'!$F$2:$F$10))
A14: Dokumentumkeresés | B14: =IFERROR(_xlfn.XLOOKUP(E14,'2. dim Komp_elemek_kiegtem_aláb'!$F$2:$F$22,'2. dim Komp_elemek_kiegtem_aláb'!$C$2:$C$22),"") -> 1 | C14: =IFERROR(_xlfn.XLOOKUP(E14,'2. dim Komp_elemek_kiegtem_aláb'!$F$2:$F$22,'2. dim Komp_elemek_kiegtem_aláb'!$D$2:$D$22),"") -> Információ- és adatmenedzsment | D14: =IFERROR(_xlfn.XLOOKUP(E14,'2. dim Komp_elemek_kiegtem_aláb'!$F$2:$F$22,DigKompElemAzonosítók_Új),"") -> 1.3 | E14: 1.3 Adatok, információk és digitális tartalmak kezelése | F14: =IFERROR(_xlfn.XLOOKUP(D14,'2. dim Komp_elemek_kiegtem_aláb'!$E$2:$E$22,'2. dim Komp_elemek_kiegtem_aláb'!$G$2:$G$22),"") -> Adatok információk és tartalmak elrendezése, tárolása és visszakeresése digitális környezetben. Ezek rendszerezése és feldolgozása strukturált környezetben. | I14: =IF(OR($H14<0,ISBLANK($H14)),"",_xlfn.XLOOKUP($H14,'3.dim_Jártassági fok_szint_megh'!$D$2:$D$10,'3.dim_Jártassági fok_szint_megh'!$F$2:$F$10))
A15: Dokumentumazonosítás | B15: =IFERROR(_xlfn.XLOOKUP(E15,'2. dim Komp_elemek_kiegtem_aláb'!$F$2:$F$22,'2. dim Komp_elemek_kiegtem_aláb'!$C$2:$C$22),"") -> 1 | C15: =IFERROR(_xlfn.XLOOKUP(E15,'2. dim Komp_elemek_kiegtem_aláb'!$F$2:$F$22,'2. dim Komp_elemek_kiegtem_aláb'!$D$2:$D$22),"") -> Információ- és adatmenedzsment | D15: =IFERROR(_xlfn.XLOOKUP(E15,'2. dim Komp_elemek_kiegtem_aláb'!$F$2:$F$22,DigKompElemAzonosítók_Új),"") -> 1.3 | E15: 1.3 Adatok, információk és digitális tartalmak kezelése | F15: =IFERROR(_xlfn.XLOOKUP(D15,'2. dim Komp_elemek_kiegtem_aláb'!$E$2:$E$22,'2. dim Komp_elemek_kiegtem_aláb'!$G$2:$G$22),"") -> Adatok információk és tartalmak elrendezése, tárolása és visszakeresése digitális környezetben. Ezek rendszerezése és feldolgozása strukturált környezetben. | I15: =IF(OR($H15<0,ISBLANK($H15)),"",_xlfn.XLOOKUP($H15,'3.dim_Jártassági fok_szint_megh'!$D$2:$D$10,'3.dim_Jártassági fok_szint_megh'!$F$2:$F$10))
A16: Lelet megtekintése | B16: =IFERROR(_xlfn.XLOOKUP(E16,'2. dim Komp_elemek_kiegtem_aláb'!$F$2:$F$22,'2. dim Komp_elemek_kiegtem_aláb'!$C$2:$C$22),"") -> 1 | C16: =IFERROR(_xlfn.XLOOKUP(E16,'2. dim Komp_elemek_kiegtem_aláb'!$F$2:$F$22,'2. dim Komp_elemek_kiegtem_aláb'!$D$2:$D$22),"") -> Információ- és adatmenedzsment | D16: =IFERROR(_xlfn.XLOOKUP(E16,'2. dim Komp_elemek_kiegtem_aláb'!$F$2:$F$22,DigKompElemAzonosítók_Új),"") -> 1.1 | E16: 1.1 Adatok, információk és digitális tartalmak böngészése, keresése és szűrése | F16: =IFERROR(_xlfn.XLOOKUP(D16,'2. dim Komp_elemek_kiegtem_aláb'!$E$2:$E$22,'2. dim Komp_elemek_kiegtem_aláb'!$G$2:$G$22),"") -> Az információval kapcsolatos igények megfogalmazása, valamint adatok, információk és tartalmak keresése digitális környezetben. Az adatokhoz, információkhoz és tartalmakhoz való hozzáférés, illetve az ezek közötti eligazodás. Egyéni keresési stratégiák kialakítása és igény szerinti módosítása. | I16: =IF(OR($H16<0,ISBLANK($H16)),"",_xlfn.XLOOKUP($H16,'3.dim_Jártassági fok_szint_megh'!$D$2:$D$10,'3.dim_Jártassági fok_szint_megh'!$F$2:$F$10))
A17: Digitális információ értelmezése és ellenőrzése | B17: =IFERROR(_xlfn.XLOOKUP(E17,'2. dim Komp_elemek_kiegtem_aláb'!$F$2:$F$22,'2. dim Komp_elemek_kiegtem_aláb'!$C$2:$C$22),"") -> 1 | C17: =IFERROR(_xlfn.XLOOKUP(E17,'2. dim Komp_elemek_kiegtem_aláb'!$F$2:$F$22,'2. dim Komp_elemek_kiegtem_aláb'!$D$2:$D$22),"") -> Információ- és adatmenedzsment | D17: =IFERROR(_xlfn.XLOOKUP(E17,'2. dim Komp_elemek_kiegtem_aláb'!$F$2:$F$22,DigKompElemAzonosítók_Új),"") -> 1.1 | E17: 1.1 Adatok, információk és digitális tartalmak böngészése, keresése és szűrése | F17: =IFERROR(_xlfn.XLOOKUP(D17,'2. dim Komp_elemek_kiegtem_aláb'!$E$2:$E$22,'2. dim Komp_elemek_kiegtem_aláb'!$G$2:$G$22),"") -> Az információval kapcsolatos igények megfogalmazása, valamint adatok, információk és tartalmak keresése digitális környezetben. Az adatokhoz, információkhoz és tartalmakhoz való hozzáférés, illetve az ezek közötti eligazodás. Egyéni keresési stratégiák kialakítása és igény szerinti módosítása. | I17: =IF(OR($H17<0,ISBLANK($H17)),"",_xlfn.XLOOKUP($H17,'3.dim_Jártassági fok_szint_megh'!$D$2:$D$10,'3.dim_Jártassági fok_szint_megh'!$F$2:$F$10))
A18: Digitális információ értelmezése és ellenőrzése | B18: =IFERROR(_xlfn.XLOOKUP(E18,'2. dim Komp_elemek_kiegtem_aláb'!$F$2:$F$22,'2. dim Komp_elemek_kiegtem_aláb'!$C$2:$C$22),"") -> 5 | C18: =IFERROR(_xlfn.XLOOKUP(E18,'2. dim Komp_elemek_kiegtem_aláb'!$F$2:$F$22,'2. dim Komp_elemek_kiegtem_aláb'!$D$2:$D$22),"") -> Problémamegoldás | D18: =IFERROR(_xlfn.XLOOKUP(E18,'2. dim Komp_elemek_kiegtem_aláb'!$F$2:$F$22,DigKompElemAzonosítók_Új),"") -> 5.2 | E18: 5.2 Igények és technológiai válaszmegoldások azonosítása | F18: =IFERROR(_xlfn.XLOOKUP(D18,'2. dim Komp_elemek_kiegtem_aláb'!$E$2:$E$22,'2. dim Komp_elemek_kiegtem_aláb'!$G$2:$G$22),"") -> Igények felmérése, illetve digitális eszközök és szóba jöhető technológiai válaszok azonosítása, értékelése és kiválasztása. Digitális környezetek módosítása és testreszabása személyes igények alapján (pl.: hozzáférhetőség). | I18: =IF(OR($H18<0,ISBLANK($H18)),"",_xlfn.XLOOKUP($H18,'3.dim_Jártassági fok_szint_megh'!$D$2:$D$10,'3.dim_Jártassági fok_szint_megh'!$F$2:$F$10))
A19: Digitális információ értelmezése és ellenőrzése | B19: =IFERROR(_xlfn.XLOOKUP(E19,'2. dim Komp_elemek_kiegtem_aláb'!$F$2:$F$22,'2. dim Komp_elemek_kiegtem_aláb'!$C$2:$C$22),"") -> 4 | C19: =IFERROR(_xlfn.XLOOKUP(E19,'2. dim Komp_elemek_kiegtem_aláb'!$F$2:$F$22,'2. dim Komp_elemek_kiegtem_aláb'!$D$2:$D$22),"") -> Biztonság | D19: =IFERROR(_xlfn.XLOOKUP(E19,'2. dim Komp_elemek_kiegtem_aláb'!$F$2:$F$22,DigKompElemAzonosítók_Új),"") -> 4.2 | E19: 4.2 A személyes adatok és a magánszféra védelme | F19: =IFERROR(_xlfn.XLOOKUP(D19,'2. dim Komp_elemek_kiegtem_aláb'!$E$2:$E$22,'2. dim Komp_elemek_kiegtem_aláb'!$G$2:$G$22),"") -> A személyes adatok és a magánszféra védelme digitális környezetben. Személyazonosításra alkalmas információk használatának és megosztásának ismerete, saját magam és mások védelme. Annak ismerete, hogy a digitális szolgáltatók adatvédelmi szabályzattal tájékoztatják a felhasználókat a személyes adatok felhasználásáról. | I19: =IF(OR($H19<0,ISBLANK($H19)),"",_xlfn.XLOOKUP($H19,'3.dim_Jártassági fok_szint_megh'!$D$2:$D$10,'3.dim_Jártassági fok_szint_megh'!$F$2:$F$10))
A20: További digitális ügyintézés / kapcsolatfelvétel | B20: =IFERROR(_xlfn.XLOOKUP(E20,'2. dim Komp_elemek_kiegtem_aláb'!$F$2:$F$22,'2. dim Komp_elemek_kiegtem_aláb'!$C$2:$C$22),"") -> 1 | C20: =IFERROR(_xlfn.XLOOKUP(E20,'2. dim Komp_elemek_kiegtem_aláb'!$F$2:$F$22,'2. dim Komp_elemek_kiegtem_aláb'!$D$2:$D$22),"") -> Információ- és adatmenedzsment | D20: =IFERROR(_xlfn.XLOOKUP(E20,'2. dim Komp_elemek_kiegtem_aláb'!$F$2:$F$22,DigKompElemAzonosítók_Új),"") -> 1.1 | E20: 1.1 Adatok, információk és digitális tartalmak böngészése, keresése és szűrése | F20: =IFERROR(_xlfn.XLOOKUP(D20,'2. dim Komp_elemek_kiegtem_aláb'!$E$2:$E$22,'2. dim Komp_elemek_kiegtem_aláb'!$G$2:$G$22),"") -> Az információval kapcsolatos igények megfogalmazása, valamint adatok, információk és tartalmak keresése digitális környezetben. Az adatokhoz, információkhoz és tartalmakhoz való hozzáférés, illetve az ezek közötti eligazodás. Egyéni keresési stratégiák kialakítása és igény szerinti módosítása. | I20: =IF(OR($H20<0,ISBLANK($H20)),"",_xlfn.XLOOKUP($H20,'3.dim_Jártassági fok_szint_megh'!$D$2:$D$10,'3.dim_Jártassági fok_szint_megh'!$F$2:$F$10))
A21: További digitális ügyintézés / kapcsolatfelvétel | B21: =IFERROR(_xlfn.XLOOKUP(E21,'2. dim Komp_elemek_kiegtem_aláb'!$F$2:$F$22,'2. dim Komp_elemek_kiegtem_aláb'!$C$2:$C$22),"") -> 4 | C21: =IFERROR(_xlfn.XLOOKUP(E21,'2. dim Komp_elemek_kiegtem_aláb'!$F$2:$F$22,'2. dim Komp_elemek_kiegtem_aláb'!$D$2:$D$22),"") -> Biztonság | D21: =IFERROR(_xlfn.XLOOKUP(E21,'2. dim Komp_elemek_kiegtem_aláb'!$F$2:$F$22,DigKompElemAzonosítók_Új),"") -> 4.2 | E21: 4.2 A személyes adatok és a magánszféra védelme | F21: =IFERROR(_xlfn.XLOOKUP(D21,'2. dim Komp_elemek_kiegtem_aláb'!$E$2:$E$22,'2. dim Komp_elemek_kiegtem_aláb'!$G$2:$G$22),"") -> A személyes adatok és a magánszféra védelme digitális környezetben. Személyazonosításra alkalmas információk használatának és megosztásának ismerete, saját magam és mások védelme. Annak ismerete, hogy a digitális szolgáltatók adatvédelmi szabályzattal tájékoztatják a felhasználókat a személyes adatok felhasználásáról. | I21: =IF(OR($H21<0,ISBLANK($H21)),"",_xlfn.XLOOKUP($H21,'3.dim_Jártassági fok_szint_megh'!$D$2:$D$10,'3.dim_Jártassági fok_szint_megh'!$F$2:$F$10))
B22: =IFERROR(_xlfn.XLOOKUP(E22,'2. dim Komp_elemek_kiegtem_aláb'!$F$2:$F$22,'2. dim Komp_elemek_kiegtem_aláb'!$C$2:$C$22),"") | C22: =IFERROR(_xlfn.XLOOKUP(E22,'2. dim Komp_elemek_kiegtem_aláb'!$F$2:$F$22,'2. dim Komp_elemek_kiegtem_aláb'!$D$2:$D$22),"") | D22: =IFERROR(_xlfn.XLOOKUP(E22,'2. dim Komp_elemek_kiegtem_aláb'!$F$2:$F$22,DigKompElemAzonosítók_Új),"") | F22: =IFERROR(_xlfn.XLOOKUP(D22,'2. dim Komp_elemek_kiegtem_aláb'!$E$2:$E$22,'2. dim Komp_elemek_kiegtem_aláb'!$G$2:$G$22),"") | I22: =IF(OR($H22<0,ISBLANK($H22)),"",_xlfn.XLOOKUP($H22,'3.dim_Jártassági fok_szint_megh'!$D$2:$D$10,'3.dim_Jártassági fok_szint_megh'!$F$2:$F$10))
B23: =IFERROR(_xlfn.XLOOKUP(E23,'2. dim Komp_elemek_kiegtem_aláb'!$F$2:$F$22,'2. dim Komp_elemek_kiegtem_aláb'!$C$2:$C$22),"") | C23: =IFERROR(_xlfn.XLOOKUP(E23,'2. dim Komp_elemek_kiegtem_aláb'!$F$2:$F$22,'2. dim Komp_elemek_kiegtem_aláb'!$D$2:$D$22),"") | D23: =IFERROR(_xlfn.XLOOKUP(E23,'2. dim Komp_elemek_kiegtem_aláb'!$F$2:$F$22,DigKompElemAzonosítók_Új),"") | F23: =IFERROR(_xlfn.XLOOKUP(D23,'2. dim Komp_elemek_kiegtem_aláb'!$E$2:$E$22,'2. dim Komp_elemek_kiegtem_aláb'!$G$2:$G$22),"") | I23: =IF(OR($H23<0,ISBLANK($H23)),"",_xlfn.XLOOKUP($H23,'3.dim_Jártassági fok_szint_megh'!$D$2:$D$10,'3.dim_Jártassági fok_szint_megh'!$F$2:$F$10))
B24: =IFERROR(_xlfn.XLOOKUP(E24,'2. dim Komp_elemek_kiegtem_aláb'!$F$2:$F$22,'2. dim Komp_elemek_kiegtem_aláb'!$C$2:$C$22),"") | C24: =IFERROR(_xlfn.XLOOKUP(E24,'2. dim Komp_elemek_kiegtem_aláb'!$F$2:$F$22,'2. dim Komp_elemek_kiegtem_aláb'!$D$2:$D$22),"") | D24: =IFERROR(_xlfn.XLOOKUP(E24,'2. dim Komp_elemek_kiegtem_aláb'!$F$2:$F$22,DigKompElemAzonosítók_Új),"") | F24: =IFERROR(_xlfn.XLOOKUP(D24,'2. dim Komp_elemek_kiegtem_aláb'!$E$2:$E$22,'2. dim Komp_elemek_kiegtem_aláb'!$G$2:$G$22),"") | I24: =IF(OR($H24<0,ISBLANK($H24)),"",_xlfn.XLOOKUP($H24,'3.dim_Jártassági fok_szint_megh'!$D$2:$D$10,'3.dim_Jártassági fok_szint_megh'!$F$2:$F$10))
B25: =IFERROR(_xlfn.XLOOKUP(E25,'2. dim Komp_elemek_kiegtem_aláb'!$F$2:$F$22,'2. dim Komp_elemek_kiegtem_aláb'!$C$2:$C$22),"") | C25: =IFERROR(_xlfn.XLOOKUP(E25,'2. dim Komp_elemek_kiegtem_aláb'!$F$2:$F$22,'2. dim Komp_elemek_kiegtem_aláb'!$D$2:$D$22),"") | D25: =IFERROR(_xlfn.XLOOKUP(E25,'2. dim Komp_elemek_kiegtem_aláb'!$F$2:$F$22,DigKompElemAzonosítók_Új),"") | F25: =IFERROR(_xlfn.XLOOKUP(D25,'2. dim Komp_elemek_kiegtem_aláb'!$E$2:$E$22,'2. dim Komp_elemek_kiegtem_aláb'!$G$2:$G$22),"") | I25: =IF(OR($H25<0,ISBLANK($H25)),"",_xlfn.XLOOKUP($H25,'3.dim_Jártassági fok_szint_megh'!$D$2:$D$10,'3.dim_Jártassági fok_szint_megh'!$F$2:$F$10))
B26: =IFERROR(_xlfn.XLOOKUP(E26,'2. dim Komp_elemek_kiegtem_aláb'!$F$2:$F$22,'2. dim Komp_elemek_kiegtem_aláb'!$C$2:$C$22),"") | C26: =IFERROR(_xlfn.XLOOKUP(E26,'2. dim Komp_elemek_kiegtem_aláb'!$F$2:$F$22,'2. dim Komp_elemek_kiegtem_aláb'!$D$2:$D$22),"") | D26: =IFERROR(_xlfn.XLOOKUP(E26,'2. dim Komp_elemek_kiegtem_aláb'!$F$2:$F$22,DigKompElemAzonosítók_Új),"") | F26: =IFERROR(_xlfn.XLOOKUP(D26,'2. dim Komp_elemek_kiegtem_aláb'!$E$2:$E$22,'2. dim Komp_elemek_kiegtem_aláb'!$G$2:$G$22),"") | I26: =IF(OR($H26<0,ISBLANK($H26)),"",_xlfn.XLOOKUP($H26,'3.dim_Jártassági fok_szint_megh'!$D$2:$D$10,'3.dim_Jártassági fok_szint_megh'!$F$2:$F$10))
B27: =IFERROR(_xlfn.XLOOKUP(E27,'2. dim Komp_elemek_kiegtem_aláb'!$F$2:$F$22,'2. dim Komp_elemek_kiegtem_aláb'!$C$2:$C$22),"") | C27: =IFERROR(_xlfn.XLOOKUP(E27,'2. dim Komp_elemek_kiegtem_aláb'!$F$2:$F$22,'2. dim Komp_elemek_kiegtem_aláb'!$D$2:$D$22),"") | D27: =IFERROR(_xlfn.XLOOKUP(E27,'2. dim Komp_elemek_kiegtem_aláb'!$F$2:$F$22,DigKompElemAzonosítók_Új),"") | F27: =IFERROR(_xlfn.XLOOKUP(D27,'2. dim Komp_elemek_kiegtem_aláb'!$E$2:$E$22,'2. dim Komp_elemek_kiegtem_aláb'!$G$2:$G$22),"") | I27: =IF(OR($H27<0,ISBLANK($H27)),"",_xlfn.XLOOKUP($H27,'3.dim_Jártassági fok_szint_megh'!$D$2:$D$10,'3.dim_Jártassági fok_szint_megh'!$F$2:$F$10))
B28: =IFERROR(_xlfn.XLOOKUP(E28,'2. dim Komp_elemek_kiegtem_aláb'!$F$2:$F$22,'2. dim Komp_elemek_kiegtem_aláb'!$C$2:$C$22),"") | C28: =IFERROR(_xlfn.XLOOKUP(E28,'2. dim Komp_elemek_kiegtem_aláb'!$F$2:$F$22,'2. dim Komp_elemek_kiegtem_aláb'!$D$2:$D$22),"") | D28: =IFERROR(_xlfn.XLOOKUP(E28,'2. dim Komp_elemek_kiegtem_aláb'!$F$2:$F$22,DigKompElemAzonosítók_Új),"") | F28: =IFERROR(_xlfn.XLOOKUP(D28,'2. dim Komp_elemek_kiegtem_aláb'!$E$2:$E$22,'2. dim Komp_elemek_kiegtem_aláb'!$G$2:$G$22),"") | I28: =IF(OR($H28<0,ISBLANK($H28)),"",_xlfn.XLOOKUP($H28,'3.dim_Jártassági fok_szint_megh'!$D$2:$D$10,'3.dim_Jártassági fok_szint_megh'!$F$2:$F$10))
B29: =IFERROR(_xlfn.XLOOKUP(E29,'2. dim Komp_elemek_kiegtem_aláb'!$F$2:$F$22,'2. dim Komp_elemek_kiegtem_aláb'!$C$2:$C$22),"") | C29: =IFERROR(_xlfn.XLOOKUP(E29,'2. dim Komp_elemek_kiegtem_aláb'!$F$2:$F$22,'2. dim Komp_elemek_kiegtem_aláb'!$D$2:$D$22),"") | D29: =IFERROR(_xlfn.XLOOKUP(E29,'2. dim Komp_elemek_kiegtem_aláb'!$F$2:$F$22,DigKompElemAzonosítók_Új),"") | F29: =IFERROR(_xlfn.XLOOKUP(D29,'2. dim Komp_elemek_kiegtem_aláb'!$E$2:$E$22,'2. dim Komp_elemek_kiegtem_aláb'!$G$2:$G$22),"") | I29: =IF(OR($H29<0,ISBLANK($H29)),"",_xlfn.XLOOKUP($H29,'3.dim_Jártassági fok_szint_megh'!$D$2:$D$10,'3.dim_Jártassági fok_szint_megh'!$F$2:$F$10))
B30: =IFERROR(_xlfn.XLOOKUP(E30,'2. dim Komp_elemek_kiegtem_aláb'!$F$2:$F$22,'2. dim Komp_elemek_kiegtem_aláb'!$C$2:$C$22),"") | C30: =IFERROR(_xlfn.XLOOKUP(E30,'2. dim Komp_elemek_kiegtem_aláb'!$F$2:$F$22,'2. dim Komp_elemek_kiegtem_aláb'!$D$2:$D$22),"") | D30: =IFERROR(_xlfn.XLOOKUP(E30,'2. dim Komp_elemek_kiegtem_aláb'!$F$2:$F$22,DigKompElemAzonosítók_Új),"") | F30: =IFERROR(_xlfn.XLOOKUP(D30,'2. dim Komp_elemek_kiegtem_aláb'!$E$2:$E$22,'2. dim Komp_elemek_kiegtem_aláb'!$G$2:$G$22),"") | I30: =IF(OR($H30<0,ISBLANK($H30)),"",_xlfn.XLOOKUP($H30,'3.dim_Jártassági fok_szint_megh'!$D$2:$D$10,'3.dim_Jártassági fok_szint_megh'!$F$2:$F$10))
B31: =IFERROR(_xlfn.XLOOKUP(E31,'2. dim Komp_elemek_kiegtem_aláb'!$F$2:$F$22,'2. dim Komp_elemek_kiegtem_aláb'!$C$2:$C$22),"") | C31: =IFERROR(_xlfn.XLOOKUP(E31,'2. dim Komp_elemek_kiegtem_aláb'!$F$2:$F$22,'2. dim Komp_elemek_kiegtem_aláb'!$D$2:$D$22),"") | D31: =IFERROR(_xlfn.XLOOKUP(E31,'2. dim Komp_elemek_kiegtem_aláb'!$F$2:$F$22,DigKompElemAzonosítók_Új),"") | F31: =IFERROR(_xlfn.XLOOKUP(D31,'2. dim Komp_elemek_kiegtem_aláb'!$E$2:$E$22,'2. dim Komp_elemek_kiegtem_aláb'!$G$2:$G$22),"") | I31: =IF(OR($H31<0,ISBLANK($H31)),"",_xlfn.XLOOKUP($H31,'3.dim_Jártassági fok_szint_megh'!$D$2:$D$10,'3.dim_Jártassági fok_szint_megh'!$F$2:$F$10))
B32: =IFERROR(_xlfn.XLOOKUP(E32,'2. dim Komp_elemek_kiegtem_aláb'!$F$2:$F$22,'2. dim Komp_elemek_kiegtem_aláb'!$C$2:$C$22),"") | C32: =IFERROR(_xlfn.XLOOKUP(E32,'2. dim Komp_elemek_kiegtem_aláb'!$F$2:$F$22,'2. dim Komp_elemek_kiegtem_aláb'!$D$2:$D$22),"") | D32: =IFERROR(_xlfn.XLOOKUP(E32,'2. dim Komp_elemek_kiegtem_aláb'!$F$2:$F$22,DigKompElemAzonosítók_Új),"") | F32: =IFERROR(_xlfn.XLOOKUP(D32,'2. dim Komp_elemek_kiegtem_aláb'!$E$2:$E$22,'2. dim Komp_elemek_kiegtem_aláb'!$G$2:$G$22),"") | I32: =IF(OR($H32<0,ISBLANK($H32)),"",_xlfn.XLOOKUP($H32,'3.dim_Jártassági fok_szint_megh'!$D$2:$D$10,'3.dim_Jártassági fok_szint_megh'!$F$2:$F$10))
B33: =IFERROR(_xlfn.XLOOKUP(E33,'2. dim Komp_elemek_kiegtem_aláb'!$F$2:$F$22,'2. dim Komp_elemek_kiegtem_aláb'!$C$2:$C$22),"") | C33: =IFERROR(_xlfn.XLOOKUP(E33,'2. dim Komp_elemek_kiegtem_aláb'!$F$2:$F$22,'2. dim Komp_elemek_kiegtem_aláb'!$D$2:$D$22),"") | D33: =IFERROR(_xlfn.XLOOKUP(E33,'2. dim Komp_elemek_kiegtem_aláb'!$F$2:$F$22,DigKompElemAzonosítók_Új),"") | F33: =IFERROR(_xlfn.XLOOKUP(D33,'2. dim Komp_elemek_kiegtem_aláb'!$E$2:$E$22,'2. dim Komp_elemek_kiegtem_aláb'!$G$2:$G$22),"") | I33: =IF(OR($H33<0,ISBLANK($H33)),"",_xlfn.XLOOKUP($H33,'3.dim_Jártassági fok_szint_megh'!$D$2:$D$10,'3.dim_Jártassági fok_szint_megh'!$F$2:$F$10))
... B51: =IFERROR(_xlfn.XLOOKUP(E51,'2. dim Komp_elemek_kiegtem_aláb'!$F$2:$F$22,'2. dim Komp_elemek_kiegtem_aláb'!$C$2:$C$22),"") | C51: =IFERROR(_xlfn.XLOOKUP(E51,'2. dim Komp_elemek_kiegtem_aláb'!$F$2:$F$22,'2. dim Komp_elemek_kiegtem_aláb'!$D$2:$D$22),"") | D51: =IFERROR(_xlfn.XLOOKUP(E51,'2. dim Komp_elemek_kiegtem_aláb'!$F$2:$F$22,DigKompElemAzonosítók_Új),"") | F51: =IFERROR(_xlfn.XLOOKUP(D51,'2. dim Komp_elemek_kiegtem_aláb'!$E$2:$E$22,'2. dim Komp_elemek_kiegtem_aláb'!$G$2:$G$22),"") | I51: =IF(OR($H51<0,ISBLANK($H51)),"",_xlfn.XLOOKUP($H51,'3.dim_Jártassági fok_szint_megh'!$D$2:$D$10,'3.dim_Jártassági fok_szint_megh'!$F$2:$F$10))

Sheet listák
B1: A tanulási eredmény és a DigKomp-kompetenciaelem illeszkedésének mértéke | C1: Meghatározás | D1: Szakértői vélemény | E1: Képzési progarm/modulazonosítók
B2: Erős illeszkedés | C2: A tanulási eredmény közvetlenül és megfelelő mélységben igazolja a kompetenciaelem meghatározó követelményeit, összhangban a megadott jártassági szinttel. | D2: megfelel | E2: Képzési program | F2: =+#REF! -> #REF!
B3: Erős, összetett illeszkedés - több kompetenciaelem | C3: A tanulási eredmény több kompetenciaelem meghatározó követelményeit is közvetlenül és megfelelő mélységben lefedi, a hozzájuk rendelt jártassági szintekkel összhangban. | D3: nem felel meg | E3: I. | F3: =+IF(#REF!=0,"",#REF!) -> #REF! | G3: F oszlopban képlet van ne írd át!
B4: Erős, de részleges illeszkedés | C4: A tanulási eredmény közvetlenül és egyértelműen igazolja a kompetenciaelem valamely meghatározó részét, de nem terjed ki annak további lényeges követelményeire. | E4: II. | F4: =+IF(#REF!=0,"",#REF!) -> #REF!
B5: Jó illeszkedés | C5: A tanulási eredmény egyértelműen kapcsolódik a kompetenciaelemhez, és annak több releváns követelményét lefedi, de az igazolás mélysége vagy teljessége korlátozott. | E5: III. | F5: =+IF(#REF!=0,"",#REF!) -> #REF!
B6: Jó, de részleges illeszkedés | C6: A tanulási eredmény a kompetenciaelem egy jól azonosítható részéhez kapcsolódik, de nem fedi le annak valamennyi meghatározó követelményét, vagy a jártassági szint igazolása további feltételekhez kötött. | E6: IV. | F6: =+IF(#REF!=0,"",#REF!) -> #REF!
B7: Közepes, közvetett illeszkedés | C7: A tanulási eredmény valamely ténylegesen megfigyelhető tevékenysége alapján közvetetten következtetni lehet a kompetenciaelem részleges teljesülésére, de az összefüggés nem elég közvetlen az erősebb minősítéshez. | E7: V. | F7: =+IF(#REF!=0,"",#REF!) -> #REF!
B8: Gyenge illeszkedés | C8: A tanulási eredmény csak korlátozottan kapcsolódik a kompetenciaelemhez. Tartalmazhat releváns részkészséget, de nem szolgáltat elegendő bizonyítékot a hozzárendelt kompetenciaelem és jártassági szint igazolására. | E8: VI. | F8: =+IF(#REF!=0,"",#REF!) -> #REF!
B9: Nem igazolható illeszkedés | C9: A tanulási eredmény nem tartalmaz olyan konkrét, megfigyelhető tevékenységet, amely alapján a hozzárendelt kompetenciaelem teljesülése érdemben értékelhető lenne. | E9: VII. | F9: =+IF(#REF!=0,"",#REF!) -> #REF!
E10: VIII. | F10: =+IF(#REF!=0,"",#REF!) -> #REF!
E11: IX. | F11: =+IF(#REF!=0,"",#REF!) -> #REF!

Sheet DigKomp-megf_tan_eredm_EESZ_kit
A1: Digitális tevékenység | B1: Kompetenciaterület sorszáma | C1: DigKomp-kompetenciaterület (1. dimenzió) | D1: DigKomp-kompetenciaelem azonosítója | E1: DigKomp-kompetenciaelem megnevezése (2. dimenzió) | F1: DigKomp-kompetenciaelem meghatározása (2. dimenzió) | G1: Tanulási eredmény | H1: Kimeneti jártassági szint (3. dimenzió) | I1: Jártassági szint leírás | J1: Tanulási eredmény illeszkedése | K1: Indoklás
A2: Belépés és azonosítás | B2: =IFERROR(_xlfn.XLOOKUP(E2,'2. dim Komp_elemek_kiegtem_aláb'!$F$2:$F$22,'2. dim Komp_elemek_kiegtem_aláb'!$C$2:$C$22),"") -> 2 | C2: =IFERROR(_xlfn.XLOOKUP(E2,'2. dim Komp_elemek_kiegtem_aláb'!$F$2:$F$22,'2. dim Komp_elemek_kiegtem_aláb'!$D$2:$D$22),"") -> Kommunikáció és együttműködés | D2: =IFERROR(_xlfn.XLOOKUP(E2,'2. dim Komp_elemek_kiegtem_aláb'!$F$2:$F$22,DigKompElemAzonosítók_Új),"") -> 2.6 | E2: 2.6 A digitális személyazonosság kezelése | F2: =IFERROR(_xlfn.XLOOKUP(D2,'2. dim Komp_elemek_kiegtem_aláb'!$E$2:$E$22,'2. dim Komp_elemek_kiegtem_aláb'!$G$2:$G$22),"") -> Egy vagy több digitális személyazonosság létrehozása és kezelése, képesség a jó hír megvédésére, a különböző digitális eszközök, környezetek és szolgáltatások segítségével létrehozott adatok kezelése. | G2: A résztvevő önállóan belép az EESZT lakossági felületére a DÁP mobilalkalmazással, és megfelelően végrehajtja az elektronikus azonosítás lépéseit. | H2: 3 | I2: =IF(OR($H2<0,ISBLANK($H2)),"",_xlfn.XLOOKUP($H2,'3.dim_Jártassági fok_szint_megh'!$D$2:$D$10,'3.dim_Jártassági fok_szint_megh'!$F$2:$F$10)) -> A 3. jártassági szinten lévő személy önállóan old meg jól meghatározott, rutinszerű feladatokat, problémákat, képes követni a lépéseket, érti a megoldásokat. | J2: Erős, de részleges illeszkedés | K2: A tanulási eredmény közvetlenül kapcsolódik a digitális személyazonosság használatához és kezeléséhez, ugyanakkor a 2.6 kompetenciaelem teljes tartományát nem fedi le, például nem jelenik meg több digitális személyazonosság kezelése, a digitális hírnév vagy az identitáshoz kapcsolódó adatok tágabb kezelése.
A3: Belépés és azonosítás | B3: =IFERROR(_xlfn.XLOOKUP(E3,'2. dim Komp_elemek_kiegtem_aláb'!$F$2:$F$22,'2. dim Komp_elemek_kiegtem_aláb'!$C$2:$C$22),"") -> 4 | C3: =IFERROR(_xlfn.XLOOKUP(E3,'2. dim Komp_elemek_kiegtem_aláb'!$F$2:$F$22,'2. dim Komp_elemek_kiegtem_aláb'!$D$2:$D$22),"") -> Biztonság | D3: =IFERROR(_xlfn.XLOOKUP(E3,'2. dim Komp_elemek_kiegtem_aláb'!$F$2:$F$22,DigKompElemAzonosítók_Új),"") -> 4.2 | E3: 4.2 A személyes adatok és a magánszféra védelme | F3: =IFERROR(_xlfn.XLOOKUP(D3,'2. dim Komp_elemek_kiegtem_aláb'!$E$2:$E$22,'2. dim Komp_elemek_kiegtem_aláb'!$G$2:$G$22),"") -> A személyes adatok és a magánszféra védelme digitális környezetben. Személyazonosításra alkalmas információk használatának és megosztásának ismerete, saját magam és mások védelme. Annak ismerete, hogy a digitális szolgáltatók adatvédelmi szabályzattal tájékoztatják a felhasználókat a személyes adatok felhasználásáról. | G3: A résztvevő az azonosítás és belépés során alkalmazza a személyes és egészségügyi adatok védelmét biztosító alapvető biztonsági szabályokat. | H3: 3 | I3: =IF(OR($H3<0,ISBLANK($H3)),"",_xlfn.XLOOKUP($H3,'3.dim_Jártassági fok_szint_megh'!$D$2:$D$10,'3.dim_Jártassági fok_szint_megh'!$F$2:$F$10)) -> A 3. jártassági szinten lévő személy önállóan old meg jól meghatározott, rutinszerű feladatokat, problémákat, képes követni a lépéseket, érti a megoldásokat. | J3: Erős, de részleges illeszkedés | K3: A személyes és egészségügyi adatok védelmére vonatkozó szabályok alkalmazása közvetlenül kapcsolódik a 4.2 kompetenciához, de csak egy konkrét helyzetben vizsgálja azt. Nem jelenik meg például az adatmegosztás vagy az adatvédelmi tájékoztatók értelmezése.
A4: Navigáció | B4: =IFERROR(_xlfn.XLOOKUP(E4,'2. dim Komp_elemek_kiegtem_aláb'!$F$2:$F$22,'2. dim Komp_elemek_kiegtem_aláb'!$C$2:$C$22),"") -> 1 | C4: =IFERROR(_xlfn.XLOOKUP(E4,'2. dim Komp_elemek_kiegtem_aláb'!$F$2:$F$22,'2. dim Komp_elemek_kiegtem_aláb'!$D$2:$D$22),"") -> Információ- és adatmenedzsment | D4: =IFERROR(_xlfn.XLOOKUP(E4,'2. dim Komp_elemek_kiegtem_aláb'!$F$2:$F$22,DigKompElemAzonosítók_Új),"") -> 1.1 | E4: 1.1 Adatok, információk és digitális tartalmak böngészése, keresése és szűrése | F4: =IFERROR(_xlfn.XLOOKUP(D4,'2. dim Komp_elemek_kiegtem_aláb'!$E$2:$E$22,'2. dim Komp_elemek_kiegtem_aláb'!$G$2:$G$22),"") -> Az információval kapcsolatos igények megfogalmazása, valamint adatok, információk és tartalmak keresése digitális környezetben. Az adatokhoz, információkhoz és tartalmakhoz való hozzáférés, illetve az ezek közötti eligazodás. Egyéni keresési stratégiák kialakítása és igény szerinti módosítása. | G4: A résztvevő önállóan megtalálja az EESZT felületén azt a menüpontot vagy funkciót, amelyen keresztül a laborleletek elérhetők. | H4: 3 | I4: =IF(OR($H4<0,ISBLANK($H4)),"",_xlfn.XLOOKUP($H4,'3.dim_Jártassági fok_szint_megh'!$D$2:$D$10,'3.dim_Jártassági fok_szint_megh'!$F$2:$F$10)) -> A 3. jártassági szinten lévő személy önállóan old meg jól meghatározott, rutinszerű feladatokat, problémákat, képes követni a lépéseket, érti a megoldásokat. | J4: Erős illeszkedés | K4: A megfelelő funkció önálló megtalálása közvetlenül megfelel a digitális környezetben történő eligazodásnak és az információhoz való hozzáférésnek.
A5: Dokumentumkeresés | B5: =IFERROR(_xlfn.XLOOKUP(E5,'2. dim Komp_elemek_kiegtem_aláb'!$F$2:$F$22,'2. dim Komp_elemek_kiegtem_aláb'!$C$2:$C$22),"") -> 1 | C5: =IFERROR(_xlfn.XLOOKUP(E5,'2. dim Komp_elemek_kiegtem_aláb'!$F$2:$F$22,'2. dim Komp_elemek_kiegtem_aláb'!$D$2:$D$22),"") -> Információ- és adatmenedzsment | D5: =IFERROR(_xlfn.XLOOKUP(E5,'2. dim Komp_elemek_kiegtem_aláb'!$F$2:$F$22,DigKompElemAzonosítók_Új),"") -> 1.1 | E5: 1.1 Adatok, információk és digitális tartalmak böngészése, keresése és szűrése | F5: =IFERROR(_xlfn.XLOOKUP(D5,'2. dim Komp_elemek_kiegtem_aláb'!$E$2:$E$22,'2. dim Komp_elemek_kiegtem_aláb'!$G$2:$G$22),"") -> Az információval kapcsolatos igények megfogalmazása, valamint adatok, információk és tartalmak keresése digitális környezetben. Az adatokhoz, információkhoz és tartalmakhoz való hozzáférés, illetve az ezek közötti eligazodás. Egyéni keresési stratégiák kialakítása és igény szerinti módosítása. | G5: A résztvevő önállóan megkeresi és szükség szerint dátum, dokumentumtípus vagy más rendelkezésre álló szempont alapján leszűkíti a laborleletek körét. | H5: 3 | I5: =IF(OR($H5<0,ISBLANK($H5)),"",_xlfn.XLOOKUP($H5,'3.dim_Jártassági fok_szint_megh'!$D$2:$D$10,'3.dim_Jártassági fok_szint_megh'!$F$2:$F$10)) -> A 3. jártassági szinten lévő személy önállóan old meg jól meghatározott, rutinszerű feladatokat, problémákat, képes követni a lépéseket, érti a megoldásokat. | J5: Erős illeszkedés | K5: A keresés és a rendelkezésre álló szempontok szerinti szűrés közvetlenül lefedi az 1.1 kompetenciaelem keresési és szűrési elemeit.
A6: Dokumentumazonosítás | B6: =IFERROR(_xlfn.XLOOKUP(E6,'2. dim Komp_elemek_kiegtem_aláb'!$F$2:$F$22,'2. dim Komp_elemek_kiegtem_aláb'!$C$2:$C$22),"") -> 1 | C6: =IFERROR(_xlfn.XLOOKUP(E6,'2. dim Komp_elemek_kiegtem_aláb'!$F$2:$F$22,'2. dim Komp_elemek_kiegtem_aláb'!$D$2:$D$22),"") -> Információ- és adatmenedzsment | D6: =IFERROR(_xlfn.XLOOKUP(E6,'2. dim Komp_elemek_kiegtem_aláb'!$F$2:$F$22,DigKompElemAzonosítók_Új),"") -> 1.2 | E6: 1.2 Adatok, információk és digitális tartalmak kiértékelése | F6: =IFERROR(_xlfn.XLOOKUP(D6,'2. dim Komp_elemek_kiegtem_aláb'!$E$2:$E$22,'2. dim Komp_elemek_kiegtem_aláb'!$G$2:$G$22),"") -> Az adat-, információ- és digitális tartalomforrások hitelességének és megbízhatóságának elemzése, összehasonlítása és kritikus értékelése. Az adatok, információk és digitális tartalmak elemzése, értelmezése és kritikai értékelése. | G6: A résztvevő a dokumentum dátuma, típusa és egyéb elérhető adatai alapján azonosítja az adott vérvételhez tartozó legfrissebb laborleletet. | H6: 3 | I6: =IF(OR($H6<0,ISBLANK($H6)),"",_xlfn.XLOOKUP($H6,'3.dim_Jártassági fok_szint_megh'!$D$2:$D$10,'3.dim_Jártassági fok_szint_megh'!$F$2:$F$10)) -> A 3. jártassági szinten lévő személy önállóan old meg jól meghatározott, rutinszerű feladatokat, problémákat, képes követni a lépéseket, érti a megoldásokat. | J6: Jó, de részleges illeszkedés | K6: A tanulási eredményben megjelenik az információk összevetése és az ezek alapján történő kiválasztás, ugyanakkor nem jelenik meg a források hitelességének, megbízhatóságának vagy tartalmának kritikus értékelése.
A7: Lelet megtekintése | B7: =IFERROR(_xlfn.XLOOKUP(E7,'2. dim Komp_elemek_kiegtem_aláb'!$F$2:$F$22,'2. dim Komp_elemek_kiegtem_aláb'!$C$2:$C$22),"") -> 1 | C7: =IFERROR(_xlfn.XLOOKUP(E7,'2. dim Komp_elemek_kiegtem_aláb'!$F$2:$F$22,'2. dim Komp_elemek_kiegtem_aláb'!$D$2:$D$22),"") -> Információ- és adatmenedzsment | D7: =IFERROR(_xlfn.XLOOKUP(E7,'2. dim Komp_elemek_kiegtem_aláb'!$F$2:$F$22,DigKompElemAzonosítók_Új),"") -> 1.3 | E7: 1.3 Adatok, információk és digitális tartalmak kezelése | F7: =IFERROR(_xlfn.XLOOKUP(D7,'2. dim Komp_elemek_kiegtem_aláb'!$E$2:$E$22,'2. dim Komp_elemek_kiegtem_aláb'!$G$2:$G$22),"") -> Adatok információk és tartalmak elrendezése, tárolása és visszakeresése digitális környezetben. Ezek rendszerezése és feldolgozása strukturált környezetben. | G7: A résztvevő megnyitja és áttekinti a kiválasztott laborleletet, és szükség esetén használja az alapvető megjelenítési vagy letöltési funkciókat. | H7: 3 | I7: =IF(OR($H7<0,ISBLANK($H7)),"",_xlfn.XLOOKUP($H7,'3.dim_Jártassági fok_szint_megh'!$D$2:$D$10,'3.dim_Jártassági fok_szint_megh'!$F$2:$F$10)) -> A 3. jártassági szinten lévő személy önállóan old meg jól meghatározott, rutinszerű feladatokat, problémákat, képes követni a lépéseket, érti a megoldásokat. | J7: Jó, de részleges illeszkedés | K7: A dokumentum megnyitása és letöltése kapcsolódik a digitális tartalmak kezeléséhez, de az 1.3 kompetenciaelemben szereplő rendszerezés, tárolás és strukturált kezelés kevésbé jelenik meg.
A8: Digitális információ értelmezése és ellenőrzése | B8: =IFERROR(_xlfn.XLOOKUP(E8,'2. dim Komp_elemek_kiegtem_aláb'!$F$2:$F$22,'2. dim Komp_elemek_kiegtem_aláb'!$C$2:$C$22),"") -> 1 | C8: =IFERROR(_xlfn.XLOOKUP(E8,'2. dim Komp_elemek_kiegtem_aláb'!$F$2:$F$22,'2. dim Komp_elemek_kiegtem_aláb'!$D$2:$D$22),"") -> Információ- és adatmenedzsment | D8: =IFERROR(_xlfn.XLOOKUP(E8,'2. dim Komp_elemek_kiegtem_aláb'!$F$2:$F$22,DigKompElemAzonosítók_Új),"") -> 1.2 | E8: 1.2 Adatok, információk és digitális tartalmak kiértékelése | F8: =IFERROR(_xlfn.XLOOKUP(D8,'2. dim Komp_elemek_kiegtem_aláb'!$E$2:$E$22,'2. dim Komp_elemek_kiegtem_aláb'!$G$2:$G$22),"") -> Az adat-, információ- és digitális tartalomforrások hitelességének és megbízhatóságának elemzése, összehasonlítása és kritikus értékelése. Az adatok, információk és digitális tartalmak elemzése, értelmezése és kritikai értékelése. | G8: A résztvevő értelmezi a laborlelet digitálisan megjelenített értékeit, jelöléseit és referencia-tartományait, és ezek alapján azonosítja a figyelmet igénylő információkat. | H8: 4 | I8: =IF(OR($H8<0,ISBLANK($H8)),"",_xlfn.XLOOKUP($H8,'3.dim_Jártassági fok_szint_megh'!$D$2:$D$10,'3.dim_Jártassági fok_szint_megh'!$F$2:$F$10)) -> A 4. jártassági szinten lévő személy önállóan, saját igényeinek megfelelően old meg feladatokat, konkrét, nem rutinszerű problémákat, értő módon alakítja a megoldáshoz vezető lépéseket. | J8: Erős illeszkedés | K8: Az értékek, jelölések és referencia-tartományok értelmezése, összevetése és a releváns információ azonosítása közvetlenül megfelel az adatok és digitális információk elemzésének és értékelésének.
A9: További digitális ügyintézés / kapcsolatfelvétel | B9: =IFERROR(_xlfn.XLOOKUP(E9,'2. dim Komp_elemek_kiegtem_aláb'!$F$2:$F$22,'2. dim Komp_elemek_kiegtem_aláb'!$C$2:$C$22),"") -> 2 | C9: =IFERROR(_xlfn.XLOOKUP(E9,'2. dim Komp_elemek_kiegtem_aláb'!$F$2:$F$22,'2. dim Komp_elemek_kiegtem_aláb'!$D$2:$D$22),"") -> Kommunikáció és együttműködés | D9: =IFERROR(_xlfn.XLOOKUP(E9,'2. dim Komp_elemek_kiegtem_aláb'!$F$2:$F$22,DigKompElemAzonosítók_Új),"") -> 2.1 | E9: 2.1 Digitális technológiával támogatott interakció | F9: =IFERROR(_xlfn.XLOOKUP(D9,'2. dim Komp_elemek_kiegtem_aláb'!$E$2:$E$22,'2. dim Komp_elemek_kiegtem_aláb'!$G$2:$G$22),"") -> Interakciót valósít meg a digitális technológia széles körű használatával, ismeri az adott kontextusnak megfelelő kommunikációs módokat. | G9: A résztvevő szükség esetén megfelelő digitális csatornán kapcsolatot kezdeményez a háziorvossal vagy az egészségügyi szolgáltatóval. | H9: 3 | I9: =IF(OR($H9<0,ISBLANK($H9)),"",_xlfn.XLOOKUP($H9,'3.dim_Jártassági fok_szint_megh'!$D$2:$D$10,'3.dim_Jártassági fok_szint_megh'!$F$2:$F$10)) -> A 3. jártassági szinten lévő személy önállóan old meg jól meghatározott, rutinszerű feladatokat, problémákat, képes követni a lépéseket, érti a megoldásokat. | J9: Erős illeszkedés | K9: A megfelelő digitális csatornán történő kapcsolatkezdeményezés közvetlenül megfelel a digitális technológiával támogatott interakció kompetenciájának.
B10: =IFERROR(_xlfn.XLOOKUP(E10,'2. dim Komp_elemek_kiegtem_aláb'!$F$2:$F$22,'2. dim Komp_elemek_kiegtem_aláb'!$C$2:$C$22),"") | C10: =IFERROR(_xlfn.XLOOKUP(E10,'2. dim Komp_elemek_kiegtem_aláb'!$F$2:$F$22,'2. dim Komp_elemek_kiegtem_aláb'!$D$2:$D$22),"") | D10: =IFERROR(_xlfn.XLOOKUP(E10,'2. dim Komp_elemek_kiegtem_aláb'!$F$2:$F$22,DigKompElemAzonosítók_Új),"") | F10: =IFERROR(_xlfn.XLOOKUP(D10,'2. dim Komp_elemek_kiegtem_aláb'!$E$2:$E$22,'2. dim Komp_elemek_kiegtem_aláb'!$G$2:$G$22),"") | I10: =IF(OR($H10<0,ISBLANK($H10)),"",_xlfn.XLOOKUP($H10,'3.dim_Jártassági fok_szint_megh'!$D$2:$D$10,'3.dim_Jártassági fok_szint_megh'!$F$2:$F$10))
A11: További digitális ügyintézés / kapcsolatfelvétel | B11: =IFERROR(_xlfn.XLOOKUP(E11,'2. dim Komp_elemek_kiegtem_aláb'!$F$2:$F$22,'2. dim Komp_elemek_kiegtem_aláb'!$C$2:$C$22),"") -> 5 | C11: =IFERROR(_xlfn.XLOOKUP(E11,'2. dim Komp_elemek_kiegtem_aláb'!$F$2:$F$22,'2. dim Komp_elemek_kiegtem_aláb'!$D$2:$D$22),"") -> Problémamegoldás | D11: =IFERROR(_xlfn.XLOOKUP(E11,'2. dim Komp_elemek_kiegtem_aláb'!$F$2:$F$22,DigKompElemAzonosítók_Új),"") -> 5.2 | E11: 5.2 Igények és technológiai válaszmegoldások azonosítása | F11: =IFERROR(_xlfn.XLOOKUP(D11,'2. dim Komp_elemek_kiegtem_aláb'!$E$2:$E$22,'2. dim Komp_elemek_kiegtem_aláb'!$G$2:$G$22),"") -> Igények felmérése, illetve digitális eszközök és szóba jöhető technológiai válaszok azonosítása, értékelése és kiválasztása. Digitális környezetek módosítása és testreszabása személyes igények alapján (pl.: hozzáférhetőség). | I11: =IF(OR($H11<0,ISBLANK($H11)),"",_xlfn.XLOOKUP($H11,'3.dim_Jártassági fok_szint_megh'!$D$2:$D$10,'3.dim_Jártassági fok_szint_megh'!$F$2:$F$10))
A12: Belépés és azonosítás | B12: =IFERROR(_xlfn.XLOOKUP(E12,'2. dim Komp_elemek_kiegtem_aláb'!$F$2:$F$22,'2. dim Komp_elemek_kiegtem_aláb'!$C$2:$C$22),"") -> 5 | C12: =IFERROR(_xlfn.XLOOKUP(E12,'2. dim Komp_elemek_kiegtem_aláb'!$F$2:$F$22,'2. dim Komp_elemek_kiegtem_aláb'!$D$2:$D$22),"") -> Problémamegoldás | D12: =IFERROR(_xlfn.XLOOKUP(E12,'2. dim Komp_elemek_kiegtem_aláb'!$F$2:$F$22,DigKompElemAzonosítók_Új),"") -> 5.1 | E12: 5.1 Technikai problémák megoldása | F12: =IFERROR(_xlfn.XLOOKUP(D12,'2. dim Komp_elemek_kiegtem_aláb'!$E$2:$E$22,'2. dim Komp_elemek_kiegtem_aláb'!$G$2:$G$22),"") -> Technikai problémák felismerése és megoldása eszközök és digitális környezetek használata során (a hibaelhárítástól az összetettebb problémák megoldásáig). | I12: =IF(OR($H12<0,ISBLANK($H12)),"",_xlfn.XLOOKUP($H12,'3.dim_Jártassági fok_szint_megh'!$D$2:$D$10,'3.dim_Jártassági fok_szint_megh'!$F$2:$F$10))
A13: Navigáció | B13: =IFERROR(_xlfn.XLOOKUP(E13,'2. dim Komp_elemek_kiegtem_aláb'!$F$2:$F$22,'2. dim Komp_elemek_kiegtem_aláb'!$C$2:$C$22),"") -> 5 | C13: =IFERROR(_xlfn.XLOOKUP(E13,'2. dim Komp_elemek_kiegtem_aláb'!$F$2:$F$22,'2. dim Komp_elemek_kiegtem_aláb'!$D$2:$D$22),"") -> Problémamegoldás | D13: =IFERROR(_xlfn.XLOOKUP(E13,'2. dim Komp_elemek_kiegtem_aláb'!$F$2:$F$22,DigKompElemAzonosítók_Új),"") -> 5.2 | E13: 5.2 Igények és technológiai válaszmegoldások azonosítása | F13: =IFERROR(_xlfn.XLOOKUP(D13,'2. dim Komp_elemek_kiegtem_aláb'!$E$2:$E$22,'2. dim Komp_elemek_kiegtem_aláb'!$G$2:$G$22),"") -> Igények felmérése, illetve digitális eszközök és szóba jöhető technológiai válaszok azonosítása, értékelése és kiválasztása. Digitális környezetek módosítása és testreszabása személyes igények alapján (pl.: hozzáférhetőség). | I13: =IF(OR($H13<0,ISBLANK($H13)),"",_xlfn.XLOOKUP($H13,'3.dim_Jártassági fok_szint_megh'!$D$2:$D$10,'3.dim_Jártassági fok_szint_megh'!$F$2:$F$10))
A14: Dokumentumkeresés | B14: =IFERROR(_xlfn.XLOOKUP(E14,'2. dim Komp_elemek_kiegtem_aláb'!$F$2:$F$22,'2. dim Komp_elemek_kiegtem_aláb'!$C$2:$C$22),"") -> 1 | C14: =IFERROR(_xlfn.XLOOKUP(E14,'2. dim Komp_elemek_kiegtem_aláb'!$F$2:$F$22,'2. dim Komp_elemek_kiegtem_aláb'!$D$2:$D$22),"") -> Információ- és adatmenedzsment | D14: =IFERROR(_xlfn.XLOOKUP(E14,'2. dim Komp_elemek_kiegtem_aláb'!$F$2:$F$22,DigKompElemAzonosítók_Új),"") -> 1.3 | E14: 1.3 Adatok, információk és digitális tartalmak kezelése | F14: =IFERROR(_xlfn.XLOOKUP(D14,'2. dim Komp_elemek_kiegtem_aláb'!$E$2:$E$22,'2. dim Komp_elemek_kiegtem_aláb'!$G$2:$G$22),"") -> Adatok információk és tartalmak elrendezése, tárolása és visszakeresése digitális környezetben. Ezek rendszerezése és feldolgozása strukturált környezetben. | I14: =IF(OR($H14<0,ISBLANK($H14)),"",_xlfn.XLOOKUP($H14,'3.dim_Jártassági fok_szint_megh'!$D$2:$D$10,'3.dim_Jártassági fok_szint_megh'!$F$2:$F$10))
A15: Dokumentumazonosítás | B15: =IFERROR(_xlfn.XLOOKUP(E15,'2. dim Komp_elemek_kiegtem_aláb'!$F$2:$F$22,'2. dim Komp_elemek_kiegtem_aláb'!$C$2:$C$22),"") -> 1 | C15: =IFERROR(_xlfn.XLOOKUP(E15,'2. dim Komp_elemek_kiegtem_aláb'!$F$2:$F$22,'2. dim Komp_elemek_kiegtem_aláb'!$D$2:$D$22),"") -> Információ- és adatmenedzsment | D15: =IFERROR(_xlfn.XLOOKUP(E15,'2. dim Komp_elemek_kiegtem_aláb'!$F$2:$F$22,DigKompElemAzonosítók_Új),"") -> 1.3 | E15: 1.3 Adatok, információk és digitális tartalmak kezelése | F15: =IFERROR(_xlfn.XLOOKUP(D15,'2. dim Komp_elemek_kiegtem_aláb'!$E$2:$E$22,'2. dim Komp_elemek_kiegtem_aláb'!$G$2:$G$22),"") -> Adatok információk és tartalmak elrendezése, tárolása és visszakeresése digitális környezetben. Ezek rendszerezése és feldolgozása strukturált környezetben. | I15: =IF(OR($H15<0,ISBLANK($H15)),"",_xlfn.XLOOKUP($H15,'3.dim_Jártassági fok_szint_megh'!$D$2:$D$10,'3.dim_Jártassági fok_szint_megh'!$F$2:$F$10))
A16: Lelet megtekintése | B16: =IFERROR(_xlfn.XLOOKUP(E16,'2. dim Komp_elemek_kiegtem_aláb'!$F$2:$F$22,'2. dim Komp_elemek_kiegtem_aláb'!$C$2:$C$22),"") -> 1 | C16: =IFERROR(_xlfn.XLOOKUP(E16,'2. dim Komp_elemek_kiegtem_aláb'!$F$2:$F$22,'2. dim Komp_elemek_kiegtem_aláb'!$D$2:$D$22),"") -> Információ- és adatmenedzsment | D16: =IFERROR(_xlfn.XLOOKUP(E16,'2. dim Komp_elemek_kiegtem_aláb'!$F$2:$F$22,DigKompElemAzonosítók_Új),"") -> 1.1 | E16: 1.1 Adatok, információk és digitális tartalmak böngészése, keresése és szűrése | F16: =IFERROR(_xlfn.XLOOKUP(D16,'2. dim Komp_elemek_kiegtem_aláb'!$E$2:$E$22,'2. dim Komp_elemek_kiegtem_aláb'!$G$2:$G$22),"") -> Az információval kapcsolatos igények megfogalmazása, valamint adatok, információk és tartalmak keresése digitális környezetben. Az adatokhoz, információkhoz és tartalmakhoz való hozzáférés, illetve az ezek közötti eligazodás. Egyéni keresési stratégiák kialakítása és igény szerinti módosítása. | I16: =IF(OR($H16<0,ISBLANK($H16)),"",_xlfn.XLOOKUP($H16,'3.dim_Jártassági fok_szint_megh'!$D$2:$D$10,'3.dim_Jártassági fok_szint_megh'!$F$2:$F$10))
A17: Digitális információ értelmezése és ellenőrzése | B17: =IFERROR(_xlfn.XLOOKUP(E17,'2. dim Komp_elemek_kiegtem_aláb'!$F$2:$F$22,'2. dim Komp_elemek_kiegtem_aláb'!$C$2:$C$22),"") -> 1 | C17: =IFERROR(_xlfn.XLOOKUP(E17,'2. dim Komp_elemek_kiegtem_aláb'!$F$2:$F$22,'2. dim Komp_elemek_kiegtem_aláb'!$D$2:$D$22),"") -> Információ- és adatmenedzsment | D17: =IFERROR(_xlfn.XLOOKUP(E17,'2. dim Komp_elemek_kiegtem_aláb'!$F$2:$F$22,DigKompElemAzonosítók_Új),"") -> 1.1 | E17: 1.1 Adatok, információk és digitális tartalmak böngészése, keresése és szűrése | F17: =IFERROR(_xlfn.XLOOKUP(D17,'2. dim Komp_elemek_kiegtem_aláb'!$E$2:$E$22,'2. dim Komp_elemek_kiegtem_aláb'!$G$2:$G$22),"") -> Az információval kapcsolatos igények megfogalmazása, valamint adatok, információk és tartalmak keresése digitális környezetben. Az adatokhoz, információkhoz és tartalmakhoz való hozzáférés, illetve az ezek közötti eligazodás. Egyéni keresési stratégiák kialakítása és igény szerinti módosítása. | I17: =IF(OR($H17<0,ISBLANK($H17)),"",_xlfn.XLOOKUP($H17,'3.dim_Jártassági fok_szint_megh'!$D$2:$D$10,'3.dim_Jártassági fok_szint_megh'!$F$2:$F$10))
A18: Digitális információ értelmezése és ellenőrzése | B18: =IFERROR(_xlfn.XLOOKUP(E18,'2. dim Komp_elemek_kiegtem_aláb'!$F$2:$F$22,'2. dim Komp_elemek_kiegtem_aláb'!$C$2:$C$22),"") -> 5 | C18: =IFERROR(_xlfn.XLOOKUP(E18,'2. dim Komp_elemek_kiegtem_aláb'!$F$2:$F$22,'2. dim Komp_elemek_kiegtem_aláb'!$D$2:$D$22),"") -> Problémamegoldás | D18: =IFERROR(_xlfn.XLOOKUP(E18,'2. dim Komp_elemek_kiegtem_aláb'!$F$2:$F$22,DigKompElemAzonosítók_Új),"") -> 5.2 | E18: 5.2 Igények és technológiai válaszmegoldások azonosítása | F18: =IFERROR(_xlfn.XLOOKUP(D18,'2. dim Komp_elemek_kiegtem_aláb'!$E$2:$E$22,'2. dim Komp_elemek_kiegtem_aláb'!$G$2:$G$22),"") -> Igények felmérése, illetve digitális eszközök és szóba jöhető technológiai válaszok azonosítása, értékelése és kiválasztása. Digitális környezetek módosítása és testreszabása személyes igények alapján (pl.: hozzáférhetőség). | I18: =IF(OR($H18<0,ISBLANK($H18)),"",_xlfn.XLOOKUP($H18,'3.dim_Jártassági fok_szint_megh'!$D$2:$D$10,'3.dim_Jártassági fok_szint_megh'!$F$2:$F$10))
A19: Digitális információ értelmezése és ellenőrzése | B19: =IFERROR(_xlfn.XLOOKUP(E19,'2. dim Komp_elemek_kiegtem_aláb'!$F$2:$F$22,'2. dim Komp_elemek_kiegtem_aláb'!$C$2:$C$22),"") -> 4 | C19: =IFERROR(_xlfn.XLOOKUP(E19,'2. dim Komp_elemek_kiegtem_aláb'!$F$2:$F$22,'2. dim Komp_elemek_kiegtem_aláb'!$D$2:$D$22),"") -> Biztonság | D19: =IFERROR(_xlfn.XLOOKUP(E19,'2. dim Komp_elemek_kiegtem_aláb'!$F$2:$F$22,DigKompElemAzonosítók_Új),"") -> 4.2 | E19: 4.2 A személyes adatok és a magánszféra védelme | F19: =IFERROR(_xlfn.XLOOKUP(D19,'2. dim Komp_elemek_kiegtem_aláb'!$E$2:$E$22,'2. dim Komp_elemek_kiegtem_aláb'!$G$2:$G$22),"") -> A személyes adatok és a magánszféra védelme digitális környezetben. Személyazonosításra alkalmas információk használatának és megosztásának ismerete, saját magam és mások védelme. Annak ismerete, hogy a digitális szolgáltatók adatvédelmi szabályzattal tájékoztatják a felhasználókat a személyes adatok felhasználásáról. | I19: =IF(OR($H19<0,ISBLANK($H19)),"",_xlfn.XLOOKUP($H19,'3.dim_Jártassági fok_szint_megh'!$D$2:$D$10,'3.dim_Jártassági fok_szint_megh'!$F$2:$F$10))
A20: További digitális ügyintézés / kapcsolatfelvétel | B20: =IFERROR(_xlfn.XLOOKUP(E20,'2. dim Komp_elemek_kiegtem_aláb'!$F$2:$F$22,'2. dim Komp_elemek_kiegtem_aláb'!$C$2:$C$22),"") -> 1 | C20: =IFERROR(_xlfn.XLOOKUP(E20,'2. dim Komp_elemek_kiegtem_aláb'!$F$2:$F$22,'2. dim Komp_elemek_kiegtem_aláb'!$D$2:$D$22),"") -> Információ- és adatmenedzsment | D20: =IFERROR(_xlfn.XLOOKUP(E20,'2. dim Komp_elemek_kiegtem_aláb'!$F$2:$F$22,DigKompElemAzonosítók_Új),"") -> 1.1 | E20: 1.1 Adatok, információk és digitális tartalmak böngészése, keresése és szűrése | F20: =IFERROR(_xlfn.XLOOKUP(D20,'2. dim Komp_elemek_kiegtem_aláb'!$E$2:$E$22,'2. dim Komp_elemek_kiegtem_aláb'!$G$2:$G$22),"") -> Az információval kapcsolatos igények megfogalmazása, valamint adatok, információk és tartalmak keresése digitális környezetben. Az adatokhoz, információkhoz és tartalmakhoz való hozzáférés, illetve az ezek közötti eligazodás. Egyéni keresési stratégiák kialakítása és igény szerinti módosítása. | I20: =IF(OR($H20<0,ISBLANK($H20)),"",_xlfn.XLOOKUP($H20,'3.dim_Jártassági fok_szint_megh'!$D$2:$D$10,'3.dim_Jártassági fok_szint_megh'!$F$2:$F$10))
A21: További digitális ügyintézés / kapcsolatfelvétel | B21: =IFERROR(_xlfn.XLOOKUP(E21,'2. dim Komp_elemek_kiegtem_aláb'!$F$2:$F$22,'2. dim Komp_elemek_kiegtem_aláb'!$C$2:$C$22),"") -> 4 | C21: =IFERROR(_xlfn.XLOOKUP(E21,'2. dim Komp_elemek_kiegtem_aláb'!$F$2:$F$22,'2. dim Komp_elemek_kiegtem_aláb'!$D$2:$D$22),"") -> Biztonság | D21: =IFERROR(_xlfn.XLOOKUP(E21,'2. dim Komp_elemek_kiegtem_aláb'!$F$2:$F$22,DigKompElemAzonosítók_Új),"") -> 4.2 | E21: 4.2 A személyes adatok és a magánszféra védelme | F21: =IFERROR(_xlfn.XLOOKUP(D21,'2. dim Komp_elemek_kiegtem_aláb'!$E$2:$E$22,'2. dim Komp_elemek_kiegtem_aláb'!$G$2:$G$22),"") -> A személyes adatok és a magánszféra védelme digitális környezetben. Személyazonosításra alkalmas információk használatának és megosztásának ismerete, saját magam és mások védelme. Annak ismerete, hogy a digitális szolgáltatók adatvédelmi szabályzattal tájékoztatják a felhasználókat a személyes adatok felhasználásáról. | I21: =IF(OR($H21<0,ISBLANK($H21)),"",_xlfn.XLOOKUP($H21,'3.dim_Jártassági fok_szint_megh'!$D$2:$D$10,'3.dim_Jártassági fok_szint_megh'!$F$2:$F$10))
B22: =IFERROR(_xlfn.XLOOKUP(E22,'2. dim Komp_elemek_kiegtem_aláb'!$F$2:$F$22,'2. dim Komp_elemek_kiegtem_aláb'!$C$2:$C$22),"") | C22: =IFERROR(_xlfn.XLOOKUP(E22,'2. dim Komp_elemek_kiegtem_aláb'!$F$2:$F$22,'2. dim Komp_elemek_kiegtem_aláb'!$D$2:$D$22),"") | D22: =IFERROR(_xlfn.XLOOKUP(E22,'2. dim Komp_elemek_kiegtem_aláb'!$F$2:$F$22,DigKompElemAzonosítók_Új),"") | F22: =IFERROR(_xlfn.XLOOKUP(D22,'2. dim Komp_elemek_kiegtem_aláb'!$E$2:$E$22,'2. dim Komp_elemek_kiegtem_aláb'!$G$2:$G$22),"") | I22: =IF(OR($H22<0,ISBLANK($H22)),"",_xlfn.XLOOKUP($H22,'3.dim_Jártassági fok_szint_megh'!$D$2:$D$10,'3.dim_Jártassági fok_szint_megh'!$F$2:$F$10))
B23: =IFERROR(_xlfn.XLOOKUP(E23,'2. dim Komp_elemek_kiegtem_aláb'!$F$2:$F$22,'2. dim Komp_elemek_kiegtem_aláb'!$C$2:$C$22),"") | C23: =IFERROR(_xlfn.XLOOKUP(E23,'2. dim Komp_elemek_kiegtem_aláb'!$F$2:$F$22,'2. dim Komp_elemek_kiegtem_aláb'!$D$2:$D$22),"") | D23: =IFERROR(_xlfn.XLOOKUP(E23,'2. dim Komp_elemek_kiegtem_aláb'!$F$2:$F$22,DigKompElemAzonosítók_Új),"") | F23: =IFERROR(_xlfn.XLOOKUP(D23,'2. dim Komp_elemek_kiegtem_aláb'!$E$2:$E$22,'2. dim Komp_elemek_kiegtem_aláb'!$G$2:$G$22),"") | I23: =IF(OR($H23<0,ISBLANK($H23)),"",_xlfn.XLOOKUP($H23,'3.dim_Jártassági fok_szint_megh'!$D$2:$D$10,'3.dim_Jártassági fok_szint_megh'!$F$2:$F$10))
B24: =IFERROR(_xlfn.XLOOKUP(E24,'2. dim Komp_elemek_kiegtem_aláb'!$F$2:$F$22,'2. dim Komp_elemek_kiegtem_aláb'!$C$2:$C$22),"") | C24: =IFERROR(_xlfn.XLOOKUP(E24,'2. dim Komp_elemek_kiegtem_aláb'!$F$2:$F$22,'2. dim Komp_elemek_kiegtem_aláb'!$D$2:$D$22),"") | D24: =IFERROR(_xlfn.XLOOKUP(E24,'2. dim Komp_elemek_kiegtem_aláb'!$F$2:$F$22,DigKompElemAzonosítók_Új),"") | F24: =IFERROR(_xlfn.XLOOKUP(D24,'2. dim Komp_elemek_kiegtem_aláb'!$E$2:$E$22,'2. dim Komp_elemek_kiegtem_aláb'!$G$2:$G$22),"") | I24: =IF(OR($H24<0,ISBLANK($H24)),"",_xlfn.XLOOKUP($H24,'3.dim_Jártassági fok_szint_megh'!$D$2:$D$10,'3.dim_Jártassági fok_szint_megh'!$F$2:$F$10))
B25: =IFERROR(_xlfn.XLOOKUP(E25,'2. dim Komp_elemek_kiegtem_aláb'!$F$2:$F$22,'2. dim Komp_elemek_kiegtem_aláb'!$C$2:$C$22),"") | C25: =IFERROR(_xlfn.XLOOKUP(E25,'2. dim Komp_elemek_kiegtem_aláb'!$F$2:$F$22,'2. dim Komp_elemek_kiegtem_aláb'!$D$2:$D$22),"") | D25: =IFERROR(_xlfn.XLOOKUP(E25,'2. dim Komp_elemek_kiegtem_aláb'!$F$2:$F$22,DigKompElemAzonosítók_Új),"") | F25: =IFERROR(_xlfn.XLOOKUP(D25,'2. dim Komp_elemek_kiegtem_aláb'!$E$2:$E$22,'2. dim Komp_elemek_kiegtem_aláb'!$G$2:$G$22),"") | I25: =IF(OR($H25<0,ISBLANK($H25)),"",_xlfn.XLOOKUP($H25,'3.dim_Jártassági fok_szint_megh'!$D$2:$D$10,'3.dim_Jártassági fok_szint_megh'!$F$2:$F$10))
B26: =IFERROR(_xlfn.XLOOKUP(E26,'2. dim Komp_elemek_kiegtem_aláb'!$F$2:$F$22,'2. dim Komp_elemek_kiegtem_aláb'!$C$2:$C$22),"") | C26: =IFERROR(_xlfn.XLOOKUP(E26,'2. dim Komp_elemek_kiegtem_aláb'!$F$2:$F$22,'2. dim Komp_elemek_kiegtem_aláb'!$D$2:$D$22),"") | D26: =IFERROR(_xlfn.XLOOKUP(E26,'2. dim Komp_elemek_kiegtem_aláb'!$F$2:$F$22,DigKompElemAzonosítók_Új),"") | F26: =IFERROR(_xlfn.XLOOKUP(D26,'2. dim Komp_elemek_kiegtem_aláb'!$E$2:$E$22,'2. dim Komp_elemek_kiegtem_aláb'!$G$2:$G$22),"") | I26: =IF(OR($H26<0,ISBLANK($H26)),"",_xlfn.XLOOKUP($H26,'3.dim_Jártassági fok_szint_megh'!$D$2:$D$10,'3.dim_Jártassági fok_szint_megh'!$F$2:$F$10))
B27: =IFERROR(_xlfn.XLOOKUP(E27,'2. dim Komp_elemek_kiegtem_aláb'!$F$2:$F$22,'2. dim Komp_elemek_kiegtem_aláb'!$C$2:$C$22),"") | C27: =IFERROR(_xlfn.XLOOKUP(E27,'2. dim Komp_elemek_kiegtem_aláb'!$F$2:$F$22,'2. dim Komp_elemek_kiegtem_aláb'!$D$2:$D$22),"") | D27: =IFERROR(_xlfn.XLOOKUP(E27,'2. dim Komp_elemek_kiegtem_aláb'!$F$2:$F$22,DigKompElemAzonosítók_Új),"") | F27: =IFERROR(_xlfn.XLOOKUP(D27,'2. dim Komp_elemek_kiegtem_aláb'!$E$2:$E$22,'2. dim Komp_elemek_kiegtem_aláb'!$G$2:$G$22),"") | I27: =IF(OR($H27<0,ISBLANK($H27)),"",_xlfn.XLOOKUP($H27,'3.dim_Jártassági fok_szint_megh'!$D$2:$D$10,'3.dim_Jártassági fok_szint_megh'!$F$2:$F$10))
B28: =IFERROR(_xlfn.XLOOKUP(E28,'2. dim Komp_elemek_kiegtem_aláb'!$F$2:$F$22,'2. dim Komp_elemek_kiegtem_aláb'!$C$2:$C$22),"") | C28: =IFERROR(_xlfn.XLOOKUP(E28,'2. dim Komp_elemek_kiegtem_aláb'!$F$2:$F$22,'2. dim Komp_elemek_kiegtem_aláb'!$D$2:$D$22),"") | D28: =IFERROR(_xlfn.XLOOKUP(E28,'2. dim Komp_elemek_kiegtem_aláb'!$F$2:$F$22,DigKompElemAzonosítók_Új),"") | F28: =IFERROR(_xlfn.XLOOKUP(D28,'2. dim Komp_elemek_kiegtem_aláb'!$E$2:$E$22,'2. dim Komp_elemek_kiegtem_aláb'!$G$2:$G$22),"") | I28: =IF(OR($H28<0,ISBLANK($H28)),"",_xlfn.XLOOKUP($H28,'3.dim_Jártassági fok_szint_megh'!$D$2:$D$10,'3.dim_Jártassági fok_szint_megh'!$F$2:$F$10))
B29: =IFERROR(_xlfn.XLOOKUP(E29,'2. dim Komp_elemek_kiegtem_aláb'!$F$2:$F$22,'2. dim Komp_elemek_kiegtem_aláb'!$C$2:$C$22),"") | C29: =IFERROR(_xlfn.XLOOKUP(E29,'2. dim Komp_elemek_kiegtem_aláb'!$F$2:$F$22,'2. dim Komp_elemek_kiegtem_aláb'!$D$2:$D$22),"") | D29: =IFERROR(_xlfn.XLOOKUP(E29,'2. dim Komp_elemek_kiegtem_aláb'!$F$2:$F$22,DigKompElemAzonosítók_Új),"") | F29: =IFERROR(_xlfn.XLOOKUP(D29,'2. dim Komp_elemek_kiegtem_aláb'!$E$2:$E$22,'2. dim Komp_elemek_kiegtem_aláb'!$G$2:$G$22),"") | I29: =IF(OR($H29<0,ISBLANK($H29)),"",_xlfn.XLOOKUP($H29,'3.dim_Jártassági fok_szint_megh'!$D$2:$D$10,'3.dim_Jártassági fok_szint_megh'!$F$2:$F$10))
B30: =IFERROR(_xlfn.XLOOKUP(E30,'2. dim Komp_elemek_kiegtem_aláb'!$F$2:$F$22,'2. dim Komp_elemek_kiegtem_aláb'!$C$2:$C$22),"") | C30: =IFERROR(_xlfn.XLOOKUP(E30,'2. dim Komp_elemek_kiegtem_aláb'!$F$2:$F$22,'2. dim Komp_elemek_kiegtem_aláb'!$D$2:$D$22),"") | D30: =IFERROR(_xlfn.XLOOKUP(E30,'2. dim Komp_elemek_kiegtem_aláb'!$F$2:$F$22,DigKompElemAzonosítók_Új),"") | F30: =IFERROR(_xlfn.XLOOKUP(D30,'2. dim Komp_elemek_kiegtem_aláb'!$E$2:$E$22,'2. dim Komp_elemek_kiegtem_aláb'!$G$2:$G$22),"") | I30: =IF(OR($H30<0,ISBLANK($H30)),"",_xlfn.XLOOKUP($H30,'3.dim_Jártassági fok_szint_megh'!$D$2:$D$10,'3.dim_Jártassági fok_szint_megh'!$F$2:$F$10))
B31: =IFERROR(_xlfn.XLOOKUP(E31,'2. dim Komp_elemek_kiegtem_aláb'!$F$2:$F$22,'2. dim Komp_elemek_kiegtem_aláb'!$C$2:$C$22),"") | C31: =IFERROR(_xlfn.XLOOKUP(E31,'2. dim Komp_elemek_kiegtem_aláb'!$F$2:$F$22,'2. dim Komp_elemek_kiegtem_aláb'!$D$2:$D$22),"") | D31: =IFERROR(_xlfn.XLOOKUP(E31,'2. dim Komp_elemek_kiegtem_aláb'!$F$2:$F$22,DigKompElemAzonosítók_Új),"") | F31: =IFERROR(_xlfn.XLOOKUP(D31,'2. dim Komp_elemek_kiegtem_aláb'!$E$2:$E$22,'2. dim Komp_elemek_kiegtem_aláb'!$G$2:$G$22),"") | I31: =IF(OR($H31<0,ISBLANK($H31)),"",_xlfn.XLOOKUP($H31,'3.dim_Jártassági fok_szint_megh'!$D$2:$D$10,'3.dim_Jártassági fok_szint_megh'!$F$2:$F$10))
B32: =IFERROR(_xlfn.XLOOKUP(E32,'2. dim Komp_elemek_kiegtem_aláb'!$F$2:$F$22,'2. dim Komp_elemek_kiegtem_aláb'!$C$2:$C$22),"") | C32: =IFERROR(_xlfn.XLOOKUP(E32,'2. dim Komp_elemek_kiegtem_aláb'!$F$2:$F$22,'2. dim Komp_elemek_kiegtem_aláb'!$D$2:$D$22),"") | D32: =IFERROR(_xlfn.XLOOKUP(E32,'2. dim Komp_elemek_kiegtem_aláb'!$F$2:$F$22,DigKompElemAzonosítók_Új),"") | F32: =IFERROR(_xlfn.XLOOKUP(D32,'2. dim Komp_elemek_kiegtem_aláb'!$E$2:$E$22,'2. dim Komp_elemek_kiegtem_aláb'!$G$2:$G$22),"") | I32: =IF(OR($H32<0,ISBLANK($H32)),"",_xlfn.XLOOKUP($H32,'3.dim_Jártassági fok_szint_megh'!$D$2:$D$10,'3.dim_Jártassági fok_szint_megh'!$F$2:$F$10))
B33: =IFERROR(_xlfn.XLOOKUP(E33,'2. dim Komp_elemek_kiegtem_aláb'!$F$2:$F$22,'2. dim Komp_elemek_kiegtem_aláb'!$C$2:$C$22),"") | C33: =IFERROR(_xlfn.XLOOKUP(E33,'2. dim Komp_elemek_kiegtem_aláb'!$F$2:$F$22,'2. dim Komp_elemek_kiegtem_aláb'!$D$2:$D$22),"") | D33: =IFERROR(_xlfn.XLOOKUP(E33,'2. dim Komp_elemek_kiegtem_aláb'!$F$2:$F$22,DigKompElemAzonosítók_Új),"") | F33: =IFERROR(_xlfn.XLOOKUP(D33,'2. dim Komp_elemek_kiegtem_aláb'!$E$2:$E$22,'2. dim Komp_elemek_kiegtem_aláb'!$G$2:$G$22),"") | I33: =IF(OR($H33<0,ISBLANK($H33)),"",_xlfn.XLOOKUP($H33,'3.dim_Jártassági fok_szint_megh'!$D$2:$D$10,'3.dim_Jártassági fok_szint_megh'!$F$2:$F$10))
... B51: =IFERROR(_xlfn.XLOOKUP(E51,'2. dim Komp_elemek_kiegtem_aláb'!$F$2:$F$22,'2. dim Komp_elemek_kiegtem_aláb'!$C$2:$C$22),"") | C51: =IFERROR(_xlfn.XLOOKUP(E51,'2. dim Komp_elemek_kiegtem_aláb'!$F$2:$F$22,'2. dim Komp_elemek_kiegtem_aláb'!$D$2:$D$22),"") | D51: =IFERROR(_xlfn.XLOOKUP(E51,'2. dim Komp_elemek_kiegtem_aláb'!$F$2:$F$22,DigKompElemAzonosítók_Új),"") | F51: =IFERROR(_xlfn.XLOOKUP(D51,'2. dim Komp_elemek_kiegtem_aláb'!$E$2:$E$22,'2. dim Komp_elemek_kiegtem_aláb'!$G$2:$G$22),"") | I51: =IF(OR($H51<0,ISBLANK($H51)),"",_xlfn.XLOOKUP($H51,'3.dim_Jártassági fok_szint_megh'!$D$2:$D$10,'3.dim_Jártassági fok_szint_megh'!$F$2:$F$10))

Sheet 1. dim. Komp_terület definíció
A1: Kompetenciakeret | B1: Kompetencia terület ID | C1: DigKomp-kompetenciaterület (1. dimenzió) | D1: A kompetenciaterület meghatározása | E1: Kapcsolódó kompetenciaelemek (2. dimenzió)
A2: DK_HUN | B2: CA01 | C2: 1. Információ- és adatmenedzsment | D2: Az információs igények megfogalmazása, a digitális adatok, információk és tartalmak felkutatása és visszakeresése. A forrás és tartalom relevanciájának megítélése. Digitális adatok, információk és tartalmak tárolása, kezelése és rendszerezése. | E2: 1. Adatok, információk és digitális tartalmak böngészése, keresése és szűrése; 2. Adatok, információk és digitális tartalmak kiértékelése; 3. Adatok, információk és digitális tartalmak kezelése
A3: DK_HUN | B3: CA02 | C3: 2. Kommunikáció és együttműködés | D3: Interakció, kommunikáció és együttműködés a digitális technológiák segítségével, miközben tudatában van a kulturális és generációs sokszínűségnek. Részvétel a társadalomban állami és magán digitális szolgáltatásokon és részvételen alapuló állampolgárságon keresztül. A digitális jelenlét, identitás és hírnév kezelése. | E3: 1. Digitális technológiával támogatott interakció; 2. Megosztás digitális technológiák segítségével; 3. Az állampolgárság gyakorlása digitális technológiák segítségével; 4. Együttműködés digitális technológiák segítségével; 5. Netikett; 6. A digitális személyazonosság kezelése
A4: DK_HUN | B4: CA03 | C4: 3. Digitális tartalmak létrehozása | D4: Digitális tartalom létrehozása és szerkesztése. Az információk és tartalmak fejlesztése és integrálása egy meglévő tudásanyagba. Annak megértése, hogyan kell alkalmazni a szerzői jogokat és az engedélyeket, valamint, hogy miként lehet egy számítógépes rendszernek érthető utasításokat adni. | E4: 1. Digitális tartalom fejlesztése; 2. Digitális tartalmak integrálása és átalakítása; 3. Szerzői jog és felhasználási feltételek; 4. Programozás
A5: DK_HUN | B5: CA04 | C5: 4. Biztonság | D5: Az eszközök, a tartalom, a személyes adatok és a magánélet védelme digitális környezetben. A fizikai és pszichológiai egészség védelme, valamint a társadalmi jóllétet és a társadalmi befogadást szolgáló digitális technológiákkal való tudatosság megteremtése. Tisztában lenni a digitális technológiák környezeti hatásával és azok használatával. | E5: 1. Eszközök védelme; 2. A személyes adatok és a magánszféra védelme; 3. Az egészség és a jóllét védelme; 4.A környezet védelme
A6: DK_HUN | B6: CA05 | C6: 5. Problémamegoldás | D6: Az igények és problémák azonosítása, valamint a fogalmi problémák megoldása digitális környezetben. Digitális eszközök használata a folyamatok és termékek innovációjához. A digitális evolúció naprakész követése. | E6: 1. Technikai problémák megoldása; 2. Igények és technológiai válaszmegoldások azonosítása; 3. Digitális technológia kreatív alkalmazása; 4. Digitáliskompetencia-hiányosságok felismerése

Sheet 2. dim Komp_elemek_kiegtem_aláb
A1: Framework | B1: Kompetencia ID | C1: Kompetenciaterület sorszáma | D1: Kompetenciaterület megnevezése | E1: Kompetenciaelem azonosítója (pl.1.1) | F1: Kompetenciaelem megnevezése | G1: Kompetenciaelem meghatározása | H1: A kompetenciaelem tematikus-tartalmi alábontásának elemei (2. dimenzió)
A2: DK_HUN | B2: CI01 | C2: 1 | D2: Információ- és adatmenedzsment | E2: 1.1 | F2: 1.1 Adatok, információk és digitális tartalmak böngészése, keresése és szűrése | G2: Az információval kapcsolatos igények megfogalmazása, valamint adatok, információk és tartalmak keresése digitális környezetben. Az adatokhoz, információkhoz és tartalmakhoz való hozzáférés, illetve az ezek közötti eligazodás. Egyéni keresési stratégiák kialakítása és igény szerinti módosítása. | H2: • Információs igények azonosítása. • Adatok, információk és tartalmak keresése. • Keresési stratégiák alkalmazása, a keresési stratégia szükségletekhez alakítása. • Kulcsszavak, kifejezések és módszerek, stratégiák használata az információkeresés során. • Hozzáférés digitális környezetben megkeresett adatokhoz, információkhoz és tartalmakhoz. • Eligazodás digitális adatok között. • A digitális környezetben megkereshető adatok, információk és digitális tartalmakhoz való hozzáférés lehetőségei, adatok, információk elérhetővé tétele. • Az adatok, információk és tartalmak keresésének digitális környezetben történő rendszerbe foglalása.
A3: DK_HUN | B3: CI02 | C3: 1 | D3: Információ- és adatmenedzsment | E3: 1.2 | F3: 1.2 Adatok, információk és digitális tartalmak kiértékelése | G3: Az adat-, információ- és digitális tartalomforrások hitelességének és megbízhatóságának elemzése, összehasonlítása és kritikus értékelése. Az adatok, információk és digitális tartalmak elemzése, értelmezése és kritikai értékelése. | H3: • Adat- és információforrások, illetve ezek digitális tartalmának hitelességének és megbízhatóságának felismerése. • Az adatok, információk és digitális tartalmak forrásainak elemzése, összehasonlítása és értékelése. • Különböző források és az ezen forrásokból származó adatok, információk és digitális tartalmak összehasonlítása. • Hozzáférési lehetőségek és eligazodás a digitális környezetben fellelhető adatok, információk és tartalmak között. • Keresések végrehajtása adatok, információk és digitális tartalmak felkutatásához. • Keresési stratégiák alkalmazása. • A különböző adatok, információk és digitális tartalmak forrásainak kritikus értékelése hitelesség és megbízhatóság szempontjából. • Információs igények azonosítása. • Digitális források összehasonlító elemzése és értékelése. • Különböző forrásokból származó digitális adatok elemzése. • Álhírek és megbízhatatlan információk kiszűrése. • Az információ relevanciájának és jelentésének értékelése különböző kontextusokban.
A4: DK_HUN | B4: CI03 | C4: 1 | D4: Információ- és adatmenedzsment | E4: 1.3 | F4: 1.3 Adatok, információk és digitális tartalmak kezelése | G4: Adatok információk és tartalmak elrendezése, tárolása és visszakeresése digitális környezetben. Ezek rendszerezése és feldolgozása strukturált környezetben. | H4: • Annak felismerése, hol lehet adatokat, információkat és tartalmakat strukturált környezetben egyszerűen elrendezni. • Annak megfogalmazása, hogyan lehet adatokhoz, információkhoz és digitális tartalmakhoz hozzáférni és eligazodni ezek között. • Információk, adatok és tartalmak rendszerezése könnyen tárolható és visszakereshető módon. • Információk, adatok és tartalmak rendszerezése strukturált környezetben. • Információk, adatok és tartalmak hozzáértő kezelése a könnyebb elrendezés, tárolás és visszakeresés érdekében. • Adatok, információk és digitális tartalmak elrendezése, tárolása és visszakeresése digitális környezetben. • Információk, adatok és tartalmak rendszerezése digitális környezetben. • A rendszerezés módjának igazítása a tárolás és visszakeresés szempontjaihoz. • Adatok, információk és digitális tartalmak keresése digitális környezetben. • Hozzáférés adatokhoz, információkhoz és digitális tartalmakhoz, valamint eligazodás ezek között.
A5: DK_HUN | B5: CI04 | C5: 2 | D5: Kommunikáció és együttműködés | E5: 2.1 | F5: 2.1 Digitális technológiával támogatott interakció | G5: Interakciót valósít meg a digitális technológia széles körű használatával, ismeri az adott kontextusnak megfelelő kommunikációs módokat. | H5: • Digitális technológiák kiválasztása és alkalmazása digitális technológiával támogatott interakciókhoz. • A megfelelő, adott helyzethez illeszkedő egyszerű kommunikációs eszközök azonosítása. • Többféle digitális technológia kiválasztása és alkalmazása digitális technológiával támogatott interakciókhoz. • Digitális kommunikációs eszköz kiválasztása egy adott helyzetben történő alkalmazáshoz. • Megmutatni másoknak a legmegfelelőbb digitális kommunikációs eszközt egy adott helyzethez. • Többféle digitális technológia adaptálása a digitális technológiával támogatott interakció kontextusához igazítva. • Kommunikációs eszközök és szolgáltatások alkalmazása digitális környezetben megvalósuló interakcióhoz.
A6: DK_HUN | B6: CI05 | C6: 2 | D6: Kommunikáció és együttműködés | E6: 2.2 | F6: 2.2 Megosztás digitális technológiák segítségével | G6: Adatok, információk és digitális tartalmak megosztása megfelelő digitális technológiákon keresztül. Közvetítés információk és tartalmak megosztásában, hivatkozási és forrásmegjelölési gyakorlatok ismerete. | H6: • Megfelelő digitális technológiák felismerése adatok, információk és digitális tartalmak megosztásához. • Adatok, információk és digitális tartalmak megosztása különféle megfelelő digitális eszközökkel. • Hivatkozási és forrásmegjelölési megoldások azonosítása. • Hivatkozási és forrásmegjelölési megoldások használatának változtatása szituációtól függően. • Közvetítő szerep betöltése információk és tartalmak megosztásában. • Saját közvetítői szerep igazítása az adott helyzethez. • Információk és tartalmak megosztásához a legmegfelelőbb digitális technológiák használhatóságának kiértékelése.
A7: DK_HUN | B7: CI06 | C7: 2 | D7: Kommunikáció és együttműködés | E7: 2.3 | F7: 2.3 Az állampolgárság gyakorlása digitális technológiák segítségével | G7: Részvétel a társadalomban nyilvános és magán digitális szolgáltatások segítségével. Önszervezési és állampolgári részvételi lehetőségek keresése megfelelő digitális technológiákkal. | H7: • Digitális szolgáltatások azonosítása társadalmi szerepvállaláshoz. • Megfelelő digitális technológiák felismerése az önszervezéshez és állampolgári társadalmi szerepvállaláshoz. • Digitális szolgáltatások kiválasztása a társadalmi részvételhez. • A társadalmi részvételhez különféle digitális szolgáltatásokra javaslattétel. • Digitális szolgáltatások használatának szituációtól függő megválasztása és változtatása a társadalmi részvétel érdekében. • A legmegfelelőbb digitális technológiák használatának szituációtól függő megválasztása és változtatása az önszervezéshez és az állampolgári társadalmi szerepvállaláshoz.
A8: DK_HUN | B8: CI07 | C8: 2 | D8: Kommunikáció és együttműködés | E8: 2.4 | F8: 2.4 Együttműködés digitális technológiák segítségével | G8: Digitális eszközök és technológiák használata együttműködéshez, adatok, források és ismeretek közös létrehozásához. | H8: • Digitális eszközök és technológiák kiválasztása az együttműködésekhez. • Az együttműködésekhez alkalmazható digitális eszközökre és technológiákra javaslattétel. • Digitális eszközök és technológiák használatának megválasztása a kontextushoz igazodva és a szituációtól függően. • Digitális eszközök és technológiák kiválasztása az adatok, információk és ismeretek közös létrehozásához. • Technológiák használata adatok, információk és ismeretek közös létrehozásához.
A9: DK_HUN | B9: CI08 | C9: 2 | D9: Kommunikáció és együttműködés | E9: 2.5 | F9: 2.5 Netikett | G9: A viselkedési normák és szabályok ismerete a digitális technológiák használatakor és digitális környezetben történő interakciók során. A kommunikációs stratégia célközönséghez igazítása, valamint a kulturális és generációs sokszínűség tudatosítása a digitális környezetben. | H9: • Viselkedési normák és szabályok megkülönböztetése a digitális technológiák használata és a digitális környezetben folytatott interakciók során. • Célközönséghez illeszkedő kommunikációs formák és stratégiák kiválasztása. • A digitális környezetben figyelembe veendő kulturális és generációs sokszínűséggel kapcsolatos egyszerű szempontok megkülönböztetése. • Az adott célközönséghez illeszkedő kommunikációs stratégiák megvitatása. • A digitális technológiák használata és a digitális környezetben folytatott interakciók során alkalmazandó megfelelő viselkedési normák és szabályok az adott helyzethez illesztése.
A10: DK_HUN | B10: CI09 | C10: 2 | D10: Kommunikáció és együttműködés | E10: 2.6 | F10: 2.6 A digitális személyazonosság kezelése | G10: Egy vagy több digitális személyazonosság létrehozása és kezelése, képesség a jó hír megvédésére, a különböző digitális eszközök, környezetek és szolgáltatások segítségével létrehozott adatok kezelése. | H10: • A digitális személyazonosság felismerése. • Módszerek ismerete, amelyekkel megvédhető a jó hírnév az interneten. • Digitális eszközökkel, szolgáltatásokkal vagy digitális környezetben létrehozott adatok felismerése. • Különféle hétköznapi digitális személyazonosságok megkülönböztetése. • A jó hírnév internetes védelmére szolgáló jól meghatározott, megszokott módszerek ismerete. • Különféle konkrét digitális személyazonosságok megjelenítése. • Digitális eszközökkel, szolgáltatásokkal vagy digitális környezetben létrehozott adatok hozzáértő kezelése. • Többféle digitális személyazonosság használata. • Digitális eszközökkel, szolgáltatásokkal vagy digitális környezetben létrehozott adatok felhasználása. • Digitális eszközökkel, szolgáltatásokkal vagy digitális környezetben létrehozott adatok megváltoztatása.
A11: DK_HUN | B11: CI10 | C11: 3 | D11: Digitális tartalmak létrehozása | E11: 3.1 | F11: 3.1 Digitális tartalom fejlesztése | G11: Különböző formátumú digitális tartalmak létrehozása és szerkesztése, önkifejezés digitális eszközökkel. | H11: • Digitális tartalmak létrehozása és szerkesztése. • Módszerek és eszközök ismerete és alkalmazása digitális tartalmak létrehozására és kezelésére. • Mondanivaló kifejezése digitális eszközökkel, digitális tartalmak előállítása révén.
A12: DK_HUN | B12: CI11 | C12: 3 | D12: Digitális tartalmak létrehozása | E12: 3.2 | F12: 3.2 Digitális tartalmak integrálása és átalakítása | G12: Információ módosítása, finomítása, javítása és meglévő tudásanyagokba történő integrálása új, eredeti és releváns tartalmak és ismeretanyag létrehozása érdekében. | H12: • Módszerek kiválasztása és alkalmazása új tartalmak létrehozásához, meglévő tartalmi és információelemek felhasználásával, azok módosítása, finomítása, javítása és integrálása révén. • A legmegfelelőbb módszerek felmérése és alkalmazása a kreatív tartalomalkotás támogatására.
A13: DK_HUN | B13: CI12 | C13: 3 | D13: Digitális tartalmak létrehozása | E13: 3.3 | F13: 3.3 Szerzői jog és felhasználási feltételek | G13: Az adatokra, digitális információkra és tartalmakra vonatkozó szerzői jog és felhasználási feltételek megértése. | H13: • Digitális információkra és tartalmakra vonatkozó szerzői jog és felhasználási feltételek, szabályok ismerete és alkalmazása.
... A22: DK_HUN | B22: CI21 | C22: 5 | D22: Problémamegoldás | E22: 5.4 | F22: 5.4 Digitáliskompetencia-hiányosságok felismerése | G22: Megérteni, hol lehet fejleszteni vagy felfrissíteni az egyén saját digitális kompetenciáját. Képesnek lenni mások digitáliskompetencia-fejlesztésének támogatására. Lehetőségeket keresni az önfejlesztéshez, és a digitális evolúció naprakész követéséhez. | H22: • A digitáliskompetencia-hiány felismerése és felmérése. • A digitális kompetencia fejlesztését támogató lehetőségek és módszerek ismerete és alkalmazása. • Digitális technológiával támogatott folyamatos, élethosszig tartó tanulás.

Sheet 3.dim_Jártassági fok_szint_megh
A1: Framework | B1: PL_ID | C1: Jártassági fok | D1: Jártassági szint | E1: Jártassági fok és szint | F1: Kompetenciaszint meghatározása | G1: Kompetenciaszint meghatározás magyarázata | H1: Feladatok komplexitása | I1: Autonómia | J1: Kognitív aspektus
A2: DK_HUN | B2: PL_00 | C2: Kezdő | D2: 0 | E2: Kezdő szint (0) | F2: A 0. jártassági szinten lévő személy nem rendelkezik az egyszerű digitális feladatok elvégzéséhez szükséges alapvető ismeretekkel és készségekkel. Hiányoznak azok az alapvető műveletvégzési ismeretei, amelyek segítségével a feladat célját, a használható digitális eszközt és a végrehajtás lépéseit felismerhetné. Az egyszerű digitális feladatokat és kisebb problémákat közvetlen segítséggel, bemutatással és részletes, lépésenkénti útmutatással képes csak megoldani. | G2: A 0. (kezdő) szintű jártassággal rendelkező személynek nincsenek meg az 1. jártassági szint eléréséhez szükséges alapvető digitális ismeretei és műveletvégzési készségei. Nem vagy csak esetlegesen ismeri fel az egyszerű digitális feladatok célját, a feladat elvégzéséhez használható eszközöket, valamint a végrehajtás alapvető lépéseit. A bemutatott műveleteket közvetlen támogatással, ismételt bemutatás és irányított gyakorlás mellett képes követni, megjegyezni és megismételni. Az alapvető digitális műveletek felismeréséhez és elsajátításához folyamatos, közvetlen támogatásra, ismételt bemutatásra és irányított gyakorlásra van szüksége. | H2: egyszerű feladatok és kisebb problémák | I2: folyamatos, közvetlen segítséggel és lépésenkénti útmutatással | J2: felismerés és felidézés segítséggel
A3: DK_HUN | B3: PL_01 | C3: Alapszint | D3: 1 | E3: Alapszint (1) | F3: Az 1. jártassági szinten lévő személy (többféle formában elérhető) útmutatásra támaszkodva egyszerű feladatokat, kisebb problémákat old meg, egyszerű folyamatokat kezel, a lépéseket megjegyzi. | G3: Az 1-es (alap) szintű jártassággal rendelkező személy képes alapvető digitális feladatokat elvégezni, ha ehhez közvetlen segítséget és útmutatást kap. Meg tudja jegyezni a végrehajtás lépéseit, és ezeket később ismét alkalmazni tudja. A szint azt mutatja, hogy már van elegendő ismerete az ismétlődő, egyszerű helyzetek kezeléséhez, de még irányításra és támogatásra van szüksége a munkavégzéshez. | H3: egyszerű feladatok | I3: különféle segítséggel | J3: emlékezés
A4: DK_HUN | B4: PL_02 | C4: Alapszint | D4: 2 | E4: Alapszint (2) | F4: A 2. jártassági szinten lévő személy szükség esetén segítség igénybevételével egyszerű feladatokat old meg, kisebb problémákat kezel, a lépéseket megjegyzi. | G4: 2-es (alap) szintű jártassággal rendelkező személy képes egyszerű digitális feladatokat és kisebb problémákat megoldani, szükség esetén mások iránymutatásával. Szilárd alapismeretekkel rendelkezik, és ezek alapján önállóan is el tud végezni egyszerű, rutinszerű műveleteket. Ez a szint már nagyobb fokú önállóságot jelent, de az összetettebb helyzetekhez még mindig külső támogatásra, útmutatásra lehet szükség. | H4: egyszerű feladatok | I4: önállóan, szükség esetén útmutatással | J4: emlékezés
A5: DK_HUN | B5: PL_03 | C5: Középszint | D5: 3 | E5: Középszint (3) | F5: A 3. jártassági szinten lévő személy önállóan old meg jól meghatározott, rutinszerű feladatokat, problémákat, képes követni a lépéseket, érti a megoldásokat. | G5: A 3-as (közép) szintű jártassággal rendelkező személy képes önállóan végrehajtani jól meghatározott, rutinszerű digitális feladatokat és megoldani a hozzájuk kapcsolódó problémákat. Érti a megoldási lépések logikáját, és felelősségteljesen tudja alkalmazni az alapvető módszereket és eszközöket. Ezen a kompetenciaszinten már önállóan tudja a viselkedését és a tevékenységeit a helyzethez igazítani, ha azok ismert alkalmazási feltételek között zajlanak. | H5: jól meghatározott és rutinszerűn végezhető feladatok, egyszerű problémák | I5: önállóan | J5: megértés
A6: DK_HUN | B6: PL_04 | C6: Középszint | D6: 4 | E6: Középszint (4) | F6: A 4. jártassági szinten lévő személy önállóan, saját igényeinek megfelelően old meg feladatokat, konkrét, nem rutinszerű problémákat, értő módon alakítja a megoldáshoz vezető lépéseket. | G6: A 4-es (közép) szintű jártassággal rendelkező személy képes önállóan, saját igényeinek megfelelően, nem rutinszerű digitális feladatokat és problémákat megoldani, a megoldáshoz vezető lépéseket pedig tudatosan önállóan alakítja. Mélyebb ismeretek birtokában saját felelősségére tudja alkalmazni és használni a szakmai szabványoknak és az alkalmazás körülményeinek megfelelően az iparági/szakmai eszközöket, eljárásokat és módszereket. | H6: jól meghatározott és nem rutinszerűn megoldható problémák | I6: önállóan az igényeknek megfelelően | J6: megértés
A7: DK_HUN | B7: PL_05 | C7: Haladó szint | D7: 5 | E7: Haladó szint (5) | F7: Az 5. jártassági szinten lévő személy az 5-ös (haladó) jártassági szinten az egyén sokféle feladatot és problémát képes megoldani úgy, hogy közben másoknak is segít és a segítségnyújtás kapcsán bővíti saját tudását is. | G7: Az 5-ös (haladó) szintű jártassággal rendelkező személy képes összetett digitális feladatokat és problémákat megoldani, miközben mások munkáját is segíti és irányítja. Átfogó tudással rendelkezik, ezért váratlan helyzetekben is képes kreatív megoldásokat találni absztrakt problémákra, valamint önállóan tervezni, irányítani és felügyelni projekteket. Ezenkívül képesek értékelni és fejleszteni saját teljesítményüket, valamint képesek felügyelni és támogatni mások munkáját. | H7: különböző feladatok és problémák | I7: másokat segítve | J7: alkalmazás
A8: DK_HUN | B8: PL_06 | C8: Haladó szint | D8: 6 | E8: Haladó szint (6) | F8: A 6. jártassági szinten lévő személy a 6-os (haladó) jártassági szinten az egyén szinte minden feladatot, a célnak leginkább megfelelő módon képes megoldani úgy, hogy közben komplex helyzetekben másokhoz is tud alkalmazkodni, az ehhez szükséges lépéseket elemzi és értékeli. | G8: A 6-os (haladó) szintű jártassággal rendelkező személy képes szinte minden digitális feladatot a megfelelő módon megoldani, és komplex helyzetekben másokhoz alkalmazkodni. Mélyreható tudása révén képes új, innovatív megoldásokat kidolgozni komplex problémákra változó, kiszámíthatatlan körülmények között, valamint komplex technikai vagy szakmai tevékenységeket vagy projekteket irányítani. Ezenkívül képesek döntéshozatali felelősséget vállalni, valamint alkalmazottakat irányítani és fejleszteni. | H8: legmegfelelőbb feladatok | I8: másokat segítve az igényeikhez alkalmazkodva összetett környezetben | J8: értékelés
A9: DK_HUN | B9: PL_07 | C9: Mester szint | D9: 7 | E9: Mester szint (7) | F9: A 7. jártassági szinten lévő személy olyan összetett problémákat kezel, amelyek meghatározott számú megoldással rendelkeznek, és ezeket a megoldásokat a szakmai gyakorlatba illeszti, másokat is segítve ezzel. A megoldáshoz vezető lépéseket képes maga is létrehozni. | G9: A 7-es (mester) szintű jártassággal rendelkező személy képes összetett problémákat megoldani, és a kidolgozott megoldásokat beépíteni a szakmai gyakorlatba másokat is támogatva. Magasan specializált tudással rendelkezik és képes komplex, kiszámíthatatlan munkakörülményeket vagy tanulási helyzeteket kezelni és azokra stratégiákat kidolgozni. Képes felelősséget vállalni a szakmai tudás és gyakorlat fejlesztéséért, valamint szakmai munkacsoportok munkájának stratégiai értékeléséért és irányításáért. | H9: összetett problémák megoldása korlátozott megoldásokkal | I9: másokat irányítva, szakmai gyakorlatukhoz alkalmazkodva | J9: alkotás, létrehozás
A10: DK_HUN | B10: PL_08 | C10: Mester szint | D10: 8 | E10: Mester szint (8) | F10: A 8. jártassági szinten lévő személy rendkívül összetett, soktényezős problémákat, önállóan old meg. Az így kialakított új megközelítéseket és módszereket beilleszti az adott szakmai terület eljárásai közé. A megoldáshoz szükséges eljárásokat maga hozza létre. | G10: A 8-as (mester) szintű jártassággal rendelkező személy képes rendkívül összetett, soktényezős problémákat önállóan megoldani, és az ehhez kidolgozott új megközelítéseket, módszereket beilleszteni a szakmai gyakorlatba. Rendelkezik a legmodernebb és legfejlettebb ismeretekkel a saját területén, valamint kiterjedt tudással más tudományágakból is. Képes központi kérdéseket megoldani fejlett, speciális módszerek kreatív és reflektív alkalmazásával, vagy akár újradefiniálni meglévő ismereteket és gyakorlatokat. Ezen a szinten komplex projekteket, szervezeti egységeket vagy vállalatokat tud vezetni, stratégiailag fejleszteni, valamint új ötleteket és folyamatokat kidolgozni, amelyekkel hozzájárul mások tanulásához és fejlődéséhez. | H10: összetett problémák megoldása sok egymással kölcsönhatásban lévő tényezővel | I10: új ötletek és folyamatok létrehozása | J10: alkotás, létrehozás

Sheet 3.dim_Komp_elem_jártas_leírás
A1: Keretrendszer | B1: Kompetenciaállítás | C1: Kompetenciaterület sorszáma | D1: Kompetenciaterület megnevezése | E1: Kompetenciaelem sorszáma | F1: Kompetenciaelem megnevezése | G1: Jártassági fok megnevezése | H1: Jártassági szint | I1: Teljes állítás (Képlet)
A2: DK_HUN | B2: CST001 | C2: 1. | D2: Információ- és adatmenedzsment | E2: 1.1 | F2: Adatok, információk és digitális tartalmak böngészése, keresése és szűrése | G2: alapszint | H2: 1 | I2: Alapszinten, segítséggel képes vagyok saját információs igényeimet felismerni;
A3: DK_HUN | B3: CST002 | C3: 1. | D3: Információ- és adatmenedzsment | E3: 1.1 | F3: Adatok, információk és digitális tartalmak böngészése, keresése és szűrése | G3: alapszint | H3: 1 | I3: Alapszinten, segítséggel képes vagyok digitális környezetben egyszerű módon adatokat, információkat és tartalmakat keresni;
A4: DK_HUN | B4: CST003 | C4: 1. | D4: Információ- és adatmenedzsment | E4: 1.1 | F4: Adatok, információk és digitális tartalmak böngészése, keresése és szűrése | G4: alapszint | H4: 1 | I4: Alapszinten, segítséggel képes vagyok ezekhez az adatokhoz, információkhoz és tartalmakhoz hozzáférni, és közöttük eligazodni;
A5: DK_HUN | B5: CST004 | C5: 1. | D5: Információ- és adatmenedzsment | E5: 1.1 | F5: Adatok, információk és digitális tartalmak böngészése, keresése és szűrése | G5: alapszint | H5: 1 | I5: Alapszinten, segítséggel képes vagyok egyszerűbb személyes keresési stratégiákat azonosítani.
A6: DK_HUN | B6: CST005 | C6: 1. | D6: Információ- és adatmenedzsment | E6: 1.1 | F6: Adatok, információk és digitális tartalmak böngészése, keresése és szűrése | G6: alapszint | H6: 2 | I6: Alapszinten, önállóan, és ahol szükséges, megfelelő útmutatással képes vagyok saját információs igényeimet felismerni;
A7: DK_HUN | B7: CST006 | C7: 1. | D7: Információ- és adatmenedzsment | E7: 1.1 | F7: Adatok, információk és digitális tartalmak böngészése, keresése és szűrése | G7: alapszint | H7: 2 | I7: Alapszinten, önállóan, és ahol szükséges, megfelelő útmutatással képes vagyok digitális környezetben egyszerű módon adatokat, információkat és tartalmakat keresni;
A8: DK_HUN | B8: CST007 | C8: 1. | D8: Információ- és adatmenedzsment | E8: 1.1 | F8: Adatok, információk és digitális tartalmak böngészése, keresése és szűrése | G8: alapszint | H8: 2 | I8: Alapszinten, önállóan, és ahol szükséges, megfelelő útmutatással képes vagyok ezekhez az adatokhoz, információkhoz és tartalmakhoz hozzáférni, és közöttük eligazodni;
A9: DK_HUN | B9: CST008 | C9: 1. | D9: Információ- és adatmenedzsment | E9: 1.1 | F9: Adatok, információk és digitális tartalmak böngészése, keresése és szűrése | G9: alapszint | H9: 2 | I9: Alapszinten, önállóan, és ahol szükséges, megfelelő útmutatással képes vagyok egyszerűbb személyes keresési stratégiákat azonosítani.
A10: DK_HUN | B10: CST009 | C10: 1. | D10: Információ- és adatmenedzsment | E10: 1.1 | F10: Adatok, információk és digitális tartalmak böngészése, keresése és szűrése | G10: középszint | H10: 3 | I10: Önállóan, egyértelmű problémák megoldásakor képes vagyok információs igényeimet azonosítani;
A11: DK_HUN | B11: CST010 | C11: 1. | D11: Információ- és adatmenedzsment | E11: 1.1 | F11: Adatok, információk és digitális tartalmak böngészése, keresése és szűrése | G11: középszint | H11: 3 | I11: Önállóan, egyértelmű problémák megoldásakor képes vagyok végrehajtani jól meghatározott, szokványos kereséseket adatok, információk és digitális tartalmak felkutatásához digitális környezetben;
A12: DK_HUN | B12: CST011 | C12: 1. | D12: Információ- és adatmenedzsment | E12: 1.1 | F12: Adatok, információk és digitális tartalmak böngészése, keresése és szűrése | G12: középszint | H12: 3 | I12: Önállóan, egyértelmű problémák megoldásakor képes vagyok megfogalmazni, hogyan lehet hozzájuk férni és eligazodni közöttük;
A13: DK_HUN | B13: CST012 | C13: 1. | D13: Információ- és adatmenedzsment | E13: 1.1 | F13: Adatok, információk és digitális tartalmak böngészése, keresése és szűrése | G13: középszint | H13: 3 | I13: Önállóan, egyértelmű problémák megoldásakor képes vagyok jól meghatározott, rutinszerű, saját keresési stratégiákat azonosítani.
... A375: DK_HUN | B375: CST374 | C375: 5. | D375: Problémamegoldás | E375: 5.4 | F375: Digitáliskompetencia-hiányosságok felismerése | G375: mesterszint | H375: 8 | I375: A legmagasabb mesterszinten képes vagyok egy adott területet új ötletekkel és eljárásokkal gazdagítani.

Sheet 4.dim_KE_temat_tart_alá
A1: Kompetencia_keret | B1: Tematikus alábontás ID | C1: Kompetenciaterület sorszáma (pl.1) | D1: Kompetenciaterület megnevezése | E1: Kompetenciaelem sorszáma (pl.1.1) | F1: Kompetenciaelem megnevezése | G1: Kompetenciaelem tematikus-tartalmi alábontás elem
A2: DK_HUN | B2: CO0001 | C2: 1. | D2: Információ- és adatmenedzsment | E2: 1.1 | F2: Adatok, információk és digitális tartalmak böngészése, keresése és szűrése | G2: információs igények és szükségletek felismerése, azonosítása;
A3: DK_HUN | B3: CO0002 | C3: 1. | D3: Információ- és adatmenedzsment | E3: 1.1 | F3: Adatok, információk és digitális tartalmak böngészése, keresése és szűrése | G3: adatok, információk és tartalmak keresése;
A4: DK_HUN | B4: CO0003 | C4: 1. | D4: Információ- és adatmenedzsment | E4: 1.1 | F4: Adatok, információk és digitális tartalmak böngészése, keresése és szűrése | G4: keresési stratégiák alkalmazása, a keresési stratégia szükségletekhez alakítása;
A5: DK_HUN | B5: CO0004 | C5: 1. | D5: Információ- és adatmenedzsment | E5: 1.1 | F5: Adatok, információk és digitális tartalmak böngészése, keresése és szűrése | G5: kulcsszavak, kifejezések és módszerek, stratégák használata az információkeresés során;
A6: DK_HUN | B6: CO0005 | C6: 1. | D6: Információ- és adatmenedzsment | E6: 1.1 | F6: Adatok, információk és digitális tartalmak böngészése, keresése és szűrése | G6: hozzáférés digitális környezetben megkeresett adatokhoz, információkhoz és tartalmakhoz;
A7: DK_HUN | B7: CO0006 | C7: 1. | D7: Információ- és adatmenedzsment | E7: 1.1 | F7: Adatok, információk és digitális tartalmak böngészése, keresése és szűrése | G7: eligazodás digitális adatok között;
A8: DK_HUN | B8: CO0007 | C8: 1. | D8: Információ- és adatmenedzsment | E8: 1.1 | F8: Adatok, információk és digitális tartalmak böngészése, keresése és szűrése | G8: a digitális környezetben megkereshető adatok, információk és digitális tartalmakhoz való; hozzáférés lehetőségei, adatok, információk elérhetővé tétele;
A9: DK_HUN | B9: CO0008 | C9: 1. | D9: Információ- és adatmenedzsment | E9: 1.1 | F9: Adatok, információk és digitális tartalmak böngészése, keresése és szűrése | G9: az adatok, információk és tartalmak keresésének digitális környezetben történő rendszerbe; foglalása.
A10: DK_HUN | B10: CO0009 | C10: 1. | D10: Információ- és adatmenedzsment | E10: 1.2 | F10: Adatok, információk és digitális tartalmak kiértékelése | G10: adat- és információforrások, illetve ezek digitális tartalmának hitelességének és megbízhatóságának felismerése;
A11: DK_HUN | B11: CO0010 | C11: 1. | D11: Információ- és adatmenedzsment | E11: 1.2 | F11: Adatok, információk és digitális tartalmak kiértékelése | G11: az adatok, információk és digitális tartalmak forrásainak elemzése, összehasonlítása és értékelése;
A12: DK_HUN | B12: CO0011 | C12: 1. | D12: Információ- és adatmenedzsment | E12: 1.2 | F12: Adatok, információk és digitális tartalmak kiértékelése | G12: különböző források és az ezen forrásokból származó adatok, információk és digitális tartalmak összehasonlítása;
... A107: DK_HUN | B107: CO0106 | C107: 5. | D107: Problémamegoldás | E107: 5.4 | F107: Digitáliskompetencia-hiányosságok felismerése | G107: digitális technológiával támogatott folyamatos, élethosszig tartó tanulás.
