Workbook
Name DigKompElemAzonosítók: '2. dim Komp_elemek_kiegtem_aláb'!$E$2:$E$22
Name DigKompElemAzonosítók_Új: '2. dim Komp_elemek_kiegtem_aláb'!$E$2:$E$22
Name DigKompTerületek: '1. dim. Komp_terület definíció'!$C$2:$C$6
Name IlleszkedésiSzintek: listák!$B$2:$B$9
Name IlleszkedésiSzintek_ÚJ: listák!$B$2:$B$9
Name JártasságiSzintek: #REF!
Name JártasságiSzintek_Új: #REF!
Name ProgramModulAzonosítók: #REF!
Name SzakértőiVélemények: listák!$D$2:$D$3

Sheet DK-megf_digtev_kompter_ÜRES
A1: Digitális tevékenység | B1: JAVASOLT DigKomp-kompetenciaterület (1. dimenzió) | C1: DigKomp-kompetenciaterület meghatározása (1. dimenzió) | D1: Kompetenciaterülethez tartozó DigKomp-kompeteniaelemek | E1: DigKomp-kompetenciaelem azonosítója | F1: DigKomp-kompetenciaelem megnevezése (2. dimenzió) | G1: DigKomp-kompetenciaelem meghatározása (2. dimenzió) | H1: A digitális tevékenység és a DigKomp-kompetenciaelem illeszkedésének mértéke | I1: Indoklás
B2: 4. Biztonság | C2: =IFERROR(_xlfn.XLOOKUP(B2,DigKompTerületek,'1. dim. Komp_terület definíció'!$D$2:$D$6),"") -> Az eszközök, a tartalom, a személyes adatok és a magánélet védelme digitális környezetben. A fizikai és pszichológiai egészség védelme, valamint a társadalmi jóllétet és a társadalmi befogadást szolgáló digitális technológiákkal való tudatosság megteremtése. Tisztában lenni a digitális technológiák környezeti hatásával és azok használatával. | D2: =IFERROR(_xlfn.XLOOKUP(B2,DigKompTerületek,'1. dim. Komp_terület definíció'!$E$2:$E$6),"") -> 1. Eszközök védelme; 2. A személyes adatok és a magánszféra védelme; 3. Az egészség és a jóllét védelme; 4.A környezet védelme | E2: 4.2 | F2: =IFERROR(_xlfn.XLOOKUP(E2,'2. dim Komp_elemek_kiegtem_aláb'!$E$2:$E$22,'2. dim Komp_elemek_kiegtem_aláb'!$F$2:$F$22),"") -> 4.2 A személyes adatok és a magánszféra védelme | G2: =IFERROR(_xlfn.XLOOKUP(E2,'2. dim Komp_elemek_kiegtem_aláb'!$E$2:$E$22,'2. dim Komp_elemek_kiegtem_aláb'!$G$2:$G$22),"") -> A személyes adatok és a magánszféra védelme digitális környezetben. Személyazonosításra alkalmas információk használatának és megosztásának ismerete, saját magam és mások védelme. Annak ismerete, hogy a digitális szolgáltatók adatvédelmi szabályzattal tájékoztatják a felhasználókat a személyes adatok felhasználásáról. | H2: Erős, összetett illeszkedés - több kompetenciaelem
C3: =IFERROR(_xlfn.XLOOKUP(B3,DigKompTerületek,'1. dim. Komp_terület definíció'!$D$2:$D$6),"") | D3: =IFERROR(_xlfn.XLOOKUP(B3,DigKompTerületek,'1. dim. Komp_terület definíció'!$E$2:$E$6),"") | F3: =IFERROR(_xlfn.XLOOKUP(E3,'2. dim Komp_elemek_kiegtem_aláb'!$E$2:$E$22,'2. dim Komp_elemek_kiegtem_aláb'!$F$2:$F$22),"") | G3: =IFERROR(_xlfn.XLOOKUP(E3,'2. dim Komp_elemek_kiegtem_aláb'!$E$2:$E$22,'2. dim Komp_elemek_kiegtem_aláb'!$G$2:$G$22),"")
C4: =IFERROR(_xlfn.XLOOKUP(B4,DigKompTerületek,'1. dim. Komp_terület definíció'!$D$2:$D$6),"") | D4: =IFERROR(_xlfn.XLOOKUP(B4,DigKompTerületek,'1. dim. Komp_terület definíció'!$E$2:$E$6),"") | F4: =IFERROR(_xlfn.XLOOKUP(E4,'2. dim Komp_elemek_kiegtem_aláb'!$E$2:$E$22,'2. dim Komp_elemek_kiegtem_aláb'!$F$2:$F$22),"") | G4: =IFERROR(_xlfn.XLOOKUP(E4,'2. dim Komp_elemek_kiegtem_aláb'!$E$2:$E$22,'2. dim Komp_elemek_kiegtem_aláb'!$G$2:$G$22),"")
C5: =IFERROR(_xlfn.XLOOKUP(B5,DigKompTerületek,'1. dim. Komp_terület definíció'!$D$2:$D$6),"") | D5: =IFERROR(_xlfn.XLOOKUP(B5,DigKompTerületek,'1. dim. Komp_terület definíció'!$E$2:$E$6),"") | F5: =IFERROR(_xlfn.XLOOKUP(E5,'2. dim Komp_elemek_kiegtem_aláb'!$E$2:$E$22,'2. dim Komp_elemek_kiegtem_aláb'!$F$2:$F$22),"") | G5: =IFERROR(_xlfn.XLOOKUP(E5,'2. dim Komp_elemek_kiegtem_aláb'!$E$2:$E$22,'2. dim Komp_elemek_kiegtem_aláb'!$G$2:$G$22),"")
C6: =IFERROR(_xlfn.XLOOKUP(B6,DigKompTerületek,'1. dim. Komp_terület definíció'!$D$2:$D$6),"") | D6: =IFERROR(_xlfn.XLOOKUP(B6,DigKompTerületek,'1. dim. Komp_terület definíció'!$E$2:$E$6),"") | F6: =IFERROR(_xlfn.XLOOKUP(E6,'2. dim Komp_elemek_kiegtem_aláb'!$E$2:$E$22,'2. dim Komp_elemek_kiegtem_aláb'!$F$2:$F$22),"") | G6: =IFERROR(_xlfn.XLOOKUP(E6,'2. dim Komp_elemek_kiegtem_aláb'!$E$2:$E$22,'2. dim Komp_elemek_kiegtem_aláb'!$G$2:$G$22),"")
C7: =IFERROR(_xlfn.XLOOKUP(B7,DigKompTerületek,'1. dim. Komp_terület definíció'!$D$2:$D$6),"") | D7: =IFERROR(_xlfn.XLOOKUP(B7,DigKompTerületek,'1. dim. Komp_terület definíció'!$E$2:$E$6),"") | F7: =IFERROR(_xlfn.XLOOKUP(E7,'2. dim Komp_elemek_kiegtem_aláb'!$E$2:$E$22,'2. dim Komp_elemek_kiegtem_aláb'!$F$2:$F$22),"") | G7: =IFERROR(_xlfn.XLOOKUP(E7,'2. dim Komp_elemek_kiegtem_aláb'!$E$2:$E$22,'2. dim Komp_elemek_kiegtem_aláb'!$G$2:$G$22),"")
C8: =IFERROR(_xlfn.XLOOKUP(B8,DigKompTerületek,'1. dim. Komp_terület definíció'!$D$2:$D$6),"") | D8: =IFERROR(_xlfn.XLOOKUP(B8,DigKompTerületek,'1. dim. Komp_terület definíció'!$E$2:$E$6),"") | E8: 4.2 | F8: =IFERROR(_xlfn.XLOOKUP(E8,'2. dim Komp_elemek_kiegtem_aláb'!$E$2:$E$22,'2. dim Komp_elemek_kiegtem_aláb'!$F$2:$F$22),"") -> 4.2 A személyes adatok és a magánszféra védelme | G8: =IFERROR(_xlfn.XLOOKUP(E8,'2. dim Komp_elemek_kiegtem_aláb'!$E$2:$E$22,'2. dim Komp_elemek_kiegtem_aláb'!$G$2:$G$22),"") -> A személyes adatok és a magánszféra védelme digitális környezetben. Személyazonosításra alkalmas információk használatának és megosztásának ismerete, saját magam és mások védelme. Annak ismerete, hogy a digitális szolgáltatók adatvédelmi szabályzattal tájékoztatják a felhasználókat a személyes adatok felhasználásáról. | H8: Erős illeszkedés
C9: =IFERROR(_xlfn.XLOOKUP(B9,DigKompTerületek,'1. dim. Komp_terület definíció'!$D$2:$D$6),"") | D9: =IFERROR(_xlfn.XLOOKUP(B9,DigKompTerületek,'1. dim. Komp_terület definíció'!$E$2:$E$6),"") | F9: =IFERROR(_xlfn.XLOOKUP(E9,'2. dim Komp_elemek_kiegtem_aláb'!$E$2:$E$22,'2. dim Komp_elemek_kiegtem_aláb'!$F$2:$F$22),"") | G9: =IFERROR(_xlfn.XLOOKUP(E9,'2. dim Komp_elemek_kiegtem_aláb'!$E$2:$E$22,'2. dim Komp_elemek_kiegtem_aláb'!$G$2:$G$22),"")
C10: =IFERROR(_xlfn.XLOOKUP(B10,DigKompTerületek,'1. dim. Komp_terület definíció'!$D$2:$D$6),"") | D10: =IFERROR(_xlfn.XLOOKUP(B10,DigKompTerületek,'1. dim. Komp_terület definíció'!$E$2:$E$6),"") | F10: =IFERROR(_xlfn.XLOOKUP(E10,'2. dim Komp_elemek_kiegtem_aláb'!$E$2:$E$22,'2. dim Komp_elemek_kiegtem_aláb'!$F$2:$F$22),"") | G10: =IFERROR(_xlfn.XLOOKUP(E10,'2. dim Komp_elemek_kiegtem_aláb'!$E$2:$E$22,'2. dim Komp_elemek_kiegtem_aláb'!$G$2:$G$22),"")
C11: =IFERROR(_xlfn.XLOOKUP(B11,DigKompTerületek,'1. dim. Komp_terület definíció'!$D$2:$D$6),"") | D11: =IFERROR(_xlfn.XLOOKUP(B11,DigKompTerületek,'1. dim. Komp_terület definíció'!$E$2:$E$6),"") | F11: =IFERROR(_xlfn.XLOOKUP(E11,'2. dim Komp_elemek_kiegtem_aláb'!$E$2:$E$22,'2. dim Komp_elemek_kiegtem_aláb'!$F$2:$F$22),"") | G11: =IFERROR(_xlfn.XLOOKUP(E11,'2. dim Komp_elemek_kiegtem_aláb'!$E$2:$E$22,'2. dim Komp_elemek_kiegtem_aláb'!$G$2:$G$22),"")
C12: =IFERROR(_xlfn.XLOOKUP(B12,DigKompTerületek,'1. dim. Komp_terület definíció'!$D$2:$D$6),"") | D12: =IFERROR(_xlfn.XLOOKUP(B12,DigKompTerületek,'1. dim. Komp_terület definíció'!$E$2:$E$6),"") | F12: =IFERROR(_xlfn.XLOOKUP(E12,'2. dim Komp_elemek_kiegtem_aláb'!$E$2:$E$22,'2. dim Komp_elemek_kiegtem_aláb'!$F$2:$F$22),"") | G12: =IFERROR(_xlfn.XLOOKUP(E12,'2. dim Komp_elemek_kiegtem_aláb'!$E$2:$E$22,'2. dim Komp_elemek_kiegtem_aláb'!$G$2:$G$22),"")
C13: =IFERROR(_xlfn.XLOOKUP(B13,DigKompTerületek,'1. dim. Komp_terület definíció'!$D$2:$D$6),"") | D13: =IFERROR(_xlfn.XLOOKUP(B13,DigKompTerületek,'1. dim. Komp_terület definíció'!$E$2:$E$6),"") | F13: =IFERROR(_xlfn.XLOOKUP(E13,'2. dim Komp_elemek_kiegtem_aláb'!$E$2:$E$22,'2. dim Komp_elemek_kiegtem_aláb'!$F$2:$F$22),"") | G13: =IFERROR(_xlfn.XLOOKUP(E13,'2. dim Komp_elemek_kiegtem_aláb'!$E$2:$E$22,'2. dim Komp_elemek_kiegtem_aláb'!$G$2:$G$22),"")
C14: =IFERROR(_xlfn.XLOOKUP(B14,DigKompTerületek,'1. dim. Komp_terület definíció'!$D$2:$D$6),"") | D14: =IFERROR(_xlfn.XLOOKUP(B14,DigKompTerületek,'1. dim. Komp_terület definíció'!$E$2:$E$6),"") | F14: =IFERROR(_xlfn.XLOOKUP(E14,'2. dim Komp_elemek_kiegtem_aláb'!$E$2:$E$22,'2. dim Komp_elemek_kiegtem_aláb'!$F$2:$F$22),"") | G14: =IFERROR(_xlfn.XLOOKUP(E14,'2. dim Komp_elemek_kiegtem_aláb'!$E$2:$E$22,'2. dim Komp_elemek_kiegtem_aláb'!$G$2:$G$22),"")
C15: =IFERROR(_xlfn.XLOOKUP(B15,DigKompTerületek,'1. dim. Komp_terület definíció'!$D$2:$D$6),"") | D15: =IFERROR(_xlfn.XLOOKUP(B15,DigKompTerületek,'1. dim. Komp_terület definíció'!$E$2:$E$6),"") | F15: =IFERROR(_xlfn.XLOOKUP(E15,'2. dim Komp_elemek_kiegtem_aláb'!$E$2:$E$22,'2. dim Komp_elemek_kiegtem_aláb'!$F$2:$F$22),"") | G15: =IFERROR(_xlfn.XLOOKUP(E15,'2. dim Komp_elemek_kiegtem_aláb'!$E$2:$E$22,'2. dim Komp_elemek_kiegtem_aláb'!$G$2:$G$22),"")
C16: =IFERROR(_xlfn.XLOOKUP(B16,DigKompTerületek,'1. dim. Komp_terület definíció'!$D$2:$D$6),"") | D16: =IFERROR(_xlfn.XLOOKUP(B16,DigKompTerületek,'1. dim. Komp_terület definíció'!$E$2:$E$6),"") | F16: =IFERROR(_xlfn.XLOOKUP(E16,'2. dim Komp_elemek_kiegtem_aláb'!$E$2:$E$22,'2. dim Komp_elemek_kiegtem_aláb'!$F$2:$F$22),"") | G16: =IFERROR(_xlfn.XLOOKUP(E16,'2. dim Komp_elemek_kiegtem_aláb'!$E$2:$E$22,'2. dim Komp_elemek_kiegtem_aláb'!$G$2:$G$22),"")
C17: =IFERROR(_xlfn.XLOOKUP(B17,DigKompTerületek,'1. dim. Komp_terület definíció'!$D$2:$D$6),"") | D17: =IFERROR(_xlfn.XLOOKUP(B17,DigKompTerületek,'1. dim. Komp_terület definíció'!$E$2:$E$6),"") | F17: =IFERROR(_xlfn.XLOOKUP(E17,'2. dim Komp_elemek_kiegtem_aláb'!$E$2:$E$22,'2. dim Komp_elemek_kiegtem_aláb'!$F$2:$F$22),"") | G17: =IFERROR(_xlfn.XLOOKUP(E17,'2. dim Komp_elemek_kiegtem_aláb'!$E$2:$E$22,'2. dim Komp_elemek_kiegtem_aláb'!$G$2:$G$22),"")
C18: =IFERROR(_xlfn.XLOOKUP(B18,DigKompTerületek,'1. dim. Komp_terület definíció'!$D$2:$D$6),"") | D18: =IFERROR(_xlfn.XLOOKUP(B18,DigKompTerületek,'1. dim. Komp_terület definíció'!$E$2:$E$6),"") | F18: =IFERROR(_xlfn.XLOOKUP(E18,'2. dim Komp_elemek_kiegtem_aláb'!$E$2:$E$22,'2. dim Komp_elemek_kiegtem_aláb'!$F$2:$F$22),"") | G18: =IFERROR(_xlfn.XLOOKUP(E18,'2. dim Komp_elemek_kiegtem_aláb'!$E$2:$E$22,'2. dim Komp_elemek_kiegtem_aláb'!$G$2:$G$22),"")
C19: =IFERROR(_xlfn.XLOOKUP(B19,DigKompTerületek,'1. dim. Komp_terület definíció'!$D$2:$D$6),"") | D19: =IFERROR(_xlfn.XLOOKUP(B19,DigKompTerületek,'1. dim. Komp_terület definíció'!$E$2:$E$6),"") | F19: =IFERROR(_xlfn.XLOOKUP(E19,'2. dim Komp_elemek_kiegtem_aláb'!$E$2:$E$22,'2. dim Komp_elemek_kiegtem_aláb'!$F$2:$F$22),"") | G19: =IFERROR(_xlfn.XLOOKUP(E19,'2. dim Komp_elemek_kiegtem_aláb'!$E$2:$E$22,'2. dim Komp_elemek_kiegtem_aláb'!$G$2:$G$22),"")
C20: =IFERROR(_xlfn.XLOOKUP(B20,DigKompTerületek,'1. dim. Komp_terület definíció'!$D$2:$D$6),"") | D20: =IFERROR(_xlfn.XLOOKUP(B20,DigKompTerületek,'1. dim. Komp_terület definíció'!$E$2:$E$6),"") | F20: =IFERROR(_xlfn.XLOOKUP(E20,'2. dim Komp_elemek_kiegtem_aláb'!$E$2:$E$22,'2. dim Komp_elemek_kiegtem_aláb'!$F$2:$F$22),"") | G20: =IFERROR(_xlfn.XLOOKUP(E20,'2. dim Komp_elemek_kiegtem_aláb'!$E$2:$E$22,'2. dim Komp_elemek_kiegtem_aláb'!$G$2:$G$22),"")
... C51: =IFERROR(_xlfn.XLOOKUP(B51,DigKompTerületek,'1. dim. Komp_terület definíció'!$D$2:$D$6),"") | D51: =IFERROR(_xlfn.XLOOKUP(B51,DigKompTerületek,'1. dim. Komp_terület definíció'!$E$2:$E$6),"") | F51: =IFERROR(_xlfn.XLOOKUP(E51,'2. dim Komp_elemek_kiegtem_aláb'!$E$2:$E$22,'2. dim Komp_elemek_kiegtem_aláb'!$F$2:$F$22),"") | G51: =IFERROR(_xlfn.XLOOKUP(E51,'2. dim Komp_elemek_kiegtem_aláb'!$E$2:$E$22,'2. dim Komp_elemek_kiegtem_aláb'!$G$2:$G$22),"")

Sheet DK-megf_digtev_kompter_I_2
A1: Digitális tevékenység | B1: JAVASOLT DigKomp-kompetenciaterület (1. dimenzió) | C1: DigKomp-kompetenciaterület meghatározása (1. dimenzió) | D1: Kompetenciaterülethez tartozó DigKomp-kompeteniaelemek | E1: DigKomp-kompetenciaelem azonosítója | F1: DigKomp-kompetenciaelem megnevezése (2. dimenzió) | G1: DigKomp-kompetenciaelem meghatározása (2. dimenzió) | H1: A digitális tevékenység és a DigKomp-kompetenciaelem illeszkedésének mértéke | I1: Indoklás
A2: 1.Egy hivatalos e-mail megírása és melléklet csatolása. | C2: =IFERROR(_xlfn.XLOOKUP(B2,DigKompTerületek,'1. dim. Komp_terület definíció'!$D$2:$D$6),"") | D2: =IFERROR(_xlfn.XLOOKUP(B2,DigKompTerületek,'1. dim. Komp_terület definíció'!$E$2:$E$6),"") | F2: =IFERROR(_xlfn.XLOOKUP(E2,'2. dim Komp_elemek_kiegtem_aláb'!$E$2:$E$22,'2. dim Komp_elemek_kiegtem_aláb'!$F$2:$F$22),"") | G2: =IFERROR(_xlfn.XLOOKUP(E2,'2. dim Komp_elemek_kiegtem_aláb'!$E$2:$E$22,'2. dim Komp_elemek_kiegtem_aláb'!$G$2:$G$22),"")
A3: 2.Egy online ügyintézési űrlap kitöltése személyes adatok megadásával. | C3: =IFERROR(_xlfn.XLOOKUP(B3,DigKompTerületek,'1. dim. Komp_terület definíció'!$D$2:$D$6),"") | D3: =IFERROR(_xlfn.XLOOKUP(B3,DigKompTerületek,'1. dim. Komp_terület definíció'!$E$2:$E$6),"") | F3: =IFERROR(_xlfn.XLOOKUP(E3,'2. dim Komp_elemek_kiegtem_aláb'!$E$2:$E$22,'2. dim Komp_elemek_kiegtem_aláb'!$F$2:$F$22),"") | G3: =IFERROR(_xlfn.XLOOKUP(E3,'2. dim Komp_elemek_kiegtem_aláb'!$E$2:$E$22,'2. dim Komp_elemek_kiegtem_aláb'!$G$2:$G$22),"")
A4: 3.Egy letöltött dokumentum átnevezése és olyan mappába mentése, ahol később is könnyen megtalálható. | C4: =IFERROR(_xlfn.XLOOKUP(B4,DigKompTerületek,'1. dim. Komp_terület definíció'!$D$2:$D$6),"") | D4: =IFERROR(_xlfn.XLOOKUP(B4,DigKompTerületek,'1. dim. Komp_terület definíció'!$E$2:$E$6),"") | F4: =IFERROR(_xlfn.XLOOKUP(E4,'2. dim Komp_elemek_kiegtem_aláb'!$E$2:$E$22,'2. dim Komp_elemek_kiegtem_aláb'!$F$2:$F$22),"") | G4: =IFERROR(_xlfn.XLOOKUP(E4,'2. dim Komp_elemek_kiegtem_aláb'!$E$2:$E$22,'2. dim Komp_elemek_kiegtem_aláb'!$G$2:$G$22),"")
A5: 4.Egy interneten talált információ ellenőrzése több forrás összevetésével. | C5: =IFERROR(_xlfn.XLOOKUP(B5,DigKompTerületek,'1. dim. Komp_terület definíció'!$D$2:$D$6),"") | D5: =IFERROR(_xlfn.XLOOKUP(B5,DigKompTerületek,'1. dim. Komp_terület definíció'!$E$2:$E$6),"") | F5: =IFERROR(_xlfn.XLOOKUP(E5,'2. dim Komp_elemek_kiegtem_aláb'!$E$2:$E$22,'2. dim Komp_elemek_kiegtem_aláb'!$F$2:$F$22),"") | G5: =IFERROR(_xlfn.XLOOKUP(E5,'2. dim Komp_elemek_kiegtem_aláb'!$E$2:$E$22,'2. dim Komp_elemek_kiegtem_aláb'!$G$2:$G$22),"")
A6: 5.Biztonságos jelszó létrehozása egy új online szolgáltatáshoz. | C6: =IFERROR(_xlfn.XLOOKUP(B6,DigKompTerületek,'1. dim. Komp_terület definíció'!$D$2:$D$6),"") | D6: =IFERROR(_xlfn.XLOOKUP(B6,DigKompTerületek,'1. dim. Komp_terület definíció'!$E$2:$E$6),"") | F6: =IFERROR(_xlfn.XLOOKUP(E6,'2. dim Komp_elemek_kiegtem_aláb'!$E$2:$E$22,'2. dim Komp_elemek_kiegtem_aláb'!$F$2:$F$22),"") | G6: =IFERROR(_xlfn.XLOOKUP(E6,'2. dim Komp_elemek_kiegtem_aláb'!$E$2:$E$22,'2. dim Komp_elemek_kiegtem_aláb'!$G$2:$G$22),"")
A7: 6.Egy videóhívásban való részvétel, amelyhez link alapján kell csatlakozni. | C7: =IFERROR(_xlfn.XLOOKUP(B7,DigKompTerületek,'1. dim. Komp_terület definíció'!$D$2:$D$6),"") | D7: =IFERROR(_xlfn.XLOOKUP(B7,DigKompTerületek,'1. dim. Komp_terület definíció'!$E$2:$E$6),"") | F7: =IFERROR(_xlfn.XLOOKUP(E7,'2. dim Komp_elemek_kiegtem_aláb'!$E$2:$E$22,'2. dim Komp_elemek_kiegtem_aláb'!$F$2:$F$22),"") | G7: =IFERROR(_xlfn.XLOOKUP(E7,'2. dim Komp_elemek_kiegtem_aláb'!$E$2:$E$22,'2. dim Komp_elemek_kiegtem_aláb'!$G$2:$G$22),"")
A8: 7.Egy digitális tartalom – például rövid szöveg, kép vagy táblázat – létrehozása előre megadott sablon alapján. | C8: =IFERROR(_xlfn.XLOOKUP(B8,DigKompTerületek,'1. dim. Komp_terület definíció'!$D$2:$D$6),"") | D8: =IFERROR(_xlfn.XLOOKUP(B8,DigKompTerületek,'1. dim. Komp_terület definíció'!$E$2:$E$6),"") | F8: =IFERROR(_xlfn.XLOOKUP(E8,'2. dim Komp_elemek_kiegtem_aláb'!$E$2:$E$22,'2. dim Komp_elemek_kiegtem_aláb'!$F$2:$F$22),"") | G8: =IFERROR(_xlfn.XLOOKUP(E8,'2. dim Komp_elemek_kiegtem_aláb'!$E$2:$E$22,'2. dim Komp_elemek_kiegtem_aláb'!$G$2:$G$22),"")
A9: 8.Egy gyanús üzenet felismerése, amely személyes adatokat vagy belépési adatokat kér. | C9: =IFERROR(_xlfn.XLOOKUP(B9,DigKompTerületek,'1. dim. Komp_terület definíció'!$D$2:$D$6),"") | D9: =IFERROR(_xlfn.XLOOKUP(B9,DigKompTerületek,'1. dim. Komp_terület definíció'!$E$2:$E$6),"") | F9: =IFERROR(_xlfn.XLOOKUP(E9,'2. dim Komp_elemek_kiegtem_aláb'!$E$2:$E$22,'2. dim Komp_elemek_kiegtem_aláb'!$F$2:$F$22),"") | G9: =IFERROR(_xlfn.XLOOKUP(E9,'2. dim Komp_elemek_kiegtem_aláb'!$E$2:$E$22,'2. dim Komp_elemek_kiegtem_aláb'!$G$2:$G$22),"")
C10: =IFERROR(_xlfn.XLOOKUP(B10,DigKompTerületek,'1. dim. Komp_terület definíció'!$D$2:$D$6),"") | D10: =IFERROR(_xlfn.XLOOKUP(B10,DigKompTerületek,'1. dim. Komp_terület definíció'!$E$2:$E$6),"") | F10: =IFERROR(_xlfn.XLOOKUP(E10,'2. dim Komp_elemek_kiegtem_aláb'!$E$2:$E$22,'2. dim Komp_elemek_kiegtem_aláb'!$F$2:$F$22),"") | G10: =IFERROR(_xlfn.XLOOKUP(E10,'2. dim Komp_elemek_kiegtem_aláb'!$E$2:$E$22,'2. dim Komp_elemek_kiegtem_aláb'!$G$2:$G$22),"")
C11: =IFERROR(_xlfn.XLOOKUP(B11,DigKompTerületek,'1. dim. Komp_terület definíció'!$D$2:$D$6),"") | D11: =IFERROR(_xlfn.XLOOKUP(B11,DigKompTerületek,'1. dim. Komp_terület definíció'!$E$2:$E$6),"") | F11: =IFERROR(_xlfn.XLOOKUP(E11,'2. dim Komp_elemek_kiegtem_aláb'!$E$2:$E$22,'2. dim Komp_elemek_kiegtem_aláb'!$F$2:$F$22),"") | G11: =IFERROR(_xlfn.XLOOKUP(E11,'2. dim Komp_elemek_kiegtem_aláb'!$E$2:$E$22,'2. dim Komp_elemek_kiegtem_aláb'!$G$2:$G$22),"")
C12: =IFERROR(_xlfn.XLOOKUP(B12,DigKompTerületek,'1. dim. Komp_terület definíció'!$D$2:$D$6),"") | D12: =IFERROR(_xlfn.XLOOKUP(B12,DigKompTerületek,'1. dim. Komp_terület definíció'!$E$2:$E$6),"") | F12: =IFERROR(_xlfn.XLOOKUP(E12,'2. dim Komp_elemek_kiegtem_aláb'!$E$2:$E$22,'2. dim Komp_elemek_kiegtem_aláb'!$F$2:$F$22),"") | G12: =IFERROR(_xlfn.XLOOKUP(E12,'2. dim Komp_elemek_kiegtem_aláb'!$E$2:$E$22,'2. dim Komp_elemek_kiegtem_aláb'!$G$2:$G$22),"")
C13: =IFERROR(_xlfn.XLOOKUP(B13,DigKompTerületek,'1. dim. Komp_terület definíció'!$D$2:$D$6),"") | D13: =IFERROR(_xlfn.XLOOKUP(B13,DigKompTerületek,'1. dim. Komp_terület definíció'!$E$2:$E$6),"") | F13: =IFERROR(_xlfn.XLOOKUP(E13,'2. dim Komp_elemek_kiegtem_aláb'!$E$2:$E$22,'2. dim Komp_elemek_kiegtem_aláb'!$F$2:$F$22),"") | G13: =IFERROR(_xlfn.XLOOKUP(E13,'2. dim Komp_elemek_kiegtem_aláb'!$E$2:$E$22,'2. dim Komp_elemek_kiegtem_aláb'!$G$2:$G$22),"")
C14: =IFERROR(_xlfn.XLOOKUP(B14,DigKompTerületek,'1. dim. Komp_terület definíció'!$D$2:$D$6),"") | D14: =IFERROR(_xlfn.XLOOKUP(B14,DigKompTerületek,'1. dim. Komp_terület definíció'!$E$2:$E$6),"") | F14: =IFERROR(_xlfn.XLOOKUP(E14,'2. dim Komp_elemek_kiegtem_aláb'!$E$2:$E$22,'2. dim Komp_elemek_kiegtem_aláb'!$F$2:$F$22),"") | G14: =IFERROR(_xlfn.XLOOKUP(E14,'2. dim Komp_elemek_kiegtem_aláb'!$E$2:$E$22,'2. dim Komp_elemek_kiegtem_aláb'!$G$2:$G$22),"")
C15: =IFERROR(_xlfn.XLOOKUP(B15,DigKompTerületek,'1. dim. Komp_terület definíció'!$D$2:$D$6),"") | D15: =IFERROR(_xlfn.XLOOKUP(B15,DigKompTerületek,'1. dim. Komp_terület definíció'!$E$2:$E$6),"") | F15: =IFERROR(_xlfn.XLOOKUP(E15,'2. dim Komp_elemek_kiegtem_aláb'!$E$2:$E$22,'2. dim Komp_elemek_kiegtem_aláb'!$F$2:$F$22),"") | G15: =IFERROR(_xlfn.XLOOKUP(E15,'2. dim Komp_elemek_kiegtem_aláb'!$E$2:$E$22,'2. dim Komp_elemek_kiegtem_aláb'!$G$2:$G$22),"")
C16: =IFERROR(_xlfn.XLOOKUP(B16,DigKompTerületek,'1. dim. Komp_terület definíció'!$D$2:$D$6),"") | D16: =IFERROR(_xlfn.XLOOKUP(B16,DigKompTerületek,'1. dim. Komp_terület definíció'!$E$2:$E$6),"") | F16: =IFERROR(_xlfn.XLOOKUP(E16,'2. dim Komp_elemek_kiegtem_aláb'!$E$2:$E$22,'2. dim Komp_elemek_kiegtem_aláb'!$F$2:$F$22),"") | G16: =IFERROR(_xlfn.XLOOKUP(E16,'2. dim Komp_elemek_kiegtem_aláb'!$E$2:$E$22,'2. dim Komp_elemek_kiegtem_aláb'!$G$2:$G$22),"")
C17: =IFERROR(_xlfn.XLOOKUP(B17,DigKompTerületek,'1. dim. Komp_terület definíció'!$D$2:$D$6),"") | D17: =IFERROR(_xlfn.XLOOKUP(B17,DigKompTerületek,'1. dim. Komp_terület definíció'!$E$2:$E$6),"") | F17: =IFERROR(_xlfn.XLOOKUP(E17,'2. dim Komp_elemek_kiegtem_aláb'!$E$2:$E$22,'2. dim Komp_elemek_kiegtem_aláb'!$F$2:$F$22),"") | G17: =IFERROR(_xlfn.XLOOKUP(E17,'2. dim Komp_elemek_kiegtem_aláb'!$E$2:$E$22,'2. dim Komp_elemek_kiegtem_aláb'!$G$2:$G$22),"")
C18: =IFERROR(_xlfn.XLOOKUP(B18,DigKompTerületek,'1. dim. Komp_terület definíció'!$D$2:$D$6),"") | D18: =IFERROR(_xlfn.XLOOKUP(B18,DigKompTerületek,'1. dim. Komp_terület definíció'!$E$2:$E$6),"") | F18: =IFERROR(_xlfn.XLOOKUP(E18,'2. dim Komp_elemek_kiegtem_aláb'!$E$2:$E$22,'2. dim Komp_elemek_kiegtem_aláb'!$F$2:$F$22),"") | G18: =IFERROR(_xlfn.XLOOKUP(E18,'2. dim Komp_elemek_kiegtem_aláb'!$E$2:$E$22,'2. dim Komp_elemek_kiegtem_aláb'!$G$2:$G$22),"")
C19: =IFERROR(_xlfn.XLOOKUP(B19,DigKompTerületek,'1. dim. Komp_terület definíció'!$D$2:$D$6),"") | D19: =IFERROR(_xlfn.XLOOKUP(B19,DigKompTerületek,'1. dim. Komp_terület definíció'!$E$2:$E$6),"") | F19: =IFERROR(_xlfn.XLOOKUP(E19,'2. dim Komp_elemek_kiegtem_aláb'!$E$2:$E$22,'2. dim Komp_elemek_kiegtem_aláb'!$F$2:$F$22),"") | G19: =IFERROR(_xlfn.XLOOKUP(E19,'2. dim Komp_elemek_kiegtem_aláb'!$E$2:$E$22,'2. dim Komp_elemek_kiegtem_aláb'!$G$2:$G$22),"")
C20: =IFERROR(_xlfn.XLOOKUP(B20,DigKompTerületek,'1. dim. Komp_terület definíció'!$D$2:$D$6),"") | D20: =IFERROR(_xlfn.XLOOKUP(B20,DigKompTerületek,'1. dim. Komp_terület definíció'!$E$2:$E$6),"") | F20: =IFERROR(_xlfn.XLOOKUP(E20,'2. dim Komp_elemek_kiegtem_aláb'!$E$2:$E$22,'2. dim Komp_elemek_kiegtem_aláb'!$F$2:$F$22),"") | G20: =IFERROR(_xlfn.XLOOKUP(E20,'2. dim Komp_elemek_kiegtem_aláb'!$E$2:$E$22,'2. dim Komp_elemek_kiegtem_aláb'!$G$2:$G$22),"")
C21: =IFERROR(_xlfn.XLOOKUP(B21,DigKompTerületek,'1. dim. Komp_terület definíció'!$D$2:$D$6),"") | D21: =IFERROR(_xlfn.XLOOKUP(B21,DigKompTerületek,'1. dim. Komp_terület definíció'!$E$2:$E$6),"") | F21: =IFERROR(_xlfn.XLOOKUP(E21,'2. dim Komp_elemek_kiegtem_aláb'!$E$2:$E$22,'2. dim Komp_elemek_kiegtem_aláb'!$F$2:$F$22),"") | G21: =IFERROR(_xlfn.XLOOKUP(E21,'2. dim Komp_elemek_kiegtem_aláb'!$E$2:$E$22,'2. dim Komp_elemek_kiegtem_aláb'!$G$2:$G$22),"")
... C51: =IFERROR(_xlfn.XLOOKUP(B51,DigKompTerületek,'1. dim. Komp_terület definíció'!$D$2:$D$6),"") | D51: =IFERROR(_xlfn.XLOOKUP(B51,DigKompTerületek,'1. dim. Komp_terület definíció'!$E$2:$E$6),"") | F51: =IFERROR(_xlfn.XLOOKUP(E51,'2. dim Komp_elemek_kiegtem_aláb'!$E$2:$E$22,'2. dim Komp_elemek_kiegtem_aláb'!$F$2:$F$22),"") | G51: =IFERROR(_xlfn.XLOOKUP(E51,'2. dim Komp_elemek_kiegtem_aláb'!$E$2:$E$22,'2. dim Komp_elemek_kiegtem_aláb'!$G$2:$G$22),"")

Sheet DK-megf_digtev_kompter_I1A_üres
A1: Digitális tevékenység | B1: JAVASOLT DigKomp-kompetenciaterület (1. dimenzió) | C1: DigKomp-kompetenciaterület meghatározása (1. dimenzió) | D1: Kompetenciaterülethez tartozó DigKomp-kompeteniaelemek | E1: DigKomp-kompetenciaelem azonosítója | F1: DigKomp-kompetenciaelem megnevezése (2. dimenzió) | G1: DigKomp-kompetenciaelem meghatározása (2. dimenzió) | H1: A digitális tevékenység és a DigKomp-kompetenciaelem illeszkedésének mértéke | I1: Indoklás
A2: Belépés és azonosítás | B2: 2. Kommunikáció és együttműködés | C2: =IFERROR(_xlfn.XLOOKUP(B2,DigKompTerületek,'1. dim. Komp_terület definíció'!$D$2:$D$6),"") -> Interakció, kommunikáció és együttműködés a digitális technológiák segítségével, miközben tudatában van a kulturális és generációs sokszínűségnek. Részvétel a társadalomban állami és magán digitális szolgáltatásokon és részvételen alapuló állampolgárságon keresztül. A digitális jelenlét, identitás és hírnév kezelése. | D2: =IFERROR(_xlfn.XLOOKUP(B2,DigKompTerületek,'1. dim. Komp_terület definíció'!$E$2:$E$6),"") -> 1. Digitális technológiával támogatott interakció; 2. Megosztás digitális technológiák segítségével; 3. Az állampolgárság gyakorlása digitális technológiák segítségével; 4. Együttműködés digitális technológiák segítségével; 5. Netikett; 6. A digitális személyazonosság kezelése | F2: =IFERROR(_xlfn.XLOOKUP(E2,'2. dim Komp_elemek_kiegtem_aláb'!$E$2:$E$22,'2. dim Komp_elemek_kiegtem_aláb'!$F$2:$F$22),"") | G2: =IFERROR(_xlfn.XLOOKUP(E2,'2. dim Komp_elemek_kiegtem_aláb'!$E$2:$E$22,'2. dim Komp_elemek_kiegtem_aláb'!$G$2:$G$22),"")
A3: Belépés és azonosítás | C3: =IFERROR(_xlfn.XLOOKUP(B3,DigKompTerületek,'1. dim. Komp_terület definíció'!$D$2:$D$6),"") | D3: =IFERROR(_xlfn.XLOOKUP(B3,DigKompTerületek,'1. dim. Komp_terület definíció'!$E$2:$E$6),"") | F3: =IFERROR(_xlfn.XLOOKUP(E3,'2. dim Komp_elemek_kiegtem_aláb'!$E$2:$E$22,'2. dim Komp_elemek_kiegtem_aláb'!$F$2:$F$22),"") | G3: =IFERROR(_xlfn.XLOOKUP(E3,'2. dim Komp_elemek_kiegtem_aláb'!$E$2:$E$22,'2. dim Komp_elemek_kiegtem_aláb'!$G$2:$G$22),"")
A4: Belépés és azonosítás | C4: =IFERROR(_xlfn.XLOOKUP(B4,DigKompTerületek,'1. dim. Komp_terület definíció'!$D$2:$D$6),"") | D4: =IFERROR(_xlfn.XLOOKUP(B4,DigKompTerületek,'1. dim. Komp_terület definíció'!$E$2:$E$6),"") | F4: =IFERROR(_xlfn.XLOOKUP(E4,'2. dim Komp_elemek_kiegtem_aláb'!$E$2:$E$22,'2. dim Komp_elemek_kiegtem_aláb'!$F$2:$F$22),"") | G4: =IFERROR(_xlfn.XLOOKUP(E4,'2. dim Komp_elemek_kiegtem_aláb'!$E$2:$E$22,'2. dim Komp_elemek_kiegtem_aláb'!$G$2:$G$22),"")
A5: Digitális információ értelmezése és ellenőrzése | C5: =IFERROR(_xlfn.XLOOKUP(B5,DigKompTerületek,'1. dim. Komp_terület definíció'!$D$2:$D$6),"") | D5: =IFERROR(_xlfn.XLOOKUP(B5,DigKompTerületek,'1. dim. Komp_terület definíció'!$E$2:$E$6),"") | F5: =IFERROR(_xlfn.XLOOKUP(E5,'2. dim Komp_elemek_kiegtem_aláb'!$E$2:$E$22,'2. dim Komp_elemek_kiegtem_aláb'!$F$2:$F$22),"") | G5: =IFERROR(_xlfn.XLOOKUP(E5,'2. dim Komp_elemek_kiegtem_aláb'!$E$2:$E$22,'2. dim Komp_elemek_kiegtem_aláb'!$G$2:$G$22),"")
A6: Digitális információ értelmezése és ellenőrzése | C6: =IFERROR(_xlfn.XLOOKUP(B6,DigKompTerületek,'1. dim. Komp_terület definíció'!$D$2:$D$6),"") | D6: =IFERROR(_xlfn.XLOOKUP(B6,DigKompTerületek,'1. dim. Komp_terület definíció'!$E$2:$E$6),"") | F6: =IFERROR(_xlfn.XLOOKUP(E6,'2. dim Komp_elemek_kiegtem_aláb'!$E$2:$E$22,'2. dim Komp_elemek_kiegtem_aláb'!$F$2:$F$22),"") | G6: =IFERROR(_xlfn.XLOOKUP(E6,'2. dim Komp_elemek_kiegtem_aláb'!$E$2:$E$22,'2. dim Komp_elemek_kiegtem_aláb'!$G$2:$G$22),"")
A7: Digitális információ értelmezése és ellenőrzése | C7: =IFERROR(_xlfn.XLOOKUP(B7,DigKompTerületek,'1. dim. Komp_terület definíció'!$D$2:$D$6),"") | D7: =IFERROR(_xlfn.XLOOKUP(B7,DigKompTerületek,'1. dim. Komp_terület definíció'!$E$2:$E$6),"") | F7: =IFERROR(_xlfn.XLOOKUP(E7,'2. dim Komp_elemek_kiegtem_aláb'!$E$2:$E$22,'2. dim Komp_elemek_kiegtem_aláb'!$F$2:$F$22),"") | G7: =IFERROR(_xlfn.XLOOKUP(E7,'2. dim Komp_elemek_kiegtem_aláb'!$E$2:$E$22,'2. dim Komp_elemek_kiegtem_aláb'!$G$2:$G$22),"")
A8: Digitális információ értelmezése és ellenőrzése | C8: =IFERROR(_xlfn.XLOOKUP(B8,DigKompTerületek,'1. dim. Komp_terület definíció'!$D$2:$D$6),"") | D8: =IFERROR(_xlfn.XLOOKUP(B8,DigKompTerületek,'1. dim. Komp_terület definíció'!$E$2:$E$6),"") | F8: =IFERROR(_xlfn.XLOOKUP(E8,'2. dim Komp_elemek_kiegtem_aláb'!$E$2:$E$22,'2. dim Komp_elemek_kiegtem_aláb'!$F$2:$F$22),"") | G8: =IFERROR(_xlfn.XLOOKUP(E8,'2. dim Komp_elemek_kiegtem_aláb'!$E$2:$E$22,'2. dim Komp_elemek_kiegtem_aláb'!$G$2:$G$22),"")
A9: Dokumentumazonosítás | C9: =IFERROR(_xlfn.XLOOKUP(B9,DigKompTerületek,'1. dim. Komp_terület definíció'!$D$2:$D$6),"") | D9: =IFERROR(_xlfn.XLOOKUP(B9,DigKompTerületek,'1. dim. Komp_terület definíció'!$E$2:$E$6),"") | F9: =IFERROR(_xlfn.XLOOKUP(E9,'2. dim Komp_elemek_kiegtem_aláb'!$E$2:$E$22,'2. dim Komp_elemek_kiegtem_aláb'!$F$2:$F$22),"") | G9: =IFERROR(_xlfn.XLOOKUP(E9,'2. dim Komp_elemek_kiegtem_aláb'!$E$2:$E$22,'2. dim Komp_elemek_kiegtem_aláb'!$G$2:$G$22),"")
A10: Dokumentumazonosítás | C10: =IFERROR(_xlfn.XLOOKUP(B10,DigKompTerületek,'1. dim. Komp_terület definíció'!$D$2:$D$6),"") | D10: =IFERROR(_xlfn.XLOOKUP(B10,DigKompTerületek,'1. dim. Komp_terület definíció'!$E$2:$E$6),"") | F10: =IFERROR(_xlfn.XLOOKUP(E10,'2. dim Komp_elemek_kiegtem_aláb'!$E$2:$E$22,'2. dim Komp_elemek_kiegtem_aláb'!$F$2:$F$22),"") | G10: =IFERROR(_xlfn.XLOOKUP(E10,'2. dim Komp_elemek_kiegtem_aláb'!$E$2:$E$22,'2. dim Komp_elemek_kiegtem_aláb'!$G$2:$G$22),"")
A11: Dokumentumkeresés | C11: =IFERROR(_xlfn.XLOOKUP(B11,DigKompTerületek,'1. dim. Komp_terület definíció'!$D$2:$D$6),"") | D11: =IFERROR(_xlfn.XLOOKUP(B11,DigKompTerületek,'1. dim. Komp_terület definíció'!$E$2:$E$6),"") | F11: =IFERROR(_xlfn.XLOOKUP(E11,'2. dim Komp_elemek_kiegtem_aláb'!$E$2:$E$22,'2. dim Komp_elemek_kiegtem_aláb'!$F$2:$F$22),"") | G11: =IFERROR(_xlfn.XLOOKUP(E11,'2. dim Komp_elemek_kiegtem_aláb'!$E$2:$E$22,'2. dim Komp_elemek_kiegtem_aláb'!$G$2:$G$22),"")
A12: Dokumentumkeresés | C12: =IFERROR(_xlfn.XLOOKUP(B12,DigKompTerületek,'1. dim. Komp_terület definíció'!$D$2:$D$6),"") | D12: =IFERROR(_xlfn.XLOOKUP(B12,DigKompTerületek,'1. dim. Komp_terület definíció'!$E$2:$E$6),"") | F12: =IFERROR(_xlfn.XLOOKUP(E12,'2. dim Komp_elemek_kiegtem_aláb'!$E$2:$E$22,'2. dim Komp_elemek_kiegtem_aláb'!$F$2:$F$22),"") | G12: =IFERROR(_xlfn.XLOOKUP(E12,'2. dim Komp_elemek_kiegtem_aláb'!$E$2:$E$22,'2. dim Komp_elemek_kiegtem_aláb'!$G$2:$G$22),"")
A13: Lelet megtekintése | C13: =IFERROR(_xlfn.XLOOKUP(B13,DigKompTerületek,'1. dim. Komp_terület definíció'!$D$2:$D$6),"") | D13: =IFERROR(_xlfn.XLOOKUP(B13,DigKompTerületek,'1. dim. Komp_terület definíció'!$E$2:$E$6),"") | F13: =IFERROR(_xlfn.XLOOKUP(E13,'2. dim Komp_elemek_kiegtem_aláb'!$E$2:$E$22,'2. dim Komp_elemek_kiegtem_aláb'!$F$2:$F$22),"") | G13: =IFERROR(_xlfn.XLOOKUP(E13,'2. dim Komp_elemek_kiegtem_aláb'!$E$2:$E$22,'2. dim Komp_elemek_kiegtem_aláb'!$G$2:$G$22),"")
A14: Lelet megtekintése | C14: =IFERROR(_xlfn.XLOOKUP(B14,DigKompTerületek,'1. dim. Komp_terület definíció'!$D$2:$D$6),"") | D14: =IFERROR(_xlfn.XLOOKUP(B14,DigKompTerületek,'1. dim. Komp_terület definíció'!$E$2:$E$6),"") | F14: =IFERROR(_xlfn.XLOOKUP(E14,'2. dim Komp_elemek_kiegtem_aláb'!$E$2:$E$22,'2. dim Komp_elemek_kiegtem_aláb'!$F$2:$F$22),"") | G14: =IFERROR(_xlfn.XLOOKUP(E14,'2. dim Komp_elemek_kiegtem_aláb'!$E$2:$E$22,'2. dim Komp_elemek_kiegtem_aláb'!$G$2:$G$22),"")
... A20: További digitális ügyintézés / kapcsolatfelvétel | C20: =IFERROR(_xlfn.XLOOKUP(B20,DigKompTerületek,'1. dim. Komp_terület definíció'!$D$2:$D$6),"") | D20: =IFERROR(_xlfn.XLOOKUP(B20,DigKompTerületek,'1. dim. Komp_terület definíció'!$E$2:$E$6),"") | F20: =IFERROR(_xlfn.XLOOKUP(E20,'2. dim Komp_elemek_kiegtem_aláb'!$E$2:$E$22,'2. dim Komp_elemek_kiegtem_aláb'!$F$2:$F$22),"") | G20: =IFERROR(_xlfn.XLOOKUP(E20,'2. dim Komp_elemek_kiegtem_aláb'!$E$2:$E$22,'2. dim Komp_elemek_kiegtem_aláb'!$G$2:$G$22),"")
C21: =IFERROR(_xlfn.XLOOKUP(B21,DigKompTerületek,'1. dim. Komp_terület definíció'!$D$2:$D$6),"") | D21: =IFERROR(_xlfn.XLOOKUP(B21,DigKompTerületek,'1. dim. Komp_terület definíció'!$E$2:$E$6),"") | F21: =IFERROR(_xlfn.XLOOKUP(E21,'2. dim Komp_elemek_kiegtem_aláb'!$E$2:$E$22,'2. dim Komp_elemek_kiegtem_aláb'!$F$2:$F$22),"") | G21: =IFERROR(_xlfn.XLOOKUP(E21,'2. dim Komp_elemek_kiegtem_aláb'!$E$2:$E$22,'2. dim Komp_elemek_kiegtem_aláb'!$G$2:$G$22),"")
C22: =IFERROR(_xlfn.XLOOKUP(B22,DigKompTerületek,'1. dim. Komp_terület definíció'!$D$2:$D$6),"") | D22: =IFERROR(_xlfn.XLOOKUP(B22,DigKompTerületek,'1. dim. Komp_terület definíció'!$E$2:$E$6),"") | F22: =IFERROR(_xlfn.XLOOKUP(E22,'2. dim Komp_elemek_kiegtem_aláb'!$E$2:$E$22,'2. dim Komp_elemek_kiegtem_aláb'!$F$2:$F$22),"") | G22: =IFERROR(_xlfn.XLOOKUP(E22,'2. dim Komp_elemek_kiegtem_aláb'!$E$2:$E$22,'2. dim Komp_elemek_kiegtem_aláb'!$G$2:$G$22),"")
C23: =IFERROR(_xlfn.XLOOKUP(B23,DigKompTerületek,'1. dim. Komp_terület definíció'!$D$2:$D$6),"") | D23: =IFERROR(_xlfn.XLOOKUP(B23,DigKompTerületek,'1. dim. Komp_terület definíció'!$E$2:$E$6),"") | F23: =IFERROR(_xlfn.XLOOKUP(E23,'2. dim Komp_elemek_kiegtem_aláb'!$E$2:$E$22,'2. dim Komp_elemek_kiegtem_aláb'!$F$2:$F$22),"") | G23: =IFERROR(_xlfn.XLOOKUP(E23,'2. dim Komp_elemek_kiegtem_aláb'!$E$2:$E$22,'2. dim Komp_elemek_kiegtem_aláb'!$G$2:$G$22),"")
C24: =IFERROR(_xlfn.XLOOKUP(B24,DigKompTerületek,'1. dim. Komp_terület definíció'!$D$2:$D$6),"") | D24: =IFERROR(_xlfn.XLOOKUP(B24,DigKompTerületek,'1. dim. Komp_terület definíció'!$E$2:$E$6),"") | F24: =IFERROR(_xlfn.XLOOKUP(E24,'2. dim Komp_elemek_kiegtem_aláb'!$E$2:$E$22,'2. dim Komp_elemek_kiegtem_aláb'!$F$2:$F$22),"") | G24: =IFERROR(_xlfn.XLOOKUP(E24,'2. dim Komp_elemek_kiegtem_aláb'!$E$2:$E$22,'2. dim Komp_elemek_kiegtem_aláb'!$G$2:$G$22),"")
C25: =IFERROR(_xlfn.XLOOKUP(B25,DigKompTerületek,'1. dim. Komp_terület definíció'!$D$2:$D$6),"") | D25: =IFERROR(_xlfn.XLOOKUP(B25,DigKompTerületek,'1. dim. Komp_terület definíció'!$E$2:$E$6),"") | F25: =IFERROR(_xlfn.XLOOKUP(E25,'2. dim Komp_elemek_kiegtem_aláb'!$E$2:$E$22,'2. dim Komp_elemek_kiegtem_aláb'!$F$2:$F$22),"") | G25: =IFERROR(_xlfn.XLOOKUP(E25,'2. dim Komp_elemek_kiegtem_aláb'!$E$2:$E$22,'2. dim Komp_elemek_kiegtem_aláb'!$G$2:$G$22),"")
C26: =IFERROR(_xlfn.XLOOKUP(B26,DigKompTerületek,'1. dim. Komp_terület definíció'!$D$2:$D$6),"") | D26: =IFERROR(_xlfn.XLOOKUP(B26,DigKompTerületek,'1. dim. Komp_terület definíció'!$E$2:$E$6),"") | F26: =IFERROR(_xlfn.XLOOKUP(E26,'2. dim Komp_elemek_kiegtem_aláb'!$E$2:$E$22,'2. dim Komp_elemek_kiegtem_aláb'!$F$2:$F$22),"") | G26: =IFERROR(_xlfn.XLOOKUP(E26,'2. dim Komp_elemek_kiegtem_aláb'!$E$2:$E$22,'2. dim Komp_elemek_kiegtem_aláb'!$G$2:$G$22),"")
C27: =IFERROR(_xlfn.XLOOKUP(B27,DigKompTerületek,'1. dim. Komp_terület definíció'!$D$2:$D$6),"") | D27: =IFERROR(_xlfn.XLOOKUP(B27,DigKompTerületek,'1. dim. Komp_terület definíció'!$E$2:$E$6),"") | F27: =IFERROR(_xlfn.XLOOKUP(E27,'2. dim Komp_elemek_kiegtem_aláb'!$E$2:$E$22,'2. dim Komp_elemek_kiegtem_aláb'!$F$2:$F$22),"") | G27: =IFERROR(_xlfn.XLOOKUP(E27,'2. dim Komp_elemek_kiegtem_aláb'!$E$2:$E$22,'2. dim Komp_elemek_kiegtem_aláb'!$G$2:$G$22),"")
C28: =IFERROR(_xlfn.XLOOKUP(B28,DigKompTerületek,'1. dim. Komp_terület definíció'!$D$2:$D$6),"") | D28: =IFERROR(_xlfn.XLOOKUP(B28,DigKompTerületek,'1. dim. Komp_terület definíció'!$E$2:$E$6),"") | F28: =IFERROR(_xlfn.XLOOKUP(E28,'2. dim Komp_elemek_kiegtem_aláb'!$E$2:$E$22,'2. dim Komp_elemek_kiegtem_aláb'!$F$2:$F$22),"") | G28: =IFERROR(_xlfn.XLOOKUP(E28,'2. dim Komp_elemek_kiegtem_aláb'!$E$2:$E$22,'2. dim Komp_elemek_kiegtem_aláb'!$G$2:$G$22),"")
C29: =IFERROR(_xlfn.XLOOKUP(B29,DigKompTerületek,'1. dim. Komp_terület definíció'!$D$2:$D$6),"") | D29: =IFERROR(_xlfn.XLOOKUP(B29,DigKompTerületek,'1. dim. Komp_terület definíció'!$E$2:$E$6),"") | F29: =IFERROR(_xlfn.XLOOKUP(E29,'2. dim Komp_elemek_kiegtem_aláb'!$E$2:$E$22,'2. dim Komp_elemek_kiegtem_aláb'!$F$2:$F$22),"") | G29: =IFERROR(_xlfn.XLOOKUP(E29,'2. dim Komp_elemek_kiegtem_aláb'!$E$2:$E$22,'2. dim Komp_elemek_kiegtem_aláb'!$G$2:$G$22),"")
C30: =IFERROR(_xlfn.XLOOKUP(B30,DigKompTerületek,'1. dim. Komp_terület definíció'!$D$2:$D$6),"") | D30: =IFERROR(_xlfn.XLOOKUP(B30,DigKompTerületek,'1. dim. Komp_terület definíció'!$E$2:$E$6),"") | F30: =IFERROR(_xlfn.XLOOKUP(E30,'2. dim Komp_elemek_kiegtem_aláb'!$E$2:$E$22,'2. dim Komp_elemek_kiegtem_aláb'!$F$2:$F$22),"") | G30: =IFERROR(_xlfn.XLOOKUP(E30,'2. dim Komp_elemek_kiegtem_aláb'!$E$2:$E$22,'2. dim Komp_elemek_kiegtem_aláb'!$G$2:$G$22),"")
C31: =IFERROR(_xlfn.XLOOKUP(B31,DigKompTerületek,'1. dim. Komp_terület definíció'!$D$2:$D$6),"") | D31: =IFERROR(_xlfn.XLOOKUP(B31,DigKompTerületek,'1. dim. Komp_terület definíció'!$E$2:$E$6),"") | F31: =IFERROR(_xlfn.XLOOKUP(E31,'2. dim Komp_elemek_kiegtem_aláb'!$E$2:$E$22,'2. dim Komp_elemek_kiegtem_aláb'!$F$2:$F$22),"") | G31: =IFERROR(_xlfn.XLOOKUP(E31,'2. dim Komp_elemek_kiegtem_aláb'!$E$2:$E$22,'2. dim Komp_elemek_kiegtem_aláb'!$G$2:$G$22),"")
C32: =IFERROR(_xlfn.XLOOKUP(B32,DigKompTerületek,'1. dim. Komp_terület definíció'!$D$2:$D$6),"") | D32: =IFERROR(_xlfn.XLOOKUP(B32,DigKompTerületek,'1. dim. Komp_terület definíció'!$E$2:$E$6),"") | F32: =IFERROR(_xlfn.XLOOKUP(E32,'2. dim Komp_elemek_kiegtem_aláb'!$E$2:$E$22,'2. dim Komp_elemek_kiegtem_aláb'!$F$2:$F$22),"") | G32: =IFERROR(_xlfn.XLOOKUP(E32,'2. dim Komp_elemek_kiegtem_aláb'!$E$2:$E$22,'2. dim Komp_elemek_kiegtem_aláb'!$G$2:$G$22),"")
... C51: =IFERROR(_xlfn.XLOOKUP(B51,DigKompTerületek,'1. dim. Komp_terület definíció'!$D$2:$D$6),"") | D51: =IFERROR(_xlfn.XLOOKUP(B51,DigKompTerületek,'1. dim. Komp_terület definíció'!$E$2:$E$6),"") | F51: =IFERROR(_xlfn.XLOOKUP(E51,'2. dim Komp_elemek_kiegtem_aláb'!$E$2:$E$22,'2. dim Komp_elemek_kiegtem_aláb'!$F$2:$F$22),"") | G51: =IFERROR(_xlfn.XLOOKUP(E51,'2. dim Komp_elemek_kiegtem_aláb'!$E$2:$E$22,'2. dim Komp_elemek_kiegtem_aláb'!$G$2:$G$22),"")

Sheet DK-megf_digtev_kompter_I1A_kitö
A1: Digitális tevékenység | B1: JAVASOLT DigKomp-kompetenciaterület (1. dimenzió) | C1: DigKomp-kompetenciaterület meghatározása (1. dimenzió) | D1: Kompetenciaterülethez tartozó DigKomp-kompeteniaelemek | E1: DigKomp-kompetenciaelem azonosítója | F1: DigKomp-kompetenciaelem megnevezése (2. dimenzió) | G1: DigKomp-kompetenciaelem meghatározása (2. dimenzió) | H1: A digitális tevékenység és a DigKomp-kompetenciaelem illeszkedésének mértéke | I1: Indoklás
A2: Belépés és azonosítás | B2: 2. Kommunikáció és együttműködés | C2: =IFERROR(_xlfn.XLOOKUP(B2,DigKompTerületek,'1. dim. Komp_terület definíció'!$D$2:$D$6),"") -> Interakció, kommunikáció és együttműködés a digitális technológiák segítségével, miközben tudatában van a kulturális és generációs sokszínűségnek. Részvétel a társadalomban állami és magán digitális szolgáltatásokon és részvételen alapuló állampolgárságon keresztül. A digitális jelenlét, identitás és hírnév kezelése. | D2: =IFERROR(_xlfn.XLOOKUP(B2,DigKompTerületek,'1. dim. Komp_terület definíció'!$E$2:$E$6),"") -> 1. Digitális technológiával támogatott interakció; 2. Megosztás digitális technológiák segítségével; 3. Az állampolgárság gyakorlása digitális technológiák segítségével; 4. Együttműködés digitális technológiák segítségével; 5. Netikett; 6. A digitális személyazonosság kezelése | E2: 2.6 | F2: =IFERROR(_xlfn.XLOOKUP(E2,'2. dim Komp_elemek_kiegtem_aláb'!$E$2:$E$22,'2. dim Komp_elemek_kiegtem_aláb'!$F$2:$F$22),"") -> 2.6 A digitális személyazonosság kezelése | G2: =IFERROR(_xlfn.XLOOKUP(E2,'2. dim Komp_elemek_kiegtem_aláb'!$E$2:$E$22,'2. dim Komp_elemek_kiegtem_aláb'!$G$2:$G$22),"") -> Egy vagy több digitális személyazonosság létrehozása és kezelése, képesség a jó hír megvédésére, a különböző digitális eszközök, környezetek és szolgáltatások segítségével létrehozott adatok kezelése. | H2: Erős illeszkedés | I2: A felhasználónak elektronikus azonosítással kell belépnie az EESZT felületére, ehhez a DÁP mobilalkalmazást kell használnia, az azonosítás lépéseit követnie és a hozzáférést jóváhagynia.
A3: Belépés és azonosítás | B3: 4. Biztonság | C3: =IFERROR(_xlfn.XLOOKUP(B3,DigKompTerületek,'1. dim. Komp_terület definíció'!$D$2:$D$6),"") -> Az eszközök, a tartalom, a személyes adatok és a magánélet védelme digitális környezetben. A fizikai és pszichológiai egészség védelme, valamint a társadalmi jóllétet és a társadalmi befogadást szolgáló digitális technológiákkal való tudatosság megteremtése. Tisztában lenni a digitális technológiák környezeti hatásával és azok használatával. | D3: =IFERROR(_xlfn.XLOOKUP(B3,DigKompTerületek,'1. dim. Komp_terület definíció'!$E$2:$E$6),"") -> 1. Eszközök védelme; 2. A személyes adatok és a magánszféra védelme; 3. Az egészség és a jóllét védelme; 4.A környezet védelme | E3: 4.2 | F3: =IFERROR(_xlfn.XLOOKUP(E3,'2. dim Komp_elemek_kiegtem_aláb'!$E$2:$E$22,'2. dim Komp_elemek_kiegtem_aláb'!$F$2:$F$22),"") -> 4.2 A személyes adatok és a magánszféra védelme | G3: =IFERROR(_xlfn.XLOOKUP(E3,'2. dim Komp_elemek_kiegtem_aláb'!$E$2:$E$22,'2. dim Komp_elemek_kiegtem_aláb'!$G$2:$G$22),"") -> A személyes adatok és a magánszféra védelme digitális környezetben. Személyazonosításra alkalmas információk használatának és megosztásának ismerete, saját magam és mások védelme. Annak ismerete, hogy a digitális szolgáltatók adatvédelmi szabályzattal tájékoztatják a felhasználókat a személyes adatok felhasználásáról. | H3: Erős illeszkedés | I3: Az elektronikus azonosítás személyes és egészségügyi adatokhoz biztosít hozzáférést, ezért fontos a biztonságos bejelentkezés és a hozzáférés tudatos kezelése.
A4: Belépés és azonosítás | B4: 5. Problémamegoldás | C4: =IFERROR(_xlfn.XLOOKUP(B4,DigKompTerületek,'1. dim. Komp_terület definíció'!$D$2:$D$6),"") -> Az igények és problémák azonosítása, valamint a fogalmi problémák megoldása digitális környezetben. Digitális eszközök használata a folyamatok és termékek innovációjához. A digitális evolúció naprakész követése. | D4: =IFERROR(_xlfn.XLOOKUP(B4,DigKompTerületek,'1. dim. Komp_terület definíció'!$E$2:$E$6),"") -> 1. Technikai problémák megoldása; 2. Igények és technológiai válaszmegoldások azonosítása; 3. Digitális technológia kreatív alkalmazása; 4. Digitáliskompetencia-hiányosságok felismerése | E4: 5.1 | F4: =IFERROR(_xlfn.XLOOKUP(E4,'2. dim Komp_elemek_kiegtem_aláb'!$E$2:$E$22,'2. dim Komp_elemek_kiegtem_aláb'!$F$2:$F$22),"") -> 5.1 Technikai problémák megoldása | G4: =IFERROR(_xlfn.XLOOKUP(E4,'2. dim Komp_elemek_kiegtem_aláb'!$E$2:$E$22,'2. dim Komp_elemek_kiegtem_aláb'!$G$2:$G$22),"") -> Technikai problémák felismerése és megoldása eszközök és digitális környezetek használata során (a hibaelhárítástól az összetettebb problémák megoldásáig). | H4: Közepes, közvetett illeszkedés | I4: Az azonosítás során elakadás vagy bizonytalanság merülhet fel, ezért szükség lehet a probléma felismerésére, a folyamat újrapróbálására vagy megfelelő segítség keresésére.
A5: Digitális információ értelmezése és ellenőrzése | B5: 1. Információ- és adatmenedzsment | C5: =IFERROR(_xlfn.XLOOKUP(B5,DigKompTerületek,'1. dim. Komp_terület definíció'!$D$2:$D$6),"") -> Az információs igények megfogalmazása, a digitális adatok, információk és tartalmak felkutatása és visszakeresése. A forrás és tartalom relevanciájának megítélése. Digitális adatok, információk és tartalmak tárolása, kezelése és rendszerezése. | D5: =IFERROR(_xlfn.XLOOKUP(B5,DigKompTerületek,'1. dim. Komp_terület definíció'!$E$2:$E$6),"") -> 1. Adatok, információk és digitális tartalmak böngészése, keresése és szűrése; 2. Adatok, információk és digitális tartalmak kiértékelése; 3. Adatok, információk és digitális tartalmak kezelése | E5: 1.2 | F5: =IFERROR(_xlfn.XLOOKUP(E5,'2. dim Komp_elemek_kiegtem_aláb'!$E$2:$E$22,'2. dim Komp_elemek_kiegtem_aláb'!$F$2:$F$22),"") -> 1.2 Adatok, információk és digitális tartalmak kiértékelése | G5: =IFERROR(_xlfn.XLOOKUP(E5,'2. dim Komp_elemek_kiegtem_aláb'!$E$2:$E$22,'2. dim Komp_elemek_kiegtem_aláb'!$G$2:$G$22),"") -> Az adat-, információ- és digitális tartalomforrások hitelességének és megbízhatóságának elemzése, összehasonlítása és kritikus értékelése. Az adatok, információk és digitális tartalmak elemzése, értelmezése és kritikai értékelése. | H5: Erős illeszkedés | I5: A felhasználónak értelmeznie kell a leleten szereplő értékeket, jelöléseket és referencia-tartományokat, valamint meg kell ítélnie, mely információk lényegesek.
A6: Digitális információ értelmezése és ellenőrzése | B6: 1. Információ- és adatmenedzsment | C6: =IFERROR(_xlfn.XLOOKUP(B6,DigKompTerületek,'1. dim. Komp_terület definíció'!$D$2:$D$6),"") -> Az információs igények megfogalmazása, a digitális adatok, információk és tartalmak felkutatása és visszakeresése. A forrás és tartalom relevanciájának megítélése. Digitális adatok, információk és tartalmak tárolása, kezelése és rendszerezése. | D6: =IFERROR(_xlfn.XLOOKUP(B6,DigKompTerületek,'1. dim. Komp_terület definíció'!$E$2:$E$6),"") -> 1. Adatok, információk és digitális tartalmak böngészése, keresése és szűrése; 2. Adatok, információk és digitális tartalmak kiértékelése; 3. Adatok, információk és digitális tartalmak kezelése | E6: 1.1 | F6: =IFERROR(_xlfn.XLOOKUP(E6,'2. dim Komp_elemek_kiegtem_aláb'!$E$2:$E$22,'2. dim Komp_elemek_kiegtem_aláb'!$F$2:$F$22),"") -> 1.1 Adatok, információk és digitális tartalmak böngészése, keresése és szűrése | G6: =IFERROR(_xlfn.XLOOKUP(E6,'2. dim Komp_elemek_kiegtem_aláb'!$E$2:$E$22,'2. dim Komp_elemek_kiegtem_aláb'!$G$2:$G$22),"") -> Az információval kapcsolatos igények megfogalmazása, valamint adatok, információk és tartalmak keresése digitális környezetben. Az adatokhoz, információkhoz és tartalmakhoz való hozzáférés, illetve az ezek közötti eligazodás. Egyéni keresési stratégiák kialakítása és igény szerinti módosítása. | H6: Jó, de részleges illeszkedés | I6: Ha a leleten szereplő információ nem egyértelmű, további digitális információforrásokat kell keresnie a fogalmak vagy jelölések megértéséhez.
A7: Digitális információ értelmezése és ellenőrzése | B7: 5. Problémamegoldás | C7: =IFERROR(_xlfn.XLOOKUP(B7,DigKompTerületek,'1. dim. Komp_terület definíció'!$D$2:$D$6),"") -> Az igények és problémák azonosítása, valamint a fogalmi problémák megoldása digitális környezetben. Digitális eszközök használata a folyamatok és termékek innovációjához. A digitális evolúció naprakész követése. | D7: =IFERROR(_xlfn.XLOOKUP(B7,DigKompTerületek,'1. dim. Komp_terület definíció'!$E$2:$E$6),"") -> 1. Technikai problémák megoldása; 2. Igények és technológiai válaszmegoldások azonosítása; 3. Digitális technológia kreatív alkalmazása; 4. Digitáliskompetencia-hiányosságok felismerése | E7: 5.2 | F7: =IFERROR(_xlfn.XLOOKUP(E7,'2. dim Komp_elemek_kiegtem_aláb'!$E$2:$E$22,'2. dim Komp_elemek_kiegtem_aláb'!$F$2:$F$22),"") -> 5.2 Igények és technológiai válaszmegoldások azonosítása | G7: =IFERROR(_xlfn.XLOOKUP(E7,'2. dim Komp_elemek_kiegtem_aláb'!$E$2:$E$22,'2. dim Komp_elemek_kiegtem_aláb'!$G$2:$G$22),"") -> Igények felmérése, illetve digitális eszközök és szóba jöhető technológiai válaszok azonosítása, értékelése és kiválasztása. Digitális környezetek módosítása és testreszabása személyes igények alapján (pl.: hozzáférhetőség). | H7: Jó illeszkedés | I7: A felhasználónak fel kell ismernie, mikor elegendő a rendelkezésre álló digitális információ, és mikor van szükség más digitális eszközre, információforrásra vagy szakember bevonására.
A8: Digitális információ értelmezése és ellenőrzése | B8: 4. Biztonság | C8: =IFERROR(_xlfn.XLOOKUP(B8,DigKompTerületek,'1. dim. Komp_terület definíció'!$D$2:$D$6),"") -> Az eszközök, a tartalom, a személyes adatok és a magánélet védelme digitális környezetben. A fizikai és pszichológiai egészség védelme, valamint a társadalmi jóllétet és a társadalmi befogadást szolgáló digitális technológiákkal való tudatosság megteremtése. Tisztában lenni a digitális technológiák környezeti hatásával és azok használatával. | D8: =IFERROR(_xlfn.XLOOKUP(B8,DigKompTerületek,'1. dim. Komp_terület definíció'!$E$2:$E$6),"") -> 1. Eszközök védelme; 2. A személyes adatok és a magánszféra védelme; 3. Az egészség és a jóllét védelme; 4.A környezet védelme | E8: 4.2 | F8: =IFERROR(_xlfn.XLOOKUP(E8,'2. dim Komp_elemek_kiegtem_aláb'!$E$2:$E$22,'2. dim Komp_elemek_kiegtem_aláb'!$F$2:$F$22),"") -> 4.2 A személyes adatok és a magánszféra védelme | G8: =IFERROR(_xlfn.XLOOKUP(E8,'2. dim Komp_elemek_kiegtem_aláb'!$E$2:$E$22,'2. dim Komp_elemek_kiegtem_aláb'!$G$2:$G$22),"") -> A személyes adatok és a magánszféra védelme digitális környezetben. Személyazonosításra alkalmas információk használatának és megosztásának ismerete, saját magam és mások védelme. Annak ismerete, hogy a digitális szolgáltatók adatvédelmi szabályzattal tájékoztatják a felhasználókat a személyes adatok felhasználásáról. | H8: Közepes, közvetett illeszkedés | I8: Egészségügyi információk kezelése során fontos annak tudatosítása, hogy érzékeny személyes adatokkal dolgozik, különösen külső online forrás használata esetén.
A9: Dokumentumazonosítás | B9: 1. Információ- és adatmenedzsment | C9: =IFERROR(_xlfn.XLOOKUP(B9,DigKompTerületek,'1. dim. Komp_terület definíció'!$D$2:$D$6),"") -> Az információs igények megfogalmazása, a digitális adatok, információk és tartalmak felkutatása és visszakeresése. A forrás és tartalom relevanciájának megítélése. Digitális adatok, információk és tartalmak tárolása, kezelése és rendszerezése. | D9: =IFERROR(_xlfn.XLOOKUP(B9,DigKompTerületek,'1. dim. Komp_terület definíció'!$E$2:$E$6),"") -> 1. Adatok, információk és digitális tartalmak böngészése, keresése és szűrése; 2. Adatok, információk és digitális tartalmak kiértékelése; 3. Adatok, információk és digitális tartalmak kezelése | E9: 1.2 | F9: =IFERROR(_xlfn.XLOOKUP(E9,'2. dim Komp_elemek_kiegtem_aláb'!$E$2:$E$22,'2. dim Komp_elemek_kiegtem_aláb'!$F$2:$F$22),"") -> 1.2 Adatok, információk és digitális tartalmak kiértékelése | G9: =IFERROR(_xlfn.XLOOKUP(E9,'2. dim Komp_elemek_kiegtem_aláb'!$E$2:$E$22,'2. dim Komp_elemek_kiegtem_aláb'!$G$2:$G$22),"") -> Az adat-, információ- és digitális tartalomforrások hitelességének és megbízhatóságának elemzése, összehasonlítása és kritikus értékelése. Az adatok, információk és digitális tartalmak elemzése, értelmezése és kritikai értékelése. | H9: Erős illeszkedés | I9: A felhasználónak a dokumentumok dátuma, típusa és egyéb metaadatai alapján kell eldöntenie, melyik dokumentum tartozik az adott vérvételhez és melyik a legfrissebb.
A10: Dokumentumazonosítás | B10: 1. Információ- és adatmenedzsment | C10: =IFERROR(_xlfn.XLOOKUP(B10,DigKompTerületek,'1. dim. Komp_terület definíció'!$D$2:$D$6),"") -> Az információs igények megfogalmazása, a digitális adatok, információk és tartalmak felkutatása és visszakeresése. A forrás és tartalom relevanciájának megítélése. Digitális adatok, információk és tartalmak tárolása, kezelése és rendszerezése. | D10: =IFERROR(_xlfn.XLOOKUP(B10,DigKompTerületek,'1. dim. Komp_terület definíció'!$E$2:$E$6),"") -> 1. Adatok, információk és digitális tartalmak böngészése, keresése és szűrése; 2. Adatok, információk és digitális tartalmak kiértékelése; 3. Adatok, információk és digitális tartalmak kezelése | E10: 1.3 | F10: =IFERROR(_xlfn.XLOOKUP(E10,'2. dim Komp_elemek_kiegtem_aláb'!$E$2:$E$22,'2. dim Komp_elemek_kiegtem_aláb'!$F$2:$F$22),"") -> 1.3 Adatok, információk és digitális tartalmak kezelése | G10: =IFERROR(_xlfn.XLOOKUP(E10,'2. dim Komp_elemek_kiegtem_aláb'!$E$2:$E$22,'2. dim Komp_elemek_kiegtem_aláb'!$G$2:$G$22),"") -> Adatok információk és tartalmak elrendezése, tárolása és visszakeresése digitális környezetben. Ezek rendszerezése és feldolgozása strukturált környezetben. | H10: Jó, de részleges illeszkedés | I10: A dokumentumok közötti megkülönböztetéshez a felhasználónak a rendelkezésre álló digitális tartalmakat és azok metaadatait kell rendszerezetten kezelnie.
A11: Dokumentumkeresés | B11: 1. Információ- és adatmenedzsment | C11: =IFERROR(_xlfn.XLOOKUP(B11,DigKompTerületek,'1. dim. Komp_terület definíció'!$D$2:$D$6),"") -> Az információs igények megfogalmazása, a digitális adatok, információk és tartalmak felkutatása és visszakeresése. A forrás és tartalom relevanciájának megítélése. Digitális adatok, információk és tartalmak tárolása, kezelése és rendszerezése. | D11: =IFERROR(_xlfn.XLOOKUP(B11,DigKompTerületek,'1. dim. Komp_terület definíció'!$E$2:$E$6),"") -> 1. Adatok, információk és digitális tartalmak böngészése, keresése és szűrése; 2. Adatok, információk és digitális tartalmak kiértékelése; 3. Adatok, információk és digitális tartalmak kezelése | E11: 1.1 | F11: =IFERROR(_xlfn.XLOOKUP(E11,'2. dim Komp_elemek_kiegtem_aláb'!$E$2:$E$22,'2. dim Komp_elemek_kiegtem_aláb'!$F$2:$F$22),"") -> 1.1 Adatok, információk és digitális tartalmak böngészése, keresése és szűrése | G11: =IFERROR(_xlfn.XLOOKUP(E11,'2. dim Komp_elemek_kiegtem_aláb'!$E$2:$E$22,'2. dim Komp_elemek_kiegtem_aláb'!$G$2:$G$22),"") -> Az információval kapcsolatos igények megfogalmazása, valamint adatok, információk és tartalmak keresése digitális környezetben. Az adatokhoz, információkhoz és tartalmakhoz való hozzáférés, illetve az ezek közötti eligazodás. Egyéni keresési stratégiák kialakítása és igény szerinti módosítása. | H11: Erős illeszkedés | I11: A felhasználónak a dokumentumok között kell keresnie, és szükség esetén dátum, dokumentumtípus vagy más szempont alapján kell szűkítenie a találatokat.
A12: Dokumentumkeresés | B12: 1. Információ- és adatmenedzsment | C12: =IFERROR(_xlfn.XLOOKUP(B12,DigKompTerületek,'1. dim. Komp_terület definíció'!$D$2:$D$6),"") -> Az információs igények megfogalmazása, a digitális adatok, információk és tartalmak felkutatása és visszakeresése. A forrás és tartalom relevanciájának megítélése. Digitális adatok, információk és tartalmak tárolása, kezelése és rendszerezése. | D12: =IFERROR(_xlfn.XLOOKUP(B12,DigKompTerületek,'1. dim. Komp_terület definíció'!$E$2:$E$6),"") -> 1. Adatok, információk és digitális tartalmak böngészése, keresése és szűrése; 2. Adatok, információk és digitális tartalmak kiértékelése; 3. Adatok, információk és digitális tartalmak kezelése | E12: 1.3 | F12: =IFERROR(_xlfn.XLOOKUP(E12,'2. dim Komp_elemek_kiegtem_aláb'!$E$2:$E$22,'2. dim Komp_elemek_kiegtem_aláb'!$F$2:$F$22),"") -> 1.3 Adatok, információk és digitális tartalmak kezelése | G12: =IFERROR(_xlfn.XLOOKUP(E12,'2. dim Komp_elemek_kiegtem_aláb'!$E$2:$E$22,'2. dim Komp_elemek_kiegtem_aláb'!$G$2:$G$22),"") -> Adatok információk és tartalmak elrendezése, tárolása és visszakeresése digitális környezetben. Ezek rendszerezése és feldolgozása strukturált környezetben. | H12: Jó, de részleges illeszkedés | I12: A keresés során a felhasználónak egy strukturált dokumentumlistában kell eligazodnia, az elemeket rendszerező információkat értelmeznie és kezelnie.
A13: Lelet megtekintése | B13: 1. Információ- és adatmenedzsment | C13: =IFERROR(_xlfn.XLOOKUP(B13,DigKompTerületek,'1. dim. Komp_terület definíció'!$D$2:$D$6),"") -> Az információs igények megfogalmazása, a digitális adatok, információk és tartalmak felkutatása és visszakeresése. A forrás és tartalom relevanciájának megítélése. Digitális adatok, információk és tartalmak tárolása, kezelése és rendszerezése. | D13: =IFERROR(_xlfn.XLOOKUP(B13,DigKompTerületek,'1. dim. Komp_terület definíció'!$E$2:$E$6),"") -> 1. Adatok, információk és digitális tartalmak böngészése, keresése és szűrése; 2. Adatok, információk és digitális tartalmak kiértékelése; 3. Adatok, információk és digitális tartalmak kezelése | E13: 1.3 | F13: =IFERROR(_xlfn.XLOOKUP(E13,'2. dim Komp_elemek_kiegtem_aláb'!$E$2:$E$22,'2. dim Komp_elemek_kiegtem_aláb'!$F$2:$F$22),"") -> 1.3 Adatok, információk és digitális tartalmak kezelése | G13: =IFERROR(_xlfn.XLOOKUP(E13,'2. dim Komp_elemek_kiegtem_aláb'!$E$2:$E$22,'2. dim Komp_elemek_kiegtem_aláb'!$G$2:$G$22),"") -> Adatok információk és tartalmak elrendezése, tárolása és visszakeresése digitális környezetben. Ezek rendszerezése és feldolgozása strukturált környezetben. | H13: Erős illeszkedés | I13: A felhasználónak meg kell nyitnia a kiválasztott leletet, át kell tekintenie annak tartalmát, és szükség esetén letöltenie vagy későbbi elérésre kezelnie kell a dokumentumot.
... A20: További digitális ügyintézés / kapcsolatfelvétel | B20: 4. Biztonság | C20: =IFERROR(_xlfn.XLOOKUP(B20,DigKompTerületek,'1. dim. Komp_terület definíció'!$D$2:$D$6),"") -> Az eszközök, a tartalom, a személyes adatok és a magánélet védelme digitális környezetben. A fizikai és pszichológiai egészség védelme, valamint a társadalmi jóllétet és a társadalmi befogadást szolgáló digitális technológiákkal való tudatosság megteremtése. Tisztában lenni a digitális technológiák környezeti hatásával és azok használatával. | D20: =IFERROR(_xlfn.XLOOKUP(B20,DigKompTerületek,'1. dim. Komp_terület definíció'!$E$2:$E$6),"") -> 1. Eszközök védelme; 2. A személyes adatok és a magánszféra védelme; 3. Az egészség és a jóllét védelme; 4.A környezet védelme | E20: 4.2 | F20: =IFERROR(_xlfn.XLOOKUP(E20,'2. dim Komp_elemek_kiegtem_aláb'!$E$2:$E$22,'2. dim Komp_elemek_kiegtem_aláb'!$F$2:$F$22),"") -> 4.2 A személyes adatok és a magánszféra védelme | G20: =IFERROR(_xlfn.XLOOKUP(E20,'2. dim Komp_elemek_kiegtem_aláb'!$E$2:$E$22,'2. dim Komp_elemek_kiegtem_aláb'!$G$2:$G$22),"") -> A személyes adatok és a magánszféra védelme digitális környezetben. Személyazonosításra alkalmas információk használatának és megosztásának ismerete, saját magam és mások védelme. Annak ismerete, hogy a digitális szolgáltatók adatvédelmi szabályzattal tájékoztatják a felhasználókat a személyes adatok felhasználásáról. | H20: Jó illeszkedés | I20: Egészségügyi adat vagy lelet továbbítása esetén tudatosan kell megválasztani a megfelelő és biztonságos kommunikációs csatornát.
C21: =IFERROR(_xlfn.XLOOKUP(B21,DigKompTerületek,'1. dim. Komp_terület definíció'!$D$2:$D$6),"") | D21: =IFERROR(_xlfn.XLOOKUP(B21,DigKompTerületek,'1. dim. Komp_terület definíció'!$E$2:$E$6),"") | F21: =IFERROR(_xlfn.XLOOKUP(E21,'2. dim Komp_elemek_kiegtem_aláb'!$E$2:$E$22,'2. dim Komp_elemek_kiegtem_aláb'!$F$2:$F$22),"") | G21: =IFERROR(_xlfn.XLOOKUP(E21,'2. dim Komp_elemek_kiegtem_aláb'!$E$2:$E$22,'2. dim Komp_elemek_kiegtem_aláb'!$G$2:$G$22),"")
C22: =IFERROR(_xlfn.XLOOKUP(B22,DigKompTerületek,'1. dim. Komp_terület definíció'!$D$2:$D$6),"") | D22: =IFERROR(_xlfn.XLOOKUP(B22,DigKompTerületek,'1. dim. Komp_terület definíció'!$E$2:$E$6),"") | F22: =IFERROR(_xlfn.XLOOKUP(E22,'2. dim Komp_elemek_kiegtem_aláb'!$E$2:$E$22,'2. dim Komp_elemek_kiegtem_aláb'!$F$2:$F$22),"") | G22: =IFERROR(_xlfn.XLOOKUP(E22,'2. dim Komp_elemek_kiegtem_aláb'!$E$2:$E$22,'2. dim Komp_elemek_kiegtem_aláb'!$G$2:$G$22),"")
C23: =IFERROR(_xlfn.XLOOKUP(B23,DigKompTerületek,'1. dim. Komp_terület definíció'!$D$2:$D$6),"") | D23: =IFERROR(_xlfn.XLOOKUP(B23,DigKompTerületek,'1. dim. Komp_terület definíció'!$E$2:$E$6),"") | F23: =IFERROR(_xlfn.XLOOKUP(E23,'2. dim Komp_elemek_kiegtem_aláb'!$E$2:$E$22,'2. dim Komp_elemek_kiegtem_aláb'!$F$2:$F$22),"") | G23: =IFERROR(_xlfn.XLOOKUP(E23,'2. dim Komp_elemek_kiegtem_aláb'!$E$2:$E$22,'2. dim Komp_elemek_kiegtem_aláb'!$G$2:$G$22),"")
C24: =IFERROR(_xlfn.XLOOKUP(B24,DigKompTerületek,'1. dim. Komp_terület definíció'!$D$2:$D$6),"") | D24: =IFERROR(_xlfn.XLOOKUP(B24,DigKompTerületek,'1. dim. Komp_terület definíció'!$E$2:$E$6),"") | F24: =IFERROR(_xlfn.XLOOKUP(E24,'2. dim Komp_elemek_kiegtem_aláb'!$E$2:$E$22,'2. dim Komp_elemek_kiegtem_aláb'!$F$2:$F$22),"") | G24: =IFERROR(_xlfn.XLOOKUP(E24,'2. dim Komp_elemek_kiegtem_aláb'!$E$2:$E$22,'2. dim Komp_elemek_kiegtem_aláb'!$G$2:$G$22),"")
C25: =IFERROR(_xlfn.XLOOKUP(B25,DigKompTerületek,'1. dim. Komp_terület definíció'!$D$2:$D$6),"") | D25: =IFERROR(_xlfn.XLOOKUP(B25,DigKompTerületek,'1. dim. Komp_terület definíció'!$E$2:$E$6),"") | F25: =IFERROR(_xlfn.XLOOKUP(E25,'2. dim Komp_elemek_kiegtem_aláb'!$E$2:$E$22,'2. dim Komp_elemek_kiegtem_aláb'!$F$2:$F$22),"") | G25: =IFERROR(_xlfn.XLOOKUP(E25,'2. dim Komp_elemek_kiegtem_aláb'!$E$2:$E$22,'2. dim Komp_elemek_kiegtem_aláb'!$G$2:$G$22),"")
C26: =IFERROR(_xlfn.XLOOKUP(B26,DigKompTerületek,'1. dim. Komp_terület definíció'!$D$2:$D$6),"") | D26: =IFERROR(_xlfn.XLOOKUP(B26,DigKompTerületek,'1. dim. Komp_terület definíció'!$E$2:$E$6),"") | F26: =IFERROR(_xlfn.XLOOKUP(E26,'2. dim Komp_elemek_kiegtem_aláb'!$E$2:$E$22,'2. dim Komp_elemek_kiegtem_aláb'!$F$2:$F$22),"") | G26: =IFERROR(_xlfn.XLOOKUP(E26,'2. dim Komp_elemek_kiegtem_aláb'!$E$2:$E$22,'2. dim Komp_elemek_kiegtem_aláb'!$G$2:$G$22),"")
C27: =IFERROR(_xlfn.XLOOKUP(B27,DigKompTerületek,'1. dim. Komp_terület definíció'!$D$2:$D$6),"") | D27: =IFERROR(_xlfn.XLOOKUP(B27,DigKompTerületek,'1. dim. Komp_terület definíció'!$E$2:$E$6),"") | F27: =IFERROR(_xlfn.XLOOKUP(E27,'2. dim Komp_elemek_kiegtem_aláb'!$E$2:$E$22,'2. dim Komp_elemek_kiegtem_aláb'!$F$2:$F$22),"") | G27: =IFERROR(_xlfn.XLOOKUP(E27,'2. dim Komp_elemek_kiegtem_aláb'!$E$2:$E$22,'2. dim Komp_elemek_kiegtem_aláb'!$G$2:$G$22),"")
C28: =IFERROR(_xlfn.XLOOKUP(B28,DigKompTerületek,'1. dim. Komp_terület definíció'!$D$2:$D$6),"") | D28: =IFERROR(_xlfn.XLOOKUP(B28,DigKompTerületek,'1. dim. Komp_terület definíció'!$E$2:$E$6),"") | F28: =IFERROR(_xlfn.XLOOKUP(E28,'2. dim Komp_elemek_kiegtem_aláb'!$E$2:$E$22,'2. dim Komp_elemek_kiegtem_aláb'!$F$2:$F$22),"") | G28: =IFERROR(_xlfn.XLOOKUP(E28,'2. dim Komp_elemek_kiegtem_aláb'!$E$2:$E$22,'2. dim Komp_elemek_kiegtem_aláb'!$G$2:$G$22),"")
C29: =IFERROR(_xlfn.XLOOKUP(B29,DigKompTerületek,'1. dim. Komp_terület definíció'!$D$2:$D$6),"") | D29: =IFERROR(_xlfn.XLOOKUP(B29,DigKompTerületek,'1. dim. Komp_terület definíció'!$E$2:$E$6),"") | F29: =IFERROR(_xlfn.XLOOKUP(E29,'2. dim Komp_elemek_kiegtem_aláb'!$E$2:$E$22,'2. dim Komp_elemek_kiegtem_aláb'!$F$2:$F$22),"") | G29: =IFERROR(_xlfn.XLOOKUP(E29,'2. dim Komp_elemek_kiegtem_aláb'!$E$2:$E$22,'2. dim Komp_elemek_kiegtem_aláb'!$G$2:$G$22),"")
